{"text_format":"1","workbook":"xlsx","n_sheets":13,"sheets":["Janeiro","Fevereiro","Março","Abril","Maio","Junho","Julho","Agosto","Setembro","Outubro","Novembro","Dezembro","Tabelas"],"not_rendered":{"charts":0,"images":1,"macros":1,"external_links":0,"defined_names":36,"comments":12,"pivot_tables":0},"unopened":[],"bounds":{"document_bytes":16777216,"sheet_cells":100000,"rows_first":2000,"rows_last":500,"rows_between":2000,"halvings":0,"cell_chars":16384,"cell_head_chars":4096},"cells_cut":0,"cells_raw":0,"read":"whole","date_system":"1900"}

{"sheet":"Janeiro","index":0,"n_rows":48,"n_cols":83,"rows_kept":48,"cut":false,"hidden":false,"merged":[[38,0,38,6],[39,0,39,6],[40,0,40,6],[5,0,7,0],[5,1,7,1],[5,2,7,2],[5,3,7,3],[5,4,7,4],[5,5,7,5],[5,6,5,12],[42,75,42,82],[5,78,6,78],[5,79,6,79],[5,80,6,80],[5,81,6,81],[5,82,6,82],[5,77,6,77],[5,13,5,43],[5,44,5,74],[5,75,6,75],[5,76,6,76],[6,6,7,6],[6,7,7,7],[6,8,7,8],[6,9,6,10],[6,11,7,11],[6,12,7,12],[1,0,1,43],[2,0,2,43],[3,0,3,43],[4,1,4,21],[4,24,4,35],[4,38,4,43]]}
[]
[]
["Hospital Universitário Professor Polydoro Ernani de São Thiago"]
["ESCALA MENSAL DE TRABALHO"]
["DIVISÃO /SETOR/UNIDADE:",null,null,null,null,null,null,null,null,null,null,null,null,null,null,null,null,null,null,null,null,null,"MÊS:",null,"Janeiro",null,null,null,null,null,null,null,null,null,null,null,"ANO:",null,2018]
["NOME COMPLETO","SIAPE","REGISTRO CONSELHO CLASSE","CARGO","VÍNCULO","C.H SEM.","INTERVALO",null,null,null,null,null,null,"DIAS DO MÊS",null,null,null,null,null,null,null,null,null,null,null,null,null,null,null,null,null,null,null,null,null,null,null,null,null,null,null,null,null,null,"CÁLCULO DAS HORAS",null,null,null,null,null,null,null,null,null,null,null,null,null,null,null,null,null,null,null,null,null,null,null,null,null,null,null,null,null,null,"CH MENSAL","LM/LP/L","Abono","Férias","LC","CE","AF  Legais"," TOTAL AFASTAMENTOS"]
[null,null,null,null,null,null,"M","MT","D","DN",null,"T","N",1,2,3,4,5,6,7,8,9,10,11,12,13,14,15,16,17,18,19,20,21,22,23,24,25,{"$f":"IF(DAY(DATE(AM5,VLOOKUP(Y5,Tabelas!M:N,2,0)+1,1)-1)>=26,26,\"\")","v":26},{"$f":"IF(DAY(DATE(AM5,VLOOKUP(Y5,Tabelas!M:N,2,0)+1,1)-1)>=27,27,\"\")","v":27},{"$f":"IF(DAY(DATE(AM5,VLOOKUP(Y5,Tabelas!M:N,2,0)+1,1)-1)>=28,28,\"\")","v":28},{"$f":"IF(DAY(DATE(AM5,VLOOKUP(Y5,Tabelas!M:N,2,0)+1,1)-1)>=29,29,\"\")","v":29},{"$f":"IF(DAY(DATE(AM5,VLOOKUP(Y5,Tabelas!M:N,2,0)+1,1)-1)>=30,30,\"\")","v":30},{"$f":"IF(DAY(DATE(AM5,VLOOKUP(Y5,Tabelas!M:N,2,0)+1,1)-1)>=31,31,\"\")","v":31}]
[null,null,null,null,null,null,null,null,null,1,2,null,null,{"$f":"IF(N7<>\"\",IFERROR(VLOOKUP(WEEKDAY(CONCATENATE(N7,$Y$5,$AM$5)),Tabelas!$I:$J,2,0),\"\"),\"\")","v":"SEG"},{"$f":"IF(O7<>\"\",IFERROR(VLOOKUP(WEEKDAY(CONCATENATE(O7,$Y$5,$AM$5)),Tabelas!$I:$J,2,0),\"\"),\"\")","v":"TER"},{"$f":"IF(P7<>\"\",IFERROR(VLOOKUP(WEEKDAY(CONCATENATE(P7,$Y$5,$AM$5)),Tabelas!$I:$J,2,0),\"\"),\"\")","v":"QUA"},{"$f":"IF(Q7<>\"\",IFERROR(VLOOKUP(WEEKDAY(CONCATENATE(Q7,$Y$5,$AM$5)),Tabelas!$I:$J,2,0),\"\"),\"\")","v":"QUI"},{"$f":"IF(R7<>\"\",IFERROR(VLOOKUP(WEEKDAY(CONCATENATE(R7,$Y$5,$AM$5)),Tabelas!$I:$J,2,0),\"\"),\"\")","v":"SEX"},{"$f":"IF(S7<>\"\",IFERROR(VLOOKUP(WEEKDAY(CONCATENATE(S7,$Y$5,$AM$5)),Tabelas!$I:$J,2,0),\"\"),\"\")","v":"SAB"},{"$f":"IF(T7<>\"\",IFERROR(VLOOKUP(WEEKDAY(CONCATENATE(T7,$Y$5,$AM$5)),Tabelas!$I:$J,2,0),\"\"),\"\")","v":"DOM"},{"$f":"IF(U7<>\"\",IFERROR(VLOOKUP(WEEKDAY(CONCATENATE(U7,$Y$5,$AM$5)),Tabelas!$I:$J,2,0),\"\"),\"\")","v":"SEG"},{"$f":"IF(V7<>\"\",IFERROR(VLOOKUP(WEEKDAY(CONCATENATE(V7,$Y$5,$AM$5)),Tabelas!$I:$J,2,0),\"\"),\"\")","v":"TER"},{"$f":"IF(W7<>\"\",IFERROR(VLOOKUP(WEEKDAY(CONCATENATE(W7,$Y$5,$AM$5)),Tabelas!$I:$J,2,0),\"\"),\"\")","v":"QUA"},{"$f":"IF(X7<>\"\",IFERROR(VLOOKUP(WEEKDAY(CONCATENATE(X7,$Y$5,$AM$5)),Tabelas!$I:$J,2,0),\"\"),\"\")","v":"QUI"},{"$f":"IF(Y7<>\"\",IFERROR(VLOOKUP(WEEKDAY(CONCATENATE(Y7,$Y$5,$AM$5)),Tabelas!$I:$J,2,0),\"\"),\"\")","v":"SEX"},{"$f":"IF(Z7<>\"\",IFERROR(VLOOKUP(WEEKDAY(CONCATENATE(Z7,$Y$5,$AM$5)),Tabelas!$I:$J,2,0),\"\"),\"\")","v":"SAB"},{"$f":"IF(AA7<>\"\",IFERROR(VLOOKUP(WEEKDAY(CONCATENATE(AA7,$Y$5,$AM$5)),Tabelas!$I:$J,2,0),\"\"),\"\")","v":"DOM"},{"$f":"IF(AB7<>\"\",IFERROR(VLOOKUP(WEEKDAY(CONCATENATE(AB7,$Y$5,$AM$5)),Tabelas!$I:$J,2,0),\"\"),\"\")","v":"SEG"},{"$f":"IF(AC7<>\"\",IFERROR(VLOOKUP(WEEKDAY(CONCATENATE(AC7,$Y$5,$AM$5)),Tabelas!$I:$J,2,0),\"\"),\"\")","v":"TER"},{"$f":"IF(AD7<>\"\",IFERROR(VLOOKUP(WEEKDAY(CONCATENATE(AD7,$Y$5,$AM$5)),Tabelas!$I:$J,2,0),\"\"),\"\")","v":"QUA"},{"$f":"IF(AE7<>\"\",IFERROR(VLOOKUP(WEEKDAY(CONCATENATE(AE7,$Y$5,$AM$5)),Tabelas!$I:$J,2,0),\"\"),\"\")","v":"QUI"},{"$f":"IF(AF7<>\"\",IFERROR(VLOOKUP(WEEKDAY(CONCATENATE(AF7,$Y$5,$AM$5)),Tabelas!$I:$J,2,0),\"\"),\"\")","v":"SEX"},{"$f":"IF(AG7<>\"\",IFERROR(VLOOKUP(WEEKDAY(CONCATENATE(AG7,$Y$5,$AM$5)),Tabelas!$I:$J,2,0),\"\"),\"\")","v":"SAB"},{"$f":"IF(AH7<>\"\",IFERROR(VLOOKUP(WEEKDAY(CONCATENATE(AH7,$Y$5,$AM$5)),Tabelas!$I:$J,2,0),\"\"),\"\")","v":"DOM"},{"$f":"IF(AI7<>\"\",IFERROR(VLOOKUP(WEEKDAY(CONCATENATE(AI7,$Y$5,$AM$5)),Tabelas!$I:$J,2,0),\"\"),\"\")","v":"SEG"},{"$f":"IF(AJ7<>\"\",IFERROR(VLOOKUP(WEEKDAY(CONCATENATE(AJ7,$Y$5,$AM$5)),Tabelas!$I:$J,2,0),\"\"),\"\")","v":"TER"},{"$f":"IF(AK7<>\"\",IFERROR(VLOOKUP(WEEKDAY(CONCATENATE(AK7,$Y$5,$AM$5)),Tabelas!$I:$J,2,0),\"\"),\"\")","v":"QUA"},{"$f":"IF(AL7<>\"\",IFERROR(VLOOKUP(WEEKDAY(CONCATENATE(AL7,$Y$5,$AM$5)),Tabelas!$I:$J,2,0),\"\"),\"\")","v":"QUI"},{"$f":"IF(AM7<>\"\",IFERROR(VLOOKUP(WEEKDAY(CONCATENATE(AM7,$Y$5,$AM$5)),Tabelas!$I:$J,2,0),\"\"),\"\")","v":"SEX"},{"$f":"IF(AN7<>\"\",IFERROR(VLOOKUP(WEEKDAY(CONCATENATE(AN7,$Y$5,$AM$5)),Tabelas!$I:$J,2,0),\"\"),\"\")","v":"SAB"},{"$f":"IF(AO7<>\"\",IFERROR(VLOOKUP(WEEKDAY(CONCATENATE(AO7,$Y$5,$AM$5)),Tabelas!$I:$J,2,0),\"\"),\"\")","v":"DOM"},{"$f":"IF(AP7<>\"\",IFERROR(VLOOKUP(WEEKDAY(CONCATENATE(AP7,$Y$5,$AM$5)),Tabelas!$I:$J,2,0),\"\"),\"\")","v":"SEG"},{"$f":"IF(AQ7<>\"\",IFERROR(VLOOKUP(WEEKDAY(CONCATENATE(AQ7,$Y$5,$AM$5)),Tabelas!$I:$J,2,0),\"\"),\"\")","v":"TER"},{"$f":"IF(AR7<>\"\",IFERROR(VLOOKUP(WEEKDAY(CONCATENATE(AR7,$Y$5,$AM$5)),Tabelas!$I:$J,2,0),\"\"),\"\")","v":"QUA"},1,2,3,4,5,6,7,8,9,10,11,12,13,14,15,16,17,18,19,20,21,22,23,24,25,26,27,28,29,30,31,"Total","Dias","Dias","Dias","Dias","Dias","Dias","Dias"]
["Karine Maria Kalazan",null,null,"Tec. Enf","Fapeu",44,1,null,17,null,null,null,null,"FO","FO","D2","M6","M6","D2","FO","M6","M6","M6","M6","M6","D2","FO","M6","M6","M6","M6","M6","D2","FO","M6","M6","M6","M6","M6","FO","D2","M6","M6","M6",{"$f":"IF(A9<>\"\",IFERROR(VLOOKUP(N9,Tabelas!B:D,3,0),0),\"\")","v":0},{"$f":"IF(A9<>\"\",IFERROR(VLOOKUP(O9,Tabelas!B:D,3,0),0),\"\")","v":0},{"$f":"IF(A9<>\"\",IFERROR(VLOOKUP(P9,Tabelas!B:D,3,0),0),\"\")","v":12},{"$f":"IF(A9<>\"\",IFERROR(VLOOKUP(Q9,Tabelas!B:D,3,0),0),\"\")","v":6},{"$f":"IF(A9<>\"\",IFERROR(VLOOKUP(R9,Tabelas!B:D,3,0),0),\"\")","v":6},{"$f":"IF(A9<>\"\",IFERROR(VLOOKUP(S9,Tabelas!B:D,3,0),0),\"\")","v":12},{"$f":"IF(A9<>\"\",IFERROR(VLOOKUP(T9,Tabelas!B:D,3,0),0),\"\")","v":0},{"$f":"IF(A9<>\"\",IFERROR(VLOOKUP(U9,Tabelas!B:D,3,0),0),\"\")","v":6},{"$f":"IF(A9<>\"\",IFERROR(VLOOKUP(V9,Tabelas!B:D,3,0),0),\"\")","v":6},{"$f":"IF(A9<>\"\",IFERROR(VLOOKUP(W9,Tabelas!B:D,3,0),0),\"\")","v":6},{"$f":"IF(A9<>\"\",IFERROR(VLOOKUP(X9,Tabelas!B:D,3,0),0),\"\")","v":6},{"$f":"IF(A9<>\"\",IFERROR(VLOOKUP(Y9,Tabelas!B:D,3,0),0),\"\")","v":6},{"$f":"IF(A9<>\"\",IFERROR(VLOOKUP(Z9,Tabelas!B:D,3,0),0),\"\")","v":12},{"$f":"IF(A9<>\"\",IFERROR(VLOOKUP(AA9,Tabelas!B:D,3,0),0),\"\")","v":0},{"$f":"IF(A9<>\"\",IFERROR(VLOOKUP(AB9,Tabelas!B:D,3,0),0),\"\")","v":6},{"$f":"IF(A9<>\"\",IFERROR(VLOOKUP(AC9,Tabelas!B:D,3,0),0),\"\")","v":6},{"$f":"IF(A9<>\"\",IFERROR(VLOOKUP(AD9,Tabelas!B:D,3,0),0),\"\")","v":6},{"$f":"IF(A9<>\"\",IFERROR(VLOOKUP(AE9,Tabelas!B:D,3,0),0),\"\")","v":6},{"$f":"IF(A9<>\"\",IFERROR(VLOOKUP(AF9,Tabelas!B:D,3,0),0),\"\")","v":6},{"$f":"IF(A9<>\"\",IFERROR(VLOOKUP(AG9,Tabelas!B:D,3,0),0),\"\")","v":12},{"$f":"IF(A9<>\"\",IFERROR(VLOOKUP(AH9,Tabelas!B:D,3,0),0),\"\")","v":0},{"$f":"IF(A9<>\"\",IFERROR(VLOOKUP(AI9,Tabelas!B:D,3,0),0),\"\")","v":6},{"$f":"IF(A9<>\"\",IFERROR(VLOOKUP(AJ9,Tabelas!B:D,3,0),0),\"\")","v":6},{"$f":"IF(A9<>\"\",IFERROR(VLOOKUP(AK9,Tabelas!B:D,3,0),0),\"\")","v":6},{"$f":"IF(A9<>\"\",IFERROR(VLOOKUP(AL9,Tabelas!B:D,3,0),0),\"\")","v":6},{"$f":"IF(A9<>\"\",IFERROR(VLOOKUP(AM9,Tabelas!B:D,3,0),0),\"\")","v":6},{"$f":"IF(A9<>\"\",IFERROR(VLOOKUP(AN9,Tabelas!B:D,3,0),0),\"\")","v":0},{"$f":"IF(A9<>\"\",IFERROR(VLOOKUP(AO9,Tabelas!B:D,3,0),0),\"\")","v":12},{"$f":"IF(A9<>\"\",IFERROR(VLOOKUP(AP9,Tabelas!B:D,3,0),0),\"\")","v":6},{"$f":"IF(A9<>\"\",IFERROR(VLOOKUP(AQ9,Tabelas!B:D,3,0),0),\"\")","v":6},{"$f":"IF(A9<>\"\",IFERROR(VLOOKUP(AR9,Tabelas!B:D,3,0),0),\"\")","v":6},{"$f":"IF(A9<>\"\",SUM(AS9:BW9),\"\")","v":180},{"$f":"IF(A9<>\"\",COUNTIF(N9:AR9,\"LM\")+COUNTIF(N9:AR9,\"L\"),\"\")+COUNTIF(N9:AR9,\"LP\")","v":0},{"$f":"IF(A9<>\"\",COUNTIF(N9:AR9,\"AB\"),\"\")","v":0},{"$f":"IF(A9<>\"\",COUNTIF(N9:AR9,\"FE\"),\"\")","v":0},{"$f":"IF(A9<>\"\",COUNTIF(N9:AR9,\"LC\"),\"\")","v":0},{"$f":"IF(A9<>\"\",COUNTIF(N9:AR9,\"CE\"),\"\")","v":0},{"$f":"IF(A9<>\"\",COUNTIF(N9:AR9,\"AF1\")+COUNTIF(N9:AR9,\"AF2\")+COUNTIF(N9:AR9,\"AF3\")+COUNTIF(N9:AR9,\"AF4\")+COUNTIF(N9:AR9,\"AF5\")+COUNTIF(N9:AR9,\"AF6\")+COUNTIF(N9:AR9,\"AF7\")+COUNTIF(N9:AR9,\"AF8\")+COUNTIF(N9:AR9,\"AF9\")+COUNTIF(N9:AR9,\"AF10\")+COUNTIF(N9:AR9,\"AF11\")+COUNTIF(N9:AR9,\"AF12\")+COUNTIF(N9:AR9,\"AF13\")+COUNTIF(N9:AR9,\"AF14\"),\"\")","v":0},{"$f":"IF(A9<>\"\",COUNTIF(N9:AR9,\"CE\")+COUNTIF(N9:AR9,\"L\")+COUNTIF(N9:AR9,\"LM\")+COUNTIF(N9:AR9,\"LP\")+COUNTIF(N9:AR9,\"LC\")+COUNTIF(N9:AR9,\"AB\")+COUNTIF(N9:AR9,\"AF1\")+COUNTIF(N9:AR9,\"AF2\")+COUNTIF(N9:AR9,\"AF3\")+COUNTIF(N9:AR9,\"AF4\")+COUNTIF(N9:AR9,\"AF5\")+COUNTIF(N9:AR9,\"AF6\")+COUNTIF(N9:AR9,\"AF7\")+COUNTIF(N9:AR9,\"AF8\")+COUNTIF(N9:AR9,\"AF9\")+COUNTIF(N9:AR9,\"AF10\")+COUNTIF(N9:AR9,\"AF11\")+COUNTIF(N9:AR9,\"AF12\")+COUNTIF(N9:AR9,\"AF13\")+COUNTIF(N9:AR9,\"AF14\")+COUNTIF(N9:AR9,\"RC\")+COUNTIF(N9:AR9,\"FO\")+COUNTIF(N9:AR9,\"FE\"),\"\")","v":6}]
["Liane da rosa",null,null,"Tec. Enf","Fapeu",44,null,null,17,null,null,null,null,"D2","FO","D2","FO","D2","FO","D2","FO","D2","FO","D2","FO","D2","FO","D2","FO","D2","FO","D2","FO","D2","FO","D2","FO","D2","FO","D2","FO","D2","FO","D2",{"$f":"IF(A10<>\"\",IFERROR(VLOOKUP(N10,Tabelas!B:D,3,0),0),\"\")","v":12},{"$f":"IF(A10<>\"\",IFERROR(VLOOKUP(O10,Tabelas!B:D,3,0),0),\"\")","v":0},{"$f":"IF(A10<>\"\",IFERROR(VLOOKUP(P10,Tabelas!B:D,3,0),0),\"\")","v":12},{"$f":"IF(A10<>\"\",IFERROR(VLOOKUP(Q10,Tabelas!B:D,3,0),0),\"\")","v":0},{"$f":"IF(A10<>\"\",IFERROR(VLOOKUP(R10,Tabelas!B:D,3,0),0),\"\")","v":12},{"$f":"IF(A10<>\"\",IFERROR(VLOOKUP(S10,Tabelas!B:D,3,0),0),\"\")","v":0},{"$f":"IF(A10<>\"\",IFERROR(VLOOKUP(T10,Tabelas!B:D,3,0),0),\"\")","v":12},{"$f":"IF(A10<>\"\",IFERROR(VLOOKUP(U10,Tabelas!B:D,3,0),0),\"\")","v":0},{"$f":"IF(A10<>\"\",IFERROR(VLOOKUP(V10,Tabelas!B:D,3,0),0),\"\")","v":12},{"$f":"IF(A10<>\"\",IFERROR(VLOOKUP(W10,Tabelas!B:D,3,0),0),\"\")","v":0},{"$f":"IF(A10<>\"\",IFERROR(VLOOKUP(X10,Tabelas!B:D,3,0),0),\"\")","v":12},{"$f":"IF(A10<>\"\",IFERROR(VLOOKUP(Y10,Tabelas!B:D,3,0),0),\"\")","v":0},{"$f":"IF(A10<>\"\",IFERROR(VLOOKUP(Z10,Tabelas!B:D,3,0),0),\"\")","v":12},{"$f":"IF(A10<>\"\",IFERROR(VLOOKUP(AA10,Tabelas!B:D,3,0),0),\"\")","v":0},{"$f":"IF(A10<>\"\",IFERROR(VLOOKUP(AB10,Tabelas!B:D,3,0),0),\"\")","v":12},{"$f":"IF(A10<>\"\",IFERROR(VLOOKUP(AC10,Tabelas!B:D,3,0),0),\"\")","v":0},{"$f":"IF(A10<>\"\",IFERROR(VLOOKUP(AD10,Tabelas!B:D,3,0),0),\"\")","v":12},{"$f":"IF(A10<>\"\",IFERROR(VLOOKUP(AE10,Tabelas!B:D,3,0),0),\"\")","v":0},{"$f":"IF(A10<>\"\",IFERROR(VLOOKUP(AF10,Tabelas!B:D,3,0),0),\"\")","v":12},{"$f":"IF(A10<>\"\",IFERROR(VLOOKUP(AG10,Tabelas!B:D,3,0),0),\"\")","v":0},{"$f":"IF(A10<>\"\",IFERROR(VLOOKUP(AH10,Tabelas!B:D,3,0),0),\"\")","v":12},{"$f":"IF(A10<>\"\",IFERROR(VLOOKUP(AI10,Tabelas!B:D,3,0),0),\"\")","v":0},{"$f":"IF(A10<>\"\",IFERROR(VLOOKUP(AJ10,Tabelas!B:D,3,0),0),\"\")","v":12},{"$f":"IF(A10<>\"\",IFERROR(VLOOKUP(AK10,Tabelas!B:D,3,0),0),\"\")","v":0},{"$f":"IF(A10<>\"\",IFERROR(VLOOKUP(AL10,Tabelas!B:D,3,0),0),\"\")","v":12},{"$f":"IF(A10<>\"\",IFERROR(VLOOKUP(AM10,Tabelas!B:D,3,0),0),\"\")","v":0},{"$f":"IF(A10<>\"\",IFERROR(VLOOKUP(AN10,Tabelas!B:D,3,0),0),\"\")","v":12},{"$f":"IF(A10<>\"\",IFERROR(VLOOKUP(AO10,Tabelas!B:D,3,0),0),\"\")","v":0},{"$f":"IF(A10<>\"\",IFERROR(VLOOKUP(AP10,Tabelas!B:D,3,0),0),\"\")","v":12},{"$f":"IF(A10<>\"\",IFERROR(VLOOKUP(AQ10,Tabelas!B:D,3,0),0),\"\")","v":0},{"$f":"IF(A10<>\"\",IFERROR(VLOOKUP(AR10,Tabelas!B:D,3,0),0),\"\")","v":12},{"$f":"IF(A10<>\"\",SUM(AS10:BW10),\"\")","v":192},{"$f":"IF(A10<>\"\",COUNTIF(N10:AR10,\"LM\")+COUNTIF(N10:AR10,\"L\"),\"\")+COUNTIF(N10:AR10,\"LP\")","v":0},0,0,0,0,{"$f":"IF(A10<>\"\",COUNTIF(N10:AR10,\"AF1\")+COUNTIF(N10:AR10,\"AF2\")+COUNTIF(N10:AR10,\"AF3\")+COUNTIF(N10:AR10,\"AF4\")+COUNTIF(N10:AR10,\"AF5\")+COUNTIF(N10:AR10,\"AF6\")+COUNTIF(N10:AR10,\"AF7\")+COUNTIF(N10:AR10,\"AF8\")+COUNTIF(N10:AR10,\"AF9\")+COUNTIF(N10:AR10,\"AF10\")+COUNTIF(N10:AR10,\"AF11\")+COUNTIF(N10:AR10,\"AF12\")+COUNTIF(N10:AR10,\"AF13\")+COUNTIF(N10:AR10,\"AF14\"),\"\")","v":0},{"$f":"IF(A10<>\"\",COUNTIF(N10:AR10,\"CE\")+COUNTIF(N10:AR10,\"L\")+COUNTIF(N10:AR10,\"LM\")+COUNTIF(N10:AR10,\"LP\")+COUNTIF(N10:AR10,\"LC\")+COUNTIF(N10:AR10,\"AB\")+COUNTIF(N10:AR10,\"AF1\")+COUNTIF(N10:AR10,\"AF2\")+COUNTIF(N10:AR10,\"AF3\")+COUNTIF(N10:AR10,\"AF4\")+COUNTIF(N10:AR10,\"AF5\")+COUNTIF(N10:AR10,\"AF6\")+COUNTIF(N10:AR10,\"AF7\")+COUNTIF(N10:AR10,\"AF8\")+COUNTIF(N10:AR10,\"AF9\")+COUNTIF(N10:AR10,\"AF10\")+COUNTIF(N10:AR10,\"AF11\")+COUNTIF(N10:AR10,\"AF12\")+COUNTIF(N10:AR10,\"AF13\")+COUNTIF(N10:AR10,\"AF14\")+COUNTIF(N10:AR10,\"RC\")+COUNTIF(N10:AR10,\"FO\")+COUNTIF(N10:AR10,\"FE\"),\"\")","v":15}]
["Lisiane Mpreira dias",null,null,"Tec. Enf","Fapeu",40,null,null,17,null,null,null,null,"FO","D2","FO","FO","D2","D2","FO","D2","T6","M6","D2","M6","FO","D2","T6","FO","D2","FO","FO","D2","FO","FO","D2","T6","FO","D2","FO","FO","D2","FO","T6",{"$f":"IF(A11<>\"\",IFERROR(VLOOKUP(N11,Tabelas!B:D,3,0),0),\"\")","v":0},{"$f":"IF(A11<>\"\",IFERROR(VLOOKUP(O11,Tabelas!B:D,3,0),0),\"\")","v":12},{"$f":"IF(A11<>\"\",IFERROR(VLOOKUP(P11,Tabelas!B:D,3,0),0),\"\")","v":0},{"$f":"IF(A11<>\"\",IFERROR(VLOOKUP(Q11,Tabelas!B:D,3,0),0),\"\")","v":0},{"$f":"IF(A11<>\"\",IFERROR(VLOOKUP(R11,Tabelas!B:D,3,0),0),\"\")","v":12},{"$f":"IF(A11<>\"\",IFERROR(VLOOKUP(S11,Tabelas!B:D,3,0),0),\"\")","v":12},{"$f":"IF(A11<>\"\",IFERROR(VLOOKUP(T11,Tabelas!B:D,3,0),0),\"\")","v":0},{"$f":"IF(A11<>\"\",IFERROR(VLOOKUP(U11,Tabelas!B:D,3,0),0),\"\")","v":12},{"$f":"IF(A11<>\"\",IFERROR(VLOOKUP(V11,Tabelas!B:D,3,0),0),\"\")","v":6},{"$f":"IF(A11<>\"\",IFERROR(VLOOKUP(W11,Tabelas!B:D,3,0),0),\"\")","v":6},{"$f":"IF(A11<>\"\",IFERROR(VLOOKUP(X11,Tabelas!B:D,3,0),0),\"\")","v":12},{"$f":"IF(A11<>\"\",IFERROR(VLOOKUP(Y11,Tabelas!B:D,3,0),0),\"\")","v":6},{"$f":"IF(A11<>\"\",IFERROR(VLOOKUP(Z11,Tabelas!B:D,3,0),0),\"\")","v":0},{"$f":"IF(A11<>\"\",IFERROR(VLOOKUP(AA11,Tabelas!B:D,3,0),0),\"\")","v":12},{"$f":"IF(A11<>\"\",IFERROR(VLOOKUP(AB11,Tabelas!B:D,3,0),0),\"\")","v":6},{"$f":"IF(A11<>\"\",IFERROR(VLOOKUP(AC11,Tabelas!B:D,3,0),0),\"\")","v":0},{"$f":"IF(A11<>\"\",IFERROR(VLOOKUP(AD11,Tabelas!B:D,3,0),0),\"\")","v":12},{"$f":"IF(A11<>\"\",IFERROR(VLOOKUP(AE11,Tabelas!B:D,3,0),0),\"\")","v":0},{"$f":"IF(A11<>\"\",IFERROR(VLOOKUP(AF11,Tabelas!B:D,3,0),0),\"\")","v":0},{"$f":"IF(A11<>\"\",IFERROR(VLOOKUP(AG11,Tabelas!B:D,3,0),0),\"\")","v":12},{"$f":"IF(A11<>\"\",IFERROR(VLOOKUP(AH11,Tabelas!B:D,3,0),0),\"\")","v":0},{"$f":"IF(A11<>\"\",IFERROR(VLOOKUP(AI11,Tabelas!B:D,3,0),0),\"\")","v":0},{"$f":"IF(A11<>\"\",IFERROR(VLOOKUP(AJ11,Tabelas!B:D,3,0),0),\"\")","v":12},{"$f":"IF(A11<>\"\",IFERROR(VLOOKUP(AK11,Tabelas!B:D,3,0),0),\"\")","v":6},{"$f":"IF(A11<>\"\",IFERROR(VLOOKUP(AL11,Tabelas!B:D,3,0),0),\"\")","v":0},{"$f":"IF(A11<>\"\",IFERROR(VLOOKUP(AM11,Tabelas!B:D,3,0),0),\"\")","v":12},{"$f":"IF(A11<>\"\",IFERROR(VLOOKUP(AN11,Tabelas!B:D,3,0),0),\"\")","v":0},{"$f":"IF(A11<>\"\",IFERROR(VLOOKUP(AO11,Tabelas!B:D,3,0),0),\"\")","v":0},{"$f":"IF(A11<>\"\",IFERROR(VLOOKUP(AP11,Tabelas!B:D,3,0),0),\"\")","v":12},{"$f":"IF(A11<>\"\",IFERROR(VLOOKUP(AQ11,Tabelas!B:D,3,0),0),\"\")","v":0},{"$f":"IF(A11<>\"\",IFERROR(VLOOKUP(AR11,Tabelas!B:D,3,0),0),\"\")","v":6},168,0,0,0,0,0,0,14]
["Marinalva S. Silva",null,null,"Tec. Enf","Fapeu",44,null,null,18,null,null,null,null,"FO","D2","FO","D2","FO","D2","FO","D2","FO","D2","FO","D2","FO","D2","FO","D2","FO","D2","FO","D2","FO","D2","FO","D2","FO","D2","FO","D2","FO","D2","FO",{"$f":"IF(A12<>\"\",IFERROR(VLOOKUP(N12,Tabelas!B:D,3,0),0),\"\")","v":0},{"$f":"IF(A12<>\"\",IFERROR(VLOOKUP(O12,Tabelas!B:D,3,0),0),\"\")","v":12},{"$f":"IF(A12<>\"\",IFERROR(VLOOKUP(P12,Tabelas!B:D,3,0),0),\"\")","v":0},{"$f":"IF(A12<>\"\",IFERROR(VLOOKUP(Q12,Tabelas!B:D,3,0),0),\"\")","v":12},{"$f":"IF(A12<>\"\",IFERROR(VLOOKUP(R12,Tabelas!B:D,3,0),0),\"\")","v":0},{"$f":"IF(A12<>\"\",IFERROR(VLOOKUP(S12,Tabelas!B:D,3,0),0),\"\")","v":12},{"$f":"IF(A12<>\"\",IFERROR(VLOOKUP(T12,Tabelas!B:D,3,0),0),\"\")","v":0},{"$f":"IF(A12<>\"\",IFERROR(VLOOKUP(U12,Tabelas!B:D,3,0),0),\"\")","v":12},{"$f":"IF(A12<>\"\",IFERROR(VLOOKUP(V12,Tabelas!B:D,3,0),0),\"\")","v":0},{"$f":"IF(A12<>\"\",IFERROR(VLOOKUP(W12,Tabelas!B:D,3,0),0),\"\")","v":12},{"$f":"IF(A12<>\"\",IFERROR(VLOOKUP(X12,Tabelas!B:D,3,0),0),\"\")","v":0},{"$f":"IF(A12<>\"\",IFERROR(VLOOKUP(Y12,Tabelas!B:D,3,0),0),\"\")","v":12},{"$f":"IF(A12<>\"\",IFERROR(VLOOKUP(Z12,Tabelas!B:D,3,0),0),\"\")","v":0},{"$f":"IF(A12<>\"\",IFERROR(VLOOKUP(AA12,Tabelas!B:D,3,0),0),\"\")","v":12},{"$f":"IF(A12<>\"\",IFERROR(VLOOKUP(AB12,Tabelas!B:D,3,0),0),\"\")","v":0},{"$f":"IF(A12<>\"\",IFERROR(VLOOKUP(AC12,Tabelas!B:D,3,0),0),\"\")","v":12},{"$f":"IF(A12<>\"\",IFERROR(VLOOKUP(AD12,Tabelas!B:D,3,0),0),\"\")","v":0},{"$f":"IF(A12<>\"\",IFERROR(VLOOKUP(AE12,Tabelas!B:D,3,0),0),\"\")","v":12},{"$f":"IF(A12<>\"\",IFERROR(VLOOKUP(AF12,Tabelas!B:D,3,0),0),\"\")","v":0},{"$f":"IF(A12<>\"\",IFERROR(VLOOKUP(AG12,Tabelas!B:D,3,0),0),\"\")","v":12},{"$f":"IF(A12<>\"\",IFERROR(VLOOKUP(AH12,Tabelas!B:D,3,0),0),\"\")","v":0},{"$f":"IF(A12<>\"\",IFERROR(VLOOKUP(AI12,Tabelas!B:D,3,0),0),\"\")","v":12},{"$f":"IF(A12<>\"\",IFERROR(VLOOKUP(AJ12,Tabelas!B:D,3,0),0),\"\")","v":0},{"$f":"IF(A12<>\"\",IFERROR(VLOOKUP(AK12,Tabelas!B:D,3,0),0),\"\")","v":12},{"$f":"IF(A12<>\"\",IFERROR(VLOOKUP(AL12,Tabelas!B:D,3,0),0),\"\")","v":0},{"$f":"IF(A12<>\"\",IFERROR(VLOOKUP(AM12,Tabelas!B:D,3,0),0),\"\")","v":12},{"$f":"IF(A12<>\"\",IFERROR(VLOOKUP(AN12,Tabelas!B:D,3,0),0),\"\")","v":0},{"$f":"IF(A12<>\"\",IFERROR(VLOOKUP(AO12,Tabelas!B:D,3,0),0),\"\")","v":12},{"$f":"IF(A12<>\"\",IFERROR(VLOOKUP(AP12,Tabelas!B:D,3,0),0),\"\")","v":0},{"$f":"IF(A12<>\"\",IFERROR(VLOOKUP(AQ12,Tabelas!B:D,3,0),0),\"\")","v":12},{"$f":"IF(A12<>\"\",IFERROR(VLOOKUP(AR12,Tabelas!B:D,3,0),0),\"\")","v":0},180,0,0,0,0,0,0,16]
["Fulano de Tal 5",1234567,123,"ENF","Ebserh",36,null,null,null,null,null,null,null,null,null,null,null,null,null,null,null,null,null,null,null,null,null,null,null,null,null,null,null,null,null,null,null,null,null,null,null,null,null,null,{"$f":"IF(A13<>\"\",IFERROR(VLOOKUP(N13,Tabelas!B:D,3,0),0),\"\")","v":0},{"$f":"IF(A13<>\"\",IFERROR(VLOOKUP(O13,Tabelas!B:D,3,0),0),\"\")","v":0},{"$f":"IF(A13<>\"\",IFERROR(VLOOKUP(P13,Tabelas!B:D,3,0),0),\"\")","v":0},{"$f":"IF(A13<>\"\",IFERROR(VLOOKUP(Q13,Tabelas!B:D,3,0),0),\"\")","v":0},{"$f":"IF(A13<>\"\",IFERROR(VLOOKUP(R13,Tabelas!B:D,3,0),0),\"\")","v":0},{"$f":"IF(A13<>\"\",IFERROR(VLOOKUP(S13,Tabelas!B:D,3,0),0),\"\")","v":0},{"$f":"IF(A13<>\"\",IFERROR(VLOOKUP(T13,Tabelas!B:D,3,0),0),\"\")","v":0},{"$f":"IF(A13<>\"\",IFERROR(VLOOKUP(U13,Tabelas!B:D,3,0),0),\"\")","v":0},{"$f":"IF(A13<>\"\",IFERROR(VLOOKUP(V13,Tabelas!B:D,3,0),0),\"\")","v":0},{"$f":"IF(A13<>\"\",IFERROR(VLOOKUP(W13,Tabelas!B:D,3,0),0),\"\")","v":0},{"$f":"IF(A13<>\"\",IFERROR(VLOOKUP(X13,Tabelas!B:D,3,0),0),\"\")","v":0},{"$f":"IF(A13<>\"\",IFERROR(VLOOKUP(Y13,Tabelas!B:D,3,0),0),\"\")","v":0},{"$f":"IF(A13<>\"\",IFERROR(VLOOKUP(Z13,Tabelas!B:D,3,0),0),\"\")","v":0},{"$f":"IF(A13<>\"\",IFERROR(VLOOKUP(AA13,Tabelas!B:D,3,0),0),\"\")","v":0},{"$f":"IF(A13<>\"\",IFERROR(VLOOKUP(AB13,Tabelas!B:D,3,0),0),\"\")","v":0},{"$f":"IF(A13<>\"\",IFERROR(VLOOKUP(AC13,Tabelas!B:D,3,0),0),\"\")","v":0},{"$f":"IF(A13<>\"\",IFERROR(VLOOKUP(AD13,Tabelas!B:D,3,0),0),\"\")","v":0},{"$f":"IF(A13<>\"\",IFERROR(VLOOKUP(AE13,Tabelas!B:D,3,0),0),\"\")","v":0},{"$f":"IF(A13<>\"\",IFERROR(VLOOKUP(AF13,Tabelas!B:D,3,0),0),\"\")","v":0},{"$f":"IF(A13<>\"\",IFERROR(VLOOKUP(AG13,Tabelas!B:D,3,0),0),\"\")","v":0},{"$f":"IF(A13<>\"\",IFERROR(VLOOKUP(AH13,Tabelas!B:D,3,0),0),\"\")","v":0},{"$f":"IF(A13<>\"\",IFERROR(VLOOKUP(AI13,Tabelas!B:D,3,0),0),\"\")","v":0},{"$f":"IF(A13<>\"\",IFERROR(VLOOKUP(AJ13,Tabelas!B:D,3,0),0),\"\")","v":0},{"$f":"IF(A13<>\"\",IFERROR(VLOOKUP(AK13,Tabelas!B:D,3,0),0),\"\")","v":0},{"$f":"IF(A13<>\"\",IFERROR(VLOOKUP(AL13,Tabelas!B:D,3,0),0),\"\")","v":0},{"$f":"IF(A13<>\"\",IFERROR(VLOOKUP(AM13,Tabelas!B:D,3,0),0),\"\")","v":0},{"$f":"IF(A13<>\"\",IFERROR(VLOOKUP(AN13,Tabelas!B:D,3,0),0),\"\")","v":0},{"$f":"IF(A13<>\"\",IFERROR(VLOOKUP(AO13,Tabelas!B:D,3,0),0),\"\")","v":0},{"$f":"IF(A13<>\"\",IFERROR(VLOOKUP(AP13,Tabelas!B:D,3,0),0),\"\")","v":0},{"$f":"IF(A13<>\"\",IFERROR(VLOOKUP(AQ13,Tabelas!B:D,3,0),0),\"\")","v":0},{"$f":"IF(A13<>\"\",IFERROR(VLOOKUP(AR13,Tabelas!B:D,3,0),0),\"\")","v":0},0,0,0,0,0,0,0,0]
["Fulano de Tal 6",1234567,123,"ENF","Ebserh",36,null,null,null,null,null,null,null,null,null,null,null,null,null,null,null,null,null,null,null,null,null,null,null,null,null,null,null,null,null,null,null,null,null,null,null,null,null,null,{"$f":"IF(A14<>\"\",IFERROR(VLOOKUP(N14,Tabelas!B:D,3,0),0),\"\")","v":0},{"$f":"IF(A14<>\"\",IFERROR(VLOOKUP(O14,Tabelas!B:D,3,0),0),\"\")","v":0},{"$f":"IF(A14<>\"\",IFERROR(VLOOKUP(P14,Tabelas!B:D,3,0),0),\"\")","v":0},{"$f":"IF(A14<>\"\",IFERROR(VLOOKUP(Q14,Tabelas!B:D,3,0),0),\"\")","v":0},{"$f":"IF(A14<>\"\",IFERROR(VLOOKUP(R14,Tabelas!B:D,3,0),0),\"\")","v":0},{"$f":"IF(A14<>\"\",IFERROR(VLOOKUP(S14,Tabelas!B:D,3,0),0),\"\")","v":0},{"$f":"IF(A14<>\"\",IFERROR(VLOOKUP(T14,Tabelas!B:D,3,0),0),\"\")","v":0},{"$f":"IF(A14<>\"\",IFERROR(VLOOKUP(U14,Tabelas!B:D,3,0),0),\"\")","v":0},{"$f":"IF(A14<>\"\",IFERROR(VLOOKUP(V14,Tabelas!B:D,3,0),0),\"\")","v":0},{"$f":"IF(A14<>\"\",IFERROR(VLOOKUP(W14,Tabelas!B:D,3,0),0),\"\")","v":0},{"$f":"IF(A14<>\"\",IFERROR(VLOOKUP(X14,Tabelas!B:D,3,0),0),\"\")","v":0},{"$f":"IF(A14<>\"\",IFERROR(VLOOKUP(Y14,Tabelas!B:D,3,0),0),\"\")","v":0},{"$f":"IF(A14<>\"\",IFERROR(VLOOKUP(Z14,Tabelas!B:D,3,0),0),\"\")","v":0},{"$f":"IF(A14<>\"\",IFERROR(VLOOKUP(AA14,Tabelas!B:D,3,0),0),\"\")","v":0},{"$f":"IF(A14<>\"\",IFERROR(VLOOKUP(AB14,Tabelas!B:D,3,0),0),\"\")","v":0},{"$f":"IF(A14<>\"\",IFERROR(VLOOKUP(AC14,Tabelas!B:D,3,0),0),\"\")","v":0},{"$f":"IF(A14<>\"\",IFERROR(VLOOKUP(AD14,Tabelas!B:D,3,0),0),\"\")","v":0},{"$f":"IF(A14<>\"\",IFERROR(VLOOKUP(AE14,Tabelas!B:D,3,0),0),\"\")","v":0},{"$f":"IF(A14<>\"\",IFERROR(VLOOKUP(AF14,Tabelas!B:D,3,0),0),\"\")","v":0},{"$f":"IF(A14<>\"\",IFERROR(VLOOKUP(AG14,Tabelas!B:D,3,0),0),\"\")","v":0},{"$f":"IF(A14<>\"\",IFERROR(VLOOKUP(AH14,Tabelas!B:D,3,0),0),\"\")","v":0},{"$f":"IF(A14<>\"\",IFERROR(VLOOKUP(AI14,Tabelas!B:D,3,0),0),\"\")","v":0},{"$f":"IF(A14<>\"\",IFERROR(VLOOKUP(AJ14,Tabelas!B:D,3,0),0),\"\")","v":0},{"$f":"IF(A14<>\"\",IFERROR(VLOOKUP(AK14,Tabelas!B:D,3,0),0),\"\")","v":0},{"$f":"IF(A14<>\"\",IFERROR(VLOOKUP(AL14,Tabelas!B:D,3,0),0),\"\")","v":0},{"$f":"IF(A14<>\"\",IFERROR(VLOOKUP(AM14,Tabelas!B:D,3,0),0),\"\")","v":0},{"$f":"IF(A14<>\"\",IFERROR(VLOOKUP(AN14,Tabelas!B:D,3,0),0),\"\")","v":0},{"$f":"IF(A14<>\"\",IFERROR(VLOOKUP(AO14,Tabelas!B:D,3,0),0),\"\")","v":0},{"$f":"IF(A14<>\"\",IFERROR(VLOOKUP(AP14,Tabelas!B:D,3,0),0),\"\")","v":0},{"$f":"IF(A14<>\"\",IFERROR(VLOOKUP(AQ14,Tabelas!B:D,3,0),0),\"\")","v":0},{"$f":"IF(A14<>\"\",IFERROR(VLOOKUP(AR14,Tabelas!B:D,3,0),0),\"\")","v":0},0,0,0,0,0,0,0,0]
["Fulano de Tal 7",1234567,123,"ENF","Ebserh",36,null,null,null,null,null,null,null,null,null,null,null,null,null,null,null,null,null,null,null,null,null,null,null,null,null,null,null,null,null,null,null,null,null,null,null,null,null,null,{"$f":"IF(A15<>\"\",IFERROR(VLOOKUP(N15,Tabelas!B:D,3,0),0),\"\")","v":0},{"$f":"IF(A15<>\"\",IFERROR(VLOOKUP(O15,Tabelas!B:D,3,0),0),\"\")","v":0},{"$f":"IF(A15<>\"\",IFERROR(VLOOKUP(P15,Tabelas!B:D,3,0),0),\"\")","v":0},{"$f":"IF(A15<>\"\",IFERROR(VLOOKUP(Q15,Tabelas!B:D,3,0),0),\"\")","v":0},{"$f":"IF(A15<>\"\",IFERROR(VLOOKUP(R15,Tabelas!B:D,3,0),0),\"\")","v":0},{"$f":"IF(A15<>\"\",IFERROR(VLOOKUP(S15,Tabelas!B:D,3,0),0),\"\")","v":0},{"$f":"IF(A15<>\"\",IFERROR(VLOOKUP(T15,Tabelas!B:D,3,0),0),\"\")","v":0},{"$f":"IF(A15<>\"\",IFERROR(VLOOKUP(U15,Tabelas!B:D,3,0),0),\"\")","v":0},{"$f":"IF(A15<>\"\",IFERROR(VLOOKUP(V15,Tabelas!B:D,3,0),0),\"\")","v":0},{"$f":"IF(A15<>\"\",IFERROR(VLOOKUP(W15,Tabelas!B:D,3,0),0),\"\")","v":0},{"$f":"IF(A15<>\"\",IFERROR(VLOOKUP(X15,Tabelas!B:D,3,0),0),\"\")","v":0},{"$f":"IF(A15<>\"\",IFERROR(VLOOKUP(Y15,Tabelas!B:D,3,0),0),\"\")","v":0},{"$f":"IF(A15<>\"\",IFERROR(VLOOKUP(Z15,Tabelas!B:D,3,0),0),\"\")","v":0},{"$f":"IF(A15<>\"\",IFERROR(VLOOKUP(AA15,Tabelas!B:D,3,0),0),\"\")","v":0},{"$f":"IF(A15<>\"\",IFERROR(VLOOKUP(AB15,Tabelas!B:D,3,0),0),\"\")","v":0},{"$f":"IF(A15<>\"\",IFERROR(VLOOKUP(AC15,Tabelas!B:D,3,0),0),\"\")","v":0},{"$f":"IF(A15<>\"\",IFERROR(VLOOKUP(AD15,Tabelas!B:D,3,0),0),\"\")","v":0},{"$f":"IF(A15<>\"\",IFERROR(VLOOKUP(AE15,Tabelas!B:D,3,0),0),\"\")","v":0},{"$f":"IF(A15<>\"\",IFERROR(VLOOKUP(AF15,Tabelas!B:D,3,0),0),\"\")","v":0},{"$f":"IF(A15<>\"\",IFERROR(VLOOKUP(AG15,Tabelas!B:D,3,0),0),\"\")","v":0},{"$f":"IF(A15<>\"\",IFERROR(VLOOKUP(AH15,Tabelas!B:D,3,0),0),\"\")","v":0},{"$f":"IF(A15<>\"\",IFERROR(VLOOKUP(AI15,Tabelas!B:D,3,0),0),\"\")","v":0},{"$f":"IF(A15<>\"\",IFERROR(VLOOKUP(AJ15,Tabelas!B:D,3,0),0),\"\")","v":0},{"$f":"IF(A15<>\"\",IFERROR(VLOOKUP(AK15,Tabelas!B:D,3,0),0),\"\")","v":0},{"$f":"IF(A15<>\"\",IFERROR(VLOOKUP(AL15,Tabelas!B:D,3,0),0),\"\")","v":0},{"$f":"IF(A15<>\"\",IFERROR(VLOOKUP(AM15,Tabelas!B:D,3,0),0),\"\")","v":0},{"$f":"IF(A15<>\"\",IFERROR(VLOOKUP(AN15,Tabelas!B:D,3,0),0),\"\")","v":0},{"$f":"IF(A15<>\"\",IFERROR(VLOOKUP(AO15,Tabelas!B:D,3,0),0),\"\")","v":0},{"$f":"IF(A15<>\"\",IFERROR(VLOOKUP(AP15,Tabelas!B:D,3,0),0),\"\")","v":0},{"$f":"IF(A15<>\"\",IFERROR(VLOOKUP(AQ15,Tabelas!B:D,3,0),0),\"\")","v":0},{"$f":"IF(A15<>\"\",IFERROR(VLOOKUP(AR15,Tabelas!B:D,3,0),0),\"\")","v":0},0,0,0,0,0,0,0,0]
["Fulano de Tal 8",1234567,123,"ENF","Ebserh",36,null,null,null,null,null,null,null,null,null,null,null,null,null,null,null,null,null,null,null,null,null,null,null,null,null,null,null,null,null,null,null,null,null,null,null,null,null,null,{"$f":"IF(A16<>\"\",IFERROR(VLOOKUP(N16,Tabelas!B:D,3,0),0),\"\")","v":0},{"$f":"IF(A16<>\"\",IFERROR(VLOOKUP(O16,Tabelas!B:D,3,0),0),\"\")","v":0},{"$f":"IF(A16<>\"\",IFERROR(VLOOKUP(P16,Tabelas!B:D,3,0),0),\"\")","v":0},{"$f":"IF(A16<>\"\",IFERROR(VLOOKUP(Q16,Tabelas!B:D,3,0),0),\"\")","v":0},{"$f":"IF(A16<>\"\",IFERROR(VLOOKUP(R16,Tabelas!B:D,3,0),0),\"\")","v":0},{"$f":"IF(A16<>\"\",IFERROR(VLOOKUP(S16,Tabelas!B:D,3,0),0),\"\")","v":0},{"$f":"IF(A16<>\"\",IFERROR(VLOOKUP(T16,Tabelas!B:D,3,0),0),\"\")","v":0},{"$f":"IF(A16<>\"\",IFERROR(VLOOKUP(U16,Tabelas!B:D,3,0),0),\"\")","v":0},{"$f":"IF(A16<>\"\",IFERROR(VLOOKUP(V16,Tabelas!B:D,3,0),0),\"\")","v":0},{"$f":"IF(A16<>\"\",IFERROR(VLOOKUP(W16,Tabelas!B:D,3,0),0),\"\")","v":0},{"$f":"IF(A16<>\"\",IFERROR(VLOOKUP(X16,Tabelas!B:D,3,0),0),\"\")","v":0},{"$f":"IF(A16<>\"\",IFERROR(VLOOKUP(Y16,Tabelas!B:D,3,0),0),\"\")","v":0},{"$f":"IF(A16<>\"\",IFERROR(VLOOKUP(Z16,Tabelas!B:D,3,0),0),\"\")","v":0},{"$f":"IF(A16<>\"\",IFERROR(VLOOKUP(AA16,Tabelas!B:D,3,0),0),\"\")","v":0},{"$f":"IF(A16<>\"\",IFERROR(VLOOKUP(AB16,Tabelas!B:D,3,0),0),\"\")","v":0},{"$f":"IF(A16<>\"\",IFERROR(VLOOKUP(AC16,Tabelas!B:D,3,0),0),\"\")","v":0},{"$f":"IF(A16<>\"\",IFERROR(VLOOKUP(AD16,Tabelas!B:D,3,0),0),\"\")","v":0},{"$f":"IF(A16<>\"\",IFERROR(VLOOKUP(AE16,Tabelas!B:D,3,0),0),\"\")","v":0},{"$f":"IF(A16<>\"\",IFERROR(VLOOKUP(AF16,Tabelas!B:D,3,0),0),\"\")","v":0},{"$f":"IF(A16<>\"\",IFERROR(VLOOKUP(AG16,Tabelas!B:D,3,0),0),\"\")","v":0},{"$f":"IF(A16<>\"\",IFERROR(VLOOKUP(AH16,Tabelas!B:D,3,0),0),\"\")","v":0},{"$f":"IF(A16<>\"\",IFERROR(VLOOKUP(AI16,Tabelas!B:D,3,0),0),\"\")","v":0},{"$f":"IF(A16<>\"\",IFERROR(VLOOKUP(AJ16,Tabelas!B:D,3,0),0),\"\")","v":0},{"$f":"IF(A16<>\"\",IFERROR(VLOOKUP(AK16,Tabelas!B:D,3,0),0),\"\")","v":0},{"$f":"IF(A16<>\"\",IFERROR(VLOOKUP(AL16,Tabelas!B:D,3,0),0),\"\")","v":0},{"$f":"IF(A16<>\"\",IFERROR(VLOOKUP(AM16,Tabelas!B:D,3,0),0),\"\")","v":0},{"$f":"IF(A16<>\"\",IFERROR(VLOOKUP(AN16,Tabelas!B:D,3,0),0),\"\")","v":0},{"$f":"IF(A16<>\"\",IFERROR(VLOOKUP(AO16,Tabelas!B:D,3,0),0),\"\")","v":0},{"$f":"IF(A16<>\"\",IFERROR(VLOOKUP(AP16,Tabelas!B:D,3,0),0),\"\")","v":0},{"$f":"IF(A16<>\"\",IFERROR(VLOOKUP(AQ16,Tabelas!B:D,3,0),0),\"\")","v":0},{"$f":"IF(A16<>\"\",IFERROR(VLOOKUP(AR16,Tabelas!B:D,3,0),0),\"\")","v":0},0,0,0,0,0,0,0,0]
["Fulano de Tal 9",1234567,123,"ENF","Ebserh",36,null,null,null,null,null,null,null,null,null,null,null,null,null,null,null,null,null,null,null,null,null,null,null,null,null,null,null,null,null,null,null,null,null,null,null,null,null,null,{"$f":"IF(A17<>\"\",IFERROR(VLOOKUP(N17,Tabelas!B:D,3,0),0),\"\")","v":0},{"$f":"IF(A17<>\"\",IFERROR(VLOOKUP(O17,Tabelas!B:D,3,0),0),\"\")","v":0},{"$f":"IF(A17<>\"\",IFERROR(VLOOKUP(P17,Tabelas!B:D,3,0),0),\"\")","v":0},{"$f":"IF(A17<>\"\",IFERROR(VLOOKUP(Q17,Tabelas!B:D,3,0),0),\"\")","v":0},{"$f":"IF(A17<>\"\",IFERROR(VLOOKUP(R17,Tabelas!B:D,3,0),0),\"\")","v":0},{"$f":"IF(A17<>\"\",IFERROR(VLOOKUP(S17,Tabelas!B:D,3,0),0),\"\")","v":0},{"$f":"IF(A17<>\"\",IFERROR(VLOOKUP(T17,Tabelas!B:D,3,0),0),\"\")","v":0},{"$f":"IF(A17<>\"\",IFERROR(VLOOKUP(U17,Tabelas!B:D,3,0),0),\"\")","v":0},{"$f":"IF(A17<>\"\",IFERROR(VLOOKUP(V17,Tabelas!B:D,3,0),0),\"\")","v":0},{"$f":"IF(A17<>\"\",IFERROR(VLOOKUP(W17,Tabelas!B:D,3,0),0),\"\")","v":0},{"$f":"IF(A17<>\"\",IFERROR(VLOOKUP(X17,Tabelas!B:D,3,0),0),\"\")","v":0},{"$f":"IF(A17<>\"\",IFERROR(VLOOKUP(Y17,Tabelas!B:D,3,0),0),\"\")","v":0},{"$f":"IF(A17<>\"\",IFERROR(VLOOKUP(Z17,Tabelas!B:D,3,0),0),\"\")","v":0},{"$f":"IF(A17<>\"\",IFERROR(VLOOKUP(AA17,Tabelas!B:D,3,0),0),\"\")","v":0},{"$f":"IF(A17<>\"\",IFERROR(VLOOKUP(AB17,Tabelas!B:D,3,0),0),\"\")","v":0},{"$f":"IF(A17<>\"\",IFERROR(VLOOKUP(AC17,Tabelas!B:D,3,0),0),\"\")","v":0},{"$f":"IF(A17<>\"\",IFERROR(VLOOKUP(AD17,Tabelas!B:D,3,0),0),\"\")","v":0},{"$f":"IF(A17<>\"\",IFERROR(VLOOKUP(AE17,Tabelas!B:D,3,0),0),\"\")","v":0},{"$f":"IF(A17<>\"\",IFERROR(VLOOKUP(AF17,Tabelas!B:D,3,0),0),\"\")","v":0},{"$f":"IF(A17<>\"\",IFERROR(VLOOKUP(AG17,Tabelas!B:D,3,0),0),\"\")","v":0},{"$f":"IF(A17<>\"\",IFERROR(VLOOKUP(AH17,Tabelas!B:D,3,0),0),\"\")","v":0},{"$f":"IF(A17<>\"\",IFERROR(VLOOKUP(AI17,Tabelas!B:D,3,0),0),\"\")","v":0},{"$f":"IF(A17<>\"\",IFERROR(VLOOKUP(AJ17,Tabelas!B:D,3,0),0),\"\")","v":0},{"$f":"IF(A17<>\"\",IFERROR(VLOOKUP(AK17,Tabelas!B:D,3,0),0),\"\")","v":0},{"$f":"IF(A17<>\"\",IFERROR(VLOOKUP(AL17,Tabelas!B:D,3,0),0),\"\")","v":0},{"$f":"IF(A17<>\"\",IFERROR(VLOOKUP(AM17,Tabelas!B:D,3,0),0),\"\")","v":0},{"$f":"IF(A17<>\"\",IFERROR(VLOOKUP(AN17,Tabelas!B:D,3,0),0),\"\")","v":0},{"$f":"IF(A17<>\"\",IFERROR(VLOOKUP(AO17,Tabelas!B:D,3,0),0),\"\")","v":0},{"$f":"IF(A17<>\"\",IFERROR(VLOOKUP(AP17,Tabelas!B:D,3,0),0),\"\")","v":0},{"$f":"IF(A17<>\"\",IFERROR(VLOOKUP(AQ17,Tabelas!B:D,3,0),0),\"\")","v":0},{"$f":"IF(A17<>\"\",IFERROR(VLOOKUP(AR17,Tabelas!B:D,3,0),0),\"\")","v":0},0,0,0,0,0,0,0,0]
["Fulano de Tal 10",1234567,123,"ENF","Ebserh",36,null,null,null,null,null,null,null,null,null,null,null,null,null,null,null,null,null,null,null,null,null,null,null,null,null,null,null,null,null,null,null,null,null,null,null,null,null,null,{"$f":"IF(A18<>\"\",IFERROR(VLOOKUP(N18,Tabelas!B:D,3,0),0),\"\")","v":0},{"$f":"IF(A18<>\"\",IFERROR(VLOOKUP(O18,Tabelas!B:D,3,0),0),\"\")","v":0},{"$f":"IF(A18<>\"\",IFERROR(VLOOKUP(P18,Tabelas!B:D,3,0),0),\"\")","v":0},{"$f":"IF(A18<>\"\",IFERROR(VLOOKUP(Q18,Tabelas!B:D,3,0),0),\"\")","v":0},{"$f":"IF(A18<>\"\",IFERROR(VLOOKUP(R18,Tabelas!B:D,3,0),0),\"\")","v":0},{"$f":"IF(A18<>\"\",IFERROR(VLOOKUP(S18,Tabelas!B:D,3,0),0),\"\")","v":0},{"$f":"IF(A18<>\"\",IFERROR(VLOOKUP(T18,Tabelas!B:D,3,0),0),\"\")","v":0},{"$f":"IF(A18<>\"\",IFERROR(VLOOKUP(U18,Tabelas!B:D,3,0),0),\"\")","v":0},{"$f":"IF(A18<>\"\",IFERROR(VLOOKUP(V18,Tabelas!B:D,3,0),0),\"\")","v":0},{"$f":"IF(A18<>\"\",IFERROR(VLOOKUP(W18,Tabelas!B:D,3,0),0),\"\")","v":0},{"$f":"IF(A18<>\"\",IFERROR(VLOOKUP(X18,Tabelas!B:D,3,0),0),\"\")","v":0},{"$f":"IF(A18<>\"\",IFERROR(VLOOKUP(Y18,Tabelas!B:D,3,0),0),\"\")","v":0},{"$f":"IF(A18<>\"\",IFERROR(VLOOKUP(Z18,Tabelas!B:D,3,0),0),\"\")","v":0},{"$f":"IF(A18<>\"\",IFERROR(VLOOKUP(AA18,Tabelas!B:D,3,0),0),\"\")","v":0},{"$f":"IF(A18<>\"\",IFERROR(VLOOKUP(AB18,Tabelas!B:D,3,0),0),\"\")","v":0},{"$f":"IF(A18<>\"\",IFERROR(VLOOKUP(AC18,Tabelas!B:D,3,0),0),\"\")","v":0},{"$f":"IF(A18<>\"\",IFERROR(VLOOKUP(AD18,Tabelas!B:D,3,0),0),\"\")","v":0},{"$f":"IF(A18<>\"\",IFERROR(VLOOKUP(AE18,Tabelas!B:D,3,0),0),\"\")","v":0},{"$f":"IF(A18<>\"\",IFERROR(VLOOKUP(AF18,Tabelas!B:D,3,0),0),\"\")","v":0},{"$f":"IF(A18<>\"\",IFERROR(VLOOKUP(AG18,Tabelas!B:D,3,0),0),\"\")","v":0},{"$f":"IF(A18<>\"\",IFERROR(VLOOKUP(AH18,Tabelas!B:D,3,0),0),\"\")","v":0},{"$f":"IF(A18<>\"\",IFERROR(VLOOKUP(AI18,Tabelas!B:D,3,0),0),\"\")","v":0},{"$f":"IF(A18<>\"\",IFERROR(VLOOKUP(AJ18,Tabelas!B:D,3,0),0),\"\")","v":0},{"$f":"IF(A18<>\"\",IFERROR(VLOOKUP(AK18,Tabelas!B:D,3,0),0),\"\")","v":0},{"$f":"IF(A18<>\"\",IFERROR(VLOOKUP(AL18,Tabelas!B:D,3,0),0),\"\")","v":0},{"$f":"IF(A18<>\"\",IFERROR(VLOOKUP(AM18,Tabelas!B:D,3,0),0),\"\")","v":0},{"$f":"IF(A18<>\"\",IFERROR(VLOOKUP(AN18,Tabelas!B:D,3,0),0),\"\")","v":0},{"$f":"IF(A18<>\"\",IFERROR(VLOOKUP(AO18,Tabelas!B:D,3,0),0),\"\")","v":0},{"$f":"IF(A18<>\"\",IFERROR(VLOOKUP(AP18,Tabelas!B:D,3,0),0),\"\")","v":0},{"$f":"IF(A18<>\"\",IFERROR(VLOOKUP(AQ18,Tabelas!B:D,3,0),0),\"\")","v":0},{"$f":"IF(A18<>\"\",IFERROR(VLOOKUP(AR18,Tabelas!B:D,3,0),0),\"\")","v":0},0,0,0,0,0,0,0,0]
["Fulano de Tal 11",1234567,123,"ENF","Ebserh",36,null,null,null,null,null,null,null,null,null,null,null,null,null,null,null,null,null,null,null,null,null,null,null,null,null,null,null,null,null,null,null,null,null,null,null,null,null,null,{"$f":"IF(A19<>\"\",IFERROR(VLOOKUP(N19,Tabelas!B:D,3,0),0),\"\")","v":0},{"$f":"IF(A19<>\"\",IFERROR(VLOOKUP(O19,Tabelas!B:D,3,0),0),\"\")","v":0},{"$f":"IF(A19<>\"\",IFERROR(VLOOKUP(P19,Tabelas!B:D,3,0),0),\"\")","v":0},{"$f":"IF(A19<>\"\",IFERROR(VLOOKUP(Q19,Tabelas!B:D,3,0),0),\"\")","v":0},{"$f":"IF(A19<>\"\",IFERROR(VLOOKUP(R19,Tabelas!B:D,3,0),0),\"\")","v":0},{"$f":"IF(A19<>\"\",IFERROR(VLOOKUP(S19,Tabelas!B:D,3,0),0),\"\")","v":0},{"$f":"IF(A19<>\"\",IFERROR(VLOOKUP(T19,Tabelas!B:D,3,0),0),\"\")","v":0},{"$f":"IF(A19<>\"\",IFERROR(VLOOKUP(U19,Tabelas!B:D,3,0),0),\"\")","v":0},{"$f":"IF(A19<>\"\",IFERROR(VLOOKUP(V19,Tabelas!B:D,3,0),0),\"\")","v":0},{"$f":"IF(A19<>\"\",IFERROR(VLOOKUP(W19,Tabelas!B:D,3,0),0),\"\")","v":0},{"$f":"IF(A19<>\"\",IFERROR(VLOOKUP(X19,Tabelas!B:D,3,0),0),\"\")","v":0},{"$f":"IF(A19<>\"\",IFERROR(VLOOKUP(Y19,Tabelas!B:D,3,0),0),\"\")","v":0},{"$f":"IF(A19<>\"\",IFERROR(VLOOKUP(Z19,Tabelas!B:D,3,0),0),\"\")","v":0},{"$f":"IF(A19<>\"\",IFERROR(VLOOKUP(AA19,Tabelas!B:D,3,0),0),\"\")","v":0},{"$f":"IF(A19<>\"\",IFERROR(VLOOKUP(AB19,Tabelas!B:D,3,0),0),\"\")","v":0},{"$f":"IF(A19<>\"\",IFERROR(VLOOKUP(AC19,Tabelas!B:D,3,0),0),\"\")","v":0},{"$f":"IF(A19<>\"\",IFERROR(VLOOKUP(AD19,Tabelas!B:D,3,0),0),\"\")","v":0},{"$f":"IF(A19<>\"\",IFERROR(VLOOKUP(AE19,Tabelas!B:D,3,0),0),\"\")","v":0},{"$f":"IF(A19<>\"\",IFERROR(VLOOKUP(AF19,Tabelas!B:D,3,0),0),\"\")","v":0},{"$f":"IF(A19<>\"\",IFERROR(VLOOKUP(AG19,Tabelas!B:D,3,0),0),\"\")","v":0},{"$f":"IF(A19<>\"\",IFERROR(VLOOKUP(AH19,Tabelas!B:D,3,0),0),\"\")","v":0},{"$f":"IF(A19<>\"\",IFERROR(VLOOKUP(AI19,Tabelas!B:D,3,0),0),\"\")","v":0},{"$f":"IF(A19<>\"\",IFERROR(VLOOKUP(AJ19,Tabelas!B:D,3,0),0),\"\")","v":0},{"$f":"IF(A19<>\"\",IFERROR(VLOOKUP(AK19,Tabelas!B:D,3,0),0),\"\")","v":0},{"$f":"IF(A19<>\"\",IFERROR(VLOOKUP(AL19,Tabelas!B:D,3,0),0),\"\")","v":0},{"$f":"IF(A19<>\"\",IFERROR(VLOOKUP(AM19,Tabelas!B:D,3,0),0),\"\")","v":0},{"$f":"IF(A19<>\"\",IFERROR(VLOOKUP(AN19,Tabelas!B:D,3,0),0),\"\")","v":0},{"$f":"IF(A19<>\"\",IFERROR(VLOOKUP(AO19,Tabelas!B:D,3,0),0),\"\")","v":0},{"$f":"IF(A19<>\"\",IFERROR(VLOOKUP(AP19,Tabelas!B:D,3,0),0),\"\")","v":0},{"$f":"IF(A19<>\"\",IFERROR(VLOOKUP(AQ19,Tabelas!B:D,3,0),0),\"\")","v":0},{"$f":"IF(A19<>\"\",IFERROR(VLOOKUP(AR19,Tabelas!B:D,3,0),0),\"\")","v":0},0,0,0,0,0,0,0,0]
["Fulano de Tal 12",1234567,123,"ENF","Ebserh",36,null,null,null,null,null,null,null,null,null,null,null,null,null,null,null,null,null,null,null,null,null,null,null,null,null,null,null,null,null,null,null,null,null,null,null,null,null,null,{"$f":"IF(A20<>\"\",IFERROR(VLOOKUP(N20,Tabelas!B:D,3,0),0),\"\")","v":0},{"$f":"IF(A20<>\"\",IFERROR(VLOOKUP(O20,Tabelas!B:D,3,0),0),\"\")","v":0},{"$f":"IF(A20<>\"\",IFERROR(VLOOKUP(P20,Tabelas!B:D,3,0),0),\"\")","v":0},{"$f":"IF(A20<>\"\",IFERROR(VLOOKUP(Q20,Tabelas!B:D,3,0),0),\"\")","v":0},{"$f":"IF(A20<>\"\",IFERROR(VLOOKUP(R20,Tabelas!B:D,3,0),0),\"\")","v":0},{"$f":"IF(A20<>\"\",IFERROR(VLOOKUP(S20,Tabelas!B:D,3,0),0),\"\")","v":0},{"$f":"IF(A20<>\"\",IFERROR(VLOOKUP(T20,Tabelas!B:D,3,0),0),\"\")","v":0},{"$f":"IF(A20<>\"\",IFERROR(VLOOKUP(U20,Tabelas!B:D,3,0),0),\"\")","v":0},{"$f":"IF(A20<>\"\",IFERROR(VLOOKUP(V20,Tabelas!B:D,3,0),0),\"\")","v":0},{"$f":"IF(A20<>\"\",IFERROR(VLOOKUP(W20,Tabelas!B:D,3,0),0),\"\")","v":0},{"$f":"IF(A20<>\"\",IFERROR(VLOOKUP(X20,Tabelas!B:D,3,0),0),\"\")","v":0},{"$f":"IF(A20<>\"\",IFERROR(VLOOKUP(Y20,Tabelas!B:D,3,0),0),\"\")","v":0},{"$f":"IF(A20<>\"\",IFERROR(VLOOKUP(Z20,Tabelas!B:D,3,0),0),\"\")","v":0},{"$f":"IF(A20<>\"\",IFERROR(VLOOKUP(AA20,Tabelas!B:D,3,0),0),\"\")","v":0},{"$f":"IF(A20<>\"\",IFERROR(VLOOKUP(AB20,Tabelas!B:D,3,0),0),\"\")","v":0},{"$f":"IF(A20<>\"\",IFERROR(VLOOKUP(AC20,Tabelas!B:D,3,0),0),\"\")","v":0},{"$f":"IF(A20<>\"\",IFERROR(VLOOKUP(AD20,Tabelas!B:D,3,0),0),\"\")","v":0},{"$f":"IF(A20<>\"\",IFERROR(VLOOKUP(AE20,Tabelas!B:D,3,0),0),\"\")","v":0},{"$f":"IF(A20<>\"\",IFERROR(VLOOKUP(AF20,Tabelas!B:D,3,0),0),\"\")","v":0},{"$f":"IF(A20<>\"\",IFERROR(VLOOKUP(AG20,Tabelas!B:D,3,0),0),\"\")","v":0},{"$f":"IF(A20<>\"\",IFERROR(VLOOKUP(AH20,Tabelas!B:D,3,0),0),\"\")","v":0},{"$f":"IF(A20<>\"\",IFERROR(VLOOKUP(AI20,Tabelas!B:D,3,0),0),\"\")","v":0},{"$f":"IF(A20<>\"\",IFERROR(VLOOKUP(AJ20,Tabelas!B:D,3,0),0),\"\")","v":0},{"$f":"IF(A20<>\"\",IFERROR(VLOOKUP(AK20,Tabelas!B:D,3,0),0),\"\")","v":0},{"$f":"IF(A20<>\"\",IFERROR(VLOOKUP(AL20,Tabelas!B:D,3,0),0),\"\")","v":0},{"$f":"IF(A20<>\"\",IFERROR(VLOOKUP(AM20,Tabelas!B:D,3,0),0),\"\")","v":0},{"$f":"IF(A20<>\"\",IFERROR(VLOOKUP(AN20,Tabelas!B:D,3,0),0),\"\")","v":0},{"$f":"IF(A20<>\"\",IFERROR(VLOOKUP(AO20,Tabelas!B:D,3,0),0),\"\")","v":0},{"$f":"IF(A20<>\"\",IFERROR(VLOOKUP(AP20,Tabelas!B:D,3,0),0),\"\")","v":0},{"$f":"IF(A20<>\"\",IFERROR(VLOOKUP(AQ20,Tabelas!B:D,3,0),0),\"\")","v":0},{"$f":"IF(A20<>\"\",IFERROR(VLOOKUP(AR20,Tabelas!B:D,3,0),0),\"\")","v":0},0,0,0,0,0,0,0,0]
["Fulano de Tal 13",1234567,123,"ENF","Ebserh",36,null,null,null,null,null,null,null,null,null,null,null,null,null,null,null,null,null,null,null,null,null,null,null,null,null,null,null,null,null,null,null,null,null,null,null,null,null,null,{"$f":"IF(A21<>\"\",IFERROR(VLOOKUP(N21,Tabelas!B:D,3,0),0),\"\")","v":0},{"$f":"IF(A21<>\"\",IFERROR(VLOOKUP(O21,Tabelas!B:D,3,0),0),\"\")","v":0},{"$f":"IF(A21<>\"\",IFERROR(VLOOKUP(P21,Tabelas!B:D,3,0),0),\"\")","v":0},{"$f":"IF(A21<>\"\",IFERROR(VLOOKUP(Q21,Tabelas!B:D,3,0),0),\"\")","v":0},{"$f":"IF(A21<>\"\",IFERROR(VLOOKUP(R21,Tabelas!B:D,3,0),0),\"\")","v":0},{"$f":"IF(A21<>\"\",IFERROR(VLOOKUP(S21,Tabelas!B:D,3,0),0),\"\")","v":0},{"$f":"IF(A21<>\"\",IFERROR(VLOOKUP(T21,Tabelas!B:D,3,0),0),\"\")","v":0},{"$f":"IF(A21<>\"\",IFERROR(VLOOKUP(U21,Tabelas!B:D,3,0),0),\"\")","v":0},{"$f":"IF(A21<>\"\",IFERROR(VLOOKUP(V21,Tabelas!B:D,3,0),0),\"\")","v":0},{"$f":"IF(A21<>\"\",IFERROR(VLOOKUP(W21,Tabelas!B:D,3,0),0),\"\")","v":0},{"$f":"IF(A21<>\"\",IFERROR(VLOOKUP(X21,Tabelas!B:D,3,0),0),\"\")","v":0},{"$f":"IF(A21<>\"\",IFERROR(VLOOKUP(Y21,Tabelas!B:D,3,0),0),\"\")","v":0},{"$f":"IF(A21<>\"\",IFERROR(VLOOKUP(Z21,Tabelas!B:D,3,0),0),\"\")","v":0},{"$f":"IF(A21<>\"\",IFERROR(VLOOKUP(AA21,Tabelas!B:D,3,0),0),\"\")","v":0},{"$f":"IF(A21<>\"\",IFERROR(VLOOKUP(AB21,Tabelas!B:D,3,0),0),\"\")","v":0},{"$f":"IF(A21<>\"\",IFERROR(VLOOKUP(AC21,Tabelas!B:D,3,0),0),\"\")","v":0},{"$f":"IF(A21<>\"\",IFERROR(VLOOKUP(AD21,Tabelas!B:D,3,0),0),\"\")","v":0},{"$f":"IF(A21<>\"\",IFERROR(VLOOKUP(AE21,Tabelas!B:D,3,0),0),\"\")","v":0},{"$f":"IF(A21<>\"\",IFERROR(VLOOKUP(AF21,Tabelas!B:D,3,0),0),\"\")","v":0},{"$f":"IF(A21<>\"\",IFERROR(VLOOKUP(AG21,Tabelas!B:D,3,0),0),\"\")","v":0},{"$f":"IF(A21<>\"\",IFERROR(VLOOKUP(AH21,Tabelas!B:D,3,0),0),\"\")","v":0},{"$f":"IF(A21<>\"\",IFERROR(VLOOKUP(AI21,Tabelas!B:D,3,0),0),\"\")","v":0},{"$f":"IF(A21<>\"\",IFERROR(VLOOKUP(AJ21,Tabelas!B:D,3,0),0),\"\")","v":0},{"$f":"IF(A21<>\"\",IFERROR(VLOOKUP(AK21,Tabelas!B:D,3,0),0),\"\")","v":0},{"$f":"IF(A21<>\"\",IFERROR(VLOOKUP(AL21,Tabelas!B:D,3,0),0),\"\")","v":0},{"$f":"IF(A21<>\"\",IFERROR(VLOOKUP(AM21,Tabelas!B:D,3,0),0),\"\")","v":0},{"$f":"IF(A21<>\"\",IFERROR(VLOOKUP(AN21,Tabelas!B:D,3,0),0),\"\")","v":0},{"$f":"IF(A21<>\"\",IFERROR(VLOOKUP(AO21,Tabelas!B:D,3,0),0),\"\")","v":0},{"$f":"IF(A21<>\"\",IFERROR(VLOOKUP(AP21,Tabelas!B:D,3,0),0),\"\")","v":0},{"$f":"IF(A21<>\"\",IFERROR(VLOOKUP(AQ21,Tabelas!B:D,3,0),0),\"\")","v":0},{"$f":"IF(A21<>\"\",IFERROR(VLOOKUP(AR21,Tabelas!B:D,3,0),0),\"\")","v":0},0,0,0,0,0,0,0,0]
["Fulano de Tal 14",1234567,123,"ENF","Ebserh",36,null,null,null,null,null,null,null,null,null,null,null,null,null,null,null,null,null,null,null,null,null,null,null,null,null,null,null,null,null,null,null,null,null,null,null,null,null,null,{"$f":"IF(A22<>\"\",IFERROR(VLOOKUP(N22,Tabelas!B:D,3,0),0),\"\")","v":0},{"$f":"IF(A22<>\"\",IFERROR(VLOOKUP(O22,Tabelas!B:D,3,0),0),\"\")","v":0},{"$f":"IF(A22<>\"\",IFERROR(VLOOKUP(P22,Tabelas!B:D,3,0),0),\"\")","v":0},{"$f":"IF(A22<>\"\",IFERROR(VLOOKUP(Q22,Tabelas!B:D,3,0),0),\"\")","v":0},{"$f":"IF(A22<>\"\",IFERROR(VLOOKUP(R22,Tabelas!B:D,3,0),0),\"\")","v":0},{"$f":"IF(A22<>\"\",IFERROR(VLOOKUP(S22,Tabelas!B:D,3,0),0),\"\")","v":0},{"$f":"IF(A22<>\"\",IFERROR(VLOOKUP(T22,Tabelas!B:D,3,0),0),\"\")","v":0},{"$f":"IF(A22<>\"\",IFERROR(VLOOKUP(U22,Tabelas!B:D,3,0),0),\"\")","v":0},{"$f":"IF(A22<>\"\",IFERROR(VLOOKUP(V22,Tabelas!B:D,3,0),0),\"\")","v":0},{"$f":"IF(A22<>\"\",IFERROR(VLOOKUP(W22,Tabelas!B:D,3,0),0),\"\")","v":0},{"$f":"IF(A22<>\"\",IFERROR(VLOOKUP(X22,Tabelas!B:D,3,0),0),\"\")","v":0},{"$f":"IF(A22<>\"\",IFERROR(VLOOKUP(Y22,Tabelas!B:D,3,0),0),\"\")","v":0},{"$f":"IF(A22<>\"\",IFERROR(VLOOKUP(Z22,Tabelas!B:D,3,0),0),\"\")","v":0},{"$f":"IF(A22<>\"\",IFERROR(VLOOKUP(AA22,Tabelas!B:D,3,0),0),\"\")","v":0},{"$f":"IF(A22<>\"\",IFERROR(VLOOKUP(AB22,Tabelas!B:D,3,0),0),\"\")","v":0},{"$f":"IF(A22<>\"\",IFERROR(VLOOKUP(AC22,Tabelas!B:D,3,0),0),\"\")","v":0},{"$f":"IF(A22<>\"\",IFERROR(VLOOKUP(AD22,Tabelas!B:D,3,0),0),\"\")","v":0},{"$f":"IF(A22<>\"\",IFERROR(VLOOKUP(AE22,Tabelas!B:D,3,0),0),\"\")","v":0},{"$f":"IF(A22<>\"\",IFERROR(VLOOKUP(AF22,Tabelas!B:D,3,0),0),\"\")","v":0},{"$f":"IF(A22<>\"\",IFERROR(VLOOKUP(AG22,Tabelas!B:D,3,0),0),\"\")","v":0},{"$f":"IF(A22<>\"\",IFERROR(VLOOKUP(AH22,Tabelas!B:D,3,0),0),\"\")","v":0},{"$f":"IF(A22<>\"\",IFERROR(VLOOKUP(AI22,Tabelas!B:D,3,0),0),\"\")","v":0},{"$f":"IF(A22<>\"\",IFERROR(VLOOKUP(AJ22,Tabelas!B:D,3,0),0),\"\")","v":0},{"$f":"IF(A22<>\"\",IFERROR(VLOOKUP(AK22,Tabelas!B:D,3,0),0),\"\")","v":0},{"$f":"IF(A22<>\"\",IFERROR(VLOOKUP(AL22,Tabelas!B:D,3,0),0),\"\")","v":0},{"$f":"IF(A22<>\"\",IFERROR(VLOOKUP(AM22,Tabelas!B:D,3,0),0),\"\")","v":0},{"$f":"IF(A22<>\"\",IFERROR(VLOOKUP(AN22,Tabelas!B:D,3,0),0),\"\")","v":0},{"$f":"IF(A22<>\"\",IFERROR(VLOOKUP(AO22,Tabelas!B:D,3,0),0),\"\")","v":0},{"$f":"IF(A22<>\"\",IFERROR(VLOOKUP(AP22,Tabelas!B:D,3,0),0),\"\")","v":0},{"$f":"IF(A22<>\"\",IFERROR(VLOOKUP(AQ22,Tabelas!B:D,3,0),0),\"\")","v":0},{"$f":"IF(A22<>\"\",IFERROR(VLOOKUP(AR22,Tabelas!B:D,3,0),0),\"\")","v":0},0,0,0,0,0,0,0,0]
["Fulano de Tal 15",1234567,123,"ENF","Ebserh",36,null,null,null,null,null,null,null,null,null,null,null,null,null,null,null,null,null,null,null,null,null,null,null,null,null,null,null,null,null,null,null,null,null,null,null,null,null,null,{"$f":"IF(A23<>\"\",IFERROR(VLOOKUP(N23,Tabelas!B:D,3,0),0),\"\")","v":0},{"$f":"IF(A23<>\"\",IFERROR(VLOOKUP(O23,Tabelas!B:D,3,0),0),\"\")","v":0},{"$f":"IF(A23<>\"\",IFERROR(VLOOKUP(P23,Tabelas!B:D,3,0),0),\"\")","v":0},{"$f":"IF(A23<>\"\",IFERROR(VLOOKUP(Q23,Tabelas!B:D,3,0),0),\"\")","v":0},{"$f":"IF(A23<>\"\",IFERROR(VLOOKUP(R23,Tabelas!B:D,3,0),0),\"\")","v":0},{"$f":"IF(A23<>\"\",IFERROR(VLOOKUP(S23,Tabelas!B:D,3,0),0),\"\")","v":0},{"$f":"IF(A23<>\"\",IFERROR(VLOOKUP(T23,Tabelas!B:D,3,0),0),\"\")","v":0},{"$f":"IF(A23<>\"\",IFERROR(VLOOKUP(U23,Tabelas!B:D,3,0),0),\"\")","v":0},{"$f":"IF(A23<>\"\",IFERROR(VLOOKUP(V23,Tabelas!B:D,3,0),0),\"\")","v":0},{"$f":"IF(A23<>\"\",IFERROR(VLOOKUP(W23,Tabelas!B:D,3,0),0),\"\")","v":0},{"$f":"IF(A23<>\"\",IFERROR(VLOOKUP(X23,Tabelas!B:D,3,0),0),\"\")","v":0},{"$f":"IF(A23<>\"\",IFERROR(VLOOKUP(Y23,Tabelas!B:D,3,0),0),\"\")","v":0},{"$f":"IF(A23<>\"\",IFERROR(VLOOKUP(Z23,Tabelas!B:D,3,0),0),\"\")","v":0},{"$f":"IF(A23<>\"\",IFERROR(VLOOKUP(AA23,Tabelas!B:D,3,0),0),\"\")","v":0},{"$f":"IF(A23<>\"\",IFERROR(VLOOKUP(AB23,Tabelas!B:D,3,0),0),\"\")","v":0},{"$f":"IF(A23<>\"\",IFERROR(VLOOKUP(AC23,Tabelas!B:D,3,0),0),\"\")","v":0},{"$f":"IF(A23<>\"\",IFERROR(VLOOKUP(AD23,Tabelas!B:D,3,0),0),\"\")","v":0},{"$f":"IF(A23<>\"\",IFERROR(VLOOKUP(AE23,Tabelas!B:D,3,0),0),\"\")","v":0},{"$f":"IF(A23<>\"\",IFERROR(VLOOKUP(AF23,Tabelas!B:D,3,0),0),\"\")","v":0},{"$f":"IF(A23<>\"\",IFERROR(VLOOKUP(AG23,Tabelas!B:D,3,0),0),\"\")","v":0},{"$f":"IF(A23<>\"\",IFERROR(VLOOKUP(AH23,Tabelas!B:D,3,0),0),\"\")","v":0},{"$f":"IF(A23<>\"\",IFERROR(VLOOKUP(AI23,Tabelas!B:D,3,0),0),\"\")","v":0},{"$f":"IF(A23<>\"\",IFERROR(VLOOKUP(AJ23,Tabelas!B:D,3,0),0),\"\")","v":0},{"$f":"IF(A23<>\"\",IFERROR(VLOOKUP(AK23,Tabelas!B:D,3,0),0),\"\")","v":0},{"$f":"IF(A23<>\"\",IFERROR(VLOOKUP(AL23,Tabelas!B:D,3,0),0),\"\")","v":0},{"$f":"IF(A23<>\"\",IFERROR(VLOOKUP(AM23,Tabelas!B:D,3,0),0),\"\")","v":0},{"$f":"IF(A23<>\"\",IFERROR(VLOOKUP(AN23,Tabelas!B:D,3,0),0),\"\")","v":0},{"$f":"IF(A23<>\"\",IFERROR(VLOOKUP(AO23,Tabelas!B:D,3,0),0),\"\")","v":0},{"$f":"IF(A23<>\"\",IFERROR(VLOOKUP(AP23,Tabelas!B:D,3,0),0),\"\")","v":0},{"$f":"IF(A23<>\"\",IFERROR(VLOOKUP(AQ23,Tabelas!B:D,3,0),0),\"\")","v":0},{"$f":"IF(A23<>\"\",IFERROR(VLOOKUP(AR23,Tabelas!B:D,3,0),0),\"\")","v":0},0,0,0,0,0,0,0,0]
["Fulano de Tal 16",1234567,123,"ENF","Ebserh",36,null,null,null,null,null,null,null,null,null,null,null,null,null,null,null,null,null,null,null,null,null,null,null,null,null,null,null,null,null,null,null,null,null,null,null,null,null,null,{"$f":"IF(A24<>\"\",IFERROR(VLOOKUP(N24,Tabelas!B:D,3,0),0),\"\")","v":0},{"$f":"IF(A24<>\"\",IFERROR(VLOOKUP(O24,Tabelas!B:D,3,0),0),\"\")","v":0},{"$f":"IF(A24<>\"\",IFERROR(VLOOKUP(P24,Tabelas!B:D,3,0),0),\"\")","v":0},{"$f":"IF(A24<>\"\",IFERROR(VLOOKUP(Q24,Tabelas!B:D,3,0),0),\"\")","v":0},{"$f":"IF(A24<>\"\",IFERROR(VLOOKUP(R24,Tabelas!B:D,3,0),0),\"\")","v":0},{"$f":"IF(A24<>\"\",IFERROR(VLOOKUP(S24,Tabelas!B:D,3,0),0),\"\")","v":0},{"$f":"IF(A24<>\"\",IFERROR(VLOOKUP(T24,Tabelas!B:D,3,0),0),\"\")","v":0},{"$f":"IF(A24<>\"\",IFERROR(VLOOKUP(U24,Tabelas!B:D,3,0),0),\"\")","v":0},{"$f":"IF(A24<>\"\",IFERROR(VLOOKUP(V24,Tabelas!B:D,3,0),0),\"\")","v":0},{"$f":"IF(A24<>\"\",IFERROR(VLOOKUP(W24,Tabelas!B:D,3,0),0),\"\")","v":0},{"$f":"IF(A24<>\"\",IFERROR(VLOOKUP(X24,Tabelas!B:D,3,0),0),\"\")","v":0},{"$f":"IF(A24<>\"\",IFERROR(VLOOKUP(Y24,Tabelas!B:D,3,0),0),\"\")","v":0},{"$f":"IF(A24<>\"\",IFERROR(VLOOKUP(Z24,Tabelas!B:D,3,0),0),\"\")","v":0},{"$f":"IF(A24<>\"\",IFERROR(VLOOKUP(AA24,Tabelas!B:D,3,0),0),\"\")","v":0},{"$f":"IF(A24<>\"\",IFERROR(VLOOKUP(AB24,Tabelas!B:D,3,0),0),\"\")","v":0},{"$f":"IF(A24<>\"\",IFERROR(VLOOKUP(AC24,Tabelas!B:D,3,0),0),\"\")","v":0},{"$f":"IF(A24<>\"\",IFERROR(VLOOKUP(AD24,Tabelas!B:D,3,0),0),\"\")","v":0},{"$f":"IF(A24<>\"\",IFERROR(VLOOKUP(AE24,Tabelas!B:D,3,0),0),\"\")","v":0},{"$f":"IF(A24<>\"\",IFERROR(VLOOKUP(AF24,Tabelas!B:D,3,0),0),\"\")","v":0},{"$f":"IF(A24<>\"\",IFERROR(VLOOKUP(AG24,Tabelas!B:D,3,0),0),\"\")","v":0},{"$f":"IF(A24<>\"\",IFERROR(VLOOKUP(AH24,Tabelas!B:D,3,0),0),\"\")","v":0},{"$f":"IF(A24<>\"\",IFERROR(VLOOKUP(AI24,Tabelas!B:D,3,0),0),\"\")","v":0},{"$f":"IF(A24<>\"\",IFERROR(VLOOKUP(AJ24,Tabelas!B:D,3,0),0),\"\")","v":0},{"$f":"IF(A24<>\"\",IFERROR(VLOOKUP(AK24,Tabelas!B:D,3,0),0),\"\")","v":0},{"$f":"IF(A24<>\"\",IFERROR(VLOOKUP(AL24,Tabelas!B:D,3,0),0),\"\")","v":0},{"$f":"IF(A24<>\"\",IFERROR(VLOOKUP(AM24,Tabelas!B:D,3,0),0),\"\")","v":0},{"$f":"IF(A24<>\"\",IFERROR(VLOOKUP(AN24,Tabelas!B:D,3,0),0),\"\")","v":0},{"$f":"IF(A24<>\"\",IFERROR(VLOOKUP(AO24,Tabelas!B:D,3,0),0),\"\")","v":0},{"$f":"IF(A24<>\"\",IFERROR(VLOOKUP(AP24,Tabelas!B:D,3,0),0),\"\")","v":0},{"$f":"IF(A24<>\"\",IFERROR(VLOOKUP(AQ24,Tabelas!B:D,3,0),0),\"\")","v":0},{"$f":"IF(A24<>\"\",IFERROR(VLOOKUP(AR24,Tabelas!B:D,3,0),0),\"\")","v":0},0,0,0,0,0,0,0,0]
["Fulano de Tal 17",1234567,123,"ENF","Ebserh",36,null,null,null,null,null,null,null,null,null,null,null,null,null,null,null,null,null,null,null,null,null,null,null,null,null,null,null,null,null,null,null,null,null,null,null,null,null,null,{"$f":"IF(A25<>\"\",IFERROR(VLOOKUP(N25,Tabelas!B:D,3,0),0),\"\")","v":0},{"$f":"IF(A25<>\"\",IFERROR(VLOOKUP(O25,Tabelas!B:D,3,0),0),\"\")","v":0},{"$f":"IF(A25<>\"\",IFERROR(VLOOKUP(P25,Tabelas!B:D,3,0),0),\"\")","v":0},{"$f":"IF(A25<>\"\",IFERROR(VLOOKUP(Q25,Tabelas!B:D,3,0),0),\"\")","v":0},{"$f":"IF(A25<>\"\",IFERROR(VLOOKUP(R25,Tabelas!B:D,3,0),0),\"\")","v":0},{"$f":"IF(A25<>\"\",IFERROR(VLOOKUP(S25,Tabelas!B:D,3,0),0),\"\")","v":0},{"$f":"IF(A25<>\"\",IFERROR(VLOOKUP(T25,Tabelas!B:D,3,0),0),\"\")","v":0},{"$f":"IF(A25<>\"\",IFERROR(VLOOKUP(U25,Tabelas!B:D,3,0),0),\"\")","v":0},{"$f":"IF(A25<>\"\",IFERROR(VLOOKUP(V25,Tabelas!B:D,3,0),0),\"\")","v":0},{"$f":"IF(A25<>\"\",IFERROR(VLOOKUP(W25,Tabelas!B:D,3,0),0),\"\")","v":0},{"$f":"IF(A25<>\"\",IFERROR(VLOOKUP(X25,Tabelas!B:D,3,0),0),\"\")","v":0},{"$f":"IF(A25<>\"\",IFERROR(VLOOKUP(Y25,Tabelas!B:D,3,0),0),\"\")","v":0},{"$f":"IF(A25<>\"\",IFERROR(VLOOKUP(Z25,Tabelas!B:D,3,0),0),\"\")","v":0},{"$f":"IF(A25<>\"\",IFERROR(VLOOKUP(AA25,Tabelas!B:D,3,0),0),\"\")","v":0},{"$f":"IF(A25<>\"\",IFERROR(VLOOKUP(AB25,Tabelas!B:D,3,0),0),\"\")","v":0},{"$f":"IF(A25<>\"\",IFERROR(VLOOKUP(AC25,Tabelas!B:D,3,0),0),\"\")","v":0},{"$f":"IF(A25<>\"\",IFERROR(VLOOKUP(AD25,Tabelas!B:D,3,0),0),\"\")","v":0},{"$f":"IF(A25<>\"\",IFERROR(VLOOKUP(AE25,Tabelas!B:D,3,0),0),\"\")","v":0},{"$f":"IF(A25<>\"\",IFERROR(VLOOKUP(AF25,Tabelas!B:D,3,0),0),\"\")","v":0},{"$f":"IF(A25<>\"\",IFERROR(VLOOKUP(AG25,Tabelas!B:D,3,0),0),\"\")","v":0},{"$f":"IF(A25<>\"\",IFERROR(VLOOKUP(AH25,Tabelas!B:D,3,0),0),\"\")","v":0},{"$f":"IF(A25<>\"\",IFERROR(VLOOKUP(AI25,Tabelas!B:D,3,0),0),\"\")","v":0},{"$f":"IF(A25<>\"\",IFERROR(VLOOKUP(AJ25,Tabelas!B:D,3,0),0),\"\")","v":0},{"$f":"IF(A25<>\"\",IFERROR(VLOOKUP(AK25,Tabelas!B:D,3,0),0),\"\")","v":0},{"$f":"IF(A25<>\"\",IFERROR(VLOOKUP(AL25,Tabelas!B:D,3,0),0),\"\")","v":0},{"$f":"IF(A25<>\"\",IFERROR(VLOOKUP(AM25,Tabelas!B:D,3,0),0),\"\")","v":0},{"$f":"IF(A25<>\"\",IFERROR(VLOOKUP(AN25,Tabelas!B:D,3,0),0),\"\")","v":0},{"$f":"IF(A25<>\"\",IFERROR(VLOOKUP(AO25,Tabelas!B:D,3,0),0),\"\")","v":0},{"$f":"IF(A25<>\"\",IFERROR(VLOOKUP(AP25,Tabelas!B:D,3,0),0),\"\")","v":0},{"$f":"IF(A25<>\"\",IFERROR(VLOOKUP(AQ25,Tabelas!B:D,3,0),0),\"\")","v":0},{"$f":"IF(A25<>\"\",IFERROR(VLOOKUP(AR25,Tabelas!B:D,3,0),0),\"\")","v":0},0,0,0,0,0,0,0,0]
["Fulano de Tal 18",1234567,123,"ENF","Ebserh",36,null,null,null,null,null,null,null,null,null,null,null,null,null,null,null,null,null,null,null,null,null,null,null,null,null,null,null,null,null,null,null,null,null,null,null,null,null,null,{"$f":"IF(A26<>\"\",IFERROR(VLOOKUP(N26,Tabelas!B:D,3,0),0),\"\")","v":0},{"$f":"IF(A26<>\"\",IFERROR(VLOOKUP(O26,Tabelas!B:D,3,0),0),\"\")","v":0},{"$f":"IF(A26<>\"\",IFERROR(VLOOKUP(P26,Tabelas!B:D,3,0),0),\"\")","v":0},{"$f":"IF(A26<>\"\",IFERROR(VLOOKUP(Q26,Tabelas!B:D,3,0),0),\"\")","v":0},{"$f":"IF(A26<>\"\",IFERROR(VLOOKUP(R26,Tabelas!B:D,3,0),0),\"\")","v":0},{"$f":"IF(A26<>\"\",IFERROR(VLOOKUP(S26,Tabelas!B:D,3,0),0),\"\")","v":0},{"$f":"IF(A26<>\"\",IFERROR(VLOOKUP(T26,Tabelas!B:D,3,0),0),\"\")","v":0},{"$f":"IF(A26<>\"\",IFERROR(VLOOKUP(U26,Tabelas!B:D,3,0),0),\"\")","v":0},{"$f":"IF(A26<>\"\",IFERROR(VLOOKUP(V26,Tabelas!B:D,3,0),0),\"\")","v":0},{"$f":"IF(A26<>\"\",IFERROR(VLOOKUP(W26,Tabelas!B:D,3,0),0),\"\")","v":0},{"$f":"IF(A26<>\"\",IFERROR(VLOOKUP(X26,Tabelas!B:D,3,0),0),\"\")","v":0},{"$f":"IF(A26<>\"\",IFERROR(VLOOKUP(Y26,Tabelas!B:D,3,0),0),\"\")","v":0},{"$f":"IF(A26<>\"\",IFERROR(VLOOKUP(Z26,Tabelas!B:D,3,0),0),\"\")","v":0},{"$f":"IF(A26<>\"\",IFERROR(VLOOKUP(AA26,Tabelas!B:D,3,0),0),\"\")","v":0},{"$f":"IF(A26<>\"\",IFERROR(VLOOKUP(AB26,Tabelas!B:D,3,0),0),\"\")","v":0},{"$f":"IF(A26<>\"\",IFERROR(VLOOKUP(AC26,Tabelas!B:D,3,0),0),\"\")","v":0},{"$f":"IF(A26<>\"\",IFERROR(VLOOKUP(AD26,Tabelas!B:D,3,0),0),\"\")","v":0},{"$f":"IF(A26<>\"\",IFERROR(VLOOKUP(AE26,Tabelas!B:D,3,0),0),\"\")","v":0},{"$f":"IF(A26<>\"\",IFERROR(VLOOKUP(AF26,Tabelas!B:D,3,0),0),\"\")","v":0},{"$f":"IF(A26<>\"\",IFERROR(VLOOKUP(AG26,Tabelas!B:D,3,0),0),\"\")","v":0},{"$f":"IF(A26<>\"\",IFERROR(VLOOKUP(AH26,Tabelas!B:D,3,0),0),\"\")","v":0},{"$f":"IF(A26<>\"\",IFERROR(VLOOKUP(AI26,Tabelas!B:D,3,0),0),\"\")","v":0},{"$f":"IF(A26<>\"\",IFERROR(VLOOKUP(AJ26,Tabelas!B:D,3,0),0),\"\")","v":0},{"$f":"IF(A26<>\"\",IFERROR(VLOOKUP(AK26,Tabelas!B:D,3,0),0),\"\")","v":0},{"$f":"IF(A26<>\"\",IFERROR(VLOOKUP(AL26,Tabelas!B:D,3,0),0),\"\")","v":0},{"$f":"IF(A26<>\"\",IFERROR(VLOOKUP(AM26,Tabelas!B:D,3,0),0),\"\")","v":0},{"$f":"IF(A26<>\"\",IFERROR(VLOOKUP(AN26,Tabelas!B:D,3,0),0),\"\")","v":0},{"$f":"IF(A26<>\"\",IFERROR(VLOOKUP(AO26,Tabelas!B:D,3,0),0),\"\")","v":0},{"$f":"IF(A26<>\"\",IFERROR(VLOOKUP(AP26,Tabelas!B:D,3,0),0),\"\")","v":0},{"$f":"IF(A26<>\"\",IFERROR(VLOOKUP(AQ26,Tabelas!B:D,3,0),0),\"\")","v":0},{"$f":"IF(A26<>\"\",IFERROR(VLOOKUP(AR26,Tabelas!B:D,3,0),0),\"\")","v":0},0,0,0,0,0,0,0,0]
["Fulano de Tal 19",1234567,123,"ENF","Ebserh",36,null,null,null,null,null,null,null,null,null,null,null,null,null,null,null,null,null,null,null,null,null,null,null,null,null,null,null,null,null,null,null,null,null,null,null,null,null,null,{"$f":"IF(A27<>\"\",IFERROR(VLOOKUP(N27,Tabelas!B:D,3,0),0),\"\")","v":0},{"$f":"IF(A27<>\"\",IFERROR(VLOOKUP(O27,Tabelas!B:D,3,0),0),\"\")","v":0},{"$f":"IF(A27<>\"\",IFERROR(VLOOKUP(P27,Tabelas!B:D,3,0),0),\"\")","v":0},{"$f":"IF(A27<>\"\",IFERROR(VLOOKUP(Q27,Tabelas!B:D,3,0),0),\"\")","v":0},{"$f":"IF(A27<>\"\",IFERROR(VLOOKUP(R27,Tabelas!B:D,3,0),0),\"\")","v":0},{"$f":"IF(A27<>\"\",IFERROR(VLOOKUP(S27,Tabelas!B:D,3,0),0),\"\")","v":0},{"$f":"IF(A27<>\"\",IFERROR(VLOOKUP(T27,Tabelas!B:D,3,0),0),\"\")","v":0},{"$f":"IF(A27<>\"\",IFERROR(VLOOKUP(U27,Tabelas!B:D,3,0),0),\"\")","v":0},{"$f":"IF(A27<>\"\",IFERROR(VLOOKUP(V27,Tabelas!B:D,3,0),0),\"\")","v":0},{"$f":"IF(A27<>\"\",IFERROR(VLOOKUP(W27,Tabelas!B:D,3,0),0),\"\")","v":0},{"$f":"IF(A27<>\"\",IFERROR(VLOOKUP(X27,Tabelas!B:D,3,0),0),\"\")","v":0},{"$f":"IF(A27<>\"\",IFERROR(VLOOKUP(Y27,Tabelas!B:D,3,0),0),\"\")","v":0},{"$f":"IF(A27<>\"\",IFERROR(VLOOKUP(Z27,Tabelas!B:D,3,0),0),\"\")","v":0},{"$f":"IF(A27<>\"\",IFERROR(VLOOKUP(AA27,Tabelas!B:D,3,0),0),\"\")","v":0},{"$f":"IF(A27<>\"\",IFERROR(VLOOKUP(AB27,Tabelas!B:D,3,0),0),\"\")","v":0},{"$f":"IF(A27<>\"\",IFERROR(VLOOKUP(AC27,Tabelas!B:D,3,0),0),\"\")","v":0},{"$f":"IF(A27<>\"\",IFERROR(VLOOKUP(AD27,Tabelas!B:D,3,0),0),\"\")","v":0},{"$f":"IF(A27<>\"\",IFERROR(VLOOKUP(AE27,Tabelas!B:D,3,0),0),\"\")","v":0},{"$f":"IF(A27<>\"\",IFERROR(VLOOKUP(AF27,Tabelas!B:D,3,0),0),\"\")","v":0},{"$f":"IF(A27<>\"\",IFERROR(VLOOKUP(AG27,Tabelas!B:D,3,0),0),\"\")","v":0},{"$f":"IF(A27<>\"\",IFERROR(VLOOKUP(AH27,Tabelas!B:D,3,0),0),\"\")","v":0},{"$f":"IF(A27<>\"\",IFERROR(VLOOKUP(AI27,Tabelas!B:D,3,0),0),\"\")","v":0},{"$f":"IF(A27<>\"\",IFERROR(VLOOKUP(AJ27,Tabelas!B:D,3,0),0),\"\")","v":0},{"$f":"IF(A27<>\"\",IFERROR(VLOOKUP(AK27,Tabelas!B:D,3,0),0),\"\")","v":0},{"$f":"IF(A27<>\"\",IFERROR(VLOOKUP(AL27,Tabelas!B:D,3,0),0),\"\")","v":0},{"$f":"IF(A27<>\"\",IFERROR(VLOOKUP(AM27,Tabelas!B:D,3,0),0),\"\")","v":0},{"$f":"IF(A27<>\"\",IFERROR(VLOOKUP(AN27,Tabelas!B:D,3,0),0),\"\")","v":0},{"$f":"IF(A27<>\"\",IFERROR(VLOOKUP(AO27,Tabelas!B:D,3,0),0),\"\")","v":0},{"$f":"IF(A27<>\"\",IFERROR(VLOOKUP(AP27,Tabelas!B:D,3,0),0),\"\")","v":0},{"$f":"IF(A27<>\"\",IFERROR(VLOOKUP(AQ27,Tabelas!B:D,3,0),0),\"\")","v":0},{"$f":"IF(A27<>\"\",IFERROR(VLOOKUP(AR27,Tabelas!B:D,3,0),0),\"\")","v":0},0,0,0,0,0,0,0,0]
["Fulano de Tal 20",1234567,123,"ENF","Ebserh",36,null,null,null,null,null,null,null,null,null,null,null,null,null,null,null,null,null,null,null,null,null,null,null,null,null,null,null,null,null,null,null,null,null,null,null,null,null,null,{"$f":"IF(A28<>\"\",IFERROR(VLOOKUP(N28,Tabelas!B:D,3,0),0),\"\")","v":0},{"$f":"IF(A28<>\"\",IFERROR(VLOOKUP(O28,Tabelas!B:D,3,0),0),\"\")","v":0},{"$f":"IF(A28<>\"\",IFERROR(VLOOKUP(P28,Tabelas!B:D,3,0),0),\"\")","v":0},{"$f":"IF(A28<>\"\",IFERROR(VLOOKUP(Q28,Tabelas!B:D,3,0),0),\"\")","v":0},{"$f":"IF(A28<>\"\",IFERROR(VLOOKUP(R28,Tabelas!B:D,3,0),0),\"\")","v":0},{"$f":"IF(A28<>\"\",IFERROR(VLOOKUP(S28,Tabelas!B:D,3,0),0),\"\")","v":0},{"$f":"IF(A28<>\"\",IFERROR(VLOOKUP(T28,Tabelas!B:D,3,0),0),\"\")","v":0},{"$f":"IF(A28<>\"\",IFERROR(VLOOKUP(U28,Tabelas!B:D,3,0),0),\"\")","v":0},{"$f":"IF(A28<>\"\",IFERROR(VLOOKUP(V28,Tabelas!B:D,3,0),0),\"\")","v":0},{"$f":"IF(A28<>\"\",IFERROR(VLOOKUP(W28,Tabelas!B:D,3,0),0),\"\")","v":0},{"$f":"IF(A28<>\"\",IFERROR(VLOOKUP(X28,Tabelas!B:D,3,0),0),\"\")","v":0},{"$f":"IF(A28<>\"\",IFERROR(VLOOKUP(Y28,Tabelas!B:D,3,0),0),\"\")","v":0},{"$f":"IF(A28<>\"\",IFERROR(VLOOKUP(Z28,Tabelas!B:D,3,0),0),\"\")","v":0},{"$f":"IF(A28<>\"\",IFERROR(VLOOKUP(AA28,Tabelas!B:D,3,0),0),\"\")","v":0},{"$f":"IF(A28<>\"\",IFERROR(VLOOKUP(AB28,Tabelas!B:D,3,0),0),\"\")","v":0},{"$f":"IF(A28<>\"\",IFERROR(VLOOKUP(AC28,Tabelas!B:D,3,0),0),\"\")","v":0},{"$f":"IF(A28<>\"\",IFERROR(VLOOKUP(AD28,Tabelas!B:D,3,0),0),\"\")","v":0},{"$f":"IF(A28<>\"\",IFERROR(VLOOKUP(AE28,Tabelas!B:D,3,0),0),\"\")","v":0},{"$f":"IF(A28<>\"\",IFERROR(VLOOKUP(AF28,Tabelas!B:D,3,0),0),\"\")","v":0},{"$f":"IF(A28<>\"\",IFERROR(VLOOKUP(AG28,Tabelas!B:D,3,0),0),\"\")","v":0},{"$f":"IF(A28<>\"\",IFERROR(VLOOKUP(AH28,Tabelas!B:D,3,0),0),\"\")","v":0},{"$f":"IF(A28<>\"\",IFERROR(VLOOKUP(AI28,Tabelas!B:D,3,0),0),\"\")","v":0},{"$f":"IF(A28<>\"\",IFERROR(VLOOKUP(AJ28,Tabelas!B:D,3,0),0),\"\")","v":0},{"$f":"IF(A28<>\"\",IFERROR(VLOOKUP(AK28,Tabelas!B:D,3,0),0),\"\")","v":0},{"$f":"IF(A28<>\"\",IFERROR(VLOOKUP(AL28,Tabelas!B:D,3,0),0),\"\")","v":0},{"$f":"IF(A28<>\"\",IFERROR(VLOOKUP(AM28,Tabelas!B:D,3,0),0),\"\")","v":0},{"$f":"IF(A28<>\"\",IFERROR(VLOOKUP(AN28,Tabelas!B:D,3,0),0),\"\")","v":0},{"$f":"IF(A28<>\"\",IFERROR(VLOOKUP(AO28,Tabelas!B:D,3,0),0),\"\")","v":0},{"$f":"IF(A28<>\"\",IFERROR(VLOOKUP(AP28,Tabelas!B:D,3,0),0),\"\")","v":0},{"$f":"IF(A28<>\"\",IFERROR(VLOOKUP(AQ28,Tabelas!B:D,3,0),0),\"\")","v":0},{"$f":"IF(A28<>\"\",IFERROR(VLOOKUP(AR28,Tabelas!B:D,3,0),0),\"\")","v":0},0,0,0,0,0,0,0,0]
["Fulano de Tal 21",1234567,123,"ENF","Ebserh",36,null,null,null,null,null,null,null,null,null,null,null,null,null,null,null,null,null,null,null,null,null,null,null,null,null,null,null,null,null,null,null,null,null,null,null,null,null,null,{"$f":"IF(A29<>\"\",IFERROR(VLOOKUP(N29,Tabelas!B:D,3,0),0),\"\")","v":0},{"$f":"IF(A29<>\"\",IFERROR(VLOOKUP(O29,Tabelas!B:D,3,0),0),\"\")","v":0},{"$f":"IF(A29<>\"\",IFERROR(VLOOKUP(P29,Tabelas!B:D,3,0),0),\"\")","v":0},{"$f":"IF(A29<>\"\",IFERROR(VLOOKUP(Q29,Tabelas!B:D,3,0),0),\"\")","v":0},{"$f":"IF(A29<>\"\",IFERROR(VLOOKUP(R29,Tabelas!B:D,3,0),0),\"\")","v":0},{"$f":"IF(A29<>\"\",IFERROR(VLOOKUP(S29,Tabelas!B:D,3,0),0),\"\")","v":0},{"$f":"IF(A29<>\"\",IFERROR(VLOOKUP(T29,Tabelas!B:D,3,0),0),\"\")","v":0},{"$f":"IF(A29<>\"\",IFERROR(VLOOKUP(U29,Tabelas!B:D,3,0),0),\"\")","v":0},{"$f":"IF(A29<>\"\",IFERROR(VLOOKUP(V29,Tabelas!B:D,3,0),0),\"\")","v":0},{"$f":"IF(A29<>\"\",IFERROR(VLOOKUP(W29,Tabelas!B:D,3,0),0),\"\")","v":0},{"$f":"IF(A29<>\"\",IFERROR(VLOOKUP(X29,Tabelas!B:D,3,0),0),\"\")","v":0},{"$f":"IF(A29<>\"\",IFERROR(VLOOKUP(Y29,Tabelas!B:D,3,0),0),\"\")","v":0},{"$f":"IF(A29<>\"\",IFERROR(VLOOKUP(Z29,Tabelas!B:D,3,0),0),\"\")","v":0},{"$f":"IF(A29<>\"\",IFERROR(VLOOKUP(AA29,Tabelas!B:D,3,0),0),\"\")","v":0},{"$f":"IF(A29<>\"\",IFERROR(VLOOKUP(AB29,Tabelas!B:D,3,0),0),\"\")","v":0},{"$f":"IF(A29<>\"\",IFERROR(VLOOKUP(AC29,Tabelas!B:D,3,0),0),\"\")","v":0},{"$f":"IF(A29<>\"\",IFERROR(VLOOKUP(AD29,Tabelas!B:D,3,0),0),\"\")","v":0},{"$f":"IF(A29<>\"\",IFERROR(VLOOKUP(AE29,Tabelas!B:D,3,0),0),\"\")","v":0},{"$f":"IF(A29<>\"\",IFERROR(VLOOKUP(AF29,Tabelas!B:D,3,0),0),\"\")","v":0},{"$f":"IF(A29<>\"\",IFERROR(VLOOKUP(AG29,Tabelas!B:D,3,0),0),\"\")","v":0},{"$f":"IF(A29<>\"\",IFERROR(VLOOKUP(AH29,Tabelas!B:D,3,0),0),\"\")","v":0},{"$f":"IF(A29<>\"\",IFERROR(VLOOKUP(AI29,Tabelas!B:D,3,0),0),\"\")","v":0},{"$f":"IF(A29<>\"\",IFERROR(VLOOKUP(AJ29,Tabelas!B:D,3,0),0),\"\")","v":0},{"$f":"IF(A29<>\"\",IFERROR(VLOOKUP(AK29,Tabelas!B:D,3,0),0),\"\")","v":0},{"$f":"IF(A29<>\"\",IFERROR(VLOOKUP(AL29,Tabelas!B:D,3,0),0),\"\")","v":0},{"$f":"IF(A29<>\"\",IFERROR(VLOOKUP(AM29,Tabelas!B:D,3,0),0),\"\")","v":0},{"$f":"IF(A29<>\"\",IFERROR(VLOOKUP(AN29,Tabelas!B:D,3,0),0),\"\")","v":0},{"$f":"IF(A29<>\"\",IFERROR(VLOOKUP(AO29,Tabelas!B:D,3,0),0),\"\")","v":0},{"$f":"IF(A29<>\"\",IFERROR(VLOOKUP(AP29,Tabelas!B:D,3,0),0),\"\")","v":0},{"$f":"IF(A29<>\"\",IFERROR(VLOOKUP(AQ29,Tabelas!B:D,3,0),0),\"\")","v":0},{"$f":"IF(A29<>\"\",IFERROR(VLOOKUP(AR29,Tabelas!B:D,3,0),0),\"\")","v":0},0,0,0,0,0,0,0,0]
["Fulano de Tal 22",1234567,123,"ENF","Ebserh",36,null,null,null,null,null,null,null,null,null,null,null,null,null,null,null,null,null,null,null,null,null,null,null,null,null,null,null,null,null,null,null,null,null,null,null,null,null,null,{"$f":"IF(A30<>\"\",IFERROR(VLOOKUP(N30,Tabelas!B:D,3,0),0),\"\")","v":0},{"$f":"IF(A30<>\"\",IFERROR(VLOOKUP(O30,Tabelas!B:D,3,0),0),\"\")","v":0},{"$f":"IF(A30<>\"\",IFERROR(VLOOKUP(P30,Tabelas!B:D,3,0),0),\"\")","v":0},{"$f":"IF(A30<>\"\",IFERROR(VLOOKUP(Q30,Tabelas!B:D,3,0),0),\"\")","v":0},{"$f":"IF(A30<>\"\",IFERROR(VLOOKUP(R30,Tabelas!B:D,3,0),0),\"\")","v":0},{"$f":"IF(A30<>\"\",IFERROR(VLOOKUP(S30,Tabelas!B:D,3,0),0),\"\")","v":0},{"$f":"IF(A30<>\"\",IFERROR(VLOOKUP(T30,Tabelas!B:D,3,0),0),\"\")","v":0},{"$f":"IF(A30<>\"\",IFERROR(VLOOKUP(U30,Tabelas!B:D,3,0),0),\"\")","v":0},{"$f":"IF(A30<>\"\",IFERROR(VLOOKUP(V30,Tabelas!B:D,3,0),0),\"\")","v":0},{"$f":"IF(A30<>\"\",IFERROR(VLOOKUP(W30,Tabelas!B:D,3,0),0),\"\")","v":0},{"$f":"IF(A30<>\"\",IFERROR(VLOOKUP(X30,Tabelas!B:D,3,0),0),\"\")","v":0},{"$f":"IF(A30<>\"\",IFERROR(VLOOKUP(Y30,Tabelas!B:D,3,0),0),\"\")","v":0},{"$f":"IF(A30<>\"\",IFERROR(VLOOKUP(Z30,Tabelas!B:D,3,0),0),\"\")","v":0},{"$f":"IF(A30<>\"\",IFERROR(VLOOKUP(AA30,Tabelas!B:D,3,0),0),\"\")","v":0},{"$f":"IF(A30<>\"\",IFERROR(VLOOKUP(AB30,Tabelas!B:D,3,0),0),\"\")","v":0},{"$f":"IF(A30<>\"\",IFERROR(VLOOKUP(AC30,Tabelas!B:D,3,0),0),\"\")","v":0},{"$f":"IF(A30<>\"\",IFERROR(VLOOKUP(AD30,Tabelas!B:D,3,0),0),\"\")","v":0},{"$f":"IF(A30<>\"\",IFERROR(VLOOKUP(AE30,Tabelas!B:D,3,0),0),\"\")","v":0},{"$f":"IF(A30<>\"\",IFERROR(VLOOKUP(AF30,Tabelas!B:D,3,0),0),\"\")","v":0},{"$f":"IF(A30<>\"\",IFERROR(VLOOKUP(AG30,Tabelas!B:D,3,0),0),\"\")","v":0},{"$f":"IF(A30<>\"\",IFERROR(VLOOKUP(AH30,Tabelas!B:D,3,0),0),\"\")","v":0},{"$f":"IF(A30<>\"\",IFERROR(VLOOKUP(AI30,Tabelas!B:D,3,0),0),\"\")","v":0},{"$f":"IF(A30<>\"\",IFERROR(VLOOKUP(AJ30,Tabelas!B:D,3,0),0),\"\")","v":0},{"$f":"IF(A30<>\"\",IFERROR(VLOOKUP(AK30,Tabelas!B:D,3,0),0),\"\")","v":0},{"$f":"IF(A30<>\"\",IFERROR(VLOOKUP(AL30,Tabelas!B:D,3,0),0),\"\")","v":0},{"$f":"IF(A30<>\"\",IFERROR(VLOOKUP(AM30,Tabelas!B:D,3,0),0),\"\")","v":0},{"$f":"IF(A30<>\"\",IFERROR(VLOOKUP(AN30,Tabelas!B:D,3,0),0),\"\")","v":0},{"$f":"IF(A30<>\"\",IFERROR(VLOOKUP(AO30,Tabelas!B:D,3,0),0),\"\")","v":0},{"$f":"IF(A30<>\"\",IFERROR(VLOOKUP(AP30,Tabelas!B:D,3,0),0),\"\")","v":0},{"$f":"IF(A30<>\"\",IFERROR(VLOOKUP(AQ30,Tabelas!B:D,3,0),0),\"\")","v":0},{"$f":"IF(A30<>\"\",IFERROR(VLOOKUP(AR30,Tabelas!B:D,3,0),0),\"\")","v":0},0,0,0,0,0,0,0,0]
["Fulano de Tal 23",1234567,123,"ENF","Ebserh",36,null,null,null,null,null,null,null,null,null,null,null,null,null,null,null,null,null,null,null,null,null,null,null,null,null,null,null,null,null,null,null,null,null,null,null,null,null,null,{"$f":"IF(A31<>\"\",IFERROR(VLOOKUP(N31,Tabelas!B:D,3,0),0),\"\")","v":0},{"$f":"IF(A31<>\"\",IFERROR(VLOOKUP(O31,Tabelas!B:D,3,0),0),\"\")","v":0},{"$f":"IF(A31<>\"\",IFERROR(VLOOKUP(P31,Tabelas!B:D,3,0),0),\"\")","v":0},{"$f":"IF(A31<>\"\",IFERROR(VLOOKUP(Q31,Tabelas!B:D,3,0),0),\"\")","v":0},{"$f":"IF(A31<>\"\",IFERROR(VLOOKUP(R31,Tabelas!B:D,3,0),0),\"\")","v":0},{"$f":"IF(A31<>\"\",IFERROR(VLOOKUP(S31,Tabelas!B:D,3,0),0),\"\")","v":0},{"$f":"IF(A31<>\"\",IFERROR(VLOOKUP(T31,Tabelas!B:D,3,0),0),\"\")","v":0},{"$f":"IF(A31<>\"\",IFERROR(VLOOKUP(U31,Tabelas!B:D,3,0),0),\"\")","v":0},{"$f":"IF(A31<>\"\",IFERROR(VLOOKUP(V31,Tabelas!B:D,3,0),0),\"\")","v":0},{"$f":"IF(A31<>\"\",IFERROR(VLOOKUP(W31,Tabelas!B:D,3,0),0),\"\")","v":0},{"$f":"IF(A31<>\"\",IFERROR(VLOOKUP(X31,Tabelas!B:D,3,0),0),\"\")","v":0},{"$f":"IF(A31<>\"\",IFERROR(VLOOKUP(Y31,Tabelas!B:D,3,0),0),\"\")","v":0},{"$f":"IF(A31<>\"\",IFERROR(VLOOKUP(Z31,Tabelas!B:D,3,0),0),\"\")","v":0},{"$f":"IF(A31<>\"\",IFERROR(VLOOKUP(AA31,Tabelas!B:D,3,0),0),\"\")","v":0},{"$f":"IF(A31<>\"\",IFERROR(VLOOKUP(AB31,Tabelas!B:D,3,0),0),\"\")","v":0},{"$f":"IF(A31<>\"\",IFERROR(VLOOKUP(AC31,Tabelas!B:D,3,0),0),\"\")","v":0},{"$f":"IF(A31<>\"\",IFERROR(VLOOKUP(AD31,Tabelas!B:D,3,0),0),\"\")","v":0},{"$f":"IF(A31<>\"\",IFERROR(VLOOKUP(AE31,Tabelas!B:D,3,0),0),\"\")","v":0},{"$f":"IF(A31<>\"\",IFERROR(VLOOKUP(AF31,Tabelas!B:D,3,0),0),\"\")","v":0},{"$f":"IF(A31<>\"\",IFERROR(VLOOKUP(AG31,Tabelas!B:D,3,0),0),\"\")","v":0},{"$f":"IF(A31<>\"\",IFERROR(VLOOKUP(AH31,Tabelas!B:D,3,0),0),\"\")","v":0},{"$f":"IF(A31<>\"\",IFERROR(VLOOKUP(AI31,Tabelas!B:D,3,0),0),\"\")","v":0},{"$f":"IF(A31<>\"\",IFERROR(VLOOKUP(AJ31,Tabelas!B:D,3,0),0),\"\")","v":0},{"$f":"IF(A31<>\"\",IFERROR(VLOOKUP(AK31,Tabelas!B:D,3,0),0),\"\")","v":0},{"$f":"IF(A31<>\"\",IFERROR(VLOOKUP(AL31,Tabelas!B:D,3,0),0),\"\")","v":0},{"$f":"IF(A31<>\"\",IFERROR(VLOOKUP(AM31,Tabelas!B:D,3,0),0),\"\")","v":0},{"$f":"IF(A31<>\"\",IFERROR(VLOOKUP(AN31,Tabelas!B:D,3,0),0),\"\")","v":0},{"$f":"IF(A31<>\"\",IFERROR(VLOOKUP(AO31,Tabelas!B:D,3,0),0),\"\")","v":0},{"$f":"IF(A31<>\"\",IFERROR(VLOOKUP(AP31,Tabelas!B:D,3,0),0),\"\")","v":0},{"$f":"IF(A31<>\"\",IFERROR(VLOOKUP(AQ31,Tabelas!B:D,3,0),0),\"\")","v":0},{"$f":"IF(A31<>\"\",IFERROR(VLOOKUP(AR31,Tabelas!B:D,3,0),0),\"\")","v":0},0,0,0,0,0,0,0,0]
["Fulano de Tal 24",1234567,123,"ENF","Ebserh",36,null,null,null,null,null,null,null,null,null,null,null,null,null,null,null,null,null,null,null,null,null,null,null,null,null,null,null,null,null,null,null,null,null,null,null,null,null,null,{"$f":"IF(A32<>\"\",IFERROR(VLOOKUP(N32,Tabelas!B:D,3,0),0),\"\")","v":0},{"$f":"IF(A32<>\"\",IFERROR(VLOOKUP(O32,Tabelas!B:D,3,0),0),\"\")","v":0},{"$f":"IF(A32<>\"\",IFERROR(VLOOKUP(P32,Tabelas!B:D,3,0),0),\"\")","v":0},{"$f":"IF(A32<>\"\",IFERROR(VLOOKUP(Q32,Tabelas!B:D,3,0),0),\"\")","v":0},{"$f":"IF(A32<>\"\",IFERROR(VLOOKUP(R32,Tabelas!B:D,3,0),0),\"\")","v":0},{"$f":"IF(A32<>\"\",IFERROR(VLOOKUP(S32,Tabelas!B:D,3,0),0),\"\")","v":0},{"$f":"IF(A32<>\"\",IFERROR(VLOOKUP(T32,Tabelas!B:D,3,0),0),\"\")","v":0},{"$f":"IF(A32<>\"\",IFERROR(VLOOKUP(U32,Tabelas!B:D,3,0),0),\"\")","v":0},{"$f":"IF(A32<>\"\",IFERROR(VLOOKUP(V32,Tabelas!B:D,3,0),0),\"\")","v":0},{"$f":"IF(A32<>\"\",IFERROR(VLOOKUP(W32,Tabelas!B:D,3,0),0),\"\")","v":0},{"$f":"IF(A32<>\"\",IFERROR(VLOOKUP(X32,Tabelas!B:D,3,0),0),\"\")","v":0},{"$f":"IF(A32<>\"\",IFERROR(VLOOKUP(Y32,Tabelas!B:D,3,0),0),\"\")","v":0},{"$f":"IF(A32<>\"\",IFERROR(VLOOKUP(Z32,Tabelas!B:D,3,0),0),\"\")","v":0},{"$f":"IF(A32<>\"\",IFERROR(VLOOKUP(AA32,Tabelas!B:D,3,0),0),\"\")","v":0},{"$f":"IF(A32<>\"\",IFERROR(VLOOKUP(AB32,Tabelas!B:D,3,0),0),\"\")","v":0},{"$f":"IF(A32<>\"\",IFERROR(VLOOKUP(AC32,Tabelas!B:D,3,0),0),\"\")","v":0},{"$f":"IF(A32<>\"\",IFERROR(VLOOKUP(AD32,Tabelas!B:D,3,0),0),\"\")","v":0},{"$f":"IF(A32<>\"\",IFERROR(VLOOKUP(AE32,Tabelas!B:D,3,0),0),\"\")","v":0},{"$f":"IF(A32<>\"\",IFERROR(VLOOKUP(AF32,Tabelas!B:D,3,0),0),\"\")","v":0},{"$f":"IF(A32<>\"\",IFERROR(VLOOKUP(AG32,Tabelas!B:D,3,0),0),\"\")","v":0},{"$f":"IF(A32<>\"\",IFERROR(VLOOKUP(AH32,Tabelas!B:D,3,0),0),\"\")","v":0},{"$f":"IF(A32<>\"\",IFERROR(VLOOKUP(AI32,Tabelas!B:D,3,0),0),\"\")","v":0},{"$f":"IF(A32<>\"\",IFERROR(VLOOKUP(AJ32,Tabelas!B:D,3,0),0),\"\")","v":0},{"$f":"IF(A32<>\"\",IFERROR(VLOOKUP(AK32,Tabelas!B:D,3,0),0),\"\")","v":0},{"$f":"IF(A32<>\"\",IFERROR(VLOOKUP(AL32,Tabelas!B:D,3,0),0),\"\")","v":0},{"$f":"IF(A32<>\"\",IFERROR(VLOOKUP(AM32,Tabelas!B:D,3,0),0),\"\")","v":0},{"$f":"IF(A32<>\"\",IFERROR(VLOOKUP(AN32,Tabelas!B:D,3,0),0),\"\")","v":0},{"$f":"IF(A32<>\"\",IFERROR(VLOOKUP(AO32,Tabelas!B:D,3,0),0),\"\")","v":0},{"$f":"IF(A32<>\"\",IFERROR(VLOOKUP(AP32,Tabelas!B:D,3,0),0),\"\")","v":0},{"$f":"IF(A32<>\"\",IFERROR(VLOOKUP(AQ32,Tabelas!B:D,3,0),0),\"\")","v":0},{"$f":"IF(A32<>\"\",IFERROR(VLOOKUP(AR32,Tabelas!B:D,3,0),0),\"\")","v":0},0,0,0,0,0,0,0,0]
["Fulano de Tal 25",1234567,123,"ENF","Ebserh",36,null,null,null,null,null,null,null,null,null,null,null,null,null,null,null,null,null,null,null,null,null,null,null,null,null,null,null,null,null,null,null,null,null,null,null,null,null,null,{"$f":"IF(A33<>\"\",IFERROR(VLOOKUP(N33,Tabelas!B:D,3,0),0),\"\")","v":0},{"$f":"IF(A33<>\"\",IFERROR(VLOOKUP(O33,Tabelas!B:D,3,0),0),\"\")","v":0},{"$f":"IF(A33<>\"\",IFERROR(VLOOKUP(P33,Tabelas!B:D,3,0),0),\"\")","v":0},{"$f":"IF(A33<>\"\",IFERROR(VLOOKUP(Q33,Tabelas!B:D,3,0),0),\"\")","v":0},{"$f":"IF(A33<>\"\",IFERROR(VLOOKUP(R33,Tabelas!B:D,3,0),0),\"\")","v":0},{"$f":"IF(A33<>\"\",IFERROR(VLOOKUP(S33,Tabelas!B:D,3,0),0),\"\")","v":0},{"$f":"IF(A33<>\"\",IFERROR(VLOOKUP(T33,Tabelas!B:D,3,0),0),\"\")","v":0},{"$f":"IF(A33<>\"\",IFERROR(VLOOKUP(U33,Tabelas!B:D,3,0),0),\"\")","v":0},{"$f":"IF(A33<>\"\",IFERROR(VLOOKUP(V33,Tabelas!B:D,3,0),0),\"\")","v":0},{"$f":"IF(A33<>\"\",IFERROR(VLOOKUP(W33,Tabelas!B:D,3,0),0),\"\")","v":0},{"$f":"IF(A33<>\"\",IFERROR(VLOOKUP(X33,Tabelas!B:D,3,0),0),\"\")","v":0},{"$f":"IF(A33<>\"\",IFERROR(VLOOKUP(Y33,Tabelas!B:D,3,0),0),\"\")","v":0},{"$f":"IF(A33<>\"\",IFERROR(VLOOKUP(Z33,Tabelas!B:D,3,0),0),\"\")","v":0},{"$f":"IF(A33<>\"\",IFERROR(VLOOKUP(AA33,Tabelas!B:D,3,0),0),\"\")","v":0},{"$f":"IF(A33<>\"\",IFERROR(VLOOKUP(AB33,Tabelas!B:D,3,0),0),\"\")","v":0},{"$f":"IF(A33<>\"\",IFERROR(VLOOKUP(AC33,Tabelas!B:D,3,0),0),\"\")","v":0},{"$f":"IF(A33<>\"\",IFERROR(VLOOKUP(AD33,Tabelas!B:D,3,0),0),\"\")","v":0},{"$f":"IF(A33<>\"\",IFERROR(VLOOKUP(AE33,Tabelas!B:D,3,0),0),\"\")","v":0},{"$f":"IF(A33<>\"\",IFERROR(VLOOKUP(AF33,Tabelas!B:D,3,0),0),\"\")","v":0},{"$f":"IF(A33<>\"\",IFERROR(VLOOKUP(AG33,Tabelas!B:D,3,0),0),\"\")","v":0},{"$f":"IF(A33<>\"\",IFERROR(VLOOKUP(AH33,Tabelas!B:D,3,0),0),\"\")","v":0},{"$f":"IF(A33<>\"\",IFERROR(VLOOKUP(AI33,Tabelas!B:D,3,0),0),\"\")","v":0},{"$f":"IF(A33<>\"\",IFERROR(VLOOKUP(AJ33,Tabelas!B:D,3,0),0),\"\")","v":0},{"$f":"IF(A33<>\"\",IFERROR(VLOOKUP(AK33,Tabelas!B:D,3,0),0),\"\")","v":0},{"$f":"IF(A33<>\"\",IFERROR(VLOOKUP(AL33,Tabelas!B:D,3,0),0),\"\")","v":0},{"$f":"IF(A33<>\"\",IFERROR(VLOOKUP(AM33,Tabelas!B:D,3,0),0),\"\")","v":0},{"$f":"IF(A33<>\"\",IFERROR(VLOOKUP(AN33,Tabelas!B:D,3,0),0),\"\")","v":0},{"$f":"IF(A33<>\"\",IFERROR(VLOOKUP(AO33,Tabelas!B:D,3,0),0),\"\")","v":0},{"$f":"IF(A33<>\"\",IFERROR(VLOOKUP(AP33,Tabelas!B:D,3,0),0),\"\")","v":0},{"$f":"IF(A33<>\"\",IFERROR(VLOOKUP(AQ33,Tabelas!B:D,3,0),0),\"\")","v":0},{"$f":"IF(A33<>\"\",IFERROR(VLOOKUP(AR33,Tabelas!B:D,3,0),0),\"\")","v":0},0,0,0,0,0,0,0,0]
["Fulano de Tal 26",1234567,123,"ENF","Ebserh",36,null,null,null,null,null,null,null,null,null,null,null,null,null,null,null,null,null,null,null,null,null,null,null,null,null,null,null,null,null,null,null,null,null,null,null,null,null,null,{"$f":"IF(A34<>\"\",IFERROR(VLOOKUP(N34,Tabelas!B:D,3,0),0),\"\")","v":0},{"$f":"IF(A34<>\"\",IFERROR(VLOOKUP(O34,Tabelas!B:D,3,0),0),\"\")","v":0},{"$f":"IF(A34<>\"\",IFERROR(VLOOKUP(P34,Tabelas!B:D,3,0),0),\"\")","v":0},{"$f":"IF(A34<>\"\",IFERROR(VLOOKUP(Q34,Tabelas!B:D,3,0),0),\"\")","v":0},{"$f":"IF(A34<>\"\",IFERROR(VLOOKUP(R34,Tabelas!B:D,3,0),0),\"\")","v":0},{"$f":"IF(A34<>\"\",IFERROR(VLOOKUP(S34,Tabelas!B:D,3,0),0),\"\")","v":0},{"$f":"IF(A34<>\"\",IFERROR(VLOOKUP(T34,Tabelas!B:D,3,0),0),\"\")","v":0},{"$f":"IF(A34<>\"\",IFERROR(VLOOKUP(U34,Tabelas!B:D,3,0),0),\"\")","v":0},{"$f":"IF(A34<>\"\",IFERROR(VLOOKUP(V34,Tabelas!B:D,3,0),0),\"\")","v":0},{"$f":"IF(A34<>\"\",IFERROR(VLOOKUP(W34,Tabelas!B:D,3,0),0),\"\")","v":0},{"$f":"IF(A34<>\"\",IFERROR(VLOOKUP(X34,Tabelas!B:D,3,0),0),\"\")","v":0},{"$f":"IF(A34<>\"\",IFERROR(VLOOKUP(Y34,Tabelas!B:D,3,0),0),\"\")","v":0},{"$f":"IF(A34<>\"\",IFERROR(VLOOKUP(Z34,Tabelas!B:D,3,0),0),\"\")","v":0},{"$f":"IF(A34<>\"\",IFERROR(VLOOKUP(AA34,Tabelas!B:D,3,0),0),\"\")","v":0},{"$f":"IF(A34<>\"\",IFERROR(VLOOKUP(AB34,Tabelas!B:D,3,0),0),\"\")","v":0},{"$f":"IF(A34<>\"\",IFERROR(VLOOKUP(AC34,Tabelas!B:D,3,0),0),\"\")","v":0},{"$f":"IF(A34<>\"\",IFERROR(VLOOKUP(AD34,Tabelas!B:D,3,0),0),\"\")","v":0},{"$f":"IF(A34<>\"\",IFERROR(VLOOKUP(AE34,Tabelas!B:D,3,0),0),\"\")","v":0},{"$f":"IF(A34<>\"\",IFERROR(VLOOKUP(AF34,Tabelas!B:D,3,0),0),\"\")","v":0},{"$f":"IF(A34<>\"\",IFERROR(VLOOKUP(AG34,Tabelas!B:D,3,0),0),\"\")","v":0},{"$f":"IF(A34<>\"\",IFERROR(VLOOKUP(AH34,Tabelas!B:D,3,0),0),\"\")","v":0},{"$f":"IF(A34<>\"\",IFERROR(VLOOKUP(AI34,Tabelas!B:D,3,0),0),\"\")","v":0},{"$f":"IF(A34<>\"\",IFERROR(VLOOKUP(AJ34,Tabelas!B:D,3,0),0),\"\")","v":0},{"$f":"IF(A34<>\"\",IFERROR(VLOOKUP(AK34,Tabelas!B:D,3,0),0),\"\")","v":0},{"$f":"IF(A34<>\"\",IFERROR(VLOOKUP(AL34,Tabelas!B:D,3,0),0),\"\")","v":0},{"$f":"IF(A34<>\"\",IFERROR(VLOOKUP(AM34,Tabelas!B:D,3,0),0),\"\")","v":0},{"$f":"IF(A34<>\"\",IFERROR(VLOOKUP(AN34,Tabelas!B:D,3,0),0),\"\")","v":0},{"$f":"IF(A34<>\"\",IFERROR(VLOOKUP(AO34,Tabelas!B:D,3,0),0),\"\")","v":0},{"$f":"IF(A34<>\"\",IFERROR(VLOOKUP(AP34,Tabelas!B:D,3,0),0),\"\")","v":0},{"$f":"IF(A34<>\"\",IFERROR(VLOOKUP(AQ34,Tabelas!B:D,3,0),0),\"\")","v":0},{"$f":"IF(A34<>\"\",IFERROR(VLOOKUP(AR34,Tabelas!B:D,3,0),0),\"\")","v":0},0,0,0,0,0,0,0,0]
["Fulano de Tal 27",1234567,123,"ENF","Ebserh",36,null,null,null,null,null,null,null,null,null,null,null,null,null,null,null,null,null,null,null,null,null,null,null,null,null,null,null,null,null,null,null,null,null,null,null,null,null,null,{"$f":"IF(A35<>\"\",IFERROR(VLOOKUP(N35,Tabelas!B:D,3,0),0),\"\")","v":0},{"$f":"IF(A35<>\"\",IFERROR(VLOOKUP(O35,Tabelas!B:D,3,0),0),\"\")","v":0},{"$f":"IF(A35<>\"\",IFERROR(VLOOKUP(P35,Tabelas!B:D,3,0),0),\"\")","v":0},{"$f":"IF(A35<>\"\",IFERROR(VLOOKUP(Q35,Tabelas!B:D,3,0),0),\"\")","v":0},{"$f":"IF(A35<>\"\",IFERROR(VLOOKUP(R35,Tabelas!B:D,3,0),0),\"\")","v":0},{"$f":"IF(A35<>\"\",IFERROR(VLOOKUP(S35,Tabelas!B:D,3,0),0),\"\")","v":0},{"$f":"IF(A35<>\"\",IFERROR(VLOOKUP(T35,Tabelas!B:D,3,0),0),\"\")","v":0},{"$f":"IF(A35<>\"\",IFERROR(VLOOKUP(U35,Tabelas!B:D,3,0),0),\"\")","v":0},{"$f":"IF(A35<>\"\",IFERROR(VLOOKUP(V35,Tabelas!B:D,3,0),0),\"\")","v":0},{"$f":"IF(A35<>\"\",IFERROR(VLOOKUP(W35,Tabelas!B:D,3,0),0),\"\")","v":0},{"$f":"IF(A35<>\"\",IFERROR(VLOOKUP(X35,Tabelas!B:D,3,0),0),\"\")","v":0},{"$f":"IF(A35<>\"\",IFERROR(VLOOKUP(Y35,Tabelas!B:D,3,0),0),\"\")","v":0},{"$f":"IF(A35<>\"\",IFERROR(VLOOKUP(Z35,Tabelas!B:D,3,0),0),\"\")","v":0},{"$f":"IF(A35<>\"\",IFERROR(VLOOKUP(AA35,Tabelas!B:D,3,0),0),\"\")","v":0},{"$f":"IF(A35<>\"\",IFERROR(VLOOKUP(AB35,Tabelas!B:D,3,0),0),\"\")","v":0},{"$f":"IF(A35<>\"\",IFERROR(VLOOKUP(AC35,Tabelas!B:D,3,0),0),\"\")","v":0},{"$f":"IF(A35<>\"\",IFERROR(VLOOKUP(AD35,Tabelas!B:D,3,0),0),\"\")","v":0},{"$f":"IF(A35<>\"\",IFERROR(VLOOKUP(AE35,Tabelas!B:D,3,0),0),\"\")","v":0},{"$f":"IF(A35<>\"\",IFERROR(VLOOKUP(AF35,Tabelas!B:D,3,0),0),\"\")","v":0},{"$f":"IF(A35<>\"\",IFERROR(VLOOKUP(AG35,Tabelas!B:D,3,0),0),\"\")","v":0},{"$f":"IF(A35<>\"\",IFERROR(VLOOKUP(AH35,Tabelas!B:D,3,0),0),\"\")","v":0},{"$f":"IF(A35<>\"\",IFERROR(VLOOKUP(AI35,Tabelas!B:D,3,0),0),\"\")","v":0},{"$f":"IF(A35<>\"\",IFERROR(VLOOKUP(AJ35,Tabelas!B:D,3,0),0),\"\")","v":0},{"$f":"IF(A35<>\"\",IFERROR(VLOOKUP(AK35,Tabelas!B:D,3,0),0),\"\")","v":0},{"$f":"IF(A35<>\"\",IFERROR(VLOOKUP(AL35,Tabelas!B:D,3,0),0),\"\")","v":0},{"$f":"IF(A35<>\"\",IFERROR(VLOOKUP(AM35,Tabelas!B:D,3,0),0),\"\")","v":0},{"$f":"IF(A35<>\"\",IFERROR(VLOOKUP(AN35,Tabelas!B:D,3,0),0),\"\")","v":0},{"$f":"IF(A35<>\"\",IFERROR(VLOOKUP(AO35,Tabelas!B:D,3,0),0),\"\")","v":0},{"$f":"IF(A35<>\"\",IFERROR(VLOOKUP(AP35,Tabelas!B:D,3,0),0),\"\")","v":0},{"$f":"IF(A35<>\"\",IFERROR(VLOOKUP(AQ35,Tabelas!B:D,3,0),0),\"\")","v":0},{"$f":"IF(A35<>\"\",IFERROR(VLOOKUP(AR35,Tabelas!B:D,3,0),0),\"\")","v":0},0,0,0,0,0,0,0,0]
["Fulano de Tal 28",1234567,123,"ENF","Ebserh",36,null,null,null,null,null,null,null,null,null,null,null,null,null,null,null,null,null,null,null,null,null,null,null,null,null,null,null,null,null,null,null,null,null,null,null,null,null,null,{"$f":"IF(A36<>\"\",IFERROR(VLOOKUP(N36,Tabelas!B:D,3,0),0),\"\")","v":0},{"$f":"IF(A36<>\"\",IFERROR(VLOOKUP(O36,Tabelas!B:D,3,0),0),\"\")","v":0},{"$f":"IF(A36<>\"\",IFERROR(VLOOKUP(P36,Tabelas!B:D,3,0),0),\"\")","v":0},{"$f":"IF(A36<>\"\",IFERROR(VLOOKUP(Q36,Tabelas!B:D,3,0),0),\"\")","v":0},{"$f":"IF(A36<>\"\",IFERROR(VLOOKUP(R36,Tabelas!B:D,3,0),0),\"\")","v":0},{"$f":"IF(A36<>\"\",IFERROR(VLOOKUP(S36,Tabelas!B:D,3,0),0),\"\")","v":0},{"$f":"IF(A36<>\"\",IFERROR(VLOOKUP(T36,Tabelas!B:D,3,0),0),\"\")","v":0},{"$f":"IF(A36<>\"\",IFERROR(VLOOKUP(U36,Tabelas!B:D,3,0),0),\"\")","v":0},{"$f":"IF(A36<>\"\",IFERROR(VLOOKUP(V36,Tabelas!B:D,3,0),0),\"\")","v":0},{"$f":"IF(A36<>\"\",IFERROR(VLOOKUP(W36,Tabelas!B:D,3,0),0),\"\")","v":0},{"$f":"IF(A36<>\"\",IFERROR(VLOOKUP(X36,Tabelas!B:D,3,0),0),\"\")","v":0},{"$f":"IF(A36<>\"\",IFERROR(VLOOKUP(Y36,Tabelas!B:D,3,0),0),\"\")","v":0},{"$f":"IF(A36<>\"\",IFERROR(VLOOKUP(Z36,Tabelas!B:D,3,0),0),\"\")","v":0},{"$f":"IF(A36<>\"\",IFERROR(VLOOKUP(AA36,Tabelas!B:D,3,0),0),\"\")","v":0},{"$f":"IF(A36<>\"\",IFERROR(VLOOKUP(AB36,Tabelas!B:D,3,0),0),\"\")","v":0},{"$f":"IF(A36<>\"\",IFERROR(VLOOKUP(AC36,Tabelas!B:D,3,0),0),\"\")","v":0},{"$f":"IF(A36<>\"\",IFERROR(VLOOKUP(AD36,Tabelas!B:D,3,0),0),\"\")","v":0},{"$f":"IF(A36<>\"\",IFERROR(VLOOKUP(AE36,Tabelas!B:D,3,0),0),\"\")","v":0},{"$f":"IF(A36<>\"\",IFERROR(VLOOKUP(AF36,Tabelas!B:D,3,0),0),\"\")","v":0},{"$f":"IF(A36<>\"\",IFERROR(VLOOKUP(AG36,Tabelas!B:D,3,0),0),\"\")","v":0},{"$f":"IF(A36<>\"\",IFERROR(VLOOKUP(AH36,Tabelas!B:D,3,0),0),\"\")","v":0},{"$f":"IF(A36<>\"\",IFERROR(VLOOKUP(AI36,Tabelas!B:D,3,0),0),\"\")","v":0},{"$f":"IF(A36<>\"\",IFERROR(VLOOKUP(AJ36,Tabelas!B:D,3,0),0),\"\")","v":0},{"$f":"IF(A36<>\"\",IFERROR(VLOOKUP(AK36,Tabelas!B:D,3,0),0),\"\")","v":0},{"$f":"IF(A36<>\"\",IFERROR(VLOOKUP(AL36,Tabelas!B:D,3,0),0),\"\")","v":0},{"$f":"IF(A36<>\"\",IFERROR(VLOOKUP(AM36,Tabelas!B:D,3,0),0),\"\")","v":0},{"$f":"IF(A36<>\"\",IFERROR(VLOOKUP(AN36,Tabelas!B:D,3,0),0),\"\")","v":0},{"$f":"IF(A36<>\"\",IFERROR(VLOOKUP(AO36,Tabelas!B:D,3,0),0),\"\")","v":0},{"$f":"IF(A36<>\"\",IFERROR(VLOOKUP(AP36,Tabelas!B:D,3,0),0),\"\")","v":0},{"$f":"IF(A36<>\"\",IFERROR(VLOOKUP(AQ36,Tabelas!B:D,3,0),0),\"\")","v":0},{"$f":"IF(A36<>\"\",IFERROR(VLOOKUP(AR36,Tabelas!B:D,3,0),0),\"\")","v":0},0,0,0,0,0,0,0,0]
["Fulano de Tal 29",1234567,123,"ENF","Ebserh",36,null,null,null,null,null,null,null,null,null,null,null,null,null,null,null,null,null,null,null,null,null,null,null,null,null,null,null,null,null,null,null,null,null,null,null,null,null,null,{"$f":"IF(A37<>\"\",IFERROR(VLOOKUP(N37,Tabelas!B:D,3,0),0),\"\")","v":0},{"$f":"IF(A37<>\"\",IFERROR(VLOOKUP(O37,Tabelas!B:D,3,0),0),\"\")","v":0},{"$f":"IF(A37<>\"\",IFERROR(VLOOKUP(P37,Tabelas!B:D,3,0),0),\"\")","v":0},{"$f":"IF(A37<>\"\",IFERROR(VLOOKUP(Q37,Tabelas!B:D,3,0),0),\"\")","v":0},{"$f":"IF(A37<>\"\",IFERROR(VLOOKUP(R37,Tabelas!B:D,3,0),0),\"\")","v":0},{"$f":"IF(A37<>\"\",IFERROR(VLOOKUP(S37,Tabelas!B:D,3,0),0),\"\")","v":0},{"$f":"IF(A37<>\"\",IFERROR(VLOOKUP(T37,Tabelas!B:D,3,0),0),\"\")","v":0},{"$f":"IF(A37<>\"\",IFERROR(VLOOKUP(U37,Tabelas!B:D,3,0),0),\"\")","v":0},{"$f":"IF(A37<>\"\",IFERROR(VLOOKUP(V37,Tabelas!B:D,3,0),0),\"\")","v":0},{"$f":"IF(A37<>\"\",IFERROR(VLOOKUP(W37,Tabelas!B:D,3,0),0),\"\")","v":0},{"$f":"IF(A37<>\"\",IFERROR(VLOOKUP(X37,Tabelas!B:D,3,0),0),\"\")","v":0},{"$f":"IF(A37<>\"\",IFERROR(VLOOKUP(Y37,Tabelas!B:D,3,0),0),\"\")","v":0},{"$f":"IF(A37<>\"\",IFERROR(VLOOKUP(Z37,Tabelas!B:D,3,0),0),\"\")","v":0},{"$f":"IF(A37<>\"\",IFERROR(VLOOKUP(AA37,Tabelas!B:D,3,0),0),\"\")","v":0},{"$f":"IF(A37<>\"\",IFERROR(VLOOKUP(AB37,Tabelas!B:D,3,0),0),\"\")","v":0},{"$f":"IF(A37<>\"\",IFERROR(VLOOKUP(AC37,Tabelas!B:D,3,0),0),\"\")","v":0},{"$f":"IF(A37<>\"\",IFERROR(VLOOKUP(AD37,Tabelas!B:D,3,0),0),\"\")","v":0},{"$f":"IF(A37<>\"\",IFERROR(VLOOKUP(AE37,Tabelas!B:D,3,0),0),\"\")","v":0},{"$f":"IF(A37<>\"\",IFERROR(VLOOKUP(AF37,Tabelas!B:D,3,0),0),\"\")","v":0},{"$f":"IF(A37<>\"\",IFERROR(VLOOKUP(AG37,Tabelas!B:D,3,0),0),\"\")","v":0},{"$f":"IF(A37<>\"\",IFERROR(VLOOKUP(AH37,Tabelas!B:D,3,0),0),\"\")","v":0},{"$f":"IF(A37<>\"\",IFERROR(VLOOKUP(AI37,Tabelas!B:D,3,0),0),\"\")","v":0},{"$f":"IF(A37<>\"\",IFERROR(VLOOKUP(AJ37,Tabelas!B:D,3,0),0),\"\")","v":0},{"$f":"IF(A37<>\"\",IFERROR(VLOOKUP(AK37,Tabelas!B:D,3,0),0),\"\")","v":0},{"$f":"IF(A37<>\"\",IFERROR(VLOOKUP(AL37,Tabelas!B:D,3,0),0),\"\")","v":0},{"$f":"IF(A37<>\"\",IFERROR(VLOOKUP(AM37,Tabelas!B:D,3,0),0),\"\")","v":0},{"$f":"IF(A37<>\"\",IFERROR(VLOOKUP(AN37,Tabelas!B:D,3,0),0),\"\")","v":0},{"$f":"IF(A37<>\"\",IFERROR(VLOOKUP(AO37,Tabelas!B:D,3,0),0),\"\")","v":0},{"$f":"IF(A37<>\"\",IFERROR(VLOOKUP(AP37,Tabelas!B:D,3,0),0),\"\")","v":0},{"$f":"IF(A37<>\"\",IFERROR(VLOOKUP(AQ37,Tabelas!B:D,3,0),0),\"\")","v":0},{"$f":"IF(A37<>\"\",IFERROR(VLOOKUP(AR37,Tabelas!B:D,3,0),0),\"\")","v":0},0,0,0,0,0,0,0,0]
["Fulano de Tal 30",1234567,123,"ENF","Ebserh",36,null,null,null,null,null,null,null,null,null,null,null,null,null,null,null,null,null,null,null,null,null,null,null,null,null,null,null,null,null,null,null,null,null,null,null,null,null,null,{"$f":"IF(A38<>\"\",IFERROR(VLOOKUP(N38,Tabelas!B:D,3,0),0),\"\")","v":0},{"$f":"IF(A38<>\"\",IFERROR(VLOOKUP(O38,Tabelas!B:D,3,0),0),\"\")","v":0},{"$f":"IF(A38<>\"\",IFERROR(VLOOKUP(P38,Tabelas!B:D,3,0),0),\"\")","v":0},{"$f":"IF(A38<>\"\",IFERROR(VLOOKUP(Q38,Tabelas!B:D,3,0),0),\"\")","v":0},{"$f":"IF(A38<>\"\",IFERROR(VLOOKUP(R38,Tabelas!B:D,3,0),0),\"\")","v":0},{"$f":"IF(A38<>\"\",IFERROR(VLOOKUP(S38,Tabelas!B:D,3,0),0),\"\")","v":0},{"$f":"IF(A38<>\"\",IFERROR(VLOOKUP(T38,Tabelas!B:D,3,0),0),\"\")","v":0},{"$f":"IF(A38<>\"\",IFERROR(VLOOKUP(U38,Tabelas!B:D,3,0),0),\"\")","v":0},{"$f":"IF(A38<>\"\",IFERROR(VLOOKUP(V38,Tabelas!B:D,3,0),0),\"\")","v":0},{"$f":"IF(A38<>\"\",IFERROR(VLOOKUP(W38,Tabelas!B:D,3,0),0),\"\")","v":0},{"$f":"IF(A38<>\"\",IFERROR(VLOOKUP(X38,Tabelas!B:D,3,0),0),\"\")","v":0},{"$f":"IF(A38<>\"\",IFERROR(VLOOKUP(Y38,Tabelas!B:D,3,0),0),\"\")","v":0},{"$f":"IF(A38<>\"\",IFERROR(VLOOKUP(Z38,Tabelas!B:D,3,0),0),\"\")","v":0},{"$f":"IF(A38<>\"\",IFERROR(VLOOKUP(AA38,Tabelas!B:D,3,0),0),\"\")","v":0},{"$f":"IF(A38<>\"\",IFERROR(VLOOKUP(AB38,Tabelas!B:D,3,0),0),\"\")","v":0},{"$f":"IF(A38<>\"\",IFERROR(VLOOKUP(AC38,Tabelas!B:D,3,0),0),\"\")","v":0},{"$f":"IF(A38<>\"\",IFERROR(VLOOKUP(AD38,Tabelas!B:D,3,0),0),\"\")","v":0},{"$f":"IF(A38<>\"\",IFERROR(VLOOKUP(AE38,Tabelas!B:D,3,0),0),\"\")","v":0},{"$f":"IF(A38<>\"\",IFERROR(VLOOKUP(AF38,Tabelas!B:D,3,0),0),\"\")","v":0},{"$f":"IF(A38<>\"\",IFERROR(VLOOKUP(AG38,Tabelas!B:D,3,0),0),\"\")","v":0},{"$f":"IF(A38<>\"\",IFERROR(VLOOKUP(AH38,Tabelas!B:D,3,0),0),\"\")","v":0},{"$f":"IF(A38<>\"\",IFERROR(VLOOKUP(AI38,Tabelas!B:D,3,0),0),\"\")","v":0},{"$f":"IF(A38<>\"\",IFERROR(VLOOKUP(AJ38,Tabelas!B:D,3,0),0),\"\")","v":0},{"$f":"IF(A38<>\"\",IFERROR(VLOOKUP(AK38,Tabelas!B:D,3,0),0),\"\")","v":0},{"$f":"IF(A38<>\"\",IFERROR(VLOOKUP(AL38,Tabelas!B:D,3,0),0),\"\")","v":0},{"$f":"IF(A38<>\"\",IFERROR(VLOOKUP(AM38,Tabelas!B:D,3,0),0),\"\")","v":0},{"$f":"IF(A38<>\"\",IFERROR(VLOOKUP(AN38,Tabelas!B:D,3,0),0),\"\")","v":0},{"$f":"IF(A38<>\"\",IFERROR(VLOOKUP(AO38,Tabelas!B:D,3,0),0),\"\")","v":0},{"$f":"IF(A38<>\"\",IFERROR(VLOOKUP(AP38,Tabelas!B:D,3,0),0),\"\")","v":0},{"$f":"IF(A38<>\"\",IFERROR(VLOOKUP(AQ38,Tabelas!B:D,3,0),0),\"\")","v":0},{"$f":"IF(A38<>\"\",IFERROR(VLOOKUP(AR38,Tabelas!B:D,3,0),0),\"\")","v":0},0,0,0,0,0,0,0,0]
["TOTAL PROFISSIONAIS MATUTINO",null,null,null,null,null,null,null,null,null,null,null,null,{"$f":"COUNTIF(N9:N18,\"M\")+COUNTIF(N19:N28,\"M\")+COUNTIF(N29:N38,\"M\")+COUNTIF(N9:N18,\"M?\") +COUNTIF(N19:N28,\"M?\")+COUNTIF(N29:N38,\"M?\")+ COUNTIF(N9:N18, \"MT?\") + COUNTIF(N19:N28, \"MT?\")+ COUNTIF(N29:N38, \"MT?\")+ COUNTIF(N9:N18, \"D?\")  + COUNTIF(N19:N28, \"D?\")+COUNTIF(N29:N38, \"D?\")+ COUNTIF(N9:N18, \"DN?\")+ COUNTIF(N19:N28, \"DN?\")+ COUNTIF(N29:N38, \"DN?\")+ COUNTIF(N9:N18, \"MT??\") + COUNTIF(N19:N28, \"MT??\")+ COUNTIF(N29:N38, \"MT??\")+ COUNTIF(N9:N18, \"D\")  + COUNTIF(N19:N28, \"D\")+COUNTIF(N29:N38, \"D\")","v":1},2,2,2,3,3,1,3,2,3,3,3,2,2,2,2,3,2,2,3,1,2,3,2,2,3,1,2,3,2,2]
["TOTAL DE PROFISSIONAIS VESPERTINO",null,null,null,null,null,null,null,null,null,null,null,null,{"$f":"COUNTIF(N9:N18,\"T\")+COUNTIF(N19:N28,\"T\")+COUNTIF(N29:N38,\"T\")+COUNTIF(N9:N18,\"T?\") +COUNTIF(N19:N28,\"T?\")+COUNTIF(N29:N38,\"T?\")+ COUNTIF(N9:N18, \"MT?\") + COUNTIF(N19:N28, \"MT?\")+ COUNTIF(N29:N38, \"MT?\")+ COUNTIF(N9:N18, \"D?\")  + COUNTIF(N19:N28, \"D?\")+COUNTIF(N29:N38, \"D?\")+ COUNTIF(N9:N18, \"DN?\")+ COUNTIF(N19:N28, \"DN?\")+ COUNTIF(N29:N38, \"DN?\")+ COUNTIF(N9:N18, \"MT??\") + COUNTIF(N19:N28, \"MT??\")+ COUNTIF(N29:N38, \"MT??\")+ COUNTIF(N9:N18, \"D\")  + COUNTIF(N19:N28, \"D\")+COUNTIF(N29:N38, \"D\")","v":1},2,2,1,2,3,1,2,2,1,2,1,2,2,2,1,2,1,1,3,1,1,2,2,1,2,1,2,2,1,2,{"$f":"IF(A40<>\"\",IFERROR(VLOOKUP(N40,Tabelas!B:D,3,0),0),\"\")","v":0},{"$f":"IF(A40<>\"\",IFERROR(VLOOKUP(O40,Tabelas!B:D,3,0),0),\"\")","v":0},{"$f":"IF(A40<>\"\",IFERROR(VLOOKUP(P40,Tabelas!B:D,3,0),0),\"\")","v":0},{"$f":"IF(A40<>\"\",IFERROR(VLOOKUP(Q40,Tabelas!B:D,3,0),0),\"\")","v":0},{"$f":"IF(A40<>\"\",IFERROR(VLOOKUP(R40,Tabelas!B:D,3,0),0),\"\")","v":0},{"$f":"IF(A40<>\"\",IFERROR(VLOOKUP(S40,Tabelas!B:D,3,0),0),\"\")","v":0},{"$f":"IF(A40<>\"\",IFERROR(VLOOKUP(T40,Tabelas!B:D,3,0),0),\"\")","v":0},{"$f":"IF(A40<>\"\",IFERROR(VLOOKUP(U40,Tabelas!B:D,3,0),0),\"\")","v":0},{"$f":"IF(A40<>\"\",IFERROR(VLOOKUP(V40,Tabelas!B:D,3,0),0),\"\")","v":0},{"$f":"IF(A40<>\"\",IFERROR(VLOOKUP(W40,Tabelas!B:D,3,0),0),\"\")","v":0},{"$f":"IF(A40<>\"\",IFERROR(VLOOKUP(X40,Tabelas!B:D,3,0),0),\"\")","v":0},{"$f":"IF(A40<>\"\",IFERROR(VLOOKUP(Y40,Tabelas!B:D,3,0),0),\"\")","v":0},{"$f":"IF(A40<>\"\",IFERROR(VLOOKUP(Z40,Tabelas!B:D,3,0),0),\"\")","v":0},{"$f":"IF(A40<>\"\",IFERROR(VLOOKUP(AA40,Tabelas!B:D,3,0),0),\"\")","v":0},{"$f":"IF(A40<>\"\",IFERROR(VLOOKUP(AB40,Tabelas!B:D,3,0),0),\"\")","v":0},{"$f":"IF(A40<>\"\",IFERROR(VLOOKUP(AC40,Tabelas!B:D,3,0),0),\"\")","v":0},{"$f":"IF(A40<>\"\",IFERROR(VLOOKUP(AD40,Tabelas!B:D,3,0),0),\"\")","v":0},{"$f":"IF(A40<>\"\",IFERROR(VLOOKUP(AE40,Tabelas!B:D,3,0),0),\"\")","v":0},{"$f":"IF(A40<>\"\",IFERROR(VLOOKUP(AF40,Tabelas!B:D,3,0),0),\"\")","v":0},{"$f":"IF(A40<>\"\",IFERROR(VLOOKUP(AG40,Tabelas!B:D,3,0),0),\"\")","v":0},{"$f":"IF(A40<>\"\",IFERROR(VLOOKUP(AH40,Tabelas!B:D,3,0),0),\"\")","v":0},{"$f":"IF(A40<>\"\",IFERROR(VLOOKUP(AI40,Tabelas!B:D,3,0),0),\"\")","v":0},{"$f":"IF(A40<>\"\",IFERROR(VLOOKUP(AJ40,Tabelas!B:D,3,0),0),\"\")","v":0},{"$f":"IF(A40<>\"\",IFERROR(VLOOKUP(AK40,Tabelas!B:D,3,0),0),\"\")","v":0},{"$f":"IF(A40<>\"\",IFERROR(VLOOKUP(AL40,Tabelas!B:D,3,0),0),\"\")","v":0},{"$f":"IF(A40<>\"\",IFERROR(VLOOKUP(AM40,Tabelas!B:D,3,0),0),\"\")","v":0},{"$f":"IF(A40<>\"\",IFERROR(VLOOKUP(AN40,Tabelas!B:D,3,0),0),\"\")","v":0},{"$f":"IF(A40<>\"\",IFERROR(VLOOKUP(AO40,Tabelas!B:D,3,0),0),\"\")","v":0},{"$f":"IF(A40<>\"\",IFERROR(VLOOKUP(AP40,Tabelas!B:D,3,0),0),\"\")","v":0},{"$f":"IF(A40<>\"\",IFERROR(VLOOKUP(AQ40,Tabelas!B:D,3,0),0),\"\")","v":0},{"$f":"IF(A40<>\"\",IFERROR(VLOOKUP(AR40,Tabelas!B:D,3,0),0),\"\")","v":0}]
["TOTAL DE PROFISSIONAIS NOTURNO",null,null,null,null,null,null,null,null,null,null,null,null,{"$f":"COUNTIF(N9:N18,\"N\")+COUNTIF(N19:N28,\"N\")+COUNTIF(N29:N38,\"N\")+COUNTIF(N9:N18,\"N?\") +COUNTIF(N19:N28,\"N?\")+COUNTIF(N29:N38,\"N?\")+ COUNTIF(N9:N18, \"DN?\")+ COUNTIF(N19:N28, \"DN?\")+ COUNTIF(N29:N38, \"DN?\")","v":0},0,0,0,0,0,0,0,0,0,0,0,0,0,0,0,0,0,0,0,0,0,0,0,0,0,0,0,0,0,0,{"$f":"IF(A41<>\"\",IFERROR(VLOOKUP(N41,Tabelas!B:D,3,0),0),\"\")","v":0},{"$f":"IF(A41<>\"\",IFERROR(VLOOKUP(O41,Tabelas!B:D,3,0),0),\"\")","v":0},{"$f":"IF(A41<>\"\",IFERROR(VLOOKUP(P41,Tabelas!B:D,3,0),0),\"\")","v":0},{"$f":"IF(A41<>\"\",IFERROR(VLOOKUP(Q41,Tabelas!B:D,3,0),0),\"\")","v":0},{"$f":"IF(A41<>\"\",IFERROR(VLOOKUP(R41,Tabelas!B:D,3,0),0),\"\")","v":0},{"$f":"IF(A41<>\"\",IFERROR(VLOOKUP(S41,Tabelas!B:D,3,0),0),\"\")","v":0},{"$f":"IF(A41<>\"\",IFERROR(VLOOKUP(T41,Tabelas!B:D,3,0),0),\"\")","v":0},{"$f":"IF(A41<>\"\",IFERROR(VLOOKUP(U41,Tabelas!B:D,3,0),0),\"\")","v":0},{"$f":"IF(A41<>\"\",IFERROR(VLOOKUP(V41,Tabelas!B:D,3,0),0),\"\")","v":0},{"$f":"IF(A41<>\"\",IFERROR(VLOOKUP(W41,Tabelas!B:D,3,0),0),\"\")","v":0},{"$f":"IF(A41<>\"\",IFERROR(VLOOKUP(X41,Tabelas!B:D,3,0),0),\"\")","v":0},{"$f":"IF(A41<>\"\",IFERROR(VLOOKUP(Y41,Tabelas!B:D,3,0),0),\"\")","v":0},{"$f":"IF(A41<>\"\",IFERROR(VLOOKUP(Z41,Tabelas!B:D,3,0),0),\"\")","v":0},{"$f":"IF(A41<>\"\",IFERROR(VLOOKUP(AA41,Tabelas!B:D,3,0),0),\"\")","v":0},{"$f":"IF(A41<>\"\",IFERROR(VLOOKUP(AB41,Tabelas!B:D,3,0),0),\"\")","v":0},{"$f":"IF(A41<>\"\",IFERROR(VLOOKUP(AC41,Tabelas!B:D,3,0),0),\"\")","v":0},{"$f":"IF(A41<>\"\",IFERROR(VLOOKUP(AD41,Tabelas!B:D,3,0),0),\"\")","v":0},{"$f":"IF(A41<>\"\",IFERROR(VLOOKUP(AE41,Tabelas!B:D,3,0),0),\"\")","v":0},{"$f":"IF(A41<>\"\",IFERROR(VLOOKUP(AF41,Tabelas!B:D,3,0),0),\"\")","v":0},{"$f":"IF(A41<>\"\",IFERROR(VLOOKUP(AG41,Tabelas!B:D,3,0),0),\"\")","v":0},{"$f":"IF(A41<>\"\",IFERROR(VLOOKUP(AH41,Tabelas!B:D,3,0),0),\"\")","v":0},{"$f":"IF(A41<>\"\",IFERROR(VLOOKUP(AI41,Tabelas!B:D,3,0),0),\"\")","v":0},{"$f":"IF(A41<>\"\",IFERROR(VLOOKUP(AJ41,Tabelas!B:D,3,0),0),\"\")","v":0},{"$f":"IF(A41<>\"\",IFERROR(VLOOKUP(AK41,Tabelas!B:D,3,0),0),\"\")","v":0},{"$f":"IF(A41<>\"\",IFERROR(VLOOKUP(AL41,Tabelas!B:D,3,0),0),\"\")","v":0},{"$f":"IF(A41<>\"\",IFERROR(VLOOKUP(AM41,Tabelas!B:D,3,0),0),\"\")","v":0},{"$f":"IF(A41<>\"\",IFERROR(VLOOKUP(AN41,Tabelas!B:D,3,0),0),\"\")","v":0},{"$f":"IF(A41<>\"\",IFERROR(VLOOKUP(AO41,Tabelas!B:D,3,0),0),\"\")","v":0},{"$f":"IF(A41<>\"\",IFERROR(VLOOKUP(AP41,Tabelas!B:D,3,0),0),\"\")","v":0},{"$f":"IF(A41<>\"\",IFERROR(VLOOKUP(AQ41,Tabelas!B:D,3,0),0),\"\")","v":0},{"$f":"IF(A41<>\"\",IFERROR(VLOOKUP(AR41,Tabelas!B:D,3,0),0),\"\")","v":0}]
[null,null,null,null,null,null,null,null,null,null,null,null,null,null,null,null,null,null,null,null,null,null,null,null,null,null,null,null,null,null,null,null,null,null,null,null,null,null,null,null,null,null,null,null,{"$f":"IF(A42<>\"\",IFERROR(VLOOKUP(N42,Tabelas!B:D,3,0),0),\"\")","v":""},{"$f":"IF(A42<>\"\",IFERROR(VLOOKUP(O42,Tabelas!B:D,3,0),0),\"\")","v":""},{"$f":"IF(A42<>\"\",IFERROR(VLOOKUP(P42,Tabelas!B:D,3,0),0),\"\")","v":""},{"$f":"IF(A42<>\"\",IFERROR(VLOOKUP(Q42,Tabelas!B:D,3,0),0),\"\")","v":""},{"$f":"IF(A42<>\"\",IFERROR(VLOOKUP(R42,Tabelas!B:D,3,0),0),\"\")","v":""},{"$f":"IF(A42<>\"\",IFERROR(VLOOKUP(S42,Tabelas!B:D,3,0),0),\"\")","v":""},{"$f":"IF(A42<>\"\",IFERROR(VLOOKUP(T42,Tabelas!B:D,3,0),0),\"\")","v":""},{"$f":"IF(A42<>\"\",IFERROR(VLOOKUP(U42,Tabelas!B:D,3,0),0),\"\")","v":""},{"$f":"IF(A42<>\"\",IFERROR(VLOOKUP(V42,Tabelas!B:D,3,0),0),\"\")","v":""},{"$f":"IF(A42<>\"\",IFERROR(VLOOKUP(W42,Tabelas!B:D,3,0),0),\"\")","v":""},{"$f":"IF(A42<>\"\",IFERROR(VLOOKUP(X42,Tabelas!B:D,3,0),0),\"\")","v":""},{"$f":"IF(A42<>\"\",IFERROR(VLOOKUP(Y42,Tabelas!B:D,3,0),0),\"\")","v":""},{"$f":"IF(A42<>\"\",IFERROR(VLOOKUP(Z42,Tabelas!B:D,3,0),0),\"\")","v":""},{"$f":"IF(A42<>\"\",IFERROR(VLOOKUP(AA42,Tabelas!B:D,3,0),0),\"\")","v":""},{"$f":"IF(A42<>\"\",IFERROR(VLOOKUP(AB42,Tabelas!B:D,3,0),0),\"\")","v":""},{"$f":"IF(A42<>\"\",IFERROR(VLOOKUP(AC42,Tabelas!B:D,3,0),0),\"\")","v":""},{"$f":"IF(A42<>\"\",IFERROR(VLOOKUP(AD42,Tabelas!B:D,3,0),0),\"\")","v":""},{"$f":"IF(A42<>\"\",IFERROR(VLOOKUP(AE42,Tabelas!B:D,3,0),0),\"\")","v":""},{"$f":"IF(A42<>\"\",IFERROR(VLOOKUP(AF42,Tabelas!B:D,3,0),0),\"\")","v":""},{"$f":"IF(A42<>\"\",IFERROR(VLOOKUP(AG42,Tabelas!B:D,3,0),0),\"\")","v":""},{"$f":"IF(A42<>\"\",IFERROR(VLOOKUP(AH42,Tabelas!B:D,3,0),0),\"\")","v":""},{"$f":"IF(A42<>\"\",IFERROR(VLOOKUP(AI42,Tabelas!B:D,3,0),0),\"\")","v":""},{"$f":"IF(A42<>\"\",IFERROR(VLOOKUP(AJ42,Tabelas!B:D,3,0),0),\"\")","v":""},{"$f":"IF(A42<>\"\",IFERROR(VLOOKUP(AK42,Tabelas!B:D,3,0),0),\"\")","v":""},{"$f":"IF(A42<>\"\",IFERROR(VLOOKUP(AL42,Tabelas!B:D,3,0),0),\"\")","v":""},{"$f":"IF(A42<>\"\",IFERROR(VLOOKUP(AM42,Tabelas!B:D,3,0),0),\"\")","v":""},{"$f":"IF(A42<>\"\",IFERROR(VLOOKUP(AN42,Tabelas!B:D,3,0),0),\"\")","v":""},{"$f":"IF(A42<>\"\",IFERROR(VLOOKUP(AO42,Tabelas!B:D,3,0),0),\"\")","v":""},{"$f":"IF(A42<>\"\",IFERROR(VLOOKUP(AP42,Tabelas!B:D,3,0),0),\"\")","v":""},{"$f":"IF(A42<>\"\",IFERROR(VLOOKUP(AQ42,Tabelas!B:D,3,0),0),\"\")","v":""},{"$f":"IF(A42<>\"\",IFERROR(VLOOKUP(AR42,Tabelas!B:D,3,0),0),\"\")","v":""},"",{"$f":"IF(A42<>\"\",COUNTIF(N42:AR42,\"LM\")+COUNTIF(N42:AR42,\"L\"),\"\")","v":""},"","","","",null,{"$f":"IF(A42<>\"\",COUNTIF(N42:AR42,\"CE\")+COUNTIF(N42:AR42,\"L\")+COUNTIF(N42:AR42,\"LM\")+COUNTIF(N42:AR42,\"LC\")+COUNTIF(N42:AR42,\"AB\"),\"\")","v":""}]
["Legenda:",null,null,null,null,null,null,null,null,null,null,null,null,null,null,null,null,null,null,null,null,null,null,null,null,null,null,null,null,null,null,null,null,null,null,null,null,null,null,null,null,null,null,null,null,null,null,null,null,null,null,null,null,null,null,null,null,null,null,null,null,null,null,null,null,null,null,null,null,null,null,null,null,null,null,"OBSERVAÇÕES:"]
["Licença Maternidade","LM","Férias",null,"FE","Ponto Facultativo",null,null,null,null,null,null,null,null,null,"PF","Manhã **",null,null,null,null,null,null,"M","Diunro (8 hrs) **",null,null,null,null,null,null,"MT",null,null,null,null,null,null,null,null,null,null,null,null,null,null,null,null,null,null,null,null,null,null,null,null,null,null,null,null,null,null,null,null,null,null,null,null,null,null,null,null,null,null,null,"* Para os Afastamentos previstos em lei, utilizar as legendas "]
["Licença Paternidade","LP","Feriado",null,"FD","Abono",null,null,null,null,null,null,null,null,null,"AB","Tarde **",null,null,null,null,null,null,"T","Dia/ noite (24 hrs) **",null,null,null,null,null,null,"DN",null,null,null,null,null,null,null,null,null,null,null,null,null,null,null,null,null,null,null,null,null,null,null,null,null,null,null,null,null,null,null,null,null,null,null,null,null,null,null,null,null,null,null,"numeradas conforme descrição no item 3.2.2 da NO DGP nº 04/2017."]
["Licença Médica/Odontológica","L","Folga",null,"FO","Compensação Horas Excedentes",null,null,null,null,null,null,null,null,null,"CE","Plantão Dia (12 hrs) **",null,null,null,null,null,null,"D",null,null,null,null,null,null,null,null,null,null,null,null,null,null,null,null,null,null,null,null,null,null,null,null,null,null,null,null,null,null,null,null,null,null,null,null,null,null,null,null,null,null,null,null,null,null,null,null,null,null,null,"** Para as variações de horários (M1, M2, T1, T2...), utilizar as "]
["Licença Capacitação","LC","Recesso",null,"RC","Afastamento*",null,null,null,null,null,null,null,null,null,"AF","Plantão Noite (12 hrs)**",null,null,null,null,null,null,"N",null,null,null,null,null,null,null,null,null,null,null,null,null,null,null,null,null,null,null,null,null,null,null,null,null,null,null,null,null,null,null,null,null,null,null,null,null,null,null,null,null,null,null,null,null,null,null,null,null,null,null,"legendas numeradas conforme descrição do item 3.2.2 na Norma "]
[null,null,null,null,null,null,null,null,null,null,null,null,null,null,null,null,null,null,null,null,null,null,null,null,null,null,null,null,null,null,null,null,null,null,null,null,null,null,null,null,null,null,null,null,null,null,null,null,null,null,null,null,null,null,null,null,null,null,null,null,null,null,null,null,null,null,null,null,null,null,null,null,null,null,null,"Operacional DGP nº 04/2017."]

{"sheet":"Fevereiro","index":1,"n_rows":48,"n_cols":84,"rows_kept":48,"cut":false,"hidden":false,"merged":[[38,0,38,6],[39,0,39,6],[40,0,40,6],[5,0,7,0],[5,1,7,1],[5,2,7,2],[5,3,7,3],[5,4,7,4],[5,5,7,5],[5,6,5,12],[42,75,42,83],[5,78,6,78],[5,79,6,79],[5,80,6,80],[5,81,6,81],[5,82,6,82],[5,83,6,83],[5,77,6,77],[5,13,5,43],[5,44,5,74],[5,75,6,75],[5,76,6,76],[6,6,7,6],[6,7,7,7],[6,8,7,8],[6,9,6,10],[6,11,7,11],[6,12,7,12],[1,0,1,43],[2,0,2,43],[3,0,3,43],[4,1,4,21],[4,24,4,35],[4,38,4,43]]}
[]
[]
["Hospital Universitário Professor Polydoro Ernani de São Thiago"]
["ESCALA MENSAL DE TRABALHO"]
["DIVISÃO /SETOR/UNIDADE:",null,null,null,null,null,null,null,null,null,null,null,null,null,null,null,null,null,null,null,null,null,"MÊS:",null,"Fevereiro",null,null,null,null,null,null,null,null,null,null,null,"ANO:",null,2018]
["NOME COMPLETO","SIAPE","REGISTRO CONSELHO CLASSE","CARGO","VÍNCULO","C.H SEM.","INTERVALO",null,null,null,null,null,null,"DIAS DO MÊS",null,null,null,null,null,null,null,null,null,null,null,null,null,null,null,null,null,null,null,null,null,null,null,null,null,null,null,null,null,null,"CÁLCULO DAS HORAS",null,null,null,null,null,null,null,null,null,null,null,null,null,null,null,null,null,null,null,null,null,null,null,null,null,null,null,null,null,null,"CH MENSAL","LM/LP/L","Abono","Férias","LC","CE","AF  Legais"," TOTAL AFASTAMENTOS","APH"]
[null,null,null,null,null,null,"M","MT","D","DN",null,"T","N",1,2,3,4,5,6,7,8,9,10,11,12,13,14,15,16,17,18,19,20,21,22,23,24,25,{"$f":"IF(DAY(DATE(AM5,VLOOKUP(Y5,Tabelas!M:N,2,0)+1,1)-1)>=26,26,\"\")","v":26},{"$f":"IF(DAY(DATE(AM5,VLOOKUP(Y5,Tabelas!M:N,2,0)+1,1)-1)>=27,27,\"\")","v":27},{"$f":"IF(DAY(DATE(AM5,VLOOKUP(Y5,Tabelas!M:N,2,0)+1,1)-1)>=28,28,\"\")","v":28},{"$f":"IF(DAY(DATE(AM5,VLOOKUP(Y5,Tabelas!M:N,2,0)+1,1)-1)>=29,29,\"\")","v":""},{"$f":"IF(DAY(DATE(AM5,VLOOKUP(Y5,Tabelas!M:N,2,0)+1,1)-1)>=30,30,\"\")","v":""},{"$f":"IF(DAY(DATE(AM5,VLOOKUP(Y5,Tabelas!M:N,2,0)+1,1)-1)>=31,31,\"\")","v":""}]
[null,null,null,null,null,null,null,null,null,1,2,null,null,{"$f":"IF(N7<>\"\",IFERROR(VLOOKUP(WEEKDAY(CONCATENATE(N7,$Y$5,$AM$5)),Tabelas!$I:$J,2,0),\"\"),\"\")","v":"QUI"},{"$f":"IF(O7<>\"\",IFERROR(VLOOKUP(WEEKDAY(CONCATENATE(O7,$Y$5,$AM$5)),Tabelas!$I:$J,2,0),\"\"),\"\")","v":"SEX"},{"$f":"IF(P7<>\"\",IFERROR(VLOOKUP(WEEKDAY(CONCATENATE(P7,$Y$5,$AM$5)),Tabelas!$I:$J,2,0),\"\"),\"\")","v":"SAB"},{"$f":"IF(Q7<>\"\",IFERROR(VLOOKUP(WEEKDAY(CONCATENATE(Q7,$Y$5,$AM$5)),Tabelas!$I:$J,2,0),\"\"),\"\")","v":"DOM"},{"$f":"IF(R7<>\"\",IFERROR(VLOOKUP(WEEKDAY(CONCATENATE(R7,$Y$5,$AM$5)),Tabelas!$I:$J,2,0),\"\"),\"\")","v":"SEG"},{"$f":"IF(S7<>\"\",IFERROR(VLOOKUP(WEEKDAY(CONCATENATE(S7,$Y$5,$AM$5)),Tabelas!$I:$J,2,0),\"\"),\"\")","v":"TER"},{"$f":"IF(T7<>\"\",IFERROR(VLOOKUP(WEEKDAY(CONCATENATE(T7,$Y$5,$AM$5)),Tabelas!$I:$J,2,0),\"\"),\"\")","v":"QUA"},{"$f":"IF(U7<>\"\",IFERROR(VLOOKUP(WEEKDAY(CONCATENATE(U7,$Y$5,$AM$5)),Tabelas!$I:$J,2,0),\"\"),\"\")","v":"QUI"},{"$f":"IF(V7<>\"\",IFERROR(VLOOKUP(WEEKDAY(CONCATENATE(V7,$Y$5,$AM$5)),Tabelas!$I:$J,2,0),\"\"),\"\")","v":"SEX"},{"$f":"IF(W7<>\"\",IFERROR(VLOOKUP(WEEKDAY(CONCATENATE(W7,$Y$5,$AM$5)),Tabelas!$I:$J,2,0),\"\"),\"\")","v":"SAB"},{"$f":"IF(X7<>\"\",IFERROR(VLOOKUP(WEEKDAY(CONCATENATE(X7,$Y$5,$AM$5)),Tabelas!$I:$J,2,0),\"\"),\"\")","v":"DOM"},{"$f":"IF(Y7<>\"\",IFERROR(VLOOKUP(WEEKDAY(CONCATENATE(Y7,$Y$5,$AM$5)),Tabelas!$I:$J,2,0),\"\"),\"\")","v":"SEG"},{"$f":"IF(Z7<>\"\",IFERROR(VLOOKUP(WEEKDAY(CONCATENATE(Z7,$Y$5,$AM$5)),Tabelas!$I:$J,2,0),\"\"),\"\")","v":"TER"},{"$f":"IF(AA7<>\"\",IFERROR(VLOOKUP(WEEKDAY(CONCATENATE(AA7,$Y$5,$AM$5)),Tabelas!$I:$J,2,0),\"\"),\"\")","v":"QUA"},{"$f":"IF(AB7<>\"\",IFERROR(VLOOKUP(WEEKDAY(CONCATENATE(AB7,$Y$5,$AM$5)),Tabelas!$I:$J,2,0),\"\"),\"\")","v":"QUI"},{"$f":"IF(AC7<>\"\",IFERROR(VLOOKUP(WEEKDAY(CONCATENATE(AC7,$Y$5,$AM$5)),Tabelas!$I:$J,2,0),\"\"),\"\")","v":"SEX"},{"$f":"IF(AD7<>\"\",IFERROR(VLOOKUP(WEEKDAY(CONCATENATE(AD7,$Y$5,$AM$5)),Tabelas!$I:$J,2,0),\"\"),\"\")","v":"SAB"},{"$f":"IF(AE7<>\"\",IFERROR(VLOOKUP(WEEKDAY(CONCATENATE(AE7,$Y$5,$AM$5)),Tabelas!$I:$J,2,0),\"\"),\"\")","v":"DOM"},{"$f":"IF(AF7<>\"\",IFERROR(VLOOKUP(WEEKDAY(CONCATENATE(AF7,$Y$5,$AM$5)),Tabelas!$I:$J,2,0),\"\"),\"\")","v":"SEG"},{"$f":"IF(AG7<>\"\",IFERROR(VLOOKUP(WEEKDAY(CONCATENATE(AG7,$Y$5,$AM$5)),Tabelas!$I:$J,2,0),\"\"),\"\")","v":"TER"},{"$f":"IF(AH7<>\"\",IFERROR(VLOOKUP(WEEKDAY(CONCATENATE(AH7,$Y$5,$AM$5)),Tabelas!$I:$J,2,0),\"\"),\"\")","v":"QUA"},{"$f":"IF(AI7<>\"\",IFERROR(VLOOKUP(WEEKDAY(CONCATENATE(AI7,$Y$5,$AM$5)),Tabelas!$I:$J,2,0),\"\"),\"\")","v":"QUI"},{"$f":"IF(AJ7<>\"\",IFERROR(VLOOKUP(WEEKDAY(CONCATENATE(AJ7,$Y$5,$AM$5)),Tabelas!$I:$J,2,0),\"\"),\"\")","v":"SEX"},{"$f":"IF(AK7<>\"\",IFERROR(VLOOKUP(WEEKDAY(CONCATENATE(AK7,$Y$5,$AM$5)),Tabelas!$I:$J,2,0),\"\"),\"\")","v":"SAB"},{"$f":"IF(AL7<>\"\",IFERROR(VLOOKUP(WEEKDAY(CONCATENATE(AL7,$Y$5,$AM$5)),Tabelas!$I:$J,2,0),\"\"),\"\")","v":"DOM"},{"$f":"IF(AM7<>\"\",IFERROR(VLOOKUP(WEEKDAY(CONCATENATE(AM7,$Y$5,$AM$5)),Tabelas!$I:$J,2,0),\"\"),\"\")","v":"SEG"},{"$f":"IF(AN7<>\"\",IFERROR(VLOOKUP(WEEKDAY(CONCATENATE(AN7,$Y$5,$AM$5)),Tabelas!$I:$J,2,0),\"\"),\"\")","v":"TER"},{"$f":"IF(AO7<>\"\",IFERROR(VLOOKUP(WEEKDAY(CONCATENATE(AO7,$Y$5,$AM$5)),Tabelas!$I:$J,2,0),\"\"),\"\")","v":"QUA"},{"$f":"IF(AP7<>\"\",IFERROR(VLOOKUP(WEEKDAY(CONCATENATE(AP7,$Y$5,$AM$5)),Tabelas!$I:$J,2,0),\"\"),\"\")","v":""},{"$f":"IF(AQ7<>\"\",IFERROR(VLOOKUP(WEEKDAY(CONCATENATE(AQ7,$Y$5,$AM$5)),Tabelas!$I:$J,2,0),\"\"),\"\")","v":""},{"$f":"IF(AR7<>\"\",IFERROR(VLOOKUP(WEEKDAY(CONCATENATE(AR7,$Y$5,$AM$5)),Tabelas!$I:$J,2,0),\"\"),\"\")","v":""},1,2,3,4,5,6,7,8,9,10,11,12,13,14,15,16,17,18,19,20,21,22,23,24,25,26,27,28,29,30,31,"Total","Dias","Dias","Dias","Dias","Dias","Dias","Dias","Dias"]
["Karine Maria Kalazan",null,null,"Tec. Enf","Fapeu",44,1,null,17,null,null,null,null,"M6","M6","D2","FO","M6","M6","M6","M6","M6","D2","FO","FO","D2","FO","M6","M6","FO","D2","M6","M6","M6","M6","M6","FO","D2","M6","D2","M6",null,null,null,{"$f":"IF(A9<>\"\",IFERROR(VLOOKUP(N9,Tabelas!B:D,3,0),0),\"\")","v":6},{"$f":"IF(A9<>\"\",IFERROR(VLOOKUP(O9,Tabelas!B:D,3,0),0),\"\")","v":6},{"$f":"IF(A9<>\"\",IFERROR(VLOOKUP(P9,Tabelas!B:D,3,0),0),\"\")","v":12},{"$f":"IF(A9<>\"\",IFERROR(VLOOKUP(Q9,Tabelas!B:D,3,0),0),\"\")","v":0},{"$f":"IF(A9<>\"\",IFERROR(VLOOKUP(R9,Tabelas!B:D,3,0),0),\"\")","v":6},{"$f":"IF(A9<>\"\",IFERROR(VLOOKUP(S9,Tabelas!B:D,3,0),0),\"\")","v":6},{"$f":"IF(A9<>\"\",IFERROR(VLOOKUP(T9,Tabelas!B:D,3,0),0),\"\")","v":6},{"$f":"IF(A9<>\"\",IFERROR(VLOOKUP(U9,Tabelas!B:D,3,0),0),\"\")","v":6},{"$f":"IF(A9<>\"\",IFERROR(VLOOKUP(V9,Tabelas!B:D,3,0),0),\"\")","v":6},{"$f":"IF(A9<>\"\",IFERROR(VLOOKUP(W9,Tabelas!B:D,3,0),0),\"\")","v":12},{"$f":"IF(A9<>\"\",IFERROR(VLOOKUP(X9,Tabelas!B:D,3,0),0),\"\")","v":0},{"$f":"IF(A9<>\"\",IFERROR(VLOOKUP(Y9,Tabelas!B:D,3,0),0),\"\")","v":0},{"$f":"IF(A9<>\"\",IFERROR(VLOOKUP(Z9,Tabelas!B:D,3,0),0),\"\")","v":12},{"$f":"IF(A9<>\"\",IFERROR(VLOOKUP(AA9,Tabelas!B:D,3,0),0),\"\")","v":0},{"$f":"IF(A9<>\"\",IFERROR(VLOOKUP(AB9,Tabelas!B:D,3,0),0),\"\")","v":6},{"$f":"IF(A9<>\"\",IFERROR(VLOOKUP(AC9,Tabelas!B:D,3,0),0),\"\")","v":6},{"$f":"IF(A9<>\"\",IFERROR(VLOOKUP(AD9,Tabelas!B:D,3,0),0),\"\")","v":0},{"$f":"IF(A9<>\"\",IFERROR(VLOOKUP(AE9,Tabelas!B:D,3,0),0),\"\")","v":12},{"$f":"IF(A9<>\"\",IFERROR(VLOOKUP(AF9,Tabelas!B:D,3,0),0),\"\")","v":6},{"$f":"IF(A9<>\"\",IFERROR(VLOOKUP(AG9,Tabelas!B:D,3,0),0),\"\")","v":6},{"$f":"IF(A9<>\"\",IFERROR(VLOOKUP(AH9,Tabelas!B:D,3,0),0),\"\")","v":6},{"$f":"IF(A9<>\"\",IFERROR(VLOOKUP(AI9,Tabelas!B:D,3,0),0),\"\")","v":6},{"$f":"IF(A9<>\"\",IFERROR(VLOOKUP(AJ9,Tabelas!B:D,3,0),0),\"\")","v":6},{"$f":"IF(A9<>\"\",IFERROR(VLOOKUP(AK9,Tabelas!B:D,3,0),0),\"\")","v":0},{"$f":"IF(A9<>\"\",IFERROR(VLOOKUP(AL9,Tabelas!B:D,3,0),0),\"\")","v":12},{"$f":"IF(A9<>\"\",IFERROR(VLOOKUP(AM9,Tabelas!B:D,3,0),0),\"\")","v":6},{"$f":"IF(A9<>\"\",IFERROR(VLOOKUP(AN9,Tabelas!B:D,3,0),0),\"\")","v":12},{"$f":"IF(A9<>\"\",IFERROR(VLOOKUP(AO9,Tabelas!B:D,3,0),0),\"\")","v":6},{"$f":"IF(A9<>\"\",IFERROR(VLOOKUP(AP9,Tabelas!B:D,3,0),0),\"\")","v":0},{"$f":"IF(A9<>\"\",IFERROR(VLOOKUP(AQ9,Tabelas!B:D,3,0),0),\"\")","v":0},{"$f":"IF(A9<>\"\",IFERROR(VLOOKUP(AR9,Tabelas!B:D,3,0),0),\"\")","v":0},{"$f":"IF(A9<>\"\",SUM(AS9:BW9),\"\")","v":168},{"$f":"IF(A9<>\"\",COUNTIF(N9:AR9,\"LM\")+COUNTIF(N9:AR9,\"L\"),\"\")+COUNTIF(N9:AR9,\"LP\")","v":0},{"$f":"IF(A9<>\"\",COUNTIF(N9:AR9,\"AB\"),\"\")","v":0},{"$f":"IF(A9<>\"\",COUNTIF(N9:AR9,\"FE\"),\"\")","v":0},{"$f":"IF(A9<>\"\",COUNTIF(N9:AR9,\"LC\"),\"\")","v":0},{"$f":"IF(A9<>\"\",COUNTIF(N9:AR9,\"CE\"),\"\")","v":0},{"$f":"IF(A9<>\"\",COUNTIF(N9:AR9,\"AF1\")+COUNTIF(N9:AR9,\"AF2\")+COUNTIF(N9:AR9,\"AF3\")+COUNTIF(N9:AR9,\"AF4\")+COUNTIF(N9:AR9,\"AF5\")+COUNTIF(N9:AR9,\"AF6\")+COUNTIF(N9:AR9,\"AF7\")+COUNTIF(N9:AR9,\"AF8\")+COUNTIF(N9:AR9,\"AF9\")+COUNTIF(N9:AR9,\"AF10\")+COUNTIF(N9:AR9,\"AF11\")+COUNTIF(N9:AR9,\"AF12\")+COUNTIF(N9:AR9,\"AF13\")+COUNTIF(N9:AR9,\"AF14\"),\"\")","v":0},{"$f":"IF(A9<>\"\",COUNTIF(N9:AR9,\"CE\")+COUNTIF(N9:AR9,\"L\")+COUNTIF(N9:AR9,\"LM\")+COUNTIF(N9:AR9,\"LP\")+COUNTIF(N9:AR9,\"LC\")+COUNTIF(N9:AR9,\"AB\")+COUNTIF(N9:AR9,\"AF1\")+COUNTIF(N9:AR9,\"AF2\")+COUNTIF(N9:AR9,\"AF3\")+COUNTIF(N9:AR9,\"AF4\")+COUNTIF(N9:AR9,\"AF5\")+COUNTIF(N9:AR9,\"AF6\")+COUNTIF(N9:AR9,\"AF7\")+COUNTIF(N9:AR9,\"AF8\")+COUNTIF(N9:AR9,\"AF9\")+COUNTIF(N9:AR9,\"AF10\")+COUNTIF(N9:AR9,\"AF11\")+COUNTIF(N9:AR9,\"AF12\")+COUNTIF(N9:AR9,\"AF13\")+COUNTIF(N9:AR9,\"AF14\")+COUNTIF(N9:AR9,\"RC\")+COUNTIF(N9:AR9,\"FO\")+COUNTIF(N9:AR9,\"FE\"),\"\")","v":6},{"$f":"IF(A9<>\"\",COUNTIF(N9:AR9,\"APH\"),\"\")","v":0}]
["Liane da rosa",null,null,"Tec. Enf","Fapeu",44,null,null,null,null,null,null,null,"L","L","L","L","L","L","L","L","L","L","L","L","L","L","L","L","L","L","L","L","L","L","L","L","L","L","L","L",null,null,null,{"$f":"IF(A10<>\"\",IFERROR(VLOOKUP(N10,Tabelas!B:D,3,0),0),\"\")","v":0},{"$f":"IF(A10<>\"\",IFERROR(VLOOKUP(O10,Tabelas!B:D,3,0),0),\"\")","v":0},{"$f":"IF(A10<>\"\",IFERROR(VLOOKUP(P10,Tabelas!B:D,3,0),0),\"\")","v":0},{"$f":"IF(A10<>\"\",IFERROR(VLOOKUP(Q10,Tabelas!B:D,3,0),0),\"\")","v":0},{"$f":"IF(A10<>\"\",IFERROR(VLOOKUP(R10,Tabelas!B:D,3,0),0),\"\")","v":0},{"$f":"IF(A10<>\"\",IFERROR(VLOOKUP(S10,Tabelas!B:D,3,0),0),\"\")","v":0},{"$f":"IF(A10<>\"\",IFERROR(VLOOKUP(T10,Tabelas!B:D,3,0),0),\"\")","v":0},{"$f":"IF(A10<>\"\",IFERROR(VLOOKUP(U10,Tabelas!B:D,3,0),0),\"\")","v":0},{"$f":"IF(A10<>\"\",IFERROR(VLOOKUP(V10,Tabelas!B:D,3,0),0),\"\")","v":0},{"$f":"IF(A10<>\"\",IFERROR(VLOOKUP(W10,Tabelas!B:D,3,0),0),\"\")","v":0},{"$f":"IF(A10<>\"\",IFERROR(VLOOKUP(X10,Tabelas!B:D,3,0),0),\"\")","v":0},{"$f":"IF(A10<>\"\",IFERROR(VLOOKUP(Y10,Tabelas!B:D,3,0),0),\"\")","v":0},{"$f":"IF(A10<>\"\",IFERROR(VLOOKUP(Z10,Tabelas!B:D,3,0),0),\"\")","v":0},{"$f":"IF(A10<>\"\",IFERROR(VLOOKUP(AA10,Tabelas!B:D,3,0),0),\"\")","v":0},{"$f":"IF(A10<>\"\",IFERROR(VLOOKUP(AB10,Tabelas!B:D,3,0),0),\"\")","v":0},{"$f":"IF(A10<>\"\",IFERROR(VLOOKUP(AC10,Tabelas!B:D,3,0),0),\"\")","v":0},{"$f":"IF(A10<>\"\",IFERROR(VLOOKUP(AD10,Tabelas!B:D,3,0),0),\"\")","v":0},{"$f":"IF(A10<>\"\",IFERROR(VLOOKUP(AE10,Tabelas!B:D,3,0),0),\"\")","v":0},{"$f":"IF(A10<>\"\",IFERROR(VLOOKUP(AF10,Tabelas!B:D,3,0),0),\"\")","v":0},{"$f":"IF(A10<>\"\",IFERROR(VLOOKUP(AG10,Tabelas!B:D,3,0),0),\"\")","v":0},{"$f":"IF(A10<>\"\",IFERROR(VLOOKUP(AH10,Tabelas!B:D,3,0),0),\"\")","v":0},{"$f":"IF(A10<>\"\",IFERROR(VLOOKUP(AI10,Tabelas!B:D,3,0),0),\"\")","v":0},{"$f":"IF(A10<>\"\",IFERROR(VLOOKUP(AJ10,Tabelas!B:D,3,0),0),\"\")","v":0},{"$f":"IF(A10<>\"\",IFERROR(VLOOKUP(AK10,Tabelas!B:D,3,0),0),\"\")","v":0},{"$f":"IF(A10<>\"\",IFERROR(VLOOKUP(AL10,Tabelas!B:D,3,0),0),\"\")","v":0},{"$f":"IF(A10<>\"\",IFERROR(VLOOKUP(AM10,Tabelas!B:D,3,0),0),\"\")","v":0},{"$f":"IF(A10<>\"\",IFERROR(VLOOKUP(AN10,Tabelas!B:D,3,0),0),\"\")","v":0},{"$f":"IF(A10<>\"\",IFERROR(VLOOKUP(AO10,Tabelas!B:D,3,0),0),\"\")","v":0},{"$f":"IF(A10<>\"\",IFERROR(VLOOKUP(AP10,Tabelas!B:D,3,0),0),\"\")","v":0},{"$f":"IF(A10<>\"\",IFERROR(VLOOKUP(AQ10,Tabelas!B:D,3,0),0),\"\")","v":0},{"$f":"IF(A10<>\"\",IFERROR(VLOOKUP(AR10,Tabelas!B:D,3,0),0),\"\")","v":0},{"$f":"IF(A10<>\"\",SUM(AS10:BW10),\"\")","v":0},{"$f":"IF(A10<>\"\",COUNTIF(N10:AR10,\"LM\")+COUNTIF(N10:AR10,\"L\"),\"\")+COUNTIF(N10:AR10,\"LP\")","v":28},0,0,0,0,{"$f":"IF(A10<>\"\",COUNTIF(N10:AR10,\"AF1\")+COUNTIF(N10:AR10,\"AF2\")+COUNTIF(N10:AR10,\"AF3\")+COUNTIF(N10:AR10,\"AF4\")+COUNTIF(N10:AR10,\"AF5\")+COUNTIF(N10:AR10,\"AF6\")+COUNTIF(N10:AR10,\"AF7\")+COUNTIF(N10:AR10,\"AF8\")+COUNTIF(N10:AR10,\"AF9\")+COUNTIF(N10:AR10,\"AF10\")+COUNTIF(N10:AR10,\"AF11\")+COUNTIF(N10:AR10,\"AF12\")+COUNTIF(N10:AR10,\"AF13\")+COUNTIF(N10:AR10,\"AF14\"),\"\")","v":0},{"$f":"IF(A10<>\"\",COUNTIF(N10:AR10,\"CE\")+COUNTIF(N10:AR10,\"L\")+COUNTIF(N10:AR10,\"LM\")+COUNTIF(N10:AR10,\"LP\")+COUNTIF(N10:AR10,\"LC\")+COUNTIF(N10:AR10,\"AB\")+COUNTIF(N10:AR10,\"AF1\")+COUNTIF(N10:AR10,\"AF2\")+COUNTIF(N10:AR10,\"AF3\")+COUNTIF(N10:AR10,\"AF4\")+COUNTIF(N10:AR10,\"AF5\")+COUNTIF(N10:AR10,\"AF6\")+COUNTIF(N10:AR10,\"AF7\")+COUNTIF(N10:AR10,\"AF8\")+COUNTIF(N10:AR10,\"AF9\")+COUNTIF(N10:AR10,\"AF10\")+COUNTIF(N10:AR10,\"AF11\")+COUNTIF(N10:AR10,\"AF12\")+COUNTIF(N10:AR10,\"AF13\")+COUNTIF(N10:AR10,\"AF14\")+COUNTIF(N10:AR10,\"RC\")+COUNTIF(N10:AR10,\"FO\")+COUNTIF(N10:AR10,\"FE\"),\"\")","v":28},{"$f":"IF(A10<>\"\",COUNTIF(N10:AR10,\"APH\"),\"\")","v":0}]
["Lisiane Mpreira dias",null,null,"Tec. Enf","Fapeu",40,null,null,17,null,null,null,null,"D2","T6","FO","D2","FO","T6","D2","FO","FO","D2","FO","FO","D2","FO","M6","D2","D2","FO","D2","FO","FO","D2","M6","FO","D2","FO","FO","D2",null,null,null,{"$f":"IF(A11<>\"\",IFERROR(VLOOKUP(N11,Tabelas!B:D,3,0),0),\"\")","v":12},{"$f":"IF(A11<>\"\",IFERROR(VLOOKUP(O11,Tabelas!B:D,3,0),0),\"\")","v":6},{"$f":"IF(A11<>\"\",IFERROR(VLOOKUP(P11,Tabelas!B:D,3,0),0),\"\")","v":0},{"$f":"IF(A11<>\"\",IFERROR(VLOOKUP(Q11,Tabelas!B:D,3,0),0),\"\")","v":12},{"$f":"IF(A11<>\"\",IFERROR(VLOOKUP(R11,Tabelas!B:D,3,0),0),\"\")","v":0},{"$f":"IF(A11<>\"\",IFERROR(VLOOKUP(S11,Tabelas!B:D,3,0),0),\"\")","v":6},{"$f":"IF(A11<>\"\",IFERROR(VLOOKUP(T11,Tabelas!B:D,3,0),0),\"\")","v":12},{"$f":"IF(A11<>\"\",IFERROR(VLOOKUP(U11,Tabelas!B:D,3,0),0),\"\")","v":0},{"$f":"IF(A11<>\"\",IFERROR(VLOOKUP(V11,Tabelas!B:D,3,0),0),\"\")","v":0},{"$f":"IF(A11<>\"\",IFERROR(VLOOKUP(W11,Tabelas!B:D,3,0),0),\"\")","v":12},{"$f":"IF(A11<>\"\",IFERROR(VLOOKUP(X11,Tabelas!B:D,3,0),0),\"\")","v":0},{"$f":"IF(A11<>\"\",IFERROR(VLOOKUP(Y11,Tabelas!B:D,3,0),0),\"\")","v":0},{"$f":"IF(A11<>\"\",IFERROR(VLOOKUP(Z11,Tabelas!B:D,3,0),0),\"\")","v":12},{"$f":"IF(A11<>\"\",IFERROR(VLOOKUP(AA11,Tabelas!B:D,3,0),0),\"\")","v":0},{"$f":"IF(A11<>\"\",IFERROR(VLOOKUP(AB11,Tabelas!B:D,3,0),0),\"\")","v":6},{"$f":"IF(A11<>\"\",IFERROR(VLOOKUP(AC11,Tabelas!B:D,3,0),0),\"\")","v":12},{"$f":"IF(A11<>\"\",IFERROR(VLOOKUP(AD11,Tabelas!B:D,3,0),0),\"\")","v":12},{"$f":"IF(A11<>\"\",IFERROR(VLOOKUP(AE11,Tabelas!B:D,3,0),0),\"\")","v":0},{"$f":"IF(A11<>\"\",IFERROR(VLOOKUP(AF11,Tabelas!B:D,3,0),0),\"\")","v":12},{"$f":"IF(A11<>\"\",IFERROR(VLOOKUP(AG11,Tabelas!B:D,3,0),0),\"\")","v":0},{"$f":"IF(A11<>\"\",IFERROR(VLOOKUP(AH11,Tabelas!B:D,3,0),0),\"\")","v":0},{"$f":"IF(A11<>\"\",IFERROR(VLOOKUP(AI11,Tabelas!B:D,3,0),0),\"\")","v":12},{"$f":"IF(A11<>\"\",IFERROR(VLOOKUP(AJ11,Tabelas!B:D,3,0),0),\"\")","v":6},{"$f":"IF(A11<>\"\",IFERROR(VLOOKUP(AK11,Tabelas!B:D,3,0),0),\"\")","v":0},{"$f":"IF(A11<>\"\",IFERROR(VLOOKUP(AL11,Tabelas!B:D,3,0),0),\"\")","v":12},{"$f":"IF(A11<>\"\",IFERROR(VLOOKUP(AM11,Tabelas!B:D,3,0),0),\"\")","v":0},{"$f":"IF(A11<>\"\",IFERROR(VLOOKUP(AN11,Tabelas!B:D,3,0),0),\"\")","v":0},{"$f":"IF(A11<>\"\",IFERROR(VLOOKUP(AO11,Tabelas!B:D,3,0),0),\"\")","v":12},{"$f":"IF(A11<>\"\",IFERROR(VLOOKUP(AP11,Tabelas!B:D,3,0),0),\"\")","v":0},{"$f":"IF(A11<>\"\",IFERROR(VLOOKUP(AQ11,Tabelas!B:D,3,0),0),\"\")","v":0},{"$f":"IF(A11<>\"\",IFERROR(VLOOKUP(AR11,Tabelas!B:D,3,0),0),\"\")","v":0},156,0,0,0,0,0,0,13,{"$f":"IF(A11<>\"\",COUNTIF(N11:AR11,\"APH\"),\"\")","v":0}]
["Marinalva S. Silva",null,null,"Tec. Enf","Fapeu",44,null,null,17,null,null,null,null,"D2","FO","D2","FO","D2","FO","D2","FO","D2","FO","D2","FO","D2","FO","D2","FO","D2","FO","D2","FO","D2","FO","D2","FO","D2","FO","D2","FO",null,null,null,{"$f":"IF(A12<>\"\",IFERROR(VLOOKUP(N12,Tabelas!B:D,3,0),0),\"\")","v":12},{"$f":"IF(A12<>\"\",IFERROR(VLOOKUP(O12,Tabelas!B:D,3,0),0),\"\")","v":0},{"$f":"IF(A12<>\"\",IFERROR(VLOOKUP(P12,Tabelas!B:D,3,0),0),\"\")","v":12},{"$f":"IF(A12<>\"\",IFERROR(VLOOKUP(Q12,Tabelas!B:D,3,0),0),\"\")","v":0},{"$f":"IF(A12<>\"\",IFERROR(VLOOKUP(R12,Tabelas!B:D,3,0),0),\"\")","v":12},{"$f":"IF(A12<>\"\",IFERROR(VLOOKUP(S12,Tabelas!B:D,3,0),0),\"\")","v":0},{"$f":"IF(A12<>\"\",IFERROR(VLOOKUP(T12,Tabelas!B:D,3,0),0),\"\")","v":12},{"$f":"IF(A12<>\"\",IFERROR(VLOOKUP(U12,Tabelas!B:D,3,0),0),\"\")","v":0},{"$f":"IF(A12<>\"\",IFERROR(VLOOKUP(V12,Tabelas!B:D,3,0),0),\"\")","v":12},{"$f":"IF(A12<>\"\",IFERROR(VLOOKUP(W12,Tabelas!B:D,3,0),0),\"\")","v":0},{"$f":"IF(A12<>\"\",IFERROR(VLOOKUP(X12,Tabelas!B:D,3,0),0),\"\")","v":12},{"$f":"IF(A12<>\"\",IFERROR(VLOOKUP(Y12,Tabelas!B:D,3,0),0),\"\")","v":0},{"$f":"IF(A12<>\"\",IFERROR(VLOOKUP(Z12,Tabelas!B:D,3,0),0),\"\")","v":12},{"$f":"IF(A12<>\"\",IFERROR(VLOOKUP(AA12,Tabelas!B:D,3,0),0),\"\")","v":0},{"$f":"IF(A12<>\"\",IFERROR(VLOOKUP(AB12,Tabelas!B:D,3,0),0),\"\")","v":12},{"$f":"IF(A12<>\"\",IFERROR(VLOOKUP(AC12,Tabelas!B:D,3,0),0),\"\")","v":0},{"$f":"IF(A12<>\"\",IFERROR(VLOOKUP(AD12,Tabelas!B:D,3,0),0),\"\")","v":12},{"$f":"IF(A12<>\"\",IFERROR(VLOOKUP(AE12,Tabelas!B:D,3,0),0),\"\")","v":0},{"$f":"IF(A12<>\"\",IFERROR(VLOOKUP(AF12,Tabelas!B:D,3,0),0),\"\")","v":12},{"$f":"IF(A12<>\"\",IFERROR(VLOOKUP(AG12,Tabelas!B:D,3,0),0),\"\")","v":0},{"$f":"IF(A12<>\"\",IFERROR(VLOOKUP(AH12,Tabelas!B:D,3,0),0),\"\")","v":12},{"$f":"IF(A12<>\"\",IFERROR(VLOOKUP(AI12,Tabelas!B:D,3,0),0),\"\")","v":0},{"$f":"IF(A12<>\"\",IFERROR(VLOOKUP(AJ12,Tabelas!B:D,3,0),0),\"\")","v":12},{"$f":"IF(A12<>\"\",IFERROR(VLOOKUP(AK12,Tabelas!B:D,3,0),0),\"\")","v":0},{"$f":"IF(A12<>\"\",IFERROR(VLOOKUP(AL12,Tabelas!B:D,3,0),0),\"\")","v":12},{"$f":"IF(A12<>\"\",IFERROR(VLOOKUP(AM12,Tabelas!B:D,3,0),0),\"\")","v":0},{"$f":"IF(A12<>\"\",IFERROR(VLOOKUP(AN12,Tabelas!B:D,3,0),0),\"\")","v":12},{"$f":"IF(A12<>\"\",IFERROR(VLOOKUP(AO12,Tabelas!B:D,3,0),0),\"\")","v":0},{"$f":"IF(A12<>\"\",IFERROR(VLOOKUP(AP12,Tabelas!B:D,3,0),0),\"\")","v":0},{"$f":"IF(A12<>\"\",IFERROR(VLOOKUP(AQ12,Tabelas!B:D,3,0),0),\"\")","v":0},{"$f":"IF(A12<>\"\",IFERROR(VLOOKUP(AR12,Tabelas!B:D,3,0),0),\"\")","v":0},168,0,0,0,0,0,0,14,{"$f":"IF(A12<>\"\",COUNTIF(N12:AR12,\"APH\"),\"\")","v":0}]
["Fulano de Tal 5",1234567,123,"ENF","Ebserh",36,null,null,null,null,null,null,null,null,null,null,null,null,null,null,null,null,null,null,null,null,null,null,null,null,null,null,null,null,null,null,null,null,null,null,null,null,null,null,{"$f":"IF(A13<>\"\",IFERROR(VLOOKUP(N13,Tabelas!B:D,3,0),0),\"\")","v":0},{"$f":"IF(A13<>\"\",IFERROR(VLOOKUP(O13,Tabelas!B:D,3,0),0),\"\")","v":0},{"$f":"IF(A13<>\"\",IFERROR(VLOOKUP(P13,Tabelas!B:D,3,0),0),\"\")","v":0},{"$f":"IF(A13<>\"\",IFERROR(VLOOKUP(Q13,Tabelas!B:D,3,0),0),\"\")","v":0},{"$f":"IF(A13<>\"\",IFERROR(VLOOKUP(R13,Tabelas!B:D,3,0),0),\"\")","v":0},{"$f":"IF(A13<>\"\",IFERROR(VLOOKUP(S13,Tabelas!B:D,3,0),0),\"\")","v":0},{"$f":"IF(A13<>\"\",IFERROR(VLOOKUP(T13,Tabelas!B:D,3,0),0),\"\")","v":0},{"$f":"IF(A13<>\"\",IFERROR(VLOOKUP(U13,Tabelas!B:D,3,0),0),\"\")","v":0},{"$f":"IF(A13<>\"\",IFERROR(VLOOKUP(V13,Tabelas!B:D,3,0),0),\"\")","v":0},{"$f":"IF(A13<>\"\",IFERROR(VLOOKUP(W13,Tabelas!B:D,3,0),0),\"\")","v":0},{"$f":"IF(A13<>\"\",IFERROR(VLOOKUP(X13,Tabelas!B:D,3,0),0),\"\")","v":0},{"$f":"IF(A13<>\"\",IFERROR(VLOOKUP(Y13,Tabelas!B:D,3,0),0),\"\")","v":0},{"$f":"IF(A13<>\"\",IFERROR(VLOOKUP(Z13,Tabelas!B:D,3,0),0),\"\")","v":0},{"$f":"IF(A13<>\"\",IFERROR(VLOOKUP(AA13,Tabelas!B:D,3,0),0),\"\")","v":0},{"$f":"IF(A13<>\"\",IFERROR(VLOOKUP(AB13,Tabelas!B:D,3,0),0),\"\")","v":0},{"$f":"IF(A13<>\"\",IFERROR(VLOOKUP(AC13,Tabelas!B:D,3,0),0),\"\")","v":0},{"$f":"IF(A13<>\"\",IFERROR(VLOOKUP(AD13,Tabelas!B:D,3,0),0),\"\")","v":0},{"$f":"IF(A13<>\"\",IFERROR(VLOOKUP(AE13,Tabelas!B:D,3,0),0),\"\")","v":0},{"$f":"IF(A13<>\"\",IFERROR(VLOOKUP(AF13,Tabelas!B:D,3,0),0),\"\")","v":0},{"$f":"IF(A13<>\"\",IFERROR(VLOOKUP(AG13,Tabelas!B:D,3,0),0),\"\")","v":0},{"$f":"IF(A13<>\"\",IFERROR(VLOOKUP(AH13,Tabelas!B:D,3,0),0),\"\")","v":0},{"$f":"IF(A13<>\"\",IFERROR(VLOOKUP(AI13,Tabelas!B:D,3,0),0),\"\")","v":0},{"$f":"IF(A13<>\"\",IFERROR(VLOOKUP(AJ13,Tabelas!B:D,3,0),0),\"\")","v":0},{"$f":"IF(A13<>\"\",IFERROR(VLOOKUP(AK13,Tabelas!B:D,3,0),0),\"\")","v":0},{"$f":"IF(A13<>\"\",IFERROR(VLOOKUP(AL13,Tabelas!B:D,3,0),0),\"\")","v":0},{"$f":"IF(A13<>\"\",IFERROR(VLOOKUP(AM13,Tabelas!B:D,3,0),0),\"\")","v":0},{"$f":"IF(A13<>\"\",IFERROR(VLOOKUP(AN13,Tabelas!B:D,3,0),0),\"\")","v":0},{"$f":"IF(A13<>\"\",IFERROR(VLOOKUP(AO13,Tabelas!B:D,3,0),0),\"\")","v":0},{"$f":"IF(A13<>\"\",IFERROR(VLOOKUP(AP13,Tabelas!B:D,3,0),0),\"\")","v":0},{"$f":"IF(A13<>\"\",IFERROR(VLOOKUP(AQ13,Tabelas!B:D,3,0),0),\"\")","v":0},{"$f":"IF(A13<>\"\",IFERROR(VLOOKUP(AR13,Tabelas!B:D,3,0),0),\"\")","v":0},0,0,0,0,0,0,0,0,{"$f":"IF(A13<>\"\",COUNTIF(N13:AR13,\"APH\"),\"\")","v":0}]
["Fulano de Tal 6",1234567,123,"ENF","Ebserh",36,null,null,null,null,null,null,null,null,null,null,null,null,null,null,null,null,null,null,null,null,null,null,null,null,null,null,null,null,null,null,null,null,null,null,null,null,null,null,{"$f":"IF(A14<>\"\",IFERROR(VLOOKUP(N14,Tabelas!B:D,3,0),0),\"\")","v":0},{"$f":"IF(A14<>\"\",IFERROR(VLOOKUP(O14,Tabelas!B:D,3,0),0),\"\")","v":0},{"$f":"IF(A14<>\"\",IFERROR(VLOOKUP(P14,Tabelas!B:D,3,0),0),\"\")","v":0},{"$f":"IF(A14<>\"\",IFERROR(VLOOKUP(Q14,Tabelas!B:D,3,0),0),\"\")","v":0},{"$f":"IF(A14<>\"\",IFERROR(VLOOKUP(R14,Tabelas!B:D,3,0),0),\"\")","v":0},{"$f":"IF(A14<>\"\",IFERROR(VLOOKUP(S14,Tabelas!B:D,3,0),0),\"\")","v":0},{"$f":"IF(A14<>\"\",IFERROR(VLOOKUP(T14,Tabelas!B:D,3,0),0),\"\")","v":0},{"$f":"IF(A14<>\"\",IFERROR(VLOOKUP(U14,Tabelas!B:D,3,0),0),\"\")","v":0},{"$f":"IF(A14<>\"\",IFERROR(VLOOKUP(V14,Tabelas!B:D,3,0),0),\"\")","v":0},{"$f":"IF(A14<>\"\",IFERROR(VLOOKUP(W14,Tabelas!B:D,3,0),0),\"\")","v":0},{"$f":"IF(A14<>\"\",IFERROR(VLOOKUP(X14,Tabelas!B:D,3,0),0),\"\")","v":0},{"$f":"IF(A14<>\"\",IFERROR(VLOOKUP(Y14,Tabelas!B:D,3,0),0),\"\")","v":0},{"$f":"IF(A14<>\"\",IFERROR(VLOOKUP(Z14,Tabelas!B:D,3,0),0),\"\")","v":0},{"$f":"IF(A14<>\"\",IFERROR(VLOOKUP(AA14,Tabelas!B:D,3,0),0),\"\")","v":0},{"$f":"IF(A14<>\"\",IFERROR(VLOOKUP(AB14,Tabelas!B:D,3,0),0),\"\")","v":0},{"$f":"IF(A14<>\"\",IFERROR(VLOOKUP(AC14,Tabelas!B:D,3,0),0),\"\")","v":0},{"$f":"IF(A14<>\"\",IFERROR(VLOOKUP(AD14,Tabelas!B:D,3,0),0),\"\")","v":0},{"$f":"IF(A14<>\"\",IFERROR(VLOOKUP(AE14,Tabelas!B:D,3,0),0),\"\")","v":0},{"$f":"IF(A14<>\"\",IFERROR(VLOOKUP(AF14,Tabelas!B:D,3,0),0),\"\")","v":0},{"$f":"IF(A14<>\"\",IFERROR(VLOOKUP(AG14,Tabelas!B:D,3,0),0),\"\")","v":0},{"$f":"IF(A14<>\"\",IFERROR(VLOOKUP(AH14,Tabelas!B:D,3,0),0),\"\")","v":0},{"$f":"IF(A14<>\"\",IFERROR(VLOOKUP(AI14,Tabelas!B:D,3,0),0),\"\")","v":0},{"$f":"IF(A14<>\"\",IFERROR(VLOOKUP(AJ14,Tabelas!B:D,3,0),0),\"\")","v":0},{"$f":"IF(A14<>\"\",IFERROR(VLOOKUP(AK14,Tabelas!B:D,3,0),0),\"\")","v":0},{"$f":"IF(A14<>\"\",IFERROR(VLOOKUP(AL14,Tabelas!B:D,3,0),0),\"\")","v":0},{"$f":"IF(A14<>\"\",IFERROR(VLOOKUP(AM14,Tabelas!B:D,3,0),0),\"\")","v":0},{"$f":"IF(A14<>\"\",IFERROR(VLOOKUP(AN14,Tabelas!B:D,3,0),0),\"\")","v":0},{"$f":"IF(A14<>\"\",IFERROR(VLOOKUP(AO14,Tabelas!B:D,3,0),0),\"\")","v":0},{"$f":"IF(A14<>\"\",IFERROR(VLOOKUP(AP14,Tabelas!B:D,3,0),0),\"\")","v":0},{"$f":"IF(A14<>\"\",IFERROR(VLOOKUP(AQ14,Tabelas!B:D,3,0),0),\"\")","v":0},{"$f":"IF(A14<>\"\",IFERROR(VLOOKUP(AR14,Tabelas!B:D,3,0),0),\"\")","v":0},0,0,0,0,0,0,0,0,{"$f":"IF(A14<>\"\",COUNTIF(N14:AR14,\"APH\"),\"\")","v":0}]
["Fulano de Tal 7",1234567,123,"ENF","Ebserh",36,null,null,null,null,null,null,null,null,null,null,null,null,null,null,null,null,null,null,null,null,null,null,null,null,null,null,null,null,null,null,null,null,null,null,null,null,null,null,{"$f":"IF(A15<>\"\",IFERROR(VLOOKUP(N15,Tabelas!B:D,3,0),0),\"\")","v":0},{"$f":"IF(A15<>\"\",IFERROR(VLOOKUP(O15,Tabelas!B:D,3,0),0),\"\")","v":0},{"$f":"IF(A15<>\"\",IFERROR(VLOOKUP(P15,Tabelas!B:D,3,0),0),\"\")","v":0},{"$f":"IF(A15<>\"\",IFERROR(VLOOKUP(Q15,Tabelas!B:D,3,0),0),\"\")","v":0},{"$f":"IF(A15<>\"\",IFERROR(VLOOKUP(R15,Tabelas!B:D,3,0),0),\"\")","v":0},{"$f":"IF(A15<>\"\",IFERROR(VLOOKUP(S15,Tabelas!B:D,3,0),0),\"\")","v":0},{"$f":"IF(A15<>\"\",IFERROR(VLOOKUP(T15,Tabelas!B:D,3,0),0),\"\")","v":0},{"$f":"IF(A15<>\"\",IFERROR(VLOOKUP(U15,Tabelas!B:D,3,0),0),\"\")","v":0},{"$f":"IF(A15<>\"\",IFERROR(VLOOKUP(V15,Tabelas!B:D,3,0),0),\"\")","v":0},{"$f":"IF(A15<>\"\",IFERROR(VLOOKUP(W15,Tabelas!B:D,3,0),0),\"\")","v":0},{"$f":"IF(A15<>\"\",IFERROR(VLOOKUP(X15,Tabelas!B:D,3,0),0),\"\")","v":0},{"$f":"IF(A15<>\"\",IFERROR(VLOOKUP(Y15,Tabelas!B:D,3,0),0),\"\")","v":0},{"$f":"IF(A15<>\"\",IFERROR(VLOOKUP(Z15,Tabelas!B:D,3,0),0),\"\")","v":0},{"$f":"IF(A15<>\"\",IFERROR(VLOOKUP(AA15,Tabelas!B:D,3,0),0),\"\")","v":0},{"$f":"IF(A15<>\"\",IFERROR(VLOOKUP(AB15,Tabelas!B:D,3,0),0),\"\")","v":0},{"$f":"IF(A15<>\"\",IFERROR(VLOOKUP(AC15,Tabelas!B:D,3,0),0),\"\")","v":0},{"$f":"IF(A15<>\"\",IFERROR(VLOOKUP(AD15,Tabelas!B:D,3,0),0),\"\")","v":0},{"$f":"IF(A15<>\"\",IFERROR(VLOOKUP(AE15,Tabelas!B:D,3,0),0),\"\")","v":0},{"$f":"IF(A15<>\"\",IFERROR(VLOOKUP(AF15,Tabelas!B:D,3,0),0),\"\")","v":0},{"$f":"IF(A15<>\"\",IFERROR(VLOOKUP(AG15,Tabelas!B:D,3,0),0),\"\")","v":0},{"$f":"IF(A15<>\"\",IFERROR(VLOOKUP(AH15,Tabelas!B:D,3,0),0),\"\")","v":0},{"$f":"IF(A15<>\"\",IFERROR(VLOOKUP(AI15,Tabelas!B:D,3,0),0),\"\")","v":0},{"$f":"IF(A15<>\"\",IFERROR(VLOOKUP(AJ15,Tabelas!B:D,3,0),0),\"\")","v":0},{"$f":"IF(A15<>\"\",IFERROR(VLOOKUP(AK15,Tabelas!B:D,3,0),0),\"\")","v":0},{"$f":"IF(A15<>\"\",IFERROR(VLOOKUP(AL15,Tabelas!B:D,3,0),0),\"\")","v":0},{"$f":"IF(A15<>\"\",IFERROR(VLOOKUP(AM15,Tabelas!B:D,3,0),0),\"\")","v":0},{"$f":"IF(A15<>\"\",IFERROR(VLOOKUP(AN15,Tabelas!B:D,3,0),0),\"\")","v":0},{"$f":"IF(A15<>\"\",IFERROR(VLOOKUP(AO15,Tabelas!B:D,3,0),0),\"\")","v":0},{"$f":"IF(A15<>\"\",IFERROR(VLOOKUP(AP15,Tabelas!B:D,3,0),0),\"\")","v":0},{"$f":"IF(A15<>\"\",IFERROR(VLOOKUP(AQ15,Tabelas!B:D,3,0),0),\"\")","v":0},{"$f":"IF(A15<>\"\",IFERROR(VLOOKUP(AR15,Tabelas!B:D,3,0),0),\"\")","v":0},0,0,0,0,0,0,0,0,{"$f":"IF(A15<>\"\",COUNTIF(N15:AR15,\"APH\"),\"\")","v":0}]
["Fulano de Tal 8",1234567,123,"ENF","Ebserh",36,null,null,null,null,null,null,null,null,null,null,null,null,null,null,null,null,null,null,null,null,null,null,null,null,null,null,null,null,null,null,null,null,null,null,null,null,null,null,{"$f":"IF(A16<>\"\",IFERROR(VLOOKUP(N16,Tabelas!B:D,3,0),0),\"\")","v":0},{"$f":"IF(A16<>\"\",IFERROR(VLOOKUP(O16,Tabelas!B:D,3,0),0),\"\")","v":0},{"$f":"IF(A16<>\"\",IFERROR(VLOOKUP(P16,Tabelas!B:D,3,0),0),\"\")","v":0},{"$f":"IF(A16<>\"\",IFERROR(VLOOKUP(Q16,Tabelas!B:D,3,0),0),\"\")","v":0},{"$f":"IF(A16<>\"\",IFERROR(VLOOKUP(R16,Tabelas!B:D,3,0),0),\"\")","v":0},{"$f":"IF(A16<>\"\",IFERROR(VLOOKUP(S16,Tabelas!B:D,3,0),0),\"\")","v":0},{"$f":"IF(A16<>\"\",IFERROR(VLOOKUP(T16,Tabelas!B:D,3,0),0),\"\")","v":0},{"$f":"IF(A16<>\"\",IFERROR(VLOOKUP(U16,Tabelas!B:D,3,0),0),\"\")","v":0},{"$f":"IF(A16<>\"\",IFERROR(VLOOKUP(V16,Tabelas!B:D,3,0),0),\"\")","v":0},{"$f":"IF(A16<>\"\",IFERROR(VLOOKUP(W16,Tabelas!B:D,3,0),0),\"\")","v":0},{"$f":"IF(A16<>\"\",IFERROR(VLOOKUP(X16,Tabelas!B:D,3,0),0),\"\")","v":0},{"$f":"IF(A16<>\"\",IFERROR(VLOOKUP(Y16,Tabelas!B:D,3,0),0),\"\")","v":0},{"$f":"IF(A16<>\"\",IFERROR(VLOOKUP(Z16,Tabelas!B:D,3,0),0),\"\")","v":0},{"$f":"IF(A16<>\"\",IFERROR(VLOOKUP(AA16,Tabelas!B:D,3,0),0),\"\")","v":0},{"$f":"IF(A16<>\"\",IFERROR(VLOOKUP(AB16,Tabelas!B:D,3,0),0),\"\")","v":0},{"$f":"IF(A16<>\"\",IFERROR(VLOOKUP(AC16,Tabelas!B:D,3,0),0),\"\")","v":0},{"$f":"IF(A16<>\"\",IFERROR(VLOOKUP(AD16,Tabelas!B:D,3,0),0),\"\")","v":0},{"$f":"IF(A16<>\"\",IFERROR(VLOOKUP(AE16,Tabelas!B:D,3,0),0),\"\")","v":0},{"$f":"IF(A16<>\"\",IFERROR(VLOOKUP(AF16,Tabelas!B:D,3,0),0),\"\")","v":0},{"$f":"IF(A16<>\"\",IFERROR(VLOOKUP(AG16,Tabelas!B:D,3,0),0),\"\")","v":0},{"$f":"IF(A16<>\"\",IFERROR(VLOOKUP(AH16,Tabelas!B:D,3,0),0),\"\")","v":0},{"$f":"IF(A16<>\"\",IFERROR(VLOOKUP(AI16,Tabelas!B:D,3,0),0),\"\")","v":0},{"$f":"IF(A16<>\"\",IFERROR(VLOOKUP(AJ16,Tabelas!B:D,3,0),0),\"\")","v":0},{"$f":"IF(A16<>\"\",IFERROR(VLOOKUP(AK16,Tabelas!B:D,3,0),0),\"\")","v":0},{"$f":"IF(A16<>\"\",IFERROR(VLOOKUP(AL16,Tabelas!B:D,3,0),0),\"\")","v":0},{"$f":"IF(A16<>\"\",IFERROR(VLOOKUP(AM16,Tabelas!B:D,3,0),0),\"\")","v":0},{"$f":"IF(A16<>\"\",IFERROR(VLOOKUP(AN16,Tabelas!B:D,3,0),0),\"\")","v":0},{"$f":"IF(A16<>\"\",IFERROR(VLOOKUP(AO16,Tabelas!B:D,3,0),0),\"\")","v":0},{"$f":"IF(A16<>\"\",IFERROR(VLOOKUP(AP16,Tabelas!B:D,3,0),0),\"\")","v":0},{"$f":"IF(A16<>\"\",IFERROR(VLOOKUP(AQ16,Tabelas!B:D,3,0),0),\"\")","v":0},{"$f":"IF(A16<>\"\",IFERROR(VLOOKUP(AR16,Tabelas!B:D,3,0),0),\"\")","v":0},0,0,0,0,0,0,0,0,{"$f":"IF(A16<>\"\",COUNTIF(N16:AR16,\"APH\"),\"\")","v":0}]
["Fulano de Tal 9",1234567,123,"ENF","Ebserh",36,null,null,null,null,null,null,null,null,null,null,null,null,null,null,null,null,null,null,null,null,null,null,null,null,null,null,null,null,null,null,null,null,null,null,null,null,null,null,{"$f":"IF(A17<>\"\",IFERROR(VLOOKUP(N17,Tabelas!B:D,3,0),0),\"\")","v":0},{"$f":"IF(A17<>\"\",IFERROR(VLOOKUP(O17,Tabelas!B:D,3,0),0),\"\")","v":0},{"$f":"IF(A17<>\"\",IFERROR(VLOOKUP(P17,Tabelas!B:D,3,0),0),\"\")","v":0},{"$f":"IF(A17<>\"\",IFERROR(VLOOKUP(Q17,Tabelas!B:D,3,0),0),\"\")","v":0},{"$f":"IF(A17<>\"\",IFERROR(VLOOKUP(R17,Tabelas!B:D,3,0),0),\"\")","v":0},{"$f":"IF(A17<>\"\",IFERROR(VLOOKUP(S17,Tabelas!B:D,3,0),0),\"\")","v":0},{"$f":"IF(A17<>\"\",IFERROR(VLOOKUP(T17,Tabelas!B:D,3,0),0),\"\")","v":0},{"$f":"IF(A17<>\"\",IFERROR(VLOOKUP(U17,Tabelas!B:D,3,0),0),\"\")","v":0},{"$f":"IF(A17<>\"\",IFERROR(VLOOKUP(V17,Tabelas!B:D,3,0),0),\"\")","v":0},{"$f":"IF(A17<>\"\",IFERROR(VLOOKUP(W17,Tabelas!B:D,3,0),0),\"\")","v":0},{"$f":"IF(A17<>\"\",IFERROR(VLOOKUP(X17,Tabelas!B:D,3,0),0),\"\")","v":0},{"$f":"IF(A17<>\"\",IFERROR(VLOOKUP(Y17,Tabelas!B:D,3,0),0),\"\")","v":0},{"$f":"IF(A17<>\"\",IFERROR(VLOOKUP(Z17,Tabelas!B:D,3,0),0),\"\")","v":0},{"$f":"IF(A17<>\"\",IFERROR(VLOOKUP(AA17,Tabelas!B:D,3,0),0),\"\")","v":0},{"$f":"IF(A17<>\"\",IFERROR(VLOOKUP(AB17,Tabelas!B:D,3,0),0),\"\")","v":0},{"$f":"IF(A17<>\"\",IFERROR(VLOOKUP(AC17,Tabelas!B:D,3,0),0),\"\")","v":0},{"$f":"IF(A17<>\"\",IFERROR(VLOOKUP(AD17,Tabelas!B:D,3,0),0),\"\")","v":0},{"$f":"IF(A17<>\"\",IFERROR(VLOOKUP(AE17,Tabelas!B:D,3,0),0),\"\")","v":0},{"$f":"IF(A17<>\"\",IFERROR(VLOOKUP(AF17,Tabelas!B:D,3,0),0),\"\")","v":0},{"$f":"IF(A17<>\"\",IFERROR(VLOOKUP(AG17,Tabelas!B:D,3,0),0),\"\")","v":0},{"$f":"IF(A17<>\"\",IFERROR(VLOOKUP(AH17,Tabelas!B:D,3,0),0),\"\")","v":0},{"$f":"IF(A17<>\"\",IFERROR(VLOOKUP(AI17,Tabelas!B:D,3,0),0),\"\")","v":0},{"$f":"IF(A17<>\"\",IFERROR(VLOOKUP(AJ17,Tabelas!B:D,3,0),0),\"\")","v":0},{"$f":"IF(A17<>\"\",IFERROR(VLOOKUP(AK17,Tabelas!B:D,3,0),0),\"\")","v":0},{"$f":"IF(A17<>\"\",IFERROR(VLOOKUP(AL17,Tabelas!B:D,3,0),0),\"\")","v":0},{"$f":"IF(A17<>\"\",IFERROR(VLOOKUP(AM17,Tabelas!B:D,3,0),0),\"\")","v":0},{"$f":"IF(A17<>\"\",IFERROR(VLOOKUP(AN17,Tabelas!B:D,3,0),0),\"\")","v":0},{"$f":"IF(A17<>\"\",IFERROR(VLOOKUP(AO17,Tabelas!B:D,3,0),0),\"\")","v":0},{"$f":"IF(A17<>\"\",IFERROR(VLOOKUP(AP17,Tabelas!B:D,3,0),0),\"\")","v":0},{"$f":"IF(A17<>\"\",IFERROR(VLOOKUP(AQ17,Tabelas!B:D,3,0),0),\"\")","v":0},{"$f":"IF(A17<>\"\",IFERROR(VLOOKUP(AR17,Tabelas!B:D,3,0),0),\"\")","v":0},0,0,0,0,0,0,0,0,{"$f":"IF(A17<>\"\",COUNTIF(N17:AR17,\"APH\"),\"\")","v":0}]
["Fulano de Tal 10",1234567,123,"ENF","Ebserh",36,null,null,null,null,null,null,null,null,null,null,null,null,null,null,null,null,null,null,null,null,null,null,null,null,null,null,null,null,null,null,null,null,null,null,null,null,null,null,{"$f":"IF(A18<>\"\",IFERROR(VLOOKUP(N18,Tabelas!B:D,3,0),0),\"\")","v":0},{"$f":"IF(A18<>\"\",IFERROR(VLOOKUP(O18,Tabelas!B:D,3,0),0),\"\")","v":0},{"$f":"IF(A18<>\"\",IFERROR(VLOOKUP(P18,Tabelas!B:D,3,0),0),\"\")","v":0},{"$f":"IF(A18<>\"\",IFERROR(VLOOKUP(Q18,Tabelas!B:D,3,0),0),\"\")","v":0},{"$f":"IF(A18<>\"\",IFERROR(VLOOKUP(R18,Tabelas!B:D,3,0),0),\"\")","v":0},{"$f":"IF(A18<>\"\",IFERROR(VLOOKUP(S18,Tabelas!B:D,3,0),0),\"\")","v":0},{"$f":"IF(A18<>\"\",IFERROR(VLOOKUP(T18,Tabelas!B:D,3,0),0),\"\")","v":0},{"$f":"IF(A18<>\"\",IFERROR(VLOOKUP(U18,Tabelas!B:D,3,0),0),\"\")","v":0},{"$f":"IF(A18<>\"\",IFERROR(VLOOKUP(V18,Tabelas!B:D,3,0),0),\"\")","v":0},{"$f":"IF(A18<>\"\",IFERROR(VLOOKUP(W18,Tabelas!B:D,3,0),0),\"\")","v":0},{"$f":"IF(A18<>\"\",IFERROR(VLOOKUP(X18,Tabelas!B:D,3,0),0),\"\")","v":0},{"$f":"IF(A18<>\"\",IFERROR(VLOOKUP(Y18,Tabelas!B:D,3,0),0),\"\")","v":0},{"$f":"IF(A18<>\"\",IFERROR(VLOOKUP(Z18,Tabelas!B:D,3,0),0),\"\")","v":0},{"$f":"IF(A18<>\"\",IFERROR(VLOOKUP(AA18,Tabelas!B:D,3,0),0),\"\")","v":0},{"$f":"IF(A18<>\"\",IFERROR(VLOOKUP(AB18,Tabelas!B:D,3,0),0),\"\")","v":0},{"$f":"IF(A18<>\"\",IFERROR(VLOOKUP(AC18,Tabelas!B:D,3,0),0),\"\")","v":0},{"$f":"IF(A18<>\"\",IFERROR(VLOOKUP(AD18,Tabelas!B:D,3,0),0),\"\")","v":0},{"$f":"IF(A18<>\"\",IFERROR(VLOOKUP(AE18,Tabelas!B:D,3,0),0),\"\")","v":0},{"$f":"IF(A18<>\"\",IFERROR(VLOOKUP(AF18,Tabelas!B:D,3,0),0),\"\")","v":0},{"$f":"IF(A18<>\"\",IFERROR(VLOOKUP(AG18,Tabelas!B:D,3,0),0),\"\")","v":0},{"$f":"IF(A18<>\"\",IFERROR(VLOOKUP(AH18,Tabelas!B:D,3,0),0),\"\")","v":0},{"$f":"IF(A18<>\"\",IFERROR(VLOOKUP(AI18,Tabelas!B:D,3,0),0),\"\")","v":0},{"$f":"IF(A18<>\"\",IFERROR(VLOOKUP(AJ18,Tabelas!B:D,3,0),0),\"\")","v":0},{"$f":"IF(A18<>\"\",IFERROR(VLOOKUP(AK18,Tabelas!B:D,3,0),0),\"\")","v":0},{"$f":"IF(A18<>\"\",IFERROR(VLOOKUP(AL18,Tabelas!B:D,3,0),0),\"\")","v":0},{"$f":"IF(A18<>\"\",IFERROR(VLOOKUP(AM18,Tabelas!B:D,3,0),0),\"\")","v":0},{"$f":"IF(A18<>\"\",IFERROR(VLOOKUP(AN18,Tabelas!B:D,3,0),0),\"\")","v":0},{"$f":"IF(A18<>\"\",IFERROR(VLOOKUP(AO18,Tabelas!B:D,3,0),0),\"\")","v":0},{"$f":"IF(A18<>\"\",IFERROR(VLOOKUP(AP18,Tabelas!B:D,3,0),0),\"\")","v":0},{"$f":"IF(A18<>\"\",IFERROR(VLOOKUP(AQ18,Tabelas!B:D,3,0),0),\"\")","v":0},{"$f":"IF(A18<>\"\",IFERROR(VLOOKUP(AR18,Tabelas!B:D,3,0),0),\"\")","v":0},0,0,0,0,0,0,0,0,{"$f":"IF(A18<>\"\",COUNTIF(N18:AR18,\"APH\"),\"\")","v":0}]
["Fulano de Tal 11",1234567,123,"ENF","Ebserh",36,null,null,null,null,null,null,null,null,null,null,null,null,null,null,null,null,null,null,null,null,null,null,null,null,null,null,null,null,null,null,null,null,null,null,null,null,null,null,{"$f":"IF(A19<>\"\",IFERROR(VLOOKUP(N19,Tabelas!B:D,3,0),0),\"\")","v":0},{"$f":"IF(A19<>\"\",IFERROR(VLOOKUP(O19,Tabelas!B:D,3,0),0),\"\")","v":0},{"$f":"IF(A19<>\"\",IFERROR(VLOOKUP(P19,Tabelas!B:D,3,0),0),\"\")","v":0},{"$f":"IF(A19<>\"\",IFERROR(VLOOKUP(Q19,Tabelas!B:D,3,0),0),\"\")","v":0},{"$f":"IF(A19<>\"\",IFERROR(VLOOKUP(R19,Tabelas!B:D,3,0),0),\"\")","v":0},{"$f":"IF(A19<>\"\",IFERROR(VLOOKUP(S19,Tabelas!B:D,3,0),0),\"\")","v":0},{"$f":"IF(A19<>\"\",IFERROR(VLOOKUP(T19,Tabelas!B:D,3,0),0),\"\")","v":0},{"$f":"IF(A19<>\"\",IFERROR(VLOOKUP(U19,Tabelas!B:D,3,0),0),\"\")","v":0},{"$f":"IF(A19<>\"\",IFERROR(VLOOKUP(V19,Tabelas!B:D,3,0),0),\"\")","v":0},{"$f":"IF(A19<>\"\",IFERROR(VLOOKUP(W19,Tabelas!B:D,3,0),0),\"\")","v":0},{"$f":"IF(A19<>\"\",IFERROR(VLOOKUP(X19,Tabelas!B:D,3,0),0),\"\")","v":0},{"$f":"IF(A19<>\"\",IFERROR(VLOOKUP(Y19,Tabelas!B:D,3,0),0),\"\")","v":0},{"$f":"IF(A19<>\"\",IFERROR(VLOOKUP(Z19,Tabelas!B:D,3,0),0),\"\")","v":0},{"$f":"IF(A19<>\"\",IFERROR(VLOOKUP(AA19,Tabelas!B:D,3,0),0),\"\")","v":0},{"$f":"IF(A19<>\"\",IFERROR(VLOOKUP(AB19,Tabelas!B:D,3,0),0),\"\")","v":0},{"$f":"IF(A19<>\"\",IFERROR(VLOOKUP(AC19,Tabelas!B:D,3,0),0),\"\")","v":0},{"$f":"IF(A19<>\"\",IFERROR(VLOOKUP(AD19,Tabelas!B:D,3,0),0),\"\")","v":0},{"$f":"IF(A19<>\"\",IFERROR(VLOOKUP(AE19,Tabelas!B:D,3,0),0),\"\")","v":0},{"$f":"IF(A19<>\"\",IFERROR(VLOOKUP(AF19,Tabelas!B:D,3,0),0),\"\")","v":0},{"$f":"IF(A19<>\"\",IFERROR(VLOOKUP(AG19,Tabelas!B:D,3,0),0),\"\")","v":0},{"$f":"IF(A19<>\"\",IFERROR(VLOOKUP(AH19,Tabelas!B:D,3,0),0),\"\")","v":0},{"$f":"IF(A19<>\"\",IFERROR(VLOOKUP(AI19,Tabelas!B:D,3,0),0),\"\")","v":0},{"$f":"IF(A19<>\"\",IFERROR(VLOOKUP(AJ19,Tabelas!B:D,3,0),0),\"\")","v":0},{"$f":"IF(A19<>\"\",IFERROR(VLOOKUP(AK19,Tabelas!B:D,3,0),0),\"\")","v":0},{"$f":"IF(A19<>\"\",IFERROR(VLOOKUP(AL19,Tabelas!B:D,3,0),0),\"\")","v":0},{"$f":"IF(A19<>\"\",IFERROR(VLOOKUP(AM19,Tabelas!B:D,3,0),0),\"\")","v":0},{"$f":"IF(A19<>\"\",IFERROR(VLOOKUP(AN19,Tabelas!B:D,3,0),0),\"\")","v":0},{"$f":"IF(A19<>\"\",IFERROR(VLOOKUP(AO19,Tabelas!B:D,3,0),0),\"\")","v":0},{"$f":"IF(A19<>\"\",IFERROR(VLOOKUP(AP19,Tabelas!B:D,3,0),0),\"\")","v":0},{"$f":"IF(A19<>\"\",IFERROR(VLOOKUP(AQ19,Tabelas!B:D,3,0),0),\"\")","v":0},{"$f":"IF(A19<>\"\",IFERROR(VLOOKUP(AR19,Tabelas!B:D,3,0),0),\"\")","v":0},0,0,0,0,0,0,0,0,{"$f":"IF(A19<>\"\",COUNTIF(N19:AR19,\"APH\"),\"\")","v":0}]
["Fulano de Tal 12",1234567,123,"ENF","Ebserh",36,null,null,null,null,null,null,null,null,null,null,null,null,null,null,null,null,null,null,null,null,null,null,null,null,null,null,null,null,null,null,null,null,null,null,null,null,null,null,{"$f":"IF(A20<>\"\",IFERROR(VLOOKUP(N20,Tabelas!B:D,3,0),0),\"\")","v":0},{"$f":"IF(A20<>\"\",IFERROR(VLOOKUP(O20,Tabelas!B:D,3,0),0),\"\")","v":0},{"$f":"IF(A20<>\"\",IFERROR(VLOOKUP(P20,Tabelas!B:D,3,0),0),\"\")","v":0},{"$f":"IF(A20<>\"\",IFERROR(VLOOKUP(Q20,Tabelas!B:D,3,0),0),\"\")","v":0},{"$f":"IF(A20<>\"\",IFERROR(VLOOKUP(R20,Tabelas!B:D,3,0),0),\"\")","v":0},{"$f":"IF(A20<>\"\",IFERROR(VLOOKUP(S20,Tabelas!B:D,3,0),0),\"\")","v":0},{"$f":"IF(A20<>\"\",IFERROR(VLOOKUP(T20,Tabelas!B:D,3,0),0),\"\")","v":0},{"$f":"IF(A20<>\"\",IFERROR(VLOOKUP(U20,Tabelas!B:D,3,0),0),\"\")","v":0},{"$f":"IF(A20<>\"\",IFERROR(VLOOKUP(V20,Tabelas!B:D,3,0),0),\"\")","v":0},{"$f":"IF(A20<>\"\",IFERROR(VLOOKUP(W20,Tabelas!B:D,3,0),0),\"\")","v":0},{"$f":"IF(A20<>\"\",IFERROR(VLOOKUP(X20,Tabelas!B:D,3,0),0),\"\")","v":0},{"$f":"IF(A20<>\"\",IFERROR(VLOOKUP(Y20,Tabelas!B:D,3,0),0),\"\")","v":0},{"$f":"IF(A20<>\"\",IFERROR(VLOOKUP(Z20,Tabelas!B:D,3,0),0),\"\")","v":0},{"$f":"IF(A20<>\"\",IFERROR(VLOOKUP(AA20,Tabelas!B:D,3,0),0),\"\")","v":0},{"$f":"IF(A20<>\"\",IFERROR(VLOOKUP(AB20,Tabelas!B:D,3,0),0),\"\")","v":0},{"$f":"IF(A20<>\"\",IFERROR(VLOOKUP(AC20,Tabelas!B:D,3,0),0),\"\")","v":0},{"$f":"IF(A20<>\"\",IFERROR(VLOOKUP(AD20,Tabelas!B:D,3,0),0),\"\")","v":0},{"$f":"IF(A20<>\"\",IFERROR(VLOOKUP(AE20,Tabelas!B:D,3,0),0),\"\")","v":0},{"$f":"IF(A20<>\"\",IFERROR(VLOOKUP(AF20,Tabelas!B:D,3,0),0),\"\")","v":0},{"$f":"IF(A20<>\"\",IFERROR(VLOOKUP(AG20,Tabelas!B:D,3,0),0),\"\")","v":0},{"$f":"IF(A20<>\"\",IFERROR(VLOOKUP(AH20,Tabelas!B:D,3,0),0),\"\")","v":0},{"$f":"IF(A20<>\"\",IFERROR(VLOOKUP(AI20,Tabelas!B:D,3,0),0),\"\")","v":0},{"$f":"IF(A20<>\"\",IFERROR(VLOOKUP(AJ20,Tabelas!B:D,3,0),0),\"\")","v":0},{"$f":"IF(A20<>\"\",IFERROR(VLOOKUP(AK20,Tabelas!B:D,3,0),0),\"\")","v":0},{"$f":"IF(A20<>\"\",IFERROR(VLOOKUP(AL20,Tabelas!B:D,3,0),0),\"\")","v":0},{"$f":"IF(A20<>\"\",IFERROR(VLOOKUP(AM20,Tabelas!B:D,3,0),0),\"\")","v":0},{"$f":"IF(A20<>\"\",IFERROR(VLOOKUP(AN20,Tabelas!B:D,3,0),0),\"\")","v":0},{"$f":"IF(A20<>\"\",IFERROR(VLOOKUP(AO20,Tabelas!B:D,3,0),0),\"\")","v":0},{"$f":"IF(A20<>\"\",IFERROR(VLOOKUP(AP20,Tabelas!B:D,3,0),0),\"\")","v":0},{"$f":"IF(A20<>\"\",IFERROR(VLOOKUP(AQ20,Tabelas!B:D,3,0),0),\"\")","v":0},{"$f":"IF(A20<>\"\",IFERROR(VLOOKUP(AR20,Tabelas!B:D,3,0),0),\"\")","v":0},0,0,0,0,0,0,0,0,0]
["Fulano de Tal 13",1234567,123,"ENF","Ebserh",36,null,null,null,null,null,null,null,null,null,null,null,null,null,null,null,null,null,null,null,null,null,null,null,null,null,null,null,null,null,null,null,null,null,null,null,null,null,null,{"$f":"IF(A21<>\"\",IFERROR(VLOOKUP(N21,Tabelas!B:D,3,0),0),\"\")","v":0},{"$f":"IF(A21<>\"\",IFERROR(VLOOKUP(O21,Tabelas!B:D,3,0),0),\"\")","v":0},{"$f":"IF(A21<>\"\",IFERROR(VLOOKUP(P21,Tabelas!B:D,3,0),0),\"\")","v":0},{"$f":"IF(A21<>\"\",IFERROR(VLOOKUP(Q21,Tabelas!B:D,3,0),0),\"\")","v":0},{"$f":"IF(A21<>\"\",IFERROR(VLOOKUP(R21,Tabelas!B:D,3,0),0),\"\")","v":0},{"$f":"IF(A21<>\"\",IFERROR(VLOOKUP(S21,Tabelas!B:D,3,0),0),\"\")","v":0},{"$f":"IF(A21<>\"\",IFERROR(VLOOKUP(T21,Tabelas!B:D,3,0),0),\"\")","v":0},{"$f":"IF(A21<>\"\",IFERROR(VLOOKUP(U21,Tabelas!B:D,3,0),0),\"\")","v":0},{"$f":"IF(A21<>\"\",IFERROR(VLOOKUP(V21,Tabelas!B:D,3,0),0),\"\")","v":0},{"$f":"IF(A21<>\"\",IFERROR(VLOOKUP(W21,Tabelas!B:D,3,0),0),\"\")","v":0},{"$f":"IF(A21<>\"\",IFERROR(VLOOKUP(X21,Tabelas!B:D,3,0),0),\"\")","v":0},{"$f":"IF(A21<>\"\",IFERROR(VLOOKUP(Y21,Tabelas!B:D,3,0),0),\"\")","v":0},{"$f":"IF(A21<>\"\",IFERROR(VLOOKUP(Z21,Tabelas!B:D,3,0),0),\"\")","v":0},{"$f":"IF(A21<>\"\",IFERROR(VLOOKUP(AA21,Tabelas!B:D,3,0),0),\"\")","v":0},{"$f":"IF(A21<>\"\",IFERROR(VLOOKUP(AB21,Tabelas!B:D,3,0),0),\"\")","v":0},{"$f":"IF(A21<>\"\",IFERROR(VLOOKUP(AC21,Tabelas!B:D,3,0),0),\"\")","v":0},{"$f":"IF(A21<>\"\",IFERROR(VLOOKUP(AD21,Tabelas!B:D,3,0),0),\"\")","v":0},{"$f":"IF(A21<>\"\",IFERROR(VLOOKUP(AE21,Tabelas!B:D,3,0),0),\"\")","v":0},{"$f":"IF(A21<>\"\",IFERROR(VLOOKUP(AF21,Tabelas!B:D,3,0),0),\"\")","v":0},{"$f":"IF(A21<>\"\",IFERROR(VLOOKUP(AG21,Tabelas!B:D,3,0),0),\"\")","v":0},{"$f":"IF(A21<>\"\",IFERROR(VLOOKUP(AH21,Tabelas!B:D,3,0),0),\"\")","v":0},{"$f":"IF(A21<>\"\",IFERROR(VLOOKUP(AI21,Tabelas!B:D,3,0),0),\"\")","v":0},{"$f":"IF(A21<>\"\",IFERROR(VLOOKUP(AJ21,Tabelas!B:D,3,0),0),\"\")","v":0},{"$f":"IF(A21<>\"\",IFERROR(VLOOKUP(AK21,Tabelas!B:D,3,0),0),\"\")","v":0},{"$f":"IF(A21<>\"\",IFERROR(VLOOKUP(AL21,Tabelas!B:D,3,0),0),\"\")","v":0},{"$f":"IF(A21<>\"\",IFERROR(VLOOKUP(AM21,Tabelas!B:D,3,0),0),\"\")","v":0},{"$f":"IF(A21<>\"\",IFERROR(VLOOKUP(AN21,Tabelas!B:D,3,0),0),\"\")","v":0},{"$f":"IF(A21<>\"\",IFERROR(VLOOKUP(AO21,Tabelas!B:D,3,0),0),\"\")","v":0},{"$f":"IF(A21<>\"\",IFERROR(VLOOKUP(AP21,Tabelas!B:D,3,0),0),\"\")","v":0},{"$f":"IF(A21<>\"\",IFERROR(VLOOKUP(AQ21,Tabelas!B:D,3,0),0),\"\")","v":0},{"$f":"IF(A21<>\"\",IFERROR(VLOOKUP(AR21,Tabelas!B:D,3,0),0),\"\")","v":0},0,0,0,0,0,0,0,0,0]
["Fulano de Tal 14",1234567,123,"ENF","Ebserh",36,null,null,null,null,null,null,null,null,null,null,null,null,null,null,null,null,null,null,null,null,null,null,null,null,null,null,null,null,null,null,null,null,null,null,null,null,null,null,{"$f":"IF(A22<>\"\",IFERROR(VLOOKUP(N22,Tabelas!B:D,3,0),0),\"\")","v":0},{"$f":"IF(A22<>\"\",IFERROR(VLOOKUP(O22,Tabelas!B:D,3,0),0),\"\")","v":0},{"$f":"IF(A22<>\"\",IFERROR(VLOOKUP(P22,Tabelas!B:D,3,0),0),\"\")","v":0},{"$f":"IF(A22<>\"\",IFERROR(VLOOKUP(Q22,Tabelas!B:D,3,0),0),\"\")","v":0},{"$f":"IF(A22<>\"\",IFERROR(VLOOKUP(R22,Tabelas!B:D,3,0),0),\"\")","v":0},{"$f":"IF(A22<>\"\",IFERROR(VLOOKUP(S22,Tabelas!B:D,3,0),0),\"\")","v":0},{"$f":"IF(A22<>\"\",IFERROR(VLOOKUP(T22,Tabelas!B:D,3,0),0),\"\")","v":0},{"$f":"IF(A22<>\"\",IFERROR(VLOOKUP(U22,Tabelas!B:D,3,0),0),\"\")","v":0},{"$f":"IF(A22<>\"\",IFERROR(VLOOKUP(V22,Tabelas!B:D,3,0),0),\"\")","v":0},{"$f":"IF(A22<>\"\",IFERROR(VLOOKUP(W22,Tabelas!B:D,3,0),0),\"\")","v":0},{"$f":"IF(A22<>\"\",IFERROR(VLOOKUP(X22,Tabelas!B:D,3,0),0),\"\")","v":0},{"$f":"IF(A22<>\"\",IFERROR(VLOOKUP(Y22,Tabelas!B:D,3,0),0),\"\")","v":0},{"$f":"IF(A22<>\"\",IFERROR(VLOOKUP(Z22,Tabelas!B:D,3,0),0),\"\")","v":0},{"$f":"IF(A22<>\"\",IFERROR(VLOOKUP(AA22,Tabelas!B:D,3,0),0),\"\")","v":0},{"$f":"IF(A22<>\"\",IFERROR(VLOOKUP(AB22,Tabelas!B:D,3,0),0),\"\")","v":0},{"$f":"IF(A22<>\"\",IFERROR(VLOOKUP(AC22,Tabelas!B:D,3,0),0),\"\")","v":0},{"$f":"IF(A22<>\"\",IFERROR(VLOOKUP(AD22,Tabelas!B:D,3,0),0),\"\")","v":0},{"$f":"IF(A22<>\"\",IFERROR(VLOOKUP(AE22,Tabelas!B:D,3,0),0),\"\")","v":0},{"$f":"IF(A22<>\"\",IFERROR(VLOOKUP(AF22,Tabelas!B:D,3,0),0),\"\")","v":0},{"$f":"IF(A22<>\"\",IFERROR(VLOOKUP(AG22,Tabelas!B:D,3,0),0),\"\")","v":0},{"$f":"IF(A22<>\"\",IFERROR(VLOOKUP(AH22,Tabelas!B:D,3,0),0),\"\")","v":0},{"$f":"IF(A22<>\"\",IFERROR(VLOOKUP(AI22,Tabelas!B:D,3,0),0),\"\")","v":0},{"$f":"IF(A22<>\"\",IFERROR(VLOOKUP(AJ22,Tabelas!B:D,3,0),0),\"\")","v":0},{"$f":"IF(A22<>\"\",IFERROR(VLOOKUP(AK22,Tabelas!B:D,3,0),0),\"\")","v":0},{"$f":"IF(A22<>\"\",IFERROR(VLOOKUP(AL22,Tabelas!B:D,3,0),0),\"\")","v":0},{"$f":"IF(A22<>\"\",IFERROR(VLOOKUP(AM22,Tabelas!B:D,3,0),0),\"\")","v":0},{"$f":"IF(A22<>\"\",IFERROR(VLOOKUP(AN22,Tabelas!B:D,3,0),0),\"\")","v":0},{"$f":"IF(A22<>\"\",IFERROR(VLOOKUP(AO22,Tabelas!B:D,3,0),0),\"\")","v":0},{"$f":"IF(A22<>\"\",IFERROR(VLOOKUP(AP22,Tabelas!B:D,3,0),0),\"\")","v":0},{"$f":"IF(A22<>\"\",IFERROR(VLOOKUP(AQ22,Tabelas!B:D,3,0),0),\"\")","v":0},{"$f":"IF(A22<>\"\",IFERROR(VLOOKUP(AR22,Tabelas!B:D,3,0),0),\"\")","v":0},0,0,0,0,0,0,0,0,0]
["Fulano de Tal 15",1234567,123,"ENF","Ebserh",36,null,null,null,null,null,null,null,null,null,null,null,null,null,null,null,null,null,null,null,null,null,null,null,null,null,null,null,null,null,null,null,null,null,null,null,null,null,null,{"$f":"IF(A23<>\"\",IFERROR(VLOOKUP(N23,Tabelas!B:D,3,0),0),\"\")","v":0},{"$f":"IF(A23<>\"\",IFERROR(VLOOKUP(O23,Tabelas!B:D,3,0),0),\"\")","v":0},{"$f":"IF(A23<>\"\",IFERROR(VLOOKUP(P23,Tabelas!B:D,3,0),0),\"\")","v":0},{"$f":"IF(A23<>\"\",IFERROR(VLOOKUP(Q23,Tabelas!B:D,3,0),0),\"\")","v":0},{"$f":"IF(A23<>\"\",IFERROR(VLOOKUP(R23,Tabelas!B:D,3,0),0),\"\")","v":0},{"$f":"IF(A23<>\"\",IFERROR(VLOOKUP(S23,Tabelas!B:D,3,0),0),\"\")","v":0},{"$f":"IF(A23<>\"\",IFERROR(VLOOKUP(T23,Tabelas!B:D,3,0),0),\"\")","v":0},{"$f":"IF(A23<>\"\",IFERROR(VLOOKUP(U23,Tabelas!B:D,3,0),0),\"\")","v":0},{"$f":"IF(A23<>\"\",IFERROR(VLOOKUP(V23,Tabelas!B:D,3,0),0),\"\")","v":0},{"$f":"IF(A23<>\"\",IFERROR(VLOOKUP(W23,Tabelas!B:D,3,0),0),\"\")","v":0},{"$f":"IF(A23<>\"\",IFERROR(VLOOKUP(X23,Tabelas!B:D,3,0),0),\"\")","v":0},{"$f":"IF(A23<>\"\",IFERROR(VLOOKUP(Y23,Tabelas!B:D,3,0),0),\"\")","v":0},{"$f":"IF(A23<>\"\",IFERROR(VLOOKUP(Z23,Tabelas!B:D,3,0),0),\"\")","v":0},{"$f":"IF(A23<>\"\",IFERROR(VLOOKUP(AA23,Tabelas!B:D,3,0),0),\"\")","v":0},{"$f":"IF(A23<>\"\",IFERROR(VLOOKUP(AB23,Tabelas!B:D,3,0),0),\"\")","v":0},{"$f":"IF(A23<>\"\",IFERROR(VLOOKUP(AC23,Tabelas!B:D,3,0),0),\"\")","v":0},{"$f":"IF(A23<>\"\",IFERROR(VLOOKUP(AD23,Tabelas!B:D,3,0),0),\"\")","v":0},{"$f":"IF(A23<>\"\",IFERROR(VLOOKUP(AE23,Tabelas!B:D,3,0),0),\"\")","v":0},{"$f":"IF(A23<>\"\",IFERROR(VLOOKUP(AF23,Tabelas!B:D,3,0),0),\"\")","v":0},{"$f":"IF(A23<>\"\",IFERROR(VLOOKUP(AG23,Tabelas!B:D,3,0),0),\"\")","v":0},{"$f":"IF(A23<>\"\",IFERROR(VLOOKUP(AH23,Tabelas!B:D,3,0),0),\"\")","v":0},{"$f":"IF(A23<>\"\",IFERROR(VLOOKUP(AI23,Tabelas!B:D,3,0),0),\"\")","v":0},{"$f":"IF(A23<>\"\",IFERROR(VLOOKUP(AJ23,Tabelas!B:D,3,0),0),\"\")","v":0},{"$f":"IF(A23<>\"\",IFERROR(VLOOKUP(AK23,Tabelas!B:D,3,0),0),\"\")","v":0},{"$f":"IF(A23<>\"\",IFERROR(VLOOKUP(AL23,Tabelas!B:D,3,0),0),\"\")","v":0},{"$f":"IF(A23<>\"\",IFERROR(VLOOKUP(AM23,Tabelas!B:D,3,0),0),\"\")","v":0},{"$f":"IF(A23<>\"\",IFERROR(VLOOKUP(AN23,Tabelas!B:D,3,0),0),\"\")","v":0},{"$f":"IF(A23<>\"\",IFERROR(VLOOKUP(AO23,Tabelas!B:D,3,0),0),\"\")","v":0},{"$f":"IF(A23<>\"\",IFERROR(VLOOKUP(AP23,Tabelas!B:D,3,0),0),\"\")","v":0},{"$f":"IF(A23<>\"\",IFERROR(VLOOKUP(AQ23,Tabelas!B:D,3,0),0),\"\")","v":0},{"$f":"IF(A23<>\"\",IFERROR(VLOOKUP(AR23,Tabelas!B:D,3,0),0),\"\")","v":0},0,0,0,0,0,0,0,0,0]
["Fulano de Tal 16",1234567,123,"ENF","Ebserh",36,null,null,null,null,null,null,null,null,null,null,null,null,null,null,null,null,null,null,null,null,null,null,null,null,null,null,null,null,null,null,null,null,null,null,null,null,null,null,{"$f":"IF(A24<>\"\",IFERROR(VLOOKUP(N24,Tabelas!B:D,3,0),0),\"\")","v":0},{"$f":"IF(A24<>\"\",IFERROR(VLOOKUP(O24,Tabelas!B:D,3,0),0),\"\")","v":0},{"$f":"IF(A24<>\"\",IFERROR(VLOOKUP(P24,Tabelas!B:D,3,0),0),\"\")","v":0},{"$f":"IF(A24<>\"\",IFERROR(VLOOKUP(Q24,Tabelas!B:D,3,0),0),\"\")","v":0},{"$f":"IF(A24<>\"\",IFERROR(VLOOKUP(R24,Tabelas!B:D,3,0),0),\"\")","v":0},{"$f":"IF(A24<>\"\",IFERROR(VLOOKUP(S24,Tabelas!B:D,3,0),0),\"\")","v":0},{"$f":"IF(A24<>\"\",IFERROR(VLOOKUP(T24,Tabelas!B:D,3,0),0),\"\")","v":0},{"$f":"IF(A24<>\"\",IFERROR(VLOOKUP(U24,Tabelas!B:D,3,0),0),\"\")","v":0},{"$f":"IF(A24<>\"\",IFERROR(VLOOKUP(V24,Tabelas!B:D,3,0),0),\"\")","v":0},{"$f":"IF(A24<>\"\",IFERROR(VLOOKUP(W24,Tabelas!B:D,3,0),0),\"\")","v":0},{"$f":"IF(A24<>\"\",IFERROR(VLOOKUP(X24,Tabelas!B:D,3,0),0),\"\")","v":0},{"$f":"IF(A24<>\"\",IFERROR(VLOOKUP(Y24,Tabelas!B:D,3,0),0),\"\")","v":0},{"$f":"IF(A24<>\"\",IFERROR(VLOOKUP(Z24,Tabelas!B:D,3,0),0),\"\")","v":0},{"$f":"IF(A24<>\"\",IFERROR(VLOOKUP(AA24,Tabelas!B:D,3,0),0),\"\")","v":0},{"$f":"IF(A24<>\"\",IFERROR(VLOOKUP(AB24,Tabelas!B:D,3,0),0),\"\")","v":0},{"$f":"IF(A24<>\"\",IFERROR(VLOOKUP(AC24,Tabelas!B:D,3,0),0),\"\")","v":0},{"$f":"IF(A24<>\"\",IFERROR(VLOOKUP(AD24,Tabelas!B:D,3,0),0),\"\")","v":0},{"$f":"IF(A24<>\"\",IFERROR(VLOOKUP(AE24,Tabelas!B:D,3,0),0),\"\")","v":0},{"$f":"IF(A24<>\"\",IFERROR(VLOOKUP(AF24,Tabelas!B:D,3,0),0),\"\")","v":0},{"$f":"IF(A24<>\"\",IFERROR(VLOOKUP(AG24,Tabelas!B:D,3,0),0),\"\")","v":0},{"$f":"IF(A24<>\"\",IFERROR(VLOOKUP(AH24,Tabelas!B:D,3,0),0),\"\")","v":0},{"$f":"IF(A24<>\"\",IFERROR(VLOOKUP(AI24,Tabelas!B:D,3,0),0),\"\")","v":0},{"$f":"IF(A24<>\"\",IFERROR(VLOOKUP(AJ24,Tabelas!B:D,3,0),0),\"\")","v":0},{"$f":"IF(A24<>\"\",IFERROR(VLOOKUP(AK24,Tabelas!B:D,3,0),0),\"\")","v":0},{"$f":"IF(A24<>\"\",IFERROR(VLOOKUP(AL24,Tabelas!B:D,3,0),0),\"\")","v":0},{"$f":"IF(A24<>\"\",IFERROR(VLOOKUP(AM24,Tabelas!B:D,3,0),0),\"\")","v":0},{"$f":"IF(A24<>\"\",IFERROR(VLOOKUP(AN24,Tabelas!B:D,3,0),0),\"\")","v":0},{"$f":"IF(A24<>\"\",IFERROR(VLOOKUP(AO24,Tabelas!B:D,3,0),0),\"\")","v":0},{"$f":"IF(A24<>\"\",IFERROR(VLOOKUP(AP24,Tabelas!B:D,3,0),0),\"\")","v":0},{"$f":"IF(A24<>\"\",IFERROR(VLOOKUP(AQ24,Tabelas!B:D,3,0),0),\"\")","v":0},{"$f":"IF(A24<>\"\",IFERROR(VLOOKUP(AR24,Tabelas!B:D,3,0),0),\"\")","v":0},0,0,0,0,0,0,0,0,0]
["Fulano de Tal 17",1234567,123,"ENF","Ebserh",36,null,null,null,null,null,null,null,null,null,null,null,null,null,null,null,null,null,null,null,null,null,null,null,null,null,null,null,null,null,null,null,null,null,null,null,null,null,null,{"$f":"IF(A25<>\"\",IFERROR(VLOOKUP(N25,Tabelas!B:D,3,0),0),\"\")","v":0},{"$f":"IF(A25<>\"\",IFERROR(VLOOKUP(O25,Tabelas!B:D,3,0),0),\"\")","v":0},{"$f":"IF(A25<>\"\",IFERROR(VLOOKUP(P25,Tabelas!B:D,3,0),0),\"\")","v":0},{"$f":"IF(A25<>\"\",IFERROR(VLOOKUP(Q25,Tabelas!B:D,3,0),0),\"\")","v":0},{"$f":"IF(A25<>\"\",IFERROR(VLOOKUP(R25,Tabelas!B:D,3,0),0),\"\")","v":0},{"$f":"IF(A25<>\"\",IFERROR(VLOOKUP(S25,Tabelas!B:D,3,0),0),\"\")","v":0},{"$f":"IF(A25<>\"\",IFERROR(VLOOKUP(T25,Tabelas!B:D,3,0),0),\"\")","v":0},{"$f":"IF(A25<>\"\",IFERROR(VLOOKUP(U25,Tabelas!B:D,3,0),0),\"\")","v":0},{"$f":"IF(A25<>\"\",IFERROR(VLOOKUP(V25,Tabelas!B:D,3,0),0),\"\")","v":0},{"$f":"IF(A25<>\"\",IFERROR(VLOOKUP(W25,Tabelas!B:D,3,0),0),\"\")","v":0},{"$f":"IF(A25<>\"\",IFERROR(VLOOKUP(X25,Tabelas!B:D,3,0),0),\"\")","v":0},{"$f":"IF(A25<>\"\",IFERROR(VLOOKUP(Y25,Tabelas!B:D,3,0),0),\"\")","v":0},{"$f":"IF(A25<>\"\",IFERROR(VLOOKUP(Z25,Tabelas!B:D,3,0),0),\"\")","v":0},{"$f":"IF(A25<>\"\",IFERROR(VLOOKUP(AA25,Tabelas!B:D,3,0),0),\"\")","v":0},{"$f":"IF(A25<>\"\",IFERROR(VLOOKUP(AB25,Tabelas!B:D,3,0),0),\"\")","v":0},{"$f":"IF(A25<>\"\",IFERROR(VLOOKUP(AC25,Tabelas!B:D,3,0),0),\"\")","v":0},{"$f":"IF(A25<>\"\",IFERROR(VLOOKUP(AD25,Tabelas!B:D,3,0),0),\"\")","v":0},{"$f":"IF(A25<>\"\",IFERROR(VLOOKUP(AE25,Tabelas!B:D,3,0),0),\"\")","v":0},{"$f":"IF(A25<>\"\",IFERROR(VLOOKUP(AF25,Tabelas!B:D,3,0),0),\"\")","v":0},{"$f":"IF(A25<>\"\",IFERROR(VLOOKUP(AG25,Tabelas!B:D,3,0),0),\"\")","v":0},{"$f":"IF(A25<>\"\",IFERROR(VLOOKUP(AH25,Tabelas!B:D,3,0),0),\"\")","v":0},{"$f":"IF(A25<>\"\",IFERROR(VLOOKUP(AI25,Tabelas!B:D,3,0),0),\"\")","v":0},{"$f":"IF(A25<>\"\",IFERROR(VLOOKUP(AJ25,Tabelas!B:D,3,0),0),\"\")","v":0},{"$f":"IF(A25<>\"\",IFERROR(VLOOKUP(AK25,Tabelas!B:D,3,0),0),\"\")","v":0},{"$f":"IF(A25<>\"\",IFERROR(VLOOKUP(AL25,Tabelas!B:D,3,0),0),\"\")","v":0},{"$f":"IF(A25<>\"\",IFERROR(VLOOKUP(AM25,Tabelas!B:D,3,0),0),\"\")","v":0},{"$f":"IF(A25<>\"\",IFERROR(VLOOKUP(AN25,Tabelas!B:D,3,0),0),\"\")","v":0},{"$f":"IF(A25<>\"\",IFERROR(VLOOKUP(AO25,Tabelas!B:D,3,0),0),\"\")","v":0},{"$f":"IF(A25<>\"\",IFERROR(VLOOKUP(AP25,Tabelas!B:D,3,0),0),\"\")","v":0},{"$f":"IF(A25<>\"\",IFERROR(VLOOKUP(AQ25,Tabelas!B:D,3,0),0),\"\")","v":0},{"$f":"IF(A25<>\"\",IFERROR(VLOOKUP(AR25,Tabelas!B:D,3,0),0),\"\")","v":0},0,0,0,0,0,0,0,0,0]
["Fulano de Tal 18",1234567,123,"ENF","Ebserh",36,null,null,null,null,null,null,null,null,null,null,null,null,null,null,null,null,null,null,null,null,null,null,null,null,null,null,null,null,null,null,null,null,null,null,null,null,null,null,{"$f":"IF(A26<>\"\",IFERROR(VLOOKUP(N26,Tabelas!B:D,3,0),0),\"\")","v":0},{"$f":"IF(A26<>\"\",IFERROR(VLOOKUP(O26,Tabelas!B:D,3,0),0),\"\")","v":0},{"$f":"IF(A26<>\"\",IFERROR(VLOOKUP(P26,Tabelas!B:D,3,0),0),\"\")","v":0},{"$f":"IF(A26<>\"\",IFERROR(VLOOKUP(Q26,Tabelas!B:D,3,0),0),\"\")","v":0},{"$f":"IF(A26<>\"\",IFERROR(VLOOKUP(R26,Tabelas!B:D,3,0),0),\"\")","v":0},{"$f":"IF(A26<>\"\",IFERROR(VLOOKUP(S26,Tabelas!B:D,3,0),0),\"\")","v":0},{"$f":"IF(A26<>\"\",IFERROR(VLOOKUP(T26,Tabelas!B:D,3,0),0),\"\")","v":0},{"$f":"IF(A26<>\"\",IFERROR(VLOOKUP(U26,Tabelas!B:D,3,0),0),\"\")","v":0},{"$f":"IF(A26<>\"\",IFERROR(VLOOKUP(V26,Tabelas!B:D,3,0),0),\"\")","v":0},{"$f":"IF(A26<>\"\",IFERROR(VLOOKUP(W26,Tabelas!B:D,3,0),0),\"\")","v":0},{"$f":"IF(A26<>\"\",IFERROR(VLOOKUP(X26,Tabelas!B:D,3,0),0),\"\")","v":0},{"$f":"IF(A26<>\"\",IFERROR(VLOOKUP(Y26,Tabelas!B:D,3,0),0),\"\")","v":0},{"$f":"IF(A26<>\"\",IFERROR(VLOOKUP(Z26,Tabelas!B:D,3,0),0),\"\")","v":0},{"$f":"IF(A26<>\"\",IFERROR(VLOOKUP(AA26,Tabelas!B:D,3,0),0),\"\")","v":0},{"$f":"IF(A26<>\"\",IFERROR(VLOOKUP(AB26,Tabelas!B:D,3,0),0),\"\")","v":0},{"$f":"IF(A26<>\"\",IFERROR(VLOOKUP(AC26,Tabelas!B:D,3,0),0),\"\")","v":0},{"$f":"IF(A26<>\"\",IFERROR(VLOOKUP(AD26,Tabelas!B:D,3,0),0),\"\")","v":0},{"$f":"IF(A26<>\"\",IFERROR(VLOOKUP(AE26,Tabelas!B:D,3,0),0),\"\")","v":0},{"$f":"IF(A26<>\"\",IFERROR(VLOOKUP(AF26,Tabelas!B:D,3,0),0),\"\")","v":0},{"$f":"IF(A26<>\"\",IFERROR(VLOOKUP(AG26,Tabelas!B:D,3,0),0),\"\")","v":0},{"$f":"IF(A26<>\"\",IFERROR(VLOOKUP(AH26,Tabelas!B:D,3,0),0),\"\")","v":0},{"$f":"IF(A26<>\"\",IFERROR(VLOOKUP(AI26,Tabelas!B:D,3,0),0),\"\")","v":0},{"$f":"IF(A26<>\"\",IFERROR(VLOOKUP(AJ26,Tabelas!B:D,3,0),0),\"\")","v":0},{"$f":"IF(A26<>\"\",IFERROR(VLOOKUP(AK26,Tabelas!B:D,3,0),0),\"\")","v":0},{"$f":"IF(A26<>\"\",IFERROR(VLOOKUP(AL26,Tabelas!B:D,3,0),0),\"\")","v":0},{"$f":"IF(A26<>\"\",IFERROR(VLOOKUP(AM26,Tabelas!B:D,3,0),0),\"\")","v":0},{"$f":"IF(A26<>\"\",IFERROR(VLOOKUP(AN26,Tabelas!B:D,3,0),0),\"\")","v":0},{"$f":"IF(A26<>\"\",IFERROR(VLOOKUP(AO26,Tabelas!B:D,3,0),0),\"\")","v":0},{"$f":"IF(A26<>\"\",IFERROR(VLOOKUP(AP26,Tabelas!B:D,3,0),0),\"\")","v":0},{"$f":"IF(A26<>\"\",IFERROR(VLOOKUP(AQ26,Tabelas!B:D,3,0),0),\"\")","v":0},{"$f":"IF(A26<>\"\",IFERROR(VLOOKUP(AR26,Tabelas!B:D,3,0),0),\"\")","v":0},0,0,0,0,0,0,0,0,0]
["Fulano de Tal 19",1234567,123,"ENF","Ebserh",36,null,null,null,null,null,null,null,null,null,null,null,null,null,null,null,null,null,null,null,null,null,null,null,null,null,null,null,null,null,null,null,null,null,null,null,null,null,null,{"$f":"IF(A27<>\"\",IFERROR(VLOOKUP(N27,Tabelas!B:D,3,0),0),\"\")","v":0},{"$f":"IF(A27<>\"\",IFERROR(VLOOKUP(O27,Tabelas!B:D,3,0),0),\"\")","v":0},{"$f":"IF(A27<>\"\",IFERROR(VLOOKUP(P27,Tabelas!B:D,3,0),0),\"\")","v":0},{"$f":"IF(A27<>\"\",IFERROR(VLOOKUP(Q27,Tabelas!B:D,3,0),0),\"\")","v":0},{"$f":"IF(A27<>\"\",IFERROR(VLOOKUP(R27,Tabelas!B:D,3,0),0),\"\")","v":0},{"$f":"IF(A27<>\"\",IFERROR(VLOOKUP(S27,Tabelas!B:D,3,0),0),\"\")","v":0},{"$f":"IF(A27<>\"\",IFERROR(VLOOKUP(T27,Tabelas!B:D,3,0),0),\"\")","v":0},{"$f":"IF(A27<>\"\",IFERROR(VLOOKUP(U27,Tabelas!B:D,3,0),0),\"\")","v":0},{"$f":"IF(A27<>\"\",IFERROR(VLOOKUP(V27,Tabelas!B:D,3,0),0),\"\")","v":0},{"$f":"IF(A27<>\"\",IFERROR(VLOOKUP(W27,Tabelas!B:D,3,0),0),\"\")","v":0},{"$f":"IF(A27<>\"\",IFERROR(VLOOKUP(X27,Tabelas!B:D,3,0),0),\"\")","v":0},{"$f":"IF(A27<>\"\",IFERROR(VLOOKUP(Y27,Tabelas!B:D,3,0),0),\"\")","v":0},{"$f":"IF(A27<>\"\",IFERROR(VLOOKUP(Z27,Tabelas!B:D,3,0),0),\"\")","v":0},{"$f":"IF(A27<>\"\",IFERROR(VLOOKUP(AA27,Tabelas!B:D,3,0),0),\"\")","v":0},{"$f":"IF(A27<>\"\",IFERROR(VLOOKUP(AB27,Tabelas!B:D,3,0),0),\"\")","v":0},{"$f":"IF(A27<>\"\",IFERROR(VLOOKUP(AC27,Tabelas!B:D,3,0),0),\"\")","v":0},{"$f":"IF(A27<>\"\",IFERROR(VLOOKUP(AD27,Tabelas!B:D,3,0),0),\"\")","v":0},{"$f":"IF(A27<>\"\",IFERROR(VLOOKUP(AE27,Tabelas!B:D,3,0),0),\"\")","v":0},{"$f":"IF(A27<>\"\",IFERROR(VLOOKUP(AF27,Tabelas!B:D,3,0),0),\"\")","v":0},{"$f":"IF(A27<>\"\",IFERROR(VLOOKUP(AG27,Tabelas!B:D,3,0),0),\"\")","v":0},{"$f":"IF(A27<>\"\",IFERROR(VLOOKUP(AH27,Tabelas!B:D,3,0),0),\"\")","v":0},{"$f":"IF(A27<>\"\",IFERROR(VLOOKUP(AI27,Tabelas!B:D,3,0),0),\"\")","v":0},{"$f":"IF(A27<>\"\",IFERROR(VLOOKUP(AJ27,Tabelas!B:D,3,0),0),\"\")","v":0},{"$f":"IF(A27<>\"\",IFERROR(VLOOKUP(AK27,Tabelas!B:D,3,0),0),\"\")","v":0},{"$f":"IF(A27<>\"\",IFERROR(VLOOKUP(AL27,Tabelas!B:D,3,0),0),\"\")","v":0},{"$f":"IF(A27<>\"\",IFERROR(VLOOKUP(AM27,Tabelas!B:D,3,0),0),\"\")","v":0},{"$f":"IF(A27<>\"\",IFERROR(VLOOKUP(AN27,Tabelas!B:D,3,0),0),\"\")","v":0},{"$f":"IF(A27<>\"\",IFERROR(VLOOKUP(AO27,Tabelas!B:D,3,0),0),\"\")","v":0},{"$f":"IF(A27<>\"\",IFERROR(VLOOKUP(AP27,Tabelas!B:D,3,0),0),\"\")","v":0},{"$f":"IF(A27<>\"\",IFERROR(VLOOKUP(AQ27,Tabelas!B:D,3,0),0),\"\")","v":0},{"$f":"IF(A27<>\"\",IFERROR(VLOOKUP(AR27,Tabelas!B:D,3,0),0),\"\")","v":0},0,0,0,0,0,0,0,0,0]
["Fulano de Tal 20",1234567,123,"ENF","Ebserh",36,null,null,null,null,null,null,null,null,null,null,null,null,null,null,null,null,null,null,null,null,null,null,null,null,null,null,null,null,null,null,null,null,null,null,null,null,null,null,{"$f":"IF(A28<>\"\",IFERROR(VLOOKUP(N28,Tabelas!B:D,3,0),0),\"\")","v":0},{"$f":"IF(A28<>\"\",IFERROR(VLOOKUP(O28,Tabelas!B:D,3,0),0),\"\")","v":0},{"$f":"IF(A28<>\"\",IFERROR(VLOOKUP(P28,Tabelas!B:D,3,0),0),\"\")","v":0},{"$f":"IF(A28<>\"\",IFERROR(VLOOKUP(Q28,Tabelas!B:D,3,0),0),\"\")","v":0},{"$f":"IF(A28<>\"\",IFERROR(VLOOKUP(R28,Tabelas!B:D,3,0),0),\"\")","v":0},{"$f":"IF(A28<>\"\",IFERROR(VLOOKUP(S28,Tabelas!B:D,3,0),0),\"\")","v":0},{"$f":"IF(A28<>\"\",IFERROR(VLOOKUP(T28,Tabelas!B:D,3,0),0),\"\")","v":0},{"$f":"IF(A28<>\"\",IFERROR(VLOOKUP(U28,Tabelas!B:D,3,0),0),\"\")","v":0},{"$f":"IF(A28<>\"\",IFERROR(VLOOKUP(V28,Tabelas!B:D,3,0),0),\"\")","v":0},{"$f":"IF(A28<>\"\",IFERROR(VLOOKUP(W28,Tabelas!B:D,3,0),0),\"\")","v":0},{"$f":"IF(A28<>\"\",IFERROR(VLOOKUP(X28,Tabelas!B:D,3,0),0),\"\")","v":0},{"$f":"IF(A28<>\"\",IFERROR(VLOOKUP(Y28,Tabelas!B:D,3,0),0),\"\")","v":0},{"$f":"IF(A28<>\"\",IFERROR(VLOOKUP(Z28,Tabelas!B:D,3,0),0),\"\")","v":0},{"$f":"IF(A28<>\"\",IFERROR(VLOOKUP(AA28,Tabelas!B:D,3,0),0),\"\")","v":0},{"$f":"IF(A28<>\"\",IFERROR(VLOOKUP(AB28,Tabelas!B:D,3,0),0),\"\")","v":0},{"$f":"IF(A28<>\"\",IFERROR(VLOOKUP(AC28,Tabelas!B:D,3,0),0),\"\")","v":0},{"$f":"IF(A28<>\"\",IFERROR(VLOOKUP(AD28,Tabelas!B:D,3,0),0),\"\")","v":0},{"$f":"IF(A28<>\"\",IFERROR(VLOOKUP(AE28,Tabelas!B:D,3,0),0),\"\")","v":0},{"$f":"IF(A28<>\"\",IFERROR(VLOOKUP(AF28,Tabelas!B:D,3,0),0),\"\")","v":0},{"$f":"IF(A28<>\"\",IFERROR(VLOOKUP(AG28,Tabelas!B:D,3,0),0),\"\")","v":0},{"$f":"IF(A28<>\"\",IFERROR(VLOOKUP(AH28,Tabelas!B:D,3,0),0),\"\")","v":0},{"$f":"IF(A28<>\"\",IFERROR(VLOOKUP(AI28,Tabelas!B:D,3,0),0),\"\")","v":0},{"$f":"IF(A28<>\"\",IFERROR(VLOOKUP(AJ28,Tabelas!B:D,3,0),0),\"\")","v":0},{"$f":"IF(A28<>\"\",IFERROR(VLOOKUP(AK28,Tabelas!B:D,3,0),0),\"\")","v":0},{"$f":"IF(A28<>\"\",IFERROR(VLOOKUP(AL28,Tabelas!B:D,3,0),0),\"\")","v":0},{"$f":"IF(A28<>\"\",IFERROR(VLOOKUP(AM28,Tabelas!B:D,3,0),0),\"\")","v":0},{"$f":"IF(A28<>\"\",IFERROR(VLOOKUP(AN28,Tabelas!B:D,3,0),0),\"\")","v":0},{"$f":"IF(A28<>\"\",IFERROR(VLOOKUP(AO28,Tabelas!B:D,3,0),0),\"\")","v":0},{"$f":"IF(A28<>\"\",IFERROR(VLOOKUP(AP28,Tabelas!B:D,3,0),0),\"\")","v":0},{"$f":"IF(A28<>\"\",IFERROR(VLOOKUP(AQ28,Tabelas!B:D,3,0),0),\"\")","v":0},{"$f":"IF(A28<>\"\",IFERROR(VLOOKUP(AR28,Tabelas!B:D,3,0),0),\"\")","v":0},0,0,0,0,0,0,0,0,0]
["Fulano de Tal 21",1234567,123,"ENF","Ebserh",36,null,null,null,null,null,null,null,null,null,null,null,null,null,null,null,null,null,null,null,null,null,null,null,null,null,null,null,null,null,null,null,null,null,null,null,null,null,null,{"$f":"IF(A29<>\"\",IFERROR(VLOOKUP(N29,Tabelas!B:D,3,0),0),\"\")","v":0},{"$f":"IF(A29<>\"\",IFERROR(VLOOKUP(O29,Tabelas!B:D,3,0),0),\"\")","v":0},{"$f":"IF(A29<>\"\",IFERROR(VLOOKUP(P29,Tabelas!B:D,3,0),0),\"\")","v":0},{"$f":"IF(A29<>\"\",IFERROR(VLOOKUP(Q29,Tabelas!B:D,3,0),0),\"\")","v":0},{"$f":"IF(A29<>\"\",IFERROR(VLOOKUP(R29,Tabelas!B:D,3,0),0),\"\")","v":0},{"$f":"IF(A29<>\"\",IFERROR(VLOOKUP(S29,Tabelas!B:D,3,0),0),\"\")","v":0},{"$f":"IF(A29<>\"\",IFERROR(VLOOKUP(T29,Tabelas!B:D,3,0),0),\"\")","v":0},{"$f":"IF(A29<>\"\",IFERROR(VLOOKUP(U29,Tabelas!B:D,3,0),0),\"\")","v":0},{"$f":"IF(A29<>\"\",IFERROR(VLOOKUP(V29,Tabelas!B:D,3,0),0),\"\")","v":0},{"$f":"IF(A29<>\"\",IFERROR(VLOOKUP(W29,Tabelas!B:D,3,0),0),\"\")","v":0},{"$f":"IF(A29<>\"\",IFERROR(VLOOKUP(X29,Tabelas!B:D,3,0),0),\"\")","v":0},{"$f":"IF(A29<>\"\",IFERROR(VLOOKUP(Y29,Tabelas!B:D,3,0),0),\"\")","v":0},{"$f":"IF(A29<>\"\",IFERROR(VLOOKUP(Z29,Tabelas!B:D,3,0),0),\"\")","v":0},{"$f":"IF(A29<>\"\",IFERROR(VLOOKUP(AA29,Tabelas!B:D,3,0),0),\"\")","v":0},{"$f":"IF(A29<>\"\",IFERROR(VLOOKUP(AB29,Tabelas!B:D,3,0),0),\"\")","v":0},{"$f":"IF(A29<>\"\",IFERROR(VLOOKUP(AC29,Tabelas!B:D,3,0),0),\"\")","v":0},{"$f":"IF(A29<>\"\",IFERROR(VLOOKUP(AD29,Tabelas!B:D,3,0),0),\"\")","v":0},{"$f":"IF(A29<>\"\",IFERROR(VLOOKUP(AE29,Tabelas!B:D,3,0),0),\"\")","v":0},{"$f":"IF(A29<>\"\",IFERROR(VLOOKUP(AF29,Tabelas!B:D,3,0),0),\"\")","v":0},{"$f":"IF(A29<>\"\",IFERROR(VLOOKUP(AG29,Tabelas!B:D,3,0),0),\"\")","v":0},{"$f":"IF(A29<>\"\",IFERROR(VLOOKUP(AH29,Tabelas!B:D,3,0),0),\"\")","v":0},{"$f":"IF(A29<>\"\",IFERROR(VLOOKUP(AI29,Tabelas!B:D,3,0),0),\"\")","v":0},{"$f":"IF(A29<>\"\",IFERROR(VLOOKUP(AJ29,Tabelas!B:D,3,0),0),\"\")","v":0},{"$f":"IF(A29<>\"\",IFERROR(VLOOKUP(AK29,Tabelas!B:D,3,0),0),\"\")","v":0},{"$f":"IF(A29<>\"\",IFERROR(VLOOKUP(AL29,Tabelas!B:D,3,0),0),\"\")","v":0},{"$f":"IF(A29<>\"\",IFERROR(VLOOKUP(AM29,Tabelas!B:D,3,0),0),\"\")","v":0},{"$f":"IF(A29<>\"\",IFERROR(VLOOKUP(AN29,Tabelas!B:D,3,0),0),\"\")","v":0},{"$f":"IF(A29<>\"\",IFERROR(VLOOKUP(AO29,Tabelas!B:D,3,0),0),\"\")","v":0},{"$f":"IF(A29<>\"\",IFERROR(VLOOKUP(AP29,Tabelas!B:D,3,0),0),\"\")","v":0},{"$f":"IF(A29<>\"\",IFERROR(VLOOKUP(AQ29,Tabelas!B:D,3,0),0),\"\")","v":0},{"$f":"IF(A29<>\"\",IFERROR(VLOOKUP(AR29,Tabelas!B:D,3,0),0),\"\")","v":0},0,0,0,0,0,0,0,0,0]
["Fulano de Tal 22",1234567,123,"ENF","Ebserh",36,null,null,null,null,null,null,null,null,null,null,null,null,null,null,null,null,null,null,null,null,null,null,null,null,null,null,null,null,null,null,null,null,null,null,null,null,null,null,{"$f":"IF(A30<>\"\",IFERROR(VLOOKUP(N30,Tabelas!B:D,3,0),0),\"\")","v":0},{"$f":"IF(A30<>\"\",IFERROR(VLOOKUP(O30,Tabelas!B:D,3,0),0),\"\")","v":0},{"$f":"IF(A30<>\"\",IFERROR(VLOOKUP(P30,Tabelas!B:D,3,0),0),\"\")","v":0},{"$f":"IF(A30<>\"\",IFERROR(VLOOKUP(Q30,Tabelas!B:D,3,0),0),\"\")","v":0},{"$f":"IF(A30<>\"\",IFERROR(VLOOKUP(R30,Tabelas!B:D,3,0),0),\"\")","v":0},{"$f":"IF(A30<>\"\",IFERROR(VLOOKUP(S30,Tabelas!B:D,3,0),0),\"\")","v":0},{"$f":"IF(A30<>\"\",IFERROR(VLOOKUP(T30,Tabelas!B:D,3,0),0),\"\")","v":0},{"$f":"IF(A30<>\"\",IFERROR(VLOOKUP(U30,Tabelas!B:D,3,0),0),\"\")","v":0},{"$f":"IF(A30<>\"\",IFERROR(VLOOKUP(V30,Tabelas!B:D,3,0),0),\"\")","v":0},{"$f":"IF(A30<>\"\",IFERROR(VLOOKUP(W30,Tabelas!B:D,3,0),0),\"\")","v":0},{"$f":"IF(A30<>\"\",IFERROR(VLOOKUP(X30,Tabelas!B:D,3,0),0),\"\")","v":0},{"$f":"IF(A30<>\"\",IFERROR(VLOOKUP(Y30,Tabelas!B:D,3,0),0),\"\")","v":0},{"$f":"IF(A30<>\"\",IFERROR(VLOOKUP(Z30,Tabelas!B:D,3,0),0),\"\")","v":0},{"$f":"IF(A30<>\"\",IFERROR(VLOOKUP(AA30,Tabelas!B:D,3,0),0),\"\")","v":0},{"$f":"IF(A30<>\"\",IFERROR(VLOOKUP(AB30,Tabelas!B:D,3,0),0),\"\")","v":0},{"$f":"IF(A30<>\"\",IFERROR(VLOOKUP(AC30,Tabelas!B:D,3,0),0),\"\")","v":0},{"$f":"IF(A30<>\"\",IFERROR(VLOOKUP(AD30,Tabelas!B:D,3,0),0),\"\")","v":0},{"$f":"IF(A30<>\"\",IFERROR(VLOOKUP(AE30,Tabelas!B:D,3,0),0),\"\")","v":0},{"$f":"IF(A30<>\"\",IFERROR(VLOOKUP(AF30,Tabelas!B:D,3,0),0),\"\")","v":0},{"$f":"IF(A30<>\"\",IFERROR(VLOOKUP(AG30,Tabelas!B:D,3,0),0),\"\")","v":0},{"$f":"IF(A30<>\"\",IFERROR(VLOOKUP(AH30,Tabelas!B:D,3,0),0),\"\")","v":0},{"$f":"IF(A30<>\"\",IFERROR(VLOOKUP(AI30,Tabelas!B:D,3,0),0),\"\")","v":0},{"$f":"IF(A30<>\"\",IFERROR(VLOOKUP(AJ30,Tabelas!B:D,3,0),0),\"\")","v":0},{"$f":"IF(A30<>\"\",IFERROR(VLOOKUP(AK30,Tabelas!B:D,3,0),0),\"\")","v":0},{"$f":"IF(A30<>\"\",IFERROR(VLOOKUP(AL30,Tabelas!B:D,3,0),0),\"\")","v":0},{"$f":"IF(A30<>\"\",IFERROR(VLOOKUP(AM30,Tabelas!B:D,3,0),0),\"\")","v":0},{"$f":"IF(A30<>\"\",IFERROR(VLOOKUP(AN30,Tabelas!B:D,3,0),0),\"\")","v":0},{"$f":"IF(A30<>\"\",IFERROR(VLOOKUP(AO30,Tabelas!B:D,3,0),0),\"\")","v":0},{"$f":"IF(A30<>\"\",IFERROR(VLOOKUP(AP30,Tabelas!B:D,3,0),0),\"\")","v":0},{"$f":"IF(A30<>\"\",IFERROR(VLOOKUP(AQ30,Tabelas!B:D,3,0),0),\"\")","v":0},{"$f":"IF(A30<>\"\",IFERROR(VLOOKUP(AR30,Tabelas!B:D,3,0),0),\"\")","v":0},0,0,0,0,0,0,0,0,0]
["Fulano de Tal 23",1234567,123,"ENF","Ebserh",36,null,null,null,null,null,null,null,null,null,null,null,null,null,null,null,null,null,null,null,null,null,null,null,null,null,null,null,null,null,null,null,null,null,null,null,null,null,null,{"$f":"IF(A31<>\"\",IFERROR(VLOOKUP(N31,Tabelas!B:D,3,0),0),\"\")","v":0},{"$f":"IF(A31<>\"\",IFERROR(VLOOKUP(O31,Tabelas!B:D,3,0),0),\"\")","v":0},{"$f":"IF(A31<>\"\",IFERROR(VLOOKUP(P31,Tabelas!B:D,3,0),0),\"\")","v":0},{"$f":"IF(A31<>\"\",IFERROR(VLOOKUP(Q31,Tabelas!B:D,3,0),0),\"\")","v":0},{"$f":"IF(A31<>\"\",IFERROR(VLOOKUP(R31,Tabelas!B:D,3,0),0),\"\")","v":0},{"$f":"IF(A31<>\"\",IFERROR(VLOOKUP(S31,Tabelas!B:D,3,0),0),\"\")","v":0},{"$f":"IF(A31<>\"\",IFERROR(VLOOKUP(T31,Tabelas!B:D,3,0),0),\"\")","v":0},{"$f":"IF(A31<>\"\",IFERROR(VLOOKUP(U31,Tabelas!B:D,3,0),0),\"\")","v":0},{"$f":"IF(A31<>\"\",IFERROR(VLOOKUP(V31,Tabelas!B:D,3,0),0),\"\")","v":0},{"$f":"IF(A31<>\"\",IFERROR(VLOOKUP(W31,Tabelas!B:D,3,0),0),\"\")","v":0},{"$f":"IF(A31<>\"\",IFERROR(VLOOKUP(X31,Tabelas!B:D,3,0),0),\"\")","v":0},{"$f":"IF(A31<>\"\",IFERROR(VLOOKUP(Y31,Tabelas!B:D,3,0),0),\"\")","v":0},{"$f":"IF(A31<>\"\",IFERROR(VLOOKUP(Z31,Tabelas!B:D,3,0),0),\"\")","v":0},{"$f":"IF(A31<>\"\",IFERROR(VLOOKUP(AA31,Tabelas!B:D,3,0),0),\"\")","v":0},{"$f":"IF(A31<>\"\",IFERROR(VLOOKUP(AB31,Tabelas!B:D,3,0),0),\"\")","v":0},{"$f":"IF(A31<>\"\",IFERROR(VLOOKUP(AC31,Tabelas!B:D,3,0),0),\"\")","v":0},{"$f":"IF(A31<>\"\",IFERROR(VLOOKUP(AD31,Tabelas!B:D,3,0),0),\"\")","v":0},{"$f":"IF(A31<>\"\",IFERROR(VLOOKUP(AE31,Tabelas!B:D,3,0),0),\"\")","v":0},{"$f":"IF(A31<>\"\",IFERROR(VLOOKUP(AF31,Tabelas!B:D,3,0),0),\"\")","v":0},{"$f":"IF(A31<>\"\",IFERROR(VLOOKUP(AG31,Tabelas!B:D,3,0),0),\"\")","v":0},{"$f":"IF(A31<>\"\",IFERROR(VLOOKUP(AH31,Tabelas!B:D,3,0),0),\"\")","v":0},{"$f":"IF(A31<>\"\",IFERROR(VLOOKUP(AI31,Tabelas!B:D,3,0),0),\"\")","v":0},{"$f":"IF(A31<>\"\",IFERROR(VLOOKUP(AJ31,Tabelas!B:D,3,0),0),\"\")","v":0},{"$f":"IF(A31<>\"\",IFERROR(VLOOKUP(AK31,Tabelas!B:D,3,0),0),\"\")","v":0},{"$f":"IF(A31<>\"\",IFERROR(VLOOKUP(AL31,Tabelas!B:D,3,0),0),\"\")","v":0},{"$f":"IF(A31<>\"\",IFERROR(VLOOKUP(AM31,Tabelas!B:D,3,0),0),\"\")","v":0},{"$f":"IF(A31<>\"\",IFERROR(VLOOKUP(AN31,Tabelas!B:D,3,0),0),\"\")","v":0},{"$f":"IF(A31<>\"\",IFERROR(VLOOKUP(AO31,Tabelas!B:D,3,0),0),\"\")","v":0},{"$f":"IF(A31<>\"\",IFERROR(VLOOKUP(AP31,Tabelas!B:D,3,0),0),\"\")","v":0},{"$f":"IF(A31<>\"\",IFERROR(VLOOKUP(AQ31,Tabelas!B:D,3,0),0),\"\")","v":0},{"$f":"IF(A31<>\"\",IFERROR(VLOOKUP(AR31,Tabelas!B:D,3,0),0),\"\")","v":0},0,0,0,0,0,0,0,0,0]
["Fulano de Tal 24",1234567,123,"ENF","Ebserh",36,null,null,null,null,null,null,null,null,null,null,null,null,null,null,null,null,null,null,null,null,null,null,null,null,null,null,null,null,null,null,null,null,null,null,null,null,null,null,{"$f":"IF(A32<>\"\",IFERROR(VLOOKUP(N32,Tabelas!B:D,3,0),0),\"\")","v":0},{"$f":"IF(A32<>\"\",IFERROR(VLOOKUP(O32,Tabelas!B:D,3,0),0),\"\")","v":0},{"$f":"IF(A32<>\"\",IFERROR(VLOOKUP(P32,Tabelas!B:D,3,0),0),\"\")","v":0},{"$f":"IF(A32<>\"\",IFERROR(VLOOKUP(Q32,Tabelas!B:D,3,0),0),\"\")","v":0},{"$f":"IF(A32<>\"\",IFERROR(VLOOKUP(R32,Tabelas!B:D,3,0),0),\"\")","v":0},{"$f":"IF(A32<>\"\",IFERROR(VLOOKUP(S32,Tabelas!B:D,3,0),0),\"\")","v":0},{"$f":"IF(A32<>\"\",IFERROR(VLOOKUP(T32,Tabelas!B:D,3,0),0),\"\")","v":0},{"$f":"IF(A32<>\"\",IFERROR(VLOOKUP(U32,Tabelas!B:D,3,0),0),\"\")","v":0},{"$f":"IF(A32<>\"\",IFERROR(VLOOKUP(V32,Tabelas!B:D,3,0),0),\"\")","v":0},{"$f":"IF(A32<>\"\",IFERROR(VLOOKUP(W32,Tabelas!B:D,3,0),0),\"\")","v":0},{"$f":"IF(A32<>\"\",IFERROR(VLOOKUP(X32,Tabelas!B:D,3,0),0),\"\")","v":0},{"$f":"IF(A32<>\"\",IFERROR(VLOOKUP(Y32,Tabelas!B:D,3,0),0),\"\")","v":0},{"$f":"IF(A32<>\"\",IFERROR(VLOOKUP(Z32,Tabelas!B:D,3,0),0),\"\")","v":0},{"$f":"IF(A32<>\"\",IFERROR(VLOOKUP(AA32,Tabelas!B:D,3,0),0),\"\")","v":0},{"$f":"IF(A32<>\"\",IFERROR(VLOOKUP(AB32,Tabelas!B:D,3,0),0),\"\")","v":0},{"$f":"IF(A32<>\"\",IFERROR(VLOOKUP(AC32,Tabelas!B:D,3,0),0),\"\")","v":0},{"$f":"IF(A32<>\"\",IFERROR(VLOOKUP(AD32,Tabelas!B:D,3,0),0),\"\")","v":0},{"$f":"IF(A32<>\"\",IFERROR(VLOOKUP(AE32,Tabelas!B:D,3,0),0),\"\")","v":0},{"$f":"IF(A32<>\"\",IFERROR(VLOOKUP(AF32,Tabelas!B:D,3,0),0),\"\")","v":0},{"$f":"IF(A32<>\"\",IFERROR(VLOOKUP(AG32,Tabelas!B:D,3,0),0),\"\")","v":0},{"$f":"IF(A32<>\"\",IFERROR(VLOOKUP(AH32,Tabelas!B:D,3,0),0),\"\")","v":0},{"$f":"IF(A32<>\"\",IFERROR(VLOOKUP(AI32,Tabelas!B:D,3,0),0),\"\")","v":0},{"$f":"IF(A32<>\"\",IFERROR(VLOOKUP(AJ32,Tabelas!B:D,3,0),0),\"\")","v":0},{"$f":"IF(A32<>\"\",IFERROR(VLOOKUP(AK32,Tabelas!B:D,3,0),0),\"\")","v":0},{"$f":"IF(A32<>\"\",IFERROR(VLOOKUP(AL32,Tabelas!B:D,3,0),0),\"\")","v":0},{"$f":"IF(A32<>\"\",IFERROR(VLOOKUP(AM32,Tabelas!B:D,3,0),0),\"\")","v":0},{"$f":"IF(A32<>\"\",IFERROR(VLOOKUP(AN32,Tabelas!B:D,3,0),0),\"\")","v":0},{"$f":"IF(A32<>\"\",IFERROR(VLOOKUP(AO32,Tabelas!B:D,3,0),0),\"\")","v":0},{"$f":"IF(A32<>\"\",IFERROR(VLOOKUP(AP32,Tabelas!B:D,3,0),0),\"\")","v":0},{"$f":"IF(A32<>\"\",IFERROR(VLOOKUP(AQ32,Tabelas!B:D,3,0),0),\"\")","v":0},{"$f":"IF(A32<>\"\",IFERROR(VLOOKUP(AR32,Tabelas!B:D,3,0),0),\"\")","v":0},0,0,0,0,0,0,0,0,0]
["Fulano de Tal 25",1234567,123,"ENF","Ebserh",36,null,null,null,null,null,null,null,null,null,null,null,null,null,null,null,null,null,null,null,null,null,null,null,null,null,null,null,null,null,null,null,null,null,null,null,null,null,null,{"$f":"IF(A33<>\"\",IFERROR(VLOOKUP(N33,Tabelas!B:D,3,0),0),\"\")","v":0},{"$f":"IF(A33<>\"\",IFERROR(VLOOKUP(O33,Tabelas!B:D,3,0),0),\"\")","v":0},{"$f":"IF(A33<>\"\",IFERROR(VLOOKUP(P33,Tabelas!B:D,3,0),0),\"\")","v":0},{"$f":"IF(A33<>\"\",IFERROR(VLOOKUP(Q33,Tabelas!B:D,3,0),0),\"\")","v":0},{"$f":"IF(A33<>\"\",IFERROR(VLOOKUP(R33,Tabelas!B:D,3,0),0),\"\")","v":0},{"$f":"IF(A33<>\"\",IFERROR(VLOOKUP(S33,Tabelas!B:D,3,0),0),\"\")","v":0},{"$f":"IF(A33<>\"\",IFERROR(VLOOKUP(T33,Tabelas!B:D,3,0),0),\"\")","v":0},{"$f":"IF(A33<>\"\",IFERROR(VLOOKUP(U33,Tabelas!B:D,3,0),0),\"\")","v":0},{"$f":"IF(A33<>\"\",IFERROR(VLOOKUP(V33,Tabelas!B:D,3,0),0),\"\")","v":0},{"$f":"IF(A33<>\"\",IFERROR(VLOOKUP(W33,Tabelas!B:D,3,0),0),\"\")","v":0},{"$f":"IF(A33<>\"\",IFERROR(VLOOKUP(X33,Tabelas!B:D,3,0),0),\"\")","v":0},{"$f":"IF(A33<>\"\",IFERROR(VLOOKUP(Y33,Tabelas!B:D,3,0),0),\"\")","v":0},{"$f":"IF(A33<>\"\",IFERROR(VLOOKUP(Z33,Tabelas!B:D,3,0),0),\"\")","v":0},{"$f":"IF(A33<>\"\",IFERROR(VLOOKUP(AA33,Tabelas!B:D,3,0),0),\"\")","v":0},{"$f":"IF(A33<>\"\",IFERROR(VLOOKUP(AB33,Tabelas!B:D,3,0),0),\"\")","v":0},{"$f":"IF(A33<>\"\",IFERROR(VLOOKUP(AC33,Tabelas!B:D,3,0),0),\"\")","v":0},{"$f":"IF(A33<>\"\",IFERROR(VLOOKUP(AD33,Tabelas!B:D,3,0),0),\"\")","v":0},{"$f":"IF(A33<>\"\",IFERROR(VLOOKUP(AE33,Tabelas!B:D,3,0),0),\"\")","v":0},{"$f":"IF(A33<>\"\",IFERROR(VLOOKUP(AF33,Tabelas!B:D,3,0),0),\"\")","v":0},{"$f":"IF(A33<>\"\",IFERROR(VLOOKUP(AG33,Tabelas!B:D,3,0),0),\"\")","v":0},{"$f":"IF(A33<>\"\",IFERROR(VLOOKUP(AH33,Tabelas!B:D,3,0),0),\"\")","v":0},{"$f":"IF(A33<>\"\",IFERROR(VLOOKUP(AI33,Tabelas!B:D,3,0),0),\"\")","v":0},{"$f":"IF(A33<>\"\",IFERROR(VLOOKUP(AJ33,Tabelas!B:D,3,0),0),\"\")","v":0},{"$f":"IF(A33<>\"\",IFERROR(VLOOKUP(AK33,Tabelas!B:D,3,0),0),\"\")","v":0},{"$f":"IF(A33<>\"\",IFERROR(VLOOKUP(AL33,Tabelas!B:D,3,0),0),\"\")","v":0},{"$f":"IF(A33<>\"\",IFERROR(VLOOKUP(AM33,Tabelas!B:D,3,0),0),\"\")","v":0},{"$f":"IF(A33<>\"\",IFERROR(VLOOKUP(AN33,Tabelas!B:D,3,0),0),\"\")","v":0},{"$f":"IF(A33<>\"\",IFERROR(VLOOKUP(AO33,Tabelas!B:D,3,0),0),\"\")","v":0},{"$f":"IF(A33<>\"\",IFERROR(VLOOKUP(AP33,Tabelas!B:D,3,0),0),\"\")","v":0},{"$f":"IF(A33<>\"\",IFERROR(VLOOKUP(AQ33,Tabelas!B:D,3,0),0),\"\")","v":0},{"$f":"IF(A33<>\"\",IFERROR(VLOOKUP(AR33,Tabelas!B:D,3,0),0),\"\")","v":0},0,0,0,0,0,0,0,0,0]
["Fulano de Tal 26",1234567,123,"ENF","Ebserh",36,null,null,null,null,null,null,null,null,null,null,null,null,null,null,null,null,null,null,null,null,null,null,null,null,null,null,null,null,null,null,null,null,null,null,null,null,null,null,{"$f":"IF(A34<>\"\",IFERROR(VLOOKUP(N34,Tabelas!B:D,3,0),0),\"\")","v":0},{"$f":"IF(A34<>\"\",IFERROR(VLOOKUP(O34,Tabelas!B:D,3,0),0),\"\")","v":0},{"$f":"IF(A34<>\"\",IFERROR(VLOOKUP(P34,Tabelas!B:D,3,0),0),\"\")","v":0},{"$f":"IF(A34<>\"\",IFERROR(VLOOKUP(Q34,Tabelas!B:D,3,0),0),\"\")","v":0},{"$f":"IF(A34<>\"\",IFERROR(VLOOKUP(R34,Tabelas!B:D,3,0),0),\"\")","v":0},{"$f":"IF(A34<>\"\",IFERROR(VLOOKUP(S34,Tabelas!B:D,3,0),0),\"\")","v":0},{"$f":"IF(A34<>\"\",IFERROR(VLOOKUP(T34,Tabelas!B:D,3,0),0),\"\")","v":0},{"$f":"IF(A34<>\"\",IFERROR(VLOOKUP(U34,Tabelas!B:D,3,0),0),\"\")","v":0},{"$f":"IF(A34<>\"\",IFERROR(VLOOKUP(V34,Tabelas!B:D,3,0),0),\"\")","v":0},{"$f":"IF(A34<>\"\",IFERROR(VLOOKUP(W34,Tabelas!B:D,3,0),0),\"\")","v":0},{"$f":"IF(A34<>\"\",IFERROR(VLOOKUP(X34,Tabelas!B:D,3,0),0),\"\")","v":0},{"$f":"IF(A34<>\"\",IFERROR(VLOOKUP(Y34,Tabelas!B:D,3,0),0),\"\")","v":0},{"$f":"IF(A34<>\"\",IFERROR(VLOOKUP(Z34,Tabelas!B:D,3,0),0),\"\")","v":0},{"$f":"IF(A34<>\"\",IFERROR(VLOOKUP(AA34,Tabelas!B:D,3,0),0),\"\")","v":0},{"$f":"IF(A34<>\"\",IFERROR(VLOOKUP(AB34,Tabelas!B:D,3,0),0),\"\")","v":0},{"$f":"IF(A34<>\"\",IFERROR(VLOOKUP(AC34,Tabelas!B:D,3,0),0),\"\")","v":0},{"$f":"IF(A34<>\"\",IFERROR(VLOOKUP(AD34,Tabelas!B:D,3,0),0),\"\")","v":0},{"$f":"IF(A34<>\"\",IFERROR(VLOOKUP(AE34,Tabelas!B:D,3,0),0),\"\")","v":0},{"$f":"IF(A34<>\"\",IFERROR(VLOOKUP(AF34,Tabelas!B:D,3,0),0),\"\")","v":0},{"$f":"IF(A34<>\"\",IFERROR(VLOOKUP(AG34,Tabelas!B:D,3,0),0),\"\")","v":0},{"$f":"IF(A34<>\"\",IFERROR(VLOOKUP(AH34,Tabelas!B:D,3,0),0),\"\")","v":0},{"$f":"IF(A34<>\"\",IFERROR(VLOOKUP(AI34,Tabelas!B:D,3,0),0),\"\")","v":0},{"$f":"IF(A34<>\"\",IFERROR(VLOOKUP(AJ34,Tabelas!B:D,3,0),0),\"\")","v":0},{"$f":"IF(A34<>\"\",IFERROR(VLOOKUP(AK34,Tabelas!B:D,3,0),0),\"\")","v":0},{"$f":"IF(A34<>\"\",IFERROR(VLOOKUP(AL34,Tabelas!B:D,3,0),0),\"\")","v":0},{"$f":"IF(A34<>\"\",IFERROR(VLOOKUP(AM34,Tabelas!B:D,3,0),0),\"\")","v":0},{"$f":"IF(A34<>\"\",IFERROR(VLOOKUP(AN34,Tabelas!B:D,3,0),0),\"\")","v":0},{"$f":"IF(A34<>\"\",IFERROR(VLOOKUP(AO34,Tabelas!B:D,3,0),0),\"\")","v":0},{"$f":"IF(A34<>\"\",IFERROR(VLOOKUP(AP34,Tabelas!B:D,3,0),0),\"\")","v":0},{"$f":"IF(A34<>\"\",IFERROR(VLOOKUP(AQ34,Tabelas!B:D,3,0),0),\"\")","v":0},{"$f":"IF(A34<>\"\",IFERROR(VLOOKUP(AR34,Tabelas!B:D,3,0),0),\"\")","v":0},0,0,0,0,0,0,0,0,0]
["Fulano de Tal 27",1234567,123,"ENF","Ebserh",36,null,null,null,null,null,null,null,null,null,null,null,null,null,null,null,null,null,null,null,null,null,null,null,null,null,null,null,null,null,null,null,null,null,null,null,null,null,null,{"$f":"IF(A35<>\"\",IFERROR(VLOOKUP(N35,Tabelas!B:D,3,0),0),\"\")","v":0},{"$f":"IF(A35<>\"\",IFERROR(VLOOKUP(O35,Tabelas!B:D,3,0),0),\"\")","v":0},{"$f":"IF(A35<>\"\",IFERROR(VLOOKUP(P35,Tabelas!B:D,3,0),0),\"\")","v":0},{"$f":"IF(A35<>\"\",IFERROR(VLOOKUP(Q35,Tabelas!B:D,3,0),0),\"\")","v":0},{"$f":"IF(A35<>\"\",IFERROR(VLOOKUP(R35,Tabelas!B:D,3,0),0),\"\")","v":0},{"$f":"IF(A35<>\"\",IFERROR(VLOOKUP(S35,Tabelas!B:D,3,0),0),\"\")","v":0},{"$f":"IF(A35<>\"\",IFERROR(VLOOKUP(T35,Tabelas!B:D,3,0),0),\"\")","v":0},{"$f":"IF(A35<>\"\",IFERROR(VLOOKUP(U35,Tabelas!B:D,3,0),0),\"\")","v":0},{"$f":"IF(A35<>\"\",IFERROR(VLOOKUP(V35,Tabelas!B:D,3,0),0),\"\")","v":0},{"$f":"IF(A35<>\"\",IFERROR(VLOOKUP(W35,Tabelas!B:D,3,0),0),\"\")","v":0},{"$f":"IF(A35<>\"\",IFERROR(VLOOKUP(X35,Tabelas!B:D,3,0),0),\"\")","v":0},{"$f":"IF(A35<>\"\",IFERROR(VLOOKUP(Y35,Tabelas!B:D,3,0),0),\"\")","v":0},{"$f":"IF(A35<>\"\",IFERROR(VLOOKUP(Z35,Tabelas!B:D,3,0),0),\"\")","v":0},{"$f":"IF(A35<>\"\",IFERROR(VLOOKUP(AA35,Tabelas!B:D,3,0),0),\"\")","v":0},{"$f":"IF(A35<>\"\",IFERROR(VLOOKUP(AB35,Tabelas!B:D,3,0),0),\"\")","v":0},{"$f":"IF(A35<>\"\",IFERROR(VLOOKUP(AC35,Tabelas!B:D,3,0),0),\"\")","v":0},{"$f":"IF(A35<>\"\",IFERROR(VLOOKUP(AD35,Tabelas!B:D,3,0),0),\"\")","v":0},{"$f":"IF(A35<>\"\",IFERROR(VLOOKUP(AE35,Tabelas!B:D,3,0),0),\"\")","v":0},{"$f":"IF(A35<>\"\",IFERROR(VLOOKUP(AF35,Tabelas!B:D,3,0),0),\"\")","v":0},{"$f":"IF(A35<>\"\",IFERROR(VLOOKUP(AG35,Tabelas!B:D,3,0),0),\"\")","v":0},{"$f":"IF(A35<>\"\",IFERROR(VLOOKUP(AH35,Tabelas!B:D,3,0),0),\"\")","v":0},{"$f":"IF(A35<>\"\",IFERROR(VLOOKUP(AI35,Tabelas!B:D,3,0),0),\"\")","v":0},{"$f":"IF(A35<>\"\",IFERROR(VLOOKUP(AJ35,Tabelas!B:D,3,0),0),\"\")","v":0},{"$f":"IF(A35<>\"\",IFERROR(VLOOKUP(AK35,Tabelas!B:D,3,0),0),\"\")","v":0},{"$f":"IF(A35<>\"\",IFERROR(VLOOKUP(AL35,Tabelas!B:D,3,0),0),\"\")","v":0},{"$f":"IF(A35<>\"\",IFERROR(VLOOKUP(AM35,Tabelas!B:D,3,0),0),\"\")","v":0},{"$f":"IF(A35<>\"\",IFERROR(VLOOKUP(AN35,Tabelas!B:D,3,0),0),\"\")","v":0},{"$f":"IF(A35<>\"\",IFERROR(VLOOKUP(AO35,Tabelas!B:D,3,0),0),\"\")","v":0},{"$f":"IF(A35<>\"\",IFERROR(VLOOKUP(AP35,Tabelas!B:D,3,0),0),\"\")","v":0},{"$f":"IF(A35<>\"\",IFERROR(VLOOKUP(AQ35,Tabelas!B:D,3,0),0),\"\")","v":0},{"$f":"IF(A35<>\"\",IFERROR(VLOOKUP(AR35,Tabelas!B:D,3,0),0),\"\")","v":0},0,0,0,0,0,0,0,0,0]
["Fulano de Tal 28",1234567,123,"ENF","Ebserh",36,null,null,null,null,null,null,null,null,null,null,null,null,null,null,null,null,null,null,null,null,null,null,null,null,null,null,null,null,null,null,null,null,null,null,null,null,null,null,{"$f":"IF(A36<>\"\",IFERROR(VLOOKUP(N36,Tabelas!B:D,3,0),0),\"\")","v":0},{"$f":"IF(A36<>\"\",IFERROR(VLOOKUP(O36,Tabelas!B:D,3,0),0),\"\")","v":0},{"$f":"IF(A36<>\"\",IFERROR(VLOOKUP(P36,Tabelas!B:D,3,0),0),\"\")","v":0},{"$f":"IF(A36<>\"\",IFERROR(VLOOKUP(Q36,Tabelas!B:D,3,0),0),\"\")","v":0},{"$f":"IF(A36<>\"\",IFERROR(VLOOKUP(R36,Tabelas!B:D,3,0),0),\"\")","v":0},{"$f":"IF(A36<>\"\",IFERROR(VLOOKUP(S36,Tabelas!B:D,3,0),0),\"\")","v":0},{"$f":"IF(A36<>\"\",IFERROR(VLOOKUP(T36,Tabelas!B:D,3,0),0),\"\")","v":0},{"$f":"IF(A36<>\"\",IFERROR(VLOOKUP(U36,Tabelas!B:D,3,0),0),\"\")","v":0},{"$f":"IF(A36<>\"\",IFERROR(VLOOKUP(V36,Tabelas!B:D,3,0),0),\"\")","v":0},{"$f":"IF(A36<>\"\",IFERROR(VLOOKUP(W36,Tabelas!B:D,3,0),0),\"\")","v":0},{"$f":"IF(A36<>\"\",IFERROR(VLOOKUP(X36,Tabelas!B:D,3,0),0),\"\")","v":0},{"$f":"IF(A36<>\"\",IFERROR(VLOOKUP(Y36,Tabelas!B:D,3,0),0),\"\")","v":0},{"$f":"IF(A36<>\"\",IFERROR(VLOOKUP(Z36,Tabelas!B:D,3,0),0),\"\")","v":0},{"$f":"IF(A36<>\"\",IFERROR(VLOOKUP(AA36,Tabelas!B:D,3,0),0),\"\")","v":0},{"$f":"IF(A36<>\"\",IFERROR(VLOOKUP(AB36,Tabelas!B:D,3,0),0),\"\")","v":0},{"$f":"IF(A36<>\"\",IFERROR(VLOOKUP(AC36,Tabelas!B:D,3,0),0),\"\")","v":0},{"$f":"IF(A36<>\"\",IFERROR(VLOOKUP(AD36,Tabelas!B:D,3,0),0),\"\")","v":0},{"$f":"IF(A36<>\"\",IFERROR(VLOOKUP(AE36,Tabelas!B:D,3,0),0),\"\")","v":0},{"$f":"IF(A36<>\"\",IFERROR(VLOOKUP(AF36,Tabelas!B:D,3,0),0),\"\")","v":0},{"$f":"IF(A36<>\"\",IFERROR(VLOOKUP(AG36,Tabelas!B:D,3,0),0),\"\")","v":0},{"$f":"IF(A36<>\"\",IFERROR(VLOOKUP(AH36,Tabelas!B:D,3,0),0),\"\")","v":0},{"$f":"IF(A36<>\"\",IFERROR(VLOOKUP(AI36,Tabelas!B:D,3,0),0),\"\")","v":0},{"$f":"IF(A36<>\"\",IFERROR(VLOOKUP(AJ36,Tabelas!B:D,3,0),0),\"\")","v":0},{"$f":"IF(A36<>\"\",IFERROR(VLOOKUP(AK36,Tabelas!B:D,3,0),0),\"\")","v":0},{"$f":"IF(A36<>\"\",IFERROR(VLOOKUP(AL36,Tabelas!B:D,3,0),0),\"\")","v":0},{"$f":"IF(A36<>\"\",IFERROR(VLOOKUP(AM36,Tabelas!B:D,3,0),0),\"\")","v":0},{"$f":"IF(A36<>\"\",IFERROR(VLOOKUP(AN36,Tabelas!B:D,3,0),0),\"\")","v":0},{"$f":"IF(A36<>\"\",IFERROR(VLOOKUP(AO36,Tabelas!B:D,3,0),0),\"\")","v":0},{"$f":"IF(A36<>\"\",IFERROR(VLOOKUP(AP36,Tabelas!B:D,3,0),0),\"\")","v":0},{"$f":"IF(A36<>\"\",IFERROR(VLOOKUP(AQ36,Tabelas!B:D,3,0),0),\"\")","v":0},{"$f":"IF(A36<>\"\",IFERROR(VLOOKUP(AR36,Tabelas!B:D,3,0),0),\"\")","v":0},0,0,0,0,0,0,0,0,0]
["Fulano de Tal 29",1234567,123,"ENF","Ebserh",36,null,null,null,null,null,null,null,null,null,null,null,null,null,null,null,null,null,null,null,null,null,null,null,null,null,null,null,null,null,null,null,null,null,null,null,null,null,null,{"$f":"IF(A37<>\"\",IFERROR(VLOOKUP(N37,Tabelas!B:D,3,0),0),\"\")","v":0},{"$f":"IF(A37<>\"\",IFERROR(VLOOKUP(O37,Tabelas!B:D,3,0),0),\"\")","v":0},{"$f":"IF(A37<>\"\",IFERROR(VLOOKUP(P37,Tabelas!B:D,3,0),0),\"\")","v":0},{"$f":"IF(A37<>\"\",IFERROR(VLOOKUP(Q37,Tabelas!B:D,3,0),0),\"\")","v":0},{"$f":"IF(A37<>\"\",IFERROR(VLOOKUP(R37,Tabelas!B:D,3,0),0),\"\")","v":0},{"$f":"IF(A37<>\"\",IFERROR(VLOOKUP(S37,Tabelas!B:D,3,0),0),\"\")","v":0},{"$f":"IF(A37<>\"\",IFERROR(VLOOKUP(T37,Tabelas!B:D,3,0),0),\"\")","v":0},{"$f":"IF(A37<>\"\",IFERROR(VLOOKUP(U37,Tabelas!B:D,3,0),0),\"\")","v":0},{"$f":"IF(A37<>\"\",IFERROR(VLOOKUP(V37,Tabelas!B:D,3,0),0),\"\")","v":0},{"$f":"IF(A37<>\"\",IFERROR(VLOOKUP(W37,Tabelas!B:D,3,0),0),\"\")","v":0},{"$f":"IF(A37<>\"\",IFERROR(VLOOKUP(X37,Tabelas!B:D,3,0),0),\"\")","v":0},{"$f":"IF(A37<>\"\",IFERROR(VLOOKUP(Y37,Tabelas!B:D,3,0),0),\"\")","v":0},{"$f":"IF(A37<>\"\",IFERROR(VLOOKUP(Z37,Tabelas!B:D,3,0),0),\"\")","v":0},{"$f":"IF(A37<>\"\",IFERROR(VLOOKUP(AA37,Tabelas!B:D,3,0),0),\"\")","v":0},{"$f":"IF(A37<>\"\",IFERROR(VLOOKUP(AB37,Tabelas!B:D,3,0),0),\"\")","v":0},{"$f":"IF(A37<>\"\",IFERROR(VLOOKUP(AC37,Tabelas!B:D,3,0),0),\"\")","v":0},{"$f":"IF(A37<>\"\",IFERROR(VLOOKUP(AD37,Tabelas!B:D,3,0),0),\"\")","v":0},{"$f":"IF(A37<>\"\",IFERROR(VLOOKUP(AE37,Tabelas!B:D,3,0),0),\"\")","v":0},{"$f":"IF(A37<>\"\",IFERROR(VLOOKUP(AF37,Tabelas!B:D,3,0),0),\"\")","v":0},{"$f":"IF(A37<>\"\",IFERROR(VLOOKUP(AG37,Tabelas!B:D,3,0),0),\"\")","v":0},{"$f":"IF(A37<>\"\",IFERROR(VLOOKUP(AH37,Tabelas!B:D,3,0),0),\"\")","v":0},{"$f":"IF(A37<>\"\",IFERROR(VLOOKUP(AI37,Tabelas!B:D,3,0),0),\"\")","v":0},{"$f":"IF(A37<>\"\",IFERROR(VLOOKUP(AJ37,Tabelas!B:D,3,0),0),\"\")","v":0},{"$f":"IF(A37<>\"\",IFERROR(VLOOKUP(AK37,Tabelas!B:D,3,0),0),\"\")","v":0},{"$f":"IF(A37<>\"\",IFERROR(VLOOKUP(AL37,Tabelas!B:D,3,0),0),\"\")","v":0},{"$f":"IF(A37<>\"\",IFERROR(VLOOKUP(AM37,Tabelas!B:D,3,0),0),\"\")","v":0},{"$f":"IF(A37<>\"\",IFERROR(VLOOKUP(AN37,Tabelas!B:D,3,0),0),\"\")","v":0},{"$f":"IF(A37<>\"\",IFERROR(VLOOKUP(AO37,Tabelas!B:D,3,0),0),\"\")","v":0},{"$f":"IF(A37<>\"\",IFERROR(VLOOKUP(AP37,Tabelas!B:D,3,0),0),\"\")","v":0},{"$f":"IF(A37<>\"\",IFERROR(VLOOKUP(AQ37,Tabelas!B:D,3,0),0),\"\")","v":0},{"$f":"IF(A37<>\"\",IFERROR(VLOOKUP(AR37,Tabelas!B:D,3,0),0),\"\")","v":0},0,0,0,0,0,0,0,0,0]
["Fulano de Tal 30",1234567,123,"ENF","Ebserh",36,null,null,null,null,null,null,null,null,null,null,null,null,null,null,null,null,null,null,null,null,null,null,null,null,null,null,null,null,null,null,null,null,null,null,null,null,null,null,{"$f":"IF(A38<>\"\",IFERROR(VLOOKUP(N38,Tabelas!B:D,3,0),0),\"\")","v":0},{"$f":"IF(A38<>\"\",IFERROR(VLOOKUP(O38,Tabelas!B:D,3,0),0),\"\")","v":0},{"$f":"IF(A38<>\"\",IFERROR(VLOOKUP(P38,Tabelas!B:D,3,0),0),\"\")","v":0},{"$f":"IF(A38<>\"\",IFERROR(VLOOKUP(Q38,Tabelas!B:D,3,0),0),\"\")","v":0},{"$f":"IF(A38<>\"\",IFERROR(VLOOKUP(R38,Tabelas!B:D,3,0),0),\"\")","v":0},{"$f":"IF(A38<>\"\",IFERROR(VLOOKUP(S38,Tabelas!B:D,3,0),0),\"\")","v":0},{"$f":"IF(A38<>\"\",IFERROR(VLOOKUP(T38,Tabelas!B:D,3,0),0),\"\")","v":0},{"$f":"IF(A38<>\"\",IFERROR(VLOOKUP(U38,Tabelas!B:D,3,0),0),\"\")","v":0},{"$f":"IF(A38<>\"\",IFERROR(VLOOKUP(V38,Tabelas!B:D,3,0),0),\"\")","v":0},{"$f":"IF(A38<>\"\",IFERROR(VLOOKUP(W38,Tabelas!B:D,3,0),0),\"\")","v":0},{"$f":"IF(A38<>\"\",IFERROR(VLOOKUP(X38,Tabelas!B:D,3,0),0),\"\")","v":0},{"$f":"IF(A38<>\"\",IFERROR(VLOOKUP(Y38,Tabelas!B:D,3,0),0),\"\")","v":0},{"$f":"IF(A38<>\"\",IFERROR(VLOOKUP(Z38,Tabelas!B:D,3,0),0),\"\")","v":0},{"$f":"IF(A38<>\"\",IFERROR(VLOOKUP(AA38,Tabelas!B:D,3,0),0),\"\")","v":0},{"$f":"IF(A38<>\"\",IFERROR(VLOOKUP(AB38,Tabelas!B:D,3,0),0),\"\")","v":0},{"$f":"IF(A38<>\"\",IFERROR(VLOOKUP(AC38,Tabelas!B:D,3,0),0),\"\")","v":0},{"$f":"IF(A38<>\"\",IFERROR(VLOOKUP(AD38,Tabelas!B:D,3,0),0),\"\")","v":0},{"$f":"IF(A38<>\"\",IFERROR(VLOOKUP(AE38,Tabelas!B:D,3,0),0),\"\")","v":0},{"$f":"IF(A38<>\"\",IFERROR(VLOOKUP(AF38,Tabelas!B:D,3,0),0),\"\")","v":0},{"$f":"IF(A38<>\"\",IFERROR(VLOOKUP(AG38,Tabelas!B:D,3,0),0),\"\")","v":0},{"$f":"IF(A38<>\"\",IFERROR(VLOOKUP(AH38,Tabelas!B:D,3,0),0),\"\")","v":0},{"$f":"IF(A38<>\"\",IFERROR(VLOOKUP(AI38,Tabelas!B:D,3,0),0),\"\")","v":0},{"$f":"IF(A38<>\"\",IFERROR(VLOOKUP(AJ38,Tabelas!B:D,3,0),0),\"\")","v":0},{"$f":"IF(A38<>\"\",IFERROR(VLOOKUP(AK38,Tabelas!B:D,3,0),0),\"\")","v":0},{"$f":"IF(A38<>\"\",IFERROR(VLOOKUP(AL38,Tabelas!B:D,3,0),0),\"\")","v":0},{"$f":"IF(A38<>\"\",IFERROR(VLOOKUP(AM38,Tabelas!B:D,3,0),0),\"\")","v":0},{"$f":"IF(A38<>\"\",IFERROR(VLOOKUP(AN38,Tabelas!B:D,3,0),0),\"\")","v":0},{"$f":"IF(A38<>\"\",IFERROR(VLOOKUP(AO38,Tabelas!B:D,3,0),0),\"\")","v":0},{"$f":"IF(A38<>\"\",IFERROR(VLOOKUP(AP38,Tabelas!B:D,3,0),0),\"\")","v":0},{"$f":"IF(A38<>\"\",IFERROR(VLOOKUP(AQ38,Tabelas!B:D,3,0),0),\"\")","v":0},{"$f":"IF(A38<>\"\",IFERROR(VLOOKUP(AR38,Tabelas!B:D,3,0),0),\"\")","v":0},0,0,0,0,0,0,0,0,0]
["TOTAL PROFISSIONAIS MATUTINO",null,null,null,null,null,null,null,null,null,null,null,null,{"$f":"COUNTIF(N9:N18,\"M\")+COUNTIF(N19:N28,\"M\")+COUNTIF(N29:N38,\"M\")+COUNTIF(N9:N18,\"M?\") +COUNTIF(N19:N28,\"M?\")+COUNTIF(N29:N38,\"M?\")+ COUNTIF(N9:N18, \"MT?\") + COUNTIF(N19:N28, \"MT?\")+ COUNTIF(N29:N38, \"MT?\")+ COUNTIF(N9:N18, \"D?\")  + COUNTIF(N19:N28, \"D?\")+COUNTIF(N29:N38, \"D?\")+ COUNTIF(N9:N18, \"DN?\")+ COUNTIF(N19:N28, \"DN?\")+ COUNTIF(N29:N38, \"DN?\")+ COUNTIF(N9:N18, \"MT??\") + COUNTIF(N19:N28, \"MT??\")+ COUNTIF(N29:N38, \"MT??\")+ COUNTIF(N9:N18, \"D\")  + COUNTIF(N19:N28, \"D\")+COUNTIF(N29:N38, \"D\")","v":3},1,2,1,2,1,3,1,2,2,1,0,3,0,3,2,2,1,3,1,2,2,3,0,3,1,2,2,0,0,0]
["TOTAL DE PROFISSIONAIS VESPERTINO",null,null,null,null,null,null,null,null,null,null,null,null,{"$f":"COUNTIF(N9:N18,\"T\")+COUNTIF(N19:N28,\"T\")+COUNTIF(N29:N38,\"T\")+COUNTIF(N9:N18,\"T?\") +COUNTIF(N19:N28,\"T?\")+COUNTIF(N29:N38,\"T?\")+ COUNTIF(N9:N18, \"MT?\") + COUNTIF(N19:N28, \"MT?\")+ COUNTIF(N29:N38, \"MT?\")+ COUNTIF(N9:N18, \"D?\")  + COUNTIF(N19:N28, \"D?\")+COUNTIF(N29:N38, \"D?\")+ COUNTIF(N9:N18, \"DN?\")+ COUNTIF(N19:N28, \"DN?\")+ COUNTIF(N29:N38, \"DN?\")+ COUNTIF(N9:N18, \"MT??\") + COUNTIF(N19:N28, \"MT??\")+ COUNTIF(N29:N38, \"MT??\")+ COUNTIF(N9:N18, \"D\")  + COUNTIF(N19:N28, \"D\")+COUNTIF(N29:N38, \"D\")","v":2},1,2,1,1,1,2,0,1,2,1,0,3,0,1,1,2,1,2,0,1,1,1,0,3,0,2,1,0,0,0,{"$f":"IF(A40<>\"\",IFERROR(VLOOKUP(N40,Tabelas!B:D,3,0),0),\"\")","v":0},{"$f":"IF(A40<>\"\",IFERROR(VLOOKUP(O40,Tabelas!B:D,3,0),0),\"\")","v":0},{"$f":"IF(A40<>\"\",IFERROR(VLOOKUP(P40,Tabelas!B:D,3,0),0),\"\")","v":0},{"$f":"IF(A40<>\"\",IFERROR(VLOOKUP(Q40,Tabelas!B:D,3,0),0),\"\")","v":0},{"$f":"IF(A40<>\"\",IFERROR(VLOOKUP(R40,Tabelas!B:D,3,0),0),\"\")","v":0},{"$f":"IF(A40<>\"\",IFERROR(VLOOKUP(S40,Tabelas!B:D,3,0),0),\"\")","v":0},{"$f":"IF(A40<>\"\",IFERROR(VLOOKUP(T40,Tabelas!B:D,3,0),0),\"\")","v":0},{"$f":"IF(A40<>\"\",IFERROR(VLOOKUP(U40,Tabelas!B:D,3,0),0),\"\")","v":0},{"$f":"IF(A40<>\"\",IFERROR(VLOOKUP(V40,Tabelas!B:D,3,0),0),\"\")","v":0},{"$f":"IF(A40<>\"\",IFERROR(VLOOKUP(W40,Tabelas!B:D,3,0),0),\"\")","v":0},{"$f":"IF(A40<>\"\",IFERROR(VLOOKUP(X40,Tabelas!B:D,3,0),0),\"\")","v":0},{"$f":"IF(A40<>\"\",IFERROR(VLOOKUP(Y40,Tabelas!B:D,3,0),0),\"\")","v":0},{"$f":"IF(A40<>\"\",IFERROR(VLOOKUP(Z40,Tabelas!B:D,3,0),0),\"\")","v":0},{"$f":"IF(A40<>\"\",IFERROR(VLOOKUP(AA40,Tabelas!B:D,3,0),0),\"\")","v":0},{"$f":"IF(A40<>\"\",IFERROR(VLOOKUP(AB40,Tabelas!B:D,3,0),0),\"\")","v":0},{"$f":"IF(A40<>\"\",IFERROR(VLOOKUP(AC40,Tabelas!B:D,3,0),0),\"\")","v":0},{"$f":"IF(A40<>\"\",IFERROR(VLOOKUP(AD40,Tabelas!B:D,3,0),0),\"\")","v":0},{"$f":"IF(A40<>\"\",IFERROR(VLOOKUP(AE40,Tabelas!B:D,3,0),0),\"\")","v":0},{"$f":"IF(A40<>\"\",IFERROR(VLOOKUP(AF40,Tabelas!B:D,3,0),0),\"\")","v":0},{"$f":"IF(A40<>\"\",IFERROR(VLOOKUP(AG40,Tabelas!B:D,3,0),0),\"\")","v":0},{"$f":"IF(A40<>\"\",IFERROR(VLOOKUP(AH40,Tabelas!B:D,3,0),0),\"\")","v":0},{"$f":"IF(A40<>\"\",IFERROR(VLOOKUP(AI40,Tabelas!B:D,3,0),0),\"\")","v":0},{"$f":"IF(A40<>\"\",IFERROR(VLOOKUP(AJ40,Tabelas!B:D,3,0),0),\"\")","v":0},{"$f":"IF(A40<>\"\",IFERROR(VLOOKUP(AK40,Tabelas!B:D,3,0),0),\"\")","v":0},{"$f":"IF(A40<>\"\",IFERROR(VLOOKUP(AL40,Tabelas!B:D,3,0),0),\"\")","v":0},{"$f":"IF(A40<>\"\",IFERROR(VLOOKUP(AM40,Tabelas!B:D,3,0),0),\"\")","v":0},{"$f":"IF(A40<>\"\",IFERROR(VLOOKUP(AN40,Tabelas!B:D,3,0),0),\"\")","v":0},{"$f":"IF(A40<>\"\",IFERROR(VLOOKUP(AO40,Tabelas!B:D,3,0),0),\"\")","v":0},{"$f":"IF(A40<>\"\",IFERROR(VLOOKUP(AP40,Tabelas!B:D,3,0),0),\"\")","v":0},{"$f":"IF(A40<>\"\",IFERROR(VLOOKUP(AQ40,Tabelas!B:D,3,0),0),\"\")","v":0},{"$f":"IF(A40<>\"\",IFERROR(VLOOKUP(AR40,Tabelas!B:D,3,0),0),\"\")","v":0}]
["TOTAL DE PROFISSIONAIS NOTURNO",null,null,null,null,null,null,null,null,null,null,null,null,{"$f":"COUNTIF(N9:N18,\"N\")+COUNTIF(N19:N28,\"N\")+COUNTIF(N29:N38,\"N\")+COUNTIF(N9:N18,\"N?\") +COUNTIF(N19:N28,\"N?\")+COUNTIF(N29:N38,\"N?\")+ COUNTIF(N9:N18, \"DN?\")+ COUNTIF(N19:N28, \"DN?\")+ COUNTIF(N29:N38, \"DN?\")","v":0},0,0,0,0,0,0,0,0,0,0,0,0,0,0,0,0,0,0,0,0,0,0,0,0,0,0,0,0,0,0,{"$f":"IF(A41<>\"\",IFERROR(VLOOKUP(N41,Tabelas!B:D,3,0),0),\"\")","v":0},{"$f":"IF(A41<>\"\",IFERROR(VLOOKUP(O41,Tabelas!B:D,3,0),0),\"\")","v":0},{"$f":"IF(A41<>\"\",IFERROR(VLOOKUP(P41,Tabelas!B:D,3,0),0),\"\")","v":0},{"$f":"IF(A41<>\"\",IFERROR(VLOOKUP(Q41,Tabelas!B:D,3,0),0),\"\")","v":0},{"$f":"IF(A41<>\"\",IFERROR(VLOOKUP(R41,Tabelas!B:D,3,0),0),\"\")","v":0},{"$f":"IF(A41<>\"\",IFERROR(VLOOKUP(S41,Tabelas!B:D,3,0),0),\"\")","v":0},{"$f":"IF(A41<>\"\",IFERROR(VLOOKUP(T41,Tabelas!B:D,3,0),0),\"\")","v":0},{"$f":"IF(A41<>\"\",IFERROR(VLOOKUP(U41,Tabelas!B:D,3,0),0),\"\")","v":0},{"$f":"IF(A41<>\"\",IFERROR(VLOOKUP(V41,Tabelas!B:D,3,0),0),\"\")","v":0},{"$f":"IF(A41<>\"\",IFERROR(VLOOKUP(W41,Tabelas!B:D,3,0),0),\"\")","v":0},{"$f":"IF(A41<>\"\",IFERROR(VLOOKUP(X41,Tabelas!B:D,3,0),0),\"\")","v":0},{"$f":"IF(A41<>\"\",IFERROR(VLOOKUP(Y41,Tabelas!B:D,3,0),0),\"\")","v":0},{"$f":"IF(A41<>\"\",IFERROR(VLOOKUP(Z41,Tabelas!B:D,3,0),0),\"\")","v":0},{"$f":"IF(A41<>\"\",IFERROR(VLOOKUP(AA41,Tabelas!B:D,3,0),0),\"\")","v":0},{"$f":"IF(A41<>\"\",IFERROR(VLOOKUP(AB41,Tabelas!B:D,3,0),0),\"\")","v":0},{"$f":"IF(A41<>\"\",IFERROR(VLOOKUP(AC41,Tabelas!B:D,3,0),0),\"\")","v":0},{"$f":"IF(A41<>\"\",IFERROR(VLOOKUP(AD41,Tabelas!B:D,3,0),0),\"\")","v":0},{"$f":"IF(A41<>\"\",IFERROR(VLOOKUP(AE41,Tabelas!B:D,3,0),0),\"\")","v":0},{"$f":"IF(A41<>\"\",IFERROR(VLOOKUP(AF41,Tabelas!B:D,3,0),0),\"\")","v":0},{"$f":"IF(A41<>\"\",IFERROR(VLOOKUP(AG41,Tabelas!B:D,3,0),0),\"\")","v":0},{"$f":"IF(A41<>\"\",IFERROR(VLOOKUP(AH41,Tabelas!B:D,3,0),0),\"\")","v":0},{"$f":"IF(A41<>\"\",IFERROR(VLOOKUP(AI41,Tabelas!B:D,3,0),0),\"\")","v":0},{"$f":"IF(A41<>\"\",IFERROR(VLOOKUP(AJ41,Tabelas!B:D,3,0),0),\"\")","v":0},{"$f":"IF(A41<>\"\",IFERROR(VLOOKUP(AK41,Tabelas!B:D,3,0),0),\"\")","v":0},{"$f":"IF(A41<>\"\",IFERROR(VLOOKUP(AL41,Tabelas!B:D,3,0),0),\"\")","v":0},{"$f":"IF(A41<>\"\",IFERROR(VLOOKUP(AM41,Tabelas!B:D,3,0),0),\"\")","v":0},{"$f":"IF(A41<>\"\",IFERROR(VLOOKUP(AN41,Tabelas!B:D,3,0),0),\"\")","v":0},{"$f":"IF(A41<>\"\",IFERROR(VLOOKUP(AO41,Tabelas!B:D,3,0),0),\"\")","v":0},{"$f":"IF(A41<>\"\",IFERROR(VLOOKUP(AP41,Tabelas!B:D,3,0),0),\"\")","v":0},{"$f":"IF(A41<>\"\",IFERROR(VLOOKUP(AQ41,Tabelas!B:D,3,0),0),\"\")","v":0},{"$f":"IF(A41<>\"\",IFERROR(VLOOKUP(AR41,Tabelas!B:D,3,0),0),\"\")","v":0}]
[null,null,null,null,null,null,null,null,null,null,null,null,null,null,null,null,null,null,null,null,null,null,null,null,null,null,null,null,null,null,null,null,null,null,null,null,null,null,null,null,null,null,null,null,{"$f":"IF(A42<>\"\",IFERROR(VLOOKUP(N42,Tabelas!B:D,3,0),0),\"\")","v":""},{"$f":"IF(A42<>\"\",IFERROR(VLOOKUP(O42,Tabelas!B:D,3,0),0),\"\")","v":""},{"$f":"IF(A42<>\"\",IFERROR(VLOOKUP(P42,Tabelas!B:D,3,0),0),\"\")","v":""},{"$f":"IF(A42<>\"\",IFERROR(VLOOKUP(Q42,Tabelas!B:D,3,0),0),\"\")","v":""},{"$f":"IF(A42<>\"\",IFERROR(VLOOKUP(R42,Tabelas!B:D,3,0),0),\"\")","v":""},{"$f":"IF(A42<>\"\",IFERROR(VLOOKUP(S42,Tabelas!B:D,3,0),0),\"\")","v":""},{"$f":"IF(A42<>\"\",IFERROR(VLOOKUP(T42,Tabelas!B:D,3,0),0),\"\")","v":""},{"$f":"IF(A42<>\"\",IFERROR(VLOOKUP(U42,Tabelas!B:D,3,0),0),\"\")","v":""},{"$f":"IF(A42<>\"\",IFERROR(VLOOKUP(V42,Tabelas!B:D,3,0),0),\"\")","v":""},{"$f":"IF(A42<>\"\",IFERROR(VLOOKUP(W42,Tabelas!B:D,3,0),0),\"\")","v":""},{"$f":"IF(A42<>\"\",IFERROR(VLOOKUP(X42,Tabelas!B:D,3,0),0),\"\")","v":""},{"$f":"IF(A42<>\"\",IFERROR(VLOOKUP(Y42,Tabelas!B:D,3,0),0),\"\")","v":""},{"$f":"IF(A42<>\"\",IFERROR(VLOOKUP(Z42,Tabelas!B:D,3,0),0),\"\")","v":""},{"$f":"IF(A42<>\"\",IFERROR(VLOOKUP(AA42,Tabelas!B:D,3,0),0),\"\")","v":""},{"$f":"IF(A42<>\"\",IFERROR(VLOOKUP(AB42,Tabelas!B:D,3,0),0),\"\")","v":""},{"$f":"IF(A42<>\"\",IFERROR(VLOOKUP(AC42,Tabelas!B:D,3,0),0),\"\")","v":""},{"$f":"IF(A42<>\"\",IFERROR(VLOOKUP(AD42,Tabelas!B:D,3,0),0),\"\")","v":""},{"$f":"IF(A42<>\"\",IFERROR(VLOOKUP(AE42,Tabelas!B:D,3,0),0),\"\")","v":""},{"$f":"IF(A42<>\"\",IFERROR(VLOOKUP(AF42,Tabelas!B:D,3,0),0),\"\")","v":""},{"$f":"IF(A42<>\"\",IFERROR(VLOOKUP(AG42,Tabelas!B:D,3,0),0),\"\")","v":""},{"$f":"IF(A42<>\"\",IFERROR(VLOOKUP(AH42,Tabelas!B:D,3,0),0),\"\")","v":""},{"$f":"IF(A42<>\"\",IFERROR(VLOOKUP(AI42,Tabelas!B:D,3,0),0),\"\")","v":""},{"$f":"IF(A42<>\"\",IFERROR(VLOOKUP(AJ42,Tabelas!B:D,3,0),0),\"\")","v":""},{"$f":"IF(A42<>\"\",IFERROR(VLOOKUP(AK42,Tabelas!B:D,3,0),0),\"\")","v":""},{"$f":"IF(A42<>\"\",IFERROR(VLOOKUP(AL42,Tabelas!B:D,3,0),0),\"\")","v":""},{"$f":"IF(A42<>\"\",IFERROR(VLOOKUP(AM42,Tabelas!B:D,3,0),0),\"\")","v":""},{"$f":"IF(A42<>\"\",IFERROR(VLOOKUP(AN42,Tabelas!B:D,3,0),0),\"\")","v":""},{"$f":"IF(A42<>\"\",IFERROR(VLOOKUP(AO42,Tabelas!B:D,3,0),0),\"\")","v":""},{"$f":"IF(A42<>\"\",IFERROR(VLOOKUP(AP42,Tabelas!B:D,3,0),0),\"\")","v":""},{"$f":"IF(A42<>\"\",IFERROR(VLOOKUP(AQ42,Tabelas!B:D,3,0),0),\"\")","v":""},{"$f":"IF(A42<>\"\",IFERROR(VLOOKUP(AR42,Tabelas!B:D,3,0),0),\"\")","v":""},"",{"$f":"IF(A42<>\"\",COUNTIF(N42:AR42,\"LM\")+COUNTIF(N42:AR42,\"L\"),\"\")","v":""},"","","","",null,{"$f":"IF(A42<>\"\",COUNTIF(N42:AR42,\"CE\")+COUNTIF(N42:AR42,\"L\")+COUNTIF(N42:AR42,\"LM\")+COUNTIF(N42:AR42,\"LC\")+COUNTIF(N42:AR42,\"AB\"),\"\")","v":""},{"$f":"IF(A42<>\"\",COUNTIF(N42:AR42,\"APH\"),\"\")","v":""}]
["Legenda:",null,null,null,null,null,null,null,null,null,null,null,null,null,null,null,null,null,null,null,null,null,null,null,null,null,null,null,null,null,null,null,null,null,null,null,null,null,null,null,null,null,null,null,null,null,null,null,null,null,null,null,null,null,null,null,null,null,null,null,null,null,null,null,null,null,null,null,null,null,null,null,null,null,null,"OBSERVAÇÕES:"]
["Licença Maternidade","LM","Férias",null,"FE","Ponto Facultativo",null,null,null,null,null,null,null,null,null,"PF","Manhã **",null,null,null,null,null,null,"M","Diunro (8 hrs) **",null,null,null,null,null,null,"MT",null,null,null,null,null,null,null,null,null,null,null,null,null,null,null,null,null,null,null,null,null,null,null,null,null,null,null,null,null,null,null,null,null,null,null,null,null,null,null,null,null,null,null,"* Para os Afastamentos previstos em lei, utilizar as legendas "]
["Licença Paternidade","LP","Feriado",null,"FD","Abono",null,null,null,null,null,null,null,null,null,"AB","Tarde **",null,null,null,null,null,null,"T","Dia/ noite (24 hrs) **",null,null,null,null,null,null,"DN",null,null,null,null,null,null,null,null,null,null,null,null,null,null,null,null,null,null,null,null,null,null,null,null,null,null,null,null,null,null,null,null,null,null,null,null,null,null,null,null,null,null,null,"numeradas conforme descrição no item 3.2.2 da NO DGP nº 04/2017."]
["Licença Médica/Odontológica","L","Folga",null,"FO","Compensação Horas Excedentes",null,null,null,null,null,null,null,null,null,"CE","Plantão Dia (12 hrs) **",null,null,null,null,null,null,"D",null,null,null,null,null,null,null,null,null,null,null,null,null,null,null,null,null,null,null,null,null,null,null,null,null,null,null,null,null,null,null,null,null,null,null,null,null,null,null,null,null,null,null,null,null,null,null,null,null,null,null,"** Para as variações de horários (M1, M2, T1, T2...), utilizar as "]
["Licença Capacitação","LC","Recesso",null,"RC","Afastamento*",null,null,null,null,null,null,null,null,null,"AF","Plantão Noite (12 hrs)**",null,null,null,null,null,null,"N",null,null,null,null,null,null,null,null,null,null,null,null,null,null,null,null,null,null,null,null,null,null,null,null,null,null,null,null,null,null,null,null,null,null,null,null,null,null,null,null,null,null,null,null,null,null,null,null,null,null,null,"legendas numeradas conforme descrição do item 3.2.2 na Norma "]
[null,null,null,null,null,null,null,null,null,null,null,null,null,null,null,null,null,null,null,null,null,null,null,null,null,null,null,null,null,null,null,null,null,null,null,null,null,null,null,null,null,null,null,null,null,null,null,null,null,null,null,null,null,null,null,null,null,null,null,null,null,null,null,null,null,null,null,null,null,null,null,null,null,null,null,"Operacional DGP nº 04/2017."]

{"sheet":"Março","index":2,"n_rows":48,"n_cols":84,"rows_kept":48,"cut":false,"hidden":false,"merged":[[38,0,38,6],[39,0,39,6],[40,0,40,6],[5,0,7,0],[5,1,7,1],[5,2,7,2],[5,3,7,3],[5,4,7,4],[5,5,7,5],[5,6,5,12],[42,75,42,83],[5,78,6,78],[5,79,6,79],[5,80,6,80],[5,81,6,81],[5,82,6,82],[5,83,6,83],[5,77,6,77],[5,13,5,43],[5,44,5,74],[5,75,6,75],[5,76,6,76],[6,6,7,6],[6,7,7,7],[6,8,7,8],[6,9,6,10],[6,11,7,11],[6,12,7,12],[1,0,1,43],[2,0,2,43],[3,0,3,43],[4,1,4,21],[4,24,4,35],[4,38,4,43]]}
[]
[]
["Hospital Universitário Professor Polydoro Ernani de São Thiago"]
["ESCALA MENSAL DE TRABALHO"]
["DIVISÃO /SETOR/UNIDADE:",null,null,null,null,null,null,null,null,null,null,null,null,null,null,null,null,null,null,null,null,null,"MÊS:",null,"Março",null,null,null,null,null,null,null,null,null,null,null,"ANO:",null,2018]
["NOME COMPLETO","SIAPE","REGISTRO CONSELHO CLASSE","CARGO","VÍNCULO","C.H SEM.","INTERVALO",null,null,null,null,null,null,"DIAS DO MÊS",null,null,null,null,null,null,null,null,null,null,null,null,null,null,null,null,null,null,null,null,null,null,null,null,null,null,null,null,null,null,"CÁLCULO DAS HORAS",null,null,null,null,null,null,null,null,null,null,null,null,null,null,null,null,null,null,null,null,null,null,null,null,null,null,null,null,null,null,"CH MENSAL","LM/LP/L","Abono","Férias","LC","CE","AF  Legais"," TOTAL AFASTAMENTOS","APH"]
[null,null,null,null,null,null,"M","MT","D","DN",null,"T","N",1,2,3,4,5,6,7,8,9,10,11,12,13,14,15,16,17,18,19,20,21,22,23,24,25,{"$f":"IF(DAY(DATE(AM5,VLOOKUP(Y5,Tabelas!M:N,2,0)+1,1)-1)>=26,26,\"\")","v":26},{"$f":"IF(DAY(DATE(AM5,VLOOKUP(Y5,Tabelas!M:N,2,0)+1,1)-1)>=27,27,\"\")","v":27},{"$f":"IF(DAY(DATE(AM5,VLOOKUP(Y5,Tabelas!M:N,2,0)+1,1)-1)>=28,28,\"\")","v":28},{"$f":"IF(DAY(DATE(AM5,VLOOKUP(Y5,Tabelas!M:N,2,0)+1,1)-1)>=29,29,\"\")","v":29},{"$f":"IF(DAY(DATE(AM5,VLOOKUP(Y5,Tabelas!M:N,2,0)+1,1)-1)>=30,30,\"\")","v":30},{"$f":"IF(DAY(DATE(AM5,VLOOKUP(Y5,Tabelas!M:N,2,0)+1,1)-1)>=31,31,\"\")","v":31}]
[null,null,null,null,null,null,null,null,null,1,2,null,null,{"$f":"IF(N7<>\"\",IFERROR(VLOOKUP(WEEKDAY(CONCATENATE(N7,$Y$5,$AM$5)),Tabelas!$I:$J,2,0),\"\"),\"\")","v":"QUI"},{"$f":"IF(O7<>\"\",IFERROR(VLOOKUP(WEEKDAY(CONCATENATE(O7,$Y$5,$AM$5)),Tabelas!$I:$J,2,0),\"\"),\"\")","v":"SEX"},{"$f":"IF(P7<>\"\",IFERROR(VLOOKUP(WEEKDAY(CONCATENATE(P7,$Y$5,$AM$5)),Tabelas!$I:$J,2,0),\"\"),\"\")","v":"SAB"},{"$f":"IF(Q7<>\"\",IFERROR(VLOOKUP(WEEKDAY(CONCATENATE(Q7,$Y$5,$AM$5)),Tabelas!$I:$J,2,0),\"\"),\"\")","v":"DOM"},{"$f":"IF(R7<>\"\",IFERROR(VLOOKUP(WEEKDAY(CONCATENATE(R7,$Y$5,$AM$5)),Tabelas!$I:$J,2,0),\"\"),\"\")","v":"SEG"},{"$f":"IF(S7<>\"\",IFERROR(VLOOKUP(WEEKDAY(CONCATENATE(S7,$Y$5,$AM$5)),Tabelas!$I:$J,2,0),\"\"),\"\")","v":"TER"},{"$f":"IF(T7<>\"\",IFERROR(VLOOKUP(WEEKDAY(CONCATENATE(T7,$Y$5,$AM$5)),Tabelas!$I:$J,2,0),\"\"),\"\")","v":"QUA"},{"$f":"IF(U7<>\"\",IFERROR(VLOOKUP(WEEKDAY(CONCATENATE(U7,$Y$5,$AM$5)),Tabelas!$I:$J,2,0),\"\"),\"\")","v":"QUI"},{"$f":"IF(V7<>\"\",IFERROR(VLOOKUP(WEEKDAY(CONCATENATE(V7,$Y$5,$AM$5)),Tabelas!$I:$J,2,0),\"\"),\"\")","v":"SEX"},{"$f":"IF(W7<>\"\",IFERROR(VLOOKUP(WEEKDAY(CONCATENATE(W7,$Y$5,$AM$5)),Tabelas!$I:$J,2,0),\"\"),\"\")","v":"SAB"},{"$f":"IF(X7<>\"\",IFERROR(VLOOKUP(WEEKDAY(CONCATENATE(X7,$Y$5,$AM$5)),Tabelas!$I:$J,2,0),\"\"),\"\")","v":"DOM"},{"$f":"IF(Y7<>\"\",IFERROR(VLOOKUP(WEEKDAY(CONCATENATE(Y7,$Y$5,$AM$5)),Tabelas!$I:$J,2,0),\"\"),\"\")","v":"SEG"},{"$f":"IF(Z7<>\"\",IFERROR(VLOOKUP(WEEKDAY(CONCATENATE(Z7,$Y$5,$AM$5)),Tabelas!$I:$J,2,0),\"\"),\"\")","v":"TER"},{"$f":"IF(AA7<>\"\",IFERROR(VLOOKUP(WEEKDAY(CONCATENATE(AA7,$Y$5,$AM$5)),Tabelas!$I:$J,2,0),\"\"),\"\")","v":"QUA"},{"$f":"IF(AB7<>\"\",IFERROR(VLOOKUP(WEEKDAY(CONCATENATE(AB7,$Y$5,$AM$5)),Tabelas!$I:$J,2,0),\"\"),\"\")","v":"QUI"},{"$f":"IF(AC7<>\"\",IFERROR(VLOOKUP(WEEKDAY(CONCATENATE(AC7,$Y$5,$AM$5)),Tabelas!$I:$J,2,0),\"\"),\"\")","v":"SEX"},{"$f":"IF(AD7<>\"\",IFERROR(VLOOKUP(WEEKDAY(CONCATENATE(AD7,$Y$5,$AM$5)),Tabelas!$I:$J,2,0),\"\"),\"\")","v":"SAB"},{"$f":"IF(AE7<>\"\",IFERROR(VLOOKUP(WEEKDAY(CONCATENATE(AE7,$Y$5,$AM$5)),Tabelas!$I:$J,2,0),\"\"),\"\")","v":"DOM"},{"$f":"IF(AF7<>\"\",IFERROR(VLOOKUP(WEEKDAY(CONCATENATE(AF7,$Y$5,$AM$5)),Tabelas!$I:$J,2,0),\"\"),\"\")","v":"SEG"},{"$f":"IF(AG7<>\"\",IFERROR(VLOOKUP(WEEKDAY(CONCATENATE(AG7,$Y$5,$AM$5)),Tabelas!$I:$J,2,0),\"\"),\"\")","v":"TER"},{"$f":"IF(AH7<>\"\",IFERROR(VLOOKUP(WEEKDAY(CONCATENATE(AH7,$Y$5,$AM$5)),Tabelas!$I:$J,2,0),\"\"),\"\")","v":"QUA"},{"$f":"IF(AI7<>\"\",IFERROR(VLOOKUP(WEEKDAY(CONCATENATE(AI7,$Y$5,$AM$5)),Tabelas!$I:$J,2,0),\"\"),\"\")","v":"QUI"},{"$f":"IF(AJ7<>\"\",IFERROR(VLOOKUP(WEEKDAY(CONCATENATE(AJ7,$Y$5,$AM$5)),Tabelas!$I:$J,2,0),\"\"),\"\")","v":"SEX"},{"$f":"IF(AK7<>\"\",IFERROR(VLOOKUP(WEEKDAY(CONCATENATE(AK7,$Y$5,$AM$5)),Tabelas!$I:$J,2,0),\"\"),\"\")","v":"SAB"},{"$f":"IF(AL7<>\"\",IFERROR(VLOOKUP(WEEKDAY(CONCATENATE(AL7,$Y$5,$AM$5)),Tabelas!$I:$J,2,0),\"\"),\"\")","v":"DOM"},{"$f":"IF(AM7<>\"\",IFERROR(VLOOKUP(WEEKDAY(CONCATENATE(AM7,$Y$5,$AM$5)),Tabelas!$I:$J,2,0),\"\"),\"\")","v":"SEG"},{"$f":"IF(AN7<>\"\",IFERROR(VLOOKUP(WEEKDAY(CONCATENATE(AN7,$Y$5,$AM$5)),Tabelas!$I:$J,2,0),\"\"),\"\")","v":"TER"},{"$f":"IF(AO7<>\"\",IFERROR(VLOOKUP(WEEKDAY(CONCATENATE(AO7,$Y$5,$AM$5)),Tabelas!$I:$J,2,0),\"\"),\"\")","v":"QUA"},{"$f":"IF(AP7<>\"\",IFERROR(VLOOKUP(WEEKDAY(CONCATENATE(AP7,$Y$5,$AM$5)),Tabelas!$I:$J,2,0),\"\"),\"\")","v":"QUI"},{"$f":"IF(AQ7<>\"\",IFERROR(VLOOKUP(WEEKDAY(CONCATENATE(AQ7,$Y$5,$AM$5)),Tabelas!$I:$J,2,0),\"\"),\"\")","v":"SEX"},{"$f":"IF(AR7<>\"\",IFERROR(VLOOKUP(WEEKDAY(CONCATENATE(AR7,$Y$5,$AM$5)),Tabelas!$I:$J,2,0),\"\"),\"\")","v":"SAB"},1,2,3,4,5,6,7,8,9,10,11,12,13,14,15,16,17,18,19,20,21,22,23,24,25,26,27,28,29,30,31,"Total","Dias","Dias","Dias","Dias","Dias","Dias","Dias","Dias"]
["Karine Maria Kalazan",null,null,"Tec. Enf","Fapeu",44,1,null,17,null,null,null,null,"M6","M6","FO","D2","M6","M6","M6","M6","M6","FO","FO","M6","M6","M6","M6","M6","D2","FO","M6","M6","M6","M6","D2","FO","D2","D2","FO","D2","FO","D2","FO",{"$f":"IF(A9<>\"\",IFERROR(VLOOKUP(N9,Tabelas!B:D,3,0),0),\"\")","v":6},{"$f":"IF(A9<>\"\",IFERROR(VLOOKUP(O9,Tabelas!B:D,3,0),0),\"\")","v":6},{"$f":"IF(A9<>\"\",IFERROR(VLOOKUP(P9,Tabelas!B:D,3,0),0),\"\")","v":0},{"$f":"IF(A9<>\"\",IFERROR(VLOOKUP(Q9,Tabelas!B:D,3,0),0),\"\")","v":12},{"$f":"IF(A9<>\"\",IFERROR(VLOOKUP(R9,Tabelas!B:D,3,0),0),\"\")","v":6},{"$f":"IF(A9<>\"\",IFERROR(VLOOKUP(S9,Tabelas!B:D,3,0),0),\"\")","v":6},{"$f":"IF(A9<>\"\",IFERROR(VLOOKUP(T9,Tabelas!B:D,3,0),0),\"\")","v":6},{"$f":"IF(A9<>\"\",IFERROR(VLOOKUP(U9,Tabelas!B:D,3,0),0),\"\")","v":6},{"$f":"IF(A9<>\"\",IFERROR(VLOOKUP(V9,Tabelas!B:D,3,0),0),\"\")","v":6},{"$f":"IF(A9<>\"\",IFERROR(VLOOKUP(W9,Tabelas!B:D,3,0),0),\"\")","v":0},{"$f":"IF(A9<>\"\",IFERROR(VLOOKUP(X9,Tabelas!B:D,3,0),0),\"\")","v":0},{"$f":"IF(A9<>\"\",IFERROR(VLOOKUP(Y9,Tabelas!B:D,3,0),0),\"\")","v":6},{"$f":"IF(A9<>\"\",IFERROR(VLOOKUP(Z9,Tabelas!B:D,3,0),0),\"\")","v":6},{"$f":"IF(A9<>\"\",IFERROR(VLOOKUP(AA9,Tabelas!B:D,3,0),0),\"\")","v":6},{"$f":"IF(A9<>\"\",IFERROR(VLOOKUP(AB9,Tabelas!B:D,3,0),0),\"\")","v":6},{"$f":"IF(A9<>\"\",IFERROR(VLOOKUP(AC9,Tabelas!B:D,3,0),0),\"\")","v":6},{"$f":"IF(A9<>\"\",IFERROR(VLOOKUP(AD9,Tabelas!B:D,3,0),0),\"\")","v":12},{"$f":"IF(A9<>\"\",IFERROR(VLOOKUP(AE9,Tabelas!B:D,3,0),0),\"\")","v":0},{"$f":"IF(A9<>\"\",IFERROR(VLOOKUP(AF9,Tabelas!B:D,3,0),0),\"\")","v":6},{"$f":"IF(A9<>\"\",IFERROR(VLOOKUP(AG9,Tabelas!B:D,3,0),0),\"\")","v":6},{"$f":"IF(A9<>\"\",IFERROR(VLOOKUP(AH9,Tabelas!B:D,3,0),0),\"\")","v":6},{"$f":"IF(A9<>\"\",IFERROR(VLOOKUP(AI9,Tabelas!B:D,3,0),0),\"\")","v":6},{"$f":"IF(A9<>\"\",IFERROR(VLOOKUP(AJ9,Tabelas!B:D,3,0),0),\"\")","v":12},{"$f":"IF(A9<>\"\",IFERROR(VLOOKUP(AK9,Tabelas!B:D,3,0),0),\"\")","v":0},{"$f":"IF(A9<>\"\",IFERROR(VLOOKUP(AL9,Tabelas!B:D,3,0),0),\"\")","v":12},{"$f":"IF(A9<>\"\",IFERROR(VLOOKUP(AM9,Tabelas!B:D,3,0),0),\"\")","v":12},{"$f":"IF(A9<>\"\",IFERROR(VLOOKUP(AN9,Tabelas!B:D,3,0),0),\"\")","v":0},{"$f":"IF(A9<>\"\",IFERROR(VLOOKUP(AO9,Tabelas!B:D,3,0),0),\"\")","v":12},{"$f":"IF(A9<>\"\",IFERROR(VLOOKUP(AP9,Tabelas!B:D,3,0),0),\"\")","v":0},{"$f":"IF(A9<>\"\",IFERROR(VLOOKUP(AQ9,Tabelas!B:D,3,0),0),\"\")","v":12},{"$f":"IF(A9<>\"\",IFERROR(VLOOKUP(AR9,Tabelas!B:D,3,0),0),\"\")","v":0},{"$f":"IF(A9<>\"\",SUM(AS9:BW9),\"\")","v":180},{"$f":"IF(A9<>\"\",COUNTIF(N9:AR9,\"LM\")+COUNTIF(N9:AR9,\"L\"),\"\")+COUNTIF(N9:AR9,\"LP\")","v":0},{"$f":"IF(A9<>\"\",COUNTIF(N9:AR9,\"AB\"),\"\")","v":0},{"$f":"IF(A9<>\"\",COUNTIF(N9:AR9,\"FE\"),\"\")","v":0},{"$f":"IF(A9<>\"\",COUNTIF(N9:AR9,\"LC\"),\"\")","v":0},{"$f":"IF(A9<>\"\",COUNTIF(N9:AR9,\"CE\"),\"\")","v":0},{"$f":"IF(A9<>\"\",COUNTIF(N9:AR9,\"AF1\")+COUNTIF(N9:AR9,\"AF2\")+COUNTIF(N9:AR9,\"AF3\")+COUNTIF(N9:AR9,\"AF4\")+COUNTIF(N9:AR9,\"AF5\")+COUNTIF(N9:AR9,\"AF6\")+COUNTIF(N9:AR9,\"AF7\")+COUNTIF(N9:AR9,\"AF8\")+COUNTIF(N9:AR9,\"AF9\")+COUNTIF(N9:AR9,\"AF10\")+COUNTIF(N9:AR9,\"AF11\")+COUNTIF(N9:AR9,\"AF12\")+COUNTIF(N9:AR9,\"AF13\")+COUNTIF(N9:AR9,\"AF14\"),\"\")","v":0},{"$f":"IF(A9<>\"\",COUNTIF(N9:AR9,\"CE\")+COUNTIF(N9:AR9,\"L\")+COUNTIF(N9:AR9,\"LM\")+COUNTIF(N9:AR9,\"LP\")+COUNTIF(N9:AR9,\"LC\")+COUNTIF(N9:AR9,\"AB\")+COUNTIF(N9:AR9,\"AF1\")+COUNTIF(N9:AR9,\"AF2\")+COUNTIF(N9:AR9,\"AF3\")+COUNTIF(N9:AR9,\"AF4\")+COUNTIF(N9:AR9,\"AF5\")+COUNTIF(N9:AR9,\"AF6\")+COUNTIF(N9:AR9,\"AF7\")+COUNTIF(N9:AR9,\"AF8\")+COUNTIF(N9:AR9,\"AF9\")+COUNTIF(N9:AR9,\"AF10\")+COUNTIF(N9:AR9,\"AF11\")+COUNTIF(N9:AR9,\"AF12\")+COUNTIF(N9:AR9,\"AF13\")+COUNTIF(N9:AR9,\"AF14\")+COUNTIF(N9:AR9,\"RC\")+COUNTIF(N9:AR9,\"FO\")+COUNTIF(N9:AR9,\"FE\"),\"\")","v":8},{"$f":"IF(A9<>\"\",COUNTIF(N9:AR9,\"APH\"),\"\")","v":0}]
["Liane da rosa",null,null,"Tec. Enf","Fapeu",44,null,null,null,null,null,5,null,"D2","FO","D2","FO","D2","FO","FO","D2","FO","D2","FO","D2","FO","D2","FO","D2","FO","D2","FO","D2","FO","D2","FO","D2","FO","D2","FO","D2","FO","D2","FO",{"$f":"IF(A10<>\"\",IFERROR(VLOOKUP(N10,Tabelas!B:D,3,0),0),\"\")","v":12},{"$f":"IF(A10<>\"\",IFERROR(VLOOKUP(O10,Tabelas!B:D,3,0),0),\"\")","v":0},{"$f":"IF(A10<>\"\",IFERROR(VLOOKUP(P10,Tabelas!B:D,3,0),0),\"\")","v":12},{"$f":"IF(A10<>\"\",IFERROR(VLOOKUP(Q10,Tabelas!B:D,3,0),0),\"\")","v":0},{"$f":"IF(A10<>\"\",IFERROR(VLOOKUP(R10,Tabelas!B:D,3,0),0),\"\")","v":12},{"$f":"IF(A10<>\"\",IFERROR(VLOOKUP(S10,Tabelas!B:D,3,0),0),\"\")","v":0},{"$f":"IF(A10<>\"\",IFERROR(VLOOKUP(T10,Tabelas!B:D,3,0),0),\"\")","v":0},{"$f":"IF(A10<>\"\",IFERROR(VLOOKUP(U10,Tabelas!B:D,3,0),0),\"\")","v":12},{"$f":"IF(A10<>\"\",IFERROR(VLOOKUP(V10,Tabelas!B:D,3,0),0),\"\")","v":0},{"$f":"IF(A10<>\"\",IFERROR(VLOOKUP(W10,Tabelas!B:D,3,0),0),\"\")","v":12},{"$f":"IF(A10<>\"\",IFERROR(VLOOKUP(X10,Tabelas!B:D,3,0),0),\"\")","v":0},{"$f":"IF(A10<>\"\",IFERROR(VLOOKUP(Y10,Tabelas!B:D,3,0),0),\"\")","v":12},{"$f":"IF(A10<>\"\",IFERROR(VLOOKUP(Z10,Tabelas!B:D,3,0),0),\"\")","v":0},{"$f":"IF(A10<>\"\",IFERROR(VLOOKUP(AA10,Tabelas!B:D,3,0),0),\"\")","v":12},{"$f":"IF(A10<>\"\",IFERROR(VLOOKUP(AB10,Tabelas!B:D,3,0),0),\"\")","v":0},{"$f":"IF(A10<>\"\",IFERROR(VLOOKUP(AC10,Tabelas!B:D,3,0),0),\"\")","v":12},{"$f":"IF(A10<>\"\",IFERROR(VLOOKUP(AD10,Tabelas!B:D,3,0),0),\"\")","v":0},{"$f":"IF(A10<>\"\",IFERROR(VLOOKUP(AE10,Tabelas!B:D,3,0),0),\"\")","v":12},{"$f":"IF(A10<>\"\",IFERROR(VLOOKUP(AF10,Tabelas!B:D,3,0),0),\"\")","v":0},{"$f":"IF(A10<>\"\",IFERROR(VLOOKUP(AG10,Tabelas!B:D,3,0),0),\"\")","v":12},{"$f":"IF(A10<>\"\",IFERROR(VLOOKUP(AH10,Tabelas!B:D,3,0),0),\"\")","v":0},{"$f":"IF(A10<>\"\",IFERROR(VLOOKUP(AI10,Tabelas!B:D,3,0),0),\"\")","v":12},{"$f":"IF(A10<>\"\",IFERROR(VLOOKUP(AJ10,Tabelas!B:D,3,0),0),\"\")","v":0},{"$f":"IF(A10<>\"\",IFERROR(VLOOKUP(AK10,Tabelas!B:D,3,0),0),\"\")","v":12},{"$f":"IF(A10<>\"\",IFERROR(VLOOKUP(AL10,Tabelas!B:D,3,0),0),\"\")","v":0},{"$f":"IF(A10<>\"\",IFERROR(VLOOKUP(AM10,Tabelas!B:D,3,0),0),\"\")","v":12},{"$f":"IF(A10<>\"\",IFERROR(VLOOKUP(AN10,Tabelas!B:D,3,0),0),\"\")","v":0},{"$f":"IF(A10<>\"\",IFERROR(VLOOKUP(AO10,Tabelas!B:D,3,0),0),\"\")","v":12},{"$f":"IF(A10<>\"\",IFERROR(VLOOKUP(AP10,Tabelas!B:D,3,0),0),\"\")","v":0},{"$f":"IF(A10<>\"\",IFERROR(VLOOKUP(AQ10,Tabelas!B:D,3,0),0),\"\")","v":12},{"$f":"IF(A10<>\"\",IFERROR(VLOOKUP(AR10,Tabelas!B:D,3,0),0),\"\")","v":0},{"$f":"IF(A10<>\"\",SUM(AS10:BW10),\"\")","v":180},{"$f":"IF(A10<>\"\",COUNTIF(N10:AR10,\"LM\")+COUNTIF(N10:AR10,\"L\"),\"\")+COUNTIF(N10:AR10,\"LP\")","v":0},0,0,0,0,{"$f":"IF(A10<>\"\",COUNTIF(N10:AR10,\"AF1\")+COUNTIF(N10:AR10,\"AF2\")+COUNTIF(N10:AR10,\"AF3\")+COUNTIF(N10:AR10,\"AF4\")+COUNTIF(N10:AR10,\"AF5\")+COUNTIF(N10:AR10,\"AF6\")+COUNTIF(N10:AR10,\"AF7\")+COUNTIF(N10:AR10,\"AF8\")+COUNTIF(N10:AR10,\"AF9\")+COUNTIF(N10:AR10,\"AF10\")+COUNTIF(N10:AR10,\"AF11\")+COUNTIF(N10:AR10,\"AF12\")+COUNTIF(N10:AR10,\"AF13\")+COUNTIF(N10:AR10,\"AF14\"),\"\")","v":0},{"$f":"IF(A10<>\"\",COUNTIF(N10:AR10,\"CE\")+COUNTIF(N10:AR10,\"L\")+COUNTIF(N10:AR10,\"LM\")+COUNTIF(N10:AR10,\"LP\")+COUNTIF(N10:AR10,\"LC\")+COUNTIF(N10:AR10,\"AB\")+COUNTIF(N10:AR10,\"AF1\")+COUNTIF(N10:AR10,\"AF2\")+COUNTIF(N10:AR10,\"AF3\")+COUNTIF(N10:AR10,\"AF4\")+COUNTIF(N10:AR10,\"AF5\")+COUNTIF(N10:AR10,\"AF6\")+COUNTIF(N10:AR10,\"AF7\")+COUNTIF(N10:AR10,\"AF8\")+COUNTIF(N10:AR10,\"AF9\")+COUNTIF(N10:AR10,\"AF10\")+COUNTIF(N10:AR10,\"AF11\")+COUNTIF(N10:AR10,\"AF12\")+COUNTIF(N10:AR10,\"AF13\")+COUNTIF(N10:AR10,\"AF14\")+COUNTIF(N10:AR10,\"RC\")+COUNTIF(N10:AR10,\"FO\")+COUNTIF(N10:AR10,\"FE\"),\"\")","v":16},{"$f":"IF(A10<>\"\",COUNTIF(N10:AR10,\"APH\"),\"\")","v":0}]
["Lisiane Moreira dias",null,null,"Tec. Enf","Fapeu",40,null,null,17,null,null,null,null,"FO","FO","D2","FO","FO","D2","D2","FO","D2","FO","FO","D2","FO","D2","D2","FO","FO","D2","FO","D2","D2","FO","FO","D2","D2","FO","D2","FO","FO","FO","FO",{"$f":"IF(A11<>\"\",IFERROR(VLOOKUP(N11,Tabelas!B:D,3,0),0),\"\")","v":0},{"$f":"IF(A11<>\"\",IFERROR(VLOOKUP(O11,Tabelas!B:D,3,0),0),\"\")","v":0},{"$f":"IF(A11<>\"\",IFERROR(VLOOKUP(P11,Tabelas!B:D,3,0),0),\"\")","v":12},{"$f":"IF(A11<>\"\",IFERROR(VLOOKUP(Q11,Tabelas!B:D,3,0),0),\"\")","v":0},{"$f":"IF(A11<>\"\",IFERROR(VLOOKUP(R11,Tabelas!B:D,3,0),0),\"\")","v":0},{"$f":"IF(A11<>\"\",IFERROR(VLOOKUP(S11,Tabelas!B:D,3,0),0),\"\")","v":12},{"$f":"IF(A11<>\"\",IFERROR(VLOOKUP(T11,Tabelas!B:D,3,0),0),\"\")","v":12},{"$f":"IF(A11<>\"\",IFERROR(VLOOKUP(U11,Tabelas!B:D,3,0),0),\"\")","v":0},{"$f":"IF(A11<>\"\",IFERROR(VLOOKUP(V11,Tabelas!B:D,3,0),0),\"\")","v":12},{"$f":"IF(A11<>\"\",IFERROR(VLOOKUP(W11,Tabelas!B:D,3,0),0),\"\")","v":0},{"$f":"IF(A11<>\"\",IFERROR(VLOOKUP(X11,Tabelas!B:D,3,0),0),\"\")","v":0},{"$f":"IF(A11<>\"\",IFERROR(VLOOKUP(Y11,Tabelas!B:D,3,0),0),\"\")","v":12},{"$f":"IF(A11<>\"\",IFERROR(VLOOKUP(Z11,Tabelas!B:D,3,0),0),\"\")","v":0},{"$f":"IF(A11<>\"\",IFERROR(VLOOKUP(AA11,Tabelas!B:D,3,0),0),\"\")","v":12},{"$f":"IF(A11<>\"\",IFERROR(VLOOKUP(AB11,Tabelas!B:D,3,0),0),\"\")","v":12},{"$f":"IF(A11<>\"\",IFERROR(VLOOKUP(AC11,Tabelas!B:D,3,0),0),\"\")","v":0},{"$f":"IF(A11<>\"\",IFERROR(VLOOKUP(AD11,Tabelas!B:D,3,0),0),\"\")","v":0},{"$f":"IF(A11<>\"\",IFERROR(VLOOKUP(AE11,Tabelas!B:D,3,0),0),\"\")","v":12},{"$f":"IF(A11<>\"\",IFERROR(VLOOKUP(AF11,Tabelas!B:D,3,0),0),\"\")","v":0},{"$f":"IF(A11<>\"\",IFERROR(VLOOKUP(AG11,Tabelas!B:D,3,0),0),\"\")","v":12},{"$f":"IF(A11<>\"\",IFERROR(VLOOKUP(AH11,Tabelas!B:D,3,0),0),\"\")","v":12},{"$f":"IF(A11<>\"\",IFERROR(VLOOKUP(AI11,Tabelas!B:D,3,0),0),\"\")","v":0},{"$f":"IF(A11<>\"\",IFERROR(VLOOKUP(AJ11,Tabelas!B:D,3,0),0),\"\")","v":0},{"$f":"IF(A11<>\"\",IFERROR(VLOOKUP(AK11,Tabelas!B:D,3,0),0),\"\")","v":12},{"$f":"IF(A11<>\"\",IFERROR(VLOOKUP(AL11,Tabelas!B:D,3,0),0),\"\")","v":12},{"$f":"IF(A11<>\"\",IFERROR(VLOOKUP(AM11,Tabelas!B:D,3,0),0),\"\")","v":0},{"$f":"IF(A11<>\"\",IFERROR(VLOOKUP(AN11,Tabelas!B:D,3,0),0),\"\")","v":12},{"$f":"IF(A11<>\"\",IFERROR(VLOOKUP(AO11,Tabelas!B:D,3,0),0),\"\")","v":0},{"$f":"IF(A11<>\"\",IFERROR(VLOOKUP(AP11,Tabelas!B:D,3,0),0),\"\")","v":0},{"$f":"IF(A11<>\"\",IFERROR(VLOOKUP(AQ11,Tabelas!B:D,3,0),0),\"\")","v":0},{"$f":"IF(A11<>\"\",IFERROR(VLOOKUP(AR11,Tabelas!B:D,3,0),0),\"\")","v":0},156,0,0,0,0,0,0,18,{"$f":"IF(A11<>\"\",COUNTIF(N11:AR11,\"APH\"),\"\")","v":0}]
["Marinalva S. Silva",null,null,"Tec. Enf","Fapeu",44,null,null,17,null,null,null,null,"FE","FE","FE","FE","FE","FE","FE","FE","FE","FE","FE","FE","FE","FE","FE","FE","FE","FE","FE","FE","FE","FE","FE","FE","FE","FE","FE","FE","FE","FE","D2",{"$f":"IF(A12<>\"\",IFERROR(VLOOKUP(N12,Tabelas!B:D,3,0),0),\"\")","v":0},{"$f":"IF(A12<>\"\",IFERROR(VLOOKUP(O12,Tabelas!B:D,3,0),0),\"\")","v":0},{"$f":"IF(A12<>\"\",IFERROR(VLOOKUP(P12,Tabelas!B:D,3,0),0),\"\")","v":0},{"$f":"IF(A12<>\"\",IFERROR(VLOOKUP(Q12,Tabelas!B:D,3,0),0),\"\")","v":0},{"$f":"IF(A12<>\"\",IFERROR(VLOOKUP(R12,Tabelas!B:D,3,0),0),\"\")","v":0},{"$f":"IF(A12<>\"\",IFERROR(VLOOKUP(S12,Tabelas!B:D,3,0),0),\"\")","v":0},{"$f":"IF(A12<>\"\",IFERROR(VLOOKUP(T12,Tabelas!B:D,3,0),0),\"\")","v":0},{"$f":"IF(A12<>\"\",IFERROR(VLOOKUP(U12,Tabelas!B:D,3,0),0),\"\")","v":0},{"$f":"IF(A12<>\"\",IFERROR(VLOOKUP(V12,Tabelas!B:D,3,0),0),\"\")","v":0},{"$f":"IF(A12<>\"\",IFERROR(VLOOKUP(W12,Tabelas!B:D,3,0),0),\"\")","v":0},{"$f":"IF(A12<>\"\",IFERROR(VLOOKUP(X12,Tabelas!B:D,3,0),0),\"\")","v":0},{"$f":"IF(A12<>\"\",IFERROR(VLOOKUP(Y12,Tabelas!B:D,3,0),0),\"\")","v":0},{"$f":"IF(A12<>\"\",IFERROR(VLOOKUP(Z12,Tabelas!B:D,3,0),0),\"\")","v":0},{"$f":"IF(A12<>\"\",IFERROR(VLOOKUP(AA12,Tabelas!B:D,3,0),0),\"\")","v":0},{"$f":"IF(A12<>\"\",IFERROR(VLOOKUP(AB12,Tabelas!B:D,3,0),0),\"\")","v":0},{"$f":"IF(A12<>\"\",IFERROR(VLOOKUP(AC12,Tabelas!B:D,3,0),0),\"\")","v":0},{"$f":"IF(A12<>\"\",IFERROR(VLOOKUP(AD12,Tabelas!B:D,3,0),0),\"\")","v":0},{"$f":"IF(A12<>\"\",IFERROR(VLOOKUP(AE12,Tabelas!B:D,3,0),0),\"\")","v":0},{"$f":"IF(A12<>\"\",IFERROR(VLOOKUP(AF12,Tabelas!B:D,3,0),0),\"\")","v":0},{"$f":"IF(A12<>\"\",IFERROR(VLOOKUP(AG12,Tabelas!B:D,3,0),0),\"\")","v":0},{"$f":"IF(A12<>\"\",IFERROR(VLOOKUP(AH12,Tabelas!B:D,3,0),0),\"\")","v":0},{"$f":"IF(A12<>\"\",IFERROR(VLOOKUP(AI12,Tabelas!B:D,3,0),0),\"\")","v":0},{"$f":"IF(A12<>\"\",IFERROR(VLOOKUP(AJ12,Tabelas!B:D,3,0),0),\"\")","v":0},{"$f":"IF(A12<>\"\",IFERROR(VLOOKUP(AK12,Tabelas!B:D,3,0),0),\"\")","v":0},{"$f":"IF(A12<>\"\",IFERROR(VLOOKUP(AL12,Tabelas!B:D,3,0),0),\"\")","v":0},{"$f":"IF(A12<>\"\",IFERROR(VLOOKUP(AM12,Tabelas!B:D,3,0),0),\"\")","v":0},{"$f":"IF(A12<>\"\",IFERROR(VLOOKUP(AN12,Tabelas!B:D,3,0),0),\"\")","v":0},{"$f":"IF(A12<>\"\",IFERROR(VLOOKUP(AO12,Tabelas!B:D,3,0),0),\"\")","v":0},{"$f":"IF(A12<>\"\",IFERROR(VLOOKUP(AP12,Tabelas!B:D,3,0),0),\"\")","v":0},{"$f":"IF(A12<>\"\",IFERROR(VLOOKUP(AQ12,Tabelas!B:D,3,0),0),\"\")","v":0},{"$f":"IF(A12<>\"\",IFERROR(VLOOKUP(AR12,Tabelas!B:D,3,0),0),\"\")","v":12},12,0,0,30,0,0,0,30,{"$f":"IF(A12<>\"\",COUNTIF(N12:AR12,\"APH\"),\"\")","v":0}]
["Fulano de Tal 5",1234567,123,"ENF","Ebserh",36,null,null,null,null,null,null,null,null,null,null,null,null,null,null,null,null,null,null,null,null,null,null,null,null,null,null,null,null,null,null,null,null,null,null,null,null,null,null,{"$f":"IF(A13<>\"\",IFERROR(VLOOKUP(N13,Tabelas!B:D,3,0),0),\"\")","v":0},{"$f":"IF(A13<>\"\",IFERROR(VLOOKUP(O13,Tabelas!B:D,3,0),0),\"\")","v":0},{"$f":"IF(A13<>\"\",IFERROR(VLOOKUP(P13,Tabelas!B:D,3,0),0),\"\")","v":0},{"$f":"IF(A13<>\"\",IFERROR(VLOOKUP(Q13,Tabelas!B:D,3,0),0),\"\")","v":0},{"$f":"IF(A13<>\"\",IFERROR(VLOOKUP(R13,Tabelas!B:D,3,0),0),\"\")","v":0},{"$f":"IF(A13<>\"\",IFERROR(VLOOKUP(S13,Tabelas!B:D,3,0),0),\"\")","v":0},{"$f":"IF(A13<>\"\",IFERROR(VLOOKUP(T13,Tabelas!B:D,3,0),0),\"\")","v":0},{"$f":"IF(A13<>\"\",IFERROR(VLOOKUP(U13,Tabelas!B:D,3,0),0),\"\")","v":0},{"$f":"IF(A13<>\"\",IFERROR(VLOOKUP(V13,Tabelas!B:D,3,0),0),\"\")","v":0},{"$f":"IF(A13<>\"\",IFERROR(VLOOKUP(W13,Tabelas!B:D,3,0),0),\"\")","v":0},{"$f":"IF(A13<>\"\",IFERROR(VLOOKUP(X13,Tabelas!B:D,3,0),0),\"\")","v":0},{"$f":"IF(A13<>\"\",IFERROR(VLOOKUP(Y13,Tabelas!B:D,3,0),0),\"\")","v":0},{"$f":"IF(A13<>\"\",IFERROR(VLOOKUP(Z13,Tabelas!B:D,3,0),0),\"\")","v":0},{"$f":"IF(A13<>\"\",IFERROR(VLOOKUP(AA13,Tabelas!B:D,3,0),0),\"\")","v":0},{"$f":"IF(A13<>\"\",IFERROR(VLOOKUP(AB13,Tabelas!B:D,3,0),0),\"\")","v":0},{"$f":"IF(A13<>\"\",IFERROR(VLOOKUP(AC13,Tabelas!B:D,3,0),0),\"\")","v":0},{"$f":"IF(A13<>\"\",IFERROR(VLOOKUP(AD13,Tabelas!B:D,3,0),0),\"\")","v":0},{"$f":"IF(A13<>\"\",IFERROR(VLOOKUP(AE13,Tabelas!B:D,3,0),0),\"\")","v":0},{"$f":"IF(A13<>\"\",IFERROR(VLOOKUP(AF13,Tabelas!B:D,3,0),0),\"\")","v":0},{"$f":"IF(A13<>\"\",IFERROR(VLOOKUP(AG13,Tabelas!B:D,3,0),0),\"\")","v":0},{"$f":"IF(A13<>\"\",IFERROR(VLOOKUP(AH13,Tabelas!B:D,3,0),0),\"\")","v":0},{"$f":"IF(A13<>\"\",IFERROR(VLOOKUP(AI13,Tabelas!B:D,3,0),0),\"\")","v":0},{"$f":"IF(A13<>\"\",IFERROR(VLOOKUP(AJ13,Tabelas!B:D,3,0),0),\"\")","v":0},{"$f":"IF(A13<>\"\",IFERROR(VLOOKUP(AK13,Tabelas!B:D,3,0),0),\"\")","v":0},{"$f":"IF(A13<>\"\",IFERROR(VLOOKUP(AL13,Tabelas!B:D,3,0),0),\"\")","v":0},{"$f":"IF(A13<>\"\",IFERROR(VLOOKUP(AM13,Tabelas!B:D,3,0),0),\"\")","v":0},{"$f":"IF(A13<>\"\",IFERROR(VLOOKUP(AN13,Tabelas!B:D,3,0),0),\"\")","v":0},{"$f":"IF(A13<>\"\",IFERROR(VLOOKUP(AO13,Tabelas!B:D,3,0),0),\"\")","v":0},{"$f":"IF(A13<>\"\",IFERROR(VLOOKUP(AP13,Tabelas!B:D,3,0),0),\"\")","v":0},{"$f":"IF(A13<>\"\",IFERROR(VLOOKUP(AQ13,Tabelas!B:D,3,0),0),\"\")","v":0},{"$f":"IF(A13<>\"\",IFERROR(VLOOKUP(AR13,Tabelas!B:D,3,0),0),\"\")","v":0},0,0,0,0,0,0,0,0,{"$f":"IF(A13<>\"\",COUNTIF(N13:AR13,\"APH\"),\"\")","v":0}]
["Fulano de Tal 6",1234567,123,"ENF","Ebserh",36,null,null,null,null,null,null,null,null,null,null,null,null,null,null,null,null,null,null,null,null,null,null,null,null,null,null,null,null,null,null,null,null,null,null,null,null,null,null,{"$f":"IF(A14<>\"\",IFERROR(VLOOKUP(N14,Tabelas!B:D,3,0),0),\"\")","v":0},{"$f":"IF(A14<>\"\",IFERROR(VLOOKUP(O14,Tabelas!B:D,3,0),0),\"\")","v":0},{"$f":"IF(A14<>\"\",IFERROR(VLOOKUP(P14,Tabelas!B:D,3,0),0),\"\")","v":0},{"$f":"IF(A14<>\"\",IFERROR(VLOOKUP(Q14,Tabelas!B:D,3,0),0),\"\")","v":0},{"$f":"IF(A14<>\"\",IFERROR(VLOOKUP(R14,Tabelas!B:D,3,0),0),\"\")","v":0},{"$f":"IF(A14<>\"\",IFERROR(VLOOKUP(S14,Tabelas!B:D,3,0),0),\"\")","v":0},{"$f":"IF(A14<>\"\",IFERROR(VLOOKUP(T14,Tabelas!B:D,3,0),0),\"\")","v":0},{"$f":"IF(A14<>\"\",IFERROR(VLOOKUP(U14,Tabelas!B:D,3,0),0),\"\")","v":0},{"$f":"IF(A14<>\"\",IFERROR(VLOOKUP(V14,Tabelas!B:D,3,0),0),\"\")","v":0},{"$f":"IF(A14<>\"\",IFERROR(VLOOKUP(W14,Tabelas!B:D,3,0),0),\"\")","v":0},{"$f":"IF(A14<>\"\",IFERROR(VLOOKUP(X14,Tabelas!B:D,3,0),0),\"\")","v":0},{"$f":"IF(A14<>\"\",IFERROR(VLOOKUP(Y14,Tabelas!B:D,3,0),0),\"\")","v":0},{"$f":"IF(A14<>\"\",IFERROR(VLOOKUP(Z14,Tabelas!B:D,3,0),0),\"\")","v":0},{"$f":"IF(A14<>\"\",IFERROR(VLOOKUP(AA14,Tabelas!B:D,3,0),0),\"\")","v":0},{"$f":"IF(A14<>\"\",IFERROR(VLOOKUP(AB14,Tabelas!B:D,3,0),0),\"\")","v":0},{"$f":"IF(A14<>\"\",IFERROR(VLOOKUP(AC14,Tabelas!B:D,3,0),0),\"\")","v":0},{"$f":"IF(A14<>\"\",IFERROR(VLOOKUP(AD14,Tabelas!B:D,3,0),0),\"\")","v":0},{"$f":"IF(A14<>\"\",IFERROR(VLOOKUP(AE14,Tabelas!B:D,3,0),0),\"\")","v":0},{"$f":"IF(A14<>\"\",IFERROR(VLOOKUP(AF14,Tabelas!B:D,3,0),0),\"\")","v":0},{"$f":"IF(A14<>\"\",IFERROR(VLOOKUP(AG14,Tabelas!B:D,3,0),0),\"\")","v":0},{"$f":"IF(A14<>\"\",IFERROR(VLOOKUP(AH14,Tabelas!B:D,3,0),0),\"\")","v":0},{"$f":"IF(A14<>\"\",IFERROR(VLOOKUP(AI14,Tabelas!B:D,3,0),0),\"\")","v":0},{"$f":"IF(A14<>\"\",IFERROR(VLOOKUP(AJ14,Tabelas!B:D,3,0),0),\"\")","v":0},{"$f":"IF(A14<>\"\",IFERROR(VLOOKUP(AK14,Tabelas!B:D,3,0),0),\"\")","v":0},{"$f":"IF(A14<>\"\",IFERROR(VLOOKUP(AL14,Tabelas!B:D,3,0),0),\"\")","v":0},{"$f":"IF(A14<>\"\",IFERROR(VLOOKUP(AM14,Tabelas!B:D,3,0),0),\"\")","v":0},{"$f":"IF(A14<>\"\",IFERROR(VLOOKUP(AN14,Tabelas!B:D,3,0),0),\"\")","v":0},{"$f":"IF(A14<>\"\",IFERROR(VLOOKUP(AO14,Tabelas!B:D,3,0),0),\"\")","v":0},{"$f":"IF(A14<>\"\",IFERROR(VLOOKUP(AP14,Tabelas!B:D,3,0),0),\"\")","v":0},{"$f":"IF(A14<>\"\",IFERROR(VLOOKUP(AQ14,Tabelas!B:D,3,0),0),\"\")","v":0},{"$f":"IF(A14<>\"\",IFERROR(VLOOKUP(AR14,Tabelas!B:D,3,0),0),\"\")","v":0},0,0,0,0,0,0,0,0,{"$f":"IF(A14<>\"\",COUNTIF(N14:AR14,\"APH\"),\"\")","v":0}]
["Fulano de Tal 7",1234567,123,"ENF","Ebserh",36,null,null,null,null,null,null,null,null,null,null,null,null,null,null,null,null,null,null,null,null,null,null,null,null,null,null,null,null,null,null,null,null,null,null,null,null,null,null,{"$f":"IF(A15<>\"\",IFERROR(VLOOKUP(N15,Tabelas!B:D,3,0),0),\"\")","v":0},{"$f":"IF(A15<>\"\",IFERROR(VLOOKUP(O15,Tabelas!B:D,3,0),0),\"\")","v":0},{"$f":"IF(A15<>\"\",IFERROR(VLOOKUP(P15,Tabelas!B:D,3,0),0),\"\")","v":0},{"$f":"IF(A15<>\"\",IFERROR(VLOOKUP(Q15,Tabelas!B:D,3,0),0),\"\")","v":0},{"$f":"IF(A15<>\"\",IFERROR(VLOOKUP(R15,Tabelas!B:D,3,0),0),\"\")","v":0},{"$f":"IF(A15<>\"\",IFERROR(VLOOKUP(S15,Tabelas!B:D,3,0),0),\"\")","v":0},{"$f":"IF(A15<>\"\",IFERROR(VLOOKUP(T15,Tabelas!B:D,3,0),0),\"\")","v":0},{"$f":"IF(A15<>\"\",IFERROR(VLOOKUP(U15,Tabelas!B:D,3,0),0),\"\")","v":0},{"$f":"IF(A15<>\"\",IFERROR(VLOOKUP(V15,Tabelas!B:D,3,0),0),\"\")","v":0},{"$f":"IF(A15<>\"\",IFERROR(VLOOKUP(W15,Tabelas!B:D,3,0),0),\"\")","v":0},{"$f":"IF(A15<>\"\",IFERROR(VLOOKUP(X15,Tabelas!B:D,3,0),0),\"\")","v":0},{"$f":"IF(A15<>\"\",IFERROR(VLOOKUP(Y15,Tabelas!B:D,3,0),0),\"\")","v":0},{"$f":"IF(A15<>\"\",IFERROR(VLOOKUP(Z15,Tabelas!B:D,3,0),0),\"\")","v":0},{"$f":"IF(A15<>\"\",IFERROR(VLOOKUP(AA15,Tabelas!B:D,3,0),0),\"\")","v":0},{"$f":"IF(A15<>\"\",IFERROR(VLOOKUP(AB15,Tabelas!B:D,3,0),0),\"\")","v":0},{"$f":"IF(A15<>\"\",IFERROR(VLOOKUP(AC15,Tabelas!B:D,3,0),0),\"\")","v":0},{"$f":"IF(A15<>\"\",IFERROR(VLOOKUP(AD15,Tabelas!B:D,3,0),0),\"\")","v":0},{"$f":"IF(A15<>\"\",IFERROR(VLOOKUP(AE15,Tabelas!B:D,3,0),0),\"\")","v":0},{"$f":"IF(A15<>\"\",IFERROR(VLOOKUP(AF15,Tabelas!B:D,3,0),0),\"\")","v":0},{"$f":"IF(A15<>\"\",IFERROR(VLOOKUP(AG15,Tabelas!B:D,3,0),0),\"\")","v":0},{"$f":"IF(A15<>\"\",IFERROR(VLOOKUP(AH15,Tabelas!B:D,3,0),0),\"\")","v":0},{"$f":"IF(A15<>\"\",IFERROR(VLOOKUP(AI15,Tabelas!B:D,3,0),0),\"\")","v":0},{"$f":"IF(A15<>\"\",IFERROR(VLOOKUP(AJ15,Tabelas!B:D,3,0),0),\"\")","v":0},{"$f":"IF(A15<>\"\",IFERROR(VLOOKUP(AK15,Tabelas!B:D,3,0),0),\"\")","v":0},{"$f":"IF(A15<>\"\",IFERROR(VLOOKUP(AL15,Tabelas!B:D,3,0),0),\"\")","v":0},{"$f":"IF(A15<>\"\",IFERROR(VLOOKUP(AM15,Tabelas!B:D,3,0),0),\"\")","v":0},{"$f":"IF(A15<>\"\",IFERROR(VLOOKUP(AN15,Tabelas!B:D,3,0),0),\"\")","v":0},{"$f":"IF(A15<>\"\",IFERROR(VLOOKUP(AO15,Tabelas!B:D,3,0),0),\"\")","v":0},{"$f":"IF(A15<>\"\",IFERROR(VLOOKUP(AP15,Tabelas!B:D,3,0),0),\"\")","v":0},{"$f":"IF(A15<>\"\",IFERROR(VLOOKUP(AQ15,Tabelas!B:D,3,0),0),\"\")","v":0},{"$f":"IF(A15<>\"\",IFERROR(VLOOKUP(AR15,Tabelas!B:D,3,0),0),\"\")","v":0},0,0,0,0,0,0,0,0,{"$f":"IF(A15<>\"\",COUNTIF(N15:AR15,\"APH\"),\"\")","v":0}]
["Fulano de Tal 8",1234567,123,"ENF","Ebserh",36,null,null,null,null,null,null,null,null,null,null,null,null,null,null,null,null,null,null,null,null,null,null,null,null,null,null,null,null,null,null,null,null,null,null,null,null,null,null,{"$f":"IF(A16<>\"\",IFERROR(VLOOKUP(N16,Tabelas!B:D,3,0),0),\"\")","v":0},{"$f":"IF(A16<>\"\",IFERROR(VLOOKUP(O16,Tabelas!B:D,3,0),0),\"\")","v":0},{"$f":"IF(A16<>\"\",IFERROR(VLOOKUP(P16,Tabelas!B:D,3,0),0),\"\")","v":0},{"$f":"IF(A16<>\"\",IFERROR(VLOOKUP(Q16,Tabelas!B:D,3,0),0),\"\")","v":0},{"$f":"IF(A16<>\"\",IFERROR(VLOOKUP(R16,Tabelas!B:D,3,0),0),\"\")","v":0},{"$f":"IF(A16<>\"\",IFERROR(VLOOKUP(S16,Tabelas!B:D,3,0),0),\"\")","v":0},{"$f":"IF(A16<>\"\",IFERROR(VLOOKUP(T16,Tabelas!B:D,3,0),0),\"\")","v":0},{"$f":"IF(A16<>\"\",IFERROR(VLOOKUP(U16,Tabelas!B:D,3,0),0),\"\")","v":0},{"$f":"IF(A16<>\"\",IFERROR(VLOOKUP(V16,Tabelas!B:D,3,0),0),\"\")","v":0},{"$f":"IF(A16<>\"\",IFERROR(VLOOKUP(W16,Tabelas!B:D,3,0),0),\"\")","v":0},{"$f":"IF(A16<>\"\",IFERROR(VLOOKUP(X16,Tabelas!B:D,3,0),0),\"\")","v":0},{"$f":"IF(A16<>\"\",IFERROR(VLOOKUP(Y16,Tabelas!B:D,3,0),0),\"\")","v":0},{"$f":"IF(A16<>\"\",IFERROR(VLOOKUP(Z16,Tabelas!B:D,3,0),0),\"\")","v":0},{"$f":"IF(A16<>\"\",IFERROR(VLOOKUP(AA16,Tabelas!B:D,3,0),0),\"\")","v":0},{"$f":"IF(A16<>\"\",IFERROR(VLOOKUP(AB16,Tabelas!B:D,3,0),0),\"\")","v":0},{"$f":"IF(A16<>\"\",IFERROR(VLOOKUP(AC16,Tabelas!B:D,3,0),0),\"\")","v":0},{"$f":"IF(A16<>\"\",IFERROR(VLOOKUP(AD16,Tabelas!B:D,3,0),0),\"\")","v":0},{"$f":"IF(A16<>\"\",IFERROR(VLOOKUP(AE16,Tabelas!B:D,3,0),0),\"\")","v":0},{"$f":"IF(A16<>\"\",IFERROR(VLOOKUP(AF16,Tabelas!B:D,3,0),0),\"\")","v":0},{"$f":"IF(A16<>\"\",IFERROR(VLOOKUP(AG16,Tabelas!B:D,3,0),0),\"\")","v":0},{"$f":"IF(A16<>\"\",IFERROR(VLOOKUP(AH16,Tabelas!B:D,3,0),0),\"\")","v":0},{"$f":"IF(A16<>\"\",IFERROR(VLOOKUP(AI16,Tabelas!B:D,3,0),0),\"\")","v":0},{"$f":"IF(A16<>\"\",IFERROR(VLOOKUP(AJ16,Tabelas!B:D,3,0),0),\"\")","v":0},{"$f":"IF(A16<>\"\",IFERROR(VLOOKUP(AK16,Tabelas!B:D,3,0),0),\"\")","v":0},{"$f":"IF(A16<>\"\",IFERROR(VLOOKUP(AL16,Tabelas!B:D,3,0),0),\"\")","v":0},{"$f":"IF(A16<>\"\",IFERROR(VLOOKUP(AM16,Tabelas!B:D,3,0),0),\"\")","v":0},{"$f":"IF(A16<>\"\",IFERROR(VLOOKUP(AN16,Tabelas!B:D,3,0),0),\"\")","v":0},{"$f":"IF(A16<>\"\",IFERROR(VLOOKUP(AO16,Tabelas!B:D,3,0),0),\"\")","v":0},{"$f":"IF(A16<>\"\",IFERROR(VLOOKUP(AP16,Tabelas!B:D,3,0),0),\"\")","v":0},{"$f":"IF(A16<>\"\",IFERROR(VLOOKUP(AQ16,Tabelas!B:D,3,0),0),\"\")","v":0},{"$f":"IF(A16<>\"\",IFERROR(VLOOKUP(AR16,Tabelas!B:D,3,0),0),\"\")","v":0},0,0,0,0,0,0,0,0,{"$f":"IF(A16<>\"\",COUNTIF(N16:AR16,\"APH\"),\"\")","v":0}]
["Fulano de Tal 9",1234567,123,"ENF","Ebserh",36,null,null,null,null,null,null,null,null,null,null,null,null,null,null,null,null,null,null,null,null,null,null,null,null,null,null,null,null,null,null,null,null,null,null,null,null,null,null,{"$f":"IF(A17<>\"\",IFERROR(VLOOKUP(N17,Tabelas!B:D,3,0),0),\"\")","v":0},{"$f":"IF(A17<>\"\",IFERROR(VLOOKUP(O17,Tabelas!B:D,3,0),0),\"\")","v":0},{"$f":"IF(A17<>\"\",IFERROR(VLOOKUP(P17,Tabelas!B:D,3,0),0),\"\")","v":0},{"$f":"IF(A17<>\"\",IFERROR(VLOOKUP(Q17,Tabelas!B:D,3,0),0),\"\")","v":0},{"$f":"IF(A17<>\"\",IFERROR(VLOOKUP(R17,Tabelas!B:D,3,0),0),\"\")","v":0},{"$f":"IF(A17<>\"\",IFERROR(VLOOKUP(S17,Tabelas!B:D,3,0),0),\"\")","v":0},{"$f":"IF(A17<>\"\",IFERROR(VLOOKUP(T17,Tabelas!B:D,3,0),0),\"\")","v":0},{"$f":"IF(A17<>\"\",IFERROR(VLOOKUP(U17,Tabelas!B:D,3,0),0),\"\")","v":0},{"$f":"IF(A17<>\"\",IFERROR(VLOOKUP(V17,Tabelas!B:D,3,0),0),\"\")","v":0},{"$f":"IF(A17<>\"\",IFERROR(VLOOKUP(W17,Tabelas!B:D,3,0),0),\"\")","v":0},{"$f":"IF(A17<>\"\",IFERROR(VLOOKUP(X17,Tabelas!B:D,3,0),0),\"\")","v":0},{"$f":"IF(A17<>\"\",IFERROR(VLOOKUP(Y17,Tabelas!B:D,3,0),0),\"\")","v":0},{"$f":"IF(A17<>\"\",IFERROR(VLOOKUP(Z17,Tabelas!B:D,3,0),0),\"\")","v":0},{"$f":"IF(A17<>\"\",IFERROR(VLOOKUP(AA17,Tabelas!B:D,3,0),0),\"\")","v":0},{"$f":"IF(A17<>\"\",IFERROR(VLOOKUP(AB17,Tabelas!B:D,3,0),0),\"\")","v":0},{"$f":"IF(A17<>\"\",IFERROR(VLOOKUP(AC17,Tabelas!B:D,3,0),0),\"\")","v":0},{"$f":"IF(A17<>\"\",IFERROR(VLOOKUP(AD17,Tabelas!B:D,3,0),0),\"\")","v":0},{"$f":"IF(A17<>\"\",IFERROR(VLOOKUP(AE17,Tabelas!B:D,3,0),0),\"\")","v":0},{"$f":"IF(A17<>\"\",IFERROR(VLOOKUP(AF17,Tabelas!B:D,3,0),0),\"\")","v":0},{"$f":"IF(A17<>\"\",IFERROR(VLOOKUP(AG17,Tabelas!B:D,3,0),0),\"\")","v":0},{"$f":"IF(A17<>\"\",IFERROR(VLOOKUP(AH17,Tabelas!B:D,3,0),0),\"\")","v":0},{"$f":"IF(A17<>\"\",IFERROR(VLOOKUP(AI17,Tabelas!B:D,3,0),0),\"\")","v":0},{"$f":"IF(A17<>\"\",IFERROR(VLOOKUP(AJ17,Tabelas!B:D,3,0),0),\"\")","v":0},{"$f":"IF(A17<>\"\",IFERROR(VLOOKUP(AK17,Tabelas!B:D,3,0),0),\"\")","v":0},{"$f":"IF(A17<>\"\",IFERROR(VLOOKUP(AL17,Tabelas!B:D,3,0),0),\"\")","v":0},{"$f":"IF(A17<>\"\",IFERROR(VLOOKUP(AM17,Tabelas!B:D,3,0),0),\"\")","v":0},{"$f":"IF(A17<>\"\",IFERROR(VLOOKUP(AN17,Tabelas!B:D,3,0),0),\"\")","v":0},{"$f":"IF(A17<>\"\",IFERROR(VLOOKUP(AO17,Tabelas!B:D,3,0),0),\"\")","v":0},{"$f":"IF(A17<>\"\",IFERROR(VLOOKUP(AP17,Tabelas!B:D,3,0),0),\"\")","v":0},{"$f":"IF(A17<>\"\",IFERROR(VLOOKUP(AQ17,Tabelas!B:D,3,0),0),\"\")","v":0},{"$f":"IF(A17<>\"\",IFERROR(VLOOKUP(AR17,Tabelas!B:D,3,0),0),\"\")","v":0},0,0,0,0,0,0,0,0,{"$f":"IF(A17<>\"\",COUNTIF(N17:AR17,\"APH\"),\"\")","v":0}]
["Fulano de Tal 10",1234567,123,"ENF","Ebserh",36,null,null,null,null,null,null,null,null,null,null,null,null,null,null,null,null,null,null,null,null,null,null,null,null,null,null,null,null,null,null,null,null,null,null,null,null,null,null,{"$f":"IF(A18<>\"\",IFERROR(VLOOKUP(N18,Tabelas!B:D,3,0),0),\"\")","v":0},{"$f":"IF(A18<>\"\",IFERROR(VLOOKUP(O18,Tabelas!B:D,3,0),0),\"\")","v":0},{"$f":"IF(A18<>\"\",IFERROR(VLOOKUP(P18,Tabelas!B:D,3,0),0),\"\")","v":0},{"$f":"IF(A18<>\"\",IFERROR(VLOOKUP(Q18,Tabelas!B:D,3,0),0),\"\")","v":0},{"$f":"IF(A18<>\"\",IFERROR(VLOOKUP(R18,Tabelas!B:D,3,0),0),\"\")","v":0},{"$f":"IF(A18<>\"\",IFERROR(VLOOKUP(S18,Tabelas!B:D,3,0),0),\"\")","v":0},{"$f":"IF(A18<>\"\",IFERROR(VLOOKUP(T18,Tabelas!B:D,3,0),0),\"\")","v":0},{"$f":"IF(A18<>\"\",IFERROR(VLOOKUP(U18,Tabelas!B:D,3,0),0),\"\")","v":0},{"$f":"IF(A18<>\"\",IFERROR(VLOOKUP(V18,Tabelas!B:D,3,0),0),\"\")","v":0},{"$f":"IF(A18<>\"\",IFERROR(VLOOKUP(W18,Tabelas!B:D,3,0),0),\"\")","v":0},{"$f":"IF(A18<>\"\",IFERROR(VLOOKUP(X18,Tabelas!B:D,3,0),0),\"\")","v":0},{"$f":"IF(A18<>\"\",IFERROR(VLOOKUP(Y18,Tabelas!B:D,3,0),0),\"\")","v":0},{"$f":"IF(A18<>\"\",IFERROR(VLOOKUP(Z18,Tabelas!B:D,3,0),0),\"\")","v":0},{"$f":"IF(A18<>\"\",IFERROR(VLOOKUP(AA18,Tabelas!B:D,3,0),0),\"\")","v":0},{"$f":"IF(A18<>\"\",IFERROR(VLOOKUP(AB18,Tabelas!B:D,3,0),0),\"\")","v":0},{"$f":"IF(A18<>\"\",IFERROR(VLOOKUP(AC18,Tabelas!B:D,3,0),0),\"\")","v":0},{"$f":"IF(A18<>\"\",IFERROR(VLOOKUP(AD18,Tabelas!B:D,3,0),0),\"\")","v":0},{"$f":"IF(A18<>\"\",IFERROR(VLOOKUP(AE18,Tabelas!B:D,3,0),0),\"\")","v":0},{"$f":"IF(A18<>\"\",IFERROR(VLOOKUP(AF18,Tabelas!B:D,3,0),0),\"\")","v":0},{"$f":"IF(A18<>\"\",IFERROR(VLOOKUP(AG18,Tabelas!B:D,3,0),0),\"\")","v":0},{"$f":"IF(A18<>\"\",IFERROR(VLOOKUP(AH18,Tabelas!B:D,3,0),0),\"\")","v":0},{"$f":"IF(A18<>\"\",IFERROR(VLOOKUP(AI18,Tabelas!B:D,3,0),0),\"\")","v":0},{"$f":"IF(A18<>\"\",IFERROR(VLOOKUP(AJ18,Tabelas!B:D,3,0),0),\"\")","v":0},{"$f":"IF(A18<>\"\",IFERROR(VLOOKUP(AK18,Tabelas!B:D,3,0),0),\"\")","v":0},{"$f":"IF(A18<>\"\",IFERROR(VLOOKUP(AL18,Tabelas!B:D,3,0),0),\"\")","v":0},{"$f":"IF(A18<>\"\",IFERROR(VLOOKUP(AM18,Tabelas!B:D,3,0),0),\"\")","v":0},{"$f":"IF(A18<>\"\",IFERROR(VLOOKUP(AN18,Tabelas!B:D,3,0),0),\"\")","v":0},{"$f":"IF(A18<>\"\",IFERROR(VLOOKUP(AO18,Tabelas!B:D,3,0),0),\"\")","v":0},{"$f":"IF(A18<>\"\",IFERROR(VLOOKUP(AP18,Tabelas!B:D,3,0),0),\"\")","v":0},{"$f":"IF(A18<>\"\",IFERROR(VLOOKUP(AQ18,Tabelas!B:D,3,0),0),\"\")","v":0},{"$f":"IF(A18<>\"\",IFERROR(VLOOKUP(AR18,Tabelas!B:D,3,0),0),\"\")","v":0},0,0,0,0,0,0,0,0,{"$f":"IF(A18<>\"\",COUNTIF(N18:AR18,\"APH\"),\"\")","v":0}]
["Fulano de Tal 11",1234567,123,"ENF","Ebserh",36,null,null,null,null,null,null,null,null,null,null,null,null,null,null,null,null,null,null,null,null,null,null,null,null,null,null,null,null,null,null,null,null,null,null,null,null,null,null,{"$f":"IF(A19<>\"\",IFERROR(VLOOKUP(N19,Tabelas!B:D,3,0),0),\"\")","v":0},{"$f":"IF(A19<>\"\",IFERROR(VLOOKUP(O19,Tabelas!B:D,3,0),0),\"\")","v":0},{"$f":"IF(A19<>\"\",IFERROR(VLOOKUP(P19,Tabelas!B:D,3,0),0),\"\")","v":0},{"$f":"IF(A19<>\"\",IFERROR(VLOOKUP(Q19,Tabelas!B:D,3,0),0),\"\")","v":0},{"$f":"IF(A19<>\"\",IFERROR(VLOOKUP(R19,Tabelas!B:D,3,0),0),\"\")","v":0},{"$f":"IF(A19<>\"\",IFERROR(VLOOKUP(S19,Tabelas!B:D,3,0),0),\"\")","v":0},{"$f":"IF(A19<>\"\",IFERROR(VLOOKUP(T19,Tabelas!B:D,3,0),0),\"\")","v":0},{"$f":"IF(A19<>\"\",IFERROR(VLOOKUP(U19,Tabelas!B:D,3,0),0),\"\")","v":0},{"$f":"IF(A19<>\"\",IFERROR(VLOOKUP(V19,Tabelas!B:D,3,0),0),\"\")","v":0},{"$f":"IF(A19<>\"\",IFERROR(VLOOKUP(W19,Tabelas!B:D,3,0),0),\"\")","v":0},{"$f":"IF(A19<>\"\",IFERROR(VLOOKUP(X19,Tabelas!B:D,3,0),0),\"\")","v":0},{"$f":"IF(A19<>\"\",IFERROR(VLOOKUP(Y19,Tabelas!B:D,3,0),0),\"\")","v":0},{"$f":"IF(A19<>\"\",IFERROR(VLOOKUP(Z19,Tabelas!B:D,3,0),0),\"\")","v":0},{"$f":"IF(A19<>\"\",IFERROR(VLOOKUP(AA19,Tabelas!B:D,3,0),0),\"\")","v":0},{"$f":"IF(A19<>\"\",IFERROR(VLOOKUP(AB19,Tabelas!B:D,3,0),0),\"\")","v":0},{"$f":"IF(A19<>\"\",IFERROR(VLOOKUP(AC19,Tabelas!B:D,3,0),0),\"\")","v":0},{"$f":"IF(A19<>\"\",IFERROR(VLOOKUP(AD19,Tabelas!B:D,3,0),0),\"\")","v":0},{"$f":"IF(A19<>\"\",IFERROR(VLOOKUP(AE19,Tabelas!B:D,3,0),0),\"\")","v":0},{"$f":"IF(A19<>\"\",IFERROR(VLOOKUP(AF19,Tabelas!B:D,3,0),0),\"\")","v":0},{"$f":"IF(A19<>\"\",IFERROR(VLOOKUP(AG19,Tabelas!B:D,3,0),0),\"\")","v":0},{"$f":"IF(A19<>\"\",IFERROR(VLOOKUP(AH19,Tabelas!B:D,3,0),0),\"\")","v":0},{"$f":"IF(A19<>\"\",IFERROR(VLOOKUP(AI19,Tabelas!B:D,3,0),0),\"\")","v":0},{"$f":"IF(A19<>\"\",IFERROR(VLOOKUP(AJ19,Tabelas!B:D,3,0),0),\"\")","v":0},{"$f":"IF(A19<>\"\",IFERROR(VLOOKUP(AK19,Tabelas!B:D,3,0),0),\"\")","v":0},{"$f":"IF(A19<>\"\",IFERROR(VLOOKUP(AL19,Tabelas!B:D,3,0),0),\"\")","v":0},{"$f":"IF(A19<>\"\",IFERROR(VLOOKUP(AM19,Tabelas!B:D,3,0),0),\"\")","v":0},{"$f":"IF(A19<>\"\",IFERROR(VLOOKUP(AN19,Tabelas!B:D,3,0),0),\"\")","v":0},{"$f":"IF(A19<>\"\",IFERROR(VLOOKUP(AO19,Tabelas!B:D,3,0),0),\"\")","v":0},{"$f":"IF(A19<>\"\",IFERROR(VLOOKUP(AP19,Tabelas!B:D,3,0),0),\"\")","v":0},{"$f":"IF(A19<>\"\",IFERROR(VLOOKUP(AQ19,Tabelas!B:D,3,0),0),\"\")","v":0},{"$f":"IF(A19<>\"\",IFERROR(VLOOKUP(AR19,Tabelas!B:D,3,0),0),\"\")","v":0},0,0,0,0,0,0,0,0,{"$f":"IF(A19<>\"\",COUNTIF(N19:AR19,\"APH\"),\"\")","v":0}]
["Fulano de Tal 12",1234567,123,"ENF","Ebserh",36,null,null,null,null,null,null,null,null,null,null,null,null,null,null,null,null,null,null,null,null,null,null,null,null,null,null,null,null,null,null,null,null,null,null,null,null,null,null,{"$f":"IF(A20<>\"\",IFERROR(VLOOKUP(N20,Tabelas!B:D,3,0),0),\"\")","v":0},{"$f":"IF(A20<>\"\",IFERROR(VLOOKUP(O20,Tabelas!B:D,3,0),0),\"\")","v":0},{"$f":"IF(A20<>\"\",IFERROR(VLOOKUP(P20,Tabelas!B:D,3,0),0),\"\")","v":0},{"$f":"IF(A20<>\"\",IFERROR(VLOOKUP(Q20,Tabelas!B:D,3,0),0),\"\")","v":0},{"$f":"IF(A20<>\"\",IFERROR(VLOOKUP(R20,Tabelas!B:D,3,0),0),\"\")","v":0},{"$f":"IF(A20<>\"\",IFERROR(VLOOKUP(S20,Tabelas!B:D,3,0),0),\"\")","v":0},{"$f":"IF(A20<>\"\",IFERROR(VLOOKUP(T20,Tabelas!B:D,3,0),0),\"\")","v":0},{"$f":"IF(A20<>\"\",IFERROR(VLOOKUP(U20,Tabelas!B:D,3,0),0),\"\")","v":0},{"$f":"IF(A20<>\"\",IFERROR(VLOOKUP(V20,Tabelas!B:D,3,0),0),\"\")","v":0},{"$f":"IF(A20<>\"\",IFERROR(VLOOKUP(W20,Tabelas!B:D,3,0),0),\"\")","v":0},{"$f":"IF(A20<>\"\",IFERROR(VLOOKUP(X20,Tabelas!B:D,3,0),0),\"\")","v":0},{"$f":"IF(A20<>\"\",IFERROR(VLOOKUP(Y20,Tabelas!B:D,3,0),0),\"\")","v":0},{"$f":"IF(A20<>\"\",IFERROR(VLOOKUP(Z20,Tabelas!B:D,3,0),0),\"\")","v":0},{"$f":"IF(A20<>\"\",IFERROR(VLOOKUP(AA20,Tabelas!B:D,3,0),0),\"\")","v":0},{"$f":"IF(A20<>\"\",IFERROR(VLOOKUP(AB20,Tabelas!B:D,3,0),0),\"\")","v":0},{"$f":"IF(A20<>\"\",IFERROR(VLOOKUP(AC20,Tabelas!B:D,3,0),0),\"\")","v":0},{"$f":"IF(A20<>\"\",IFERROR(VLOOKUP(AD20,Tabelas!B:D,3,0),0),\"\")","v":0},{"$f":"IF(A20<>\"\",IFERROR(VLOOKUP(AE20,Tabelas!B:D,3,0),0),\"\")","v":0},{"$f":"IF(A20<>\"\",IFERROR(VLOOKUP(AF20,Tabelas!B:D,3,0),0),\"\")","v":0},{"$f":"IF(A20<>\"\",IFERROR(VLOOKUP(AG20,Tabelas!B:D,3,0),0),\"\")","v":0},{"$f":"IF(A20<>\"\",IFERROR(VLOOKUP(AH20,Tabelas!B:D,3,0),0),\"\")","v":0},{"$f":"IF(A20<>\"\",IFERROR(VLOOKUP(AI20,Tabelas!B:D,3,0),0),\"\")","v":0},{"$f":"IF(A20<>\"\",IFERROR(VLOOKUP(AJ20,Tabelas!B:D,3,0),0),\"\")","v":0},{"$f":"IF(A20<>\"\",IFERROR(VLOOKUP(AK20,Tabelas!B:D,3,0),0),\"\")","v":0},{"$f":"IF(A20<>\"\",IFERROR(VLOOKUP(AL20,Tabelas!B:D,3,0),0),\"\")","v":0},{"$f":"IF(A20<>\"\",IFERROR(VLOOKUP(AM20,Tabelas!B:D,3,0),0),\"\")","v":0},{"$f":"IF(A20<>\"\",IFERROR(VLOOKUP(AN20,Tabelas!B:D,3,0),0),\"\")","v":0},{"$f":"IF(A20<>\"\",IFERROR(VLOOKUP(AO20,Tabelas!B:D,3,0),0),\"\")","v":0},{"$f":"IF(A20<>\"\",IFERROR(VLOOKUP(AP20,Tabelas!B:D,3,0),0),\"\")","v":0},{"$f":"IF(A20<>\"\",IFERROR(VLOOKUP(AQ20,Tabelas!B:D,3,0),0),\"\")","v":0},{"$f":"IF(A20<>\"\",IFERROR(VLOOKUP(AR20,Tabelas!B:D,3,0),0),\"\")","v":0},0,0,0,0,0,0,0,0,0]
["Fulano de Tal 13",1234567,123,"ENF","Ebserh",36,null,null,null,null,null,null,null,null,null,null,null,null,null,null,null,null,null,null,null,null,null,null,null,null,null,null,null,null,null,null,null,null,null,null,null,null,null,null,{"$f":"IF(A21<>\"\",IFERROR(VLOOKUP(N21,Tabelas!B:D,3,0),0),\"\")","v":0},{"$f":"IF(A21<>\"\",IFERROR(VLOOKUP(O21,Tabelas!B:D,3,0),0),\"\")","v":0},{"$f":"IF(A21<>\"\",IFERROR(VLOOKUP(P21,Tabelas!B:D,3,0),0),\"\")","v":0},{"$f":"IF(A21<>\"\",IFERROR(VLOOKUP(Q21,Tabelas!B:D,3,0),0),\"\")","v":0},{"$f":"IF(A21<>\"\",IFERROR(VLOOKUP(R21,Tabelas!B:D,3,0),0),\"\")","v":0},{"$f":"IF(A21<>\"\",IFERROR(VLOOKUP(S21,Tabelas!B:D,3,0),0),\"\")","v":0},{"$f":"IF(A21<>\"\",IFERROR(VLOOKUP(T21,Tabelas!B:D,3,0),0),\"\")","v":0},{"$f":"IF(A21<>\"\",IFERROR(VLOOKUP(U21,Tabelas!B:D,3,0),0),\"\")","v":0},{"$f":"IF(A21<>\"\",IFERROR(VLOOKUP(V21,Tabelas!B:D,3,0),0),\"\")","v":0},{"$f":"IF(A21<>\"\",IFERROR(VLOOKUP(W21,Tabelas!B:D,3,0),0),\"\")","v":0},{"$f":"IF(A21<>\"\",IFERROR(VLOOKUP(X21,Tabelas!B:D,3,0),0),\"\")","v":0},{"$f":"IF(A21<>\"\",IFERROR(VLOOKUP(Y21,Tabelas!B:D,3,0),0),\"\")","v":0},{"$f":"IF(A21<>\"\",IFERROR(VLOOKUP(Z21,Tabelas!B:D,3,0),0),\"\")","v":0},{"$f":"IF(A21<>\"\",IFERROR(VLOOKUP(AA21,Tabelas!B:D,3,0),0),\"\")","v":0},{"$f":"IF(A21<>\"\",IFERROR(VLOOKUP(AB21,Tabelas!B:D,3,0),0),\"\")","v":0},{"$f":"IF(A21<>\"\",IFERROR(VLOOKUP(AC21,Tabelas!B:D,3,0),0),\"\")","v":0},{"$f":"IF(A21<>\"\",IFERROR(VLOOKUP(AD21,Tabelas!B:D,3,0),0),\"\")","v":0},{"$f":"IF(A21<>\"\",IFERROR(VLOOKUP(AE21,Tabelas!B:D,3,0),0),\"\")","v":0},{"$f":"IF(A21<>\"\",IFERROR(VLOOKUP(AF21,Tabelas!B:D,3,0),0),\"\")","v":0},{"$f":"IF(A21<>\"\",IFERROR(VLOOKUP(AG21,Tabelas!B:D,3,0),0),\"\")","v":0},{"$f":"IF(A21<>\"\",IFERROR(VLOOKUP(AH21,Tabelas!B:D,3,0),0),\"\")","v":0},{"$f":"IF(A21<>\"\",IFERROR(VLOOKUP(AI21,Tabelas!B:D,3,0),0),\"\")","v":0},{"$f":"IF(A21<>\"\",IFERROR(VLOOKUP(AJ21,Tabelas!B:D,3,0),0),\"\")","v":0},{"$f":"IF(A21<>\"\",IFERROR(VLOOKUP(AK21,Tabelas!B:D,3,0),0),\"\")","v":0},{"$f":"IF(A21<>\"\",IFERROR(VLOOKUP(AL21,Tabelas!B:D,3,0),0),\"\")","v":0},{"$f":"IF(A21<>\"\",IFERROR(VLOOKUP(AM21,Tabelas!B:D,3,0),0),\"\")","v":0},{"$f":"IF(A21<>\"\",IFERROR(VLOOKUP(AN21,Tabelas!B:D,3,0),0),\"\")","v":0},{"$f":"IF(A21<>\"\",IFERROR(VLOOKUP(AO21,Tabelas!B:D,3,0),0),\"\")","v":0},{"$f":"IF(A21<>\"\",IFERROR(VLOOKUP(AP21,Tabelas!B:D,3,0),0),\"\")","v":0},{"$f":"IF(A21<>\"\",IFERROR(VLOOKUP(AQ21,Tabelas!B:D,3,0),0),\"\")","v":0},{"$f":"IF(A21<>\"\",IFERROR(VLOOKUP(AR21,Tabelas!B:D,3,0),0),\"\")","v":0},0,0,0,0,0,0,0,0,0]
["Fulano de Tal 14",1234567,123,"ENF","Ebserh",36,null,null,null,null,null,null,null,null,null,null,null,null,null,null,null,null,null,null,null,null,null,null,null,null,null,null,null,null,null,null,null,null,null,null,null,null,null,null,{"$f":"IF(A22<>\"\",IFERROR(VLOOKUP(N22,Tabelas!B:D,3,0),0),\"\")","v":0},{"$f":"IF(A22<>\"\",IFERROR(VLOOKUP(O22,Tabelas!B:D,3,0),0),\"\")","v":0},{"$f":"IF(A22<>\"\",IFERROR(VLOOKUP(P22,Tabelas!B:D,3,0),0),\"\")","v":0},{"$f":"IF(A22<>\"\",IFERROR(VLOOKUP(Q22,Tabelas!B:D,3,0),0),\"\")","v":0},{"$f":"IF(A22<>\"\",IFERROR(VLOOKUP(R22,Tabelas!B:D,3,0),0),\"\")","v":0},{"$f":"IF(A22<>\"\",IFERROR(VLOOKUP(S22,Tabelas!B:D,3,0),0),\"\")","v":0},{"$f":"IF(A22<>\"\",IFERROR(VLOOKUP(T22,Tabelas!B:D,3,0),0),\"\")","v":0},{"$f":"IF(A22<>\"\",IFERROR(VLOOKUP(U22,Tabelas!B:D,3,0),0),\"\")","v":0},{"$f":"IF(A22<>\"\",IFERROR(VLOOKUP(V22,Tabelas!B:D,3,0),0),\"\")","v":0},{"$f":"IF(A22<>\"\",IFERROR(VLOOKUP(W22,Tabelas!B:D,3,0),0),\"\")","v":0},{"$f":"IF(A22<>\"\",IFERROR(VLOOKUP(X22,Tabelas!B:D,3,0),0),\"\")","v":0},{"$f":"IF(A22<>\"\",IFERROR(VLOOKUP(Y22,Tabelas!B:D,3,0),0),\"\")","v":0},{"$f":"IF(A22<>\"\",IFERROR(VLOOKUP(Z22,Tabelas!B:D,3,0),0),\"\")","v":0},{"$f":"IF(A22<>\"\",IFERROR(VLOOKUP(AA22,Tabelas!B:D,3,0),0),\"\")","v":0},{"$f":"IF(A22<>\"\",IFERROR(VLOOKUP(AB22,Tabelas!B:D,3,0),0),\"\")","v":0},{"$f":"IF(A22<>\"\",IFERROR(VLOOKUP(AC22,Tabelas!B:D,3,0),0),\"\")","v":0},{"$f":"IF(A22<>\"\",IFERROR(VLOOKUP(AD22,Tabelas!B:D,3,0),0),\"\")","v":0},{"$f":"IF(A22<>\"\",IFERROR(VLOOKUP(AE22,Tabelas!B:D,3,0),0),\"\")","v":0},{"$f":"IF(A22<>\"\",IFERROR(VLOOKUP(AF22,Tabelas!B:D,3,0),0),\"\")","v":0},{"$f":"IF(A22<>\"\",IFERROR(VLOOKUP(AG22,Tabelas!B:D,3,0),0),\"\")","v":0},{"$f":"IF(A22<>\"\",IFERROR(VLOOKUP(AH22,Tabelas!B:D,3,0),0),\"\")","v":0},{"$f":"IF(A22<>\"\",IFERROR(VLOOKUP(AI22,Tabelas!B:D,3,0),0),\"\")","v":0},{"$f":"IF(A22<>\"\",IFERROR(VLOOKUP(AJ22,Tabelas!B:D,3,0),0),\"\")","v":0},{"$f":"IF(A22<>\"\",IFERROR(VLOOKUP(AK22,Tabelas!B:D,3,0),0),\"\")","v":0},{"$f":"IF(A22<>\"\",IFERROR(VLOOKUP(AL22,Tabelas!B:D,3,0),0),\"\")","v":0},{"$f":"IF(A22<>\"\",IFERROR(VLOOKUP(AM22,Tabelas!B:D,3,0),0),\"\")","v":0},{"$f":"IF(A22<>\"\",IFERROR(VLOOKUP(AN22,Tabelas!B:D,3,0),0),\"\")","v":0},{"$f":"IF(A22<>\"\",IFERROR(VLOOKUP(AO22,Tabelas!B:D,3,0),0),\"\")","v":0},{"$f":"IF(A22<>\"\",IFERROR(VLOOKUP(AP22,Tabelas!B:D,3,0),0),\"\")","v":0},{"$f":"IF(A22<>\"\",IFERROR(VLOOKUP(AQ22,Tabelas!B:D,3,0),0),\"\")","v":0},{"$f":"IF(A22<>\"\",IFERROR(VLOOKUP(AR22,Tabelas!B:D,3,0),0),\"\")","v":0},0,0,0,0,0,0,0,0,0]
["Fulano de Tal 15",1234567,123,"ENF","Ebserh",36,null,null,null,null,null,null,null,null,null,null,null,null,null,null,null,null,null,null,null,null,null,null,null,null,null,null,null,null,null,null,null,null,null,null,null,null,null,null,{"$f":"IF(A23<>\"\",IFERROR(VLOOKUP(N23,Tabelas!B:D,3,0),0),\"\")","v":0},{"$f":"IF(A23<>\"\",IFERROR(VLOOKUP(O23,Tabelas!B:D,3,0),0),\"\")","v":0},{"$f":"IF(A23<>\"\",IFERROR(VLOOKUP(P23,Tabelas!B:D,3,0),0),\"\")","v":0},{"$f":"IF(A23<>\"\",IFERROR(VLOOKUP(Q23,Tabelas!B:D,3,0),0),\"\")","v":0},{"$f":"IF(A23<>\"\",IFERROR(VLOOKUP(R23,Tabelas!B:D,3,0),0),\"\")","v":0},{"$f":"IF(A23<>\"\",IFERROR(VLOOKUP(S23,Tabelas!B:D,3,0),0),\"\")","v":0},{"$f":"IF(A23<>\"\",IFERROR(VLOOKUP(T23,Tabelas!B:D,3,0),0),\"\")","v":0},{"$f":"IF(A23<>\"\",IFERROR(VLOOKUP(U23,Tabelas!B:D,3,0),0),\"\")","v":0},{"$f":"IF(A23<>\"\",IFERROR(VLOOKUP(V23,Tabelas!B:D,3,0),0),\"\")","v":0},{"$f":"IF(A23<>\"\",IFERROR(VLOOKUP(W23,Tabelas!B:D,3,0),0),\"\")","v":0},{"$f":"IF(A23<>\"\",IFERROR(VLOOKUP(X23,Tabelas!B:D,3,0),0),\"\")","v":0},{"$f":"IF(A23<>\"\",IFERROR(VLOOKUP(Y23,Tabelas!B:D,3,0),0),\"\")","v":0},{"$f":"IF(A23<>\"\",IFERROR(VLOOKUP(Z23,Tabelas!B:D,3,0),0),\"\")","v":0},{"$f":"IF(A23<>\"\",IFERROR(VLOOKUP(AA23,Tabelas!B:D,3,0),0),\"\")","v":0},{"$f":"IF(A23<>\"\",IFERROR(VLOOKUP(AB23,Tabelas!B:D,3,0),0),\"\")","v":0},{"$f":"IF(A23<>\"\",IFERROR(VLOOKUP(AC23,Tabelas!B:D,3,0),0),\"\")","v":0},{"$f":"IF(A23<>\"\",IFERROR(VLOOKUP(AD23,Tabelas!B:D,3,0),0),\"\")","v":0},{"$f":"IF(A23<>\"\",IFERROR(VLOOKUP(AE23,Tabelas!B:D,3,0),0),\"\")","v":0},{"$f":"IF(A23<>\"\",IFERROR(VLOOKUP(AF23,Tabelas!B:D,3,0),0),\"\")","v":0},{"$f":"IF(A23<>\"\",IFERROR(VLOOKUP(AG23,Tabelas!B:D,3,0),0),\"\")","v":0},{"$f":"IF(A23<>\"\",IFERROR(VLOOKUP(AH23,Tabelas!B:D,3,0),0),\"\")","v":0},{"$f":"IF(A23<>\"\",IFERROR(VLOOKUP(AI23,Tabelas!B:D,3,0),0),\"\")","v":0},{"$f":"IF(A23<>\"\",IFERROR(VLOOKUP(AJ23,Tabelas!B:D,3,0),0),\"\")","v":0},{"$f":"IF(A23<>\"\",IFERROR(VLOOKUP(AK23,Tabelas!B:D,3,0),0),\"\")","v":0},{"$f":"IF(A23<>\"\",IFERROR(VLOOKUP(AL23,Tabelas!B:D,3,0),0),\"\")","v":0},{"$f":"IF(A23<>\"\",IFERROR(VLOOKUP(AM23,Tabelas!B:D,3,0),0),\"\")","v":0},{"$f":"IF(A23<>\"\",IFERROR(VLOOKUP(AN23,Tabelas!B:D,3,0),0),\"\")","v":0},{"$f":"IF(A23<>\"\",IFERROR(VLOOKUP(AO23,Tabelas!B:D,3,0),0),\"\")","v":0},{"$f":"IF(A23<>\"\",IFERROR(VLOOKUP(AP23,Tabelas!B:D,3,0),0),\"\")","v":0},{"$f":"IF(A23<>\"\",IFERROR(VLOOKUP(AQ23,Tabelas!B:D,3,0),0),\"\")","v":0},{"$f":"IF(A23<>\"\",IFERROR(VLOOKUP(AR23,Tabelas!B:D,3,0),0),\"\")","v":0},0,0,0,0,0,0,0,0,0]
["Fulano de Tal 16",1234567,123,"ENF","Ebserh",36,null,null,null,null,null,null,null,null,null,null,null,null,null,null,null,null,null,null,null,null,null,null,null,null,null,null,null,null,null,null,null,null,null,null,null,null,null,null,{"$f":"IF(A24<>\"\",IFERROR(VLOOKUP(N24,Tabelas!B:D,3,0),0),\"\")","v":0},{"$f":"IF(A24<>\"\",IFERROR(VLOOKUP(O24,Tabelas!B:D,3,0),0),\"\")","v":0},{"$f":"IF(A24<>\"\",IFERROR(VLOOKUP(P24,Tabelas!B:D,3,0),0),\"\")","v":0},{"$f":"IF(A24<>\"\",IFERROR(VLOOKUP(Q24,Tabelas!B:D,3,0),0),\"\")","v":0},{"$f":"IF(A24<>\"\",IFERROR(VLOOKUP(R24,Tabelas!B:D,3,0),0),\"\")","v":0},{"$f":"IF(A24<>\"\",IFERROR(VLOOKUP(S24,Tabelas!B:D,3,0),0),\"\")","v":0},{"$f":"IF(A24<>\"\",IFERROR(VLOOKUP(T24,Tabelas!B:D,3,0),0),\"\")","v":0},{"$f":"IF(A24<>\"\",IFERROR(VLOOKUP(U24,Tabelas!B:D,3,0),0),\"\")","v":0},{"$f":"IF(A24<>\"\",IFERROR(VLOOKUP(V24,Tabelas!B:D,3,0),0),\"\")","v":0},{"$f":"IF(A24<>\"\",IFERROR(VLOOKUP(W24,Tabelas!B:D,3,0),0),\"\")","v":0},{"$f":"IF(A24<>\"\",IFERROR(VLOOKUP(X24,Tabelas!B:D,3,0),0),\"\")","v":0},{"$f":"IF(A24<>\"\",IFERROR(VLOOKUP(Y24,Tabelas!B:D,3,0),0),\"\")","v":0},{"$f":"IF(A24<>\"\",IFERROR(VLOOKUP(Z24,Tabelas!B:D,3,0),0),\"\")","v":0},{"$f":"IF(A24<>\"\",IFERROR(VLOOKUP(AA24,Tabelas!B:D,3,0),0),\"\")","v":0},{"$f":"IF(A24<>\"\",IFERROR(VLOOKUP(AB24,Tabelas!B:D,3,0),0),\"\")","v":0},{"$f":"IF(A24<>\"\",IFERROR(VLOOKUP(AC24,Tabelas!B:D,3,0),0),\"\")","v":0},{"$f":"IF(A24<>\"\",IFERROR(VLOOKUP(AD24,Tabelas!B:D,3,0),0),\"\")","v":0},{"$f":"IF(A24<>\"\",IFERROR(VLOOKUP(AE24,Tabelas!B:D,3,0),0),\"\")","v":0},{"$f":"IF(A24<>\"\",IFERROR(VLOOKUP(AF24,Tabelas!B:D,3,0),0),\"\")","v":0},{"$f":"IF(A24<>\"\",IFERROR(VLOOKUP(AG24,Tabelas!B:D,3,0),0),\"\")","v":0},{"$f":"IF(A24<>\"\",IFERROR(VLOOKUP(AH24,Tabelas!B:D,3,0),0),\"\")","v":0},{"$f":"IF(A24<>\"\",IFERROR(VLOOKUP(AI24,Tabelas!B:D,3,0),0),\"\")","v":0},{"$f":"IF(A24<>\"\",IFERROR(VLOOKUP(AJ24,Tabelas!B:D,3,0),0),\"\")","v":0},{"$f":"IF(A24<>\"\",IFERROR(VLOOKUP(AK24,Tabelas!B:D,3,0),0),\"\")","v":0},{"$f":"IF(A24<>\"\",IFERROR(VLOOKUP(AL24,Tabelas!B:D,3,0),0),\"\")","v":0},{"$f":"IF(A24<>\"\",IFERROR(VLOOKUP(AM24,Tabelas!B:D,3,0),0),\"\")","v":0},{"$f":"IF(A24<>\"\",IFERROR(VLOOKUP(AN24,Tabelas!B:D,3,0),0),\"\")","v":0},{"$f":"IF(A24<>\"\",IFERROR(VLOOKUP(AO24,Tabelas!B:D,3,0),0),\"\")","v":0},{"$f":"IF(A24<>\"\",IFERROR(VLOOKUP(AP24,Tabelas!B:D,3,0),0),\"\")","v":0},{"$f":"IF(A24<>\"\",IFERROR(VLOOKUP(AQ24,Tabelas!B:D,3,0),0),\"\")","v":0},{"$f":"IF(A24<>\"\",IFERROR(VLOOKUP(AR24,Tabelas!B:D,3,0),0),\"\")","v":0},0,0,0,0,0,0,0,0,0]
["Fulano de Tal 17",1234567,123,"ENF","Ebserh",36,null,null,null,null,null,null,null,null,null,null,null,null,null,null,null,null,null,null,null,null,null,null,null,null,null,null,null,null,null,null,null,null,null,null,null,null,null,null,{"$f":"IF(A25<>\"\",IFERROR(VLOOKUP(N25,Tabelas!B:D,3,0),0),\"\")","v":0},{"$f":"IF(A25<>\"\",IFERROR(VLOOKUP(O25,Tabelas!B:D,3,0),0),\"\")","v":0},{"$f":"IF(A25<>\"\",IFERROR(VLOOKUP(P25,Tabelas!B:D,3,0),0),\"\")","v":0},{"$f":"IF(A25<>\"\",IFERROR(VLOOKUP(Q25,Tabelas!B:D,3,0),0),\"\")","v":0},{"$f":"IF(A25<>\"\",IFERROR(VLOOKUP(R25,Tabelas!B:D,3,0),0),\"\")","v":0},{"$f":"IF(A25<>\"\",IFERROR(VLOOKUP(S25,Tabelas!B:D,3,0),0),\"\")","v":0},{"$f":"IF(A25<>\"\",IFERROR(VLOOKUP(T25,Tabelas!B:D,3,0),0),\"\")","v":0},{"$f":"IF(A25<>\"\",IFERROR(VLOOKUP(U25,Tabelas!B:D,3,0),0),\"\")","v":0},{"$f":"IF(A25<>\"\",IFERROR(VLOOKUP(V25,Tabelas!B:D,3,0),0),\"\")","v":0},{"$f":"IF(A25<>\"\",IFERROR(VLOOKUP(W25,Tabelas!B:D,3,0),0),\"\")","v":0},{"$f":"IF(A25<>\"\",IFERROR(VLOOKUP(X25,Tabelas!B:D,3,0),0),\"\")","v":0},{"$f":"IF(A25<>\"\",IFERROR(VLOOKUP(Y25,Tabelas!B:D,3,0),0),\"\")","v":0},{"$f":"IF(A25<>\"\",IFERROR(VLOOKUP(Z25,Tabelas!B:D,3,0),0),\"\")","v":0},{"$f":"IF(A25<>\"\",IFERROR(VLOOKUP(AA25,Tabelas!B:D,3,0),0),\"\")","v":0},{"$f":"IF(A25<>\"\",IFERROR(VLOOKUP(AB25,Tabelas!B:D,3,0),0),\"\")","v":0},{"$f":"IF(A25<>\"\",IFERROR(VLOOKUP(AC25,Tabelas!B:D,3,0),0),\"\")","v":0},{"$f":"IF(A25<>\"\",IFERROR(VLOOKUP(AD25,Tabelas!B:D,3,0),0),\"\")","v":0},{"$f":"IF(A25<>\"\",IFERROR(VLOOKUP(AE25,Tabelas!B:D,3,0),0),\"\")","v":0},{"$f":"IF(A25<>\"\",IFERROR(VLOOKUP(AF25,Tabelas!B:D,3,0),0),\"\")","v":0},{"$f":"IF(A25<>\"\",IFERROR(VLOOKUP(AG25,Tabelas!B:D,3,0),0),\"\")","v":0},{"$f":"IF(A25<>\"\",IFERROR(VLOOKUP(AH25,Tabelas!B:D,3,0),0),\"\")","v":0},{"$f":"IF(A25<>\"\",IFERROR(VLOOKUP(AI25,Tabelas!B:D,3,0),0),\"\")","v":0},{"$f":"IF(A25<>\"\",IFERROR(VLOOKUP(AJ25,Tabelas!B:D,3,0),0),\"\")","v":0},{"$f":"IF(A25<>\"\",IFERROR(VLOOKUP(AK25,Tabelas!B:D,3,0),0),\"\")","v":0},{"$f":"IF(A25<>\"\",IFERROR(VLOOKUP(AL25,Tabelas!B:D,3,0),0),\"\")","v":0},{"$f":"IF(A25<>\"\",IFERROR(VLOOKUP(AM25,Tabelas!B:D,3,0),0),\"\")","v":0},{"$f":"IF(A25<>\"\",IFERROR(VLOOKUP(AN25,Tabelas!B:D,3,0),0),\"\")","v":0},{"$f":"IF(A25<>\"\",IFERROR(VLOOKUP(AO25,Tabelas!B:D,3,0),0),\"\")","v":0},{"$f":"IF(A25<>\"\",IFERROR(VLOOKUP(AP25,Tabelas!B:D,3,0),0),\"\")","v":0},{"$f":"IF(A25<>\"\",IFERROR(VLOOKUP(AQ25,Tabelas!B:D,3,0),0),\"\")","v":0},{"$f":"IF(A25<>\"\",IFERROR(VLOOKUP(AR25,Tabelas!B:D,3,0),0),\"\")","v":0},0,0,0,0,0,0,0,0,0]
["Fulano de Tal 18",1234567,123,"ENF","Ebserh",36,null,null,null,null,null,null,null,null,null,null,null,null,null,null,null,null,null,null,null,null,null,null,null,null,null,null,null,null,null,null,null,null,null,null,null,null,null,null,{"$f":"IF(A26<>\"\",IFERROR(VLOOKUP(N26,Tabelas!B:D,3,0),0),\"\")","v":0},{"$f":"IF(A26<>\"\",IFERROR(VLOOKUP(O26,Tabelas!B:D,3,0),0),\"\")","v":0},{"$f":"IF(A26<>\"\",IFERROR(VLOOKUP(P26,Tabelas!B:D,3,0),0),\"\")","v":0},{"$f":"IF(A26<>\"\",IFERROR(VLOOKUP(Q26,Tabelas!B:D,3,0),0),\"\")","v":0},{"$f":"IF(A26<>\"\",IFERROR(VLOOKUP(R26,Tabelas!B:D,3,0),0),\"\")","v":0},{"$f":"IF(A26<>\"\",IFERROR(VLOOKUP(S26,Tabelas!B:D,3,0),0),\"\")","v":0},{"$f":"IF(A26<>\"\",IFERROR(VLOOKUP(T26,Tabelas!B:D,3,0),0),\"\")","v":0},{"$f":"IF(A26<>\"\",IFERROR(VLOOKUP(U26,Tabelas!B:D,3,0),0),\"\")","v":0},{"$f":"IF(A26<>\"\",IFERROR(VLOOKUP(V26,Tabelas!B:D,3,0),0),\"\")","v":0},{"$f":"IF(A26<>\"\",IFERROR(VLOOKUP(W26,Tabelas!B:D,3,0),0),\"\")","v":0},{"$f":"IF(A26<>\"\",IFERROR(VLOOKUP(X26,Tabelas!B:D,3,0),0),\"\")","v":0},{"$f":"IF(A26<>\"\",IFERROR(VLOOKUP(Y26,Tabelas!B:D,3,0),0),\"\")","v":0},{"$f":"IF(A26<>\"\",IFERROR(VLOOKUP(Z26,Tabelas!B:D,3,0),0),\"\")","v":0},{"$f":"IF(A26<>\"\",IFERROR(VLOOKUP(AA26,Tabelas!B:D,3,0),0),\"\")","v":0},{"$f":"IF(A26<>\"\",IFERROR(VLOOKUP(AB26,Tabelas!B:D,3,0),0),\"\")","v":0},{"$f":"IF(A26<>\"\",IFERROR(VLOOKUP(AC26,Tabelas!B:D,3,0),0),\"\")","v":0},{"$f":"IF(A26<>\"\",IFERROR(VLOOKUP(AD26,Tabelas!B:D,3,0),0),\"\")","v":0},{"$f":"IF(A26<>\"\",IFERROR(VLOOKUP(AE26,Tabelas!B:D,3,0),0),\"\")","v":0},{"$f":"IF(A26<>\"\",IFERROR(VLOOKUP(AF26,Tabelas!B:D,3,0),0),\"\")","v":0},{"$f":"IF(A26<>\"\",IFERROR(VLOOKUP(AG26,Tabelas!B:D,3,0),0),\"\")","v":0},{"$f":"IF(A26<>\"\",IFERROR(VLOOKUP(AH26,Tabelas!B:D,3,0),0),\"\")","v":0},{"$f":"IF(A26<>\"\",IFERROR(VLOOKUP(AI26,Tabelas!B:D,3,0),0),\"\")","v":0},{"$f":"IF(A26<>\"\",IFERROR(VLOOKUP(AJ26,Tabelas!B:D,3,0),0),\"\")","v":0},{"$f":"IF(A26<>\"\",IFERROR(VLOOKUP(AK26,Tabelas!B:D,3,0),0),\"\")","v":0},{"$f":"IF(A26<>\"\",IFERROR(VLOOKUP(AL26,Tabelas!B:D,3,0),0),\"\")","v":0},{"$f":"IF(A26<>\"\",IFERROR(VLOOKUP(AM26,Tabelas!B:D,3,0),0),\"\")","v":0},{"$f":"IF(A26<>\"\",IFERROR(VLOOKUP(AN26,Tabelas!B:D,3,0),0),\"\")","v":0},{"$f":"IF(A26<>\"\",IFERROR(VLOOKUP(AO26,Tabelas!B:D,3,0),0),\"\")","v":0},{"$f":"IF(A26<>\"\",IFERROR(VLOOKUP(AP26,Tabelas!B:D,3,0),0),\"\")","v":0},{"$f":"IF(A26<>\"\",IFERROR(VLOOKUP(AQ26,Tabelas!B:D,3,0),0),\"\")","v":0},{"$f":"IF(A26<>\"\",IFERROR(VLOOKUP(AR26,Tabelas!B:D,3,0),0),\"\")","v":0},0,0,0,0,0,0,0,0,0]
["Fulano de Tal 19",1234567,123,"ENF","Ebserh",36,null,null,null,null,null,null,null,null,null,null,null,null,null,null,null,null,null,null,null,null,null,null,null,null,null,null,null,null,null,null,null,null,null,null,null,null,null,null,{"$f":"IF(A27<>\"\",IFERROR(VLOOKUP(N27,Tabelas!B:D,3,0),0),\"\")","v":0},{"$f":"IF(A27<>\"\",IFERROR(VLOOKUP(O27,Tabelas!B:D,3,0),0),\"\")","v":0},{"$f":"IF(A27<>\"\",IFERROR(VLOOKUP(P27,Tabelas!B:D,3,0),0),\"\")","v":0},{"$f":"IF(A27<>\"\",IFERROR(VLOOKUP(Q27,Tabelas!B:D,3,0),0),\"\")","v":0},{"$f":"IF(A27<>\"\",IFERROR(VLOOKUP(R27,Tabelas!B:D,3,0),0),\"\")","v":0},{"$f":"IF(A27<>\"\",IFERROR(VLOOKUP(S27,Tabelas!B:D,3,0),0),\"\")","v":0},{"$f":"IF(A27<>\"\",IFERROR(VLOOKUP(T27,Tabelas!B:D,3,0),0),\"\")","v":0},{"$f":"IF(A27<>\"\",IFERROR(VLOOKUP(U27,Tabelas!B:D,3,0),0),\"\")","v":0},{"$f":"IF(A27<>\"\",IFERROR(VLOOKUP(V27,Tabelas!B:D,3,0),0),\"\")","v":0},{"$f":"IF(A27<>\"\",IFERROR(VLOOKUP(W27,Tabelas!B:D,3,0),0),\"\")","v":0},{"$f":"IF(A27<>\"\",IFERROR(VLOOKUP(X27,Tabelas!B:D,3,0),0),\"\")","v":0},{"$f":"IF(A27<>\"\",IFERROR(VLOOKUP(Y27,Tabelas!B:D,3,0),0),\"\")","v":0},{"$f":"IF(A27<>\"\",IFERROR(VLOOKUP(Z27,Tabelas!B:D,3,0),0),\"\")","v":0},{"$f":"IF(A27<>\"\",IFERROR(VLOOKUP(AA27,Tabelas!B:D,3,0),0),\"\")","v":0},{"$f":"IF(A27<>\"\",IFERROR(VLOOKUP(AB27,Tabelas!B:D,3,0),0),\"\")","v":0},{"$f":"IF(A27<>\"\",IFERROR(VLOOKUP(AC27,Tabelas!B:D,3,0),0),\"\")","v":0},{"$f":"IF(A27<>\"\",IFERROR(VLOOKUP(AD27,Tabelas!B:D,3,0),0),\"\")","v":0},{"$f":"IF(A27<>\"\",IFERROR(VLOOKUP(AE27,Tabelas!B:D,3,0),0),\"\")","v":0},{"$f":"IF(A27<>\"\",IFERROR(VLOOKUP(AF27,Tabelas!B:D,3,0),0),\"\")","v":0},{"$f":"IF(A27<>\"\",IFERROR(VLOOKUP(AG27,Tabelas!B:D,3,0),0),\"\")","v":0},{"$f":"IF(A27<>\"\",IFERROR(VLOOKUP(AH27,Tabelas!B:D,3,0),0),\"\")","v":0},{"$f":"IF(A27<>\"\",IFERROR(VLOOKUP(AI27,Tabelas!B:D,3,0),0),\"\")","v":0},{"$f":"IF(A27<>\"\",IFERROR(VLOOKUP(AJ27,Tabelas!B:D,3,0),0),\"\")","v":0},{"$f":"IF(A27<>\"\",IFERROR(VLOOKUP(AK27,Tabelas!B:D,3,0),0),\"\")","v":0},{"$f":"IF(A27<>\"\",IFERROR(VLOOKUP(AL27,Tabelas!B:D,3,0),0),\"\")","v":0},{"$f":"IF(A27<>\"\",IFERROR(VLOOKUP(AM27,Tabelas!B:D,3,0),0),\"\")","v":0},{"$f":"IF(A27<>\"\",IFERROR(VLOOKUP(AN27,Tabelas!B:D,3,0),0),\"\")","v":0},{"$f":"IF(A27<>\"\",IFERROR(VLOOKUP(AO27,Tabelas!B:D,3,0),0),\"\")","v":0},{"$f":"IF(A27<>\"\",IFERROR(VLOOKUP(AP27,Tabelas!B:D,3,0),0),\"\")","v":0},{"$f":"IF(A27<>\"\",IFERROR(VLOOKUP(AQ27,Tabelas!B:D,3,0),0),\"\")","v":0},{"$f":"IF(A27<>\"\",IFERROR(VLOOKUP(AR27,Tabelas!B:D,3,0),0),\"\")","v":0},0,0,0,0,0,0,0,0,0]
["Fulano de Tal 20",1234567,123,"ENF","Ebserh",36,null,null,null,null,null,null,null,null,null,null,null,null,null,null,null,null,null,null,null,null,null,null,null,null,null,null,null,null,null,null,null,null,null,null,null,null,null,null,{"$f":"IF(A28<>\"\",IFERROR(VLOOKUP(N28,Tabelas!B:D,3,0),0),\"\")","v":0},{"$f":"IF(A28<>\"\",IFERROR(VLOOKUP(O28,Tabelas!B:D,3,0),0),\"\")","v":0},{"$f":"IF(A28<>\"\",IFERROR(VLOOKUP(P28,Tabelas!B:D,3,0),0),\"\")","v":0},{"$f":"IF(A28<>\"\",IFERROR(VLOOKUP(Q28,Tabelas!B:D,3,0),0),\"\")","v":0},{"$f":"IF(A28<>\"\",IFERROR(VLOOKUP(R28,Tabelas!B:D,3,0),0),\"\")","v":0},{"$f":"IF(A28<>\"\",IFERROR(VLOOKUP(S28,Tabelas!B:D,3,0),0),\"\")","v":0},{"$f":"IF(A28<>\"\",IFERROR(VLOOKUP(T28,Tabelas!B:D,3,0),0),\"\")","v":0},{"$f":"IF(A28<>\"\",IFERROR(VLOOKUP(U28,Tabelas!B:D,3,0),0),\"\")","v":0},{"$f":"IF(A28<>\"\",IFERROR(VLOOKUP(V28,Tabelas!B:D,3,0),0),\"\")","v":0},{"$f":"IF(A28<>\"\",IFERROR(VLOOKUP(W28,Tabelas!B:D,3,0),0),\"\")","v":0},{"$f":"IF(A28<>\"\",IFERROR(VLOOKUP(X28,Tabelas!B:D,3,0),0),\"\")","v":0},{"$f":"IF(A28<>\"\",IFERROR(VLOOKUP(Y28,Tabelas!B:D,3,0),0),\"\")","v":0},{"$f":"IF(A28<>\"\",IFERROR(VLOOKUP(Z28,Tabelas!B:D,3,0),0),\"\")","v":0},{"$f":"IF(A28<>\"\",IFERROR(VLOOKUP(AA28,Tabelas!B:D,3,0),0),\"\")","v":0},{"$f":"IF(A28<>\"\",IFERROR(VLOOKUP(AB28,Tabelas!B:D,3,0),0),\"\")","v":0},{"$f":"IF(A28<>\"\",IFERROR(VLOOKUP(AC28,Tabelas!B:D,3,0),0),\"\")","v":0},{"$f":"IF(A28<>\"\",IFERROR(VLOOKUP(AD28,Tabelas!B:D,3,0),0),\"\")","v":0},{"$f":"IF(A28<>\"\",IFERROR(VLOOKUP(AE28,Tabelas!B:D,3,0),0),\"\")","v":0},{"$f":"IF(A28<>\"\",IFERROR(VLOOKUP(AF28,Tabelas!B:D,3,0),0),\"\")","v":0},{"$f":"IF(A28<>\"\",IFERROR(VLOOKUP(AG28,Tabelas!B:D,3,0),0),\"\")","v":0},{"$f":"IF(A28<>\"\",IFERROR(VLOOKUP(AH28,Tabelas!B:D,3,0),0),\"\")","v":0},{"$f":"IF(A28<>\"\",IFERROR(VLOOKUP(AI28,Tabelas!B:D,3,0),0),\"\")","v":0},{"$f":"IF(A28<>\"\",IFERROR(VLOOKUP(AJ28,Tabelas!B:D,3,0),0),\"\")","v":0},{"$f":"IF(A28<>\"\",IFERROR(VLOOKUP(AK28,Tabelas!B:D,3,0),0),\"\")","v":0},{"$f":"IF(A28<>\"\",IFERROR(VLOOKUP(AL28,Tabelas!B:D,3,0),0),\"\")","v":0},{"$f":"IF(A28<>\"\",IFERROR(VLOOKUP(AM28,Tabelas!B:D,3,0),0),\"\")","v":0},{"$f":"IF(A28<>\"\",IFERROR(VLOOKUP(AN28,Tabelas!B:D,3,0),0),\"\")","v":0},{"$f":"IF(A28<>\"\",IFERROR(VLOOKUP(AO28,Tabelas!B:D,3,0),0),\"\")","v":0},{"$f":"IF(A28<>\"\",IFERROR(VLOOKUP(AP28,Tabelas!B:D,3,0),0),\"\")","v":0},{"$f":"IF(A28<>\"\",IFERROR(VLOOKUP(AQ28,Tabelas!B:D,3,0),0),\"\")","v":0},{"$f":"IF(A28<>\"\",IFERROR(VLOOKUP(AR28,Tabelas!B:D,3,0),0),\"\")","v":0},0,0,0,0,0,0,0,0,0]
["Fulano de Tal 21",1234567,123,"ENF","Ebserh",36,null,null,null,null,null,null,null,null,null,null,null,null,null,null,null,null,null,null,null,null,null,null,null,null,null,null,null,null,null,null,null,null,null,null,null,null,null,null,{"$f":"IF(A29<>\"\",IFERROR(VLOOKUP(N29,Tabelas!B:D,3,0),0),\"\")","v":0},{"$f":"IF(A29<>\"\",IFERROR(VLOOKUP(O29,Tabelas!B:D,3,0),0),\"\")","v":0},{"$f":"IF(A29<>\"\",IFERROR(VLOOKUP(P29,Tabelas!B:D,3,0),0),\"\")","v":0},{"$f":"IF(A29<>\"\",IFERROR(VLOOKUP(Q29,Tabelas!B:D,3,0),0),\"\")","v":0},{"$f":"IF(A29<>\"\",IFERROR(VLOOKUP(R29,Tabelas!B:D,3,0),0),\"\")","v":0},{"$f":"IF(A29<>\"\",IFERROR(VLOOKUP(S29,Tabelas!B:D,3,0),0),\"\")","v":0},{"$f":"IF(A29<>\"\",IFERROR(VLOOKUP(T29,Tabelas!B:D,3,0),0),\"\")","v":0},{"$f":"IF(A29<>\"\",IFERROR(VLOOKUP(U29,Tabelas!B:D,3,0),0),\"\")","v":0},{"$f":"IF(A29<>\"\",IFERROR(VLOOKUP(V29,Tabelas!B:D,3,0),0),\"\")","v":0},{"$f":"IF(A29<>\"\",IFERROR(VLOOKUP(W29,Tabelas!B:D,3,0),0),\"\")","v":0},{"$f":"IF(A29<>\"\",IFERROR(VLOOKUP(X29,Tabelas!B:D,3,0),0),\"\")","v":0},{"$f":"IF(A29<>\"\",IFERROR(VLOOKUP(Y29,Tabelas!B:D,3,0),0),\"\")","v":0},{"$f":"IF(A29<>\"\",IFERROR(VLOOKUP(Z29,Tabelas!B:D,3,0),0),\"\")","v":0},{"$f":"IF(A29<>\"\",IFERROR(VLOOKUP(AA29,Tabelas!B:D,3,0),0),\"\")","v":0},{"$f":"IF(A29<>\"\",IFERROR(VLOOKUP(AB29,Tabelas!B:D,3,0),0),\"\")","v":0},{"$f":"IF(A29<>\"\",IFERROR(VLOOKUP(AC29,Tabelas!B:D,3,0),0),\"\")","v":0},{"$f":"IF(A29<>\"\",IFERROR(VLOOKUP(AD29,Tabelas!B:D,3,0),0),\"\")","v":0},{"$f":"IF(A29<>\"\",IFERROR(VLOOKUP(AE29,Tabelas!B:D,3,0),0),\"\")","v":0},{"$f":"IF(A29<>\"\",IFERROR(VLOOKUP(AF29,Tabelas!B:D,3,0),0),\"\")","v":0},{"$f":"IF(A29<>\"\",IFERROR(VLOOKUP(AG29,Tabelas!B:D,3,0),0),\"\")","v":0},{"$f":"IF(A29<>\"\",IFERROR(VLOOKUP(AH29,Tabelas!B:D,3,0),0),\"\")","v":0},{"$f":"IF(A29<>\"\",IFERROR(VLOOKUP(AI29,Tabelas!B:D,3,0),0),\"\")","v":0},{"$f":"IF(A29<>\"\",IFERROR(VLOOKUP(AJ29,Tabelas!B:D,3,0),0),\"\")","v":0},{"$f":"IF(A29<>\"\",IFERROR(VLOOKUP(AK29,Tabelas!B:D,3,0),0),\"\")","v":0},{"$f":"IF(A29<>\"\",IFERROR(VLOOKUP(AL29,Tabelas!B:D,3,0),0),\"\")","v":0},{"$f":"IF(A29<>\"\",IFERROR(VLOOKUP(AM29,Tabelas!B:D,3,0),0),\"\")","v":0},{"$f":"IF(A29<>\"\",IFERROR(VLOOKUP(AN29,Tabelas!B:D,3,0),0),\"\")","v":0},{"$f":"IF(A29<>\"\",IFERROR(VLOOKUP(AO29,Tabelas!B:D,3,0),0),\"\")","v":0},{"$f":"IF(A29<>\"\",IFERROR(VLOOKUP(AP29,Tabelas!B:D,3,0),0),\"\")","v":0},{"$f":"IF(A29<>\"\",IFERROR(VLOOKUP(AQ29,Tabelas!B:D,3,0),0),\"\")","v":0},{"$f":"IF(A29<>\"\",IFERROR(VLOOKUP(AR29,Tabelas!B:D,3,0),0),\"\")","v":0},0,0,0,0,0,0,0,0,0]
["Fulano de Tal 22",1234567,123,"ENF","Ebserh",36,null,null,null,null,null,null,null,null,null,null,null,null,null,null,null,null,null,null,null,null,null,null,null,null,null,null,null,null,null,null,null,null,null,null,null,null,null,null,{"$f":"IF(A30<>\"\",IFERROR(VLOOKUP(N30,Tabelas!B:D,3,0),0),\"\")","v":0},{"$f":"IF(A30<>\"\",IFERROR(VLOOKUP(O30,Tabelas!B:D,3,0),0),\"\")","v":0},{"$f":"IF(A30<>\"\",IFERROR(VLOOKUP(P30,Tabelas!B:D,3,0),0),\"\")","v":0},{"$f":"IF(A30<>\"\",IFERROR(VLOOKUP(Q30,Tabelas!B:D,3,0),0),\"\")","v":0},{"$f":"IF(A30<>\"\",IFERROR(VLOOKUP(R30,Tabelas!B:D,3,0),0),\"\")","v":0},{"$f":"IF(A30<>\"\",IFERROR(VLOOKUP(S30,Tabelas!B:D,3,0),0),\"\")","v":0},{"$f":"IF(A30<>\"\",IFERROR(VLOOKUP(T30,Tabelas!B:D,3,0),0),\"\")","v":0},{"$f":"IF(A30<>\"\",IFERROR(VLOOKUP(U30,Tabelas!B:D,3,0),0),\"\")","v":0},{"$f":"IF(A30<>\"\",IFERROR(VLOOKUP(V30,Tabelas!B:D,3,0),0),\"\")","v":0},{"$f":"IF(A30<>\"\",IFERROR(VLOOKUP(W30,Tabelas!B:D,3,0),0),\"\")","v":0},{"$f":"IF(A30<>\"\",IFERROR(VLOOKUP(X30,Tabelas!B:D,3,0),0),\"\")","v":0},{"$f":"IF(A30<>\"\",IFERROR(VLOOKUP(Y30,Tabelas!B:D,3,0),0),\"\")","v":0},{"$f":"IF(A30<>\"\",IFERROR(VLOOKUP(Z30,Tabelas!B:D,3,0),0),\"\")","v":0},{"$f":"IF(A30<>\"\",IFERROR(VLOOKUP(AA30,Tabelas!B:D,3,0),0),\"\")","v":0},{"$f":"IF(A30<>\"\",IFERROR(VLOOKUP(AB30,Tabelas!B:D,3,0),0),\"\")","v":0},{"$f":"IF(A30<>\"\",IFERROR(VLOOKUP(AC30,Tabelas!B:D,3,0),0),\"\")","v":0},{"$f":"IF(A30<>\"\",IFERROR(VLOOKUP(AD30,Tabelas!B:D,3,0),0),\"\")","v":0},{"$f":"IF(A30<>\"\",IFERROR(VLOOKUP(AE30,Tabelas!B:D,3,0),0),\"\")","v":0},{"$f":"IF(A30<>\"\",IFERROR(VLOOKUP(AF30,Tabelas!B:D,3,0),0),\"\")","v":0},{"$f":"IF(A30<>\"\",IFERROR(VLOOKUP(AG30,Tabelas!B:D,3,0),0),\"\")","v":0},{"$f":"IF(A30<>\"\",IFERROR(VLOOKUP(AH30,Tabelas!B:D,3,0),0),\"\")","v":0},{"$f":"IF(A30<>\"\",IFERROR(VLOOKUP(AI30,Tabelas!B:D,3,0),0),\"\")","v":0},{"$f":"IF(A30<>\"\",IFERROR(VLOOKUP(AJ30,Tabelas!B:D,3,0),0),\"\")","v":0},{"$f":"IF(A30<>\"\",IFERROR(VLOOKUP(AK30,Tabelas!B:D,3,0),0),\"\")","v":0},{"$f":"IF(A30<>\"\",IFERROR(VLOOKUP(AL30,Tabelas!B:D,3,0),0),\"\")","v":0},{"$f":"IF(A30<>\"\",IFERROR(VLOOKUP(AM30,Tabelas!B:D,3,0),0),\"\")","v":0},{"$f":"IF(A30<>\"\",IFERROR(VLOOKUP(AN30,Tabelas!B:D,3,0),0),\"\")","v":0},{"$f":"IF(A30<>\"\",IFERROR(VLOOKUP(AO30,Tabelas!B:D,3,0),0),\"\")","v":0},{"$f":"IF(A30<>\"\",IFERROR(VLOOKUP(AP30,Tabelas!B:D,3,0),0),\"\")","v":0},{"$f":"IF(A30<>\"\",IFERROR(VLOOKUP(AQ30,Tabelas!B:D,3,0),0),\"\")","v":0},{"$f":"IF(A30<>\"\",IFERROR(VLOOKUP(AR30,Tabelas!B:D,3,0),0),\"\")","v":0},0,0,0,0,0,0,0,0,0]
["Fulano de Tal 23",1234567,123,"ENF","Ebserh",36,null,null,null,null,null,null,null,null,null,null,null,null,null,null,null,null,null,null,null,null,null,null,null,null,null,null,null,null,null,null,null,null,null,null,null,null,null,null,{"$f":"IF(A31<>\"\",IFERROR(VLOOKUP(N31,Tabelas!B:D,3,0),0),\"\")","v":0},{"$f":"IF(A31<>\"\",IFERROR(VLOOKUP(O31,Tabelas!B:D,3,0),0),\"\")","v":0},{"$f":"IF(A31<>\"\",IFERROR(VLOOKUP(P31,Tabelas!B:D,3,0),0),\"\")","v":0},{"$f":"IF(A31<>\"\",IFERROR(VLOOKUP(Q31,Tabelas!B:D,3,0),0),\"\")","v":0},{"$f":"IF(A31<>\"\",IFERROR(VLOOKUP(R31,Tabelas!B:D,3,0),0),\"\")","v":0},{"$f":"IF(A31<>\"\",IFERROR(VLOOKUP(S31,Tabelas!B:D,3,0),0),\"\")","v":0},{"$f":"IF(A31<>\"\",IFERROR(VLOOKUP(T31,Tabelas!B:D,3,0),0),\"\")","v":0},{"$f":"IF(A31<>\"\",IFERROR(VLOOKUP(U31,Tabelas!B:D,3,0),0),\"\")","v":0},{"$f":"IF(A31<>\"\",IFERROR(VLOOKUP(V31,Tabelas!B:D,3,0),0),\"\")","v":0},{"$f":"IF(A31<>\"\",IFERROR(VLOOKUP(W31,Tabelas!B:D,3,0),0),\"\")","v":0},{"$f":"IF(A31<>\"\",IFERROR(VLOOKUP(X31,Tabelas!B:D,3,0),0),\"\")","v":0},{"$f":"IF(A31<>\"\",IFERROR(VLOOKUP(Y31,Tabelas!B:D,3,0),0),\"\")","v":0},{"$f":"IF(A31<>\"\",IFERROR(VLOOKUP(Z31,Tabelas!B:D,3,0),0),\"\")","v":0},{"$f":"IF(A31<>\"\",IFERROR(VLOOKUP(AA31,Tabelas!B:D,3,0),0),\"\")","v":0},{"$f":"IF(A31<>\"\",IFERROR(VLOOKUP(AB31,Tabelas!B:D,3,0),0),\"\")","v":0},{"$f":"IF(A31<>\"\",IFERROR(VLOOKUP(AC31,Tabelas!B:D,3,0),0),\"\")","v":0},{"$f":"IF(A31<>\"\",IFERROR(VLOOKUP(AD31,Tabelas!B:D,3,0),0),\"\")","v":0},{"$f":"IF(A31<>\"\",IFERROR(VLOOKUP(AE31,Tabelas!B:D,3,0),0),\"\")","v":0},{"$f":"IF(A31<>\"\",IFERROR(VLOOKUP(AF31,Tabelas!B:D,3,0),0),\"\")","v":0},{"$f":"IF(A31<>\"\",IFERROR(VLOOKUP(AG31,Tabelas!B:D,3,0),0),\"\")","v":0},{"$f":"IF(A31<>\"\",IFERROR(VLOOKUP(AH31,Tabelas!B:D,3,0),0),\"\")","v":0},{"$f":"IF(A31<>\"\",IFERROR(VLOOKUP(AI31,Tabelas!B:D,3,0),0),\"\")","v":0},{"$f":"IF(A31<>\"\",IFERROR(VLOOKUP(AJ31,Tabelas!B:D,3,0),0),\"\")","v":0},{"$f":"IF(A31<>\"\",IFERROR(VLOOKUP(AK31,Tabelas!B:D,3,0),0),\"\")","v":0},{"$f":"IF(A31<>\"\",IFERROR(VLOOKUP(AL31,Tabelas!B:D,3,0),0),\"\")","v":0},{"$f":"IF(A31<>\"\",IFERROR(VLOOKUP(AM31,Tabelas!B:D,3,0),0),\"\")","v":0},{"$f":"IF(A31<>\"\",IFERROR(VLOOKUP(AN31,Tabelas!B:D,3,0),0),\"\")","v":0},{"$f":"IF(A31<>\"\",IFERROR(VLOOKUP(AO31,Tabelas!B:D,3,0),0),\"\")","v":0},{"$f":"IF(A31<>\"\",IFERROR(VLOOKUP(AP31,Tabelas!B:D,3,0),0),\"\")","v":0},{"$f":"IF(A31<>\"\",IFERROR(VLOOKUP(AQ31,Tabelas!B:D,3,0),0),\"\")","v":0},{"$f":"IF(A31<>\"\",IFERROR(VLOOKUP(AR31,Tabelas!B:D,3,0),0),\"\")","v":0},0,0,0,0,0,0,0,0,0]
["Fulano de Tal 24",1234567,123,"ENF","Ebserh",36,null,null,null,null,null,null,null,null,null,null,null,null,null,null,null,null,null,null,null,null,null,null,null,null,null,null,null,null,null,null,null,null,null,null,null,null,null,null,{"$f":"IF(A32<>\"\",IFERROR(VLOOKUP(N32,Tabelas!B:D,3,0),0),\"\")","v":0},{"$f":"IF(A32<>\"\",IFERROR(VLOOKUP(O32,Tabelas!B:D,3,0),0),\"\")","v":0},{"$f":"IF(A32<>\"\",IFERROR(VLOOKUP(P32,Tabelas!B:D,3,0),0),\"\")","v":0},{"$f":"IF(A32<>\"\",IFERROR(VLOOKUP(Q32,Tabelas!B:D,3,0),0),\"\")","v":0},{"$f":"IF(A32<>\"\",IFERROR(VLOOKUP(R32,Tabelas!B:D,3,0),0),\"\")","v":0},{"$f":"IF(A32<>\"\",IFERROR(VLOOKUP(S32,Tabelas!B:D,3,0),0),\"\")","v":0},{"$f":"IF(A32<>\"\",IFERROR(VLOOKUP(T32,Tabelas!B:D,3,0),0),\"\")","v":0},{"$f":"IF(A32<>\"\",IFERROR(VLOOKUP(U32,Tabelas!B:D,3,0),0),\"\")","v":0},{"$f":"IF(A32<>\"\",IFERROR(VLOOKUP(V32,Tabelas!B:D,3,0),0),\"\")","v":0},{"$f":"IF(A32<>\"\",IFERROR(VLOOKUP(W32,Tabelas!B:D,3,0),0),\"\")","v":0},{"$f":"IF(A32<>\"\",IFERROR(VLOOKUP(X32,Tabelas!B:D,3,0),0),\"\")","v":0},{"$f":"IF(A32<>\"\",IFERROR(VLOOKUP(Y32,Tabelas!B:D,3,0),0),\"\")","v":0},{"$f":"IF(A32<>\"\",IFERROR(VLOOKUP(Z32,Tabelas!B:D,3,0),0),\"\")","v":0},{"$f":"IF(A32<>\"\",IFERROR(VLOOKUP(AA32,Tabelas!B:D,3,0),0),\"\")","v":0},{"$f":"IF(A32<>\"\",IFERROR(VLOOKUP(AB32,Tabelas!B:D,3,0),0),\"\")","v":0},{"$f":"IF(A32<>\"\",IFERROR(VLOOKUP(AC32,Tabelas!B:D,3,0),0),\"\")","v":0},{"$f":"IF(A32<>\"\",IFERROR(VLOOKUP(AD32,Tabelas!B:D,3,0),0),\"\")","v":0},{"$f":"IF(A32<>\"\",IFERROR(VLOOKUP(AE32,Tabelas!B:D,3,0),0),\"\")","v":0},{"$f":"IF(A32<>\"\",IFERROR(VLOOKUP(AF32,Tabelas!B:D,3,0),0),\"\")","v":0},{"$f":"IF(A32<>\"\",IFERROR(VLOOKUP(AG32,Tabelas!B:D,3,0),0),\"\")","v":0},{"$f":"IF(A32<>\"\",IFERROR(VLOOKUP(AH32,Tabelas!B:D,3,0),0),\"\")","v":0},{"$f":"IF(A32<>\"\",IFERROR(VLOOKUP(AI32,Tabelas!B:D,3,0),0),\"\")","v":0},{"$f":"IF(A32<>\"\",IFERROR(VLOOKUP(AJ32,Tabelas!B:D,3,0),0),\"\")","v":0},{"$f":"IF(A32<>\"\",IFERROR(VLOOKUP(AK32,Tabelas!B:D,3,0),0),\"\")","v":0},{"$f":"IF(A32<>\"\",IFERROR(VLOOKUP(AL32,Tabelas!B:D,3,0),0),\"\")","v":0},{"$f":"IF(A32<>\"\",IFERROR(VLOOKUP(AM32,Tabelas!B:D,3,0),0),\"\")","v":0},{"$f":"IF(A32<>\"\",IFERROR(VLOOKUP(AN32,Tabelas!B:D,3,0),0),\"\")","v":0},{"$f":"IF(A32<>\"\",IFERROR(VLOOKUP(AO32,Tabelas!B:D,3,0),0),\"\")","v":0},{"$f":"IF(A32<>\"\",IFERROR(VLOOKUP(AP32,Tabelas!B:D,3,0),0),\"\")","v":0},{"$f":"IF(A32<>\"\",IFERROR(VLOOKUP(AQ32,Tabelas!B:D,3,0),0),\"\")","v":0},{"$f":"IF(A32<>\"\",IFERROR(VLOOKUP(AR32,Tabelas!B:D,3,0),0),\"\")","v":0},0,0,0,0,0,0,0,0,0]
["Fulano de Tal 25",1234567,123,"ENF","Ebserh",36,null,null,null,null,null,null,null,null,null,null,null,null,null,null,null,null,null,null,null,null,null,null,null,null,null,null,null,null,null,null,null,null,null,null,null,null,null,null,{"$f":"IF(A33<>\"\",IFERROR(VLOOKUP(N33,Tabelas!B:D,3,0),0),\"\")","v":0},{"$f":"IF(A33<>\"\",IFERROR(VLOOKUP(O33,Tabelas!B:D,3,0),0),\"\")","v":0},{"$f":"IF(A33<>\"\",IFERROR(VLOOKUP(P33,Tabelas!B:D,3,0),0),\"\")","v":0},{"$f":"IF(A33<>\"\",IFERROR(VLOOKUP(Q33,Tabelas!B:D,3,0),0),\"\")","v":0},{"$f":"IF(A33<>\"\",IFERROR(VLOOKUP(R33,Tabelas!B:D,3,0),0),\"\")","v":0},{"$f":"IF(A33<>\"\",IFERROR(VLOOKUP(S33,Tabelas!B:D,3,0),0),\"\")","v":0},{"$f":"IF(A33<>\"\",IFERROR(VLOOKUP(T33,Tabelas!B:D,3,0),0),\"\")","v":0},{"$f":"IF(A33<>\"\",IFERROR(VLOOKUP(U33,Tabelas!B:D,3,0),0),\"\")","v":0},{"$f":"IF(A33<>\"\",IFERROR(VLOOKUP(V33,Tabelas!B:D,3,0),0),\"\")","v":0},{"$f":"IF(A33<>\"\",IFERROR(VLOOKUP(W33,Tabelas!B:D,3,0),0),\"\")","v":0},{"$f":"IF(A33<>\"\",IFERROR(VLOOKUP(X33,Tabelas!B:D,3,0),0),\"\")","v":0},{"$f":"IF(A33<>\"\",IFERROR(VLOOKUP(Y33,Tabelas!B:D,3,0),0),\"\")","v":0},{"$f":"IF(A33<>\"\",IFERROR(VLOOKUP(Z33,Tabelas!B:D,3,0),0),\"\")","v":0},{"$f":"IF(A33<>\"\",IFERROR(VLOOKUP(AA33,Tabelas!B:D,3,0),0),\"\")","v":0},{"$f":"IF(A33<>\"\",IFERROR(VLOOKUP(AB33,Tabelas!B:D,3,0),0),\"\")","v":0},{"$f":"IF(A33<>\"\",IFERROR(VLOOKUP(AC33,Tabelas!B:D,3,0),0),\"\")","v":0},{"$f":"IF(A33<>\"\",IFERROR(VLOOKUP(AD33,Tabelas!B:D,3,0),0),\"\")","v":0},{"$f":"IF(A33<>\"\",IFERROR(VLOOKUP(AE33,Tabelas!B:D,3,0),0),\"\")","v":0},{"$f":"IF(A33<>\"\",IFERROR(VLOOKUP(AF33,Tabelas!B:D,3,0),0),\"\")","v":0},{"$f":"IF(A33<>\"\",IFERROR(VLOOKUP(AG33,Tabelas!B:D,3,0),0),\"\")","v":0},{"$f":"IF(A33<>\"\",IFERROR(VLOOKUP(AH33,Tabelas!B:D,3,0),0),\"\")","v":0},{"$f":"IF(A33<>\"\",IFERROR(VLOOKUP(AI33,Tabelas!B:D,3,0),0),\"\")","v":0},{"$f":"IF(A33<>\"\",IFERROR(VLOOKUP(AJ33,Tabelas!B:D,3,0),0),\"\")","v":0},{"$f":"IF(A33<>\"\",IFERROR(VLOOKUP(AK33,Tabelas!B:D,3,0),0),\"\")","v":0},{"$f":"IF(A33<>\"\",IFERROR(VLOOKUP(AL33,Tabelas!B:D,3,0),0),\"\")","v":0},{"$f":"IF(A33<>\"\",IFERROR(VLOOKUP(AM33,Tabelas!B:D,3,0),0),\"\")","v":0},{"$f":"IF(A33<>\"\",IFERROR(VLOOKUP(AN33,Tabelas!B:D,3,0),0),\"\")","v":0},{"$f":"IF(A33<>\"\",IFERROR(VLOOKUP(AO33,Tabelas!B:D,3,0),0),\"\")","v":0},{"$f":"IF(A33<>\"\",IFERROR(VLOOKUP(AP33,Tabelas!B:D,3,0),0),\"\")","v":0},{"$f":"IF(A33<>\"\",IFERROR(VLOOKUP(AQ33,Tabelas!B:D,3,0),0),\"\")","v":0},{"$f":"IF(A33<>\"\",IFERROR(VLOOKUP(AR33,Tabelas!B:D,3,0),0),\"\")","v":0},0,0,0,0,0,0,0,0,0]
["Fulano de Tal 26",1234567,123,"ENF","Ebserh",36,null,null,null,null,null,null,null,null,null,null,null,null,null,null,null,null,null,null,null,null,null,null,null,null,null,null,null,null,null,null,null,null,null,null,null,null,null,null,{"$f":"IF(A34<>\"\",IFERROR(VLOOKUP(N34,Tabelas!B:D,3,0),0),\"\")","v":0},{"$f":"IF(A34<>\"\",IFERROR(VLOOKUP(O34,Tabelas!B:D,3,0),0),\"\")","v":0},{"$f":"IF(A34<>\"\",IFERROR(VLOOKUP(P34,Tabelas!B:D,3,0),0),\"\")","v":0},{"$f":"IF(A34<>\"\",IFERROR(VLOOKUP(Q34,Tabelas!B:D,3,0),0),\"\")","v":0},{"$f":"IF(A34<>\"\",IFERROR(VLOOKUP(R34,Tabelas!B:D,3,0),0),\"\")","v":0},{"$f":"IF(A34<>\"\",IFERROR(VLOOKUP(S34,Tabelas!B:D,3,0),0),\"\")","v":0},{"$f":"IF(A34<>\"\",IFERROR(VLOOKUP(T34,Tabelas!B:D,3,0),0),\"\")","v":0},{"$f":"IF(A34<>\"\",IFERROR(VLOOKUP(U34,Tabelas!B:D,3,0),0),\"\")","v":0},{"$f":"IF(A34<>\"\",IFERROR(VLOOKUP(V34,Tabelas!B:D,3,0),0),\"\")","v":0},{"$f":"IF(A34<>\"\",IFERROR(VLOOKUP(W34,Tabelas!B:D,3,0),0),\"\")","v":0},{"$f":"IF(A34<>\"\",IFERROR(VLOOKUP(X34,Tabelas!B:D,3,0),0),\"\")","v":0},{"$f":"IF(A34<>\"\",IFERROR(VLOOKUP(Y34,Tabelas!B:D,3,0),0),\"\")","v":0},{"$f":"IF(A34<>\"\",IFERROR(VLOOKUP(Z34,Tabelas!B:D,3,0),0),\"\")","v":0},{"$f":"IF(A34<>\"\",IFERROR(VLOOKUP(AA34,Tabelas!B:D,3,0),0),\"\")","v":0},{"$f":"IF(A34<>\"\",IFERROR(VLOOKUP(AB34,Tabelas!B:D,3,0),0),\"\")","v":0},{"$f":"IF(A34<>\"\",IFERROR(VLOOKUP(AC34,Tabelas!B:D,3,0),0),\"\")","v":0},{"$f":"IF(A34<>\"\",IFERROR(VLOOKUP(AD34,Tabelas!B:D,3,0),0),\"\")","v":0},{"$f":"IF(A34<>\"\",IFERROR(VLOOKUP(AE34,Tabelas!B:D,3,0),0),\"\")","v":0},{"$f":"IF(A34<>\"\",IFERROR(VLOOKUP(AF34,Tabelas!B:D,3,0),0),\"\")","v":0},{"$f":"IF(A34<>\"\",IFERROR(VLOOKUP(AG34,Tabelas!B:D,3,0),0),\"\")","v":0},{"$f":"IF(A34<>\"\",IFERROR(VLOOKUP(AH34,Tabelas!B:D,3,0),0),\"\")","v":0},{"$f":"IF(A34<>\"\",IFERROR(VLOOKUP(AI34,Tabelas!B:D,3,0),0),\"\")","v":0},{"$f":"IF(A34<>\"\",IFERROR(VLOOKUP(AJ34,Tabelas!B:D,3,0),0),\"\")","v":0},{"$f":"IF(A34<>\"\",IFERROR(VLOOKUP(AK34,Tabelas!B:D,3,0),0),\"\")","v":0},{"$f":"IF(A34<>\"\",IFERROR(VLOOKUP(AL34,Tabelas!B:D,3,0),0),\"\")","v":0},{"$f":"IF(A34<>\"\",IFERROR(VLOOKUP(AM34,Tabelas!B:D,3,0),0),\"\")","v":0},{"$f":"IF(A34<>\"\",IFERROR(VLOOKUP(AN34,Tabelas!B:D,3,0),0),\"\")","v":0},{"$f":"IF(A34<>\"\",IFERROR(VLOOKUP(AO34,Tabelas!B:D,3,0),0),\"\")","v":0},{"$f":"IF(A34<>\"\",IFERROR(VLOOKUP(AP34,Tabelas!B:D,3,0),0),\"\")","v":0},{"$f":"IF(A34<>\"\",IFERROR(VLOOKUP(AQ34,Tabelas!B:D,3,0),0),\"\")","v":0},{"$f":"IF(A34<>\"\",IFERROR(VLOOKUP(AR34,Tabelas!B:D,3,0),0),\"\")","v":0},0,0,0,0,0,0,0,0,0]
["Fulano de Tal 27",1234567,123,"ENF","Ebserh",36,null,null,null,null,null,null,null,null,null,null,null,null,null,null,null,null,null,null,null,null,null,null,null,null,null,null,null,null,null,null,null,null,null,null,null,null,null,null,{"$f":"IF(A35<>\"\",IFERROR(VLOOKUP(N35,Tabelas!B:D,3,0),0),\"\")","v":0},{"$f":"IF(A35<>\"\",IFERROR(VLOOKUP(O35,Tabelas!B:D,3,0),0),\"\")","v":0},{"$f":"IF(A35<>\"\",IFERROR(VLOOKUP(P35,Tabelas!B:D,3,0),0),\"\")","v":0},{"$f":"IF(A35<>\"\",IFERROR(VLOOKUP(Q35,Tabelas!B:D,3,0),0),\"\")","v":0},{"$f":"IF(A35<>\"\",IFERROR(VLOOKUP(R35,Tabelas!B:D,3,0),0),\"\")","v":0},{"$f":"IF(A35<>\"\",IFERROR(VLOOKUP(S35,Tabelas!B:D,3,0),0),\"\")","v":0},{"$f":"IF(A35<>\"\",IFERROR(VLOOKUP(T35,Tabelas!B:D,3,0),0),\"\")","v":0},{"$f":"IF(A35<>\"\",IFERROR(VLOOKUP(U35,Tabelas!B:D,3,0),0),\"\")","v":0},{"$f":"IF(A35<>\"\",IFERROR(VLOOKUP(V35,Tabelas!B:D,3,0),0),\"\")","v":0},{"$f":"IF(A35<>\"\",IFERROR(VLOOKUP(W35,Tabelas!B:D,3,0),0),\"\")","v":0},{"$f":"IF(A35<>\"\",IFERROR(VLOOKUP(X35,Tabelas!B:D,3,0),0),\"\")","v":0},{"$f":"IF(A35<>\"\",IFERROR(VLOOKUP(Y35,Tabelas!B:D,3,0),0),\"\")","v":0},{"$f":"IF(A35<>\"\",IFERROR(VLOOKUP(Z35,Tabelas!B:D,3,0),0),\"\")","v":0},{"$f":"IF(A35<>\"\",IFERROR(VLOOKUP(AA35,Tabelas!B:D,3,0),0),\"\")","v":0},{"$f":"IF(A35<>\"\",IFERROR(VLOOKUP(AB35,Tabelas!B:D,3,0),0),\"\")","v":0},{"$f":"IF(A35<>\"\",IFERROR(VLOOKUP(AC35,Tabelas!B:D,3,0),0),\"\")","v":0},{"$f":"IF(A35<>\"\",IFERROR(VLOOKUP(AD35,Tabelas!B:D,3,0),0),\"\")","v":0},{"$f":"IF(A35<>\"\",IFERROR(VLOOKUP(AE35,Tabelas!B:D,3,0),0),\"\")","v":0},{"$f":"IF(A35<>\"\",IFERROR(VLOOKUP(AF35,Tabelas!B:D,3,0),0),\"\")","v":0},{"$f":"IF(A35<>\"\",IFERROR(VLOOKUP(AG35,Tabelas!B:D,3,0),0),\"\")","v":0},{"$f":"IF(A35<>\"\",IFERROR(VLOOKUP(AH35,Tabelas!B:D,3,0),0),\"\")","v":0},{"$f":"IF(A35<>\"\",IFERROR(VLOOKUP(AI35,Tabelas!B:D,3,0),0),\"\")","v":0},{"$f":"IF(A35<>\"\",IFERROR(VLOOKUP(AJ35,Tabelas!B:D,3,0),0),\"\")","v":0},{"$f":"IF(A35<>\"\",IFERROR(VLOOKUP(AK35,Tabelas!B:D,3,0),0),\"\")","v":0},{"$f":"IF(A35<>\"\",IFERROR(VLOOKUP(AL35,Tabelas!B:D,3,0),0),\"\")","v":0},{"$f":"IF(A35<>\"\",IFERROR(VLOOKUP(AM35,Tabelas!B:D,3,0),0),\"\")","v":0},{"$f":"IF(A35<>\"\",IFERROR(VLOOKUP(AN35,Tabelas!B:D,3,0),0),\"\")","v":0},{"$f":"IF(A35<>\"\",IFERROR(VLOOKUP(AO35,Tabelas!B:D,3,0),0),\"\")","v":0},{"$f":"IF(A35<>\"\",IFERROR(VLOOKUP(AP35,Tabelas!B:D,3,0),0),\"\")","v":0},{"$f":"IF(A35<>\"\",IFERROR(VLOOKUP(AQ35,Tabelas!B:D,3,0),0),\"\")","v":0},{"$f":"IF(A35<>\"\",IFERROR(VLOOKUP(AR35,Tabelas!B:D,3,0),0),\"\")","v":0},0,0,0,0,0,0,0,0,0]
["Fulano de Tal 28",1234567,123,"ENF","Ebserh",36,null,null,null,null,null,null,null,null,null,null,null,null,null,null,null,null,null,null,null,null,null,null,null,null,null,null,null,null,null,null,null,null,null,null,null,null,null,null,{"$f":"IF(A36<>\"\",IFERROR(VLOOKUP(N36,Tabelas!B:D,3,0),0),\"\")","v":0},{"$f":"IF(A36<>\"\",IFERROR(VLOOKUP(O36,Tabelas!B:D,3,0),0),\"\")","v":0},{"$f":"IF(A36<>\"\",IFERROR(VLOOKUP(P36,Tabelas!B:D,3,0),0),\"\")","v":0},{"$f":"IF(A36<>\"\",IFERROR(VLOOKUP(Q36,Tabelas!B:D,3,0),0),\"\")","v":0},{"$f":"IF(A36<>\"\",IFERROR(VLOOKUP(R36,Tabelas!B:D,3,0),0),\"\")","v":0},{"$f":"IF(A36<>\"\",IFERROR(VLOOKUP(S36,Tabelas!B:D,3,0),0),\"\")","v":0},{"$f":"IF(A36<>\"\",IFERROR(VLOOKUP(T36,Tabelas!B:D,3,0),0),\"\")","v":0},{"$f":"IF(A36<>\"\",IFERROR(VLOOKUP(U36,Tabelas!B:D,3,0),0),\"\")","v":0},{"$f":"IF(A36<>\"\",IFERROR(VLOOKUP(V36,Tabelas!B:D,3,0),0),\"\")","v":0},{"$f":"IF(A36<>\"\",IFERROR(VLOOKUP(W36,Tabelas!B:D,3,0),0),\"\")","v":0},{"$f":"IF(A36<>\"\",IFERROR(VLOOKUP(X36,Tabelas!B:D,3,0),0),\"\")","v":0},{"$f":"IF(A36<>\"\",IFERROR(VLOOKUP(Y36,Tabelas!B:D,3,0),0),\"\")","v":0},{"$f":"IF(A36<>\"\",IFERROR(VLOOKUP(Z36,Tabelas!B:D,3,0),0),\"\")","v":0},{"$f":"IF(A36<>\"\",IFERROR(VLOOKUP(AA36,Tabelas!B:D,3,0),0),\"\")","v":0},{"$f":"IF(A36<>\"\",IFERROR(VLOOKUP(AB36,Tabelas!B:D,3,0),0),\"\")","v":0},{"$f":"IF(A36<>\"\",IFERROR(VLOOKUP(AC36,Tabelas!B:D,3,0),0),\"\")","v":0},{"$f":"IF(A36<>\"\",IFERROR(VLOOKUP(AD36,Tabelas!B:D,3,0),0),\"\")","v":0},{"$f":"IF(A36<>\"\",IFERROR(VLOOKUP(AE36,Tabelas!B:D,3,0),0),\"\")","v":0},{"$f":"IF(A36<>\"\",IFERROR(VLOOKUP(AF36,Tabelas!B:D,3,0),0),\"\")","v":0},{"$f":"IF(A36<>\"\",IFERROR(VLOOKUP(AG36,Tabelas!B:D,3,0),0),\"\")","v":0},{"$f":"IF(A36<>\"\",IFERROR(VLOOKUP(AH36,Tabelas!B:D,3,0),0),\"\")","v":0},{"$f":"IF(A36<>\"\",IFERROR(VLOOKUP(AI36,Tabelas!B:D,3,0),0),\"\")","v":0},{"$f":"IF(A36<>\"\",IFERROR(VLOOKUP(AJ36,Tabelas!B:D,3,0),0),\"\")","v":0},{"$f":"IF(A36<>\"\",IFERROR(VLOOKUP(AK36,Tabelas!B:D,3,0),0),\"\")","v":0},{"$f":"IF(A36<>\"\",IFERROR(VLOOKUP(AL36,Tabelas!B:D,3,0),0),\"\")","v":0},{"$f":"IF(A36<>\"\",IFERROR(VLOOKUP(AM36,Tabelas!B:D,3,0),0),\"\")","v":0},{"$f":"IF(A36<>\"\",IFERROR(VLOOKUP(AN36,Tabelas!B:D,3,0),0),\"\")","v":0},{"$f":"IF(A36<>\"\",IFERROR(VLOOKUP(AO36,Tabelas!B:D,3,0),0),\"\")","v":0},{"$f":"IF(A36<>\"\",IFERROR(VLOOKUP(AP36,Tabelas!B:D,3,0),0),\"\")","v":0},{"$f":"IF(A36<>\"\",IFERROR(VLOOKUP(AQ36,Tabelas!B:D,3,0),0),\"\")","v":0},{"$f":"IF(A36<>\"\",IFERROR(VLOOKUP(AR36,Tabelas!B:D,3,0),0),\"\")","v":0},0,0,0,0,0,0,0,0,0]
["Fulano de Tal 29",1234567,123,"ENF","Ebserh",36,null,null,null,null,null,null,null,null,null,null,null,null,null,null,null,null,null,null,null,null,null,null,null,null,null,null,null,null,null,null,null,null,null,null,null,null,null,null,{"$f":"IF(A37<>\"\",IFERROR(VLOOKUP(N37,Tabelas!B:D,3,0),0),\"\")","v":0},{"$f":"IF(A37<>\"\",IFERROR(VLOOKUP(O37,Tabelas!B:D,3,0),0),\"\")","v":0},{"$f":"IF(A37<>\"\",IFERROR(VLOOKUP(P37,Tabelas!B:D,3,0),0),\"\")","v":0},{"$f":"IF(A37<>\"\",IFERROR(VLOOKUP(Q37,Tabelas!B:D,3,0),0),\"\")","v":0},{"$f":"IF(A37<>\"\",IFERROR(VLOOKUP(R37,Tabelas!B:D,3,0),0),\"\")","v":0},{"$f":"IF(A37<>\"\",IFERROR(VLOOKUP(S37,Tabelas!B:D,3,0),0),\"\")","v":0},{"$f":"IF(A37<>\"\",IFERROR(VLOOKUP(T37,Tabelas!B:D,3,0),0),\"\")","v":0},{"$f":"IF(A37<>\"\",IFERROR(VLOOKUP(U37,Tabelas!B:D,3,0),0),\"\")","v":0},{"$f":"IF(A37<>\"\",IFERROR(VLOOKUP(V37,Tabelas!B:D,3,0),0),\"\")","v":0},{"$f":"IF(A37<>\"\",IFERROR(VLOOKUP(W37,Tabelas!B:D,3,0),0),\"\")","v":0},{"$f":"IF(A37<>\"\",IFERROR(VLOOKUP(X37,Tabelas!B:D,3,0),0),\"\")","v":0},{"$f":"IF(A37<>\"\",IFERROR(VLOOKUP(Y37,Tabelas!B:D,3,0),0),\"\")","v":0},{"$f":"IF(A37<>\"\",IFERROR(VLOOKUP(Z37,Tabelas!B:D,3,0),0),\"\")","v":0},{"$f":"IF(A37<>\"\",IFERROR(VLOOKUP(AA37,Tabelas!B:D,3,0),0),\"\")","v":0},{"$f":"IF(A37<>\"\",IFERROR(VLOOKUP(AB37,Tabelas!B:D,3,0),0),\"\")","v":0},{"$f":"IF(A37<>\"\",IFERROR(VLOOKUP(AC37,Tabelas!B:D,3,0),0),\"\")","v":0},{"$f":"IF(A37<>\"\",IFERROR(VLOOKUP(AD37,Tabelas!B:D,3,0),0),\"\")","v":0},{"$f":"IF(A37<>\"\",IFERROR(VLOOKUP(AE37,Tabelas!B:D,3,0),0),\"\")","v":0},{"$f":"IF(A37<>\"\",IFERROR(VLOOKUP(AF37,Tabelas!B:D,3,0),0),\"\")","v":0},{"$f":"IF(A37<>\"\",IFERROR(VLOOKUP(AG37,Tabelas!B:D,3,0),0),\"\")","v":0},{"$f":"IF(A37<>\"\",IFERROR(VLOOKUP(AH37,Tabelas!B:D,3,0),0),\"\")","v":0},{"$f":"IF(A37<>\"\",IFERROR(VLOOKUP(AI37,Tabelas!B:D,3,0),0),\"\")","v":0},{"$f":"IF(A37<>\"\",IFERROR(VLOOKUP(AJ37,Tabelas!B:D,3,0),0),\"\")","v":0},{"$f":"IF(A37<>\"\",IFERROR(VLOOKUP(AK37,Tabelas!B:D,3,0),0),\"\")","v":0},{"$f":"IF(A37<>\"\",IFERROR(VLOOKUP(AL37,Tabelas!B:D,3,0),0),\"\")","v":0},{"$f":"IF(A37<>\"\",IFERROR(VLOOKUP(AM37,Tabelas!B:D,3,0),0),\"\")","v":0},{"$f":"IF(A37<>\"\",IFERROR(VLOOKUP(AN37,Tabelas!B:D,3,0),0),\"\")","v":0},{"$f":"IF(A37<>\"\",IFERROR(VLOOKUP(AO37,Tabelas!B:D,3,0),0),\"\")","v":0},{"$f":"IF(A37<>\"\",IFERROR(VLOOKUP(AP37,Tabelas!B:D,3,0),0),\"\")","v":0},{"$f":"IF(A37<>\"\",IFERROR(VLOOKUP(AQ37,Tabelas!B:D,3,0),0),\"\")","v":0},{"$f":"IF(A37<>\"\",IFERROR(VLOOKUP(AR37,Tabelas!B:D,3,0),0),\"\")","v":0},0,0,0,0,0,0,0,0,0]
["Fulano de Tal 30",1234567,123,"ENF","Ebserh",36,null,null,null,null,null,null,null,null,null,null,null,null,null,null,null,null,null,null,null,null,null,null,null,null,null,null,null,null,null,null,null,null,null,null,null,null,null,null,{"$f":"IF(A38<>\"\",IFERROR(VLOOKUP(N38,Tabelas!B:D,3,0),0),\"\")","v":0},{"$f":"IF(A38<>\"\",IFERROR(VLOOKUP(O38,Tabelas!B:D,3,0),0),\"\")","v":0},{"$f":"IF(A38<>\"\",IFERROR(VLOOKUP(P38,Tabelas!B:D,3,0),0),\"\")","v":0},{"$f":"IF(A38<>\"\",IFERROR(VLOOKUP(Q38,Tabelas!B:D,3,0),0),\"\")","v":0},{"$f":"IF(A38<>\"\",IFERROR(VLOOKUP(R38,Tabelas!B:D,3,0),0),\"\")","v":0},{"$f":"IF(A38<>\"\",IFERROR(VLOOKUP(S38,Tabelas!B:D,3,0),0),\"\")","v":0},{"$f":"IF(A38<>\"\",IFERROR(VLOOKUP(T38,Tabelas!B:D,3,0),0),\"\")","v":0},{"$f":"IF(A38<>\"\",IFERROR(VLOOKUP(U38,Tabelas!B:D,3,0),0),\"\")","v":0},{"$f":"IF(A38<>\"\",IFERROR(VLOOKUP(V38,Tabelas!B:D,3,0),0),\"\")","v":0},{"$f":"IF(A38<>\"\",IFERROR(VLOOKUP(W38,Tabelas!B:D,3,0),0),\"\")","v":0},{"$f":"IF(A38<>\"\",IFERROR(VLOOKUP(X38,Tabelas!B:D,3,0),0),\"\")","v":0},{"$f":"IF(A38<>\"\",IFERROR(VLOOKUP(Y38,Tabelas!B:D,3,0),0),\"\")","v":0},{"$f":"IF(A38<>\"\",IFERROR(VLOOKUP(Z38,Tabelas!B:D,3,0),0),\"\")","v":0},{"$f":"IF(A38<>\"\",IFERROR(VLOOKUP(AA38,Tabelas!B:D,3,0),0),\"\")","v":0},{"$f":"IF(A38<>\"\",IFERROR(VLOOKUP(AB38,Tabelas!B:D,3,0),0),\"\")","v":0},{"$f":"IF(A38<>\"\",IFERROR(VLOOKUP(AC38,Tabelas!B:D,3,0),0),\"\")","v":0},{"$f":"IF(A38<>\"\",IFERROR(VLOOKUP(AD38,Tabelas!B:D,3,0),0),\"\")","v":0},{"$f":"IF(A38<>\"\",IFERROR(VLOOKUP(AE38,Tabelas!B:D,3,0),0),\"\")","v":0},{"$f":"IF(A38<>\"\",IFERROR(VLOOKUP(AF38,Tabelas!B:D,3,0),0),\"\")","v":0},{"$f":"IF(A38<>\"\",IFERROR(VLOOKUP(AG38,Tabelas!B:D,3,0),0),\"\")","v":0},{"$f":"IF(A38<>\"\",IFERROR(VLOOKUP(AH38,Tabelas!B:D,3,0),0),\"\")","v":0},{"$f":"IF(A38<>\"\",IFERROR(VLOOKUP(AI38,Tabelas!B:D,3,0),0),\"\")","v":0},{"$f":"IF(A38<>\"\",IFERROR(VLOOKUP(AJ38,Tabelas!B:D,3,0),0),\"\")","v":0},{"$f":"IF(A38<>\"\",IFERROR(VLOOKUP(AK38,Tabelas!B:D,3,0),0),\"\")","v":0},{"$f":"IF(A38<>\"\",IFERROR(VLOOKUP(AL38,Tabelas!B:D,3,0),0),\"\")","v":0},{"$f":"IF(A38<>\"\",IFERROR(VLOOKUP(AM38,Tabelas!B:D,3,0),0),\"\")","v":0},{"$f":"IF(A38<>\"\",IFERROR(VLOOKUP(AN38,Tabelas!B:D,3,0),0),\"\")","v":0},{"$f":"IF(A38<>\"\",IFERROR(VLOOKUP(AO38,Tabelas!B:D,3,0),0),\"\")","v":0},{"$f":"IF(A38<>\"\",IFERROR(VLOOKUP(AP38,Tabelas!B:D,3,0),0),\"\")","v":0},{"$f":"IF(A38<>\"\",IFERROR(VLOOKUP(AQ38,Tabelas!B:D,3,0),0),\"\")","v":0},{"$f":"IF(A38<>\"\",IFERROR(VLOOKUP(AR38,Tabelas!B:D,3,0),0),\"\")","v":0},0,0,0,0,0,0,0,0,0]
["TOTAL PROFISSIONAIS MATUTINO",null,null,null,null,null,null,null,null,null,null,null,null,{"$f":"COUNTIF(N9:N18,\"M\")+COUNTIF(N19:N28,\"M\")+COUNTIF(N29:N38,\"M\")+COUNTIF(N9:N18,\"M?\") +COUNTIF(N19:N28,\"M?\")+COUNTIF(N29:N38,\"M?\")+ COUNTIF(N9:N18, \"MT?\") + COUNTIF(N19:N28, \"MT?\")+ COUNTIF(N29:N38, \"MT?\")+ COUNTIF(N9:N18, \"D?\")  + COUNTIF(N19:N28, \"D?\")+COUNTIF(N29:N38, \"D?\")+ COUNTIF(N9:N18, \"DN?\")+ COUNTIF(N19:N28, \"DN?\")+ COUNTIF(N29:N38, \"DN?\")+ COUNTIF(N9:N18, \"MT??\") + COUNTIF(N19:N28, \"MT??\")+ COUNTIF(N29:N38, \"MT??\")+ COUNTIF(N9:N18, \"D\")  + COUNTIF(N19:N28, \"D\")+COUNTIF(N29:N38, \"D\")","v":2},1,2,1,2,2,2,2,2,1,0,3,1,3,2,2,1,2,1,3,2,2,1,2,2,2,1,2,0,2,1]
["TOTAL DE PROFISSIONAIS VESPERTINO",null,null,null,null,null,null,null,null,null,null,null,null,{"$f":"COUNTIF(N9:N18,\"T\")+COUNTIF(N19:N28,\"T\")+COUNTIF(N29:N38,\"T\")+COUNTIF(N9:N18,\"T?\") +COUNTIF(N19:N28,\"T?\")+COUNTIF(N29:N38,\"T?\")+ COUNTIF(N9:N18, \"MT?\") + COUNTIF(N19:N28, \"MT?\")+ COUNTIF(N29:N38, \"MT?\")+ COUNTIF(N9:N18, \"D?\")  + COUNTIF(N19:N28, \"D?\")+COUNTIF(N29:N38, \"D?\")+ COUNTIF(N9:N18, \"DN?\")+ COUNTIF(N19:N28, \"DN?\")+ COUNTIF(N29:N38, \"DN?\")+ COUNTIF(N9:N18, \"MT??\") + COUNTIF(N19:N28, \"MT??\")+ COUNTIF(N29:N38, \"MT??\")+ COUNTIF(N9:N18, \"D\")  + COUNTIF(N19:N28, \"D\")+COUNTIF(N29:N38, \"D\")","v":1},0,2,1,1,1,1,1,1,1,0,2,0,2,1,1,1,2,0,2,1,1,1,2,2,2,1,2,0,2,1,{"$f":"IF(A40<>\"\",IFERROR(VLOOKUP(N40,Tabelas!B:D,3,0),0),\"\")","v":0},{"$f":"IF(A40<>\"\",IFERROR(VLOOKUP(O40,Tabelas!B:D,3,0),0),\"\")","v":0},{"$f":"IF(A40<>\"\",IFERROR(VLOOKUP(P40,Tabelas!B:D,3,0),0),\"\")","v":0},{"$f":"IF(A40<>\"\",IFERROR(VLOOKUP(Q40,Tabelas!B:D,3,0),0),\"\")","v":0},{"$f":"IF(A40<>\"\",IFERROR(VLOOKUP(R40,Tabelas!B:D,3,0),0),\"\")","v":0},{"$f":"IF(A40<>\"\",IFERROR(VLOOKUP(S40,Tabelas!B:D,3,0),0),\"\")","v":0},{"$f":"IF(A40<>\"\",IFERROR(VLOOKUP(T40,Tabelas!B:D,3,0),0),\"\")","v":0},{"$f":"IF(A40<>\"\",IFERROR(VLOOKUP(U40,Tabelas!B:D,3,0),0),\"\")","v":0},{"$f":"IF(A40<>\"\",IFERROR(VLOOKUP(V40,Tabelas!B:D,3,0),0),\"\")","v":0},{"$f":"IF(A40<>\"\",IFERROR(VLOOKUP(W40,Tabelas!B:D,3,0),0),\"\")","v":0},{"$f":"IF(A40<>\"\",IFERROR(VLOOKUP(X40,Tabelas!B:D,3,0),0),\"\")","v":0},{"$f":"IF(A40<>\"\",IFERROR(VLOOKUP(Y40,Tabelas!B:D,3,0),0),\"\")","v":0},{"$f":"IF(A40<>\"\",IFERROR(VLOOKUP(Z40,Tabelas!B:D,3,0),0),\"\")","v":0},{"$f":"IF(A40<>\"\",IFERROR(VLOOKUP(AA40,Tabelas!B:D,3,0),0),\"\")","v":0},{"$f":"IF(A40<>\"\",IFERROR(VLOOKUP(AB40,Tabelas!B:D,3,0),0),\"\")","v":0},{"$f":"IF(A40<>\"\",IFERROR(VLOOKUP(AC40,Tabelas!B:D,3,0),0),\"\")","v":0},{"$f":"IF(A40<>\"\",IFERROR(VLOOKUP(AD40,Tabelas!B:D,3,0),0),\"\")","v":0},{"$f":"IF(A40<>\"\",IFERROR(VLOOKUP(AE40,Tabelas!B:D,3,0),0),\"\")","v":0},{"$f":"IF(A40<>\"\",IFERROR(VLOOKUP(AF40,Tabelas!B:D,3,0),0),\"\")","v":0},{"$f":"IF(A40<>\"\",IFERROR(VLOOKUP(AG40,Tabelas!B:D,3,0),0),\"\")","v":0},{"$f":"IF(A40<>\"\",IFERROR(VLOOKUP(AH40,Tabelas!B:D,3,0),0),\"\")","v":0},{"$f":"IF(A40<>\"\",IFERROR(VLOOKUP(AI40,Tabelas!B:D,3,0),0),\"\")","v":0},{"$f":"IF(A40<>\"\",IFERROR(VLOOKUP(AJ40,Tabelas!B:D,3,0),0),\"\")","v":0},{"$f":"IF(A40<>\"\",IFERROR(VLOOKUP(AK40,Tabelas!B:D,3,0),0),\"\")","v":0},{"$f":"IF(A40<>\"\",IFERROR(VLOOKUP(AL40,Tabelas!B:D,3,0),0),\"\")","v":0},{"$f":"IF(A40<>\"\",IFERROR(VLOOKUP(AM40,Tabelas!B:D,3,0),0),\"\")","v":0},{"$f":"IF(A40<>\"\",IFERROR(VLOOKUP(AN40,Tabelas!B:D,3,0),0),\"\")","v":0},{"$f":"IF(A40<>\"\",IFERROR(VLOOKUP(AO40,Tabelas!B:D,3,0),0),\"\")","v":0},{"$f":"IF(A40<>\"\",IFERROR(VLOOKUP(AP40,Tabelas!B:D,3,0),0),\"\")","v":0},{"$f":"IF(A40<>\"\",IFERROR(VLOOKUP(AQ40,Tabelas!B:D,3,0),0),\"\")","v":0},{"$f":"IF(A40<>\"\",IFERROR(VLOOKUP(AR40,Tabelas!B:D,3,0),0),\"\")","v":0}]
["TOTAL DE PROFISSIONAIS NOTURNO",null,null,null,null,null,null,null,null,null,null,null,null,{"$f":"COUNTIF(N9:N18,\"N\")+COUNTIF(N19:N28,\"N\")+COUNTIF(N29:N38,\"N\")+COUNTIF(N9:N18,\"N?\") +COUNTIF(N19:N28,\"N?\")+COUNTIF(N29:N38,\"N?\")+ COUNTIF(N9:N18, \"DN?\")+ COUNTIF(N19:N28, \"DN?\")+ COUNTIF(N29:N38, \"DN?\")","v":0},0,0,0,0,0,0,0,0,0,0,0,0,0,0,0,0,0,0,0,0,0,0,0,0,0,0,0,0,0,0,{"$f":"IF(A41<>\"\",IFERROR(VLOOKUP(N41,Tabelas!B:D,3,0),0),\"\")","v":0},{"$f":"IF(A41<>\"\",IFERROR(VLOOKUP(O41,Tabelas!B:D,3,0),0),\"\")","v":0},{"$f":"IF(A41<>\"\",IFERROR(VLOOKUP(P41,Tabelas!B:D,3,0),0),\"\")","v":0},{"$f":"IF(A41<>\"\",IFERROR(VLOOKUP(Q41,Tabelas!B:D,3,0),0),\"\")","v":0},{"$f":"IF(A41<>\"\",IFERROR(VLOOKUP(R41,Tabelas!B:D,3,0),0),\"\")","v":0},{"$f":"IF(A41<>\"\",IFERROR(VLOOKUP(S41,Tabelas!B:D,3,0),0),\"\")","v":0},{"$f":"IF(A41<>\"\",IFERROR(VLOOKUP(T41,Tabelas!B:D,3,0),0),\"\")","v":0},{"$f":"IF(A41<>\"\",IFERROR(VLOOKUP(U41,Tabelas!B:D,3,0),0),\"\")","v":0},{"$f":"IF(A41<>\"\",IFERROR(VLOOKUP(V41,Tabelas!B:D,3,0),0),\"\")","v":0},{"$f":"IF(A41<>\"\",IFERROR(VLOOKUP(W41,Tabelas!B:D,3,0),0),\"\")","v":0},{"$f":"IF(A41<>\"\",IFERROR(VLOOKUP(X41,Tabelas!B:D,3,0),0),\"\")","v":0},{"$f":"IF(A41<>\"\",IFERROR(VLOOKUP(Y41,Tabelas!B:D,3,0),0),\"\")","v":0},{"$f":"IF(A41<>\"\",IFERROR(VLOOKUP(Z41,Tabelas!B:D,3,0),0),\"\")","v":0},{"$f":"IF(A41<>\"\",IFERROR(VLOOKUP(AA41,Tabelas!B:D,3,0),0),\"\")","v":0},{"$f":"IF(A41<>\"\",IFERROR(VLOOKUP(AB41,Tabelas!B:D,3,0),0),\"\")","v":0},{"$f":"IF(A41<>\"\",IFERROR(VLOOKUP(AC41,Tabelas!B:D,3,0),0),\"\")","v":0},{"$f":"IF(A41<>\"\",IFERROR(VLOOKUP(AD41,Tabelas!B:D,3,0),0),\"\")","v":0},{"$f":"IF(A41<>\"\",IFERROR(VLOOKUP(AE41,Tabelas!B:D,3,0),0),\"\")","v":0},{"$f":"IF(A41<>\"\",IFERROR(VLOOKUP(AF41,Tabelas!B:D,3,0),0),\"\")","v":0},{"$f":"IF(A41<>\"\",IFERROR(VLOOKUP(AG41,Tabelas!B:D,3,0),0),\"\")","v":0},{"$f":"IF(A41<>\"\",IFERROR(VLOOKUP(AH41,Tabelas!B:D,3,0),0),\"\")","v":0},{"$f":"IF(A41<>\"\",IFERROR(VLOOKUP(AI41,Tabelas!B:D,3,0),0),\"\")","v":0},{"$f":"IF(A41<>\"\",IFERROR(VLOOKUP(AJ41,Tabelas!B:D,3,0),0),\"\")","v":0},{"$f":"IF(A41<>\"\",IFERROR(VLOOKUP(AK41,Tabelas!B:D,3,0),0),\"\")","v":0},{"$f":"IF(A41<>\"\",IFERROR(VLOOKUP(AL41,Tabelas!B:D,3,0),0),\"\")","v":0},{"$f":"IF(A41<>\"\",IFERROR(VLOOKUP(AM41,Tabelas!B:D,3,0),0),\"\")","v":0},{"$f":"IF(A41<>\"\",IFERROR(VLOOKUP(AN41,Tabelas!B:D,3,0),0),\"\")","v":0},{"$f":"IF(A41<>\"\",IFERROR(VLOOKUP(AO41,Tabelas!B:D,3,0),0),\"\")","v":0},{"$f":"IF(A41<>\"\",IFERROR(VLOOKUP(AP41,Tabelas!B:D,3,0),0),\"\")","v":0},{"$f":"IF(A41<>\"\",IFERROR(VLOOKUP(AQ41,Tabelas!B:D,3,0),0),\"\")","v":0},{"$f":"IF(A41<>\"\",IFERROR(VLOOKUP(AR41,Tabelas!B:D,3,0),0),\"\")","v":0}]
[null,null,null,null,null,null,null,null,null,null,null,null,null,null,null,null,null,null,null,null,null,null,null,null,null,null,null,null,null,null,null,null,null,null,null,null,null,null,null,null,null,null,null,null,{"$f":"IF(A42<>\"\",IFERROR(VLOOKUP(N42,Tabelas!B:D,3,0),0),\"\")","v":""},{"$f":"IF(A42<>\"\",IFERROR(VLOOKUP(O42,Tabelas!B:D,3,0),0),\"\")","v":""},{"$f":"IF(A42<>\"\",IFERROR(VLOOKUP(P42,Tabelas!B:D,3,0),0),\"\")","v":""},{"$f":"IF(A42<>\"\",IFERROR(VLOOKUP(Q42,Tabelas!B:D,3,0),0),\"\")","v":""},{"$f":"IF(A42<>\"\",IFERROR(VLOOKUP(R42,Tabelas!B:D,3,0),0),\"\")","v":""},{"$f":"IF(A42<>\"\",IFERROR(VLOOKUP(S42,Tabelas!B:D,3,0),0),\"\")","v":""},{"$f":"IF(A42<>\"\",IFERROR(VLOOKUP(T42,Tabelas!B:D,3,0),0),\"\")","v":""},{"$f":"IF(A42<>\"\",IFERROR(VLOOKUP(U42,Tabelas!B:D,3,0),0),\"\")","v":""},{"$f":"IF(A42<>\"\",IFERROR(VLOOKUP(V42,Tabelas!B:D,3,0),0),\"\")","v":""},{"$f":"IF(A42<>\"\",IFERROR(VLOOKUP(W42,Tabelas!B:D,3,0),0),\"\")","v":""},{"$f":"IF(A42<>\"\",IFERROR(VLOOKUP(X42,Tabelas!B:D,3,0),0),\"\")","v":""},{"$f":"IF(A42<>\"\",IFERROR(VLOOKUP(Y42,Tabelas!B:D,3,0),0),\"\")","v":""},{"$f":"IF(A42<>\"\",IFERROR(VLOOKUP(Z42,Tabelas!B:D,3,0),0),\"\")","v":""},{"$f":"IF(A42<>\"\",IFERROR(VLOOKUP(AA42,Tabelas!B:D,3,0),0),\"\")","v":""},{"$f":"IF(A42<>\"\",IFERROR(VLOOKUP(AB42,Tabelas!B:D,3,0),0),\"\")","v":""},{"$f":"IF(A42<>\"\",IFERROR(VLOOKUP(AC42,Tabelas!B:D,3,0),0),\"\")","v":""},{"$f":"IF(A42<>\"\",IFERROR(VLOOKUP(AD42,Tabelas!B:D,3,0),0),\"\")","v":""},{"$f":"IF(A42<>\"\",IFERROR(VLOOKUP(AE42,Tabelas!B:D,3,0),0),\"\")","v":""},{"$f":"IF(A42<>\"\",IFERROR(VLOOKUP(AF42,Tabelas!B:D,3,0),0),\"\")","v":""},{"$f":"IF(A42<>\"\",IFERROR(VLOOKUP(AG42,Tabelas!B:D,3,0),0),\"\")","v":""},{"$f":"IF(A42<>\"\",IFERROR(VLOOKUP(AH42,Tabelas!B:D,3,0),0),\"\")","v":""},{"$f":"IF(A42<>\"\",IFERROR(VLOOKUP(AI42,Tabelas!B:D,3,0),0),\"\")","v":""},{"$f":"IF(A42<>\"\",IFERROR(VLOOKUP(AJ42,Tabelas!B:D,3,0),0),\"\")","v":""},{"$f":"IF(A42<>\"\",IFERROR(VLOOKUP(AK42,Tabelas!B:D,3,0),0),\"\")","v":""},{"$f":"IF(A42<>\"\",IFERROR(VLOOKUP(AL42,Tabelas!B:D,3,0),0),\"\")","v":""},{"$f":"IF(A42<>\"\",IFERROR(VLOOKUP(AM42,Tabelas!B:D,3,0),0),\"\")","v":""},{"$f":"IF(A42<>\"\",IFERROR(VLOOKUP(AN42,Tabelas!B:D,3,0),0),\"\")","v":""},{"$f":"IF(A42<>\"\",IFERROR(VLOOKUP(AO42,Tabelas!B:D,3,0),0),\"\")","v":""},{"$f":"IF(A42<>\"\",IFERROR(VLOOKUP(AP42,Tabelas!B:D,3,0),0),\"\")","v":""},{"$f":"IF(A42<>\"\",IFERROR(VLOOKUP(AQ42,Tabelas!B:D,3,0),0),\"\")","v":""},{"$f":"IF(A42<>\"\",IFERROR(VLOOKUP(AR42,Tabelas!B:D,3,0),0),\"\")","v":""},"",{"$f":"IF(A42<>\"\",COUNTIF(N42:AR42,\"LM\")+COUNTIF(N42:AR42,\"L\"),\"\")","v":""},"","","","",null,{"$f":"IF(A42<>\"\",COUNTIF(N42:AR42,\"CE\")+COUNTIF(N42:AR42,\"L\")+COUNTIF(N42:AR42,\"LM\")+COUNTIF(N42:AR42,\"LC\")+COUNTIF(N42:AR42,\"AB\"),\"\")","v":""},{"$f":"IF(A42<>\"\",COUNTIF(N42:AR42,\"APH\"),\"\")","v":""}]
["Legenda:",null,null,null,null,null,null,null,null,null,null,null,null,null,null,null,null,null,null,null,null,null,null,null,null,null,null,null,null,null,null,null,null,null,null,null,null,null,null,null,null,null,null,null,null,null,null,null,null,null,null,null,null,null,null,null,null,null,null,null,null,null,null,null,null,null,null,null,null,null,null,null,null,null,null,"OBSERVAÇÕES:"]
["Licença Maternidade","LM","Férias",null,"FE","Ponto Facultativo",null,null,null,null,null,null,null,null,null,"PF","Manhã **",null,null,null,null,null,null,"M","Diunro (8 hrs) **",null,null,null,null,null,null,"MT",null,null,null,null,null,null,null,null,null,null,null,null,null,null,null,null,null,null,null,null,null,null,null,null,null,null,null,null,null,null,null,null,null,null,null,null,null,null,null,null,null,null,null,"* Para os Afastamentos previstos em lei, utilizar as legendas numeradas conforme"]
["Licença Paternidade","LP","Feriado",null,"FD","Abono",null,null,null,null,null,null,null,null,null,"AB","Tarde **",null,null,null,null,null,null,"T","Dia/ noite (24 hrs) **",null,null,null,null,null,null,"DN",null,null,null,null,null,null,null,null,null,null,null,null,null,null,null,null,null,null,null,null,null,null,null,null,null,null,null,null,null,null,null,null,null,null,null,null,null,null,null,null,null,null,null,"numeradas conforme descrição no item 3.2.2 da NO DGP nº 04/2017."]
["Licença Médica/Odontológica","L","Folga",null,"FO","Compensação Horas Excedentes",null,null,null,null,null,null,null,null,null,"CE","Plantão Dia (12 hrs) **",null,null,null,null,null,null,"D",null,null,null,null,null,null,null,null,null,null,null,null,null,null,null,null,null,null,null,null,null,null,null,null,null,null,null,null,null,null,null,null,null,null,null,null,null,null,null,null,null,null,null,null,null,null,null,null,null,null,null,"** Para as variações de horários (M1, M2, T1, T2...), utilizar as legendas  "]
["Licença Capacitação","LC","Recesso",null,"RC","Afastamento*",null,null,null,null,null,null,null,null,null,"AF","Plantão Noite (12 hrs)**",null,null,null,null,null,null,"N",null,null,null,null,null,null,null,null,null,null,null,null,null,null,null,null,null,null,null,null,null,null,null,null,null,null,null,null,null,null,null,null,null,null,null,null,null,null,null,null,null,null,null,null,null,null,null,null,null,null,null,"numeradas conforme descrição do item 3.2.2 na Norma Operacional DGP"]
[null,null,null,null,null,null,null,null,null,null,null,null,null,null,null,null,null,null,null,null,null,null,null,null,null,null,null,null,null,null,null,null,null,null,null,null,null,null,null,null,null,null,null,null,null,null,null,null,null,null,null,null,null,null,null,null,null,null,null,null,null,null,null,null,null,null,null,null,null,null,null,null,null,null,null,"Operacional DGP nº 04/2017."]

{"sheet":"Abril","index":3,"n_rows":48,"n_cols":84,"rows_kept":48,"cut":false,"hidden":false,"merged":[[38,0,38,6],[39,0,39,6],[40,0,40,6],[5,0,7,0],[5,1,7,1],[5,2,7,2],[5,3,7,3],[5,4,7,4],[5,5,7,5],[5,6,5,12],[42,75,42,83],[5,78,6,78],[5,79,6,79],[5,80,6,80],[5,81,6,81],[5,82,6,82],[5,83,6,83],[5,77,6,77],[5,13,5,43],[5,44,5,74],[5,75,6,75],[5,76,6,76],[6,6,7,6],[6,7,7,7],[6,8,7,8],[6,9,6,10],[6,11,7,11],[6,12,7,12],[1,0,1,43],[2,0,2,43],[3,0,3,43],[4,1,4,21],[4,24,4,35],[4,38,4,43]]}
[]
[]
["Hospital Universitário Professor Polydoro Ernani de São Thiago"]
["ESCALA MENSAL DE TRABALHO"]
["DIVISÃO /SETOR/UNIDADE:",null,null,null,null,null,null,null,null,null,null,null,null,null,null,null,null,null,null,null,null,null,"MÊS:",null,"Abril",null,null,null,null,null,null,null,null,null,null,null,"ANO:",null,2018]
["NOME COMPLETO","SIAPE","REGISTRO CONSELHO CLASSE","CARGO","VÍNCULO","C.H SEM.","INTERVALO",null,null,null,null,null,null,"DIAS DO MÊS",null,null,null,null,null,null,null,null,null,null,null,null,null,null,null,null,null,null,null,null,null,null,null,null,null,null,null,null,null,null,"CÁLCULO DAS HORAS",null,null,null,null,null,null,null,null,null,null,null,null,null,null,null,null,null,null,null,null,null,null,null,null,null,null,null,null,null,null,"CH MENSAL","LM/LP/L","Abono","Férias","LC","CE","AF  Legais"," TOTAL AFASTAMENTOS","APH"]
[null,null,null,null,null,null,"M","MT","D","DN",null,"T","N",1,2,3,4,5,6,7,8,9,10,11,12,13,14,15,16,17,18,19,20,21,22,23,24,25,{"$f":"IF(DAY(DATE(AM5,VLOOKUP(Y5,Tabelas!M:N,2,0)+1,1)-1)>=26,26,\"\")","v":26},{"$f":"IF(DAY(DATE(AM5,VLOOKUP(Y5,Tabelas!M:N,2,0)+1,1)-1)>=27,27,\"\")","v":27},{"$f":"IF(DAY(DATE(AM5,VLOOKUP(Y5,Tabelas!M:N,2,0)+1,1)-1)>=28,28,\"\")","v":28},{"$f":"IF(DAY(DATE(AM5,VLOOKUP(Y5,Tabelas!M:N,2,0)+1,1)-1)>=29,29,\"\")","v":29},{"$f":"IF(DAY(DATE(AM5,VLOOKUP(Y5,Tabelas!M:N,2,0)+1,1)-1)>=30,30,\"\")","v":30},{"$f":"IF(DAY(DATE(AM5,VLOOKUP(Y5,Tabelas!M:N,2,0)+1,1)-1)>=31,31,\"\")","v":""}]
[null,null,null,null,null,null,null,null,null,1,2,null,null,{"$f":"IF(N7<>\"\",IFERROR(VLOOKUP(WEEKDAY(CONCATENATE(N7,$Y$5,$AM$5)),Tabelas!$I:$J,2,0),\"\"),\"\")","v":"DOM"},{"$f":"IF(O7<>\"\",IFERROR(VLOOKUP(WEEKDAY(CONCATENATE(O7,$Y$5,$AM$5)),Tabelas!$I:$J,2,0),\"\"),\"\")","v":"SEG"},{"$f":"IF(P7<>\"\",IFERROR(VLOOKUP(WEEKDAY(CONCATENATE(P7,$Y$5,$AM$5)),Tabelas!$I:$J,2,0),\"\"),\"\")","v":"TER"},{"$f":"IF(Q7<>\"\",IFERROR(VLOOKUP(WEEKDAY(CONCATENATE(Q7,$Y$5,$AM$5)),Tabelas!$I:$J,2,0),\"\"),\"\")","v":"QUA"},{"$f":"IF(R7<>\"\",IFERROR(VLOOKUP(WEEKDAY(CONCATENATE(R7,$Y$5,$AM$5)),Tabelas!$I:$J,2,0),\"\"),\"\")","v":"QUI"},{"$f":"IF(S7<>\"\",IFERROR(VLOOKUP(WEEKDAY(CONCATENATE(S7,$Y$5,$AM$5)),Tabelas!$I:$J,2,0),\"\"),\"\")","v":"SEX"},{"$f":"IF(T7<>\"\",IFERROR(VLOOKUP(WEEKDAY(CONCATENATE(T7,$Y$5,$AM$5)),Tabelas!$I:$J,2,0),\"\"),\"\")","v":"SAB"},{"$f":"IF(U7<>\"\",IFERROR(VLOOKUP(WEEKDAY(CONCATENATE(U7,$Y$5,$AM$5)),Tabelas!$I:$J,2,0),\"\"),\"\")","v":"DOM"},{"$f":"IF(V7<>\"\",IFERROR(VLOOKUP(WEEKDAY(CONCATENATE(V7,$Y$5,$AM$5)),Tabelas!$I:$J,2,0),\"\"),\"\")","v":"SEG"},{"$f":"IF(W7<>\"\",IFERROR(VLOOKUP(WEEKDAY(CONCATENATE(W7,$Y$5,$AM$5)),Tabelas!$I:$J,2,0),\"\"),\"\")","v":"TER"},{"$f":"IF(X7<>\"\",IFERROR(VLOOKUP(WEEKDAY(CONCATENATE(X7,$Y$5,$AM$5)),Tabelas!$I:$J,2,0),\"\"),\"\")","v":"QUA"},{"$f":"IF(Y7<>\"\",IFERROR(VLOOKUP(WEEKDAY(CONCATENATE(Y7,$Y$5,$AM$5)),Tabelas!$I:$J,2,0),\"\"),\"\")","v":"QUI"},{"$f":"IF(Z7<>\"\",IFERROR(VLOOKUP(WEEKDAY(CONCATENATE(Z7,$Y$5,$AM$5)),Tabelas!$I:$J,2,0),\"\"),\"\")","v":"SEX"},{"$f":"IF(AA7<>\"\",IFERROR(VLOOKUP(WEEKDAY(CONCATENATE(AA7,$Y$5,$AM$5)),Tabelas!$I:$J,2,0),\"\"),\"\")","v":"SAB"},{"$f":"IF(AB7<>\"\",IFERROR(VLOOKUP(WEEKDAY(CONCATENATE(AB7,$Y$5,$AM$5)),Tabelas!$I:$J,2,0),\"\"),\"\")","v":"DOM"},{"$f":"IF(AC7<>\"\",IFERROR(VLOOKUP(WEEKDAY(CONCATENATE(AC7,$Y$5,$AM$5)),Tabelas!$I:$J,2,0),\"\"),\"\")","v":"SEG"},{"$f":"IF(AD7<>\"\",IFERROR(VLOOKUP(WEEKDAY(CONCATENATE(AD7,$Y$5,$AM$5)),Tabelas!$I:$J,2,0),\"\"),\"\")","v":"TER"},{"$f":"IF(AE7<>\"\",IFERROR(VLOOKUP(WEEKDAY(CONCATENATE(AE7,$Y$5,$AM$5)),Tabelas!$I:$J,2,0),\"\"),\"\")","v":"QUA"},{"$f":"IF(AF7<>\"\",IFERROR(VLOOKUP(WEEKDAY(CONCATENATE(AF7,$Y$5,$AM$5)),Tabelas!$I:$J,2,0),\"\"),\"\")","v":"QUI"},{"$f":"IF(AG7<>\"\",IFERROR(VLOOKUP(WEEKDAY(CONCATENATE(AG7,$Y$5,$AM$5)),Tabelas!$I:$J,2,0),\"\"),\"\")","v":"SEX"},{"$f":"IF(AH7<>\"\",IFERROR(VLOOKUP(WEEKDAY(CONCATENATE(AH7,$Y$5,$AM$5)),Tabelas!$I:$J,2,0),\"\"),\"\")","v":"SAB"},{"$f":"IF(AI7<>\"\",IFERROR(VLOOKUP(WEEKDAY(CONCATENATE(AI7,$Y$5,$AM$5)),Tabelas!$I:$J,2,0),\"\"),\"\")","v":"DOM"},{"$f":"IF(AJ7<>\"\",IFERROR(VLOOKUP(WEEKDAY(CONCATENATE(AJ7,$Y$5,$AM$5)),Tabelas!$I:$J,2,0),\"\"),\"\")","v":"SEG"},{"$f":"IF(AK7<>\"\",IFERROR(VLOOKUP(WEEKDAY(CONCATENATE(AK7,$Y$5,$AM$5)),Tabelas!$I:$J,2,0),\"\"),\"\")","v":"TER"},{"$f":"IF(AL7<>\"\",IFERROR(VLOOKUP(WEEKDAY(CONCATENATE(AL7,$Y$5,$AM$5)),Tabelas!$I:$J,2,0),\"\"),\"\")","v":"QUA"},{"$f":"IF(AM7<>\"\",IFERROR(VLOOKUP(WEEKDAY(CONCATENATE(AM7,$Y$5,$AM$5)),Tabelas!$I:$J,2,0),\"\"),\"\")","v":"QUI"},{"$f":"IF(AN7<>\"\",IFERROR(VLOOKUP(WEEKDAY(CONCATENATE(AN7,$Y$5,$AM$5)),Tabelas!$I:$J,2,0),\"\"),\"\")","v":"SEX"},{"$f":"IF(AO7<>\"\",IFERROR(VLOOKUP(WEEKDAY(CONCATENATE(AO7,$Y$5,$AM$5)),Tabelas!$I:$J,2,0),\"\"),\"\")","v":"SAB"},{"$f":"IF(AP7<>\"\",IFERROR(VLOOKUP(WEEKDAY(CONCATENATE(AP7,$Y$5,$AM$5)),Tabelas!$I:$J,2,0),\"\"),\"\")","v":"DOM"},{"$f":"IF(AQ7<>\"\",IFERROR(VLOOKUP(WEEKDAY(CONCATENATE(AQ7,$Y$5,$AM$5)),Tabelas!$I:$J,2,0),\"\"),\"\")","v":"SEG"},{"$f":"IF(AR7<>\"\",IFERROR(VLOOKUP(WEEKDAY(CONCATENATE(AR7,$Y$5,$AM$5)),Tabelas!$I:$J,2,0),\"\"),\"\")","v":""},1,2,3,4,5,6,7,8,9,10,11,12,13,14,15,16,17,18,19,20,21,22,23,24,25,26,27,28,29,30,31,"Total","Dias","Dias","Dias","Dias","Dias","Dias","Dias","Dias"]
["Karine Maria Kalazan",null,null,"Tec. Enf","Fapeu",44,1,null,null,null,null,null,null,"D2","M6","M6","M6","M6","M6","FO","FO","M6","M6","M6","M6","M6","D2","FO","M6","M6","M6","M6","M6","D2","FO","M6","M6","M6","FO","M6","D2","D2","M6",null,{"$f":"IF(A9<>\"\",IFERROR(VLOOKUP(N9,Tabelas!B:D,3,0),0),\"\")","v":12},{"$f":"IF(A9<>\"\",IFERROR(VLOOKUP(O9,Tabelas!B:D,3,0),0),\"\")","v":6},{"$f":"IF(A9<>\"\",IFERROR(VLOOKUP(P9,Tabelas!B:D,3,0),0),\"\")","v":6},{"$f":"IF(A9<>\"\",IFERROR(VLOOKUP(Q9,Tabelas!B:D,3,0),0),\"\")","v":6},{"$f":"IF(A9<>\"\",IFERROR(VLOOKUP(R9,Tabelas!B:D,3,0),0),\"\")","v":6},{"$f":"IF(A9<>\"\",IFERROR(VLOOKUP(S9,Tabelas!B:D,3,0),0),\"\")","v":6},{"$f":"IF(A9<>\"\",IFERROR(VLOOKUP(T9,Tabelas!B:D,3,0),0),\"\")","v":0},{"$f":"IF(A9<>\"\",IFERROR(VLOOKUP(U9,Tabelas!B:D,3,0),0),\"\")","v":0},{"$f":"IF(A9<>\"\",IFERROR(VLOOKUP(V9,Tabelas!B:D,3,0),0),\"\")","v":6},{"$f":"IF(A9<>\"\",IFERROR(VLOOKUP(W9,Tabelas!B:D,3,0),0),\"\")","v":6},{"$f":"IF(A9<>\"\",IFERROR(VLOOKUP(X9,Tabelas!B:D,3,0),0),\"\")","v":6},{"$f":"IF(A9<>\"\",IFERROR(VLOOKUP(Y9,Tabelas!B:D,3,0),0),\"\")","v":6},{"$f":"IF(A9<>\"\",IFERROR(VLOOKUP(Z9,Tabelas!B:D,3,0),0),\"\")","v":6},{"$f":"IF(A9<>\"\",IFERROR(VLOOKUP(AA9,Tabelas!B:D,3,0),0),\"\")","v":12},{"$f":"IF(A9<>\"\",IFERROR(VLOOKUP(AB9,Tabelas!B:D,3,0),0),\"\")","v":0},{"$f":"IF(A9<>\"\",IFERROR(VLOOKUP(AC9,Tabelas!B:D,3,0),0),\"\")","v":6},{"$f":"IF(A9<>\"\",IFERROR(VLOOKUP(AD9,Tabelas!B:D,3,0),0),\"\")","v":6},{"$f":"IF(A9<>\"\",IFERROR(VLOOKUP(AE9,Tabelas!B:D,3,0),0),\"\")","v":6},{"$f":"IF(A9<>\"\",IFERROR(VLOOKUP(AF9,Tabelas!B:D,3,0),0),\"\")","v":6},{"$f":"IF(A9<>\"\",IFERROR(VLOOKUP(AG9,Tabelas!B:D,3,0),0),\"\")","v":6},{"$f":"IF(A9<>\"\",IFERROR(VLOOKUP(AH9,Tabelas!B:D,3,0),0),\"\")","v":12},{"$f":"IF(A9<>\"\",IFERROR(VLOOKUP(AI9,Tabelas!B:D,3,0),0),\"\")","v":0},{"$f":"IF(A9<>\"\",IFERROR(VLOOKUP(AJ9,Tabelas!B:D,3,0),0),\"\")","v":6},{"$f":"IF(A9<>\"\",IFERROR(VLOOKUP(AK9,Tabelas!B:D,3,0),0),\"\")","v":6},{"$f":"IF(A9<>\"\",IFERROR(VLOOKUP(AL9,Tabelas!B:D,3,0),0),\"\")","v":6},{"$f":"IF(A9<>\"\",IFERROR(VLOOKUP(AM9,Tabelas!B:D,3,0),0),\"\")","v":0},{"$f":"IF(A9<>\"\",IFERROR(VLOOKUP(AN9,Tabelas!B:D,3,0),0),\"\")","v":6},{"$f":"IF(A9<>\"\",IFERROR(VLOOKUP(AO9,Tabelas!B:D,3,0),0),\"\")","v":12},{"$f":"IF(A9<>\"\",IFERROR(VLOOKUP(AP9,Tabelas!B:D,3,0),0),\"\")","v":12},{"$f":"IF(A9<>\"\",IFERROR(VLOOKUP(AQ9,Tabelas!B:D,3,0),0),\"\")","v":6},{"$f":"IF(A9<>\"\",IFERROR(VLOOKUP(AR9,Tabelas!B:D,3,0),0),\"\")","v":0},{"$f":"IF(A9<>\"\",SUM(AS9:BW9),\"\")","v":180},{"$f":"IF(A9<>\"\",COUNTIF(N9:AR9,\"LM\")+COUNTIF(N9:AR9,\"L\"),\"\")+COUNTIF(N9:AR9,\"LP\")","v":0},{"$f":"IF(A9<>\"\",COUNTIF(N9:AR9,\"AB\"),\"\")","v":0},{"$f":"IF(A9<>\"\",COUNTIF(N9:AR9,\"FE\"),\"\")","v":0},{"$f":"IF(A9<>\"\",COUNTIF(N9:AR9,\"LC\"),\"\")","v":0},{"$f":"IF(A9<>\"\",COUNTIF(N9:AR9,\"CE\"),\"\")","v":0},{"$f":"IF(A9<>\"\",COUNTIF(N9:AR9,\"AF1\")+COUNTIF(N9:AR9,\"AF2\")+COUNTIF(N9:AR9,\"AF3\")+COUNTIF(N9:AR9,\"AF4\")+COUNTIF(N9:AR9,\"AF5\")+COUNTIF(N9:AR9,\"AF6\")+COUNTIF(N9:AR9,\"AF7\")+COUNTIF(N9:AR9,\"AF8\")+COUNTIF(N9:AR9,\"AF9\")+COUNTIF(N9:AR9,\"AF10\")+COUNTIF(N9:AR9,\"AF11\")+COUNTIF(N9:AR9,\"AF12\")+COUNTIF(N9:AR9,\"AF13\")+COUNTIF(N9:AR9,\"AF14\"),\"\")","v":0},{"$f":"IF(A9<>\"\",COUNTIF(N9:AR9,\"CE\")+COUNTIF(N9:AR9,\"L\")+COUNTIF(N9:AR9,\"LM\")+COUNTIF(N9:AR9,\"LP\")+COUNTIF(N9:AR9,\"LC\")+COUNTIF(N9:AR9,\"AB\")+COUNTIF(N9:AR9,\"AF1\")+COUNTIF(N9:AR9,\"AF2\")+COUNTIF(N9:AR9,\"AF3\")+COUNTIF(N9:AR9,\"AF4\")+COUNTIF(N9:AR9,\"AF5\")+COUNTIF(N9:AR9,\"AF6\")+COUNTIF(N9:AR9,\"AF7\")+COUNTIF(N9:AR9,\"AF8\")+COUNTIF(N9:AR9,\"AF9\")+COUNTIF(N9:AR9,\"AF10\")+COUNTIF(N9:AR9,\"AF11\")+COUNTIF(N9:AR9,\"AF12\")+COUNTIF(N9:AR9,\"AF13\")+COUNTIF(N9:AR9,\"AF14\")+COUNTIF(N9:AR9,\"RC\")+COUNTIF(N9:AR9,\"FO\")+COUNTIF(N9:AR9,\"FE\"),\"\")","v":5},{"$f":"IF(A9<>\"\",COUNTIF(N9:AR9,\"APH\"),\"\")","v":0}]
["José J. Duarte",null,null,"Tec. Enf","Fapeu",40,null,null,17,null,null,null,null,"D2","FO","D2","FO","D2","FO","D2","FO","D2","FO","D2","FO","D2","FO","D2","FO","D2","FO","D2","FO","D2","FO","D2","FO","D2","FO","D2","FO","D2","FO",null,{"$f":"IF(A10<>\"\",IFERROR(VLOOKUP(N10,Tabelas!B:D,3,0),0),\"\")","v":12},{"$f":"IF(A10<>\"\",IFERROR(VLOOKUP(O10,Tabelas!B:D,3,0),0),\"\")","v":0},{"$f":"IF(A10<>\"\",IFERROR(VLOOKUP(P10,Tabelas!B:D,3,0),0),\"\")","v":12},{"$f":"IF(A10<>\"\",IFERROR(VLOOKUP(Q10,Tabelas!B:D,3,0),0),\"\")","v":0},{"$f":"IF(A10<>\"\",IFERROR(VLOOKUP(R10,Tabelas!B:D,3,0),0),\"\")","v":12},{"$f":"IF(A10<>\"\",IFERROR(VLOOKUP(S10,Tabelas!B:D,3,0),0),\"\")","v":0},{"$f":"IF(A10<>\"\",IFERROR(VLOOKUP(T10,Tabelas!B:D,3,0),0),\"\")","v":12},{"$f":"IF(A10<>\"\",IFERROR(VLOOKUP(U10,Tabelas!B:D,3,0),0),\"\")","v":0},{"$f":"IF(A10<>\"\",IFERROR(VLOOKUP(V10,Tabelas!B:D,3,0),0),\"\")","v":12},{"$f":"IF(A10<>\"\",IFERROR(VLOOKUP(W10,Tabelas!B:D,3,0),0),\"\")","v":0},{"$f":"IF(A10<>\"\",IFERROR(VLOOKUP(X10,Tabelas!B:D,3,0),0),\"\")","v":12},{"$f":"IF(A10<>\"\",IFERROR(VLOOKUP(Y10,Tabelas!B:D,3,0),0),\"\")","v":0},{"$f":"IF(A10<>\"\",IFERROR(VLOOKUP(Z10,Tabelas!B:D,3,0),0),\"\")","v":12},{"$f":"IF(A10<>\"\",IFERROR(VLOOKUP(AA10,Tabelas!B:D,3,0),0),\"\")","v":0},{"$f":"IF(A10<>\"\",IFERROR(VLOOKUP(AB10,Tabelas!B:D,3,0),0),\"\")","v":12},{"$f":"IF(A10<>\"\",IFERROR(VLOOKUP(AC10,Tabelas!B:D,3,0),0),\"\")","v":0},{"$f":"IF(A10<>\"\",IFERROR(VLOOKUP(AD10,Tabelas!B:D,3,0),0),\"\")","v":12},{"$f":"IF(A10<>\"\",IFERROR(VLOOKUP(AE10,Tabelas!B:D,3,0),0),\"\")","v":0},{"$f":"IF(A10<>\"\",IFERROR(VLOOKUP(AF10,Tabelas!B:D,3,0),0),\"\")","v":12},{"$f":"IF(A10<>\"\",IFERROR(VLOOKUP(AG10,Tabelas!B:D,3,0),0),\"\")","v":0},{"$f":"IF(A10<>\"\",IFERROR(VLOOKUP(AH10,Tabelas!B:D,3,0),0),\"\")","v":12},{"$f":"IF(A10<>\"\",IFERROR(VLOOKUP(AI10,Tabelas!B:D,3,0),0),\"\")","v":0},{"$f":"IF(A10<>\"\",IFERROR(VLOOKUP(AJ10,Tabelas!B:D,3,0),0),\"\")","v":12},{"$f":"IF(A10<>\"\",IFERROR(VLOOKUP(AK10,Tabelas!B:D,3,0),0),\"\")","v":0},{"$f":"IF(A10<>\"\",IFERROR(VLOOKUP(AL10,Tabelas!B:D,3,0),0),\"\")","v":12},{"$f":"IF(A10<>\"\",IFERROR(VLOOKUP(AM10,Tabelas!B:D,3,0),0),\"\")","v":0},{"$f":"IF(A10<>\"\",IFERROR(VLOOKUP(AN10,Tabelas!B:D,3,0),0),\"\")","v":12},{"$f":"IF(A10<>\"\",IFERROR(VLOOKUP(AO10,Tabelas!B:D,3,0),0),\"\")","v":0},{"$f":"IF(A10<>\"\",IFERROR(VLOOKUP(AP10,Tabelas!B:D,3,0),0),\"\")","v":12},{"$f":"IF(A10<>\"\",IFERROR(VLOOKUP(AQ10,Tabelas!B:D,3,0),0),\"\")","v":0},{"$f":"IF(A10<>\"\",IFERROR(VLOOKUP(AR10,Tabelas!B:D,3,0),0),\"\")","v":0},{"$f":"IF(A10<>\"\",SUM(AS10:BW10),\"\")","v":180},{"$f":"IF(A10<>\"\",COUNTIF(N10:AR10,\"LM\")+COUNTIF(N10:AR10,\"L\"),\"\")+COUNTIF(N10:AR10,\"LP\")","v":0},0,0,0,0,{"$f":"IF(A10<>\"\",COUNTIF(N10:AR10,\"AF1\")+COUNTIF(N10:AR10,\"AF2\")+COUNTIF(N10:AR10,\"AF3\")+COUNTIF(N10:AR10,\"AF4\")+COUNTIF(N10:AR10,\"AF5\")+COUNTIF(N10:AR10,\"AF6\")+COUNTIF(N10:AR10,\"AF7\")+COUNTIF(N10:AR10,\"AF8\")+COUNTIF(N10:AR10,\"AF9\")+COUNTIF(N10:AR10,\"AF10\")+COUNTIF(N10:AR10,\"AF11\")+COUNTIF(N10:AR10,\"AF12\")+COUNTIF(N10:AR10,\"AF13\")+COUNTIF(N10:AR10,\"AF14\"),\"\")","v":0},{"$f":"IF(A10<>\"\",COUNTIF(N10:AR10,\"CE\")+COUNTIF(N10:AR10,\"L\")+COUNTIF(N10:AR10,\"LM\")+COUNTIF(N10:AR10,\"LP\")+COUNTIF(N10:AR10,\"LC\")+COUNTIF(N10:AR10,\"AB\")+COUNTIF(N10:AR10,\"AF1\")+COUNTIF(N10:AR10,\"AF2\")+COUNTIF(N10:AR10,\"AF3\")+COUNTIF(N10:AR10,\"AF4\")+COUNTIF(N10:AR10,\"AF5\")+COUNTIF(N10:AR10,\"AF6\")+COUNTIF(N10:AR10,\"AF7\")+COUNTIF(N10:AR10,\"AF8\")+COUNTIF(N10:AR10,\"AF9\")+COUNTIF(N10:AR10,\"AF10\")+COUNTIF(N10:AR10,\"AF11\")+COUNTIF(N10:AR10,\"AF12\")+COUNTIF(N10:AR10,\"AF13\")+COUNTIF(N10:AR10,\"AF14\")+COUNTIF(N10:AR10,\"RC\")+COUNTIF(N10:AR10,\"FO\")+COUNTIF(N10:AR10,\"FE\"),\"\")","v":15},{"$f":"IF(A10<>\"\",COUNTIF(N10:AR10,\"APH\"),\"\")","v":0}]
["Lisiane Mpreira dias",null,null,"Tec. Enf","Fapeu",40,null,null,17,null,null,null,null,"FO","FO","D2","FO","D2","FO","FO","D2","FO","M6","D2","FO","D2","D2","FO","FO","D2","FO","D2","D2","FO","FO","D2","M6","FO","D2","FO","FO","D2","D2",null,{"$f":"IF(A11<>\"\",IFERROR(VLOOKUP(N11,Tabelas!B:D,3,0),0),\"\")","v":0},{"$f":"IF(A11<>\"\",IFERROR(VLOOKUP(O11,Tabelas!B:D,3,0),0),\"\")","v":0},{"$f":"IF(A11<>\"\",IFERROR(VLOOKUP(P11,Tabelas!B:D,3,0),0),\"\")","v":12},{"$f":"IF(A11<>\"\",IFERROR(VLOOKUP(Q11,Tabelas!B:D,3,0),0),\"\")","v":0},{"$f":"IF(A11<>\"\",IFERROR(VLOOKUP(R11,Tabelas!B:D,3,0),0),\"\")","v":12},{"$f":"IF(A11<>\"\",IFERROR(VLOOKUP(S11,Tabelas!B:D,3,0),0),\"\")","v":0},{"$f":"IF(A11<>\"\",IFERROR(VLOOKUP(T11,Tabelas!B:D,3,0),0),\"\")","v":0},{"$f":"IF(A11<>\"\",IFERROR(VLOOKUP(U11,Tabelas!B:D,3,0),0),\"\")","v":12},{"$f":"IF(A11<>\"\",IFERROR(VLOOKUP(V11,Tabelas!B:D,3,0),0),\"\")","v":0},{"$f":"IF(A11<>\"\",IFERROR(VLOOKUP(W11,Tabelas!B:D,3,0),0),\"\")","v":6},{"$f":"IF(A11<>\"\",IFERROR(VLOOKUP(X11,Tabelas!B:D,3,0),0),\"\")","v":12},{"$f":"IF(A11<>\"\",IFERROR(VLOOKUP(Y11,Tabelas!B:D,3,0),0),\"\")","v":0},{"$f":"IF(A11<>\"\",IFERROR(VLOOKUP(Z11,Tabelas!B:D,3,0),0),\"\")","v":12},{"$f":"IF(A11<>\"\",IFERROR(VLOOKUP(AA11,Tabelas!B:D,3,0),0),\"\")","v":12},{"$f":"IF(A11<>\"\",IFERROR(VLOOKUP(AB11,Tabelas!B:D,3,0),0),\"\")","v":0},{"$f":"IF(A11<>\"\",IFERROR(VLOOKUP(AC11,Tabelas!B:D,3,0),0),\"\")","v":0},{"$f":"IF(A11<>\"\",IFERROR(VLOOKUP(AD11,Tabelas!B:D,3,0),0),\"\")","v":12},{"$f":"IF(A11<>\"\",IFERROR(VLOOKUP(AE11,Tabelas!B:D,3,0),0),\"\")","v":0},{"$f":"IF(A11<>\"\",IFERROR(VLOOKUP(AF11,Tabelas!B:D,3,0),0),\"\")","v":12},{"$f":"IF(A11<>\"\",IFERROR(VLOOKUP(AG11,Tabelas!B:D,3,0),0),\"\")","v":12},{"$f":"IF(A11<>\"\",IFERROR(VLOOKUP(AH11,Tabelas!B:D,3,0),0),\"\")","v":0},{"$f":"IF(A11<>\"\",IFERROR(VLOOKUP(AI11,Tabelas!B:D,3,0),0),\"\")","v":0},{"$f":"IF(A11<>\"\",IFERROR(VLOOKUP(AJ11,Tabelas!B:D,3,0),0),\"\")","v":12},{"$f":"IF(A11<>\"\",IFERROR(VLOOKUP(AK11,Tabelas!B:D,3,0),0),\"\")","v":6},{"$f":"IF(A11<>\"\",IFERROR(VLOOKUP(AL11,Tabelas!B:D,3,0),0),\"\")","v":0},{"$f":"IF(A11<>\"\",IFERROR(VLOOKUP(AM11,Tabelas!B:D,3,0),0),\"\")","v":12},{"$f":"IF(A11<>\"\",IFERROR(VLOOKUP(AN11,Tabelas!B:D,3,0),0),\"\")","v":0},{"$f":"IF(A11<>\"\",IFERROR(VLOOKUP(AO11,Tabelas!B:D,3,0),0),\"\")","v":0},{"$f":"IF(A11<>\"\",IFERROR(VLOOKUP(AP11,Tabelas!B:D,3,0),0),\"\")","v":12},{"$f":"IF(A11<>\"\",IFERROR(VLOOKUP(AQ11,Tabelas!B:D,3,0),0),\"\")","v":12},{"$f":"IF(A11<>\"\",IFERROR(VLOOKUP(AR11,Tabelas!B:D,3,0),0),\"\")","v":0},168,0,0,0,0,0,0,15,{"$f":"IF(A11<>\"\",COUNTIF(N11:AR11,\"APH\"),\"\")","v":0}]
["Marinalva S. Silva",null,null,"Tec. Enf","Fapeu",44,null,null,17,null,null,null,null,"FO","D2","FO","D2","FO","D2","FO","D2","FO","D2","FO","D2","FO","D2","FO","D2","FO","D2","FO","D2","FO","D2","FO","D2","FO","D2","FO","D2","FO","D2",null,{"$f":"IF(A12<>\"\",IFERROR(VLOOKUP(N12,Tabelas!B:D,3,0),0),\"\")","v":0},{"$f":"IF(A12<>\"\",IFERROR(VLOOKUP(O12,Tabelas!B:D,3,0),0),\"\")","v":12},{"$f":"IF(A12<>\"\",IFERROR(VLOOKUP(P12,Tabelas!B:D,3,0),0),\"\")","v":0},{"$f":"IF(A12<>\"\",IFERROR(VLOOKUP(Q12,Tabelas!B:D,3,0),0),\"\")","v":12},{"$f":"IF(A12<>\"\",IFERROR(VLOOKUP(R12,Tabelas!B:D,3,0),0),\"\")","v":0},{"$f":"IF(A12<>\"\",IFERROR(VLOOKUP(S12,Tabelas!B:D,3,0),0),\"\")","v":12},{"$f":"IF(A12<>\"\",IFERROR(VLOOKUP(T12,Tabelas!B:D,3,0),0),\"\")","v":0},{"$f":"IF(A12<>\"\",IFERROR(VLOOKUP(U12,Tabelas!B:D,3,0),0),\"\")","v":12},{"$f":"IF(A12<>\"\",IFERROR(VLOOKUP(V12,Tabelas!B:D,3,0),0),\"\")","v":0},{"$f":"IF(A12<>\"\",IFERROR(VLOOKUP(W12,Tabelas!B:D,3,0),0),\"\")","v":12},{"$f":"IF(A12<>\"\",IFERROR(VLOOKUP(X12,Tabelas!B:D,3,0),0),\"\")","v":0},{"$f":"IF(A12<>\"\",IFERROR(VLOOKUP(Y12,Tabelas!B:D,3,0),0),\"\")","v":12},{"$f":"IF(A12<>\"\",IFERROR(VLOOKUP(Z12,Tabelas!B:D,3,0),0),\"\")","v":0},{"$f":"IF(A12<>\"\",IFERROR(VLOOKUP(AA12,Tabelas!B:D,3,0),0),\"\")","v":12},{"$f":"IF(A12<>\"\",IFERROR(VLOOKUP(AB12,Tabelas!B:D,3,0),0),\"\")","v":0},{"$f":"IF(A12<>\"\",IFERROR(VLOOKUP(AC12,Tabelas!B:D,3,0),0),\"\")","v":12},{"$f":"IF(A12<>\"\",IFERROR(VLOOKUP(AD12,Tabelas!B:D,3,0),0),\"\")","v":0},{"$f":"IF(A12<>\"\",IFERROR(VLOOKUP(AE12,Tabelas!B:D,3,0),0),\"\")","v":12},{"$f":"IF(A12<>\"\",IFERROR(VLOOKUP(AF12,Tabelas!B:D,3,0),0),\"\")","v":0},{"$f":"IF(A12<>\"\",IFERROR(VLOOKUP(AG12,Tabelas!B:D,3,0),0),\"\")","v":12},{"$f":"IF(A12<>\"\",IFERROR(VLOOKUP(AH12,Tabelas!B:D,3,0),0),\"\")","v":0},{"$f":"IF(A12<>\"\",IFERROR(VLOOKUP(AI12,Tabelas!B:D,3,0),0),\"\")","v":12},{"$f":"IF(A12<>\"\",IFERROR(VLOOKUP(AJ12,Tabelas!B:D,3,0),0),\"\")","v":0},{"$f":"IF(A12<>\"\",IFERROR(VLOOKUP(AK12,Tabelas!B:D,3,0),0),\"\")","v":12},{"$f":"IF(A12<>\"\",IFERROR(VLOOKUP(AL12,Tabelas!B:D,3,0),0),\"\")","v":0},{"$f":"IF(A12<>\"\",IFERROR(VLOOKUP(AM12,Tabelas!B:D,3,0),0),\"\")","v":12},{"$f":"IF(A12<>\"\",IFERROR(VLOOKUP(AN12,Tabelas!B:D,3,0),0),\"\")","v":0},{"$f":"IF(A12<>\"\",IFERROR(VLOOKUP(AO12,Tabelas!B:D,3,0),0),\"\")","v":12},{"$f":"IF(A12<>\"\",IFERROR(VLOOKUP(AP12,Tabelas!B:D,3,0),0),\"\")","v":0},{"$f":"IF(A12<>\"\",IFERROR(VLOOKUP(AQ12,Tabelas!B:D,3,0),0),\"\")","v":12},{"$f":"IF(A12<>\"\",IFERROR(VLOOKUP(AR12,Tabelas!B:D,3,0),0),\"\")","v":0},180,0,0,0,0,0,0,15,{"$f":"IF(A12<>\"\",COUNTIF(N12:AR12,\"APH\"),\"\")","v":0}]
["Fulano de Tal 5",1234567,123,"ENF","Ebserh",36,null,null,null,null,null,null,null,null,null,null,null,null,null,null,null,null,null,null,null,null,null,null,null,null,null,null,null,null,null,null,null,null,null,null,null,null,null,null,{"$f":"IF(A13<>\"\",IFERROR(VLOOKUP(N13,Tabelas!B:D,3,0),0),\"\")","v":0},{"$f":"IF(A13<>\"\",IFERROR(VLOOKUP(O13,Tabelas!B:D,3,0),0),\"\")","v":0},{"$f":"IF(A13<>\"\",IFERROR(VLOOKUP(P13,Tabelas!B:D,3,0),0),\"\")","v":0},{"$f":"IF(A13<>\"\",IFERROR(VLOOKUP(Q13,Tabelas!B:D,3,0),0),\"\")","v":0},{"$f":"IF(A13<>\"\",IFERROR(VLOOKUP(R13,Tabelas!B:D,3,0),0),\"\")","v":0},{"$f":"IF(A13<>\"\",IFERROR(VLOOKUP(S13,Tabelas!B:D,3,0),0),\"\")","v":0},{"$f":"IF(A13<>\"\",IFERROR(VLOOKUP(T13,Tabelas!B:D,3,0),0),\"\")","v":0},{"$f":"IF(A13<>\"\",IFERROR(VLOOKUP(U13,Tabelas!B:D,3,0),0),\"\")","v":0},{"$f":"IF(A13<>\"\",IFERROR(VLOOKUP(V13,Tabelas!B:D,3,0),0),\"\")","v":0},{"$f":"IF(A13<>\"\",IFERROR(VLOOKUP(W13,Tabelas!B:D,3,0),0),\"\")","v":0},{"$f":"IF(A13<>\"\",IFERROR(VLOOKUP(X13,Tabelas!B:D,3,0),0),\"\")","v":0},{"$f":"IF(A13<>\"\",IFERROR(VLOOKUP(Y13,Tabelas!B:D,3,0),0),\"\")","v":0},{"$f":"IF(A13<>\"\",IFERROR(VLOOKUP(Z13,Tabelas!B:D,3,0),0),\"\")","v":0},{"$f":"IF(A13<>\"\",IFERROR(VLOOKUP(AA13,Tabelas!B:D,3,0),0),\"\")","v":0},{"$f":"IF(A13<>\"\",IFERROR(VLOOKUP(AB13,Tabelas!B:D,3,0),0),\"\")","v":0},{"$f":"IF(A13<>\"\",IFERROR(VLOOKUP(AC13,Tabelas!B:D,3,0),0),\"\")","v":0},{"$f":"IF(A13<>\"\",IFERROR(VLOOKUP(AD13,Tabelas!B:D,3,0),0),\"\")","v":0},{"$f":"IF(A13<>\"\",IFERROR(VLOOKUP(AE13,Tabelas!B:D,3,0),0),\"\")","v":0},{"$f":"IF(A13<>\"\",IFERROR(VLOOKUP(AF13,Tabelas!B:D,3,0),0),\"\")","v":0},{"$f":"IF(A13<>\"\",IFERROR(VLOOKUP(AG13,Tabelas!B:D,3,0),0),\"\")","v":0},{"$f":"IF(A13<>\"\",IFERROR(VLOOKUP(AH13,Tabelas!B:D,3,0),0),\"\")","v":0},{"$f":"IF(A13<>\"\",IFERROR(VLOOKUP(AI13,Tabelas!B:D,3,0),0),\"\")","v":0},{"$f":"IF(A13<>\"\",IFERROR(VLOOKUP(AJ13,Tabelas!B:D,3,0),0),\"\")","v":0},{"$f":"IF(A13<>\"\",IFERROR(VLOOKUP(AK13,Tabelas!B:D,3,0),0),\"\")","v":0},{"$f":"IF(A13<>\"\",IFERROR(VLOOKUP(AL13,Tabelas!B:D,3,0),0),\"\")","v":0},{"$f":"IF(A13<>\"\",IFERROR(VLOOKUP(AM13,Tabelas!B:D,3,0),0),\"\")","v":0},{"$f":"IF(A13<>\"\",IFERROR(VLOOKUP(AN13,Tabelas!B:D,3,0),0),\"\")","v":0},{"$f":"IF(A13<>\"\",IFERROR(VLOOKUP(AO13,Tabelas!B:D,3,0),0),\"\")","v":0},{"$f":"IF(A13<>\"\",IFERROR(VLOOKUP(AP13,Tabelas!B:D,3,0),0),\"\")","v":0},{"$f":"IF(A13<>\"\",IFERROR(VLOOKUP(AQ13,Tabelas!B:D,3,0),0),\"\")","v":0},{"$f":"IF(A13<>\"\",IFERROR(VLOOKUP(AR13,Tabelas!B:D,3,0),0),\"\")","v":0},0,0,0,0,0,0,0,0,{"$f":"IF(A13<>\"\",COUNTIF(N13:AR13,\"APH\"),\"\")","v":0}]
["Fulano de Tal 6",1234567,123,"ENF","Ebserh",36,null,null,null,null,null,null,null,null,null,null,null,null,null,null,null,null,null,null,null,null,null,null,null,null,null,null,null,null,null,null,null,null,null,null,null,null,null,null,{"$f":"IF(A14<>\"\",IFERROR(VLOOKUP(N14,Tabelas!B:D,3,0),0),\"\")","v":0},{"$f":"IF(A14<>\"\",IFERROR(VLOOKUP(O14,Tabelas!B:D,3,0),0),\"\")","v":0},{"$f":"IF(A14<>\"\",IFERROR(VLOOKUP(P14,Tabelas!B:D,3,0),0),\"\")","v":0},{"$f":"IF(A14<>\"\",IFERROR(VLOOKUP(Q14,Tabelas!B:D,3,0),0),\"\")","v":0},{"$f":"IF(A14<>\"\",IFERROR(VLOOKUP(R14,Tabelas!B:D,3,0),0),\"\")","v":0},{"$f":"IF(A14<>\"\",IFERROR(VLOOKUP(S14,Tabelas!B:D,3,0),0),\"\")","v":0},{"$f":"IF(A14<>\"\",IFERROR(VLOOKUP(T14,Tabelas!B:D,3,0),0),\"\")","v":0},{"$f":"IF(A14<>\"\",IFERROR(VLOOKUP(U14,Tabelas!B:D,3,0),0),\"\")","v":0},{"$f":"IF(A14<>\"\",IFERROR(VLOOKUP(V14,Tabelas!B:D,3,0),0),\"\")","v":0},{"$f":"IF(A14<>\"\",IFERROR(VLOOKUP(W14,Tabelas!B:D,3,0),0),\"\")","v":0},{"$f":"IF(A14<>\"\",IFERROR(VLOOKUP(X14,Tabelas!B:D,3,0),0),\"\")","v":0},{"$f":"IF(A14<>\"\",IFERROR(VLOOKUP(Y14,Tabelas!B:D,3,0),0),\"\")","v":0},{"$f":"IF(A14<>\"\",IFERROR(VLOOKUP(Z14,Tabelas!B:D,3,0),0),\"\")","v":0},{"$f":"IF(A14<>\"\",IFERROR(VLOOKUP(AA14,Tabelas!B:D,3,0),0),\"\")","v":0},{"$f":"IF(A14<>\"\",IFERROR(VLOOKUP(AB14,Tabelas!B:D,3,0),0),\"\")","v":0},{"$f":"IF(A14<>\"\",IFERROR(VLOOKUP(AC14,Tabelas!B:D,3,0),0),\"\")","v":0},{"$f":"IF(A14<>\"\",IFERROR(VLOOKUP(AD14,Tabelas!B:D,3,0),0),\"\")","v":0},{"$f":"IF(A14<>\"\",IFERROR(VLOOKUP(AE14,Tabelas!B:D,3,0),0),\"\")","v":0},{"$f":"IF(A14<>\"\",IFERROR(VLOOKUP(AF14,Tabelas!B:D,3,0),0),\"\")","v":0},{"$f":"IF(A14<>\"\",IFERROR(VLOOKUP(AG14,Tabelas!B:D,3,0),0),\"\")","v":0},{"$f":"IF(A14<>\"\",IFERROR(VLOOKUP(AH14,Tabelas!B:D,3,0),0),\"\")","v":0},{"$f":"IF(A14<>\"\",IFERROR(VLOOKUP(AI14,Tabelas!B:D,3,0),0),\"\")","v":0},{"$f":"IF(A14<>\"\",IFERROR(VLOOKUP(AJ14,Tabelas!B:D,3,0),0),\"\")","v":0},{"$f":"IF(A14<>\"\",IFERROR(VLOOKUP(AK14,Tabelas!B:D,3,0),0),\"\")","v":0},{"$f":"IF(A14<>\"\",IFERROR(VLOOKUP(AL14,Tabelas!B:D,3,0),0),\"\")","v":0},{"$f":"IF(A14<>\"\",IFERROR(VLOOKUP(AM14,Tabelas!B:D,3,0),0),\"\")","v":0},{"$f":"IF(A14<>\"\",IFERROR(VLOOKUP(AN14,Tabelas!B:D,3,0),0),\"\")","v":0},{"$f":"IF(A14<>\"\",IFERROR(VLOOKUP(AO14,Tabelas!B:D,3,0),0),\"\")","v":0},{"$f":"IF(A14<>\"\",IFERROR(VLOOKUP(AP14,Tabelas!B:D,3,0),0),\"\")","v":0},{"$f":"IF(A14<>\"\",IFERROR(VLOOKUP(AQ14,Tabelas!B:D,3,0),0),\"\")","v":0},{"$f":"IF(A14<>\"\",IFERROR(VLOOKUP(AR14,Tabelas!B:D,3,0),0),\"\")","v":0},0,0,0,0,0,0,0,0,{"$f":"IF(A14<>\"\",COUNTIF(N14:AR14,\"APH\"),\"\")","v":0}]
["Fulano de Tal 7",1234567,123,"ENF","Ebserh",36,null,null,null,null,null,null,null,null,null,null,null,null,null,null,null,null,null,null,null,null,null,null,null,null,null,null,null,null,null,null,null,null,null,null,null,null,null,null,{"$f":"IF(A15<>\"\",IFERROR(VLOOKUP(N15,Tabelas!B:D,3,0),0),\"\")","v":0},{"$f":"IF(A15<>\"\",IFERROR(VLOOKUP(O15,Tabelas!B:D,3,0),0),\"\")","v":0},{"$f":"IF(A15<>\"\",IFERROR(VLOOKUP(P15,Tabelas!B:D,3,0),0),\"\")","v":0},{"$f":"IF(A15<>\"\",IFERROR(VLOOKUP(Q15,Tabelas!B:D,3,0),0),\"\")","v":0},{"$f":"IF(A15<>\"\",IFERROR(VLOOKUP(R15,Tabelas!B:D,3,0),0),\"\")","v":0},{"$f":"IF(A15<>\"\",IFERROR(VLOOKUP(S15,Tabelas!B:D,3,0),0),\"\")","v":0},{"$f":"IF(A15<>\"\",IFERROR(VLOOKUP(T15,Tabelas!B:D,3,0),0),\"\")","v":0},{"$f":"IF(A15<>\"\",IFERROR(VLOOKUP(U15,Tabelas!B:D,3,0),0),\"\")","v":0},{"$f":"IF(A15<>\"\",IFERROR(VLOOKUP(V15,Tabelas!B:D,3,0),0),\"\")","v":0},{"$f":"IF(A15<>\"\",IFERROR(VLOOKUP(W15,Tabelas!B:D,3,0),0),\"\")","v":0},{"$f":"IF(A15<>\"\",IFERROR(VLOOKUP(X15,Tabelas!B:D,3,0),0),\"\")","v":0},{"$f":"IF(A15<>\"\",IFERROR(VLOOKUP(Y15,Tabelas!B:D,3,0),0),\"\")","v":0},{"$f":"IF(A15<>\"\",IFERROR(VLOOKUP(Z15,Tabelas!B:D,3,0),0),\"\")","v":0},{"$f":"IF(A15<>\"\",IFERROR(VLOOKUP(AA15,Tabelas!B:D,3,0),0),\"\")","v":0},{"$f":"IF(A15<>\"\",IFERROR(VLOOKUP(AB15,Tabelas!B:D,3,0),0),\"\")","v":0},{"$f":"IF(A15<>\"\",IFERROR(VLOOKUP(AC15,Tabelas!B:D,3,0),0),\"\")","v":0},{"$f":"IF(A15<>\"\",IFERROR(VLOOKUP(AD15,Tabelas!B:D,3,0),0),\"\")","v":0},{"$f":"IF(A15<>\"\",IFERROR(VLOOKUP(AE15,Tabelas!B:D,3,0),0),\"\")","v":0},{"$f":"IF(A15<>\"\",IFERROR(VLOOKUP(AF15,Tabelas!B:D,3,0),0),\"\")","v":0},{"$f":"IF(A15<>\"\",IFERROR(VLOOKUP(AG15,Tabelas!B:D,3,0),0),\"\")","v":0},{"$f":"IF(A15<>\"\",IFERROR(VLOOKUP(AH15,Tabelas!B:D,3,0),0),\"\")","v":0},{"$f":"IF(A15<>\"\",IFERROR(VLOOKUP(AI15,Tabelas!B:D,3,0),0),\"\")","v":0},{"$f":"IF(A15<>\"\",IFERROR(VLOOKUP(AJ15,Tabelas!B:D,3,0),0),\"\")","v":0},{"$f":"IF(A15<>\"\",IFERROR(VLOOKUP(AK15,Tabelas!B:D,3,0),0),\"\")","v":0},{"$f":"IF(A15<>\"\",IFERROR(VLOOKUP(AL15,Tabelas!B:D,3,0),0),\"\")","v":0},{"$f":"IF(A15<>\"\",IFERROR(VLOOKUP(AM15,Tabelas!B:D,3,0),0),\"\")","v":0},{"$f":"IF(A15<>\"\",IFERROR(VLOOKUP(AN15,Tabelas!B:D,3,0),0),\"\")","v":0},{"$f":"IF(A15<>\"\",IFERROR(VLOOKUP(AO15,Tabelas!B:D,3,0),0),\"\")","v":0},{"$f":"IF(A15<>\"\",IFERROR(VLOOKUP(AP15,Tabelas!B:D,3,0),0),\"\")","v":0},{"$f":"IF(A15<>\"\",IFERROR(VLOOKUP(AQ15,Tabelas!B:D,3,0),0),\"\")","v":0},{"$f":"IF(A15<>\"\",IFERROR(VLOOKUP(AR15,Tabelas!B:D,3,0),0),\"\")","v":0},0,0,0,0,0,0,0,0,{"$f":"IF(A15<>\"\",COUNTIF(N15:AR15,\"APH\"),\"\")","v":0}]
["Fulano de Tal 8",1234567,123,"ENF","Ebserh",36,null,null,null,null,null,null,null,null,null,null,null,null,null,null,null,null,null,null,null,null,null,null,null,null,null,null,null,null,null,null,null,null,null,null,null,null,null,null,{"$f":"IF(A16<>\"\",IFERROR(VLOOKUP(N16,Tabelas!B:D,3,0),0),\"\")","v":0},{"$f":"IF(A16<>\"\",IFERROR(VLOOKUP(O16,Tabelas!B:D,3,0),0),\"\")","v":0},{"$f":"IF(A16<>\"\",IFERROR(VLOOKUP(P16,Tabelas!B:D,3,0),0),\"\")","v":0},{"$f":"IF(A16<>\"\",IFERROR(VLOOKUP(Q16,Tabelas!B:D,3,0),0),\"\")","v":0},{"$f":"IF(A16<>\"\",IFERROR(VLOOKUP(R16,Tabelas!B:D,3,0),0),\"\")","v":0},{"$f":"IF(A16<>\"\",IFERROR(VLOOKUP(S16,Tabelas!B:D,3,0),0),\"\")","v":0},{"$f":"IF(A16<>\"\",IFERROR(VLOOKUP(T16,Tabelas!B:D,3,0),0),\"\")","v":0},{"$f":"IF(A16<>\"\",IFERROR(VLOOKUP(U16,Tabelas!B:D,3,0),0),\"\")","v":0},{"$f":"IF(A16<>\"\",IFERROR(VLOOKUP(V16,Tabelas!B:D,3,0),0),\"\")","v":0},{"$f":"IF(A16<>\"\",IFERROR(VLOOKUP(W16,Tabelas!B:D,3,0),0),\"\")","v":0},{"$f":"IF(A16<>\"\",IFERROR(VLOOKUP(X16,Tabelas!B:D,3,0),0),\"\")","v":0},{"$f":"IF(A16<>\"\",IFERROR(VLOOKUP(Y16,Tabelas!B:D,3,0),0),\"\")","v":0},{"$f":"IF(A16<>\"\",IFERROR(VLOOKUP(Z16,Tabelas!B:D,3,0),0),\"\")","v":0},{"$f":"IF(A16<>\"\",IFERROR(VLOOKUP(AA16,Tabelas!B:D,3,0),0),\"\")","v":0},{"$f":"IF(A16<>\"\",IFERROR(VLOOKUP(AB16,Tabelas!B:D,3,0),0),\"\")","v":0},{"$f":"IF(A16<>\"\",IFERROR(VLOOKUP(AC16,Tabelas!B:D,3,0),0),\"\")","v":0},{"$f":"IF(A16<>\"\",IFERROR(VLOOKUP(AD16,Tabelas!B:D,3,0),0),\"\")","v":0},{"$f":"IF(A16<>\"\",IFERROR(VLOOKUP(AE16,Tabelas!B:D,3,0),0),\"\")","v":0},{"$f":"IF(A16<>\"\",IFERROR(VLOOKUP(AF16,Tabelas!B:D,3,0),0),\"\")","v":0},{"$f":"IF(A16<>\"\",IFERROR(VLOOKUP(AG16,Tabelas!B:D,3,0),0),\"\")","v":0},{"$f":"IF(A16<>\"\",IFERROR(VLOOKUP(AH16,Tabelas!B:D,3,0),0),\"\")","v":0},{"$f":"IF(A16<>\"\",IFERROR(VLOOKUP(AI16,Tabelas!B:D,3,0),0),\"\")","v":0},{"$f":"IF(A16<>\"\",IFERROR(VLOOKUP(AJ16,Tabelas!B:D,3,0),0),\"\")","v":0},{"$f":"IF(A16<>\"\",IFERROR(VLOOKUP(AK16,Tabelas!B:D,3,0),0),\"\")","v":0},{"$f":"IF(A16<>\"\",IFERROR(VLOOKUP(AL16,Tabelas!B:D,3,0),0),\"\")","v":0},{"$f":"IF(A16<>\"\",IFERROR(VLOOKUP(AM16,Tabelas!B:D,3,0),0),\"\")","v":0},{"$f":"IF(A16<>\"\",IFERROR(VLOOKUP(AN16,Tabelas!B:D,3,0),0),\"\")","v":0},{"$f":"IF(A16<>\"\",IFERROR(VLOOKUP(AO16,Tabelas!B:D,3,0),0),\"\")","v":0},{"$f":"IF(A16<>\"\",IFERROR(VLOOKUP(AP16,Tabelas!B:D,3,0),0),\"\")","v":0},{"$f":"IF(A16<>\"\",IFERROR(VLOOKUP(AQ16,Tabelas!B:D,3,0),0),\"\")","v":0},{"$f":"IF(A16<>\"\",IFERROR(VLOOKUP(AR16,Tabelas!B:D,3,0),0),\"\")","v":0},0,0,0,0,0,0,0,0,{"$f":"IF(A16<>\"\",COUNTIF(N16:AR16,\"APH\"),\"\")","v":0}]
["Fulano de Tal 9",1234567,123,"ENF","Ebserh",36,null,null,null,null,null,null,null,null,null,null,null,null,null,null,null,null,null,null,null,null,null,null,null,null,null,null,null,null,null,null,null,null,null,null,null,null,null,null,{"$f":"IF(A17<>\"\",IFERROR(VLOOKUP(N17,Tabelas!B:D,3,0),0),\"\")","v":0},{"$f":"IF(A17<>\"\",IFERROR(VLOOKUP(O17,Tabelas!B:D,3,0),0),\"\")","v":0},{"$f":"IF(A17<>\"\",IFERROR(VLOOKUP(P17,Tabelas!B:D,3,0),0),\"\")","v":0},{"$f":"IF(A17<>\"\",IFERROR(VLOOKUP(Q17,Tabelas!B:D,3,0),0),\"\")","v":0},{"$f":"IF(A17<>\"\",IFERROR(VLOOKUP(R17,Tabelas!B:D,3,0),0),\"\")","v":0},{"$f":"IF(A17<>\"\",IFERROR(VLOOKUP(S17,Tabelas!B:D,3,0),0),\"\")","v":0},{"$f":"IF(A17<>\"\",IFERROR(VLOOKUP(T17,Tabelas!B:D,3,0),0),\"\")","v":0},{"$f":"IF(A17<>\"\",IFERROR(VLOOKUP(U17,Tabelas!B:D,3,0),0),\"\")","v":0},{"$f":"IF(A17<>\"\",IFERROR(VLOOKUP(V17,Tabelas!B:D,3,0),0),\"\")","v":0},{"$f":"IF(A17<>\"\",IFERROR(VLOOKUP(W17,Tabelas!B:D,3,0),0),\"\")","v":0},{"$f":"IF(A17<>\"\",IFERROR(VLOOKUP(X17,Tabelas!B:D,3,0),0),\"\")","v":0},{"$f":"IF(A17<>\"\",IFERROR(VLOOKUP(Y17,Tabelas!B:D,3,0),0),\"\")","v":0},{"$f":"IF(A17<>\"\",IFERROR(VLOOKUP(Z17,Tabelas!B:D,3,0),0),\"\")","v":0},{"$f":"IF(A17<>\"\",IFERROR(VLOOKUP(AA17,Tabelas!B:D,3,0),0),\"\")","v":0},{"$f":"IF(A17<>\"\",IFERROR(VLOOKUP(AB17,Tabelas!B:D,3,0),0),\"\")","v":0},{"$f":"IF(A17<>\"\",IFERROR(VLOOKUP(AC17,Tabelas!B:D,3,0),0),\"\")","v":0},{"$f":"IF(A17<>\"\",IFERROR(VLOOKUP(AD17,Tabelas!B:D,3,0),0),\"\")","v":0},{"$f":"IF(A17<>\"\",IFERROR(VLOOKUP(AE17,Tabelas!B:D,3,0),0),\"\")","v":0},{"$f":"IF(A17<>\"\",IFERROR(VLOOKUP(AF17,Tabelas!B:D,3,0),0),\"\")","v":0},{"$f":"IF(A17<>\"\",IFERROR(VLOOKUP(AG17,Tabelas!B:D,3,0),0),\"\")","v":0},{"$f":"IF(A17<>\"\",IFERROR(VLOOKUP(AH17,Tabelas!B:D,3,0),0),\"\")","v":0},{"$f":"IF(A17<>\"\",IFERROR(VLOOKUP(AI17,Tabelas!B:D,3,0),0),\"\")","v":0},{"$f":"IF(A17<>\"\",IFERROR(VLOOKUP(AJ17,Tabelas!B:D,3,0),0),\"\")","v":0},{"$f":"IF(A17<>\"\",IFERROR(VLOOKUP(AK17,Tabelas!B:D,3,0),0),\"\")","v":0},{"$f":"IF(A17<>\"\",IFERROR(VLOOKUP(AL17,Tabelas!B:D,3,0),0),\"\")","v":0},{"$f":"IF(A17<>\"\",IFERROR(VLOOKUP(AM17,Tabelas!B:D,3,0),0),\"\")","v":0},{"$f":"IF(A17<>\"\",IFERROR(VLOOKUP(AN17,Tabelas!B:D,3,0),0),\"\")","v":0},{"$f":"IF(A17<>\"\",IFERROR(VLOOKUP(AO17,Tabelas!B:D,3,0),0),\"\")","v":0},{"$f":"IF(A17<>\"\",IFERROR(VLOOKUP(AP17,Tabelas!B:D,3,0),0),\"\")","v":0},{"$f":"IF(A17<>\"\",IFERROR(VLOOKUP(AQ17,Tabelas!B:D,3,0),0),\"\")","v":0},{"$f":"IF(A17<>\"\",IFERROR(VLOOKUP(AR17,Tabelas!B:D,3,0),0),\"\")","v":0},0,0,0,0,0,0,0,0,{"$f":"IF(A17<>\"\",COUNTIF(N17:AR17,\"APH\"),\"\")","v":0}]
["Fulano de Tal 10",1234567,123,"ENF","Ebserh",36,null,null,null,null,null,null,null,null,null,null,null,null,null,null,null,null,null,null,null,null,null,null,null,null,null,null,null,null,null,null,null,null,null,null,null,null,null,null,{"$f":"IF(A18<>\"\",IFERROR(VLOOKUP(N18,Tabelas!B:D,3,0),0),\"\")","v":0},{"$f":"IF(A18<>\"\",IFERROR(VLOOKUP(O18,Tabelas!B:D,3,0),0),\"\")","v":0},{"$f":"IF(A18<>\"\",IFERROR(VLOOKUP(P18,Tabelas!B:D,3,0),0),\"\")","v":0},{"$f":"IF(A18<>\"\",IFERROR(VLOOKUP(Q18,Tabelas!B:D,3,0),0),\"\")","v":0},{"$f":"IF(A18<>\"\",IFERROR(VLOOKUP(R18,Tabelas!B:D,3,0),0),\"\")","v":0},{"$f":"IF(A18<>\"\",IFERROR(VLOOKUP(S18,Tabelas!B:D,3,0),0),\"\")","v":0},{"$f":"IF(A18<>\"\",IFERROR(VLOOKUP(T18,Tabelas!B:D,3,0),0),\"\")","v":0},{"$f":"IF(A18<>\"\",IFERROR(VLOOKUP(U18,Tabelas!B:D,3,0),0),\"\")","v":0},{"$f":"IF(A18<>\"\",IFERROR(VLOOKUP(V18,Tabelas!B:D,3,0),0),\"\")","v":0},{"$f":"IF(A18<>\"\",IFERROR(VLOOKUP(W18,Tabelas!B:D,3,0),0),\"\")","v":0},{"$f":"IF(A18<>\"\",IFERROR(VLOOKUP(X18,Tabelas!B:D,3,0),0),\"\")","v":0},{"$f":"IF(A18<>\"\",IFERROR(VLOOKUP(Y18,Tabelas!B:D,3,0),0),\"\")","v":0},{"$f":"IF(A18<>\"\",IFERROR(VLOOKUP(Z18,Tabelas!B:D,3,0),0),\"\")","v":0},{"$f":"IF(A18<>\"\",IFERROR(VLOOKUP(AA18,Tabelas!B:D,3,0),0),\"\")","v":0},{"$f":"IF(A18<>\"\",IFERROR(VLOOKUP(AB18,Tabelas!B:D,3,0),0),\"\")","v":0},{"$f":"IF(A18<>\"\",IFERROR(VLOOKUP(AC18,Tabelas!B:D,3,0),0),\"\")","v":0},{"$f":"IF(A18<>\"\",IFERROR(VLOOKUP(AD18,Tabelas!B:D,3,0),0),\"\")","v":0},{"$f":"IF(A18<>\"\",IFERROR(VLOOKUP(AE18,Tabelas!B:D,3,0),0),\"\")","v":0},{"$f":"IF(A18<>\"\",IFERROR(VLOOKUP(AF18,Tabelas!B:D,3,0),0),\"\")","v":0},{"$f":"IF(A18<>\"\",IFERROR(VLOOKUP(AG18,Tabelas!B:D,3,0),0),\"\")","v":0},{"$f":"IF(A18<>\"\",IFERROR(VLOOKUP(AH18,Tabelas!B:D,3,0),0),\"\")","v":0},{"$f":"IF(A18<>\"\",IFERROR(VLOOKUP(AI18,Tabelas!B:D,3,0),0),\"\")","v":0},{"$f":"IF(A18<>\"\",IFERROR(VLOOKUP(AJ18,Tabelas!B:D,3,0),0),\"\")","v":0},{"$f":"IF(A18<>\"\",IFERROR(VLOOKUP(AK18,Tabelas!B:D,3,0),0),\"\")","v":0},{"$f":"IF(A18<>\"\",IFERROR(VLOOKUP(AL18,Tabelas!B:D,3,0),0),\"\")","v":0},{"$f":"IF(A18<>\"\",IFERROR(VLOOKUP(AM18,Tabelas!B:D,3,0),0),\"\")","v":0},{"$f":"IF(A18<>\"\",IFERROR(VLOOKUP(AN18,Tabelas!B:D,3,0),0),\"\")","v":0},{"$f":"IF(A18<>\"\",IFERROR(VLOOKUP(AO18,Tabelas!B:D,3,0),0),\"\")","v":0},{"$f":"IF(A18<>\"\",IFERROR(VLOOKUP(AP18,Tabelas!B:D,3,0),0),\"\")","v":0},{"$f":"IF(A18<>\"\",IFERROR(VLOOKUP(AQ18,Tabelas!B:D,3,0),0),\"\")","v":0},{"$f":"IF(A18<>\"\",IFERROR(VLOOKUP(AR18,Tabelas!B:D,3,0),0),\"\")","v":0},0,0,0,0,0,0,0,0,{"$f":"IF(A18<>\"\",COUNTIF(N18:AR18,\"APH\"),\"\")","v":0}]
["Fulano de Tal 11",1234567,123,"ENF","Ebserh",36,null,null,null,null,null,null,null,null,null,null,null,null,null,null,null,null,null,null,null,null,null,null,null,null,null,null,null,null,null,null,null,null,null,null,null,null,null,null,{"$f":"IF(A19<>\"\",IFERROR(VLOOKUP(N19,Tabelas!B:D,3,0),0),\"\")","v":0},{"$f":"IF(A19<>\"\",IFERROR(VLOOKUP(O19,Tabelas!B:D,3,0),0),\"\")","v":0},{"$f":"IF(A19<>\"\",IFERROR(VLOOKUP(P19,Tabelas!B:D,3,0),0),\"\")","v":0},{"$f":"IF(A19<>\"\",IFERROR(VLOOKUP(Q19,Tabelas!B:D,3,0),0),\"\")","v":0},{"$f":"IF(A19<>\"\",IFERROR(VLOOKUP(R19,Tabelas!B:D,3,0),0),\"\")","v":0},{"$f":"IF(A19<>\"\",IFERROR(VLOOKUP(S19,Tabelas!B:D,3,0),0),\"\")","v":0},{"$f":"IF(A19<>\"\",IFERROR(VLOOKUP(T19,Tabelas!B:D,3,0),0),\"\")","v":0},{"$f":"IF(A19<>\"\",IFERROR(VLOOKUP(U19,Tabelas!B:D,3,0),0),\"\")","v":0},{"$f":"IF(A19<>\"\",IFERROR(VLOOKUP(V19,Tabelas!B:D,3,0),0),\"\")","v":0},{"$f":"IF(A19<>\"\",IFERROR(VLOOKUP(W19,Tabelas!B:D,3,0),0),\"\")","v":0},{"$f":"IF(A19<>\"\",IFERROR(VLOOKUP(X19,Tabelas!B:D,3,0),0),\"\")","v":0},{"$f":"IF(A19<>\"\",IFERROR(VLOOKUP(Y19,Tabelas!B:D,3,0),0),\"\")","v":0},{"$f":"IF(A19<>\"\",IFERROR(VLOOKUP(Z19,Tabelas!B:D,3,0),0),\"\")","v":0},{"$f":"IF(A19<>\"\",IFERROR(VLOOKUP(AA19,Tabelas!B:D,3,0),0),\"\")","v":0},{"$f":"IF(A19<>\"\",IFERROR(VLOOKUP(AB19,Tabelas!B:D,3,0),0),\"\")","v":0},{"$f":"IF(A19<>\"\",IFERROR(VLOOKUP(AC19,Tabelas!B:D,3,0),0),\"\")","v":0},{"$f":"IF(A19<>\"\",IFERROR(VLOOKUP(AD19,Tabelas!B:D,3,0),0),\"\")","v":0},{"$f":"IF(A19<>\"\",IFERROR(VLOOKUP(AE19,Tabelas!B:D,3,0),0),\"\")","v":0},{"$f":"IF(A19<>\"\",IFERROR(VLOOKUP(AF19,Tabelas!B:D,3,0),0),\"\")","v":0},{"$f":"IF(A19<>\"\",IFERROR(VLOOKUP(AG19,Tabelas!B:D,3,0),0),\"\")","v":0},{"$f":"IF(A19<>\"\",IFERROR(VLOOKUP(AH19,Tabelas!B:D,3,0),0),\"\")","v":0},{"$f":"IF(A19<>\"\",IFERROR(VLOOKUP(AI19,Tabelas!B:D,3,0),0),\"\")","v":0},{"$f":"IF(A19<>\"\",IFERROR(VLOOKUP(AJ19,Tabelas!B:D,3,0),0),\"\")","v":0},{"$f":"IF(A19<>\"\",IFERROR(VLOOKUP(AK19,Tabelas!B:D,3,0),0),\"\")","v":0},{"$f":"IF(A19<>\"\",IFERROR(VLOOKUP(AL19,Tabelas!B:D,3,0),0),\"\")","v":0},{"$f":"IF(A19<>\"\",IFERROR(VLOOKUP(AM19,Tabelas!B:D,3,0),0),\"\")","v":0},{"$f":"IF(A19<>\"\",IFERROR(VLOOKUP(AN19,Tabelas!B:D,3,0),0),\"\")","v":0},{"$f":"IF(A19<>\"\",IFERROR(VLOOKUP(AO19,Tabelas!B:D,3,0),0),\"\")","v":0},{"$f":"IF(A19<>\"\",IFERROR(VLOOKUP(AP19,Tabelas!B:D,3,0),0),\"\")","v":0},{"$f":"IF(A19<>\"\",IFERROR(VLOOKUP(AQ19,Tabelas!B:D,3,0),0),\"\")","v":0},{"$f":"IF(A19<>\"\",IFERROR(VLOOKUP(AR19,Tabelas!B:D,3,0),0),\"\")","v":0},0,0,0,0,0,0,0,0,{"$f":"IF(A19<>\"\",COUNTIF(N19:AR19,\"APH\"),\"\")","v":0}]
["Fulano de Tal 12",1234567,123,"ENF","Ebserh",36,null,null,null,null,null,null,null,null,null,null,null,null,null,null,null,null,null,null,null,null,null,null,null,null,null,null,null,null,null,null,null,null,null,null,null,null,null,null,{"$f":"IF(A20<>\"\",IFERROR(VLOOKUP(N20,Tabelas!B:D,3,0),0),\"\")","v":0},{"$f":"IF(A20<>\"\",IFERROR(VLOOKUP(O20,Tabelas!B:D,3,0),0),\"\")","v":0},{"$f":"IF(A20<>\"\",IFERROR(VLOOKUP(P20,Tabelas!B:D,3,0),0),\"\")","v":0},{"$f":"IF(A20<>\"\",IFERROR(VLOOKUP(Q20,Tabelas!B:D,3,0),0),\"\")","v":0},{"$f":"IF(A20<>\"\",IFERROR(VLOOKUP(R20,Tabelas!B:D,3,0),0),\"\")","v":0},{"$f":"IF(A20<>\"\",IFERROR(VLOOKUP(S20,Tabelas!B:D,3,0),0),\"\")","v":0},{"$f":"IF(A20<>\"\",IFERROR(VLOOKUP(T20,Tabelas!B:D,3,0),0),\"\")","v":0},{"$f":"IF(A20<>\"\",IFERROR(VLOOKUP(U20,Tabelas!B:D,3,0),0),\"\")","v":0},{"$f":"IF(A20<>\"\",IFERROR(VLOOKUP(V20,Tabelas!B:D,3,0),0),\"\")","v":0},{"$f":"IF(A20<>\"\",IFERROR(VLOOKUP(W20,Tabelas!B:D,3,0),0),\"\")","v":0},{"$f":"IF(A20<>\"\",IFERROR(VLOOKUP(X20,Tabelas!B:D,3,0),0),\"\")","v":0},{"$f":"IF(A20<>\"\",IFERROR(VLOOKUP(Y20,Tabelas!B:D,3,0),0),\"\")","v":0},{"$f":"IF(A20<>\"\",IFERROR(VLOOKUP(Z20,Tabelas!B:D,3,0),0),\"\")","v":0},{"$f":"IF(A20<>\"\",IFERROR(VLOOKUP(AA20,Tabelas!B:D,3,0),0),\"\")","v":0},{"$f":"IF(A20<>\"\",IFERROR(VLOOKUP(AB20,Tabelas!B:D,3,0),0),\"\")","v":0},{"$f":"IF(A20<>\"\",IFERROR(VLOOKUP(AC20,Tabelas!B:D,3,0),0),\"\")","v":0},{"$f":"IF(A20<>\"\",IFERROR(VLOOKUP(AD20,Tabelas!B:D,3,0),0),\"\")","v":0},{"$f":"IF(A20<>\"\",IFERROR(VLOOKUP(AE20,Tabelas!B:D,3,0),0),\"\")","v":0},{"$f":"IF(A20<>\"\",IFERROR(VLOOKUP(AF20,Tabelas!B:D,3,0),0),\"\")","v":0},{"$f":"IF(A20<>\"\",IFERROR(VLOOKUP(AG20,Tabelas!B:D,3,0),0),\"\")","v":0},{"$f":"IF(A20<>\"\",IFERROR(VLOOKUP(AH20,Tabelas!B:D,3,0),0),\"\")","v":0},{"$f":"IF(A20<>\"\",IFERROR(VLOOKUP(AI20,Tabelas!B:D,3,0),0),\"\")","v":0},{"$f":"IF(A20<>\"\",IFERROR(VLOOKUP(AJ20,Tabelas!B:D,3,0),0),\"\")","v":0},{"$f":"IF(A20<>\"\",IFERROR(VLOOKUP(AK20,Tabelas!B:D,3,0),0),\"\")","v":0},{"$f":"IF(A20<>\"\",IFERROR(VLOOKUP(AL20,Tabelas!B:D,3,0),0),\"\")","v":0},{"$f":"IF(A20<>\"\",IFERROR(VLOOKUP(AM20,Tabelas!B:D,3,0),0),\"\")","v":0},{"$f":"IF(A20<>\"\",IFERROR(VLOOKUP(AN20,Tabelas!B:D,3,0),0),\"\")","v":0},{"$f":"IF(A20<>\"\",IFERROR(VLOOKUP(AO20,Tabelas!B:D,3,0),0),\"\")","v":0},{"$f":"IF(A20<>\"\",IFERROR(VLOOKUP(AP20,Tabelas!B:D,3,0),0),\"\")","v":0},{"$f":"IF(A20<>\"\",IFERROR(VLOOKUP(AQ20,Tabelas!B:D,3,0),0),\"\")","v":0},{"$f":"IF(A20<>\"\",IFERROR(VLOOKUP(AR20,Tabelas!B:D,3,0),0),\"\")","v":0},0,0,0,0,0,0,0,0,0]
["Fulano de Tal 13",1234567,123,"ENF","Ebserh",36,null,null,null,null,null,null,null,null,null,null,null,null,null,null,null,null,null,null,null,null,null,null,null,null,null,null,null,null,null,null,null,null,null,null,null,null,null,null,{"$f":"IF(A21<>\"\",IFERROR(VLOOKUP(N21,Tabelas!B:D,3,0),0),\"\")","v":0},{"$f":"IF(A21<>\"\",IFERROR(VLOOKUP(O21,Tabelas!B:D,3,0),0),\"\")","v":0},{"$f":"IF(A21<>\"\",IFERROR(VLOOKUP(P21,Tabelas!B:D,3,0),0),\"\")","v":0},{"$f":"IF(A21<>\"\",IFERROR(VLOOKUP(Q21,Tabelas!B:D,3,0),0),\"\")","v":0},{"$f":"IF(A21<>\"\",IFERROR(VLOOKUP(R21,Tabelas!B:D,3,0),0),\"\")","v":0},{"$f":"IF(A21<>\"\",IFERROR(VLOOKUP(S21,Tabelas!B:D,3,0),0),\"\")","v":0},{"$f":"IF(A21<>\"\",IFERROR(VLOOKUP(T21,Tabelas!B:D,3,0),0),\"\")","v":0},{"$f":"IF(A21<>\"\",IFERROR(VLOOKUP(U21,Tabelas!B:D,3,0),0),\"\")","v":0},{"$f":"IF(A21<>\"\",IFERROR(VLOOKUP(V21,Tabelas!B:D,3,0),0),\"\")","v":0},{"$f":"IF(A21<>\"\",IFERROR(VLOOKUP(W21,Tabelas!B:D,3,0),0),\"\")","v":0},{"$f":"IF(A21<>\"\",IFERROR(VLOOKUP(X21,Tabelas!B:D,3,0),0),\"\")","v":0},{"$f":"IF(A21<>\"\",IFERROR(VLOOKUP(Y21,Tabelas!B:D,3,0),0),\"\")","v":0},{"$f":"IF(A21<>\"\",IFERROR(VLOOKUP(Z21,Tabelas!B:D,3,0),0),\"\")","v":0},{"$f":"IF(A21<>\"\",IFERROR(VLOOKUP(AA21,Tabelas!B:D,3,0),0),\"\")","v":0},{"$f":"IF(A21<>\"\",IFERROR(VLOOKUP(AB21,Tabelas!B:D,3,0),0),\"\")","v":0},{"$f":"IF(A21<>\"\",IFERROR(VLOOKUP(AC21,Tabelas!B:D,3,0),0),\"\")","v":0},{"$f":"IF(A21<>\"\",IFERROR(VLOOKUP(AD21,Tabelas!B:D,3,0),0),\"\")","v":0},{"$f":"IF(A21<>\"\",IFERROR(VLOOKUP(AE21,Tabelas!B:D,3,0),0),\"\")","v":0},{"$f":"IF(A21<>\"\",IFERROR(VLOOKUP(AF21,Tabelas!B:D,3,0),0),\"\")","v":0},{"$f":"IF(A21<>\"\",IFERROR(VLOOKUP(AG21,Tabelas!B:D,3,0),0),\"\")","v":0},{"$f":"IF(A21<>\"\",IFERROR(VLOOKUP(AH21,Tabelas!B:D,3,0),0),\"\")","v":0},{"$f":"IF(A21<>\"\",IFERROR(VLOOKUP(AI21,Tabelas!B:D,3,0),0),\"\")","v":0},{"$f":"IF(A21<>\"\",IFERROR(VLOOKUP(AJ21,Tabelas!B:D,3,0),0),\"\")","v":0},{"$f":"IF(A21<>\"\",IFERROR(VLOOKUP(AK21,Tabelas!B:D,3,0),0),\"\")","v":0},{"$f":"IF(A21<>\"\",IFERROR(VLOOKUP(AL21,Tabelas!B:D,3,0),0),\"\")","v":0},{"$f":"IF(A21<>\"\",IFERROR(VLOOKUP(AM21,Tabelas!B:D,3,0),0),\"\")","v":0},{"$f":"IF(A21<>\"\",IFERROR(VLOOKUP(AN21,Tabelas!B:D,3,0),0),\"\")","v":0},{"$f":"IF(A21<>\"\",IFERROR(VLOOKUP(AO21,Tabelas!B:D,3,0),0),\"\")","v":0},{"$f":"IF(A21<>\"\",IFERROR(VLOOKUP(AP21,Tabelas!B:D,3,0),0),\"\")","v":0},{"$f":"IF(A21<>\"\",IFERROR(VLOOKUP(AQ21,Tabelas!B:D,3,0),0),\"\")","v":0},{"$f":"IF(A21<>\"\",IFERROR(VLOOKUP(AR21,Tabelas!B:D,3,0),0),\"\")","v":0},0,0,0,0,0,0,0,0,0]
["Fulano de Tal 14",1234567,123,"ENF","Ebserh",36,null,null,null,null,null,null,null,null,null,null,null,null,null,null,null,null,null,null,null,null,null,null,null,null,null,null,null,null,null,null,null,null,null,null,null,null,null,null,{"$f":"IF(A22<>\"\",IFERROR(VLOOKUP(N22,Tabelas!B:D,3,0),0),\"\")","v":0},{"$f":"IF(A22<>\"\",IFERROR(VLOOKUP(O22,Tabelas!B:D,3,0),0),\"\")","v":0},{"$f":"IF(A22<>\"\",IFERROR(VLOOKUP(P22,Tabelas!B:D,3,0),0),\"\")","v":0},{"$f":"IF(A22<>\"\",IFERROR(VLOOKUP(Q22,Tabelas!B:D,3,0),0),\"\")","v":0},{"$f":"IF(A22<>\"\",IFERROR(VLOOKUP(R22,Tabelas!B:D,3,0),0),\"\")","v":0},{"$f":"IF(A22<>\"\",IFERROR(VLOOKUP(S22,Tabelas!B:D,3,0),0),\"\")","v":0},{"$f":"IF(A22<>\"\",IFERROR(VLOOKUP(T22,Tabelas!B:D,3,0),0),\"\")","v":0},{"$f":"IF(A22<>\"\",IFERROR(VLOOKUP(U22,Tabelas!B:D,3,0),0),\"\")","v":0},{"$f":"IF(A22<>\"\",IFERROR(VLOOKUP(V22,Tabelas!B:D,3,0),0),\"\")","v":0},{"$f":"IF(A22<>\"\",IFERROR(VLOOKUP(W22,Tabelas!B:D,3,0),0),\"\")","v":0},{"$f":"IF(A22<>\"\",IFERROR(VLOOKUP(X22,Tabelas!B:D,3,0),0),\"\")","v":0},{"$f":"IF(A22<>\"\",IFERROR(VLOOKUP(Y22,Tabelas!B:D,3,0),0),\"\")","v":0},{"$f":"IF(A22<>\"\",IFERROR(VLOOKUP(Z22,Tabelas!B:D,3,0),0),\"\")","v":0},{"$f":"IF(A22<>\"\",IFERROR(VLOOKUP(AA22,Tabelas!B:D,3,0),0),\"\")","v":0},{"$f":"IF(A22<>\"\",IFERROR(VLOOKUP(AB22,Tabelas!B:D,3,0),0),\"\")","v":0},{"$f":"IF(A22<>\"\",IFERROR(VLOOKUP(AC22,Tabelas!B:D,3,0),0),\"\")","v":0},{"$f":"IF(A22<>\"\",IFERROR(VLOOKUP(AD22,Tabelas!B:D,3,0),0),\"\")","v":0},{"$f":"IF(A22<>\"\",IFERROR(VLOOKUP(AE22,Tabelas!B:D,3,0),0),\"\")","v":0},{"$f":"IF(A22<>\"\",IFERROR(VLOOKUP(AF22,Tabelas!B:D,3,0),0),\"\")","v":0},{"$f":"IF(A22<>\"\",IFERROR(VLOOKUP(AG22,Tabelas!B:D,3,0),0),\"\")","v":0},{"$f":"IF(A22<>\"\",IFERROR(VLOOKUP(AH22,Tabelas!B:D,3,0),0),\"\")","v":0},{"$f":"IF(A22<>\"\",IFERROR(VLOOKUP(AI22,Tabelas!B:D,3,0),0),\"\")","v":0},{"$f":"IF(A22<>\"\",IFERROR(VLOOKUP(AJ22,Tabelas!B:D,3,0),0),\"\")","v":0},{"$f":"IF(A22<>\"\",IFERROR(VLOOKUP(AK22,Tabelas!B:D,3,0),0),\"\")","v":0},{"$f":"IF(A22<>\"\",IFERROR(VLOOKUP(AL22,Tabelas!B:D,3,0),0),\"\")","v":0},{"$f":"IF(A22<>\"\",IFERROR(VLOOKUP(AM22,Tabelas!B:D,3,0),0),\"\")","v":0},{"$f":"IF(A22<>\"\",IFERROR(VLOOKUP(AN22,Tabelas!B:D,3,0),0),\"\")","v":0},{"$f":"IF(A22<>\"\",IFERROR(VLOOKUP(AO22,Tabelas!B:D,3,0),0),\"\")","v":0},{"$f":"IF(A22<>\"\",IFERROR(VLOOKUP(AP22,Tabelas!B:D,3,0),0),\"\")","v":0},{"$f":"IF(A22<>\"\",IFERROR(VLOOKUP(AQ22,Tabelas!B:D,3,0),0),\"\")","v":0},{"$f":"IF(A22<>\"\",IFERROR(VLOOKUP(AR22,Tabelas!B:D,3,0),0),\"\")","v":0},0,0,0,0,0,0,0,0,0]
["Fulano de Tal 15",1234567,123,"ENF","Ebserh",36,null,null,null,null,null,null,null,null,null,null,null,null,null,null,null,null,null,null,null,null,null,null,null,null,null,null,null,null,null,null,null,null,null,null,null,null,null,null,{"$f":"IF(A23<>\"\",IFERROR(VLOOKUP(N23,Tabelas!B:D,3,0),0),\"\")","v":0},{"$f":"IF(A23<>\"\",IFERROR(VLOOKUP(O23,Tabelas!B:D,3,0),0),\"\")","v":0},{"$f":"IF(A23<>\"\",IFERROR(VLOOKUP(P23,Tabelas!B:D,3,0),0),\"\")","v":0},{"$f":"IF(A23<>\"\",IFERROR(VLOOKUP(Q23,Tabelas!B:D,3,0),0),\"\")","v":0},{"$f":"IF(A23<>\"\",IFERROR(VLOOKUP(R23,Tabelas!B:D,3,0),0),\"\")","v":0},{"$f":"IF(A23<>\"\",IFERROR(VLOOKUP(S23,Tabelas!B:D,3,0),0),\"\")","v":0},{"$f":"IF(A23<>\"\",IFERROR(VLOOKUP(T23,Tabelas!B:D,3,0),0),\"\")","v":0},{"$f":"IF(A23<>\"\",IFERROR(VLOOKUP(U23,Tabelas!B:D,3,0),0),\"\")","v":0},{"$f":"IF(A23<>\"\",IFERROR(VLOOKUP(V23,Tabelas!B:D,3,0),0),\"\")","v":0},{"$f":"IF(A23<>\"\",IFERROR(VLOOKUP(W23,Tabelas!B:D,3,0),0),\"\")","v":0},{"$f":"IF(A23<>\"\",IFERROR(VLOOKUP(X23,Tabelas!B:D,3,0),0),\"\")","v":0},{"$f":"IF(A23<>\"\",IFERROR(VLOOKUP(Y23,Tabelas!B:D,3,0),0),\"\")","v":0},{"$f":"IF(A23<>\"\",IFERROR(VLOOKUP(Z23,Tabelas!B:D,3,0),0),\"\")","v":0},{"$f":"IF(A23<>\"\",IFERROR(VLOOKUP(AA23,Tabelas!B:D,3,0),0),\"\")","v":0},{"$f":"IF(A23<>\"\",IFERROR(VLOOKUP(AB23,Tabelas!B:D,3,0),0),\"\")","v":0},{"$f":"IF(A23<>\"\",IFERROR(VLOOKUP(AC23,Tabelas!B:D,3,0),0),\"\")","v":0},{"$f":"IF(A23<>\"\",IFERROR(VLOOKUP(AD23,Tabelas!B:D,3,0),0),\"\")","v":0},{"$f":"IF(A23<>\"\",IFERROR(VLOOKUP(AE23,Tabelas!B:D,3,0),0),\"\")","v":0},{"$f":"IF(A23<>\"\",IFERROR(VLOOKUP(AF23,Tabelas!B:D,3,0),0),\"\")","v":0},{"$f":"IF(A23<>\"\",IFERROR(VLOOKUP(AG23,Tabelas!B:D,3,0),0),\"\")","v":0},{"$f":"IF(A23<>\"\",IFERROR(VLOOKUP(AH23,Tabelas!B:D,3,0),0),\"\")","v":0},{"$f":"IF(A23<>\"\",IFERROR(VLOOKUP(AI23,Tabelas!B:D,3,0),0),\"\")","v":0},{"$f":"IF(A23<>\"\",IFERROR(VLOOKUP(AJ23,Tabelas!B:D,3,0),0),\"\")","v":0},{"$f":"IF(A23<>\"\",IFERROR(VLOOKUP(AK23,Tabelas!B:D,3,0),0),\"\")","v":0},{"$f":"IF(A23<>\"\",IFERROR(VLOOKUP(AL23,Tabelas!B:D,3,0),0),\"\")","v":0},{"$f":"IF(A23<>\"\",IFERROR(VLOOKUP(AM23,Tabelas!B:D,3,0),0),\"\")","v":0},{"$f":"IF(A23<>\"\",IFERROR(VLOOKUP(AN23,Tabelas!B:D,3,0),0),\"\")","v":0},{"$f":"IF(A23<>\"\",IFERROR(VLOOKUP(AO23,Tabelas!B:D,3,0),0),\"\")","v":0},{"$f":"IF(A23<>\"\",IFERROR(VLOOKUP(AP23,Tabelas!B:D,3,0),0),\"\")","v":0},{"$f":"IF(A23<>\"\",IFERROR(VLOOKUP(AQ23,Tabelas!B:D,3,0),0),\"\")","v":0},{"$f":"IF(A23<>\"\",IFERROR(VLOOKUP(AR23,Tabelas!B:D,3,0),0),\"\")","v":0},0,0,0,0,0,0,0,0,0]
["Fulano de Tal 16",1234567,123,"ENF","Ebserh",36,null,null,null,null,null,null,null,null,null,null,null,null,null,null,null,null,null,null,null,null,null,null,null,null,null,null,null,null,null,null,null,null,null,null,null,null,null,null,{"$f":"IF(A24<>\"\",IFERROR(VLOOKUP(N24,Tabelas!B:D,3,0),0),\"\")","v":0},{"$f":"IF(A24<>\"\",IFERROR(VLOOKUP(O24,Tabelas!B:D,3,0),0),\"\")","v":0},{"$f":"IF(A24<>\"\",IFERROR(VLOOKUP(P24,Tabelas!B:D,3,0),0),\"\")","v":0},{"$f":"IF(A24<>\"\",IFERROR(VLOOKUP(Q24,Tabelas!B:D,3,0),0),\"\")","v":0},{"$f":"IF(A24<>\"\",IFERROR(VLOOKUP(R24,Tabelas!B:D,3,0),0),\"\")","v":0},{"$f":"IF(A24<>\"\",IFERROR(VLOOKUP(S24,Tabelas!B:D,3,0),0),\"\")","v":0},{"$f":"IF(A24<>\"\",IFERROR(VLOOKUP(T24,Tabelas!B:D,3,0),0),\"\")","v":0},{"$f":"IF(A24<>\"\",IFERROR(VLOOKUP(U24,Tabelas!B:D,3,0),0),\"\")","v":0},{"$f":"IF(A24<>\"\",IFERROR(VLOOKUP(V24,Tabelas!B:D,3,0),0),\"\")","v":0},{"$f":"IF(A24<>\"\",IFERROR(VLOOKUP(W24,Tabelas!B:D,3,0),0),\"\")","v":0},{"$f":"IF(A24<>\"\",IFERROR(VLOOKUP(X24,Tabelas!B:D,3,0),0),\"\")","v":0},{"$f":"IF(A24<>\"\",IFERROR(VLOOKUP(Y24,Tabelas!B:D,3,0),0),\"\")","v":0},{"$f":"IF(A24<>\"\",IFERROR(VLOOKUP(Z24,Tabelas!B:D,3,0),0),\"\")","v":0},{"$f":"IF(A24<>\"\",IFERROR(VLOOKUP(AA24,Tabelas!B:D,3,0),0),\"\")","v":0},{"$f":"IF(A24<>\"\",IFERROR(VLOOKUP(AB24,Tabelas!B:D,3,0),0),\"\")","v":0},{"$f":"IF(A24<>\"\",IFERROR(VLOOKUP(AC24,Tabelas!B:D,3,0),0),\"\")","v":0},{"$f":"IF(A24<>\"\",IFERROR(VLOOKUP(AD24,Tabelas!B:D,3,0),0),\"\")","v":0},{"$f":"IF(A24<>\"\",IFERROR(VLOOKUP(AE24,Tabelas!B:D,3,0),0),\"\")","v":0},{"$f":"IF(A24<>\"\",IFERROR(VLOOKUP(AF24,Tabelas!B:D,3,0),0),\"\")","v":0},{"$f":"IF(A24<>\"\",IFERROR(VLOOKUP(AG24,Tabelas!B:D,3,0),0),\"\")","v":0},{"$f":"IF(A24<>\"\",IFERROR(VLOOKUP(AH24,Tabelas!B:D,3,0),0),\"\")","v":0},{"$f":"IF(A24<>\"\",IFERROR(VLOOKUP(AI24,Tabelas!B:D,3,0),0),\"\")","v":0},{"$f":"IF(A24<>\"\",IFERROR(VLOOKUP(AJ24,Tabelas!B:D,3,0),0),\"\")","v":0},{"$f":"IF(A24<>\"\",IFERROR(VLOOKUP(AK24,Tabelas!B:D,3,0),0),\"\")","v":0},{"$f":"IF(A24<>\"\",IFERROR(VLOOKUP(AL24,Tabelas!B:D,3,0),0),\"\")","v":0},{"$f":"IF(A24<>\"\",IFERROR(VLOOKUP(AM24,Tabelas!B:D,3,0),0),\"\")","v":0},{"$f":"IF(A24<>\"\",IFERROR(VLOOKUP(AN24,Tabelas!B:D,3,0),0),\"\")","v":0},{"$f":"IF(A24<>\"\",IFERROR(VLOOKUP(AO24,Tabelas!B:D,3,0),0),\"\")","v":0},{"$f":"IF(A24<>\"\",IFERROR(VLOOKUP(AP24,Tabelas!B:D,3,0),0),\"\")","v":0},{"$f":"IF(A24<>\"\",IFERROR(VLOOKUP(AQ24,Tabelas!B:D,3,0),0),\"\")","v":0},{"$f":"IF(A24<>\"\",IFERROR(VLOOKUP(AR24,Tabelas!B:D,3,0),0),\"\")","v":0},0,0,0,0,0,0,0,0,0]
["Fulano de Tal 17",1234567,123,"ENF","Ebserh",36,null,null,null,null,null,null,null,null,null,null,null,null,null,null,null,null,null,null,null,null,null,null,null,null,null,null,null,null,null,null,null,null,null,null,null,null,null,null,{"$f":"IF(A25<>\"\",IFERROR(VLOOKUP(N25,Tabelas!B:D,3,0),0),\"\")","v":0},{"$f":"IF(A25<>\"\",IFERROR(VLOOKUP(O25,Tabelas!B:D,3,0),0),\"\")","v":0},{"$f":"IF(A25<>\"\",IFERROR(VLOOKUP(P25,Tabelas!B:D,3,0),0),\"\")","v":0},{"$f":"IF(A25<>\"\",IFERROR(VLOOKUP(Q25,Tabelas!B:D,3,0),0),\"\")","v":0},{"$f":"IF(A25<>\"\",IFERROR(VLOOKUP(R25,Tabelas!B:D,3,0),0),\"\")","v":0},{"$f":"IF(A25<>\"\",IFERROR(VLOOKUP(S25,Tabelas!B:D,3,0),0),\"\")","v":0},{"$f":"IF(A25<>\"\",IFERROR(VLOOKUP(T25,Tabelas!B:D,3,0),0),\"\")","v":0},{"$f":"IF(A25<>\"\",IFERROR(VLOOKUP(U25,Tabelas!B:D,3,0),0),\"\")","v":0},{"$f":"IF(A25<>\"\",IFERROR(VLOOKUP(V25,Tabelas!B:D,3,0),0),\"\")","v":0},{"$f":"IF(A25<>\"\",IFERROR(VLOOKUP(W25,Tabelas!B:D,3,0),0),\"\")","v":0},{"$f":"IF(A25<>\"\",IFERROR(VLOOKUP(X25,Tabelas!B:D,3,0),0),\"\")","v":0},{"$f":"IF(A25<>\"\",IFERROR(VLOOKUP(Y25,Tabelas!B:D,3,0),0),\"\")","v":0},{"$f":"IF(A25<>\"\",IFERROR(VLOOKUP(Z25,Tabelas!B:D,3,0),0),\"\")","v":0},{"$f":"IF(A25<>\"\",IFERROR(VLOOKUP(AA25,Tabelas!B:D,3,0),0),\"\")","v":0},{"$f":"IF(A25<>\"\",IFERROR(VLOOKUP(AB25,Tabelas!B:D,3,0),0),\"\")","v":0},{"$f":"IF(A25<>\"\",IFERROR(VLOOKUP(AC25,Tabelas!B:D,3,0),0),\"\")","v":0},{"$f":"IF(A25<>\"\",IFERROR(VLOOKUP(AD25,Tabelas!B:D,3,0),0),\"\")","v":0},{"$f":"IF(A25<>\"\",IFERROR(VLOOKUP(AE25,Tabelas!B:D,3,0),0),\"\")","v":0},{"$f":"IF(A25<>\"\",IFERROR(VLOOKUP(AF25,Tabelas!B:D,3,0),0),\"\")","v":0},{"$f":"IF(A25<>\"\",IFERROR(VLOOKUP(AG25,Tabelas!B:D,3,0),0),\"\")","v":0},{"$f":"IF(A25<>\"\",IFERROR(VLOOKUP(AH25,Tabelas!B:D,3,0),0),\"\")","v":0},{"$f":"IF(A25<>\"\",IFERROR(VLOOKUP(AI25,Tabelas!B:D,3,0),0),\"\")","v":0},{"$f":"IF(A25<>\"\",IFERROR(VLOOKUP(AJ25,Tabelas!B:D,3,0),0),\"\")","v":0},{"$f":"IF(A25<>\"\",IFERROR(VLOOKUP(AK25,Tabelas!B:D,3,0),0),\"\")","v":0},{"$f":"IF(A25<>\"\",IFERROR(VLOOKUP(AL25,Tabelas!B:D,3,0),0),\"\")","v":0},{"$f":"IF(A25<>\"\",IFERROR(VLOOKUP(AM25,Tabelas!B:D,3,0),0),\"\")","v":0},{"$f":"IF(A25<>\"\",IFERROR(VLOOKUP(AN25,Tabelas!B:D,3,0),0),\"\")","v":0},{"$f":"IF(A25<>\"\",IFERROR(VLOOKUP(AO25,Tabelas!B:D,3,0),0),\"\")","v":0},{"$f":"IF(A25<>\"\",IFERROR(VLOOKUP(AP25,Tabelas!B:D,3,0),0),\"\")","v":0},{"$f":"IF(A25<>\"\",IFERROR(VLOOKUP(AQ25,Tabelas!B:D,3,0),0),\"\")","v":0},{"$f":"IF(A25<>\"\",IFERROR(VLOOKUP(AR25,Tabelas!B:D,3,0),0),\"\")","v":0},0,0,0,0,0,0,0,0,0]
["Fulano de Tal 18",1234567,123,"ENF","Ebserh",36,null,null,null,null,null,null,null,null,null,null,null,null,null,null,null,null,null,null,null,null,null,null,null,null,null,null,null,null,null,null,null,null,null,null,null,null,null,null,{"$f":"IF(A26<>\"\",IFERROR(VLOOKUP(N26,Tabelas!B:D,3,0),0),\"\")","v":0},{"$f":"IF(A26<>\"\",IFERROR(VLOOKUP(O26,Tabelas!B:D,3,0),0),\"\")","v":0},{"$f":"IF(A26<>\"\",IFERROR(VLOOKUP(P26,Tabelas!B:D,3,0),0),\"\")","v":0},{"$f":"IF(A26<>\"\",IFERROR(VLOOKUP(Q26,Tabelas!B:D,3,0),0),\"\")","v":0},{"$f":"IF(A26<>\"\",IFERROR(VLOOKUP(R26,Tabelas!B:D,3,0),0),\"\")","v":0},{"$f":"IF(A26<>\"\",IFERROR(VLOOKUP(S26,Tabelas!B:D,3,0),0),\"\")","v":0},{"$f":"IF(A26<>\"\",IFERROR(VLOOKUP(T26,Tabelas!B:D,3,0),0),\"\")","v":0},{"$f":"IF(A26<>\"\",IFERROR(VLOOKUP(U26,Tabelas!B:D,3,0),0),\"\")","v":0},{"$f":"IF(A26<>\"\",IFERROR(VLOOKUP(V26,Tabelas!B:D,3,0),0),\"\")","v":0},{"$f":"IF(A26<>\"\",IFERROR(VLOOKUP(W26,Tabelas!B:D,3,0),0),\"\")","v":0},{"$f":"IF(A26<>\"\",IFERROR(VLOOKUP(X26,Tabelas!B:D,3,0),0),\"\")","v":0},{"$f":"IF(A26<>\"\",IFERROR(VLOOKUP(Y26,Tabelas!B:D,3,0),0),\"\")","v":0},{"$f":"IF(A26<>\"\",IFERROR(VLOOKUP(Z26,Tabelas!B:D,3,0),0),\"\")","v":0},{"$f":"IF(A26<>\"\",IFERROR(VLOOKUP(AA26,Tabelas!B:D,3,0),0),\"\")","v":0},{"$f":"IF(A26<>\"\",IFERROR(VLOOKUP(AB26,Tabelas!B:D,3,0),0),\"\")","v":0},{"$f":"IF(A26<>\"\",IFERROR(VLOOKUP(AC26,Tabelas!B:D,3,0),0),\"\")","v":0},{"$f":"IF(A26<>\"\",IFERROR(VLOOKUP(AD26,Tabelas!B:D,3,0),0),\"\")","v":0},{"$f":"IF(A26<>\"\",IFERROR(VLOOKUP(AE26,Tabelas!B:D,3,0),0),\"\")","v":0},{"$f":"IF(A26<>\"\",IFERROR(VLOOKUP(AF26,Tabelas!B:D,3,0),0),\"\")","v":0},{"$f":"IF(A26<>\"\",IFERROR(VLOOKUP(AG26,Tabelas!B:D,3,0),0),\"\")","v":0},{"$f":"IF(A26<>\"\",IFERROR(VLOOKUP(AH26,Tabelas!B:D,3,0),0),\"\")","v":0},{"$f":"IF(A26<>\"\",IFERROR(VLOOKUP(AI26,Tabelas!B:D,3,0),0),\"\")","v":0},{"$f":"IF(A26<>\"\",IFERROR(VLOOKUP(AJ26,Tabelas!B:D,3,0),0),\"\")","v":0},{"$f":"IF(A26<>\"\",IFERROR(VLOOKUP(AK26,Tabelas!B:D,3,0),0),\"\")","v":0},{"$f":"IF(A26<>\"\",IFERROR(VLOOKUP(AL26,Tabelas!B:D,3,0),0),\"\")","v":0},{"$f":"IF(A26<>\"\",IFERROR(VLOOKUP(AM26,Tabelas!B:D,3,0),0),\"\")","v":0},{"$f":"IF(A26<>\"\",IFERROR(VLOOKUP(AN26,Tabelas!B:D,3,0),0),\"\")","v":0},{"$f":"IF(A26<>\"\",IFERROR(VLOOKUP(AO26,Tabelas!B:D,3,0),0),\"\")","v":0},{"$f":"IF(A26<>\"\",IFERROR(VLOOKUP(AP26,Tabelas!B:D,3,0),0),\"\")","v":0},{"$f":"IF(A26<>\"\",IFERROR(VLOOKUP(AQ26,Tabelas!B:D,3,0),0),\"\")","v":0},{"$f":"IF(A26<>\"\",IFERROR(VLOOKUP(AR26,Tabelas!B:D,3,0),0),\"\")","v":0},0,0,0,0,0,0,0,0,0]
["Fulano de Tal 19",1234567,123,"ENF","Ebserh",36,null,null,null,null,null,null,null,null,null,null,null,null,null,null,null,null,null,null,null,null,null,null,null,null,null,null,null,null,null,null,null,null,null,null,null,null,null,null,{"$f":"IF(A27<>\"\",IFERROR(VLOOKUP(N27,Tabelas!B:D,3,0),0),\"\")","v":0},{"$f":"IF(A27<>\"\",IFERROR(VLOOKUP(O27,Tabelas!B:D,3,0),0),\"\")","v":0},{"$f":"IF(A27<>\"\",IFERROR(VLOOKUP(P27,Tabelas!B:D,3,0),0),\"\")","v":0},{"$f":"IF(A27<>\"\",IFERROR(VLOOKUP(Q27,Tabelas!B:D,3,0),0),\"\")","v":0},{"$f":"IF(A27<>\"\",IFERROR(VLOOKUP(R27,Tabelas!B:D,3,0),0),\"\")","v":0},{"$f":"IF(A27<>\"\",IFERROR(VLOOKUP(S27,Tabelas!B:D,3,0),0),\"\")","v":0},{"$f":"IF(A27<>\"\",IFERROR(VLOOKUP(T27,Tabelas!B:D,3,0),0),\"\")","v":0},{"$f":"IF(A27<>\"\",IFERROR(VLOOKUP(U27,Tabelas!B:D,3,0),0),\"\")","v":0},{"$f":"IF(A27<>\"\",IFERROR(VLOOKUP(V27,Tabelas!B:D,3,0),0),\"\")","v":0},{"$f":"IF(A27<>\"\",IFERROR(VLOOKUP(W27,Tabelas!B:D,3,0),0),\"\")","v":0},{"$f":"IF(A27<>\"\",IFERROR(VLOOKUP(X27,Tabelas!B:D,3,0),0),\"\")","v":0},{"$f":"IF(A27<>\"\",IFERROR(VLOOKUP(Y27,Tabelas!B:D,3,0),0),\"\")","v":0},{"$f":"IF(A27<>\"\",IFERROR(VLOOKUP(Z27,Tabelas!B:D,3,0),0),\"\")","v":0},{"$f":"IF(A27<>\"\",IFERROR(VLOOKUP(AA27,Tabelas!B:D,3,0),0),\"\")","v":0},{"$f":"IF(A27<>\"\",IFERROR(VLOOKUP(AB27,Tabelas!B:D,3,0),0),\"\")","v":0},{"$f":"IF(A27<>\"\",IFERROR(VLOOKUP(AC27,Tabelas!B:D,3,0),0),\"\")","v":0},{"$f":"IF(A27<>\"\",IFERROR(VLOOKUP(AD27,Tabelas!B:D,3,0),0),\"\")","v":0},{"$f":"IF(A27<>\"\",IFERROR(VLOOKUP(AE27,Tabelas!B:D,3,0),0),\"\")","v":0},{"$f":"IF(A27<>\"\",IFERROR(VLOOKUP(AF27,Tabelas!B:D,3,0),0),\"\")","v":0},{"$f":"IF(A27<>\"\",IFERROR(VLOOKUP(AG27,Tabelas!B:D,3,0),0),\"\")","v":0},{"$f":"IF(A27<>\"\",IFERROR(VLOOKUP(AH27,Tabelas!B:D,3,0),0),\"\")","v":0},{"$f":"IF(A27<>\"\",IFERROR(VLOOKUP(AI27,Tabelas!B:D,3,0),0),\"\")","v":0},{"$f":"IF(A27<>\"\",IFERROR(VLOOKUP(AJ27,Tabelas!B:D,3,0),0),\"\")","v":0},{"$f":"IF(A27<>\"\",IFERROR(VLOOKUP(AK27,Tabelas!B:D,3,0),0),\"\")","v":0},{"$f":"IF(A27<>\"\",IFERROR(VLOOKUP(AL27,Tabelas!B:D,3,0),0),\"\")","v":0},{"$f":"IF(A27<>\"\",IFERROR(VLOOKUP(AM27,Tabelas!B:D,3,0),0),\"\")","v":0},{"$f":"IF(A27<>\"\",IFERROR(VLOOKUP(AN27,Tabelas!B:D,3,0),0),\"\")","v":0},{"$f":"IF(A27<>\"\",IFERROR(VLOOKUP(AO27,Tabelas!B:D,3,0),0),\"\")","v":0},{"$f":"IF(A27<>\"\",IFERROR(VLOOKUP(AP27,Tabelas!B:D,3,0),0),\"\")","v":0},{"$f":"IF(A27<>\"\",IFERROR(VLOOKUP(AQ27,Tabelas!B:D,3,0),0),\"\")","v":0},{"$f":"IF(A27<>\"\",IFERROR(VLOOKUP(AR27,Tabelas!B:D,3,0),0),\"\")","v":0},0,0,0,0,0,0,0,0,0]
["Fulano de Tal 20",1234567,123,"ENF","Ebserh",36,null,null,null,null,null,null,null,null,null,null,null,null,null,null,null,null,null,null,null,null,null,null,null,null,null,null,null,null,null,null,null,null,null,null,null,null,null,null,{"$f":"IF(A28<>\"\",IFERROR(VLOOKUP(N28,Tabelas!B:D,3,0),0),\"\")","v":0},{"$f":"IF(A28<>\"\",IFERROR(VLOOKUP(O28,Tabelas!B:D,3,0),0),\"\")","v":0},{"$f":"IF(A28<>\"\",IFERROR(VLOOKUP(P28,Tabelas!B:D,3,0),0),\"\")","v":0},{"$f":"IF(A28<>\"\",IFERROR(VLOOKUP(Q28,Tabelas!B:D,3,0),0),\"\")","v":0},{"$f":"IF(A28<>\"\",IFERROR(VLOOKUP(R28,Tabelas!B:D,3,0),0),\"\")","v":0},{"$f":"IF(A28<>\"\",IFERROR(VLOOKUP(S28,Tabelas!B:D,3,0),0),\"\")","v":0},{"$f":"IF(A28<>\"\",IFERROR(VLOOKUP(T28,Tabelas!B:D,3,0),0),\"\")","v":0},{"$f":"IF(A28<>\"\",IFERROR(VLOOKUP(U28,Tabelas!B:D,3,0),0),\"\")","v":0},{"$f":"IF(A28<>\"\",IFERROR(VLOOKUP(V28,Tabelas!B:D,3,0),0),\"\")","v":0},{"$f":"IF(A28<>\"\",IFERROR(VLOOKUP(W28,Tabelas!B:D,3,0),0),\"\")","v":0},{"$f":"IF(A28<>\"\",IFERROR(VLOOKUP(X28,Tabelas!B:D,3,0),0),\"\")","v":0},{"$f":"IF(A28<>\"\",IFERROR(VLOOKUP(Y28,Tabelas!B:D,3,0),0),\"\")","v":0},{"$f":"IF(A28<>\"\",IFERROR(VLOOKUP(Z28,Tabelas!B:D,3,0),0),\"\")","v":0},{"$f":"IF(A28<>\"\",IFERROR(VLOOKUP(AA28,Tabelas!B:D,3,0),0),\"\")","v":0},{"$f":"IF(A28<>\"\",IFERROR(VLOOKUP(AB28,Tabelas!B:D,3,0),0),\"\")","v":0},{"$f":"IF(A28<>\"\",IFERROR(VLOOKUP(AC28,Tabelas!B:D,3,0),0),\"\")","v":0},{"$f":"IF(A28<>\"\",IFERROR(VLOOKUP(AD28,Tabelas!B:D,3,0),0),\"\")","v":0},{"$f":"IF(A28<>\"\",IFERROR(VLOOKUP(AE28,Tabelas!B:D,3,0),0),\"\")","v":0},{"$f":"IF(A28<>\"\",IFERROR(VLOOKUP(AF28,Tabelas!B:D,3,0),0),\"\")","v":0},{"$f":"IF(A28<>\"\",IFERROR(VLOOKUP(AG28,Tabelas!B:D,3,0),0),\"\")","v":0},{"$f":"IF(A28<>\"\",IFERROR(VLOOKUP(AH28,Tabelas!B:D,3,0),0),\"\")","v":0},{"$f":"IF(A28<>\"\",IFERROR(VLOOKUP(AI28,Tabelas!B:D,3,0),0),\"\")","v":0},{"$f":"IF(A28<>\"\",IFERROR(VLOOKUP(AJ28,Tabelas!B:D,3,0),0),\"\")","v":0},{"$f":"IF(A28<>\"\",IFERROR(VLOOKUP(AK28,Tabelas!B:D,3,0),0),\"\")","v":0},{"$f":"IF(A28<>\"\",IFERROR(VLOOKUP(AL28,Tabelas!B:D,3,0),0),\"\")","v":0},{"$f":"IF(A28<>\"\",IFERROR(VLOOKUP(AM28,Tabelas!B:D,3,0),0),\"\")","v":0},{"$f":"IF(A28<>\"\",IFERROR(VLOOKUP(AN28,Tabelas!B:D,3,0),0),\"\")","v":0},{"$f":"IF(A28<>\"\",IFERROR(VLOOKUP(AO28,Tabelas!B:D,3,0),0),\"\")","v":0},{"$f":"IF(A28<>\"\",IFERROR(VLOOKUP(AP28,Tabelas!B:D,3,0),0),\"\")","v":0},{"$f":"IF(A28<>\"\",IFERROR(VLOOKUP(AQ28,Tabelas!B:D,3,0),0),\"\")","v":0},{"$f":"IF(A28<>\"\",IFERROR(VLOOKUP(AR28,Tabelas!B:D,3,0),0),\"\")","v":0},0,0,0,0,0,0,0,0,0]
["Fulano de Tal 21",1234567,123,"ENF","Ebserh",36,null,null,null,null,null,null,null,null,null,null,null,null,null,null,null,null,null,null,null,null,null,null,null,null,null,null,null,null,null,null,null,null,null,null,null,null,null,null,{"$f":"IF(A29<>\"\",IFERROR(VLOOKUP(N29,Tabelas!B:D,3,0),0),\"\")","v":0},{"$f":"IF(A29<>\"\",IFERROR(VLOOKUP(O29,Tabelas!B:D,3,0),0),\"\")","v":0},{"$f":"IF(A29<>\"\",IFERROR(VLOOKUP(P29,Tabelas!B:D,3,0),0),\"\")","v":0},{"$f":"IF(A29<>\"\",IFERROR(VLOOKUP(Q29,Tabelas!B:D,3,0),0),\"\")","v":0},{"$f":"IF(A29<>\"\",IFERROR(VLOOKUP(R29,Tabelas!B:D,3,0),0),\"\")","v":0},{"$f":"IF(A29<>\"\",IFERROR(VLOOKUP(S29,Tabelas!B:D,3,0),0),\"\")","v":0},{"$f":"IF(A29<>\"\",IFERROR(VLOOKUP(T29,Tabelas!B:D,3,0),0),\"\")","v":0},{"$f":"IF(A29<>\"\",IFERROR(VLOOKUP(U29,Tabelas!B:D,3,0),0),\"\")","v":0},{"$f":"IF(A29<>\"\",IFERROR(VLOOKUP(V29,Tabelas!B:D,3,0),0),\"\")","v":0},{"$f":"IF(A29<>\"\",IFERROR(VLOOKUP(W29,Tabelas!B:D,3,0),0),\"\")","v":0},{"$f":"IF(A29<>\"\",IFERROR(VLOOKUP(X29,Tabelas!B:D,3,0),0),\"\")","v":0},{"$f":"IF(A29<>\"\",IFERROR(VLOOKUP(Y29,Tabelas!B:D,3,0),0),\"\")","v":0},{"$f":"IF(A29<>\"\",IFERROR(VLOOKUP(Z29,Tabelas!B:D,3,0),0),\"\")","v":0},{"$f":"IF(A29<>\"\",IFERROR(VLOOKUP(AA29,Tabelas!B:D,3,0),0),\"\")","v":0},{"$f":"IF(A29<>\"\",IFERROR(VLOOKUP(AB29,Tabelas!B:D,3,0),0),\"\")","v":0},{"$f":"IF(A29<>\"\",IFERROR(VLOOKUP(AC29,Tabelas!B:D,3,0),0),\"\")","v":0},{"$f":"IF(A29<>\"\",IFERROR(VLOOKUP(AD29,Tabelas!B:D,3,0),0),\"\")","v":0},{"$f":"IF(A29<>\"\",IFERROR(VLOOKUP(AE29,Tabelas!B:D,3,0),0),\"\")","v":0},{"$f":"IF(A29<>\"\",IFERROR(VLOOKUP(AF29,Tabelas!B:D,3,0),0),\"\")","v":0},{"$f":"IF(A29<>\"\",IFERROR(VLOOKUP(AG29,Tabelas!B:D,3,0),0),\"\")","v":0},{"$f":"IF(A29<>\"\",IFERROR(VLOOKUP(AH29,Tabelas!B:D,3,0),0),\"\")","v":0},{"$f":"IF(A29<>\"\",IFERROR(VLOOKUP(AI29,Tabelas!B:D,3,0),0),\"\")","v":0},{"$f":"IF(A29<>\"\",IFERROR(VLOOKUP(AJ29,Tabelas!B:D,3,0),0),\"\")","v":0},{"$f":"IF(A29<>\"\",IFERROR(VLOOKUP(AK29,Tabelas!B:D,3,0),0),\"\")","v":0},{"$f":"IF(A29<>\"\",IFERROR(VLOOKUP(AL29,Tabelas!B:D,3,0),0),\"\")","v":0},{"$f":"IF(A29<>\"\",IFERROR(VLOOKUP(AM29,Tabelas!B:D,3,0),0),\"\")","v":0},{"$f":"IF(A29<>\"\",IFERROR(VLOOKUP(AN29,Tabelas!B:D,3,0),0),\"\")","v":0},{"$f":"IF(A29<>\"\",IFERROR(VLOOKUP(AO29,Tabelas!B:D,3,0),0),\"\")","v":0},{"$f":"IF(A29<>\"\",IFERROR(VLOOKUP(AP29,Tabelas!B:D,3,0),0),\"\")","v":0},{"$f":"IF(A29<>\"\",IFERROR(VLOOKUP(AQ29,Tabelas!B:D,3,0),0),\"\")","v":0},{"$f":"IF(A29<>\"\",IFERROR(VLOOKUP(AR29,Tabelas!B:D,3,0),0),\"\")","v":0},0,0,0,0,0,0,0,0,0]
["Fulano de Tal 22",1234567,123,"ENF","Ebserh",36,null,null,null,null,null,null,null,null,null,null,null,null,null,null,null,null,null,null,null,null,null,null,null,null,null,null,null,null,null,null,null,null,null,null,null,null,null,null,{"$f":"IF(A30<>\"\",IFERROR(VLOOKUP(N30,Tabelas!B:D,3,0),0),\"\")","v":0},{"$f":"IF(A30<>\"\",IFERROR(VLOOKUP(O30,Tabelas!B:D,3,0),0),\"\")","v":0},{"$f":"IF(A30<>\"\",IFERROR(VLOOKUP(P30,Tabelas!B:D,3,0),0),\"\")","v":0},{"$f":"IF(A30<>\"\",IFERROR(VLOOKUP(Q30,Tabelas!B:D,3,0),0),\"\")","v":0},{"$f":"IF(A30<>\"\",IFERROR(VLOOKUP(R30,Tabelas!B:D,3,0),0),\"\")","v":0},{"$f":"IF(A30<>\"\",IFERROR(VLOOKUP(S30,Tabelas!B:D,3,0),0),\"\")","v":0},{"$f":"IF(A30<>\"\",IFERROR(VLOOKUP(T30,Tabelas!B:D,3,0),0),\"\")","v":0},{"$f":"IF(A30<>\"\",IFERROR(VLOOKUP(U30,Tabelas!B:D,3,0),0),\"\")","v":0},{"$f":"IF(A30<>\"\",IFERROR(VLOOKUP(V30,Tabelas!B:D,3,0),0),\"\")","v":0},{"$f":"IF(A30<>\"\",IFERROR(VLOOKUP(W30,Tabelas!B:D,3,0),0),\"\")","v":0},{"$f":"IF(A30<>\"\",IFERROR(VLOOKUP(X30,Tabelas!B:D,3,0),0),\"\")","v":0},{"$f":"IF(A30<>\"\",IFERROR(VLOOKUP(Y30,Tabelas!B:D,3,0),0),\"\")","v":0},{"$f":"IF(A30<>\"\",IFERROR(VLOOKUP(Z30,Tabelas!B:D,3,0),0),\"\")","v":0},{"$f":"IF(A30<>\"\",IFERROR(VLOOKUP(AA30,Tabelas!B:D,3,0),0),\"\")","v":0},{"$f":"IF(A30<>\"\",IFERROR(VLOOKUP(AB30,Tabelas!B:D,3,0),0),\"\")","v":0},{"$f":"IF(A30<>\"\",IFERROR(VLOOKUP(AC30,Tabelas!B:D,3,0),0),\"\")","v":0},{"$f":"IF(A30<>\"\",IFERROR(VLOOKUP(AD30,Tabelas!B:D,3,0),0),\"\")","v":0},{"$f":"IF(A30<>\"\",IFERROR(VLOOKUP(AE30,Tabelas!B:D,3,0),0),\"\")","v":0},{"$f":"IF(A30<>\"\",IFERROR(VLOOKUP(AF30,Tabelas!B:D,3,0),0),\"\")","v":0},{"$f":"IF(A30<>\"\",IFERROR(VLOOKUP(AG30,Tabelas!B:D,3,0),0),\"\")","v":0},{"$f":"IF(A30<>\"\",IFERROR(VLOOKUP(AH30,Tabelas!B:D,3,0),0),\"\")","v":0},{"$f":"IF(A30<>\"\",IFERROR(VLOOKUP(AI30,Tabelas!B:D,3,0),0),\"\")","v":0},{"$f":"IF(A30<>\"\",IFERROR(VLOOKUP(AJ30,Tabelas!B:D,3,0),0),\"\")","v":0},{"$f":"IF(A30<>\"\",IFERROR(VLOOKUP(AK30,Tabelas!B:D,3,0),0),\"\")","v":0},{"$f":"IF(A30<>\"\",IFERROR(VLOOKUP(AL30,Tabelas!B:D,3,0),0),\"\")","v":0},{"$f":"IF(A30<>\"\",IFERROR(VLOOKUP(AM30,Tabelas!B:D,3,0),0),\"\")","v":0},{"$f":"IF(A30<>\"\",IFERROR(VLOOKUP(AN30,Tabelas!B:D,3,0),0),\"\")","v":0},{"$f":"IF(A30<>\"\",IFERROR(VLOOKUP(AO30,Tabelas!B:D,3,0),0),\"\")","v":0},{"$f":"IF(A30<>\"\",IFERROR(VLOOKUP(AP30,Tabelas!B:D,3,0),0),\"\")","v":0},{"$f":"IF(A30<>\"\",IFERROR(VLOOKUP(AQ30,Tabelas!B:D,3,0),0),\"\")","v":0},{"$f":"IF(A30<>\"\",IFERROR(VLOOKUP(AR30,Tabelas!B:D,3,0),0),\"\")","v":0},0,0,0,0,0,0,0,0,0]
["Fulano de Tal 23",1234567,123,"ENF","Ebserh",36,null,null,null,null,null,null,null,null,null,null,null,null,null,null,null,null,null,null,null,null,null,null,null,null,null,null,null,null,null,null,null,null,null,null,null,null,null,null,{"$f":"IF(A31<>\"\",IFERROR(VLOOKUP(N31,Tabelas!B:D,3,0),0),\"\")","v":0},{"$f":"IF(A31<>\"\",IFERROR(VLOOKUP(O31,Tabelas!B:D,3,0),0),\"\")","v":0},{"$f":"IF(A31<>\"\",IFERROR(VLOOKUP(P31,Tabelas!B:D,3,0),0),\"\")","v":0},{"$f":"IF(A31<>\"\",IFERROR(VLOOKUP(Q31,Tabelas!B:D,3,0),0),\"\")","v":0},{"$f":"IF(A31<>\"\",IFERROR(VLOOKUP(R31,Tabelas!B:D,3,0),0),\"\")","v":0},{"$f":"IF(A31<>\"\",IFERROR(VLOOKUP(S31,Tabelas!B:D,3,0),0),\"\")","v":0},{"$f":"IF(A31<>\"\",IFERROR(VLOOKUP(T31,Tabelas!B:D,3,0),0),\"\")","v":0},{"$f":"IF(A31<>\"\",IFERROR(VLOOKUP(U31,Tabelas!B:D,3,0),0),\"\")","v":0},{"$f":"IF(A31<>\"\",IFERROR(VLOOKUP(V31,Tabelas!B:D,3,0),0),\"\")","v":0},{"$f":"IF(A31<>\"\",IFERROR(VLOOKUP(W31,Tabelas!B:D,3,0),0),\"\")","v":0},{"$f":"IF(A31<>\"\",IFERROR(VLOOKUP(X31,Tabelas!B:D,3,0),0),\"\")","v":0},{"$f":"IF(A31<>\"\",IFERROR(VLOOKUP(Y31,Tabelas!B:D,3,0),0),\"\")","v":0},{"$f":"IF(A31<>\"\",IFERROR(VLOOKUP(Z31,Tabelas!B:D,3,0),0),\"\")","v":0},{"$f":"IF(A31<>\"\",IFERROR(VLOOKUP(AA31,Tabelas!B:D,3,0),0),\"\")","v":0},{"$f":"IF(A31<>\"\",IFERROR(VLOOKUP(AB31,Tabelas!B:D,3,0),0),\"\")","v":0},{"$f":"IF(A31<>\"\",IFERROR(VLOOKUP(AC31,Tabelas!B:D,3,0),0),\"\")","v":0},{"$f":"IF(A31<>\"\",IFERROR(VLOOKUP(AD31,Tabelas!B:D,3,0),0),\"\")","v":0},{"$f":"IF(A31<>\"\",IFERROR(VLOOKUP(AE31,Tabelas!B:D,3,0),0),\"\")","v":0},{"$f":"IF(A31<>\"\",IFERROR(VLOOKUP(AF31,Tabelas!B:D,3,0),0),\"\")","v":0},{"$f":"IF(A31<>\"\",IFERROR(VLOOKUP(AG31,Tabelas!B:D,3,0),0),\"\")","v":0},{"$f":"IF(A31<>\"\",IFERROR(VLOOKUP(AH31,Tabelas!B:D,3,0),0),\"\")","v":0},{"$f":"IF(A31<>\"\",IFERROR(VLOOKUP(AI31,Tabelas!B:D,3,0),0),\"\")","v":0},{"$f":"IF(A31<>\"\",IFERROR(VLOOKUP(AJ31,Tabelas!B:D,3,0),0),\"\")","v":0},{"$f":"IF(A31<>\"\",IFERROR(VLOOKUP(AK31,Tabelas!B:D,3,0),0),\"\")","v":0},{"$f":"IF(A31<>\"\",IFERROR(VLOOKUP(AL31,Tabelas!B:D,3,0),0),\"\")","v":0},{"$f":"IF(A31<>\"\",IFERROR(VLOOKUP(AM31,Tabelas!B:D,3,0),0),\"\")","v":0},{"$f":"IF(A31<>\"\",IFERROR(VLOOKUP(AN31,Tabelas!B:D,3,0),0),\"\")","v":0},{"$f":"IF(A31<>\"\",IFERROR(VLOOKUP(AO31,Tabelas!B:D,3,0),0),\"\")","v":0},{"$f":"IF(A31<>\"\",IFERROR(VLOOKUP(AP31,Tabelas!B:D,3,0),0),\"\")","v":0},{"$f":"IF(A31<>\"\",IFERROR(VLOOKUP(AQ31,Tabelas!B:D,3,0),0),\"\")","v":0},{"$f":"IF(A31<>\"\",IFERROR(VLOOKUP(AR31,Tabelas!B:D,3,0),0),\"\")","v":0},0,0,0,0,0,0,0,0,0]
["Fulano de Tal 24",1234567,123,"ENF","Ebserh",36,null,null,null,null,null,null,null,null,null,null,null,null,null,null,null,null,null,null,null,null,null,null,null,null,null,null,null,null,null,null,null,null,null,null,null,null,null,null,{"$f":"IF(A32<>\"\",IFERROR(VLOOKUP(N32,Tabelas!B:D,3,0),0),\"\")","v":0},{"$f":"IF(A32<>\"\",IFERROR(VLOOKUP(O32,Tabelas!B:D,3,0),0),\"\")","v":0},{"$f":"IF(A32<>\"\",IFERROR(VLOOKUP(P32,Tabelas!B:D,3,0),0),\"\")","v":0},{"$f":"IF(A32<>\"\",IFERROR(VLOOKUP(Q32,Tabelas!B:D,3,0),0),\"\")","v":0},{"$f":"IF(A32<>\"\",IFERROR(VLOOKUP(R32,Tabelas!B:D,3,0),0),\"\")","v":0},{"$f":"IF(A32<>\"\",IFERROR(VLOOKUP(S32,Tabelas!B:D,3,0),0),\"\")","v":0},{"$f":"IF(A32<>\"\",IFERROR(VLOOKUP(T32,Tabelas!B:D,3,0),0),\"\")","v":0},{"$f":"IF(A32<>\"\",IFERROR(VLOOKUP(U32,Tabelas!B:D,3,0),0),\"\")","v":0},{"$f":"IF(A32<>\"\",IFERROR(VLOOKUP(V32,Tabelas!B:D,3,0),0),\"\")","v":0},{"$f":"IF(A32<>\"\",IFERROR(VLOOKUP(W32,Tabelas!B:D,3,0),0),\"\")","v":0},{"$f":"IF(A32<>\"\",IFERROR(VLOOKUP(X32,Tabelas!B:D,3,0),0),\"\")","v":0},{"$f":"IF(A32<>\"\",IFERROR(VLOOKUP(Y32,Tabelas!B:D,3,0),0),\"\")","v":0},{"$f":"IF(A32<>\"\",IFERROR(VLOOKUP(Z32,Tabelas!B:D,3,0),0),\"\")","v":0},{"$f":"IF(A32<>\"\",IFERROR(VLOOKUP(AA32,Tabelas!B:D,3,0),0),\"\")","v":0},{"$f":"IF(A32<>\"\",IFERROR(VLOOKUP(AB32,Tabelas!B:D,3,0),0),\"\")","v":0},{"$f":"IF(A32<>\"\",IFERROR(VLOOKUP(AC32,Tabelas!B:D,3,0),0),\"\")","v":0},{"$f":"IF(A32<>\"\",IFERROR(VLOOKUP(AD32,Tabelas!B:D,3,0),0),\"\")","v":0},{"$f":"IF(A32<>\"\",IFERROR(VLOOKUP(AE32,Tabelas!B:D,3,0),0),\"\")","v":0},{"$f":"IF(A32<>\"\",IFERROR(VLOOKUP(AF32,Tabelas!B:D,3,0),0),\"\")","v":0},{"$f":"IF(A32<>\"\",IFERROR(VLOOKUP(AG32,Tabelas!B:D,3,0),0),\"\")","v":0},{"$f":"IF(A32<>\"\",IFERROR(VLOOKUP(AH32,Tabelas!B:D,3,0),0),\"\")","v":0},{"$f":"IF(A32<>\"\",IFERROR(VLOOKUP(AI32,Tabelas!B:D,3,0),0),\"\")","v":0},{"$f":"IF(A32<>\"\",IFERROR(VLOOKUP(AJ32,Tabelas!B:D,3,0),0),\"\")","v":0},{"$f":"IF(A32<>\"\",IFERROR(VLOOKUP(AK32,Tabelas!B:D,3,0),0),\"\")","v":0},{"$f":"IF(A32<>\"\",IFERROR(VLOOKUP(AL32,Tabelas!B:D,3,0),0),\"\")","v":0},{"$f":"IF(A32<>\"\",IFERROR(VLOOKUP(AM32,Tabelas!B:D,3,0),0),\"\")","v":0},{"$f":"IF(A32<>\"\",IFERROR(VLOOKUP(AN32,Tabelas!B:D,3,0),0),\"\")","v":0},{"$f":"IF(A32<>\"\",IFERROR(VLOOKUP(AO32,Tabelas!B:D,3,0),0),\"\")","v":0},{"$f":"IF(A32<>\"\",IFERROR(VLOOKUP(AP32,Tabelas!B:D,3,0),0),\"\")","v":0},{"$f":"IF(A32<>\"\",IFERROR(VLOOKUP(AQ32,Tabelas!B:D,3,0),0),\"\")","v":0},{"$f":"IF(A32<>\"\",IFERROR(VLOOKUP(AR32,Tabelas!B:D,3,0),0),\"\")","v":0},0,0,0,0,0,0,0,0,0]
["Fulano de Tal 25",1234567,123,"ENF","Ebserh",36,null,null,null,null,null,null,null,null,null,null,null,null,null,null,null,null,null,null,null,null,null,null,null,null,null,null,null,null,null,null,null,null,null,null,null,null,null,null,{"$f":"IF(A33<>\"\",IFERROR(VLOOKUP(N33,Tabelas!B:D,3,0),0),\"\")","v":0},{"$f":"IF(A33<>\"\",IFERROR(VLOOKUP(O33,Tabelas!B:D,3,0),0),\"\")","v":0},{"$f":"IF(A33<>\"\",IFERROR(VLOOKUP(P33,Tabelas!B:D,3,0),0),\"\")","v":0},{"$f":"IF(A33<>\"\",IFERROR(VLOOKUP(Q33,Tabelas!B:D,3,0),0),\"\")","v":0},{"$f":"IF(A33<>\"\",IFERROR(VLOOKUP(R33,Tabelas!B:D,3,0),0),\"\")","v":0},{"$f":"IF(A33<>\"\",IFERROR(VLOOKUP(S33,Tabelas!B:D,3,0),0),\"\")","v":0},{"$f":"IF(A33<>\"\",IFERROR(VLOOKUP(T33,Tabelas!B:D,3,0),0),\"\")","v":0},{"$f":"IF(A33<>\"\",IFERROR(VLOOKUP(U33,Tabelas!B:D,3,0),0),\"\")","v":0},{"$f":"IF(A33<>\"\",IFERROR(VLOOKUP(V33,Tabelas!B:D,3,0),0),\"\")","v":0},{"$f":"IF(A33<>\"\",IFERROR(VLOOKUP(W33,Tabelas!B:D,3,0),0),\"\")","v":0},{"$f":"IF(A33<>\"\",IFERROR(VLOOKUP(X33,Tabelas!B:D,3,0),0),\"\")","v":0},{"$f":"IF(A33<>\"\",IFERROR(VLOOKUP(Y33,Tabelas!B:D,3,0),0),\"\")","v":0},{"$f":"IF(A33<>\"\",IFERROR(VLOOKUP(Z33,Tabelas!B:D,3,0),0),\"\")","v":0},{"$f":"IF(A33<>\"\",IFERROR(VLOOKUP(AA33,Tabelas!B:D,3,0),0),\"\")","v":0},{"$f":"IF(A33<>\"\",IFERROR(VLOOKUP(AB33,Tabelas!B:D,3,0),0),\"\")","v":0},{"$f":"IF(A33<>\"\",IFERROR(VLOOKUP(AC33,Tabelas!B:D,3,0),0),\"\")","v":0},{"$f":"IF(A33<>\"\",IFERROR(VLOOKUP(AD33,Tabelas!B:D,3,0),0),\"\")","v":0},{"$f":"IF(A33<>\"\",IFERROR(VLOOKUP(AE33,Tabelas!B:D,3,0),0),\"\")","v":0},{"$f":"IF(A33<>\"\",IFERROR(VLOOKUP(AF33,Tabelas!B:D,3,0),0),\"\")","v":0},{"$f":"IF(A33<>\"\",IFERROR(VLOOKUP(AG33,Tabelas!B:D,3,0),0),\"\")","v":0},{"$f":"IF(A33<>\"\",IFERROR(VLOOKUP(AH33,Tabelas!B:D,3,0),0),\"\")","v":0},{"$f":"IF(A33<>\"\",IFERROR(VLOOKUP(AI33,Tabelas!B:D,3,0),0),\"\")","v":0},{"$f":"IF(A33<>\"\",IFERROR(VLOOKUP(AJ33,Tabelas!B:D,3,0),0),\"\")","v":0},{"$f":"IF(A33<>\"\",IFERROR(VLOOKUP(AK33,Tabelas!B:D,3,0),0),\"\")","v":0},{"$f":"IF(A33<>\"\",IFERROR(VLOOKUP(AL33,Tabelas!B:D,3,0),0),\"\")","v":0},{"$f":"IF(A33<>\"\",IFERROR(VLOOKUP(AM33,Tabelas!B:D,3,0),0),\"\")","v":0},{"$f":"IF(A33<>\"\",IFERROR(VLOOKUP(AN33,Tabelas!B:D,3,0),0),\"\")","v":0},{"$f":"IF(A33<>\"\",IFERROR(VLOOKUP(AO33,Tabelas!B:D,3,0),0),\"\")","v":0},{"$f":"IF(A33<>\"\",IFERROR(VLOOKUP(AP33,Tabelas!B:D,3,0),0),\"\")","v":0},{"$f":"IF(A33<>\"\",IFERROR(VLOOKUP(AQ33,Tabelas!B:D,3,0),0),\"\")","v":0},{"$f":"IF(A33<>\"\",IFERROR(VLOOKUP(AR33,Tabelas!B:D,3,0),0),\"\")","v":0},0,0,0,0,0,0,0,0,0]
["Fulano de Tal 26",1234567,123,"ENF","Ebserh",36,null,null,null,null,null,null,null,null,null,null,null,null,null,null,null,null,null,null,null,null,null,null,null,null,null,null,null,null,null,null,null,null,null,null,null,null,null,null,{"$f":"IF(A34<>\"\",IFERROR(VLOOKUP(N34,Tabelas!B:D,3,0),0),\"\")","v":0},{"$f":"IF(A34<>\"\",IFERROR(VLOOKUP(O34,Tabelas!B:D,3,0),0),\"\")","v":0},{"$f":"IF(A34<>\"\",IFERROR(VLOOKUP(P34,Tabelas!B:D,3,0),0),\"\")","v":0},{"$f":"IF(A34<>\"\",IFERROR(VLOOKUP(Q34,Tabelas!B:D,3,0),0),\"\")","v":0},{"$f":"IF(A34<>\"\",IFERROR(VLOOKUP(R34,Tabelas!B:D,3,0),0),\"\")","v":0},{"$f":"IF(A34<>\"\",IFERROR(VLOOKUP(S34,Tabelas!B:D,3,0),0),\"\")","v":0},{"$f":"IF(A34<>\"\",IFERROR(VLOOKUP(T34,Tabelas!B:D,3,0),0),\"\")","v":0},{"$f":"IF(A34<>\"\",IFERROR(VLOOKUP(U34,Tabelas!B:D,3,0),0),\"\")","v":0},{"$f":"IF(A34<>\"\",IFERROR(VLOOKUP(V34,Tabelas!B:D,3,0),0),\"\")","v":0},{"$f":"IF(A34<>\"\",IFERROR(VLOOKUP(W34,Tabelas!B:D,3,0),0),\"\")","v":0},{"$f":"IF(A34<>\"\",IFERROR(VLOOKUP(X34,Tabelas!B:D,3,0),0),\"\")","v":0},{"$f":"IF(A34<>\"\",IFERROR(VLOOKUP(Y34,Tabelas!B:D,3,0),0),\"\")","v":0},{"$f":"IF(A34<>\"\",IFERROR(VLOOKUP(Z34,Tabelas!B:D,3,0),0),\"\")","v":0},{"$f":"IF(A34<>\"\",IFERROR(VLOOKUP(AA34,Tabelas!B:D,3,0),0),\"\")","v":0},{"$f":"IF(A34<>\"\",IFERROR(VLOOKUP(AB34,Tabelas!B:D,3,0),0),\"\")","v":0},{"$f":"IF(A34<>\"\",IFERROR(VLOOKUP(AC34,Tabelas!B:D,3,0),0),\"\")","v":0},{"$f":"IF(A34<>\"\",IFERROR(VLOOKUP(AD34,Tabelas!B:D,3,0),0),\"\")","v":0},{"$f":"IF(A34<>\"\",IFERROR(VLOOKUP(AE34,Tabelas!B:D,3,0),0),\"\")","v":0},{"$f":"IF(A34<>\"\",IFERROR(VLOOKUP(AF34,Tabelas!B:D,3,0),0),\"\")","v":0},{"$f":"IF(A34<>\"\",IFERROR(VLOOKUP(AG34,Tabelas!B:D,3,0),0),\"\")","v":0},{"$f":"IF(A34<>\"\",IFERROR(VLOOKUP(AH34,Tabelas!B:D,3,0),0),\"\")","v":0},{"$f":"IF(A34<>\"\",IFERROR(VLOOKUP(AI34,Tabelas!B:D,3,0),0),\"\")","v":0},{"$f":"IF(A34<>\"\",IFERROR(VLOOKUP(AJ34,Tabelas!B:D,3,0),0),\"\")","v":0},{"$f":"IF(A34<>\"\",IFERROR(VLOOKUP(AK34,Tabelas!B:D,3,0),0),\"\")","v":0},{"$f":"IF(A34<>\"\",IFERROR(VLOOKUP(AL34,Tabelas!B:D,3,0),0),\"\")","v":0},{"$f":"IF(A34<>\"\",IFERROR(VLOOKUP(AM34,Tabelas!B:D,3,0),0),\"\")","v":0},{"$f":"IF(A34<>\"\",IFERROR(VLOOKUP(AN34,Tabelas!B:D,3,0),0),\"\")","v":0},{"$f":"IF(A34<>\"\",IFERROR(VLOOKUP(AO34,Tabelas!B:D,3,0),0),\"\")","v":0},{"$f":"IF(A34<>\"\",IFERROR(VLOOKUP(AP34,Tabelas!B:D,3,0),0),\"\")","v":0},{"$f":"IF(A34<>\"\",IFERROR(VLOOKUP(AQ34,Tabelas!B:D,3,0),0),\"\")","v":0},{"$f":"IF(A34<>\"\",IFERROR(VLOOKUP(AR34,Tabelas!B:D,3,0),0),\"\")","v":0},0,0,0,0,0,0,0,0,0]
["Fulano de Tal 27",1234567,123,"ENF","Ebserh",36,null,null,null,null,null,null,null,null,null,null,null,null,null,null,null,null,null,null,null,null,null,null,null,null,null,null,null,null,null,null,null,null,null,null,null,null,null,null,{"$f":"IF(A35<>\"\",IFERROR(VLOOKUP(N35,Tabelas!B:D,3,0),0),\"\")","v":0},{"$f":"IF(A35<>\"\",IFERROR(VLOOKUP(O35,Tabelas!B:D,3,0),0),\"\")","v":0},{"$f":"IF(A35<>\"\",IFERROR(VLOOKUP(P35,Tabelas!B:D,3,0),0),\"\")","v":0},{"$f":"IF(A35<>\"\",IFERROR(VLOOKUP(Q35,Tabelas!B:D,3,0),0),\"\")","v":0},{"$f":"IF(A35<>\"\",IFERROR(VLOOKUP(R35,Tabelas!B:D,3,0),0),\"\")","v":0},{"$f":"IF(A35<>\"\",IFERROR(VLOOKUP(S35,Tabelas!B:D,3,0),0),\"\")","v":0},{"$f":"IF(A35<>\"\",IFERROR(VLOOKUP(T35,Tabelas!B:D,3,0),0),\"\")","v":0},{"$f":"IF(A35<>\"\",IFERROR(VLOOKUP(U35,Tabelas!B:D,3,0),0),\"\")","v":0},{"$f":"IF(A35<>\"\",IFERROR(VLOOKUP(V35,Tabelas!B:D,3,0),0),\"\")","v":0},{"$f":"IF(A35<>\"\",IFERROR(VLOOKUP(W35,Tabelas!B:D,3,0),0),\"\")","v":0},{"$f":"IF(A35<>\"\",IFERROR(VLOOKUP(X35,Tabelas!B:D,3,0),0),\"\")","v":0},{"$f":"IF(A35<>\"\",IFERROR(VLOOKUP(Y35,Tabelas!B:D,3,0),0),\"\")","v":0},{"$f":"IF(A35<>\"\",IFERROR(VLOOKUP(Z35,Tabelas!B:D,3,0),0),\"\")","v":0},{"$f":"IF(A35<>\"\",IFERROR(VLOOKUP(AA35,Tabelas!B:D,3,0),0),\"\")","v":0},{"$f":"IF(A35<>\"\",IFERROR(VLOOKUP(AB35,Tabelas!B:D,3,0),0),\"\")","v":0},{"$f":"IF(A35<>\"\",IFERROR(VLOOKUP(AC35,Tabelas!B:D,3,0),0),\"\")","v":0},{"$f":"IF(A35<>\"\",IFERROR(VLOOKUP(AD35,Tabelas!B:D,3,0),0),\"\")","v":0},{"$f":"IF(A35<>\"\",IFERROR(VLOOKUP(AE35,Tabelas!B:D,3,0),0),\"\")","v":0},{"$f":"IF(A35<>\"\",IFERROR(VLOOKUP(AF35,Tabelas!B:D,3,0),0),\"\")","v":0},{"$f":"IF(A35<>\"\",IFERROR(VLOOKUP(AG35,Tabelas!B:D,3,0),0),\"\")","v":0},{"$f":"IF(A35<>\"\",IFERROR(VLOOKUP(AH35,Tabelas!B:D,3,0),0),\"\")","v":0},{"$f":"IF(A35<>\"\",IFERROR(VLOOKUP(AI35,Tabelas!B:D,3,0),0),\"\")","v":0},{"$f":"IF(A35<>\"\",IFERROR(VLOOKUP(AJ35,Tabelas!B:D,3,0),0),\"\")","v":0},{"$f":"IF(A35<>\"\",IFERROR(VLOOKUP(AK35,Tabelas!B:D,3,0),0),\"\")","v":0},{"$f":"IF(A35<>\"\",IFERROR(VLOOKUP(AL35,Tabelas!B:D,3,0),0),\"\")","v":0},{"$f":"IF(A35<>\"\",IFERROR(VLOOKUP(AM35,Tabelas!B:D,3,0),0),\"\")","v":0},{"$f":"IF(A35<>\"\",IFERROR(VLOOKUP(AN35,Tabelas!B:D,3,0),0),\"\")","v":0},{"$f":"IF(A35<>\"\",IFERROR(VLOOKUP(AO35,Tabelas!B:D,3,0),0),\"\")","v":0},{"$f":"IF(A35<>\"\",IFERROR(VLOOKUP(AP35,Tabelas!B:D,3,0),0),\"\")","v":0},{"$f":"IF(A35<>\"\",IFERROR(VLOOKUP(AQ35,Tabelas!B:D,3,0),0),\"\")","v":0},{"$f":"IF(A35<>\"\",IFERROR(VLOOKUP(AR35,Tabelas!B:D,3,0),0),\"\")","v":0},0,0,0,0,0,0,0,0,0]
["Fulano de Tal 28",1234567,123,"ENF","Ebserh",36,null,null,null,null,null,null,null,null,null,null,null,null,null,null,null,null,null,null,null,null,null,null,null,null,null,null,null,null,null,null,null,null,null,null,null,null,null,null,{"$f":"IF(A36<>\"\",IFERROR(VLOOKUP(N36,Tabelas!B:D,3,0),0),\"\")","v":0},{"$f":"IF(A36<>\"\",IFERROR(VLOOKUP(O36,Tabelas!B:D,3,0),0),\"\")","v":0},{"$f":"IF(A36<>\"\",IFERROR(VLOOKUP(P36,Tabelas!B:D,3,0),0),\"\")","v":0},{"$f":"IF(A36<>\"\",IFERROR(VLOOKUP(Q36,Tabelas!B:D,3,0),0),\"\")","v":0},{"$f":"IF(A36<>\"\",IFERROR(VLOOKUP(R36,Tabelas!B:D,3,0),0),\"\")","v":0},{"$f":"IF(A36<>\"\",IFERROR(VLOOKUP(S36,Tabelas!B:D,3,0),0),\"\")","v":0},{"$f":"IF(A36<>\"\",IFERROR(VLOOKUP(T36,Tabelas!B:D,3,0),0),\"\")","v":0},{"$f":"IF(A36<>\"\",IFERROR(VLOOKUP(U36,Tabelas!B:D,3,0),0),\"\")","v":0},{"$f":"IF(A36<>\"\",IFERROR(VLOOKUP(V36,Tabelas!B:D,3,0),0),\"\")","v":0},{"$f":"IF(A36<>\"\",IFERROR(VLOOKUP(W36,Tabelas!B:D,3,0),0),\"\")","v":0},{"$f":"IF(A36<>\"\",IFERROR(VLOOKUP(X36,Tabelas!B:D,3,0),0),\"\")","v":0},{"$f":"IF(A36<>\"\",IFERROR(VLOOKUP(Y36,Tabelas!B:D,3,0),0),\"\")","v":0},{"$f":"IF(A36<>\"\",IFERROR(VLOOKUP(Z36,Tabelas!B:D,3,0),0),\"\")","v":0},{"$f":"IF(A36<>\"\",IFERROR(VLOOKUP(AA36,Tabelas!B:D,3,0),0),\"\")","v":0},{"$f":"IF(A36<>\"\",IFERROR(VLOOKUP(AB36,Tabelas!B:D,3,0),0),\"\")","v":0},{"$f":"IF(A36<>\"\",IFERROR(VLOOKUP(AC36,Tabelas!B:D,3,0),0),\"\")","v":0},{"$f":"IF(A36<>\"\",IFERROR(VLOOKUP(AD36,Tabelas!B:D,3,0),0),\"\")","v":0},{"$f":"IF(A36<>\"\",IFERROR(VLOOKUP(AE36,Tabelas!B:D,3,0),0),\"\")","v":0},{"$f":"IF(A36<>\"\",IFERROR(VLOOKUP(AF36,Tabelas!B:D,3,0),0),\"\")","v":0},{"$f":"IF(A36<>\"\",IFERROR(VLOOKUP(AG36,Tabelas!B:D,3,0),0),\"\")","v":0},{"$f":"IF(A36<>\"\",IFERROR(VLOOKUP(AH36,Tabelas!B:D,3,0),0),\"\")","v":0},{"$f":"IF(A36<>\"\",IFERROR(VLOOKUP(AI36,Tabelas!B:D,3,0),0),\"\")","v":0},{"$f":"IF(A36<>\"\",IFERROR(VLOOKUP(AJ36,Tabelas!B:D,3,0),0),\"\")","v":0},{"$f":"IF(A36<>\"\",IFERROR(VLOOKUP(AK36,Tabelas!B:D,3,0),0),\"\")","v":0},{"$f":"IF(A36<>\"\",IFERROR(VLOOKUP(AL36,Tabelas!B:D,3,0),0),\"\")","v":0},{"$f":"IF(A36<>\"\",IFERROR(VLOOKUP(AM36,Tabelas!B:D,3,0),0),\"\")","v":0},{"$f":"IF(A36<>\"\",IFERROR(VLOOKUP(AN36,Tabelas!B:D,3,0),0),\"\")","v":0},{"$f":"IF(A36<>\"\",IFERROR(VLOOKUP(AO36,Tabelas!B:D,3,0),0),\"\")","v":0},{"$f":"IF(A36<>\"\",IFERROR(VLOOKUP(AP36,Tabelas!B:D,3,0),0),\"\")","v":0},{"$f":"IF(A36<>\"\",IFERROR(VLOOKUP(AQ36,Tabelas!B:D,3,0),0),\"\")","v":0},{"$f":"IF(A36<>\"\",IFERROR(VLOOKUP(AR36,Tabelas!B:D,3,0),0),\"\")","v":0},0,0,0,0,0,0,0,0,0]
["Fulano de Tal 29",1234567,123,"ENF","Ebserh",36,null,null,null,null,null,null,null,null,null,null,null,null,null,null,null,null,null,null,null,null,null,null,null,null,null,null,null,null,null,null,null,null,null,null,null,null,null,null,{"$f":"IF(A37<>\"\",IFERROR(VLOOKUP(N37,Tabelas!B:D,3,0),0),\"\")","v":0},{"$f":"IF(A37<>\"\",IFERROR(VLOOKUP(O37,Tabelas!B:D,3,0),0),\"\")","v":0},{"$f":"IF(A37<>\"\",IFERROR(VLOOKUP(P37,Tabelas!B:D,3,0),0),\"\")","v":0},{"$f":"IF(A37<>\"\",IFERROR(VLOOKUP(Q37,Tabelas!B:D,3,0),0),\"\")","v":0},{"$f":"IF(A37<>\"\",IFERROR(VLOOKUP(R37,Tabelas!B:D,3,0),0),\"\")","v":0},{"$f":"IF(A37<>\"\",IFERROR(VLOOKUP(S37,Tabelas!B:D,3,0),0),\"\")","v":0},{"$f":"IF(A37<>\"\",IFERROR(VLOOKUP(T37,Tabelas!B:D,3,0),0),\"\")","v":0},{"$f":"IF(A37<>\"\",IFERROR(VLOOKUP(U37,Tabelas!B:D,3,0),0),\"\")","v":0},{"$f":"IF(A37<>\"\",IFERROR(VLOOKUP(V37,Tabelas!B:D,3,0),0),\"\")","v":0},{"$f":"IF(A37<>\"\",IFERROR(VLOOKUP(W37,Tabelas!B:D,3,0),0),\"\")","v":0},{"$f":"IF(A37<>\"\",IFERROR(VLOOKUP(X37,Tabelas!B:D,3,0),0),\"\")","v":0},{"$f":"IF(A37<>\"\",IFERROR(VLOOKUP(Y37,Tabelas!B:D,3,0),0),\"\")","v":0},{"$f":"IF(A37<>\"\",IFERROR(VLOOKUP(Z37,Tabelas!B:D,3,0),0),\"\")","v":0},{"$f":"IF(A37<>\"\",IFERROR(VLOOKUP(AA37,Tabelas!B:D,3,0),0),\"\")","v":0},{"$f":"IF(A37<>\"\",IFERROR(VLOOKUP(AB37,Tabelas!B:D,3,0),0),\"\")","v":0},{"$f":"IF(A37<>\"\",IFERROR(VLOOKUP(AC37,Tabelas!B:D,3,0),0),\"\")","v":0},{"$f":"IF(A37<>\"\",IFERROR(VLOOKUP(AD37,Tabelas!B:D,3,0),0),\"\")","v":0},{"$f":"IF(A37<>\"\",IFERROR(VLOOKUP(AE37,Tabelas!B:D,3,0),0),\"\")","v":0},{"$f":"IF(A37<>\"\",IFERROR(VLOOKUP(AF37,Tabelas!B:D,3,0),0),\"\")","v":0},{"$f":"IF(A37<>\"\",IFERROR(VLOOKUP(AG37,Tabelas!B:D,3,0),0),\"\")","v":0},{"$f":"IF(A37<>\"\",IFERROR(VLOOKUP(AH37,Tabelas!B:D,3,0),0),\"\")","v":0},{"$f":"IF(A37<>\"\",IFERROR(VLOOKUP(AI37,Tabelas!B:D,3,0),0),\"\")","v":0},{"$f":"IF(A37<>\"\",IFERROR(VLOOKUP(AJ37,Tabelas!B:D,3,0),0),\"\")","v":0},{"$f":"IF(A37<>\"\",IFERROR(VLOOKUP(AK37,Tabelas!B:D,3,0),0),\"\")","v":0},{"$f":"IF(A37<>\"\",IFERROR(VLOOKUP(AL37,Tabelas!B:D,3,0),0),\"\")","v":0},{"$f":"IF(A37<>\"\",IFERROR(VLOOKUP(AM37,Tabelas!B:D,3,0),0),\"\")","v":0},{"$f":"IF(A37<>\"\",IFERROR(VLOOKUP(AN37,Tabelas!B:D,3,0),0),\"\")","v":0},{"$f":"IF(A37<>\"\",IFERROR(VLOOKUP(AO37,Tabelas!B:D,3,0),0),\"\")","v":0},{"$f":"IF(A37<>\"\",IFERROR(VLOOKUP(AP37,Tabelas!B:D,3,0),0),\"\")","v":0},{"$f":"IF(A37<>\"\",IFERROR(VLOOKUP(AQ37,Tabelas!B:D,3,0),0),\"\")","v":0},{"$f":"IF(A37<>\"\",IFERROR(VLOOKUP(AR37,Tabelas!B:D,3,0),0),\"\")","v":0},0,0,0,0,0,0,0,0,0]
["Fulano de Tal 30",1234567,123,"ENF","Ebserh",36,null,null,null,null,null,null,null,null,null,null,null,null,null,null,null,null,null,null,null,null,null,null,null,null,null,null,null,null,null,null,null,null,null,null,null,null,null,null,{"$f":"IF(A38<>\"\",IFERROR(VLOOKUP(N38,Tabelas!B:D,3,0),0),\"\")","v":0},{"$f":"IF(A38<>\"\",IFERROR(VLOOKUP(O38,Tabelas!B:D,3,0),0),\"\")","v":0},{"$f":"IF(A38<>\"\",IFERROR(VLOOKUP(P38,Tabelas!B:D,3,0),0),\"\")","v":0},{"$f":"IF(A38<>\"\",IFERROR(VLOOKUP(Q38,Tabelas!B:D,3,0),0),\"\")","v":0},{"$f":"IF(A38<>\"\",IFERROR(VLOOKUP(R38,Tabelas!B:D,3,0),0),\"\")","v":0},{"$f":"IF(A38<>\"\",IFERROR(VLOOKUP(S38,Tabelas!B:D,3,0),0),\"\")","v":0},{"$f":"IF(A38<>\"\",IFERROR(VLOOKUP(T38,Tabelas!B:D,3,0),0),\"\")","v":0},{"$f":"IF(A38<>\"\",IFERROR(VLOOKUP(U38,Tabelas!B:D,3,0),0),\"\")","v":0},{"$f":"IF(A38<>\"\",IFERROR(VLOOKUP(V38,Tabelas!B:D,3,0),0),\"\")","v":0},{"$f":"IF(A38<>\"\",IFERROR(VLOOKUP(W38,Tabelas!B:D,3,0),0),\"\")","v":0},{"$f":"IF(A38<>\"\",IFERROR(VLOOKUP(X38,Tabelas!B:D,3,0),0),\"\")","v":0},{"$f":"IF(A38<>\"\",IFERROR(VLOOKUP(Y38,Tabelas!B:D,3,0),0),\"\")","v":0},{"$f":"IF(A38<>\"\",IFERROR(VLOOKUP(Z38,Tabelas!B:D,3,0),0),\"\")","v":0},{"$f":"IF(A38<>\"\",IFERROR(VLOOKUP(AA38,Tabelas!B:D,3,0),0),\"\")","v":0},{"$f":"IF(A38<>\"\",IFERROR(VLOOKUP(AB38,Tabelas!B:D,3,0),0),\"\")","v":0},{"$f":"IF(A38<>\"\",IFERROR(VLOOKUP(AC38,Tabelas!B:D,3,0),0),\"\")","v":0},{"$f":"IF(A38<>\"\",IFERROR(VLOOKUP(AD38,Tabelas!B:D,3,0),0),\"\")","v":0},{"$f":"IF(A38<>\"\",IFERROR(VLOOKUP(AE38,Tabelas!B:D,3,0),0),\"\")","v":0},{"$f":"IF(A38<>\"\",IFERROR(VLOOKUP(AF38,Tabelas!B:D,3,0),0),\"\")","v":0},{"$f":"IF(A38<>\"\",IFERROR(VLOOKUP(AG38,Tabelas!B:D,3,0),0),\"\")","v":0},{"$f":"IF(A38<>\"\",IFERROR(VLOOKUP(AH38,Tabelas!B:D,3,0),0),\"\")","v":0},{"$f":"IF(A38<>\"\",IFERROR(VLOOKUP(AI38,Tabelas!B:D,3,0),0),\"\")","v":0},{"$f":"IF(A38<>\"\",IFERROR(VLOOKUP(AJ38,Tabelas!B:D,3,0),0),\"\")","v":0},{"$f":"IF(A38<>\"\",IFERROR(VLOOKUP(AK38,Tabelas!B:D,3,0),0),\"\")","v":0},{"$f":"IF(A38<>\"\",IFERROR(VLOOKUP(AL38,Tabelas!B:D,3,0),0),\"\")","v":0},{"$f":"IF(A38<>\"\",IFERROR(VLOOKUP(AM38,Tabelas!B:D,3,0),0),\"\")","v":0},{"$f":"IF(A38<>\"\",IFERROR(VLOOKUP(AN38,Tabelas!B:D,3,0),0),\"\")","v":0},{"$f":"IF(A38<>\"\",IFERROR(VLOOKUP(AO38,Tabelas!B:D,3,0),0),\"\")","v":0},{"$f":"IF(A38<>\"\",IFERROR(VLOOKUP(AP38,Tabelas!B:D,3,0),0),\"\")","v":0},{"$f":"IF(A38<>\"\",IFERROR(VLOOKUP(AQ38,Tabelas!B:D,3,0),0),\"\")","v":0},{"$f":"IF(A38<>\"\",IFERROR(VLOOKUP(AR38,Tabelas!B:D,3,0),0),\"\")","v":0},0,0,0,0,0,0,0,0,0]
["TOTAL PROFISSIONAIS MATUTINO",null,null,null,null,null,null,null,null,null,null,null,null,{"$f":"COUNTIF(N9:N18,\"M\")+COUNTIF(N19:N28,\"M\")+COUNTIF(N29:N38,\"M\")+COUNTIF(N9:N18,\"M?\") +COUNTIF(N19:N28,\"M?\")+COUNTIF(N29:N38,\"M?\")+ COUNTIF(N9:N18, \"MT?\") + COUNTIF(N19:N28, \"MT?\")+ COUNTIF(N29:N38, \"MT?\")+ COUNTIF(N9:N18, \"D?\")  + COUNTIF(N19:N28, \"D?\")+COUNTIF(N29:N38, \"D?\")+ COUNTIF(N9:N18, \"DN?\")+ COUNTIF(N19:N28, \"DN?\")+ COUNTIF(N29:N38, \"DN?\")+ COUNTIF(N9:N18, \"MT??\") + COUNTIF(N19:N28, \"MT??\")+ COUNTIF(N29:N38, \"MT??\")+ COUNTIF(N9:N18, \"D\")  + COUNTIF(N19:N28, \"D\")+COUNTIF(N29:N38, \"D\")","v":2},2,3,2,3,2,1,2,2,3,3,2,3,3,1,2,3,2,3,3,2,1,3,3,2,2,2,2,3,3,0]
["TOTAL DE PROFISSIONAIS VESPERTINO",null,null,null,null,null,null,null,null,null,null,null,null,{"$f":"COUNTIF(N9:N18,\"T\")+COUNTIF(N19:N28,\"T\")+COUNTIF(N29:N38,\"T\")+COUNTIF(N9:N18,\"T?\") +COUNTIF(N19:N28,\"T?\")+COUNTIF(N29:N38,\"T?\")+ COUNTIF(N9:N18, \"MT?\") + COUNTIF(N19:N28, \"MT?\")+ COUNTIF(N29:N38, \"MT?\")+ COUNTIF(N9:N18, \"D?\")  + COUNTIF(N19:N28, \"D?\")+COUNTIF(N29:N38, \"D?\")+ COUNTIF(N9:N18, \"DN?\")+ COUNTIF(N19:N28, \"DN?\")+ COUNTIF(N29:N38, \"DN?\")+ COUNTIF(N9:N18, \"MT??\") + COUNTIF(N19:N28, \"MT??\")+ COUNTIF(N29:N38, \"MT??\")+ COUNTIF(N9:N18, \"D\")  + COUNTIF(N19:N28, \"D\")+COUNTIF(N29:N38, \"D\")","v":2},1,2,1,2,1,1,2,1,1,2,1,2,3,1,1,2,1,2,2,2,1,2,1,1,2,1,2,3,2,0,{"$f":"IF(A40<>\"\",IFERROR(VLOOKUP(N40,Tabelas!B:D,3,0),0),\"\")","v":0},{"$f":"IF(A40<>\"\",IFERROR(VLOOKUP(O40,Tabelas!B:D,3,0),0),\"\")","v":0},{"$f":"IF(A40<>\"\",IFERROR(VLOOKUP(P40,Tabelas!B:D,3,0),0),\"\")","v":0},{"$f":"IF(A40<>\"\",IFERROR(VLOOKUP(Q40,Tabelas!B:D,3,0),0),\"\")","v":0},{"$f":"IF(A40<>\"\",IFERROR(VLOOKUP(R40,Tabelas!B:D,3,0),0),\"\")","v":0},{"$f":"IF(A40<>\"\",IFERROR(VLOOKUP(S40,Tabelas!B:D,3,0),0),\"\")","v":0},{"$f":"IF(A40<>\"\",IFERROR(VLOOKUP(T40,Tabelas!B:D,3,0),0),\"\")","v":0},{"$f":"IF(A40<>\"\",IFERROR(VLOOKUP(U40,Tabelas!B:D,3,0),0),\"\")","v":0},{"$f":"IF(A40<>\"\",IFERROR(VLOOKUP(V40,Tabelas!B:D,3,0),0),\"\")","v":0},{"$f":"IF(A40<>\"\",IFERROR(VLOOKUP(W40,Tabelas!B:D,3,0),0),\"\")","v":0},{"$f":"IF(A40<>\"\",IFERROR(VLOOKUP(X40,Tabelas!B:D,3,0),0),\"\")","v":0},{"$f":"IF(A40<>\"\",IFERROR(VLOOKUP(Y40,Tabelas!B:D,3,0),0),\"\")","v":0},{"$f":"IF(A40<>\"\",IFERROR(VLOOKUP(Z40,Tabelas!B:D,3,0),0),\"\")","v":0},{"$f":"IF(A40<>\"\",IFERROR(VLOOKUP(AA40,Tabelas!B:D,3,0),0),\"\")","v":0},{"$f":"IF(A40<>\"\",IFERROR(VLOOKUP(AB40,Tabelas!B:D,3,0),0),\"\")","v":0},{"$f":"IF(A40<>\"\",IFERROR(VLOOKUP(AC40,Tabelas!B:D,3,0),0),\"\")","v":0},{"$f":"IF(A40<>\"\",IFERROR(VLOOKUP(AD40,Tabelas!B:D,3,0),0),\"\")","v":0},{"$f":"IF(A40<>\"\",IFERROR(VLOOKUP(AE40,Tabelas!B:D,3,0),0),\"\")","v":0},{"$f":"IF(A40<>\"\",IFERROR(VLOOKUP(AF40,Tabelas!B:D,3,0),0),\"\")","v":0},{"$f":"IF(A40<>\"\",IFERROR(VLOOKUP(AG40,Tabelas!B:D,3,0),0),\"\")","v":0},{"$f":"IF(A40<>\"\",IFERROR(VLOOKUP(AH40,Tabelas!B:D,3,0),0),\"\")","v":0},{"$f":"IF(A40<>\"\",IFERROR(VLOOKUP(AI40,Tabelas!B:D,3,0),0),\"\")","v":0},{"$f":"IF(A40<>\"\",IFERROR(VLOOKUP(AJ40,Tabelas!B:D,3,0),0),\"\")","v":0},{"$f":"IF(A40<>\"\",IFERROR(VLOOKUP(AK40,Tabelas!B:D,3,0),0),\"\")","v":0},{"$f":"IF(A40<>\"\",IFERROR(VLOOKUP(AL40,Tabelas!B:D,3,0),0),\"\")","v":0},{"$f":"IF(A40<>\"\",IFERROR(VLOOKUP(AM40,Tabelas!B:D,3,0),0),\"\")","v":0},{"$f":"IF(A40<>\"\",IFERROR(VLOOKUP(AN40,Tabelas!B:D,3,0),0),\"\")","v":0},{"$f":"IF(A40<>\"\",IFERROR(VLOOKUP(AO40,Tabelas!B:D,3,0),0),\"\")","v":0},{"$f":"IF(A40<>\"\",IFERROR(VLOOKUP(AP40,Tabelas!B:D,3,0),0),\"\")","v":0},{"$f":"IF(A40<>\"\",IFERROR(VLOOKUP(AQ40,Tabelas!B:D,3,0),0),\"\")","v":0},{"$f":"IF(A40<>\"\",IFERROR(VLOOKUP(AR40,Tabelas!B:D,3,0),0),\"\")","v":0}]
["TOTAL DE PROFISSIONAIS NOTURNO",null,null,null,null,null,null,null,null,null,null,null,null,{"$f":"COUNTIF(N9:N18,\"N\")+COUNTIF(N19:N28,\"N\")+COUNTIF(N29:N38,\"N\")+COUNTIF(N9:N18,\"N?\") +COUNTIF(N19:N28,\"N?\")+COUNTIF(N29:N38,\"N?\")+ COUNTIF(N9:N18, \"DN?\")+ COUNTIF(N19:N28, \"DN?\")+ COUNTIF(N29:N38, \"DN?\")","v":0},0,0,0,0,0,0,0,0,0,0,0,0,0,0,0,0,0,0,0,0,0,0,0,0,0,0,0,0,0,0,{"$f":"IF(A41<>\"\",IFERROR(VLOOKUP(N41,Tabelas!B:D,3,0),0),\"\")","v":0},{"$f":"IF(A41<>\"\",IFERROR(VLOOKUP(O41,Tabelas!B:D,3,0),0),\"\")","v":0},{"$f":"IF(A41<>\"\",IFERROR(VLOOKUP(P41,Tabelas!B:D,3,0),0),\"\")","v":0},{"$f":"IF(A41<>\"\",IFERROR(VLOOKUP(Q41,Tabelas!B:D,3,0),0),\"\")","v":0},{"$f":"IF(A41<>\"\",IFERROR(VLOOKUP(R41,Tabelas!B:D,3,0),0),\"\")","v":0},{"$f":"IF(A41<>\"\",IFERROR(VLOOKUP(S41,Tabelas!B:D,3,0),0),\"\")","v":0},{"$f":"IF(A41<>\"\",IFERROR(VLOOKUP(T41,Tabelas!B:D,3,0),0),\"\")","v":0},{"$f":"IF(A41<>\"\",IFERROR(VLOOKUP(U41,Tabelas!B:D,3,0),0),\"\")","v":0},{"$f":"IF(A41<>\"\",IFERROR(VLOOKUP(V41,Tabelas!B:D,3,0),0),\"\")","v":0},{"$f":"IF(A41<>\"\",IFERROR(VLOOKUP(W41,Tabelas!B:D,3,0),0),\"\")","v":0},{"$f":"IF(A41<>\"\",IFERROR(VLOOKUP(X41,Tabelas!B:D,3,0),0),\"\")","v":0},{"$f":"IF(A41<>\"\",IFERROR(VLOOKUP(Y41,Tabelas!B:D,3,0),0),\"\")","v":0},{"$f":"IF(A41<>\"\",IFERROR(VLOOKUP(Z41,Tabelas!B:D,3,0),0),\"\")","v":0},{"$f":"IF(A41<>\"\",IFERROR(VLOOKUP(AA41,Tabelas!B:D,3,0),0),\"\")","v":0},{"$f":"IF(A41<>\"\",IFERROR(VLOOKUP(AB41,Tabelas!B:D,3,0),0),\"\")","v":0},{"$f":"IF(A41<>\"\",IFERROR(VLOOKUP(AC41,Tabelas!B:D,3,0),0),\"\")","v":0},{"$f":"IF(A41<>\"\",IFERROR(VLOOKUP(AD41,Tabelas!B:D,3,0),0),\"\")","v":0},{"$f":"IF(A41<>\"\",IFERROR(VLOOKUP(AE41,Tabelas!B:D,3,0),0),\"\")","v":0},{"$f":"IF(A41<>\"\",IFERROR(VLOOKUP(AF41,Tabelas!B:D,3,0),0),\"\")","v":0},{"$f":"IF(A41<>\"\",IFERROR(VLOOKUP(AG41,Tabelas!B:D,3,0),0),\"\")","v":0},{"$f":"IF(A41<>\"\",IFERROR(VLOOKUP(AH41,Tabelas!B:D,3,0),0),\"\")","v":0},{"$f":"IF(A41<>\"\",IFERROR(VLOOKUP(AI41,Tabelas!B:D,3,0),0),\"\")","v":0},{"$f":"IF(A41<>\"\",IFERROR(VLOOKUP(AJ41,Tabelas!B:D,3,0),0),\"\")","v":0},{"$f":"IF(A41<>\"\",IFERROR(VLOOKUP(AK41,Tabelas!B:D,3,0),0),\"\")","v":0},{"$f":"IF(A41<>\"\",IFERROR(VLOOKUP(AL41,Tabelas!B:D,3,0),0),\"\")","v":0},{"$f":"IF(A41<>\"\",IFERROR(VLOOKUP(AM41,Tabelas!B:D,3,0),0),\"\")","v":0},{"$f":"IF(A41<>\"\",IFERROR(VLOOKUP(AN41,Tabelas!B:D,3,0),0),\"\")","v":0},{"$f":"IF(A41<>\"\",IFERROR(VLOOKUP(AO41,Tabelas!B:D,3,0),0),\"\")","v":0},{"$f":"IF(A41<>\"\",IFERROR(VLOOKUP(AP41,Tabelas!B:D,3,0),0),\"\")","v":0},{"$f":"IF(A41<>\"\",IFERROR(VLOOKUP(AQ41,Tabelas!B:D,3,0),0),\"\")","v":0},{"$f":"IF(A41<>\"\",IFERROR(VLOOKUP(AR41,Tabelas!B:D,3,0),0),\"\")","v":0}]
[null,null,null,null,null,null,null,null,null,null,null,null,null,null,null,null,null,null,null,null,null,null,null,null,null,null,null,null,null,null,null,null,null,null,null,null,null,null,null,null,null,null,null,null,{"$f":"IF(A42<>\"\",IFERROR(VLOOKUP(N42,Tabelas!B:D,3,0),0),\"\")","v":""},{"$f":"IF(A42<>\"\",IFERROR(VLOOKUP(O42,Tabelas!B:D,3,0),0),\"\")","v":""},{"$f":"IF(A42<>\"\",IFERROR(VLOOKUP(P42,Tabelas!B:D,3,0),0),\"\")","v":""},{"$f":"IF(A42<>\"\",IFERROR(VLOOKUP(Q42,Tabelas!B:D,3,0),0),\"\")","v":""},{"$f":"IF(A42<>\"\",IFERROR(VLOOKUP(R42,Tabelas!B:D,3,0),0),\"\")","v":""},{"$f":"IF(A42<>\"\",IFERROR(VLOOKUP(S42,Tabelas!B:D,3,0),0),\"\")","v":""},{"$f":"IF(A42<>\"\",IFERROR(VLOOKUP(T42,Tabelas!B:D,3,0),0),\"\")","v":""},{"$f":"IF(A42<>\"\",IFERROR(VLOOKUP(U42,Tabelas!B:D,3,0),0),\"\")","v":""},{"$f":"IF(A42<>\"\",IFERROR(VLOOKUP(V42,Tabelas!B:D,3,0),0),\"\")","v":""},{"$f":"IF(A42<>\"\",IFERROR(VLOOKUP(W42,Tabelas!B:D,3,0),0),\"\")","v":""},{"$f":"IF(A42<>\"\",IFERROR(VLOOKUP(X42,Tabelas!B:D,3,0),0),\"\")","v":""},{"$f":"IF(A42<>\"\",IFERROR(VLOOKUP(Y42,Tabelas!B:D,3,0),0),\"\")","v":""},{"$f":"IF(A42<>\"\",IFERROR(VLOOKUP(Z42,Tabelas!B:D,3,0),0),\"\")","v":""},{"$f":"IF(A42<>\"\",IFERROR(VLOOKUP(AA42,Tabelas!B:D,3,0),0),\"\")","v":""},{"$f":"IF(A42<>\"\",IFERROR(VLOOKUP(AB42,Tabelas!B:D,3,0),0),\"\")","v":""},{"$f":"IF(A42<>\"\",IFERROR(VLOOKUP(AC42,Tabelas!B:D,3,0),0),\"\")","v":""},{"$f":"IF(A42<>\"\",IFERROR(VLOOKUP(AD42,Tabelas!B:D,3,0),0),\"\")","v":""},{"$f":"IF(A42<>\"\",IFERROR(VLOOKUP(AE42,Tabelas!B:D,3,0),0),\"\")","v":""},{"$f":"IF(A42<>\"\",IFERROR(VLOOKUP(AF42,Tabelas!B:D,3,0),0),\"\")","v":""},{"$f":"IF(A42<>\"\",IFERROR(VLOOKUP(AG42,Tabelas!B:D,3,0),0),\"\")","v":""},{"$f":"IF(A42<>\"\",IFERROR(VLOOKUP(AH42,Tabelas!B:D,3,0),0),\"\")","v":""},{"$f":"IF(A42<>\"\",IFERROR(VLOOKUP(AI42,Tabelas!B:D,3,0),0),\"\")","v":""},{"$f":"IF(A42<>\"\",IFERROR(VLOOKUP(AJ42,Tabelas!B:D,3,0),0),\"\")","v":""},{"$f":"IF(A42<>\"\",IFERROR(VLOOKUP(AK42,Tabelas!B:D,3,0),0),\"\")","v":""},{"$f":"IF(A42<>\"\",IFERROR(VLOOKUP(AL42,Tabelas!B:D,3,0),0),\"\")","v":""},{"$f":"IF(A42<>\"\",IFERROR(VLOOKUP(AM42,Tabelas!B:D,3,0),0),\"\")","v":""},{"$f":"IF(A42<>\"\",IFERROR(VLOOKUP(AN42,Tabelas!B:D,3,0),0),\"\")","v":""},{"$f":"IF(A42<>\"\",IFERROR(VLOOKUP(AO42,Tabelas!B:D,3,0),0),\"\")","v":""},{"$f":"IF(A42<>\"\",IFERROR(VLOOKUP(AP42,Tabelas!B:D,3,0),0),\"\")","v":""},{"$f":"IF(A42<>\"\",IFERROR(VLOOKUP(AQ42,Tabelas!B:D,3,0),0),\"\")","v":""},{"$f":"IF(A42<>\"\",IFERROR(VLOOKUP(AR42,Tabelas!B:D,3,0),0),\"\")","v":""},"",{"$f":"IF(A42<>\"\",COUNTIF(N42:AR42,\"LM\")+COUNTIF(N42:AR42,\"L\"),\"\")","v":""},"","","","",null,{"$f":"IF(A42<>\"\",COUNTIF(N42:AR42,\"CE\")+COUNTIF(N42:AR42,\"L\")+COUNTIF(N42:AR42,\"LM\")+COUNTIF(N42:AR42,\"LC\")+COUNTIF(N42:AR42,\"AB\"),\"\")","v":""},{"$f":"IF(A42<>\"\",COUNTIF(N42:AR42,\"APH\"),\"\")","v":""}]
["Legenda:",null,null,null,null,null,null,null,null,null,null,null,null,null,null,null,null,null,null,null,null,null,null,null,null,null,null,null,null,null,null,null,null,null,null,null,null,null,null,null,null,null,null,null,null,null,null,null,null,null,null,null,null,null,null,null,null,null,null,null,null,null,null,null,null,null,null,null,null,null,null,null,null,null,null,"OBSERVAÇÕES:"]
["Licença Maternidade","LM","Férias",null,"FE","Ponto Facultativo",null,null,null,null,null,null,null,null,null,"PF","Manhã **",null,null,null,null,null,null,"M","Diunro (8 hrs) **",null,null,null,null,null,null,"MT",null,null,null,null,null,null,null,null,null,null,null,null,null,null,null,null,null,null,null,null,null,null,null,null,null,null,null,null,null,null,null,null,null,null,null,null,null,null,null,null,null,null,null,"* Para os Afastamentos previstos em lei, utilizar as legendas "]
["Licença Paternidade","LP","Feriado",null,"FD","Abono",null,null,null,null,null,null,null,null,null,"AB","Tarde **",null,null,null,null,null,null,"T","Dia/ noite (24 hrs) **",null,null,null,null,null,null,"DN",null,null,null,null,null,null,null,null,null,null,null,null,null,null,null,null,null,null,null,null,null,null,null,null,null,null,null,null,null,null,null,null,null,null,null,null,null,null,null,null,null,null,null,"numeradas conforme descrição no item 3.2.2 da NO DGP nº 04/2017."]
["Licença Médica/Odontológica","L","Folga",null,"FO","Compensação Horas Excedentes",null,null,null,null,null,null,null,null,null,"CE","Plantão Dia (12 hrs) **",null,null,null,null,null,null,"D",null,null,null,null,null,null,null,null,null,null,null,null,null,null,null,null,null,null,null,null,null,null,null,null,null,null,null,null,null,null,null,null,null,null,null,null,null,null,null,null,null,null,null,null,null,null,null,null,null,null,null,"** Para as variações de horários (M1, M2, T1, T2...), utilizar as "]
["Licença Capacitação","LC","Recesso",null,"RC","Afastamento*",null,null,null,null,null,null,null,null,null,"AF","Plantão Noite (12 hrs)**",null,null,null,null,null,null,"N",null,null,null,null,null,null,null,null,null,null,null,null,null,null,null,null,null,null,null,null,null,null,null,null,null,null,null,null,null,null,null,null,null,null,null,null,null,null,null,null,null,null,null,null,null,null,null,null,null,null,null,"legendas numeradas conforme descrição do item 3.2.2 na Norma "]
[null,null,null,null,null,null,null,null,null,null,null,null,null,null,null,null,null,null,null,null,null,null,null,null,null,null,null,null,null,null,null,null,null,null,null,null,null,null,null,null,null,null,null,null,null,null,null,null,null,null,null,null,null,null,null,null,null,null,null,null,null,null,null,null,null,null,null,null,null,null,null,null,null,null,null,"Operacional DGP nº 04/2017."]

{"sheet":"Maio","index":4,"n_rows":113,"n_cols":84,"rows_kept":113,"cut":false,"hidden":false,"merged":[[91,0,91,6],[92,0,92,6],[93,0,93,6],[5,0,7,0],[5,1,7,1],[5,2,7,2],[5,3,7,3],[5,4,7,4],[5,5,7,5],[5,6,5,12],[87,0,87,1],[95,75,95,83],[5,78,6,78],[5,79,6,79],[5,80,6,80],[5,81,6,81],[5,82,6,82],[5,83,6,83],[5,77,6,77],[5,44,5,74],[5,75,6,75],[5,76,6,76],[6,6,7,6],[6,7,7,7],[6,8,7,8],[6,9,6,10],[6,11,7,11],[6,12,7,12],[5,13,5,43],[1,0,1,43],[2,0,2,43],[3,0,3,43],[4,1,4,21],[4,24,4,35],[4,38,4,43]]}
[]
[]
["Hospital Universitário Professor Polydoro Ernani de São Thiago"]
["ESCALA MENSAL DE TRABALHO"]
["DIVISÃO /SETOR/UNIDADE:","UTI",null,null,null,null,null,null,null,null,null,null,null,null,null,null,null,null,null,null,null,null,"MÊS:",null,"FEVEREIRO",null,null,null,null,null,null,null,null,null,null,null,"ANO:",null,2019]
["NOME COMPLETO","SIAPE","REGISTRO CONSELHO CLASSE","CARGO","VÍNCULO","C.H SEM.","INTERVALO",null,null,null,null,null,null,"DIAS DO MÊS",null,null,null,null,null,null,null,null,null,null,null,null,null,null,null,null,null,null,null,null,null,null,null,null,null,null,null,null,null,null,"CÁLCULO DAS HORAS",null,null,null,null,null,null,null,null,null,null,null,null,null,null,null,null,null,null,null,null,null,null,null,null,null,null,null,null,null,null,"CH MENSAL","LM/LP/L","Abono","Férias","LC","CE","AF  Legais"," TOTAL AFASTAMENTOS","APH"]
[null,null,null,null,null,null,"M","MT","D","DN",null,"T","N",1,2,3,4,5,6,7,8,9,10,11,12,13,14,15,16,17,18,19,20,21,22,23,24,25,{"$f":"IF(DAY(DATE(AM5,VLOOKUP(Y5,Tabelas!M:N,2,0)+1,1)-1)>=26,26,\"\")","v":26},{"$f":"IF(DAY(DATE(AM5,VLOOKUP(Y5,Tabelas!M:N,2,0)+1,1)-1)>=27,27,\"\")","v":27},{"$f":"IF(DAY(DATE(AM5,VLOOKUP(Y5,Tabelas!M:N,2,0)+1,1)-1)>=28,28,\"\")","v":28},{"$f":"IF(DAY(DATE(AM5,VLOOKUP(Y5,Tabelas!M:N,2,0)+1,1)-1)>=29,29,\"\")","v":""},{"$f":"IF(DAY(DATE(AM5,VLOOKUP(Y5,Tabelas!M:N,2,0)+1,1)-1)>=30,30,\"\")","v":""},{"$f":"IF(DAY(DATE(AM5,VLOOKUP(Y5,Tabelas!M:N,2,0)+1,1)-1)>=31,31,\"\")","v":""}]
[null,null,null,null,null,null,null,null,null,1,2,null,null,{"$f":"IF(N7<>\"\",IFERROR(VLOOKUP(WEEKDAY(CONCATENATE(N7,$Y$5,$AM$5)),Tabelas!$I:$J,2,0),\"\"),\"\")","v":"SEX"},{"$f":"IF(O7<>\"\",IFERROR(VLOOKUP(WEEKDAY(CONCATENATE(O7,$Y$5,$AM$5)),Tabelas!$I:$J,2,0),\"\"),\"\")","v":"SAB"},{"$f":"IF(P7<>\"\",IFERROR(VLOOKUP(WEEKDAY(CONCATENATE(P7,$Y$5,$AM$5)),Tabelas!$I:$J,2,0),\"\"),\"\")","v":"DOM"},{"$f":"IF(Q7<>\"\",IFERROR(VLOOKUP(WEEKDAY(CONCATENATE(Q7,$Y$5,$AM$5)),Tabelas!$I:$J,2,0),\"\"),\"\")","v":"SEG"},{"$f":"IF(R7<>\"\",IFERROR(VLOOKUP(WEEKDAY(CONCATENATE(R7,$Y$5,$AM$5)),Tabelas!$I:$J,2,0),\"\"),\"\")","v":"TER"},{"$f":"IF(S7<>\"\",IFERROR(VLOOKUP(WEEKDAY(CONCATENATE(S7,$Y$5,$AM$5)),Tabelas!$I:$J,2,0),\"\"),\"\")","v":"QUA"},{"$f":"IF(T7<>\"\",IFERROR(VLOOKUP(WEEKDAY(CONCATENATE(T7,$Y$5,$AM$5)),Tabelas!$I:$J,2,0),\"\"),\"\")","v":"QUI"},{"$f":"IF(U7<>\"\",IFERROR(VLOOKUP(WEEKDAY(CONCATENATE(U7,$Y$5,$AM$5)),Tabelas!$I:$J,2,0),\"\"),\"\")","v":"SEX"},{"$f":"IF(V7<>\"\",IFERROR(VLOOKUP(WEEKDAY(CONCATENATE(V7,$Y$5,$AM$5)),Tabelas!$I:$J,2,0),\"\"),\"\")","v":"SAB"},{"$f":"IF(W7<>\"\",IFERROR(VLOOKUP(WEEKDAY(CONCATENATE(W7,$Y$5,$AM$5)),Tabelas!$I:$J,2,0),\"\"),\"\")","v":"DOM"},{"$f":"IF(X7<>\"\",IFERROR(VLOOKUP(WEEKDAY(CONCATENATE(X7,$Y$5,$AM$5)),Tabelas!$I:$J,2,0),\"\"),\"\")","v":"SEG"},{"$f":"IF(Y7<>\"\",IFERROR(VLOOKUP(WEEKDAY(CONCATENATE(Y7,$Y$5,$AM$5)),Tabelas!$I:$J,2,0),\"\"),\"\")","v":"TER"},{"$f":"IF(Z7<>\"\",IFERROR(VLOOKUP(WEEKDAY(CONCATENATE(Z7,$Y$5,$AM$5)),Tabelas!$I:$J,2,0),\"\"),\"\")","v":"QUA"},{"$f":"IF(AA7<>\"\",IFERROR(VLOOKUP(WEEKDAY(CONCATENATE(AA7,$Y$5,$AM$5)),Tabelas!$I:$J,2,0),\"\"),\"\")","v":"QUI"},{"$f":"IF(AB7<>\"\",IFERROR(VLOOKUP(WEEKDAY(CONCATENATE(AB7,$Y$5,$AM$5)),Tabelas!$I:$J,2,0),\"\"),\"\")","v":"SEX"},{"$f":"IF(AC7<>\"\",IFERROR(VLOOKUP(WEEKDAY(CONCATENATE(AC7,$Y$5,$AM$5)),Tabelas!$I:$J,2,0),\"\"),\"\")","v":"SAB"},{"$f":"IF(AD7<>\"\",IFERROR(VLOOKUP(WEEKDAY(CONCATENATE(AD7,$Y$5,$AM$5)),Tabelas!$I:$J,2,0),\"\"),\"\")","v":"DOM"},{"$f":"IF(AE7<>\"\",IFERROR(VLOOKUP(WEEKDAY(CONCATENATE(AE7,$Y$5,$AM$5)),Tabelas!$I:$J,2,0),\"\"),\"\")","v":"SEG"},{"$f":"IF(AF7<>\"\",IFERROR(VLOOKUP(WEEKDAY(CONCATENATE(AF7,$Y$5,$AM$5)),Tabelas!$I:$J,2,0),\"\"),\"\")","v":"TER"},{"$f":"IF(AG7<>\"\",IFERROR(VLOOKUP(WEEKDAY(CONCATENATE(AG7,$Y$5,$AM$5)),Tabelas!$I:$J,2,0),\"\"),\"\")","v":"QUA"},{"$f":"IF(AH7<>\"\",IFERROR(VLOOKUP(WEEKDAY(CONCATENATE(AH7,$Y$5,$AM$5)),Tabelas!$I:$J,2,0),\"\"),\"\")","v":"QUI"},{"$f":"IF(AI7<>\"\",IFERROR(VLOOKUP(WEEKDAY(CONCATENATE(AI7,$Y$5,$AM$5)),Tabelas!$I:$J,2,0),\"\"),\"\")","v":"SEX"},{"$f":"IF(AJ7<>\"\",IFERROR(VLOOKUP(WEEKDAY(CONCATENATE(AJ7,$Y$5,$AM$5)),Tabelas!$I:$J,2,0),\"\"),\"\")","v":"SAB"},{"$f":"IF(AK7<>\"\",IFERROR(VLOOKUP(WEEKDAY(CONCATENATE(AK7,$Y$5,$AM$5)),Tabelas!$I:$J,2,0),\"\"),\"\")","v":"DOM"},{"$f":"IF(AL7<>\"\",IFERROR(VLOOKUP(WEEKDAY(CONCATENATE(AL7,$Y$5,$AM$5)),Tabelas!$I:$J,2,0),\"\"),\"\")","v":"SEG"},{"$f":"IF(AM7<>\"\",IFERROR(VLOOKUP(WEEKDAY(CONCATENATE(AM7,$Y$5,$AM$5)),Tabelas!$I:$J,2,0),\"\"),\"\")","v":"TER"},{"$f":"IF(AN7<>\"\",IFERROR(VLOOKUP(WEEKDAY(CONCATENATE(AN7,$Y$5,$AM$5)),Tabelas!$I:$J,2,0),\"\"),\"\")","v":"QUA"},{"$f":"IF(AO7<>\"\",IFERROR(VLOOKUP(WEEKDAY(CONCATENATE(AO7,$Y$5,$AM$5)),Tabelas!$I:$J,2,0),\"\"),\"\")","v":"QUI"},{"$f":"IF(AP7<>\"\",IFERROR(VLOOKUP(WEEKDAY(CONCATENATE(AP7,$Y$5,$AM$5)),Tabelas!$I:$J,2,0),\"\"),\"\")","v":""},{"$f":"IF(AQ7<>\"\",IFERROR(VLOOKUP(WEEKDAY(CONCATENATE(AQ7,$Y$5,$AM$5)),Tabelas!$I:$J,2,0),\"\"),\"\")","v":""},{"$f":"IF(AR7<>\"\",IFERROR(VLOOKUP(WEEKDAY(CONCATENATE(AR7,$Y$5,$AM$5)),Tabelas!$I:$J,2,0),\"\"),\"\")","v":""},1,2,3,4,5,6,7,8,9,10,11,12,13,14,15,16,17,18,19,20,21,22,23,24,25,26,27,28,29,30,31,"Total","Dias","Dias","Dias","Dias","Dias","Dias","Dias","Dias"]
["Enfermeira Referência",null,null,null,null,null,null,null,null,null,null,null,null,null,null,null,null,null,null,null,null,null,null,null,null,null,null,null,null,null,null,null,null,null,null,null,null,null,null,null,null,null,null,null,{"$f":"IF(A9<>\"\",IFERROR(VLOOKUP(N9,Tabelas!B:D,3,0),0),\"\")","v":0},{"$f":"IF(A9<>\"\",IFERROR(VLOOKUP(O9,Tabelas!B:D,3,0),0),\"\")","v":0},{"$f":"IF(A9<>\"\",IFERROR(VLOOKUP(P9,Tabelas!B:D,3,0),0),\"\")","v":0},{"$f":"IF(A9<>\"\",IFERROR(VLOOKUP(Q9,Tabelas!B:D,3,0),0),\"\")","v":0},{"$f":"IF(A9<>\"\",IFERROR(VLOOKUP(R9,Tabelas!B:D,3,0),0),\"\")","v":0},{"$f":"IF(A9<>\"\",IFERROR(VLOOKUP(S9,Tabelas!B:D,3,0),0),\"\")","v":0},{"$f":"IF(A9<>\"\",IFERROR(VLOOKUP(T9,Tabelas!B:D,3,0),0),\"\")","v":0},{"$f":"IF(A9<>\"\",IFERROR(VLOOKUP(U9,Tabelas!B:D,3,0),0),\"\")","v":0},{"$f":"IF(A9<>\"\",IFERROR(VLOOKUP(V9,Tabelas!B:D,3,0),0),\"\")","v":0},{"$f":"IF(A9<>\"\",IFERROR(VLOOKUP(W9,Tabelas!B:D,3,0),0),\"\")","v":0},{"$f":"IF(A9<>\"\",IFERROR(VLOOKUP(X9,Tabelas!B:D,3,0),0),\"\")","v":0},{"$f":"IF(A9<>\"\",IFERROR(VLOOKUP(Y9,Tabelas!B:D,3,0),0),\"\")","v":0},{"$f":"IF(A9<>\"\",IFERROR(VLOOKUP(Z9,Tabelas!B:D,3,0),0),\"\")","v":0},{"$f":"IF(A9<>\"\",IFERROR(VLOOKUP(AA9,Tabelas!B:D,3,0),0),\"\")","v":0},{"$f":"IF(A9<>\"\",IFERROR(VLOOKUP(AB9,Tabelas!B:D,3,0),0),\"\")","v":0},{"$f":"IF(A9<>\"\",IFERROR(VLOOKUP(AC9,Tabelas!B:D,3,0),0),\"\")","v":0},{"$f":"IF(A9<>\"\",IFERROR(VLOOKUP(AD9,Tabelas!B:D,3,0),0),\"\")","v":0},{"$f":"IF(A9<>\"\",IFERROR(VLOOKUP(AE9,Tabelas!B:D,3,0),0),\"\")","v":0},{"$f":"IF(A9<>\"\",IFERROR(VLOOKUP(AF9,Tabelas!B:D,3,0),0),\"\")","v":0},{"$f":"IF(A9<>\"\",IFERROR(VLOOKUP(AG9,Tabelas!B:D,3,0),0),\"\")","v":0},{"$f":"IF(A9<>\"\",IFERROR(VLOOKUP(AH9,Tabelas!B:D,3,0),0),\"\")","v":0},{"$f":"IF(A9<>\"\",IFERROR(VLOOKUP(AI9,Tabelas!B:D,3,0),0),\"\")","v":0},{"$f":"IF(A9<>\"\",IFERROR(VLOOKUP(AJ9,Tabelas!B:D,3,0),0),\"\")","v":0},{"$f":"IF(A9<>\"\",IFERROR(VLOOKUP(AK9,Tabelas!B:D,3,0),0),\"\")","v":0},{"$f":"IF(A9<>\"\",IFERROR(VLOOKUP(AL9,Tabelas!B:D,3,0),0),\"\")","v":0},{"$f":"IF(A9<>\"\",IFERROR(VLOOKUP(AM9,Tabelas!B:D,3,0),0),\"\")","v":0},{"$f":"IF(A9<>\"\",IFERROR(VLOOKUP(AN9,Tabelas!B:D,3,0),0),\"\")","v":0},{"$f":"IF(A9<>\"\",IFERROR(VLOOKUP(AO9,Tabelas!B:D,3,0),0),\"\")","v":0},{"$f":"IF(A9<>\"\",IFERROR(VLOOKUP(AP9,Tabelas!B:D,3,0),0),\"\")","v":0},{"$f":"IF(A9<>\"\",IFERROR(VLOOKUP(AQ9,Tabelas!B:D,3,0),0),\"\")","v":0},{"$f":"IF(A9<>\"\",IFERROR(VLOOKUP(AR9,Tabelas!B:D,3,0),0),\"\")","v":0},{"$f":"IF(A9<>\"\",SUM(AS9:BW9),\"\")","v":0},{"$f":"IF(A9<>\"\",COUNTIF(N9:AR9,\"LM\")+COUNTIF(N9:AR9,\"L\"),\"\")+COUNTIF(N9:AR9,\"LP\")","v":0},{"$f":"IF(A9<>\"\",COUNTIF(N9:AR9,\"AB\"),\"\")","v":0},{"$f":"IF(A9<>\"\",COUNTIF(N9:AR9,\"FE\"),\"\")","v":0},{"$f":"IF(A9<>\"\",COUNTIF(N9:AR9,\"LC\"),\"\")","v":0},{"$f":"IF(A9<>\"\",COUNTIF(N9:AR9,\"CE\"),\"\")","v":0},{"$f":"IF(A9<>\"\",COUNTIF(N9:AR9,\"AF1\")+COUNTIF(N9:AR9,\"AF2\")+COUNTIF(N9:AR9,\"AF3\")+COUNTIF(N9:AR9,\"AF4\")+COUNTIF(N9:AR9,\"AF5\")+COUNTIF(N9:AR9,\"AF6\")+COUNTIF(N9:AR9,\"AF7\")+COUNTIF(N9:AR9,\"AF8\")+COUNTIF(N9:AR9,\"AF9\")+COUNTIF(N9:AR9,\"AF10\")+COUNTIF(N9:AR9,\"AF11\")+COUNTIF(N9:AR9,\"AF12\")+COUNTIF(N9:AR9,\"AF13\")+COUNTIF(N9:AR9,\"AF14\"),\"\")","v":0},{"$f":"IF(A9<>\"\",COUNTIF(N9:AR9,\"CE\")+COUNTIF(N9:AR9,\"L\")+COUNTIF(N9:AR9,\"LM\")+COUNTIF(N9:AR9,\"LP\")+COUNTIF(N9:AR9,\"LC\")+COUNTIF(N9:AR9,\"AB\")+COUNTIF(N9:AR9,\"AF1\")+COUNTIF(N9:AR9,\"AF2\")+COUNTIF(N9:AR9,\"AF3\")+COUNTIF(N9:AR9,\"AF4\")+COUNTIF(N9:AR9,\"AF5\")+COUNTIF(N9:AR9,\"AF6\")+COUNTIF(N9:AR9,\"AF7\")+COUNTIF(N9:AR9,\"AF8\")+COUNTIF(N9:AR9,\"AF9\")+COUNTIF(N9:AR9,\"AF10\")+COUNTIF(N9:AR9,\"AF11\")+COUNTIF(N9:AR9,\"AF12\")+COUNTIF(N9:AR9,\"AF13\")+COUNTIF(N9:AR9,\"AF14\")+COUNTIF(N9:AR9,\"RC\")+COUNTIF(N9:AR9,\"FO\")+COUNTIF(N9:AR9,\"FE\"),\"\")","v":0},{"$f":"IF(A9<>\"\",COUNTIF(N9:AR9,\"APH\"),\"\")","v":0}]
["Clarice da Luz Koerich",1061962,78343,"ENF","RJU",30,null,null,null,null,null,null,null,"M6","FO","FO","M6","M6","M6","M6","M6","FO","FO","M6","M6","M6","M6","M6","FO","FO","M6","M6","M6","M6","M6","FO","FO","M6","M6","M6","M6",null,null,null,{"$f":"IF(A10<>\"\",IFERROR(VLOOKUP(N10,Tabelas!B:D,3,0),0),\"\")","v":6},{"$f":"IF(A10<>\"\",IFERROR(VLOOKUP(O10,Tabelas!B:D,3,0),0),\"\")","v":0},{"$f":"IF(A10<>\"\",IFERROR(VLOOKUP(P10,Tabelas!B:D,3,0),0),\"\")","v":0},{"$f":"IF(A10<>\"\",IFERROR(VLOOKUP(Q10,Tabelas!B:D,3,0),0),\"\")","v":6},{"$f":"IF(A10<>\"\",IFERROR(VLOOKUP(R10,Tabelas!B:D,3,0),0),\"\")","v":6},{"$f":"IF(A10<>\"\",IFERROR(VLOOKUP(S10,Tabelas!B:D,3,0),0),\"\")","v":6},{"$f":"IF(A10<>\"\",IFERROR(VLOOKUP(T10,Tabelas!B:D,3,0),0),\"\")","v":6},{"$f":"IF(A10<>\"\",IFERROR(VLOOKUP(U10,Tabelas!B:D,3,0),0),\"\")","v":6},{"$f":"IF(A10<>\"\",IFERROR(VLOOKUP(V10,Tabelas!B:D,3,0),0),\"\")","v":0},{"$f":"IF(A10<>\"\",IFERROR(VLOOKUP(W10,Tabelas!B:D,3,0),0),\"\")","v":0},{"$f":"IF(A10<>\"\",IFERROR(VLOOKUP(X10,Tabelas!B:D,3,0),0),\"\")","v":6},{"$f":"IF(A10<>\"\",IFERROR(VLOOKUP(Y10,Tabelas!B:D,3,0),0),\"\")","v":6},{"$f":"IF(A10<>\"\",IFERROR(VLOOKUP(Z10,Tabelas!B:D,3,0),0),\"\")","v":6},{"$f":"IF(A10<>\"\",IFERROR(VLOOKUP(AA10,Tabelas!B:D,3,0),0),\"\")","v":6},{"$f":"IF(A10<>\"\",IFERROR(VLOOKUP(AB10,Tabelas!B:D,3,0),0),\"\")","v":6},{"$f":"IF(A10<>\"\",IFERROR(VLOOKUP(AC10,Tabelas!B:D,3,0),0),\"\")","v":0},{"$f":"IF(A10<>\"\",IFERROR(VLOOKUP(AD10,Tabelas!B:D,3,0),0),\"\")","v":0},{"$f":"IF(A10<>\"\",IFERROR(VLOOKUP(AE10,Tabelas!B:D,3,0),0),\"\")","v":6},{"$f":"IF(A10<>\"\",IFERROR(VLOOKUP(AF10,Tabelas!B:D,3,0),0),\"\")","v":6},{"$f":"IF(A10<>\"\",IFERROR(VLOOKUP(AG10,Tabelas!B:D,3,0),0),\"\")","v":6},{"$f":"IF(A10<>\"\",IFERROR(VLOOKUP(AH10,Tabelas!B:D,3,0),0),\"\")","v":6},{"$f":"IF(A10<>\"\",IFERROR(VLOOKUP(AI10,Tabelas!B:D,3,0),0),\"\")","v":6},{"$f":"IF(A10<>\"\",IFERROR(VLOOKUP(AJ10,Tabelas!B:D,3,0),0),\"\")","v":0},{"$f":"IF(A10<>\"\",IFERROR(VLOOKUP(AK10,Tabelas!B:D,3,0),0),\"\")","v":0},{"$f":"IF(A10<>\"\",IFERROR(VLOOKUP(AL10,Tabelas!B:D,3,0),0),\"\")","v":6},{"$f":"IF(A10<>\"\",IFERROR(VLOOKUP(AM10,Tabelas!B:D,3,0),0),\"\")","v":6},{"$f":"IF(A10<>\"\",IFERROR(VLOOKUP(AN10,Tabelas!B:D,3,0),0),\"\")","v":6},{"$f":"IF(A10<>\"\",IFERROR(VLOOKUP(AO10,Tabelas!B:D,3,0),0),\"\")","v":6},{"$f":"IF(A10<>\"\",IFERROR(VLOOKUP(AP10,Tabelas!B:D,3,0),0),\"\")","v":0},{"$f":"IF(A10<>\"\",IFERROR(VLOOKUP(AQ10,Tabelas!B:D,3,0),0),\"\")","v":0},{"$f":"IF(A10<>\"\",IFERROR(VLOOKUP(AR10,Tabelas!B:D,3,0),0),\"\")","v":0},{"$f":"IF(A10<>\"\",SUM(AS10:BW10),\"\")","v":120},{"$f":"IF(A10<>\"\",COUNTIF(N10:AR10,\"LM\")+COUNTIF(N10:AR10,\"L\"),\"\")+COUNTIF(N10:AR10,\"LP\")","v":0},0,0,0,0,{"$f":"IF(A10<>\"\",COUNTIF(N10:AR10,\"AF1\")+COUNTIF(N10:AR10,\"AF2\")+COUNTIF(N10:AR10,\"AF3\")+COUNTIF(N10:AR10,\"AF4\")+COUNTIF(N10:AR10,\"AF5\")+COUNTIF(N10:AR10,\"AF6\")+COUNTIF(N10:AR10,\"AF7\")+COUNTIF(N10:AR10,\"AF8\")+COUNTIF(N10:AR10,\"AF9\")+COUNTIF(N10:AR10,\"AF10\")+COUNTIF(N10:AR10,\"AF11\")+COUNTIF(N10:AR10,\"AF12\")+COUNTIF(N10:AR10,\"AF13\")+COUNTIF(N10:AR10,\"AF14\"),\"\")","v":0},{"$f":"IF(A10<>\"\",COUNTIF(N10:AR10,\"CE\")+COUNTIF(N10:AR10,\"L\")+COUNTIF(N10:AR10,\"LM\")+COUNTIF(N10:AR10,\"LP\")+COUNTIF(N10:AR10,\"LC\")+COUNTIF(N10:AR10,\"AB\")+COUNTIF(N10:AR10,\"AF1\")+COUNTIF(N10:AR10,\"AF2\")+COUNTIF(N10:AR10,\"AF3\")+COUNTIF(N10:AR10,\"AF4\")+COUNTIF(N10:AR10,\"AF5\")+COUNTIF(N10:AR10,\"AF6\")+COUNTIF(N10:AR10,\"AF7\")+COUNTIF(N10:AR10,\"AF8\")+COUNTIF(N10:AR10,\"AF9\")+COUNTIF(N10:AR10,\"AF10\")+COUNTIF(N10:AR10,\"AF11\")+COUNTIF(N10:AR10,\"AF12\")+COUNTIF(N10:AR10,\"AF13\")+COUNTIF(N10:AR10,\"AF14\")+COUNTIF(N10:AR10,\"RC\")+COUNTIF(N10:AR10,\"FO\")+COUNTIF(N10:AR10,\"FE\"),\"\")","v":8},{"$f":"IF(A10<>\"\",COUNTIF(N10:AR10,\"APH\"),\"\")","v":0}]
["Enfermeiros  MATUTINO",null,null,null,null,null,null,null,null,null,null,null,null,null,null,null,null,null,null,null,null,null,null,null,null,null,null,null,null,null,null,null,null,null,null,null,null,null,null,null,null,null,null,null,{"$f":"IF(A11<>\"\",IFERROR(VLOOKUP(N11,Tabelas!B:D,3,0),0),\"\")","v":0},{"$f":"IF(A11<>\"\",IFERROR(VLOOKUP(O11,Tabelas!B:D,3,0),0),\"\")","v":0},{"$f":"IF(A11<>\"\",IFERROR(VLOOKUP(P11,Tabelas!B:D,3,0),0),\"\")","v":0},{"$f":"IF(A11<>\"\",IFERROR(VLOOKUP(Q11,Tabelas!B:D,3,0),0),\"\")","v":0},{"$f":"IF(A11<>\"\",IFERROR(VLOOKUP(R11,Tabelas!B:D,3,0),0),\"\")","v":0},{"$f":"IF(A11<>\"\",IFERROR(VLOOKUP(S11,Tabelas!B:D,3,0),0),\"\")","v":0},{"$f":"IF(A11<>\"\",IFERROR(VLOOKUP(T11,Tabelas!B:D,3,0),0),\"\")","v":0},{"$f":"IF(A11<>\"\",IFERROR(VLOOKUP(U11,Tabelas!B:D,3,0),0),\"\")","v":0},{"$f":"IF(A11<>\"\",IFERROR(VLOOKUP(V11,Tabelas!B:D,3,0),0),\"\")","v":0},{"$f":"IF(A11<>\"\",IFERROR(VLOOKUP(W11,Tabelas!B:D,3,0),0),\"\")","v":0},{"$f":"IF(A11<>\"\",IFERROR(VLOOKUP(X11,Tabelas!B:D,3,0),0),\"\")","v":0},{"$f":"IF(A11<>\"\",IFERROR(VLOOKUP(Y11,Tabelas!B:D,3,0),0),\"\")","v":0},{"$f":"IF(A11<>\"\",IFERROR(VLOOKUP(Z11,Tabelas!B:D,3,0),0),\"\")","v":0},{"$f":"IF(A11<>\"\",IFERROR(VLOOKUP(AA11,Tabelas!B:D,3,0),0),\"\")","v":0},{"$f":"IF(A11<>\"\",IFERROR(VLOOKUP(AB11,Tabelas!B:D,3,0),0),\"\")","v":0},{"$f":"IF(A11<>\"\",IFERROR(VLOOKUP(AC11,Tabelas!B:D,3,0),0),\"\")","v":0},{"$f":"IF(A11<>\"\",IFERROR(VLOOKUP(AD11,Tabelas!B:D,3,0),0),\"\")","v":0},{"$f":"IF(A11<>\"\",IFERROR(VLOOKUP(AE11,Tabelas!B:D,3,0),0),\"\")","v":0},{"$f":"IF(A11<>\"\",IFERROR(VLOOKUP(AF11,Tabelas!B:D,3,0),0),\"\")","v":0},{"$f":"IF(A11<>\"\",IFERROR(VLOOKUP(AG11,Tabelas!B:D,3,0),0),\"\")","v":0},{"$f":"IF(A11<>\"\",IFERROR(VLOOKUP(AH11,Tabelas!B:D,3,0),0),\"\")","v":0},{"$f":"IF(A11<>\"\",IFERROR(VLOOKUP(AI11,Tabelas!B:D,3,0),0),\"\")","v":0},{"$f":"IF(A11<>\"\",IFERROR(VLOOKUP(AJ11,Tabelas!B:D,3,0),0),\"\")","v":0},{"$f":"IF(A11<>\"\",IFERROR(VLOOKUP(AK11,Tabelas!B:D,3,0),0),\"\")","v":0},{"$f":"IF(A11<>\"\",IFERROR(VLOOKUP(AL11,Tabelas!B:D,3,0),0),\"\")","v":0},{"$f":"IF(A11<>\"\",IFERROR(VLOOKUP(AM11,Tabelas!B:D,3,0),0),\"\")","v":0},{"$f":"IF(A11<>\"\",IFERROR(VLOOKUP(AN11,Tabelas!B:D,3,0),0),\"\")","v":0},{"$f":"IF(A11<>\"\",IFERROR(VLOOKUP(AO11,Tabelas!B:D,3,0),0),\"\")","v":0},{"$f":"IF(A11<>\"\",IFERROR(VLOOKUP(AP11,Tabelas!B:D,3,0),0),\"\")","v":0},{"$f":"IF(A11<>\"\",IFERROR(VLOOKUP(AQ11,Tabelas!B:D,3,0),0),\"\")","v":0},{"$f":"IF(A11<>\"\",IFERROR(VLOOKUP(AR11,Tabelas!B:D,3,0),0),\"\")","v":0},0,0,0,0,0,0,0,0,{"$f":"IF(A11<>\"\",COUNTIF(N11:AR11,\"APH\"),\"\")","v":0}]
["Hilário Mattioli Neto",1359213,37221,"ENF","RJU",30,null,null,null,null,null,null,null,"D2","FO","FO","M6","M6","FO","D2","FO","FO","D2","FO","FO","D2","FO","FO","D2","FO","FO","D2","FO","FO","D2","FO","FO","D2","FO","FO","D2",null,null,null,{"$f":"IF(A12<>\"\",IFERROR(VLOOKUP(N12,Tabelas!B:D,3,0),0),\"\")","v":12},{"$f":"IF(A12<>\"\",IFERROR(VLOOKUP(O12,Tabelas!B:D,3,0),0),\"\")","v":0},{"$f":"IF(A12<>\"\",IFERROR(VLOOKUP(P12,Tabelas!B:D,3,0),0),\"\")","v":0},{"$f":"IF(A12<>\"\",IFERROR(VLOOKUP(Q12,Tabelas!B:D,3,0),0),\"\")","v":6},{"$f":"IF(A12<>\"\",IFERROR(VLOOKUP(R12,Tabelas!B:D,3,0),0),\"\")","v":6},{"$f":"IF(A12<>\"\",IFERROR(VLOOKUP(S12,Tabelas!B:D,3,0),0),\"\")","v":0},{"$f":"IF(A12<>\"\",IFERROR(VLOOKUP(T12,Tabelas!B:D,3,0),0),\"\")","v":12},{"$f":"IF(A12<>\"\",IFERROR(VLOOKUP(U12,Tabelas!B:D,3,0),0),\"\")","v":0},{"$f":"IF(A12<>\"\",IFERROR(VLOOKUP(V12,Tabelas!B:D,3,0),0),\"\")","v":0},{"$f":"IF(A12<>\"\",IFERROR(VLOOKUP(W12,Tabelas!B:D,3,0),0),\"\")","v":12},{"$f":"IF(A12<>\"\",IFERROR(VLOOKUP(X12,Tabelas!B:D,3,0),0),\"\")","v":0},{"$f":"IF(A12<>\"\",IFERROR(VLOOKUP(Y12,Tabelas!B:D,3,0),0),\"\")","v":0},{"$f":"IF(A12<>\"\",IFERROR(VLOOKUP(Z12,Tabelas!B:D,3,0),0),\"\")","v":12},{"$f":"IF(A12<>\"\",IFERROR(VLOOKUP(AA12,Tabelas!B:D,3,0),0),\"\")","v":0},{"$f":"IF(A12<>\"\",IFERROR(VLOOKUP(AB12,Tabelas!B:D,3,0),0),\"\")","v":0},{"$f":"IF(A12<>\"\",IFERROR(VLOOKUP(AC12,Tabelas!B:D,3,0),0),\"\")","v":12},{"$f":"IF(A12<>\"\",IFERROR(VLOOKUP(AD12,Tabelas!B:D,3,0),0),\"\")","v":0},{"$f":"IF(A12<>\"\",IFERROR(VLOOKUP(AE12,Tabelas!B:D,3,0),0),\"\")","v":0},{"$f":"IF(A12<>\"\",IFERROR(VLOOKUP(AF12,Tabelas!B:D,3,0),0),\"\")","v":12},{"$f":"IF(A12<>\"\",IFERROR(VLOOKUP(AG12,Tabelas!B:D,3,0),0),\"\")","v":0},{"$f":"IF(A12<>\"\",IFERROR(VLOOKUP(AH12,Tabelas!B:D,3,0),0),\"\")","v":0},{"$f":"IF(A12<>\"\",IFERROR(VLOOKUP(AI12,Tabelas!B:D,3,0),0),\"\")","v":12},{"$f":"IF(A12<>\"\",IFERROR(VLOOKUP(AJ12,Tabelas!B:D,3,0),0),\"\")","v":0},{"$f":"IF(A12<>\"\",IFERROR(VLOOKUP(AK12,Tabelas!B:D,3,0),0),\"\")","v":0},{"$f":"IF(A12<>\"\",IFERROR(VLOOKUP(AL12,Tabelas!B:D,3,0),0),\"\")","v":12},{"$f":"IF(A12<>\"\",IFERROR(VLOOKUP(AM12,Tabelas!B:D,3,0),0),\"\")","v":0},{"$f":"IF(A12<>\"\",IFERROR(VLOOKUP(AN12,Tabelas!B:D,3,0),0),\"\")","v":0},{"$f":"IF(A12<>\"\",IFERROR(VLOOKUP(AO12,Tabelas!B:D,3,0),0),\"\")","v":12},{"$f":"IF(A12<>\"\",IFERROR(VLOOKUP(AP12,Tabelas!B:D,3,0),0),\"\")","v":0},{"$f":"IF(A12<>\"\",IFERROR(VLOOKUP(AQ12,Tabelas!B:D,3,0),0),\"\")","v":0},{"$f":"IF(A12<>\"\",IFERROR(VLOOKUP(AR12,Tabelas!B:D,3,0),0),\"\")","v":0},120,0,0,0,0,0,0,17,{"$f":"IF(A12<>\"\",COUNTIF(N12:AR12,\"APH\"),\"\")","v":0}]
["Ana Paula G. T. Pereira ",1234567,216610,"ENF","Ebserh",36,null,null,null,null,null,null,null,"M6","D2","FO","M6","M6","M6","M6","M6","FO","D2","M6","M6","FO","FO","FE","FE","FE","FE","FE","FE","FE","FE","FE","FE","FE","FE","FE","FE",null,null,null,{"$f":"IF(A13<>\"\",IFERROR(VLOOKUP(N13,Tabelas!B:D,3,0),0),\"\")","v":6},{"$f":"IF(A13<>\"\",IFERROR(VLOOKUP(O13,Tabelas!B:D,3,0),0),\"\")","v":12},{"$f":"IF(A13<>\"\",IFERROR(VLOOKUP(P13,Tabelas!B:D,3,0),0),\"\")","v":0},{"$f":"IF(A13<>\"\",IFERROR(VLOOKUP(Q13,Tabelas!B:D,3,0),0),\"\")","v":6},{"$f":"IF(A13<>\"\",IFERROR(VLOOKUP(R13,Tabelas!B:D,3,0),0),\"\")","v":6},{"$f":"IF(A13<>\"\",IFERROR(VLOOKUP(S13,Tabelas!B:D,3,0),0),\"\")","v":6},{"$f":"IF(A13<>\"\",IFERROR(VLOOKUP(T13,Tabelas!B:D,3,0),0),\"\")","v":6},{"$f":"IF(A13<>\"\",IFERROR(VLOOKUP(U13,Tabelas!B:D,3,0),0),\"\")","v":6},{"$f":"IF(A13<>\"\",IFERROR(VLOOKUP(V13,Tabelas!B:D,3,0),0),\"\")","v":0},{"$f":"IF(A13<>\"\",IFERROR(VLOOKUP(W13,Tabelas!B:D,3,0),0),\"\")","v":12},{"$f":"IF(A13<>\"\",IFERROR(VLOOKUP(X13,Tabelas!B:D,3,0),0),\"\")","v":6},{"$f":"IF(A13<>\"\",IFERROR(VLOOKUP(Y13,Tabelas!B:D,3,0),0),\"\")","v":6},{"$f":"IF(A13<>\"\",IFERROR(VLOOKUP(Z13,Tabelas!B:D,3,0),0),\"\")","v":0},{"$f":"IF(A13<>\"\",IFERROR(VLOOKUP(AA13,Tabelas!B:D,3,0),0),\"\")","v":0},{"$f":"IF(A13<>\"\",IFERROR(VLOOKUP(AB13,Tabelas!B:D,3,0),0),\"\")","v":0},{"$f":"IF(A13<>\"\",IFERROR(VLOOKUP(AC13,Tabelas!B:D,3,0),0),\"\")","v":0},{"$f":"IF(A13<>\"\",IFERROR(VLOOKUP(AD13,Tabelas!B:D,3,0),0),\"\")","v":0},{"$f":"IF(A13<>\"\",IFERROR(VLOOKUP(AE13,Tabelas!B:D,3,0),0),\"\")","v":0},{"$f":"IF(A13<>\"\",IFERROR(VLOOKUP(AF13,Tabelas!B:D,3,0),0),\"\")","v":0},{"$f":"IF(A13<>\"\",IFERROR(VLOOKUP(AG13,Tabelas!B:D,3,0),0),\"\")","v":0},{"$f":"IF(A13<>\"\",IFERROR(VLOOKUP(AH13,Tabelas!B:D,3,0),0),\"\")","v":0},{"$f":"IF(A13<>\"\",IFERROR(VLOOKUP(AI13,Tabelas!B:D,3,0),0),\"\")","v":0},{"$f":"IF(A13<>\"\",IFERROR(VLOOKUP(AJ13,Tabelas!B:D,3,0),0),\"\")","v":0},{"$f":"IF(A13<>\"\",IFERROR(VLOOKUP(AK13,Tabelas!B:D,3,0),0),\"\")","v":0},{"$f":"IF(A13<>\"\",IFERROR(VLOOKUP(AL13,Tabelas!B:D,3,0),0),\"\")","v":0},{"$f":"IF(A13<>\"\",IFERROR(VLOOKUP(AM13,Tabelas!B:D,3,0),0),\"\")","v":0},{"$f":"IF(A13<>\"\",IFERROR(VLOOKUP(AN13,Tabelas!B:D,3,0),0),\"\")","v":0},{"$f":"IF(A13<>\"\",IFERROR(VLOOKUP(AO13,Tabelas!B:D,3,0),0),\"\")","v":0},{"$f":"IF(A13<>\"\",IFERROR(VLOOKUP(AP13,Tabelas!B:D,3,0),0),\"\")","v":0},{"$f":"IF(A13<>\"\",IFERROR(VLOOKUP(AQ13,Tabelas!B:D,3,0),0),\"\")","v":0},{"$f":"IF(A13<>\"\",IFERROR(VLOOKUP(AR13,Tabelas!B:D,3,0),0),\"\")","v":0},72,0,0,14,0,0,0,18,{"$f":"IF(A13<>\"\",COUNTIF(N13:AR13,\"APH\"),\"\")","v":0}]
["Tatiane Lazzarotto",1837116,197817,"ENF","RJU",30,null,null,null,null,null,null,null,"FO","D2","FO","M6","FO","M6","M6","FO","FO","FO","M6","FO","M6","M6","M6","FO","D2","M6","M6","M6","M6","FO","FO","D2","M6","M6","M6","FO",null,null,null,{"$f":"IF(A14<>\"\",IFERROR(VLOOKUP(N14,Tabelas!B:D,3,0),0),\"\")","v":0},{"$f":"IF(A14<>\"\",IFERROR(VLOOKUP(O14,Tabelas!B:D,3,0),0),\"\")","v":12},{"$f":"IF(A14<>\"\",IFERROR(VLOOKUP(P14,Tabelas!B:D,3,0),0),\"\")","v":0},{"$f":"IF(A14<>\"\",IFERROR(VLOOKUP(Q14,Tabelas!B:D,3,0),0),\"\")","v":6},{"$f":"IF(A14<>\"\",IFERROR(VLOOKUP(R14,Tabelas!B:D,3,0),0),\"\")","v":0},{"$f":"IF(A14<>\"\",IFERROR(VLOOKUP(S14,Tabelas!B:D,3,0),0),\"\")","v":6},{"$f":"IF(A14<>\"\",IFERROR(VLOOKUP(T14,Tabelas!B:D,3,0),0),\"\")","v":6},{"$f":"IF(A14<>\"\",IFERROR(VLOOKUP(U14,Tabelas!B:D,3,0),0),\"\")","v":0},{"$f":"IF(A14<>\"\",IFERROR(VLOOKUP(V14,Tabelas!B:D,3,0),0),\"\")","v":0},{"$f":"IF(A14<>\"\",IFERROR(VLOOKUP(W14,Tabelas!B:D,3,0),0),\"\")","v":0},{"$f":"IF(A14<>\"\",IFERROR(VLOOKUP(X14,Tabelas!B:D,3,0),0),\"\")","v":6},{"$f":"IF(A14<>\"\",IFERROR(VLOOKUP(Y14,Tabelas!B:D,3,0),0),\"\")","v":0},{"$f":"IF(A14<>\"\",IFERROR(VLOOKUP(Z14,Tabelas!B:D,3,0),0),\"\")","v":6},{"$f":"IF(A14<>\"\",IFERROR(VLOOKUP(AA14,Tabelas!B:D,3,0),0),\"\")","v":6},{"$f":"IF(A14<>\"\",IFERROR(VLOOKUP(AB14,Tabelas!B:D,3,0),0),\"\")","v":6},{"$f":"IF(A14<>\"\",IFERROR(VLOOKUP(AC14,Tabelas!B:D,3,0),0),\"\")","v":0},{"$f":"IF(A14<>\"\",IFERROR(VLOOKUP(AD14,Tabelas!B:D,3,0),0),\"\")","v":12},{"$f":"IF(A14<>\"\",IFERROR(VLOOKUP(AE14,Tabelas!B:D,3,0),0),\"\")","v":6},{"$f":"IF(A14<>\"\",IFERROR(VLOOKUP(AF14,Tabelas!B:D,3,0),0),\"\")","v":6},{"$f":"IF(A14<>\"\",IFERROR(VLOOKUP(AG14,Tabelas!B:D,3,0),0),\"\")","v":6},{"$f":"IF(A14<>\"\",IFERROR(VLOOKUP(AH14,Tabelas!B:D,3,0),0),\"\")","v":6},{"$f":"IF(A14<>\"\",IFERROR(VLOOKUP(AI14,Tabelas!B:D,3,0),0),\"\")","v":0},{"$f":"IF(A14<>\"\",IFERROR(VLOOKUP(AJ14,Tabelas!B:D,3,0),0),\"\")","v":0},{"$f":"IF(A14<>\"\",IFERROR(VLOOKUP(AK14,Tabelas!B:D,3,0),0),\"\")","v":12},{"$f":"IF(A14<>\"\",IFERROR(VLOOKUP(AL14,Tabelas!B:D,3,0),0),\"\")","v":6},{"$f":"IF(A14<>\"\",IFERROR(VLOOKUP(AM14,Tabelas!B:D,3,0),0),\"\")","v":6},{"$f":"IF(A14<>\"\",IFERROR(VLOOKUP(AN14,Tabelas!B:D,3,0),0),\"\")","v":6},{"$f":"IF(A14<>\"\",IFERROR(VLOOKUP(AO14,Tabelas!B:D,3,0),0),\"\")","v":0},{"$f":"IF(A14<>\"\",IFERROR(VLOOKUP(AP14,Tabelas!B:D,3,0),0),\"\")","v":0},{"$f":"IF(A14<>\"\",IFERROR(VLOOKUP(AQ14,Tabelas!B:D,3,0),0),\"\")","v":0},{"$f":"IF(A14<>\"\",IFERROR(VLOOKUP(AR14,Tabelas!B:D,3,0),0),\"\")","v":0},{"$f":"IF(A14<>\"\",SUM(AS14:BW14),\"\")","v":120},{"$f":"IF(A14<>\"\",COUNTIF(N14:AR14,\"LM\")+COUNTIF(N14:AR14,\"L\"),\"\")+COUNTIF(N14:AR14,\"LP\")","v":0},{"$f":"IF(A14<>\"\",COUNTIF(N14:AR14,\"AB\"),\"\")","v":0},{"$f":"IF(A14<>\"\",COUNTIF(N14:AR14,\"FE\"),\"\")","v":0},{"$f":"IF(A14<>\"\",COUNTIF(N14:AR14,\"LC\"),\"\")","v":0},{"$f":"IF(A14<>\"\",COUNTIF(N14:AR14,\"CE\"),\"\")","v":0},{"$f":"IF(A14<>\"\",COUNTIF(N14:AR14,\"AF1\")+COUNTIF(N14:AR14,\"AF2\")+COUNTIF(N14:AR14,\"AF3\")+COUNTIF(N14:AR14,\"AF4\")+COUNTIF(N14:AR14,\"AF5\")+COUNTIF(N14:AR14,\"AF6\")+COUNTIF(N14:AR14,\"AF7\")+COUNTIF(N14:AR14,\"AF8\")+COUNTIF(N14:AR14,\"AF9\")+COUNTIF(N14:AR14,\"AF10\")+COUNTIF(N14:AR14,\"AF11\")+COUNTIF(N14:AR14,\"AF12\")+COUNTIF(N14:AR14,\"AF13\")+COUNTIF(N14:AR14,\"AF14\"),\"\")","v":0},{"$f":"IF(A14<>\"\",COUNTIF(N14:AR14,\"CE\")+COUNTIF(N14:AR14,\"L\")+COUNTIF(N14:AR14,\"LM\")+COUNTIF(N14:AR14,\"LP\")+COUNTIF(N14:AR14,\"LC\")+COUNTIF(N14:AR14,\"AB\")+COUNTIF(N14:AR14,\"AF1\")+COUNTIF(N14:AR14,\"AF2\")+COUNTIF(N14:AR14,\"AF3\")+COUNTIF(N14:AR14,\"AF4\")+COUNTIF(N14:AR14,\"AF5\")+COUNTIF(N14:AR14,\"AF6\")+COUNTIF(N14:AR14,\"AF7\")+COUNTIF(N14:AR14,\"AF8\")+COUNTIF(N14:AR14,\"AF9\")+COUNTIF(N14:AR14,\"AF10\")+COUNTIF(N14:AR14,\"AF11\")+COUNTIF(N14:AR14,\"AF12\")+COUNTIF(N14:AR14,\"AF13\")+COUNTIF(N14:AR14,\"AF14\")+COUNTIF(N14:AR14,\"RC\")+COUNTIF(N14:AR14,\"FO\")+COUNTIF(N14:AR14,\"FE\"),\"\")","v":11},{"$f":"IF(A14<>\"\",COUNTIF(N14:AR14,\"APH\"),\"\")","v":0}]
["Simone Cidade",1358064,73294,"ENF","RJU",30,null,null,null,null,null,null,null,"M6","FO","FO","FO","M6","M6","FO","M6","FO","FO","FO","M6","M6","M6","M6","D2","FO","M6","M6","M6","M6","M6","FO","D2","FO","M6","M6","M6",null,null,null,{"$f":"IF(A15<>\"\",IFERROR(VLOOKUP(N15,Tabelas!B:D,3,0),0),\"\")","v":6},{"$f":"IF(A15<>\"\",IFERROR(VLOOKUP(O15,Tabelas!B:D,3,0),0),\"\")","v":0},{"$f":"IF(A15<>\"\",IFERROR(VLOOKUP(P15,Tabelas!B:D,3,0),0),\"\")","v":0},{"$f":"IF(A15<>\"\",IFERROR(VLOOKUP(Q15,Tabelas!B:D,3,0),0),\"\")","v":0},{"$f":"IF(A15<>\"\",IFERROR(VLOOKUP(R15,Tabelas!B:D,3,0),0),\"\")","v":6},{"$f":"IF(A15<>\"\",IFERROR(VLOOKUP(S15,Tabelas!B:D,3,0),0),\"\")","v":6},{"$f":"IF(A15<>\"\",IFERROR(VLOOKUP(T15,Tabelas!B:D,3,0),0),\"\")","v":0},{"$f":"IF(A15<>\"\",IFERROR(VLOOKUP(U15,Tabelas!B:D,3,0),0),\"\")","v":6},{"$f":"IF(A15<>\"\",IFERROR(VLOOKUP(V15,Tabelas!B:D,3,0),0),\"\")","v":0},{"$f":"IF(A15<>\"\",IFERROR(VLOOKUP(W15,Tabelas!B:D,3,0),0),\"\")","v":0},{"$f":"IF(A15<>\"\",IFERROR(VLOOKUP(X15,Tabelas!B:D,3,0),0),\"\")","v":0},{"$f":"IF(A15<>\"\",IFERROR(VLOOKUP(Y15,Tabelas!B:D,3,0),0),\"\")","v":6},{"$f":"IF(A15<>\"\",IFERROR(VLOOKUP(Z15,Tabelas!B:D,3,0),0),\"\")","v":6},{"$f":"IF(A15<>\"\",IFERROR(VLOOKUP(AA15,Tabelas!B:D,3,0),0),\"\")","v":6},{"$f":"IF(A15<>\"\",IFERROR(VLOOKUP(AB15,Tabelas!B:D,3,0),0),\"\")","v":6},{"$f":"IF(A15<>\"\",IFERROR(VLOOKUP(AC15,Tabelas!B:D,3,0),0),\"\")","v":12},{"$f":"IF(A15<>\"\",IFERROR(VLOOKUP(AD15,Tabelas!B:D,3,0),0),\"\")","v":0},{"$f":"IF(A15<>\"\",IFERROR(VLOOKUP(AE15,Tabelas!B:D,3,0),0),\"\")","v":6},{"$f":"IF(A15<>\"\",IFERROR(VLOOKUP(AF15,Tabelas!B:D,3,0),0),\"\")","v":6},{"$f":"IF(A15<>\"\",IFERROR(VLOOKUP(AG15,Tabelas!B:D,3,0),0),\"\")","v":6},{"$f":"IF(A15<>\"\",IFERROR(VLOOKUP(AH15,Tabelas!B:D,3,0),0),\"\")","v":6},{"$f":"IF(A15<>\"\",IFERROR(VLOOKUP(AI15,Tabelas!B:D,3,0),0),\"\")","v":6},{"$f":"IF(A15<>\"\",IFERROR(VLOOKUP(AJ15,Tabelas!B:D,3,0),0),\"\")","v":0},{"$f":"IF(A15<>\"\",IFERROR(VLOOKUP(AK15,Tabelas!B:D,3,0),0),\"\")","v":12},{"$f":"IF(A15<>\"\",IFERROR(VLOOKUP(AL15,Tabelas!B:D,3,0),0),\"\")","v":0},{"$f":"IF(A15<>\"\",IFERROR(VLOOKUP(AM15,Tabelas!B:D,3,0),0),\"\")","v":6},{"$f":"IF(A15<>\"\",IFERROR(VLOOKUP(AN15,Tabelas!B:D,3,0),0),\"\")","v":6},{"$f":"IF(A15<>\"\",IFERROR(VLOOKUP(AO15,Tabelas!B:D,3,0),0),\"\")","v":6},{"$f":"IF(A15<>\"\",IFERROR(VLOOKUP(AP15,Tabelas!B:D,3,0),0),\"\")","v":0},{"$f":"IF(A15<>\"\",IFERROR(VLOOKUP(AQ15,Tabelas!B:D,3,0),0),\"\")","v":0},{"$f":"IF(A15<>\"\",IFERROR(VLOOKUP(AR15,Tabelas!B:D,3,0),0),\"\")","v":0},120,0,0,0,0,0,0,10,{"$f":"IF(A15<>\"\",COUNTIF(N15:AR15,\"APH\"),\"\")","v":0}]
["VERSPERTINO",null,null,null,null,null,null,null,null,null,null,null,null,null,null,null,null,null,null,null,null,null,null,null,null,null,null,null,null,null,null,null,null,null,null,null,null,null,null,null,null,null,null,null,{"$f":"IF(A16<>\"\",IFERROR(VLOOKUP(N16,Tabelas!B:D,3,0),0),\"\")","v":0},{"$f":"IF(A16<>\"\",IFERROR(VLOOKUP(O16,Tabelas!B:D,3,0),0),\"\")","v":0},{"$f":"IF(A16<>\"\",IFERROR(VLOOKUP(P16,Tabelas!B:D,3,0),0),\"\")","v":0},{"$f":"IF(A16<>\"\",IFERROR(VLOOKUP(Q16,Tabelas!B:D,3,0),0),\"\")","v":0},{"$f":"IF(A16<>\"\",IFERROR(VLOOKUP(R16,Tabelas!B:D,3,0),0),\"\")","v":0},{"$f":"IF(A16<>\"\",IFERROR(VLOOKUP(S16,Tabelas!B:D,3,0),0),\"\")","v":0},{"$f":"IF(A16<>\"\",IFERROR(VLOOKUP(T16,Tabelas!B:D,3,0),0),\"\")","v":0},{"$f":"IF(A16<>\"\",IFERROR(VLOOKUP(U16,Tabelas!B:D,3,0),0),\"\")","v":0},{"$f":"IF(A16<>\"\",IFERROR(VLOOKUP(V16,Tabelas!B:D,3,0),0),\"\")","v":0},{"$f":"IF(A16<>\"\",IFERROR(VLOOKUP(W16,Tabelas!B:D,3,0),0),\"\")","v":0},{"$f":"IF(A16<>\"\",IFERROR(VLOOKUP(X16,Tabelas!B:D,3,0),0),\"\")","v":0},{"$f":"IF(A16<>\"\",IFERROR(VLOOKUP(Y16,Tabelas!B:D,3,0),0),\"\")","v":0},{"$f":"IF(A16<>\"\",IFERROR(VLOOKUP(Z16,Tabelas!B:D,3,0),0),\"\")","v":0},{"$f":"IF(A16<>\"\",IFERROR(VLOOKUP(AA16,Tabelas!B:D,3,0),0),\"\")","v":0},{"$f":"IF(A16<>\"\",IFERROR(VLOOKUP(AB16,Tabelas!B:D,3,0),0),\"\")","v":0},{"$f":"IF(A16<>\"\",IFERROR(VLOOKUP(AC16,Tabelas!B:D,3,0),0),\"\")","v":0},{"$f":"IF(A16<>\"\",IFERROR(VLOOKUP(AD16,Tabelas!B:D,3,0),0),\"\")","v":0},{"$f":"IF(A16<>\"\",IFERROR(VLOOKUP(AE16,Tabelas!B:D,3,0),0),\"\")","v":0},{"$f":"IF(A16<>\"\",IFERROR(VLOOKUP(AF16,Tabelas!B:D,3,0),0),\"\")","v":0},{"$f":"IF(A16<>\"\",IFERROR(VLOOKUP(AG16,Tabelas!B:D,3,0),0),\"\")","v":0},{"$f":"IF(A16<>\"\",IFERROR(VLOOKUP(AH16,Tabelas!B:D,3,0),0),\"\")","v":0},{"$f":"IF(A16<>\"\",IFERROR(VLOOKUP(AI16,Tabelas!B:D,3,0),0),\"\")","v":0},{"$f":"IF(A16<>\"\",IFERROR(VLOOKUP(AJ16,Tabelas!B:D,3,0),0),\"\")","v":0},{"$f":"IF(A16<>\"\",IFERROR(VLOOKUP(AK16,Tabelas!B:D,3,0),0),\"\")","v":0},{"$f":"IF(A16<>\"\",IFERROR(VLOOKUP(AL16,Tabelas!B:D,3,0),0),\"\")","v":0},{"$f":"IF(A16<>\"\",IFERROR(VLOOKUP(AM16,Tabelas!B:D,3,0),0),\"\")","v":0},{"$f":"IF(A16<>\"\",IFERROR(VLOOKUP(AN16,Tabelas!B:D,3,0),0),\"\")","v":0},{"$f":"IF(A16<>\"\",IFERROR(VLOOKUP(AO16,Tabelas!B:D,3,0),0),\"\")","v":0},{"$f":"IF(A16<>\"\",IFERROR(VLOOKUP(AP16,Tabelas!B:D,3,0),0),\"\")","v":0},{"$f":"IF(A16<>\"\",IFERROR(VLOOKUP(AQ16,Tabelas!B:D,3,0),0),\"\")","v":0},{"$f":"IF(A16<>\"\",IFERROR(VLOOKUP(AR16,Tabelas!B:D,3,0),0),\"\")","v":0},0,0,0,0,0,0,0,0,{"$f":"IF(A16<>\"\",COUNTIF(N16:AR16,\"APH\"),\"\")","v":0}]
["Alex Becker",1843901,199663,"ENF","RJU",30,null,null,null,null,null,null,null,"FO","FO","FO","T6","T6","T6","T6","T6","D2","FO","FO","T6","FO","T6","T6","FO","FO","T6","FO","T6","T6","T6","D2","FO","D2","T6","T6","FO",null,null,null,{"$f":"IF(A17<>\"\",IFERROR(VLOOKUP(N17,Tabelas!B:D,3,0),0),\"\")","v":0},{"$f":"IF(A17<>\"\",IFERROR(VLOOKUP(O17,Tabelas!B:D,3,0),0),\"\")","v":0},{"$f":"IF(A17<>\"\",IFERROR(VLOOKUP(P17,Tabelas!B:D,3,0),0),\"\")","v":0},{"$f":"IF(A17<>\"\",IFERROR(VLOOKUP(Q17,Tabelas!B:D,3,0),0),\"\")","v":6},{"$f":"IF(A17<>\"\",IFERROR(VLOOKUP(R17,Tabelas!B:D,3,0),0),\"\")","v":6},{"$f":"IF(A17<>\"\",IFERROR(VLOOKUP(S17,Tabelas!B:D,3,0),0),\"\")","v":6},{"$f":"IF(A17<>\"\",IFERROR(VLOOKUP(T17,Tabelas!B:D,3,0),0),\"\")","v":6},{"$f":"IF(A17<>\"\",IFERROR(VLOOKUP(U17,Tabelas!B:D,3,0),0),\"\")","v":6},{"$f":"IF(A17<>\"\",IFERROR(VLOOKUP(V17,Tabelas!B:D,3,0),0),\"\")","v":12},{"$f":"IF(A17<>\"\",IFERROR(VLOOKUP(W17,Tabelas!B:D,3,0),0),\"\")","v":0},{"$f":"IF(A17<>\"\",IFERROR(VLOOKUP(X17,Tabelas!B:D,3,0),0),\"\")","v":0},{"$f":"IF(A17<>\"\",IFERROR(VLOOKUP(Y17,Tabelas!B:D,3,0),0),\"\")","v":6},{"$f":"IF(A17<>\"\",IFERROR(VLOOKUP(Z17,Tabelas!B:D,3,0),0),\"\")","v":0},{"$f":"IF(A17<>\"\",IFERROR(VLOOKUP(AA17,Tabelas!B:D,3,0),0),\"\")","v":6},{"$f":"IF(A17<>\"\",IFERROR(VLOOKUP(AB17,Tabelas!B:D,3,0),0),\"\")","v":6},{"$f":"IF(A17<>\"\",IFERROR(VLOOKUP(AC17,Tabelas!B:D,3,0),0),\"\")","v":0},{"$f":"IF(A17<>\"\",IFERROR(VLOOKUP(AD17,Tabelas!B:D,3,0),0),\"\")","v":0},{"$f":"IF(A17<>\"\",IFERROR(VLOOKUP(AE17,Tabelas!B:D,3,0),0),\"\")","v":6},{"$f":"IF(A17<>\"\",IFERROR(VLOOKUP(AF17,Tabelas!B:D,3,0),0),\"\")","v":0},{"$f":"IF(A17<>\"\",IFERROR(VLOOKUP(AG17,Tabelas!B:D,3,0),0),\"\")","v":6},{"$f":"IF(A17<>\"\",IFERROR(VLOOKUP(AH17,Tabelas!B:D,3,0),0),\"\")","v":6},{"$f":"IF(A17<>\"\",IFERROR(VLOOKUP(AI17,Tabelas!B:D,3,0),0),\"\")","v":6},{"$f":"IF(A17<>\"\",IFERROR(VLOOKUP(AJ17,Tabelas!B:D,3,0),0),\"\")","v":12},{"$f":"IF(A17<>\"\",IFERROR(VLOOKUP(AK17,Tabelas!B:D,3,0),0),\"\")","v":0},{"$f":"IF(A17<>\"\",IFERROR(VLOOKUP(AL17,Tabelas!B:D,3,0),0),\"\")","v":12},{"$f":"IF(A17<>\"\",IFERROR(VLOOKUP(AM17,Tabelas!B:D,3,0),0),\"\")","v":6},{"$f":"IF(A17<>\"\",IFERROR(VLOOKUP(AN17,Tabelas!B:D,3,0),0),\"\")","v":6},{"$f":"IF(A17<>\"\",IFERROR(VLOOKUP(AO17,Tabelas!B:D,3,0),0),\"\")","v":0},{"$f":"IF(A17<>\"\",IFERROR(VLOOKUP(AP17,Tabelas!B:D,3,0),0),\"\")","v":0},{"$f":"IF(A17<>\"\",IFERROR(VLOOKUP(AQ17,Tabelas!B:D,3,0),0),\"\")","v":0},{"$f":"IF(A17<>\"\",IFERROR(VLOOKUP(AR17,Tabelas!B:D,3,0),0),\"\")","v":0},120,0,0,0,0,0,0,11,{"$f":"IF(A17<>\"\",COUNTIF(N17:AR17,\"APH\"),\"\")","v":0}]
["Vanessa D. Barros",89899,310485,"ENF","Ebserh",36,null,null,null,null,null,null,null,"FO","FO","D2","FO","AB","FO","FO","D2","FO","FO","D2","M6","FO","M6","M6","FO","D2","AB","FO","FO","D2","M6","D2","FO","FO","D2","M6","M6",null,null,null,{"$f":"IF(A18<>\"\",IFERROR(VLOOKUP(N18,Tabelas!B:D,3,0),0),\"\")","v":0},{"$f":"IF(A18<>\"\",IFERROR(VLOOKUP(O18,Tabelas!B:D,3,0),0),\"\")","v":0},{"$f":"IF(A18<>\"\",IFERROR(VLOOKUP(P18,Tabelas!B:D,3,0),0),\"\")","v":12},{"$f":"IF(A18<>\"\",IFERROR(VLOOKUP(Q18,Tabelas!B:D,3,0),0),\"\")","v":0},{"$f":"IF(A18<>\"\",IFERROR(VLOOKUP(R18,Tabelas!B:D,3,0),0),\"\")","v":0},{"$f":"IF(A18<>\"\",IFERROR(VLOOKUP(S18,Tabelas!B:D,3,0),0),\"\")","v":0},{"$f":"IF(A18<>\"\",IFERROR(VLOOKUP(T18,Tabelas!B:D,3,0),0),\"\")","v":0},{"$f":"IF(A18<>\"\",IFERROR(VLOOKUP(U18,Tabelas!B:D,3,0),0),\"\")","v":12},{"$f":"IF(A18<>\"\",IFERROR(VLOOKUP(V18,Tabelas!B:D,3,0),0),\"\")","v":0},{"$f":"IF(A18<>\"\",IFERROR(VLOOKUP(W18,Tabelas!B:D,3,0),0),\"\")","v":0},{"$f":"IF(A18<>\"\",IFERROR(VLOOKUP(X18,Tabelas!B:D,3,0),0),\"\")","v":12},{"$f":"IF(A18<>\"\",IFERROR(VLOOKUP(Y18,Tabelas!B:D,3,0),0),\"\")","v":6},{"$f":"IF(A18<>\"\",IFERROR(VLOOKUP(Z18,Tabelas!B:D,3,0),0),\"\")","v":0},{"$f":"IF(A18<>\"\",IFERROR(VLOOKUP(AA18,Tabelas!B:D,3,0),0),\"\")","v":6},{"$f":"IF(A18<>\"\",IFERROR(VLOOKUP(AB18,Tabelas!B:D,3,0),0),\"\")","v":6},{"$f":"IF(A18<>\"\",IFERROR(VLOOKUP(AC18,Tabelas!B:D,3,0),0),\"\")","v":0},{"$f":"IF(A18<>\"\",IFERROR(VLOOKUP(AD18,Tabelas!B:D,3,0),0),\"\")","v":12},{"$f":"IF(A18<>\"\",IFERROR(VLOOKUP(AE18,Tabelas!B:D,3,0),0),\"\")","v":0},{"$f":"IF(A18<>\"\",IFERROR(VLOOKUP(AF18,Tabelas!B:D,3,0),0),\"\")","v":0},{"$f":"IF(A18<>\"\",IFERROR(VLOOKUP(AG18,Tabelas!B:D,3,0),0),\"\")","v":0},{"$f":"IF(A18<>\"\",IFERROR(VLOOKUP(AH18,Tabelas!B:D,3,0),0),\"\")","v":12},{"$f":"IF(A18<>\"\",IFERROR(VLOOKUP(AI18,Tabelas!B:D,3,0),0),\"\")","v":6},{"$f":"IF(A18<>\"\",IFERROR(VLOOKUP(AJ18,Tabelas!B:D,3,0),0),\"\")","v":12},{"$f":"IF(A18<>\"\",IFERROR(VLOOKUP(AK18,Tabelas!B:D,3,0),0),\"\")","v":0},{"$f":"IF(A18<>\"\",IFERROR(VLOOKUP(AL18,Tabelas!B:D,3,0),0),\"\")","v":0},{"$f":"IF(A18<>\"\",IFERROR(VLOOKUP(AM18,Tabelas!B:D,3,0),0),\"\")","v":12},{"$f":"IF(A18<>\"\",IFERROR(VLOOKUP(AN18,Tabelas!B:D,3,0),0),\"\")","v":6},{"$f":"IF(A18<>\"\",IFERROR(VLOOKUP(AO18,Tabelas!B:D,3,0),0),\"\")","v":6},{"$f":"IF(A18<>\"\",IFERROR(VLOOKUP(AP18,Tabelas!B:D,3,0),0),\"\")","v":0},{"$f":"IF(A18<>\"\",IFERROR(VLOOKUP(AQ18,Tabelas!B:D,3,0),0),\"\")","v":0},{"$f":"IF(A18<>\"\",IFERROR(VLOOKUP(AR18,Tabelas!B:D,3,0),0),\"\")","v":0},120,0,2,0,0,0,0,15,{"$f":"IF(A18<>\"\",COUNTIF(N18:AR18,\"APH\"),\"\")","v":0}]
["Daniele C. Perin",1784632,202463,"ENF","RJU",30,null,null,null,null,null,null,null,"T6","FO","D2","T6","T6","T6","FO","FO","D2","FO","T6","T6","T6","T6","T6","FO","FO","D2","T6","D2","FO","FO","FO","FO","FO","FO","T6","T6",null,null,null,{"$f":"IF(A19<>\"\",IFERROR(VLOOKUP(N19,Tabelas!B:D,3,0),0),\"\")","v":6},{"$f":"IF(A19<>\"\",IFERROR(VLOOKUP(O19,Tabelas!B:D,3,0),0),\"\")","v":0},{"$f":"IF(A19<>\"\",IFERROR(VLOOKUP(P19,Tabelas!B:D,3,0),0),\"\")","v":12},{"$f":"IF(A19<>\"\",IFERROR(VLOOKUP(Q19,Tabelas!B:D,3,0),0),\"\")","v":6},{"$f":"IF(A19<>\"\",IFERROR(VLOOKUP(R19,Tabelas!B:D,3,0),0),\"\")","v":6},{"$f":"IF(A19<>\"\",IFERROR(VLOOKUP(S19,Tabelas!B:D,3,0),0),\"\")","v":6},{"$f":"IF(A19<>\"\",IFERROR(VLOOKUP(T19,Tabelas!B:D,3,0),0),\"\")","v":0},{"$f":"IF(A19<>\"\",IFERROR(VLOOKUP(U19,Tabelas!B:D,3,0),0),\"\")","v":0},{"$f":"IF(A19<>\"\",IFERROR(VLOOKUP(V19,Tabelas!B:D,3,0),0),\"\")","v":12},{"$f":"IF(A19<>\"\",IFERROR(VLOOKUP(W19,Tabelas!B:D,3,0),0),\"\")","v":0},{"$f":"IF(A19<>\"\",IFERROR(VLOOKUP(X19,Tabelas!B:D,3,0),0),\"\")","v":6},{"$f":"IF(A19<>\"\",IFERROR(VLOOKUP(Y19,Tabelas!B:D,3,0),0),\"\")","v":6},{"$f":"IF(A19<>\"\",IFERROR(VLOOKUP(Z19,Tabelas!B:D,3,0),0),\"\")","v":6},{"$f":"IF(A19<>\"\",IFERROR(VLOOKUP(AA19,Tabelas!B:D,3,0),0),\"\")","v":6},{"$f":"IF(A19<>\"\",IFERROR(VLOOKUP(AB19,Tabelas!B:D,3,0),0),\"\")","v":6},{"$f":"IF(A19<>\"\",IFERROR(VLOOKUP(AC19,Tabelas!B:D,3,0),0),\"\")","v":0},{"$f":"IF(A19<>\"\",IFERROR(VLOOKUP(AD19,Tabelas!B:D,3,0),0),\"\")","v":0},{"$f":"IF(A19<>\"\",IFERROR(VLOOKUP(AE19,Tabelas!B:D,3,0),0),\"\")","v":12},{"$f":"IF(A19<>\"\",IFERROR(VLOOKUP(AF19,Tabelas!B:D,3,0),0),\"\")","v":6},{"$f":"IF(A19<>\"\",IFERROR(VLOOKUP(AG19,Tabelas!B:D,3,0),0),\"\")","v":12},{"$f":"IF(A19<>\"\",IFERROR(VLOOKUP(AH19,Tabelas!B:D,3,0),0),\"\")","v":0},{"$f":"IF(A19<>\"\",IFERROR(VLOOKUP(AI19,Tabelas!B:D,3,0),0),\"\")","v":0},{"$f":"IF(A19<>\"\",IFERROR(VLOOKUP(AJ19,Tabelas!B:D,3,0),0),\"\")","v":0},{"$f":"IF(A19<>\"\",IFERROR(VLOOKUP(AK19,Tabelas!B:D,3,0),0),\"\")","v":0},{"$f":"IF(A19<>\"\",IFERROR(VLOOKUP(AL19,Tabelas!B:D,3,0),0),\"\")","v":0},{"$f":"IF(A19<>\"\",IFERROR(VLOOKUP(AM19,Tabelas!B:D,3,0),0),\"\")","v":0},{"$f":"IF(A19<>\"\",IFERROR(VLOOKUP(AN19,Tabelas!B:D,3,0),0),\"\")","v":6},{"$f":"IF(A19<>\"\",IFERROR(VLOOKUP(AO19,Tabelas!B:D,3,0),0),\"\")","v":6},{"$f":"IF(A19<>\"\",IFERROR(VLOOKUP(AP19,Tabelas!B:D,3,0),0),\"\")","v":0},{"$f":"IF(A19<>\"\",IFERROR(VLOOKUP(AQ19,Tabelas!B:D,3,0),0),\"\")","v":0},{"$f":"IF(A19<>\"\",IFERROR(VLOOKUP(AR19,Tabelas!B:D,3,0),0),\"\")","v":0},120,0,0,0,0,0,0,12,{"$f":"IF(A19<>\"\",COUNTIF(N19:AR19,\"APH\"),\"\")","v":0}]
["Francijane A. Costa",3979952,328449,"ENF","Ebserh",36,null,null,null,null,null,null,null,"FO","FO","N2","FO","FO","N2","FO","FO","N2","FO","FO","N2","FO","N2","N2","FO","FO","N2","FO","N2","N2","FO","FO","N2","FO","FO","N2","FO",null,null,null,{"$f":"IF(A20<>\"\",IFERROR(VLOOKUP(N20,Tabelas!B:D,3,0),0),\"\")","v":0},{"$f":"IF(A20<>\"\",IFERROR(VLOOKUP(O20,Tabelas!B:D,3,0),0),\"\")","v":0},{"$f":"IF(A20<>\"\",IFERROR(VLOOKUP(P20,Tabelas!B:D,3,0),0),\"\")","v":12},{"$f":"IF(A20<>\"\",IFERROR(VLOOKUP(Q20,Tabelas!B:D,3,0),0),\"\")","v":0},{"$f":"IF(A20<>\"\",IFERROR(VLOOKUP(R20,Tabelas!B:D,3,0),0),\"\")","v":0},{"$f":"IF(A20<>\"\",IFERROR(VLOOKUP(S20,Tabelas!B:D,3,0),0),\"\")","v":12},{"$f":"IF(A20<>\"\",IFERROR(VLOOKUP(T20,Tabelas!B:D,3,0),0),\"\")","v":0},{"$f":"IF(A20<>\"\",IFERROR(VLOOKUP(U20,Tabelas!B:D,3,0),0),\"\")","v":0},{"$f":"IF(A20<>\"\",IFERROR(VLOOKUP(V20,Tabelas!B:D,3,0),0),\"\")","v":12},{"$f":"IF(A20<>\"\",IFERROR(VLOOKUP(W20,Tabelas!B:D,3,0),0),\"\")","v":0},{"$f":"IF(A20<>\"\",IFERROR(VLOOKUP(X20,Tabelas!B:D,3,0),0),\"\")","v":0},{"$f":"IF(A20<>\"\",IFERROR(VLOOKUP(Y20,Tabelas!B:D,3,0),0),\"\")","v":12},{"$f":"IF(A20<>\"\",IFERROR(VLOOKUP(Z20,Tabelas!B:D,3,0),0),\"\")","v":0},{"$f":"IF(A20<>\"\",IFERROR(VLOOKUP(AA20,Tabelas!B:D,3,0),0),\"\")","v":12},{"$f":"IF(A20<>\"\",IFERROR(VLOOKUP(AB20,Tabelas!B:D,3,0),0),\"\")","v":12},{"$f":"IF(A20<>\"\",IFERROR(VLOOKUP(AC20,Tabelas!B:D,3,0),0),\"\")","v":0},{"$f":"IF(A20<>\"\",IFERROR(VLOOKUP(AD20,Tabelas!B:D,3,0),0),\"\")","v":0},{"$f":"IF(A20<>\"\",IFERROR(VLOOKUP(AE20,Tabelas!B:D,3,0),0),\"\")","v":12},{"$f":"IF(A20<>\"\",IFERROR(VLOOKUP(AF20,Tabelas!B:D,3,0),0),\"\")","v":0},{"$f":"IF(A20<>\"\",IFERROR(VLOOKUP(AG20,Tabelas!B:D,3,0),0),\"\")","v":12},{"$f":"IF(A20<>\"\",IFERROR(VLOOKUP(AH20,Tabelas!B:D,3,0),0),\"\")","v":12},{"$f":"IF(A20<>\"\",IFERROR(VLOOKUP(AI20,Tabelas!B:D,3,0),0),\"\")","v":0},{"$f":"IF(A20<>\"\",IFERROR(VLOOKUP(AJ20,Tabelas!B:D,3,0),0),\"\")","v":0},{"$f":"IF(A20<>\"\",IFERROR(VLOOKUP(AK20,Tabelas!B:D,3,0),0),\"\")","v":12},{"$f":"IF(A20<>\"\",IFERROR(VLOOKUP(AL20,Tabelas!B:D,3,0),0),\"\")","v":0},{"$f":"IF(A20<>\"\",IFERROR(VLOOKUP(AM20,Tabelas!B:D,3,0),0),\"\")","v":0},{"$f":"IF(A20<>\"\",IFERROR(VLOOKUP(AN20,Tabelas!B:D,3,0),0),\"\")","v":12},{"$f":"IF(A20<>\"\",IFERROR(VLOOKUP(AO20,Tabelas!B:D,3,0),0),\"\")","v":0},{"$f":"IF(A20<>\"\",IFERROR(VLOOKUP(AP20,Tabelas!B:D,3,0),0),\"\")","v":0},{"$f":"IF(A20<>\"\",IFERROR(VLOOKUP(AQ20,Tabelas!B:D,3,0),0),\"\")","v":0},{"$f":"IF(A20<>\"\",IFERROR(VLOOKUP(AR20,Tabelas!B:D,3,0),0),\"\")","v":0},132,0,0,0,0,0,0,17,0]
["NOTURNO 1",null,null,null,null,null,null,null,null,null,null,null,null,null,null,null,null,null,null,null,null,null,null,null,null,null,null,null,null,null,null,null,null,null,null,null,null,null,null,null,null,null,null,null,{"$f":"IF(A21<>\"\",IFERROR(VLOOKUP(N21,Tabelas!B:D,3,0),0),\"\")","v":0},{"$f":"IF(A21<>\"\",IFERROR(VLOOKUP(O21,Tabelas!B:D,3,0),0),\"\")","v":0},{"$f":"IF(A21<>\"\",IFERROR(VLOOKUP(P21,Tabelas!B:D,3,0),0),\"\")","v":0},{"$f":"IF(A21<>\"\",IFERROR(VLOOKUP(Q21,Tabelas!B:D,3,0),0),\"\")","v":0},{"$f":"IF(A21<>\"\",IFERROR(VLOOKUP(R21,Tabelas!B:D,3,0),0),\"\")","v":0},{"$f":"IF(A21<>\"\",IFERROR(VLOOKUP(S21,Tabelas!B:D,3,0),0),\"\")","v":0},{"$f":"IF(A21<>\"\",IFERROR(VLOOKUP(T21,Tabelas!B:D,3,0),0),\"\")","v":0},{"$f":"IF(A21<>\"\",IFERROR(VLOOKUP(U21,Tabelas!B:D,3,0),0),\"\")","v":0},{"$f":"IF(A21<>\"\",IFERROR(VLOOKUP(V21,Tabelas!B:D,3,0),0),\"\")","v":0},{"$f":"IF(A21<>\"\",IFERROR(VLOOKUP(W21,Tabelas!B:D,3,0),0),\"\")","v":0},{"$f":"IF(A21<>\"\",IFERROR(VLOOKUP(X21,Tabelas!B:D,3,0),0),\"\")","v":0},{"$f":"IF(A21<>\"\",IFERROR(VLOOKUP(Y21,Tabelas!B:D,3,0),0),\"\")","v":0},{"$f":"IF(A21<>\"\",IFERROR(VLOOKUP(Z21,Tabelas!B:D,3,0),0),\"\")","v":0},{"$f":"IF(A21<>\"\",IFERROR(VLOOKUP(AA21,Tabelas!B:D,3,0),0),\"\")","v":0},{"$f":"IF(A21<>\"\",IFERROR(VLOOKUP(AB21,Tabelas!B:D,3,0),0),\"\")","v":0},{"$f":"IF(A21<>\"\",IFERROR(VLOOKUP(AC21,Tabelas!B:D,3,0),0),\"\")","v":0},{"$f":"IF(A21<>\"\",IFERROR(VLOOKUP(AD21,Tabelas!B:D,3,0),0),\"\")","v":0},{"$f":"IF(A21<>\"\",IFERROR(VLOOKUP(AE21,Tabelas!B:D,3,0),0),\"\")","v":0},{"$f":"IF(A21<>\"\",IFERROR(VLOOKUP(AF21,Tabelas!B:D,3,0),0),\"\")","v":0},{"$f":"IF(A21<>\"\",IFERROR(VLOOKUP(AG21,Tabelas!B:D,3,0),0),\"\")","v":0},{"$f":"IF(A21<>\"\",IFERROR(VLOOKUP(AH21,Tabelas!B:D,3,0),0),\"\")","v":0},{"$f":"IF(A21<>\"\",IFERROR(VLOOKUP(AI21,Tabelas!B:D,3,0),0),\"\")","v":0},{"$f":"IF(A21<>\"\",IFERROR(VLOOKUP(AJ21,Tabelas!B:D,3,0),0),\"\")","v":0},{"$f":"IF(A21<>\"\",IFERROR(VLOOKUP(AK21,Tabelas!B:D,3,0),0),\"\")","v":0},{"$f":"IF(A21<>\"\",IFERROR(VLOOKUP(AL21,Tabelas!B:D,3,0),0),\"\")","v":0},{"$f":"IF(A21<>\"\",IFERROR(VLOOKUP(AM21,Tabelas!B:D,3,0),0),\"\")","v":0},{"$f":"IF(A21<>\"\",IFERROR(VLOOKUP(AN21,Tabelas!B:D,3,0),0),\"\")","v":0},{"$f":"IF(A21<>\"\",IFERROR(VLOOKUP(AO21,Tabelas!B:D,3,0),0),\"\")","v":0},{"$f":"IF(A21<>\"\",IFERROR(VLOOKUP(AP21,Tabelas!B:D,3,0),0),\"\")","v":0},{"$f":"IF(A21<>\"\",IFERROR(VLOOKUP(AQ21,Tabelas!B:D,3,0),0),\"\")","v":0},{"$f":"IF(A21<>\"\",IFERROR(VLOOKUP(AR21,Tabelas!B:D,3,0),0),\"\")","v":0},0,0,0,0,0,0,0,0,0]
["Janeide F. de Mello",1160014,58630,"ENF","RJU",30,null,null,null,null,null,null,null,"FO","N2","FO","FO","N2","FO","FO","N2","FO","FO","N2","FO","FO","N2","FO","FO","N2","FO","FO","N2","FO","FO","N2","FO","FO","N2","FO","FO",null,null,null,{"$f":"IF(A22<>\"\",IFERROR(VLOOKUP(N22,Tabelas!B:D,3,0),0),\"\")","v":0},{"$f":"IF(A22<>\"\",IFERROR(VLOOKUP(O22,Tabelas!B:D,3,0),0),\"\")","v":12},{"$f":"IF(A22<>\"\",IFERROR(VLOOKUP(P22,Tabelas!B:D,3,0),0),\"\")","v":0},{"$f":"IF(A22<>\"\",IFERROR(VLOOKUP(Q22,Tabelas!B:D,3,0),0),\"\")","v":0},{"$f":"IF(A22<>\"\",IFERROR(VLOOKUP(R22,Tabelas!B:D,3,0),0),\"\")","v":12},{"$f":"IF(A22<>\"\",IFERROR(VLOOKUP(S22,Tabelas!B:D,3,0),0),\"\")","v":0},{"$f":"IF(A22<>\"\",IFERROR(VLOOKUP(T22,Tabelas!B:D,3,0),0),\"\")","v":0},{"$f":"IF(A22<>\"\",IFERROR(VLOOKUP(U22,Tabelas!B:D,3,0),0),\"\")","v":12},{"$f":"IF(A22<>\"\",IFERROR(VLOOKUP(V22,Tabelas!B:D,3,0),0),\"\")","v":0},{"$f":"IF(A22<>\"\",IFERROR(VLOOKUP(W22,Tabelas!B:D,3,0),0),\"\")","v":0},{"$f":"IF(A22<>\"\",IFERROR(VLOOKUP(X22,Tabelas!B:D,3,0),0),\"\")","v":12},{"$f":"IF(A22<>\"\",IFERROR(VLOOKUP(Y22,Tabelas!B:D,3,0),0),\"\")","v":0},{"$f":"IF(A22<>\"\",IFERROR(VLOOKUP(Z22,Tabelas!B:D,3,0),0),\"\")","v":0},{"$f":"IF(A22<>\"\",IFERROR(VLOOKUP(AA22,Tabelas!B:D,3,0),0),\"\")","v":12},{"$f":"IF(A22<>\"\",IFERROR(VLOOKUP(AB22,Tabelas!B:D,3,0),0),\"\")","v":0},{"$f":"IF(A22<>\"\",IFERROR(VLOOKUP(AC22,Tabelas!B:D,3,0),0),\"\")","v":0},{"$f":"IF(A22<>\"\",IFERROR(VLOOKUP(AD22,Tabelas!B:D,3,0),0),\"\")","v":12},{"$f":"IF(A22<>\"\",IFERROR(VLOOKUP(AE22,Tabelas!B:D,3,0),0),\"\")","v":0},{"$f":"IF(A22<>\"\",IFERROR(VLOOKUP(AF22,Tabelas!B:D,3,0),0),\"\")","v":0},{"$f":"IF(A22<>\"\",IFERROR(VLOOKUP(AG22,Tabelas!B:D,3,0),0),\"\")","v":12},{"$f":"IF(A22<>\"\",IFERROR(VLOOKUP(AH22,Tabelas!B:D,3,0),0),\"\")","v":0},{"$f":"IF(A22<>\"\",IFERROR(VLOOKUP(AI22,Tabelas!B:D,3,0),0),\"\")","v":0},{"$f":"IF(A22<>\"\",IFERROR(VLOOKUP(AJ22,Tabelas!B:D,3,0),0),\"\")","v":12},{"$f":"IF(A22<>\"\",IFERROR(VLOOKUP(AK22,Tabelas!B:D,3,0),0),\"\")","v":0},{"$f":"IF(A22<>\"\",IFERROR(VLOOKUP(AL22,Tabelas!B:D,3,0),0),\"\")","v":0},{"$f":"IF(A22<>\"\",IFERROR(VLOOKUP(AM22,Tabelas!B:D,3,0),0),\"\")","v":12},{"$f":"IF(A22<>\"\",IFERROR(VLOOKUP(AN22,Tabelas!B:D,3,0),0),\"\")","v":0},{"$f":"IF(A22<>\"\",IFERROR(VLOOKUP(AO22,Tabelas!B:D,3,0),0),\"\")","v":0},{"$f":"IF(A22<>\"\",IFERROR(VLOOKUP(AP22,Tabelas!B:D,3,0),0),\"\")","v":0},{"$f":"IF(A22<>\"\",IFERROR(VLOOKUP(AQ22,Tabelas!B:D,3,0),0),\"\")","v":0},{"$f":"IF(A22<>\"\",IFERROR(VLOOKUP(AR22,Tabelas!B:D,3,0),0),\"\")","v":0},108,0,0,0,0,0,0,19,0]
["Sabrina Guterres",3767570,169820,"ENF","RJU",30,null,null,null,null,null,null,null,"FO","N2","FO","FO","N2","FO","FO","N2","FO","FO","N2","FO","FO","FE","FE","FE","FE","FE","FE","FE","FE","FE","FE","FO","FO","N2","FO","FO",null,null,null,{"$f":"IF(A23<>\"\",IFERROR(VLOOKUP(N23,Tabelas!B:D,3,0),0),\"\")","v":0},{"$f":"IF(A23<>\"\",IFERROR(VLOOKUP(O23,Tabelas!B:D,3,0),0),\"\")","v":12},{"$f":"IF(A23<>\"\",IFERROR(VLOOKUP(P23,Tabelas!B:D,3,0),0),\"\")","v":0},{"$f":"IF(A23<>\"\",IFERROR(VLOOKUP(Q23,Tabelas!B:D,3,0),0),\"\")","v":0},{"$f":"IF(A23<>\"\",IFERROR(VLOOKUP(R23,Tabelas!B:D,3,0),0),\"\")","v":12},{"$f":"IF(A23<>\"\",IFERROR(VLOOKUP(S23,Tabelas!B:D,3,0),0),\"\")","v":0},{"$f":"IF(A23<>\"\",IFERROR(VLOOKUP(T23,Tabelas!B:D,3,0),0),\"\")","v":0},{"$f":"IF(A23<>\"\",IFERROR(VLOOKUP(U23,Tabelas!B:D,3,0),0),\"\")","v":12},{"$f":"IF(A23<>\"\",IFERROR(VLOOKUP(V23,Tabelas!B:D,3,0),0),\"\")","v":0},{"$f":"IF(A23<>\"\",IFERROR(VLOOKUP(W23,Tabelas!B:D,3,0),0),\"\")","v":0},{"$f":"IF(A23<>\"\",IFERROR(VLOOKUP(X23,Tabelas!B:D,3,0),0),\"\")","v":12},{"$f":"IF(A23<>\"\",IFERROR(VLOOKUP(Y23,Tabelas!B:D,3,0),0),\"\")","v":0},{"$f":"IF(A23<>\"\",IFERROR(VLOOKUP(Z23,Tabelas!B:D,3,0),0),\"\")","v":0},{"$f":"IF(A23<>\"\",IFERROR(VLOOKUP(AA23,Tabelas!B:D,3,0),0),\"\")","v":0},{"$f":"IF(A23<>\"\",IFERROR(VLOOKUP(AB23,Tabelas!B:D,3,0),0),\"\")","v":0},{"$f":"IF(A23<>\"\",IFERROR(VLOOKUP(AC23,Tabelas!B:D,3,0),0),\"\")","v":0},{"$f":"IF(A23<>\"\",IFERROR(VLOOKUP(AD23,Tabelas!B:D,3,0),0),\"\")","v":0},{"$f":"IF(A23<>\"\",IFERROR(VLOOKUP(AE23,Tabelas!B:D,3,0),0),\"\")","v":0},{"$f":"IF(A23<>\"\",IFERROR(VLOOKUP(AF23,Tabelas!B:D,3,0),0),\"\")","v":0},{"$f":"IF(A23<>\"\",IFERROR(VLOOKUP(AG23,Tabelas!B:D,3,0),0),\"\")","v":0},{"$f":"IF(A23<>\"\",IFERROR(VLOOKUP(AH23,Tabelas!B:D,3,0),0),\"\")","v":0},{"$f":"IF(A23<>\"\",IFERROR(VLOOKUP(AI23,Tabelas!B:D,3,0),0),\"\")","v":0},{"$f":"IF(A23<>\"\",IFERROR(VLOOKUP(AJ23,Tabelas!B:D,3,0),0),\"\")","v":0},{"$f":"IF(A23<>\"\",IFERROR(VLOOKUP(AK23,Tabelas!B:D,3,0),0),\"\")","v":0},{"$f":"IF(A23<>\"\",IFERROR(VLOOKUP(AL23,Tabelas!B:D,3,0),0),\"\")","v":0},{"$f":"IF(A23<>\"\",IFERROR(VLOOKUP(AM23,Tabelas!B:D,3,0),0),\"\")","v":12},{"$f":"IF(A23<>\"\",IFERROR(VLOOKUP(AN23,Tabelas!B:D,3,0),0),\"\")","v":0},{"$f":"IF(A23<>\"\",IFERROR(VLOOKUP(AO23,Tabelas!B:D,3,0),0),\"\")","v":0},{"$f":"IF(A23<>\"\",IFERROR(VLOOKUP(AP23,Tabelas!B:D,3,0),0),\"\")","v":0},{"$f":"IF(A23<>\"\",IFERROR(VLOOKUP(AQ23,Tabelas!B:D,3,0),0),\"\")","v":0},{"$f":"IF(A23<>\"\",IFERROR(VLOOKUP(AR23,Tabelas!B:D,3,0),0),\"\")","v":0},60,0,0,10,0,0,0,23,0]
["NOTURNO 2",null,null,null,null,null,null,null,null,null,null,null,null,null,null,null,null,null,null,null,null,null,null,null,null,null,null,null,null,null,null,null,null,null,null,null,null,null,null,null,null,null,null,null,{"$f":"IF(A24<>\"\",IFERROR(VLOOKUP(N24,Tabelas!B:D,3,0),0),\"\")","v":0},{"$f":"IF(A24<>\"\",IFERROR(VLOOKUP(O24,Tabelas!B:D,3,0),0),\"\")","v":0},{"$f":"IF(A24<>\"\",IFERROR(VLOOKUP(P24,Tabelas!B:D,3,0),0),\"\")","v":0},{"$f":"IF(A24<>\"\",IFERROR(VLOOKUP(Q24,Tabelas!B:D,3,0),0),\"\")","v":0},{"$f":"IF(A24<>\"\",IFERROR(VLOOKUP(R24,Tabelas!B:D,3,0),0),\"\")","v":0},{"$f":"IF(A24<>\"\",IFERROR(VLOOKUP(S24,Tabelas!B:D,3,0),0),\"\")","v":0},{"$f":"IF(A24<>\"\",IFERROR(VLOOKUP(T24,Tabelas!B:D,3,0),0),\"\")","v":0},{"$f":"IF(A24<>\"\",IFERROR(VLOOKUP(U24,Tabelas!B:D,3,0),0),\"\")","v":0},{"$f":"IF(A24<>\"\",IFERROR(VLOOKUP(V24,Tabelas!B:D,3,0),0),\"\")","v":0},{"$f":"IF(A24<>\"\",IFERROR(VLOOKUP(W24,Tabelas!B:D,3,0),0),\"\")","v":0},{"$f":"IF(A24<>\"\",IFERROR(VLOOKUP(X24,Tabelas!B:D,3,0),0),\"\")","v":0},{"$f":"IF(A24<>\"\",IFERROR(VLOOKUP(Y24,Tabelas!B:D,3,0),0),\"\")","v":0},{"$f":"IF(A24<>\"\",IFERROR(VLOOKUP(Z24,Tabelas!B:D,3,0),0),\"\")","v":0},{"$f":"IF(A24<>\"\",IFERROR(VLOOKUP(AA24,Tabelas!B:D,3,0),0),\"\")","v":0},{"$f":"IF(A24<>\"\",IFERROR(VLOOKUP(AB24,Tabelas!B:D,3,0),0),\"\")","v":0},{"$f":"IF(A24<>\"\",IFERROR(VLOOKUP(AC24,Tabelas!B:D,3,0),0),\"\")","v":0},{"$f":"IF(A24<>\"\",IFERROR(VLOOKUP(AD24,Tabelas!B:D,3,0),0),\"\")","v":0},{"$f":"IF(A24<>\"\",IFERROR(VLOOKUP(AE24,Tabelas!B:D,3,0),0),\"\")","v":0},{"$f":"IF(A24<>\"\",IFERROR(VLOOKUP(AF24,Tabelas!B:D,3,0),0),\"\")","v":0},{"$f":"IF(A24<>\"\",IFERROR(VLOOKUP(AG24,Tabelas!B:D,3,0),0),\"\")","v":0},{"$f":"IF(A24<>\"\",IFERROR(VLOOKUP(AH24,Tabelas!B:D,3,0),0),\"\")","v":0},{"$f":"IF(A24<>\"\",IFERROR(VLOOKUP(AI24,Tabelas!B:D,3,0),0),\"\")","v":0},{"$f":"IF(A24<>\"\",IFERROR(VLOOKUP(AJ24,Tabelas!B:D,3,0),0),\"\")","v":0},{"$f":"IF(A24<>\"\",IFERROR(VLOOKUP(AK24,Tabelas!B:D,3,0),0),\"\")","v":0},{"$f":"IF(A24<>\"\",IFERROR(VLOOKUP(AL24,Tabelas!B:D,3,0),0),\"\")","v":0},{"$f":"IF(A24<>\"\",IFERROR(VLOOKUP(AM24,Tabelas!B:D,3,0),0),\"\")","v":0},{"$f":"IF(A24<>\"\",IFERROR(VLOOKUP(AN24,Tabelas!B:D,3,0),0),\"\")","v":0},{"$f":"IF(A24<>\"\",IFERROR(VLOOKUP(AO24,Tabelas!B:D,3,0),0),\"\")","v":0},{"$f":"IF(A24<>\"\",IFERROR(VLOOKUP(AP24,Tabelas!B:D,3,0),0),\"\")","v":0},{"$f":"IF(A24<>\"\",IFERROR(VLOOKUP(AQ24,Tabelas!B:D,3,0),0),\"\")","v":0},{"$f":"IF(A24<>\"\",IFERROR(VLOOKUP(AR24,Tabelas!B:D,3,0),0),\"\")","v":0},0,0,0,0,0,0,0,0,0]
["Elaine A.G. Medeiros",1836019,200668,"ENF","RJU",30,null,null,null,null,null,null,null,"FO","FO","N2","FO","FO","N2","FO","FO","N2","FO","FO","N2","FO","FO","N2","FO","FO","N2","FO","FO","N2","FO","FO","N2","FO","FO","N2","FO",null,null,null,{"$f":"IF(A25<>\"\",IFERROR(VLOOKUP(N25,Tabelas!B:D,3,0),0),\"\")","v":0},{"$f":"IF(A25<>\"\",IFERROR(VLOOKUP(O25,Tabelas!B:D,3,0),0),\"\")","v":0},{"$f":"IF(A25<>\"\",IFERROR(VLOOKUP(P25,Tabelas!B:D,3,0),0),\"\")","v":12},{"$f":"IF(A25<>\"\",IFERROR(VLOOKUP(Q25,Tabelas!B:D,3,0),0),\"\")","v":0},{"$f":"IF(A25<>\"\",IFERROR(VLOOKUP(R25,Tabelas!B:D,3,0),0),\"\")","v":0},{"$f":"IF(A25<>\"\",IFERROR(VLOOKUP(S25,Tabelas!B:D,3,0),0),\"\")","v":12},{"$f":"IF(A25<>\"\",IFERROR(VLOOKUP(T25,Tabelas!B:D,3,0),0),\"\")","v":0},{"$f":"IF(A25<>\"\",IFERROR(VLOOKUP(U25,Tabelas!B:D,3,0),0),\"\")","v":0},{"$f":"IF(A25<>\"\",IFERROR(VLOOKUP(V25,Tabelas!B:D,3,0),0),\"\")","v":12},{"$f":"IF(A25<>\"\",IFERROR(VLOOKUP(W25,Tabelas!B:D,3,0),0),\"\")","v":0},{"$f":"IF(A25<>\"\",IFERROR(VLOOKUP(X25,Tabelas!B:D,3,0),0),\"\")","v":0},{"$f":"IF(A25<>\"\",IFERROR(VLOOKUP(Y25,Tabelas!B:D,3,0),0),\"\")","v":12},{"$f":"IF(A25<>\"\",IFERROR(VLOOKUP(Z25,Tabelas!B:D,3,0),0),\"\")","v":0},{"$f":"IF(A25<>\"\",IFERROR(VLOOKUP(AA25,Tabelas!B:D,3,0),0),\"\")","v":0},{"$f":"IF(A25<>\"\",IFERROR(VLOOKUP(AB25,Tabelas!B:D,3,0),0),\"\")","v":12},{"$f":"IF(A25<>\"\",IFERROR(VLOOKUP(AC25,Tabelas!B:D,3,0),0),\"\")","v":0},{"$f":"IF(A25<>\"\",IFERROR(VLOOKUP(AD25,Tabelas!B:D,3,0),0),\"\")","v":0},{"$f":"IF(A25<>\"\",IFERROR(VLOOKUP(AE25,Tabelas!B:D,3,0),0),\"\")","v":12},{"$f":"IF(A25<>\"\",IFERROR(VLOOKUP(AF25,Tabelas!B:D,3,0),0),\"\")","v":0},{"$f":"IF(A25<>\"\",IFERROR(VLOOKUP(AG25,Tabelas!B:D,3,0),0),\"\")","v":0},{"$f":"IF(A25<>\"\",IFERROR(VLOOKUP(AH25,Tabelas!B:D,3,0),0),\"\")","v":12},{"$f":"IF(A25<>\"\",IFERROR(VLOOKUP(AI25,Tabelas!B:D,3,0),0),\"\")","v":0},{"$f":"IF(A25<>\"\",IFERROR(VLOOKUP(AJ25,Tabelas!B:D,3,0),0),\"\")","v":0},{"$f":"IF(A25<>\"\",IFERROR(VLOOKUP(AK25,Tabelas!B:D,3,0),0),\"\")","v":12},{"$f":"IF(A25<>\"\",IFERROR(VLOOKUP(AL25,Tabelas!B:D,3,0),0),\"\")","v":0},{"$f":"IF(A25<>\"\",IFERROR(VLOOKUP(AM25,Tabelas!B:D,3,0),0),\"\")","v":0},{"$f":"IF(A25<>\"\",IFERROR(VLOOKUP(AN25,Tabelas!B:D,3,0),0),\"\")","v":12},{"$f":"IF(A25<>\"\",IFERROR(VLOOKUP(AO25,Tabelas!B:D,3,0),0),\"\")","v":0},{"$f":"IF(A25<>\"\",IFERROR(VLOOKUP(AP25,Tabelas!B:D,3,0),0),\"\")","v":0},{"$f":"IF(A25<>\"\",IFERROR(VLOOKUP(AQ25,Tabelas!B:D,3,0),0),\"\")","v":0},{"$f":"IF(A25<>\"\",IFERROR(VLOOKUP(AR25,Tabelas!B:D,3,0),0),\"\")","v":0},108,0,0,0,0,0,0,19,0]
["Giselle B. da Rosa",2423163,251341,"ENF","RJU",30,null,null,null,null,null,null,null,"L","L","L","L","L","L","L","L","L","L","L","L","L","L","L","L","L","L","L","L","L","L","L","L","L","L","N2","FO",null,null,null,{"$f":"IF(A26<>\"\",IFERROR(VLOOKUP(N26,Tabelas!B:D,3,0),0),\"\")","v":0},{"$f":"IF(A26<>\"\",IFERROR(VLOOKUP(O26,Tabelas!B:D,3,0),0),\"\")","v":0},{"$f":"IF(A26<>\"\",IFERROR(VLOOKUP(P26,Tabelas!B:D,3,0),0),\"\")","v":0},{"$f":"IF(A26<>\"\",IFERROR(VLOOKUP(Q26,Tabelas!B:D,3,0),0),\"\")","v":0},{"$f":"IF(A26<>\"\",IFERROR(VLOOKUP(R26,Tabelas!B:D,3,0),0),\"\")","v":0},{"$f":"IF(A26<>\"\",IFERROR(VLOOKUP(S26,Tabelas!B:D,3,0),0),\"\")","v":0},{"$f":"IF(A26<>\"\",IFERROR(VLOOKUP(T26,Tabelas!B:D,3,0),0),\"\")","v":0},{"$f":"IF(A26<>\"\",IFERROR(VLOOKUP(U26,Tabelas!B:D,3,0),0),\"\")","v":0},{"$f":"IF(A26<>\"\",IFERROR(VLOOKUP(V26,Tabelas!B:D,3,0),0),\"\")","v":0},{"$f":"IF(A26<>\"\",IFERROR(VLOOKUP(W26,Tabelas!B:D,3,0),0),\"\")","v":0},{"$f":"IF(A26<>\"\",IFERROR(VLOOKUP(X26,Tabelas!B:D,3,0),0),\"\")","v":0},{"$f":"IF(A26<>\"\",IFERROR(VLOOKUP(Y26,Tabelas!B:D,3,0),0),\"\")","v":0},{"$f":"IF(A26<>\"\",IFERROR(VLOOKUP(Z26,Tabelas!B:D,3,0),0),\"\")","v":0},{"$f":"IF(A26<>\"\",IFERROR(VLOOKUP(AA26,Tabelas!B:D,3,0),0),\"\")","v":0},{"$f":"IF(A26<>\"\",IFERROR(VLOOKUP(AB26,Tabelas!B:D,3,0),0),\"\")","v":0},{"$f":"IF(A26<>\"\",IFERROR(VLOOKUP(AC26,Tabelas!B:D,3,0),0),\"\")","v":0},{"$f":"IF(A26<>\"\",IFERROR(VLOOKUP(AD26,Tabelas!B:D,3,0),0),\"\")","v":0},{"$f":"IF(A26<>\"\",IFERROR(VLOOKUP(AE26,Tabelas!B:D,3,0),0),\"\")","v":0},{"$f":"IF(A26<>\"\",IFERROR(VLOOKUP(AF26,Tabelas!B:D,3,0),0),\"\")","v":0},{"$f":"IF(A26<>\"\",IFERROR(VLOOKUP(AG26,Tabelas!B:D,3,0),0),\"\")","v":0},{"$f":"IF(A26<>\"\",IFERROR(VLOOKUP(AH26,Tabelas!B:D,3,0),0),\"\")","v":0},{"$f":"IF(A26<>\"\",IFERROR(VLOOKUP(AI26,Tabelas!B:D,3,0),0),\"\")","v":0},{"$f":"IF(A26<>\"\",IFERROR(VLOOKUP(AJ26,Tabelas!B:D,3,0),0),\"\")","v":0},{"$f":"IF(A26<>\"\",IFERROR(VLOOKUP(AK26,Tabelas!B:D,3,0),0),\"\")","v":0},{"$f":"IF(A26<>\"\",IFERROR(VLOOKUP(AL26,Tabelas!B:D,3,0),0),\"\")","v":0},{"$f":"IF(A26<>\"\",IFERROR(VLOOKUP(AM26,Tabelas!B:D,3,0),0),\"\")","v":0},{"$f":"IF(A26<>\"\",IFERROR(VLOOKUP(AN26,Tabelas!B:D,3,0),0),\"\")","v":12},{"$f":"IF(A26<>\"\",IFERROR(VLOOKUP(AO26,Tabelas!B:D,3,0),0),\"\")","v":0},{"$f":"IF(A26<>\"\",IFERROR(VLOOKUP(AP26,Tabelas!B:D,3,0),0),\"\")","v":0},{"$f":"IF(A26<>\"\",IFERROR(VLOOKUP(AQ26,Tabelas!B:D,3,0),0),\"\")","v":0},{"$f":"IF(A26<>\"\",IFERROR(VLOOKUP(AR26,Tabelas!B:D,3,0),0),\"\")","v":0},12,26,0,0,0,0,0,27,0]
["NOTURNO 3",null,null,null,null,null,null,null,null,null,null,null,null,null,null,null,null,null,null,null,null,null,null,null,null,null,null,null,null,null,null,null,null,null,null,null,null,null,null,null,null,null,null,null,{"$f":"IF(#REF!<>\"\",IFERROR(VLOOKUP(N27,Tabelas!B:D,3,0),0),\"\")","v":{"$error":"#REF!"}},{"$f":"IF(#REF!<>\"\",IFERROR(VLOOKUP(O27,Tabelas!B:D,3,0),0),\"\")","v":{"$error":"#REF!"}},{"$f":"IF(#REF!<>\"\",IFERROR(VLOOKUP(P27,Tabelas!B:D,3,0),0),\"\")","v":{"$error":"#REF!"}},{"$f":"IF(#REF!<>\"\",IFERROR(VLOOKUP(Q27,Tabelas!B:D,3,0),0),\"\")","v":{"$error":"#REF!"}},{"$f":"IF(#REF!<>\"\",IFERROR(VLOOKUP(R27,Tabelas!B:D,3,0),0),\"\")","v":{"$error":"#REF!"}},{"$f":"IF(#REF!<>\"\",IFERROR(VLOOKUP(S27,Tabelas!B:D,3,0),0),\"\")","v":{"$error":"#REF!"}},{"$f":"IF(#REF!<>\"\",IFERROR(VLOOKUP(T27,Tabelas!B:D,3,0),0),\"\")","v":{"$error":"#REF!"}},{"$f":"IF(#REF!<>\"\",IFERROR(VLOOKUP(U27,Tabelas!B:D,3,0),0),\"\")","v":{"$error":"#REF!"}},{"$f":"IF(#REF!<>\"\",IFERROR(VLOOKUP(V27,Tabelas!B:D,3,0),0),\"\")","v":{"$error":"#REF!"}},{"$f":"IF(#REF!<>\"\",IFERROR(VLOOKUP(W27,Tabelas!B:D,3,0),0),\"\")","v":{"$error":"#REF!"}},{"$f":"IF(#REF!<>\"\",IFERROR(VLOOKUP(X27,Tabelas!B:D,3,0),0),\"\")","v":{"$error":"#REF!"}},{"$f":"IF(#REF!<>\"\",IFERROR(VLOOKUP(Y27,Tabelas!B:D,3,0),0),\"\")","v":{"$error":"#REF!"}},{"$f":"IF(#REF!<>\"\",IFERROR(VLOOKUP(Z27,Tabelas!B:D,3,0),0),\"\")","v":{"$error":"#REF!"}},{"$f":"IF(#REF!<>\"\",IFERROR(VLOOKUP(AA27,Tabelas!B:D,3,0),0),\"\")","v":{"$error":"#REF!"}},{"$f":"IF(#REF!<>\"\",IFERROR(VLOOKUP(AB27,Tabelas!B:D,3,0),0),\"\")","v":{"$error":"#REF!"}},{"$f":"IF(#REF!<>\"\",IFERROR(VLOOKUP(AC27,Tabelas!B:D,3,0),0),\"\")","v":{"$error":"#REF!"}},{"$f":"IF(#REF!<>\"\",IFERROR(VLOOKUP(AD27,Tabelas!B:D,3,0),0),\"\")","v":{"$error":"#REF!"}},{"$f":"IF(#REF!<>\"\",IFERROR(VLOOKUP(AE27,Tabelas!B:D,3,0),0),\"\")","v":{"$error":"#REF!"}},{"$f":"IF(#REF!<>\"\",IFERROR(VLOOKUP(AF27,Tabelas!B:D,3,0),0),\"\")","v":{"$error":"#REF!"}},{"$f":"IF(#REF!<>\"\",IFERROR(VLOOKUP(AG27,Tabelas!B:D,3,0),0),\"\")","v":{"$error":"#REF!"}},{"$f":"IF(#REF!<>\"\",IFERROR(VLOOKUP(AH27,Tabelas!B:D,3,0),0),\"\")","v":{"$error":"#REF!"}},{"$f":"IF(#REF!<>\"\",IFERROR(VLOOKUP(AI27,Tabelas!B:D,3,0),0),\"\")","v":{"$error":"#REF!"}},{"$f":"IF(#REF!<>\"\",IFERROR(VLOOKUP(AJ27,Tabelas!B:D,3,0),0),\"\")","v":{"$error":"#REF!"}},{"$f":"IF(#REF!<>\"\",IFERROR(VLOOKUP(AK27,Tabelas!B:D,3,0),0),\"\")","v":{"$error":"#REF!"}},{"$f":"IF(#REF!<>\"\",IFERROR(VLOOKUP(AL27,Tabelas!B:D,3,0),0),\"\")","v":{"$error":"#REF!"}},{"$f":"IF(#REF!<>\"\",IFERROR(VLOOKUP(AM27,Tabelas!B:D,3,0),0),\"\")","v":{"$error":"#REF!"}},{"$f":"IF(#REF!<>\"\",IFERROR(VLOOKUP(AN27,Tabelas!B:D,3,0),0),\"\")","v":{"$error":"#REF!"}},{"$f":"IF(#REF!<>\"\",IFERROR(VLOOKUP(AO27,Tabelas!B:D,3,0),0),\"\")","v":{"$error":"#REF!"}},{"$f":"IF(#REF!<>\"\",IFERROR(VLOOKUP(AP27,Tabelas!B:D,3,0),0),\"\")","v":{"$error":"#REF!"}},{"$f":"IF(#REF!<>\"\",IFERROR(VLOOKUP(AQ27,Tabelas!B:D,3,0),0),\"\")","v":{"$error":"#REF!"}},{"$f":"IF(#REF!<>\"\",IFERROR(VLOOKUP(AR27,Tabelas!B:D,3,0),0),\"\")","v":{"$error":"#REF!"}},{"$f":"IF(#REF!<>\"\",SUM(AS27:BW27),\"\")","v":{"$error":"#REF!"}},{"$f":"IF(#REF!<>\"\",COUNTIF(N27:AR27,\"LM\")+COUNTIF(N27:AR27,\"L\"),\"\")+COUNTIF(N27:AR27,\"LP\")","v":{"$error":"#REF!"}},{"$f":"IF(#REF!<>\"\",COUNTIF(N27:AR27,\"AB\"),\"\")","v":{"$error":"#REF!"}},{"$f":"IF(#REF!<>\"\",COUNTIF(N27:AR27,\"FE\"),\"\")","v":{"$error":"#REF!"}},{"$f":"IF(#REF!<>\"\",COUNTIF(N27:AR27,\"LC\"),\"\")","v":{"$error":"#REF!"}},{"$f":"IF(#REF!<>\"\",COUNTIF(N27:AR27,\"CE\"),\"\")","v":{"$error":"#REF!"}},{"$f":"IF(#REF!<>\"\",COUNTIF(N27:AR27,\"AF1\")+COUNTIF(N27:AR27,\"AF2\")+COUNTIF(N27:AR27,\"AF3\")+COUNTIF(N27:AR27,\"AF4\")+COUNTIF(N27:AR27,\"AF5\")+COUNTIF(N27:AR27,\"AF6\")+COUNTIF(N27:AR27,\"AF7\")+COUNTIF(N27:AR27,\"AF8\")+COUNTIF(N27:AR27,\"AF9\")+COUNTIF(N27:AR27,\"AF10\")+COUNTIF(N27:AR27,\"AF11\")+COUNTIF(N27:AR27,\"AF12\")+COUNTIF(N27:AR27,\"AF13\")+COUNTIF(N27:AR27,\"AF14\"),\"\")","v":{"$error":"#REF!"}},{"$f":"IF(#REF!<>\"\",COUNTIF(N27:AR27,\"CE\")+COUNTIF(N27:AR27,\"L\")+COUNTIF(N27:AR27,\"LM\")+COUNTIF(N27:AR27,\"LP\")+COUNTIF(N27:AR27,\"LC\")+COUNTIF(N27:AR27,\"AB\")+COUNTIF(N27:AR27,\"AF1\")+COUNTIF(N27:AR27,\"AF2\")+COUNTIF(N27:AR27,\"AF3\")+COUNTIF(N27:AR27,\"AF4\")+COUNTIF(N27:AR27,\"AF5\")+COUNTIF(N27:AR27,\"AF6\")+COUNTIF(N27:AR27,\"AF7\")+COUNTIF(N27:AR27,\"AF8\")+COUNTIF(N27:AR27,\"AF9\")+COUNTIF(N27:AR27,\"AF10\")+COUNTIF(N27:AR27,\"AF11\")+COUNTIF(N27:AR27,\"AF12\")+COUNTIF(N27:AR27,\"AF13\")+COUNTIF(N27:AR27,\"AF14\")+COUNTIF(N27:AR27,\"RC\")+COUNTIF(N27:AR27,\"FO\")+COUNTIF(N27:AR27,\"FE\"),\"\")","v":{"$error":"#REF!"}},{"$f":"IF(#REF!<>\"\",COUNTIF(N27:AR27,\"APH\"),\"\")","v":{"$error":"#REF!"}}]
["Berenice Rubik",2551350,220280,"ENF","RJU",30,null,null,null,null,null,null,null,"N2","FO","FO","N2","FO","FO","N2","FO","FO","N2","FO","FO","N2","FO","FO","N2","FO","FO","N2","FO","FO","N2","FO","FO","N2","FO","FO","N2",null,null,null,{"$f":"IF(A27<>\"\",IFERROR(VLOOKUP(N28,Tabelas!B:D,3,0),0),\"\")","v":12},{"$f":"IF(A27<>\"\",IFERROR(VLOOKUP(O28,Tabelas!B:D,3,0),0),\"\")","v":0},{"$f":"IF(A27<>\"\",IFERROR(VLOOKUP(P28,Tabelas!B:D,3,0),0),\"\")","v":0},{"$f":"IF(A27<>\"\",IFERROR(VLOOKUP(Q28,Tabelas!B:D,3,0),0),\"\")","v":12},{"$f":"IF(A27<>\"\",IFERROR(VLOOKUP(R28,Tabelas!B:D,3,0),0),\"\")","v":0},{"$f":"IF(A27<>\"\",IFERROR(VLOOKUP(S28,Tabelas!B:D,3,0),0),\"\")","v":0},{"$f":"IF(A27<>\"\",IFERROR(VLOOKUP(T28,Tabelas!B:D,3,0),0),\"\")","v":12},{"$f":"IF(A27<>\"\",IFERROR(VLOOKUP(U28,Tabelas!B:D,3,0),0),\"\")","v":0},{"$f":"IF(A27<>\"\",IFERROR(VLOOKUP(V28,Tabelas!B:D,3,0),0),\"\")","v":0},{"$f":"IF(A27<>\"\",IFERROR(VLOOKUP(W28,Tabelas!B:D,3,0),0),\"\")","v":12},{"$f":"IF(A27<>\"\",IFERROR(VLOOKUP(X28,Tabelas!B:D,3,0),0),\"\")","v":0},{"$f":"IF(A27<>\"\",IFERROR(VLOOKUP(Y28,Tabelas!B:D,3,0),0),\"\")","v":0},{"$f":"IF(A27<>\"\",IFERROR(VLOOKUP(Z28,Tabelas!B:D,3,0),0),\"\")","v":12},{"$f":"IF(A27<>\"\",IFERROR(VLOOKUP(AA28,Tabelas!B:D,3,0),0),\"\")","v":0},{"$f":"IF(A27<>\"\",IFERROR(VLOOKUP(AB28,Tabelas!B:D,3,0),0),\"\")","v":0},{"$f":"IF(A27<>\"\",IFERROR(VLOOKUP(AC28,Tabelas!B:D,3,0),0),\"\")","v":12},{"$f":"IF(A27<>\"\",IFERROR(VLOOKUP(AD28,Tabelas!B:D,3,0),0),\"\")","v":0},{"$f":"IF(A27<>\"\",IFERROR(VLOOKUP(AE28,Tabelas!B:D,3,0),0),\"\")","v":0},{"$f":"IF(A27<>\"\",IFERROR(VLOOKUP(AF28,Tabelas!B:D,3,0),0),\"\")","v":12},{"$f":"IF(A27<>\"\",IFERROR(VLOOKUP(AG28,Tabelas!B:D,3,0),0),\"\")","v":0},{"$f":"IF(A27<>\"\",IFERROR(VLOOKUP(AH28,Tabelas!B:D,3,0),0),\"\")","v":0},{"$f":"IF(A27<>\"\",IFERROR(VLOOKUP(AI28,Tabelas!B:D,3,0),0),\"\")","v":12},{"$f":"IF(A27<>\"\",IFERROR(VLOOKUP(AJ28,Tabelas!B:D,3,0),0),\"\")","v":0},{"$f":"IF(A27<>\"\",IFERROR(VLOOKUP(AK28,Tabelas!B:D,3,0),0),\"\")","v":0},{"$f":"IF(A27<>\"\",IFERROR(VLOOKUP(AL28,Tabelas!B:D,3,0),0),\"\")","v":12},{"$f":"IF(A27<>\"\",IFERROR(VLOOKUP(AM28,Tabelas!B:D,3,0),0),\"\")","v":0},{"$f":"IF(A27<>\"\",IFERROR(VLOOKUP(AN28,Tabelas!B:D,3,0),0),\"\")","v":0},{"$f":"IF(A27<>\"\",IFERROR(VLOOKUP(AO28,Tabelas!B:D,3,0),0),\"\")","v":12},{"$f":"IF(A27<>\"\",IFERROR(VLOOKUP(AP28,Tabelas!B:D,3,0),0),\"\")","v":0},{"$f":"IF(A27<>\"\",IFERROR(VLOOKUP(AQ28,Tabelas!B:D,3,0),0),\"\")","v":0},{"$f":"IF(A27<>\"\",IFERROR(VLOOKUP(AR28,Tabelas!B:D,3,0),0),\"\")","v":0},{"$f":"IF(A27<>\"\",SUM(AS28:BW28),\"\")","v":120},{"$f":"IF(A27<>\"\",COUNTIF(N28:AR28,\"LM\")+COUNTIF(N28:AR28,\"L\"),\"\")+COUNTIF(N28:AR28,\"LP\")","v":0},{"$f":"IF(A27<>\"\",COUNTIF(N28:AR28,\"AB\"),\"\")","v":0},{"$f":"IF(A27<>\"\",COUNTIF(N28:AR28,\"FE\"),\"\")","v":0},{"$f":"IF(A27<>\"\",COUNTIF(N28:AR28,\"LC\"),\"\")","v":0},{"$f":"IF(A27<>\"\",COUNTIF(N28:AR28,\"CE\"),\"\")","v":0},{"$f":"IF(A27<>\"\",COUNTIF(N28:AR28,\"AF1\")+COUNTIF(N28:AR28,\"AF2\")+COUNTIF(N28:AR28,\"AF3\")+COUNTIF(N28:AR28,\"AF4\")+COUNTIF(N28:AR28,\"AF5\")+COUNTIF(N28:AR28,\"AF6\")+COUNTIF(N28:AR28,\"AF7\")+COUNTIF(N28:AR28,\"AF8\")+COUNTIF(N28:AR28,\"AF9\")+COUNTIF(N28:AR28,\"AF10\")+COUNTIF(N28:AR28,\"AF11\")+COUNTIF(N28:AR28,\"AF12\")+COUNTIF(N28:AR28,\"AF13\")+COUNTIF(N28:AR28,\"AF14\"),\"\")","v":0},{"$f":"IF(A27<>\"\",COUNTIF(N28:AR28,\"CE\")+COUNTIF(N28:AR28,\"L\")+COUNTIF(N28:AR28,\"LM\")+COUNTIF(N28:AR28,\"LP\")+COUNTIF(N28:AR28,\"LC\")+COUNTIF(N28:AR28,\"AB\")+COUNTIF(N28:AR28,\"AF1\")+COUNTIF(N28:AR28,\"AF2\")+COUNTIF(N28:AR28,\"AF3\")+COUNTIF(N28:AR28,\"AF4\")+COUNTIF(N28:AR28,\"AF5\")+COUNTIF(N28:AR28,\"AF6\")+COUNTIF(N28:AR28,\"AF7\")+COUNTIF(N28:AR28,\"AF8\")+COUNTIF(N28:AR28,\"AF9\")+COUNTIF(N28:AR28,\"AF10\")+COUNTIF(N28:AR28,\"AF11\")+COUNTIF(N28:AR28,\"AF12\")+COUNTIF(N28:AR28,\"AF13\")+COUNTIF(N28:AR28,\"AF14\")+COUNTIF(N28:AR28,\"RC\")+COUNTIF(N28:AR28,\"FO\")+COUNTIF(N28:AR28,\"FE\"),\"\")","v":18},{"$f":"IF(A27<>\"\",COUNTIF(N28:AR28,\"APH\"),\"\")","v":0}]
["Magali S. Correa",1422530,89899,"ENF","RJU",30,null,null,null,null,null,null,null,"N2","FO","FO","N2","FO","FO","N2","FO","FO","N2","FO","FO","N2","FO","FO","N2","FO","FO","N2","FO","FO","N2","FO","FO","N2","FO","FO","N2",null,null,null,{"$f":"IF(A28<>\"\",IFERROR(VLOOKUP(N29,Tabelas!B:D,3,0),0),\"\")","v":12},{"$f":"IF(A28<>\"\",IFERROR(VLOOKUP(O29,Tabelas!B:D,3,0),0),\"\")","v":0},{"$f":"IF(A28<>\"\",IFERROR(VLOOKUP(P29,Tabelas!B:D,3,0),0),\"\")","v":0},{"$f":"IF(A28<>\"\",IFERROR(VLOOKUP(Q29,Tabelas!B:D,3,0),0),\"\")","v":12},{"$f":"IF(A28<>\"\",IFERROR(VLOOKUP(R29,Tabelas!B:D,3,0),0),\"\")","v":0},{"$f":"IF(A28<>\"\",IFERROR(VLOOKUP(S29,Tabelas!B:D,3,0),0),\"\")","v":0},{"$f":"IF(A28<>\"\",IFERROR(VLOOKUP(T29,Tabelas!B:D,3,0),0),\"\")","v":12},{"$f":"IF(A28<>\"\",IFERROR(VLOOKUP(U29,Tabelas!B:D,3,0),0),\"\")","v":0},{"$f":"IF(A28<>\"\",IFERROR(VLOOKUP(V29,Tabelas!B:D,3,0),0),\"\")","v":0},{"$f":"IF(A28<>\"\",IFERROR(VLOOKUP(W29,Tabelas!B:D,3,0),0),\"\")","v":12},{"$f":"IF(A28<>\"\",IFERROR(VLOOKUP(X29,Tabelas!B:D,3,0),0),\"\")","v":0},{"$f":"IF(A28<>\"\",IFERROR(VLOOKUP(Y29,Tabelas!B:D,3,0),0),\"\")","v":0},{"$f":"IF(A28<>\"\",IFERROR(VLOOKUP(Z29,Tabelas!B:D,3,0),0),\"\")","v":12},{"$f":"IF(A28<>\"\",IFERROR(VLOOKUP(AA29,Tabelas!B:D,3,0),0),\"\")","v":0},{"$f":"IF(A28<>\"\",IFERROR(VLOOKUP(AB29,Tabelas!B:D,3,0),0),\"\")","v":0},{"$f":"IF(A28<>\"\",IFERROR(VLOOKUP(AC29,Tabelas!B:D,3,0),0),\"\")","v":12},{"$f":"IF(A28<>\"\",IFERROR(VLOOKUP(AD29,Tabelas!B:D,3,0),0),\"\")","v":0},{"$f":"IF(A28<>\"\",IFERROR(VLOOKUP(AE29,Tabelas!B:D,3,0),0),\"\")","v":0},{"$f":"IF(A28<>\"\",IFERROR(VLOOKUP(AF29,Tabelas!B:D,3,0),0),\"\")","v":12},{"$f":"IF(A28<>\"\",IFERROR(VLOOKUP(AG29,Tabelas!B:D,3,0),0),\"\")","v":0},{"$f":"IF(A28<>\"\",IFERROR(VLOOKUP(AH29,Tabelas!B:D,3,0),0),\"\")","v":0},{"$f":"IF(A28<>\"\",IFERROR(VLOOKUP(AI29,Tabelas!B:D,3,0),0),\"\")","v":12},{"$f":"IF(A28<>\"\",IFERROR(VLOOKUP(AJ29,Tabelas!B:D,3,0),0),\"\")","v":0},{"$f":"IF(A28<>\"\",IFERROR(VLOOKUP(AK29,Tabelas!B:D,3,0),0),\"\")","v":0},{"$f":"IF(A28<>\"\",IFERROR(VLOOKUP(AL29,Tabelas!B:D,3,0),0),\"\")","v":12},{"$f":"IF(A28<>\"\",IFERROR(VLOOKUP(AM29,Tabelas!B:D,3,0),0),\"\")","v":0},{"$f":"IF(A28<>\"\",IFERROR(VLOOKUP(AN29,Tabelas!B:D,3,0),0),\"\")","v":0},{"$f":"IF(A28<>\"\",IFERROR(VLOOKUP(AO29,Tabelas!B:D,3,0),0),\"\")","v":12},{"$f":"IF(A28<>\"\",IFERROR(VLOOKUP(AP29,Tabelas!B:D,3,0),0),\"\")","v":0},{"$f":"IF(A28<>\"\",IFERROR(VLOOKUP(AQ29,Tabelas!B:D,3,0),0),\"\")","v":0},{"$f":"IF(A28<>\"\",IFERROR(VLOOKUP(AR29,Tabelas!B:D,3,0),0),\"\")","v":0},{"$f":"IF(A28<>\"\",SUM(AS29:BW29),\"\")","v":120},{"$f":"IF(A28<>\"\",COUNTIF(N29:AR29,\"LM\")+COUNTIF(N29:AR29,\"L\"),\"\")+COUNTIF(N29:AR29,\"LP\")","v":0},{"$f":"IF(A28<>\"\",COUNTIF(N29:AR29,\"AB\"),\"\")","v":0},{"$f":"IF(A28<>\"\",COUNTIF(N29:AR29,\"FE\"),\"\")","v":0},{"$f":"IF(A28<>\"\",COUNTIF(N29:AR29,\"LC\"),\"\")","v":0},{"$f":"IF(A28<>\"\",COUNTIF(N29:AR29,\"CE\"),\"\")","v":0},{"$f":"IF(A28<>\"\",COUNTIF(N29:AR29,\"AF1\")+COUNTIF(N29:AR29,\"AF2\")+COUNTIF(N29:AR29,\"AF3\")+COUNTIF(N29:AR29,\"AF4\")+COUNTIF(N29:AR29,\"AF5\")+COUNTIF(N29:AR29,\"AF6\")+COUNTIF(N29:AR29,\"AF7\")+COUNTIF(N29:AR29,\"AF8\")+COUNTIF(N29:AR29,\"AF9\")+COUNTIF(N29:AR29,\"AF10\")+COUNTIF(N29:AR29,\"AF11\")+COUNTIF(N29:AR29,\"AF12\")+COUNTIF(N29:AR29,\"AF13\")+COUNTIF(N29:AR29,\"AF14\"),\"\")","v":0},{"$f":"IF(A28<>\"\",COUNTIF(N29:AR29,\"CE\")+COUNTIF(N29:AR29,\"L\")+COUNTIF(N29:AR29,\"LM\")+COUNTIF(N29:AR29,\"LP\")+COUNTIF(N29:AR29,\"LC\")+COUNTIF(N29:AR29,\"AB\")+COUNTIF(N29:AR29,\"AF1\")+COUNTIF(N29:AR29,\"AF2\")+COUNTIF(N29:AR29,\"AF3\")+COUNTIF(N29:AR29,\"AF4\")+COUNTIF(N29:AR29,\"AF5\")+COUNTIF(N29:AR29,\"AF6\")+COUNTIF(N29:AR29,\"AF7\")+COUNTIF(N29:AR29,\"AF8\")+COUNTIF(N29:AR29,\"AF9\")+COUNTIF(N29:AR29,\"AF10\")+COUNTIF(N29:AR29,\"AF11\")+COUNTIF(N29:AR29,\"AF12\")+COUNTIF(N29:AR29,\"AF13\")+COUNTIF(N29:AR29,\"AF14\")+COUNTIF(N29:AR29,\"RC\")+COUNTIF(N29:AR29,\"FO\")+COUNTIF(N29:AR29,\"FE\"),\"\")","v":18},{"$f":"IF(A28<>\"\",COUNTIF(N29:AR29,\"APH\"),\"\")","v":0}]
["Técnicos de Enfermagem",null,null,null,null,null,null,null,null,null,null,null,null,1,2,3,4,5,6,7,8,9,10,11,12,13,14,15,16,17,18,19,20,21,22,23,24,25,26,27,28,null,null,null,{"$f":"IF(A29<>\"\",IFERROR(VLOOKUP(N30,Tabelas!B:D,3,0),0),\"\")","v":0},{"$f":"IF(A29<>\"\",IFERROR(VLOOKUP(O30,Tabelas!B:D,3,0),0),\"\")","v":0},{"$f":"IF(A29<>\"\",IFERROR(VLOOKUP(P30,Tabelas!B:D,3,0),0),\"\")","v":0},{"$f":"IF(A29<>\"\",IFERROR(VLOOKUP(Q30,Tabelas!B:D,3,0),0),\"\")","v":0},{"$f":"IF(A29<>\"\",IFERROR(VLOOKUP(R30,Tabelas!B:D,3,0),0),\"\")","v":0},{"$f":"IF(A29<>\"\",IFERROR(VLOOKUP(S30,Tabelas!B:D,3,0),0),\"\")","v":0},{"$f":"IF(A29<>\"\",IFERROR(VLOOKUP(T30,Tabelas!B:D,3,0),0),\"\")","v":0},{"$f":"IF(A29<>\"\",IFERROR(VLOOKUP(U30,Tabelas!B:D,3,0),0),\"\")","v":0},{"$f":"IF(A29<>\"\",IFERROR(VLOOKUP(V30,Tabelas!B:D,3,0),0),\"\")","v":0},{"$f":"IF(A29<>\"\",IFERROR(VLOOKUP(W30,Tabelas!B:D,3,0),0),\"\")","v":0},{"$f":"IF(A29<>\"\",IFERROR(VLOOKUP(X30,Tabelas!B:D,3,0),0),\"\")","v":0},{"$f":"IF(A29<>\"\",IFERROR(VLOOKUP(Y30,Tabelas!B:D,3,0),0),\"\")","v":0},{"$f":"IF(A29<>\"\",IFERROR(VLOOKUP(Z30,Tabelas!B:D,3,0),0),\"\")","v":0},{"$f":"IF(A29<>\"\",IFERROR(VLOOKUP(AA30,Tabelas!B:D,3,0),0),\"\")","v":0},{"$f":"IF(A29<>\"\",IFERROR(VLOOKUP(AB30,Tabelas!B:D,3,0),0),\"\")","v":0},{"$f":"IF(A29<>\"\",IFERROR(VLOOKUP(AC30,Tabelas!B:D,3,0),0),\"\")","v":0},{"$f":"IF(A29<>\"\",IFERROR(VLOOKUP(AD30,Tabelas!B:D,3,0),0),\"\")","v":0},{"$f":"IF(A29<>\"\",IFERROR(VLOOKUP(AE30,Tabelas!B:D,3,0),0),\"\")","v":0},{"$f":"IF(A29<>\"\",IFERROR(VLOOKUP(AF30,Tabelas!B:D,3,0),0),\"\")","v":0},{"$f":"IF(A29<>\"\",IFERROR(VLOOKUP(AG30,Tabelas!B:D,3,0),0),\"\")","v":0},{"$f":"IF(A29<>\"\",IFERROR(VLOOKUP(AH30,Tabelas!B:D,3,0),0),\"\")","v":0},{"$f":"IF(A29<>\"\",IFERROR(VLOOKUP(AI30,Tabelas!B:D,3,0),0),\"\")","v":0},{"$f":"IF(A29<>\"\",IFERROR(VLOOKUP(AJ30,Tabelas!B:D,3,0),0),\"\")","v":0},{"$f":"IF(A29<>\"\",IFERROR(VLOOKUP(AK30,Tabelas!B:D,3,0),0),\"\")","v":0},{"$f":"IF(A29<>\"\",IFERROR(VLOOKUP(AL30,Tabelas!B:D,3,0),0),\"\")","v":0},{"$f":"IF(A29<>\"\",IFERROR(VLOOKUP(AM30,Tabelas!B:D,3,0),0),\"\")","v":0},{"$f":"IF(A29<>\"\",IFERROR(VLOOKUP(AN30,Tabelas!B:D,3,0),0),\"\")","v":0},{"$f":"IF(A29<>\"\",IFERROR(VLOOKUP(AO30,Tabelas!B:D,3,0),0),\"\")","v":0},{"$f":"IF(A29<>\"\",IFERROR(VLOOKUP(AP30,Tabelas!B:D,3,0),0),\"\")","v":0},{"$f":"IF(A29<>\"\",IFERROR(VLOOKUP(AQ30,Tabelas!B:D,3,0),0),\"\")","v":0},{"$f":"IF(A29<>\"\",IFERROR(VLOOKUP(AR30,Tabelas!B:D,3,0),0),\"\")","v":0},{"$f":"IF(A29<>\"\",SUM(AS30:BW30),\"\")","v":0},{"$f":"IF(A29<>\"\",COUNTIF(N30:AR30,\"LM\")+COUNTIF(N30:AR30,\"L\"),\"\")+COUNTIF(N30:AR30,\"LP\")","v":0},{"$f":"IF(A29<>\"\",COUNTIF(N30:AR30,\"AB\"),\"\")","v":0},{"$f":"IF(A29<>\"\",COUNTIF(N30:AR30,\"FE\"),\"\")","v":0},{"$f":"IF(A29<>\"\",COUNTIF(N30:AR30,\"LC\"),\"\")","v":0},{"$f":"IF(A29<>\"\",COUNTIF(N30:AR30,\"CE\"),\"\")","v":0},{"$f":"IF(A29<>\"\",COUNTIF(N30:AR30,\"AF1\")+COUNTIF(N30:AR30,\"AF2\")+COUNTIF(N30:AR30,\"AF3\")+COUNTIF(N30:AR30,\"AF4\")+COUNTIF(N30:AR30,\"AF5\")+COUNTIF(N30:AR30,\"AF6\")+COUNTIF(N30:AR30,\"AF7\")+COUNTIF(N30:AR30,\"AF8\")+COUNTIF(N30:AR30,\"AF9\")+COUNTIF(N30:AR30,\"AF10\")+COUNTIF(N30:AR30,\"AF11\")+COUNTIF(N30:AR30,\"AF12\")+COUNTIF(N30:AR30,\"AF13\")+COUNTIF(N30:AR30,\"AF14\"),\"\")","v":0},{"$f":"IF(A29<>\"\",COUNTIF(N30:AR30,\"CE\")+COUNTIF(N30:AR30,\"L\")+COUNTIF(N30:AR30,\"LM\")+COUNTIF(N30:AR30,\"LP\")+COUNTIF(N30:AR30,\"LC\")+COUNTIF(N30:AR30,\"AB\")+COUNTIF(N30:AR30,\"AF1\")+COUNTIF(N30:AR30,\"AF2\")+COUNTIF(N30:AR30,\"AF3\")+COUNTIF(N30:AR30,\"AF4\")+COUNTIF(N30:AR30,\"AF5\")+COUNTIF(N30:AR30,\"AF6\")+COUNTIF(N30:AR30,\"AF7\")+COUNTIF(N30:AR30,\"AF8\")+COUNTIF(N30:AR30,\"AF9\")+COUNTIF(N30:AR30,\"AF10\")+COUNTIF(N30:AR30,\"AF11\")+COUNTIF(N30:AR30,\"AF12\")+COUNTIF(N30:AR30,\"AF13\")+COUNTIF(N30:AR30,\"AF14\")+COUNTIF(N30:AR30,\"RC\")+COUNTIF(N30:AR30,\"FO\")+COUNTIF(N30:AR30,\"FE\"),\"\")","v":0},{"$f":"IF(A29<>\"\",COUNTIF(N30:AR30,\"APH\"),\"\")","v":0}]
["PLANTÃO 1",null,null,null,null,null,null,null,null,null,null,null,null,"SEX","SAB","DOM","SEG","TER","QUA","QUI","SEX","SAB","DOM","SEG","TER","QUA","QUI","SEX","SAB","DOM","SEG","TER","QUA","QUI","SEX","SAB","DOM","SEG","TER","QUA","QUI",null,null,null,{"$f":"IF(A31<>\"\",IFERROR(VLOOKUP(N31,Tabelas!B:D,3,0),0),\"\")","v":0},{"$f":"IF(A31<>\"\",IFERROR(VLOOKUP(O31,Tabelas!B:D,3,0),0),\"\")","v":0},{"$f":"IF(A31<>\"\",IFERROR(VLOOKUP(P31,Tabelas!B:D,3,0),0),\"\")","v":0},{"$f":"IF(A31<>\"\",IFERROR(VLOOKUP(Q31,Tabelas!B:D,3,0),0),\"\")","v":0},{"$f":"IF(A31<>\"\",IFERROR(VLOOKUP(R31,Tabelas!B:D,3,0),0),\"\")","v":0},{"$f":"IF(A31<>\"\",IFERROR(VLOOKUP(S31,Tabelas!B:D,3,0),0),\"\")","v":0},{"$f":"IF(A31<>\"\",IFERROR(VLOOKUP(T31,Tabelas!B:D,3,0),0),\"\")","v":0},{"$f":"IF(A31<>\"\",IFERROR(VLOOKUP(U31,Tabelas!B:D,3,0),0),\"\")","v":0},{"$f":"IF(A31<>\"\",IFERROR(VLOOKUP(V31,Tabelas!B:D,3,0),0),\"\")","v":0},{"$f":"IF(A31<>\"\",IFERROR(VLOOKUP(W31,Tabelas!B:D,3,0),0),\"\")","v":0},{"$f":"IF(A31<>\"\",IFERROR(VLOOKUP(X31,Tabelas!B:D,3,0),0),\"\")","v":0},{"$f":"IF(A31<>\"\",IFERROR(VLOOKUP(Y31,Tabelas!B:D,3,0),0),\"\")","v":0},{"$f":"IF(A31<>\"\",IFERROR(VLOOKUP(Z31,Tabelas!B:D,3,0),0),\"\")","v":0},{"$f":"IF(A31<>\"\",IFERROR(VLOOKUP(AA31,Tabelas!B:D,3,0),0),\"\")","v":0},{"$f":"IF(A31<>\"\",IFERROR(VLOOKUP(AB31,Tabelas!B:D,3,0),0),\"\")","v":0},{"$f":"IF(A31<>\"\",IFERROR(VLOOKUP(AC31,Tabelas!B:D,3,0),0),\"\")","v":0},{"$f":"IF(A31<>\"\",IFERROR(VLOOKUP(AD31,Tabelas!B:D,3,0),0),\"\")","v":0},{"$f":"IF(A31<>\"\",IFERROR(VLOOKUP(AE31,Tabelas!B:D,3,0),0),\"\")","v":0},{"$f":"IF(A31<>\"\",IFERROR(VLOOKUP(AF31,Tabelas!B:D,3,0),0),\"\")","v":0},{"$f":"IF(A31<>\"\",IFERROR(VLOOKUP(AG31,Tabelas!B:D,3,0),0),\"\")","v":0},{"$f":"IF(A31<>\"\",IFERROR(VLOOKUP(AH31,Tabelas!B:D,3,0),0),\"\")","v":0},{"$f":"IF(A31<>\"\",IFERROR(VLOOKUP(AI31,Tabelas!B:D,3,0),0),\"\")","v":0},{"$f":"IF(A31<>\"\",IFERROR(VLOOKUP(AJ31,Tabelas!B:D,3,0),0),\"\")","v":0},{"$f":"IF(A31<>\"\",IFERROR(VLOOKUP(AK31,Tabelas!B:D,3,0),0),\"\")","v":0},{"$f":"IF(A31<>\"\",IFERROR(VLOOKUP(AL31,Tabelas!B:D,3,0),0),\"\")","v":0},{"$f":"IF(A31<>\"\",IFERROR(VLOOKUP(AM31,Tabelas!B:D,3,0),0),\"\")","v":0},{"$f":"IF(A31<>\"\",IFERROR(VLOOKUP(AN31,Tabelas!B:D,3,0),0),\"\")","v":0},{"$f":"IF(A31<>\"\",IFERROR(VLOOKUP(AO31,Tabelas!B:D,3,0),0),\"\")","v":0},{"$f":"IF(A31<>\"\",IFERROR(VLOOKUP(AP31,Tabelas!B:D,3,0),0),\"\")","v":0},{"$f":"IF(A31<>\"\",IFERROR(VLOOKUP(AQ31,Tabelas!B:D,3,0),0),\"\")","v":0},{"$f":"IF(A31<>\"\",IFERROR(VLOOKUP(AR31,Tabelas!B:D,3,0),0),\"\")","v":0},0,0,0,0,0,0,0,0,0]
["Adriana  Miranda",1358181,64508,"TE ","RJU",30,null,null,null,null,null,null,null,"FO","FO","D2","FO","FO","D2","FO","FO","D2","FO","FO","D2","FO","FO","D2","FO","FO","D2","FO","FO","D2","FO","FO","D2","FO","FO","D2","FO",null,null,null,{"$f":"IF(A32<>\"\",IFERROR(VLOOKUP(N32,Tabelas!B:D,3,0),0),\"\")","v":0},{"$f":"IF(A32<>\"\",IFERROR(VLOOKUP(O32,Tabelas!B:D,3,0),0),\"\")","v":0},{"$f":"IF(A32<>\"\",IFERROR(VLOOKUP(P32,Tabelas!B:D,3,0),0),\"\")","v":12},{"$f":"IF(A32<>\"\",IFERROR(VLOOKUP(Q32,Tabelas!B:D,3,0),0),\"\")","v":0},{"$f":"IF(A32<>\"\",IFERROR(VLOOKUP(R32,Tabelas!B:D,3,0),0),\"\")","v":0},{"$f":"IF(A32<>\"\",IFERROR(VLOOKUP(S32,Tabelas!B:D,3,0),0),\"\")","v":12},{"$f":"IF(A32<>\"\",IFERROR(VLOOKUP(T32,Tabelas!B:D,3,0),0),\"\")","v":0},{"$f":"IF(A32<>\"\",IFERROR(VLOOKUP(U32,Tabelas!B:D,3,0),0),\"\")","v":0},{"$f":"IF(A32<>\"\",IFERROR(VLOOKUP(V32,Tabelas!B:D,3,0),0),\"\")","v":12},{"$f":"IF(A32<>\"\",IFERROR(VLOOKUP(W32,Tabelas!B:D,3,0),0),\"\")","v":0},{"$f":"IF(A32<>\"\",IFERROR(VLOOKUP(X32,Tabelas!B:D,3,0),0),\"\")","v":0},{"$f":"IF(A32<>\"\",IFERROR(VLOOKUP(Y32,Tabelas!B:D,3,0),0),\"\")","v":12},{"$f":"IF(A32<>\"\",IFERROR(VLOOKUP(Z32,Tabelas!B:D,3,0),0),\"\")","v":0},{"$f":"IF(A32<>\"\",IFERROR(VLOOKUP(AA32,Tabelas!B:D,3,0),0),\"\")","v":0},{"$f":"IF(A32<>\"\",IFERROR(VLOOKUP(AB32,Tabelas!B:D,3,0),0),\"\")","v":12},{"$f":"IF(A32<>\"\",IFERROR(VLOOKUP(AC32,Tabelas!B:D,3,0),0),\"\")","v":0},{"$f":"IF(A32<>\"\",IFERROR(VLOOKUP(AD32,Tabelas!B:D,3,0),0),\"\")","v":0},{"$f":"IF(A32<>\"\",IFERROR(VLOOKUP(AE32,Tabelas!B:D,3,0),0),\"\")","v":12},{"$f":"IF(A32<>\"\",IFERROR(VLOOKUP(AF32,Tabelas!B:D,3,0),0),\"\")","v":0},{"$f":"IF(A32<>\"\",IFERROR(VLOOKUP(AG32,Tabelas!B:D,3,0),0),\"\")","v":0},{"$f":"IF(A32<>\"\",IFERROR(VLOOKUP(AH32,Tabelas!B:D,3,0),0),\"\")","v":12},{"$f":"IF(A32<>\"\",IFERROR(VLOOKUP(AI32,Tabelas!B:D,3,0),0),\"\")","v":0},{"$f":"IF(A32<>\"\",IFERROR(VLOOKUP(AJ32,Tabelas!B:D,3,0),0),\"\")","v":0},{"$f":"IF(A32<>\"\",IFERROR(VLOOKUP(AK32,Tabelas!B:D,3,0),0),\"\")","v":12},{"$f":"IF(A32<>\"\",IFERROR(VLOOKUP(AL32,Tabelas!B:D,3,0),0),\"\")","v":0},{"$f":"IF(A32<>\"\",IFERROR(VLOOKUP(AM32,Tabelas!B:D,3,0),0),\"\")","v":0},{"$f":"IF(A32<>\"\",IFERROR(VLOOKUP(AN32,Tabelas!B:D,3,0),0),\"\")","v":12},{"$f":"IF(A32<>\"\",IFERROR(VLOOKUP(AO32,Tabelas!B:D,3,0),0),\"\")","v":0},{"$f":"IF(A32<>\"\",IFERROR(VLOOKUP(AP32,Tabelas!B:D,3,0),0),\"\")","v":0},{"$f":"IF(A32<>\"\",IFERROR(VLOOKUP(AQ32,Tabelas!B:D,3,0),0),\"\")","v":0},{"$f":"IF(A32<>\"\",IFERROR(VLOOKUP(AR32,Tabelas!B:D,3,0),0),\"\")","v":0},108,0,0,0,0,0,0,19,0]
["Ioná A. Gutierriz",989399,989399,"TE ","FAPEU",40,null,null,null,null,null,null,null,"D2","FO","D2","FO","D2","D2","FO","FO","D2","FO","FO","D2","FO","FO","D2","FO","FO","D2","FO","FO","D2","D2","FO","D2","D2","FO","D2","FO",null,null,null,{"$f":"IF(A33<>\"\",IFERROR(VLOOKUP(N33,Tabelas!B:D,3,0),0),\"\")","v":12},{"$f":"IF(A33<>\"\",IFERROR(VLOOKUP(O33,Tabelas!B:D,3,0),0),\"\")","v":0},{"$f":"IF(A33<>\"\",IFERROR(VLOOKUP(P33,Tabelas!B:D,3,0),0),\"\")","v":12},{"$f":"IF(A33<>\"\",IFERROR(VLOOKUP(Q33,Tabelas!B:D,3,0),0),\"\")","v":0},{"$f":"IF(A33<>\"\",IFERROR(VLOOKUP(R33,Tabelas!B:D,3,0),0),\"\")","v":12},{"$f":"IF(A33<>\"\",IFERROR(VLOOKUP(S33,Tabelas!B:D,3,0),0),\"\")","v":12},{"$f":"IF(A33<>\"\",IFERROR(VLOOKUP(T33,Tabelas!B:D,3,0),0),\"\")","v":0},{"$f":"IF(A33<>\"\",IFERROR(VLOOKUP(U33,Tabelas!B:D,3,0),0),\"\")","v":0},{"$f":"IF(A33<>\"\",IFERROR(VLOOKUP(V33,Tabelas!B:D,3,0),0),\"\")","v":12},{"$f":"IF(A33<>\"\",IFERROR(VLOOKUP(W33,Tabelas!B:D,3,0),0),\"\")","v":0},{"$f":"IF(A33<>\"\",IFERROR(VLOOKUP(X33,Tabelas!B:D,3,0),0),\"\")","v":0},{"$f":"IF(A33<>\"\",IFERROR(VLOOKUP(Y33,Tabelas!B:D,3,0),0),\"\")","v":12},{"$f":"IF(A33<>\"\",IFERROR(VLOOKUP(Z33,Tabelas!B:D,3,0),0),\"\")","v":0},{"$f":"IF(A33<>\"\",IFERROR(VLOOKUP(AA33,Tabelas!B:D,3,0),0),\"\")","v":0},{"$f":"IF(A33<>\"\",IFERROR(VLOOKUP(AB33,Tabelas!B:D,3,0),0),\"\")","v":12},{"$f":"IF(A33<>\"\",IFERROR(VLOOKUP(AC33,Tabelas!B:D,3,0),0),\"\")","v":0},{"$f":"IF(A33<>\"\",IFERROR(VLOOKUP(AD33,Tabelas!B:D,3,0),0),\"\")","v":0},{"$f":"IF(A33<>\"\",IFERROR(VLOOKUP(AE33,Tabelas!B:D,3,0),0),\"\")","v":12},{"$f":"IF(A33<>\"\",IFERROR(VLOOKUP(AF33,Tabelas!B:D,3,0),0),\"\")","v":0},{"$f":"IF(A33<>\"\",IFERROR(VLOOKUP(AG33,Tabelas!B:D,3,0),0),\"\")","v":0},{"$f":"IF(A33<>\"\",IFERROR(VLOOKUP(AH33,Tabelas!B:D,3,0),0),\"\")","v":12},{"$f":"IF(A33<>\"\",IFERROR(VLOOKUP(AI33,Tabelas!B:D,3,0),0),\"\")","v":12},{"$f":"IF(A33<>\"\",IFERROR(VLOOKUP(AJ33,Tabelas!B:D,3,0),0),\"\")","v":0},{"$f":"IF(A33<>\"\",IFERROR(VLOOKUP(AK33,Tabelas!B:D,3,0),0),\"\")","v":12},{"$f":"IF(A33<>\"\",IFERROR(VLOOKUP(AL33,Tabelas!B:D,3,0),0),\"\")","v":12},{"$f":"IF(A33<>\"\",IFERROR(VLOOKUP(AM33,Tabelas!B:D,3,0),0),\"\")","v":0},{"$f":"IF(A33<>\"\",IFERROR(VLOOKUP(AN33,Tabelas!B:D,3,0),0),\"\")","v":12},{"$f":"IF(A33<>\"\",IFERROR(VLOOKUP(AO33,Tabelas!B:D,3,0),0),\"\")","v":0},{"$f":"IF(A33<>\"\",IFERROR(VLOOKUP(AP33,Tabelas!B:D,3,0),0),\"\")","v":0},{"$f":"IF(A33<>\"\",IFERROR(VLOOKUP(AQ33,Tabelas!B:D,3,0),0),\"\")","v":0},{"$f":"IF(A33<>\"\",IFERROR(VLOOKUP(AR33,Tabelas!B:D,3,0),0),\"\")","v":0},{"$f":"IF(A33<>\"\",SUM(AS33:BW33),\"\")","v":156},{"$f":"IF(A33<>\"\",COUNTIF(N33:AR33,\"LM\")+COUNTIF(N33:AR33,\"L\"),\"\")+COUNTIF(N33:AR33,\"LP\")","v":0},{"$f":"IF(A33<>\"\",COUNTIF(N33:AR33,\"AB\"),\"\")","v":0},{"$f":"IF(A33<>\"\",COUNTIF(N33:AR33,\"FE\"),\"\")","v":0},{"$f":"IF(A33<>\"\",COUNTIF(N33:AR33,\"LC\"),\"\")","v":0},{"$f":"IF(A33<>\"\",COUNTIF(N33:AR33,\"CE\"),\"\")","v":0},{"$f":"IF(A33<>\"\",COUNTIF(N33:AR33,\"AF1\")+COUNTIF(N33:AR33,\"AF2\")+COUNTIF(N33:AR33,\"AF3\")+COUNTIF(N33:AR33,\"AF4\")+COUNTIF(N33:AR33,\"AF5\")+COUNTIF(N33:AR33,\"AF6\")+COUNTIF(N33:AR33,\"AF7\")+COUNTIF(N33:AR33,\"AF8\")+COUNTIF(N33:AR33,\"AF9\")+COUNTIF(N33:AR33,\"AF10\")+COUNTIF(N33:AR33,\"AF11\")+COUNTIF(N33:AR33,\"AF12\")+COUNTIF(N33:AR33,\"AF13\")+COUNTIF(N33:AR33,\"AF14\"),\"\")","v":0},{"$f":"IF(A33<>\"\",COUNTIF(N33:AR33,\"CE\")+COUNTIF(N33:AR33,\"L\")+COUNTIF(N33:AR33,\"LM\")+COUNTIF(N33:AR33,\"LP\")+COUNTIF(N33:AR33,\"LC\")+COUNTIF(N33:AR33,\"AB\")+COUNTIF(N33:AR33,\"AF1\")+COUNTIF(N33:AR33,\"AF2\")+COUNTIF(N33:AR33,\"AF3\")+COUNTIF(N33:AR33,\"AF4\")+COUNTIF(N33:AR33,\"AF5\")+COUNTIF(N33:AR33,\"AF6\")+COUNTIF(N33:AR33,\"AF7\")+COUNTIF(N33:AR33,\"AF8\")+COUNTIF(N33:AR33,\"AF9\")+COUNTIF(N33:AR33,\"AF10\")+COUNTIF(N33:AR33,\"AF11\")+COUNTIF(N33:AR33,\"AF12\")+COUNTIF(N33:AR33,\"AF13\")+COUNTIF(N33:AR33,\"AF14\")+COUNTIF(N33:AR33,\"RC\")+COUNTIF(N33:AR33,\"FO\")+COUNTIF(N33:AR33,\"FE\"),\"\")","v":15},{"$f":"IF(A33<>\"\",COUNTIF(N33:AR33,\"APH\"),\"\")","v":0}]
["Livia Brandão",3075949,239946,"TE ","Ebserh",36,null,null,null,null,null,null,null,"D2","FO","D2","FO","D2","FO","D2","FO","D2","FO","D2","FO","D2","FO","D2","FO","D2","FO","D2","FO","D2","FO","FO","CE","FO","FO","FO","FO",null,null,null,{"$f":"IF(A34<>\"\",IFERROR(VLOOKUP(N34,Tabelas!B:D,3,0),0),\"\")","v":12},{"$f":"IF(A34<>\"\",IFERROR(VLOOKUP(O34,Tabelas!B:D,3,0),0),\"\")","v":0},{"$f":"IF(A34<>\"\",IFERROR(VLOOKUP(P34,Tabelas!B:D,3,0),0),\"\")","v":12},{"$f":"IF(A34<>\"\",IFERROR(VLOOKUP(Q34,Tabelas!B:D,3,0),0),\"\")","v":0},{"$f":"IF(A34<>\"\",IFERROR(VLOOKUP(R34,Tabelas!B:D,3,0),0),\"\")","v":12},{"$f":"IF(A34<>\"\",IFERROR(VLOOKUP(S34,Tabelas!B:D,3,0),0),\"\")","v":0},{"$f":"IF(A34<>\"\",IFERROR(VLOOKUP(T34,Tabelas!B:D,3,0),0),\"\")","v":12},{"$f":"IF(A34<>\"\",IFERROR(VLOOKUP(U34,Tabelas!B:D,3,0),0),\"\")","v":0},{"$f":"IF(A34<>\"\",IFERROR(VLOOKUP(V34,Tabelas!B:D,3,0),0),\"\")","v":12},{"$f":"IF(A34<>\"\",IFERROR(VLOOKUP(W34,Tabelas!B:D,3,0),0),\"\")","v":0},{"$f":"IF(A34<>\"\",IFERROR(VLOOKUP(X34,Tabelas!B:D,3,0),0),\"\")","v":12},{"$f":"IF(A34<>\"\",IFERROR(VLOOKUP(Y34,Tabelas!B:D,3,0),0),\"\")","v":0},{"$f":"IF(A34<>\"\",IFERROR(VLOOKUP(Z34,Tabelas!B:D,3,0),0),\"\")","v":12},{"$f":"IF(A34<>\"\",IFERROR(VLOOKUP(AA34,Tabelas!B:D,3,0),0),\"\")","v":0},{"$f":"IF(A34<>\"\",IFERROR(VLOOKUP(AB34,Tabelas!B:D,3,0),0),\"\")","v":12},{"$f":"IF(A34<>\"\",IFERROR(VLOOKUP(AC34,Tabelas!B:D,3,0),0),\"\")","v":0},{"$f":"IF(A34<>\"\",IFERROR(VLOOKUP(AD34,Tabelas!B:D,3,0),0),\"\")","v":12},{"$f":"IF(A34<>\"\",IFERROR(VLOOKUP(AE34,Tabelas!B:D,3,0),0),\"\")","v":0},{"$f":"IF(A34<>\"\",IFERROR(VLOOKUP(AF34,Tabelas!B:D,3,0),0),\"\")","v":12},{"$f":"IF(A34<>\"\",IFERROR(VLOOKUP(AG34,Tabelas!B:D,3,0),0),\"\")","v":0},{"$f":"IF(A34<>\"\",IFERROR(VLOOKUP(AH34,Tabelas!B:D,3,0),0),\"\")","v":12},{"$f":"IF(A34<>\"\",IFERROR(VLOOKUP(AI34,Tabelas!B:D,3,0),0),\"\")","v":0},{"$f":"IF(A34<>\"\",IFERROR(VLOOKUP(AJ34,Tabelas!B:D,3,0),0),\"\")","v":0},{"$f":"IF(A34<>\"\",IFERROR(VLOOKUP(AK34,Tabelas!B:D,3,0),0),\"\")","v":0},{"$f":"IF(A34<>\"\",IFERROR(VLOOKUP(AL34,Tabelas!B:D,3,0),0),\"\")","v":0},{"$f":"IF(A34<>\"\",IFERROR(VLOOKUP(AM34,Tabelas!B:D,3,0),0),\"\")","v":0},{"$f":"IF(A34<>\"\",IFERROR(VLOOKUP(AN34,Tabelas!B:D,3,0),0),\"\")","v":0},{"$f":"IF(A34<>\"\",IFERROR(VLOOKUP(AO34,Tabelas!B:D,3,0),0),\"\")","v":0},{"$f":"IF(A34<>\"\",IFERROR(VLOOKUP(AP34,Tabelas!B:D,3,0),0),\"\")","v":0},{"$f":"IF(A34<>\"\",IFERROR(VLOOKUP(AQ34,Tabelas!B:D,3,0),0),\"\")","v":0},{"$f":"IF(A34<>\"\",IFERROR(VLOOKUP(AR34,Tabelas!B:D,3,0),0),\"\")","v":0},132,0,0,0,0,1,0,17,0]
["Rafaela S. de Oliveira",3010197,85570,"TE ","Ebserh",36,null,null,null,null,null,null,null,"D2","FO","D2","D2","FO","D2","FO","FO","D2","FO","AB","D2","FO","FO","D2","FO","FO","D2","FO","FO","D2","FO","FO","D2","FO","FO","D2","FO",null,null,null,{"$f":"IF(A35<>\"\",IFERROR(VLOOKUP(N35,Tabelas!B:D,3,0),0),\"\")","v":12},{"$f":"IF(A35<>\"\",IFERROR(VLOOKUP(O35,Tabelas!B:D,3,0),0),\"\")","v":0},{"$f":"IF(A35<>\"\",IFERROR(VLOOKUP(P35,Tabelas!B:D,3,0),0),\"\")","v":12},{"$f":"IF(A35<>\"\",IFERROR(VLOOKUP(Q35,Tabelas!B:D,3,0),0),\"\")","v":12},{"$f":"IF(A35<>\"\",IFERROR(VLOOKUP(R35,Tabelas!B:D,3,0),0),\"\")","v":0},{"$f":"IF(A35<>\"\",IFERROR(VLOOKUP(S35,Tabelas!B:D,3,0),0),\"\")","v":12},{"$f":"IF(A35<>\"\",IFERROR(VLOOKUP(T35,Tabelas!B:D,3,0),0),\"\")","v":0},{"$f":"IF(A35<>\"\",IFERROR(VLOOKUP(U35,Tabelas!B:D,3,0),0),\"\")","v":0},{"$f":"IF(A35<>\"\",IFERROR(VLOOKUP(V35,Tabelas!B:D,3,0),0),\"\")","v":12},{"$f":"IF(A35<>\"\",IFERROR(VLOOKUP(W35,Tabelas!B:D,3,0),0),\"\")","v":0},{"$f":"IF(A35<>\"\",IFERROR(VLOOKUP(X35,Tabelas!B:D,3,0),0),\"\")","v":0},{"$f":"IF(A35<>\"\",IFERROR(VLOOKUP(Y35,Tabelas!B:D,3,0),0),\"\")","v":12},{"$f":"IF(A35<>\"\",IFERROR(VLOOKUP(Z35,Tabelas!B:D,3,0),0),\"\")","v":0},{"$f":"IF(A35<>\"\",IFERROR(VLOOKUP(AA35,Tabelas!B:D,3,0),0),\"\")","v":0},{"$f":"IF(A35<>\"\",IFERROR(VLOOKUP(AB35,Tabelas!B:D,3,0),0),\"\")","v":12},{"$f":"IF(A35<>\"\",IFERROR(VLOOKUP(AC35,Tabelas!B:D,3,0),0),\"\")","v":0},{"$f":"IF(A35<>\"\",IFERROR(VLOOKUP(AD35,Tabelas!B:D,3,0),0),\"\")","v":0},{"$f":"IF(A35<>\"\",IFERROR(VLOOKUP(AE35,Tabelas!B:D,3,0),0),\"\")","v":12},{"$f":"IF(A35<>\"\",IFERROR(VLOOKUP(AF35,Tabelas!B:D,3,0),0),\"\")","v":0},{"$f":"IF(A35<>\"\",IFERROR(VLOOKUP(AG35,Tabelas!B:D,3,0),0),\"\")","v":0},{"$f":"IF(A35<>\"\",IFERROR(VLOOKUP(AH35,Tabelas!B:D,3,0),0),\"\")","v":12},{"$f":"IF(A35<>\"\",IFERROR(VLOOKUP(AI35,Tabelas!B:D,3,0),0),\"\")","v":0},{"$f":"IF(A35<>\"\",IFERROR(VLOOKUP(AJ35,Tabelas!B:D,3,0),0),\"\")","v":0},{"$f":"IF(A35<>\"\",IFERROR(VLOOKUP(AK35,Tabelas!B:D,3,0),0),\"\")","v":12},{"$f":"IF(A35<>\"\",IFERROR(VLOOKUP(AL35,Tabelas!B:D,3,0),0),\"\")","v":0},{"$f":"IF(A35<>\"\",IFERROR(VLOOKUP(AM35,Tabelas!B:D,3,0),0),\"\")","v":0},{"$f":"IF(A35<>\"\",IFERROR(VLOOKUP(AN35,Tabelas!B:D,3,0),0),\"\")","v":12},{"$f":"IF(A35<>\"\",IFERROR(VLOOKUP(AO35,Tabelas!B:D,3,0),0),\"\")","v":0},{"$f":"IF(A35<>\"\",IFERROR(VLOOKUP(AP35,Tabelas!B:D,3,0),0),\"\")","v":0},{"$f":"IF(A35<>\"\",IFERROR(VLOOKUP(AQ35,Tabelas!B:D,3,0),0),\"\")","v":0},{"$f":"IF(A35<>\"\",IFERROR(VLOOKUP(AR35,Tabelas!B:D,3,0),0),\"\")","v":0},132,0,1,0,0,0,0,17,0]
["Caroline F. Reis",3014931,922673,"TE ","Ebserh",36,null,null,null,null,null,null,null,"FO","FO","D2","FO","D2","N2","FO","FO","D2","FO","D2","FO","FO","FO","D2","FO","FO","D2","FO","D2","D2","FO","FO","N2","FO","D2","N2","FO",null,null,null,{"$f":"IF(A36<>\"\",IFERROR(VLOOKUP(N36,Tabelas!B:D,3,0),0),\"\")","v":0},{"$f":"IF(A36<>\"\",IFERROR(VLOOKUP(O36,Tabelas!B:D,3,0),0),\"\")","v":0},{"$f":"IF(A36<>\"\",IFERROR(VLOOKUP(P36,Tabelas!B:D,3,0),0),\"\")","v":12},{"$f":"IF(A36<>\"\",IFERROR(VLOOKUP(Q36,Tabelas!B:D,3,0),0),\"\")","v":0},{"$f":"IF(A36<>\"\",IFERROR(VLOOKUP(R36,Tabelas!B:D,3,0),0),\"\")","v":12},{"$f":"IF(A36<>\"\",IFERROR(VLOOKUP(S36,Tabelas!B:D,3,0),0),\"\")","v":12},{"$f":"IF(A36<>\"\",IFERROR(VLOOKUP(T36,Tabelas!B:D,3,0),0),\"\")","v":0},{"$f":"IF(A36<>\"\",IFERROR(VLOOKUP(U36,Tabelas!B:D,3,0),0),\"\")","v":0},{"$f":"IF(A36<>\"\",IFERROR(VLOOKUP(V36,Tabelas!B:D,3,0),0),\"\")","v":12},{"$f":"IF(A36<>\"\",IFERROR(VLOOKUP(W36,Tabelas!B:D,3,0),0),\"\")","v":0},{"$f":"IF(A36<>\"\",IFERROR(VLOOKUP(X36,Tabelas!B:D,3,0),0),\"\")","v":12},{"$f":"IF(A36<>\"\",IFERROR(VLOOKUP(Y36,Tabelas!B:D,3,0),0),\"\")","v":0},{"$f":"IF(A36<>\"\",IFERROR(VLOOKUP(Z36,Tabelas!B:D,3,0),0),\"\")","v":0},{"$f":"IF(A36<>\"\",IFERROR(VLOOKUP(AA36,Tabelas!B:D,3,0),0),\"\")","v":0},{"$f":"IF(A36<>\"\",IFERROR(VLOOKUP(AB36,Tabelas!B:D,3,0),0),\"\")","v":12},{"$f":"IF(A36<>\"\",IFERROR(VLOOKUP(AC36,Tabelas!B:D,3,0),0),\"\")","v":0},{"$f":"IF(A36<>\"\",IFERROR(VLOOKUP(AD36,Tabelas!B:D,3,0),0),\"\")","v":0},{"$f":"IF(A36<>\"\",IFERROR(VLOOKUP(AE36,Tabelas!B:D,3,0),0),\"\")","v":12},{"$f":"IF(A36<>\"\",IFERROR(VLOOKUP(AF36,Tabelas!B:D,3,0),0),\"\")","v":0},{"$f":"IF(A36<>\"\",IFERROR(VLOOKUP(AG36,Tabelas!B:D,3,0),0),\"\")","v":12},{"$f":"IF(A36<>\"\",IFERROR(VLOOKUP(AH36,Tabelas!B:D,3,0),0),\"\")","v":12},{"$f":"IF(A36<>\"\",IFERROR(VLOOKUP(AI36,Tabelas!B:D,3,0),0),\"\")","v":0},{"$f":"IF(A36<>\"\",IFERROR(VLOOKUP(AJ36,Tabelas!B:D,3,0),0),\"\")","v":0},{"$f":"IF(A36<>\"\",IFERROR(VLOOKUP(AK36,Tabelas!B:D,3,0),0),\"\")","v":12},{"$f":"IF(A36<>\"\",IFERROR(VLOOKUP(AL36,Tabelas!B:D,3,0),0),\"\")","v":0},{"$f":"IF(A36<>\"\",IFERROR(VLOOKUP(AM36,Tabelas!B:D,3,0),0),\"\")","v":12},{"$f":"IF(A36<>\"\",IFERROR(VLOOKUP(AN36,Tabelas!B:D,3,0),0),\"\")","v":12},{"$f":"IF(A36<>\"\",IFERROR(VLOOKUP(AO36,Tabelas!B:D,3,0),0),\"\")","v":0},{"$f":"IF(A36<>\"\",IFERROR(VLOOKUP(AP36,Tabelas!B:D,3,0),0),\"\")","v":0},{"$f":"IF(A36<>\"\",IFERROR(VLOOKUP(AQ36,Tabelas!B:D,3,0),0),\"\")","v":0},{"$f":"IF(A36<>\"\",IFERROR(VLOOKUP(AR36,Tabelas!B:D,3,0),0),\"\")","v":0},144,0,0,0,0,0,0,16,0]
["Carla Tatiana Aires",3075673,152409,"TE ","Ebserh",36,null,null,null,null,null,null,null,"FO","FO","D2","D2","FO","FO","D2","FO","D2","FO","FO","D2","FO","FO","D2","FO","FO","D2","FO","D2","FO","D2","FO","D2","D2","FO","D2","FO",null,null,null,{"$f":"IF(A37<>\"\",IFERROR(VLOOKUP(N37,Tabelas!B:D,3,0),0),\"\")","v":0},{"$f":"IF(A37<>\"\",IFERROR(VLOOKUP(O37,Tabelas!B:D,3,0),0),\"\")","v":0},{"$f":"IF(A37<>\"\",IFERROR(VLOOKUP(P37,Tabelas!B:D,3,0),0),\"\")","v":12},{"$f":"IF(A37<>\"\",IFERROR(VLOOKUP(Q37,Tabelas!B:D,3,0),0),\"\")","v":12},{"$f":"IF(A37<>\"\",IFERROR(VLOOKUP(R37,Tabelas!B:D,3,0),0),\"\")","v":0},{"$f":"IF(A37<>\"\",IFERROR(VLOOKUP(S37,Tabelas!B:D,3,0),0),\"\")","v":0},{"$f":"IF(A37<>\"\",IFERROR(VLOOKUP(T37,Tabelas!B:D,3,0),0),\"\")","v":12},{"$f":"IF(A37<>\"\",IFERROR(VLOOKUP(U37,Tabelas!B:D,3,0),0),\"\")","v":0},{"$f":"IF(A37<>\"\",IFERROR(VLOOKUP(V37,Tabelas!B:D,3,0),0),\"\")","v":12},{"$f":"IF(A37<>\"\",IFERROR(VLOOKUP(W37,Tabelas!B:D,3,0),0),\"\")","v":0},{"$f":"IF(A37<>\"\",IFERROR(VLOOKUP(X37,Tabelas!B:D,3,0),0),\"\")","v":0},{"$f":"IF(A37<>\"\",IFERROR(VLOOKUP(Y37,Tabelas!B:D,3,0),0),\"\")","v":12},{"$f":"IF(A37<>\"\",IFERROR(VLOOKUP(Z37,Tabelas!B:D,3,0),0),\"\")","v":0},{"$f":"IF(A37<>\"\",IFERROR(VLOOKUP(AA37,Tabelas!B:D,3,0),0),\"\")","v":0},{"$f":"IF(A37<>\"\",IFERROR(VLOOKUP(AB37,Tabelas!B:D,3,0),0),\"\")","v":12},{"$f":"IF(A37<>\"\",IFERROR(VLOOKUP(AC37,Tabelas!B:D,3,0),0),\"\")","v":0},{"$f":"IF(A37<>\"\",IFERROR(VLOOKUP(AD37,Tabelas!B:D,3,0),0),\"\")","v":0},{"$f":"IF(A37<>\"\",IFERROR(VLOOKUP(AE37,Tabelas!B:D,3,0),0),\"\")","v":12},{"$f":"IF(A37<>\"\",IFERROR(VLOOKUP(AF37,Tabelas!B:D,3,0),0),\"\")","v":0},{"$f":"IF(A37<>\"\",IFERROR(VLOOKUP(AG37,Tabelas!B:D,3,0),0),\"\")","v":12},{"$f":"IF(A37<>\"\",IFERROR(VLOOKUP(AH37,Tabelas!B:D,3,0),0),\"\")","v":0},{"$f":"IF(A37<>\"\",IFERROR(VLOOKUP(AI37,Tabelas!B:D,3,0),0),\"\")","v":12},{"$f":"IF(A37<>\"\",IFERROR(VLOOKUP(AJ37,Tabelas!B:D,3,0),0),\"\")","v":0},{"$f":"IF(A37<>\"\",IFERROR(VLOOKUP(AK37,Tabelas!B:D,3,0),0),\"\")","v":12},{"$f":"IF(A37<>\"\",IFERROR(VLOOKUP(AL37,Tabelas!B:D,3,0),0),\"\")","v":12},{"$f":"IF(A37<>\"\",IFERROR(VLOOKUP(AM37,Tabelas!B:D,3,0),0),\"\")","v":0},{"$f":"IF(A37<>\"\",IFERROR(VLOOKUP(AN37,Tabelas!B:D,3,0),0),\"\")","v":12},{"$f":"IF(A37<>\"\",IFERROR(VLOOKUP(AO37,Tabelas!B:D,3,0),0),\"\")","v":0},{"$f":"IF(A37<>\"\",IFERROR(VLOOKUP(AP37,Tabelas!B:D,3,0),0),\"\")","v":0},{"$f":"IF(A37<>\"\",IFERROR(VLOOKUP(AQ37,Tabelas!B:D,3,0),0),\"\")","v":0},{"$f":"IF(A37<>\"\",IFERROR(VLOOKUP(AR37,Tabelas!B:D,3,0),0),\"\")","v":0},144,0,0,0,0,0,0,16,0]
["PLANTÃO 2",null,null,null,null,null,null,null,null,null,null,null,null,null,null,null,null,null,null,null,null,null,null,null,null,null,null,null,null,null,null,null,null,null,null,null,null,null,null,null,null,null,null,null,{"$f":"IF(A38<>\"\",IFERROR(VLOOKUP(N38,Tabelas!B:D,3,0),0),\"\")","v":0},{"$f":"IF(A38<>\"\",IFERROR(VLOOKUP(O38,Tabelas!B:D,3,0),0),\"\")","v":0},{"$f":"IF(A38<>\"\",IFERROR(VLOOKUP(P38,Tabelas!B:D,3,0),0),\"\")","v":0},{"$f":"IF(A38<>\"\",IFERROR(VLOOKUP(Q38,Tabelas!B:D,3,0),0),\"\")","v":0},{"$f":"IF(A38<>\"\",IFERROR(VLOOKUP(R38,Tabelas!B:D,3,0),0),\"\")","v":0},{"$f":"IF(A38<>\"\",IFERROR(VLOOKUP(S38,Tabelas!B:D,3,0),0),\"\")","v":0},{"$f":"IF(A38<>\"\",IFERROR(VLOOKUP(T38,Tabelas!B:D,3,0),0),\"\")","v":0},{"$f":"IF(A38<>\"\",IFERROR(VLOOKUP(U38,Tabelas!B:D,3,0),0),\"\")","v":0},{"$f":"IF(A38<>\"\",IFERROR(VLOOKUP(V38,Tabelas!B:D,3,0),0),\"\")","v":0},{"$f":"IF(A38<>\"\",IFERROR(VLOOKUP(W38,Tabelas!B:D,3,0),0),\"\")","v":0},{"$f":"IF(A38<>\"\",IFERROR(VLOOKUP(X38,Tabelas!B:D,3,0),0),\"\")","v":0},{"$f":"IF(A38<>\"\",IFERROR(VLOOKUP(Y38,Tabelas!B:D,3,0),0),\"\")","v":0},{"$f":"IF(A38<>\"\",IFERROR(VLOOKUP(Z38,Tabelas!B:D,3,0),0),\"\")","v":0},{"$f":"IF(A38<>\"\",IFERROR(VLOOKUP(AA38,Tabelas!B:D,3,0),0),\"\")","v":0},{"$f":"IF(A38<>\"\",IFERROR(VLOOKUP(AB38,Tabelas!B:D,3,0),0),\"\")","v":0},{"$f":"IF(A38<>\"\",IFERROR(VLOOKUP(AC38,Tabelas!B:D,3,0),0),\"\")","v":0},{"$f":"IF(A38<>\"\",IFERROR(VLOOKUP(AD38,Tabelas!B:D,3,0),0),\"\")","v":0},{"$f":"IF(A38<>\"\",IFERROR(VLOOKUP(AE38,Tabelas!B:D,3,0),0),\"\")","v":0},{"$f":"IF(A38<>\"\",IFERROR(VLOOKUP(AF38,Tabelas!B:D,3,0),0),\"\")","v":0},{"$f":"IF(A38<>\"\",IFERROR(VLOOKUP(AG38,Tabelas!B:D,3,0),0),\"\")","v":0},{"$f":"IF(A38<>\"\",IFERROR(VLOOKUP(AH38,Tabelas!B:D,3,0),0),\"\")","v":0},{"$f":"IF(A38<>\"\",IFERROR(VLOOKUP(AI38,Tabelas!B:D,3,0),0),\"\")","v":0},{"$f":"IF(A38<>\"\",IFERROR(VLOOKUP(AJ38,Tabelas!B:D,3,0),0),\"\")","v":0},{"$f":"IF(A38<>\"\",IFERROR(VLOOKUP(AK38,Tabelas!B:D,3,0),0),\"\")","v":0},{"$f":"IF(A38<>\"\",IFERROR(VLOOKUP(AL38,Tabelas!B:D,3,0),0),\"\")","v":0},{"$f":"IF(A38<>\"\",IFERROR(VLOOKUP(AM38,Tabelas!B:D,3,0),0),\"\")","v":0},{"$f":"IF(A38<>\"\",IFERROR(VLOOKUP(AN38,Tabelas!B:D,3,0),0),\"\")","v":0},{"$f":"IF(A38<>\"\",IFERROR(VLOOKUP(AO38,Tabelas!B:D,3,0),0),\"\")","v":0},{"$f":"IF(A38<>\"\",IFERROR(VLOOKUP(AP38,Tabelas!B:D,3,0),0),\"\")","v":0},{"$f":"IF(A38<>\"\",IFERROR(VLOOKUP(AQ38,Tabelas!B:D,3,0),0),\"\")","v":0},{"$f":"IF(A38<>\"\",IFERROR(VLOOKUP(AR38,Tabelas!B:D,3,0),0),\"\")","v":0},0,0,0,0,0,0,0,0,0]
["Cibele Lesina R.",3047612,482466,"TE ","Ebserh",36,null,null,null,null,null,null,null,"AB","FO","FO","AB","FO","FO","D2","FO","FO","D2","FO","D2","D2","FO","FO","D2","FO","FO","D2","FO","FO","FO","D2","FO","D2","FO","D2","D2",null,null,null,{"$f":"IF(A39<>\"\",IFERROR(VLOOKUP(N39,Tabelas!B:D,3,0),0),\"\")","v":0},{"$f":"IF(A39<>\"\",IFERROR(VLOOKUP(O39,Tabelas!B:D,3,0),0),\"\")","v":0},{"$f":"IF(A39<>\"\",IFERROR(VLOOKUP(P39,Tabelas!B:D,3,0),0),\"\")","v":0},{"$f":"IF(A39<>\"\",IFERROR(VLOOKUP(Q39,Tabelas!B:D,3,0),0),\"\")","v":0},{"$f":"IF(A39<>\"\",IFERROR(VLOOKUP(R39,Tabelas!B:D,3,0),0),\"\")","v":0},{"$f":"IF(A39<>\"\",IFERROR(VLOOKUP(S39,Tabelas!B:D,3,0),0),\"\")","v":0},{"$f":"IF(A39<>\"\",IFERROR(VLOOKUP(T39,Tabelas!B:D,3,0),0),\"\")","v":12},{"$f":"IF(A39<>\"\",IFERROR(VLOOKUP(U39,Tabelas!B:D,3,0),0),\"\")","v":0},{"$f":"IF(A39<>\"\",IFERROR(VLOOKUP(V39,Tabelas!B:D,3,0),0),\"\")","v":0},{"$f":"IF(A39<>\"\",IFERROR(VLOOKUP(W39,Tabelas!B:D,3,0),0),\"\")","v":12},{"$f":"IF(A39<>\"\",IFERROR(VLOOKUP(X39,Tabelas!B:D,3,0),0),\"\")","v":0},{"$f":"IF(A39<>\"\",IFERROR(VLOOKUP(Y39,Tabelas!B:D,3,0),0),\"\")","v":12},{"$f":"IF(A39<>\"\",IFERROR(VLOOKUP(Z39,Tabelas!B:D,3,0),0),\"\")","v":12},{"$f":"IF(A39<>\"\",IFERROR(VLOOKUP(AA39,Tabelas!B:D,3,0),0),\"\")","v":0},{"$f":"IF(A39<>\"\",IFERROR(VLOOKUP(AB39,Tabelas!B:D,3,0),0),\"\")","v":0},{"$f":"IF(A39<>\"\",IFERROR(VLOOKUP(AC39,Tabelas!B:D,3,0),0),\"\")","v":12},{"$f":"IF(A39<>\"\",IFERROR(VLOOKUP(AD39,Tabelas!B:D,3,0),0),\"\")","v":0},{"$f":"IF(A39<>\"\",IFERROR(VLOOKUP(AE39,Tabelas!B:D,3,0),0),\"\")","v":0},{"$f":"IF(A39<>\"\",IFERROR(VLOOKUP(AF39,Tabelas!B:D,3,0),0),\"\")","v":12},{"$f":"IF(A39<>\"\",IFERROR(VLOOKUP(AG39,Tabelas!B:D,3,0),0),\"\")","v":0},{"$f":"IF(A39<>\"\",IFERROR(VLOOKUP(AH39,Tabelas!B:D,3,0),0),\"\")","v":0},{"$f":"IF(A39<>\"\",IFERROR(VLOOKUP(AI39,Tabelas!B:D,3,0),0),\"\")","v":0},{"$f":"IF(A39<>\"\",IFERROR(VLOOKUP(AJ39,Tabelas!B:D,3,0),0),\"\")","v":12},{"$f":"IF(A39<>\"\",IFERROR(VLOOKUP(AK39,Tabelas!B:D,3,0),0),\"\")","v":0},{"$f":"IF(A39<>\"\",IFERROR(VLOOKUP(AL39,Tabelas!B:D,3,0),0),\"\")","v":12},{"$f":"IF(A39<>\"\",IFERROR(VLOOKUP(AM39,Tabelas!B:D,3,0),0),\"\")","v":0},{"$f":"IF(A39<>\"\",IFERROR(VLOOKUP(AN39,Tabelas!B:D,3,0),0),\"\")","v":12},{"$f":"IF(A39<>\"\",IFERROR(VLOOKUP(AO39,Tabelas!B:D,3,0),0),\"\")","v":12},{"$f":"IF(A39<>\"\",IFERROR(VLOOKUP(AP39,Tabelas!B:D,3,0),0),\"\")","v":0},{"$f":"IF(A39<>\"\",IFERROR(VLOOKUP(AQ39,Tabelas!B:D,3,0),0),\"\")","v":0},{"$f":"IF(A39<>\"\",IFERROR(VLOOKUP(AR39,Tabelas!B:D,3,0),0),\"\")","v":0},{"$f":"IF(A39<>\"\",SUM(AS39:BW39),\"\")","v":120},{"$f":"IF(A39<>\"\",COUNTIF(N39:AR39,\"LM\")+COUNTIF(N39:AR39,\"L\"),\"\")+COUNTIF(N39:AR39,\"LP\")","v":0},{"$f":"IF(A39<>\"\",COUNTIF(N39:AR39,\"AB\"),\"\")","v":2},{"$f":"IF(A39<>\"\",COUNTIF(N39:AR39,\"FE\"),\"\")","v":0},{"$f":"IF(A39<>\"\",COUNTIF(N39:AR39,\"LC\"),\"\")","v":0},{"$f":"IF(A39<>\"\",COUNTIF(N39:AR39,\"CE\"),\"\")","v":0},{"$f":"IF(A39<>\"\",COUNTIF(N39:AR39,\"AF1\")+COUNTIF(N39:AR39,\"AF2\")+COUNTIF(N39:AR39,\"AF3\")+COUNTIF(N39:AR39,\"AF4\")+COUNTIF(N39:AR39,\"AF5\")+COUNTIF(N39:AR39,\"AF6\")+COUNTIF(N39:AR39,\"AF7\")+COUNTIF(N39:AR39,\"AF8\")+COUNTIF(N39:AR39,\"AF9\")+COUNTIF(N39:AR39,\"AF10\")+COUNTIF(N39:AR39,\"AF11\")+COUNTIF(N39:AR39,\"AF12\")+COUNTIF(N39:AR39,\"AF13\")+COUNTIF(N39:AR39,\"AF14\"),\"\")","v":0},{"$f":"IF(A39<>\"\",COUNTIF(N39:AR39,\"CE\")+COUNTIF(N39:AR39,\"L\")+COUNTIF(N39:AR39,\"LM\")+COUNTIF(N39:AR39,\"LP\")+COUNTIF(N39:AR39,\"LC\")+COUNTIF(N39:AR39,\"AB\")+COUNTIF(N39:AR39,\"AF1\")+COUNTIF(N39:AR39,\"AF2\")+COUNTIF(N39:AR39,\"AF3\")+COUNTIF(N39:AR39,\"AF4\")+COUNTIF(N39:AR39,\"AF5\")+COUNTIF(N39:AR39,\"AF6\")+COUNTIF(N39:AR39,\"AF7\")+COUNTIF(N39:AR39,\"AF8\")+COUNTIF(N39:AR39,\"AF9\")+COUNTIF(N39:AR39,\"AF10\")+COUNTIF(N39:AR39,\"AF11\")+COUNTIF(N39:AR39,\"AF12\")+COUNTIF(N39:AR39,\"AF13\")+COUNTIF(N39:AR39,\"AF14\")+COUNTIF(N39:AR39,\"RC\")+COUNTIF(N39:AR39,\"FO\")+COUNTIF(N39:AR39,\"FE\"),\"\")","v":18},{"$f":"IF(A39<>\"\",COUNTIF(N39:AR39,\"APH\"),\"\")","v":0}]
["Cassiane Santino Filisbino",21539,1330095,"TE ","FAPEU",40,null,null,null,null,null,null,null,"D2","D2","FO","FE","FE","FE","FE","FE","FE","FE","FE","FE","FE","FE","FE","FE","FE","FE","FE","FE","FE","FE","FE","FO","D2","FO","FO","D2",null,null,null,{"$f":"IF(A40<>\"\",IFERROR(VLOOKUP(N40,Tabelas!B:D,3,0),0),\"\")","v":12},{"$f":"IF(A40<>\"\",IFERROR(VLOOKUP(O40,Tabelas!B:D,3,0),0),\"\")","v":12},{"$f":"IF(A40<>\"\",IFERROR(VLOOKUP(P40,Tabelas!B:D,3,0),0),\"\")","v":0},{"$f":"IF(A40<>\"\",IFERROR(VLOOKUP(Q40,Tabelas!B:D,3,0),0),\"\")","v":0},{"$f":"IF(A40<>\"\",IFERROR(VLOOKUP(R40,Tabelas!B:D,3,0),0),\"\")","v":0},{"$f":"IF(A40<>\"\",IFERROR(VLOOKUP(S40,Tabelas!B:D,3,0),0),\"\")","v":0},{"$f":"IF(A40<>\"\",IFERROR(VLOOKUP(T40,Tabelas!B:D,3,0),0),\"\")","v":0},{"$f":"IF(A40<>\"\",IFERROR(VLOOKUP(U40,Tabelas!B:D,3,0),0),\"\")","v":0},{"$f":"IF(A40<>\"\",IFERROR(VLOOKUP(V40,Tabelas!B:D,3,0),0),\"\")","v":0},{"$f":"IF(A40<>\"\",IFERROR(VLOOKUP(W40,Tabelas!B:D,3,0),0),\"\")","v":0},{"$f":"IF(A40<>\"\",IFERROR(VLOOKUP(X40,Tabelas!B:D,3,0),0),\"\")","v":0},{"$f":"IF(A40<>\"\",IFERROR(VLOOKUP(Y40,Tabelas!B:D,3,0),0),\"\")","v":0},{"$f":"IF(A40<>\"\",IFERROR(VLOOKUP(Z40,Tabelas!B:D,3,0),0),\"\")","v":0},{"$f":"IF(A40<>\"\",IFERROR(VLOOKUP(AA40,Tabelas!B:D,3,0),0),\"\")","v":0},{"$f":"IF(A40<>\"\",IFERROR(VLOOKUP(AB40,Tabelas!B:D,3,0),0),\"\")","v":0},{"$f":"IF(A40<>\"\",IFERROR(VLOOKUP(AC40,Tabelas!B:D,3,0),0),\"\")","v":0},{"$f":"IF(A40<>\"\",IFERROR(VLOOKUP(AD40,Tabelas!B:D,3,0),0),\"\")","v":0},{"$f":"IF(A40<>\"\",IFERROR(VLOOKUP(AE40,Tabelas!B:D,3,0),0),\"\")","v":0},{"$f":"IF(A40<>\"\",IFERROR(VLOOKUP(AF40,Tabelas!B:D,3,0),0),\"\")","v":0},{"$f":"IF(A40<>\"\",IFERROR(VLOOKUP(AG40,Tabelas!B:D,3,0),0),\"\")","v":0},{"$f":"IF(A40<>\"\",IFERROR(VLOOKUP(AH40,Tabelas!B:D,3,0),0),\"\")","v":0},{"$f":"IF(A40<>\"\",IFERROR(VLOOKUP(AI40,Tabelas!B:D,3,0),0),\"\")","v":0},{"$f":"IF(A40<>\"\",IFERROR(VLOOKUP(AJ40,Tabelas!B:D,3,0),0),\"\")","v":0},{"$f":"IF(A40<>\"\",IFERROR(VLOOKUP(AK40,Tabelas!B:D,3,0),0),\"\")","v":0},{"$f":"IF(A40<>\"\",IFERROR(VLOOKUP(AL40,Tabelas!B:D,3,0),0),\"\")","v":12},{"$f":"IF(A40<>\"\",IFERROR(VLOOKUP(AM40,Tabelas!B:D,3,0),0),\"\")","v":0},{"$f":"IF(A40<>\"\",IFERROR(VLOOKUP(AN40,Tabelas!B:D,3,0),0),\"\")","v":0},{"$f":"IF(A40<>\"\",IFERROR(VLOOKUP(AO40,Tabelas!B:D,3,0),0),\"\")","v":12},{"$f":"IF(A40<>\"\",IFERROR(VLOOKUP(AP40,Tabelas!B:D,3,0),0),\"\")","v":0},{"$f":"IF(A40<>\"\",IFERROR(VLOOKUP(AQ40,Tabelas!B:D,3,0),0),\"\")","v":0},{"$f":"IF(A40<>\"\",IFERROR(VLOOKUP(AR40,Tabelas!B:D,3,0),0),\"\")","v":0},48,0,0,20,0,0,0,24,0]
["Paula Helena Janson",3037827,1140188,"TE ","Ebserh",36,null,null,null,null,null,null,null,"D2","FO","FO","D2","FO","FO","D2","FO","FO","D2","FO","FO","D2","FO","FO","D2","FO","D2","D2","FO","FO","D2","FO","D2","D2","FO","FO","D2",null,null,null,{"$f":"IF(A41<>\"\",IFERROR(VLOOKUP(N41,Tabelas!B:D,3,0),0),\"\")","v":12},{"$f":"IF(A41<>\"\",IFERROR(VLOOKUP(O41,Tabelas!B:D,3,0),0),\"\")","v":0},{"$f":"IF(A41<>\"\",IFERROR(VLOOKUP(P41,Tabelas!B:D,3,0),0),\"\")","v":0},{"$f":"IF(A41<>\"\",IFERROR(VLOOKUP(Q41,Tabelas!B:D,3,0),0),\"\")","v":12},{"$f":"IF(A41<>\"\",IFERROR(VLOOKUP(R41,Tabelas!B:D,3,0),0),\"\")","v":0},{"$f":"IF(A41<>\"\",IFERROR(VLOOKUP(S41,Tabelas!B:D,3,0),0),\"\")","v":0},{"$f":"IF(A41<>\"\",IFERROR(VLOOKUP(T41,Tabelas!B:D,3,0),0),\"\")","v":12},{"$f":"IF(A41<>\"\",IFERROR(VLOOKUP(U41,Tabelas!B:D,3,0),0),\"\")","v":0},{"$f":"IF(A41<>\"\",IFERROR(VLOOKUP(V41,Tabelas!B:D,3,0),0),\"\")","v":0},{"$f":"IF(A41<>\"\",IFERROR(VLOOKUP(W41,Tabelas!B:D,3,0),0),\"\")","v":12},{"$f":"IF(A41<>\"\",IFERROR(VLOOKUP(X41,Tabelas!B:D,3,0),0),\"\")","v":0},{"$f":"IF(A41<>\"\",IFERROR(VLOOKUP(Y41,Tabelas!B:D,3,0),0),\"\")","v":0},{"$f":"IF(A41<>\"\",IFERROR(VLOOKUP(Z41,Tabelas!B:D,3,0),0),\"\")","v":12},{"$f":"IF(A41<>\"\",IFERROR(VLOOKUP(AA41,Tabelas!B:D,3,0),0),\"\")","v":0},{"$f":"IF(A41<>\"\",IFERROR(VLOOKUP(AB41,Tabelas!B:D,3,0),0),\"\")","v":0},{"$f":"IF(A41<>\"\",IFERROR(VLOOKUP(AC41,Tabelas!B:D,3,0),0),\"\")","v":12},{"$f":"IF(A41<>\"\",IFERROR(VLOOKUP(AD41,Tabelas!B:D,3,0),0),\"\")","v":0},{"$f":"IF(A41<>\"\",IFERROR(VLOOKUP(AE41,Tabelas!B:D,3,0),0),\"\")","v":12},{"$f":"IF(A41<>\"\",IFERROR(VLOOKUP(AF41,Tabelas!B:D,3,0),0),\"\")","v":12},{"$f":"IF(A41<>\"\",IFERROR(VLOOKUP(AG41,Tabelas!B:D,3,0),0),\"\")","v":0},{"$f":"IF(A41<>\"\",IFERROR(VLOOKUP(AH41,Tabelas!B:D,3,0),0),\"\")","v":0},{"$f":"IF(A41<>\"\",IFERROR(VLOOKUP(AI41,Tabelas!B:D,3,0),0),\"\")","v":12},{"$f":"IF(A41<>\"\",IFERROR(VLOOKUP(AJ41,Tabelas!B:D,3,0),0),\"\")","v":0},{"$f":"IF(A41<>\"\",IFERROR(VLOOKUP(AK41,Tabelas!B:D,3,0),0),\"\")","v":12},{"$f":"IF(A41<>\"\",IFERROR(VLOOKUP(AL41,Tabelas!B:D,3,0),0),\"\")","v":12},{"$f":"IF(A41<>\"\",IFERROR(VLOOKUP(AM41,Tabelas!B:D,3,0),0),\"\")","v":0},{"$f":"IF(A41<>\"\",IFERROR(VLOOKUP(AN41,Tabelas!B:D,3,0),0),\"\")","v":0},{"$f":"IF(A41<>\"\",IFERROR(VLOOKUP(AO41,Tabelas!B:D,3,0),0),\"\")","v":12},{"$f":"IF(A41<>\"\",IFERROR(VLOOKUP(AP41,Tabelas!B:D,3,0),0),\"\")","v":0},{"$f":"IF(A41<>\"\",IFERROR(VLOOKUP(AQ41,Tabelas!B:D,3,0),0),\"\")","v":0},{"$f":"IF(A41<>\"\",IFERROR(VLOOKUP(AR41,Tabelas!B:D,3,0),0),\"\")","v":0},144,0,0,0,0,0,0,16,0]
["Rosana dos S. Pinheiro",3036750,307746,"TE ","Ebserh",36,null,null,null,null,null,null,null,"D2","FO","FO","D2","FO","FO","D2","FO","FO","D2","FO","FO","D2","D2","FO","D2","FO","FO","D2","FO","FO","D2","FO","D2","D2","FO","FO","D2",null,null,null,{"$f":"IF(A42<>\"\",IFERROR(VLOOKUP(N42,Tabelas!B:D,3,0),0),\"\")","v":12},{"$f":"IF(A42<>\"\",IFERROR(VLOOKUP(O42,Tabelas!B:D,3,0),0),\"\")","v":0},{"$f":"IF(A42<>\"\",IFERROR(VLOOKUP(P42,Tabelas!B:D,3,0),0),\"\")","v":0},{"$f":"IF(A42<>\"\",IFERROR(VLOOKUP(Q42,Tabelas!B:D,3,0),0),\"\")","v":12},{"$f":"IF(A42<>\"\",IFERROR(VLOOKUP(R42,Tabelas!B:D,3,0),0),\"\")","v":0},{"$f":"IF(A42<>\"\",IFERROR(VLOOKUP(S42,Tabelas!B:D,3,0),0),\"\")","v":0},{"$f":"IF(A42<>\"\",IFERROR(VLOOKUP(T42,Tabelas!B:D,3,0),0),\"\")","v":12},{"$f":"IF(A42<>\"\",IFERROR(VLOOKUP(U42,Tabelas!B:D,3,0),0),\"\")","v":0},{"$f":"IF(A42<>\"\",IFERROR(VLOOKUP(V42,Tabelas!B:D,3,0),0),\"\")","v":0},{"$f":"IF(A42<>\"\",IFERROR(VLOOKUP(W42,Tabelas!B:D,3,0),0),\"\")","v":12},{"$f":"IF(A42<>\"\",IFERROR(VLOOKUP(X42,Tabelas!B:D,3,0),0),\"\")","v":0},{"$f":"IF(A42<>\"\",IFERROR(VLOOKUP(Y42,Tabelas!B:D,3,0),0),\"\")","v":0},{"$f":"IF(A42<>\"\",IFERROR(VLOOKUP(Z42,Tabelas!B:D,3,0),0),\"\")","v":12},{"$f":"IF(A42<>\"\",IFERROR(VLOOKUP(AA42,Tabelas!B:D,3,0),0),\"\")","v":12},{"$f":"IF(A42<>\"\",IFERROR(VLOOKUP(AB42,Tabelas!B:D,3,0),0),\"\")","v":0},{"$f":"IF(A42<>\"\",IFERROR(VLOOKUP(AC42,Tabelas!B:D,3,0),0),\"\")","v":12},{"$f":"IF(A42<>\"\",IFERROR(VLOOKUP(AD42,Tabelas!B:D,3,0),0),\"\")","v":0},{"$f":"IF(A42<>\"\",IFERROR(VLOOKUP(AE42,Tabelas!B:D,3,0),0),\"\")","v":0},{"$f":"IF(A42<>\"\",IFERROR(VLOOKUP(AF42,Tabelas!B:D,3,0),0),\"\")","v":12},{"$f":"IF(A42<>\"\",IFERROR(VLOOKUP(AG42,Tabelas!B:D,3,0),0),\"\")","v":0},{"$f":"IF(A42<>\"\",IFERROR(VLOOKUP(AH42,Tabelas!B:D,3,0),0),\"\")","v":0},{"$f":"IF(A42<>\"\",IFERROR(VLOOKUP(AI42,Tabelas!B:D,3,0),0),\"\")","v":12},{"$f":"IF(A42<>\"\",IFERROR(VLOOKUP(AJ42,Tabelas!B:D,3,0),0),\"\")","v":0},{"$f":"IF(A42<>\"\",IFERROR(VLOOKUP(AK42,Tabelas!B:D,3,0),0),\"\")","v":12},{"$f":"IF(A42<>\"\",IFERROR(VLOOKUP(AL42,Tabelas!B:D,3,0),0),\"\")","v":12},{"$f":"IF(A42<>\"\",IFERROR(VLOOKUP(AM42,Tabelas!B:D,3,0),0),\"\")","v":0},{"$f":"IF(A42<>\"\",IFERROR(VLOOKUP(AN42,Tabelas!B:D,3,0),0),\"\")","v":0},{"$f":"IF(A42<>\"\",IFERROR(VLOOKUP(AO42,Tabelas!B:D,3,0),0),\"\")","v":12},{"$f":"IF(A42<>\"\",IFERROR(VLOOKUP(AP42,Tabelas!B:D,3,0),0),\"\")","v":0},{"$f":"IF(A42<>\"\",IFERROR(VLOOKUP(AQ42,Tabelas!B:D,3,0),0),\"\")","v":0},{"$f":"IF(A42<>\"\",IFERROR(VLOOKUP(AR42,Tabelas!B:D,3,0),0),\"\")","v":0},144,0,0,0,0,0,0,16,0]
["Maximiliano  D. Camargo",3044189,178936,"TE ","Ebserh",36,null,null,null,null,null,null,null,"D2","FO","FO","D2","FO","FO","D2","D2","FO","D2","FO","FO","D2","FO","FO","D2","FO","FO","D2","FO","FO","D2","D2","FO","D2","FO","FO","D2",null,null,null,{"$f":"IF(A43<>\"\",IFERROR(VLOOKUP(N43,Tabelas!B:D,3,0),0),\"\")","v":12},{"$f":"IF(A43<>\"\",IFERROR(VLOOKUP(O43,Tabelas!B:D,3,0),0),\"\")","v":0},{"$f":"IF(A43<>\"\",IFERROR(VLOOKUP(P43,Tabelas!B:D,3,0),0),\"\")","v":0},{"$f":"IF(A43<>\"\",IFERROR(VLOOKUP(Q43,Tabelas!B:D,3,0),0),\"\")","v":12},{"$f":"IF(A43<>\"\",IFERROR(VLOOKUP(R43,Tabelas!B:D,3,0),0),\"\")","v":0},{"$f":"IF(A43<>\"\",IFERROR(VLOOKUP(S43,Tabelas!B:D,3,0),0),\"\")","v":0},{"$f":"IF(A43<>\"\",IFERROR(VLOOKUP(T43,Tabelas!B:D,3,0),0),\"\")","v":12},{"$f":"IF(A43<>\"\",IFERROR(VLOOKUP(U43,Tabelas!B:D,3,0),0),\"\")","v":12},{"$f":"IF(A43<>\"\",IFERROR(VLOOKUP(V43,Tabelas!B:D,3,0),0),\"\")","v":0},{"$f":"IF(A43<>\"\",IFERROR(VLOOKUP(W43,Tabelas!B:D,3,0),0),\"\")","v":12},{"$f":"IF(A43<>\"\",IFERROR(VLOOKUP(X43,Tabelas!B:D,3,0),0),\"\")","v":0},{"$f":"IF(A43<>\"\",IFERROR(VLOOKUP(Y43,Tabelas!B:D,3,0),0),\"\")","v":0},{"$f":"IF(A43<>\"\",IFERROR(VLOOKUP(Z43,Tabelas!B:D,3,0),0),\"\")","v":12},{"$f":"IF(A43<>\"\",IFERROR(VLOOKUP(AA43,Tabelas!B:D,3,0),0),\"\")","v":0},{"$f":"IF(A43<>\"\",IFERROR(VLOOKUP(AB43,Tabelas!B:D,3,0),0),\"\")","v":0},{"$f":"IF(A43<>\"\",IFERROR(VLOOKUP(AC43,Tabelas!B:D,3,0),0),\"\")","v":12},{"$f":"IF(A43<>\"\",IFERROR(VLOOKUP(AD43,Tabelas!B:D,3,0),0),\"\")","v":0},{"$f":"IF(A43<>\"\",IFERROR(VLOOKUP(AE43,Tabelas!B:D,3,0),0),\"\")","v":0},{"$f":"IF(A43<>\"\",IFERROR(VLOOKUP(AF43,Tabelas!B:D,3,0),0),\"\")","v":12},{"$f":"IF(A43<>\"\",IFERROR(VLOOKUP(AG43,Tabelas!B:D,3,0),0),\"\")","v":0},{"$f":"IF(A43<>\"\",IFERROR(VLOOKUP(AH43,Tabelas!B:D,3,0),0),\"\")","v":0},{"$f":"IF(A43<>\"\",IFERROR(VLOOKUP(AI43,Tabelas!B:D,3,0),0),\"\")","v":12},{"$f":"IF(A43<>\"\",IFERROR(VLOOKUP(AJ43,Tabelas!B:D,3,0),0),\"\")","v":12},{"$f":"IF(A43<>\"\",IFERROR(VLOOKUP(AK43,Tabelas!B:D,3,0),0),\"\")","v":0},{"$f":"IF(A43<>\"\",IFERROR(VLOOKUP(AL43,Tabelas!B:D,3,0),0),\"\")","v":12},{"$f":"IF(A43<>\"\",IFERROR(VLOOKUP(AM43,Tabelas!B:D,3,0),0),\"\")","v":0},{"$f":"IF(A43<>\"\",IFERROR(VLOOKUP(AN43,Tabelas!B:D,3,0),0),\"\")","v":0},{"$f":"IF(A43<>\"\",IFERROR(VLOOKUP(AO43,Tabelas!B:D,3,0),0),\"\")","v":12},{"$f":"IF(A43<>\"\",IFERROR(VLOOKUP(AP43,Tabelas!B:D,3,0),0),\"\")","v":0},{"$f":"IF(A43<>\"\",IFERROR(VLOOKUP(AQ43,Tabelas!B:D,3,0),0),\"\")","v":0},{"$f":"IF(A43<>\"\",IFERROR(VLOOKUP(AR43,Tabelas!B:D,3,0),0),\"\")","v":0},144,0,0,0,0,0,0,16,0]
["PLANTÃO 3",null,null,null,null,null,null,null,null,null,null,null,null,null,null,null,null,null,null,null,null,null,null,null,null,null,null,null,null,null,null,null,null,null,null,null,null,null,null,null,null,null,null,null,{"$f":"IF(A44<>\"\",IFERROR(VLOOKUP(N44,Tabelas!B:D,3,0),0),\"\")","v":0},{"$f":"IF(A44<>\"\",IFERROR(VLOOKUP(O44,Tabelas!B:D,3,0),0),\"\")","v":0},{"$f":"IF(A44<>\"\",IFERROR(VLOOKUP(P44,Tabelas!B:D,3,0),0),\"\")","v":0},{"$f":"IF(A44<>\"\",IFERROR(VLOOKUP(Q44,Tabelas!B:D,3,0),0),\"\")","v":0},{"$f":"IF(A44<>\"\",IFERROR(VLOOKUP(R44,Tabelas!B:D,3,0),0),\"\")","v":0},{"$f":"IF(A44<>\"\",IFERROR(VLOOKUP(S44,Tabelas!B:D,3,0),0),\"\")","v":0},{"$f":"IF(A44<>\"\",IFERROR(VLOOKUP(T44,Tabelas!B:D,3,0),0),\"\")","v":0},{"$f":"IF(A44<>\"\",IFERROR(VLOOKUP(U44,Tabelas!B:D,3,0),0),\"\")","v":0},{"$f":"IF(A44<>\"\",IFERROR(VLOOKUP(V44,Tabelas!B:D,3,0),0),\"\")","v":0},{"$f":"IF(A44<>\"\",IFERROR(VLOOKUP(W44,Tabelas!B:D,3,0),0),\"\")","v":0},{"$f":"IF(A44<>\"\",IFERROR(VLOOKUP(X44,Tabelas!B:D,3,0),0),\"\")","v":0},{"$f":"IF(A44<>\"\",IFERROR(VLOOKUP(Y44,Tabelas!B:D,3,0),0),\"\")","v":0},{"$f":"IF(A44<>\"\",IFERROR(VLOOKUP(Z44,Tabelas!B:D,3,0),0),\"\")","v":0},{"$f":"IF(A44<>\"\",IFERROR(VLOOKUP(AA44,Tabelas!B:D,3,0),0),\"\")","v":0},{"$f":"IF(A44<>\"\",IFERROR(VLOOKUP(AB44,Tabelas!B:D,3,0),0),\"\")","v":0},{"$f":"IF(A44<>\"\",IFERROR(VLOOKUP(AC44,Tabelas!B:D,3,0),0),\"\")","v":0},{"$f":"IF(A44<>\"\",IFERROR(VLOOKUP(AD44,Tabelas!B:D,3,0),0),\"\")","v":0},{"$f":"IF(A44<>\"\",IFERROR(VLOOKUP(AE44,Tabelas!B:D,3,0),0),\"\")","v":0},{"$f":"IF(A44<>\"\",IFERROR(VLOOKUP(AF44,Tabelas!B:D,3,0),0),\"\")","v":0},{"$f":"IF(A44<>\"\",IFERROR(VLOOKUP(AG44,Tabelas!B:D,3,0),0),\"\")","v":0},{"$f":"IF(A44<>\"\",IFERROR(VLOOKUP(AH44,Tabelas!B:D,3,0),0),\"\")","v":0},{"$f":"IF(A44<>\"\",IFERROR(VLOOKUP(AI44,Tabelas!B:D,3,0),0),\"\")","v":0},{"$f":"IF(A44<>\"\",IFERROR(VLOOKUP(AJ44,Tabelas!B:D,3,0),0),\"\")","v":0},{"$f":"IF(A44<>\"\",IFERROR(VLOOKUP(AK44,Tabelas!B:D,3,0),0),\"\")","v":0},{"$f":"IF(A44<>\"\",IFERROR(VLOOKUP(AL44,Tabelas!B:D,3,0),0),\"\")","v":0},{"$f":"IF(A44<>\"\",IFERROR(VLOOKUP(AM44,Tabelas!B:D,3,0),0),\"\")","v":0},{"$f":"IF(A44<>\"\",IFERROR(VLOOKUP(AN44,Tabelas!B:D,3,0),0),\"\")","v":0},{"$f":"IF(A44<>\"\",IFERROR(VLOOKUP(AO44,Tabelas!B:D,3,0),0),\"\")","v":0},{"$f":"IF(A44<>\"\",IFERROR(VLOOKUP(AP44,Tabelas!B:D,3,0),0),\"\")","v":0},{"$f":"IF(A44<>\"\",IFERROR(VLOOKUP(AQ44,Tabelas!B:D,3,0),0),\"\")","v":0},{"$f":"IF(A44<>\"\",IFERROR(VLOOKUP(AR44,Tabelas!B:D,3,0),0),\"\")","v":0},0,0,0,0,0,0,0,0,0]
["Izabel F. Pauli",2246833,331788,"TE ","RJU",30,null,null,null,null,null,null,null,"FE","FE","FE","FE","FE","FE","FE","FE","FE","FE","D2","FO","FO","D2","FO","FO","D2","FO","FO","D2","FO","FO","D2","FO","FO","D2","FO","FO",null,null,null,{"$f":"IF(A45<>\"\",IFERROR(VLOOKUP(N45,Tabelas!B:D,3,0),0),\"\")","v":0},{"$f":"IF(A45<>\"\",IFERROR(VLOOKUP(O45,Tabelas!B:D,3,0),0),\"\")","v":0},{"$f":"IF(A45<>\"\",IFERROR(VLOOKUP(P45,Tabelas!B:D,3,0),0),\"\")","v":0},{"$f":"IF(A45<>\"\",IFERROR(VLOOKUP(Q45,Tabelas!B:D,3,0),0),\"\")","v":0},{"$f":"IF(A45<>\"\",IFERROR(VLOOKUP(R45,Tabelas!B:D,3,0),0),\"\")","v":0},{"$f":"IF(A45<>\"\",IFERROR(VLOOKUP(S45,Tabelas!B:D,3,0),0),\"\")","v":0},{"$f":"IF(A45<>\"\",IFERROR(VLOOKUP(T45,Tabelas!B:D,3,0),0),\"\")","v":0},{"$f":"IF(A45<>\"\",IFERROR(VLOOKUP(U45,Tabelas!B:D,3,0),0),\"\")","v":0},{"$f":"IF(A45<>\"\",IFERROR(VLOOKUP(V45,Tabelas!B:D,3,0),0),\"\")","v":0},{"$f":"IF(A45<>\"\",IFERROR(VLOOKUP(W45,Tabelas!B:D,3,0),0),\"\")","v":0},{"$f":"IF(A45<>\"\",IFERROR(VLOOKUP(X45,Tabelas!B:D,3,0),0),\"\")","v":12},{"$f":"IF(A45<>\"\",IFERROR(VLOOKUP(Y45,Tabelas!B:D,3,0),0),\"\")","v":0},{"$f":"IF(A45<>\"\",IFERROR(VLOOKUP(Z45,Tabelas!B:D,3,0),0),\"\")","v":0},{"$f":"IF(A45<>\"\",IFERROR(VLOOKUP(AA45,Tabelas!B:D,3,0),0),\"\")","v":12},{"$f":"IF(A45<>\"\",IFERROR(VLOOKUP(AB45,Tabelas!B:D,3,0),0),\"\")","v":0},{"$f":"IF(A45<>\"\",IFERROR(VLOOKUP(AC45,Tabelas!B:D,3,0),0),\"\")","v":0},{"$f":"IF(A45<>\"\",IFERROR(VLOOKUP(AD45,Tabelas!B:D,3,0),0),\"\")","v":12},{"$f":"IF(A45<>\"\",IFERROR(VLOOKUP(AE45,Tabelas!B:D,3,0),0),\"\")","v":0},{"$f":"IF(A45<>\"\",IFERROR(VLOOKUP(AF45,Tabelas!B:D,3,0),0),\"\")","v":0},{"$f":"IF(A45<>\"\",IFERROR(VLOOKUP(AG45,Tabelas!B:D,3,0),0),\"\")","v":12},{"$f":"IF(A45<>\"\",IFERROR(VLOOKUP(AH45,Tabelas!B:D,3,0),0),\"\")","v":0},{"$f":"IF(A45<>\"\",IFERROR(VLOOKUP(AI45,Tabelas!B:D,3,0),0),\"\")","v":0},{"$f":"IF(A45<>\"\",IFERROR(VLOOKUP(AJ45,Tabelas!B:D,3,0),0),\"\")","v":12},{"$f":"IF(A45<>\"\",IFERROR(VLOOKUP(AK45,Tabelas!B:D,3,0),0),\"\")","v":0},{"$f":"IF(A45<>\"\",IFERROR(VLOOKUP(AL45,Tabelas!B:D,3,0),0),\"\")","v":0},{"$f":"IF(A45<>\"\",IFERROR(VLOOKUP(AM45,Tabelas!B:D,3,0),0),\"\")","v":12},{"$f":"IF(A45<>\"\",IFERROR(VLOOKUP(AN45,Tabelas!B:D,3,0),0),\"\")","v":0},{"$f":"IF(A45<>\"\",IFERROR(VLOOKUP(AO45,Tabelas!B:D,3,0),0),\"\")","v":0},{"$f":"IF(A45<>\"\",IFERROR(VLOOKUP(AP45,Tabelas!B:D,3,0),0),\"\")","v":0},{"$f":"IF(A45<>\"\",IFERROR(VLOOKUP(AQ45,Tabelas!B:D,3,0),0),\"\")","v":0},{"$f":"IF(A45<>\"\",IFERROR(VLOOKUP(AR45,Tabelas!B:D,3,0),0),\"\")","v":0},{"$f":"IF(A45<>\"\",SUM(AS45:BW45),\"\")","v":72},{"$f":"IF(A45<>\"\",COUNTIF(N45:AR45,\"LM\")+COUNTIF(N45:AR45,\"L\"),\"\")+COUNTIF(N45:AR45,\"LP\")","v":0},{"$f":"IF(A45<>\"\",COUNTIF(N45:AR45,\"AB\"),\"\")","v":0},{"$f":"IF(A45<>\"\",COUNTIF(N45:AR45,\"FE\"),\"\")","v":10},{"$f":"IF(A45<>\"\",COUNTIF(N45:AR45,\"LC\"),\"\")","v":0},{"$f":"IF(A45<>\"\",COUNTIF(N45:AR45,\"CE\"),\"\")","v":0},{"$f":"IF(A45<>\"\",COUNTIF(N45:AR45,\"AF1\")+COUNTIF(N45:AR45,\"AF2\")+COUNTIF(N45:AR45,\"AF3\")+COUNTIF(N45:AR45,\"AF4\")+COUNTIF(N45:AR45,\"AF5\")+COUNTIF(N45:AR45,\"AF6\")+COUNTIF(N45:AR45,\"AF7\")+COUNTIF(N45:AR45,\"AF8\")+COUNTIF(N45:AR45,\"AF9\")+COUNTIF(N45:AR45,\"AF10\")+COUNTIF(N45:AR45,\"AF11\")+COUNTIF(N45:AR45,\"AF12\")+COUNTIF(N45:AR45,\"AF13\")+COUNTIF(N45:AR45,\"AF14\"),\"\")","v":0},{"$f":"IF(A45<>\"\",COUNTIF(N45:AR45,\"CE\")+COUNTIF(N45:AR45,\"L\")+COUNTIF(N45:AR45,\"LM\")+COUNTIF(N45:AR45,\"LP\")+COUNTIF(N45:AR45,\"LC\")+COUNTIF(N45:AR45,\"AB\")+COUNTIF(N45:AR45,\"AF1\")+COUNTIF(N45:AR45,\"AF2\")+COUNTIF(N45:AR45,\"AF3\")+COUNTIF(N45:AR45,\"AF4\")+COUNTIF(N45:AR45,\"AF5\")+COUNTIF(N45:AR45,\"AF6\")+COUNTIF(N45:AR45,\"AF7\")+COUNTIF(N45:AR45,\"AF8\")+COUNTIF(N45:AR45,\"AF9\")+COUNTIF(N45:AR45,\"AF10\")+COUNTIF(N45:AR45,\"AF11\")+COUNTIF(N45:AR45,\"AF12\")+COUNTIF(N45:AR45,\"AF13\")+COUNTIF(N45:AR45,\"AF14\")+COUNTIF(N45:AR45,\"RC\")+COUNTIF(N45:AR45,\"FO\")+COUNTIF(N45:AR45,\"FE\"),\"\")","v":22},{"$f":"IF(A45<>\"\",COUNTIF(N45:AR45,\"APH\"),\"\")","v":0}]
["Zuleide F. Medeiros",2081427,355970,"TE ","RJU",30,null,null,null,null,null,null,null,"FO","D2","FO","FO","D2","FO","FO","D2","FO","FO","D2","FO","FO","D2","FO","FO","D2","FO","FO","D2","FO","FO","D2","FO","FO","D2","FO","FO",null,null,null,{"$f":"IF(A46<>\"\",IFERROR(VLOOKUP(N46,Tabelas!B:D,3,0),0),\"\")","v":0},{"$f":"IF(A46<>\"\",IFERROR(VLOOKUP(O46,Tabelas!B:D,3,0),0),\"\")","v":12},{"$f":"IF(A46<>\"\",IFERROR(VLOOKUP(P46,Tabelas!B:D,3,0),0),\"\")","v":0},{"$f":"IF(A46<>\"\",IFERROR(VLOOKUP(Q46,Tabelas!B:D,3,0),0),\"\")","v":0},{"$f":"IF(A46<>\"\",IFERROR(VLOOKUP(R46,Tabelas!B:D,3,0),0),\"\")","v":12},{"$f":"IF(A46<>\"\",IFERROR(VLOOKUP(S46,Tabelas!B:D,3,0),0),\"\")","v":0},{"$f":"IF(A46<>\"\",IFERROR(VLOOKUP(T46,Tabelas!B:D,3,0),0),\"\")","v":0},{"$f":"IF(A46<>\"\",IFERROR(VLOOKUP(U46,Tabelas!B:D,3,0),0),\"\")","v":12},{"$f":"IF(A46<>\"\",IFERROR(VLOOKUP(V46,Tabelas!B:D,3,0),0),\"\")","v":0},{"$f":"IF(A46<>\"\",IFERROR(VLOOKUP(W46,Tabelas!B:D,3,0),0),\"\")","v":0},{"$f":"IF(A46<>\"\",IFERROR(VLOOKUP(X46,Tabelas!B:D,3,0),0),\"\")","v":12},{"$f":"IF(A46<>\"\",IFERROR(VLOOKUP(Y46,Tabelas!B:D,3,0),0),\"\")","v":0},{"$f":"IF(A46<>\"\",IFERROR(VLOOKUP(Z46,Tabelas!B:D,3,0),0),\"\")","v":0},{"$f":"IF(A46<>\"\",IFERROR(VLOOKUP(AA46,Tabelas!B:D,3,0),0),\"\")","v":12},{"$f":"IF(A46<>\"\",IFERROR(VLOOKUP(AB46,Tabelas!B:D,3,0),0),\"\")","v":0},{"$f":"IF(A46<>\"\",IFERROR(VLOOKUP(AC46,Tabelas!B:D,3,0),0),\"\")","v":0},{"$f":"IF(A46<>\"\",IFERROR(VLOOKUP(AD46,Tabelas!B:D,3,0),0),\"\")","v":12},{"$f":"IF(A46<>\"\",IFERROR(VLOOKUP(AE46,Tabelas!B:D,3,0),0),\"\")","v":0},{"$f":"IF(A46<>\"\",IFERROR(VLOOKUP(AF46,Tabelas!B:D,3,0),0),\"\")","v":0},{"$f":"IF(A46<>\"\",IFERROR(VLOOKUP(AG46,Tabelas!B:D,3,0),0),\"\")","v":12},{"$f":"IF(A46<>\"\",IFERROR(VLOOKUP(AH46,Tabelas!B:D,3,0),0),\"\")","v":0},{"$f":"IF(A46<>\"\",IFERROR(VLOOKUP(AI46,Tabelas!B:D,3,0),0),\"\")","v":0},{"$f":"IF(A46<>\"\",IFERROR(VLOOKUP(AJ46,Tabelas!B:D,3,0),0),\"\")","v":12},{"$f":"IF(A46<>\"\",IFERROR(VLOOKUP(AK46,Tabelas!B:D,3,0),0),\"\")","v":0},{"$f":"IF(A46<>\"\",IFERROR(VLOOKUP(AL46,Tabelas!B:D,3,0),0),\"\")","v":0},{"$f":"IF(A46<>\"\",IFERROR(VLOOKUP(AM46,Tabelas!B:D,3,0),0),\"\")","v":12},{"$f":"IF(A46<>\"\",IFERROR(VLOOKUP(AN46,Tabelas!B:D,3,0),0),\"\")","v":0},{"$f":"IF(A46<>\"\",IFERROR(VLOOKUP(AO46,Tabelas!B:D,3,0),0),\"\")","v":0},{"$f":"IF(A46<>\"\",IFERROR(VLOOKUP(AP46,Tabelas!B:D,3,0),0),\"\")","v":0},{"$f":"IF(A46<>\"\",IFERROR(VLOOKUP(AQ46,Tabelas!B:D,3,0),0),\"\")","v":0},{"$f":"IF(A46<>\"\",IFERROR(VLOOKUP(AR46,Tabelas!B:D,3,0),0),\"\")","v":0},108,0,{"$f":"IF(A46<>\"\",COUNTIF(N46:AR46,\"AB\"),\"\")","v":0},{"$f":"IF(A46<>\"\",COUNTIF(N46:AR46,\"FE\"),\"\")","v":0},{"$f":"IF(A46<>\"\",COUNTIF(N46:AR46,\"LC\"),\"\")","v":0},{"$f":"IF(A46<>\"\",COUNTIF(N46:AR46,\"CE\"),\"\")","v":0},0,19,0]
["Lisiane M. dias",100412,693015,"TE ","FAPEU",44,null,null,null,null,null,null,null,"FO","D2","FO","FO","D2","D2","FO","D2","FO","FO","D2","M6","FO","D2","FO","FO","D2","D2","FO","D2","FO","D2","FO","D2","FO","D2","FO","D2",null,null,null,{"$f":"IF(A47<>\"\",IFERROR(VLOOKUP(N47,Tabelas!B:D,3,0),0),\"\")","v":0},{"$f":"IF(A47<>\"\",IFERROR(VLOOKUP(O47,Tabelas!B:D,3,0),0),\"\")","v":12},{"$f":"IF(A47<>\"\",IFERROR(VLOOKUP(P47,Tabelas!B:D,3,0),0),\"\")","v":0},{"$f":"IF(A47<>\"\",IFERROR(VLOOKUP(Q47,Tabelas!B:D,3,0),0),\"\")","v":0},{"$f":"IF(A47<>\"\",IFERROR(VLOOKUP(R47,Tabelas!B:D,3,0),0),\"\")","v":12},{"$f":"IF(A47<>\"\",IFERROR(VLOOKUP(S47,Tabelas!B:D,3,0),0),\"\")","v":12},{"$f":"IF(A47<>\"\",IFERROR(VLOOKUP(T47,Tabelas!B:D,3,0),0),\"\")","v":0},{"$f":"IF(A47<>\"\",IFERROR(VLOOKUP(U47,Tabelas!B:D,3,0),0),\"\")","v":12},{"$f":"IF(A47<>\"\",IFERROR(VLOOKUP(V47,Tabelas!B:D,3,0),0),\"\")","v":0},{"$f":"IF(A47<>\"\",IFERROR(VLOOKUP(W47,Tabelas!B:D,3,0),0),\"\")","v":0},{"$f":"IF(A47<>\"\",IFERROR(VLOOKUP(X47,Tabelas!B:D,3,0),0),\"\")","v":12},{"$f":"IF(A47<>\"\",IFERROR(VLOOKUP(Y47,Tabelas!B:D,3,0),0),\"\")","v":6},{"$f":"IF(A47<>\"\",IFERROR(VLOOKUP(Z47,Tabelas!B:D,3,0),0),\"\")","v":0},{"$f":"IF(A47<>\"\",IFERROR(VLOOKUP(AA47,Tabelas!B:D,3,0),0),\"\")","v":12},{"$f":"IF(A47<>\"\",IFERROR(VLOOKUP(AB47,Tabelas!B:D,3,0),0),\"\")","v":0},{"$f":"IF(A47<>\"\",IFERROR(VLOOKUP(AC47,Tabelas!B:D,3,0),0),\"\")","v":0},{"$f":"IF(A47<>\"\",IFERROR(VLOOKUP(AD47,Tabelas!B:D,3,0),0),\"\")","v":12},{"$f":"IF(A47<>\"\",IFERROR(VLOOKUP(AE47,Tabelas!B:D,3,0),0),\"\")","v":12},{"$f":"IF(A47<>\"\",IFERROR(VLOOKUP(AF47,Tabelas!B:D,3,0),0),\"\")","v":0},{"$f":"IF(A47<>\"\",IFERROR(VLOOKUP(AG47,Tabelas!B:D,3,0),0),\"\")","v":12},{"$f":"IF(A47<>\"\",IFERROR(VLOOKUP(AH47,Tabelas!B:D,3,0),0),\"\")","v":0},{"$f":"IF(A47<>\"\",IFERROR(VLOOKUP(AI47,Tabelas!B:D,3,0),0),\"\")","v":12},{"$f":"IF(A47<>\"\",IFERROR(VLOOKUP(AJ47,Tabelas!B:D,3,0),0),\"\")","v":0},{"$f":"IF(A47<>\"\",IFERROR(VLOOKUP(AK47,Tabelas!B:D,3,0),0),\"\")","v":12},{"$f":"IF(A47<>\"\",IFERROR(VLOOKUP(AL47,Tabelas!B:D,3,0),0),\"\")","v":0},{"$f":"IF(A47<>\"\",IFERROR(VLOOKUP(AM47,Tabelas!B:D,3,0),0),\"\")","v":12},{"$f":"IF(A47<>\"\",IFERROR(VLOOKUP(AN47,Tabelas!B:D,3,0),0),\"\")","v":0},{"$f":"IF(A47<>\"\",IFERROR(VLOOKUP(AO47,Tabelas!B:D,3,0),0),\"\")","v":12},{"$f":"IF(A47<>\"\",IFERROR(VLOOKUP(AP47,Tabelas!B:D,3,0),0),\"\")","v":0},{"$f":"IF(A47<>\"\",IFERROR(VLOOKUP(AQ47,Tabelas!B:D,3,0),0),\"\")","v":0},{"$f":"IF(A47<>\"\",IFERROR(VLOOKUP(AR47,Tabelas!B:D,3,0),0),\"\")","v":0},162,0,{"$f":"IF(A47<>\"\",COUNTIF(N47:AR47,\"AB\"),\"\")","v":0},{"$f":"IF(A47<>\"\",COUNTIF(N47:AR47,\"FE\"),\"\")","v":0},{"$f":"IF(A47<>\"\",COUNTIF(N47:AR47,\"LC\"),\"\")","v":0},{"$f":"IF(A47<>\"\",COUNTIF(N47:AR47,\"CE\"),\"\")","v":0},0,14,0]
["Leticia B. Zanotti",1320088,1246757,"TE ","Ebserh",36,null,null,null,null,null,null,null,"FO","D2","FO","FO","D2","FO","FO","D2","FO","FO","D2","FO","D2","D2","FO","FO","D2","FO","D2","FO","D2","FO","D2","FO","FO","D2","D2","FO",null,null,null,{"$f":"IF(A48<>\"\",IFERROR(VLOOKUP(N48,Tabelas!B:D,3,0),0),\"\")","v":0},{"$f":"IF(A48<>\"\",IFERROR(VLOOKUP(O48,Tabelas!B:D,3,0),0),\"\")","v":12},{"$f":"IF(A48<>\"\",IFERROR(VLOOKUP(P48,Tabelas!B:D,3,0),0),\"\")","v":0},{"$f":"IF(A48<>\"\",IFERROR(VLOOKUP(Q48,Tabelas!B:D,3,0),0),\"\")","v":0},{"$f":"IF(A48<>\"\",IFERROR(VLOOKUP(R48,Tabelas!B:D,3,0),0),\"\")","v":12},{"$f":"IF(A48<>\"\",IFERROR(VLOOKUP(S48,Tabelas!B:D,3,0),0),\"\")","v":0},{"$f":"IF(A48<>\"\",IFERROR(VLOOKUP(T48,Tabelas!B:D,3,0),0),\"\")","v":0},{"$f":"IF(A48<>\"\",IFERROR(VLOOKUP(U48,Tabelas!B:D,3,0),0),\"\")","v":12},{"$f":"IF(A48<>\"\",IFERROR(VLOOKUP(V48,Tabelas!B:D,3,0),0),\"\")","v":0},{"$f":"IF(A48<>\"\",IFERROR(VLOOKUP(W48,Tabelas!B:D,3,0),0),\"\")","v":0},{"$f":"IF(A48<>\"\",IFERROR(VLOOKUP(X48,Tabelas!B:D,3,0),0),\"\")","v":12},{"$f":"IF(A48<>\"\",IFERROR(VLOOKUP(Y48,Tabelas!B:D,3,0),0),\"\")","v":0},{"$f":"IF(A48<>\"\",IFERROR(VLOOKUP(Z48,Tabelas!B:D,3,0),0),\"\")","v":12},{"$f":"IF(A48<>\"\",IFERROR(VLOOKUP(AA48,Tabelas!B:D,3,0),0),\"\")","v":12},{"$f":"IF(A48<>\"\",IFERROR(VLOOKUP(AB48,Tabelas!B:D,3,0),0),\"\")","v":0},{"$f":"IF(A48<>\"\",IFERROR(VLOOKUP(AC48,Tabelas!B:D,3,0),0),\"\")","v":0},{"$f":"IF(A48<>\"\",IFERROR(VLOOKUP(AD48,Tabelas!B:D,3,0),0),\"\")","v":12},{"$f":"IF(A48<>\"\",IFERROR(VLOOKUP(AE48,Tabelas!B:D,3,0),0),\"\")","v":0},{"$f":"IF(A48<>\"\",IFERROR(VLOOKUP(AF48,Tabelas!B:D,3,0),0),\"\")","v":12},{"$f":"IF(A48<>\"\",IFERROR(VLOOKUP(AG48,Tabelas!B:D,3,0),0),\"\")","v":0},{"$f":"IF(A48<>\"\",IFERROR(VLOOKUP(AH48,Tabelas!B:D,3,0),0),\"\")","v":12},{"$f":"IF(A48<>\"\",IFERROR(VLOOKUP(AI48,Tabelas!B:D,3,0),0),\"\")","v":0},{"$f":"IF(A48<>\"\",IFERROR(VLOOKUP(AJ48,Tabelas!B:D,3,0),0),\"\")","v":12},{"$f":"IF(A48<>\"\",IFERROR(VLOOKUP(AK48,Tabelas!B:D,3,0),0),\"\")","v":0},{"$f":"IF(A48<>\"\",IFERROR(VLOOKUP(AL48,Tabelas!B:D,3,0),0),\"\")","v":0},{"$f":"IF(A48<>\"\",IFERROR(VLOOKUP(AM48,Tabelas!B:D,3,0),0),\"\")","v":12},{"$f":"IF(A48<>\"\",IFERROR(VLOOKUP(AN48,Tabelas!B:D,3,0),0),\"\")","v":12},{"$f":"IF(A48<>\"\",IFERROR(VLOOKUP(AO48,Tabelas!B:D,3,0),0),\"\")","v":0},{"$f":"IF(A48<>\"\",IFERROR(VLOOKUP(AP48,Tabelas!B:D,3,0),0),\"\")","v":0},{"$f":"IF(A48<>\"\",IFERROR(VLOOKUP(AQ48,Tabelas!B:D,3,0),0),\"\")","v":0},{"$f":"IF(A48<>\"\",IFERROR(VLOOKUP(AR48,Tabelas!B:D,3,0),0),\"\")","v":0},{"$f":"IF(A48<>\"\",SUM(AS48:BW48),\"\")","v":144},{"$f":"IF(A48<>\"\",COUNTIF(N48:AR48,\"LM\")+COUNTIF(N48:AR48,\"L\"),\"\")+COUNTIF(N48:AR48,\"LP\")","v":0},0,0,0,0,{"$f":"IF(A48<>\"\",COUNTIF(N48:AR48,\"AF1\")+COUNTIF(N48:AR48,\"AF2\")+COUNTIF(N48:AR48,\"AF3\")+COUNTIF(N48:AR48,\"AF4\")+COUNTIF(N48:AR48,\"AF5\")+COUNTIF(N48:AR48,\"AF6\")+COUNTIF(N48:AR48,\"AF7\")+COUNTIF(N48:AR48,\"AF8\")+COUNTIF(N48:AR48,\"AF9\")+COUNTIF(N48:AR48,\"AF10\")+COUNTIF(N48:AR48,\"AF11\")+COUNTIF(N48:AR48,\"AF12\")+COUNTIF(N48:AR48,\"AF13\")+COUNTIF(N48:AR48,\"AF14\"),\"\")","v":0},{"$f":"IF(A48<>\"\",COUNTIF(N48:AR48,\"CE\")+COUNTIF(N48:AR48,\"L\")+COUNTIF(N48:AR48,\"LM\")+COUNTIF(N48:AR48,\"LP\")+COUNTIF(N48:AR48,\"LC\")+COUNTIF(N48:AR48,\"AB\")+COUNTIF(N48:AR48,\"AF1\")+COUNTIF(N48:AR48,\"AF2\")+COUNTIF(N48:AR48,\"AF3\")+COUNTIF(N48:AR48,\"AF4\")+COUNTIF(N48:AR48,\"AF5\")+COUNTIF(N48:AR48,\"AF6\")+COUNTIF(N48:AR48,\"AF7\")+COUNTIF(N48:AR48,\"AF8\")+COUNTIF(N48:AR48,\"AF9\")+COUNTIF(N48:AR48,\"AF10\")+COUNTIF(N48:AR48,\"AF11\")+COUNTIF(N48:AR48,\"AF12\")+COUNTIF(N48:AR48,\"AF13\")+COUNTIF(N48:AR48,\"AF14\")+COUNTIF(N48:AR48,\"RC\")+COUNTIF(N48:AR48,\"FO\")+COUNTIF(N48:AR48,\"FE\"),\"\")","v":16},{"$f":"IF(A48<>\"\",COUNTIF(N48:AR48,\"APH\"),\"\")","v":0}]
["Amanda Sacramento",3050810,894199,"TE ","Ebserh",36,null,null,null,null,null,null,null,"FO","D2","FO","D2","FO","D2","FO","D2","FO","FO","D2","D2","FO","D2","FO","FO","D2","FO","FO","D2","FO","FO","D2","FO","FO","D2","D2","FO",null,null,null,{"$f":"IF(A49<>\"\",IFERROR(VLOOKUP(N49,Tabelas!B:D,3,0),0),\"\")","v":0},{"$f":"IF(A49<>\"\",IFERROR(VLOOKUP(O49,Tabelas!B:D,3,0),0),\"\")","v":12},{"$f":"IF(A49<>\"\",IFERROR(VLOOKUP(P49,Tabelas!B:D,3,0),0),\"\")","v":0},{"$f":"IF(A49<>\"\",IFERROR(VLOOKUP(Q49,Tabelas!B:D,3,0),0),\"\")","v":12},{"$f":"IF(A49<>\"\",IFERROR(VLOOKUP(R49,Tabelas!B:D,3,0),0),\"\")","v":0},{"$f":"IF(A49<>\"\",IFERROR(VLOOKUP(S49,Tabelas!B:D,3,0),0),\"\")","v":12},{"$f":"IF(A49<>\"\",IFERROR(VLOOKUP(T49,Tabelas!B:D,3,0),0),\"\")","v":0},{"$f":"IF(A49<>\"\",IFERROR(VLOOKUP(U49,Tabelas!B:D,3,0),0),\"\")","v":12},{"$f":"IF(A49<>\"\",IFERROR(VLOOKUP(V49,Tabelas!B:D,3,0),0),\"\")","v":0},{"$f":"IF(A49<>\"\",IFERROR(VLOOKUP(W49,Tabelas!B:D,3,0),0),\"\")","v":0},{"$f":"IF(A49<>\"\",IFERROR(VLOOKUP(X49,Tabelas!B:D,3,0),0),\"\")","v":12},{"$f":"IF(A49<>\"\",IFERROR(VLOOKUP(Y49,Tabelas!B:D,3,0),0),\"\")","v":12},{"$f":"IF(A49<>\"\",IFERROR(VLOOKUP(Z49,Tabelas!B:D,3,0),0),\"\")","v":0},{"$f":"IF(A49<>\"\",IFERROR(VLOOKUP(AA49,Tabelas!B:D,3,0),0),\"\")","v":12},{"$f":"IF(A49<>\"\",IFERROR(VLOOKUP(AB49,Tabelas!B:D,3,0),0),\"\")","v":0},{"$f":"IF(A49<>\"\",IFERROR(VLOOKUP(AC49,Tabelas!B:D,3,0),0),\"\")","v":0},{"$f":"IF(A49<>\"\",IFERROR(VLOOKUP(AD49,Tabelas!B:D,3,0),0),\"\")","v":12},{"$f":"IF(A49<>\"\",IFERROR(VLOOKUP(AE49,Tabelas!B:D,3,0),0),\"\")","v":0},{"$f":"IF(A49<>\"\",IFERROR(VLOOKUP(AF49,Tabelas!B:D,3,0),0),\"\")","v":0},{"$f":"IF(A49<>\"\",IFERROR(VLOOKUP(AG49,Tabelas!B:D,3,0),0),\"\")","v":12},{"$f":"IF(A49<>\"\",IFERROR(VLOOKUP(AH49,Tabelas!B:D,3,0),0),\"\")","v":0},{"$f":"IF(A49<>\"\",IFERROR(VLOOKUP(AI49,Tabelas!B:D,3,0),0),\"\")","v":0},{"$f":"IF(A49<>\"\",IFERROR(VLOOKUP(AJ49,Tabelas!B:D,3,0),0),\"\")","v":12},{"$f":"IF(A49<>\"\",IFERROR(VLOOKUP(AK49,Tabelas!B:D,3,0),0),\"\")","v":0},{"$f":"IF(A49<>\"\",IFERROR(VLOOKUP(AL49,Tabelas!B:D,3,0),0),\"\")","v":0},{"$f":"IF(A49<>\"\",IFERROR(VLOOKUP(AM49,Tabelas!B:D,3,0),0),\"\")","v":12},{"$f":"IF(A49<>\"\",IFERROR(VLOOKUP(AN49,Tabelas!B:D,3,0),0),\"\")","v":12},{"$f":"IF(A49<>\"\",IFERROR(VLOOKUP(AO49,Tabelas!B:D,3,0),0),\"\")","v":0},{"$f":"IF(A49<>\"\",IFERROR(VLOOKUP(AP49,Tabelas!B:D,3,0),0),\"\")","v":0},{"$f":"IF(A49<>\"\",IFERROR(VLOOKUP(AQ49,Tabelas!B:D,3,0),0),\"\")","v":0},{"$f":"IF(A49<>\"\",IFERROR(VLOOKUP(AR49,Tabelas!B:D,3,0),0),\"\")","v":0},{"$f":"IF(A49<>\"\",SUM(AS49:BW49),\"\")","v":144},{"$f":"IF(A49<>\"\",COUNTIF(N49:AR49,\"LM\")+COUNTIF(N49:AR49,\"L\"),\"\")+COUNTIF(N49:AR49,\"LP\")","v":0},0,0,0,0,{"$f":"IF(A49<>\"\",COUNTIF(N49:AR49,\"AF1\")+COUNTIF(N49:AR49,\"AF2\")+COUNTIF(N49:AR49,\"AF3\")+COUNTIF(N49:AR49,\"AF4\")+COUNTIF(N49:AR49,\"AF5\")+COUNTIF(N49:AR49,\"AF6\")+COUNTIF(N49:AR49,\"AF7\")+COUNTIF(N49:AR49,\"AF8\")+COUNTIF(N49:AR49,\"AF9\")+COUNTIF(N49:AR49,\"AF10\")+COUNTIF(N49:AR49,\"AF11\")+COUNTIF(N49:AR49,\"AF12\")+COUNTIF(N49:AR49,\"AF13\")+COUNTIF(N49:AR49,\"AF14\"),\"\")","v":0},{"$f":"IF(A49<>\"\",COUNTIF(N49:AR49,\"CE\")+COUNTIF(N49:AR49,\"L\")+COUNTIF(N49:AR49,\"LM\")+COUNTIF(N49:AR49,\"LP\")+COUNTIF(N49:AR49,\"LC\")+COUNTIF(N49:AR49,\"AB\")+COUNTIF(N49:AR49,\"AF1\")+COUNTIF(N49:AR49,\"AF2\")+COUNTIF(N49:AR49,\"AF3\")+COUNTIF(N49:AR49,\"AF4\")+COUNTIF(N49:AR49,\"AF5\")+COUNTIF(N49:AR49,\"AF6\")+COUNTIF(N49:AR49,\"AF7\")+COUNTIF(N49:AR49,\"AF8\")+COUNTIF(N49:AR49,\"AF9\")+COUNTIF(N49:AR49,\"AF10\")+COUNTIF(N49:AR49,\"AF11\")+COUNTIF(N49:AR49,\"AF12\")+COUNTIF(N49:AR49,\"AF13\")+COUNTIF(N49:AR49,\"AF14\")+COUNTIF(N49:AR49,\"RC\")+COUNTIF(N49:AR49,\"FO\")+COUNTIF(N49:AR49,\"FE\"),\"\")","v":16},{"$f":"IF(A49<>\"\",COUNTIF(N49:AR49,\"APH\"),\"\")","v":0}]
["Mariza Koerich",3011123,187886,"TE ","Ebserh",36,null,null,null,null,null,null,null,"FO","D2","FO","FO","AB","D2","FO","D2","FO","D2","FE","FE","FE","FE","FE","FE","FE","FE","FE","FE","FE","FE","FE","FE","FE","AB","FO","FO",null,null,null,{"$f":"IF(A50<>\"\",IFERROR(VLOOKUP(N50,Tabelas!B:D,3,0),0),\"\")","v":0},{"$f":"IF(A50<>\"\",IFERROR(VLOOKUP(O50,Tabelas!B:D,3,0),0),\"\")","v":12},{"$f":"IF(A50<>\"\",IFERROR(VLOOKUP(P50,Tabelas!B:D,3,0),0),\"\")","v":0},{"$f":"IF(A50<>\"\",IFERROR(VLOOKUP(Q50,Tabelas!B:D,3,0),0),\"\")","v":0},{"$f":"IF(A50<>\"\",IFERROR(VLOOKUP(R50,Tabelas!B:D,3,0),0),\"\")","v":0},{"$f":"IF(A50<>\"\",IFERROR(VLOOKUP(S50,Tabelas!B:D,3,0),0),\"\")","v":12},{"$f":"IF(A50<>\"\",IFERROR(VLOOKUP(T50,Tabelas!B:D,3,0),0),\"\")","v":0},{"$f":"IF(A50<>\"\",IFERROR(VLOOKUP(U50,Tabelas!B:D,3,0),0),\"\")","v":12},{"$f":"IF(A50<>\"\",IFERROR(VLOOKUP(V50,Tabelas!B:D,3,0),0),\"\")","v":0},{"$f":"IF(A50<>\"\",IFERROR(VLOOKUP(W50,Tabelas!B:D,3,0),0),\"\")","v":12},{"$f":"IF(A50<>\"\",IFERROR(VLOOKUP(X50,Tabelas!B:D,3,0),0),\"\")","v":0},{"$f":"IF(A50<>\"\",IFERROR(VLOOKUP(Y50,Tabelas!B:D,3,0),0),\"\")","v":0},{"$f":"IF(A50<>\"\",IFERROR(VLOOKUP(Z50,Tabelas!B:D,3,0),0),\"\")","v":0},{"$f":"IF(A50<>\"\",IFERROR(VLOOKUP(AA50,Tabelas!B:D,3,0),0),\"\")","v":0},{"$f":"IF(A50<>\"\",IFERROR(VLOOKUP(AB50,Tabelas!B:D,3,0),0),\"\")","v":0},{"$f":"IF(A50<>\"\",IFERROR(VLOOKUP(AC50,Tabelas!B:D,3,0),0),\"\")","v":0},{"$f":"IF(A50<>\"\",IFERROR(VLOOKUP(AD50,Tabelas!B:D,3,0),0),\"\")","v":0},{"$f":"IF(A50<>\"\",IFERROR(VLOOKUP(AE50,Tabelas!B:D,3,0),0),\"\")","v":0},{"$f":"IF(A50<>\"\",IFERROR(VLOOKUP(AF50,Tabelas!B:D,3,0),0),\"\")","v":0},{"$f":"IF(A50<>\"\",IFERROR(VLOOKUP(AG50,Tabelas!B:D,3,0),0),\"\")","v":0},{"$f":"IF(A50<>\"\",IFERROR(VLOOKUP(AH50,Tabelas!B:D,3,0),0),\"\")","v":0},{"$f":"IF(A50<>\"\",IFERROR(VLOOKUP(AI50,Tabelas!B:D,3,0),0),\"\")","v":0},{"$f":"IF(A50<>\"\",IFERROR(VLOOKUP(AJ50,Tabelas!B:D,3,0),0),\"\")","v":0},{"$f":"IF(A50<>\"\",IFERROR(VLOOKUP(AK50,Tabelas!B:D,3,0),0),\"\")","v":0},{"$f":"IF(A50<>\"\",IFERROR(VLOOKUP(AL50,Tabelas!B:D,3,0),0),\"\")","v":0},{"$f":"IF(A50<>\"\",IFERROR(VLOOKUP(AM50,Tabelas!B:D,3,0),0),\"\")","v":0},{"$f":"IF(A50<>\"\",IFERROR(VLOOKUP(AN50,Tabelas!B:D,3,0),0),\"\")","v":0},{"$f":"IF(A50<>\"\",IFERROR(VLOOKUP(AO50,Tabelas!B:D,3,0),0),\"\")","v":0},{"$f":"IF(A50<>\"\",IFERROR(VLOOKUP(AP50,Tabelas!B:D,3,0),0),\"\")","v":0},{"$f":"IF(A50<>\"\",IFERROR(VLOOKUP(AQ50,Tabelas!B:D,3,0),0),\"\")","v":0},{"$f":"IF(A50<>\"\",IFERROR(VLOOKUP(AR50,Tabelas!B:D,3,0),0),\"\")","v":0},48,0,{"$f":"IF(A50<>\"\",COUNTIF(N50:AR50,\"AB\"),\"\")","v":2},{"$f":"IF(A50<>\"\",COUNTIF(N50:AR50,\"FE\"),\"\")","v":15},{"$f":"IF(A50<>\"\",COUNTIF(N50:AR50,\"LC\"),\"\")","v":0},{"$f":"IF(A50<>\"\",COUNTIF(N50:AR50,\"CE\"),\"\")","v":0},0,24,0]
["MATUTINO",null,null,null,null,null,null,null,null,null,null,null,null,null,null,null,null,null,null,null,null,null,null,null,null,null,null,null,null,null,null,null,null,null,null,null,null,null,null,null,null,null,null,null,{"$f":"IF(A51<>\"\",IFERROR(VLOOKUP(N51,Tabelas!B:D,3,0),0),\"\")","v":0},{"$f":"IF(A51<>\"\",IFERROR(VLOOKUP(O51,Tabelas!B:D,3,0),0),\"\")","v":0},{"$f":"IF(A51<>\"\",IFERROR(VLOOKUP(P51,Tabelas!B:D,3,0),0),\"\")","v":0},{"$f":"IF(A51<>\"\",IFERROR(VLOOKUP(Q51,Tabelas!B:D,3,0),0),\"\")","v":0},{"$f":"IF(A51<>\"\",IFERROR(VLOOKUP(R51,Tabelas!B:D,3,0),0),\"\")","v":0},{"$f":"IF(A51<>\"\",IFERROR(VLOOKUP(S51,Tabelas!B:D,3,0),0),\"\")","v":0},{"$f":"IF(A51<>\"\",IFERROR(VLOOKUP(T51,Tabelas!B:D,3,0),0),\"\")","v":0},{"$f":"IF(A51<>\"\",IFERROR(VLOOKUP(U51,Tabelas!B:D,3,0),0),\"\")","v":0},{"$f":"IF(A51<>\"\",IFERROR(VLOOKUP(V51,Tabelas!B:D,3,0),0),\"\")","v":0},{"$f":"IF(A51<>\"\",IFERROR(VLOOKUP(W51,Tabelas!B:D,3,0),0),\"\")","v":0},{"$f":"IF(A51<>\"\",IFERROR(VLOOKUP(X51,Tabelas!B:D,3,0),0),\"\")","v":0},{"$f":"IF(A51<>\"\",IFERROR(VLOOKUP(Y51,Tabelas!B:D,3,0),0),\"\")","v":0},{"$f":"IF(A51<>\"\",IFERROR(VLOOKUP(Z51,Tabelas!B:D,3,0),0),\"\")","v":0},{"$f":"IF(A51<>\"\",IFERROR(VLOOKUP(AA51,Tabelas!B:D,3,0),0),\"\")","v":0},{"$f":"IF(A51<>\"\",IFERROR(VLOOKUP(AB51,Tabelas!B:D,3,0),0),\"\")","v":0},{"$f":"IF(A51<>\"\",IFERROR(VLOOKUP(AC51,Tabelas!B:D,3,0),0),\"\")","v":0},{"$f":"IF(A51<>\"\",IFERROR(VLOOKUP(AD51,Tabelas!B:D,3,0),0),\"\")","v":0},{"$f":"IF(A51<>\"\",IFERROR(VLOOKUP(AE51,Tabelas!B:D,3,0),0),\"\")","v":0},{"$f":"IF(A51<>\"\",IFERROR(VLOOKUP(AF51,Tabelas!B:D,3,0),0),\"\")","v":0},{"$f":"IF(A51<>\"\",IFERROR(VLOOKUP(AG51,Tabelas!B:D,3,0),0),\"\")","v":0},{"$f":"IF(A51<>\"\",IFERROR(VLOOKUP(AH51,Tabelas!B:D,3,0),0),\"\")","v":0},{"$f":"IF(A51<>\"\",IFERROR(VLOOKUP(AI51,Tabelas!B:D,3,0),0),\"\")","v":0},{"$f":"IF(A51<>\"\",IFERROR(VLOOKUP(AJ51,Tabelas!B:D,3,0),0),\"\")","v":0},{"$f":"IF(A51<>\"\",IFERROR(VLOOKUP(AK51,Tabelas!B:D,3,0),0),\"\")","v":0},{"$f":"IF(A51<>\"\",IFERROR(VLOOKUP(AL51,Tabelas!B:D,3,0),0),\"\")","v":0},{"$f":"IF(A51<>\"\",IFERROR(VLOOKUP(AM51,Tabelas!B:D,3,0),0),\"\")","v":0},{"$f":"IF(A51<>\"\",IFERROR(VLOOKUP(AN51,Tabelas!B:D,3,0),0),\"\")","v":0},{"$f":"IF(A51<>\"\",IFERROR(VLOOKUP(AO51,Tabelas!B:D,3,0),0),\"\")","v":0},{"$f":"IF(A51<>\"\",IFERROR(VLOOKUP(AP51,Tabelas!B:D,3,0),0),\"\")","v":0},{"$f":"IF(A51<>\"\",IFERROR(VLOOKUP(AQ51,Tabelas!B:D,3,0),0),\"\")","v":0},{"$f":"IF(A51<>\"\",IFERROR(VLOOKUP(AR51,Tabelas!B:D,3,0),0),\"\")","v":0},0,0,{"$f":"IF(A51<>\"\",COUNTIF(N51:AR51,\"AB\"),\"\")","v":0},{"$f":"IF(A51<>\"\",COUNTIF(N51:AR51,\"FE\"),\"\")","v":0},{"$f":"IF(A51<>\"\",COUNTIF(N51:AR51,\"LC\"),\"\")","v":0},{"$f":"IF(A51<>\"\",COUNTIF(N51:AR51,\"CE\"),\"\")","v":0},0,0,0]
["Marta Veloso Souza",3037212,740199,"TE ","Ebserh",36,null,null,null,null,null,null,null,"N2","FO","FO","FO","FO","FO","N2","FO","FO","D2","FO","N2","N2","FO","N2","FO","D2","FO","N2","FO","N2","FO","FO","N2","FO","FO","N2","FO",null,null,null,{"$f":"IF(A52<>\"\",IFERROR(VLOOKUP(N52,Tabelas!B:D,3,0),0),\"\")","v":12},{"$f":"IF(A52<>\"\",IFERROR(VLOOKUP(O52,Tabelas!B:D,3,0),0),\"\")","v":0},{"$f":"IF(A52<>\"\",IFERROR(VLOOKUP(P52,Tabelas!B:D,3,0),0),\"\")","v":0},{"$f":"IF(A52<>\"\",IFERROR(VLOOKUP(Q52,Tabelas!B:D,3,0),0),\"\")","v":0},{"$f":"IF(A52<>\"\",IFERROR(VLOOKUP(R52,Tabelas!B:D,3,0),0),\"\")","v":0},{"$f":"IF(A52<>\"\",IFERROR(VLOOKUP(S52,Tabelas!B:D,3,0),0),\"\")","v":0},{"$f":"IF(A52<>\"\",IFERROR(VLOOKUP(T52,Tabelas!B:D,3,0),0),\"\")","v":12},{"$f":"IF(A52<>\"\",IFERROR(VLOOKUP(U52,Tabelas!B:D,3,0),0),\"\")","v":0},{"$f":"IF(A52<>\"\",IFERROR(VLOOKUP(V52,Tabelas!B:D,3,0),0),\"\")","v":0},{"$f":"IF(A52<>\"\",IFERROR(VLOOKUP(W52,Tabelas!B:D,3,0),0),\"\")","v":12},{"$f":"IF(A52<>\"\",IFERROR(VLOOKUP(X52,Tabelas!B:D,3,0),0),\"\")","v":0},{"$f":"IF(A52<>\"\",IFERROR(VLOOKUP(Y52,Tabelas!B:D,3,0),0),\"\")","v":12},{"$f":"IF(A52<>\"\",IFERROR(VLOOKUP(Z52,Tabelas!B:D,3,0),0),\"\")","v":12},{"$f":"IF(A52<>\"\",IFERROR(VLOOKUP(AA52,Tabelas!B:D,3,0),0),\"\")","v":0},{"$f":"IF(A52<>\"\",IFERROR(VLOOKUP(AB52,Tabelas!B:D,3,0),0),\"\")","v":12},{"$f":"IF(A52<>\"\",IFERROR(VLOOKUP(AC52,Tabelas!B:D,3,0),0),\"\")","v":0},{"$f":"IF(A52<>\"\",IFERROR(VLOOKUP(AD52,Tabelas!B:D,3,0),0),\"\")","v":12},{"$f":"IF(A52<>\"\",IFERROR(VLOOKUP(AE52,Tabelas!B:D,3,0),0),\"\")","v":0},{"$f":"IF(A52<>\"\",IFERROR(VLOOKUP(AF52,Tabelas!B:D,3,0),0),\"\")","v":12},{"$f":"IF(A52<>\"\",IFERROR(VLOOKUP(AG52,Tabelas!B:D,3,0),0),\"\")","v":0},{"$f":"IF(A52<>\"\",IFERROR(VLOOKUP(AH52,Tabelas!B:D,3,0),0),\"\")","v":12},{"$f":"IF(A52<>\"\",IFERROR(VLOOKUP(AI52,Tabelas!B:D,3,0),0),\"\")","v":0},{"$f":"IF(A52<>\"\",IFERROR(VLOOKUP(AJ52,Tabelas!B:D,3,0),0),\"\")","v":0},{"$f":"IF(A52<>\"\",IFERROR(VLOOKUP(AK52,Tabelas!B:D,3,0),0),\"\")","v":12},{"$f":"IF(A52<>\"\",IFERROR(VLOOKUP(AL52,Tabelas!B:D,3,0),0),\"\")","v":0},{"$f":"IF(A52<>\"\",IFERROR(VLOOKUP(AM52,Tabelas!B:D,3,0),0),\"\")","v":0},{"$f":"IF(A52<>\"\",IFERROR(VLOOKUP(AN52,Tabelas!B:D,3,0),0),\"\")","v":12},{"$f":"IF(A52<>\"\",IFERROR(VLOOKUP(AO52,Tabelas!B:D,3,0),0),\"\")","v":0},{"$f":"IF(A52<>\"\",IFERROR(VLOOKUP(AP52,Tabelas!B:D,3,0),0),\"\")","v":0},{"$f":"IF(A52<>\"\",IFERROR(VLOOKUP(AQ52,Tabelas!B:D,3,0),0),\"\")","v":0},{"$f":"IF(A52<>\"\",IFERROR(VLOOKUP(AR52,Tabelas!B:D,3,0),0),\"\")","v":0},{"$f":"IF(A52<>\"\",SUM(AS52:BW52),\"\")","v":132},{"$f":"IF(A52<>\"\",COUNTIF(N52:AR52,\"LM\")+COUNTIF(N52:AR52,\"L\"),\"\")+COUNTIF(N52:AR52,\"LP\")","v":0},{"$f":"IF(A52<>\"\",COUNTIF(N52:AR52,\"AB\"),\"\")","v":0},{"$f":"IF(A52<>\"\",COUNTIF(N52:AR52,\"FE\"),\"\")","v":0},{"$f":"IF(A52<>\"\",COUNTIF(N52:AR52,\"LC\"),\"\")","v":0},{"$f":"IF(A52<>\"\",COUNTIF(N52:AR52,\"CE\"),\"\")","v":0},{"$f":"IF(A52<>\"\",COUNTIF(N52:AR52,\"AF1\")+COUNTIF(N52:AR52,\"AF2\")+COUNTIF(N52:AR52,\"AF3\")+COUNTIF(N52:AR52,\"AF4\")+COUNTIF(N52:AR52,\"AF5\")+COUNTIF(N52:AR52,\"AF6\")+COUNTIF(N52:AR52,\"AF7\")+COUNTIF(N52:AR52,\"AF8\")+COUNTIF(N52:AR52,\"AF9\")+COUNTIF(N52:AR52,\"AF10\")+COUNTIF(N52:AR52,\"AF11\")+COUNTIF(N52:AR52,\"AF12\")+COUNTIF(N52:AR52,\"AF13\")+COUNTIF(N52:AR52,\"AF14\"),\"\")","v":0},{"$f":"IF(A52<>\"\",COUNTIF(N52:AR52,\"CE\")+COUNTIF(N52:AR52,\"L\")+COUNTIF(N52:AR52,\"LM\")+COUNTIF(N52:AR52,\"LP\")+COUNTIF(N52:AR52,\"LC\")+COUNTIF(N52:AR52,\"AB\")+COUNTIF(N52:AR52,\"AF1\")+COUNTIF(N52:AR52,\"AF2\")+COUNTIF(N52:AR52,\"AF3\")+COUNTIF(N52:AR52,\"AF4\")+COUNTIF(N52:AR52,\"AF5\")+COUNTIF(N52:AR52,\"AF6\")+COUNTIF(N52:AR52,\"AF7\")+COUNTIF(N52:AR52,\"AF8\")+COUNTIF(N52:AR52,\"AF9\")+COUNTIF(N52:AR52,\"AF10\")+COUNTIF(N52:AR52,\"AF11\")+COUNTIF(N52:AR52,\"AF12\")+COUNTIF(N52:AR52,\"AF13\")+COUNTIF(N52:AR52,\"AF14\")+COUNTIF(N52:AR52,\"RC\")+COUNTIF(N52:AR52,\"FO\")+COUNTIF(N52:AR52,\"FE\"),\"\")","v":17},{"$f":"IF(A52<>\"\",COUNTIF(N52:AR52,\"APH\"),\"\")","v":0}]
["Rosemeri de Castro",1356699,65295,"TE ","RJU",30,null,null,null,null,null,null,null,"FO","D2","FO","M6","M6","M6","M6","M6","FO","D2","FO","FO","M6","M6","M6","D2","FO","FO","M6","M6","M6","M6","FO","FO","FO","M6","FO","M6",null,null,null,{"$f":"IF(A53<>\"\",IFERROR(VLOOKUP(N53,Tabelas!B:D,3,0),0),\"\")","v":0},{"$f":"IF(A53<>\"\",IFERROR(VLOOKUP(O53,Tabelas!B:D,3,0),0),\"\")","v":12},{"$f":"IF(A53<>\"\",IFERROR(VLOOKUP(P53,Tabelas!B:D,3,0),0),\"\")","v":0},{"$f":"IF(A53<>\"\",IFERROR(VLOOKUP(Q53,Tabelas!B:D,3,0),0),\"\")","v":6},{"$f":"IF(A53<>\"\",IFERROR(VLOOKUP(R53,Tabelas!B:D,3,0),0),\"\")","v":6},{"$f":"IF(A53<>\"\",IFERROR(VLOOKUP(S53,Tabelas!B:D,3,0),0),\"\")","v":6},{"$f":"IF(A53<>\"\",IFERROR(VLOOKUP(T53,Tabelas!B:D,3,0),0),\"\")","v":6},{"$f":"IF(A53<>\"\",IFERROR(VLOOKUP(U53,Tabelas!B:D,3,0),0),\"\")","v":6},{"$f":"IF(A53<>\"\",IFERROR(VLOOKUP(V53,Tabelas!B:D,3,0),0),\"\")","v":0},{"$f":"IF(A53<>\"\",IFERROR(VLOOKUP(W53,Tabelas!B:D,3,0),0),\"\")","v":12},{"$f":"IF(A53<>\"\",IFERROR(VLOOKUP(X53,Tabelas!B:D,3,0),0),\"\")","v":0},{"$f":"IF(A53<>\"\",IFERROR(VLOOKUP(Y53,Tabelas!B:D,3,0),0),\"\")","v":0},{"$f":"IF(A53<>\"\",IFERROR(VLOOKUP(Z53,Tabelas!B:D,3,0),0),\"\")","v":6},{"$f":"IF(A53<>\"\",IFERROR(VLOOKUP(AA53,Tabelas!B:D,3,0),0),\"\")","v":6},{"$f":"IF(A53<>\"\",IFERROR(VLOOKUP(AB53,Tabelas!B:D,3,0),0),\"\")","v":6},{"$f":"IF(A53<>\"\",IFERROR(VLOOKUP(AC53,Tabelas!B:D,3,0),0),\"\")","v":12},{"$f":"IF(A53<>\"\",IFERROR(VLOOKUP(AD53,Tabelas!B:D,3,0),0),\"\")","v":0},{"$f":"IF(A53<>\"\",IFERROR(VLOOKUP(AE53,Tabelas!B:D,3,0),0),\"\")","v":0},{"$f":"IF(A53<>\"\",IFERROR(VLOOKUP(AF53,Tabelas!B:D,3,0),0),\"\")","v":6},{"$f":"IF(A53<>\"\",IFERROR(VLOOKUP(AG53,Tabelas!B:D,3,0),0),\"\")","v":6},{"$f":"IF(A53<>\"\",IFERROR(VLOOKUP(AH53,Tabelas!B:D,3,0),0),\"\")","v":6},{"$f":"IF(A53<>\"\",IFERROR(VLOOKUP(AI53,Tabelas!B:D,3,0),0),\"\")","v":6},{"$f":"IF(A53<>\"\",IFERROR(VLOOKUP(AJ53,Tabelas!B:D,3,0),0),\"\")","v":0},{"$f":"IF(A53<>\"\",IFERROR(VLOOKUP(AK53,Tabelas!B:D,3,0),0),\"\")","v":0},{"$f":"IF(A53<>\"\",IFERROR(VLOOKUP(AL53,Tabelas!B:D,3,0),0),\"\")","v":0},{"$f":"IF(A53<>\"\",IFERROR(VLOOKUP(AM53,Tabelas!B:D,3,0),0),\"\")","v":6},{"$f":"IF(A53<>\"\",IFERROR(VLOOKUP(AN53,Tabelas!B:D,3,0),0),\"\")","v":0},{"$f":"IF(A53<>\"\",IFERROR(VLOOKUP(AO53,Tabelas!B:D,3,0),0),\"\")","v":6},{"$f":"IF(A53<>\"\",IFERROR(VLOOKUP(AP53,Tabelas!B:D,3,0),0),\"\")","v":0},{"$f":"IF(A53<>\"\",IFERROR(VLOOKUP(AQ53,Tabelas!B:D,3,0),0),\"\")","v":0},{"$f":"IF(A53<>\"\",IFERROR(VLOOKUP(AR53,Tabelas!B:D,3,0),0),\"\")","v":0},120,0,{"$f":"IF(A53<>\"\",COUNTIF(N53:AR53,\"AB\"),\"\")","v":0},{"$f":"IF(A53<>\"\",COUNTIF(N53:AR53,\"FE\"),\"\")","v":0},{"$f":"IF(A53<>\"\",COUNTIF(N53:AR53,\"LC\"),\"\")","v":0},{"$f":"IF(A53<>\"\",COUNTIF(N53:AR53,\"CE\"),\"\")","v":0},0,11,0]
["VESPERTINO",null,null,null,null,null,null,null,null,null,null,null,null,null,null,null,null,null,null,null,null,null,null,null,null,null,null,null,null,null,null,null,null,null,null,null,null,null,null,null,null,null,null,null,{"$f":"IF(A54<>\"\",IFERROR(VLOOKUP(N54,Tabelas!B:D,3,0),0),\"\")","v":0},{"$f":"IF(A54<>\"\",IFERROR(VLOOKUP(O54,Tabelas!B:D,3,0),0),\"\")","v":0},{"$f":"IF(A54<>\"\",IFERROR(VLOOKUP(P54,Tabelas!B:D,3,0),0),\"\")","v":0},{"$f":"IF(A54<>\"\",IFERROR(VLOOKUP(Q54,Tabelas!B:D,3,0),0),\"\")","v":0},{"$f":"IF(A54<>\"\",IFERROR(VLOOKUP(R54,Tabelas!B:D,3,0),0),\"\")","v":0},{"$f":"IF(A54<>\"\",IFERROR(VLOOKUP(S54,Tabelas!B:D,3,0),0),\"\")","v":0},{"$f":"IF(A54<>\"\",IFERROR(VLOOKUP(T54,Tabelas!B:D,3,0),0),\"\")","v":0},{"$f":"IF(A54<>\"\",IFERROR(VLOOKUP(U54,Tabelas!B:D,3,0),0),\"\")","v":0},{"$f":"IF(A54<>\"\",IFERROR(VLOOKUP(V54,Tabelas!B:D,3,0),0),\"\")","v":0},{"$f":"IF(A54<>\"\",IFERROR(VLOOKUP(W54,Tabelas!B:D,3,0),0),\"\")","v":0},{"$f":"IF(A54<>\"\",IFERROR(VLOOKUP(X54,Tabelas!B:D,3,0),0),\"\")","v":0},{"$f":"IF(A54<>\"\",IFERROR(VLOOKUP(Y54,Tabelas!B:D,3,0),0),\"\")","v":0},{"$f":"IF(A54<>\"\",IFERROR(VLOOKUP(Z54,Tabelas!B:D,3,0),0),\"\")","v":0},{"$f":"IF(A54<>\"\",IFERROR(VLOOKUP(AA54,Tabelas!B:D,3,0),0),\"\")","v":0},{"$f":"IF(A54<>\"\",IFERROR(VLOOKUP(AB54,Tabelas!B:D,3,0),0),\"\")","v":0},{"$f":"IF(A54<>\"\",IFERROR(VLOOKUP(AC54,Tabelas!B:D,3,0),0),\"\")","v":0},{"$f":"IF(A54<>\"\",IFERROR(VLOOKUP(AD54,Tabelas!B:D,3,0),0),\"\")","v":0},{"$f":"IF(A54<>\"\",IFERROR(VLOOKUP(AE54,Tabelas!B:D,3,0),0),\"\")","v":0},{"$f":"IF(A54<>\"\",IFERROR(VLOOKUP(AF54,Tabelas!B:D,3,0),0),\"\")","v":0},{"$f":"IF(A54<>\"\",IFERROR(VLOOKUP(AG54,Tabelas!B:D,3,0),0),\"\")","v":0},{"$f":"IF(A54<>\"\",IFERROR(VLOOKUP(AH54,Tabelas!B:D,3,0),0),\"\")","v":0},{"$f":"IF(A54<>\"\",IFERROR(VLOOKUP(AI54,Tabelas!B:D,3,0),0),\"\")","v":0},{"$f":"IF(A54<>\"\",IFERROR(VLOOKUP(AJ54,Tabelas!B:D,3,0),0),\"\")","v":0},{"$f":"IF(A54<>\"\",IFERROR(VLOOKUP(AK54,Tabelas!B:D,3,0),0),\"\")","v":0},{"$f":"IF(A54<>\"\",IFERROR(VLOOKUP(AL54,Tabelas!B:D,3,0),0),\"\")","v":0},{"$f":"IF(A54<>\"\",IFERROR(VLOOKUP(AM54,Tabelas!B:D,3,0),0),\"\")","v":0},{"$f":"IF(A54<>\"\",IFERROR(VLOOKUP(AN54,Tabelas!B:D,3,0),0),\"\")","v":0},{"$f":"IF(A54<>\"\",IFERROR(VLOOKUP(AO54,Tabelas!B:D,3,0),0),\"\")","v":0},{"$f":"IF(A54<>\"\",IFERROR(VLOOKUP(AP54,Tabelas!B:D,3,0),0),\"\")","v":0},{"$f":"IF(A54<>\"\",IFERROR(VLOOKUP(AQ54,Tabelas!B:D,3,0),0),\"\")","v":0},{"$f":"IF(A54<>\"\",IFERROR(VLOOKUP(AR54,Tabelas!B:D,3,0),0),\"\")","v":0},0,0,{"$f":"IF(A54<>\"\",COUNTIF(N54:AR54,\"AB\"),\"\")","v":0},{"$f":"IF(A54<>\"\",COUNTIF(N54:AR54,\"FE\"),\"\")","v":0},{"$f":"IF(A54<>\"\",COUNTIF(N54:AR54,\"LC\"),\"\")","v":0},{"$f":"IF(A54<>\"\",COUNTIF(N54:AR54,\"CE\"),\"\")","v":0},0,0,0]
["Izadora Cristina Correa da Silva (nutriz)",3048767,1034709,"TE ","Ebserh",36,null,null,null,null,null,null,null,"FO","FO","D2","T6","T6","T6","T6","T6","FO","FO","T6","T6","T6","T6","T6","D2","FO","FO","T6","T6","T6","T6","D2","FO","T6","T6","T6","T6",null,null,null,{"$f":"IF(A55<>\"\",IFERROR(VLOOKUP(N55,Tabelas!B:D,3,0),0),\"\")","v":0},{"$f":"IF(A55<>\"\",IFERROR(VLOOKUP(O55,Tabelas!B:D,3,0),0),\"\")","v":0},{"$f":"IF(A55<>\"\",IFERROR(VLOOKUP(P55,Tabelas!B:D,3,0),0),\"\")","v":12},{"$f":"IF(A55<>\"\",IFERROR(VLOOKUP(Q55,Tabelas!B:D,3,0),0),\"\")","v":6},{"$f":"IF(A55<>\"\",IFERROR(VLOOKUP(R55,Tabelas!B:D,3,0),0),\"\")","v":6},{"$f":"IF(A55<>\"\",IFERROR(VLOOKUP(S55,Tabelas!B:D,3,0),0),\"\")","v":6},{"$f":"IF(A55<>\"\",IFERROR(VLOOKUP(T55,Tabelas!B:D,3,0),0),\"\")","v":6},{"$f":"IF(A55<>\"\",IFERROR(VLOOKUP(U55,Tabelas!B:D,3,0),0),\"\")","v":6},{"$f":"IF(A55<>\"\",IFERROR(VLOOKUP(V55,Tabelas!B:D,3,0),0),\"\")","v":0},{"$f":"IF(A55<>\"\",IFERROR(VLOOKUP(W55,Tabelas!B:D,3,0),0),\"\")","v":0},{"$f":"IF(A55<>\"\",IFERROR(VLOOKUP(X55,Tabelas!B:D,3,0),0),\"\")","v":6},{"$f":"IF(A55<>\"\",IFERROR(VLOOKUP(Y55,Tabelas!B:D,3,0),0),\"\")","v":6},{"$f":"IF(A55<>\"\",IFERROR(VLOOKUP(Z55,Tabelas!B:D,3,0),0),\"\")","v":6},{"$f":"IF(A55<>\"\",IFERROR(VLOOKUP(AA55,Tabelas!B:D,3,0),0),\"\")","v":6},{"$f":"IF(A55<>\"\",IFERROR(VLOOKUP(AB55,Tabelas!B:D,3,0),0),\"\")","v":6},{"$f":"IF(A55<>\"\",IFERROR(VLOOKUP(AC55,Tabelas!B:D,3,0),0),\"\")","v":12},{"$f":"IF(A55<>\"\",IFERROR(VLOOKUP(AD55,Tabelas!B:D,3,0),0),\"\")","v":0},{"$f":"IF(A55<>\"\",IFERROR(VLOOKUP(AE55,Tabelas!B:D,3,0),0),\"\")","v":0},{"$f":"IF(A55<>\"\",IFERROR(VLOOKUP(AF55,Tabelas!B:D,3,0),0),\"\")","v":6},{"$f":"IF(A55<>\"\",IFERROR(VLOOKUP(AG55,Tabelas!B:D,3,0),0),\"\")","v":6},{"$f":"IF(A55<>\"\",IFERROR(VLOOKUP(AH55,Tabelas!B:D,3,0),0),\"\")","v":6},{"$f":"IF(A55<>\"\",IFERROR(VLOOKUP(AI55,Tabelas!B:D,3,0),0),\"\")","v":6},{"$f":"IF(A55<>\"\",IFERROR(VLOOKUP(AJ55,Tabelas!B:D,3,0),0),\"\")","v":12},{"$f":"IF(A55<>\"\",IFERROR(VLOOKUP(AK55,Tabelas!B:D,3,0),0),\"\")","v":0},{"$f":"IF(A55<>\"\",IFERROR(VLOOKUP(AL55,Tabelas!B:D,3,0),0),\"\")","v":6},{"$f":"IF(A55<>\"\",IFERROR(VLOOKUP(AM55,Tabelas!B:D,3,0),0),\"\")","v":6},{"$f":"IF(A55<>\"\",IFERROR(VLOOKUP(AN55,Tabelas!B:D,3,0),0),\"\")","v":6},{"$f":"IF(A55<>\"\",IFERROR(VLOOKUP(AO55,Tabelas!B:D,3,0),0),\"\")","v":6},{"$f":"IF(A55<>\"\",IFERROR(VLOOKUP(AP55,Tabelas!B:D,3,0),0),\"\")","v":0},{"$f":"IF(A55<>\"\",IFERROR(VLOOKUP(AQ55,Tabelas!B:D,3,0),0),\"\")","v":0},{"$f":"IF(A55<>\"\",IFERROR(VLOOKUP(AR55,Tabelas!B:D,3,0),0),\"\")","v":0},144,0,0,0,0,0,0,7,0]
["NOTURNO 1",null,null,null,null,null,null,null,null,null,null,null,null,1,2,3,4,5,6,7,8,9,10,11,12,13,14,15,16,17,18,19,20,21,22,23,24,25,26,27,28,null,null,null,{"$f":"IF(A56<>\"\",IFERROR(VLOOKUP(N56,Tabelas!B:D,3,0),0),\"\")","v":0},{"$f":"IF(A56<>\"\",IFERROR(VLOOKUP(O56,Tabelas!B:D,3,0),0),\"\")","v":0},{"$f":"IF(A56<>\"\",IFERROR(VLOOKUP(P56,Tabelas!B:D,3,0),0),\"\")","v":0},{"$f":"IF(A56<>\"\",IFERROR(VLOOKUP(Q56,Tabelas!B:D,3,0),0),\"\")","v":0},{"$f":"IF(A56<>\"\",IFERROR(VLOOKUP(R56,Tabelas!B:D,3,0),0),\"\")","v":0},{"$f":"IF(A56<>\"\",IFERROR(VLOOKUP(S56,Tabelas!B:D,3,0),0),\"\")","v":0},{"$f":"IF(A56<>\"\",IFERROR(VLOOKUP(T56,Tabelas!B:D,3,0),0),\"\")","v":0},{"$f":"IF(A56<>\"\",IFERROR(VLOOKUP(U56,Tabelas!B:D,3,0),0),\"\")","v":0},{"$f":"IF(A56<>\"\",IFERROR(VLOOKUP(V56,Tabelas!B:D,3,0),0),\"\")","v":0},{"$f":"IF(A56<>\"\",IFERROR(VLOOKUP(W56,Tabelas!B:D,3,0),0),\"\")","v":0},{"$f":"IF(A56<>\"\",IFERROR(VLOOKUP(X56,Tabelas!B:D,3,0),0),\"\")","v":0},{"$f":"IF(A56<>\"\",IFERROR(VLOOKUP(Y56,Tabelas!B:D,3,0),0),\"\")","v":0},{"$f":"IF(A56<>\"\",IFERROR(VLOOKUP(Z56,Tabelas!B:D,3,0),0),\"\")","v":0},{"$f":"IF(A56<>\"\",IFERROR(VLOOKUP(AA56,Tabelas!B:D,3,0),0),\"\")","v":0},{"$f":"IF(A56<>\"\",IFERROR(VLOOKUP(AB56,Tabelas!B:D,3,0),0),\"\")","v":0},{"$f":"IF(A56<>\"\",IFERROR(VLOOKUP(AC56,Tabelas!B:D,3,0),0),\"\")","v":0},{"$f":"IF(A56<>\"\",IFERROR(VLOOKUP(AD56,Tabelas!B:D,3,0),0),\"\")","v":0},{"$f":"IF(A56<>\"\",IFERROR(VLOOKUP(AE56,Tabelas!B:D,3,0),0),\"\")","v":0},{"$f":"IF(A56<>\"\",IFERROR(VLOOKUP(AF56,Tabelas!B:D,3,0),0),\"\")","v":0},{"$f":"IF(A56<>\"\",IFERROR(VLOOKUP(AG56,Tabelas!B:D,3,0),0),\"\")","v":0},{"$f":"IF(A56<>\"\",IFERROR(VLOOKUP(AH56,Tabelas!B:D,3,0),0),\"\")","v":0},{"$f":"IF(A56<>\"\",IFERROR(VLOOKUP(AI56,Tabelas!B:D,3,0),0),\"\")","v":0},{"$f":"IF(A56<>\"\",IFERROR(VLOOKUP(AJ56,Tabelas!B:D,3,0),0),\"\")","v":0},{"$f":"IF(A56<>\"\",IFERROR(VLOOKUP(AK56,Tabelas!B:D,3,0),0),\"\")","v":0},{"$f":"IF(A56<>\"\",IFERROR(VLOOKUP(AL56,Tabelas!B:D,3,0),0),\"\")","v":0},{"$f":"IF(A56<>\"\",IFERROR(VLOOKUP(AM56,Tabelas!B:D,3,0),0),\"\")","v":0},{"$f":"IF(A56<>\"\",IFERROR(VLOOKUP(AN56,Tabelas!B:D,3,0),0),\"\")","v":0},{"$f":"IF(A56<>\"\",IFERROR(VLOOKUP(AO56,Tabelas!B:D,3,0),0),\"\")","v":0},{"$f":"IF(A56<>\"\",IFERROR(VLOOKUP(AP56,Tabelas!B:D,3,0),0),\"\")","v":0},{"$f":"IF(A56<>\"\",IFERROR(VLOOKUP(AQ56,Tabelas!B:D,3,0),0),\"\")","v":0},{"$f":"IF(A56<>\"\",IFERROR(VLOOKUP(AR56,Tabelas!B:D,3,0),0),\"\")","v":0},0,0,0,0,0,0,0,0,0]
["Dartagnan Santos",1822467,249729,"TE ","RJU",30,null,null,null,null,null,null,null,"FO","N2","FO","FO","N2","FO","FO","N2","FO","FO","N2","FO","FO","N2","FO","FO","N2","FO","FO","N2","FO","FO","N2","FO","FO","N2","FO","FO",null,null,null,{"$f":"IF(A57<>\"\",IFERROR(VLOOKUP(N57,Tabelas!B:D,3,0),0),\"\")","v":0},{"$f":"IF(A57<>\"\",IFERROR(VLOOKUP(O57,Tabelas!B:D,3,0),0),\"\")","v":12},{"$f":"IF(A57<>\"\",IFERROR(VLOOKUP(P57,Tabelas!B:D,3,0),0),\"\")","v":0},{"$f":"IF(A57<>\"\",IFERROR(VLOOKUP(Q57,Tabelas!B:D,3,0),0),\"\")","v":0},{"$f":"IF(A57<>\"\",IFERROR(VLOOKUP(R57,Tabelas!B:D,3,0),0),\"\")","v":12},{"$f":"IF(A57<>\"\",IFERROR(VLOOKUP(S57,Tabelas!B:D,3,0),0),\"\")","v":0},{"$f":"IF(A57<>\"\",IFERROR(VLOOKUP(T57,Tabelas!B:D,3,0),0),\"\")","v":0},{"$f":"IF(A57<>\"\",IFERROR(VLOOKUP(U57,Tabelas!B:D,3,0),0),\"\")","v":12},{"$f":"IF(A57<>\"\",IFERROR(VLOOKUP(V57,Tabelas!B:D,3,0),0),\"\")","v":0},{"$f":"IF(A57<>\"\",IFERROR(VLOOKUP(W57,Tabelas!B:D,3,0),0),\"\")","v":0},{"$f":"IF(A57<>\"\",IFERROR(VLOOKUP(X57,Tabelas!B:D,3,0),0),\"\")","v":12},{"$f":"IF(A57<>\"\",IFERROR(VLOOKUP(Y57,Tabelas!B:D,3,0),0),\"\")","v":0},{"$f":"IF(A57<>\"\",IFERROR(VLOOKUP(Z57,Tabelas!B:D,3,0),0),\"\")","v":0},{"$f":"IF(A57<>\"\",IFERROR(VLOOKUP(AA57,Tabelas!B:D,3,0),0),\"\")","v":12},{"$f":"IF(A57<>\"\",IFERROR(VLOOKUP(AB57,Tabelas!B:D,3,0),0),\"\")","v":0},{"$f":"IF(A57<>\"\",IFERROR(VLOOKUP(AC57,Tabelas!B:D,3,0),0),\"\")","v":0},{"$f":"IF(A57<>\"\",IFERROR(VLOOKUP(AD57,Tabelas!B:D,3,0),0),\"\")","v":12},{"$f":"IF(A57<>\"\",IFERROR(VLOOKUP(AE57,Tabelas!B:D,3,0),0),\"\")","v":0},{"$f":"IF(A57<>\"\",IFERROR(VLOOKUP(AF57,Tabelas!B:D,3,0),0),\"\")","v":0},{"$f":"IF(A57<>\"\",IFERROR(VLOOKUP(AG57,Tabelas!B:D,3,0),0),\"\")","v":12},{"$f":"IF(A57<>\"\",IFERROR(VLOOKUP(AH57,Tabelas!B:D,3,0),0),\"\")","v":0},{"$f":"IF(A57<>\"\",IFERROR(VLOOKUP(AI57,Tabelas!B:D,3,0),0),\"\")","v":0},{"$f":"IF(A57<>\"\",IFERROR(VLOOKUP(AJ57,Tabelas!B:D,3,0),0),\"\")","v":12},{"$f":"IF(A57<>\"\",IFERROR(VLOOKUP(AK57,Tabelas!B:D,3,0),0),\"\")","v":0},{"$f":"IF(A57<>\"\",IFERROR(VLOOKUP(AL57,Tabelas!B:D,3,0),0),\"\")","v":0},{"$f":"IF(A57<>\"\",IFERROR(VLOOKUP(AM57,Tabelas!B:D,3,0),0),\"\")","v":12},{"$f":"IF(A57<>\"\",IFERROR(VLOOKUP(AN57,Tabelas!B:D,3,0),0),\"\")","v":0},{"$f":"IF(A57<>\"\",IFERROR(VLOOKUP(AO57,Tabelas!B:D,3,0),0),\"\")","v":0},{"$f":"IF(A57<>\"\",IFERROR(VLOOKUP(AP57,Tabelas!B:D,3,0),0),\"\")","v":0},{"$f":"IF(A57<>\"\",IFERROR(VLOOKUP(AQ57,Tabelas!B:D,3,0),0),\"\")","v":0},{"$f":"IF(A57<>\"\",IFERROR(VLOOKUP(AR57,Tabelas!B:D,3,0),0),\"\")","v":0},108,0,0,0,0,0,0,19,0]
["Elizabeti Czimikoski",1854751,71928,"TE ","RJU",30,null,null,null,null,null,null,null,"FO","N2","FO","FO","N2","FO","FO","N2","FO","FO","N2","FO","FO","N2","FO","FO","N2","FO","FO","N2","FO","FO","N2","FO","FO","N2","FO","FO",null,null,null,{"$f":"IF(A58<>\"\",IFERROR(VLOOKUP(N58,Tabelas!B:D,3,0),0),\"\")","v":0},{"$f":"IF(A58<>\"\",IFERROR(VLOOKUP(O58,Tabelas!B:D,3,0),0),\"\")","v":12},{"$f":"IF(A58<>\"\",IFERROR(VLOOKUP(P58,Tabelas!B:D,3,0),0),\"\")","v":0},{"$f":"IF(A58<>\"\",IFERROR(VLOOKUP(Q58,Tabelas!B:D,3,0),0),\"\")","v":0},{"$f":"IF(A58<>\"\",IFERROR(VLOOKUP(R58,Tabelas!B:D,3,0),0),\"\")","v":12},{"$f":"IF(A58<>\"\",IFERROR(VLOOKUP(S58,Tabelas!B:D,3,0),0),\"\")","v":0},{"$f":"IF(A58<>\"\",IFERROR(VLOOKUP(T58,Tabelas!B:D,3,0),0),\"\")","v":0},{"$f":"IF(A58<>\"\",IFERROR(VLOOKUP(U58,Tabelas!B:D,3,0),0),\"\")","v":12},{"$f":"IF(A58<>\"\",IFERROR(VLOOKUP(V58,Tabelas!B:D,3,0),0),\"\")","v":0},{"$f":"IF(A58<>\"\",IFERROR(VLOOKUP(W58,Tabelas!B:D,3,0),0),\"\")","v":0},{"$f":"IF(A58<>\"\",IFERROR(VLOOKUP(X58,Tabelas!B:D,3,0),0),\"\")","v":12},{"$f":"IF(A58<>\"\",IFERROR(VLOOKUP(Y58,Tabelas!B:D,3,0),0),\"\")","v":0},{"$f":"IF(A58<>\"\",IFERROR(VLOOKUP(Z58,Tabelas!B:D,3,0),0),\"\")","v":0},{"$f":"IF(A58<>\"\",IFERROR(VLOOKUP(AA58,Tabelas!B:D,3,0),0),\"\")","v":12},{"$f":"IF(A58<>\"\",IFERROR(VLOOKUP(AB58,Tabelas!B:D,3,0),0),\"\")","v":0},{"$f":"IF(A58<>\"\",IFERROR(VLOOKUP(AC58,Tabelas!B:D,3,0),0),\"\")","v":0},{"$f":"IF(A58<>\"\",IFERROR(VLOOKUP(AD58,Tabelas!B:D,3,0),0),\"\")","v":12},{"$f":"IF(A58<>\"\",IFERROR(VLOOKUP(AE58,Tabelas!B:D,3,0),0),\"\")","v":0},{"$f":"IF(A58<>\"\",IFERROR(VLOOKUP(AF58,Tabelas!B:D,3,0),0),\"\")","v":0},{"$f":"IF(A58<>\"\",IFERROR(VLOOKUP(AG58,Tabelas!B:D,3,0),0),\"\")","v":12},{"$f":"IF(A58<>\"\",IFERROR(VLOOKUP(AH58,Tabelas!B:D,3,0),0),\"\")","v":0},{"$f":"IF(A58<>\"\",IFERROR(VLOOKUP(AI58,Tabelas!B:D,3,0),0),\"\")","v":0},{"$f":"IF(A58<>\"\",IFERROR(VLOOKUP(AJ58,Tabelas!B:D,3,0),0),\"\")","v":12},{"$f":"IF(A58<>\"\",IFERROR(VLOOKUP(AK58,Tabelas!B:D,3,0),0),\"\")","v":0},{"$f":"IF(A58<>\"\",IFERROR(VLOOKUP(AL58,Tabelas!B:D,3,0),0),\"\")","v":0},{"$f":"IF(A58<>\"\",IFERROR(VLOOKUP(AM58,Tabelas!B:D,3,0),0),\"\")","v":12},{"$f":"IF(A58<>\"\",IFERROR(VLOOKUP(AN58,Tabelas!B:D,3,0),0),\"\")","v":0},{"$f":"IF(A58<>\"\",IFERROR(VLOOKUP(AO58,Tabelas!B:D,3,0),0),\"\")","v":0},{"$f":"IF(A58<>\"\",IFERROR(VLOOKUP(AP58,Tabelas!B:D,3,0),0),\"\")","v":0},{"$f":"IF(A58<>\"\",IFERROR(VLOOKUP(AQ58,Tabelas!B:D,3,0),0),\"\")","v":0},{"$f":"IF(A58<>\"\",IFERROR(VLOOKUP(AR58,Tabelas!B:D,3,0),0),\"\")","v":0},108,0,0,0,0,0,0,19,0]
["Kátia Steinbach",1423018,119656,"TE ","RJU",30,null,null,null,null,null,null,null,"FO","N2","FO","FO","N2","FO","FO","N2","FO","FO","N2","FO","FO","N2","FO","FO","N2","FO","FO","N2","FO","FO","N2","FO","FO","N2","FO","FO",null,null,null,{"$f":"IF(A59<>\"\",IFERROR(VLOOKUP(N59,Tabelas!B:D,3,0),0),\"\")","v":0},{"$f":"IF(A59<>\"\",IFERROR(VLOOKUP(O59,Tabelas!B:D,3,0),0),\"\")","v":12},{"$f":"IF(A59<>\"\",IFERROR(VLOOKUP(P59,Tabelas!B:D,3,0),0),\"\")","v":0},{"$f":"IF(A59<>\"\",IFERROR(VLOOKUP(Q59,Tabelas!B:D,3,0),0),\"\")","v":0},{"$f":"IF(A59<>\"\",IFERROR(VLOOKUP(R59,Tabelas!B:D,3,0),0),\"\")","v":12},{"$f":"IF(A59<>\"\",IFERROR(VLOOKUP(S59,Tabelas!B:D,3,0),0),\"\")","v":0},{"$f":"IF(A59<>\"\",IFERROR(VLOOKUP(T59,Tabelas!B:D,3,0),0),\"\")","v":0},{"$f":"IF(A59<>\"\",IFERROR(VLOOKUP(U59,Tabelas!B:D,3,0),0),\"\")","v":12},{"$f":"IF(A59<>\"\",IFERROR(VLOOKUP(V59,Tabelas!B:D,3,0),0),\"\")","v":0},{"$f":"IF(A59<>\"\",IFERROR(VLOOKUP(W59,Tabelas!B:D,3,0),0),\"\")","v":0},{"$f":"IF(A59<>\"\",IFERROR(VLOOKUP(X59,Tabelas!B:D,3,0),0),\"\")","v":12},{"$f":"IF(A59<>\"\",IFERROR(VLOOKUP(Y59,Tabelas!B:D,3,0),0),\"\")","v":0},{"$f":"IF(A59<>\"\",IFERROR(VLOOKUP(Z59,Tabelas!B:D,3,0),0),\"\")","v":0},{"$f":"IF(A59<>\"\",IFERROR(VLOOKUP(AA59,Tabelas!B:D,3,0),0),\"\")","v":12},{"$f":"IF(A59<>\"\",IFERROR(VLOOKUP(AB59,Tabelas!B:D,3,0),0),\"\")","v":0},{"$f":"IF(A59<>\"\",IFERROR(VLOOKUP(AC59,Tabelas!B:D,3,0),0),\"\")","v":0},{"$f":"IF(A59<>\"\",IFERROR(VLOOKUP(AD59,Tabelas!B:D,3,0),0),\"\")","v":12},{"$f":"IF(A59<>\"\",IFERROR(VLOOKUP(AE59,Tabelas!B:D,3,0),0),\"\")","v":0},{"$f":"IF(A59<>\"\",IFERROR(VLOOKUP(AF59,Tabelas!B:D,3,0),0),\"\")","v":0},{"$f":"IF(A59<>\"\",IFERROR(VLOOKUP(AG59,Tabelas!B:D,3,0),0),\"\")","v":12},{"$f":"IF(A59<>\"\",IFERROR(VLOOKUP(AH59,Tabelas!B:D,3,0),0),\"\")","v":0},{"$f":"IF(A59<>\"\",IFERROR(VLOOKUP(AI59,Tabelas!B:D,3,0),0),\"\")","v":0},{"$f":"IF(A59<>\"\",IFERROR(VLOOKUP(AJ59,Tabelas!B:D,3,0),0),\"\")","v":12},{"$f":"IF(A59<>\"\",IFERROR(VLOOKUP(AK59,Tabelas!B:D,3,0),0),\"\")","v":0},{"$f":"IF(A59<>\"\",IFERROR(VLOOKUP(AL59,Tabelas!B:D,3,0),0),\"\")","v":0},{"$f":"IF(A59<>\"\",IFERROR(VLOOKUP(AM59,Tabelas!B:D,3,0),0),\"\")","v":12},{"$f":"IF(A59<>\"\",IFERROR(VLOOKUP(AN59,Tabelas!B:D,3,0),0),\"\")","v":0},{"$f":"IF(A59<>\"\",IFERROR(VLOOKUP(AO59,Tabelas!B:D,3,0),0),\"\")","v":0},{"$f":"IF(A59<>\"\",IFERROR(VLOOKUP(AP59,Tabelas!B:D,3,0),0),\"\")","v":0},{"$f":"IF(A59<>\"\",IFERROR(VLOOKUP(AQ59,Tabelas!B:D,3,0),0),\"\")","v":0},{"$f":"IF(A59<>\"\",IFERROR(VLOOKUP(AR59,Tabelas!B:D,3,0),0),\"\")","v":0},108,0,0,0,0,0,0,19,0]
["Thayse Schurhaus",1851019,167132,"TE ","RJU",30,null,null,null,null,null,null,null,"FO","N2","FO","FO","N2","FO","FO","N2","FO","FO","N2","FO","FO","N2","FO","FO","N2","FO","FO","N2","FO","FO","N2","FO","FO","N2","FO","FO",null,null,null,{"$f":"IF(A60<>\"\",IFERROR(VLOOKUP(N60,Tabelas!B:D,3,0),0),\"\")","v":0},{"$f":"IF(A60<>\"\",IFERROR(VLOOKUP(O60,Tabelas!B:D,3,0),0),\"\")","v":12},{"$f":"IF(A60<>\"\",IFERROR(VLOOKUP(P60,Tabelas!B:D,3,0),0),\"\")","v":0},{"$f":"IF(A60<>\"\",IFERROR(VLOOKUP(Q60,Tabelas!B:D,3,0),0),\"\")","v":0},{"$f":"IF(A60<>\"\",IFERROR(VLOOKUP(R60,Tabelas!B:D,3,0),0),\"\")","v":12},{"$f":"IF(A60<>\"\",IFERROR(VLOOKUP(S60,Tabelas!B:D,3,0),0),\"\")","v":0},{"$f":"IF(A60<>\"\",IFERROR(VLOOKUP(T60,Tabelas!B:D,3,0),0),\"\")","v":0},{"$f":"IF(A60<>\"\",IFERROR(VLOOKUP(U60,Tabelas!B:D,3,0),0),\"\")","v":12},{"$f":"IF(A60<>\"\",IFERROR(VLOOKUP(V60,Tabelas!B:D,3,0),0),\"\")","v":0},{"$f":"IF(A60<>\"\",IFERROR(VLOOKUP(W60,Tabelas!B:D,3,0),0),\"\")","v":0},{"$f":"IF(A60<>\"\",IFERROR(VLOOKUP(X60,Tabelas!B:D,3,0),0),\"\")","v":12},{"$f":"IF(A60<>\"\",IFERROR(VLOOKUP(Y60,Tabelas!B:D,3,0),0),\"\")","v":0},{"$f":"IF(A60<>\"\",IFERROR(VLOOKUP(Z60,Tabelas!B:D,3,0),0),\"\")","v":0},{"$f":"IF(A60<>\"\",IFERROR(VLOOKUP(AA60,Tabelas!B:D,3,0),0),\"\")","v":12},{"$f":"IF(A60<>\"\",IFERROR(VLOOKUP(AB60,Tabelas!B:D,3,0),0),\"\")","v":0},{"$f":"IF(A60<>\"\",IFERROR(VLOOKUP(AC60,Tabelas!B:D,3,0),0),\"\")","v":0},{"$f":"IF(A60<>\"\",IFERROR(VLOOKUP(AD60,Tabelas!B:D,3,0),0),\"\")","v":12},{"$f":"IF(A60<>\"\",IFERROR(VLOOKUP(AE60,Tabelas!B:D,3,0),0),\"\")","v":0},{"$f":"IF(A60<>\"\",IFERROR(VLOOKUP(AF60,Tabelas!B:D,3,0),0),\"\")","v":0},{"$f":"IF(A60<>\"\",IFERROR(VLOOKUP(AG60,Tabelas!B:D,3,0),0),\"\")","v":12},{"$f":"IF(A60<>\"\",IFERROR(VLOOKUP(AH60,Tabelas!B:D,3,0),0),\"\")","v":0},{"$f":"IF(A60<>\"\",IFERROR(VLOOKUP(AI60,Tabelas!B:D,3,0),0),\"\")","v":0},{"$f":"IF(A60<>\"\",IFERROR(VLOOKUP(AJ60,Tabelas!B:D,3,0),0),\"\")","v":12},{"$f":"IF(A60<>\"\",IFERROR(VLOOKUP(AK60,Tabelas!B:D,3,0),0),\"\")","v":0},{"$f":"IF(A60<>\"\",IFERROR(VLOOKUP(AL60,Tabelas!B:D,3,0),0),\"\")","v":0},{"$f":"IF(A60<>\"\",IFERROR(VLOOKUP(AM60,Tabelas!B:D,3,0),0),\"\")","v":12},{"$f":"IF(A60<>\"\",IFERROR(VLOOKUP(AN60,Tabelas!B:D,3,0),0),\"\")","v":0},{"$f":"IF(A60<>\"\",IFERROR(VLOOKUP(AO60,Tabelas!B:D,3,0),0),\"\")","v":0},{"$f":"IF(A60<>\"\",IFERROR(VLOOKUP(AP60,Tabelas!B:D,3,0),0),\"\")","v":0},{"$f":"IF(A60<>\"\",IFERROR(VLOOKUP(AQ60,Tabelas!B:D,3,0),0),\"\")","v":0},{"$f":"IF(A60<>\"\",IFERROR(VLOOKUP(AR60,Tabelas!B:D,3,0),0),\"\")","v":0},{"$f":"IF(A60<>\"\",SUM(AS60:BW60),\"\")","v":108},{"$f":"IF(A60<>\"\",COUNTIF(N60:AR60,\"LM\")+COUNTIF(N60:AR60,\"L\"),\"\")+COUNTIF(N60:AR60,\"LP\")","v":0},0,0,0,0,{"$f":"IF(A60<>\"\",COUNTIF(N60:AR60,\"AF1\")+COUNTIF(N60:AR60,\"AF2\")+COUNTIF(N60:AR60,\"AF3\")+COUNTIF(N60:AR60,\"AF4\")+COUNTIF(N60:AR60,\"AF5\")+COUNTIF(N60:AR60,\"AF6\")+COUNTIF(N60:AR60,\"AF7\")+COUNTIF(N60:AR60,\"AF8\")+COUNTIF(N60:AR60,\"AF9\")+COUNTIF(N60:AR60,\"AF10\")+COUNTIF(N60:AR60,\"AF11\")+COUNTIF(N60:AR60,\"AF12\")+COUNTIF(N60:AR60,\"AF13\")+COUNTIF(N60:AR60,\"AF14\"),\"\")","v":0},{"$f":"IF(A60<>\"\",COUNTIF(N60:AR60,\"CE\")+COUNTIF(N60:AR60,\"L\")+COUNTIF(N60:AR60,\"LM\")+COUNTIF(N60:AR60,\"LP\")+COUNTIF(N60:AR60,\"LC\")+COUNTIF(N60:AR60,\"AB\")+COUNTIF(N60:AR60,\"AF1\")+COUNTIF(N60:AR60,\"AF2\")+COUNTIF(N60:AR60,\"AF3\")+COUNTIF(N60:AR60,\"AF4\")+COUNTIF(N60:AR60,\"AF5\")+COUNTIF(N60:AR60,\"AF6\")+COUNTIF(N60:AR60,\"AF7\")+COUNTIF(N60:AR60,\"AF8\")+COUNTIF(N60:AR60,\"AF9\")+COUNTIF(N60:AR60,\"AF10\")+COUNTIF(N60:AR60,\"AF11\")+COUNTIF(N60:AR60,\"AF12\")+COUNTIF(N60:AR60,\"AF13\")+COUNTIF(N60:AR60,\"AF14\")+COUNTIF(N60:AR60,\"RC\")+COUNTIF(N60:AR60,\"FO\")+COUNTIF(N60:AR60,\"FE\"),\"\")","v":19},{"$f":"IF(A60<>\"\",COUNTIF(N60:AR60,\"APH\"),\"\")","v":0}]
["Lucimar Martires",3010415,358999,"TE ","Ebserh",36,null,null,null,null,null,null,null,"FO","N2","FO","FO","N2","FO","FO","N2","N2","FO","N2","FO","FO","N2","N2","FO","N2","N2","FO","N2","FO","FO","CE","FO","FO","AB","FO","FO",null,null,null,{"$f":"IF(A61<>\"\",IFERROR(VLOOKUP(N61,Tabelas!B:D,3,0),0),\"\")","v":0},{"$f":"IF(A61<>\"\",IFERROR(VLOOKUP(O61,Tabelas!B:D,3,0),0),\"\")","v":12},{"$f":"IF(A61<>\"\",IFERROR(VLOOKUP(P61,Tabelas!B:D,3,0),0),\"\")","v":0},{"$f":"IF(A61<>\"\",IFERROR(VLOOKUP(Q61,Tabelas!B:D,3,0),0),\"\")","v":0},{"$f":"IF(A61<>\"\",IFERROR(VLOOKUP(R61,Tabelas!B:D,3,0),0),\"\")","v":12},{"$f":"IF(A61<>\"\",IFERROR(VLOOKUP(S61,Tabelas!B:D,3,0),0),\"\")","v":0},{"$f":"IF(A61<>\"\",IFERROR(VLOOKUP(T61,Tabelas!B:D,3,0),0),\"\")","v":0},{"$f":"IF(A61<>\"\",IFERROR(VLOOKUP(U61,Tabelas!B:D,3,0),0),\"\")","v":12},{"$f":"IF(A61<>\"\",IFERROR(VLOOKUP(V61,Tabelas!B:D,3,0),0),\"\")","v":12},{"$f":"IF(A61<>\"\",IFERROR(VLOOKUP(W61,Tabelas!B:D,3,0),0),\"\")","v":0},{"$f":"IF(A61<>\"\",IFERROR(VLOOKUP(X61,Tabelas!B:D,3,0),0),\"\")","v":12},{"$f":"IF(A61<>\"\",IFERROR(VLOOKUP(Y61,Tabelas!B:D,3,0),0),\"\")","v":0},{"$f":"IF(A61<>\"\",IFERROR(VLOOKUP(Z61,Tabelas!B:D,3,0),0),\"\")","v":0},{"$f":"IF(A61<>\"\",IFERROR(VLOOKUP(AA61,Tabelas!B:D,3,0),0),\"\")","v":12},{"$f":"IF(A61<>\"\",IFERROR(VLOOKUP(AB61,Tabelas!B:D,3,0),0),\"\")","v":12},{"$f":"IF(A61<>\"\",IFERROR(VLOOKUP(AC61,Tabelas!B:D,3,0),0),\"\")","v":0},{"$f":"IF(A61<>\"\",IFERROR(VLOOKUP(AD61,Tabelas!B:D,3,0),0),\"\")","v":12},{"$f":"IF(A61<>\"\",IFERROR(VLOOKUP(AE61,Tabelas!B:D,3,0),0),\"\")","v":12},{"$f":"IF(A61<>\"\",IFERROR(VLOOKUP(AF61,Tabelas!B:D,3,0),0),\"\")","v":0},{"$f":"IF(A61<>\"\",IFERROR(VLOOKUP(AG61,Tabelas!B:D,3,0),0),\"\")","v":12},{"$f":"IF(A61<>\"\",IFERROR(VLOOKUP(AH61,Tabelas!B:D,3,0),0),\"\")","v":0},{"$f":"IF(A61<>\"\",IFERROR(VLOOKUP(AI61,Tabelas!B:D,3,0),0),\"\")","v":0},{"$f":"IF(A61<>\"\",IFERROR(VLOOKUP(AJ61,Tabelas!B:D,3,0),0),\"\")","v":0},{"$f":"IF(A61<>\"\",IFERROR(VLOOKUP(AK61,Tabelas!B:D,3,0),0),\"\")","v":0},{"$f":"IF(A61<>\"\",IFERROR(VLOOKUP(AL61,Tabelas!B:D,3,0),0),\"\")","v":0},{"$f":"IF(A61<>\"\",IFERROR(VLOOKUP(AM61,Tabelas!B:D,3,0),0),\"\")","v":0},{"$f":"IF(A61<>\"\",IFERROR(VLOOKUP(AN61,Tabelas!B:D,3,0),0),\"\")","v":0},{"$f":"IF(A61<>\"\",IFERROR(VLOOKUP(AO61,Tabelas!B:D,3,0),0),\"\")","v":0},{"$f":"IF(A61<>\"\",IFERROR(VLOOKUP(AP61,Tabelas!B:D,3,0),0),\"\")","v":0},{"$f":"IF(A61<>\"\",IFERROR(VLOOKUP(AQ61,Tabelas!B:D,3,0),0),\"\")","v":0},{"$f":"IF(A61<>\"\",IFERROR(VLOOKUP(AR61,Tabelas!B:D,3,0),0),\"\")","v":0},{"$f":"IF(A61<>\"\",SUM(AS61:BW61),\"\")","v":120},{"$f":"IF(A61<>\"\",COUNTIF(N61:AR61,\"LM\")+COUNTIF(N61:AR61,\"L\"),\"\")+COUNTIF(N61:AR61,\"LP\")","v":0},1,0,0,1,{"$f":"IF(A61<>\"\",COUNTIF(N61:AR61,\"AF1\")+COUNTIF(N61:AR61,\"AF2\")+COUNTIF(N61:AR61,\"AF3\")+COUNTIF(N61:AR61,\"AF4\")+COUNTIF(N61:AR61,\"AF5\")+COUNTIF(N61:AR61,\"AF6\")+COUNTIF(N61:AR61,\"AF7\")+COUNTIF(N61:AR61,\"AF8\")+COUNTIF(N61:AR61,\"AF9\")+COUNTIF(N61:AR61,\"AF10\")+COUNTIF(N61:AR61,\"AF11\")+COUNTIF(N61:AR61,\"AF12\")+COUNTIF(N61:AR61,\"AF13\")+COUNTIF(N61:AR61,\"AF14\"),\"\")","v":0},{"$f":"IF(A61<>\"\",COUNTIF(N61:AR61,\"CE\")+COUNTIF(N61:AR61,\"L\")+COUNTIF(N61:AR61,\"LM\")+COUNTIF(N61:AR61,\"LP\")+COUNTIF(N61:AR61,\"LC\")+COUNTIF(N61:AR61,\"AB\")+COUNTIF(N61:AR61,\"AF1\")+COUNTIF(N61:AR61,\"AF2\")+COUNTIF(N61:AR61,\"AF3\")+COUNTIF(N61:AR61,\"AF4\")+COUNTIF(N61:AR61,\"AF5\")+COUNTIF(N61:AR61,\"AF6\")+COUNTIF(N61:AR61,\"AF7\")+COUNTIF(N61:AR61,\"AF8\")+COUNTIF(N61:AR61,\"AF9\")+COUNTIF(N61:AR61,\"AF10\")+COUNTIF(N61:AR61,\"AF11\")+COUNTIF(N61:AR61,\"AF12\")+COUNTIF(N61:AR61,\"AF13\")+COUNTIF(N61:AR61,\"AF14\")+COUNTIF(N61:AR61,\"RC\")+COUNTIF(N61:AR61,\"FO\")+COUNTIF(N61:AR61,\"FE\"),\"\")","v":18},{"$f":"IF(A61<>\"\",COUNTIF(N61:AR61,\"APH\"),\"\")","v":0}]
["Viviane I. M. Coelho",1421275,60735,"TE ","RJU",30,null,null,null,null,null,null,null,"FO","N2","FO","FO","N2","FO","FO","N2","FO","FO","N2","FO","FO","N2","FO","FO","N2","FO","FO","N2","FO","FO","N2","FO","FO","N2","FO","FO",null,null,null,{"$f":"IF(A62<>\"\",IFERROR(VLOOKUP(N62,Tabelas!B:D,3,0),0),\"\")","v":0},{"$f":"IF(A62<>\"\",IFERROR(VLOOKUP(O62,Tabelas!B:D,3,0),0),\"\")","v":12},{"$f":"IF(A62<>\"\",IFERROR(VLOOKUP(P62,Tabelas!B:D,3,0),0),\"\")","v":0},{"$f":"IF(A62<>\"\",IFERROR(VLOOKUP(Q62,Tabelas!B:D,3,0),0),\"\")","v":0},{"$f":"IF(A62<>\"\",IFERROR(VLOOKUP(R62,Tabelas!B:D,3,0),0),\"\")","v":12},{"$f":"IF(A62<>\"\",IFERROR(VLOOKUP(S62,Tabelas!B:D,3,0),0),\"\")","v":0},{"$f":"IF(A62<>\"\",IFERROR(VLOOKUP(T62,Tabelas!B:D,3,0),0),\"\")","v":0},{"$f":"IF(A62<>\"\",IFERROR(VLOOKUP(U62,Tabelas!B:D,3,0),0),\"\")","v":12},{"$f":"IF(A62<>\"\",IFERROR(VLOOKUP(V62,Tabelas!B:D,3,0),0),\"\")","v":0},{"$f":"IF(A62<>\"\",IFERROR(VLOOKUP(W62,Tabelas!B:D,3,0),0),\"\")","v":0},{"$f":"IF(A62<>\"\",IFERROR(VLOOKUP(X62,Tabelas!B:D,3,0),0),\"\")","v":12},{"$f":"IF(A62<>\"\",IFERROR(VLOOKUP(Y62,Tabelas!B:D,3,0),0),\"\")","v":0},{"$f":"IF(A62<>\"\",IFERROR(VLOOKUP(Z62,Tabelas!B:D,3,0),0),\"\")","v":0},{"$f":"IF(A62<>\"\",IFERROR(VLOOKUP(AA62,Tabelas!B:D,3,0),0),\"\")","v":12},{"$f":"IF(A62<>\"\",IFERROR(VLOOKUP(AB62,Tabelas!B:D,3,0),0),\"\")","v":0},{"$f":"IF(A62<>\"\",IFERROR(VLOOKUP(AC62,Tabelas!B:D,3,0),0),\"\")","v":0},{"$f":"IF(A62<>\"\",IFERROR(VLOOKUP(AD62,Tabelas!B:D,3,0),0),\"\")","v":12},{"$f":"IF(A62<>\"\",IFERROR(VLOOKUP(AE62,Tabelas!B:D,3,0),0),\"\")","v":0},{"$f":"IF(A62<>\"\",IFERROR(VLOOKUP(AF62,Tabelas!B:D,3,0),0),\"\")","v":0},{"$f":"IF(A62<>\"\",IFERROR(VLOOKUP(AG62,Tabelas!B:D,3,0),0),\"\")","v":12},{"$f":"IF(A62<>\"\",IFERROR(VLOOKUP(AH62,Tabelas!B:D,3,0),0),\"\")","v":0},{"$f":"IF(A62<>\"\",IFERROR(VLOOKUP(AI62,Tabelas!B:D,3,0),0),\"\")","v":0},{"$f":"IF(A62<>\"\",IFERROR(VLOOKUP(AJ62,Tabelas!B:D,3,0),0),\"\")","v":12},{"$f":"IF(A62<>\"\",IFERROR(VLOOKUP(AK62,Tabelas!B:D,3,0),0),\"\")","v":0},{"$f":"IF(A62<>\"\",IFERROR(VLOOKUP(AL62,Tabelas!B:D,3,0),0),\"\")","v":0},{"$f":"IF(A62<>\"\",IFERROR(VLOOKUP(AM62,Tabelas!B:D,3,0),0),\"\")","v":12},{"$f":"IF(A62<>\"\",IFERROR(VLOOKUP(AN62,Tabelas!B:D,3,0),0),\"\")","v":0},{"$f":"IF(A62<>\"\",IFERROR(VLOOKUP(AO62,Tabelas!B:D,3,0),0),\"\")","v":0},{"$f":"IF(A62<>\"\",IFERROR(VLOOKUP(AP62,Tabelas!B:D,3,0),0),\"\")","v":0},{"$f":"IF(A62<>\"\",IFERROR(VLOOKUP(AQ62,Tabelas!B:D,3,0),0),\"\")","v":0},{"$f":"IF(A62<>\"\",IFERROR(VLOOKUP(AR62,Tabelas!B:D,3,0),0),\"\")","v":0},{"$f":"IF(A62<>\"\",SUM(AS62:BW62),\"\")","v":108},{"$f":"IF(A62<>\"\",COUNTIF(N62:AR62,\"LM\")+COUNTIF(N62:AR62,\"L\"),\"\")+COUNTIF(N62:AR62,\"LP\")","v":0},0,0,0,0,{"$f":"IF(A62<>\"\",COUNTIF(N62:AR62,\"AF1\")+COUNTIF(N62:AR62,\"AF2\")+COUNTIF(N62:AR62,\"AF3\")+COUNTIF(N62:AR62,\"AF4\")+COUNTIF(N62:AR62,\"AF5\")+COUNTIF(N62:AR62,\"AF6\")+COUNTIF(N62:AR62,\"AF7\")+COUNTIF(N62:AR62,\"AF8\")+COUNTIF(N62:AR62,\"AF9\")+COUNTIF(N62:AR62,\"AF10\")+COUNTIF(N62:AR62,\"AF11\")+COUNTIF(N62:AR62,\"AF12\")+COUNTIF(N62:AR62,\"AF13\")+COUNTIF(N62:AR62,\"AF14\"),\"\")","v":0},{"$f":"IF(A62<>\"\",COUNTIF(N62:AR62,\"CE\")+COUNTIF(N62:AR62,\"L\")+COUNTIF(N62:AR62,\"LM\")+COUNTIF(N62:AR62,\"LP\")+COUNTIF(N62:AR62,\"LC\")+COUNTIF(N62:AR62,\"AB\")+COUNTIF(N62:AR62,\"AF1\")+COUNTIF(N62:AR62,\"AF2\")+COUNTIF(N62:AR62,\"AF3\")+COUNTIF(N62:AR62,\"AF4\")+COUNTIF(N62:AR62,\"AF5\")+COUNTIF(N62:AR62,\"AF6\")+COUNTIF(N62:AR62,\"AF7\")+COUNTIF(N62:AR62,\"AF8\")+COUNTIF(N62:AR62,\"AF9\")+COUNTIF(N62:AR62,\"AF10\")+COUNTIF(N62:AR62,\"AF11\")+COUNTIF(N62:AR62,\"AF12\")+COUNTIF(N62:AR62,\"AF13\")+COUNTIF(N62:AR62,\"AF14\")+COUNTIF(N62:AR62,\"RC\")+COUNTIF(N62:AR62,\"FO\")+COUNTIF(N62:AR62,\"FE\"),\"\")","v":19},{"$f":"IF(A62<>\"\",COUNTIF(N62:AR62,\"APH\"),\"\")","v":0}]
["Luciane Virgilio",101604,626548,"TE ","FAPEU",40,null,null,null,null,null,null,null,"FO","N2","FO","N2","N2","FO","FO","N2","FO","FO","N2","FO","FO","N2","N2","FO","N2","FO","FO","N2","N2","FO","N2","N2","FO","N2","FO","FO",null,null,null,{"$f":"IF(A63<>\"\",IFERROR(VLOOKUP(N63,Tabelas!B:D,3,0),0),\"\")","v":0},{"$f":"IF(A63<>\"\",IFERROR(VLOOKUP(O63,Tabelas!B:D,3,0),0),\"\")","v":12},{"$f":"IF(A63<>\"\",IFERROR(VLOOKUP(P63,Tabelas!B:D,3,0),0),\"\")","v":0},{"$f":"IF(A63<>\"\",IFERROR(VLOOKUP(Q63,Tabelas!B:D,3,0),0),\"\")","v":12},{"$f":"IF(A63<>\"\",IFERROR(VLOOKUP(R63,Tabelas!B:D,3,0),0),\"\")","v":12},{"$f":"IF(A63<>\"\",IFERROR(VLOOKUP(S63,Tabelas!B:D,3,0),0),\"\")","v":0},{"$f":"IF(A63<>\"\",IFERROR(VLOOKUP(T63,Tabelas!B:D,3,0),0),\"\")","v":0},{"$f":"IF(A63<>\"\",IFERROR(VLOOKUP(U63,Tabelas!B:D,3,0),0),\"\")","v":12},{"$f":"IF(A63<>\"\",IFERROR(VLOOKUP(V63,Tabelas!B:D,3,0),0),\"\")","v":0},{"$f":"IF(A63<>\"\",IFERROR(VLOOKUP(W63,Tabelas!B:D,3,0),0),\"\")","v":0},{"$f":"IF(A63<>\"\",IFERROR(VLOOKUP(X63,Tabelas!B:D,3,0),0),\"\")","v":12},{"$f":"IF(A63<>\"\",IFERROR(VLOOKUP(Y63,Tabelas!B:D,3,0),0),\"\")","v":0},{"$f":"IF(A63<>\"\",IFERROR(VLOOKUP(Z63,Tabelas!B:D,3,0),0),\"\")","v":0},{"$f":"IF(A63<>\"\",IFERROR(VLOOKUP(AA63,Tabelas!B:D,3,0),0),\"\")","v":12},{"$f":"IF(A63<>\"\",IFERROR(VLOOKUP(AB63,Tabelas!B:D,3,0),0),\"\")","v":12},{"$f":"IF(A63<>\"\",IFERROR(VLOOKUP(AC63,Tabelas!B:D,3,0),0),\"\")","v":0},{"$f":"IF(A63<>\"\",IFERROR(VLOOKUP(AD63,Tabelas!B:D,3,0),0),\"\")","v":12},{"$f":"IF(A63<>\"\",IFERROR(VLOOKUP(AE63,Tabelas!B:D,3,0),0),\"\")","v":0},{"$f":"IF(A63<>\"\",IFERROR(VLOOKUP(AF63,Tabelas!B:D,3,0),0),\"\")","v":0},{"$f":"IF(A63<>\"\",IFERROR(VLOOKUP(AG63,Tabelas!B:D,3,0),0),\"\")","v":12},{"$f":"IF(A63<>\"\",IFERROR(VLOOKUP(AH63,Tabelas!B:D,3,0),0),\"\")","v":12},{"$f":"IF(A63<>\"\",IFERROR(VLOOKUP(AI63,Tabelas!B:D,3,0),0),\"\")","v":0},{"$f":"IF(A63<>\"\",IFERROR(VLOOKUP(AJ63,Tabelas!B:D,3,0),0),\"\")","v":12},{"$f":"IF(A63<>\"\",IFERROR(VLOOKUP(AK63,Tabelas!B:D,3,0),0),\"\")","v":12},{"$f":"IF(A63<>\"\",IFERROR(VLOOKUP(AL63,Tabelas!B:D,3,0),0),\"\")","v":0},{"$f":"IF(A63<>\"\",IFERROR(VLOOKUP(AM63,Tabelas!B:D,3,0),0),\"\")","v":12},{"$f":"IF(A63<>\"\",IFERROR(VLOOKUP(AN63,Tabelas!B:D,3,0),0),\"\")","v":0},{"$f":"IF(A63<>\"\",IFERROR(VLOOKUP(AO63,Tabelas!B:D,3,0),0),\"\")","v":0},{"$f":"IF(A63<>\"\",IFERROR(VLOOKUP(AP63,Tabelas!B:D,3,0),0),\"\")","v":0},{"$f":"IF(A63<>\"\",IFERROR(VLOOKUP(AQ63,Tabelas!B:D,3,0),0),\"\")","v":0},{"$f":"IF(A63<>\"\",IFERROR(VLOOKUP(AR63,Tabelas!B:D,3,0),0),\"\")","v":0},156,0,0,0,0,0,0,15,0]
["NOTURNO 2",null,null,null,null,null,null,null,null,null,null,null,null,null,null,null,null,null,null,null,null,null,null,null,null,null,null,null,null,null,null,null,null,null,null,null,null,null,null,null,null,null,null,null,{"$f":"IF(A64<>\"\",IFERROR(VLOOKUP(N64,Tabelas!B:D,3,0),0),\"\")","v":0},{"$f":"IF(A64<>\"\",IFERROR(VLOOKUP(O64,Tabelas!B:D,3,0),0),\"\")","v":0},{"$f":"IF(A64<>\"\",IFERROR(VLOOKUP(P64,Tabelas!B:D,3,0),0),\"\")","v":0},{"$f":"IF(A64<>\"\",IFERROR(VLOOKUP(Q64,Tabelas!B:D,3,0),0),\"\")","v":0},{"$f":"IF(A64<>\"\",IFERROR(VLOOKUP(R64,Tabelas!B:D,3,0),0),\"\")","v":0},{"$f":"IF(A64<>\"\",IFERROR(VLOOKUP(S64,Tabelas!B:D,3,0),0),\"\")","v":0},{"$f":"IF(A64<>\"\",IFERROR(VLOOKUP(T64,Tabelas!B:D,3,0),0),\"\")","v":0},{"$f":"IF(A64<>\"\",IFERROR(VLOOKUP(U64,Tabelas!B:D,3,0),0),\"\")","v":0},{"$f":"IF(A64<>\"\",IFERROR(VLOOKUP(V64,Tabelas!B:D,3,0),0),\"\")","v":0},{"$f":"IF(A64<>\"\",IFERROR(VLOOKUP(W64,Tabelas!B:D,3,0),0),\"\")","v":0},{"$f":"IF(A64<>\"\",IFERROR(VLOOKUP(X64,Tabelas!B:D,3,0),0),\"\")","v":0},{"$f":"IF(A64<>\"\",IFERROR(VLOOKUP(Y64,Tabelas!B:D,3,0),0),\"\")","v":0},{"$f":"IF(A64<>\"\",IFERROR(VLOOKUP(Z64,Tabelas!B:D,3,0),0),\"\")","v":0},{"$f":"IF(A64<>\"\",IFERROR(VLOOKUP(AA64,Tabelas!B:D,3,0),0),\"\")","v":0},{"$f":"IF(A64<>\"\",IFERROR(VLOOKUP(AB64,Tabelas!B:D,3,0),0),\"\")","v":0},{"$f":"IF(A64<>\"\",IFERROR(VLOOKUP(AC64,Tabelas!B:D,3,0),0),\"\")","v":0},{"$f":"IF(A64<>\"\",IFERROR(VLOOKUP(AD64,Tabelas!B:D,3,0),0),\"\")","v":0},{"$f":"IF(A64<>\"\",IFERROR(VLOOKUP(AE64,Tabelas!B:D,3,0),0),\"\")","v":0},{"$f":"IF(A64<>\"\",IFERROR(VLOOKUP(AF64,Tabelas!B:D,3,0),0),\"\")","v":0},{"$f":"IF(A64<>\"\",IFERROR(VLOOKUP(AG64,Tabelas!B:D,3,0),0),\"\")","v":0},{"$f":"IF(A64<>\"\",IFERROR(VLOOKUP(AH64,Tabelas!B:D,3,0),0),\"\")","v":0},{"$f":"IF(A64<>\"\",IFERROR(VLOOKUP(AI64,Tabelas!B:D,3,0),0),\"\")","v":0},{"$f":"IF(A64<>\"\",IFERROR(VLOOKUP(AJ64,Tabelas!B:D,3,0),0),\"\")","v":0},{"$f":"IF(A64<>\"\",IFERROR(VLOOKUP(AK64,Tabelas!B:D,3,0),0),\"\")","v":0},{"$f":"IF(A64<>\"\",IFERROR(VLOOKUP(AL64,Tabelas!B:D,3,0),0),\"\")","v":0},{"$f":"IF(A64<>\"\",IFERROR(VLOOKUP(AM64,Tabelas!B:D,3,0),0),\"\")","v":0},{"$f":"IF(A64<>\"\",IFERROR(VLOOKUP(AN64,Tabelas!B:D,3,0),0),\"\")","v":0},{"$f":"IF(A64<>\"\",IFERROR(VLOOKUP(AO64,Tabelas!B:D,3,0),0),\"\")","v":0},{"$f":"IF(A64<>\"\",IFERROR(VLOOKUP(AP64,Tabelas!B:D,3,0),0),\"\")","v":0},{"$f":"IF(A64<>\"\",IFERROR(VLOOKUP(AQ64,Tabelas!B:D,3,0),0),\"\")","v":0},{"$f":"IF(A64<>\"\",IFERROR(VLOOKUP(AR64,Tabelas!B:D,3,0),0),\"\")","v":0},0,0,0,0,0,0,0,0,0]
["Adriana K. Oliveira",2083812,454169,"TE ","RJU",30,null,null,null,null,null,null,null,"FO","FO","N2","FO","FO","N2","FO","FO","N2","FO","FO","N2","FO","FO","N2","FO","FO","N2","FO","FO","FE","FE","FE","FE","FE","FE","FE","FE",null,null,null,{"$f":"IF(A65<>\"\",IFERROR(VLOOKUP(N65,Tabelas!B:D,3,0),0),\"\")","v":0},{"$f":"IF(A65<>\"\",IFERROR(VLOOKUP(O65,Tabelas!B:D,3,0),0),\"\")","v":0},{"$f":"IF(A65<>\"\",IFERROR(VLOOKUP(P65,Tabelas!B:D,3,0),0),\"\")","v":12},{"$f":"IF(A65<>\"\",IFERROR(VLOOKUP(Q65,Tabelas!B:D,3,0),0),\"\")","v":0},{"$f":"IF(A65<>\"\",IFERROR(VLOOKUP(R65,Tabelas!B:D,3,0),0),\"\")","v":0},{"$f":"IF(A65<>\"\",IFERROR(VLOOKUP(S65,Tabelas!B:D,3,0),0),\"\")","v":12},{"$f":"IF(A65<>\"\",IFERROR(VLOOKUP(T65,Tabelas!B:D,3,0),0),\"\")","v":0},{"$f":"IF(A65<>\"\",IFERROR(VLOOKUP(U65,Tabelas!B:D,3,0),0),\"\")","v":0},{"$f":"IF(A65<>\"\",IFERROR(VLOOKUP(V65,Tabelas!B:D,3,0),0),\"\")","v":12},{"$f":"IF(A65<>\"\",IFERROR(VLOOKUP(W65,Tabelas!B:D,3,0),0),\"\")","v":0},{"$f":"IF(A65<>\"\",IFERROR(VLOOKUP(X65,Tabelas!B:D,3,0),0),\"\")","v":0},{"$f":"IF(A65<>\"\",IFERROR(VLOOKUP(Y65,Tabelas!B:D,3,0),0),\"\")","v":12},{"$f":"IF(A65<>\"\",IFERROR(VLOOKUP(Z65,Tabelas!B:D,3,0),0),\"\")","v":0},{"$f":"IF(A65<>\"\",IFERROR(VLOOKUP(AA65,Tabelas!B:D,3,0),0),\"\")","v":0},{"$f":"IF(A65<>\"\",IFERROR(VLOOKUP(AB65,Tabelas!B:D,3,0),0),\"\")","v":12},{"$f":"IF(A65<>\"\",IFERROR(VLOOKUP(AC65,Tabelas!B:D,3,0),0),\"\")","v":0},{"$f":"IF(A65<>\"\",IFERROR(VLOOKUP(AD65,Tabelas!B:D,3,0),0),\"\")","v":0},{"$f":"IF(A65<>\"\",IFERROR(VLOOKUP(AE65,Tabelas!B:D,3,0),0),\"\")","v":12},{"$f":"IF(A65<>\"\",IFERROR(VLOOKUP(AF65,Tabelas!B:D,3,0),0),\"\")","v":0},{"$f":"IF(A65<>\"\",IFERROR(VLOOKUP(AG65,Tabelas!B:D,3,0),0),\"\")","v":0},{"$f":"IF(A65<>\"\",IFERROR(VLOOKUP(AH65,Tabelas!B:D,3,0),0),\"\")","v":0},{"$f":"IF(A65<>\"\",IFERROR(VLOOKUP(AI65,Tabelas!B:D,3,0),0),\"\")","v":0},{"$f":"IF(A65<>\"\",IFERROR(VLOOKUP(AJ65,Tabelas!B:D,3,0),0),\"\")","v":0},{"$f":"IF(A65<>\"\",IFERROR(VLOOKUP(AK65,Tabelas!B:D,3,0),0),\"\")","v":0},{"$f":"IF(A65<>\"\",IFERROR(VLOOKUP(AL65,Tabelas!B:D,3,0),0),\"\")","v":0},{"$f":"IF(A65<>\"\",IFERROR(VLOOKUP(AM65,Tabelas!B:D,3,0),0),\"\")","v":0},{"$f":"IF(A65<>\"\",IFERROR(VLOOKUP(AN65,Tabelas!B:D,3,0),0),\"\")","v":0},{"$f":"IF(A65<>\"\",IFERROR(VLOOKUP(AO65,Tabelas!B:D,3,0),0),\"\")","v":0},{"$f":"IF(A65<>\"\",IFERROR(VLOOKUP(AP65,Tabelas!B:D,3,0),0),\"\")","v":0},{"$f":"IF(A65<>\"\",IFERROR(VLOOKUP(AQ65,Tabelas!B:D,3,0),0),\"\")","v":0},{"$f":"IF(A65<>\"\",IFERROR(VLOOKUP(AR65,Tabelas!B:D,3,0),0),\"\")","v":0},72,0,0,8,0,0,0,22,0]
["Cássia P. Scappo",1422602,111376,"TE ","RJU",30,null,null,null,null,null,null,null,"FO","FO","N2","FO","FO","N2","FO","FO","N2","FO","FO","N2","FO","FO","N2","FO","FO","N2","FO","FO","N2","FO","FO","N2","FO","FO","N2","FO",null,null,null,{"$f":"IF(A66<>\"\",IFERROR(VLOOKUP(N66,Tabelas!B:D,3,0),0),\"\")","v":0},{"$f":"IF(A66<>\"\",IFERROR(VLOOKUP(O66,Tabelas!B:D,3,0),0),\"\")","v":0},{"$f":"IF(A66<>\"\",IFERROR(VLOOKUP(P66,Tabelas!B:D,3,0),0),\"\")","v":12},{"$f":"IF(A66<>\"\",IFERROR(VLOOKUP(Q66,Tabelas!B:D,3,0),0),\"\")","v":0},{"$f":"IF(A66<>\"\",IFERROR(VLOOKUP(R66,Tabelas!B:D,3,0),0),\"\")","v":0},{"$f":"IF(A66<>\"\",IFERROR(VLOOKUP(S66,Tabelas!B:D,3,0),0),\"\")","v":12},{"$f":"IF(A66<>\"\",IFERROR(VLOOKUP(T66,Tabelas!B:D,3,0),0),\"\")","v":0},{"$f":"IF(A66<>\"\",IFERROR(VLOOKUP(U66,Tabelas!B:D,3,0),0),\"\")","v":0},{"$f":"IF(A66<>\"\",IFERROR(VLOOKUP(V66,Tabelas!B:D,3,0),0),\"\")","v":12},{"$f":"IF(A66<>\"\",IFERROR(VLOOKUP(W66,Tabelas!B:D,3,0),0),\"\")","v":0},{"$f":"IF(A66<>\"\",IFERROR(VLOOKUP(X66,Tabelas!B:D,3,0),0),\"\")","v":0},{"$f":"IF(A66<>\"\",IFERROR(VLOOKUP(Y66,Tabelas!B:D,3,0),0),\"\")","v":12},{"$f":"IF(A66<>\"\",IFERROR(VLOOKUP(Z66,Tabelas!B:D,3,0),0),\"\")","v":0},{"$f":"IF(A66<>\"\",IFERROR(VLOOKUP(AA66,Tabelas!B:D,3,0),0),\"\")","v":0},{"$f":"IF(A66<>\"\",IFERROR(VLOOKUP(AB66,Tabelas!B:D,3,0),0),\"\")","v":12},{"$f":"IF(A66<>\"\",IFERROR(VLOOKUP(AC66,Tabelas!B:D,3,0),0),\"\")","v":0},{"$f":"IF(A66<>\"\",IFERROR(VLOOKUP(AD66,Tabelas!B:D,3,0),0),\"\")","v":0},{"$f":"IF(A66<>\"\",IFERROR(VLOOKUP(AE66,Tabelas!B:D,3,0),0),\"\")","v":12},{"$f":"IF(A66<>\"\",IFERROR(VLOOKUP(AF66,Tabelas!B:D,3,0),0),\"\")","v":0},{"$f":"IF(A66<>\"\",IFERROR(VLOOKUP(AG66,Tabelas!B:D,3,0),0),\"\")","v":0},{"$f":"IF(A66<>\"\",IFERROR(VLOOKUP(AH66,Tabelas!B:D,3,0),0),\"\")","v":12},{"$f":"IF(A66<>\"\",IFERROR(VLOOKUP(AI66,Tabelas!B:D,3,0),0),\"\")","v":0},{"$f":"IF(A66<>\"\",IFERROR(VLOOKUP(AJ66,Tabelas!B:D,3,0),0),\"\")","v":0},{"$f":"IF(A66<>\"\",IFERROR(VLOOKUP(AK66,Tabelas!B:D,3,0),0),\"\")","v":12},{"$f":"IF(A66<>\"\",IFERROR(VLOOKUP(AL66,Tabelas!B:D,3,0),0),\"\")","v":0},{"$f":"IF(A66<>\"\",IFERROR(VLOOKUP(AM66,Tabelas!B:D,3,0),0),\"\")","v":0},{"$f":"IF(A66<>\"\",IFERROR(VLOOKUP(AN66,Tabelas!B:D,3,0),0),\"\")","v":12},{"$f":"IF(A66<>\"\",IFERROR(VLOOKUP(AO66,Tabelas!B:D,3,0),0),\"\")","v":0},{"$f":"IF(A66<>\"\",IFERROR(VLOOKUP(AP66,Tabelas!B:D,3,0),0),\"\")","v":0},{"$f":"IF(A66<>\"\",IFERROR(VLOOKUP(AQ66,Tabelas!B:D,3,0),0),\"\")","v":0},{"$f":"IF(A66<>\"\",IFERROR(VLOOKUP(AR66,Tabelas!B:D,3,0),0),\"\")","v":0},108,0,0,0,0,0,0,19,0]
["Cristiana  Sousa",1854903,237505,"TE ","RJU",30,null,null,null,null,null,null,null,"FO","FO","N2","FO","FO","N2","FO","FO","N2","FO","FO","N2","FO","FO","N2","FO","FO","N2","FO","FO","N2","FO","FO","N2","FO","FO","N2","FO",null,null,null,{"$f":"IF(A67<>\"\",IFERROR(VLOOKUP(N67,Tabelas!B:D,3,0),0),\"\")","v":0},{"$f":"IF(A67<>\"\",IFERROR(VLOOKUP(O67,Tabelas!B:D,3,0),0),\"\")","v":0},{"$f":"IF(A67<>\"\",IFERROR(VLOOKUP(P67,Tabelas!B:D,3,0),0),\"\")","v":12},{"$f":"IF(A67<>\"\",IFERROR(VLOOKUP(Q67,Tabelas!B:D,3,0),0),\"\")","v":0},{"$f":"IF(A67<>\"\",IFERROR(VLOOKUP(R67,Tabelas!B:D,3,0),0),\"\")","v":0},{"$f":"IF(A67<>\"\",IFERROR(VLOOKUP(S67,Tabelas!B:D,3,0),0),\"\")","v":12},{"$f":"IF(A67<>\"\",IFERROR(VLOOKUP(T67,Tabelas!B:D,3,0),0),\"\")","v":0},{"$f":"IF(A67<>\"\",IFERROR(VLOOKUP(U67,Tabelas!B:D,3,0),0),\"\")","v":0},{"$f":"IF(A67<>\"\",IFERROR(VLOOKUP(V67,Tabelas!B:D,3,0),0),\"\")","v":12},{"$f":"IF(A67<>\"\",IFERROR(VLOOKUP(W67,Tabelas!B:D,3,0),0),\"\")","v":0},{"$f":"IF(A67<>\"\",IFERROR(VLOOKUP(X67,Tabelas!B:D,3,0),0),\"\")","v":0},{"$f":"IF(A67<>\"\",IFERROR(VLOOKUP(Y67,Tabelas!B:D,3,0),0),\"\")","v":12},{"$f":"IF(A67<>\"\",IFERROR(VLOOKUP(Z67,Tabelas!B:D,3,0),0),\"\")","v":0},{"$f":"IF(A67<>\"\",IFERROR(VLOOKUP(AA67,Tabelas!B:D,3,0),0),\"\")","v":0},{"$f":"IF(A67<>\"\",IFERROR(VLOOKUP(AB67,Tabelas!B:D,3,0),0),\"\")","v":12},{"$f":"IF(A67<>\"\",IFERROR(VLOOKUP(AC67,Tabelas!B:D,3,0),0),\"\")","v":0},{"$f":"IF(A67<>\"\",IFERROR(VLOOKUP(AD67,Tabelas!B:D,3,0),0),\"\")","v":0},{"$f":"IF(A67<>\"\",IFERROR(VLOOKUP(AE67,Tabelas!B:D,3,0),0),\"\")","v":12},{"$f":"IF(A67<>\"\",IFERROR(VLOOKUP(AF67,Tabelas!B:D,3,0),0),\"\")","v":0},{"$f":"IF(A67<>\"\",IFERROR(VLOOKUP(AG67,Tabelas!B:D,3,0),0),\"\")","v":0},{"$f":"IF(A67<>\"\",IFERROR(VLOOKUP(AH67,Tabelas!B:D,3,0),0),\"\")","v":12},{"$f":"IF(A67<>\"\",IFERROR(VLOOKUP(AI67,Tabelas!B:D,3,0),0),\"\")","v":0},{"$f":"IF(A67<>\"\",IFERROR(VLOOKUP(AJ67,Tabelas!B:D,3,0),0),\"\")","v":0},{"$f":"IF(A67<>\"\",IFERROR(VLOOKUP(AK67,Tabelas!B:D,3,0),0),\"\")","v":12},{"$f":"IF(A67<>\"\",IFERROR(VLOOKUP(AL67,Tabelas!B:D,3,0),0),\"\")","v":0},{"$f":"IF(A67<>\"\",IFERROR(VLOOKUP(AM67,Tabelas!B:D,3,0),0),\"\")","v":0},{"$f":"IF(A67<>\"\",IFERROR(VLOOKUP(AN67,Tabelas!B:D,3,0),0),\"\")","v":12},{"$f":"IF(A67<>\"\",IFERROR(VLOOKUP(AO67,Tabelas!B:D,3,0),0),\"\")","v":0},{"$f":"IF(A67<>\"\",IFERROR(VLOOKUP(AP67,Tabelas!B:D,3,0),0),\"\")","v":0},{"$f":"IF(A67<>\"\",IFERROR(VLOOKUP(AQ67,Tabelas!B:D,3,0),0),\"\")","v":0},{"$f":"IF(A67<>\"\",IFERROR(VLOOKUP(AR67,Tabelas!B:D,3,0),0),\"\")","v":0},108,0,0,0,0,0,0,19,0]
["Débora R. Faustino",1788377,91807,"TE ","RJU",30,null,null,null,null,null,null,null,"FO","FO","N2","FO","FO","N2","FO","FO","N2","FO","FO","N2","FO","FO","FE","FE","FE","FE","FE","FE","FE","FE","FE","FE","FE","FE","FE","FE",null,null,null,{"$f":"IF(A68<>\"\",IFERROR(VLOOKUP(N68,Tabelas!B:D,3,0),0),\"\")","v":0},{"$f":"IF(A68<>\"\",IFERROR(VLOOKUP(O68,Tabelas!B:D,3,0),0),\"\")","v":0},{"$f":"IF(A68<>\"\",IFERROR(VLOOKUP(P68,Tabelas!B:D,3,0),0),\"\")","v":12},{"$f":"IF(A68<>\"\",IFERROR(VLOOKUP(Q68,Tabelas!B:D,3,0),0),\"\")","v":0},{"$f":"IF(A68<>\"\",IFERROR(VLOOKUP(R68,Tabelas!B:D,3,0),0),\"\")","v":0},{"$f":"IF(A68<>\"\",IFERROR(VLOOKUP(S68,Tabelas!B:D,3,0),0),\"\")","v":12},{"$f":"IF(A68<>\"\",IFERROR(VLOOKUP(T68,Tabelas!B:D,3,0),0),\"\")","v":0},{"$f":"IF(A68<>\"\",IFERROR(VLOOKUP(U68,Tabelas!B:D,3,0),0),\"\")","v":0},{"$f":"IF(A68<>\"\",IFERROR(VLOOKUP(V68,Tabelas!B:D,3,0),0),\"\")","v":12},{"$f":"IF(A68<>\"\",IFERROR(VLOOKUP(W68,Tabelas!B:D,3,0),0),\"\")","v":0},{"$f":"IF(A68<>\"\",IFERROR(VLOOKUP(X68,Tabelas!B:D,3,0),0),\"\")","v":0},{"$f":"IF(A68<>\"\",IFERROR(VLOOKUP(Y68,Tabelas!B:D,3,0),0),\"\")","v":12},{"$f":"IF(A68<>\"\",IFERROR(VLOOKUP(Z68,Tabelas!B:D,3,0),0),\"\")","v":0},{"$f":"IF(A68<>\"\",IFERROR(VLOOKUP(AA68,Tabelas!B:D,3,0),0),\"\")","v":0},{"$f":"IF(A68<>\"\",IFERROR(VLOOKUP(AB68,Tabelas!B:D,3,0),0),\"\")","v":0},{"$f":"IF(A68<>\"\",IFERROR(VLOOKUP(AC68,Tabelas!B:D,3,0),0),\"\")","v":0},{"$f":"IF(A68<>\"\",IFERROR(VLOOKUP(AD68,Tabelas!B:D,3,0),0),\"\")","v":0},{"$f":"IF(A68<>\"\",IFERROR(VLOOKUP(AE68,Tabelas!B:D,3,0),0),\"\")","v":0},{"$f":"IF(A68<>\"\",IFERROR(VLOOKUP(AF68,Tabelas!B:D,3,0),0),\"\")","v":0},{"$f":"IF(A68<>\"\",IFERROR(VLOOKUP(AG68,Tabelas!B:D,3,0),0),\"\")","v":0},{"$f":"IF(A68<>\"\",IFERROR(VLOOKUP(AH68,Tabelas!B:D,3,0),0),\"\")","v":0},{"$f":"IF(A68<>\"\",IFERROR(VLOOKUP(AI68,Tabelas!B:D,3,0),0),\"\")","v":0},{"$f":"IF(A68<>\"\",IFERROR(VLOOKUP(AJ68,Tabelas!B:D,3,0),0),\"\")","v":0},{"$f":"IF(A68<>\"\",IFERROR(VLOOKUP(AK68,Tabelas!B:D,3,0),0),\"\")","v":0},{"$f":"IF(A68<>\"\",IFERROR(VLOOKUP(AL68,Tabelas!B:D,3,0),0),\"\")","v":0},{"$f":"IF(A68<>\"\",IFERROR(VLOOKUP(AM68,Tabelas!B:D,3,0),0),\"\")","v":0},{"$f":"IF(A68<>\"\",IFERROR(VLOOKUP(AN68,Tabelas!B:D,3,0),0),\"\")","v":0},{"$f":"IF(A68<>\"\",IFERROR(VLOOKUP(AO68,Tabelas!B:D,3,0),0),\"\")","v":0},{"$f":"IF(A68<>\"\",IFERROR(VLOOKUP(AP68,Tabelas!B:D,3,0),0),\"\")","v":0},{"$f":"IF(A68<>\"\",IFERROR(VLOOKUP(AQ68,Tabelas!B:D,3,0),0),\"\")","v":0},{"$f":"IF(A68<>\"\",IFERROR(VLOOKUP(AR68,Tabelas!B:D,3,0),0),\"\")","v":0},48,0,0,14,0,0,0,24,0]
["Regina Henriques",1859048,364102,"TE ","RJU",30,null,null,null,null,null,null,null,"FO","FO","N2","FO","FO","N2","FO","FO","N2","FO","FO","N2","FO","FO","N2","N2","FO","N2","FO","FO","N2","FO","FO","CE","FO","FO","N2","FO",null,null,null,{"$f":"IF(A69<>\"\",IFERROR(VLOOKUP(N69,Tabelas!B:D,3,0),0),\"\")","v":0},{"$f":"IF(A69<>\"\",IFERROR(VLOOKUP(O69,Tabelas!B:D,3,0),0),\"\")","v":0},{"$f":"IF(A69<>\"\",IFERROR(VLOOKUP(P69,Tabelas!B:D,3,0),0),\"\")","v":12},{"$f":"IF(A69<>\"\",IFERROR(VLOOKUP(Q69,Tabelas!B:D,3,0),0),\"\")","v":0},{"$f":"IF(A69<>\"\",IFERROR(VLOOKUP(R69,Tabelas!B:D,3,0),0),\"\")","v":0},{"$f":"IF(A69<>\"\",IFERROR(VLOOKUP(S69,Tabelas!B:D,3,0),0),\"\")","v":12},{"$f":"IF(A69<>\"\",IFERROR(VLOOKUP(T69,Tabelas!B:D,3,0),0),\"\")","v":0},{"$f":"IF(A69<>\"\",IFERROR(VLOOKUP(U69,Tabelas!B:D,3,0),0),\"\")","v":0},{"$f":"IF(A69<>\"\",IFERROR(VLOOKUP(V69,Tabelas!B:D,3,0),0),\"\")","v":12},{"$f":"IF(A69<>\"\",IFERROR(VLOOKUP(W69,Tabelas!B:D,3,0),0),\"\")","v":0},{"$f":"IF(A69<>\"\",IFERROR(VLOOKUP(X69,Tabelas!B:D,3,0),0),\"\")","v":0},{"$f":"IF(A69<>\"\",IFERROR(VLOOKUP(Y69,Tabelas!B:D,3,0),0),\"\")","v":12},{"$f":"IF(A69<>\"\",IFERROR(VLOOKUP(Z69,Tabelas!B:D,3,0),0),\"\")","v":0},{"$f":"IF(A69<>\"\",IFERROR(VLOOKUP(AA69,Tabelas!B:D,3,0),0),\"\")","v":0},{"$f":"IF(A69<>\"\",IFERROR(VLOOKUP(AB69,Tabelas!B:D,3,0),0),\"\")","v":12},{"$f":"IF(A69<>\"\",IFERROR(VLOOKUP(AC69,Tabelas!B:D,3,0),0),\"\")","v":12},{"$f":"IF(A69<>\"\",IFERROR(VLOOKUP(AD69,Tabelas!B:D,3,0),0),\"\")","v":0},{"$f":"IF(A69<>\"\",IFERROR(VLOOKUP(AE69,Tabelas!B:D,3,0),0),\"\")","v":12},{"$f":"IF(A69<>\"\",IFERROR(VLOOKUP(AF69,Tabelas!B:D,3,0),0),\"\")","v":0},{"$f":"IF(A69<>\"\",IFERROR(VLOOKUP(AG69,Tabelas!B:D,3,0),0),\"\")","v":0},{"$f":"IF(A69<>\"\",IFERROR(VLOOKUP(AH69,Tabelas!B:D,3,0),0),\"\")","v":12},{"$f":"IF(A69<>\"\",IFERROR(VLOOKUP(AI69,Tabelas!B:D,3,0),0),\"\")","v":0},{"$f":"IF(A69<>\"\",IFERROR(VLOOKUP(AJ69,Tabelas!B:D,3,0),0),\"\")","v":0},{"$f":"IF(A69<>\"\",IFERROR(VLOOKUP(AK69,Tabelas!B:D,3,0),0),\"\")","v":0},{"$f":"IF(A69<>\"\",IFERROR(VLOOKUP(AL69,Tabelas!B:D,3,0),0),\"\")","v":0},{"$f":"IF(A69<>\"\",IFERROR(VLOOKUP(AM69,Tabelas!B:D,3,0),0),\"\")","v":0},{"$f":"IF(A69<>\"\",IFERROR(VLOOKUP(AN69,Tabelas!B:D,3,0),0),\"\")","v":12},{"$f":"IF(A69<>\"\",IFERROR(VLOOKUP(AO69,Tabelas!B:D,3,0),0),\"\")","v":0},{"$f":"IF(A69<>\"\",IFERROR(VLOOKUP(AP69,Tabelas!B:D,3,0),0),\"\")","v":0},{"$f":"IF(A69<>\"\",IFERROR(VLOOKUP(AQ69,Tabelas!B:D,3,0),0),\"\")","v":0},{"$f":"IF(A69<>\"\",IFERROR(VLOOKUP(AR69,Tabelas!B:D,3,0),0),\"\")","v":0},{"$f":"IF(A69<>\"\",SUM(AS69:BW69),\"\")","v":108},{"$f":"IF(A69<>\"\",COUNTIF(N69:AR69,\"LM\")+COUNTIF(N69:AR69,\"L\"),\"\")+COUNTIF(N69:AR69,\"LP\")","v":0},0,0,0,1,{"$f":"IF(A69<>\"\",COUNTIF(N69:AR69,\"AF1\")+COUNTIF(N69:AR69,\"AF2\")+COUNTIF(N69:AR69,\"AF3\")+COUNTIF(N69:AR69,\"AF4\")+COUNTIF(N69:AR69,\"AF5\")+COUNTIF(N69:AR69,\"AF6\")+COUNTIF(N69:AR69,\"AF7\")+COUNTIF(N69:AR69,\"AF8\")+COUNTIF(N69:AR69,\"AF9\")+COUNTIF(N69:AR69,\"AF10\")+COUNTIF(N69:AR69,\"AF11\")+COUNTIF(N69:AR69,\"AF12\")+COUNTIF(N69:AR69,\"AF13\")+COUNTIF(N69:AR69,\"AF14\"),\"\")","v":0},{"$f":"IF(A69<>\"\",COUNTIF(N69:AR69,\"CE\")+COUNTIF(N69:AR69,\"L\")+COUNTIF(N69:AR69,\"LM\")+COUNTIF(N69:AR69,\"LP\")+COUNTIF(N69:AR69,\"LC\")+COUNTIF(N69:AR69,\"AB\")+COUNTIF(N69:AR69,\"AF1\")+COUNTIF(N69:AR69,\"AF2\")+COUNTIF(N69:AR69,\"AF3\")+COUNTIF(N69:AR69,\"AF4\")+COUNTIF(N69:AR69,\"AF5\")+COUNTIF(N69:AR69,\"AF6\")+COUNTIF(N69:AR69,\"AF7\")+COUNTIF(N69:AR69,\"AF8\")+COUNTIF(N69:AR69,\"AF9\")+COUNTIF(N69:AR69,\"AF10\")+COUNTIF(N69:AR69,\"AF11\")+COUNTIF(N69:AR69,\"AF12\")+COUNTIF(N69:AR69,\"AF13\")+COUNTIF(N69:AR69,\"AF14\")+COUNTIF(N69:AR69,\"RC\")+COUNTIF(N69:AR69,\"FO\")+COUNTIF(N69:AR69,\"FE\"),\"\")","v":19},{"$f":"IF(A69<>\"\",COUNTIF(N69:AR69,\"APH\"),\"\")","v":0}]
["Eliane M. Cachoeira",1160409,44799,"TE ","RJU",30,null,null,null,null,null,null,null,"FO","FO","N2","FO","FO","N2","FO","FO","N2","FO","FO","N2","FO","FO","CE","FO","FO","N2","FO","FO","N2","FO","FO","CE","FO","FO","N2","FO",null,null,null,{"$f":"IF(A70<>\"\",IFERROR(VLOOKUP(N70,Tabelas!B:D,3,0),0),\"\")","v":0},{"$f":"IF(A70<>\"\",IFERROR(VLOOKUP(O70,Tabelas!B:D,3,0),0),\"\")","v":0},{"$f":"IF(A70<>\"\",IFERROR(VLOOKUP(P70,Tabelas!B:D,3,0),0),\"\")","v":12},{"$f":"IF(A70<>\"\",IFERROR(VLOOKUP(Q70,Tabelas!B:D,3,0),0),\"\")","v":0},{"$f":"IF(A70<>\"\",IFERROR(VLOOKUP(R70,Tabelas!B:D,3,0),0),\"\")","v":0},{"$f":"IF(A70<>\"\",IFERROR(VLOOKUP(S70,Tabelas!B:D,3,0),0),\"\")","v":12},{"$f":"IF(A70<>\"\",IFERROR(VLOOKUP(T70,Tabelas!B:D,3,0),0),\"\")","v":0},{"$f":"IF(A70<>\"\",IFERROR(VLOOKUP(U70,Tabelas!B:D,3,0),0),\"\")","v":0},{"$f":"IF(A70<>\"\",IFERROR(VLOOKUP(V70,Tabelas!B:D,3,0),0),\"\")","v":12},{"$f":"IF(A70<>\"\",IFERROR(VLOOKUP(W70,Tabelas!B:D,3,0),0),\"\")","v":0},{"$f":"IF(A70<>\"\",IFERROR(VLOOKUP(X70,Tabelas!B:D,3,0),0),\"\")","v":0},{"$f":"IF(A70<>\"\",IFERROR(VLOOKUP(Y70,Tabelas!B:D,3,0),0),\"\")","v":12},{"$f":"IF(A70<>\"\",IFERROR(VLOOKUP(Z70,Tabelas!B:D,3,0),0),\"\")","v":0},{"$f":"IF(A70<>\"\",IFERROR(VLOOKUP(AA70,Tabelas!B:D,3,0),0),\"\")","v":0},{"$f":"IF(A70<>\"\",IFERROR(VLOOKUP(AB70,Tabelas!B:D,3,0),0),\"\")","v":0},{"$f":"IF(A70<>\"\",IFERROR(VLOOKUP(AC70,Tabelas!B:D,3,0),0),\"\")","v":0},{"$f":"IF(A70<>\"\",IFERROR(VLOOKUP(AD70,Tabelas!B:D,3,0),0),\"\")","v":0},{"$f":"IF(A70<>\"\",IFERROR(VLOOKUP(AE70,Tabelas!B:D,3,0),0),\"\")","v":12},{"$f":"IF(A70<>\"\",IFERROR(VLOOKUP(AF70,Tabelas!B:D,3,0),0),\"\")","v":0},{"$f":"IF(A70<>\"\",IFERROR(VLOOKUP(AG70,Tabelas!B:D,3,0),0),\"\")","v":0},{"$f":"IF(A70<>\"\",IFERROR(VLOOKUP(AH70,Tabelas!B:D,3,0),0),\"\")","v":12},{"$f":"IF(A70<>\"\",IFERROR(VLOOKUP(AI70,Tabelas!B:D,3,0),0),\"\")","v":0},{"$f":"IF(A70<>\"\",IFERROR(VLOOKUP(AJ70,Tabelas!B:D,3,0),0),\"\")","v":0},{"$f":"IF(A70<>\"\",IFERROR(VLOOKUP(AK70,Tabelas!B:D,3,0),0),\"\")","v":0},{"$f":"IF(A70<>\"\",IFERROR(VLOOKUP(AL70,Tabelas!B:D,3,0),0),\"\")","v":0},{"$f":"IF(A70<>\"\",IFERROR(VLOOKUP(AM70,Tabelas!B:D,3,0),0),\"\")","v":0},{"$f":"IF(A70<>\"\",IFERROR(VLOOKUP(AN70,Tabelas!B:D,3,0),0),\"\")","v":12},{"$f":"IF(A70<>\"\",IFERROR(VLOOKUP(AO70,Tabelas!B:D,3,0),0),\"\")","v":0},{"$f":"IF(A70<>\"\",IFERROR(VLOOKUP(AP70,Tabelas!B:D,3,0),0),\"\")","v":0},{"$f":"IF(A70<>\"\",IFERROR(VLOOKUP(AQ70,Tabelas!B:D,3,0),0),\"\")","v":0},{"$f":"IF(A70<>\"\",IFERROR(VLOOKUP(AR70,Tabelas!B:D,3,0),0),\"\")","v":0},84,0,0,0,0,2,0,21,0]
["Eudinéia L. Schmitz",1363729,71003,"TE ","RJU",30,null,null,null,null,null,null,null,"FE","FE","FE","FE","FE","FE","FE","FE","FE","FE","FE","FE","FE","FE","FE","FO","FO","N2","FO","FO","N2","FO","FO","N2","FO","FO","N2","FO",null,null,null,{"$f":"IF(A71<>\"\",IFERROR(VLOOKUP(N71,Tabelas!B:D,3,0),0),\"\")","v":0},{"$f":"IF(A71<>\"\",IFERROR(VLOOKUP(O71,Tabelas!B:D,3,0),0),\"\")","v":0},{"$f":"IF(A71<>\"\",IFERROR(VLOOKUP(P71,Tabelas!B:D,3,0),0),\"\")","v":0},{"$f":"IF(A71<>\"\",IFERROR(VLOOKUP(Q71,Tabelas!B:D,3,0),0),\"\")","v":0},{"$f":"IF(A71<>\"\",IFERROR(VLOOKUP(R71,Tabelas!B:D,3,0),0),\"\")","v":0},{"$f":"IF(A71<>\"\",IFERROR(VLOOKUP(S71,Tabelas!B:D,3,0),0),\"\")","v":0},{"$f":"IF(A71<>\"\",IFERROR(VLOOKUP(T71,Tabelas!B:D,3,0),0),\"\")","v":0},{"$f":"IF(A71<>\"\",IFERROR(VLOOKUP(U71,Tabelas!B:D,3,0),0),\"\")","v":0},{"$f":"IF(A71<>\"\",IFERROR(VLOOKUP(V71,Tabelas!B:D,3,0),0),\"\")","v":0},{"$f":"IF(A71<>\"\",IFERROR(VLOOKUP(W71,Tabelas!B:D,3,0),0),\"\")","v":0},{"$f":"IF(A71<>\"\",IFERROR(VLOOKUP(X71,Tabelas!B:D,3,0),0),\"\")","v":0},{"$f":"IF(A71<>\"\",IFERROR(VLOOKUP(Y71,Tabelas!B:D,3,0),0),\"\")","v":0},{"$f":"IF(A71<>\"\",IFERROR(VLOOKUP(Z71,Tabelas!B:D,3,0),0),\"\")","v":0},{"$f":"IF(A71<>\"\",IFERROR(VLOOKUP(AA71,Tabelas!B:D,3,0),0),\"\")","v":0},{"$f":"IF(A71<>\"\",IFERROR(VLOOKUP(AB71,Tabelas!B:D,3,0),0),\"\")","v":0},{"$f":"IF(A71<>\"\",IFERROR(VLOOKUP(AC71,Tabelas!B:D,3,0),0),\"\")","v":0},{"$f":"IF(A71<>\"\",IFERROR(VLOOKUP(AD71,Tabelas!B:D,3,0),0),\"\")","v":0},{"$f":"IF(A71<>\"\",IFERROR(VLOOKUP(AE71,Tabelas!B:D,3,0),0),\"\")","v":12},{"$f":"IF(A71<>\"\",IFERROR(VLOOKUP(AF71,Tabelas!B:D,3,0),0),\"\")","v":0},{"$f":"IF(A71<>\"\",IFERROR(VLOOKUP(AG71,Tabelas!B:D,3,0),0),\"\")","v":0},{"$f":"IF(A71<>\"\",IFERROR(VLOOKUP(AH71,Tabelas!B:D,3,0),0),\"\")","v":12},{"$f":"IF(A71<>\"\",IFERROR(VLOOKUP(AI71,Tabelas!B:D,3,0),0),\"\")","v":0},{"$f":"IF(A71<>\"\",IFERROR(VLOOKUP(AJ71,Tabelas!B:D,3,0),0),\"\")","v":0},{"$f":"IF(A71<>\"\",IFERROR(VLOOKUP(AK71,Tabelas!B:D,3,0),0),\"\")","v":12},{"$f":"IF(A71<>\"\",IFERROR(VLOOKUP(AL71,Tabelas!B:D,3,0),0),\"\")","v":0},{"$f":"IF(A71<>\"\",IFERROR(VLOOKUP(AM71,Tabelas!B:D,3,0),0),\"\")","v":0},{"$f":"IF(A71<>\"\",IFERROR(VLOOKUP(AN71,Tabelas!B:D,3,0),0),\"\")","v":12},{"$f":"IF(A71<>\"\",IFERROR(VLOOKUP(AO71,Tabelas!B:D,3,0),0),\"\")","v":0},{"$f":"IF(A71<>\"\",IFERROR(VLOOKUP(AP71,Tabelas!B:D,3,0),0),\"\")","v":0},{"$f":"IF(A71<>\"\",IFERROR(VLOOKUP(AQ71,Tabelas!B:D,3,0),0),\"\")","v":0},{"$f":"IF(A71<>\"\",IFERROR(VLOOKUP(AR71,Tabelas!B:D,3,0),0),\"\")","v":0},48,0,0,15,0,0,0,24,0]
["NOTURNO 3",null,null,null,null,null,null,null,null,null,null,null,null,null,null,null,null,null,null,null,null,null,null,null,null,null,null,null,null,null,null,null,null,null,null,null,null,null,null,null,null,null,null,null,{"$f":"IF(A72<>\"\",IFERROR(VLOOKUP(N72,Tabelas!B:D,3,0),0),\"\")","v":0},{"$f":"IF(A72<>\"\",IFERROR(VLOOKUP(O72,Tabelas!B:D,3,0),0),\"\")","v":0},{"$f":"IF(A72<>\"\",IFERROR(VLOOKUP(P72,Tabelas!B:D,3,0),0),\"\")","v":0},{"$f":"IF(A72<>\"\",IFERROR(VLOOKUP(Q72,Tabelas!B:D,3,0),0),\"\")","v":0},{"$f":"IF(A72<>\"\",IFERROR(VLOOKUP(R72,Tabelas!B:D,3,0),0),\"\")","v":0},{"$f":"IF(A72<>\"\",IFERROR(VLOOKUP(S72,Tabelas!B:D,3,0),0),\"\")","v":0},{"$f":"IF(A72<>\"\",IFERROR(VLOOKUP(T72,Tabelas!B:D,3,0),0),\"\")","v":0},{"$f":"IF(A72<>\"\",IFERROR(VLOOKUP(U72,Tabelas!B:D,3,0),0),\"\")","v":0},{"$f":"IF(A72<>\"\",IFERROR(VLOOKUP(V72,Tabelas!B:D,3,0),0),\"\")","v":0},{"$f":"IF(A72<>\"\",IFERROR(VLOOKUP(W72,Tabelas!B:D,3,0),0),\"\")","v":0},{"$f":"IF(A72<>\"\",IFERROR(VLOOKUP(X72,Tabelas!B:D,3,0),0),\"\")","v":0},{"$f":"IF(A72<>\"\",IFERROR(VLOOKUP(Y72,Tabelas!B:D,3,0),0),\"\")","v":0},{"$f":"IF(A72<>\"\",IFERROR(VLOOKUP(Z72,Tabelas!B:D,3,0),0),\"\")","v":0},{"$f":"IF(A72<>\"\",IFERROR(VLOOKUP(AA72,Tabelas!B:D,3,0),0),\"\")","v":0},{"$f":"IF(A72<>\"\",IFERROR(VLOOKUP(AB72,Tabelas!B:D,3,0),0),\"\")","v":0},{"$f":"IF(A72<>\"\",IFERROR(VLOOKUP(AC72,Tabelas!B:D,3,0),0),\"\")","v":0},{"$f":"IF(A72<>\"\",IFERROR(VLOOKUP(AD72,Tabelas!B:D,3,0),0),\"\")","v":0},{"$f":"IF(A72<>\"\",IFERROR(VLOOKUP(AE72,Tabelas!B:D,3,0),0),\"\")","v":0},{"$f":"IF(A72<>\"\",IFERROR(VLOOKUP(AF72,Tabelas!B:D,3,0),0),\"\")","v":0},{"$f":"IF(A72<>\"\",IFERROR(VLOOKUP(AG72,Tabelas!B:D,3,0),0),\"\")","v":0},{"$f":"IF(A72<>\"\",IFERROR(VLOOKUP(AH72,Tabelas!B:D,3,0),0),\"\")","v":0},{"$f":"IF(A72<>\"\",IFERROR(VLOOKUP(AI72,Tabelas!B:D,3,0),0),\"\")","v":0},{"$f":"IF(A72<>\"\",IFERROR(VLOOKUP(AJ72,Tabelas!B:D,3,0),0),\"\")","v":0},{"$f":"IF(A72<>\"\",IFERROR(VLOOKUP(AK72,Tabelas!B:D,3,0),0),\"\")","v":0},{"$f":"IF(A72<>\"\",IFERROR(VLOOKUP(AL72,Tabelas!B:D,3,0),0),\"\")","v":0},{"$f":"IF(A72<>\"\",IFERROR(VLOOKUP(AM72,Tabelas!B:D,3,0),0),\"\")","v":0},{"$f":"IF(A72<>\"\",IFERROR(VLOOKUP(AN72,Tabelas!B:D,3,0),0),\"\")","v":0},{"$f":"IF(A72<>\"\",IFERROR(VLOOKUP(AO72,Tabelas!B:D,3,0),0),\"\")","v":0},{"$f":"IF(A72<>\"\",IFERROR(VLOOKUP(AP72,Tabelas!B:D,3,0),0),\"\")","v":0},{"$f":"IF(A72<>\"\",IFERROR(VLOOKUP(AQ72,Tabelas!B:D,3,0),0),\"\")","v":0},{"$f":"IF(A72<>\"\",IFERROR(VLOOKUP(AR72,Tabelas!B:D,3,0),0),\"\")","v":0},0,0,0,0,0,0,0,0,0]
["David T. Alflen",2240400,926524,"TE ","RJU",30,null,null,null,null,null,null,null,"N2","FO","FO","N2","FO","FO","N2","FO","FO","N2","FO","FO","N2","FO","FO","N2","FO","FO","N2","FO","FO","N2","FO","FO","N2","FO","FO","N2",null,null,null,{"$f":"IF(A73<>\"\",IFERROR(VLOOKUP(N73,Tabelas!B:D,3,0),0),\"\")","v":12},{"$f":"IF(A73<>\"\",IFERROR(VLOOKUP(O73,Tabelas!B:D,3,0),0),\"\")","v":0},{"$f":"IF(A73<>\"\",IFERROR(VLOOKUP(P73,Tabelas!B:D,3,0),0),\"\")","v":0},{"$f":"IF(A73<>\"\",IFERROR(VLOOKUP(Q73,Tabelas!B:D,3,0),0),\"\")","v":12},{"$f":"IF(A73<>\"\",IFERROR(VLOOKUP(R73,Tabelas!B:D,3,0),0),\"\")","v":0},{"$f":"IF(A73<>\"\",IFERROR(VLOOKUP(S73,Tabelas!B:D,3,0),0),\"\")","v":0},{"$f":"IF(A73<>\"\",IFERROR(VLOOKUP(T73,Tabelas!B:D,3,0),0),\"\")","v":12},{"$f":"IF(A73<>\"\",IFERROR(VLOOKUP(U73,Tabelas!B:D,3,0),0),\"\")","v":0},{"$f":"IF(A73<>\"\",IFERROR(VLOOKUP(V73,Tabelas!B:D,3,0),0),\"\")","v":0},{"$f":"IF(A73<>\"\",IFERROR(VLOOKUP(W73,Tabelas!B:D,3,0),0),\"\")","v":12},{"$f":"IF(A73<>\"\",IFERROR(VLOOKUP(X73,Tabelas!B:D,3,0),0),\"\")","v":0},{"$f":"IF(A73<>\"\",IFERROR(VLOOKUP(Y73,Tabelas!B:D,3,0),0),\"\")","v":0},{"$f":"IF(A73<>\"\",IFERROR(VLOOKUP(Z73,Tabelas!B:D,3,0),0),\"\")","v":12},{"$f":"IF(A73<>\"\",IFERROR(VLOOKUP(AA73,Tabelas!B:D,3,0),0),\"\")","v":0},{"$f":"IF(A73<>\"\",IFERROR(VLOOKUP(AB73,Tabelas!B:D,3,0),0),\"\")","v":0},{"$f":"IF(A73<>\"\",IFERROR(VLOOKUP(AC73,Tabelas!B:D,3,0),0),\"\")","v":12},{"$f":"IF(A73<>\"\",IFERROR(VLOOKUP(AD73,Tabelas!B:D,3,0),0),\"\")","v":0},{"$f":"IF(A73<>\"\",IFERROR(VLOOKUP(AE73,Tabelas!B:D,3,0),0),\"\")","v":0},{"$f":"IF(A73<>\"\",IFERROR(VLOOKUP(AF73,Tabelas!B:D,3,0),0),\"\")","v":12},{"$f":"IF(A73<>\"\",IFERROR(VLOOKUP(AG73,Tabelas!B:D,3,0),0),\"\")","v":0},{"$f":"IF(A73<>\"\",IFERROR(VLOOKUP(AH73,Tabelas!B:D,3,0),0),\"\")","v":0},{"$f":"IF(A73<>\"\",IFERROR(VLOOKUP(AI73,Tabelas!B:D,3,0),0),\"\")","v":12},{"$f":"IF(A73<>\"\",IFERROR(VLOOKUP(AJ73,Tabelas!B:D,3,0),0),\"\")","v":0},{"$f":"IF(A73<>\"\",IFERROR(VLOOKUP(AK73,Tabelas!B:D,3,0),0),\"\")","v":0},{"$f":"IF(A73<>\"\",IFERROR(VLOOKUP(AL73,Tabelas!B:D,3,0),0),\"\")","v":12},{"$f":"IF(A73<>\"\",IFERROR(VLOOKUP(AM73,Tabelas!B:D,3,0),0),\"\")","v":0},{"$f":"IF(A73<>\"\",IFERROR(VLOOKUP(AN73,Tabelas!B:D,3,0),0),\"\")","v":0},{"$f":"IF(A73<>\"\",IFERROR(VLOOKUP(AO73,Tabelas!B:D,3,0),0),\"\")","v":12},{"$f":"IF(A73<>\"\",IFERROR(VLOOKUP(AP73,Tabelas!B:D,3,0),0),\"\")","v":0},{"$f":"IF(A73<>\"\",IFERROR(VLOOKUP(AQ73,Tabelas!B:D,3,0),0),\"\")","v":0},{"$f":"IF(A73<>\"\",IFERROR(VLOOKUP(AR73,Tabelas!B:D,3,0),0),\"\")","v":0},120,0,0,0,0,0,0,18,0]
["Rosemare Silveira",1851021,93975,"TE ","RJU",30,null,null,null,null,null,null,null,"N2","FO","FO","N2","FO","FO","N2","FO","FO","N2","FO","FO","N2","FO","FO","N2","FO","FO","N2","FO","FO","N2","FO","FO","N2","FO","FO","N2",null,null,null,{"$f":"IF(A74<>\"\",IFERROR(VLOOKUP(N74,Tabelas!B:D,3,0),0),\"\")","v":12},{"$f":"IF(A74<>\"\",IFERROR(VLOOKUP(O74,Tabelas!B:D,3,0),0),\"\")","v":0},{"$f":"IF(A74<>\"\",IFERROR(VLOOKUP(P74,Tabelas!B:D,3,0),0),\"\")","v":0},{"$f":"IF(A74<>\"\",IFERROR(VLOOKUP(Q74,Tabelas!B:D,3,0),0),\"\")","v":12},{"$f":"IF(A74<>\"\",IFERROR(VLOOKUP(R74,Tabelas!B:D,3,0),0),\"\")","v":0},{"$f":"IF(A74<>\"\",IFERROR(VLOOKUP(S74,Tabelas!B:D,3,0),0),\"\")","v":0},{"$f":"IF(A74<>\"\",IFERROR(VLOOKUP(T74,Tabelas!B:D,3,0),0),\"\")","v":12},{"$f":"IF(A74<>\"\",IFERROR(VLOOKUP(U74,Tabelas!B:D,3,0),0),\"\")","v":0},{"$f":"IF(A74<>\"\",IFERROR(VLOOKUP(V74,Tabelas!B:D,3,0),0),\"\")","v":0},{"$f":"IF(A74<>\"\",IFERROR(VLOOKUP(W74,Tabelas!B:D,3,0),0),\"\")","v":12},{"$f":"IF(A74<>\"\",IFERROR(VLOOKUP(X74,Tabelas!B:D,3,0),0),\"\")","v":0},{"$f":"IF(A74<>\"\",IFERROR(VLOOKUP(Y74,Tabelas!B:D,3,0),0),\"\")","v":0},{"$f":"IF(A74<>\"\",IFERROR(VLOOKUP(Z74,Tabelas!B:D,3,0),0),\"\")","v":12},{"$f":"IF(A74<>\"\",IFERROR(VLOOKUP(AA74,Tabelas!B:D,3,0),0),\"\")","v":0},{"$f":"IF(A74<>\"\",IFERROR(VLOOKUP(AB74,Tabelas!B:D,3,0),0),\"\")","v":0},{"$f":"IF(A74<>\"\",IFERROR(VLOOKUP(AC74,Tabelas!B:D,3,0),0),\"\")","v":12},{"$f":"IF(A74<>\"\",IFERROR(VLOOKUP(AD74,Tabelas!B:D,3,0),0),\"\")","v":0},{"$f":"IF(A74<>\"\",IFERROR(VLOOKUP(AE74,Tabelas!B:D,3,0),0),\"\")","v":0},{"$f":"IF(A74<>\"\",IFERROR(VLOOKUP(AF74,Tabelas!B:D,3,0),0),\"\")","v":12},{"$f":"IF(A74<>\"\",IFERROR(VLOOKUP(AG74,Tabelas!B:D,3,0),0),\"\")","v":0},{"$f":"IF(A74<>\"\",IFERROR(VLOOKUP(AH74,Tabelas!B:D,3,0),0),\"\")","v":0},{"$f":"IF(A74<>\"\",IFERROR(VLOOKUP(AI74,Tabelas!B:D,3,0),0),\"\")","v":12},{"$f":"IF(A74<>\"\",IFERROR(VLOOKUP(AJ74,Tabelas!B:D,3,0),0),\"\")","v":0},{"$f":"IF(A74<>\"\",IFERROR(VLOOKUP(AK74,Tabelas!B:D,3,0),0),\"\")","v":0},{"$f":"IF(A74<>\"\",IFERROR(VLOOKUP(AL74,Tabelas!B:D,3,0),0),\"\")","v":12},{"$f":"IF(A74<>\"\",IFERROR(VLOOKUP(AM74,Tabelas!B:D,3,0),0),\"\")","v":0},{"$f":"IF(A74<>\"\",IFERROR(VLOOKUP(AN74,Tabelas!B:D,3,0),0),\"\")","v":0},{"$f":"IF(A74<>\"\",IFERROR(VLOOKUP(AO74,Tabelas!B:D,3,0),0),\"\")","v":12},{"$f":"IF(A74<>\"\",IFERROR(VLOOKUP(AP74,Tabelas!B:D,3,0),0),\"\")","v":0},{"$f":"IF(A74<>\"\",IFERROR(VLOOKUP(AQ74,Tabelas!B:D,3,0),0),\"\")","v":0},{"$f":"IF(A74<>\"\",IFERROR(VLOOKUP(AR74,Tabelas!B:D,3,0),0),\"\")","v":0},{"$f":"IF(A74<>\"\",SUM(AS74:BW74),\"\")","v":120},{"$f":"IF(A74<>\"\",COUNTIF(N74:AR74,\"LM\")+COUNTIF(N74:AR74,\"L\"),\"\")+COUNTIF(N74:AR74,\"LP\")","v":0},0,0,0,0,{"$f":"IF(A74<>\"\",COUNTIF(N74:AR74,\"AF1\")+COUNTIF(N74:AR74,\"AF2\")+COUNTIF(N74:AR74,\"AF3\")+COUNTIF(N74:AR74,\"AF4\")+COUNTIF(N74:AR74,\"AF5\")+COUNTIF(N74:AR74,\"AF6\")+COUNTIF(N74:AR74,\"AF7\")+COUNTIF(N74:AR74,\"AF8\")+COUNTIF(N74:AR74,\"AF9\")+COUNTIF(N74:AR74,\"AF10\")+COUNTIF(N74:AR74,\"AF11\")+COUNTIF(N74:AR74,\"AF12\")+COUNTIF(N74:AR74,\"AF13\")+COUNTIF(N74:AR74,\"AF14\"),\"\")","v":0},{"$f":"IF(A74<>\"\",COUNTIF(N74:AR74,\"CE\")+COUNTIF(N74:AR74,\"L\")+COUNTIF(N74:AR74,\"LM\")+COUNTIF(N74:AR74,\"LP\")+COUNTIF(N74:AR74,\"LC\")+COUNTIF(N74:AR74,\"AB\")+COUNTIF(N74:AR74,\"AF1\")+COUNTIF(N74:AR74,\"AF2\")+COUNTIF(N74:AR74,\"AF3\")+COUNTIF(N74:AR74,\"AF4\")+COUNTIF(N74:AR74,\"AF5\")+COUNTIF(N74:AR74,\"AF6\")+COUNTIF(N74:AR74,\"AF7\")+COUNTIF(N74:AR74,\"AF8\")+COUNTIF(N74:AR74,\"AF9\")+COUNTIF(N74:AR74,\"AF10\")+COUNTIF(N74:AR74,\"AF11\")+COUNTIF(N74:AR74,\"AF12\")+COUNTIF(N74:AR74,\"AF13\")+COUNTIF(N74:AR74,\"AF14\")+COUNTIF(N74:AR74,\"RC\")+COUNTIF(N74:AR74,\"FO\")+COUNTIF(N74:AR74,\"FE\"),\"\")","v":18},{"$f":"IF(A74<>\"\",COUNTIF(N74:AR74,\"APH\"),\"\")","v":0}]
["Edna dos S. Fonseca",1854787,103912,"TE ","RJU",30,null,null,null,null,null,null,null,"N2","FO","FO","N2","FO","FO","N2","FO","FO","N2","FO","FO","N2","FO","FO","N2","FO","FO","N2","FO","FO","N2","FO","FO","N2","FO","FO","N2",null,null,null,{"$f":"IF(A75<>\"\",IFERROR(VLOOKUP(N75,Tabelas!B:D,3,0),0),\"\")","v":12},{"$f":"IF(A75<>\"\",IFERROR(VLOOKUP(O75,Tabelas!B:D,3,0),0),\"\")","v":0},{"$f":"IF(A75<>\"\",IFERROR(VLOOKUP(P75,Tabelas!B:D,3,0),0),\"\")","v":0},{"$f":"IF(A75<>\"\",IFERROR(VLOOKUP(Q75,Tabelas!B:D,3,0),0),\"\")","v":12},{"$f":"IF(A75<>\"\",IFERROR(VLOOKUP(R75,Tabelas!B:D,3,0),0),\"\")","v":0},{"$f":"IF(A75<>\"\",IFERROR(VLOOKUP(S75,Tabelas!B:D,3,0),0),\"\")","v":0},{"$f":"IF(A75<>\"\",IFERROR(VLOOKUP(T75,Tabelas!B:D,3,0),0),\"\")","v":12},{"$f":"IF(A75<>\"\",IFERROR(VLOOKUP(U75,Tabelas!B:D,3,0),0),\"\")","v":0},{"$f":"IF(A75<>\"\",IFERROR(VLOOKUP(V75,Tabelas!B:D,3,0),0),\"\")","v":0},{"$f":"IF(A75<>\"\",IFERROR(VLOOKUP(W75,Tabelas!B:D,3,0),0),\"\")","v":12},{"$f":"IF(A75<>\"\",IFERROR(VLOOKUP(X75,Tabelas!B:D,3,0),0),\"\")","v":0},{"$f":"IF(A75<>\"\",IFERROR(VLOOKUP(Y75,Tabelas!B:D,3,0),0),\"\")","v":0},{"$f":"IF(A75<>\"\",IFERROR(VLOOKUP(Z75,Tabelas!B:D,3,0),0),\"\")","v":12},{"$f":"IF(A75<>\"\",IFERROR(VLOOKUP(AA75,Tabelas!B:D,3,0),0),\"\")","v":0},{"$f":"IF(A75<>\"\",IFERROR(VLOOKUP(AB75,Tabelas!B:D,3,0),0),\"\")","v":0},{"$f":"IF(A75<>\"\",IFERROR(VLOOKUP(AC75,Tabelas!B:D,3,0),0),\"\")","v":12},{"$f":"IF(A75<>\"\",IFERROR(VLOOKUP(AD75,Tabelas!B:D,3,0),0),\"\")","v":0},{"$f":"IF(A75<>\"\",IFERROR(VLOOKUP(AE75,Tabelas!B:D,3,0),0),\"\")","v":0},{"$f":"IF(A75<>\"\",IFERROR(VLOOKUP(AF75,Tabelas!B:D,3,0),0),\"\")","v":12},{"$f":"IF(A75<>\"\",IFERROR(VLOOKUP(AG75,Tabelas!B:D,3,0),0),\"\")","v":0},{"$f":"IF(A75<>\"\",IFERROR(VLOOKUP(AH75,Tabelas!B:D,3,0),0),\"\")","v":0},{"$f":"IF(A75<>\"\",IFERROR(VLOOKUP(AI75,Tabelas!B:D,3,0),0),\"\")","v":12},{"$f":"IF(A75<>\"\",IFERROR(VLOOKUP(AJ75,Tabelas!B:D,3,0),0),\"\")","v":0},{"$f":"IF(A75<>\"\",IFERROR(VLOOKUP(AK75,Tabelas!B:D,3,0),0),\"\")","v":0},{"$f":"IF(A75<>\"\",IFERROR(VLOOKUP(AL75,Tabelas!B:D,3,0),0),\"\")","v":12},{"$f":"IF(A75<>\"\",IFERROR(VLOOKUP(AM75,Tabelas!B:D,3,0),0),\"\")","v":0},{"$f":"IF(A75<>\"\",IFERROR(VLOOKUP(AN75,Tabelas!B:D,3,0),0),\"\")","v":0},{"$f":"IF(A75<>\"\",IFERROR(VLOOKUP(AO75,Tabelas!B:D,3,0),0),\"\")","v":12},{"$f":"IF(A75<>\"\",IFERROR(VLOOKUP(AP75,Tabelas!B:D,3,0),0),\"\")","v":0},{"$f":"IF(A75<>\"\",IFERROR(VLOOKUP(AQ75,Tabelas!B:D,3,0),0),\"\")","v":0},{"$f":"IF(A75<>\"\",IFERROR(VLOOKUP(AR75,Tabelas!B:D,3,0),0),\"\")","v":0},120,0,0,0,0,0,0,18,0]
["Evelin F. Pedroso",1788215,91598,"TE ","RJU",30,null,null,null,null,null,null,null,"N2","FO","FO","N2","FO","FO","N2","FO","FO","N2","FO","FO","N2","FO","FO","N2","FO","FO","N2","FO","FO","N2","FO","FO","N2","FO","FO","N2",null,null,null,{"$f":"IF(A76<>\"\",IFERROR(VLOOKUP(N76,Tabelas!B:D,3,0),0),\"\")","v":12},{"$f":"IF(A76<>\"\",IFERROR(VLOOKUP(O76,Tabelas!B:D,3,0),0),\"\")","v":0},{"$f":"IF(A76<>\"\",IFERROR(VLOOKUP(P76,Tabelas!B:D,3,0),0),\"\")","v":0},{"$f":"IF(A76<>\"\",IFERROR(VLOOKUP(Q76,Tabelas!B:D,3,0),0),\"\")","v":12},{"$f":"IF(A76<>\"\",IFERROR(VLOOKUP(R76,Tabelas!B:D,3,0),0),\"\")","v":0},{"$f":"IF(A76<>\"\",IFERROR(VLOOKUP(S76,Tabelas!B:D,3,0),0),\"\")","v":0},{"$f":"IF(A76<>\"\",IFERROR(VLOOKUP(T76,Tabelas!B:D,3,0),0),\"\")","v":12},{"$f":"IF(A76<>\"\",IFERROR(VLOOKUP(U76,Tabelas!B:D,3,0),0),\"\")","v":0},{"$f":"IF(A76<>\"\",IFERROR(VLOOKUP(V76,Tabelas!B:D,3,0),0),\"\")","v":0},{"$f":"IF(A76<>\"\",IFERROR(VLOOKUP(W76,Tabelas!B:D,3,0),0),\"\")","v":12},{"$f":"IF(A76<>\"\",IFERROR(VLOOKUP(X76,Tabelas!B:D,3,0),0),\"\")","v":0},{"$f":"IF(A76<>\"\",IFERROR(VLOOKUP(Y76,Tabelas!B:D,3,0),0),\"\")","v":0},{"$f":"IF(A76<>\"\",IFERROR(VLOOKUP(Z76,Tabelas!B:D,3,0),0),\"\")","v":12},{"$f":"IF(A76<>\"\",IFERROR(VLOOKUP(AA76,Tabelas!B:D,3,0),0),\"\")","v":0},{"$f":"IF(A76<>\"\",IFERROR(VLOOKUP(AB76,Tabelas!B:D,3,0),0),\"\")","v":0},{"$f":"IF(A76<>\"\",IFERROR(VLOOKUP(AC76,Tabelas!B:D,3,0),0),\"\")","v":12},{"$f":"IF(A76<>\"\",IFERROR(VLOOKUP(AD76,Tabelas!B:D,3,0),0),\"\")","v":0},{"$f":"IF(A76<>\"\",IFERROR(VLOOKUP(AE76,Tabelas!B:D,3,0),0),\"\")","v":0},{"$f":"IF(A76<>\"\",IFERROR(VLOOKUP(AF76,Tabelas!B:D,3,0),0),\"\")","v":12},{"$f":"IF(A76<>\"\",IFERROR(VLOOKUP(AG76,Tabelas!B:D,3,0),0),\"\")","v":0},{"$f":"IF(A76<>\"\",IFERROR(VLOOKUP(AH76,Tabelas!B:D,3,0),0),\"\")","v":0},{"$f":"IF(A76<>\"\",IFERROR(VLOOKUP(AI76,Tabelas!B:D,3,0),0),\"\")","v":12},{"$f":"IF(A76<>\"\",IFERROR(VLOOKUP(AJ76,Tabelas!B:D,3,0),0),\"\")","v":0},{"$f":"IF(A76<>\"\",IFERROR(VLOOKUP(AK76,Tabelas!B:D,3,0),0),\"\")","v":0},{"$f":"IF(A76<>\"\",IFERROR(VLOOKUP(AL76,Tabelas!B:D,3,0),0),\"\")","v":12},{"$f":"IF(A76<>\"\",IFERROR(VLOOKUP(AM76,Tabelas!B:D,3,0),0),\"\")","v":0},{"$f":"IF(A76<>\"\",IFERROR(VLOOKUP(AN76,Tabelas!B:D,3,0),0),\"\")","v":0},{"$f":"IF(A76<>\"\",IFERROR(VLOOKUP(AO76,Tabelas!B:D,3,0),0),\"\")","v":12},{"$f":"IF(A76<>\"\",IFERROR(VLOOKUP(AP76,Tabelas!B:D,3,0),0),\"\")","v":0},{"$f":"IF(A76<>\"\",IFERROR(VLOOKUP(AQ76,Tabelas!B:D,3,0),0),\"\")","v":0},{"$f":"IF(A76<>\"\",IFERROR(VLOOKUP(AR76,Tabelas!B:D,3,0),0),\"\")","v":0},120,0,0,0,0,0,0,18,0]
["James E. Knaul",1160048,48045,"TE ","RJU",30,null,null,null,null,null,null,null,"FE","FE","FE","FE","FE","FE","FE","FE","FE","FE","FE","FE","FE","FE","FE","FE","FE","FE","FE","FE","FO","N2","N2","FO","N2","N2","FO","N2",null,null,null,{"$f":"IF(A77<>\"\",IFERROR(VLOOKUP(N77,Tabelas!B:D,3,0),0),\"\")","v":0},{"$f":"IF(A77<>\"\",IFERROR(VLOOKUP(O77,Tabelas!B:D,3,0),0),\"\")","v":0},{"$f":"IF(A77<>\"\",IFERROR(VLOOKUP(P77,Tabelas!B:D,3,0),0),\"\")","v":0},{"$f":"IF(A77<>\"\",IFERROR(VLOOKUP(Q77,Tabelas!B:D,3,0),0),\"\")","v":0},{"$f":"IF(A77<>\"\",IFERROR(VLOOKUP(R77,Tabelas!B:D,3,0),0),\"\")","v":0},{"$f":"IF(A77<>\"\",IFERROR(VLOOKUP(S77,Tabelas!B:D,3,0),0),\"\")","v":0},{"$f":"IF(A77<>\"\",IFERROR(VLOOKUP(T77,Tabelas!B:D,3,0),0),\"\")","v":0},{"$f":"IF(A77<>\"\",IFERROR(VLOOKUP(U77,Tabelas!B:D,3,0),0),\"\")","v":0},{"$f":"IF(A77<>\"\",IFERROR(VLOOKUP(V77,Tabelas!B:D,3,0),0),\"\")","v":0},{"$f":"IF(A77<>\"\",IFERROR(VLOOKUP(W77,Tabelas!B:D,3,0),0),\"\")","v":0},{"$f":"IF(A77<>\"\",IFERROR(VLOOKUP(X77,Tabelas!B:D,3,0),0),\"\")","v":0},{"$f":"IF(A77<>\"\",IFERROR(VLOOKUP(Y77,Tabelas!B:D,3,0),0),\"\")","v":0},{"$f":"IF(A77<>\"\",IFERROR(VLOOKUP(Z77,Tabelas!B:D,3,0),0),\"\")","v":0},{"$f":"IF(A77<>\"\",IFERROR(VLOOKUP(AA77,Tabelas!B:D,3,0),0),\"\")","v":0},{"$f":"IF(A77<>\"\",IFERROR(VLOOKUP(AB77,Tabelas!B:D,3,0),0),\"\")","v":0},{"$f":"IF(A77<>\"\",IFERROR(VLOOKUP(AC77,Tabelas!B:D,3,0),0),\"\")","v":0},{"$f":"IF(A77<>\"\",IFERROR(VLOOKUP(AD77,Tabelas!B:D,3,0),0),\"\")","v":0},{"$f":"IF(A77<>\"\",IFERROR(VLOOKUP(AE77,Tabelas!B:D,3,0),0),\"\")","v":0},{"$f":"IF(A77<>\"\",IFERROR(VLOOKUP(AF77,Tabelas!B:D,3,0),0),\"\")","v":0},{"$f":"IF(A77<>\"\",IFERROR(VLOOKUP(AG77,Tabelas!B:D,3,0),0),\"\")","v":0},{"$f":"IF(A77<>\"\",IFERROR(VLOOKUP(AH77,Tabelas!B:D,3,0),0),\"\")","v":0},{"$f":"IF(A77<>\"\",IFERROR(VLOOKUP(AI77,Tabelas!B:D,3,0),0),\"\")","v":12},{"$f":"IF(A77<>\"\",IFERROR(VLOOKUP(AJ77,Tabelas!B:D,3,0),0),\"\")","v":12},{"$f":"IF(A77<>\"\",IFERROR(VLOOKUP(AK77,Tabelas!B:D,3,0),0),\"\")","v":0},{"$f":"IF(A77<>\"\",IFERROR(VLOOKUP(AL77,Tabelas!B:D,3,0),0),\"\")","v":12},{"$f":"IF(A77<>\"\",IFERROR(VLOOKUP(AM77,Tabelas!B:D,3,0),0),\"\")","v":12},{"$f":"IF(A77<>\"\",IFERROR(VLOOKUP(AN77,Tabelas!B:D,3,0),0),\"\")","v":0},{"$f":"IF(A77<>\"\",IFERROR(VLOOKUP(AO77,Tabelas!B:D,3,0),0),\"\")","v":12},{"$f":"IF(A77<>\"\",IFERROR(VLOOKUP(AP77,Tabelas!B:D,3,0),0),\"\")","v":0},{"$f":"IF(A77<>\"\",IFERROR(VLOOKUP(AQ77,Tabelas!B:D,3,0),0),\"\")","v":0},{"$f":"IF(A77<>\"\",IFERROR(VLOOKUP(AR77,Tabelas!B:D,3,0),0),\"\")","v":0},60,0,0,20,0,0,0,23,0]
["Tania Ap. E. Souza",1858940,103928,"TE ","RJU",30,null,null,null,null,null,null,null,"N2","FO","FO","N2","FO","FO","N2","FO","FO","N2","FO","FO","N2","FO","FO","N2","FO","FO","N2","FO","FO","N2","FO","FO","N2","FO","FO","N2",null,null,null,{"$f":"IF(A78<>\"\",IFERROR(VLOOKUP(N78,Tabelas!B:D,3,0),0),\"\")","v":12},{"$f":"IF(A78<>\"\",IFERROR(VLOOKUP(O78,Tabelas!B:D,3,0),0),\"\")","v":0},{"$f":"IF(A78<>\"\",IFERROR(VLOOKUP(P78,Tabelas!B:D,3,0),0),\"\")","v":0},{"$f":"IF(A78<>\"\",IFERROR(VLOOKUP(Q78,Tabelas!B:D,3,0),0),\"\")","v":12},{"$f":"IF(A78<>\"\",IFERROR(VLOOKUP(R78,Tabelas!B:D,3,0),0),\"\")","v":0},{"$f":"IF(A78<>\"\",IFERROR(VLOOKUP(S78,Tabelas!B:D,3,0),0),\"\")","v":0},{"$f":"IF(A78<>\"\",IFERROR(VLOOKUP(T78,Tabelas!B:D,3,0),0),\"\")","v":12},{"$f":"IF(A78<>\"\",IFERROR(VLOOKUP(U78,Tabelas!B:D,3,0),0),\"\")","v":0},{"$f":"IF(A78<>\"\",IFERROR(VLOOKUP(V78,Tabelas!B:D,3,0),0),\"\")","v":0},{"$f":"IF(A78<>\"\",IFERROR(VLOOKUP(W78,Tabelas!B:D,3,0),0),\"\")","v":12},{"$f":"IF(A78<>\"\",IFERROR(VLOOKUP(X78,Tabelas!B:D,3,0),0),\"\")","v":0},{"$f":"IF(A78<>\"\",IFERROR(VLOOKUP(Y78,Tabelas!B:D,3,0),0),\"\")","v":0},{"$f":"IF(A78<>\"\",IFERROR(VLOOKUP(Z78,Tabelas!B:D,3,0),0),\"\")","v":12},{"$f":"IF(A78<>\"\",IFERROR(VLOOKUP(AA78,Tabelas!B:D,3,0),0),\"\")","v":0},{"$f":"IF(A78<>\"\",IFERROR(VLOOKUP(AB78,Tabelas!B:D,3,0),0),\"\")","v":0},{"$f":"IF(A78<>\"\",IFERROR(VLOOKUP(AC78,Tabelas!B:D,3,0),0),\"\")","v":12},{"$f":"IF(A78<>\"\",IFERROR(VLOOKUP(AD78,Tabelas!B:D,3,0),0),\"\")","v":0},{"$f":"IF(A78<>\"\",IFERROR(VLOOKUP(AE78,Tabelas!B:D,3,0),0),\"\")","v":0},{"$f":"IF(A78<>\"\",IFERROR(VLOOKUP(AF78,Tabelas!B:D,3,0),0),\"\")","v":12},{"$f":"IF(A78<>\"\",IFERROR(VLOOKUP(AG78,Tabelas!B:D,3,0),0),\"\")","v":0},{"$f":"IF(A78<>\"\",IFERROR(VLOOKUP(AH78,Tabelas!B:D,3,0),0),\"\")","v":0},{"$f":"IF(A78<>\"\",IFERROR(VLOOKUP(AI78,Tabelas!B:D,3,0),0),\"\")","v":12},{"$f":"IF(A78<>\"\",IFERROR(VLOOKUP(AJ78,Tabelas!B:D,3,0),0),\"\")","v":0},{"$f":"IF(A78<>\"\",IFERROR(VLOOKUP(AK78,Tabelas!B:D,3,0),0),\"\")","v":0},{"$f":"IF(A78<>\"\",IFERROR(VLOOKUP(AL78,Tabelas!B:D,3,0),0),\"\")","v":12},{"$f":"IF(A78<>\"\",IFERROR(VLOOKUP(AM78,Tabelas!B:D,3,0),0),\"\")","v":0},{"$f":"IF(A78<>\"\",IFERROR(VLOOKUP(AN78,Tabelas!B:D,3,0),0),\"\")","v":0},{"$f":"IF(A78<>\"\",IFERROR(VLOOKUP(AO78,Tabelas!B:D,3,0),0),\"\")","v":12},{"$f":"IF(A78<>\"\",IFERROR(VLOOKUP(AP78,Tabelas!B:D,3,0),0),\"\")","v":0},{"$f":"IF(A78<>\"\",IFERROR(VLOOKUP(AQ78,Tabelas!B:D,3,0),0),\"\")","v":0},{"$f":"IF(A78<>\"\",IFERROR(VLOOKUP(AR78,Tabelas!B:D,3,0),0),\"\")","v":0},{"$f":"IF(A78<>\"\",SUM(AS78:BW78),\"\")","v":120},{"$f":"IF(A78<>\"\",COUNTIF(N78:AR78,\"LM\")+COUNTIF(N78:AR78,\"L\"),\"\")+COUNTIF(N78:AR78,\"LP\")","v":0},0,0,0,0,{"$f":"IF(A78<>\"\",COUNTIF(N78:AR78,\"AF1\")+COUNTIF(N78:AR78,\"AF2\")+COUNTIF(N78:AR78,\"AF3\")+COUNTIF(N78:AR78,\"AF4\")+COUNTIF(N78:AR78,\"AF5\")+COUNTIF(N78:AR78,\"AF6\")+COUNTIF(N78:AR78,\"AF7\")+COUNTIF(N78:AR78,\"AF8\")+COUNTIF(N78:AR78,\"AF9\")+COUNTIF(N78:AR78,\"AF10\")+COUNTIF(N78:AR78,\"AF11\")+COUNTIF(N78:AR78,\"AF12\")+COUNTIF(N78:AR78,\"AF13\")+COUNTIF(N78:AR78,\"AF14\"),\"\")","v":0},{"$f":"IF(A78<>\"\",COUNTIF(N78:AR78,\"CE\")+COUNTIF(N78:AR78,\"L\")+COUNTIF(N78:AR78,\"LM\")+COUNTIF(N78:AR78,\"LP\")+COUNTIF(N78:AR78,\"LC\")+COUNTIF(N78:AR78,\"AB\")+COUNTIF(N78:AR78,\"AF1\")+COUNTIF(N78:AR78,\"AF2\")+COUNTIF(N78:AR78,\"AF3\")+COUNTIF(N78:AR78,\"AF4\")+COUNTIF(N78:AR78,\"AF5\")+COUNTIF(N78:AR78,\"AF6\")+COUNTIF(N78:AR78,\"AF7\")+COUNTIF(N78:AR78,\"AF8\")+COUNTIF(N78:AR78,\"AF9\")+COUNTIF(N78:AR78,\"AF10\")+COUNTIF(N78:AR78,\"AF11\")+COUNTIF(N78:AR78,\"AF12\")+COUNTIF(N78:AR78,\"AF13\")+COUNTIF(N78:AR78,\"AF14\")+COUNTIF(N78:AR78,\"RC\")+COUNTIF(N78:AR78,\"FO\")+COUNTIF(N78:AR78,\"FE\"),\"\")","v":18},{"$f":"IF(A78<>\"\",COUNTIF(N78:AR78,\"APH\"),\"\")","v":0}]
["Márcia T. Mariano",1451143,59215,"TE ","RJU",30,null,null,null,null,null,null,null,"N2","FO","FO","N2","FO","FO","N2","FO","FO","N2","FO","FO","N2","FO","FO","N2","FO","FO","N2","FO","FO","N2","FO","FO","N2","FO","FO","N2",null,null,null,{"$f":"IF(A79<>\"\",IFERROR(VLOOKUP(N79,Tabelas!B:D,3,0),0),\"\")","v":12},{"$f":"IF(A79<>\"\",IFERROR(VLOOKUP(O79,Tabelas!B:D,3,0),0),\"\")","v":0},{"$f":"IF(A79<>\"\",IFERROR(VLOOKUP(P79,Tabelas!B:D,3,0),0),\"\")","v":0},{"$f":"IF(A79<>\"\",IFERROR(VLOOKUP(Q79,Tabelas!B:D,3,0),0),\"\")","v":12},{"$f":"IF(A79<>\"\",IFERROR(VLOOKUP(R79,Tabelas!B:D,3,0),0),\"\")","v":0},{"$f":"IF(A79<>\"\",IFERROR(VLOOKUP(S79,Tabelas!B:D,3,0),0),\"\")","v":0},{"$f":"IF(A79<>\"\",IFERROR(VLOOKUP(T79,Tabelas!B:D,3,0),0),\"\")","v":12},{"$f":"IF(A79<>\"\",IFERROR(VLOOKUP(U79,Tabelas!B:D,3,0),0),\"\")","v":0},{"$f":"IF(A79<>\"\",IFERROR(VLOOKUP(V79,Tabelas!B:D,3,0),0),\"\")","v":0},{"$f":"IF(A79<>\"\",IFERROR(VLOOKUP(W79,Tabelas!B:D,3,0),0),\"\")","v":12},{"$f":"IF(A79<>\"\",IFERROR(VLOOKUP(X79,Tabelas!B:D,3,0),0),\"\")","v":0},{"$f":"IF(A79<>\"\",IFERROR(VLOOKUP(Y79,Tabelas!B:D,3,0),0),\"\")","v":0},{"$f":"IF(A79<>\"\",IFERROR(VLOOKUP(Z79,Tabelas!B:D,3,0),0),\"\")","v":12},{"$f":"IF(A79<>\"\",IFERROR(VLOOKUP(AA79,Tabelas!B:D,3,0),0),\"\")","v":0},{"$f":"IF(A79<>\"\",IFERROR(VLOOKUP(AB79,Tabelas!B:D,3,0),0),\"\")","v":0},{"$f":"IF(A79<>\"\",IFERROR(VLOOKUP(AC79,Tabelas!B:D,3,0),0),\"\")","v":12},{"$f":"IF(A79<>\"\",IFERROR(VLOOKUP(AD79,Tabelas!B:D,3,0),0),\"\")","v":0},{"$f":"IF(A79<>\"\",IFERROR(VLOOKUP(AE79,Tabelas!B:D,3,0),0),\"\")","v":0},{"$f":"IF(A79<>\"\",IFERROR(VLOOKUP(AF79,Tabelas!B:D,3,0),0),\"\")","v":12},{"$f":"IF(A79<>\"\",IFERROR(VLOOKUP(AG79,Tabelas!B:D,3,0),0),\"\")","v":0},{"$f":"IF(A79<>\"\",IFERROR(VLOOKUP(AH79,Tabelas!B:D,3,0),0),\"\")","v":0},{"$f":"IF(A79<>\"\",IFERROR(VLOOKUP(AI79,Tabelas!B:D,3,0),0),\"\")","v":12},{"$f":"IF(A79<>\"\",IFERROR(VLOOKUP(AJ79,Tabelas!B:D,3,0),0),\"\")","v":0},{"$f":"IF(A79<>\"\",IFERROR(VLOOKUP(AK79,Tabelas!B:D,3,0),0),\"\")","v":0},{"$f":"IF(A79<>\"\",IFERROR(VLOOKUP(AL79,Tabelas!B:D,3,0),0),\"\")","v":12},{"$f":"IF(A79<>\"\",IFERROR(VLOOKUP(AM79,Tabelas!B:D,3,0),0),\"\")","v":0},{"$f":"IF(A79<>\"\",IFERROR(VLOOKUP(AN79,Tabelas!B:D,3,0),0),\"\")","v":0},{"$f":"IF(A79<>\"\",IFERROR(VLOOKUP(AO79,Tabelas!B:D,3,0),0),\"\")","v":12},{"$f":"IF(A79<>\"\",IFERROR(VLOOKUP(AP79,Tabelas!B:D,3,0),0),\"\")","v":0},{"$f":"IF(A79<>\"\",IFERROR(VLOOKUP(AQ79,Tabelas!B:D,3,0),0),\"\")","v":0},{"$f":"IF(A79<>\"\",IFERROR(VLOOKUP(AR79,Tabelas!B:D,3,0),0),\"\")","v":0},120,0,0,0,0,0,0,18,0]
["AUXILIARES",null,null,null,null,null,null,null,null,null,null,null,null,null,null,null,null,null,null,null,null,null,null,null,null,null,null,null,null,null,null,null,null,null,null,null,null,null,null,null,null,null,null,null,{"$f":"IF(A80<>\"\",IFERROR(VLOOKUP(N80,Tabelas!B:D,3,0),0),\"\")","v":0},{"$f":"IF(A80<>\"\",IFERROR(VLOOKUP(O80,Tabelas!B:D,3,0),0),\"\")","v":0},{"$f":"IF(A80<>\"\",IFERROR(VLOOKUP(P80,Tabelas!B:D,3,0),0),\"\")","v":0},{"$f":"IF(A80<>\"\",IFERROR(VLOOKUP(Q80,Tabelas!B:D,3,0),0),\"\")","v":0},{"$f":"IF(A80<>\"\",IFERROR(VLOOKUP(R80,Tabelas!B:D,3,0),0),\"\")","v":0},{"$f":"IF(A80<>\"\",IFERROR(VLOOKUP(S80,Tabelas!B:D,3,0),0),\"\")","v":0},{"$f":"IF(A80<>\"\",IFERROR(VLOOKUP(T80,Tabelas!B:D,3,0),0),\"\")","v":0},{"$f":"IF(A80<>\"\",IFERROR(VLOOKUP(U80,Tabelas!B:D,3,0),0),\"\")","v":0},{"$f":"IF(A80<>\"\",IFERROR(VLOOKUP(V80,Tabelas!B:D,3,0),0),\"\")","v":0},{"$f":"IF(A80<>\"\",IFERROR(VLOOKUP(W80,Tabelas!B:D,3,0),0),\"\")","v":0},{"$f":"IF(A80<>\"\",IFERROR(VLOOKUP(X80,Tabelas!B:D,3,0),0),\"\")","v":0},{"$f":"IF(A80<>\"\",IFERROR(VLOOKUP(Y80,Tabelas!B:D,3,0),0),\"\")","v":0},{"$f":"IF(A80<>\"\",IFERROR(VLOOKUP(Z80,Tabelas!B:D,3,0),0),\"\")","v":0},{"$f":"IF(A80<>\"\",IFERROR(VLOOKUP(AA80,Tabelas!B:D,3,0),0),\"\")","v":0},{"$f":"IF(A80<>\"\",IFERROR(VLOOKUP(AB80,Tabelas!B:D,3,0),0),\"\")","v":0},{"$f":"IF(A80<>\"\",IFERROR(VLOOKUP(AC80,Tabelas!B:D,3,0),0),\"\")","v":0},{"$f":"IF(A80<>\"\",IFERROR(VLOOKUP(AD80,Tabelas!B:D,3,0),0),\"\")","v":0},{"$f":"IF(A80<>\"\",IFERROR(VLOOKUP(AE80,Tabelas!B:D,3,0),0),\"\")","v":0},{"$f":"IF(A80<>\"\",IFERROR(VLOOKUP(AF80,Tabelas!B:D,3,0),0),\"\")","v":0},{"$f":"IF(A80<>\"\",IFERROR(VLOOKUP(AG80,Tabelas!B:D,3,0),0),\"\")","v":0},{"$f":"IF(A80<>\"\",IFERROR(VLOOKUP(AH80,Tabelas!B:D,3,0),0),\"\")","v":0},{"$f":"IF(A80<>\"\",IFERROR(VLOOKUP(AI80,Tabelas!B:D,3,0),0),\"\")","v":0},{"$f":"IF(A80<>\"\",IFERROR(VLOOKUP(AJ80,Tabelas!B:D,3,0),0),\"\")","v":0},{"$f":"IF(A80<>\"\",IFERROR(VLOOKUP(AK80,Tabelas!B:D,3,0),0),\"\")","v":0},{"$f":"IF(A80<>\"\",IFERROR(VLOOKUP(AL80,Tabelas!B:D,3,0),0),\"\")","v":0},{"$f":"IF(A80<>\"\",IFERROR(VLOOKUP(AM80,Tabelas!B:D,3,0),0),\"\")","v":0},{"$f":"IF(A80<>\"\",IFERROR(VLOOKUP(AN80,Tabelas!B:D,3,0),0),\"\")","v":0},{"$f":"IF(A80<>\"\",IFERROR(VLOOKUP(AO80,Tabelas!B:D,3,0),0),\"\")","v":0},{"$f":"IF(A80<>\"\",IFERROR(VLOOKUP(AP80,Tabelas!B:D,3,0),0),\"\")","v":0},{"$f":"IF(A80<>\"\",IFERROR(VLOOKUP(AQ80,Tabelas!B:D,3,0),0),\"\")","v":0},{"$f":"IF(A80<>\"\",IFERROR(VLOOKUP(AR80,Tabelas!B:D,3,0),0),\"\")","v":0},{"$f":"IF(A80<>\"\",SUM(AS80:BW80),\"\")","v":0},{"$f":"IF(A80<>\"\",COUNTIF(N80:AR80,\"LM\")+COUNTIF(N80:AR80,\"L\"),\"\")+COUNTIF(N80:AR80,\"LP\")","v":0},{"$f":"IF(A80<>\"\",COUNTIF(N80:AR80,\"AB\"),\"\")","v":0},{"$f":"IF(A80<>\"\",COUNTIF(N80:AR80,\"FE\"),\"\")","v":0},{"$f":"IF(A80<>\"\",COUNTIF(N80:AR80,\"LC\"),\"\")","v":0},{"$f":"IF(A80<>\"\",COUNTIF(N80:AR80,\"CE\"),\"\")","v":0},{"$f":"IF(A80<>\"\",COUNTIF(N80:AR80,\"AF1\")+COUNTIF(N80:AR80,\"AF2\")+COUNTIF(N80:AR80,\"AF3\")+COUNTIF(N80:AR80,\"AF4\")+COUNTIF(N80:AR80,\"AF5\")+COUNTIF(N80:AR80,\"AF6\")+COUNTIF(N80:AR80,\"AF7\")+COUNTIF(N80:AR80,\"AF8\")+COUNTIF(N80:AR80,\"AF9\")+COUNTIF(N80:AR80,\"AF10\")+COUNTIF(N80:AR80,\"AF11\")+COUNTIF(N80:AR80,\"AF12\")+COUNTIF(N80:AR80,\"AF13\")+COUNTIF(N80:AR80,\"AF14\"),\"\")","v":0},{"$f":"IF(A80<>\"\",COUNTIF(N80:AR80,\"CE\")+COUNTIF(N80:AR80,\"L\")+COUNTIF(N80:AR80,\"LM\")+COUNTIF(N80:AR80,\"LP\")+COUNTIF(N80:AR80,\"LC\")+COUNTIF(N80:AR80,\"AB\")+COUNTIF(N80:AR80,\"AF1\")+COUNTIF(N80:AR80,\"AF2\")+COUNTIF(N80:AR80,\"AF3\")+COUNTIF(N80:AR80,\"AF4\")+COUNTIF(N80:AR80,\"AF5\")+COUNTIF(N80:AR80,\"AF6\")+COUNTIF(N80:AR80,\"AF7\")+COUNTIF(N80:AR80,\"AF8\")+COUNTIF(N80:AR80,\"AF9\")+COUNTIF(N80:AR80,\"AF10\")+COUNTIF(N80:AR80,\"AF11\")+COUNTIF(N80:AR80,\"AF12\")+COUNTIF(N80:AR80,\"AF13\")+COUNTIF(N80:AR80,\"AF14\")+COUNTIF(N80:AR80,\"RC\")+COUNTIF(N80:AR80,\"FO\")+COUNTIF(N80:AR80,\"FE\"),\"\")","v":0},{"$f":"IF(A80<>\"\",COUNTIF(N80:AR80,\"APH\"),\"\")","v":0}]
["Adelino da Silva",1189563,105639,"AE","RJU",30,null,null,null,null,null,null,null,"M6","FO","FO","M6","M6","M6","M6","M6","FO","FO","M6","M6","M6","M6","M6","FO","FO","M6","M6","M6","M6","M6","FO","FO","M6","M6","M6","M6",null,null,null,{"$f":"IF(A81<>\"\",IFERROR(VLOOKUP(N81,Tabelas!B:D,3,0),0),\"\")","v":6},{"$f":"IF(A81<>\"\",IFERROR(VLOOKUP(O81,Tabelas!B:D,3,0),0),\"\")","v":0},{"$f":"IF(A81<>\"\",IFERROR(VLOOKUP(P81,Tabelas!B:D,3,0),0),\"\")","v":0},{"$f":"IF(A81<>\"\",IFERROR(VLOOKUP(Q81,Tabelas!B:D,3,0),0),\"\")","v":6},{"$f":"IF(A81<>\"\",IFERROR(VLOOKUP(R81,Tabelas!B:D,3,0),0),\"\")","v":6},{"$f":"IF(A81<>\"\",IFERROR(VLOOKUP(S81,Tabelas!B:D,3,0),0),\"\")","v":6},{"$f":"IF(A81<>\"\",IFERROR(VLOOKUP(T81,Tabelas!B:D,3,0),0),\"\")","v":6},{"$f":"IF(A81<>\"\",IFERROR(VLOOKUP(U81,Tabelas!B:D,3,0),0),\"\")","v":6},{"$f":"IF(A81<>\"\",IFERROR(VLOOKUP(V81,Tabelas!B:D,3,0),0),\"\")","v":0},{"$f":"IF(A81<>\"\",IFERROR(VLOOKUP(W81,Tabelas!B:D,3,0),0),\"\")","v":0},{"$f":"IF(A81<>\"\",IFERROR(VLOOKUP(X81,Tabelas!B:D,3,0),0),\"\")","v":6},{"$f":"IF(A81<>\"\",IFERROR(VLOOKUP(Y81,Tabelas!B:D,3,0),0),\"\")","v":6},{"$f":"IF(A81<>\"\",IFERROR(VLOOKUP(Z81,Tabelas!B:D,3,0),0),\"\")","v":6},{"$f":"IF(A81<>\"\",IFERROR(VLOOKUP(AA81,Tabelas!B:D,3,0),0),\"\")","v":6},{"$f":"IF(A81<>\"\",IFERROR(VLOOKUP(AB81,Tabelas!B:D,3,0),0),\"\")","v":6},{"$f":"IF(A81<>\"\",IFERROR(VLOOKUP(AC81,Tabelas!B:D,3,0),0),\"\")","v":0},{"$f":"IF(A81<>\"\",IFERROR(VLOOKUP(AD81,Tabelas!B:D,3,0),0),\"\")","v":0},{"$f":"IF(A81<>\"\",IFERROR(VLOOKUP(AE81,Tabelas!B:D,3,0),0),\"\")","v":6},{"$f":"IF(A81<>\"\",IFERROR(VLOOKUP(AF81,Tabelas!B:D,3,0),0),\"\")","v":6},{"$f":"IF(A81<>\"\",IFERROR(VLOOKUP(AG81,Tabelas!B:D,3,0),0),\"\")","v":6},{"$f":"IF(A81<>\"\",IFERROR(VLOOKUP(AH81,Tabelas!B:D,3,0),0),\"\")","v":6},{"$f":"IF(A81<>\"\",IFERROR(VLOOKUP(AI81,Tabelas!B:D,3,0),0),\"\")","v":6},{"$f":"IF(A81<>\"\",IFERROR(VLOOKUP(AJ81,Tabelas!B:D,3,0),0),\"\")","v":0},{"$f":"IF(A81<>\"\",IFERROR(VLOOKUP(AK81,Tabelas!B:D,3,0),0),\"\")","v":0},{"$f":"IF(A81<>\"\",IFERROR(VLOOKUP(AL81,Tabelas!B:D,3,0),0),\"\")","v":6},{"$f":"IF(A81<>\"\",IFERROR(VLOOKUP(AM81,Tabelas!B:D,3,0),0),\"\")","v":6},{"$f":"IF(A81<>\"\",IFERROR(VLOOKUP(AN81,Tabelas!B:D,3,0),0),\"\")","v":6},{"$f":"IF(A81<>\"\",IFERROR(VLOOKUP(AO81,Tabelas!B:D,3,0),0),\"\")","v":6},{"$f":"IF(A81<>\"\",IFERROR(VLOOKUP(AP81,Tabelas!B:D,3,0),0),\"\")","v":0},{"$f":"IF(A81<>\"\",IFERROR(VLOOKUP(AQ81,Tabelas!B:D,3,0),0),\"\")","v":0},{"$f":"IF(A81<>\"\",IFERROR(VLOOKUP(AR81,Tabelas!B:D,3,0),0),\"\")","v":0},120,0,0,0,0,0,0,8,0]
["Neri J. Rios",1160207,253614,"AE","RJU",30,null,null,null,null,null,null,null,"FO","N2","FO","FO","N2","FO","FO","N2","FO","FO","N2","FO","FO","N2","FO","FO","N2","FO","FO","N2","FO","FO","N2","FO","FO","N2","FO","FO",null,null,null,{"$f":"IF(A82<>\"\",IFERROR(VLOOKUP(N82,Tabelas!B:D,3,0),0),\"\")","v":0},{"$f":"IF(A82<>\"\",IFERROR(VLOOKUP(O82,Tabelas!B:D,3,0),0),\"\")","v":12},{"$f":"IF(A82<>\"\",IFERROR(VLOOKUP(P82,Tabelas!B:D,3,0),0),\"\")","v":0},{"$f":"IF(A82<>\"\",IFERROR(VLOOKUP(Q82,Tabelas!B:D,3,0),0),\"\")","v":0},{"$f":"IF(A82<>\"\",IFERROR(VLOOKUP(R82,Tabelas!B:D,3,0),0),\"\")","v":12},{"$f":"IF(A82<>\"\",IFERROR(VLOOKUP(S82,Tabelas!B:D,3,0),0),\"\")","v":0},{"$f":"IF(A82<>\"\",IFERROR(VLOOKUP(T82,Tabelas!B:D,3,0),0),\"\")","v":0},{"$f":"IF(A82<>\"\",IFERROR(VLOOKUP(U82,Tabelas!B:D,3,0),0),\"\")","v":12},{"$f":"IF(A82<>\"\",IFERROR(VLOOKUP(V82,Tabelas!B:D,3,0),0),\"\")","v":0},{"$f":"IF(A82<>\"\",IFERROR(VLOOKUP(W82,Tabelas!B:D,3,0),0),\"\")","v":0},{"$f":"IF(A82<>\"\",IFERROR(VLOOKUP(X82,Tabelas!B:D,3,0),0),\"\")","v":12},{"$f":"IF(A82<>\"\",IFERROR(VLOOKUP(Y82,Tabelas!B:D,3,0),0),\"\")","v":0},{"$f":"IF(A82<>\"\",IFERROR(VLOOKUP(Z82,Tabelas!B:D,3,0),0),\"\")","v":0},{"$f":"IF(A82<>\"\",IFERROR(VLOOKUP(AA82,Tabelas!B:D,3,0),0),\"\")","v":12},{"$f":"IF(A82<>\"\",IFERROR(VLOOKUP(AB82,Tabelas!B:D,3,0),0),\"\")","v":0},{"$f":"IF(A82<>\"\",IFERROR(VLOOKUP(AC82,Tabelas!B:D,3,0),0),\"\")","v":0},{"$f":"IF(A82<>\"\",IFERROR(VLOOKUP(AD82,Tabelas!B:D,3,0),0),\"\")","v":12},{"$f":"IF(A82<>\"\",IFERROR(VLOOKUP(AE82,Tabelas!B:D,3,0),0),\"\")","v":0},{"$f":"IF(A82<>\"\",IFERROR(VLOOKUP(AF82,Tabelas!B:D,3,0),0),\"\")","v":0},{"$f":"IF(A82<>\"\",IFERROR(VLOOKUP(AG82,Tabelas!B:D,3,0),0),\"\")","v":12},{"$f":"IF(A82<>\"\",IFERROR(VLOOKUP(AH82,Tabelas!B:D,3,0),0),\"\")","v":0},{"$f":"IF(A82<>\"\",IFERROR(VLOOKUP(AI82,Tabelas!B:D,3,0),0),\"\")","v":0},{"$f":"IF(A82<>\"\",IFERROR(VLOOKUP(AJ82,Tabelas!B:D,3,0),0),\"\")","v":12},{"$f":"IF(A82<>\"\",IFERROR(VLOOKUP(AK82,Tabelas!B:D,3,0),0),\"\")","v":0},{"$f":"IF(A82<>\"\",IFERROR(VLOOKUP(AL82,Tabelas!B:D,3,0),0),\"\")","v":0},{"$f":"IF(A82<>\"\",IFERROR(VLOOKUP(AM82,Tabelas!B:D,3,0),0),\"\")","v":12},{"$f":"IF(A82<>\"\",IFERROR(VLOOKUP(AN82,Tabelas!B:D,3,0),0),\"\")","v":0},{"$f":"IF(A82<>\"\",IFERROR(VLOOKUP(AO82,Tabelas!B:D,3,0),0),\"\")","v":0},{"$f":"IF(A82<>\"\",IFERROR(VLOOKUP(AP82,Tabelas!B:D,3,0),0),\"\")","v":0},{"$f":"IF(A82<>\"\",IFERROR(VLOOKUP(AQ82,Tabelas!B:D,3,0),0),\"\")","v":0},{"$f":"IF(A82<>\"\",IFERROR(VLOOKUP(AR82,Tabelas!B:D,3,0),0),\"\")","v":0},108,0,0,0,0,0,0,19,0]
["Regina G. Cúrcio",1159445,39719,"AE","RJU",30,null,null,null,null,null,null,null,"FO","FO","N2","FO","FO","N2","FO","FO","N2","FO","FO","N2","FO","FO","N2","FO","FO","N2","FO","FO","N2","FO","FO","N2","FO","FO","N2","FO",null,null,null,{"$f":"IF(A83<>\"\",IFERROR(VLOOKUP(N83,Tabelas!B:D,3,0),0),\"\")","v":0},{"$f":"IF(A83<>\"\",IFERROR(VLOOKUP(O83,Tabelas!B:D,3,0),0),\"\")","v":0},{"$f":"IF(A83<>\"\",IFERROR(VLOOKUP(P83,Tabelas!B:D,3,0),0),\"\")","v":12},{"$f":"IF(A83<>\"\",IFERROR(VLOOKUP(Q83,Tabelas!B:D,3,0),0),\"\")","v":0},{"$f":"IF(A83<>\"\",IFERROR(VLOOKUP(R83,Tabelas!B:D,3,0),0),\"\")","v":0},{"$f":"IF(A83<>\"\",IFERROR(VLOOKUP(S83,Tabelas!B:D,3,0),0),\"\")","v":12},{"$f":"IF(A83<>\"\",IFERROR(VLOOKUP(T83,Tabelas!B:D,3,0),0),\"\")","v":0},{"$f":"IF(A83<>\"\",IFERROR(VLOOKUP(U83,Tabelas!B:D,3,0),0),\"\")","v":0},{"$f":"IF(A83<>\"\",IFERROR(VLOOKUP(V83,Tabelas!B:D,3,0),0),\"\")","v":12},{"$f":"IF(A83<>\"\",IFERROR(VLOOKUP(W83,Tabelas!B:D,3,0),0),\"\")","v":0},{"$f":"IF(A83<>\"\",IFERROR(VLOOKUP(X83,Tabelas!B:D,3,0),0),\"\")","v":0},{"$f":"IF(A83<>\"\",IFERROR(VLOOKUP(Y83,Tabelas!B:D,3,0),0),\"\")","v":12},{"$f":"IF(A83<>\"\",IFERROR(VLOOKUP(Z83,Tabelas!B:D,3,0),0),\"\")","v":0},{"$f":"IF(A83<>\"\",IFERROR(VLOOKUP(AA83,Tabelas!B:D,3,0),0),\"\")","v":0},{"$f":"IF(A83<>\"\",IFERROR(VLOOKUP(AB83,Tabelas!B:D,3,0),0),\"\")","v":12},{"$f":"IF(A83<>\"\",IFERROR(VLOOKUP(AC83,Tabelas!B:D,3,0),0),\"\")","v":0},{"$f":"IF(A83<>\"\",IFERROR(VLOOKUP(AD83,Tabelas!B:D,3,0),0),\"\")","v":0},{"$f":"IF(A83<>\"\",IFERROR(VLOOKUP(AE83,Tabelas!B:D,3,0),0),\"\")","v":12},{"$f":"IF(A83<>\"\",IFERROR(VLOOKUP(AF83,Tabelas!B:D,3,0),0),\"\")","v":0},{"$f":"IF(A83<>\"\",IFERROR(VLOOKUP(AG83,Tabelas!B:D,3,0),0),\"\")","v":0},{"$f":"IF(A83<>\"\",IFERROR(VLOOKUP(AH83,Tabelas!B:D,3,0),0),\"\")","v":12},{"$f":"IF(A83<>\"\",IFERROR(VLOOKUP(AI83,Tabelas!B:D,3,0),0),\"\")","v":0},{"$f":"IF(A83<>\"\",IFERROR(VLOOKUP(AJ83,Tabelas!B:D,3,0),0),\"\")","v":0},{"$f":"IF(A83<>\"\",IFERROR(VLOOKUP(AK83,Tabelas!B:D,3,0),0),\"\")","v":12},{"$f":"IF(A83<>\"\",IFERROR(VLOOKUP(AL83,Tabelas!B:D,3,0),0),\"\")","v":0},{"$f":"IF(A83<>\"\",IFERROR(VLOOKUP(AM83,Tabelas!B:D,3,0),0),\"\")","v":0},{"$f":"IF(A83<>\"\",IFERROR(VLOOKUP(AN83,Tabelas!B:D,3,0),0),\"\")","v":12},{"$f":"IF(A83<>\"\",IFERROR(VLOOKUP(AO83,Tabelas!B:D,3,0),0),\"\")","v":0},{"$f":"IF(A83<>\"\",IFERROR(VLOOKUP(AP83,Tabelas!B:D,3,0),0),\"\")","v":0},{"$f":"IF(A83<>\"\",IFERROR(VLOOKUP(AQ83,Tabelas!B:D,3,0),0),\"\")","v":0},{"$f":"IF(A83<>\"\",IFERROR(VLOOKUP(AR83,Tabelas!B:D,3,0),0),\"\")","v":0},108,0,0,0,0,0,0,19,0]
["Ricardo R. Santos",1551353,331950,"AE","RJU",30,null,null,null,null,null,null,null,"FE","FE","FE","FE","FE","FE","FE","FE","FE","FE","FE","FE","FE","FE","FE","FE","FE","FE","FE","FE","FE","FE","FE","FE","FE","FE","FE","FE",null,null,null,{"$f":"IF(A84<>\"\",IFERROR(VLOOKUP(N84,Tabelas!B:D,3,0),0),\"\")","v":0},{"$f":"IF(A84<>\"\",IFERROR(VLOOKUP(O84,Tabelas!B:D,3,0),0),\"\")","v":0},{"$f":"IF(A84<>\"\",IFERROR(VLOOKUP(P84,Tabelas!B:D,3,0),0),\"\")","v":0},{"$f":"IF(A84<>\"\",IFERROR(VLOOKUP(Q84,Tabelas!B:D,3,0),0),\"\")","v":0},{"$f":"IF(A84<>\"\",IFERROR(VLOOKUP(R84,Tabelas!B:D,3,0),0),\"\")","v":0},{"$f":"IF(A84<>\"\",IFERROR(VLOOKUP(S84,Tabelas!B:D,3,0),0),\"\")","v":0},{"$f":"IF(A84<>\"\",IFERROR(VLOOKUP(T84,Tabelas!B:D,3,0),0),\"\")","v":0},{"$f":"IF(A84<>\"\",IFERROR(VLOOKUP(U84,Tabelas!B:D,3,0),0),\"\")","v":0},{"$f":"IF(A84<>\"\",IFERROR(VLOOKUP(V84,Tabelas!B:D,3,0),0),\"\")","v":0},{"$f":"IF(A84<>\"\",IFERROR(VLOOKUP(W84,Tabelas!B:D,3,0),0),\"\")","v":0},{"$f":"IF(A84<>\"\",IFERROR(VLOOKUP(X84,Tabelas!B:D,3,0),0),\"\")","v":0},{"$f":"IF(A84<>\"\",IFERROR(VLOOKUP(Y84,Tabelas!B:D,3,0),0),\"\")","v":0},{"$f":"IF(A84<>\"\",IFERROR(VLOOKUP(Z84,Tabelas!B:D,3,0),0),\"\")","v":0},{"$f":"IF(A84<>\"\",IFERROR(VLOOKUP(AA84,Tabelas!B:D,3,0),0),\"\")","v":0},{"$f":"IF(A84<>\"\",IFERROR(VLOOKUP(AB84,Tabelas!B:D,3,0),0),\"\")","v":0},{"$f":"IF(A84<>\"\",IFERROR(VLOOKUP(AC84,Tabelas!B:D,3,0),0),\"\")","v":0},{"$f":"IF(A84<>\"\",IFERROR(VLOOKUP(AD84,Tabelas!B:D,3,0),0),\"\")","v":0},{"$f":"IF(A84<>\"\",IFERROR(VLOOKUP(AE84,Tabelas!B:D,3,0),0),\"\")","v":0},{"$f":"IF(A84<>\"\",IFERROR(VLOOKUP(AF84,Tabelas!B:D,3,0),0),\"\")","v":0},{"$f":"IF(A84<>\"\",IFERROR(VLOOKUP(AG84,Tabelas!B:D,3,0),0),\"\")","v":0},{"$f":"IF(A84<>\"\",IFERROR(VLOOKUP(AH84,Tabelas!B:D,3,0),0),\"\")","v":0},{"$f":"IF(A84<>\"\",IFERROR(VLOOKUP(AI84,Tabelas!B:D,3,0),0),\"\")","v":0},{"$f":"IF(A84<>\"\",IFERROR(VLOOKUP(AJ84,Tabelas!B:D,3,0),0),\"\")","v":0},{"$f":"IF(A84<>\"\",IFERROR(VLOOKUP(AK84,Tabelas!B:D,3,0),0),\"\")","v":0},{"$f":"IF(A84<>\"\",IFERROR(VLOOKUP(AL84,Tabelas!B:D,3,0),0),\"\")","v":0},{"$f":"IF(A84<>\"\",IFERROR(VLOOKUP(AM84,Tabelas!B:D,3,0),0),\"\")","v":0},{"$f":"IF(A84<>\"\",IFERROR(VLOOKUP(AN84,Tabelas!B:D,3,0),0),\"\")","v":0},{"$f":"IF(A84<>\"\",IFERROR(VLOOKUP(AO84,Tabelas!B:D,3,0),0),\"\")","v":0},{"$f":"IF(A84<>\"\",IFERROR(VLOOKUP(AP84,Tabelas!B:D,3,0),0),\"\")","v":0},{"$f":"IF(A84<>\"\",IFERROR(VLOOKUP(AQ84,Tabelas!B:D,3,0),0),\"\")","v":0},{"$f":"IF(A84<>\"\",IFERROR(VLOOKUP(AR84,Tabelas!B:D,3,0),0),\"\")","v":0},0,0,0,28,0,0,0,28,0]
["ADMINISTRATIVO",null,null,null,null,null,null,null,null,null,null,null,null,null,null,null,null,null,null,null,null,null,null,null,null,null,null,null,null,null,null,null,null,null,null,null,null,null,null,null,null,null,null,null,{"$f":"IF(A85<>\"\",IFERROR(VLOOKUP(N85,Tabelas!B:D,3,0),0),\"\")","v":0},{"$f":"IF(A85<>\"\",IFERROR(VLOOKUP(O85,Tabelas!B:D,3,0),0),\"\")","v":0},{"$f":"IF(A85<>\"\",IFERROR(VLOOKUP(P85,Tabelas!B:D,3,0),0),\"\")","v":0},{"$f":"IF(A85<>\"\",IFERROR(VLOOKUP(Q85,Tabelas!B:D,3,0),0),\"\")","v":0},{"$f":"IF(A85<>\"\",IFERROR(VLOOKUP(R85,Tabelas!B:D,3,0),0),\"\")","v":0},{"$f":"IF(A85<>\"\",IFERROR(VLOOKUP(S85,Tabelas!B:D,3,0),0),\"\")","v":0},{"$f":"IF(A85<>\"\",IFERROR(VLOOKUP(T85,Tabelas!B:D,3,0),0),\"\")","v":0},{"$f":"IF(A85<>\"\",IFERROR(VLOOKUP(U85,Tabelas!B:D,3,0),0),\"\")","v":0},{"$f":"IF(A85<>\"\",IFERROR(VLOOKUP(V85,Tabelas!B:D,3,0),0),\"\")","v":0},{"$f":"IF(A85<>\"\",IFERROR(VLOOKUP(W85,Tabelas!B:D,3,0),0),\"\")","v":0},{"$f":"IF(A85<>\"\",IFERROR(VLOOKUP(X85,Tabelas!B:D,3,0),0),\"\")","v":0},{"$f":"IF(A85<>\"\",IFERROR(VLOOKUP(Y85,Tabelas!B:D,3,0),0),\"\")","v":0},{"$f":"IF(A85<>\"\",IFERROR(VLOOKUP(Z85,Tabelas!B:D,3,0),0),\"\")","v":0},{"$f":"IF(A85<>\"\",IFERROR(VLOOKUP(AA85,Tabelas!B:D,3,0),0),\"\")","v":0},{"$f":"IF(A85<>\"\",IFERROR(VLOOKUP(AB85,Tabelas!B:D,3,0),0),\"\")","v":0},{"$f":"IF(A85<>\"\",IFERROR(VLOOKUP(AC85,Tabelas!B:D,3,0),0),\"\")","v":0},{"$f":"IF(A85<>\"\",IFERROR(VLOOKUP(AD85,Tabelas!B:D,3,0),0),\"\")","v":0},{"$f":"IF(A85<>\"\",IFERROR(VLOOKUP(AE85,Tabelas!B:D,3,0),0),\"\")","v":0},{"$f":"IF(A85<>\"\",IFERROR(VLOOKUP(AF85,Tabelas!B:D,3,0),0),\"\")","v":0},{"$f":"IF(A85<>\"\",IFERROR(VLOOKUP(AG85,Tabelas!B:D,3,0),0),\"\")","v":0},{"$f":"IF(A85<>\"\",IFERROR(VLOOKUP(AH85,Tabelas!B:D,3,0),0),\"\")","v":0},{"$f":"IF(A85<>\"\",IFERROR(VLOOKUP(AI85,Tabelas!B:D,3,0),0),\"\")","v":0},{"$f":"IF(A85<>\"\",IFERROR(VLOOKUP(AJ85,Tabelas!B:D,3,0),0),\"\")","v":0},{"$f":"IF(A85<>\"\",IFERROR(VLOOKUP(AK85,Tabelas!B:D,3,0),0),\"\")","v":0},{"$f":"IF(A85<>\"\",IFERROR(VLOOKUP(AL85,Tabelas!B:D,3,0),0),\"\")","v":0},{"$f":"IF(A85<>\"\",IFERROR(VLOOKUP(AM85,Tabelas!B:D,3,0),0),\"\")","v":0},{"$f":"IF(A85<>\"\",IFERROR(VLOOKUP(AN85,Tabelas!B:D,3,0),0),\"\")","v":0},{"$f":"IF(A85<>\"\",IFERROR(VLOOKUP(AO85,Tabelas!B:D,3,0),0),\"\")","v":0},{"$f":"IF(A85<>\"\",IFERROR(VLOOKUP(AP85,Tabelas!B:D,3,0),0),\"\")","v":0},{"$f":"IF(A85<>\"\",IFERROR(VLOOKUP(AQ85,Tabelas!B:D,3,0),0),\"\")","v":0},{"$f":"IF(A85<>\"\",IFERROR(VLOOKUP(AR85,Tabelas!B:D,3,0),0),\"\")","v":0},0,0,0,0,0,0,0,0,0]
["Aline Coelho",2193174,null,"AA","RJU",30,null,null,null,null,null,null,null,"M6","FO","FO","M6","M6","M6","M6","M6","FO","FO","M6","M6","M6","M6","M6","FO","FO","M6","M6","M6","M6","M6","FO","FO","M6","M6","M6","M6",null,null,null,{"$f":"IF(A86<>\"\",IFERROR(VLOOKUP(N86,Tabelas!B:D,3,0),0),\"\")","v":6},{"$f":"IF(A86<>\"\",IFERROR(VLOOKUP(O86,Tabelas!B:D,3,0),0),\"\")","v":0},{"$f":"IF(A86<>\"\",IFERROR(VLOOKUP(P86,Tabelas!B:D,3,0),0),\"\")","v":0},{"$f":"IF(A86<>\"\",IFERROR(VLOOKUP(Q86,Tabelas!B:D,3,0),0),\"\")","v":6},{"$f":"IF(A86<>\"\",IFERROR(VLOOKUP(R86,Tabelas!B:D,3,0),0),\"\")","v":6},{"$f":"IF(A86<>\"\",IFERROR(VLOOKUP(S86,Tabelas!B:D,3,0),0),\"\")","v":6},{"$f":"IF(A86<>\"\",IFERROR(VLOOKUP(T86,Tabelas!B:D,3,0),0),\"\")","v":6},{"$f":"IF(A86<>\"\",IFERROR(VLOOKUP(U86,Tabelas!B:D,3,0),0),\"\")","v":6},{"$f":"IF(A86<>\"\",IFERROR(VLOOKUP(V86,Tabelas!B:D,3,0),0),\"\")","v":0},{"$f":"IF(A86<>\"\",IFERROR(VLOOKUP(W86,Tabelas!B:D,3,0),0),\"\")","v":0},{"$f":"IF(A86<>\"\",IFERROR(VLOOKUP(X86,Tabelas!B:D,3,0),0),\"\")","v":6},{"$f":"IF(A86<>\"\",IFERROR(VLOOKUP(Y86,Tabelas!B:D,3,0),0),\"\")","v":6},{"$f":"IF(A86<>\"\",IFERROR(VLOOKUP(Z86,Tabelas!B:D,3,0),0),\"\")","v":6},{"$f":"IF(A86<>\"\",IFERROR(VLOOKUP(AA86,Tabelas!B:D,3,0),0),\"\")","v":6},{"$f":"IF(A86<>\"\",IFERROR(VLOOKUP(AB86,Tabelas!B:D,3,0),0),\"\")","v":6},{"$f":"IF(A86<>\"\",IFERROR(VLOOKUP(AC86,Tabelas!B:D,3,0),0),\"\")","v":0},{"$f":"IF(A86<>\"\",IFERROR(VLOOKUP(AD86,Tabelas!B:D,3,0),0),\"\")","v":0},{"$f":"IF(A86<>\"\",IFERROR(VLOOKUP(AE86,Tabelas!B:D,3,0),0),\"\")","v":6},{"$f":"IF(A86<>\"\",IFERROR(VLOOKUP(AF86,Tabelas!B:D,3,0),0),\"\")","v":6},{"$f":"IF(A86<>\"\",IFERROR(VLOOKUP(AG86,Tabelas!B:D,3,0),0),\"\")","v":6},{"$f":"IF(A86<>\"\",IFERROR(VLOOKUP(AH86,Tabelas!B:D,3,0),0),\"\")","v":6},{"$f":"IF(A86<>\"\",IFERROR(VLOOKUP(AI86,Tabelas!B:D,3,0),0),\"\")","v":6},{"$f":"IF(A86<>\"\",IFERROR(VLOOKUP(AJ86,Tabelas!B:D,3,0),0),\"\")","v":0},{"$f":"IF(A86<>\"\",IFERROR(VLOOKUP(AK86,Tabelas!B:D,3,0),0),\"\")","v":0},{"$f":"IF(A86<>\"\",IFERROR(VLOOKUP(AL86,Tabelas!B:D,3,0),0),\"\")","v":6},{"$f":"IF(A86<>\"\",IFERROR(VLOOKUP(AM86,Tabelas!B:D,3,0),0),\"\")","v":6},{"$f":"IF(A86<>\"\",IFERROR(VLOOKUP(AN86,Tabelas!B:D,3,0),0),\"\")","v":6},{"$f":"IF(A86<>\"\",IFERROR(VLOOKUP(AO86,Tabelas!B:D,3,0),0),\"\")","v":6},{"$f":"IF(A86<>\"\",IFERROR(VLOOKUP(AP86,Tabelas!B:D,3,0),0),\"\")","v":0},{"$f":"IF(A86<>\"\",IFERROR(VLOOKUP(AQ86,Tabelas!B:D,3,0),0),\"\")","v":0},{"$f":"IF(A86<>\"\",IFERROR(VLOOKUP(AR86,Tabelas!B:D,3,0),0),\"\")","v":0},120,0,0,0,0,0,0,8,0]
["Cristiani de Souza",1900563,260273,"ENF","RJU",30,null,null,null,null,null,null,null,"T6","FO","FO","T6","T6","T6","T6","T6","FO","FO","T6","T6","T6","T6","T6","FO","FO","T6","T6","T6","T6","T6","FO","FO","T6","T6","T6","T6",null,null,null,{"$f":"IF(A87<>\"\",IFERROR(VLOOKUP(N87,Tabelas!B:D,3,0),0),\"\")","v":6},{"$f":"IF(A87<>\"\",IFERROR(VLOOKUP(O87,Tabelas!B:D,3,0),0),\"\")","v":0},{"$f":"IF(A87<>\"\",IFERROR(VLOOKUP(P87,Tabelas!B:D,3,0),0),\"\")","v":0},{"$f":"IF(A87<>\"\",IFERROR(VLOOKUP(Q87,Tabelas!B:D,3,0),0),\"\")","v":6},{"$f":"IF(A87<>\"\",IFERROR(VLOOKUP(R87,Tabelas!B:D,3,0),0),\"\")","v":6},{"$f":"IF(A87<>\"\",IFERROR(VLOOKUP(S87,Tabelas!B:D,3,0),0),\"\")","v":6},{"$f":"IF(A87<>\"\",IFERROR(VLOOKUP(T87,Tabelas!B:D,3,0),0),\"\")","v":6},{"$f":"IF(A87<>\"\",IFERROR(VLOOKUP(U87,Tabelas!B:D,3,0),0),\"\")","v":6},{"$f":"IF(A87<>\"\",IFERROR(VLOOKUP(V87,Tabelas!B:D,3,0),0),\"\")","v":0},{"$f":"IF(A87<>\"\",IFERROR(VLOOKUP(W87,Tabelas!B:D,3,0),0),\"\")","v":0},{"$f":"IF(A87<>\"\",IFERROR(VLOOKUP(X87,Tabelas!B:D,3,0),0),\"\")","v":6},{"$f":"IF(A87<>\"\",IFERROR(VLOOKUP(Y87,Tabelas!B:D,3,0),0),\"\")","v":6},{"$f":"IF(A87<>\"\",IFERROR(VLOOKUP(Z87,Tabelas!B:D,3,0),0),\"\")","v":6},{"$f":"IF(A87<>\"\",IFERROR(VLOOKUP(AA87,Tabelas!B:D,3,0),0),\"\")","v":6},{"$f":"IF(A87<>\"\",IFERROR(VLOOKUP(AB87,Tabelas!B:D,3,0),0),\"\")","v":6},{"$f":"IF(A87<>\"\",IFERROR(VLOOKUP(AC87,Tabelas!B:D,3,0),0),\"\")","v":0},{"$f":"IF(A87<>\"\",IFERROR(VLOOKUP(AD87,Tabelas!B:D,3,0),0),\"\")","v":0},{"$f":"IF(A87<>\"\",IFERROR(VLOOKUP(AE87,Tabelas!B:D,3,0),0),\"\")","v":6},{"$f":"IF(A87<>\"\",IFERROR(VLOOKUP(AF87,Tabelas!B:D,3,0),0),\"\")","v":6},{"$f":"IF(A87<>\"\",IFERROR(VLOOKUP(AG87,Tabelas!B:D,3,0),0),\"\")","v":6},{"$f":"IF(A87<>\"\",IFERROR(VLOOKUP(AH87,Tabelas!B:D,3,0),0),\"\")","v":6},{"$f":"IF(A87<>\"\",IFERROR(VLOOKUP(AI87,Tabelas!B:D,3,0),0),\"\")","v":6},{"$f":"IF(A87<>\"\",IFERROR(VLOOKUP(AJ87,Tabelas!B:D,3,0),0),\"\")","v":0},{"$f":"IF(A87<>\"\",IFERROR(VLOOKUP(AK87,Tabelas!B:D,3,0),0),\"\")","v":0},{"$f":"IF(A87<>\"\",IFERROR(VLOOKUP(AL87,Tabelas!B:D,3,0),0),\"\")","v":6},{"$f":"IF(A87<>\"\",IFERROR(VLOOKUP(AM87,Tabelas!B:D,3,0),0),\"\")","v":6},{"$f":"IF(A87<>\"\",IFERROR(VLOOKUP(AN87,Tabelas!B:D,3,0),0),\"\")","v":6},{"$f":"IF(A87<>\"\",IFERROR(VLOOKUP(AO87,Tabelas!B:D,3,0),0),\"\")","v":6},{"$f":"IF(A87<>\"\",IFERROR(VLOOKUP(AP87,Tabelas!B:D,3,0),0),\"\")","v":0},{"$f":"IF(A87<>\"\",IFERROR(VLOOKUP(AQ87,Tabelas!B:D,3,0),0),\"\")","v":0},{"$f":"IF(A87<>\"\",IFERROR(VLOOKUP(AR87,Tabelas!B:D,3,0),0),\"\")","v":0},120,0,0,0,0,0,0,8,0]
["Treinamento / Licença Maternidade",null,null,null,null,null,null,null,null,null,null,null,null,null,null,null,null,null,null,null,null,null,null,null,null,null,null,null,null,null,null,null,null,null,null,null,null,null,null,null,null,null,null,null,{"$f":"IF(A88<>\"\",IFERROR(VLOOKUP(N88,Tabelas!B:D,3,0),0),\"\")","v":0},{"$f":"IF(A88<>\"\",IFERROR(VLOOKUP(O88,Tabelas!B:D,3,0),0),\"\")","v":0},{"$f":"IF(A88<>\"\",IFERROR(VLOOKUP(P88,Tabelas!B:D,3,0),0),\"\")","v":0},{"$f":"IF(A88<>\"\",IFERROR(VLOOKUP(Q88,Tabelas!B:D,3,0),0),\"\")","v":0},{"$f":"IF(A88<>\"\",IFERROR(VLOOKUP(R88,Tabelas!B:D,3,0),0),\"\")","v":0},{"$f":"IF(A88<>\"\",IFERROR(VLOOKUP(S88,Tabelas!B:D,3,0),0),\"\")","v":0},{"$f":"IF(A88<>\"\",IFERROR(VLOOKUP(T88,Tabelas!B:D,3,0),0),\"\")","v":0},{"$f":"IF(A88<>\"\",IFERROR(VLOOKUP(U88,Tabelas!B:D,3,0),0),\"\")","v":0},{"$f":"IF(A88<>\"\",IFERROR(VLOOKUP(V88,Tabelas!B:D,3,0),0),\"\")","v":0},{"$f":"IF(A88<>\"\",IFERROR(VLOOKUP(W88,Tabelas!B:D,3,0),0),\"\")","v":0},{"$f":"IF(A88<>\"\",IFERROR(VLOOKUP(X88,Tabelas!B:D,3,0),0),\"\")","v":0},{"$f":"IF(A88<>\"\",IFERROR(VLOOKUP(Y88,Tabelas!B:D,3,0),0),\"\")","v":0},{"$f":"IF(A88<>\"\",IFERROR(VLOOKUP(Z88,Tabelas!B:D,3,0),0),\"\")","v":0},{"$f":"IF(A88<>\"\",IFERROR(VLOOKUP(AA88,Tabelas!B:D,3,0),0),\"\")","v":0},{"$f":"IF(A88<>\"\",IFERROR(VLOOKUP(AB88,Tabelas!B:D,3,0),0),\"\")","v":0},{"$f":"IF(A88<>\"\",IFERROR(VLOOKUP(AC88,Tabelas!B:D,3,0),0),\"\")","v":0},{"$f":"IF(A88<>\"\",IFERROR(VLOOKUP(AD88,Tabelas!B:D,3,0),0),\"\")","v":0},{"$f":"IF(A88<>\"\",IFERROR(VLOOKUP(AE88,Tabelas!B:D,3,0),0),\"\")","v":0},{"$f":"IF(A88<>\"\",IFERROR(VLOOKUP(AF88,Tabelas!B:D,3,0),0),\"\")","v":0},{"$f":"IF(A88<>\"\",IFERROR(VLOOKUP(AG88,Tabelas!B:D,3,0),0),\"\")","v":0},{"$f":"IF(A88<>\"\",IFERROR(VLOOKUP(AH88,Tabelas!B:D,3,0),0),\"\")","v":0},{"$f":"IF(A88<>\"\",IFERROR(VLOOKUP(AI88,Tabelas!B:D,3,0),0),\"\")","v":0},{"$f":"IF(A88<>\"\",IFERROR(VLOOKUP(AJ88,Tabelas!B:D,3,0),0),\"\")","v":0},{"$f":"IF(A88<>\"\",IFERROR(VLOOKUP(AK88,Tabelas!B:D,3,0),0),\"\")","v":0},{"$f":"IF(A88<>\"\",IFERROR(VLOOKUP(AL88,Tabelas!B:D,3,0),0),\"\")","v":0},{"$f":"IF(A88<>\"\",IFERROR(VLOOKUP(AM88,Tabelas!B:D,3,0),0),\"\")","v":0},{"$f":"IF(A88<>\"\",IFERROR(VLOOKUP(AN88,Tabelas!B:D,3,0),0),\"\")","v":0},{"$f":"IF(A88<>\"\",IFERROR(VLOOKUP(AO88,Tabelas!B:D,3,0),0),\"\")","v":0},{"$f":"IF(A88<>\"\",IFERROR(VLOOKUP(AP88,Tabelas!B:D,3,0),0),\"\")","v":0},{"$f":"IF(A88<>\"\",IFERROR(VLOOKUP(AQ88,Tabelas!B:D,3,0),0),\"\")","v":0},{"$f":"IF(A88<>\"\",IFERROR(VLOOKUP(AR88,Tabelas!B:D,3,0),0),\"\")","v":0},0,0,0,0,0,0,0,0,0]
["Luana A Steffen ",1358181,249914,"TE ","RJU",30,null,null,null,null,null,null,null,"LM","LM","LM","LM","LM","LM","LM","LM","LM","LM","LM","LM","LM","LM","LM","LM","LM","LM","LM","LM","LM","LM","LM","LM","LM","LM","LM","LM",null,null,null,{"$f":"IF(A89<>\"\",IFERROR(VLOOKUP(N89,Tabelas!B:D,3,0),0),\"\")","v":0},{"$f":"IF(A89<>\"\",IFERROR(VLOOKUP(O89,Tabelas!B:D,3,0),0),\"\")","v":0},{"$f":"IF(A89<>\"\",IFERROR(VLOOKUP(P89,Tabelas!B:D,3,0),0),\"\")","v":0},{"$f":"IF(A89<>\"\",IFERROR(VLOOKUP(Q89,Tabelas!B:D,3,0),0),\"\")","v":0},{"$f":"IF(A89<>\"\",IFERROR(VLOOKUP(R89,Tabelas!B:D,3,0),0),\"\")","v":0},{"$f":"IF(A89<>\"\",IFERROR(VLOOKUP(S89,Tabelas!B:D,3,0),0),\"\")","v":0},{"$f":"IF(A89<>\"\",IFERROR(VLOOKUP(T89,Tabelas!B:D,3,0),0),\"\")","v":0},{"$f":"IF(A89<>\"\",IFERROR(VLOOKUP(U89,Tabelas!B:D,3,0),0),\"\")","v":0},{"$f":"IF(A89<>\"\",IFERROR(VLOOKUP(V89,Tabelas!B:D,3,0),0),\"\")","v":0},{"$f":"IF(A89<>\"\",IFERROR(VLOOKUP(W89,Tabelas!B:D,3,0),0),\"\")","v":0},{"$f":"IF(A89<>\"\",IFERROR(VLOOKUP(X89,Tabelas!B:D,3,0),0),\"\")","v":0},{"$f":"IF(A89<>\"\",IFERROR(VLOOKUP(Y89,Tabelas!B:D,3,0),0),\"\")","v":0},{"$f":"IF(A89<>\"\",IFERROR(VLOOKUP(Z89,Tabelas!B:D,3,0),0),\"\")","v":0},{"$f":"IF(A89<>\"\",IFERROR(VLOOKUP(AA89,Tabelas!B:D,3,0),0),\"\")","v":0},{"$f":"IF(A89<>\"\",IFERROR(VLOOKUP(AB89,Tabelas!B:D,3,0),0),\"\")","v":0},{"$f":"IF(A89<>\"\",IFERROR(VLOOKUP(AC89,Tabelas!B:D,3,0),0),\"\")","v":0},{"$f":"IF(A89<>\"\",IFERROR(VLOOKUP(AD89,Tabelas!B:D,3,0),0),\"\")","v":0},{"$f":"IF(A89<>\"\",IFERROR(VLOOKUP(AE89,Tabelas!B:D,3,0),0),\"\")","v":0},{"$f":"IF(A89<>\"\",IFERROR(VLOOKUP(AF89,Tabelas!B:D,3,0),0),\"\")","v":0},{"$f":"IF(A89<>\"\",IFERROR(VLOOKUP(AG89,Tabelas!B:D,3,0),0),\"\")","v":0},{"$f":"IF(A89<>\"\",IFERROR(VLOOKUP(AH89,Tabelas!B:D,3,0),0),\"\")","v":0},{"$f":"IF(A89<>\"\",IFERROR(VLOOKUP(AI89,Tabelas!B:D,3,0),0),\"\")","v":0},{"$f":"IF(A89<>\"\",IFERROR(VLOOKUP(AJ89,Tabelas!B:D,3,0),0),\"\")","v":0},{"$f":"IF(A89<>\"\",IFERROR(VLOOKUP(AK89,Tabelas!B:D,3,0),0),\"\")","v":0},{"$f":"IF(A89<>\"\",IFERROR(VLOOKUP(AL89,Tabelas!B:D,3,0),0),\"\")","v":0},{"$f":"IF(A89<>\"\",IFERROR(VLOOKUP(AM89,Tabelas!B:D,3,0),0),\"\")","v":0},{"$f":"IF(A89<>\"\",IFERROR(VLOOKUP(AN89,Tabelas!B:D,3,0),0),\"\")","v":0},{"$f":"IF(A89<>\"\",IFERROR(VLOOKUP(AO89,Tabelas!B:D,3,0),0),\"\")","v":0},{"$f":"IF(A89<>\"\",IFERROR(VLOOKUP(AP89,Tabelas!B:D,3,0),0),\"\")","v":0},{"$f":"IF(A89<>\"\",IFERROR(VLOOKUP(AQ89,Tabelas!B:D,3,0),0),\"\")","v":0},{"$f":"IF(A89<>\"\",IFERROR(VLOOKUP(AR89,Tabelas!B:D,3,0),0),\"\")","v":0},{"$f":"IF(A89<>\"\",SUM(AS89:BW89),\"\")","v":0},{"$f":"IF(A89<>\"\",COUNTIF(N89:AR89,\"LM\")+COUNTIF(N89:AR89,\"L\"),\"\")+COUNTIF(N89:AR89,\"LP\")","v":28},0,0,0,0,{"$f":"IF(A89<>\"\",COUNTIF(N89:AR89,\"AF1\")+COUNTIF(N89:AR89,\"AF2\")+COUNTIF(N89:AR89,\"AF3\")+COUNTIF(N89:AR89,\"AF4\")+COUNTIF(N89:AR89,\"AF5\")+COUNTIF(N89:AR89,\"AF6\")+COUNTIF(N89:AR89,\"AF7\")+COUNTIF(N89:AR89,\"AF8\")+COUNTIF(N89:AR89,\"AF9\")+COUNTIF(N89:AR89,\"AF10\")+COUNTIF(N89:AR89,\"AF11\")+COUNTIF(N89:AR89,\"AF12\")+COUNTIF(N89:AR89,\"AF13\")+COUNTIF(N89:AR89,\"AF14\"),\"\")","v":0},{"$f":"IF(A89<>\"\",COUNTIF(N89:AR89,\"CE\")+COUNTIF(N89:AR89,\"L\")+COUNTIF(N89:AR89,\"LM\")+COUNTIF(N89:AR89,\"LP\")+COUNTIF(N89:AR89,\"LC\")+COUNTIF(N89:AR89,\"AB\")+COUNTIF(N89:AR89,\"AF1\")+COUNTIF(N89:AR89,\"AF2\")+COUNTIF(N89:AR89,\"AF3\")+COUNTIF(N89:AR89,\"AF4\")+COUNTIF(N89:AR89,\"AF5\")+COUNTIF(N89:AR89,\"AF6\")+COUNTIF(N89:AR89,\"AF7\")+COUNTIF(N89:AR89,\"AF8\")+COUNTIF(N89:AR89,\"AF9\")+COUNTIF(N89:AR89,\"AF10\")+COUNTIF(N89:AR89,\"AF11\")+COUNTIF(N89:AR89,\"AF12\")+COUNTIF(N89:AR89,\"AF13\")+COUNTIF(N89:AR89,\"AF14\")+COUNTIF(N89:AR89,\"RC\")+COUNTIF(N89:AR89,\"FO\")+COUNTIF(N89:AR89,\"FE\"),\"\")","v":28},{"$f":"IF(A89<>\"\",COUNTIF(N89:AR89,\"APH\"),\"\")","v":0}]
[null,null,null,null,null,null,null,null,null,null,null,null,null,null,null,null,null,null,null,null,null,null,null,null,null,null,null,null,null,null,null,null,null,null,null,null,null,null,null,null,null,null,null,null,{"$f":"IF(A90<>\"\",IFERROR(VLOOKUP(N90,Tabelas!B:D,3,0),0),\"\")","v":""},{"$f":"IF(A90<>\"\",IFERROR(VLOOKUP(O90,Tabelas!B:D,3,0),0),\"\")","v":""},{"$f":"IF(A90<>\"\",IFERROR(VLOOKUP(P90,Tabelas!B:D,3,0),0),\"\")","v":""},{"$f":"IF(A90<>\"\",IFERROR(VLOOKUP(Q90,Tabelas!B:D,3,0),0),\"\")","v":""},{"$f":"IF(A90<>\"\",IFERROR(VLOOKUP(R90,Tabelas!B:D,3,0),0),\"\")","v":""},{"$f":"IF(A90<>\"\",IFERROR(VLOOKUP(S90,Tabelas!B:D,3,0),0),\"\")","v":""},{"$f":"IF(A90<>\"\",IFERROR(VLOOKUP(T90,Tabelas!B:D,3,0),0),\"\")","v":""},{"$f":"IF(A90<>\"\",IFERROR(VLOOKUP(U90,Tabelas!B:D,3,0),0),\"\")","v":""},{"$f":"IF(A90<>\"\",IFERROR(VLOOKUP(V90,Tabelas!B:D,3,0),0),\"\")","v":""},{"$f":"IF(A90<>\"\",IFERROR(VLOOKUP(W90,Tabelas!B:D,3,0),0),\"\")","v":""},{"$f":"IF(A90<>\"\",IFERROR(VLOOKUP(X90,Tabelas!B:D,3,0),0),\"\")","v":""},{"$f":"IF(A90<>\"\",IFERROR(VLOOKUP(Y90,Tabelas!B:D,3,0),0),\"\")","v":""},{"$f":"IF(A90<>\"\",IFERROR(VLOOKUP(Z90,Tabelas!B:D,3,0),0),\"\")","v":""},{"$f":"IF(A90<>\"\",IFERROR(VLOOKUP(AA90,Tabelas!B:D,3,0),0),\"\")","v":""},{"$f":"IF(A90<>\"\",IFERROR(VLOOKUP(AB90,Tabelas!B:D,3,0),0),\"\")","v":""},{"$f":"IF(A90<>\"\",IFERROR(VLOOKUP(AC90,Tabelas!B:D,3,0),0),\"\")","v":""},{"$f":"IF(A90<>\"\",IFERROR(VLOOKUP(AD90,Tabelas!B:D,3,0),0),\"\")","v":""},{"$f":"IF(A90<>\"\",IFERROR(VLOOKUP(AE90,Tabelas!B:D,3,0),0),\"\")","v":""},{"$f":"IF(A90<>\"\",IFERROR(VLOOKUP(AF90,Tabelas!B:D,3,0),0),\"\")","v":""},{"$f":"IF(A90<>\"\",IFERROR(VLOOKUP(AG90,Tabelas!B:D,3,0),0),\"\")","v":""},{"$f":"IF(A90<>\"\",IFERROR(VLOOKUP(AH90,Tabelas!B:D,3,0),0),\"\")","v":""},{"$f":"IF(A90<>\"\",IFERROR(VLOOKUP(AI90,Tabelas!B:D,3,0),0),\"\")","v":""},{"$f":"IF(A90<>\"\",IFERROR(VLOOKUP(AJ90,Tabelas!B:D,3,0),0),\"\")","v":""},{"$f":"IF(A90<>\"\",IFERROR(VLOOKUP(AK90,Tabelas!B:D,3,0),0),\"\")","v":""},{"$f":"IF(A90<>\"\",IFERROR(VLOOKUP(AL90,Tabelas!B:D,3,0),0),\"\")","v":""},{"$f":"IF(A90<>\"\",IFERROR(VLOOKUP(AM90,Tabelas!B:D,3,0),0),\"\")","v":""},{"$f":"IF(A90<>\"\",IFERROR(VLOOKUP(AN90,Tabelas!B:D,3,0),0),\"\")","v":""},{"$f":"IF(A90<>\"\",IFERROR(VLOOKUP(AO90,Tabelas!B:D,3,0),0),\"\")","v":""},{"$f":"IF(A90<>\"\",IFERROR(VLOOKUP(AP90,Tabelas!B:D,3,0),0),\"\")","v":""},{"$f":"IF(A90<>\"\",IFERROR(VLOOKUP(AQ90,Tabelas!B:D,3,0),0),\"\")","v":""},{"$f":"IF(A90<>\"\",IFERROR(VLOOKUP(AR90,Tabelas!B:D,3,0),0),\"\")","v":""},{"$f":"IF(A90<>\"\",SUM(AS90:BW90),\"\")","v":""},{"$f":"IF(A90<>\"\",COUNTIF(N90:AR90,\"LM\")+COUNTIF(N90:AR90,\"L\"),\"\")+COUNTIF(N90:AR90,\"LP\")","v":{"$error":"#VALUE!"}},"","","","",{"$f":"IF(A90<>\"\",COUNTIF(N90:AR90,\"AF1\")+COUNTIF(N90:AR90,\"AF2\")+COUNTIF(N90:AR90,\"AF3\")+COUNTIF(N90:AR90,\"AF4\")+COUNTIF(N90:AR90,\"AF5\")+COUNTIF(N90:AR90,\"AF6\")+COUNTIF(N90:AR90,\"AF7\")+COUNTIF(N90:AR90,\"AF8\")+COUNTIF(N90:AR90,\"AF9\")+COUNTIF(N90:AR90,\"AF10\")+COUNTIF(N90:AR90,\"AF11\")+COUNTIF(N90:AR90,\"AF12\")+COUNTIF(N90:AR90,\"AF13\")+COUNTIF(N90:AR90,\"AF14\"),\"\")","v":""},{"$f":"IF(A90<>\"\",COUNTIF(N90:AR90,\"CE\")+COUNTIF(N90:AR90,\"L\")+COUNTIF(N90:AR90,\"LM\")+COUNTIF(N90:AR90,\"LP\")+COUNTIF(N90:AR90,\"LC\")+COUNTIF(N90:AR90,\"AB\")+COUNTIF(N90:AR90,\"AF1\")+COUNTIF(N90:AR90,\"AF2\")+COUNTIF(N90:AR90,\"AF3\")+COUNTIF(N90:AR90,\"AF4\")+COUNTIF(N90:AR90,\"AF5\")+COUNTIF(N90:AR90,\"AF6\")+COUNTIF(N90:AR90,\"AF7\")+COUNTIF(N90:AR90,\"AF8\")+COUNTIF(N90:AR90,\"AF9\")+COUNTIF(N90:AR90,\"AF10\")+COUNTIF(N90:AR90,\"AF11\")+COUNTIF(N90:AR90,\"AF12\")+COUNTIF(N90:AR90,\"AF13\")+COUNTIF(N90:AR90,\"AF14\")+COUNTIF(N90:AR90,\"RC\")+COUNTIF(N90:AR90,\"FO\")+COUNTIF(N90:AR90,\"FE\"),\"\")","v":""},{"$f":"IF(A90<>\"\",COUNTIF(N90:AR90,\"APH\"),\"\")","v":""}]
[null,null,null,null,null,null,null,null,null,null,null,null,null,null,null,null,null,null,null,null,null,null,null,null,null,null,null,null,null,null,null,null,null,null,null,null,null,null,null,null,null,null,null,null,{"$f":"IF(A91<>\"\",IFERROR(VLOOKUP(N91,Tabelas!B:D,3,0),0),\"\")","v":""},{"$f":"IF(A91<>\"\",IFERROR(VLOOKUP(O91,Tabelas!B:D,3,0),0),\"\")","v":""},{"$f":"IF(A91<>\"\",IFERROR(VLOOKUP(P91,Tabelas!B:D,3,0),0),\"\")","v":""},{"$f":"IF(A91<>\"\",IFERROR(VLOOKUP(Q91,Tabelas!B:D,3,0),0),\"\")","v":""},{"$f":"IF(A91<>\"\",IFERROR(VLOOKUP(R91,Tabelas!B:D,3,0),0),\"\")","v":""},{"$f":"IF(A91<>\"\",IFERROR(VLOOKUP(S91,Tabelas!B:D,3,0),0),\"\")","v":""},{"$f":"IF(A91<>\"\",IFERROR(VLOOKUP(T91,Tabelas!B:D,3,0),0),\"\")","v":""},{"$f":"IF(A91<>\"\",IFERROR(VLOOKUP(U91,Tabelas!B:D,3,0),0),\"\")","v":""},{"$f":"IF(A91<>\"\",IFERROR(VLOOKUP(V91,Tabelas!B:D,3,0),0),\"\")","v":""},{"$f":"IF(A91<>\"\",IFERROR(VLOOKUP(W91,Tabelas!B:D,3,0),0),\"\")","v":""},{"$f":"IF(A91<>\"\",IFERROR(VLOOKUP(X91,Tabelas!B:D,3,0),0),\"\")","v":""},{"$f":"IF(A91<>\"\",IFERROR(VLOOKUP(Y91,Tabelas!B:D,3,0),0),\"\")","v":""},{"$f":"IF(A91<>\"\",IFERROR(VLOOKUP(Z91,Tabelas!B:D,3,0),0),\"\")","v":""},{"$f":"IF(A91<>\"\",IFERROR(VLOOKUP(AA91,Tabelas!B:D,3,0),0),\"\")","v":""},{"$f":"IF(A91<>\"\",IFERROR(VLOOKUP(AB91,Tabelas!B:D,3,0),0),\"\")","v":""},{"$f":"IF(A91<>\"\",IFERROR(VLOOKUP(AC91,Tabelas!B:D,3,0),0),\"\")","v":""},{"$f":"IF(A91<>\"\",IFERROR(VLOOKUP(AD91,Tabelas!B:D,3,0),0),\"\")","v":""},{"$f":"IF(A91<>\"\",IFERROR(VLOOKUP(AE91,Tabelas!B:D,3,0),0),\"\")","v":""},{"$f":"IF(A91<>\"\",IFERROR(VLOOKUP(AF91,Tabelas!B:D,3,0),0),\"\")","v":""},{"$f":"IF(A91<>\"\",IFERROR(VLOOKUP(AG91,Tabelas!B:D,3,0),0),\"\")","v":""},{"$f":"IF(A91<>\"\",IFERROR(VLOOKUP(AH91,Tabelas!B:D,3,0),0),\"\")","v":""},{"$f":"IF(A91<>\"\",IFERROR(VLOOKUP(AI91,Tabelas!B:D,3,0),0),\"\")","v":""},{"$f":"IF(A91<>\"\",IFERROR(VLOOKUP(AJ91,Tabelas!B:D,3,0),0),\"\")","v":""},{"$f":"IF(A91<>\"\",IFERROR(VLOOKUP(AK91,Tabelas!B:D,3,0),0),\"\")","v":""},{"$f":"IF(A91<>\"\",IFERROR(VLOOKUP(AL91,Tabelas!B:D,3,0),0),\"\")","v":""},{"$f":"IF(A91<>\"\",IFERROR(VLOOKUP(AM91,Tabelas!B:D,3,0),0),\"\")","v":""},{"$f":"IF(A91<>\"\",IFERROR(VLOOKUP(AN91,Tabelas!B:D,3,0),0),\"\")","v":""},{"$f":"IF(A91<>\"\",IFERROR(VLOOKUP(AO91,Tabelas!B:D,3,0),0),\"\")","v":""},{"$f":"IF(A91<>\"\",IFERROR(VLOOKUP(AP91,Tabelas!B:D,3,0),0),\"\")","v":""},{"$f":"IF(A91<>\"\",IFERROR(VLOOKUP(AQ91,Tabelas!B:D,3,0),0),\"\")","v":""},{"$f":"IF(A91<>\"\",IFERROR(VLOOKUP(AR91,Tabelas!B:D,3,0),0),\"\")","v":""},{"$f":"IF(A91<>\"\",SUM(AS91:BW91),\"\")","v":""},{"$f":"IF(A91<>\"\",COUNTIF(N91:AR91,\"LM\")+COUNTIF(N91:AR91,\"L\"),\"\")+COUNTIF(N91:AR91,\"LP\")","v":{"$error":"#VALUE!"}},"","","","",{"$f":"IF(A91<>\"\",COUNTIF(N91:AR91,\"AF1\")+COUNTIF(N91:AR91,\"AF2\")+COUNTIF(N91:AR91,\"AF3\")+COUNTIF(N91:AR91,\"AF4\")+COUNTIF(N91:AR91,\"AF5\")+COUNTIF(N91:AR91,\"AF6\")+COUNTIF(N91:AR91,\"AF7\")+COUNTIF(N91:AR91,\"AF8\")+COUNTIF(N91:AR91,\"AF9\")+COUNTIF(N91:AR91,\"AF10\")+COUNTIF(N91:AR91,\"AF11\")+COUNTIF(N91:AR91,\"AF12\")+COUNTIF(N91:AR91,\"AF13\")+COUNTIF(N91:AR91,\"AF14\"),\"\")","v":""},{"$f":"IF(A91<>\"\",COUNTIF(N91:AR91,\"CE\")+COUNTIF(N91:AR91,\"L\")+COUNTIF(N91:AR91,\"LM\")+COUNTIF(N91:AR91,\"LP\")+COUNTIF(N91:AR91,\"LC\")+COUNTIF(N91:AR91,\"AB\")+COUNTIF(N91:AR91,\"AF1\")+COUNTIF(N91:AR91,\"AF2\")+COUNTIF(N91:AR91,\"AF3\")+COUNTIF(N91:AR91,\"AF4\")+COUNTIF(N91:AR91,\"AF5\")+COUNTIF(N91:AR91,\"AF6\")+COUNTIF(N91:AR91,\"AF7\")+COUNTIF(N91:AR91,\"AF8\")+COUNTIF(N91:AR91,\"AF9\")+COUNTIF(N91:AR91,\"AF10\")+COUNTIF(N91:AR91,\"AF11\")+COUNTIF(N91:AR91,\"AF12\")+COUNTIF(N91:AR91,\"AF13\")+COUNTIF(N91:AR91,\"AF14\")+COUNTIF(N91:AR91,\"RC\")+COUNTIF(N91:AR91,\"FO\")+COUNTIF(N91:AR91,\"FE\"),\"\")","v":""},{"$f":"IF(A91<>\"\",COUNTIF(N91:AR91,\"APH\"),\"\")","v":""}]
["TOTAL PROFISSIONAIS MATUTINO",null,null,null,null,null,null,null,null,null,null,null,null,{"$f":"COUNTIF(N9:N18,\"M\")+COUNTIF(N19:N26,\"M\")+COUNTIF(N27:N91,\"M\")+COUNTIF(N9:N18,\"M?\") +COUNTIF(N19:N26,\"M?\")+COUNTIF(N27:N91,\"M?\")+ COUNTIF(N9:N18, \"MT?\") + COUNTIF(N19:N26, \"MT?\")+ COUNTIF(N27:N91, \"MT?\")+ COUNTIF(N9:N18, \"D?\")  + COUNTIF(N19:N26, \"D?\")+COUNTIF(N27:N91, \"D?\")+ COUNTIF(N9:N18, \"DN?\")+ COUNTIF(N19:N26, \"DN?\")+ COUNTIF(N27:N91, \"DN?\")+ COUNTIF(N9:N18, \"MT??\") + COUNTIF(N19:N26, \"MT??\")+ COUNTIF(N27:N91, \"MT??\")+ COUNTIF(N9:N18, \"D\")  + COUNTIF(N19:N26, \"D\")+COUNTIF(N27:N91, \"D\")","v":13},9,9,13,13,13,13,13,8,9,13,13,13,13,13,8,9,13,13,13,13,13,9,9,13,13,13,13,0,0,0]
["TOTAL DE PROFISSIONAIS VESPERTINO",null,null,null,null,null,null,null,null,null,null,null,null,{"$f":"COUNTIF(N9:N18,\"T\")+COUNTIF(N19:N26,\"T\")+COUNTIF(N27:N91,\"T\")+COUNTIF(N9:N18,\"T?\") +COUNTIF(N19:N26,\"T?\")+COUNTIF(N27:N91,\"T?\")+ COUNTIF(N9:N18, \"MT?\") + COUNTIF(N19:N26, \"MT?\")+ COUNTIF(N27:N91, \"MT?\")+ COUNTIF(N9:N18, \"D?\")  + COUNTIF(N19:N26, \"D?\")+COUNTIF(N27:N91, \"D?\")+ COUNTIF(N9:N18, \"DN?\")+ COUNTIF(N19:N26, \"DN?\")+ COUNTIF(N27:N91, \"DN?\")+ COUNTIF(N9:N18, \"MT??\") + COUNTIF(N19:N26, \"MT??\")+ COUNTIF(N27:N91, \"MT??\")+ COUNTIF(N9:N18, \"D\")  + COUNTIF(N19:N26, \"D\")+COUNTIF(N27:N91, \"D\")","v":10},9,9,10,10,10,10,10,8,9,11,10,10,10,10,8,9,10,10,10,10,10,9,9,11,10,11,10,0,0,0,{"$f":"IF(A93<>\"\",IFERROR(VLOOKUP(N93,Tabelas!B:D,3,0),0),\"\")","v":0},{"$f":"IF(A93<>\"\",IFERROR(VLOOKUP(O93,Tabelas!B:D,3,0),0),\"\")","v":0},{"$f":"IF(A93<>\"\",IFERROR(VLOOKUP(P93,Tabelas!B:D,3,0),0),\"\")","v":0},{"$f":"IF(A93<>\"\",IFERROR(VLOOKUP(Q93,Tabelas!B:D,3,0),0),\"\")","v":0},{"$f":"IF(A93<>\"\",IFERROR(VLOOKUP(R93,Tabelas!B:D,3,0),0),\"\")","v":0},{"$f":"IF(A93<>\"\",IFERROR(VLOOKUP(S93,Tabelas!B:D,3,0),0),\"\")","v":0},{"$f":"IF(A93<>\"\",IFERROR(VLOOKUP(T93,Tabelas!B:D,3,0),0),\"\")","v":0},{"$f":"IF(A93<>\"\",IFERROR(VLOOKUP(U93,Tabelas!B:D,3,0),0),\"\")","v":0},{"$f":"IF(A93<>\"\",IFERROR(VLOOKUP(V93,Tabelas!B:D,3,0),0),\"\")","v":0},{"$f":"IF(A93<>\"\",IFERROR(VLOOKUP(W93,Tabelas!B:D,3,0),0),\"\")","v":0},{"$f":"IF(A93<>\"\",IFERROR(VLOOKUP(X93,Tabelas!B:D,3,0),0),\"\")","v":0},{"$f":"IF(A93<>\"\",IFERROR(VLOOKUP(Y93,Tabelas!B:D,3,0),0),\"\")","v":0},{"$f":"IF(A93<>\"\",IFERROR(VLOOKUP(Z93,Tabelas!B:D,3,0),0),\"\")","v":0},{"$f":"IF(A93<>\"\",IFERROR(VLOOKUP(AA93,Tabelas!B:D,3,0),0),\"\")","v":0},{"$f":"IF(A93<>\"\",IFERROR(VLOOKUP(AB93,Tabelas!B:D,3,0),0),\"\")","v":0},{"$f":"IF(A93<>\"\",IFERROR(VLOOKUP(AC93,Tabelas!B:D,3,0),0),\"\")","v":0},{"$f":"IF(A93<>\"\",IFERROR(VLOOKUP(AD93,Tabelas!B:D,3,0),0),\"\")","v":0},{"$f":"IF(A93<>\"\",IFERROR(VLOOKUP(AE93,Tabelas!B:D,3,0),0),\"\")","v":0},{"$f":"IF(A93<>\"\",IFERROR(VLOOKUP(AF93,Tabelas!B:D,3,0),0),\"\")","v":0},{"$f":"IF(A93<>\"\",IFERROR(VLOOKUP(AG93,Tabelas!B:D,3,0),0),\"\")","v":0},{"$f":"IF(A93<>\"\",IFERROR(VLOOKUP(AH93,Tabelas!B:D,3,0),0),\"\")","v":0},{"$f":"IF(A93<>\"\",IFERROR(VLOOKUP(AI93,Tabelas!B:D,3,0),0),\"\")","v":0},{"$f":"IF(A93<>\"\",IFERROR(VLOOKUP(AJ93,Tabelas!B:D,3,0),0),\"\")","v":0},{"$f":"IF(A93<>\"\",IFERROR(VLOOKUP(AK93,Tabelas!B:D,3,0),0),\"\")","v":0},{"$f":"IF(A93<>\"\",IFERROR(VLOOKUP(AL93,Tabelas!B:D,3,0),0),\"\")","v":0},{"$f":"IF(A93<>\"\",IFERROR(VLOOKUP(AM93,Tabelas!B:D,3,0),0),\"\")","v":0},{"$f":"IF(A93<>\"\",IFERROR(VLOOKUP(AN93,Tabelas!B:D,3,0),0),\"\")","v":0},{"$f":"IF(A93<>\"\",IFERROR(VLOOKUP(AO93,Tabelas!B:D,3,0),0),\"\")","v":0},{"$f":"IF(A93<>\"\",IFERROR(VLOOKUP(AP93,Tabelas!B:D,3,0),0),\"\")","v":0},{"$f":"IF(A93<>\"\",IFERROR(VLOOKUP(AQ93,Tabelas!B:D,3,0),0),\"\")","v":0},{"$f":"IF(A93<>\"\",IFERROR(VLOOKUP(AR93,Tabelas!B:D,3,0),0),\"\")","v":0}]
["TOTAL DE PROFISSIONAIS NOTURNO",null,null,null,null,null,null,null,null,null,null,null,null,{"$f":"COUNTIF(N9:N18,\"N\")+COUNTIF(N19:N26,\"N\")+COUNTIF(N27:N91,\"N\")+COUNTIF(N9:N18,\"N?\") +COUNTIF(N19:N26,\"N?\")+COUNTIF(N27:N91,\"N?\")+ COUNTIF(N9:N18, \"DN?\")+ COUNTIF(N19:N26, \"DN?\")+ COUNTIF(N27:N91, \"DN?\")","v":9},10,9,9,10,10,9,10,10,8,10,10,9,10,10,9,9,10,9,10,10,9,9,9,9,10,11,9,0,0,0,{"$f":"IF(A94<>\"\",IFERROR(VLOOKUP(N94,Tabelas!B:D,3,0),0),\"\")","v":0},{"$f":"IF(A94<>\"\",IFERROR(VLOOKUP(O94,Tabelas!B:D,3,0),0),\"\")","v":0},{"$f":"IF(A94<>\"\",IFERROR(VLOOKUP(P94,Tabelas!B:D,3,0),0),\"\")","v":0},{"$f":"IF(A94<>\"\",IFERROR(VLOOKUP(Q94,Tabelas!B:D,3,0),0),\"\")","v":0},{"$f":"IF(A94<>\"\",IFERROR(VLOOKUP(R94,Tabelas!B:D,3,0),0),\"\")","v":0},{"$f":"IF(A94<>\"\",IFERROR(VLOOKUP(S94,Tabelas!B:D,3,0),0),\"\")","v":0},{"$f":"IF(A94<>\"\",IFERROR(VLOOKUP(T94,Tabelas!B:D,3,0),0),\"\")","v":0},{"$f":"IF(A94<>\"\",IFERROR(VLOOKUP(U94,Tabelas!B:D,3,0),0),\"\")","v":0},{"$f":"IF(A94<>\"\",IFERROR(VLOOKUP(V94,Tabelas!B:D,3,0),0),\"\")","v":0},{"$f":"IF(A94<>\"\",IFERROR(VLOOKUP(W94,Tabelas!B:D,3,0),0),\"\")","v":0},{"$f":"IF(A94<>\"\",IFERROR(VLOOKUP(X94,Tabelas!B:D,3,0),0),\"\")","v":0},{"$f":"IF(A94<>\"\",IFERROR(VLOOKUP(Y94,Tabelas!B:D,3,0),0),\"\")","v":0},{"$f":"IF(A94<>\"\",IFERROR(VLOOKUP(Z94,Tabelas!B:D,3,0),0),\"\")","v":0},{"$f":"IF(A94<>\"\",IFERROR(VLOOKUP(AA94,Tabelas!B:D,3,0),0),\"\")","v":0},{"$f":"IF(A94<>\"\",IFERROR(VLOOKUP(AB94,Tabelas!B:D,3,0),0),\"\")","v":0},{"$f":"IF(A94<>\"\",IFERROR(VLOOKUP(AC94,Tabelas!B:D,3,0),0),\"\")","v":0},{"$f":"IF(A94<>\"\",IFERROR(VLOOKUP(AD94,Tabelas!B:D,3,0),0),\"\")","v":0},{"$f":"IF(A94<>\"\",IFERROR(VLOOKUP(AE94,Tabelas!B:D,3,0),0),\"\")","v":0},{"$f":"IF(A94<>\"\",IFERROR(VLOOKUP(AF94,Tabelas!B:D,3,0),0),\"\")","v":0},{"$f":"IF(A94<>\"\",IFERROR(VLOOKUP(AG94,Tabelas!B:D,3,0),0),\"\")","v":0},{"$f":"IF(A94<>\"\",IFERROR(VLOOKUP(AH94,Tabelas!B:D,3,0),0),\"\")","v":0},{"$f":"IF(A94<>\"\",IFERROR(VLOOKUP(AI94,Tabelas!B:D,3,0),0),\"\")","v":0},{"$f":"IF(A94<>\"\",IFERROR(VLOOKUP(AJ94,Tabelas!B:D,3,0),0),\"\")","v":0},{"$f":"IF(A94<>\"\",IFERROR(VLOOKUP(AK94,Tabelas!B:D,3,0),0),\"\")","v":0},{"$f":"IF(A94<>\"\",IFERROR(VLOOKUP(AL94,Tabelas!B:D,3,0),0),\"\")","v":0},{"$f":"IF(A94<>\"\",IFERROR(VLOOKUP(AM94,Tabelas!B:D,3,0),0),\"\")","v":0},{"$f":"IF(A94<>\"\",IFERROR(VLOOKUP(AN94,Tabelas!B:D,3,0),0),\"\")","v":0},{"$f":"IF(A94<>\"\",IFERROR(VLOOKUP(AO94,Tabelas!B:D,3,0),0),\"\")","v":0},{"$f":"IF(A94<>\"\",IFERROR(VLOOKUP(AP94,Tabelas!B:D,3,0),0),\"\")","v":0},{"$f":"IF(A94<>\"\",IFERROR(VLOOKUP(AQ94,Tabelas!B:D,3,0),0),\"\")","v":0},{"$f":"IF(A94<>\"\",IFERROR(VLOOKUP(AR94,Tabelas!B:D,3,0),0),\"\")","v":0}]
[null,null,null,null,null,null,null,null,null,null,null,null,null,null,null,null,null,null,null,null,null,null,null,null,null,null,null,null,null,null,null,null,null,null,null,null,null,null,null,null,null,null,null,null,{"$f":"IF(A95<>\"\",IFERROR(VLOOKUP(N95,Tabelas!B:D,3,0),0),\"\")","v":""},{"$f":"IF(A95<>\"\",IFERROR(VLOOKUP(O95,Tabelas!B:D,3,0),0),\"\")","v":""},{"$f":"IF(A95<>\"\",IFERROR(VLOOKUP(P95,Tabelas!B:D,3,0),0),\"\")","v":""},{"$f":"IF(A95<>\"\",IFERROR(VLOOKUP(Q95,Tabelas!B:D,3,0),0),\"\")","v":""},{"$f":"IF(A95<>\"\",IFERROR(VLOOKUP(R95,Tabelas!B:D,3,0),0),\"\")","v":""},{"$f":"IF(A95<>\"\",IFERROR(VLOOKUP(S95,Tabelas!B:D,3,0),0),\"\")","v":""},{"$f":"IF(A95<>\"\",IFERROR(VLOOKUP(T95,Tabelas!B:D,3,0),0),\"\")","v":""},{"$f":"IF(A95<>\"\",IFERROR(VLOOKUP(U95,Tabelas!B:D,3,0),0),\"\")","v":""},{"$f":"IF(A95<>\"\",IFERROR(VLOOKUP(V95,Tabelas!B:D,3,0),0),\"\")","v":""},{"$f":"IF(A95<>\"\",IFERROR(VLOOKUP(W95,Tabelas!B:D,3,0),0),\"\")","v":""},{"$f":"IF(A95<>\"\",IFERROR(VLOOKUP(X95,Tabelas!B:D,3,0),0),\"\")","v":""},{"$f":"IF(A95<>\"\",IFERROR(VLOOKUP(Y95,Tabelas!B:D,3,0),0),\"\")","v":""},{"$f":"IF(A95<>\"\",IFERROR(VLOOKUP(Z95,Tabelas!B:D,3,0),0),\"\")","v":""},{"$f":"IF(A95<>\"\",IFERROR(VLOOKUP(AA95,Tabelas!B:D,3,0),0),\"\")","v":""},{"$f":"IF(A95<>\"\",IFERROR(VLOOKUP(AB95,Tabelas!B:D,3,0),0),\"\")","v":""},{"$f":"IF(A95<>\"\",IFERROR(VLOOKUP(AC95,Tabelas!B:D,3,0),0),\"\")","v":""},{"$f":"IF(A95<>\"\",IFERROR(VLOOKUP(AD95,Tabelas!B:D,3,0),0),\"\")","v":""},{"$f":"IF(A95<>\"\",IFERROR(VLOOKUP(AE95,Tabelas!B:D,3,0),0),\"\")","v":""},{"$f":"IF(A95<>\"\",IFERROR(VLOOKUP(AF95,Tabelas!B:D,3,0),0),\"\")","v":""},{"$f":"IF(A95<>\"\",IFERROR(VLOOKUP(AG95,Tabelas!B:D,3,0),0),\"\")","v":""},{"$f":"IF(A95<>\"\",IFERROR(VLOOKUP(AH95,Tabelas!B:D,3,0),0),\"\")","v":""},{"$f":"IF(A95<>\"\",IFERROR(VLOOKUP(AI95,Tabelas!B:D,3,0),0),\"\")","v":""},{"$f":"IF(A95<>\"\",IFERROR(VLOOKUP(AJ95,Tabelas!B:D,3,0),0),\"\")","v":""},{"$f":"IF(A95<>\"\",IFERROR(VLOOKUP(AK95,Tabelas!B:D,3,0),0),\"\")","v":""},{"$f":"IF(A95<>\"\",IFERROR(VLOOKUP(AL95,Tabelas!B:D,3,0),0),\"\")","v":""},{"$f":"IF(A95<>\"\",IFERROR(VLOOKUP(AM95,Tabelas!B:D,3,0),0),\"\")","v":""},{"$f":"IF(A95<>\"\",IFERROR(VLOOKUP(AN95,Tabelas!B:D,3,0),0),\"\")","v":""},{"$f":"IF(A95<>\"\",IFERROR(VLOOKUP(AO95,Tabelas!B:D,3,0),0),\"\")","v":""},{"$f":"IF(A95<>\"\",IFERROR(VLOOKUP(AP95,Tabelas!B:D,3,0),0),\"\")","v":""},{"$f":"IF(A95<>\"\",IFERROR(VLOOKUP(AQ95,Tabelas!B:D,3,0),0),\"\")","v":""},{"$f":"IF(A95<>\"\",IFERROR(VLOOKUP(AR95,Tabelas!B:D,3,0),0),\"\")","v":""},"",{"$f":"IF(A95<>\"\",COUNTIF(N95:AR95,\"LM\")+COUNTIF(N95:AR95,\"L\"),\"\")","v":""},"","","","",null,{"$f":"IF(A95<>\"\",COUNTIF(N95:AR95,\"CE\")+COUNTIF(N95:AR95,\"L\")+COUNTIF(N95:AR95,\"LM\")+COUNTIF(N95:AR95,\"LC\")+COUNTIF(N95:AR95,\"AB\"),\"\")","v":""},{"$f":"IF(A95<>\"\",COUNTIF(N95:AR95,\"APH\"),\"\")","v":""}]
["Legenda:",null,null,null,null,null,null,null,null,null,null,null,null,null,null,null,null,null,null,null,null,null,null,null,null,null,null,null,null,null,null,null,null,null,null,null,null,null,null,null,null,null,null,null,null,null,null,null,null,null,null,null,null,null,null,null,null,null,null,null,null,null,null,null,null,null,null,null,null,null,null,null,null,null,null,"OBSERVAÇÕES:"]
["Licença Maternidade","LM","Férias",null,"FE","Ponto Facultativo",null,null,null,null,null,null,null,null,null,"PF","Manhã **",null,null,null,null,null,null,"M","Diunro (8 hrs) **",null,null,null,null,null,null,"MT",null,null,null,null,null,null,null,null,null,null,null,null,null,null,null,null,null,null,null,null,null,null,null,null,null,null,null,null,null,null,null,null,null,null,null,null,null,null,null,null,null,null,null,"* Para os Afastamentos previstos em lei, utilizar as legendas "]
["Licença Paternidade","LP","Feriado",null,"FD","Abono",null,null,null,null,null,null,null,null,null,"AB","Tarde **",null,null,null,null,null,null,"T","Dia/ noite (24 hrs) **",null,null,null,null,null,null,"DN",null,null,null,null,null,null,null,null,null,null,null,null,null,null,null,null,null,null,null,null,null,null,null,null,null,null,null,null,null,null,null,null,null,null,null,null,null,null,null,null,null,null,null,"numeradas conforme descrição no item 3.2.2 da NO DGP nº 04/2017."]
["Licença Médica/Odontológica","L","Folga",null,"FO","Compensação Horas Excedentes",null,null,null,null,null,null,null,null,null,"CE","Plantão Dia (12 hrs) **",null,null,null,null,null,null,"D",null,null,null,null,null,null,null,null,null,null,null,null,null,null,null,null,null,null,null,null,null,null,null,null,null,null,null,null,null,null,null,null,null,null,null,null,null,null,null,null,null,null,null,null,null,null,null,null,null,null,null,"** Para as variações de horários (M1, M2, T1, T2...), utilizar as "]
["Licença Capacitação","LC","Recesso",null,"RC","Afastamento*",null,null,null,null,null,null,null,null,null,"AF","Plantão Noite (12 hrs)**",null,null,null,null,null,null,"N",null,null,null,null,null,null,null,null,null,null,null,null,null,null,null,null,null,null,null,null,null,null,null,null,null,null,null,null,null,null,null,null,null,null,null,null,null,null,null,null,null,null,null,null,null,null,null,null,null,null,null,"legendas numeradas conforme descrição do item 3.2.2 na Norma "]
["N2*/ m6* compensando horas devidas",null,null,null,null,"Plantão APH",null,null,null,null,null,null,null,null,null,null,"Neri  faz 7 e 19 T ",null,null,null,null,null,null,null,null,null,null,null,null,null,null,null,null,null,null,null,null,null,null,null,null,null,null,null,null,null,null,null,null,null,null,null,null,null,null,null,null,null,null,null,null,null,null,null,null,null,null,null,null,null,null,null,null,null,null,"Operacional DGP nº 04/2017."]
[]
["Fev Dani, Alex, Hilário e Simone menos, Ana ok,  Tati e Vanessa a mais"]
[]
[]
[]
[]
[]
[]
[null,null,null,null,null,null,null,null,null,null,null,null,"OU 120P"]
[]
["Cibele Lesina R.",3047612,482466,"TE ","Ebserh",36]
["Cassiane Santino Filisbino",21539,1330095,"TE ","FAPEU",40]

{"sheet":"Junho","index":5,"n_rows":100,"n_cols":84,"rows_kept":100,"cut":false,"hidden":false,"merged":[[90,0,90,6],[91,0,91,6],[92,0,92,6],[5,0,7,0],[5,1,7,1],[5,2,7,2],[5,3,7,3],[5,4,7,4],[5,5,7,5],[5,6,5,12],[87,0,87,1],[94,75,94,83],[5,78,6,78],[5,79,6,79],[5,80,6,80],[5,81,6,81],[5,82,6,82],[5,83,6,83],[5,77,6,77],[5,13,5,43],[5,44,5,74],[5,75,6,75],[5,76,6,76],[6,6,7,6],[6,7,7,7],[6,8,7,8],[6,9,6,10],[6,11,7,11],[6,12,7,12],[1,0,1,43],[2,0,2,43],[3,0,3,43],[4,1,4,21],[4,24,4,35],[4,38,4,43]]}
[]
[]
["Hospital Universitário Professor Polydoro Ernani de São Thiago"]
["ESCALA MENSAL DE TRABALHO"]
["DIVISÃO /SETOR/UNIDADE:","UTI",null,null,null,null,null,null,null,null,null,null,null,null,null,null,null,null,null,null,null,null,"MÊS:",null,"Junho",null,null,null,null,null,null,null,null,null,null,null,"ANO:",null,2018]
["NOME COMPLETO","SIAPE","REGISTRO CONSELHO CLASSE","CARGO","VÍNCULO","C.H SEM.","INTERVALO",null,null,null,null,null,null,"DIAS DO MÊS",null,null,null,null,null,null,null,null,null,null,null,null,null,null,null,null,null,null,null,null,null,null,null,null,null,null,null,null,null,null,"CÁLCULO DAS HORAS",null,null,null,null,null,null,null,null,null,null,null,null,null,null,null,null,null,null,null,null,null,null,null,null,null,null,null,null,null,null,"CH MENSAL","LM/LP/L","Abono","Férias","LC","CE","AF  Legais"," TOTAL AFASTAMENTOS","APH"]
[null,null,null,null,null,null,"M","MT","D","DN",null,"T","N",1,2,3,4,5,6,7,8,9,10,11,12,13,14,15,16,17,18,19,20,21,22,23,24,25,{"$f":"IF(DAY(DATE(AM5,VLOOKUP(Y5,Tabelas!M:N,2,0)+1,1)-1)>=26,26,\"\")","v":26},{"$f":"IF(DAY(DATE(AM5,VLOOKUP(Y5,Tabelas!M:N,2,0)+1,1)-1)>=27,27,\"\")","v":27},{"$f":"IF(DAY(DATE(AM5,VLOOKUP(Y5,Tabelas!M:N,2,0)+1,1)-1)>=28,28,\"\")","v":28},{"$f":"IF(DAY(DATE(AM5,VLOOKUP(Y5,Tabelas!M:N,2,0)+1,1)-1)>=29,29,\"\")","v":29},{"$f":"IF(DAY(DATE(AM5,VLOOKUP(Y5,Tabelas!M:N,2,0)+1,1)-1)>=30,30,\"\")","v":30},{"$f":"IF(DAY(DATE(AM5,VLOOKUP(Y5,Tabelas!M:N,2,0)+1,1)-1)>=31,31,\"\")","v":""}]
[null,null,null,null,null,null,null,null,null,1,2,null,null,{"$f":"IF(N7<>\"\",IFERROR(VLOOKUP(WEEKDAY(CONCATENATE(N7,$Y$5,$AM$5)),Tabelas!$I:$J,2,0),\"\"),\"\")","v":"SEX"},{"$f":"IF(O7<>\"\",IFERROR(VLOOKUP(WEEKDAY(CONCATENATE(O7,$Y$5,$AM$5)),Tabelas!$I:$J,2,0),\"\"),\"\")","v":"SAB"},{"$f":"IF(P7<>\"\",IFERROR(VLOOKUP(WEEKDAY(CONCATENATE(P7,$Y$5,$AM$5)),Tabelas!$I:$J,2,0),\"\"),\"\")","v":"DOM"},{"$f":"IF(Q7<>\"\",IFERROR(VLOOKUP(WEEKDAY(CONCATENATE(Q7,$Y$5,$AM$5)),Tabelas!$I:$J,2,0),\"\"),\"\")","v":"SEG"},{"$f":"IF(R7<>\"\",IFERROR(VLOOKUP(WEEKDAY(CONCATENATE(R7,$Y$5,$AM$5)),Tabelas!$I:$J,2,0),\"\"),\"\")","v":"TER"},{"$f":"IF(S7<>\"\",IFERROR(VLOOKUP(WEEKDAY(CONCATENATE(S7,$Y$5,$AM$5)),Tabelas!$I:$J,2,0),\"\"),\"\")","v":"QUA"},{"$f":"IF(T7<>\"\",IFERROR(VLOOKUP(WEEKDAY(CONCATENATE(T7,$Y$5,$AM$5)),Tabelas!$I:$J,2,0),\"\"),\"\")","v":"QUI"},{"$f":"IF(U7<>\"\",IFERROR(VLOOKUP(WEEKDAY(CONCATENATE(U7,$Y$5,$AM$5)),Tabelas!$I:$J,2,0),\"\"),\"\")","v":"SEX"},{"$f":"IF(V7<>\"\",IFERROR(VLOOKUP(WEEKDAY(CONCATENATE(V7,$Y$5,$AM$5)),Tabelas!$I:$J,2,0),\"\"),\"\")","v":"SAB"},{"$f":"IF(W7<>\"\",IFERROR(VLOOKUP(WEEKDAY(CONCATENATE(W7,$Y$5,$AM$5)),Tabelas!$I:$J,2,0),\"\"),\"\")","v":"DOM"},{"$f":"IF(X7<>\"\",IFERROR(VLOOKUP(WEEKDAY(CONCATENATE(X7,$Y$5,$AM$5)),Tabelas!$I:$J,2,0),\"\"),\"\")","v":"SEG"},{"$f":"IF(Y7<>\"\",IFERROR(VLOOKUP(WEEKDAY(CONCATENATE(Y7,$Y$5,$AM$5)),Tabelas!$I:$J,2,0),\"\"),\"\")","v":"TER"},{"$f":"IF(Z7<>\"\",IFERROR(VLOOKUP(WEEKDAY(CONCATENATE(Z7,$Y$5,$AM$5)),Tabelas!$I:$J,2,0),\"\"),\"\")","v":"QUA"},{"$f":"IF(AA7<>\"\",IFERROR(VLOOKUP(WEEKDAY(CONCATENATE(AA7,$Y$5,$AM$5)),Tabelas!$I:$J,2,0),\"\"),\"\")","v":"QUI"},{"$f":"IF(AB7<>\"\",IFERROR(VLOOKUP(WEEKDAY(CONCATENATE(AB7,$Y$5,$AM$5)),Tabelas!$I:$J,2,0),\"\"),\"\")","v":"SEX"},{"$f":"IF(AC7<>\"\",IFERROR(VLOOKUP(WEEKDAY(CONCATENATE(AC7,$Y$5,$AM$5)),Tabelas!$I:$J,2,0),\"\"),\"\")","v":"SAB"},{"$f":"IF(AD7<>\"\",IFERROR(VLOOKUP(WEEKDAY(CONCATENATE(AD7,$Y$5,$AM$5)),Tabelas!$I:$J,2,0),\"\"),\"\")","v":"DOM"},{"$f":"IF(AE7<>\"\",IFERROR(VLOOKUP(WEEKDAY(CONCATENATE(AE7,$Y$5,$AM$5)),Tabelas!$I:$J,2,0),\"\"),\"\")","v":"SEG"},{"$f":"IF(AF7<>\"\",IFERROR(VLOOKUP(WEEKDAY(CONCATENATE(AF7,$Y$5,$AM$5)),Tabelas!$I:$J,2,0),\"\"),\"\")","v":"TER"},{"$f":"IF(AG7<>\"\",IFERROR(VLOOKUP(WEEKDAY(CONCATENATE(AG7,$Y$5,$AM$5)),Tabelas!$I:$J,2,0),\"\"),\"\")","v":"QUA"},{"$f":"IF(AH7<>\"\",IFERROR(VLOOKUP(WEEKDAY(CONCATENATE(AH7,$Y$5,$AM$5)),Tabelas!$I:$J,2,0),\"\"),\"\")","v":"QUI"},{"$f":"IF(AI7<>\"\",IFERROR(VLOOKUP(WEEKDAY(CONCATENATE(AI7,$Y$5,$AM$5)),Tabelas!$I:$J,2,0),\"\"),\"\")","v":"SEX"},{"$f":"IF(AJ7<>\"\",IFERROR(VLOOKUP(WEEKDAY(CONCATENATE(AJ7,$Y$5,$AM$5)),Tabelas!$I:$J,2,0),\"\"),\"\")","v":"SAB"},{"$f":"IF(AK7<>\"\",IFERROR(VLOOKUP(WEEKDAY(CONCATENATE(AK7,$Y$5,$AM$5)),Tabelas!$I:$J,2,0),\"\"),\"\")","v":"DOM"},{"$f":"IF(AL7<>\"\",IFERROR(VLOOKUP(WEEKDAY(CONCATENATE(AL7,$Y$5,$AM$5)),Tabelas!$I:$J,2,0),\"\"),\"\")","v":"SEG"},{"$f":"IF(AM7<>\"\",IFERROR(VLOOKUP(WEEKDAY(CONCATENATE(AM7,$Y$5,$AM$5)),Tabelas!$I:$J,2,0),\"\"),\"\")","v":"TER"},{"$f":"IF(AN7<>\"\",IFERROR(VLOOKUP(WEEKDAY(CONCATENATE(AN7,$Y$5,$AM$5)),Tabelas!$I:$J,2,0),\"\"),\"\")","v":"QUA"},{"$f":"IF(AO7<>\"\",IFERROR(VLOOKUP(WEEKDAY(CONCATENATE(AO7,$Y$5,$AM$5)),Tabelas!$I:$J,2,0),\"\"),\"\")","v":"QUI"},{"$f":"IF(AP7<>\"\",IFERROR(VLOOKUP(WEEKDAY(CONCATENATE(AP7,$Y$5,$AM$5)),Tabelas!$I:$J,2,0),\"\"),\"\")","v":"SEX"},{"$f":"IF(AQ7<>\"\",IFERROR(VLOOKUP(WEEKDAY(CONCATENATE(AQ7,$Y$5,$AM$5)),Tabelas!$I:$J,2,0),\"\"),\"\")","v":"SAB"},{"$f":"IF(AR7<>\"\",IFERROR(VLOOKUP(WEEKDAY(CONCATENATE(AR7,$Y$5,$AM$5)),Tabelas!$I:$J,2,0),\"\"),\"\")","v":""},1,2,3,4,5,6,7,8,9,10,11,12,13,14,15,16,17,18,19,20,21,22,23,24,25,26,27,28,29,30,31,"Total","Dias","Dias","Dias","Dias","Dias","Dias","Dias","Dias"]
["Nível Superior",null,null,null,null,null,null,null,null,null,null,null,null,null,null,null,null,null,null,null,null,null,null,null,null,null,null,null,null,null,null,null,null,null,null,null,null,null,null,null,null,null,null,null,{"$f":"IF(A9<>\"\",IFERROR(VLOOKUP(N9,Tabelas!B:D,3,0),0),\"\")","v":0},{"$f":"IF(A9<>\"\",IFERROR(VLOOKUP(O9,Tabelas!B:D,3,0),0),\"\")","v":0},{"$f":"IF(A9<>\"\",IFERROR(VLOOKUP(P9,Tabelas!B:D,3,0),0),\"\")","v":0},{"$f":"IF(A9<>\"\",IFERROR(VLOOKUP(Q9,Tabelas!B:D,3,0),0),\"\")","v":0},{"$f":"IF(A9<>\"\",IFERROR(VLOOKUP(R9,Tabelas!B:D,3,0),0),\"\")","v":0},{"$f":"IF(A9<>\"\",IFERROR(VLOOKUP(S9,Tabelas!B:D,3,0),0),\"\")","v":0},{"$f":"IF(A9<>\"\",IFERROR(VLOOKUP(T9,Tabelas!B:D,3,0),0),\"\")","v":0},{"$f":"IF(A9<>\"\",IFERROR(VLOOKUP(U9,Tabelas!B:D,3,0),0),\"\")","v":0},{"$f":"IF(A9<>\"\",IFERROR(VLOOKUP(V9,Tabelas!B:D,3,0),0),\"\")","v":0},{"$f":"IF(A9<>\"\",IFERROR(VLOOKUP(W9,Tabelas!B:D,3,0),0),\"\")","v":0},{"$f":"IF(A9<>\"\",IFERROR(VLOOKUP(X9,Tabelas!B:D,3,0),0),\"\")","v":0},{"$f":"IF(A9<>\"\",IFERROR(VLOOKUP(Y9,Tabelas!B:D,3,0),0),\"\")","v":0},{"$f":"IF(A9<>\"\",IFERROR(VLOOKUP(Z9,Tabelas!B:D,3,0),0),\"\")","v":0},{"$f":"IF(A9<>\"\",IFERROR(VLOOKUP(AA9,Tabelas!B:D,3,0),0),\"\")","v":0},{"$f":"IF(A9<>\"\",IFERROR(VLOOKUP(AB9,Tabelas!B:D,3,0),0),\"\")","v":0},{"$f":"IF(A9<>\"\",IFERROR(VLOOKUP(AC9,Tabelas!B:D,3,0),0),\"\")","v":0},{"$f":"IF(A9<>\"\",IFERROR(VLOOKUP(AD9,Tabelas!B:D,3,0),0),\"\")","v":0},{"$f":"IF(A9<>\"\",IFERROR(VLOOKUP(AE9,Tabelas!B:D,3,0),0),\"\")","v":0},{"$f":"IF(A9<>\"\",IFERROR(VLOOKUP(AF9,Tabelas!B:D,3,0),0),\"\")","v":0},{"$f":"IF(A9<>\"\",IFERROR(VLOOKUP(AG9,Tabelas!B:D,3,0),0),\"\")","v":0},{"$f":"IF(A9<>\"\",IFERROR(VLOOKUP(AH9,Tabelas!B:D,3,0),0),\"\")","v":0},{"$f":"IF(A9<>\"\",IFERROR(VLOOKUP(AI9,Tabelas!B:D,3,0),0),\"\")","v":0},{"$f":"IF(A9<>\"\",IFERROR(VLOOKUP(AJ9,Tabelas!B:D,3,0),0),\"\")","v":0},{"$f":"IF(A9<>\"\",IFERROR(VLOOKUP(AK9,Tabelas!B:D,3,0),0),\"\")","v":0},{"$f":"IF(A9<>\"\",IFERROR(VLOOKUP(AL9,Tabelas!B:D,3,0),0),\"\")","v":0},{"$f":"IF(A9<>\"\",IFERROR(VLOOKUP(AM9,Tabelas!B:D,3,0),0),\"\")","v":0},{"$f":"IF(A9<>\"\",IFERROR(VLOOKUP(AN9,Tabelas!B:D,3,0),0),\"\")","v":0},{"$f":"IF(A9<>\"\",IFERROR(VLOOKUP(AO9,Tabelas!B:D,3,0),0),\"\")","v":0},{"$f":"IF(A9<>\"\",IFERROR(VLOOKUP(AP9,Tabelas!B:D,3,0),0),\"\")","v":0},{"$f":"IF(A9<>\"\",IFERROR(VLOOKUP(AQ9,Tabelas!B:D,3,0),0),\"\")","v":0},{"$f":"IF(A9<>\"\",IFERROR(VLOOKUP(AR9,Tabelas!B:D,3,0),0),\"\")","v":0},{"$f":"IF(A9<>\"\",SUM(AS9:BW9),\"\")","v":0},{"$f":"IF(A9<>\"\",COUNTIF(N9:AR9,\"LM\")+COUNTIF(N9:AR9,\"L\"),\"\")+COUNTIF(N9:AR9,\"LP\")","v":0},{"$f":"IF(A9<>\"\",COUNTIF(N9:AR9,\"AB\"),\"\")","v":0},{"$f":"IF(A9<>\"\",COUNTIF(N9:AR9,\"FE\"),\"\")","v":0},{"$f":"IF(A9<>\"\",COUNTIF(N9:AR9,\"LC\"),\"\")","v":0},{"$f":"IF(A9<>\"\",COUNTIF(N9:AR9,\"CE\"),\"\")","v":0},{"$f":"IF(A9<>\"\",COUNTIF(N9:AR9,\"AF1\")+COUNTIF(N9:AR9,\"AF2\")+COUNTIF(N9:AR9,\"AF3\")+COUNTIF(N9:AR9,\"AF4\")+COUNTIF(N9:AR9,\"AF5\")+COUNTIF(N9:AR9,\"AF6\")+COUNTIF(N9:AR9,\"AF7\")+COUNTIF(N9:AR9,\"AF8\")+COUNTIF(N9:AR9,\"AF9\")+COUNTIF(N9:AR9,\"AF10\")+COUNTIF(N9:AR9,\"AF11\")+COUNTIF(N9:AR9,\"AF12\")+COUNTIF(N9:AR9,\"AF13\")+COUNTIF(N9:AR9,\"AF14\"),\"\")","v":0},{"$f":"IF(A9<>\"\",COUNTIF(N9:AR9,\"CE\")+COUNTIF(N9:AR9,\"L\")+COUNTIF(N9:AR9,\"LM\")+COUNTIF(N9:AR9,\"LP\")+COUNTIF(N9:AR9,\"LC\")+COUNTIF(N9:AR9,\"AB\")+COUNTIF(N9:AR9,\"AF1\")+COUNTIF(N9:AR9,\"AF2\")+COUNTIF(N9:AR9,\"AF3\")+COUNTIF(N9:AR9,\"AF4\")+COUNTIF(N9:AR9,\"AF5\")+COUNTIF(N9:AR9,\"AF6\")+COUNTIF(N9:AR9,\"AF7\")+COUNTIF(N9:AR9,\"AF8\")+COUNTIF(N9:AR9,\"AF9\")+COUNTIF(N9:AR9,\"AF10\")+COUNTIF(N9:AR9,\"AF11\")+COUNTIF(N9:AR9,\"AF12\")+COUNTIF(N9:AR9,\"AF13\")+COUNTIF(N9:AR9,\"AF14\")+COUNTIF(N9:AR9,\"RC\")+COUNTIF(N9:AR9,\"FO\")+COUNTIF(N9:AR9,\"FE\"),\"\")","v":0},{"$f":"IF(A9<>\"\",COUNTIF(N9:AR9,\"APH\"),\"\")","v":0}]
["Tatiane Lazzarotto sousa",null,null,null,null,null,null,null,null,null,null,null,null,null,null,null,null,null,null,null,null,null,null,null,null,null,null,null,null,null,null,null,null,null,null,null,null,null,null,null,null,null,null,null,{"$f":"IF(A10<>\"\",IFERROR(VLOOKUP(N10,Tabelas!B:D,3,0),0),\"\")","v":0},{"$f":"IF(A10<>\"\",IFERROR(VLOOKUP(O10,Tabelas!B:D,3,0),0),\"\")","v":0},{"$f":"IF(A10<>\"\",IFERROR(VLOOKUP(P10,Tabelas!B:D,3,0),0),\"\")","v":0},{"$f":"IF(A10<>\"\",IFERROR(VLOOKUP(Q10,Tabelas!B:D,3,0),0),\"\")","v":0},{"$f":"IF(A10<>\"\",IFERROR(VLOOKUP(R10,Tabelas!B:D,3,0),0),\"\")","v":0},{"$f":"IF(A10<>\"\",IFERROR(VLOOKUP(S10,Tabelas!B:D,3,0),0),\"\")","v":0},{"$f":"IF(A10<>\"\",IFERROR(VLOOKUP(T10,Tabelas!B:D,3,0),0),\"\")","v":0},{"$f":"IF(A10<>\"\",IFERROR(VLOOKUP(U10,Tabelas!B:D,3,0),0),\"\")","v":0},{"$f":"IF(A10<>\"\",IFERROR(VLOOKUP(V10,Tabelas!B:D,3,0),0),\"\")","v":0},{"$f":"IF(A10<>\"\",IFERROR(VLOOKUP(W10,Tabelas!B:D,3,0),0),\"\")","v":0},{"$f":"IF(A10<>\"\",IFERROR(VLOOKUP(X10,Tabelas!B:D,3,0),0),\"\")","v":0},{"$f":"IF(A10<>\"\",IFERROR(VLOOKUP(Y10,Tabelas!B:D,3,0),0),\"\")","v":0},{"$f":"IF(A10<>\"\",IFERROR(VLOOKUP(Z10,Tabelas!B:D,3,0),0),\"\")","v":0},{"$f":"IF(A10<>\"\",IFERROR(VLOOKUP(AA10,Tabelas!B:D,3,0),0),\"\")","v":0},{"$f":"IF(A10<>\"\",IFERROR(VLOOKUP(AB10,Tabelas!B:D,3,0),0),\"\")","v":0},{"$f":"IF(A10<>\"\",IFERROR(VLOOKUP(AC10,Tabelas!B:D,3,0),0),\"\")","v":0},{"$f":"IF(A10<>\"\",IFERROR(VLOOKUP(AD10,Tabelas!B:D,3,0),0),\"\")","v":0},{"$f":"IF(A10<>\"\",IFERROR(VLOOKUP(AE10,Tabelas!B:D,3,0),0),\"\")","v":0},{"$f":"IF(A10<>\"\",IFERROR(VLOOKUP(AF10,Tabelas!B:D,3,0),0),\"\")","v":0},{"$f":"IF(A10<>\"\",IFERROR(VLOOKUP(AG10,Tabelas!B:D,3,0),0),\"\")","v":0},{"$f":"IF(A10<>\"\",IFERROR(VLOOKUP(AH10,Tabelas!B:D,3,0),0),\"\")","v":0},{"$f":"IF(A10<>\"\",IFERROR(VLOOKUP(AI10,Tabelas!B:D,3,0),0),\"\")","v":0},{"$f":"IF(A10<>\"\",IFERROR(VLOOKUP(AJ10,Tabelas!B:D,3,0),0),\"\")","v":0},{"$f":"IF(A10<>\"\",IFERROR(VLOOKUP(AK10,Tabelas!B:D,3,0),0),\"\")","v":0},{"$f":"IF(A10<>\"\",IFERROR(VLOOKUP(AL10,Tabelas!B:D,3,0),0),\"\")","v":0},{"$f":"IF(A10<>\"\",IFERROR(VLOOKUP(AM10,Tabelas!B:D,3,0),0),\"\")","v":0},{"$f":"IF(A10<>\"\",IFERROR(VLOOKUP(AN10,Tabelas!B:D,3,0),0),\"\")","v":0},{"$f":"IF(A10<>\"\",IFERROR(VLOOKUP(AO10,Tabelas!B:D,3,0),0),\"\")","v":0},{"$f":"IF(A10<>\"\",IFERROR(VLOOKUP(AP10,Tabelas!B:D,3,0),0),\"\")","v":0},{"$f":"IF(A10<>\"\",IFERROR(VLOOKUP(AQ10,Tabelas!B:D,3,0),0),\"\")","v":0},{"$f":"IF(A10<>\"\",IFERROR(VLOOKUP(AR10,Tabelas!B:D,3,0),0),\"\")","v":0},0,0,{"$f":"IF(A10<>\"\",COUNTIF(N10:AR10,\"AB\"),\"\")","v":0},{"$f":"IF(A10<>\"\",COUNTIF(N10:AR10,\"FE\"),\"\")","v":0},{"$f":"IF(A10<>\"\",COUNTIF(N10:AR10,\"LC\"),\"\")","v":0},{"$f":"IF(A10<>\"\",COUNTIF(N10:AR10,\"CE\"),\"\")","v":0},0,0,0]
["MATUTINO",null,null,null,null,null,null,null,null,null,null,null,null,null,null,null,null,null,null,null,null,null,null,null,null,null,null,null,null,null,null,null,null,null,null,null,null,null,null,null,null,null,null,null,{"$f":"IF(A11<>\"\",IFERROR(VLOOKUP(N11,Tabelas!B:D,3,0),0),\"\")","v":0},{"$f":"IF(A11<>\"\",IFERROR(VLOOKUP(O11,Tabelas!B:D,3,0),0),\"\")","v":0},{"$f":"IF(A11<>\"\",IFERROR(VLOOKUP(P11,Tabelas!B:D,3,0),0),\"\")","v":0},{"$f":"IF(A11<>\"\",IFERROR(VLOOKUP(Q11,Tabelas!B:D,3,0),0),\"\")","v":0},{"$f":"IF(A11<>\"\",IFERROR(VLOOKUP(R11,Tabelas!B:D,3,0),0),\"\")","v":0},{"$f":"IF(A11<>\"\",IFERROR(VLOOKUP(S11,Tabelas!B:D,3,0),0),\"\")","v":0},{"$f":"IF(A11<>\"\",IFERROR(VLOOKUP(T11,Tabelas!B:D,3,0),0),\"\")","v":0},{"$f":"IF(A11<>\"\",IFERROR(VLOOKUP(U11,Tabelas!B:D,3,0),0),\"\")","v":0},{"$f":"IF(A11<>\"\",IFERROR(VLOOKUP(V11,Tabelas!B:D,3,0),0),\"\")","v":0},{"$f":"IF(A11<>\"\",IFERROR(VLOOKUP(W11,Tabelas!B:D,3,0),0),\"\")","v":0},{"$f":"IF(A11<>\"\",IFERROR(VLOOKUP(X11,Tabelas!B:D,3,0),0),\"\")","v":0},{"$f":"IF(A11<>\"\",IFERROR(VLOOKUP(Y11,Tabelas!B:D,3,0),0),\"\")","v":0},{"$f":"IF(A11<>\"\",IFERROR(VLOOKUP(Z11,Tabelas!B:D,3,0),0),\"\")","v":0},{"$f":"IF(A11<>\"\",IFERROR(VLOOKUP(AA11,Tabelas!B:D,3,0),0),\"\")","v":0},{"$f":"IF(A11<>\"\",IFERROR(VLOOKUP(AB11,Tabelas!B:D,3,0),0),\"\")","v":0},{"$f":"IF(A11<>\"\",IFERROR(VLOOKUP(AC11,Tabelas!B:D,3,0),0),\"\")","v":0},{"$f":"IF(A11<>\"\",IFERROR(VLOOKUP(AD11,Tabelas!B:D,3,0),0),\"\")","v":0},{"$f":"IF(A11<>\"\",IFERROR(VLOOKUP(AE11,Tabelas!B:D,3,0),0),\"\")","v":0},{"$f":"IF(A11<>\"\",IFERROR(VLOOKUP(AF11,Tabelas!B:D,3,0),0),\"\")","v":0},{"$f":"IF(A11<>\"\",IFERROR(VLOOKUP(AG11,Tabelas!B:D,3,0),0),\"\")","v":0},{"$f":"IF(A11<>\"\",IFERROR(VLOOKUP(AH11,Tabelas!B:D,3,0),0),\"\")","v":0},{"$f":"IF(A11<>\"\",IFERROR(VLOOKUP(AI11,Tabelas!B:D,3,0),0),\"\")","v":0},{"$f":"IF(A11<>\"\",IFERROR(VLOOKUP(AJ11,Tabelas!B:D,3,0),0),\"\")","v":0},{"$f":"IF(A11<>\"\",IFERROR(VLOOKUP(AK11,Tabelas!B:D,3,0),0),\"\")","v":0},{"$f":"IF(A11<>\"\",IFERROR(VLOOKUP(AL11,Tabelas!B:D,3,0),0),\"\")","v":0},{"$f":"IF(A11<>\"\",IFERROR(VLOOKUP(AM11,Tabelas!B:D,3,0),0),\"\")","v":0},{"$f":"IF(A11<>\"\",IFERROR(VLOOKUP(AN11,Tabelas!B:D,3,0),0),\"\")","v":0},{"$f":"IF(A11<>\"\",IFERROR(VLOOKUP(AO11,Tabelas!B:D,3,0),0),\"\")","v":0},{"$f":"IF(A11<>\"\",IFERROR(VLOOKUP(AP11,Tabelas!B:D,3,0),0),\"\")","v":0},{"$f":"IF(A11<>\"\",IFERROR(VLOOKUP(AQ11,Tabelas!B:D,3,0),0),\"\")","v":0},{"$f":"IF(A11<>\"\",IFERROR(VLOOKUP(AR11,Tabelas!B:D,3,0),0),\"\")","v":0},0,0,{"$f":"IF(A11<>\"\",COUNTIF(N11:AR11,\"AB\"),\"\")","v":0},{"$f":"IF(A11<>\"\",COUNTIF(N11:AR11,\"FE\"),\"\")","v":0},{"$f":"IF(A11<>\"\",COUNTIF(N11:AR11,\"LC\"),\"\")","v":0},{"$f":"IF(A11<>\"\",COUNTIF(N11:AR11,\"CE\"),\"\")","v":0},0,0,0]
["Clarice Koerich",null,null,null,null,null,null,null,null,null,null,null,null,null,null,null,null,null,null,null,null,null,null,null,null,null,null,null,null,null,null,null,null,null,null,null,null,null,null,null,null,null,null,null,{"$f":"IF(A12<>\"\",IFERROR(VLOOKUP(N12,Tabelas!B:D,3,0),0),\"\")","v":0},{"$f":"IF(A12<>\"\",IFERROR(VLOOKUP(O12,Tabelas!B:D,3,0),0),\"\")","v":0},{"$f":"IF(A12<>\"\",IFERROR(VLOOKUP(P12,Tabelas!B:D,3,0),0),\"\")","v":0},{"$f":"IF(A12<>\"\",IFERROR(VLOOKUP(Q12,Tabelas!B:D,3,0),0),\"\")","v":0},{"$f":"IF(A12<>\"\",IFERROR(VLOOKUP(R12,Tabelas!B:D,3,0),0),\"\")","v":0},{"$f":"IF(A12<>\"\",IFERROR(VLOOKUP(S12,Tabelas!B:D,3,0),0),\"\")","v":0},{"$f":"IF(A12<>\"\",IFERROR(VLOOKUP(T12,Tabelas!B:D,3,0),0),\"\")","v":0},{"$f":"IF(A12<>\"\",IFERROR(VLOOKUP(U12,Tabelas!B:D,3,0),0),\"\")","v":0},{"$f":"IF(A12<>\"\",IFERROR(VLOOKUP(V12,Tabelas!B:D,3,0),0),\"\")","v":0},{"$f":"IF(A12<>\"\",IFERROR(VLOOKUP(W12,Tabelas!B:D,3,0),0),\"\")","v":0},{"$f":"IF(A12<>\"\",IFERROR(VLOOKUP(X12,Tabelas!B:D,3,0),0),\"\")","v":0},{"$f":"IF(A12<>\"\",IFERROR(VLOOKUP(Y12,Tabelas!B:D,3,0),0),\"\")","v":0},{"$f":"IF(A12<>\"\",IFERROR(VLOOKUP(Z12,Tabelas!B:D,3,0),0),\"\")","v":0},{"$f":"IF(A12<>\"\",IFERROR(VLOOKUP(AA12,Tabelas!B:D,3,0),0),\"\")","v":0},{"$f":"IF(A12<>\"\",IFERROR(VLOOKUP(AB12,Tabelas!B:D,3,0),0),\"\")","v":0},{"$f":"IF(A12<>\"\",IFERROR(VLOOKUP(AC12,Tabelas!B:D,3,0),0),\"\")","v":0},{"$f":"IF(A12<>\"\",IFERROR(VLOOKUP(AD12,Tabelas!B:D,3,0),0),\"\")","v":0},{"$f":"IF(A12<>\"\",IFERROR(VLOOKUP(AE12,Tabelas!B:D,3,0),0),\"\")","v":0},{"$f":"IF(A12<>\"\",IFERROR(VLOOKUP(AF12,Tabelas!B:D,3,0),0),\"\")","v":0},{"$f":"IF(A12<>\"\",IFERROR(VLOOKUP(AG12,Tabelas!B:D,3,0),0),\"\")","v":0},{"$f":"IF(A12<>\"\",IFERROR(VLOOKUP(AH12,Tabelas!B:D,3,0),0),\"\")","v":0},{"$f":"IF(A12<>\"\",IFERROR(VLOOKUP(AI12,Tabelas!B:D,3,0),0),\"\")","v":0},{"$f":"IF(A12<>\"\",IFERROR(VLOOKUP(AJ12,Tabelas!B:D,3,0),0),\"\")","v":0},{"$f":"IF(A12<>\"\",IFERROR(VLOOKUP(AK12,Tabelas!B:D,3,0),0),\"\")","v":0},{"$f":"IF(A12<>\"\",IFERROR(VLOOKUP(AL12,Tabelas!B:D,3,0),0),\"\")","v":0},{"$f":"IF(A12<>\"\",IFERROR(VLOOKUP(AM12,Tabelas!B:D,3,0),0),\"\")","v":0},{"$f":"IF(A12<>\"\",IFERROR(VLOOKUP(AN12,Tabelas!B:D,3,0),0),\"\")","v":0},{"$f":"IF(A12<>\"\",IFERROR(VLOOKUP(AO12,Tabelas!B:D,3,0),0),\"\")","v":0},{"$f":"IF(A12<>\"\",IFERROR(VLOOKUP(AP12,Tabelas!B:D,3,0),0),\"\")","v":0},{"$f":"IF(A12<>\"\",IFERROR(VLOOKUP(AQ12,Tabelas!B:D,3,0),0),\"\")","v":0},{"$f":"IF(A12<>\"\",IFERROR(VLOOKUP(AR12,Tabelas!B:D,3,0),0),\"\")","v":0},0,0,{"$f":"IF(A12<>\"\",COUNTIF(N12:AR12,\"AB\"),\"\")","v":0},{"$f":"IF(A12<>\"\",COUNTIF(N12:AR12,\"FE\"),\"\")","v":0},{"$f":"IF(A12<>\"\",COUNTIF(N12:AR12,\"LC\"),\"\")","v":0},{"$f":"IF(A12<>\"\",COUNTIF(N12:AR12,\"CE\"),\"\")","v":0},0,0,0]
["Hilário Mattioli Neto",null,null,null,null,null,null,null,null,null,null,null,null,null,null,null,null,null,null,null,null,null,null,null,null,null,null,null,null,null,null,null,null,null,null,null,null,null,null,null,null,null,null,null,{"$f":"IF(A13<>\"\",IFERROR(VLOOKUP(N13,Tabelas!B:D,3,0),0),\"\")","v":0},{"$f":"IF(A13<>\"\",IFERROR(VLOOKUP(O13,Tabelas!B:D,3,0),0),\"\")","v":0},{"$f":"IF(A13<>\"\",IFERROR(VLOOKUP(P13,Tabelas!B:D,3,0),0),\"\")","v":0},{"$f":"IF(A13<>\"\",IFERROR(VLOOKUP(Q13,Tabelas!B:D,3,0),0),\"\")","v":0},{"$f":"IF(A13<>\"\",IFERROR(VLOOKUP(R13,Tabelas!B:D,3,0),0),\"\")","v":0},{"$f":"IF(A13<>\"\",IFERROR(VLOOKUP(S13,Tabelas!B:D,3,0),0),\"\")","v":0},{"$f":"IF(A13<>\"\",IFERROR(VLOOKUP(T13,Tabelas!B:D,3,0),0),\"\")","v":0},{"$f":"IF(A13<>\"\",IFERROR(VLOOKUP(U13,Tabelas!B:D,3,0),0),\"\")","v":0},{"$f":"IF(A13<>\"\",IFERROR(VLOOKUP(V13,Tabelas!B:D,3,0),0),\"\")","v":0},{"$f":"IF(A13<>\"\",IFERROR(VLOOKUP(W13,Tabelas!B:D,3,0),0),\"\")","v":0},{"$f":"IF(A13<>\"\",IFERROR(VLOOKUP(X13,Tabelas!B:D,3,0),0),\"\")","v":0},{"$f":"IF(A13<>\"\",IFERROR(VLOOKUP(Y13,Tabelas!B:D,3,0),0),\"\")","v":0},{"$f":"IF(A13<>\"\",IFERROR(VLOOKUP(Z13,Tabelas!B:D,3,0),0),\"\")","v":0},{"$f":"IF(A13<>\"\",IFERROR(VLOOKUP(AA13,Tabelas!B:D,3,0),0),\"\")","v":0},{"$f":"IF(A13<>\"\",IFERROR(VLOOKUP(AB13,Tabelas!B:D,3,0),0),\"\")","v":0},{"$f":"IF(A13<>\"\",IFERROR(VLOOKUP(AC13,Tabelas!B:D,3,0),0),\"\")","v":0},{"$f":"IF(A13<>\"\",IFERROR(VLOOKUP(AD13,Tabelas!B:D,3,0),0),\"\")","v":0},{"$f":"IF(A13<>\"\",IFERROR(VLOOKUP(AE13,Tabelas!B:D,3,0),0),\"\")","v":0},{"$f":"IF(A13<>\"\",IFERROR(VLOOKUP(AF13,Tabelas!B:D,3,0),0),\"\")","v":0},{"$f":"IF(A13<>\"\",IFERROR(VLOOKUP(AG13,Tabelas!B:D,3,0),0),\"\")","v":0},{"$f":"IF(A13<>\"\",IFERROR(VLOOKUP(AH13,Tabelas!B:D,3,0),0),\"\")","v":0},{"$f":"IF(A13<>\"\",IFERROR(VLOOKUP(AI13,Tabelas!B:D,3,0),0),\"\")","v":0},{"$f":"IF(A13<>\"\",IFERROR(VLOOKUP(AJ13,Tabelas!B:D,3,0),0),\"\")","v":0},{"$f":"IF(A13<>\"\",IFERROR(VLOOKUP(AK13,Tabelas!B:D,3,0),0),\"\")","v":0},{"$f":"IF(A13<>\"\",IFERROR(VLOOKUP(AL13,Tabelas!B:D,3,0),0),\"\")","v":0},{"$f":"IF(A13<>\"\",IFERROR(VLOOKUP(AM13,Tabelas!B:D,3,0),0),\"\")","v":0},{"$f":"IF(A13<>\"\",IFERROR(VLOOKUP(AN13,Tabelas!B:D,3,0),0),\"\")","v":0},{"$f":"IF(A13<>\"\",IFERROR(VLOOKUP(AO13,Tabelas!B:D,3,0),0),\"\")","v":0},{"$f":"IF(A13<>\"\",IFERROR(VLOOKUP(AP13,Tabelas!B:D,3,0),0),\"\")","v":0},{"$f":"IF(A13<>\"\",IFERROR(VLOOKUP(AQ13,Tabelas!B:D,3,0),0),\"\")","v":0},{"$f":"IF(A13<>\"\",IFERROR(VLOOKUP(AR13,Tabelas!B:D,3,0),0),\"\")","v":0},0,0,{"$f":"IF(A13<>\"\",COUNTIF(N13:AR13,\"AB\"),\"\")","v":0},{"$f":"IF(A13<>\"\",COUNTIF(N13:AR13,\"FE\"),\"\")","v":0},{"$f":"IF(A13<>\"\",COUNTIF(N13:AR13,\"LC\"),\"\")","v":0},{"$f":"IF(A13<>\"\",COUNTIF(N13:AR13,\"CE\"),\"\")","v":0},0,0,0]
["Elaine A.G. Medeiros",1836019,200668,null,null,null,null,null,null,null,null,null,null,null,null,null,null,null,null,null,null,null,null,null,null,null,null,null,null,null,null,null,null,null,null,null,null,null,null,null,null,null,null,null,{"$f":"IF(A14<>\"\",IFERROR(VLOOKUP(N14,Tabelas!B:D,3,0),0),\"\")","v":0},{"$f":"IF(A14<>\"\",IFERROR(VLOOKUP(O14,Tabelas!B:D,3,0),0),\"\")","v":0},{"$f":"IF(A14<>\"\",IFERROR(VLOOKUP(P14,Tabelas!B:D,3,0),0),\"\")","v":0},{"$f":"IF(A14<>\"\",IFERROR(VLOOKUP(Q14,Tabelas!B:D,3,0),0),\"\")","v":0},{"$f":"IF(A14<>\"\",IFERROR(VLOOKUP(R14,Tabelas!B:D,3,0),0),\"\")","v":0},{"$f":"IF(A14<>\"\",IFERROR(VLOOKUP(S14,Tabelas!B:D,3,0),0),\"\")","v":0},{"$f":"IF(A14<>\"\",IFERROR(VLOOKUP(T14,Tabelas!B:D,3,0),0),\"\")","v":0},{"$f":"IF(A14<>\"\",IFERROR(VLOOKUP(U14,Tabelas!B:D,3,0),0),\"\")","v":0},{"$f":"IF(A14<>\"\",IFERROR(VLOOKUP(V14,Tabelas!B:D,3,0),0),\"\")","v":0},{"$f":"IF(A14<>\"\",IFERROR(VLOOKUP(W14,Tabelas!B:D,3,0),0),\"\")","v":0},{"$f":"IF(A14<>\"\",IFERROR(VLOOKUP(X14,Tabelas!B:D,3,0),0),\"\")","v":0},{"$f":"IF(A14<>\"\",IFERROR(VLOOKUP(Y14,Tabelas!B:D,3,0),0),\"\")","v":0},{"$f":"IF(A14<>\"\",IFERROR(VLOOKUP(Z14,Tabelas!B:D,3,0),0),\"\")","v":0},{"$f":"IF(A14<>\"\",IFERROR(VLOOKUP(AA14,Tabelas!B:D,3,0),0),\"\")","v":0},{"$f":"IF(A14<>\"\",IFERROR(VLOOKUP(AB14,Tabelas!B:D,3,0),0),\"\")","v":0},{"$f":"IF(A14<>\"\",IFERROR(VLOOKUP(AC14,Tabelas!B:D,3,0),0),\"\")","v":0},{"$f":"IF(A14<>\"\",IFERROR(VLOOKUP(AD14,Tabelas!B:D,3,0),0),\"\")","v":0},{"$f":"IF(A14<>\"\",IFERROR(VLOOKUP(AE14,Tabelas!B:D,3,0),0),\"\")","v":0},{"$f":"IF(A14<>\"\",IFERROR(VLOOKUP(AF14,Tabelas!B:D,3,0),0),\"\")","v":0},{"$f":"IF(A14<>\"\",IFERROR(VLOOKUP(AG14,Tabelas!B:D,3,0),0),\"\")","v":0},{"$f":"IF(A14<>\"\",IFERROR(VLOOKUP(AH14,Tabelas!B:D,3,0),0),\"\")","v":0},{"$f":"IF(A14<>\"\",IFERROR(VLOOKUP(AI14,Tabelas!B:D,3,0),0),\"\")","v":0},{"$f":"IF(A14<>\"\",IFERROR(VLOOKUP(AJ14,Tabelas!B:D,3,0),0),\"\")","v":0},{"$f":"IF(A14<>\"\",IFERROR(VLOOKUP(AK14,Tabelas!B:D,3,0),0),\"\")","v":0},{"$f":"IF(A14<>\"\",IFERROR(VLOOKUP(AL14,Tabelas!B:D,3,0),0),\"\")","v":0},{"$f":"IF(A14<>\"\",IFERROR(VLOOKUP(AM14,Tabelas!B:D,3,0),0),\"\")","v":0},{"$f":"IF(A14<>\"\",IFERROR(VLOOKUP(AN14,Tabelas!B:D,3,0),0),\"\")","v":0},{"$f":"IF(A14<>\"\",IFERROR(VLOOKUP(AO14,Tabelas!B:D,3,0),0),\"\")","v":0},{"$f":"IF(A14<>\"\",IFERROR(VLOOKUP(AP14,Tabelas!B:D,3,0),0),\"\")","v":0},{"$f":"IF(A14<>\"\",IFERROR(VLOOKUP(AQ14,Tabelas!B:D,3,0),0),\"\")","v":0},{"$f":"IF(A14<>\"\",IFERROR(VLOOKUP(AR14,Tabelas!B:D,3,0),0),\"\")","v":0},0,0,{"$f":"IF(A14<>\"\",COUNTIF(N14:AR14,\"AB\"),\"\")","v":0},{"$f":"IF(A14<>\"\",COUNTIF(N14:AR14,\"FE\"),\"\")","v":0},{"$f":"IF(A14<>\"\",COUNTIF(N14:AR14,\"LC\"),\"\")","v":0},{"$f":"IF(A14<>\"\",COUNTIF(N14:AR14,\"CE\"),\"\")","v":0},0,0,0]
["Simone Cidade",null,null,null,null,null,null,null,null,null,null,null,null,null,null,null,null,null,null,null,null,null,null,null,null,null,null,null,null,null,null,null,null,null,null,null,null,null,null,null,null,null,null,null,{"$f":"IF(A15<>\"\",IFERROR(VLOOKUP(N15,Tabelas!B:D,3,0),0),\"\")","v":0},{"$f":"IF(A15<>\"\",IFERROR(VLOOKUP(O15,Tabelas!B:D,3,0),0),\"\")","v":0},{"$f":"IF(A15<>\"\",IFERROR(VLOOKUP(P15,Tabelas!B:D,3,0),0),\"\")","v":0},{"$f":"IF(A15<>\"\",IFERROR(VLOOKUP(Q15,Tabelas!B:D,3,0),0),\"\")","v":0},{"$f":"IF(A15<>\"\",IFERROR(VLOOKUP(R15,Tabelas!B:D,3,0),0),\"\")","v":0},{"$f":"IF(A15<>\"\",IFERROR(VLOOKUP(S15,Tabelas!B:D,3,0),0),\"\")","v":0},{"$f":"IF(A15<>\"\",IFERROR(VLOOKUP(T15,Tabelas!B:D,3,0),0),\"\")","v":0},{"$f":"IF(A15<>\"\",IFERROR(VLOOKUP(U15,Tabelas!B:D,3,0),0),\"\")","v":0},{"$f":"IF(A15<>\"\",IFERROR(VLOOKUP(V15,Tabelas!B:D,3,0),0),\"\")","v":0},{"$f":"IF(A15<>\"\",IFERROR(VLOOKUP(W15,Tabelas!B:D,3,0),0),\"\")","v":0},{"$f":"IF(A15<>\"\",IFERROR(VLOOKUP(X15,Tabelas!B:D,3,0),0),\"\")","v":0},{"$f":"IF(A15<>\"\",IFERROR(VLOOKUP(Y15,Tabelas!B:D,3,0),0),\"\")","v":0},{"$f":"IF(A15<>\"\",IFERROR(VLOOKUP(Z15,Tabelas!B:D,3,0),0),\"\")","v":0},{"$f":"IF(A15<>\"\",IFERROR(VLOOKUP(AA15,Tabelas!B:D,3,0),0),\"\")","v":0},{"$f":"IF(A15<>\"\",IFERROR(VLOOKUP(AB15,Tabelas!B:D,3,0),0),\"\")","v":0},{"$f":"IF(A15<>\"\",IFERROR(VLOOKUP(AC15,Tabelas!B:D,3,0),0),\"\")","v":0},{"$f":"IF(A15<>\"\",IFERROR(VLOOKUP(AD15,Tabelas!B:D,3,0),0),\"\")","v":0},{"$f":"IF(A15<>\"\",IFERROR(VLOOKUP(AE15,Tabelas!B:D,3,0),0),\"\")","v":0},{"$f":"IF(A15<>\"\",IFERROR(VLOOKUP(AF15,Tabelas!B:D,3,0),0),\"\")","v":0},{"$f":"IF(A15<>\"\",IFERROR(VLOOKUP(AG15,Tabelas!B:D,3,0),0),\"\")","v":0},{"$f":"IF(A15<>\"\",IFERROR(VLOOKUP(AH15,Tabelas!B:D,3,0),0),\"\")","v":0},{"$f":"IF(A15<>\"\",IFERROR(VLOOKUP(AI15,Tabelas!B:D,3,0),0),\"\")","v":0},{"$f":"IF(A15<>\"\",IFERROR(VLOOKUP(AJ15,Tabelas!B:D,3,0),0),\"\")","v":0},{"$f":"IF(A15<>\"\",IFERROR(VLOOKUP(AK15,Tabelas!B:D,3,0),0),\"\")","v":0},{"$f":"IF(A15<>\"\",IFERROR(VLOOKUP(AL15,Tabelas!B:D,3,0),0),\"\")","v":0},{"$f":"IF(A15<>\"\",IFERROR(VLOOKUP(AM15,Tabelas!B:D,3,0),0),\"\")","v":0},{"$f":"IF(A15<>\"\",IFERROR(VLOOKUP(AN15,Tabelas!B:D,3,0),0),\"\")","v":0},{"$f":"IF(A15<>\"\",IFERROR(VLOOKUP(AO15,Tabelas!B:D,3,0),0),\"\")","v":0},{"$f":"IF(A15<>\"\",IFERROR(VLOOKUP(AP15,Tabelas!B:D,3,0),0),\"\")","v":0},{"$f":"IF(A15<>\"\",IFERROR(VLOOKUP(AQ15,Tabelas!B:D,3,0),0),\"\")","v":0},{"$f":"IF(A15<>\"\",IFERROR(VLOOKUP(AR15,Tabelas!B:D,3,0),0),\"\")","v":0},0,0,{"$f":"IF(A15<>\"\",COUNTIF(N15:AR15,\"AB\"),\"\")","v":0},{"$f":"IF(A15<>\"\",COUNTIF(N15:AR15,\"FE\"),\"\")","v":0},{"$f":"IF(A15<>\"\",COUNTIF(N15:AR15,\"LC\"),\"\")","v":0},{"$f":"IF(A15<>\"\",COUNTIF(N15:AR15,\"CE\"),\"\")","v":0},0,0,0]
["VERSPERTINO",null,null,null,null,null,null,null,null,null,null,null,null,null,null,null,null,null,null,null,null,null,null,null,null,null,null,null,null,null,null,null,null,null,null,null,null,null,null,null,null,null,null,null,{"$f":"IF(A16<>\"\",IFERROR(VLOOKUP(N16,Tabelas!B:D,3,0),0),\"\")","v":0},{"$f":"IF(A16<>\"\",IFERROR(VLOOKUP(O16,Tabelas!B:D,3,0),0),\"\")","v":0},{"$f":"IF(A16<>\"\",IFERROR(VLOOKUP(P16,Tabelas!B:D,3,0),0),\"\")","v":0},{"$f":"IF(A16<>\"\",IFERROR(VLOOKUP(Q16,Tabelas!B:D,3,0),0),\"\")","v":0},{"$f":"IF(A16<>\"\",IFERROR(VLOOKUP(R16,Tabelas!B:D,3,0),0),\"\")","v":0},{"$f":"IF(A16<>\"\",IFERROR(VLOOKUP(S16,Tabelas!B:D,3,0),0),\"\")","v":0},{"$f":"IF(A16<>\"\",IFERROR(VLOOKUP(T16,Tabelas!B:D,3,0),0),\"\")","v":0},{"$f":"IF(A16<>\"\",IFERROR(VLOOKUP(U16,Tabelas!B:D,3,0),0),\"\")","v":0},{"$f":"IF(A16<>\"\",IFERROR(VLOOKUP(V16,Tabelas!B:D,3,0),0),\"\")","v":0},{"$f":"IF(A16<>\"\",IFERROR(VLOOKUP(W16,Tabelas!B:D,3,0),0),\"\")","v":0},{"$f":"IF(A16<>\"\",IFERROR(VLOOKUP(X16,Tabelas!B:D,3,0),0),\"\")","v":0},{"$f":"IF(A16<>\"\",IFERROR(VLOOKUP(Y16,Tabelas!B:D,3,0),0),\"\")","v":0},{"$f":"IF(A16<>\"\",IFERROR(VLOOKUP(Z16,Tabelas!B:D,3,0),0),\"\")","v":0},{"$f":"IF(A16<>\"\",IFERROR(VLOOKUP(AA16,Tabelas!B:D,3,0),0),\"\")","v":0},{"$f":"IF(A16<>\"\",IFERROR(VLOOKUP(AB16,Tabelas!B:D,3,0),0),\"\")","v":0},{"$f":"IF(A16<>\"\",IFERROR(VLOOKUP(AC16,Tabelas!B:D,3,0),0),\"\")","v":0},{"$f":"IF(A16<>\"\",IFERROR(VLOOKUP(AD16,Tabelas!B:D,3,0),0),\"\")","v":0},{"$f":"IF(A16<>\"\",IFERROR(VLOOKUP(AE16,Tabelas!B:D,3,0),0),\"\")","v":0},{"$f":"IF(A16<>\"\",IFERROR(VLOOKUP(AF16,Tabelas!B:D,3,0),0),\"\")","v":0},{"$f":"IF(A16<>\"\",IFERROR(VLOOKUP(AG16,Tabelas!B:D,3,0),0),\"\")","v":0},{"$f":"IF(A16<>\"\",IFERROR(VLOOKUP(AH16,Tabelas!B:D,3,0),0),\"\")","v":0},{"$f":"IF(A16<>\"\",IFERROR(VLOOKUP(AI16,Tabelas!B:D,3,0),0),\"\")","v":0},{"$f":"IF(A16<>\"\",IFERROR(VLOOKUP(AJ16,Tabelas!B:D,3,0),0),\"\")","v":0},{"$f":"IF(A16<>\"\",IFERROR(VLOOKUP(AK16,Tabelas!B:D,3,0),0),\"\")","v":0},{"$f":"IF(A16<>\"\",IFERROR(VLOOKUP(AL16,Tabelas!B:D,3,0),0),\"\")","v":0},{"$f":"IF(A16<>\"\",IFERROR(VLOOKUP(AM16,Tabelas!B:D,3,0),0),\"\")","v":0},{"$f":"IF(A16<>\"\",IFERROR(VLOOKUP(AN16,Tabelas!B:D,3,0),0),\"\")","v":0},{"$f":"IF(A16<>\"\",IFERROR(VLOOKUP(AO16,Tabelas!B:D,3,0),0),\"\")","v":0},{"$f":"IF(A16<>\"\",IFERROR(VLOOKUP(AP16,Tabelas!B:D,3,0),0),\"\")","v":0},{"$f":"IF(A16<>\"\",IFERROR(VLOOKUP(AQ16,Tabelas!B:D,3,0),0),\"\")","v":0},{"$f":"IF(A16<>\"\",IFERROR(VLOOKUP(AR16,Tabelas!B:D,3,0),0),\"\")","v":0},0,0,{"$f":"IF(A16<>\"\",COUNTIF(N16:AR16,\"AB\"),\"\")","v":0},{"$f":"IF(A16<>\"\",COUNTIF(N16:AR16,\"FE\"),\"\")","v":0},{"$f":"IF(A16<>\"\",COUNTIF(N16:AR16,\"LC\"),\"\")","v":0},{"$f":"IF(A16<>\"\",COUNTIF(N16:AR16,\"CE\"),\"\")","v":0},0,0,0]
["Alex Becker",null,null,null,null,null,null,null,null,null,null,null,null,null,null,null,null,null,null,null,null,null,null,null,null,null,null,null,null,null,null,null,null,null,null,null,null,null,null,null,null,null,null,null,{"$f":"IF(A17<>\"\",IFERROR(VLOOKUP(N17,Tabelas!B:D,3,0),0),\"\")","v":0},{"$f":"IF(A17<>\"\",IFERROR(VLOOKUP(O17,Tabelas!B:D,3,0),0),\"\")","v":0},{"$f":"IF(A17<>\"\",IFERROR(VLOOKUP(P17,Tabelas!B:D,3,0),0),\"\")","v":0},{"$f":"IF(A17<>\"\",IFERROR(VLOOKUP(Q17,Tabelas!B:D,3,0),0),\"\")","v":0},{"$f":"IF(A17<>\"\",IFERROR(VLOOKUP(R17,Tabelas!B:D,3,0),0),\"\")","v":0},{"$f":"IF(A17<>\"\",IFERROR(VLOOKUP(S17,Tabelas!B:D,3,0),0),\"\")","v":0},{"$f":"IF(A17<>\"\",IFERROR(VLOOKUP(T17,Tabelas!B:D,3,0),0),\"\")","v":0},{"$f":"IF(A17<>\"\",IFERROR(VLOOKUP(U17,Tabelas!B:D,3,0),0),\"\")","v":0},{"$f":"IF(A17<>\"\",IFERROR(VLOOKUP(V17,Tabelas!B:D,3,0),0),\"\")","v":0},{"$f":"IF(A17<>\"\",IFERROR(VLOOKUP(W17,Tabelas!B:D,3,0),0),\"\")","v":0},{"$f":"IF(A17<>\"\",IFERROR(VLOOKUP(X17,Tabelas!B:D,3,0),0),\"\")","v":0},{"$f":"IF(A17<>\"\",IFERROR(VLOOKUP(Y17,Tabelas!B:D,3,0),0),\"\")","v":0},{"$f":"IF(A17<>\"\",IFERROR(VLOOKUP(Z17,Tabelas!B:D,3,0),0),\"\")","v":0},{"$f":"IF(A17<>\"\",IFERROR(VLOOKUP(AA17,Tabelas!B:D,3,0),0),\"\")","v":0},{"$f":"IF(A17<>\"\",IFERROR(VLOOKUP(AB17,Tabelas!B:D,3,0),0),\"\")","v":0},{"$f":"IF(A17<>\"\",IFERROR(VLOOKUP(AC17,Tabelas!B:D,3,0),0),\"\")","v":0},{"$f":"IF(A17<>\"\",IFERROR(VLOOKUP(AD17,Tabelas!B:D,3,0),0),\"\")","v":0},{"$f":"IF(A17<>\"\",IFERROR(VLOOKUP(AE17,Tabelas!B:D,3,0),0),\"\")","v":0},{"$f":"IF(A17<>\"\",IFERROR(VLOOKUP(AF17,Tabelas!B:D,3,0),0),\"\")","v":0},{"$f":"IF(A17<>\"\",IFERROR(VLOOKUP(AG17,Tabelas!B:D,3,0),0),\"\")","v":0},{"$f":"IF(A17<>\"\",IFERROR(VLOOKUP(AH17,Tabelas!B:D,3,0),0),\"\")","v":0},{"$f":"IF(A17<>\"\",IFERROR(VLOOKUP(AI17,Tabelas!B:D,3,0),0),\"\")","v":0},{"$f":"IF(A17<>\"\",IFERROR(VLOOKUP(AJ17,Tabelas!B:D,3,0),0),\"\")","v":0},{"$f":"IF(A17<>\"\",IFERROR(VLOOKUP(AK17,Tabelas!B:D,3,0),0),\"\")","v":0},{"$f":"IF(A17<>\"\",IFERROR(VLOOKUP(AL17,Tabelas!B:D,3,0),0),\"\")","v":0},{"$f":"IF(A17<>\"\",IFERROR(VLOOKUP(AM17,Tabelas!B:D,3,0),0),\"\")","v":0},{"$f":"IF(A17<>\"\",IFERROR(VLOOKUP(AN17,Tabelas!B:D,3,0),0),\"\")","v":0},{"$f":"IF(A17<>\"\",IFERROR(VLOOKUP(AO17,Tabelas!B:D,3,0),0),\"\")","v":0},{"$f":"IF(A17<>\"\",IFERROR(VLOOKUP(AP17,Tabelas!B:D,3,0),0),\"\")","v":0},{"$f":"IF(A17<>\"\",IFERROR(VLOOKUP(AQ17,Tabelas!B:D,3,0),0),\"\")","v":0},{"$f":"IF(A17<>\"\",IFERROR(VLOOKUP(AR17,Tabelas!B:D,3,0),0),\"\")","v":0},0,0,{"$f":"IF(A17<>\"\",COUNTIF(N17:AR17,\"AB\"),\"\")","v":0},{"$f":"IF(A17<>\"\",COUNTIF(N17:AR17,\"FE\"),\"\")","v":0},{"$f":"IF(A17<>\"\",COUNTIF(N17:AR17,\"LC\"),\"\")","v":0},{"$f":"IF(A17<>\"\",COUNTIF(N17:AR17,\"CE\"),\"\")","v":0},0,0,0]
["Cristiani de Souza",null,null,null,null,null,null,null,null,null,null,null,null,null,null,null,null,null,null,null,null,null,null,null,null,null,null,null,null,null,null,null,null,null,null,null,null,null,null,null,null,null,null,null,{"$f":"IF(A18<>\"\",IFERROR(VLOOKUP(N18,Tabelas!B:D,3,0),0),\"\")","v":0},{"$f":"IF(A18<>\"\",IFERROR(VLOOKUP(O18,Tabelas!B:D,3,0),0),\"\")","v":0},{"$f":"IF(A18<>\"\",IFERROR(VLOOKUP(P18,Tabelas!B:D,3,0),0),\"\")","v":0},{"$f":"IF(A18<>\"\",IFERROR(VLOOKUP(Q18,Tabelas!B:D,3,0),0),\"\")","v":0},{"$f":"IF(A18<>\"\",IFERROR(VLOOKUP(R18,Tabelas!B:D,3,0),0),\"\")","v":0},{"$f":"IF(A18<>\"\",IFERROR(VLOOKUP(S18,Tabelas!B:D,3,0),0),\"\")","v":0},{"$f":"IF(A18<>\"\",IFERROR(VLOOKUP(T18,Tabelas!B:D,3,0),0),\"\")","v":0},{"$f":"IF(A18<>\"\",IFERROR(VLOOKUP(U18,Tabelas!B:D,3,0),0),\"\")","v":0},{"$f":"IF(A18<>\"\",IFERROR(VLOOKUP(V18,Tabelas!B:D,3,0),0),\"\")","v":0},{"$f":"IF(A18<>\"\",IFERROR(VLOOKUP(W18,Tabelas!B:D,3,0),0),\"\")","v":0},{"$f":"IF(A18<>\"\",IFERROR(VLOOKUP(X18,Tabelas!B:D,3,0),0),\"\")","v":0},{"$f":"IF(A18<>\"\",IFERROR(VLOOKUP(Y18,Tabelas!B:D,3,0),0),\"\")","v":0},{"$f":"IF(A18<>\"\",IFERROR(VLOOKUP(Z18,Tabelas!B:D,3,0),0),\"\")","v":0},{"$f":"IF(A18<>\"\",IFERROR(VLOOKUP(AA18,Tabelas!B:D,3,0),0),\"\")","v":0},{"$f":"IF(A18<>\"\",IFERROR(VLOOKUP(AB18,Tabelas!B:D,3,0),0),\"\")","v":0},{"$f":"IF(A18<>\"\",IFERROR(VLOOKUP(AC18,Tabelas!B:D,3,0),0),\"\")","v":0},{"$f":"IF(A18<>\"\",IFERROR(VLOOKUP(AD18,Tabelas!B:D,3,0),0),\"\")","v":0},{"$f":"IF(A18<>\"\",IFERROR(VLOOKUP(AE18,Tabelas!B:D,3,0),0),\"\")","v":0},{"$f":"IF(A18<>\"\",IFERROR(VLOOKUP(AF18,Tabelas!B:D,3,0),0),\"\")","v":0},{"$f":"IF(A18<>\"\",IFERROR(VLOOKUP(AG18,Tabelas!B:D,3,0),0),\"\")","v":0},{"$f":"IF(A18<>\"\",IFERROR(VLOOKUP(AH18,Tabelas!B:D,3,0),0),\"\")","v":0},{"$f":"IF(A18<>\"\",IFERROR(VLOOKUP(AI18,Tabelas!B:D,3,0),0),\"\")","v":0},{"$f":"IF(A18<>\"\",IFERROR(VLOOKUP(AJ18,Tabelas!B:D,3,0),0),\"\")","v":0},{"$f":"IF(A18<>\"\",IFERROR(VLOOKUP(AK18,Tabelas!B:D,3,0),0),\"\")","v":0},{"$f":"IF(A18<>\"\",IFERROR(VLOOKUP(AL18,Tabelas!B:D,3,0),0),\"\")","v":0},{"$f":"IF(A18<>\"\",IFERROR(VLOOKUP(AM18,Tabelas!B:D,3,0),0),\"\")","v":0},{"$f":"IF(A18<>\"\",IFERROR(VLOOKUP(AN18,Tabelas!B:D,3,0),0),\"\")","v":0},{"$f":"IF(A18<>\"\",IFERROR(VLOOKUP(AO18,Tabelas!B:D,3,0),0),\"\")","v":0},{"$f":"IF(A18<>\"\",IFERROR(VLOOKUP(AP18,Tabelas!B:D,3,0),0),\"\")","v":0},{"$f":"IF(A18<>\"\",IFERROR(VLOOKUP(AQ18,Tabelas!B:D,3,0),0),\"\")","v":0},{"$f":"IF(A18<>\"\",IFERROR(VLOOKUP(AR18,Tabelas!B:D,3,0),0),\"\")","v":0},0,0,{"$f":"IF(A18<>\"\",COUNTIF(N18:AR18,\"AB\"),\"\")","v":0},{"$f":"IF(A18<>\"\",COUNTIF(N18:AR18,\"FE\"),\"\")","v":0},{"$f":"IF(A18<>\"\",COUNTIF(N18:AR18,\"LC\"),\"\")","v":0},{"$f":"IF(A18<>\"\",COUNTIF(N18:AR18,\"CE\"),\"\")","v":0},0,0,0]
["Daniele C. Perin",null,null,null,null,null,null,null,null,null,null,null,null,null,null,null,null,null,null,null,null,null,null,null,null,null,null,null,null,null,null,null,null,null,null,null,null,null,null,null,null,null,null,null,{"$f":"IF(A19<>\"\",IFERROR(VLOOKUP(N19,Tabelas!B:D,3,0),0),\"\")","v":0},{"$f":"IF(A19<>\"\",IFERROR(VLOOKUP(O19,Tabelas!B:D,3,0),0),\"\")","v":0},{"$f":"IF(A19<>\"\",IFERROR(VLOOKUP(P19,Tabelas!B:D,3,0),0),\"\")","v":0},{"$f":"IF(A19<>\"\",IFERROR(VLOOKUP(Q19,Tabelas!B:D,3,0),0),\"\")","v":0},{"$f":"IF(A19<>\"\",IFERROR(VLOOKUP(R19,Tabelas!B:D,3,0),0),\"\")","v":0},{"$f":"IF(A19<>\"\",IFERROR(VLOOKUP(S19,Tabelas!B:D,3,0),0),\"\")","v":0},{"$f":"IF(A19<>\"\",IFERROR(VLOOKUP(T19,Tabelas!B:D,3,0),0),\"\")","v":0},{"$f":"IF(A19<>\"\",IFERROR(VLOOKUP(U19,Tabelas!B:D,3,0),0),\"\")","v":0},{"$f":"IF(A19<>\"\",IFERROR(VLOOKUP(V19,Tabelas!B:D,3,0),0),\"\")","v":0},{"$f":"IF(A19<>\"\",IFERROR(VLOOKUP(W19,Tabelas!B:D,3,0),0),\"\")","v":0},{"$f":"IF(A19<>\"\",IFERROR(VLOOKUP(X19,Tabelas!B:D,3,0),0),\"\")","v":0},{"$f":"IF(A19<>\"\",IFERROR(VLOOKUP(Y19,Tabelas!B:D,3,0),0),\"\")","v":0},{"$f":"IF(A19<>\"\",IFERROR(VLOOKUP(Z19,Tabelas!B:D,3,0),0),\"\")","v":0},{"$f":"IF(A19<>\"\",IFERROR(VLOOKUP(AA19,Tabelas!B:D,3,0),0),\"\")","v":0},{"$f":"IF(A19<>\"\",IFERROR(VLOOKUP(AB19,Tabelas!B:D,3,0),0),\"\")","v":0},{"$f":"IF(A19<>\"\",IFERROR(VLOOKUP(AC19,Tabelas!B:D,3,0),0),\"\")","v":0},{"$f":"IF(A19<>\"\",IFERROR(VLOOKUP(AD19,Tabelas!B:D,3,0),0),\"\")","v":0},{"$f":"IF(A19<>\"\",IFERROR(VLOOKUP(AE19,Tabelas!B:D,3,0),0),\"\")","v":0},{"$f":"IF(A19<>\"\",IFERROR(VLOOKUP(AF19,Tabelas!B:D,3,0),0),\"\")","v":0},{"$f":"IF(A19<>\"\",IFERROR(VLOOKUP(AG19,Tabelas!B:D,3,0),0),\"\")","v":0},{"$f":"IF(A19<>\"\",IFERROR(VLOOKUP(AH19,Tabelas!B:D,3,0),0),\"\")","v":0},{"$f":"IF(A19<>\"\",IFERROR(VLOOKUP(AI19,Tabelas!B:D,3,0),0),\"\")","v":0},{"$f":"IF(A19<>\"\",IFERROR(VLOOKUP(AJ19,Tabelas!B:D,3,0),0),\"\")","v":0},{"$f":"IF(A19<>\"\",IFERROR(VLOOKUP(AK19,Tabelas!B:D,3,0),0),\"\")","v":0},{"$f":"IF(A19<>\"\",IFERROR(VLOOKUP(AL19,Tabelas!B:D,3,0),0),\"\")","v":0},{"$f":"IF(A19<>\"\",IFERROR(VLOOKUP(AM19,Tabelas!B:D,3,0),0),\"\")","v":0},{"$f":"IF(A19<>\"\",IFERROR(VLOOKUP(AN19,Tabelas!B:D,3,0),0),\"\")","v":0},{"$f":"IF(A19<>\"\",IFERROR(VLOOKUP(AO19,Tabelas!B:D,3,0),0),\"\")","v":0},{"$f":"IF(A19<>\"\",IFERROR(VLOOKUP(AP19,Tabelas!B:D,3,0),0),\"\")","v":0},{"$f":"IF(A19<>\"\",IFERROR(VLOOKUP(AQ19,Tabelas!B:D,3,0),0),\"\")","v":0},{"$f":"IF(A19<>\"\",IFERROR(VLOOKUP(AR19,Tabelas!B:D,3,0),0),\"\")","v":0},0,0,{"$f":"IF(A19<>\"\",COUNTIF(N19:AR19,\"AB\"),\"\")","v":0},{"$f":"IF(A19<>\"\",COUNTIF(N19:AR19,\"FE\"),\"\")","v":0},{"$f":"IF(A19<>\"\",COUNTIF(N19:AR19,\"LC\"),\"\")","v":0},{"$f":"IF(A19<>\"\",COUNTIF(N19:AR19,\"CE\"),\"\")","v":0},0,0,0]
["Francijane A. Costa",null,null,null,null,null,null,null,null,null,null,null,null,null,null,null,null,null,null,null,null,null,null,null,null,null,null,null,null,null,null,null,null,null,null,null,null,null,null,null,null,null,null,null,{"$f":"IF(A20<>\"\",IFERROR(VLOOKUP(N20,Tabelas!B:D,3,0),0),\"\")","v":0},{"$f":"IF(A20<>\"\",IFERROR(VLOOKUP(O20,Tabelas!B:D,3,0),0),\"\")","v":0},{"$f":"IF(A20<>\"\",IFERROR(VLOOKUP(P20,Tabelas!B:D,3,0),0),\"\")","v":0},{"$f":"IF(A20<>\"\",IFERROR(VLOOKUP(Q20,Tabelas!B:D,3,0),0),\"\")","v":0},{"$f":"IF(A20<>\"\",IFERROR(VLOOKUP(R20,Tabelas!B:D,3,0),0),\"\")","v":0},{"$f":"IF(A20<>\"\",IFERROR(VLOOKUP(S20,Tabelas!B:D,3,0),0),\"\")","v":0},{"$f":"IF(A20<>\"\",IFERROR(VLOOKUP(T20,Tabelas!B:D,3,0),0),\"\")","v":0},{"$f":"IF(A20<>\"\",IFERROR(VLOOKUP(U20,Tabelas!B:D,3,0),0),\"\")","v":0},{"$f":"IF(A20<>\"\",IFERROR(VLOOKUP(V20,Tabelas!B:D,3,0),0),\"\")","v":0},{"$f":"IF(A20<>\"\",IFERROR(VLOOKUP(W20,Tabelas!B:D,3,0),0),\"\")","v":0},{"$f":"IF(A20<>\"\",IFERROR(VLOOKUP(X20,Tabelas!B:D,3,0),0),\"\")","v":0},{"$f":"IF(A20<>\"\",IFERROR(VLOOKUP(Y20,Tabelas!B:D,3,0),0),\"\")","v":0},{"$f":"IF(A20<>\"\",IFERROR(VLOOKUP(Z20,Tabelas!B:D,3,0),0),\"\")","v":0},{"$f":"IF(A20<>\"\",IFERROR(VLOOKUP(AA20,Tabelas!B:D,3,0),0),\"\")","v":0},{"$f":"IF(A20<>\"\",IFERROR(VLOOKUP(AB20,Tabelas!B:D,3,0),0),\"\")","v":0},{"$f":"IF(A20<>\"\",IFERROR(VLOOKUP(AC20,Tabelas!B:D,3,0),0),\"\")","v":0},{"$f":"IF(A20<>\"\",IFERROR(VLOOKUP(AD20,Tabelas!B:D,3,0),0),\"\")","v":0},{"$f":"IF(A20<>\"\",IFERROR(VLOOKUP(AE20,Tabelas!B:D,3,0),0),\"\")","v":0},{"$f":"IF(A20<>\"\",IFERROR(VLOOKUP(AF20,Tabelas!B:D,3,0),0),\"\")","v":0},{"$f":"IF(A20<>\"\",IFERROR(VLOOKUP(AG20,Tabelas!B:D,3,0),0),\"\")","v":0},{"$f":"IF(A20<>\"\",IFERROR(VLOOKUP(AH20,Tabelas!B:D,3,0),0),\"\")","v":0},{"$f":"IF(A20<>\"\",IFERROR(VLOOKUP(AI20,Tabelas!B:D,3,0),0),\"\")","v":0},{"$f":"IF(A20<>\"\",IFERROR(VLOOKUP(AJ20,Tabelas!B:D,3,0),0),\"\")","v":0},{"$f":"IF(A20<>\"\",IFERROR(VLOOKUP(AK20,Tabelas!B:D,3,0),0),\"\")","v":0},{"$f":"IF(A20<>\"\",IFERROR(VLOOKUP(AL20,Tabelas!B:D,3,0),0),\"\")","v":0},{"$f":"IF(A20<>\"\",IFERROR(VLOOKUP(AM20,Tabelas!B:D,3,0),0),\"\")","v":0},{"$f":"IF(A20<>\"\",IFERROR(VLOOKUP(AN20,Tabelas!B:D,3,0),0),\"\")","v":0},{"$f":"IF(A20<>\"\",IFERROR(VLOOKUP(AO20,Tabelas!B:D,3,0),0),\"\")","v":0},{"$f":"IF(A20<>\"\",IFERROR(VLOOKUP(AP20,Tabelas!B:D,3,0),0),\"\")","v":0},{"$f":"IF(A20<>\"\",IFERROR(VLOOKUP(AQ20,Tabelas!B:D,3,0),0),\"\")","v":0},{"$f":"IF(A20<>\"\",IFERROR(VLOOKUP(AR20,Tabelas!B:D,3,0),0),\"\")","v":0},0,0,{"$f":"IF(A20<>\"\",COUNTIF(N20:AR20,\"AB\"),\"\")","v":0},{"$f":"IF(A20<>\"\",COUNTIF(N20:AR20,\"FE\"),\"\")","v":0},{"$f":"IF(A20<>\"\",COUNTIF(N20:AR20,\"LC\"),\"\")","v":0},{"$f":"IF(A20<>\"\",COUNTIF(N20:AR20,\"CE\"),\"\")","v":0},0,0,0]
["Magali S. Corrêa",null,null,null,null,null,null,null,null,null,null,null,null,null,null,null,null,null,null,null,null,null,null,null,null,null,null,null,null,null,null,null,null,null,null,null,null,null,null,null,null,null,null,null,{"$f":"IF(A21<>\"\",IFERROR(VLOOKUP(N21,Tabelas!B:D,3,0),0),\"\")","v":0},{"$f":"IF(A21<>\"\",IFERROR(VLOOKUP(O21,Tabelas!B:D,3,0),0),\"\")","v":0},{"$f":"IF(A21<>\"\",IFERROR(VLOOKUP(P21,Tabelas!B:D,3,0),0),\"\")","v":0},{"$f":"IF(A21<>\"\",IFERROR(VLOOKUP(Q21,Tabelas!B:D,3,0),0),\"\")","v":0},{"$f":"IF(A21<>\"\",IFERROR(VLOOKUP(R21,Tabelas!B:D,3,0),0),\"\")","v":0},{"$f":"IF(A21<>\"\",IFERROR(VLOOKUP(S21,Tabelas!B:D,3,0),0),\"\")","v":0},{"$f":"IF(A21<>\"\",IFERROR(VLOOKUP(T21,Tabelas!B:D,3,0),0),\"\")","v":0},{"$f":"IF(A21<>\"\",IFERROR(VLOOKUP(U21,Tabelas!B:D,3,0),0),\"\")","v":0},{"$f":"IF(A21<>\"\",IFERROR(VLOOKUP(V21,Tabelas!B:D,3,0),0),\"\")","v":0},{"$f":"IF(A21<>\"\",IFERROR(VLOOKUP(W21,Tabelas!B:D,3,0),0),\"\")","v":0},{"$f":"IF(A21<>\"\",IFERROR(VLOOKUP(X21,Tabelas!B:D,3,0),0),\"\")","v":0},{"$f":"IF(A21<>\"\",IFERROR(VLOOKUP(Y21,Tabelas!B:D,3,0),0),\"\")","v":0},{"$f":"IF(A21<>\"\",IFERROR(VLOOKUP(Z21,Tabelas!B:D,3,0),0),\"\")","v":0},{"$f":"IF(A21<>\"\",IFERROR(VLOOKUP(AA21,Tabelas!B:D,3,0),0),\"\")","v":0},{"$f":"IF(A21<>\"\",IFERROR(VLOOKUP(AB21,Tabelas!B:D,3,0),0),\"\")","v":0},{"$f":"IF(A21<>\"\",IFERROR(VLOOKUP(AC21,Tabelas!B:D,3,0),0),\"\")","v":0},{"$f":"IF(A21<>\"\",IFERROR(VLOOKUP(AD21,Tabelas!B:D,3,0),0),\"\")","v":0},{"$f":"IF(A21<>\"\",IFERROR(VLOOKUP(AE21,Tabelas!B:D,3,0),0),\"\")","v":0},{"$f":"IF(A21<>\"\",IFERROR(VLOOKUP(AF21,Tabelas!B:D,3,0),0),\"\")","v":0},{"$f":"IF(A21<>\"\",IFERROR(VLOOKUP(AG21,Tabelas!B:D,3,0),0),\"\")","v":0},{"$f":"IF(A21<>\"\",IFERROR(VLOOKUP(AH21,Tabelas!B:D,3,0),0),\"\")","v":0},{"$f":"IF(A21<>\"\",IFERROR(VLOOKUP(AI21,Tabelas!B:D,3,0),0),\"\")","v":0},{"$f":"IF(A21<>\"\",IFERROR(VLOOKUP(AJ21,Tabelas!B:D,3,0),0),\"\")","v":0},{"$f":"IF(A21<>\"\",IFERROR(VLOOKUP(AK21,Tabelas!B:D,3,0),0),\"\")","v":0},{"$f":"IF(A21<>\"\",IFERROR(VLOOKUP(AL21,Tabelas!B:D,3,0),0),\"\")","v":0},{"$f":"IF(A21<>\"\",IFERROR(VLOOKUP(AM21,Tabelas!B:D,3,0),0),\"\")","v":0},{"$f":"IF(A21<>\"\",IFERROR(VLOOKUP(AN21,Tabelas!B:D,3,0),0),\"\")","v":0},{"$f":"IF(A21<>\"\",IFERROR(VLOOKUP(AO21,Tabelas!B:D,3,0),0),\"\")","v":0},{"$f":"IF(A21<>\"\",IFERROR(VLOOKUP(AP21,Tabelas!B:D,3,0),0),\"\")","v":0},{"$f":"IF(A21<>\"\",IFERROR(VLOOKUP(AQ21,Tabelas!B:D,3,0),0),\"\")","v":0},{"$f":"IF(A21<>\"\",IFERROR(VLOOKUP(AR21,Tabelas!B:D,3,0),0),\"\")","v":0},0,0,{"$f":"IF(A21<>\"\",COUNTIF(N21:AR21,\"AB\"),\"\")","v":0},{"$f":"IF(A21<>\"\",COUNTIF(N21:AR21,\"FE\"),\"\")","v":0},{"$f":"IF(A21<>\"\",COUNTIF(N21:AR21,\"LC\"),\"\")","v":0},{"$f":"IF(A21<>\"\",COUNTIF(N21:AR21,\"CE\"),\"\")","v":0},0,0,0]
["                             RESIDENTE",null,null,null,null,null,null,null,null,null,null,null,null,null,null,null,null,null,null,null,null,null,null,null,null,null,null,null,null,null,null,null,null,null,null,null,null,null,null,null,null,null,null,null,{"$f":"IF(A22<>\"\",IFERROR(VLOOKUP(N22,Tabelas!B:D,3,0),0),\"\")","v":0},{"$f":"IF(A22<>\"\",IFERROR(VLOOKUP(O22,Tabelas!B:D,3,0),0),\"\")","v":0},{"$f":"IF(A22<>\"\",IFERROR(VLOOKUP(P22,Tabelas!B:D,3,0),0),\"\")","v":0},{"$f":"IF(A22<>\"\",IFERROR(VLOOKUP(Q22,Tabelas!B:D,3,0),0),\"\")","v":0},{"$f":"IF(A22<>\"\",IFERROR(VLOOKUP(R22,Tabelas!B:D,3,0),0),\"\")","v":0},{"$f":"IF(A22<>\"\",IFERROR(VLOOKUP(S22,Tabelas!B:D,3,0),0),\"\")","v":0},{"$f":"IF(A22<>\"\",IFERROR(VLOOKUP(T22,Tabelas!B:D,3,0),0),\"\")","v":0},{"$f":"IF(A22<>\"\",IFERROR(VLOOKUP(U22,Tabelas!B:D,3,0),0),\"\")","v":0},{"$f":"IF(A22<>\"\",IFERROR(VLOOKUP(V22,Tabelas!B:D,3,0),0),\"\")","v":0},{"$f":"IF(A22<>\"\",IFERROR(VLOOKUP(W22,Tabelas!B:D,3,0),0),\"\")","v":0},{"$f":"IF(A22<>\"\",IFERROR(VLOOKUP(X22,Tabelas!B:D,3,0),0),\"\")","v":0},{"$f":"IF(A22<>\"\",IFERROR(VLOOKUP(Y22,Tabelas!B:D,3,0),0),\"\")","v":0},{"$f":"IF(A22<>\"\",IFERROR(VLOOKUP(Z22,Tabelas!B:D,3,0),0),\"\")","v":0},{"$f":"IF(A22<>\"\",IFERROR(VLOOKUP(AA22,Tabelas!B:D,3,0),0),\"\")","v":0},{"$f":"IF(A22<>\"\",IFERROR(VLOOKUP(AB22,Tabelas!B:D,3,0),0),\"\")","v":0},{"$f":"IF(A22<>\"\",IFERROR(VLOOKUP(AC22,Tabelas!B:D,3,0),0),\"\")","v":0},{"$f":"IF(A22<>\"\",IFERROR(VLOOKUP(AD22,Tabelas!B:D,3,0),0),\"\")","v":0},{"$f":"IF(A22<>\"\",IFERROR(VLOOKUP(AE22,Tabelas!B:D,3,0),0),\"\")","v":0},{"$f":"IF(A22<>\"\",IFERROR(VLOOKUP(AF22,Tabelas!B:D,3,0),0),\"\")","v":0},{"$f":"IF(A22<>\"\",IFERROR(VLOOKUP(AG22,Tabelas!B:D,3,0),0),\"\")","v":0},{"$f":"IF(A22<>\"\",IFERROR(VLOOKUP(AH22,Tabelas!B:D,3,0),0),\"\")","v":0},{"$f":"IF(A22<>\"\",IFERROR(VLOOKUP(AI22,Tabelas!B:D,3,0),0),\"\")","v":0},{"$f":"IF(A22<>\"\",IFERROR(VLOOKUP(AJ22,Tabelas!B:D,3,0),0),\"\")","v":0},{"$f":"IF(A22<>\"\",IFERROR(VLOOKUP(AK22,Tabelas!B:D,3,0),0),\"\")","v":0},{"$f":"IF(A22<>\"\",IFERROR(VLOOKUP(AL22,Tabelas!B:D,3,0),0),\"\")","v":0},{"$f":"IF(A22<>\"\",IFERROR(VLOOKUP(AM22,Tabelas!B:D,3,0),0),\"\")","v":0},{"$f":"IF(A22<>\"\",IFERROR(VLOOKUP(AN22,Tabelas!B:D,3,0),0),\"\")","v":0},{"$f":"IF(A22<>\"\",IFERROR(VLOOKUP(AO22,Tabelas!B:D,3,0),0),\"\")","v":0},{"$f":"IF(A22<>\"\",IFERROR(VLOOKUP(AP22,Tabelas!B:D,3,0),0),\"\")","v":0},{"$f":"IF(A22<>\"\",IFERROR(VLOOKUP(AQ22,Tabelas!B:D,3,0),0),\"\")","v":0},{"$f":"IF(A22<>\"\",IFERROR(VLOOKUP(AR22,Tabelas!B:D,3,0),0),\"\")","v":0},0,0,{"$f":"IF(A22<>\"\",COUNTIF(N22:AR22,\"AB\"),\"\")","v":0},{"$f":"IF(A22<>\"\",COUNTIF(N22:AR22,\"FE\"),\"\")","v":0},{"$f":"IF(A22<>\"\",COUNTIF(N22:AR22,\"LC\"),\"\")","v":0},{"$f":"IF(A22<>\"\",COUNTIF(N22:AR22,\"CE\"),\"\")","v":0},0,0,0]
["Carol",null,null,null,null,null,null,null,null,null,null,null,null,null,null,null,null,null,null,null,null,null,null,null,null,null,null,null,null,null,null,null,null,null,null,null,null,null,null,null,null,null,null,null,{"$f":"IF(A23<>\"\",IFERROR(VLOOKUP(N23,Tabelas!B:D,3,0),0),\"\")","v":0},{"$f":"IF(A23<>\"\",IFERROR(VLOOKUP(O23,Tabelas!B:D,3,0),0),\"\")","v":0},{"$f":"IF(A23<>\"\",IFERROR(VLOOKUP(P23,Tabelas!B:D,3,0),0),\"\")","v":0},{"$f":"IF(A23<>\"\",IFERROR(VLOOKUP(Q23,Tabelas!B:D,3,0),0),\"\")","v":0},{"$f":"IF(A23<>\"\",IFERROR(VLOOKUP(R23,Tabelas!B:D,3,0),0),\"\")","v":0},{"$f":"IF(A23<>\"\",IFERROR(VLOOKUP(S23,Tabelas!B:D,3,0),0),\"\")","v":0},{"$f":"IF(A23<>\"\",IFERROR(VLOOKUP(T23,Tabelas!B:D,3,0),0),\"\")","v":0},{"$f":"IF(A23<>\"\",IFERROR(VLOOKUP(U23,Tabelas!B:D,3,0),0),\"\")","v":0},{"$f":"IF(A23<>\"\",IFERROR(VLOOKUP(V23,Tabelas!B:D,3,0),0),\"\")","v":0},{"$f":"IF(A23<>\"\",IFERROR(VLOOKUP(W23,Tabelas!B:D,3,0),0),\"\")","v":0},{"$f":"IF(A23<>\"\",IFERROR(VLOOKUP(X23,Tabelas!B:D,3,0),0),\"\")","v":0},{"$f":"IF(A23<>\"\",IFERROR(VLOOKUP(Y23,Tabelas!B:D,3,0),0),\"\")","v":0},{"$f":"IF(A23<>\"\",IFERROR(VLOOKUP(Z23,Tabelas!B:D,3,0),0),\"\")","v":0},{"$f":"IF(A23<>\"\",IFERROR(VLOOKUP(AA23,Tabelas!B:D,3,0),0),\"\")","v":0},{"$f":"IF(A23<>\"\",IFERROR(VLOOKUP(AB23,Tabelas!B:D,3,0),0),\"\")","v":0},{"$f":"IF(A23<>\"\",IFERROR(VLOOKUP(AC23,Tabelas!B:D,3,0),0),\"\")","v":0},{"$f":"IF(A23<>\"\",IFERROR(VLOOKUP(AD23,Tabelas!B:D,3,0),0),\"\")","v":0},{"$f":"IF(A23<>\"\",IFERROR(VLOOKUP(AE23,Tabelas!B:D,3,0),0),\"\")","v":0},{"$f":"IF(A23<>\"\",IFERROR(VLOOKUP(AF23,Tabelas!B:D,3,0),0),\"\")","v":0},{"$f":"IF(A23<>\"\",IFERROR(VLOOKUP(AG23,Tabelas!B:D,3,0),0),\"\")","v":0},{"$f":"IF(A23<>\"\",IFERROR(VLOOKUP(AH23,Tabelas!B:D,3,0),0),\"\")","v":0},{"$f":"IF(A23<>\"\",IFERROR(VLOOKUP(AI23,Tabelas!B:D,3,0),0),\"\")","v":0},{"$f":"IF(A23<>\"\",IFERROR(VLOOKUP(AJ23,Tabelas!B:D,3,0),0),\"\")","v":0},{"$f":"IF(A23<>\"\",IFERROR(VLOOKUP(AK23,Tabelas!B:D,3,0),0),\"\")","v":0},{"$f":"IF(A23<>\"\",IFERROR(VLOOKUP(AL23,Tabelas!B:D,3,0),0),\"\")","v":0},{"$f":"IF(A23<>\"\",IFERROR(VLOOKUP(AM23,Tabelas!B:D,3,0),0),\"\")","v":0},{"$f":"IF(A23<>\"\",IFERROR(VLOOKUP(AN23,Tabelas!B:D,3,0),0),\"\")","v":0},{"$f":"IF(A23<>\"\",IFERROR(VLOOKUP(AO23,Tabelas!B:D,3,0),0),\"\")","v":0},{"$f":"IF(A23<>\"\",IFERROR(VLOOKUP(AP23,Tabelas!B:D,3,0),0),\"\")","v":0},{"$f":"IF(A23<>\"\",IFERROR(VLOOKUP(AQ23,Tabelas!B:D,3,0),0),\"\")","v":0},{"$f":"IF(A23<>\"\",IFERROR(VLOOKUP(AR23,Tabelas!B:D,3,0),0),\"\")","v":0},0,0,{"$f":"IF(A23<>\"\",COUNTIF(N23:AR23,\"AB\"),\"\")","v":0},{"$f":"IF(A23<>\"\",COUNTIF(N23:AR23,\"FE\"),\"\")","v":0},{"$f":"IF(A23<>\"\",COUNTIF(N23:AR23,\"LC\"),\"\")","v":0},{"$f":"IF(A23<>\"\",COUNTIF(N23:AR23,\"CE\"),\"\")","v":0},0,0,0]
["Verônica (R2)",null,null,null,null,null,null,null,null,null,null,null,null,null,null,null,null,null,null,null,null,null,null,null,null,null,null,null,null,null,null,null,null,null,null,null,null,null,null,null,null,null,null,null,{"$f":"IF(A24<>\"\",IFERROR(VLOOKUP(N24,Tabelas!B:D,3,0),0),\"\")","v":0},{"$f":"IF(A24<>\"\",IFERROR(VLOOKUP(O24,Tabelas!B:D,3,0),0),\"\")","v":0},{"$f":"IF(A24<>\"\",IFERROR(VLOOKUP(P24,Tabelas!B:D,3,0),0),\"\")","v":0},{"$f":"IF(A24<>\"\",IFERROR(VLOOKUP(Q24,Tabelas!B:D,3,0),0),\"\")","v":0},{"$f":"IF(A24<>\"\",IFERROR(VLOOKUP(R24,Tabelas!B:D,3,0),0),\"\")","v":0},{"$f":"IF(A24<>\"\",IFERROR(VLOOKUP(S24,Tabelas!B:D,3,0),0),\"\")","v":0},{"$f":"IF(A24<>\"\",IFERROR(VLOOKUP(T24,Tabelas!B:D,3,0),0),\"\")","v":0},{"$f":"IF(A24<>\"\",IFERROR(VLOOKUP(U24,Tabelas!B:D,3,0),0),\"\")","v":0},{"$f":"IF(A24<>\"\",IFERROR(VLOOKUP(V24,Tabelas!B:D,3,0),0),\"\")","v":0},{"$f":"IF(A24<>\"\",IFERROR(VLOOKUP(W24,Tabelas!B:D,3,0),0),\"\")","v":0},{"$f":"IF(A24<>\"\",IFERROR(VLOOKUP(X24,Tabelas!B:D,3,0),0),\"\")","v":0},{"$f":"IF(A24<>\"\",IFERROR(VLOOKUP(Y24,Tabelas!B:D,3,0),0),\"\")","v":0},{"$f":"IF(A24<>\"\",IFERROR(VLOOKUP(Z24,Tabelas!B:D,3,0),0),\"\")","v":0},{"$f":"IF(A24<>\"\",IFERROR(VLOOKUP(AA24,Tabelas!B:D,3,0),0),\"\")","v":0},{"$f":"IF(A24<>\"\",IFERROR(VLOOKUP(AB24,Tabelas!B:D,3,0),0),\"\")","v":0},{"$f":"IF(A24<>\"\",IFERROR(VLOOKUP(AC24,Tabelas!B:D,3,0),0),\"\")","v":0},{"$f":"IF(A24<>\"\",IFERROR(VLOOKUP(AD24,Tabelas!B:D,3,0),0),\"\")","v":0},{"$f":"IF(A24<>\"\",IFERROR(VLOOKUP(AE24,Tabelas!B:D,3,0),0),\"\")","v":0},{"$f":"IF(A24<>\"\",IFERROR(VLOOKUP(AF24,Tabelas!B:D,3,0),0),\"\")","v":0},{"$f":"IF(A24<>\"\",IFERROR(VLOOKUP(AG24,Tabelas!B:D,3,0),0),\"\")","v":0},{"$f":"IF(A24<>\"\",IFERROR(VLOOKUP(AH24,Tabelas!B:D,3,0),0),\"\")","v":0},{"$f":"IF(A24<>\"\",IFERROR(VLOOKUP(AI24,Tabelas!B:D,3,0),0),\"\")","v":0},{"$f":"IF(A24<>\"\",IFERROR(VLOOKUP(AJ24,Tabelas!B:D,3,0),0),\"\")","v":0},{"$f":"IF(A24<>\"\",IFERROR(VLOOKUP(AK24,Tabelas!B:D,3,0),0),\"\")","v":0},{"$f":"IF(A24<>\"\",IFERROR(VLOOKUP(AL24,Tabelas!B:D,3,0),0),\"\")","v":0},{"$f":"IF(A24<>\"\",IFERROR(VLOOKUP(AM24,Tabelas!B:D,3,0),0),\"\")","v":0},{"$f":"IF(A24<>\"\",IFERROR(VLOOKUP(AN24,Tabelas!B:D,3,0),0),\"\")","v":0},{"$f":"IF(A24<>\"\",IFERROR(VLOOKUP(AO24,Tabelas!B:D,3,0),0),\"\")","v":0},{"$f":"IF(A24<>\"\",IFERROR(VLOOKUP(AP24,Tabelas!B:D,3,0),0),\"\")","v":0},{"$f":"IF(A24<>\"\",IFERROR(VLOOKUP(AQ24,Tabelas!B:D,3,0),0),\"\")","v":0},{"$f":"IF(A24<>\"\",IFERROR(VLOOKUP(AR24,Tabelas!B:D,3,0),0),\"\")","v":0},0,0,{"$f":"IF(A24<>\"\",COUNTIF(N24:AR24,\"AB\"),\"\")","v":0},{"$f":"IF(A24<>\"\",COUNTIF(N24:AR24,\"FE\"),\"\")","v":0},{"$f":"IF(A24<>\"\",COUNTIF(N24:AR24,\"LC\"),\"\")","v":0},{"$f":"IF(A24<>\"\",COUNTIF(N24:AR24,\"CE\"),\"\")","v":0},0,0,0]
["NOTURNO 1",null,null,null,null,null,null,null,null,null,null,null,null,null,null,null,null,null,null,null,null,null,null,null,null,null,null,null,null,null,null,null,null,null,null,null,null,null,null,null,null,null,null,null,{"$f":"IF(A25<>\"\",IFERROR(VLOOKUP(N25,Tabelas!B:D,3,0),0),\"\")","v":0},{"$f":"IF(A25<>\"\",IFERROR(VLOOKUP(O25,Tabelas!B:D,3,0),0),\"\")","v":0},{"$f":"IF(A25<>\"\",IFERROR(VLOOKUP(P25,Tabelas!B:D,3,0),0),\"\")","v":0},{"$f":"IF(A25<>\"\",IFERROR(VLOOKUP(Q25,Tabelas!B:D,3,0),0),\"\")","v":0},{"$f":"IF(A25<>\"\",IFERROR(VLOOKUP(R25,Tabelas!B:D,3,0),0),\"\")","v":0},{"$f":"IF(A25<>\"\",IFERROR(VLOOKUP(S25,Tabelas!B:D,3,0),0),\"\")","v":0},{"$f":"IF(A25<>\"\",IFERROR(VLOOKUP(T25,Tabelas!B:D,3,0),0),\"\")","v":0},{"$f":"IF(A25<>\"\",IFERROR(VLOOKUP(U25,Tabelas!B:D,3,0),0),\"\")","v":0},{"$f":"IF(A25<>\"\",IFERROR(VLOOKUP(V25,Tabelas!B:D,3,0),0),\"\")","v":0},{"$f":"IF(A25<>\"\",IFERROR(VLOOKUP(W25,Tabelas!B:D,3,0),0),\"\")","v":0},{"$f":"IF(A25<>\"\",IFERROR(VLOOKUP(X25,Tabelas!B:D,3,0),0),\"\")","v":0},{"$f":"IF(A25<>\"\",IFERROR(VLOOKUP(Y25,Tabelas!B:D,3,0),0),\"\")","v":0},{"$f":"IF(A25<>\"\",IFERROR(VLOOKUP(Z25,Tabelas!B:D,3,0),0),\"\")","v":0},{"$f":"IF(A25<>\"\",IFERROR(VLOOKUP(AA25,Tabelas!B:D,3,0),0),\"\")","v":0},{"$f":"IF(A25<>\"\",IFERROR(VLOOKUP(AB25,Tabelas!B:D,3,0),0),\"\")","v":0},{"$f":"IF(A25<>\"\",IFERROR(VLOOKUP(AC25,Tabelas!B:D,3,0),0),\"\")","v":0},{"$f":"IF(A25<>\"\",IFERROR(VLOOKUP(AD25,Tabelas!B:D,3,0),0),\"\")","v":0},{"$f":"IF(A25<>\"\",IFERROR(VLOOKUP(AE25,Tabelas!B:D,3,0),0),\"\")","v":0},{"$f":"IF(A25<>\"\",IFERROR(VLOOKUP(AF25,Tabelas!B:D,3,0),0),\"\")","v":0},{"$f":"IF(A25<>\"\",IFERROR(VLOOKUP(AG25,Tabelas!B:D,3,0),0),\"\")","v":0},{"$f":"IF(A25<>\"\",IFERROR(VLOOKUP(AH25,Tabelas!B:D,3,0),0),\"\")","v":0},{"$f":"IF(A25<>\"\",IFERROR(VLOOKUP(AI25,Tabelas!B:D,3,0),0),\"\")","v":0},{"$f":"IF(A25<>\"\",IFERROR(VLOOKUP(AJ25,Tabelas!B:D,3,0),0),\"\")","v":0},{"$f":"IF(A25<>\"\",IFERROR(VLOOKUP(AK25,Tabelas!B:D,3,0),0),\"\")","v":0},{"$f":"IF(A25<>\"\",IFERROR(VLOOKUP(AL25,Tabelas!B:D,3,0),0),\"\")","v":0},{"$f":"IF(A25<>\"\",IFERROR(VLOOKUP(AM25,Tabelas!B:D,3,0),0),\"\")","v":0},{"$f":"IF(A25<>\"\",IFERROR(VLOOKUP(AN25,Tabelas!B:D,3,0),0),\"\")","v":0},{"$f":"IF(A25<>\"\",IFERROR(VLOOKUP(AO25,Tabelas!B:D,3,0),0),\"\")","v":0},{"$f":"IF(A25<>\"\",IFERROR(VLOOKUP(AP25,Tabelas!B:D,3,0),0),\"\")","v":0},{"$f":"IF(A25<>\"\",IFERROR(VLOOKUP(AQ25,Tabelas!B:D,3,0),0),\"\")","v":0},{"$f":"IF(A25<>\"\",IFERROR(VLOOKUP(AR25,Tabelas!B:D,3,0),0),\"\")","v":0},0,0,{"$f":"IF(A25<>\"\",COUNTIF(N25:AR25,\"AB\"),\"\")","v":0},{"$f":"IF(A25<>\"\",COUNTIF(N25:AR25,\"FE\"),\"\")","v":0},{"$f":"IF(A25<>\"\",COUNTIF(N25:AR25,\"LC\"),\"\")","v":0},{"$f":"IF(A25<>\"\",COUNTIF(N25:AR25,\"CE\"),\"\")","v":0},0,0,0]
["Janeide F. de Mello",null,null,null,null,null,null,null,null,null,null,null,null,null,null,null,null,null,null,null,null,null,null,null,null,null,null,null,null,null,null,null,null,null,null,null,null,null,null,null,null,null,null,null,{"$f":"IF(A26<>\"\",IFERROR(VLOOKUP(N26,Tabelas!B:D,3,0),0),\"\")","v":0},{"$f":"IF(A26<>\"\",IFERROR(VLOOKUP(O26,Tabelas!B:D,3,0),0),\"\")","v":0},{"$f":"IF(A26<>\"\",IFERROR(VLOOKUP(P26,Tabelas!B:D,3,0),0),\"\")","v":0},{"$f":"IF(A26<>\"\",IFERROR(VLOOKUP(Q26,Tabelas!B:D,3,0),0),\"\")","v":0},{"$f":"IF(A26<>\"\",IFERROR(VLOOKUP(R26,Tabelas!B:D,3,0),0),\"\")","v":0},{"$f":"IF(A26<>\"\",IFERROR(VLOOKUP(S26,Tabelas!B:D,3,0),0),\"\")","v":0},{"$f":"IF(A26<>\"\",IFERROR(VLOOKUP(T26,Tabelas!B:D,3,0),0),\"\")","v":0},{"$f":"IF(A26<>\"\",IFERROR(VLOOKUP(U26,Tabelas!B:D,3,0),0),\"\")","v":0},{"$f":"IF(A26<>\"\",IFERROR(VLOOKUP(V26,Tabelas!B:D,3,0),0),\"\")","v":0},{"$f":"IF(A26<>\"\",IFERROR(VLOOKUP(W26,Tabelas!B:D,3,0),0),\"\")","v":0},{"$f":"IF(A26<>\"\",IFERROR(VLOOKUP(X26,Tabelas!B:D,3,0),0),\"\")","v":0},{"$f":"IF(A26<>\"\",IFERROR(VLOOKUP(Y26,Tabelas!B:D,3,0),0),\"\")","v":0},{"$f":"IF(A26<>\"\",IFERROR(VLOOKUP(Z26,Tabelas!B:D,3,0),0),\"\")","v":0},{"$f":"IF(A26<>\"\",IFERROR(VLOOKUP(AA26,Tabelas!B:D,3,0),0),\"\")","v":0},{"$f":"IF(A26<>\"\",IFERROR(VLOOKUP(AB26,Tabelas!B:D,3,0),0),\"\")","v":0},{"$f":"IF(A26<>\"\",IFERROR(VLOOKUP(AC26,Tabelas!B:D,3,0),0),\"\")","v":0},{"$f":"IF(A26<>\"\",IFERROR(VLOOKUP(AD26,Tabelas!B:D,3,0),0),\"\")","v":0},{"$f":"IF(A26<>\"\",IFERROR(VLOOKUP(AE26,Tabelas!B:D,3,0),0),\"\")","v":0},{"$f":"IF(A26<>\"\",IFERROR(VLOOKUP(AF26,Tabelas!B:D,3,0),0),\"\")","v":0},{"$f":"IF(A26<>\"\",IFERROR(VLOOKUP(AG26,Tabelas!B:D,3,0),0),\"\")","v":0},{"$f":"IF(A26<>\"\",IFERROR(VLOOKUP(AH26,Tabelas!B:D,3,0),0),\"\")","v":0},{"$f":"IF(A26<>\"\",IFERROR(VLOOKUP(AI26,Tabelas!B:D,3,0),0),\"\")","v":0},{"$f":"IF(A26<>\"\",IFERROR(VLOOKUP(AJ26,Tabelas!B:D,3,0),0),\"\")","v":0},{"$f":"IF(A26<>\"\",IFERROR(VLOOKUP(AK26,Tabelas!B:D,3,0),0),\"\")","v":0},{"$f":"IF(A26<>\"\",IFERROR(VLOOKUP(AL26,Tabelas!B:D,3,0),0),\"\")","v":0},{"$f":"IF(A26<>\"\",IFERROR(VLOOKUP(AM26,Tabelas!B:D,3,0),0),\"\")","v":0},{"$f":"IF(A26<>\"\",IFERROR(VLOOKUP(AN26,Tabelas!B:D,3,0),0),\"\")","v":0},{"$f":"IF(A26<>\"\",IFERROR(VLOOKUP(AO26,Tabelas!B:D,3,0),0),\"\")","v":0},{"$f":"IF(A26<>\"\",IFERROR(VLOOKUP(AP26,Tabelas!B:D,3,0),0),\"\")","v":0},{"$f":"IF(A26<>\"\",IFERROR(VLOOKUP(AQ26,Tabelas!B:D,3,0),0),\"\")","v":0},{"$f":"IF(A26<>\"\",IFERROR(VLOOKUP(AR26,Tabelas!B:D,3,0),0),\"\")","v":0},0,0,{"$f":"IF(A26<>\"\",COUNTIF(N26:AR26,\"AB\"),\"\")","v":0},{"$f":"IF(A26<>\"\",COUNTIF(N26:AR26,\"FE\"),\"\")","v":0},{"$f":"IF(A26<>\"\",COUNTIF(N26:AR26,\"LC\"),\"\")","v":0},{"$f":"IF(A26<>\"\",COUNTIF(N26:AR26,\"CE\"),\"\")","v":0},0,0,0]
["Sabrina Guterres",null,null,null,null,null,null,null,null,null,null,null,null,null,null,null,null,null,null,null,null,null,null,null,null,null,null,null,null,null,null,null,null,null,null,null,null,null,null,null,null,null,null,null,{"$f":"IF(A27<>\"\",IFERROR(VLOOKUP(N27,Tabelas!B:D,3,0),0),\"\")","v":0},{"$f":"IF(A27<>\"\",IFERROR(VLOOKUP(O27,Tabelas!B:D,3,0),0),\"\")","v":0},{"$f":"IF(A27<>\"\",IFERROR(VLOOKUP(P27,Tabelas!B:D,3,0),0),\"\")","v":0},{"$f":"IF(A27<>\"\",IFERROR(VLOOKUP(Q27,Tabelas!B:D,3,0),0),\"\")","v":0},{"$f":"IF(A27<>\"\",IFERROR(VLOOKUP(R27,Tabelas!B:D,3,0),0),\"\")","v":0},{"$f":"IF(A27<>\"\",IFERROR(VLOOKUP(S27,Tabelas!B:D,3,0),0),\"\")","v":0},{"$f":"IF(A27<>\"\",IFERROR(VLOOKUP(T27,Tabelas!B:D,3,0),0),\"\")","v":0},{"$f":"IF(A27<>\"\",IFERROR(VLOOKUP(U27,Tabelas!B:D,3,0),0),\"\")","v":0},{"$f":"IF(A27<>\"\",IFERROR(VLOOKUP(V27,Tabelas!B:D,3,0),0),\"\")","v":0},{"$f":"IF(A27<>\"\",IFERROR(VLOOKUP(W27,Tabelas!B:D,3,0),0),\"\")","v":0},{"$f":"IF(A27<>\"\",IFERROR(VLOOKUP(X27,Tabelas!B:D,3,0),0),\"\")","v":0},{"$f":"IF(A27<>\"\",IFERROR(VLOOKUP(Y27,Tabelas!B:D,3,0),0),\"\")","v":0},{"$f":"IF(A27<>\"\",IFERROR(VLOOKUP(Z27,Tabelas!B:D,3,0),0),\"\")","v":0},{"$f":"IF(A27<>\"\",IFERROR(VLOOKUP(AA27,Tabelas!B:D,3,0),0),\"\")","v":0},{"$f":"IF(A27<>\"\",IFERROR(VLOOKUP(AB27,Tabelas!B:D,3,0),0),\"\")","v":0},{"$f":"IF(A27<>\"\",IFERROR(VLOOKUP(AC27,Tabelas!B:D,3,0),0),\"\")","v":0},{"$f":"IF(A27<>\"\",IFERROR(VLOOKUP(AD27,Tabelas!B:D,3,0),0),\"\")","v":0},{"$f":"IF(A27<>\"\",IFERROR(VLOOKUP(AE27,Tabelas!B:D,3,0),0),\"\")","v":0},{"$f":"IF(A27<>\"\",IFERROR(VLOOKUP(AF27,Tabelas!B:D,3,0),0),\"\")","v":0},{"$f":"IF(A27<>\"\",IFERROR(VLOOKUP(AG27,Tabelas!B:D,3,0),0),\"\")","v":0},{"$f":"IF(A27<>\"\",IFERROR(VLOOKUP(AH27,Tabelas!B:D,3,0),0),\"\")","v":0},{"$f":"IF(A27<>\"\",IFERROR(VLOOKUP(AI27,Tabelas!B:D,3,0),0),\"\")","v":0},{"$f":"IF(A27<>\"\",IFERROR(VLOOKUP(AJ27,Tabelas!B:D,3,0),0),\"\")","v":0},{"$f":"IF(A27<>\"\",IFERROR(VLOOKUP(AK27,Tabelas!B:D,3,0),0),\"\")","v":0},{"$f":"IF(A27<>\"\",IFERROR(VLOOKUP(AL27,Tabelas!B:D,3,0),0),\"\")","v":0},{"$f":"IF(A27<>\"\",IFERROR(VLOOKUP(AM27,Tabelas!B:D,3,0),0),\"\")","v":0},{"$f":"IF(A27<>\"\",IFERROR(VLOOKUP(AN27,Tabelas!B:D,3,0),0),\"\")","v":0},{"$f":"IF(A27<>\"\",IFERROR(VLOOKUP(AO27,Tabelas!B:D,3,0),0),\"\")","v":0},{"$f":"IF(A27<>\"\",IFERROR(VLOOKUP(AP27,Tabelas!B:D,3,0),0),\"\")","v":0},{"$f":"IF(A27<>\"\",IFERROR(VLOOKUP(AQ27,Tabelas!B:D,3,0),0),\"\")","v":0},{"$f":"IF(A27<>\"\",IFERROR(VLOOKUP(AR27,Tabelas!B:D,3,0),0),\"\")","v":0},0,0,{"$f":"IF(A27<>\"\",COUNTIF(N27:AR27,\"AB\"),\"\")","v":0},{"$f":"IF(A27<>\"\",COUNTIF(N27:AR27,\"FE\"),\"\")","v":0},{"$f":"IF(A27<>\"\",COUNTIF(N27:AR27,\"LC\"),\"\")","v":0},{"$f":"IF(A27<>\"\",COUNTIF(N27:AR27,\"CE\"),\"\")","v":0},0,0,0]
["NOTURNO 2",null,null,null,null,null,null,null,null,null,null,null,null,null,null,null,null,null,null,null,null,null,null,null,null,null,null,null,null,null,null,null,null,null,null,null,null,null,null,null,null,null,null,null,{"$f":"IF(A28<>\"\",IFERROR(VLOOKUP(N28,Tabelas!B:D,3,0),0),\"\")","v":0},{"$f":"IF(A28<>\"\",IFERROR(VLOOKUP(O28,Tabelas!B:D,3,0),0),\"\")","v":0},{"$f":"IF(A28<>\"\",IFERROR(VLOOKUP(P28,Tabelas!B:D,3,0),0),\"\")","v":0},{"$f":"IF(A28<>\"\",IFERROR(VLOOKUP(Q28,Tabelas!B:D,3,0),0),\"\")","v":0},{"$f":"IF(A28<>\"\",IFERROR(VLOOKUP(R28,Tabelas!B:D,3,0),0),\"\")","v":0},{"$f":"IF(A28<>\"\",IFERROR(VLOOKUP(S28,Tabelas!B:D,3,0),0),\"\")","v":0},{"$f":"IF(A28<>\"\",IFERROR(VLOOKUP(T28,Tabelas!B:D,3,0),0),\"\")","v":0},{"$f":"IF(A28<>\"\",IFERROR(VLOOKUP(U28,Tabelas!B:D,3,0),0),\"\")","v":0},{"$f":"IF(A28<>\"\",IFERROR(VLOOKUP(V28,Tabelas!B:D,3,0),0),\"\")","v":0},{"$f":"IF(A28<>\"\",IFERROR(VLOOKUP(W28,Tabelas!B:D,3,0),0),\"\")","v":0},{"$f":"IF(A28<>\"\",IFERROR(VLOOKUP(X28,Tabelas!B:D,3,0),0),\"\")","v":0},{"$f":"IF(A28<>\"\",IFERROR(VLOOKUP(Y28,Tabelas!B:D,3,0),0),\"\")","v":0},{"$f":"IF(A28<>\"\",IFERROR(VLOOKUP(Z28,Tabelas!B:D,3,0),0),\"\")","v":0},{"$f":"IF(A28<>\"\",IFERROR(VLOOKUP(AA28,Tabelas!B:D,3,0),0),\"\")","v":0},{"$f":"IF(A28<>\"\",IFERROR(VLOOKUP(AB28,Tabelas!B:D,3,0),0),\"\")","v":0},{"$f":"IF(A28<>\"\",IFERROR(VLOOKUP(AC28,Tabelas!B:D,3,0),0),\"\")","v":0},{"$f":"IF(A28<>\"\",IFERROR(VLOOKUP(AD28,Tabelas!B:D,3,0),0),\"\")","v":0},{"$f":"IF(A28<>\"\",IFERROR(VLOOKUP(AE28,Tabelas!B:D,3,0),0),\"\")","v":0},{"$f":"IF(A28<>\"\",IFERROR(VLOOKUP(AF28,Tabelas!B:D,3,0),0),\"\")","v":0},{"$f":"IF(A28<>\"\",IFERROR(VLOOKUP(AG28,Tabelas!B:D,3,0),0),\"\")","v":0},{"$f":"IF(A28<>\"\",IFERROR(VLOOKUP(AH28,Tabelas!B:D,3,0),0),\"\")","v":0},{"$f":"IF(A28<>\"\",IFERROR(VLOOKUP(AI28,Tabelas!B:D,3,0),0),\"\")","v":0},{"$f":"IF(A28<>\"\",IFERROR(VLOOKUP(AJ28,Tabelas!B:D,3,0),0),\"\")","v":0},{"$f":"IF(A28<>\"\",IFERROR(VLOOKUP(AK28,Tabelas!B:D,3,0),0),\"\")","v":0},{"$f":"IF(A28<>\"\",IFERROR(VLOOKUP(AL28,Tabelas!B:D,3,0),0),\"\")","v":0},{"$f":"IF(A28<>\"\",IFERROR(VLOOKUP(AM28,Tabelas!B:D,3,0),0),\"\")","v":0},{"$f":"IF(A28<>\"\",IFERROR(VLOOKUP(AN28,Tabelas!B:D,3,0),0),\"\")","v":0},{"$f":"IF(A28<>\"\",IFERROR(VLOOKUP(AO28,Tabelas!B:D,3,0),0),\"\")","v":0},{"$f":"IF(A28<>\"\",IFERROR(VLOOKUP(AP28,Tabelas!B:D,3,0),0),\"\")","v":0},{"$f":"IF(A28<>\"\",IFERROR(VLOOKUP(AQ28,Tabelas!B:D,3,0),0),\"\")","v":0},{"$f":"IF(A28<>\"\",IFERROR(VLOOKUP(AR28,Tabelas!B:D,3,0),0),\"\")","v":0},0,0,{"$f":"IF(A28<>\"\",COUNTIF(N28:AR28,\"AB\"),\"\")","v":0},{"$f":"IF(A28<>\"\",COUNTIF(N28:AR28,\"FE\"),\"\")","v":0},{"$f":"IF(A28<>\"\",COUNTIF(N28:AR28,\"LC\"),\"\")","v":0},{"$f":"IF(A28<>\"\",COUNTIF(N28:AR28,\"CE\"),\"\")","v":0},0,0,0]
["Fabiana M. de Pinho",null,null,null,null,null,null,null,null,null,null,null,null,null,null,null,null,null,null,null,null,null,null,null,null,null,null,null,null,null,null,null,null,null,null,null,null,null,null,null,null,null,null,null,{"$f":"IF(A29<>\"\",IFERROR(VLOOKUP(N29,Tabelas!B:D,3,0),0),\"\")","v":0},{"$f":"IF(A29<>\"\",IFERROR(VLOOKUP(O29,Tabelas!B:D,3,0),0),\"\")","v":0},{"$f":"IF(A29<>\"\",IFERROR(VLOOKUP(P29,Tabelas!B:D,3,0),0),\"\")","v":0},{"$f":"IF(A29<>\"\",IFERROR(VLOOKUP(Q29,Tabelas!B:D,3,0),0),\"\")","v":0},{"$f":"IF(A29<>\"\",IFERROR(VLOOKUP(R29,Tabelas!B:D,3,0),0),\"\")","v":0},{"$f":"IF(A29<>\"\",IFERROR(VLOOKUP(S29,Tabelas!B:D,3,0),0),\"\")","v":0},{"$f":"IF(A29<>\"\",IFERROR(VLOOKUP(T29,Tabelas!B:D,3,0),0),\"\")","v":0},{"$f":"IF(A29<>\"\",IFERROR(VLOOKUP(U29,Tabelas!B:D,3,0),0),\"\")","v":0},{"$f":"IF(A29<>\"\",IFERROR(VLOOKUP(V29,Tabelas!B:D,3,0),0),\"\")","v":0},{"$f":"IF(A29<>\"\",IFERROR(VLOOKUP(W29,Tabelas!B:D,3,0),0),\"\")","v":0},{"$f":"IF(A29<>\"\",IFERROR(VLOOKUP(X29,Tabelas!B:D,3,0),0),\"\")","v":0},{"$f":"IF(A29<>\"\",IFERROR(VLOOKUP(Y29,Tabelas!B:D,3,0),0),\"\")","v":0},{"$f":"IF(A29<>\"\",IFERROR(VLOOKUP(Z29,Tabelas!B:D,3,0),0),\"\")","v":0},{"$f":"IF(A29<>\"\",IFERROR(VLOOKUP(AA29,Tabelas!B:D,3,0),0),\"\")","v":0},{"$f":"IF(A29<>\"\",IFERROR(VLOOKUP(AB29,Tabelas!B:D,3,0),0),\"\")","v":0},{"$f":"IF(A29<>\"\",IFERROR(VLOOKUP(AC29,Tabelas!B:D,3,0),0),\"\")","v":0},{"$f":"IF(A29<>\"\",IFERROR(VLOOKUP(AD29,Tabelas!B:D,3,0),0),\"\")","v":0},{"$f":"IF(A29<>\"\",IFERROR(VLOOKUP(AE29,Tabelas!B:D,3,0),0),\"\")","v":0},{"$f":"IF(A29<>\"\",IFERROR(VLOOKUP(AF29,Tabelas!B:D,3,0),0),\"\")","v":0},{"$f":"IF(A29<>\"\",IFERROR(VLOOKUP(AG29,Tabelas!B:D,3,0),0),\"\")","v":0},{"$f":"IF(A29<>\"\",IFERROR(VLOOKUP(AH29,Tabelas!B:D,3,0),0),\"\")","v":0},{"$f":"IF(A29<>\"\",IFERROR(VLOOKUP(AI29,Tabelas!B:D,3,0),0),\"\")","v":0},{"$f":"IF(A29<>\"\",IFERROR(VLOOKUP(AJ29,Tabelas!B:D,3,0),0),\"\")","v":0},{"$f":"IF(A29<>\"\",IFERROR(VLOOKUP(AK29,Tabelas!B:D,3,0),0),\"\")","v":0},{"$f":"IF(A29<>\"\",IFERROR(VLOOKUP(AL29,Tabelas!B:D,3,0),0),\"\")","v":0},{"$f":"IF(A29<>\"\",IFERROR(VLOOKUP(AM29,Tabelas!B:D,3,0),0),\"\")","v":0},{"$f":"IF(A29<>\"\",IFERROR(VLOOKUP(AN29,Tabelas!B:D,3,0),0),\"\")","v":0},{"$f":"IF(A29<>\"\",IFERROR(VLOOKUP(AO29,Tabelas!B:D,3,0),0),\"\")","v":0},{"$f":"IF(A29<>\"\",IFERROR(VLOOKUP(AP29,Tabelas!B:D,3,0),0),\"\")","v":0},{"$f":"IF(A29<>\"\",IFERROR(VLOOKUP(AQ29,Tabelas!B:D,3,0),0),\"\")","v":0},{"$f":"IF(A29<>\"\",IFERROR(VLOOKUP(AR29,Tabelas!B:D,3,0),0),\"\")","v":0},0,0,{"$f":"IF(A29<>\"\",COUNTIF(N29:AR29,\"AB\"),\"\")","v":0},{"$f":"IF(A29<>\"\",COUNTIF(N29:AR29,\"FE\"),\"\")","v":0},{"$f":"IF(A29<>\"\",COUNTIF(N29:AR29,\"LC\"),\"\")","v":0},{"$f":"IF(A29<>\"\",COUNTIF(N29:AR29,\"CE\"),\"\")","v":0},0,0,0]
["NOTURNO 3",null,null,null,null,null,null,null,null,null,null,null,null,null,null,null,null,null,null,null,null,null,null,null,null,null,null,null,null,null,null,null,null,null,null,null,null,null,null,null,null,null,null,null,{"$f":"IF(A30<>\"\",IFERROR(VLOOKUP(N30,Tabelas!B:D,3,0),0),\"\")","v":0},{"$f":"IF(A30<>\"\",IFERROR(VLOOKUP(O30,Tabelas!B:D,3,0),0),\"\")","v":0},{"$f":"IF(A30<>\"\",IFERROR(VLOOKUP(P30,Tabelas!B:D,3,0),0),\"\")","v":0},{"$f":"IF(A30<>\"\",IFERROR(VLOOKUP(Q30,Tabelas!B:D,3,0),0),\"\")","v":0},{"$f":"IF(A30<>\"\",IFERROR(VLOOKUP(R30,Tabelas!B:D,3,0),0),\"\")","v":0},{"$f":"IF(A30<>\"\",IFERROR(VLOOKUP(S30,Tabelas!B:D,3,0),0),\"\")","v":0},{"$f":"IF(A30<>\"\",IFERROR(VLOOKUP(T30,Tabelas!B:D,3,0),0),\"\")","v":0},{"$f":"IF(A30<>\"\",IFERROR(VLOOKUP(U30,Tabelas!B:D,3,0),0),\"\")","v":0},{"$f":"IF(A30<>\"\",IFERROR(VLOOKUP(V30,Tabelas!B:D,3,0),0),\"\")","v":0},{"$f":"IF(A30<>\"\",IFERROR(VLOOKUP(W30,Tabelas!B:D,3,0),0),\"\")","v":0},{"$f":"IF(A30<>\"\",IFERROR(VLOOKUP(X30,Tabelas!B:D,3,0),0),\"\")","v":0},{"$f":"IF(A30<>\"\",IFERROR(VLOOKUP(Y30,Tabelas!B:D,3,0),0),\"\")","v":0},{"$f":"IF(A30<>\"\",IFERROR(VLOOKUP(Z30,Tabelas!B:D,3,0),0),\"\")","v":0},{"$f":"IF(A30<>\"\",IFERROR(VLOOKUP(AA30,Tabelas!B:D,3,0),0),\"\")","v":0},{"$f":"IF(A30<>\"\",IFERROR(VLOOKUP(AB30,Tabelas!B:D,3,0),0),\"\")","v":0},{"$f":"IF(A30<>\"\",IFERROR(VLOOKUP(AC30,Tabelas!B:D,3,0),0),\"\")","v":0},{"$f":"IF(A30<>\"\",IFERROR(VLOOKUP(AD30,Tabelas!B:D,3,0),0),\"\")","v":0},{"$f":"IF(A30<>\"\",IFERROR(VLOOKUP(AE30,Tabelas!B:D,3,0),0),\"\")","v":0},{"$f":"IF(A30<>\"\",IFERROR(VLOOKUP(AF30,Tabelas!B:D,3,0),0),\"\")","v":0},{"$f":"IF(A30<>\"\",IFERROR(VLOOKUP(AG30,Tabelas!B:D,3,0),0),\"\")","v":0},{"$f":"IF(A30<>\"\",IFERROR(VLOOKUP(AH30,Tabelas!B:D,3,0),0),\"\")","v":0},{"$f":"IF(A30<>\"\",IFERROR(VLOOKUP(AI30,Tabelas!B:D,3,0),0),\"\")","v":0},{"$f":"IF(A30<>\"\",IFERROR(VLOOKUP(AJ30,Tabelas!B:D,3,0),0),\"\")","v":0},{"$f":"IF(A30<>\"\",IFERROR(VLOOKUP(AK30,Tabelas!B:D,3,0),0),\"\")","v":0},{"$f":"IF(A30<>\"\",IFERROR(VLOOKUP(AL30,Tabelas!B:D,3,0),0),\"\")","v":0},{"$f":"IF(A30<>\"\",IFERROR(VLOOKUP(AM30,Tabelas!B:D,3,0),0),\"\")","v":0},{"$f":"IF(A30<>\"\",IFERROR(VLOOKUP(AN30,Tabelas!B:D,3,0),0),\"\")","v":0},{"$f":"IF(A30<>\"\",IFERROR(VLOOKUP(AO30,Tabelas!B:D,3,0),0),\"\")","v":0},{"$f":"IF(A30<>\"\",IFERROR(VLOOKUP(AP30,Tabelas!B:D,3,0),0),\"\")","v":0},{"$f":"IF(A30<>\"\",IFERROR(VLOOKUP(AQ30,Tabelas!B:D,3,0),0),\"\")","v":0},{"$f":"IF(A30<>\"\",IFERROR(VLOOKUP(AR30,Tabelas!B:D,3,0),0),\"\")","v":0},0,0,{"$f":"IF(A30<>\"\",COUNTIF(N30:AR30,\"AB\"),\"\")","v":0},{"$f":"IF(A30<>\"\",COUNTIF(N30:AR30,\"FE\"),\"\")","v":0},{"$f":"IF(A30<>\"\",COUNTIF(N30:AR30,\"LC\"),\"\")","v":0},{"$f":"IF(A30<>\"\",COUNTIF(N30:AR30,\"CE\"),\"\")","v":0},0,0,0]
["Berenice Rubik",null,null,null,null,null,null,null,null,null,null,null,null,null,null,null,null,null,null,null,null,null,null,null,null,null,null,null,null,null,null,null,null,null,null,null,null,null,null,null,null,null,null,null,{"$f":"IF(A31<>\"\",IFERROR(VLOOKUP(N31,Tabelas!B:D,3,0),0),\"\")","v":0},{"$f":"IF(A31<>\"\",IFERROR(VLOOKUP(O31,Tabelas!B:D,3,0),0),\"\")","v":0},{"$f":"IF(A31<>\"\",IFERROR(VLOOKUP(P31,Tabelas!B:D,3,0),0),\"\")","v":0},{"$f":"IF(A31<>\"\",IFERROR(VLOOKUP(Q31,Tabelas!B:D,3,0),0),\"\")","v":0},{"$f":"IF(A31<>\"\",IFERROR(VLOOKUP(R31,Tabelas!B:D,3,0),0),\"\")","v":0},{"$f":"IF(A31<>\"\",IFERROR(VLOOKUP(S31,Tabelas!B:D,3,0),0),\"\")","v":0},{"$f":"IF(A31<>\"\",IFERROR(VLOOKUP(T31,Tabelas!B:D,3,0),0),\"\")","v":0},{"$f":"IF(A31<>\"\",IFERROR(VLOOKUP(U31,Tabelas!B:D,3,0),0),\"\")","v":0},{"$f":"IF(A31<>\"\",IFERROR(VLOOKUP(V31,Tabelas!B:D,3,0),0),\"\")","v":0},{"$f":"IF(A31<>\"\",IFERROR(VLOOKUP(W31,Tabelas!B:D,3,0),0),\"\")","v":0},{"$f":"IF(A31<>\"\",IFERROR(VLOOKUP(X31,Tabelas!B:D,3,0),0),\"\")","v":0},{"$f":"IF(A31<>\"\",IFERROR(VLOOKUP(Y31,Tabelas!B:D,3,0),0),\"\")","v":0},{"$f":"IF(A31<>\"\",IFERROR(VLOOKUP(Z31,Tabelas!B:D,3,0),0),\"\")","v":0},{"$f":"IF(A31<>\"\",IFERROR(VLOOKUP(AA31,Tabelas!B:D,3,0),0),\"\")","v":0},{"$f":"IF(A31<>\"\",IFERROR(VLOOKUP(AB31,Tabelas!B:D,3,0),0),\"\")","v":0},{"$f":"IF(A31<>\"\",IFERROR(VLOOKUP(AC31,Tabelas!B:D,3,0),0),\"\")","v":0},{"$f":"IF(A31<>\"\",IFERROR(VLOOKUP(AD31,Tabelas!B:D,3,0),0),\"\")","v":0},{"$f":"IF(A31<>\"\",IFERROR(VLOOKUP(AE31,Tabelas!B:D,3,0),0),\"\")","v":0},{"$f":"IF(A31<>\"\",IFERROR(VLOOKUP(AF31,Tabelas!B:D,3,0),0),\"\")","v":0},{"$f":"IF(A31<>\"\",IFERROR(VLOOKUP(AG31,Tabelas!B:D,3,0),0),\"\")","v":0},{"$f":"IF(A31<>\"\",IFERROR(VLOOKUP(AH31,Tabelas!B:D,3,0),0),\"\")","v":0},{"$f":"IF(A31<>\"\",IFERROR(VLOOKUP(AI31,Tabelas!B:D,3,0),0),\"\")","v":0},{"$f":"IF(A31<>\"\",IFERROR(VLOOKUP(AJ31,Tabelas!B:D,3,0),0),\"\")","v":0},{"$f":"IF(A31<>\"\",IFERROR(VLOOKUP(AK31,Tabelas!B:D,3,0),0),\"\")","v":0},{"$f":"IF(A31<>\"\",IFERROR(VLOOKUP(AL31,Tabelas!B:D,3,0),0),\"\")","v":0},{"$f":"IF(A31<>\"\",IFERROR(VLOOKUP(AM31,Tabelas!B:D,3,0),0),\"\")","v":0},{"$f":"IF(A31<>\"\",IFERROR(VLOOKUP(AN31,Tabelas!B:D,3,0),0),\"\")","v":0},{"$f":"IF(A31<>\"\",IFERROR(VLOOKUP(AO31,Tabelas!B:D,3,0),0),\"\")","v":0},{"$f":"IF(A31<>\"\",IFERROR(VLOOKUP(AP31,Tabelas!B:D,3,0),0),\"\")","v":0},{"$f":"IF(A31<>\"\",IFERROR(VLOOKUP(AQ31,Tabelas!B:D,3,0),0),\"\")","v":0},{"$f":"IF(A31<>\"\",IFERROR(VLOOKUP(AR31,Tabelas!B:D,3,0),0),\"\")","v":0},0,0,{"$f":"IF(A31<>\"\",COUNTIF(N31:AR31,\"AB\"),\"\")","v":0},{"$f":"IF(A31<>\"\",COUNTIF(N31:AR31,\"FE\"),\"\")","v":0},{"$f":"IF(A31<>\"\",COUNTIF(N31:AR31,\"LC\"),\"\")","v":0},{"$f":"IF(A31<>\"\",COUNTIF(N31:AR31,\"CE\"),\"\")","v":0},0,0,0]
["Giselle B. da Rosa",null,null,null,null,null,null,null,null,null,null,null,null,null,null,null,null,null,null,null,null,null,null,null,null,null,null,null,null,null,null,null,null,null,null,null,null,null,null,null,null,null,null,null,{"$f":"IF(A32<>\"\",IFERROR(VLOOKUP(N32,Tabelas!B:D,3,0),0),\"\")","v":0},{"$f":"IF(A32<>\"\",IFERROR(VLOOKUP(O32,Tabelas!B:D,3,0),0),\"\")","v":0},{"$f":"IF(A32<>\"\",IFERROR(VLOOKUP(P32,Tabelas!B:D,3,0),0),\"\")","v":0},{"$f":"IF(A32<>\"\",IFERROR(VLOOKUP(Q32,Tabelas!B:D,3,0),0),\"\")","v":0},{"$f":"IF(A32<>\"\",IFERROR(VLOOKUP(R32,Tabelas!B:D,3,0),0),\"\")","v":0},{"$f":"IF(A32<>\"\",IFERROR(VLOOKUP(S32,Tabelas!B:D,3,0),0),\"\")","v":0},{"$f":"IF(A32<>\"\",IFERROR(VLOOKUP(T32,Tabelas!B:D,3,0),0),\"\")","v":0},{"$f":"IF(A32<>\"\",IFERROR(VLOOKUP(U32,Tabelas!B:D,3,0),0),\"\")","v":0},{"$f":"IF(A32<>\"\",IFERROR(VLOOKUP(V32,Tabelas!B:D,3,0),0),\"\")","v":0},{"$f":"IF(A32<>\"\",IFERROR(VLOOKUP(W32,Tabelas!B:D,3,0),0),\"\")","v":0},{"$f":"IF(A32<>\"\",IFERROR(VLOOKUP(X32,Tabelas!B:D,3,0),0),\"\")","v":0},{"$f":"IF(A32<>\"\",IFERROR(VLOOKUP(Y32,Tabelas!B:D,3,0),0),\"\")","v":0},{"$f":"IF(A32<>\"\",IFERROR(VLOOKUP(Z32,Tabelas!B:D,3,0),0),\"\")","v":0},{"$f":"IF(A32<>\"\",IFERROR(VLOOKUP(AA32,Tabelas!B:D,3,0),0),\"\")","v":0},{"$f":"IF(A32<>\"\",IFERROR(VLOOKUP(AB32,Tabelas!B:D,3,0),0),\"\")","v":0},{"$f":"IF(A32<>\"\",IFERROR(VLOOKUP(AC32,Tabelas!B:D,3,0),0),\"\")","v":0},{"$f":"IF(A32<>\"\",IFERROR(VLOOKUP(AD32,Tabelas!B:D,3,0),0),\"\")","v":0},{"$f":"IF(A32<>\"\",IFERROR(VLOOKUP(AE32,Tabelas!B:D,3,0),0),\"\")","v":0},{"$f":"IF(A32<>\"\",IFERROR(VLOOKUP(AF32,Tabelas!B:D,3,0),0),\"\")","v":0},{"$f":"IF(A32<>\"\",IFERROR(VLOOKUP(AG32,Tabelas!B:D,3,0),0),\"\")","v":0},{"$f":"IF(A32<>\"\",IFERROR(VLOOKUP(AH32,Tabelas!B:D,3,0),0),\"\")","v":0},{"$f":"IF(A32<>\"\",IFERROR(VLOOKUP(AI32,Tabelas!B:D,3,0),0),\"\")","v":0},{"$f":"IF(A32<>\"\",IFERROR(VLOOKUP(AJ32,Tabelas!B:D,3,0),0),\"\")","v":0},{"$f":"IF(A32<>\"\",IFERROR(VLOOKUP(AK32,Tabelas!B:D,3,0),0),\"\")","v":0},{"$f":"IF(A32<>\"\",IFERROR(VLOOKUP(AL32,Tabelas!B:D,3,0),0),\"\")","v":0},{"$f":"IF(A32<>\"\",IFERROR(VLOOKUP(AM32,Tabelas!B:D,3,0),0),\"\")","v":0},{"$f":"IF(A32<>\"\",IFERROR(VLOOKUP(AN32,Tabelas!B:D,3,0),0),\"\")","v":0},{"$f":"IF(A32<>\"\",IFERROR(VLOOKUP(AO32,Tabelas!B:D,3,0),0),\"\")","v":0},{"$f":"IF(A32<>\"\",IFERROR(VLOOKUP(AP32,Tabelas!B:D,3,0),0),\"\")","v":0},{"$f":"IF(A32<>\"\",IFERROR(VLOOKUP(AQ32,Tabelas!B:D,3,0),0),\"\")","v":0},{"$f":"IF(A32<>\"\",IFERROR(VLOOKUP(AR32,Tabelas!B:D,3,0),0),\"\")","v":0},0,0,{"$f":"IF(A32<>\"\",COUNTIF(N32:AR32,\"AB\"),\"\")","v":0},{"$f":"IF(A32<>\"\",COUNTIF(N32:AR32,\"FE\"),\"\")","v":0},{"$f":"IF(A32<>\"\",COUNTIF(N32:AR32,\"LC\"),\"\")","v":0},{"$f":"IF(A32<>\"\",COUNTIF(N32:AR32,\"CE\"),\"\")","v":0},0,0,0]
["Nível Médio",null,null,null,null,null,null,null,null,null,null,null,null,null,null,null,null,null,null,null,null,null,null,null,null,null,null,null,null,null,null,null,null,null,null,null,null,null,null,null,null,null,null,null,{"$f":"IF(A33<>\"\",IFERROR(VLOOKUP(N33,Tabelas!B:D,3,0),0),\"\")","v":0},{"$f":"IF(A33<>\"\",IFERROR(VLOOKUP(O33,Tabelas!B:D,3,0),0),\"\")","v":0},{"$f":"IF(A33<>\"\",IFERROR(VLOOKUP(P33,Tabelas!B:D,3,0),0),\"\")","v":0},{"$f":"IF(A33<>\"\",IFERROR(VLOOKUP(Q33,Tabelas!B:D,3,0),0),\"\")","v":0},{"$f":"IF(A33<>\"\",IFERROR(VLOOKUP(R33,Tabelas!B:D,3,0),0),\"\")","v":0},{"$f":"IF(A33<>\"\",IFERROR(VLOOKUP(S33,Tabelas!B:D,3,0),0),\"\")","v":0},{"$f":"IF(A33<>\"\",IFERROR(VLOOKUP(T33,Tabelas!B:D,3,0),0),\"\")","v":0},{"$f":"IF(A33<>\"\",IFERROR(VLOOKUP(U33,Tabelas!B:D,3,0),0),\"\")","v":0},{"$f":"IF(A33<>\"\",IFERROR(VLOOKUP(V33,Tabelas!B:D,3,0),0),\"\")","v":0},{"$f":"IF(A33<>\"\",IFERROR(VLOOKUP(W33,Tabelas!B:D,3,0),0),\"\")","v":0},{"$f":"IF(A33<>\"\",IFERROR(VLOOKUP(X33,Tabelas!B:D,3,0),0),\"\")","v":0},{"$f":"IF(A33<>\"\",IFERROR(VLOOKUP(Y33,Tabelas!B:D,3,0),0),\"\")","v":0},{"$f":"IF(A33<>\"\",IFERROR(VLOOKUP(Z33,Tabelas!B:D,3,0),0),\"\")","v":0},{"$f":"IF(A33<>\"\",IFERROR(VLOOKUP(AA33,Tabelas!B:D,3,0),0),\"\")","v":0},{"$f":"IF(A33<>\"\",IFERROR(VLOOKUP(AB33,Tabelas!B:D,3,0),0),\"\")","v":0},{"$f":"IF(A33<>\"\",IFERROR(VLOOKUP(AC33,Tabelas!B:D,3,0),0),\"\")","v":0},{"$f":"IF(A33<>\"\",IFERROR(VLOOKUP(AD33,Tabelas!B:D,3,0),0),\"\")","v":0},{"$f":"IF(A33<>\"\",IFERROR(VLOOKUP(AE33,Tabelas!B:D,3,0),0),\"\")","v":0},{"$f":"IF(A33<>\"\",IFERROR(VLOOKUP(AF33,Tabelas!B:D,3,0),0),\"\")","v":0},{"$f":"IF(A33<>\"\",IFERROR(VLOOKUP(AG33,Tabelas!B:D,3,0),0),\"\")","v":0},{"$f":"IF(A33<>\"\",IFERROR(VLOOKUP(AH33,Tabelas!B:D,3,0),0),\"\")","v":0},{"$f":"IF(A33<>\"\",IFERROR(VLOOKUP(AI33,Tabelas!B:D,3,0),0),\"\")","v":0},{"$f":"IF(A33<>\"\",IFERROR(VLOOKUP(AJ33,Tabelas!B:D,3,0),0),\"\")","v":0},{"$f":"IF(A33<>\"\",IFERROR(VLOOKUP(AK33,Tabelas!B:D,3,0),0),\"\")","v":0},{"$f":"IF(A33<>\"\",IFERROR(VLOOKUP(AL33,Tabelas!B:D,3,0),0),\"\")","v":0},{"$f":"IF(A33<>\"\",IFERROR(VLOOKUP(AM33,Tabelas!B:D,3,0),0),\"\")","v":0},{"$f":"IF(A33<>\"\",IFERROR(VLOOKUP(AN33,Tabelas!B:D,3,0),0),\"\")","v":0},{"$f":"IF(A33<>\"\",IFERROR(VLOOKUP(AO33,Tabelas!B:D,3,0),0),\"\")","v":0},{"$f":"IF(A33<>\"\",IFERROR(VLOOKUP(AP33,Tabelas!B:D,3,0),0),\"\")","v":0},{"$f":"IF(A33<>\"\",IFERROR(VLOOKUP(AQ33,Tabelas!B:D,3,0),0),\"\")","v":0},{"$f":"IF(A33<>\"\",IFERROR(VLOOKUP(AR33,Tabelas!B:D,3,0),0),\"\")","v":0},0,0,{"$f":"IF(A33<>\"\",COUNTIF(N33:AR33,\"AB\"),\"\")","v":0},{"$f":"IF(A33<>\"\",COUNTIF(N33:AR33,\"FE\"),\"\")","v":0},{"$f":"IF(A33<>\"\",COUNTIF(N33:AR33,\"LC\"),\"\")","v":0},{"$f":"IF(A33<>\"\",COUNTIF(N33:AR33,\"CE\"),\"\")","v":0},0,0,0]
["PLATONISTAS DIURNO",null,null,null,null,null,null,null,null,null,null,null,null,null,null,null,null,null,null,null,null,null,null,null,null,null,null,null,null,null,null,null,null,null,null,null,null,null,null,null,null,null,null,null,{"$f":"IF(A34<>\"\",IFERROR(VLOOKUP(N34,Tabelas!B:D,3,0),0),\"\")","v":0},{"$f":"IF(A34<>\"\",IFERROR(VLOOKUP(O34,Tabelas!B:D,3,0),0),\"\")","v":0},{"$f":"IF(A34<>\"\",IFERROR(VLOOKUP(P34,Tabelas!B:D,3,0),0),\"\")","v":0},{"$f":"IF(A34<>\"\",IFERROR(VLOOKUP(Q34,Tabelas!B:D,3,0),0),\"\")","v":0},{"$f":"IF(A34<>\"\",IFERROR(VLOOKUP(R34,Tabelas!B:D,3,0),0),\"\")","v":0},{"$f":"IF(A34<>\"\",IFERROR(VLOOKUP(S34,Tabelas!B:D,3,0),0),\"\")","v":0},{"$f":"IF(A34<>\"\",IFERROR(VLOOKUP(T34,Tabelas!B:D,3,0),0),\"\")","v":0},{"$f":"IF(A34<>\"\",IFERROR(VLOOKUP(U34,Tabelas!B:D,3,0),0),\"\")","v":0},{"$f":"IF(A34<>\"\",IFERROR(VLOOKUP(V34,Tabelas!B:D,3,0),0),\"\")","v":0},{"$f":"IF(A34<>\"\",IFERROR(VLOOKUP(W34,Tabelas!B:D,3,0),0),\"\")","v":0},{"$f":"IF(A34<>\"\",IFERROR(VLOOKUP(X34,Tabelas!B:D,3,0),0),\"\")","v":0},{"$f":"IF(A34<>\"\",IFERROR(VLOOKUP(Y34,Tabelas!B:D,3,0),0),\"\")","v":0},{"$f":"IF(A34<>\"\",IFERROR(VLOOKUP(Z34,Tabelas!B:D,3,0),0),\"\")","v":0},{"$f":"IF(A34<>\"\",IFERROR(VLOOKUP(AA34,Tabelas!B:D,3,0),0),\"\")","v":0},{"$f":"IF(A34<>\"\",IFERROR(VLOOKUP(AB34,Tabelas!B:D,3,0),0),\"\")","v":0},{"$f":"IF(A34<>\"\",IFERROR(VLOOKUP(AC34,Tabelas!B:D,3,0),0),\"\")","v":0},{"$f":"IF(A34<>\"\",IFERROR(VLOOKUP(AD34,Tabelas!B:D,3,0),0),\"\")","v":0},{"$f":"IF(A34<>\"\",IFERROR(VLOOKUP(AE34,Tabelas!B:D,3,0),0),\"\")","v":0},{"$f":"IF(A34<>\"\",IFERROR(VLOOKUP(AF34,Tabelas!B:D,3,0),0),\"\")","v":0},{"$f":"IF(A34<>\"\",IFERROR(VLOOKUP(AG34,Tabelas!B:D,3,0),0),\"\")","v":0},{"$f":"IF(A34<>\"\",IFERROR(VLOOKUP(AH34,Tabelas!B:D,3,0),0),\"\")","v":0},{"$f":"IF(A34<>\"\",IFERROR(VLOOKUP(AI34,Tabelas!B:D,3,0),0),\"\")","v":0},{"$f":"IF(A34<>\"\",IFERROR(VLOOKUP(AJ34,Tabelas!B:D,3,0),0),\"\")","v":0},{"$f":"IF(A34<>\"\",IFERROR(VLOOKUP(AK34,Tabelas!B:D,3,0),0),\"\")","v":0},{"$f":"IF(A34<>\"\",IFERROR(VLOOKUP(AL34,Tabelas!B:D,3,0),0),\"\")","v":0},{"$f":"IF(A34<>\"\",IFERROR(VLOOKUP(AM34,Tabelas!B:D,3,0),0),\"\")","v":0},{"$f":"IF(A34<>\"\",IFERROR(VLOOKUP(AN34,Tabelas!B:D,3,0),0),\"\")","v":0},{"$f":"IF(A34<>\"\",IFERROR(VLOOKUP(AO34,Tabelas!B:D,3,0),0),\"\")","v":0},{"$f":"IF(A34<>\"\",IFERROR(VLOOKUP(AP34,Tabelas!B:D,3,0),0),\"\")","v":0},{"$f":"IF(A34<>\"\",IFERROR(VLOOKUP(AQ34,Tabelas!B:D,3,0),0),\"\")","v":0},{"$f":"IF(A34<>\"\",IFERROR(VLOOKUP(AR34,Tabelas!B:D,3,0),0),\"\")","v":0},0,0,{"$f":"IF(A34<>\"\",COUNTIF(N34:AR34,\"AB\"),\"\")","v":0},{"$f":"IF(A34<>\"\",COUNTIF(N34:AR34,\"FE\"),\"\")","v":0},{"$f":"IF(A34<>\"\",COUNTIF(N34:AR34,\"LC\"),\"\")","v":0},{"$f":"IF(A34<>\"\",COUNTIF(N34:AR34,\"CE\"),\"\")","v":0},0,0,0]
["Adriana  Miranda",null,null,null,null,null,null,null,null,null,null,null,null,null,null,null,null,null,null,null,null,null,null,null,null,null,null,null,null,null,null,null,null,null,null,null,null,null,null,null,null,null,null,null,{"$f":"IF(A35<>\"\",IFERROR(VLOOKUP(N35,Tabelas!B:D,3,0),0),\"\")","v":0},{"$f":"IF(A35<>\"\",IFERROR(VLOOKUP(O35,Tabelas!B:D,3,0),0),\"\")","v":0},{"$f":"IF(A35<>\"\",IFERROR(VLOOKUP(P35,Tabelas!B:D,3,0),0),\"\")","v":0},{"$f":"IF(A35<>\"\",IFERROR(VLOOKUP(Q35,Tabelas!B:D,3,0),0),\"\")","v":0},{"$f":"IF(A35<>\"\",IFERROR(VLOOKUP(R35,Tabelas!B:D,3,0),0),\"\")","v":0},{"$f":"IF(A35<>\"\",IFERROR(VLOOKUP(S35,Tabelas!B:D,3,0),0),\"\")","v":0},{"$f":"IF(A35<>\"\",IFERROR(VLOOKUP(T35,Tabelas!B:D,3,0),0),\"\")","v":0},{"$f":"IF(A35<>\"\",IFERROR(VLOOKUP(U35,Tabelas!B:D,3,0),0),\"\")","v":0},{"$f":"IF(A35<>\"\",IFERROR(VLOOKUP(V35,Tabelas!B:D,3,0),0),\"\")","v":0},{"$f":"IF(A35<>\"\",IFERROR(VLOOKUP(W35,Tabelas!B:D,3,0),0),\"\")","v":0},{"$f":"IF(A35<>\"\",IFERROR(VLOOKUP(X35,Tabelas!B:D,3,0),0),\"\")","v":0},{"$f":"IF(A35<>\"\",IFERROR(VLOOKUP(Y35,Tabelas!B:D,3,0),0),\"\")","v":0},{"$f":"IF(A35<>\"\",IFERROR(VLOOKUP(Z35,Tabelas!B:D,3,0),0),\"\")","v":0},{"$f":"IF(A35<>\"\",IFERROR(VLOOKUP(AA35,Tabelas!B:D,3,0),0),\"\")","v":0},{"$f":"IF(A35<>\"\",IFERROR(VLOOKUP(AB35,Tabelas!B:D,3,0),0),\"\")","v":0},{"$f":"IF(A35<>\"\",IFERROR(VLOOKUP(AC35,Tabelas!B:D,3,0),0),\"\")","v":0},{"$f":"IF(A35<>\"\",IFERROR(VLOOKUP(AD35,Tabelas!B:D,3,0),0),\"\")","v":0},{"$f":"IF(A35<>\"\",IFERROR(VLOOKUP(AE35,Tabelas!B:D,3,0),0),\"\")","v":0},{"$f":"IF(A35<>\"\",IFERROR(VLOOKUP(AF35,Tabelas!B:D,3,0),0),\"\")","v":0},{"$f":"IF(A35<>\"\",IFERROR(VLOOKUP(AG35,Tabelas!B:D,3,0),0),\"\")","v":0},{"$f":"IF(A35<>\"\",IFERROR(VLOOKUP(AH35,Tabelas!B:D,3,0),0),\"\")","v":0},{"$f":"IF(A35<>\"\",IFERROR(VLOOKUP(AI35,Tabelas!B:D,3,0),0),\"\")","v":0},{"$f":"IF(A35<>\"\",IFERROR(VLOOKUP(AJ35,Tabelas!B:D,3,0),0),\"\")","v":0},{"$f":"IF(A35<>\"\",IFERROR(VLOOKUP(AK35,Tabelas!B:D,3,0),0),\"\")","v":0},{"$f":"IF(A35<>\"\",IFERROR(VLOOKUP(AL35,Tabelas!B:D,3,0),0),\"\")","v":0},{"$f":"IF(A35<>\"\",IFERROR(VLOOKUP(AM35,Tabelas!B:D,3,0),0),\"\")","v":0},{"$f":"IF(A35<>\"\",IFERROR(VLOOKUP(AN35,Tabelas!B:D,3,0),0),\"\")","v":0},{"$f":"IF(A35<>\"\",IFERROR(VLOOKUP(AO35,Tabelas!B:D,3,0),0),\"\")","v":0},{"$f":"IF(A35<>\"\",IFERROR(VLOOKUP(AP35,Tabelas!B:D,3,0),0),\"\")","v":0},{"$f":"IF(A35<>\"\",IFERROR(VLOOKUP(AQ35,Tabelas!B:D,3,0),0),\"\")","v":0},{"$f":"IF(A35<>\"\",IFERROR(VLOOKUP(AR35,Tabelas!B:D,3,0),0),\"\")","v":0},0,0,{"$f":"IF(A35<>\"\",COUNTIF(N35:AR35,\"AB\"),\"\")","v":0},{"$f":"IF(A35<>\"\",COUNTIF(N35:AR35,\"FE\"),\"\")","v":0},{"$f":"IF(A35<>\"\",COUNTIF(N35:AR35,\"LC\"),\"\")","v":0},{"$f":"IF(A35<>\"\",COUNTIF(N35:AR35,\"CE\"),\"\")","v":0},0,0,0]
["João Carlos Silva",null,null,null,null,null,null,null,null,null,null,null,null,null,null,null,null,null,null,null,null,null,null,null,null,null,null,null,null,null,null,null,null,null,null,null,null,null,null,null,null,null,null,null,{"$f":"IF(A36<>\"\",IFERROR(VLOOKUP(N36,Tabelas!B:D,3,0),0),\"\")","v":0},{"$f":"IF(A36<>\"\",IFERROR(VLOOKUP(O36,Tabelas!B:D,3,0),0),\"\")","v":0},{"$f":"IF(A36<>\"\",IFERROR(VLOOKUP(P36,Tabelas!B:D,3,0),0),\"\")","v":0},{"$f":"IF(A36<>\"\",IFERROR(VLOOKUP(Q36,Tabelas!B:D,3,0),0),\"\")","v":0},{"$f":"IF(A36<>\"\",IFERROR(VLOOKUP(R36,Tabelas!B:D,3,0),0),\"\")","v":0},{"$f":"IF(A36<>\"\",IFERROR(VLOOKUP(S36,Tabelas!B:D,3,0),0),\"\")","v":0},{"$f":"IF(A36<>\"\",IFERROR(VLOOKUP(T36,Tabelas!B:D,3,0),0),\"\")","v":0},{"$f":"IF(A36<>\"\",IFERROR(VLOOKUP(U36,Tabelas!B:D,3,0),0),\"\")","v":0},{"$f":"IF(A36<>\"\",IFERROR(VLOOKUP(V36,Tabelas!B:D,3,0),0),\"\")","v":0},{"$f":"IF(A36<>\"\",IFERROR(VLOOKUP(W36,Tabelas!B:D,3,0),0),\"\")","v":0},{"$f":"IF(A36<>\"\",IFERROR(VLOOKUP(X36,Tabelas!B:D,3,0),0),\"\")","v":0},{"$f":"IF(A36<>\"\",IFERROR(VLOOKUP(Y36,Tabelas!B:D,3,0),0),\"\")","v":0},{"$f":"IF(A36<>\"\",IFERROR(VLOOKUP(Z36,Tabelas!B:D,3,0),0),\"\")","v":0},{"$f":"IF(A36<>\"\",IFERROR(VLOOKUP(AA36,Tabelas!B:D,3,0),0),\"\")","v":0},{"$f":"IF(A36<>\"\",IFERROR(VLOOKUP(AB36,Tabelas!B:D,3,0),0),\"\")","v":0},{"$f":"IF(A36<>\"\",IFERROR(VLOOKUP(AC36,Tabelas!B:D,3,0),0),\"\")","v":0},{"$f":"IF(A36<>\"\",IFERROR(VLOOKUP(AD36,Tabelas!B:D,3,0),0),\"\")","v":0},{"$f":"IF(A36<>\"\",IFERROR(VLOOKUP(AE36,Tabelas!B:D,3,0),0),\"\")","v":0},{"$f":"IF(A36<>\"\",IFERROR(VLOOKUP(AF36,Tabelas!B:D,3,0),0),\"\")","v":0},{"$f":"IF(A36<>\"\",IFERROR(VLOOKUP(AG36,Tabelas!B:D,3,0),0),\"\")","v":0},{"$f":"IF(A36<>\"\",IFERROR(VLOOKUP(AH36,Tabelas!B:D,3,0),0),\"\")","v":0},{"$f":"IF(A36<>\"\",IFERROR(VLOOKUP(AI36,Tabelas!B:D,3,0),0),\"\")","v":0},{"$f":"IF(A36<>\"\",IFERROR(VLOOKUP(AJ36,Tabelas!B:D,3,0),0),\"\")","v":0},{"$f":"IF(A36<>\"\",IFERROR(VLOOKUP(AK36,Tabelas!B:D,3,0),0),\"\")","v":0},{"$f":"IF(A36<>\"\",IFERROR(VLOOKUP(AL36,Tabelas!B:D,3,0),0),\"\")","v":0},{"$f":"IF(A36<>\"\",IFERROR(VLOOKUP(AM36,Tabelas!B:D,3,0),0),\"\")","v":0},{"$f":"IF(A36<>\"\",IFERROR(VLOOKUP(AN36,Tabelas!B:D,3,0),0),\"\")","v":0},{"$f":"IF(A36<>\"\",IFERROR(VLOOKUP(AO36,Tabelas!B:D,3,0),0),\"\")","v":0},{"$f":"IF(A36<>\"\",IFERROR(VLOOKUP(AP36,Tabelas!B:D,3,0),0),\"\")","v":0},{"$f":"IF(A36<>\"\",IFERROR(VLOOKUP(AQ36,Tabelas!B:D,3,0),0),\"\")","v":0},{"$f":"IF(A36<>\"\",IFERROR(VLOOKUP(AR36,Tabelas!B:D,3,0),0),\"\")","v":0},0,0,{"$f":"IF(A36<>\"\",COUNTIF(N36:AR36,\"AB\"),\"\")","v":0},{"$f":"IF(A36<>\"\",COUNTIF(N36:AR36,\"FE\"),\"\")","v":0},{"$f":"IF(A36<>\"\",COUNTIF(N36:AR36,\"LC\"),\"\")","v":0},{"$f":"IF(A36<>\"\",COUNTIF(N36:AR36,\"CE\"),\"\")","v":0},0,0,0]
["Rosemare Silveira",null,null,null,null,null,null,null,null,null,null,null,null,null,null,null,null,null,null,null,null,null,null,null,null,null,null,null,null,null,null,null,null,null,null,null,null,null,null,null,null,null,null,null,{"$f":"IF(A37<>\"\",IFERROR(VLOOKUP(N37,Tabelas!B:D,3,0),0),\"\")","v":0},{"$f":"IF(A37<>\"\",IFERROR(VLOOKUP(O37,Tabelas!B:D,3,0),0),\"\")","v":0},{"$f":"IF(A37<>\"\",IFERROR(VLOOKUP(P37,Tabelas!B:D,3,0),0),\"\")","v":0},{"$f":"IF(A37<>\"\",IFERROR(VLOOKUP(Q37,Tabelas!B:D,3,0),0),\"\")","v":0},{"$f":"IF(A37<>\"\",IFERROR(VLOOKUP(R37,Tabelas!B:D,3,0),0),\"\")","v":0},{"$f":"IF(A37<>\"\",IFERROR(VLOOKUP(S37,Tabelas!B:D,3,0),0),\"\")","v":0},{"$f":"IF(A37<>\"\",IFERROR(VLOOKUP(T37,Tabelas!B:D,3,0),0),\"\")","v":0},{"$f":"IF(A37<>\"\",IFERROR(VLOOKUP(U37,Tabelas!B:D,3,0),0),\"\")","v":0},{"$f":"IF(A37<>\"\",IFERROR(VLOOKUP(V37,Tabelas!B:D,3,0),0),\"\")","v":0},{"$f":"IF(A37<>\"\",IFERROR(VLOOKUP(W37,Tabelas!B:D,3,0),0),\"\")","v":0},{"$f":"IF(A37<>\"\",IFERROR(VLOOKUP(X37,Tabelas!B:D,3,0),0),\"\")","v":0},{"$f":"IF(A37<>\"\",IFERROR(VLOOKUP(Y37,Tabelas!B:D,3,0),0),\"\")","v":0},{"$f":"IF(A37<>\"\",IFERROR(VLOOKUP(Z37,Tabelas!B:D,3,0),0),\"\")","v":0},{"$f":"IF(A37<>\"\",IFERROR(VLOOKUP(AA37,Tabelas!B:D,3,0),0),\"\")","v":0},{"$f":"IF(A37<>\"\",IFERROR(VLOOKUP(AB37,Tabelas!B:D,3,0),0),\"\")","v":0},{"$f":"IF(A37<>\"\",IFERROR(VLOOKUP(AC37,Tabelas!B:D,3,0),0),\"\")","v":0},{"$f":"IF(A37<>\"\",IFERROR(VLOOKUP(AD37,Tabelas!B:D,3,0),0),\"\")","v":0},{"$f":"IF(A37<>\"\",IFERROR(VLOOKUP(AE37,Tabelas!B:D,3,0),0),\"\")","v":0},{"$f":"IF(A37<>\"\",IFERROR(VLOOKUP(AF37,Tabelas!B:D,3,0),0),\"\")","v":0},{"$f":"IF(A37<>\"\",IFERROR(VLOOKUP(AG37,Tabelas!B:D,3,0),0),\"\")","v":0},{"$f":"IF(A37<>\"\",IFERROR(VLOOKUP(AH37,Tabelas!B:D,3,0),0),\"\")","v":0},{"$f":"IF(A37<>\"\",IFERROR(VLOOKUP(AI37,Tabelas!B:D,3,0),0),\"\")","v":0},{"$f":"IF(A37<>\"\",IFERROR(VLOOKUP(AJ37,Tabelas!B:D,3,0),0),\"\")","v":0},{"$f":"IF(A37<>\"\",IFERROR(VLOOKUP(AK37,Tabelas!B:D,3,0),0),\"\")","v":0},{"$f":"IF(A37<>\"\",IFERROR(VLOOKUP(AL37,Tabelas!B:D,3,0),0),\"\")","v":0},{"$f":"IF(A37<>\"\",IFERROR(VLOOKUP(AM37,Tabelas!B:D,3,0),0),\"\")","v":0},{"$f":"IF(A37<>\"\",IFERROR(VLOOKUP(AN37,Tabelas!B:D,3,0),0),\"\")","v":0},{"$f":"IF(A37<>\"\",IFERROR(VLOOKUP(AO37,Tabelas!B:D,3,0),0),\"\")","v":0},{"$f":"IF(A37<>\"\",IFERROR(VLOOKUP(AP37,Tabelas!B:D,3,0),0),\"\")","v":0},{"$f":"IF(A37<>\"\",IFERROR(VLOOKUP(AQ37,Tabelas!B:D,3,0),0),\"\")","v":0},{"$f":"IF(A37<>\"\",IFERROR(VLOOKUP(AR37,Tabelas!B:D,3,0),0),\"\")","v":0},0,0,{"$f":"IF(A37<>\"\",COUNTIF(N37:AR37,\"AB\"),\"\")","v":0},{"$f":"IF(A37<>\"\",COUNTIF(N37:AR37,\"FE\"),\"\")","v":0},{"$f":"IF(A37<>\"\",COUNTIF(N37:AR37,\"LC\"),\"\")","v":0},{"$f":"IF(A37<>\"\",COUNTIF(N37:AR37,\"CE\"),\"\")","v":0},0,0,0]
["Izabel F. Pauli",null,null,null,null,null,null,null,null,null,null,null,null,null,null,null,null,null,null,null,null,null,null,null,null,null,null,null,null,null,null,null,null,null,null,null,null,null,null,null,null,null,null,null,{"$f":"IF(A38<>\"\",IFERROR(VLOOKUP(N38,Tabelas!B:D,3,0),0),\"\")","v":0},{"$f":"IF(A38<>\"\",IFERROR(VLOOKUP(O38,Tabelas!B:D,3,0),0),\"\")","v":0},{"$f":"IF(A38<>\"\",IFERROR(VLOOKUP(P38,Tabelas!B:D,3,0),0),\"\")","v":0},{"$f":"IF(A38<>\"\",IFERROR(VLOOKUP(Q38,Tabelas!B:D,3,0),0),\"\")","v":0},{"$f":"IF(A38<>\"\",IFERROR(VLOOKUP(R38,Tabelas!B:D,3,0),0),\"\")","v":0},{"$f":"IF(A38<>\"\",IFERROR(VLOOKUP(S38,Tabelas!B:D,3,0),0),\"\")","v":0},{"$f":"IF(A38<>\"\",IFERROR(VLOOKUP(T38,Tabelas!B:D,3,0),0),\"\")","v":0},{"$f":"IF(A38<>\"\",IFERROR(VLOOKUP(U38,Tabelas!B:D,3,0),0),\"\")","v":0},{"$f":"IF(A38<>\"\",IFERROR(VLOOKUP(V38,Tabelas!B:D,3,0),0),\"\")","v":0},{"$f":"IF(A38<>\"\",IFERROR(VLOOKUP(W38,Tabelas!B:D,3,0),0),\"\")","v":0},{"$f":"IF(A38<>\"\",IFERROR(VLOOKUP(X38,Tabelas!B:D,3,0),0),\"\")","v":0},{"$f":"IF(A38<>\"\",IFERROR(VLOOKUP(Y38,Tabelas!B:D,3,0),0),\"\")","v":0},{"$f":"IF(A38<>\"\",IFERROR(VLOOKUP(Z38,Tabelas!B:D,3,0),0),\"\")","v":0},{"$f":"IF(A38<>\"\",IFERROR(VLOOKUP(AA38,Tabelas!B:D,3,0),0),\"\")","v":0},{"$f":"IF(A38<>\"\",IFERROR(VLOOKUP(AB38,Tabelas!B:D,3,0),0),\"\")","v":0},{"$f":"IF(A38<>\"\",IFERROR(VLOOKUP(AC38,Tabelas!B:D,3,0),0),\"\")","v":0},{"$f":"IF(A38<>\"\",IFERROR(VLOOKUP(AD38,Tabelas!B:D,3,0),0),\"\")","v":0},{"$f":"IF(A38<>\"\",IFERROR(VLOOKUP(AE38,Tabelas!B:D,3,0),0),\"\")","v":0},{"$f":"IF(A38<>\"\",IFERROR(VLOOKUP(AF38,Tabelas!B:D,3,0),0),\"\")","v":0},{"$f":"IF(A38<>\"\",IFERROR(VLOOKUP(AG38,Tabelas!B:D,3,0),0),\"\")","v":0},{"$f":"IF(A38<>\"\",IFERROR(VLOOKUP(AH38,Tabelas!B:D,3,0),0),\"\")","v":0},{"$f":"IF(A38<>\"\",IFERROR(VLOOKUP(AI38,Tabelas!B:D,3,0),0),\"\")","v":0},{"$f":"IF(A38<>\"\",IFERROR(VLOOKUP(AJ38,Tabelas!B:D,3,0),0),\"\")","v":0},{"$f":"IF(A38<>\"\",IFERROR(VLOOKUP(AK38,Tabelas!B:D,3,0),0),\"\")","v":0},{"$f":"IF(A38<>\"\",IFERROR(VLOOKUP(AL38,Tabelas!B:D,3,0),0),\"\")","v":0},{"$f":"IF(A38<>\"\",IFERROR(VLOOKUP(AM38,Tabelas!B:D,3,0),0),\"\")","v":0},{"$f":"IF(A38<>\"\",IFERROR(VLOOKUP(AN38,Tabelas!B:D,3,0),0),\"\")","v":0},{"$f":"IF(A38<>\"\",IFERROR(VLOOKUP(AO38,Tabelas!B:D,3,0),0),\"\")","v":0},{"$f":"IF(A38<>\"\",IFERROR(VLOOKUP(AP38,Tabelas!B:D,3,0),0),\"\")","v":0},{"$f":"IF(A38<>\"\",IFERROR(VLOOKUP(AQ38,Tabelas!B:D,3,0),0),\"\")","v":0},{"$f":"IF(A38<>\"\",IFERROR(VLOOKUP(AR38,Tabelas!B:D,3,0),0),\"\")","v":0},0,0,{"$f":"IF(A38<>\"\",COUNTIF(N38:AR38,\"AB\"),\"\")","v":0},{"$f":"IF(A38<>\"\",COUNTIF(N38:AR38,\"FE\"),\"\")","v":0},{"$f":"IF(A38<>\"\",COUNTIF(N38:AR38,\"LC\"),\"\")","v":0},{"$f":"IF(A38<>\"\",COUNTIF(N38:AR38,\"CE\"),\"\")","v":0},0,0,0]
["Lisiane M. Dias",null,null,null,null,null,null,null,null,null,null,null,null,null,null,null,null,null,null,null,null,null,null,null,null,null,null,null,null,null,null,null,null,null,null,null,null,null,null,null,null,null,null,null,{"$f":"IF(A39<>\"\",IFERROR(VLOOKUP(N39,Tabelas!B:D,3,0),0),\"\")","v":0},{"$f":"IF(A39<>\"\",IFERROR(VLOOKUP(O39,Tabelas!B:D,3,0),0),\"\")","v":0},{"$f":"IF(A39<>\"\",IFERROR(VLOOKUP(P39,Tabelas!B:D,3,0),0),\"\")","v":0},{"$f":"IF(A39<>\"\",IFERROR(VLOOKUP(Q39,Tabelas!B:D,3,0),0),\"\")","v":0},{"$f":"IF(A39<>\"\",IFERROR(VLOOKUP(R39,Tabelas!B:D,3,0),0),\"\")","v":0},{"$f":"IF(A39<>\"\",IFERROR(VLOOKUP(S39,Tabelas!B:D,3,0),0),\"\")","v":0},{"$f":"IF(A39<>\"\",IFERROR(VLOOKUP(T39,Tabelas!B:D,3,0),0),\"\")","v":0},{"$f":"IF(A39<>\"\",IFERROR(VLOOKUP(U39,Tabelas!B:D,3,0),0),\"\")","v":0},{"$f":"IF(A39<>\"\",IFERROR(VLOOKUP(V39,Tabelas!B:D,3,0),0),\"\")","v":0},{"$f":"IF(A39<>\"\",IFERROR(VLOOKUP(W39,Tabelas!B:D,3,0),0),\"\")","v":0},{"$f":"IF(A39<>\"\",IFERROR(VLOOKUP(X39,Tabelas!B:D,3,0),0),\"\")","v":0},{"$f":"IF(A39<>\"\",IFERROR(VLOOKUP(Y39,Tabelas!B:D,3,0),0),\"\")","v":0},{"$f":"IF(A39<>\"\",IFERROR(VLOOKUP(Z39,Tabelas!B:D,3,0),0),\"\")","v":0},{"$f":"IF(A39<>\"\",IFERROR(VLOOKUP(AA39,Tabelas!B:D,3,0),0),\"\")","v":0},{"$f":"IF(A39<>\"\",IFERROR(VLOOKUP(AB39,Tabelas!B:D,3,0),0),\"\")","v":0},{"$f":"IF(A39<>\"\",IFERROR(VLOOKUP(AC39,Tabelas!B:D,3,0),0),\"\")","v":0},{"$f":"IF(A39<>\"\",IFERROR(VLOOKUP(AD39,Tabelas!B:D,3,0),0),\"\")","v":0},{"$f":"IF(A39<>\"\",IFERROR(VLOOKUP(AE39,Tabelas!B:D,3,0),0),\"\")","v":0},{"$f":"IF(A39<>\"\",IFERROR(VLOOKUP(AF39,Tabelas!B:D,3,0),0),\"\")","v":0},{"$f":"IF(A39<>\"\",IFERROR(VLOOKUP(AG39,Tabelas!B:D,3,0),0),\"\")","v":0},{"$f":"IF(A39<>\"\",IFERROR(VLOOKUP(AH39,Tabelas!B:D,3,0),0),\"\")","v":0},{"$f":"IF(A39<>\"\",IFERROR(VLOOKUP(AI39,Tabelas!B:D,3,0),0),\"\")","v":0},{"$f":"IF(A39<>\"\",IFERROR(VLOOKUP(AJ39,Tabelas!B:D,3,0),0),\"\")","v":0},{"$f":"IF(A39<>\"\",IFERROR(VLOOKUP(AK39,Tabelas!B:D,3,0),0),\"\")","v":0},{"$f":"IF(A39<>\"\",IFERROR(VLOOKUP(AL39,Tabelas!B:D,3,0),0),\"\")","v":0},{"$f":"IF(A39<>\"\",IFERROR(VLOOKUP(AM39,Tabelas!B:D,3,0),0),\"\")","v":0},{"$f":"IF(A39<>\"\",IFERROR(VLOOKUP(AN39,Tabelas!B:D,3,0),0),\"\")","v":0},{"$f":"IF(A39<>\"\",IFERROR(VLOOKUP(AO39,Tabelas!B:D,3,0),0),\"\")","v":0},{"$f":"IF(A39<>\"\",IFERROR(VLOOKUP(AP39,Tabelas!B:D,3,0),0),\"\")","v":0},{"$f":"IF(A39<>\"\",IFERROR(VLOOKUP(AQ39,Tabelas!B:D,3,0),0),\"\")","v":0},{"$f":"IF(A39<>\"\",IFERROR(VLOOKUP(AR39,Tabelas!B:D,3,0),0),\"\")","v":0},0,0,{"$f":"IF(A39<>\"\",COUNTIF(N39:AR39,\"AB\"),\"\")","v":0},{"$f":"IF(A39<>\"\",COUNTIF(N39:AR39,\"FE\"),\"\")","v":0},{"$f":"IF(A39<>\"\",COUNTIF(N39:AR39,\"LC\"),\"\")","v":0},{"$f":"IF(A39<>\"\",COUNTIF(N39:AR39,\"CE\"),\"\")","v":0},0,0,0]
["Zuleide F. Medeiros",null,null,null,null,null,null,null,null,null,null,null,null,null,null,null,null,null,null,null,null,null,null,null,null,null,null,null,null,null,null,null,null,null,null,null,null,null,null,null,null,null,null,null,{"$f":"IF(A40<>\"\",IFERROR(VLOOKUP(N40,Tabelas!B:D,3,0),0),\"\")","v":0},{"$f":"IF(A40<>\"\",IFERROR(VLOOKUP(O40,Tabelas!B:D,3,0),0),\"\")","v":0},{"$f":"IF(A40<>\"\",IFERROR(VLOOKUP(P40,Tabelas!B:D,3,0),0),\"\")","v":0},{"$f":"IF(A40<>\"\",IFERROR(VLOOKUP(Q40,Tabelas!B:D,3,0),0),\"\")","v":0},{"$f":"IF(A40<>\"\",IFERROR(VLOOKUP(R40,Tabelas!B:D,3,0),0),\"\")","v":0},{"$f":"IF(A40<>\"\",IFERROR(VLOOKUP(S40,Tabelas!B:D,3,0),0),\"\")","v":0},{"$f":"IF(A40<>\"\",IFERROR(VLOOKUP(T40,Tabelas!B:D,3,0),0),\"\")","v":0},{"$f":"IF(A40<>\"\",IFERROR(VLOOKUP(U40,Tabelas!B:D,3,0),0),\"\")","v":0},{"$f":"IF(A40<>\"\",IFERROR(VLOOKUP(V40,Tabelas!B:D,3,0),0),\"\")","v":0},{"$f":"IF(A40<>\"\",IFERROR(VLOOKUP(W40,Tabelas!B:D,3,0),0),\"\")","v":0},{"$f":"IF(A40<>\"\",IFERROR(VLOOKUP(X40,Tabelas!B:D,3,0),0),\"\")","v":0},{"$f":"IF(A40<>\"\",IFERROR(VLOOKUP(Y40,Tabelas!B:D,3,0),0),\"\")","v":0},{"$f":"IF(A40<>\"\",IFERROR(VLOOKUP(Z40,Tabelas!B:D,3,0),0),\"\")","v":0},{"$f":"IF(A40<>\"\",IFERROR(VLOOKUP(AA40,Tabelas!B:D,3,0),0),\"\")","v":0},{"$f":"IF(A40<>\"\",IFERROR(VLOOKUP(AB40,Tabelas!B:D,3,0),0),\"\")","v":0},{"$f":"IF(A40<>\"\",IFERROR(VLOOKUP(AC40,Tabelas!B:D,3,0),0),\"\")","v":0},{"$f":"IF(A40<>\"\",IFERROR(VLOOKUP(AD40,Tabelas!B:D,3,0),0),\"\")","v":0},{"$f":"IF(A40<>\"\",IFERROR(VLOOKUP(AE40,Tabelas!B:D,3,0),0),\"\")","v":0},{"$f":"IF(A40<>\"\",IFERROR(VLOOKUP(AF40,Tabelas!B:D,3,0),0),\"\")","v":0},{"$f":"IF(A40<>\"\",IFERROR(VLOOKUP(AG40,Tabelas!B:D,3,0),0),\"\")","v":0},{"$f":"IF(A40<>\"\",IFERROR(VLOOKUP(AH40,Tabelas!B:D,3,0),0),\"\")","v":0},{"$f":"IF(A40<>\"\",IFERROR(VLOOKUP(AI40,Tabelas!B:D,3,0),0),\"\")","v":0},{"$f":"IF(A40<>\"\",IFERROR(VLOOKUP(AJ40,Tabelas!B:D,3,0),0),\"\")","v":0},{"$f":"IF(A40<>\"\",IFERROR(VLOOKUP(AK40,Tabelas!B:D,3,0),0),\"\")","v":0},{"$f":"IF(A40<>\"\",IFERROR(VLOOKUP(AL40,Tabelas!B:D,3,0),0),\"\")","v":0},{"$f":"IF(A40<>\"\",IFERROR(VLOOKUP(AM40,Tabelas!B:D,3,0),0),\"\")","v":0},{"$f":"IF(A40<>\"\",IFERROR(VLOOKUP(AN40,Tabelas!B:D,3,0),0),\"\")","v":0},{"$f":"IF(A40<>\"\",IFERROR(VLOOKUP(AO40,Tabelas!B:D,3,0),0),\"\")","v":0},{"$f":"IF(A40<>\"\",IFERROR(VLOOKUP(AP40,Tabelas!B:D,3,0),0),\"\")","v":0},{"$f":"IF(A40<>\"\",IFERROR(VLOOKUP(AQ40,Tabelas!B:D,3,0),0),\"\")","v":0},{"$f":"IF(A40<>\"\",IFERROR(VLOOKUP(AR40,Tabelas!B:D,3,0),0),\"\")","v":0},0,0,{"$f":"IF(A40<>\"\",COUNTIF(N40:AR40,\"AB\"),\"\")","v":0},{"$f":"IF(A40<>\"\",COUNTIF(N40:AR40,\"FE\"),\"\")","v":0},{"$f":"IF(A40<>\"\",COUNTIF(N40:AR40,\"LC\"),\"\")","v":0},{"$f":"IF(A40<>\"\",COUNTIF(N40:AR40,\"CE\"),\"\")","v":0},0,0,0]
["José  j. Duarte",null,null,null,null,null,null,null,null,null,null,null,null,null,null,null,null,null,null,null,null,null,null,null,null,null,null,null,null,null,null,null,null,null,null,null,null,null,null,null,null,null,null,null,{"$f":"IF(A41<>\"\",IFERROR(VLOOKUP(N41,Tabelas!B:D,3,0),0),\"\")","v":0},{"$f":"IF(A41<>\"\",IFERROR(VLOOKUP(O41,Tabelas!B:D,3,0),0),\"\")","v":0},{"$f":"IF(A41<>\"\",IFERROR(VLOOKUP(P41,Tabelas!B:D,3,0),0),\"\")","v":0},{"$f":"IF(A41<>\"\",IFERROR(VLOOKUP(Q41,Tabelas!B:D,3,0),0),\"\")","v":0},{"$f":"IF(A41<>\"\",IFERROR(VLOOKUP(R41,Tabelas!B:D,3,0),0),\"\")","v":0},{"$f":"IF(A41<>\"\",IFERROR(VLOOKUP(S41,Tabelas!B:D,3,0),0),\"\")","v":0},{"$f":"IF(A41<>\"\",IFERROR(VLOOKUP(T41,Tabelas!B:D,3,0),0),\"\")","v":0},{"$f":"IF(A41<>\"\",IFERROR(VLOOKUP(U41,Tabelas!B:D,3,0),0),\"\")","v":0},{"$f":"IF(A41<>\"\",IFERROR(VLOOKUP(V41,Tabelas!B:D,3,0),0),\"\")","v":0},{"$f":"IF(A41<>\"\",IFERROR(VLOOKUP(W41,Tabelas!B:D,3,0),0),\"\")","v":0},{"$f":"IF(A41<>\"\",IFERROR(VLOOKUP(X41,Tabelas!B:D,3,0),0),\"\")","v":0},{"$f":"IF(A41<>\"\",IFERROR(VLOOKUP(Y41,Tabelas!B:D,3,0),0),\"\")","v":0},{"$f":"IF(A41<>\"\",IFERROR(VLOOKUP(Z41,Tabelas!B:D,3,0),0),\"\")","v":0},{"$f":"IF(A41<>\"\",IFERROR(VLOOKUP(AA41,Tabelas!B:D,3,0),0),\"\")","v":0},{"$f":"IF(A41<>\"\",IFERROR(VLOOKUP(AB41,Tabelas!B:D,3,0),0),\"\")","v":0},{"$f":"IF(A41<>\"\",IFERROR(VLOOKUP(AC41,Tabelas!B:D,3,0),0),\"\")","v":0},{"$f":"IF(A41<>\"\",IFERROR(VLOOKUP(AD41,Tabelas!B:D,3,0),0),\"\")","v":0},{"$f":"IF(A41<>\"\",IFERROR(VLOOKUP(AE41,Tabelas!B:D,3,0),0),\"\")","v":0},{"$f":"IF(A41<>\"\",IFERROR(VLOOKUP(AF41,Tabelas!B:D,3,0),0),\"\")","v":0},{"$f":"IF(A41<>\"\",IFERROR(VLOOKUP(AG41,Tabelas!B:D,3,0),0),\"\")","v":0},{"$f":"IF(A41<>\"\",IFERROR(VLOOKUP(AH41,Tabelas!B:D,3,0),0),\"\")","v":0},{"$f":"IF(A41<>\"\",IFERROR(VLOOKUP(AI41,Tabelas!B:D,3,0),0),\"\")","v":0},{"$f":"IF(A41<>\"\",IFERROR(VLOOKUP(AJ41,Tabelas!B:D,3,0),0),\"\")","v":0},{"$f":"IF(A41<>\"\",IFERROR(VLOOKUP(AK41,Tabelas!B:D,3,0),0),\"\")","v":0},{"$f":"IF(A41<>\"\",IFERROR(VLOOKUP(AL41,Tabelas!B:D,3,0),0),\"\")","v":0},{"$f":"IF(A41<>\"\",IFERROR(VLOOKUP(AM41,Tabelas!B:D,3,0),0),\"\")","v":0},{"$f":"IF(A41<>\"\",IFERROR(VLOOKUP(AN41,Tabelas!B:D,3,0),0),\"\")","v":0},{"$f":"IF(A41<>\"\",IFERROR(VLOOKUP(AO41,Tabelas!B:D,3,0),0),\"\")","v":0},{"$f":"IF(A41<>\"\",IFERROR(VLOOKUP(AP41,Tabelas!B:D,3,0),0),\"\")","v":0},{"$f":"IF(A41<>\"\",IFERROR(VLOOKUP(AQ41,Tabelas!B:D,3,0),0),\"\")","v":0},{"$f":"IF(A41<>\"\",IFERROR(VLOOKUP(AR41,Tabelas!B:D,3,0),0),\"\")","v":0},0,0,{"$f":"IF(A41<>\"\",COUNTIF(N41:AR41,\"AB\"),\"\")","v":0},{"$f":"IF(A41<>\"\",COUNTIF(N41:AR41,\"FE\"),\"\")","v":0},{"$f":"IF(A41<>\"\",COUNTIF(N41:AR41,\"LC\"),\"\")","v":0},{"$f":"IF(A41<>\"\",COUNTIF(N41:AR41,\"CE\"),\"\")","v":0},0,0,0]
["Luciane Virgilio",null,null,null,null,null,null,null,null,null,null,null,null,null,null,null,null,null,null,null,null,null,null,null,null,null,null,null,null,null,null,null,null,null,null,null,null,null,null,null,null,null,null,null,{"$f":"IF(A42<>\"\",IFERROR(VLOOKUP(N42,Tabelas!B:D,3,0),0),\"\")","v":0},{"$f":"IF(A42<>\"\",IFERROR(VLOOKUP(O42,Tabelas!B:D,3,0),0),\"\")","v":0},{"$f":"IF(A42<>\"\",IFERROR(VLOOKUP(P42,Tabelas!B:D,3,0),0),\"\")","v":0},{"$f":"IF(A42<>\"\",IFERROR(VLOOKUP(Q42,Tabelas!B:D,3,0),0),\"\")","v":0},{"$f":"IF(A42<>\"\",IFERROR(VLOOKUP(R42,Tabelas!B:D,3,0),0),\"\")","v":0},{"$f":"IF(A42<>\"\",IFERROR(VLOOKUP(S42,Tabelas!B:D,3,0),0),\"\")","v":0},{"$f":"IF(A42<>\"\",IFERROR(VLOOKUP(T42,Tabelas!B:D,3,0),0),\"\")","v":0},{"$f":"IF(A42<>\"\",IFERROR(VLOOKUP(U42,Tabelas!B:D,3,0),0),\"\")","v":0},{"$f":"IF(A42<>\"\",IFERROR(VLOOKUP(V42,Tabelas!B:D,3,0),0),\"\")","v":0},{"$f":"IF(A42<>\"\",IFERROR(VLOOKUP(W42,Tabelas!B:D,3,0),0),\"\")","v":0},{"$f":"IF(A42<>\"\",IFERROR(VLOOKUP(X42,Tabelas!B:D,3,0),0),\"\")","v":0},{"$f":"IF(A42<>\"\",IFERROR(VLOOKUP(Y42,Tabelas!B:D,3,0),0),\"\")","v":0},{"$f":"IF(A42<>\"\",IFERROR(VLOOKUP(Z42,Tabelas!B:D,3,0),0),\"\")","v":0},{"$f":"IF(A42<>\"\",IFERROR(VLOOKUP(AA42,Tabelas!B:D,3,0),0),\"\")","v":0},{"$f":"IF(A42<>\"\",IFERROR(VLOOKUP(AB42,Tabelas!B:D,3,0),0),\"\")","v":0},{"$f":"IF(A42<>\"\",IFERROR(VLOOKUP(AC42,Tabelas!B:D,3,0),0),\"\")","v":0},{"$f":"IF(A42<>\"\",IFERROR(VLOOKUP(AD42,Tabelas!B:D,3,0),0),\"\")","v":0},{"$f":"IF(A42<>\"\",IFERROR(VLOOKUP(AE42,Tabelas!B:D,3,0),0),\"\")","v":0},{"$f":"IF(A42<>\"\",IFERROR(VLOOKUP(AF42,Tabelas!B:D,3,0),0),\"\")","v":0},{"$f":"IF(A42<>\"\",IFERROR(VLOOKUP(AG42,Tabelas!B:D,3,0),0),\"\")","v":0},{"$f":"IF(A42<>\"\",IFERROR(VLOOKUP(AH42,Tabelas!B:D,3,0),0),\"\")","v":0},{"$f":"IF(A42<>\"\",IFERROR(VLOOKUP(AI42,Tabelas!B:D,3,0),0),\"\")","v":0},{"$f":"IF(A42<>\"\",IFERROR(VLOOKUP(AJ42,Tabelas!B:D,3,0),0),\"\")","v":0},{"$f":"IF(A42<>\"\",IFERROR(VLOOKUP(AK42,Tabelas!B:D,3,0),0),\"\")","v":0},{"$f":"IF(A42<>\"\",IFERROR(VLOOKUP(AL42,Tabelas!B:D,3,0),0),\"\")","v":0},{"$f":"IF(A42<>\"\",IFERROR(VLOOKUP(AM42,Tabelas!B:D,3,0),0),\"\")","v":0},{"$f":"IF(A42<>\"\",IFERROR(VLOOKUP(AN42,Tabelas!B:D,3,0),0),\"\")","v":0},{"$f":"IF(A42<>\"\",IFERROR(VLOOKUP(AO42,Tabelas!B:D,3,0),0),\"\")","v":0},{"$f":"IF(A42<>\"\",IFERROR(VLOOKUP(AP42,Tabelas!B:D,3,0),0),\"\")","v":0},{"$f":"IF(A42<>\"\",IFERROR(VLOOKUP(AQ42,Tabelas!B:D,3,0),0),\"\")","v":0},{"$f":"IF(A42<>\"\",IFERROR(VLOOKUP(AR42,Tabelas!B:D,3,0),0),\"\")","v":0},0,0,{"$f":"IF(A42<>\"\",COUNTIF(N42:AR42,\"AB\"),\"\")","v":0},{"$f":"IF(A42<>\"\",COUNTIF(N42:AR42,\"FE\"),\"\")","v":0},{"$f":"IF(A42<>\"\",COUNTIF(N42:AR42,\"LC\"),\"\")","v":0},{"$f":"IF(A42<>\"\",COUNTIF(N42:AR42,\"CE\"),\"\")","v":0},0,0,0]
["Marinalva S. Silva",null,null,null,null,null,null,null,null,null,null,null,null,null,null,null,null,null,null,null,null,null,null,null,null,null,null,null,null,null,null,null,null,null,null,null,null,null,null,null,null,null,null,null,{"$f":"IF(A43<>\"\",IFERROR(VLOOKUP(N43,Tabelas!B:D,3,0),0),\"\")","v":0},{"$f":"IF(A43<>\"\",IFERROR(VLOOKUP(O43,Tabelas!B:D,3,0),0),\"\")","v":0},{"$f":"IF(A43<>\"\",IFERROR(VLOOKUP(P43,Tabelas!B:D,3,0),0),\"\")","v":0},{"$f":"IF(A43<>\"\",IFERROR(VLOOKUP(Q43,Tabelas!B:D,3,0),0),\"\")","v":0},{"$f":"IF(A43<>\"\",IFERROR(VLOOKUP(R43,Tabelas!B:D,3,0),0),\"\")","v":0},{"$f":"IF(A43<>\"\",IFERROR(VLOOKUP(S43,Tabelas!B:D,3,0),0),\"\")","v":0},{"$f":"IF(A43<>\"\",IFERROR(VLOOKUP(T43,Tabelas!B:D,3,0),0),\"\")","v":0},{"$f":"IF(A43<>\"\",IFERROR(VLOOKUP(U43,Tabelas!B:D,3,0),0),\"\")","v":0},{"$f":"IF(A43<>\"\",IFERROR(VLOOKUP(V43,Tabelas!B:D,3,0),0),\"\")","v":0},{"$f":"IF(A43<>\"\",IFERROR(VLOOKUP(W43,Tabelas!B:D,3,0),0),\"\")","v":0},{"$f":"IF(A43<>\"\",IFERROR(VLOOKUP(X43,Tabelas!B:D,3,0),0),\"\")","v":0},{"$f":"IF(A43<>\"\",IFERROR(VLOOKUP(Y43,Tabelas!B:D,3,0),0),\"\")","v":0},{"$f":"IF(A43<>\"\",IFERROR(VLOOKUP(Z43,Tabelas!B:D,3,0),0),\"\")","v":0},{"$f":"IF(A43<>\"\",IFERROR(VLOOKUP(AA43,Tabelas!B:D,3,0),0),\"\")","v":0},{"$f":"IF(A43<>\"\",IFERROR(VLOOKUP(AB43,Tabelas!B:D,3,0),0),\"\")","v":0},{"$f":"IF(A43<>\"\",IFERROR(VLOOKUP(AC43,Tabelas!B:D,3,0),0),\"\")","v":0},{"$f":"IF(A43<>\"\",IFERROR(VLOOKUP(AD43,Tabelas!B:D,3,0),0),\"\")","v":0},{"$f":"IF(A43<>\"\",IFERROR(VLOOKUP(AE43,Tabelas!B:D,3,0),0),\"\")","v":0},{"$f":"IF(A43<>\"\",IFERROR(VLOOKUP(AF43,Tabelas!B:D,3,0),0),\"\")","v":0},{"$f":"IF(A43<>\"\",IFERROR(VLOOKUP(AG43,Tabelas!B:D,3,0),0),\"\")","v":0},{"$f":"IF(A43<>\"\",IFERROR(VLOOKUP(AH43,Tabelas!B:D,3,0),0),\"\")","v":0},{"$f":"IF(A43<>\"\",IFERROR(VLOOKUP(AI43,Tabelas!B:D,3,0),0),\"\")","v":0},{"$f":"IF(A43<>\"\",IFERROR(VLOOKUP(AJ43,Tabelas!B:D,3,0),0),\"\")","v":0},{"$f":"IF(A43<>\"\",IFERROR(VLOOKUP(AK43,Tabelas!B:D,3,0),0),\"\")","v":0},{"$f":"IF(A43<>\"\",IFERROR(VLOOKUP(AL43,Tabelas!B:D,3,0),0),\"\")","v":0},{"$f":"IF(A43<>\"\",IFERROR(VLOOKUP(AM43,Tabelas!B:D,3,0),0),\"\")","v":0},{"$f":"IF(A43<>\"\",IFERROR(VLOOKUP(AN43,Tabelas!B:D,3,0),0),\"\")","v":0},{"$f":"IF(A43<>\"\",IFERROR(VLOOKUP(AO43,Tabelas!B:D,3,0),0),\"\")","v":0},{"$f":"IF(A43<>\"\",IFERROR(VLOOKUP(AP43,Tabelas!B:D,3,0),0),\"\")","v":0},{"$f":"IF(A43<>\"\",IFERROR(VLOOKUP(AQ43,Tabelas!B:D,3,0),0),\"\")","v":0},{"$f":"IF(A43<>\"\",IFERROR(VLOOKUP(AR43,Tabelas!B:D,3,0),0),\"\")","v":0},0,0,{"$f":"IF(A43<>\"\",COUNTIF(N43:AR43,\"AB\"),\"\")","v":0},{"$f":"IF(A43<>\"\",COUNTIF(N43:AR43,\"FE\"),\"\")","v":0},{"$f":"IF(A43<>\"\",COUNTIF(N43:AR43,\"LC\"),\"\")","v":0},{"$f":"IF(A43<>\"\",COUNTIF(N43:AR43,\"CE\"),\"\")","v":0},0,0,0]
["MATUTINO",null,null,null,null,null,null,null,null,null,null,null,null,null,null,null,null,null,null,null,null,null,null,null,null,null,null,null,null,null,null,null,null,null,null,null,null,null,null,null,null,null,null,null,{"$f":"IF(A44<>\"\",IFERROR(VLOOKUP(N44,Tabelas!B:D,3,0),0),\"\")","v":0},{"$f":"IF(A44<>\"\",IFERROR(VLOOKUP(O44,Tabelas!B:D,3,0),0),\"\")","v":0},{"$f":"IF(A44<>\"\",IFERROR(VLOOKUP(P44,Tabelas!B:D,3,0),0),\"\")","v":0},{"$f":"IF(A44<>\"\",IFERROR(VLOOKUP(Q44,Tabelas!B:D,3,0),0),\"\")","v":0},{"$f":"IF(A44<>\"\",IFERROR(VLOOKUP(R44,Tabelas!B:D,3,0),0),\"\")","v":0},{"$f":"IF(A44<>\"\",IFERROR(VLOOKUP(S44,Tabelas!B:D,3,0),0),\"\")","v":0},{"$f":"IF(A44<>\"\",IFERROR(VLOOKUP(T44,Tabelas!B:D,3,0),0),\"\")","v":0},{"$f":"IF(A44<>\"\",IFERROR(VLOOKUP(U44,Tabelas!B:D,3,0),0),\"\")","v":0},{"$f":"IF(A44<>\"\",IFERROR(VLOOKUP(V44,Tabelas!B:D,3,0),0),\"\")","v":0},{"$f":"IF(A44<>\"\",IFERROR(VLOOKUP(W44,Tabelas!B:D,3,0),0),\"\")","v":0},{"$f":"IF(A44<>\"\",IFERROR(VLOOKUP(X44,Tabelas!B:D,3,0),0),\"\")","v":0},{"$f":"IF(A44<>\"\",IFERROR(VLOOKUP(Y44,Tabelas!B:D,3,0),0),\"\")","v":0},{"$f":"IF(A44<>\"\",IFERROR(VLOOKUP(Z44,Tabelas!B:D,3,0),0),\"\")","v":0},{"$f":"IF(A44<>\"\",IFERROR(VLOOKUP(AA44,Tabelas!B:D,3,0),0),\"\")","v":0},{"$f":"IF(A44<>\"\",IFERROR(VLOOKUP(AB44,Tabelas!B:D,3,0),0),\"\")","v":0},{"$f":"IF(A44<>\"\",IFERROR(VLOOKUP(AC44,Tabelas!B:D,3,0),0),\"\")","v":0},{"$f":"IF(A44<>\"\",IFERROR(VLOOKUP(AD44,Tabelas!B:D,3,0),0),\"\")","v":0},{"$f":"IF(A44<>\"\",IFERROR(VLOOKUP(AE44,Tabelas!B:D,3,0),0),\"\")","v":0},{"$f":"IF(A44<>\"\",IFERROR(VLOOKUP(AF44,Tabelas!B:D,3,0),0),\"\")","v":0},{"$f":"IF(A44<>\"\",IFERROR(VLOOKUP(AG44,Tabelas!B:D,3,0),0),\"\")","v":0},{"$f":"IF(A44<>\"\",IFERROR(VLOOKUP(AH44,Tabelas!B:D,3,0),0),\"\")","v":0},{"$f":"IF(A44<>\"\",IFERROR(VLOOKUP(AI44,Tabelas!B:D,3,0),0),\"\")","v":0},{"$f":"IF(A44<>\"\",IFERROR(VLOOKUP(AJ44,Tabelas!B:D,3,0),0),\"\")","v":0},{"$f":"IF(A44<>\"\",IFERROR(VLOOKUP(AK44,Tabelas!B:D,3,0),0),\"\")","v":0},{"$f":"IF(A44<>\"\",IFERROR(VLOOKUP(AL44,Tabelas!B:D,3,0),0),\"\")","v":0},{"$f":"IF(A44<>\"\",IFERROR(VLOOKUP(AM44,Tabelas!B:D,3,0),0),\"\")","v":0},{"$f":"IF(A44<>\"\",IFERROR(VLOOKUP(AN44,Tabelas!B:D,3,0),0),\"\")","v":0},{"$f":"IF(A44<>\"\",IFERROR(VLOOKUP(AO44,Tabelas!B:D,3,0),0),\"\")","v":0},{"$f":"IF(A44<>\"\",IFERROR(VLOOKUP(AP44,Tabelas!B:D,3,0),0),\"\")","v":0},{"$f":"IF(A44<>\"\",IFERROR(VLOOKUP(AQ44,Tabelas!B:D,3,0),0),\"\")","v":0},{"$f":"IF(A44<>\"\",IFERROR(VLOOKUP(AR44,Tabelas!B:D,3,0),0),\"\")","v":0},0,0,{"$f":"IF(A44<>\"\",COUNTIF(N44:AR44,\"AB\"),\"\")","v":0},{"$f":"IF(A44<>\"\",COUNTIF(N44:AR44,\"FE\"),\"\")","v":0},{"$f":"IF(A44<>\"\",COUNTIF(N44:AR44,\"LC\"),\"\")","v":0},{"$f":"IF(A44<>\"\",COUNTIF(N44:AR44,\"CE\"),\"\")","v":0},0,0,0]
["Henrique J. Samua",null,null,null,null,null,null,null,null,null,null,null,null,null,null,null,null,null,null,null,null,null,null,null,null,null,null,null,null,null,null,null,null,null,null,null,null,null,null,null,null,null,null,null,{"$f":"IF(A45<>\"\",IFERROR(VLOOKUP(N45,Tabelas!B:D,3,0),0),\"\")","v":0},{"$f":"IF(A45<>\"\",IFERROR(VLOOKUP(O45,Tabelas!B:D,3,0),0),\"\")","v":0},{"$f":"IF(A45<>\"\",IFERROR(VLOOKUP(P45,Tabelas!B:D,3,0),0),\"\")","v":0},{"$f":"IF(A45<>\"\",IFERROR(VLOOKUP(Q45,Tabelas!B:D,3,0),0),\"\")","v":0},{"$f":"IF(A45<>\"\",IFERROR(VLOOKUP(R45,Tabelas!B:D,3,0),0),\"\")","v":0},{"$f":"IF(A45<>\"\",IFERROR(VLOOKUP(S45,Tabelas!B:D,3,0),0),\"\")","v":0},{"$f":"IF(A45<>\"\",IFERROR(VLOOKUP(T45,Tabelas!B:D,3,0),0),\"\")","v":0},{"$f":"IF(A45<>\"\",IFERROR(VLOOKUP(U45,Tabelas!B:D,3,0),0),\"\")","v":0},{"$f":"IF(A45<>\"\",IFERROR(VLOOKUP(V45,Tabelas!B:D,3,0),0),\"\")","v":0},{"$f":"IF(A45<>\"\",IFERROR(VLOOKUP(W45,Tabelas!B:D,3,0),0),\"\")","v":0},{"$f":"IF(A45<>\"\",IFERROR(VLOOKUP(X45,Tabelas!B:D,3,0),0),\"\")","v":0},{"$f":"IF(A45<>\"\",IFERROR(VLOOKUP(Y45,Tabelas!B:D,3,0),0),\"\")","v":0},{"$f":"IF(A45<>\"\",IFERROR(VLOOKUP(Z45,Tabelas!B:D,3,0),0),\"\")","v":0},{"$f":"IF(A45<>\"\",IFERROR(VLOOKUP(AA45,Tabelas!B:D,3,0),0),\"\")","v":0},{"$f":"IF(A45<>\"\",IFERROR(VLOOKUP(AB45,Tabelas!B:D,3,0),0),\"\")","v":0},{"$f":"IF(A45<>\"\",IFERROR(VLOOKUP(AC45,Tabelas!B:D,3,0),0),\"\")","v":0},{"$f":"IF(A45<>\"\",IFERROR(VLOOKUP(AD45,Tabelas!B:D,3,0),0),\"\")","v":0},{"$f":"IF(A45<>\"\",IFERROR(VLOOKUP(AE45,Tabelas!B:D,3,0),0),\"\")","v":0},{"$f":"IF(A45<>\"\",IFERROR(VLOOKUP(AF45,Tabelas!B:D,3,0),0),\"\")","v":0},{"$f":"IF(A45<>\"\",IFERROR(VLOOKUP(AG45,Tabelas!B:D,3,0),0),\"\")","v":0},{"$f":"IF(A45<>\"\",IFERROR(VLOOKUP(AH45,Tabelas!B:D,3,0),0),\"\")","v":0},{"$f":"IF(A45<>\"\",IFERROR(VLOOKUP(AI45,Tabelas!B:D,3,0),0),\"\")","v":0},{"$f":"IF(A45<>\"\",IFERROR(VLOOKUP(AJ45,Tabelas!B:D,3,0),0),\"\")","v":0},{"$f":"IF(A45<>\"\",IFERROR(VLOOKUP(AK45,Tabelas!B:D,3,0),0),\"\")","v":0},{"$f":"IF(A45<>\"\",IFERROR(VLOOKUP(AL45,Tabelas!B:D,3,0),0),\"\")","v":0},{"$f":"IF(A45<>\"\",IFERROR(VLOOKUP(AM45,Tabelas!B:D,3,0),0),\"\")","v":0},{"$f":"IF(A45<>\"\",IFERROR(VLOOKUP(AN45,Tabelas!B:D,3,0),0),\"\")","v":0},{"$f":"IF(A45<>\"\",IFERROR(VLOOKUP(AO45,Tabelas!B:D,3,0),0),\"\")","v":0},{"$f":"IF(A45<>\"\",IFERROR(VLOOKUP(AP45,Tabelas!B:D,3,0),0),\"\")","v":0},{"$f":"IF(A45<>\"\",IFERROR(VLOOKUP(AQ45,Tabelas!B:D,3,0),0),\"\")","v":0},{"$f":"IF(A45<>\"\",IFERROR(VLOOKUP(AR45,Tabelas!B:D,3,0),0),\"\")","v":0},0,0,{"$f":"IF(A45<>\"\",COUNTIF(N45:AR45,\"AB\"),\"\")","v":0},{"$f":"IF(A45<>\"\",COUNTIF(N45:AR45,\"FE\"),\"\")","v":0},{"$f":"IF(A45<>\"\",COUNTIF(N45:AR45,\"LC\"),\"\")","v":0},{"$f":"IF(A45<>\"\",COUNTIF(N45:AR45,\"CE\"),\"\")","v":0},0,0,0]
["Karine Maria Kalazan",null,null,null,null,null,null,null,null,null,null,null,null,null,null,null,null,null,null,null,null,null,null,null,null,null,null,null,null,null,null,null,null,null,null,null,null,null,null,null,null,null,null,null,{"$f":"IF(A46<>\"\",IFERROR(VLOOKUP(N46,Tabelas!B:D,3,0),0),\"\")","v":0},{"$f":"IF(A46<>\"\",IFERROR(VLOOKUP(O46,Tabelas!B:D,3,0),0),\"\")","v":0},{"$f":"IF(A46<>\"\",IFERROR(VLOOKUP(P46,Tabelas!B:D,3,0),0),\"\")","v":0},{"$f":"IF(A46<>\"\",IFERROR(VLOOKUP(Q46,Tabelas!B:D,3,0),0),\"\")","v":0},{"$f":"IF(A46<>\"\",IFERROR(VLOOKUP(R46,Tabelas!B:D,3,0),0),\"\")","v":0},{"$f":"IF(A46<>\"\",IFERROR(VLOOKUP(S46,Tabelas!B:D,3,0),0),\"\")","v":0},{"$f":"IF(A46<>\"\",IFERROR(VLOOKUP(T46,Tabelas!B:D,3,0),0),\"\")","v":0},{"$f":"IF(A46<>\"\",IFERROR(VLOOKUP(U46,Tabelas!B:D,3,0),0),\"\")","v":0},{"$f":"IF(A46<>\"\",IFERROR(VLOOKUP(V46,Tabelas!B:D,3,0),0),\"\")","v":0},{"$f":"IF(A46<>\"\",IFERROR(VLOOKUP(W46,Tabelas!B:D,3,0),0),\"\")","v":0},{"$f":"IF(A46<>\"\",IFERROR(VLOOKUP(X46,Tabelas!B:D,3,0),0),\"\")","v":0},{"$f":"IF(A46<>\"\",IFERROR(VLOOKUP(Y46,Tabelas!B:D,3,0),0),\"\")","v":0},{"$f":"IF(A46<>\"\",IFERROR(VLOOKUP(Z46,Tabelas!B:D,3,0),0),\"\")","v":0},{"$f":"IF(A46<>\"\",IFERROR(VLOOKUP(AA46,Tabelas!B:D,3,0),0),\"\")","v":0},{"$f":"IF(A46<>\"\",IFERROR(VLOOKUP(AB46,Tabelas!B:D,3,0),0),\"\")","v":0},{"$f":"IF(A46<>\"\",IFERROR(VLOOKUP(AC46,Tabelas!B:D,3,0),0),\"\")","v":0},{"$f":"IF(A46<>\"\",IFERROR(VLOOKUP(AD46,Tabelas!B:D,3,0),0),\"\")","v":0},{"$f":"IF(A46<>\"\",IFERROR(VLOOKUP(AE46,Tabelas!B:D,3,0),0),\"\")","v":0},{"$f":"IF(A46<>\"\",IFERROR(VLOOKUP(AF46,Tabelas!B:D,3,0),0),\"\")","v":0},{"$f":"IF(A46<>\"\",IFERROR(VLOOKUP(AG46,Tabelas!B:D,3,0),0),\"\")","v":0},{"$f":"IF(A46<>\"\",IFERROR(VLOOKUP(AH46,Tabelas!B:D,3,0),0),\"\")","v":0},{"$f":"IF(A46<>\"\",IFERROR(VLOOKUP(AI46,Tabelas!B:D,3,0),0),\"\")","v":0},{"$f":"IF(A46<>\"\",IFERROR(VLOOKUP(AJ46,Tabelas!B:D,3,0),0),\"\")","v":0},{"$f":"IF(A46<>\"\",IFERROR(VLOOKUP(AK46,Tabelas!B:D,3,0),0),\"\")","v":0},{"$f":"IF(A46<>\"\",IFERROR(VLOOKUP(AL46,Tabelas!B:D,3,0),0),\"\")","v":0},{"$f":"IF(A46<>\"\",IFERROR(VLOOKUP(AM46,Tabelas!B:D,3,0),0),\"\")","v":0},{"$f":"IF(A46<>\"\",IFERROR(VLOOKUP(AN46,Tabelas!B:D,3,0),0),\"\")","v":0},{"$f":"IF(A46<>\"\",IFERROR(VLOOKUP(AO46,Tabelas!B:D,3,0),0),\"\")","v":0},{"$f":"IF(A46<>\"\",IFERROR(VLOOKUP(AP46,Tabelas!B:D,3,0),0),\"\")","v":0},{"$f":"IF(A46<>\"\",IFERROR(VLOOKUP(AQ46,Tabelas!B:D,3,0),0),\"\")","v":0},{"$f":"IF(A46<>\"\",IFERROR(VLOOKUP(AR46,Tabelas!B:D,3,0),0),\"\")","v":0},0,0,{"$f":"IF(A46<>\"\",COUNTIF(N46:AR46,\"AB\"),\"\")","v":0},{"$f":"IF(A46<>\"\",COUNTIF(N46:AR46,\"FE\"),\"\")","v":0},{"$f":"IF(A46<>\"\",COUNTIF(N46:AR46,\"LC\"),\"\")","v":0},{"$f":"IF(A46<>\"\",COUNTIF(N46:AR46,\"CE\"),\"\")","v":0},0,0,0]
["Mariza Koerich",null,null,null,null,null,null,null,null,null,null,null,null,null,null,null,null,null,null,null,null,null,null,null,null,null,null,null,null,null,null,null,null,null,null,null,null,null,null,null,null,null,null,null,{"$f":"IF(A47<>\"\",IFERROR(VLOOKUP(N47,Tabelas!B:D,3,0),0),\"\")","v":0},{"$f":"IF(A47<>\"\",IFERROR(VLOOKUP(O47,Tabelas!B:D,3,0),0),\"\")","v":0},{"$f":"IF(A47<>\"\",IFERROR(VLOOKUP(P47,Tabelas!B:D,3,0),0),\"\")","v":0},{"$f":"IF(A47<>\"\",IFERROR(VLOOKUP(Q47,Tabelas!B:D,3,0),0),\"\")","v":0},{"$f":"IF(A47<>\"\",IFERROR(VLOOKUP(R47,Tabelas!B:D,3,0),0),\"\")","v":0},{"$f":"IF(A47<>\"\",IFERROR(VLOOKUP(S47,Tabelas!B:D,3,0),0),\"\")","v":0},{"$f":"IF(A47<>\"\",IFERROR(VLOOKUP(T47,Tabelas!B:D,3,0),0),\"\")","v":0},{"$f":"IF(A47<>\"\",IFERROR(VLOOKUP(U47,Tabelas!B:D,3,0),0),\"\")","v":0},{"$f":"IF(A47<>\"\",IFERROR(VLOOKUP(V47,Tabelas!B:D,3,0),0),\"\")","v":0},{"$f":"IF(A47<>\"\",IFERROR(VLOOKUP(W47,Tabelas!B:D,3,0),0),\"\")","v":0},{"$f":"IF(A47<>\"\",IFERROR(VLOOKUP(X47,Tabelas!B:D,3,0),0),\"\")","v":0},{"$f":"IF(A47<>\"\",IFERROR(VLOOKUP(Y47,Tabelas!B:D,3,0),0),\"\")","v":0},{"$f":"IF(A47<>\"\",IFERROR(VLOOKUP(Z47,Tabelas!B:D,3,0),0),\"\")","v":0},{"$f":"IF(A47<>\"\",IFERROR(VLOOKUP(AA47,Tabelas!B:D,3,0),0),\"\")","v":0},{"$f":"IF(A47<>\"\",IFERROR(VLOOKUP(AB47,Tabelas!B:D,3,0),0),\"\")","v":0},{"$f":"IF(A47<>\"\",IFERROR(VLOOKUP(AC47,Tabelas!B:D,3,0),0),\"\")","v":0},{"$f":"IF(A47<>\"\",IFERROR(VLOOKUP(AD47,Tabelas!B:D,3,0),0),\"\")","v":0},{"$f":"IF(A47<>\"\",IFERROR(VLOOKUP(AE47,Tabelas!B:D,3,0),0),\"\")","v":0},{"$f":"IF(A47<>\"\",IFERROR(VLOOKUP(AF47,Tabelas!B:D,3,0),0),\"\")","v":0},{"$f":"IF(A47<>\"\",IFERROR(VLOOKUP(AG47,Tabelas!B:D,3,0),0),\"\")","v":0},{"$f":"IF(A47<>\"\",IFERROR(VLOOKUP(AH47,Tabelas!B:D,3,0),0),\"\")","v":0},{"$f":"IF(A47<>\"\",IFERROR(VLOOKUP(AI47,Tabelas!B:D,3,0),0),\"\")","v":0},{"$f":"IF(A47<>\"\",IFERROR(VLOOKUP(AJ47,Tabelas!B:D,3,0),0),\"\")","v":0},{"$f":"IF(A47<>\"\",IFERROR(VLOOKUP(AK47,Tabelas!B:D,3,0),0),\"\")","v":0},{"$f":"IF(A47<>\"\",IFERROR(VLOOKUP(AL47,Tabelas!B:D,3,0),0),\"\")","v":0},{"$f":"IF(A47<>\"\",IFERROR(VLOOKUP(AM47,Tabelas!B:D,3,0),0),\"\")","v":0},{"$f":"IF(A47<>\"\",IFERROR(VLOOKUP(AN47,Tabelas!B:D,3,0),0),\"\")","v":0},{"$f":"IF(A47<>\"\",IFERROR(VLOOKUP(AO47,Tabelas!B:D,3,0),0),\"\")","v":0},{"$f":"IF(A47<>\"\",IFERROR(VLOOKUP(AP47,Tabelas!B:D,3,0),0),\"\")","v":0},{"$f":"IF(A47<>\"\",IFERROR(VLOOKUP(AQ47,Tabelas!B:D,3,0),0),\"\")","v":0},{"$f":"IF(A47<>\"\",IFERROR(VLOOKUP(AR47,Tabelas!B:D,3,0),0),\"\")","v":0},{"$f":"IF(A47<>\"\",SUM(AS47:BW47),\"\")","v":0},{"$f":"IF(A47<>\"\",COUNTIF(N47:AR47,\"LM\")+COUNTIF(N47:AR47,\"L\"),\"\")+COUNTIF(N47:AR47,\"LP\")","v":0},0,0,0,0,{"$f":"IF(A47<>\"\",COUNTIF(N47:AR47,\"AF1\")+COUNTIF(N47:AR47,\"AF2\")+COUNTIF(N47:AR47,\"AF3\")+COUNTIF(N47:AR47,\"AF4\")+COUNTIF(N47:AR47,\"AF5\")+COUNTIF(N47:AR47,\"AF6\")+COUNTIF(N47:AR47,\"AF7\")+COUNTIF(N47:AR47,\"AF8\")+COUNTIF(N47:AR47,\"AF9\")+COUNTIF(N47:AR47,\"AF10\")+COUNTIF(N47:AR47,\"AF11\")+COUNTIF(N47:AR47,\"AF12\")+COUNTIF(N47:AR47,\"AF13\")+COUNTIF(N47:AR47,\"AF14\"),\"\")","v":0},{"$f":"IF(A47<>\"\",COUNTIF(N47:AR47,\"CE\")+COUNTIF(N47:AR47,\"L\")+COUNTIF(N47:AR47,\"LM\")+COUNTIF(N47:AR47,\"LP\")+COUNTIF(N47:AR47,\"LC\")+COUNTIF(N47:AR47,\"AB\")+COUNTIF(N47:AR47,\"AF1\")+COUNTIF(N47:AR47,\"AF2\")+COUNTIF(N47:AR47,\"AF3\")+COUNTIF(N47:AR47,\"AF4\")+COUNTIF(N47:AR47,\"AF5\")+COUNTIF(N47:AR47,\"AF6\")+COUNTIF(N47:AR47,\"AF7\")+COUNTIF(N47:AR47,\"AF8\")+COUNTIF(N47:AR47,\"AF9\")+COUNTIF(N47:AR47,\"AF10\")+COUNTIF(N47:AR47,\"AF11\")+COUNTIF(N47:AR47,\"AF12\")+COUNTIF(N47:AR47,\"AF13\")+COUNTIF(N47:AR47,\"AF14\")+COUNTIF(N47:AR47,\"RC\")+COUNTIF(N47:AR47,\"FO\")+COUNTIF(N47:AR47,\"FE\"),\"\")","v":0},{"$f":"IF(A47<>\"\",COUNTIF(N47:AR47,\"APH\"),\"\")","v":0}]
["Rafaela S. de Oliveira",null,null,null,null,null,null,null,null,null,null,null,null,null,null,null,null,null,null,null,null,null,null,null,null,null,null,null,null,null,null,null,null,null,null,null,null,null,null,null,null,null,null,null,{"$f":"IF(A48<>\"\",IFERROR(VLOOKUP(N48,Tabelas!B:D,3,0),0),\"\")","v":0},{"$f":"IF(A48<>\"\",IFERROR(VLOOKUP(O48,Tabelas!B:D,3,0),0),\"\")","v":0},{"$f":"IF(A48<>\"\",IFERROR(VLOOKUP(P48,Tabelas!B:D,3,0),0),\"\")","v":0},{"$f":"IF(A48<>\"\",IFERROR(VLOOKUP(Q48,Tabelas!B:D,3,0),0),\"\")","v":0},{"$f":"IF(A48<>\"\",IFERROR(VLOOKUP(R48,Tabelas!B:D,3,0),0),\"\")","v":0},{"$f":"IF(A48<>\"\",IFERROR(VLOOKUP(S48,Tabelas!B:D,3,0),0),\"\")","v":0},{"$f":"IF(A48<>\"\",IFERROR(VLOOKUP(T48,Tabelas!B:D,3,0),0),\"\")","v":0},{"$f":"IF(A48<>\"\",IFERROR(VLOOKUP(U48,Tabelas!B:D,3,0),0),\"\")","v":0},{"$f":"IF(A48<>\"\",IFERROR(VLOOKUP(V48,Tabelas!B:D,3,0),0),\"\")","v":0},{"$f":"IF(A48<>\"\",IFERROR(VLOOKUP(W48,Tabelas!B:D,3,0),0),\"\")","v":0},{"$f":"IF(A48<>\"\",IFERROR(VLOOKUP(X48,Tabelas!B:D,3,0),0),\"\")","v":0},{"$f":"IF(A48<>\"\",IFERROR(VLOOKUP(Y48,Tabelas!B:D,3,0),0),\"\")","v":0},{"$f":"IF(A48<>\"\",IFERROR(VLOOKUP(Z48,Tabelas!B:D,3,0),0),\"\")","v":0},{"$f":"IF(A48<>\"\",IFERROR(VLOOKUP(AA48,Tabelas!B:D,3,0),0),\"\")","v":0},{"$f":"IF(A48<>\"\",IFERROR(VLOOKUP(AB48,Tabelas!B:D,3,0),0),\"\")","v":0},{"$f":"IF(A48<>\"\",IFERROR(VLOOKUP(AC48,Tabelas!B:D,3,0),0),\"\")","v":0},{"$f":"IF(A48<>\"\",IFERROR(VLOOKUP(AD48,Tabelas!B:D,3,0),0),\"\")","v":0},{"$f":"IF(A48<>\"\",IFERROR(VLOOKUP(AE48,Tabelas!B:D,3,0),0),\"\")","v":0},{"$f":"IF(A48<>\"\",IFERROR(VLOOKUP(AF48,Tabelas!B:D,3,0),0),\"\")","v":0},{"$f":"IF(A48<>\"\",IFERROR(VLOOKUP(AG48,Tabelas!B:D,3,0),0),\"\")","v":0},{"$f":"IF(A48<>\"\",IFERROR(VLOOKUP(AH48,Tabelas!B:D,3,0),0),\"\")","v":0},{"$f":"IF(A48<>\"\",IFERROR(VLOOKUP(AI48,Tabelas!B:D,3,0),0),\"\")","v":0},{"$f":"IF(A48<>\"\",IFERROR(VLOOKUP(AJ48,Tabelas!B:D,3,0),0),\"\")","v":0},{"$f":"IF(A48<>\"\",IFERROR(VLOOKUP(AK48,Tabelas!B:D,3,0),0),\"\")","v":0},{"$f":"IF(A48<>\"\",IFERROR(VLOOKUP(AL48,Tabelas!B:D,3,0),0),\"\")","v":0},{"$f":"IF(A48<>\"\",IFERROR(VLOOKUP(AM48,Tabelas!B:D,3,0),0),\"\")","v":0},{"$f":"IF(A48<>\"\",IFERROR(VLOOKUP(AN48,Tabelas!B:D,3,0),0),\"\")","v":0},{"$f":"IF(A48<>\"\",IFERROR(VLOOKUP(AO48,Tabelas!B:D,3,0),0),\"\")","v":0},{"$f":"IF(A48<>\"\",IFERROR(VLOOKUP(AP48,Tabelas!B:D,3,0),0),\"\")","v":0},{"$f":"IF(A48<>\"\",IFERROR(VLOOKUP(AQ48,Tabelas!B:D,3,0),0),\"\")","v":0},{"$f":"IF(A48<>\"\",IFERROR(VLOOKUP(AR48,Tabelas!B:D,3,0),0),\"\")","v":0},0,0,0,0,0,0,0,0,{"$f":"IF(A48<>\"\",COUNTIF(N48:AR48,\"APH\"),\"\")","v":0}]
["Rosimeri de Castro",null,null,null,null,null,null,null,null,null,null,null,null,null,null,null,null,null,null,null,null,null,null,null,null,null,null,null,null,null,null,null,null,null,null,null,null,null,null,null,null,null,null,null,{"$f":"IF(A49<>\"\",IFERROR(VLOOKUP(N49,Tabelas!B:D,3,0),0),\"\")","v":0},{"$f":"IF(A49<>\"\",IFERROR(VLOOKUP(O49,Tabelas!B:D,3,0),0),\"\")","v":0},{"$f":"IF(A49<>\"\",IFERROR(VLOOKUP(P49,Tabelas!B:D,3,0),0),\"\")","v":0},{"$f":"IF(A49<>\"\",IFERROR(VLOOKUP(Q49,Tabelas!B:D,3,0),0),\"\")","v":0},{"$f":"IF(A49<>\"\",IFERROR(VLOOKUP(R49,Tabelas!B:D,3,0),0),\"\")","v":0},{"$f":"IF(A49<>\"\",IFERROR(VLOOKUP(S49,Tabelas!B:D,3,0),0),\"\")","v":0},{"$f":"IF(A49<>\"\",IFERROR(VLOOKUP(T49,Tabelas!B:D,3,0),0),\"\")","v":0},{"$f":"IF(A49<>\"\",IFERROR(VLOOKUP(U49,Tabelas!B:D,3,0),0),\"\")","v":0},{"$f":"IF(A49<>\"\",IFERROR(VLOOKUP(V49,Tabelas!B:D,3,0),0),\"\")","v":0},{"$f":"IF(A49<>\"\",IFERROR(VLOOKUP(W49,Tabelas!B:D,3,0),0),\"\")","v":0},{"$f":"IF(A49<>\"\",IFERROR(VLOOKUP(X49,Tabelas!B:D,3,0),0),\"\")","v":0},{"$f":"IF(A49<>\"\",IFERROR(VLOOKUP(Y49,Tabelas!B:D,3,0),0),\"\")","v":0},{"$f":"IF(A49<>\"\",IFERROR(VLOOKUP(Z49,Tabelas!B:D,3,0),0),\"\")","v":0},{"$f":"IF(A49<>\"\",IFERROR(VLOOKUP(AA49,Tabelas!B:D,3,0),0),\"\")","v":0},{"$f":"IF(A49<>\"\",IFERROR(VLOOKUP(AB49,Tabelas!B:D,3,0),0),\"\")","v":0},{"$f":"IF(A49<>\"\",IFERROR(VLOOKUP(AC49,Tabelas!B:D,3,0),0),\"\")","v":0},{"$f":"IF(A49<>\"\",IFERROR(VLOOKUP(AD49,Tabelas!B:D,3,0),0),\"\")","v":0},{"$f":"IF(A49<>\"\",IFERROR(VLOOKUP(AE49,Tabelas!B:D,3,0),0),\"\")","v":0},{"$f":"IF(A49<>\"\",IFERROR(VLOOKUP(AF49,Tabelas!B:D,3,0),0),\"\")","v":0},{"$f":"IF(A49<>\"\",IFERROR(VLOOKUP(AG49,Tabelas!B:D,3,0),0),\"\")","v":0},{"$f":"IF(A49<>\"\",IFERROR(VLOOKUP(AH49,Tabelas!B:D,3,0),0),\"\")","v":0},{"$f":"IF(A49<>\"\",IFERROR(VLOOKUP(AI49,Tabelas!B:D,3,0),0),\"\")","v":0},{"$f":"IF(A49<>\"\",IFERROR(VLOOKUP(AJ49,Tabelas!B:D,3,0),0),\"\")","v":0},{"$f":"IF(A49<>\"\",IFERROR(VLOOKUP(AK49,Tabelas!B:D,3,0),0),\"\")","v":0},{"$f":"IF(A49<>\"\",IFERROR(VLOOKUP(AL49,Tabelas!B:D,3,0),0),\"\")","v":0},{"$f":"IF(A49<>\"\",IFERROR(VLOOKUP(AM49,Tabelas!B:D,3,0),0),\"\")","v":0},{"$f":"IF(A49<>\"\",IFERROR(VLOOKUP(AN49,Tabelas!B:D,3,0),0),\"\")","v":0},{"$f":"IF(A49<>\"\",IFERROR(VLOOKUP(AO49,Tabelas!B:D,3,0),0),\"\")","v":0},{"$f":"IF(A49<>\"\",IFERROR(VLOOKUP(AP49,Tabelas!B:D,3,0),0),\"\")","v":0},{"$f":"IF(A49<>\"\",IFERROR(VLOOKUP(AQ49,Tabelas!B:D,3,0),0),\"\")","v":0},{"$f":"IF(A49<>\"\",IFERROR(VLOOKUP(AR49,Tabelas!B:D,3,0),0),\"\")","v":0},0,0,0,0,0,0,0,0,{"$f":"IF(A49<>\"\",COUNTIF(N49:AR49,\"APH\"),\"\")","v":0}]
["Tânia Ap. E. Souza",null,null,null,null,null,null,null,null,null,null,null,null,null,null,null,null,null,null,null,null,null,null,null,null,null,null,null,null,null,null,null,null,null,null,null,null,null,null,null,null,null,null,null,{"$f":"IF(A50<>\"\",IFERROR(VLOOKUP(N50,Tabelas!B:D,3,0),0),\"\")","v":0},{"$f":"IF(A50<>\"\",IFERROR(VLOOKUP(O50,Tabelas!B:D,3,0),0),\"\")","v":0},{"$f":"IF(A50<>\"\",IFERROR(VLOOKUP(P50,Tabelas!B:D,3,0),0),\"\")","v":0},{"$f":"IF(A50<>\"\",IFERROR(VLOOKUP(Q50,Tabelas!B:D,3,0),0),\"\")","v":0},{"$f":"IF(A50<>\"\",IFERROR(VLOOKUP(R50,Tabelas!B:D,3,0),0),\"\")","v":0},{"$f":"IF(A50<>\"\",IFERROR(VLOOKUP(S50,Tabelas!B:D,3,0),0),\"\")","v":0},{"$f":"IF(A50<>\"\",IFERROR(VLOOKUP(T50,Tabelas!B:D,3,0),0),\"\")","v":0},{"$f":"IF(A50<>\"\",IFERROR(VLOOKUP(U50,Tabelas!B:D,3,0),0),\"\")","v":0},{"$f":"IF(A50<>\"\",IFERROR(VLOOKUP(V50,Tabelas!B:D,3,0),0),\"\")","v":0},{"$f":"IF(A50<>\"\",IFERROR(VLOOKUP(W50,Tabelas!B:D,3,0),0),\"\")","v":0},{"$f":"IF(A50<>\"\",IFERROR(VLOOKUP(X50,Tabelas!B:D,3,0),0),\"\")","v":0},{"$f":"IF(A50<>\"\",IFERROR(VLOOKUP(Y50,Tabelas!B:D,3,0),0),\"\")","v":0},{"$f":"IF(A50<>\"\",IFERROR(VLOOKUP(Z50,Tabelas!B:D,3,0),0),\"\")","v":0},{"$f":"IF(A50<>\"\",IFERROR(VLOOKUP(AA50,Tabelas!B:D,3,0),0),\"\")","v":0},{"$f":"IF(A50<>\"\",IFERROR(VLOOKUP(AB50,Tabelas!B:D,3,0),0),\"\")","v":0},{"$f":"IF(A50<>\"\",IFERROR(VLOOKUP(AC50,Tabelas!B:D,3,0),0),\"\")","v":0},{"$f":"IF(A50<>\"\",IFERROR(VLOOKUP(AD50,Tabelas!B:D,3,0),0),\"\")","v":0},{"$f":"IF(A50<>\"\",IFERROR(VLOOKUP(AE50,Tabelas!B:D,3,0),0),\"\")","v":0},{"$f":"IF(A50<>\"\",IFERROR(VLOOKUP(AF50,Tabelas!B:D,3,0),0),\"\")","v":0},{"$f":"IF(A50<>\"\",IFERROR(VLOOKUP(AG50,Tabelas!B:D,3,0),0),\"\")","v":0},{"$f":"IF(A50<>\"\",IFERROR(VLOOKUP(AH50,Tabelas!B:D,3,0),0),\"\")","v":0},{"$f":"IF(A50<>\"\",IFERROR(VLOOKUP(AI50,Tabelas!B:D,3,0),0),\"\")","v":0},{"$f":"IF(A50<>\"\",IFERROR(VLOOKUP(AJ50,Tabelas!B:D,3,0),0),\"\")","v":0},{"$f":"IF(A50<>\"\",IFERROR(VLOOKUP(AK50,Tabelas!B:D,3,0),0),\"\")","v":0},{"$f":"IF(A50<>\"\",IFERROR(VLOOKUP(AL50,Tabelas!B:D,3,0),0),\"\")","v":0},{"$f":"IF(A50<>\"\",IFERROR(VLOOKUP(AM50,Tabelas!B:D,3,0),0),\"\")","v":0},{"$f":"IF(A50<>\"\",IFERROR(VLOOKUP(AN50,Tabelas!B:D,3,0),0),\"\")","v":0},{"$f":"IF(A50<>\"\",IFERROR(VLOOKUP(AO50,Tabelas!B:D,3,0),0),\"\")","v":0},{"$f":"IF(A50<>\"\",IFERROR(VLOOKUP(AP50,Tabelas!B:D,3,0),0),\"\")","v":0},{"$f":"IF(A50<>\"\",IFERROR(VLOOKUP(AQ50,Tabelas!B:D,3,0),0),\"\")","v":0},{"$f":"IF(A50<>\"\",IFERROR(VLOOKUP(AR50,Tabelas!B:D,3,0),0),\"\")","v":0},0,0,0,0,0,0,0,0,{"$f":"IF(A50<>\"\",COUNTIF(N50:AR50,\"APH\"),\"\")","v":0}]
["VESPERTINO",null,null,null,null,null,null,null,null,null,null,null,null,null,null,null,null,null,null,null,null,null,null,null,null,null,null,null,null,null,null,null,null,null,null,null,null,null,null,null,null,null,null,null,{"$f":"IF(A51<>\"\",IFERROR(VLOOKUP(N51,Tabelas!B:D,3,0),0),\"\")","v":0},{"$f":"IF(A51<>\"\",IFERROR(VLOOKUP(O51,Tabelas!B:D,3,0),0),\"\")","v":0},{"$f":"IF(A51<>\"\",IFERROR(VLOOKUP(P51,Tabelas!B:D,3,0),0),\"\")","v":0},{"$f":"IF(A51<>\"\",IFERROR(VLOOKUP(Q51,Tabelas!B:D,3,0),0),\"\")","v":0},{"$f":"IF(A51<>\"\",IFERROR(VLOOKUP(R51,Tabelas!B:D,3,0),0),\"\")","v":0},{"$f":"IF(A51<>\"\",IFERROR(VLOOKUP(S51,Tabelas!B:D,3,0),0),\"\")","v":0},{"$f":"IF(A51<>\"\",IFERROR(VLOOKUP(T51,Tabelas!B:D,3,0),0),\"\")","v":0},{"$f":"IF(A51<>\"\",IFERROR(VLOOKUP(U51,Tabelas!B:D,3,0),0),\"\")","v":0},{"$f":"IF(A51<>\"\",IFERROR(VLOOKUP(V51,Tabelas!B:D,3,0),0),\"\")","v":0},{"$f":"IF(A51<>\"\",IFERROR(VLOOKUP(W51,Tabelas!B:D,3,0),0),\"\")","v":0},{"$f":"IF(A51<>\"\",IFERROR(VLOOKUP(X51,Tabelas!B:D,3,0),0),\"\")","v":0},{"$f":"IF(A51<>\"\",IFERROR(VLOOKUP(Y51,Tabelas!B:D,3,0),0),\"\")","v":0},{"$f":"IF(A51<>\"\",IFERROR(VLOOKUP(Z51,Tabelas!B:D,3,0),0),\"\")","v":0},{"$f":"IF(A51<>\"\",IFERROR(VLOOKUP(AA51,Tabelas!B:D,3,0),0),\"\")","v":0},{"$f":"IF(A51<>\"\",IFERROR(VLOOKUP(AB51,Tabelas!B:D,3,0),0),\"\")","v":0},{"$f":"IF(A51<>\"\",IFERROR(VLOOKUP(AC51,Tabelas!B:D,3,0),0),\"\")","v":0},{"$f":"IF(A51<>\"\",IFERROR(VLOOKUP(AD51,Tabelas!B:D,3,0),0),\"\")","v":0},{"$f":"IF(A51<>\"\",IFERROR(VLOOKUP(AE51,Tabelas!B:D,3,0),0),\"\")","v":0},{"$f":"IF(A51<>\"\",IFERROR(VLOOKUP(AF51,Tabelas!B:D,3,0),0),\"\")","v":0},{"$f":"IF(A51<>\"\",IFERROR(VLOOKUP(AG51,Tabelas!B:D,3,0),0),\"\")","v":0},{"$f":"IF(A51<>\"\",IFERROR(VLOOKUP(AH51,Tabelas!B:D,3,0),0),\"\")","v":0},{"$f":"IF(A51<>\"\",IFERROR(VLOOKUP(AI51,Tabelas!B:D,3,0),0),\"\")","v":0},{"$f":"IF(A51<>\"\",IFERROR(VLOOKUP(AJ51,Tabelas!B:D,3,0),0),\"\")","v":0},{"$f":"IF(A51<>\"\",IFERROR(VLOOKUP(AK51,Tabelas!B:D,3,0),0),\"\")","v":0},{"$f":"IF(A51<>\"\",IFERROR(VLOOKUP(AL51,Tabelas!B:D,3,0),0),\"\")","v":0},{"$f":"IF(A51<>\"\",IFERROR(VLOOKUP(AM51,Tabelas!B:D,3,0),0),\"\")","v":0},{"$f":"IF(A51<>\"\",IFERROR(VLOOKUP(AN51,Tabelas!B:D,3,0),0),\"\")","v":0},{"$f":"IF(A51<>\"\",IFERROR(VLOOKUP(AO51,Tabelas!B:D,3,0),0),\"\")","v":0},{"$f":"IF(A51<>\"\",IFERROR(VLOOKUP(AP51,Tabelas!B:D,3,0),0),\"\")","v":0},{"$f":"IF(A51<>\"\",IFERROR(VLOOKUP(AQ51,Tabelas!B:D,3,0),0),\"\")","v":0},{"$f":"IF(A51<>\"\",IFERROR(VLOOKUP(AR51,Tabelas!B:D,3,0),0),\"\")","v":0},0,0,0,0,0,0,0,0,{"$f":"IF(A51<>\"\",COUNTIF(N51:AR51,\"APH\"),\"\")","v":0}]
["Caroline F. Reis",null,null,null,null,null,null,null,null,null,null,null,null,null,null,null,null,null,null,null,null,null,null,null,null,null,null,null,null,null,null,null,null,null,null,null,null,null,null,null,null,null,null,null,{"$f":"IF(A52<>\"\",IFERROR(VLOOKUP(N52,Tabelas!B:D,3,0),0),\"\")","v":0},{"$f":"IF(A52<>\"\",IFERROR(VLOOKUP(O52,Tabelas!B:D,3,0),0),\"\")","v":0},{"$f":"IF(A52<>\"\",IFERROR(VLOOKUP(P52,Tabelas!B:D,3,0),0),\"\")","v":0},{"$f":"IF(A52<>\"\",IFERROR(VLOOKUP(Q52,Tabelas!B:D,3,0),0),\"\")","v":0},{"$f":"IF(A52<>\"\",IFERROR(VLOOKUP(R52,Tabelas!B:D,3,0),0),\"\")","v":0},{"$f":"IF(A52<>\"\",IFERROR(VLOOKUP(S52,Tabelas!B:D,3,0),0),\"\")","v":0},{"$f":"IF(A52<>\"\",IFERROR(VLOOKUP(T52,Tabelas!B:D,3,0),0),\"\")","v":0},{"$f":"IF(A52<>\"\",IFERROR(VLOOKUP(U52,Tabelas!B:D,3,0),0),\"\")","v":0},{"$f":"IF(A52<>\"\",IFERROR(VLOOKUP(V52,Tabelas!B:D,3,0),0),\"\")","v":0},{"$f":"IF(A52<>\"\",IFERROR(VLOOKUP(W52,Tabelas!B:D,3,0),0),\"\")","v":0},{"$f":"IF(A52<>\"\",IFERROR(VLOOKUP(X52,Tabelas!B:D,3,0),0),\"\")","v":0},{"$f":"IF(A52<>\"\",IFERROR(VLOOKUP(Y52,Tabelas!B:D,3,0),0),\"\")","v":0},{"$f":"IF(A52<>\"\",IFERROR(VLOOKUP(Z52,Tabelas!B:D,3,0),0),\"\")","v":0},{"$f":"IF(A52<>\"\",IFERROR(VLOOKUP(AA52,Tabelas!B:D,3,0),0),\"\")","v":0},{"$f":"IF(A52<>\"\",IFERROR(VLOOKUP(AB52,Tabelas!B:D,3,0),0),\"\")","v":0},{"$f":"IF(A52<>\"\",IFERROR(VLOOKUP(AC52,Tabelas!B:D,3,0),0),\"\")","v":0},{"$f":"IF(A52<>\"\",IFERROR(VLOOKUP(AD52,Tabelas!B:D,3,0),0),\"\")","v":0},{"$f":"IF(A52<>\"\",IFERROR(VLOOKUP(AE52,Tabelas!B:D,3,0),0),\"\")","v":0},{"$f":"IF(A52<>\"\",IFERROR(VLOOKUP(AF52,Tabelas!B:D,3,0),0),\"\")","v":0},{"$f":"IF(A52<>\"\",IFERROR(VLOOKUP(AG52,Tabelas!B:D,3,0),0),\"\")","v":0},{"$f":"IF(A52<>\"\",IFERROR(VLOOKUP(AH52,Tabelas!B:D,3,0),0),\"\")","v":0},{"$f":"IF(A52<>\"\",IFERROR(VLOOKUP(AI52,Tabelas!B:D,3,0),0),\"\")","v":0},{"$f":"IF(A52<>\"\",IFERROR(VLOOKUP(AJ52,Tabelas!B:D,3,0),0),\"\")","v":0},{"$f":"IF(A52<>\"\",IFERROR(VLOOKUP(AK52,Tabelas!B:D,3,0),0),\"\")","v":0},{"$f":"IF(A52<>\"\",IFERROR(VLOOKUP(AL52,Tabelas!B:D,3,0),0),\"\")","v":0},{"$f":"IF(A52<>\"\",IFERROR(VLOOKUP(AM52,Tabelas!B:D,3,0),0),\"\")","v":0},{"$f":"IF(A52<>\"\",IFERROR(VLOOKUP(AN52,Tabelas!B:D,3,0),0),\"\")","v":0},{"$f":"IF(A52<>\"\",IFERROR(VLOOKUP(AO52,Tabelas!B:D,3,0),0),\"\")","v":0},{"$f":"IF(A52<>\"\",IFERROR(VLOOKUP(AP52,Tabelas!B:D,3,0),0),\"\")","v":0},{"$f":"IF(A52<>\"\",IFERROR(VLOOKUP(AQ52,Tabelas!B:D,3,0),0),\"\")","v":0},{"$f":"IF(A52<>\"\",IFERROR(VLOOKUP(AR52,Tabelas!B:D,3,0),0),\"\")","v":0},0,0,0,0,0,0,0,0,{"$f":"IF(A52<>\"\",COUNTIF(N52:AR52,\"APH\"),\"\")","v":0}]
["Lucimar Martires",null,null,null,null,null,null,null,null,null,null,null,null,null,null,null,null,null,null,null,null,null,null,null,null,null,null,null,null,null,null,null,null,null,null,null,null,null,null,null,null,null,null,null,{"$f":"IF(A53<>\"\",IFERROR(VLOOKUP(N53,Tabelas!B:D,3,0),0),\"\")","v":0},{"$f":"IF(A53<>\"\",IFERROR(VLOOKUP(O53,Tabelas!B:D,3,0),0),\"\")","v":0},{"$f":"IF(A53<>\"\",IFERROR(VLOOKUP(P53,Tabelas!B:D,3,0),0),\"\")","v":0},{"$f":"IF(A53<>\"\",IFERROR(VLOOKUP(Q53,Tabelas!B:D,3,0),0),\"\")","v":0},{"$f":"IF(A53<>\"\",IFERROR(VLOOKUP(R53,Tabelas!B:D,3,0),0),\"\")","v":0},{"$f":"IF(A53<>\"\",IFERROR(VLOOKUP(S53,Tabelas!B:D,3,0),0),\"\")","v":0},{"$f":"IF(A53<>\"\",IFERROR(VLOOKUP(T53,Tabelas!B:D,3,0),0),\"\")","v":0},{"$f":"IF(A53<>\"\",IFERROR(VLOOKUP(U53,Tabelas!B:D,3,0),0),\"\")","v":0},{"$f":"IF(A53<>\"\",IFERROR(VLOOKUP(V53,Tabelas!B:D,3,0),0),\"\")","v":0},{"$f":"IF(A53<>\"\",IFERROR(VLOOKUP(W53,Tabelas!B:D,3,0),0),\"\")","v":0},{"$f":"IF(A53<>\"\",IFERROR(VLOOKUP(X53,Tabelas!B:D,3,0),0),\"\")","v":0},{"$f":"IF(A53<>\"\",IFERROR(VLOOKUP(Y53,Tabelas!B:D,3,0),0),\"\")","v":0},{"$f":"IF(A53<>\"\",IFERROR(VLOOKUP(Z53,Tabelas!B:D,3,0),0),\"\")","v":0},{"$f":"IF(A53<>\"\",IFERROR(VLOOKUP(AA53,Tabelas!B:D,3,0),0),\"\")","v":0},{"$f":"IF(A53<>\"\",IFERROR(VLOOKUP(AB53,Tabelas!B:D,3,0),0),\"\")","v":0},{"$f":"IF(A53<>\"\",IFERROR(VLOOKUP(AC53,Tabelas!B:D,3,0),0),\"\")","v":0},{"$f":"IF(A53<>\"\",IFERROR(VLOOKUP(AD53,Tabelas!B:D,3,0),0),\"\")","v":0},{"$f":"IF(A53<>\"\",IFERROR(VLOOKUP(AE53,Tabelas!B:D,3,0),0),\"\")","v":0},{"$f":"IF(A53<>\"\",IFERROR(VLOOKUP(AF53,Tabelas!B:D,3,0),0),\"\")","v":0},{"$f":"IF(A53<>\"\",IFERROR(VLOOKUP(AG53,Tabelas!B:D,3,0),0),\"\")","v":0},{"$f":"IF(A53<>\"\",IFERROR(VLOOKUP(AH53,Tabelas!B:D,3,0),0),\"\")","v":0},{"$f":"IF(A53<>\"\",IFERROR(VLOOKUP(AI53,Tabelas!B:D,3,0),0),\"\")","v":0},{"$f":"IF(A53<>\"\",IFERROR(VLOOKUP(AJ53,Tabelas!B:D,3,0),0),\"\")","v":0},{"$f":"IF(A53<>\"\",IFERROR(VLOOKUP(AK53,Tabelas!B:D,3,0),0),\"\")","v":0},{"$f":"IF(A53<>\"\",IFERROR(VLOOKUP(AL53,Tabelas!B:D,3,0),0),\"\")","v":0},{"$f":"IF(A53<>\"\",IFERROR(VLOOKUP(AM53,Tabelas!B:D,3,0),0),\"\")","v":0},{"$f":"IF(A53<>\"\",IFERROR(VLOOKUP(AN53,Tabelas!B:D,3,0),0),\"\")","v":0},{"$f":"IF(A53<>\"\",IFERROR(VLOOKUP(AO53,Tabelas!B:D,3,0),0),\"\")","v":0},{"$f":"IF(A53<>\"\",IFERROR(VLOOKUP(AP53,Tabelas!B:D,3,0),0),\"\")","v":0},{"$f":"IF(A53<>\"\",IFERROR(VLOOKUP(AQ53,Tabelas!B:D,3,0),0),\"\")","v":0},{"$f":"IF(A53<>\"\",IFERROR(VLOOKUP(AR53,Tabelas!B:D,3,0),0),\"\")","v":0},0,0,0,0,0,0,0,0,{"$f":"IF(A53<>\"\",COUNTIF(N53:AR53,\"APH\"),\"\")","v":0}]
["Marta Veloso Souza",null,null,null,null,null,null,null,null,null,null,null,null,null,null,null,null,null,null,null,null,null,null,null,null,null,null,null,null,null,null,null,null,null,null,null,null,null,null,null,null,null,null,null,{"$f":"IF(A54<>\"\",IFERROR(VLOOKUP(N54,Tabelas!B:D,3,0),0),\"\")","v":0},{"$f":"IF(A54<>\"\",IFERROR(VLOOKUP(O54,Tabelas!B:D,3,0),0),\"\")","v":0},{"$f":"IF(A54<>\"\",IFERROR(VLOOKUP(P54,Tabelas!B:D,3,0),0),\"\")","v":0},{"$f":"IF(A54<>\"\",IFERROR(VLOOKUP(Q54,Tabelas!B:D,3,0),0),\"\")","v":0},{"$f":"IF(A54<>\"\",IFERROR(VLOOKUP(R54,Tabelas!B:D,3,0),0),\"\")","v":0},{"$f":"IF(A54<>\"\",IFERROR(VLOOKUP(S54,Tabelas!B:D,3,0),0),\"\")","v":0},{"$f":"IF(A54<>\"\",IFERROR(VLOOKUP(T54,Tabelas!B:D,3,0),0),\"\")","v":0},{"$f":"IF(A54<>\"\",IFERROR(VLOOKUP(U54,Tabelas!B:D,3,0),0),\"\")","v":0},{"$f":"IF(A54<>\"\",IFERROR(VLOOKUP(V54,Tabelas!B:D,3,0),0),\"\")","v":0},{"$f":"IF(A54<>\"\",IFERROR(VLOOKUP(W54,Tabelas!B:D,3,0),0),\"\")","v":0},{"$f":"IF(A54<>\"\",IFERROR(VLOOKUP(X54,Tabelas!B:D,3,0),0),\"\")","v":0},{"$f":"IF(A54<>\"\",IFERROR(VLOOKUP(Y54,Tabelas!B:D,3,0),0),\"\")","v":0},{"$f":"IF(A54<>\"\",IFERROR(VLOOKUP(Z54,Tabelas!B:D,3,0),0),\"\")","v":0},{"$f":"IF(A54<>\"\",IFERROR(VLOOKUP(AA54,Tabelas!B:D,3,0),0),\"\")","v":0},{"$f":"IF(A54<>\"\",IFERROR(VLOOKUP(AB54,Tabelas!B:D,3,0),0),\"\")","v":0},{"$f":"IF(A54<>\"\",IFERROR(VLOOKUP(AC54,Tabelas!B:D,3,0),0),\"\")","v":0},{"$f":"IF(A54<>\"\",IFERROR(VLOOKUP(AD54,Tabelas!B:D,3,0),0),\"\")","v":0},{"$f":"IF(A54<>\"\",IFERROR(VLOOKUP(AE54,Tabelas!B:D,3,0),0),\"\")","v":0},{"$f":"IF(A54<>\"\",IFERROR(VLOOKUP(AF54,Tabelas!B:D,3,0),0),\"\")","v":0},{"$f":"IF(A54<>\"\",IFERROR(VLOOKUP(AG54,Tabelas!B:D,3,0),0),\"\")","v":0},{"$f":"IF(A54<>\"\",IFERROR(VLOOKUP(AH54,Tabelas!B:D,3,0),0),\"\")","v":0},{"$f":"IF(A54<>\"\",IFERROR(VLOOKUP(AI54,Tabelas!B:D,3,0),0),\"\")","v":0},{"$f":"IF(A54<>\"\",IFERROR(VLOOKUP(AJ54,Tabelas!B:D,3,0),0),\"\")","v":0},{"$f":"IF(A54<>\"\",IFERROR(VLOOKUP(AK54,Tabelas!B:D,3,0),0),\"\")","v":0},{"$f":"IF(A54<>\"\",IFERROR(VLOOKUP(AL54,Tabelas!B:D,3,0),0),\"\")","v":0},{"$f":"IF(A54<>\"\",IFERROR(VLOOKUP(AM54,Tabelas!B:D,3,0),0),\"\")","v":0},{"$f":"IF(A54<>\"\",IFERROR(VLOOKUP(AN54,Tabelas!B:D,3,0),0),\"\")","v":0},{"$f":"IF(A54<>\"\",IFERROR(VLOOKUP(AO54,Tabelas!B:D,3,0),0),\"\")","v":0},{"$f":"IF(A54<>\"\",IFERROR(VLOOKUP(AP54,Tabelas!B:D,3,0),0),\"\")","v":0},{"$f":"IF(A54<>\"\",IFERROR(VLOOKUP(AQ54,Tabelas!B:D,3,0),0),\"\")","v":0},{"$f":"IF(A54<>\"\",IFERROR(VLOOKUP(AR54,Tabelas!B:D,3,0),0),\"\")","v":0},0,0,0,0,0,0,0,0,{"$f":"IF(A54<>\"\",COUNTIF(N54:AR54,\"APH\"),\"\")","v":0}]
["Paula Helena Janson",null,null,null,null,null,null,null,null,null,null,null,null,null,null,null,null,null,null,null,null,null,null,null,null,null,null,null,null,null,null,null,null,null,null,null,null,null,null,null,null,null,null,null,{"$f":"IF(A55<>\"\",IFERROR(VLOOKUP(N55,Tabelas!B:D,3,0),0),\"\")","v":0},{"$f":"IF(A55<>\"\",IFERROR(VLOOKUP(O55,Tabelas!B:D,3,0),0),\"\")","v":0},{"$f":"IF(A55<>\"\",IFERROR(VLOOKUP(P55,Tabelas!B:D,3,0),0),\"\")","v":0},{"$f":"IF(A55<>\"\",IFERROR(VLOOKUP(Q55,Tabelas!B:D,3,0),0),\"\")","v":0},{"$f":"IF(A55<>\"\",IFERROR(VLOOKUP(R55,Tabelas!B:D,3,0),0),\"\")","v":0},{"$f":"IF(A55<>\"\",IFERROR(VLOOKUP(S55,Tabelas!B:D,3,0),0),\"\")","v":0},{"$f":"IF(A55<>\"\",IFERROR(VLOOKUP(T55,Tabelas!B:D,3,0),0),\"\")","v":0},{"$f":"IF(A55<>\"\",IFERROR(VLOOKUP(U55,Tabelas!B:D,3,0),0),\"\")","v":0},{"$f":"IF(A55<>\"\",IFERROR(VLOOKUP(V55,Tabelas!B:D,3,0),0),\"\")","v":0},{"$f":"IF(A55<>\"\",IFERROR(VLOOKUP(W55,Tabelas!B:D,3,0),0),\"\")","v":0},{"$f":"IF(A55<>\"\",IFERROR(VLOOKUP(X55,Tabelas!B:D,3,0),0),\"\")","v":0},{"$f":"IF(A55<>\"\",IFERROR(VLOOKUP(Y55,Tabelas!B:D,3,0),0),\"\")","v":0},{"$f":"IF(A55<>\"\",IFERROR(VLOOKUP(Z55,Tabelas!B:D,3,0),0),\"\")","v":0},{"$f":"IF(A55<>\"\",IFERROR(VLOOKUP(AA55,Tabelas!B:D,3,0),0),\"\")","v":0},{"$f":"IF(A55<>\"\",IFERROR(VLOOKUP(AB55,Tabelas!B:D,3,0),0),\"\")","v":0},{"$f":"IF(A55<>\"\",IFERROR(VLOOKUP(AC55,Tabelas!B:D,3,0),0),\"\")","v":0},{"$f":"IF(A55<>\"\",IFERROR(VLOOKUP(AD55,Tabelas!B:D,3,0),0),\"\")","v":0},{"$f":"IF(A55<>\"\",IFERROR(VLOOKUP(AE55,Tabelas!B:D,3,0),0),\"\")","v":0},{"$f":"IF(A55<>\"\",IFERROR(VLOOKUP(AF55,Tabelas!B:D,3,0),0),\"\")","v":0},{"$f":"IF(A55<>\"\",IFERROR(VLOOKUP(AG55,Tabelas!B:D,3,0),0),\"\")","v":0},{"$f":"IF(A55<>\"\",IFERROR(VLOOKUP(AH55,Tabelas!B:D,3,0),0),\"\")","v":0},{"$f":"IF(A55<>\"\",IFERROR(VLOOKUP(AI55,Tabelas!B:D,3,0),0),\"\")","v":0},{"$f":"IF(A55<>\"\",IFERROR(VLOOKUP(AJ55,Tabelas!B:D,3,0),0),\"\")","v":0},{"$f":"IF(A55<>\"\",IFERROR(VLOOKUP(AK55,Tabelas!B:D,3,0),0),\"\")","v":0},{"$f":"IF(A55<>\"\",IFERROR(VLOOKUP(AL55,Tabelas!B:D,3,0),0),\"\")","v":0},{"$f":"IF(A55<>\"\",IFERROR(VLOOKUP(AM55,Tabelas!B:D,3,0),0),\"\")","v":0},{"$f":"IF(A55<>\"\",IFERROR(VLOOKUP(AN55,Tabelas!B:D,3,0),0),\"\")","v":0},{"$f":"IF(A55<>\"\",IFERROR(VLOOKUP(AO55,Tabelas!B:D,3,0),0),\"\")","v":0},{"$f":"IF(A55<>\"\",IFERROR(VLOOKUP(AP55,Tabelas!B:D,3,0),0),\"\")","v":0},{"$f":"IF(A55<>\"\",IFERROR(VLOOKUP(AQ55,Tabelas!B:D,3,0),0),\"\")","v":0},{"$f":"IF(A55<>\"\",IFERROR(VLOOKUP(AR55,Tabelas!B:D,3,0),0),\"\")","v":0},0,0,0,0,0,0,0,0,{"$f":"IF(A55<>\"\",COUNTIF(N55:AR55,\"APH\"),\"\")","v":0}]
["Rosana dos S. Pinheiro",null,null,null,null,null,null,null,null,null,null,null,null,null,null,null,null,null,null,null,null,null,null,null,null,null,null,null,null,null,null,null,null,null,null,null,null,null,null,null,null,null,null,null,{"$f":"IF(A56<>\"\",IFERROR(VLOOKUP(N56,Tabelas!B:D,3,0),0),\"\")","v":0},{"$f":"IF(A56<>\"\",IFERROR(VLOOKUP(O56,Tabelas!B:D,3,0),0),\"\")","v":0},{"$f":"IF(A56<>\"\",IFERROR(VLOOKUP(P56,Tabelas!B:D,3,0),0),\"\")","v":0},{"$f":"IF(A56<>\"\",IFERROR(VLOOKUP(Q56,Tabelas!B:D,3,0),0),\"\")","v":0},{"$f":"IF(A56<>\"\",IFERROR(VLOOKUP(R56,Tabelas!B:D,3,0),0),\"\")","v":0},{"$f":"IF(A56<>\"\",IFERROR(VLOOKUP(S56,Tabelas!B:D,3,0),0),\"\")","v":0},{"$f":"IF(A56<>\"\",IFERROR(VLOOKUP(T56,Tabelas!B:D,3,0),0),\"\")","v":0},{"$f":"IF(A56<>\"\",IFERROR(VLOOKUP(U56,Tabelas!B:D,3,0),0),\"\")","v":0},{"$f":"IF(A56<>\"\",IFERROR(VLOOKUP(V56,Tabelas!B:D,3,0),0),\"\")","v":0},{"$f":"IF(A56<>\"\",IFERROR(VLOOKUP(W56,Tabelas!B:D,3,0),0),\"\")","v":0},{"$f":"IF(A56<>\"\",IFERROR(VLOOKUP(X56,Tabelas!B:D,3,0),0),\"\")","v":0},{"$f":"IF(A56<>\"\",IFERROR(VLOOKUP(Y56,Tabelas!B:D,3,0),0),\"\")","v":0},{"$f":"IF(A56<>\"\",IFERROR(VLOOKUP(Z56,Tabelas!B:D,3,0),0),\"\")","v":0},{"$f":"IF(A56<>\"\",IFERROR(VLOOKUP(AA56,Tabelas!B:D,3,0),0),\"\")","v":0},{"$f":"IF(A56<>\"\",IFERROR(VLOOKUP(AB56,Tabelas!B:D,3,0),0),\"\")","v":0},{"$f":"IF(A56<>\"\",IFERROR(VLOOKUP(AC56,Tabelas!B:D,3,0),0),\"\")","v":0},{"$f":"IF(A56<>\"\",IFERROR(VLOOKUP(AD56,Tabelas!B:D,3,0),0),\"\")","v":0},{"$f":"IF(A56<>\"\",IFERROR(VLOOKUP(AE56,Tabelas!B:D,3,0),0),\"\")","v":0},{"$f":"IF(A56<>\"\",IFERROR(VLOOKUP(AF56,Tabelas!B:D,3,0),0),\"\")","v":0},{"$f":"IF(A56<>\"\",IFERROR(VLOOKUP(AG56,Tabelas!B:D,3,0),0),\"\")","v":0},{"$f":"IF(A56<>\"\",IFERROR(VLOOKUP(AH56,Tabelas!B:D,3,0),0),\"\")","v":0},{"$f":"IF(A56<>\"\",IFERROR(VLOOKUP(AI56,Tabelas!B:D,3,0),0),\"\")","v":0},{"$f":"IF(A56<>\"\",IFERROR(VLOOKUP(AJ56,Tabelas!B:D,3,0),0),\"\")","v":0},{"$f":"IF(A56<>\"\",IFERROR(VLOOKUP(AK56,Tabelas!B:D,3,0),0),\"\")","v":0},{"$f":"IF(A56<>\"\",IFERROR(VLOOKUP(AL56,Tabelas!B:D,3,0),0),\"\")","v":0},{"$f":"IF(A56<>\"\",IFERROR(VLOOKUP(AM56,Tabelas!B:D,3,0),0),\"\")","v":0},{"$f":"IF(A56<>\"\",IFERROR(VLOOKUP(AN56,Tabelas!B:D,3,0),0),\"\")","v":0},{"$f":"IF(A56<>\"\",IFERROR(VLOOKUP(AO56,Tabelas!B:D,3,0),0),\"\")","v":0},{"$f":"IF(A56<>\"\",IFERROR(VLOOKUP(AP56,Tabelas!B:D,3,0),0),\"\")","v":0},{"$f":"IF(A56<>\"\",IFERROR(VLOOKUP(AQ56,Tabelas!B:D,3,0),0),\"\")","v":0},{"$f":"IF(A56<>\"\",IFERROR(VLOOKUP(AR56,Tabelas!B:D,3,0),0),\"\")","v":0},0,0,0,0,0,0,0,0,{"$f":"IF(A56<>\"\",COUNTIF(N56:AR56,\"APH\"),\"\")","v":0}]
["Thayse Schurhaus",null,null,null,null,null,null,null,null,null,null,null,null,null,null,null,null,null,null,null,null,null,null,null,null,null,null,null,null,null,null,null,null,null,null,null,null,null,null,null,null,null,null,null,{"$f":"IF(A57<>\"\",IFERROR(VLOOKUP(N57,Tabelas!B:D,3,0),0),\"\")","v":0},{"$f":"IF(A57<>\"\",IFERROR(VLOOKUP(O57,Tabelas!B:D,3,0),0),\"\")","v":0},{"$f":"IF(A57<>\"\",IFERROR(VLOOKUP(P57,Tabelas!B:D,3,0),0),\"\")","v":0},{"$f":"IF(A57<>\"\",IFERROR(VLOOKUP(Q57,Tabelas!B:D,3,0),0),\"\")","v":0},{"$f":"IF(A57<>\"\",IFERROR(VLOOKUP(R57,Tabelas!B:D,3,0),0),\"\")","v":0},{"$f":"IF(A57<>\"\",IFERROR(VLOOKUP(S57,Tabelas!B:D,3,0),0),\"\")","v":0},{"$f":"IF(A57<>\"\",IFERROR(VLOOKUP(T57,Tabelas!B:D,3,0),0),\"\")","v":0},{"$f":"IF(A57<>\"\",IFERROR(VLOOKUP(U57,Tabelas!B:D,3,0),0),\"\")","v":0},{"$f":"IF(A57<>\"\",IFERROR(VLOOKUP(V57,Tabelas!B:D,3,0),0),\"\")","v":0},{"$f":"IF(A57<>\"\",IFERROR(VLOOKUP(W57,Tabelas!B:D,3,0),0),\"\")","v":0},{"$f":"IF(A57<>\"\",IFERROR(VLOOKUP(X57,Tabelas!B:D,3,0),0),\"\")","v":0},{"$f":"IF(A57<>\"\",IFERROR(VLOOKUP(Y57,Tabelas!B:D,3,0),0),\"\")","v":0},{"$f":"IF(A57<>\"\",IFERROR(VLOOKUP(Z57,Tabelas!B:D,3,0),0),\"\")","v":0},{"$f":"IF(A57<>\"\",IFERROR(VLOOKUP(AA57,Tabelas!B:D,3,0),0),\"\")","v":0},{"$f":"IF(A57<>\"\",IFERROR(VLOOKUP(AB57,Tabelas!B:D,3,0),0),\"\")","v":0},{"$f":"IF(A57<>\"\",IFERROR(VLOOKUP(AC57,Tabelas!B:D,3,0),0),\"\")","v":0},{"$f":"IF(A57<>\"\",IFERROR(VLOOKUP(AD57,Tabelas!B:D,3,0),0),\"\")","v":0},{"$f":"IF(A57<>\"\",IFERROR(VLOOKUP(AE57,Tabelas!B:D,3,0),0),\"\")","v":0},{"$f":"IF(A57<>\"\",IFERROR(VLOOKUP(AF57,Tabelas!B:D,3,0),0),\"\")","v":0},{"$f":"IF(A57<>\"\",IFERROR(VLOOKUP(AG57,Tabelas!B:D,3,0),0),\"\")","v":0},{"$f":"IF(A57<>\"\",IFERROR(VLOOKUP(AH57,Tabelas!B:D,3,0),0),\"\")","v":0},{"$f":"IF(A57<>\"\",IFERROR(VLOOKUP(AI57,Tabelas!B:D,3,0),0),\"\")","v":0},{"$f":"IF(A57<>\"\",IFERROR(VLOOKUP(AJ57,Tabelas!B:D,3,0),0),\"\")","v":0},{"$f":"IF(A57<>\"\",IFERROR(VLOOKUP(AK57,Tabelas!B:D,3,0),0),\"\")","v":0},{"$f":"IF(A57<>\"\",IFERROR(VLOOKUP(AL57,Tabelas!B:D,3,0),0),\"\")","v":0},{"$f":"IF(A57<>\"\",IFERROR(VLOOKUP(AM57,Tabelas!B:D,3,0),0),\"\")","v":0},{"$f":"IF(A57<>\"\",IFERROR(VLOOKUP(AN57,Tabelas!B:D,3,0),0),\"\")","v":0},{"$f":"IF(A57<>\"\",IFERROR(VLOOKUP(AO57,Tabelas!B:D,3,0),0),\"\")","v":0},{"$f":"IF(A57<>\"\",IFERROR(VLOOKUP(AP57,Tabelas!B:D,3,0),0),\"\")","v":0},{"$f":"IF(A57<>\"\",IFERROR(VLOOKUP(AQ57,Tabelas!B:D,3,0),0),\"\")","v":0},{"$f":"IF(A57<>\"\",IFERROR(VLOOKUP(AR57,Tabelas!B:D,3,0),0),\"\")","v":0},0,0,0,0,0,0,0,0,0]
["NOTURNO 1",null,null,null,null,null,null,null,null,null,null,null,null,null,null,null,null,null,null,null,null,null,null,null,null,null,null,null,null,null,null,null,null,null,null,null,null,null,null,null,null,null,null,null,{"$f":"IF(A58<>\"\",IFERROR(VLOOKUP(N58,Tabelas!B:D,3,0),0),\"\")","v":0},{"$f":"IF(A58<>\"\",IFERROR(VLOOKUP(O58,Tabelas!B:D,3,0),0),\"\")","v":0},{"$f":"IF(A58<>\"\",IFERROR(VLOOKUP(P58,Tabelas!B:D,3,0),0),\"\")","v":0},{"$f":"IF(A58<>\"\",IFERROR(VLOOKUP(Q58,Tabelas!B:D,3,0),0),\"\")","v":0},{"$f":"IF(A58<>\"\",IFERROR(VLOOKUP(R58,Tabelas!B:D,3,0),0),\"\")","v":0},{"$f":"IF(A58<>\"\",IFERROR(VLOOKUP(S58,Tabelas!B:D,3,0),0),\"\")","v":0},{"$f":"IF(A58<>\"\",IFERROR(VLOOKUP(T58,Tabelas!B:D,3,0),0),\"\")","v":0},{"$f":"IF(A58<>\"\",IFERROR(VLOOKUP(U58,Tabelas!B:D,3,0),0),\"\")","v":0},{"$f":"IF(A58<>\"\",IFERROR(VLOOKUP(V58,Tabelas!B:D,3,0),0),\"\")","v":0},{"$f":"IF(A58<>\"\",IFERROR(VLOOKUP(W58,Tabelas!B:D,3,0),0),\"\")","v":0},{"$f":"IF(A58<>\"\",IFERROR(VLOOKUP(X58,Tabelas!B:D,3,0),0),\"\")","v":0},{"$f":"IF(A58<>\"\",IFERROR(VLOOKUP(Y58,Tabelas!B:D,3,0),0),\"\")","v":0},{"$f":"IF(A58<>\"\",IFERROR(VLOOKUP(Z58,Tabelas!B:D,3,0),0),\"\")","v":0},{"$f":"IF(A58<>\"\",IFERROR(VLOOKUP(AA58,Tabelas!B:D,3,0),0),\"\")","v":0},{"$f":"IF(A58<>\"\",IFERROR(VLOOKUP(AB58,Tabelas!B:D,3,0),0),\"\")","v":0},{"$f":"IF(A58<>\"\",IFERROR(VLOOKUP(AC58,Tabelas!B:D,3,0),0),\"\")","v":0},{"$f":"IF(A58<>\"\",IFERROR(VLOOKUP(AD58,Tabelas!B:D,3,0),0),\"\")","v":0},{"$f":"IF(A58<>\"\",IFERROR(VLOOKUP(AE58,Tabelas!B:D,3,0),0),\"\")","v":0},{"$f":"IF(A58<>\"\",IFERROR(VLOOKUP(AF58,Tabelas!B:D,3,0),0),\"\")","v":0},{"$f":"IF(A58<>\"\",IFERROR(VLOOKUP(AG58,Tabelas!B:D,3,0),0),\"\")","v":0},{"$f":"IF(A58<>\"\",IFERROR(VLOOKUP(AH58,Tabelas!B:D,3,0),0),\"\")","v":0},{"$f":"IF(A58<>\"\",IFERROR(VLOOKUP(AI58,Tabelas!B:D,3,0),0),\"\")","v":0},{"$f":"IF(A58<>\"\",IFERROR(VLOOKUP(AJ58,Tabelas!B:D,3,0),0),\"\")","v":0},{"$f":"IF(A58<>\"\",IFERROR(VLOOKUP(AK58,Tabelas!B:D,3,0),0),\"\")","v":0},{"$f":"IF(A58<>\"\",IFERROR(VLOOKUP(AL58,Tabelas!B:D,3,0),0),\"\")","v":0},{"$f":"IF(A58<>\"\",IFERROR(VLOOKUP(AM58,Tabelas!B:D,3,0),0),\"\")","v":0},{"$f":"IF(A58<>\"\",IFERROR(VLOOKUP(AN58,Tabelas!B:D,3,0),0),\"\")","v":0},{"$f":"IF(A58<>\"\",IFERROR(VLOOKUP(AO58,Tabelas!B:D,3,0),0),\"\")","v":0},{"$f":"IF(A58<>\"\",IFERROR(VLOOKUP(AP58,Tabelas!B:D,3,0),0),\"\")","v":0},{"$f":"IF(A58<>\"\",IFERROR(VLOOKUP(AQ58,Tabelas!B:D,3,0),0),\"\")","v":0},{"$f":"IF(A58<>\"\",IFERROR(VLOOKUP(AR58,Tabelas!B:D,3,0),0),\"\")","v":0},0,0,0,0,0,0,0,0,0]
["Dartagnan Santos",null,null,null,null,null,null,null,null,null,null,null,null,null,null,null,null,null,null,null,null,null,null,null,null,null,null,null,null,null,null,null,null,null,null,null,null,null,null,null,null,null,null,null,{"$f":"IF(A59<>\"\",IFERROR(VLOOKUP(N59,Tabelas!B:D,3,0),0),\"\")","v":0},{"$f":"IF(A59<>\"\",IFERROR(VLOOKUP(O59,Tabelas!B:D,3,0),0),\"\")","v":0},{"$f":"IF(A59<>\"\",IFERROR(VLOOKUP(P59,Tabelas!B:D,3,0),0),\"\")","v":0},{"$f":"IF(A59<>\"\",IFERROR(VLOOKUP(Q59,Tabelas!B:D,3,0),0),\"\")","v":0},{"$f":"IF(A59<>\"\",IFERROR(VLOOKUP(R59,Tabelas!B:D,3,0),0),\"\")","v":0},{"$f":"IF(A59<>\"\",IFERROR(VLOOKUP(S59,Tabelas!B:D,3,0),0),\"\")","v":0},{"$f":"IF(A59<>\"\",IFERROR(VLOOKUP(T59,Tabelas!B:D,3,0),0),\"\")","v":0},{"$f":"IF(A59<>\"\",IFERROR(VLOOKUP(U59,Tabelas!B:D,3,0),0),\"\")","v":0},{"$f":"IF(A59<>\"\",IFERROR(VLOOKUP(V59,Tabelas!B:D,3,0),0),\"\")","v":0},{"$f":"IF(A59<>\"\",IFERROR(VLOOKUP(W59,Tabelas!B:D,3,0),0),\"\")","v":0},{"$f":"IF(A59<>\"\",IFERROR(VLOOKUP(X59,Tabelas!B:D,3,0),0),\"\")","v":0},{"$f":"IF(A59<>\"\",IFERROR(VLOOKUP(Y59,Tabelas!B:D,3,0),0),\"\")","v":0},{"$f":"IF(A59<>\"\",IFERROR(VLOOKUP(Z59,Tabelas!B:D,3,0),0),\"\")","v":0},{"$f":"IF(A59<>\"\",IFERROR(VLOOKUP(AA59,Tabelas!B:D,3,0),0),\"\")","v":0},{"$f":"IF(A59<>\"\",IFERROR(VLOOKUP(AB59,Tabelas!B:D,3,0),0),\"\")","v":0},{"$f":"IF(A59<>\"\",IFERROR(VLOOKUP(AC59,Tabelas!B:D,3,0),0),\"\")","v":0},{"$f":"IF(A59<>\"\",IFERROR(VLOOKUP(AD59,Tabelas!B:D,3,0),0),\"\")","v":0},{"$f":"IF(A59<>\"\",IFERROR(VLOOKUP(AE59,Tabelas!B:D,3,0),0),\"\")","v":0},{"$f":"IF(A59<>\"\",IFERROR(VLOOKUP(AF59,Tabelas!B:D,3,0),0),\"\")","v":0},{"$f":"IF(A59<>\"\",IFERROR(VLOOKUP(AG59,Tabelas!B:D,3,0),0),\"\")","v":0},{"$f":"IF(A59<>\"\",IFERROR(VLOOKUP(AH59,Tabelas!B:D,3,0),0),\"\")","v":0},{"$f":"IF(A59<>\"\",IFERROR(VLOOKUP(AI59,Tabelas!B:D,3,0),0),\"\")","v":0},{"$f":"IF(A59<>\"\",IFERROR(VLOOKUP(AJ59,Tabelas!B:D,3,0),0),\"\")","v":0},{"$f":"IF(A59<>\"\",IFERROR(VLOOKUP(AK59,Tabelas!B:D,3,0),0),\"\")","v":0},{"$f":"IF(A59<>\"\",IFERROR(VLOOKUP(AL59,Tabelas!B:D,3,0),0),\"\")","v":0},{"$f":"IF(A59<>\"\",IFERROR(VLOOKUP(AM59,Tabelas!B:D,3,0),0),\"\")","v":0},{"$f":"IF(A59<>\"\",IFERROR(VLOOKUP(AN59,Tabelas!B:D,3,0),0),\"\")","v":0},{"$f":"IF(A59<>\"\",IFERROR(VLOOKUP(AO59,Tabelas!B:D,3,0),0),\"\")","v":0},{"$f":"IF(A59<>\"\",IFERROR(VLOOKUP(AP59,Tabelas!B:D,3,0),0),\"\")","v":0},{"$f":"IF(A59<>\"\",IFERROR(VLOOKUP(AQ59,Tabelas!B:D,3,0),0),\"\")","v":0},{"$f":"IF(A59<>\"\",IFERROR(VLOOKUP(AR59,Tabelas!B:D,3,0),0),\"\")","v":0},0,0,0,0,0,0,0,0,0]
["Elizabeti Czimikoski",null,null,null,null,null,null,null,null,null,null,null,null,null,null,null,null,null,null,null,null,null,null,null,null,null,null,null,null,null,null,null,null,null,null,null,null,null,null,null,null,null,null,null,{"$f":"IF(A60<>\"\",IFERROR(VLOOKUP(N60,Tabelas!B:D,3,0),0),\"\")","v":0},{"$f":"IF(A60<>\"\",IFERROR(VLOOKUP(O60,Tabelas!B:D,3,0),0),\"\")","v":0},{"$f":"IF(A60<>\"\",IFERROR(VLOOKUP(P60,Tabelas!B:D,3,0),0),\"\")","v":0},{"$f":"IF(A60<>\"\",IFERROR(VLOOKUP(Q60,Tabelas!B:D,3,0),0),\"\")","v":0},{"$f":"IF(A60<>\"\",IFERROR(VLOOKUP(R60,Tabelas!B:D,3,0),0),\"\")","v":0},{"$f":"IF(A60<>\"\",IFERROR(VLOOKUP(S60,Tabelas!B:D,3,0),0),\"\")","v":0},{"$f":"IF(A60<>\"\",IFERROR(VLOOKUP(T60,Tabelas!B:D,3,0),0),\"\")","v":0},{"$f":"IF(A60<>\"\",IFERROR(VLOOKUP(U60,Tabelas!B:D,3,0),0),\"\")","v":0},{"$f":"IF(A60<>\"\",IFERROR(VLOOKUP(V60,Tabelas!B:D,3,0),0),\"\")","v":0},{"$f":"IF(A60<>\"\",IFERROR(VLOOKUP(W60,Tabelas!B:D,3,0),0),\"\")","v":0},{"$f":"IF(A60<>\"\",IFERROR(VLOOKUP(X60,Tabelas!B:D,3,0),0),\"\")","v":0},{"$f":"IF(A60<>\"\",IFERROR(VLOOKUP(Y60,Tabelas!B:D,3,0),0),\"\")","v":0},{"$f":"IF(A60<>\"\",IFERROR(VLOOKUP(Z60,Tabelas!B:D,3,0),0),\"\")","v":0},{"$f":"IF(A60<>\"\",IFERROR(VLOOKUP(AA60,Tabelas!B:D,3,0),0),\"\")","v":0},{"$f":"IF(A60<>\"\",IFERROR(VLOOKUP(AB60,Tabelas!B:D,3,0),0),\"\")","v":0},{"$f":"IF(A60<>\"\",IFERROR(VLOOKUP(AC60,Tabelas!B:D,3,0),0),\"\")","v":0},{"$f":"IF(A60<>\"\",IFERROR(VLOOKUP(AD60,Tabelas!B:D,3,0),0),\"\")","v":0},{"$f":"IF(A60<>\"\",IFERROR(VLOOKUP(AE60,Tabelas!B:D,3,0),0),\"\")","v":0},{"$f":"IF(A60<>\"\",IFERROR(VLOOKUP(AF60,Tabelas!B:D,3,0),0),\"\")","v":0},{"$f":"IF(A60<>\"\",IFERROR(VLOOKUP(AG60,Tabelas!B:D,3,0),0),\"\")","v":0},{"$f":"IF(A60<>\"\",IFERROR(VLOOKUP(AH60,Tabelas!B:D,3,0),0),\"\")","v":0},{"$f":"IF(A60<>\"\",IFERROR(VLOOKUP(AI60,Tabelas!B:D,3,0),0),\"\")","v":0},{"$f":"IF(A60<>\"\",IFERROR(VLOOKUP(AJ60,Tabelas!B:D,3,0),0),\"\")","v":0},{"$f":"IF(A60<>\"\",IFERROR(VLOOKUP(AK60,Tabelas!B:D,3,0),0),\"\")","v":0},{"$f":"IF(A60<>\"\",IFERROR(VLOOKUP(AL60,Tabelas!B:D,3,0),0),\"\")","v":0},{"$f":"IF(A60<>\"\",IFERROR(VLOOKUP(AM60,Tabelas!B:D,3,0),0),\"\")","v":0},{"$f":"IF(A60<>\"\",IFERROR(VLOOKUP(AN60,Tabelas!B:D,3,0),0),\"\")","v":0},{"$f":"IF(A60<>\"\",IFERROR(VLOOKUP(AO60,Tabelas!B:D,3,0),0),\"\")","v":0},{"$f":"IF(A60<>\"\",IFERROR(VLOOKUP(AP60,Tabelas!B:D,3,0),0),\"\")","v":0},{"$f":"IF(A60<>\"\",IFERROR(VLOOKUP(AQ60,Tabelas!B:D,3,0),0),\"\")","v":0},{"$f":"IF(A60<>\"\",IFERROR(VLOOKUP(AR60,Tabelas!B:D,3,0),0),\"\")","v":0},0,0,0,0,0,0,0,0,0]
["Kátia Steinbach",null,null,null,null,null,null,null,null,null,null,null,null,null,null,null,null,null,null,null,null,null,null,null,null,null,null,null,null,null,null,null,null,null,null,null,null,null,null,null,null,null,null,null,{"$f":"IF(A61<>\"\",IFERROR(VLOOKUP(N61,Tabelas!B:D,3,0),0),\"\")","v":0},{"$f":"IF(A61<>\"\",IFERROR(VLOOKUP(O61,Tabelas!B:D,3,0),0),\"\")","v":0},{"$f":"IF(A61<>\"\",IFERROR(VLOOKUP(P61,Tabelas!B:D,3,0),0),\"\")","v":0},{"$f":"IF(A61<>\"\",IFERROR(VLOOKUP(Q61,Tabelas!B:D,3,0),0),\"\")","v":0},{"$f":"IF(A61<>\"\",IFERROR(VLOOKUP(R61,Tabelas!B:D,3,0),0),\"\")","v":0},{"$f":"IF(A61<>\"\",IFERROR(VLOOKUP(S61,Tabelas!B:D,3,0),0),\"\")","v":0},{"$f":"IF(A61<>\"\",IFERROR(VLOOKUP(T61,Tabelas!B:D,3,0),0),\"\")","v":0},{"$f":"IF(A61<>\"\",IFERROR(VLOOKUP(U61,Tabelas!B:D,3,0),0),\"\")","v":0},{"$f":"IF(A61<>\"\",IFERROR(VLOOKUP(V61,Tabelas!B:D,3,0),0),\"\")","v":0},{"$f":"IF(A61<>\"\",IFERROR(VLOOKUP(W61,Tabelas!B:D,3,0),0),\"\")","v":0},{"$f":"IF(A61<>\"\",IFERROR(VLOOKUP(X61,Tabelas!B:D,3,0),0),\"\")","v":0},{"$f":"IF(A61<>\"\",IFERROR(VLOOKUP(Y61,Tabelas!B:D,3,0),0),\"\")","v":0},{"$f":"IF(A61<>\"\",IFERROR(VLOOKUP(Z61,Tabelas!B:D,3,0),0),\"\")","v":0},{"$f":"IF(A61<>\"\",IFERROR(VLOOKUP(AA61,Tabelas!B:D,3,0),0),\"\")","v":0},{"$f":"IF(A61<>\"\",IFERROR(VLOOKUP(AB61,Tabelas!B:D,3,0),0),\"\")","v":0},{"$f":"IF(A61<>\"\",IFERROR(VLOOKUP(AC61,Tabelas!B:D,3,0),0),\"\")","v":0},{"$f":"IF(A61<>\"\",IFERROR(VLOOKUP(AD61,Tabelas!B:D,3,0),0),\"\")","v":0},{"$f":"IF(A61<>\"\",IFERROR(VLOOKUP(AE61,Tabelas!B:D,3,0),0),\"\")","v":0},{"$f":"IF(A61<>\"\",IFERROR(VLOOKUP(AF61,Tabelas!B:D,3,0),0),\"\")","v":0},{"$f":"IF(A61<>\"\",IFERROR(VLOOKUP(AG61,Tabelas!B:D,3,0),0),\"\")","v":0},{"$f":"IF(A61<>\"\",IFERROR(VLOOKUP(AH61,Tabelas!B:D,3,0),0),\"\")","v":0},{"$f":"IF(A61<>\"\",IFERROR(VLOOKUP(AI61,Tabelas!B:D,3,0),0),\"\")","v":0},{"$f":"IF(A61<>\"\",IFERROR(VLOOKUP(AJ61,Tabelas!B:D,3,0),0),\"\")","v":0},{"$f":"IF(A61<>\"\",IFERROR(VLOOKUP(AK61,Tabelas!B:D,3,0),0),\"\")","v":0},{"$f":"IF(A61<>\"\",IFERROR(VLOOKUP(AL61,Tabelas!B:D,3,0),0),\"\")","v":0},{"$f":"IF(A61<>\"\",IFERROR(VLOOKUP(AM61,Tabelas!B:D,3,0),0),\"\")","v":0},{"$f":"IF(A61<>\"\",IFERROR(VLOOKUP(AN61,Tabelas!B:D,3,0),0),\"\")","v":0},{"$f":"IF(A61<>\"\",IFERROR(VLOOKUP(AO61,Tabelas!B:D,3,0),0),\"\")","v":0},{"$f":"IF(A61<>\"\",IFERROR(VLOOKUP(AP61,Tabelas!B:D,3,0),0),\"\")","v":0},{"$f":"IF(A61<>\"\",IFERROR(VLOOKUP(AQ61,Tabelas!B:D,3,0),0),\"\")","v":0},{"$f":"IF(A61<>\"\",IFERROR(VLOOKUP(AR61,Tabelas!B:D,3,0),0),\"\")","v":0},0,0,0,0,0,0,0,0,0]
["Regina Henriques",null,null,null,null,null,null,null,null,null,null,null,null,null,null,null,null,null,null,null,null,null,null,null,null,null,null,null,null,null,null,null,null,null,null,null,null,null,null,null,null,null,null,null,{"$f":"IF(A62<>\"\",IFERROR(VLOOKUP(N62,Tabelas!B:D,3,0),0),\"\")","v":0},{"$f":"IF(A62<>\"\",IFERROR(VLOOKUP(O62,Tabelas!B:D,3,0),0),\"\")","v":0},{"$f":"IF(A62<>\"\",IFERROR(VLOOKUP(P62,Tabelas!B:D,3,0),0),\"\")","v":0},{"$f":"IF(A62<>\"\",IFERROR(VLOOKUP(Q62,Tabelas!B:D,3,0),0),\"\")","v":0},{"$f":"IF(A62<>\"\",IFERROR(VLOOKUP(R62,Tabelas!B:D,3,0),0),\"\")","v":0},{"$f":"IF(A62<>\"\",IFERROR(VLOOKUP(S62,Tabelas!B:D,3,0),0),\"\")","v":0},{"$f":"IF(A62<>\"\",IFERROR(VLOOKUP(T62,Tabelas!B:D,3,0),0),\"\")","v":0},{"$f":"IF(A62<>\"\",IFERROR(VLOOKUP(U62,Tabelas!B:D,3,0),0),\"\")","v":0},{"$f":"IF(A62<>\"\",IFERROR(VLOOKUP(V62,Tabelas!B:D,3,0),0),\"\")","v":0},{"$f":"IF(A62<>\"\",IFERROR(VLOOKUP(W62,Tabelas!B:D,3,0),0),\"\")","v":0},{"$f":"IF(A62<>\"\",IFERROR(VLOOKUP(X62,Tabelas!B:D,3,0),0),\"\")","v":0},{"$f":"IF(A62<>\"\",IFERROR(VLOOKUP(Y62,Tabelas!B:D,3,0),0),\"\")","v":0},{"$f":"IF(A62<>\"\",IFERROR(VLOOKUP(Z62,Tabelas!B:D,3,0),0),\"\")","v":0},{"$f":"IF(A62<>\"\",IFERROR(VLOOKUP(AA62,Tabelas!B:D,3,0),0),\"\")","v":0},{"$f":"IF(A62<>\"\",IFERROR(VLOOKUP(AB62,Tabelas!B:D,3,0),0),\"\")","v":0},{"$f":"IF(A62<>\"\",IFERROR(VLOOKUP(AC62,Tabelas!B:D,3,0),0),\"\")","v":0},{"$f":"IF(A62<>\"\",IFERROR(VLOOKUP(AD62,Tabelas!B:D,3,0),0),\"\")","v":0},{"$f":"IF(A62<>\"\",IFERROR(VLOOKUP(AE62,Tabelas!B:D,3,0),0),\"\")","v":0},{"$f":"IF(A62<>\"\",IFERROR(VLOOKUP(AF62,Tabelas!B:D,3,0),0),\"\")","v":0},{"$f":"IF(A62<>\"\",IFERROR(VLOOKUP(AG62,Tabelas!B:D,3,0),0),\"\")","v":0},{"$f":"IF(A62<>\"\",IFERROR(VLOOKUP(AH62,Tabelas!B:D,3,0),0),\"\")","v":0},{"$f":"IF(A62<>\"\",IFERROR(VLOOKUP(AI62,Tabelas!B:D,3,0),0),\"\")","v":0},{"$f":"IF(A62<>\"\",IFERROR(VLOOKUP(AJ62,Tabelas!B:D,3,0),0),\"\")","v":0},{"$f":"IF(A62<>\"\",IFERROR(VLOOKUP(AK62,Tabelas!B:D,3,0),0),\"\")","v":0},{"$f":"IF(A62<>\"\",IFERROR(VLOOKUP(AL62,Tabelas!B:D,3,0),0),\"\")","v":0},{"$f":"IF(A62<>\"\",IFERROR(VLOOKUP(AM62,Tabelas!B:D,3,0),0),\"\")","v":0},{"$f":"IF(A62<>\"\",IFERROR(VLOOKUP(AN62,Tabelas!B:D,3,0),0),\"\")","v":0},{"$f":"IF(A62<>\"\",IFERROR(VLOOKUP(AO62,Tabelas!B:D,3,0),0),\"\")","v":0},{"$f":"IF(A62<>\"\",IFERROR(VLOOKUP(AP62,Tabelas!B:D,3,0),0),\"\")","v":0},{"$f":"IF(A62<>\"\",IFERROR(VLOOKUP(AQ62,Tabelas!B:D,3,0),0),\"\")","v":0},{"$f":"IF(A62<>\"\",IFERROR(VLOOKUP(AR62,Tabelas!B:D,3,0),0),\"\")","v":0},0,0,0,0,0,0,0,0,0]
["Viviane I. M. Coelho",null,null,null,null,null,null,null,null,null,null,null,null,null,null,null,null,null,null,null,null,null,null,null,null,null,null,null,null,null,null,null,null,null,null,null,null,null,null,null,null,null,null,null,{"$f":"IF(A63<>\"\",IFERROR(VLOOKUP(N63,Tabelas!B:D,3,0),0),\"\")","v":0},{"$f":"IF(A63<>\"\",IFERROR(VLOOKUP(O63,Tabelas!B:D,3,0),0),\"\")","v":0},{"$f":"IF(A63<>\"\",IFERROR(VLOOKUP(P63,Tabelas!B:D,3,0),0),\"\")","v":0},{"$f":"IF(A63<>\"\",IFERROR(VLOOKUP(Q63,Tabelas!B:D,3,0),0),\"\")","v":0},{"$f":"IF(A63<>\"\",IFERROR(VLOOKUP(R63,Tabelas!B:D,3,0),0),\"\")","v":0},{"$f":"IF(A63<>\"\",IFERROR(VLOOKUP(S63,Tabelas!B:D,3,0),0),\"\")","v":0},{"$f":"IF(A63<>\"\",IFERROR(VLOOKUP(T63,Tabelas!B:D,3,0),0),\"\")","v":0},{"$f":"IF(A63<>\"\",IFERROR(VLOOKUP(U63,Tabelas!B:D,3,0),0),\"\")","v":0},{"$f":"IF(A63<>\"\",IFERROR(VLOOKUP(V63,Tabelas!B:D,3,0),0),\"\")","v":0},{"$f":"IF(A63<>\"\",IFERROR(VLOOKUP(W63,Tabelas!B:D,3,0),0),\"\")","v":0},{"$f":"IF(A63<>\"\",IFERROR(VLOOKUP(X63,Tabelas!B:D,3,0),0),\"\")","v":0},{"$f":"IF(A63<>\"\",IFERROR(VLOOKUP(Y63,Tabelas!B:D,3,0),0),\"\")","v":0},{"$f":"IF(A63<>\"\",IFERROR(VLOOKUP(Z63,Tabelas!B:D,3,0),0),\"\")","v":0},{"$f":"IF(A63<>\"\",IFERROR(VLOOKUP(AA63,Tabelas!B:D,3,0),0),\"\")","v":0},{"$f":"IF(A63<>\"\",IFERROR(VLOOKUP(AB63,Tabelas!B:D,3,0),0),\"\")","v":0},{"$f":"IF(A63<>\"\",IFERROR(VLOOKUP(AC63,Tabelas!B:D,3,0),0),\"\")","v":0},{"$f":"IF(A63<>\"\",IFERROR(VLOOKUP(AD63,Tabelas!B:D,3,0),0),\"\")","v":0},{"$f":"IF(A63<>\"\",IFERROR(VLOOKUP(AE63,Tabelas!B:D,3,0),0),\"\")","v":0},{"$f":"IF(A63<>\"\",IFERROR(VLOOKUP(AF63,Tabelas!B:D,3,0),0),\"\")","v":0},{"$f":"IF(A63<>\"\",IFERROR(VLOOKUP(AG63,Tabelas!B:D,3,0),0),\"\")","v":0},{"$f":"IF(A63<>\"\",IFERROR(VLOOKUP(AH63,Tabelas!B:D,3,0),0),\"\")","v":0},{"$f":"IF(A63<>\"\",IFERROR(VLOOKUP(AI63,Tabelas!B:D,3,0),0),\"\")","v":0},{"$f":"IF(A63<>\"\",IFERROR(VLOOKUP(AJ63,Tabelas!B:D,3,0),0),\"\")","v":0},{"$f":"IF(A63<>\"\",IFERROR(VLOOKUP(AK63,Tabelas!B:D,3,0),0),\"\")","v":0},{"$f":"IF(A63<>\"\",IFERROR(VLOOKUP(AL63,Tabelas!B:D,3,0),0),\"\")","v":0},{"$f":"IF(A63<>\"\",IFERROR(VLOOKUP(AM63,Tabelas!B:D,3,0),0),\"\")","v":0},{"$f":"IF(A63<>\"\",IFERROR(VLOOKUP(AN63,Tabelas!B:D,3,0),0),\"\")","v":0},{"$f":"IF(A63<>\"\",IFERROR(VLOOKUP(AO63,Tabelas!B:D,3,0),0),\"\")","v":0},{"$f":"IF(A63<>\"\",IFERROR(VLOOKUP(AP63,Tabelas!B:D,3,0),0),\"\")","v":0},{"$f":"IF(A63<>\"\",IFERROR(VLOOKUP(AQ63,Tabelas!B:D,3,0),0),\"\")","v":0},{"$f":"IF(A63<>\"\",IFERROR(VLOOKUP(AR63,Tabelas!B:D,3,0),0),\"\")","v":0},0,0,0,0,0,0,0,0,0]
["NOTURNO 2",null,null,null,null,null,null,null,null,null,null,null,null,null,null,null,null,null,null,null,null,null,null,null,null,null,null,null,null,null,null,null,null,null,null,null,null,null,null,null,null,null,null,null,{"$f":"IF(A64<>\"\",IFERROR(VLOOKUP(N64,Tabelas!B:D,3,0),0),\"\")","v":0},{"$f":"IF(A64<>\"\",IFERROR(VLOOKUP(O64,Tabelas!B:D,3,0),0),\"\")","v":0},{"$f":"IF(A64<>\"\",IFERROR(VLOOKUP(P64,Tabelas!B:D,3,0),0),\"\")","v":0},{"$f":"IF(A64<>\"\",IFERROR(VLOOKUP(Q64,Tabelas!B:D,3,0),0),\"\")","v":0},{"$f":"IF(A64<>\"\",IFERROR(VLOOKUP(R64,Tabelas!B:D,3,0),0),\"\")","v":0},{"$f":"IF(A64<>\"\",IFERROR(VLOOKUP(S64,Tabelas!B:D,3,0),0),\"\")","v":0},{"$f":"IF(A64<>\"\",IFERROR(VLOOKUP(T64,Tabelas!B:D,3,0),0),\"\")","v":0},{"$f":"IF(A64<>\"\",IFERROR(VLOOKUP(U64,Tabelas!B:D,3,0),0),\"\")","v":0},{"$f":"IF(A64<>\"\",IFERROR(VLOOKUP(V64,Tabelas!B:D,3,0),0),\"\")","v":0},{"$f":"IF(A64<>\"\",IFERROR(VLOOKUP(W64,Tabelas!B:D,3,0),0),\"\")","v":0},{"$f":"IF(A64<>\"\",IFERROR(VLOOKUP(X64,Tabelas!B:D,3,0),0),\"\")","v":0},{"$f":"IF(A64<>\"\",IFERROR(VLOOKUP(Y64,Tabelas!B:D,3,0),0),\"\")","v":0},{"$f":"IF(A64<>\"\",IFERROR(VLOOKUP(Z64,Tabelas!B:D,3,0),0),\"\")","v":0},{"$f":"IF(A64<>\"\",IFERROR(VLOOKUP(AA64,Tabelas!B:D,3,0),0),\"\")","v":0},{"$f":"IF(A64<>\"\",IFERROR(VLOOKUP(AB64,Tabelas!B:D,3,0),0),\"\")","v":0},{"$f":"IF(A64<>\"\",IFERROR(VLOOKUP(AC64,Tabelas!B:D,3,0),0),\"\")","v":0},{"$f":"IF(A64<>\"\",IFERROR(VLOOKUP(AD64,Tabelas!B:D,3,0),0),\"\")","v":0},{"$f":"IF(A64<>\"\",IFERROR(VLOOKUP(AE64,Tabelas!B:D,3,0),0),\"\")","v":0},{"$f":"IF(A64<>\"\",IFERROR(VLOOKUP(AF64,Tabelas!B:D,3,0),0),\"\")","v":0},{"$f":"IF(A64<>\"\",IFERROR(VLOOKUP(AG64,Tabelas!B:D,3,0),0),\"\")","v":0},{"$f":"IF(A64<>\"\",IFERROR(VLOOKUP(AH64,Tabelas!B:D,3,0),0),\"\")","v":0},{"$f":"IF(A64<>\"\",IFERROR(VLOOKUP(AI64,Tabelas!B:D,3,0),0),\"\")","v":0},{"$f":"IF(A64<>\"\",IFERROR(VLOOKUP(AJ64,Tabelas!B:D,3,0),0),\"\")","v":0},{"$f":"IF(A64<>\"\",IFERROR(VLOOKUP(AK64,Tabelas!B:D,3,0),0),\"\")","v":0},{"$f":"IF(A64<>\"\",IFERROR(VLOOKUP(AL64,Tabelas!B:D,3,0),0),\"\")","v":0},{"$f":"IF(A64<>\"\",IFERROR(VLOOKUP(AM64,Tabelas!B:D,3,0),0),\"\")","v":0},{"$f":"IF(A64<>\"\",IFERROR(VLOOKUP(AN64,Tabelas!B:D,3,0),0),\"\")","v":0},{"$f":"IF(A64<>\"\",IFERROR(VLOOKUP(AO64,Tabelas!B:D,3,0),0),\"\")","v":0},{"$f":"IF(A64<>\"\",IFERROR(VLOOKUP(AP64,Tabelas!B:D,3,0),0),\"\")","v":0},{"$f":"IF(A64<>\"\",IFERROR(VLOOKUP(AQ64,Tabelas!B:D,3,0),0),\"\")","v":0},{"$f":"IF(A64<>\"\",IFERROR(VLOOKUP(AR64,Tabelas!B:D,3,0),0),\"\")","v":0},0,0,0,0,0,0,0,0,0]
["Adriana K. Oliveira",null,null,null,null,null,null,null,null,null,null,null,null,null,null,null,null,null,null,null,null,null,null,null,null,null,null,null,null,null,null,null,null,null,null,null,null,null,null,null,null,null,null,null,{"$f":"IF(A65<>\"\",IFERROR(VLOOKUP(N65,Tabelas!B:D,3,0),0),\"\")","v":0},{"$f":"IF(A65<>\"\",IFERROR(VLOOKUP(O65,Tabelas!B:D,3,0),0),\"\")","v":0},{"$f":"IF(A65<>\"\",IFERROR(VLOOKUP(P65,Tabelas!B:D,3,0),0),\"\")","v":0},{"$f":"IF(A65<>\"\",IFERROR(VLOOKUP(Q65,Tabelas!B:D,3,0),0),\"\")","v":0},{"$f":"IF(A65<>\"\",IFERROR(VLOOKUP(R65,Tabelas!B:D,3,0),0),\"\")","v":0},{"$f":"IF(A65<>\"\",IFERROR(VLOOKUP(S65,Tabelas!B:D,3,0),0),\"\")","v":0},{"$f":"IF(A65<>\"\",IFERROR(VLOOKUP(T65,Tabelas!B:D,3,0),0),\"\")","v":0},{"$f":"IF(A65<>\"\",IFERROR(VLOOKUP(U65,Tabelas!B:D,3,0),0),\"\")","v":0},{"$f":"IF(A65<>\"\",IFERROR(VLOOKUP(V65,Tabelas!B:D,3,0),0),\"\")","v":0},{"$f":"IF(A65<>\"\",IFERROR(VLOOKUP(W65,Tabelas!B:D,3,0),0),\"\")","v":0},{"$f":"IF(A65<>\"\",IFERROR(VLOOKUP(X65,Tabelas!B:D,3,0),0),\"\")","v":0},{"$f":"IF(A65<>\"\",IFERROR(VLOOKUP(Y65,Tabelas!B:D,3,0),0),\"\")","v":0},{"$f":"IF(A65<>\"\",IFERROR(VLOOKUP(Z65,Tabelas!B:D,3,0),0),\"\")","v":0},{"$f":"IF(A65<>\"\",IFERROR(VLOOKUP(AA65,Tabelas!B:D,3,0),0),\"\")","v":0},{"$f":"IF(A65<>\"\",IFERROR(VLOOKUP(AB65,Tabelas!B:D,3,0),0),\"\")","v":0},{"$f":"IF(A65<>\"\",IFERROR(VLOOKUP(AC65,Tabelas!B:D,3,0),0),\"\")","v":0},{"$f":"IF(A65<>\"\",IFERROR(VLOOKUP(AD65,Tabelas!B:D,3,0),0),\"\")","v":0},{"$f":"IF(A65<>\"\",IFERROR(VLOOKUP(AE65,Tabelas!B:D,3,0),0),\"\")","v":0},{"$f":"IF(A65<>\"\",IFERROR(VLOOKUP(AF65,Tabelas!B:D,3,0),0),\"\")","v":0},{"$f":"IF(A65<>\"\",IFERROR(VLOOKUP(AG65,Tabelas!B:D,3,0),0),\"\")","v":0},{"$f":"IF(A65<>\"\",IFERROR(VLOOKUP(AH65,Tabelas!B:D,3,0),0),\"\")","v":0},{"$f":"IF(A65<>\"\",IFERROR(VLOOKUP(AI65,Tabelas!B:D,3,0),0),\"\")","v":0},{"$f":"IF(A65<>\"\",IFERROR(VLOOKUP(AJ65,Tabelas!B:D,3,0),0),\"\")","v":0},{"$f":"IF(A65<>\"\",IFERROR(VLOOKUP(AK65,Tabelas!B:D,3,0),0),\"\")","v":0},{"$f":"IF(A65<>\"\",IFERROR(VLOOKUP(AL65,Tabelas!B:D,3,0),0),\"\")","v":0},{"$f":"IF(A65<>\"\",IFERROR(VLOOKUP(AM65,Tabelas!B:D,3,0),0),\"\")","v":0},{"$f":"IF(A65<>\"\",IFERROR(VLOOKUP(AN65,Tabelas!B:D,3,0),0),\"\")","v":0},{"$f":"IF(A65<>\"\",IFERROR(VLOOKUP(AO65,Tabelas!B:D,3,0),0),\"\")","v":0},{"$f":"IF(A65<>\"\",IFERROR(VLOOKUP(AP65,Tabelas!B:D,3,0),0),\"\")","v":0},{"$f":"IF(A65<>\"\",IFERROR(VLOOKUP(AQ65,Tabelas!B:D,3,0),0),\"\")","v":0},{"$f":"IF(A65<>\"\",IFERROR(VLOOKUP(AR65,Tabelas!B:D,3,0),0),\"\")","v":0},0,0,0,0,0,0,0,0,0]
["Cássia P. Scappo",null,null,null,null,null,null,null,null,null,null,null,null,null,null,null,null,null,null,null,null,null,null,null,null,null,null,null,null,null,null,null,null,null,null,null,null,null,null,null,null,null,null,null,{"$f":"IF(A66<>\"\",IFERROR(VLOOKUP(N66,Tabelas!B:D,3,0),0),\"\")","v":0},{"$f":"IF(A66<>\"\",IFERROR(VLOOKUP(O66,Tabelas!B:D,3,0),0),\"\")","v":0},{"$f":"IF(A66<>\"\",IFERROR(VLOOKUP(P66,Tabelas!B:D,3,0),0),\"\")","v":0},{"$f":"IF(A66<>\"\",IFERROR(VLOOKUP(Q66,Tabelas!B:D,3,0),0),\"\")","v":0},{"$f":"IF(A66<>\"\",IFERROR(VLOOKUP(R66,Tabelas!B:D,3,0),0),\"\")","v":0},{"$f":"IF(A66<>\"\",IFERROR(VLOOKUP(S66,Tabelas!B:D,3,0),0),\"\")","v":0},{"$f":"IF(A66<>\"\",IFERROR(VLOOKUP(T66,Tabelas!B:D,3,0),0),\"\")","v":0},{"$f":"IF(A66<>\"\",IFERROR(VLOOKUP(U66,Tabelas!B:D,3,0),0),\"\")","v":0},{"$f":"IF(A66<>\"\",IFERROR(VLOOKUP(V66,Tabelas!B:D,3,0),0),\"\")","v":0},{"$f":"IF(A66<>\"\",IFERROR(VLOOKUP(W66,Tabelas!B:D,3,0),0),\"\")","v":0},{"$f":"IF(A66<>\"\",IFERROR(VLOOKUP(X66,Tabelas!B:D,3,0),0),\"\")","v":0},{"$f":"IF(A66<>\"\",IFERROR(VLOOKUP(Y66,Tabelas!B:D,3,0),0),\"\")","v":0},{"$f":"IF(A66<>\"\",IFERROR(VLOOKUP(Z66,Tabelas!B:D,3,0),0),\"\")","v":0},{"$f":"IF(A66<>\"\",IFERROR(VLOOKUP(AA66,Tabelas!B:D,3,0),0),\"\")","v":0},{"$f":"IF(A66<>\"\",IFERROR(VLOOKUP(AB66,Tabelas!B:D,3,0),0),\"\")","v":0},{"$f":"IF(A66<>\"\",IFERROR(VLOOKUP(AC66,Tabelas!B:D,3,0),0),\"\")","v":0},{"$f":"IF(A66<>\"\",IFERROR(VLOOKUP(AD66,Tabelas!B:D,3,0),0),\"\")","v":0},{"$f":"IF(A66<>\"\",IFERROR(VLOOKUP(AE66,Tabelas!B:D,3,0),0),\"\")","v":0},{"$f":"IF(A66<>\"\",IFERROR(VLOOKUP(AF66,Tabelas!B:D,3,0),0),\"\")","v":0},{"$f":"IF(A66<>\"\",IFERROR(VLOOKUP(AG66,Tabelas!B:D,3,0),0),\"\")","v":0},{"$f":"IF(A66<>\"\",IFERROR(VLOOKUP(AH66,Tabelas!B:D,3,0),0),\"\")","v":0},{"$f":"IF(A66<>\"\",IFERROR(VLOOKUP(AI66,Tabelas!B:D,3,0),0),\"\")","v":0},{"$f":"IF(A66<>\"\",IFERROR(VLOOKUP(AJ66,Tabelas!B:D,3,0),0),\"\")","v":0},{"$f":"IF(A66<>\"\",IFERROR(VLOOKUP(AK66,Tabelas!B:D,3,0),0),\"\")","v":0},{"$f":"IF(A66<>\"\",IFERROR(VLOOKUP(AL66,Tabelas!B:D,3,0),0),\"\")","v":0},{"$f":"IF(A66<>\"\",IFERROR(VLOOKUP(AM66,Tabelas!B:D,3,0),0),\"\")","v":0},{"$f":"IF(A66<>\"\",IFERROR(VLOOKUP(AN66,Tabelas!B:D,3,0),0),\"\")","v":0},{"$f":"IF(A66<>\"\",IFERROR(VLOOKUP(AO66,Tabelas!B:D,3,0),0),\"\")","v":0},{"$f":"IF(A66<>\"\",IFERROR(VLOOKUP(AP66,Tabelas!B:D,3,0),0),\"\")","v":0},{"$f":"IF(A66<>\"\",IFERROR(VLOOKUP(AQ66,Tabelas!B:D,3,0),0),\"\")","v":0},{"$f":"IF(A66<>\"\",IFERROR(VLOOKUP(AR66,Tabelas!B:D,3,0),0),\"\")","v":0},0,0,0,0,0,0,0,0,0]
["Cristiana  Sousa",null,null,null,null,null,null,null,null,null,null,null,null,null,null,null,null,null,null,null,null,null,null,null,null,null,null,null,null,null,null,null,null,null,null,null,null,null,null,null,null,null,null,null,{"$f":"IF(A67<>\"\",IFERROR(VLOOKUP(N67,Tabelas!B:D,3,0),0),\"\")","v":0},{"$f":"IF(A67<>\"\",IFERROR(VLOOKUP(O67,Tabelas!B:D,3,0),0),\"\")","v":0},{"$f":"IF(A67<>\"\",IFERROR(VLOOKUP(P67,Tabelas!B:D,3,0),0),\"\")","v":0},{"$f":"IF(A67<>\"\",IFERROR(VLOOKUP(Q67,Tabelas!B:D,3,0),0),\"\")","v":0},{"$f":"IF(A67<>\"\",IFERROR(VLOOKUP(R67,Tabelas!B:D,3,0),0),\"\")","v":0},{"$f":"IF(A67<>\"\",IFERROR(VLOOKUP(S67,Tabelas!B:D,3,0),0),\"\")","v":0},{"$f":"IF(A67<>\"\",IFERROR(VLOOKUP(T67,Tabelas!B:D,3,0),0),\"\")","v":0},{"$f":"IF(A67<>\"\",IFERROR(VLOOKUP(U67,Tabelas!B:D,3,0),0),\"\")","v":0},{"$f":"IF(A67<>\"\",IFERROR(VLOOKUP(V67,Tabelas!B:D,3,0),0),\"\")","v":0},{"$f":"IF(A67<>\"\",IFERROR(VLOOKUP(W67,Tabelas!B:D,3,0),0),\"\")","v":0},{"$f":"IF(A67<>\"\",IFERROR(VLOOKUP(X67,Tabelas!B:D,3,0),0),\"\")","v":0},{"$f":"IF(A67<>\"\",IFERROR(VLOOKUP(Y67,Tabelas!B:D,3,0),0),\"\")","v":0},{"$f":"IF(A67<>\"\",IFERROR(VLOOKUP(Z67,Tabelas!B:D,3,0),0),\"\")","v":0},{"$f":"IF(A67<>\"\",IFERROR(VLOOKUP(AA67,Tabelas!B:D,3,0),0),\"\")","v":0},{"$f":"IF(A67<>\"\",IFERROR(VLOOKUP(AB67,Tabelas!B:D,3,0),0),\"\")","v":0},{"$f":"IF(A67<>\"\",IFERROR(VLOOKUP(AC67,Tabelas!B:D,3,0),0),\"\")","v":0},{"$f":"IF(A67<>\"\",IFERROR(VLOOKUP(AD67,Tabelas!B:D,3,0),0),\"\")","v":0},{"$f":"IF(A67<>\"\",IFERROR(VLOOKUP(AE67,Tabelas!B:D,3,0),0),\"\")","v":0},{"$f":"IF(A67<>\"\",IFERROR(VLOOKUP(AF67,Tabelas!B:D,3,0),0),\"\")","v":0},{"$f":"IF(A67<>\"\",IFERROR(VLOOKUP(AG67,Tabelas!B:D,3,0),0),\"\")","v":0},{"$f":"IF(A67<>\"\",IFERROR(VLOOKUP(AH67,Tabelas!B:D,3,0),0),\"\")","v":0},{"$f":"IF(A67<>\"\",IFERROR(VLOOKUP(AI67,Tabelas!B:D,3,0),0),\"\")","v":0},{"$f":"IF(A67<>\"\",IFERROR(VLOOKUP(AJ67,Tabelas!B:D,3,0),0),\"\")","v":0},{"$f":"IF(A67<>\"\",IFERROR(VLOOKUP(AK67,Tabelas!B:D,3,0),0),\"\")","v":0},{"$f":"IF(A67<>\"\",IFERROR(VLOOKUP(AL67,Tabelas!B:D,3,0),0),\"\")","v":0},{"$f":"IF(A67<>\"\",IFERROR(VLOOKUP(AM67,Tabelas!B:D,3,0),0),\"\")","v":0},{"$f":"IF(A67<>\"\",IFERROR(VLOOKUP(AN67,Tabelas!B:D,3,0),0),\"\")","v":0},{"$f":"IF(A67<>\"\",IFERROR(VLOOKUP(AO67,Tabelas!B:D,3,0),0),\"\")","v":0},{"$f":"IF(A67<>\"\",IFERROR(VLOOKUP(AP67,Tabelas!B:D,3,0),0),\"\")","v":0},{"$f":"IF(A67<>\"\",IFERROR(VLOOKUP(AQ67,Tabelas!B:D,3,0),0),\"\")","v":0},{"$f":"IF(A67<>\"\",IFERROR(VLOOKUP(AR67,Tabelas!B:D,3,0),0),\"\")","v":0},0,0,0,0,0,0,0,0,0]
["Débora R. Faustino",null,null,null,null,null,null,null,null,null,null,null,null,null,null,null,null,null,null,null,null,null,null,null,null,null,null,null,null,null,null,null,null,null,null,null,null,null,null,null,null,null,null,null,{"$f":"IF(A68<>\"\",IFERROR(VLOOKUP(N68,Tabelas!B:D,3,0),0),\"\")","v":0},{"$f":"IF(A68<>\"\",IFERROR(VLOOKUP(O68,Tabelas!B:D,3,0),0),\"\")","v":0},{"$f":"IF(A68<>\"\",IFERROR(VLOOKUP(P68,Tabelas!B:D,3,0),0),\"\")","v":0},{"$f":"IF(A68<>\"\",IFERROR(VLOOKUP(Q68,Tabelas!B:D,3,0),0),\"\")","v":0},{"$f":"IF(A68<>\"\",IFERROR(VLOOKUP(R68,Tabelas!B:D,3,0),0),\"\")","v":0},{"$f":"IF(A68<>\"\",IFERROR(VLOOKUP(S68,Tabelas!B:D,3,0),0),\"\")","v":0},{"$f":"IF(A68<>\"\",IFERROR(VLOOKUP(T68,Tabelas!B:D,3,0),0),\"\")","v":0},{"$f":"IF(A68<>\"\",IFERROR(VLOOKUP(U68,Tabelas!B:D,3,0),0),\"\")","v":0},{"$f":"IF(A68<>\"\",IFERROR(VLOOKUP(V68,Tabelas!B:D,3,0),0),\"\")","v":0},{"$f":"IF(A68<>\"\",IFERROR(VLOOKUP(W68,Tabelas!B:D,3,0),0),\"\")","v":0},{"$f":"IF(A68<>\"\",IFERROR(VLOOKUP(X68,Tabelas!B:D,3,0),0),\"\")","v":0},{"$f":"IF(A68<>\"\",IFERROR(VLOOKUP(Y68,Tabelas!B:D,3,0),0),\"\")","v":0},{"$f":"IF(A68<>\"\",IFERROR(VLOOKUP(Z68,Tabelas!B:D,3,0),0),\"\")","v":0},{"$f":"IF(A68<>\"\",IFERROR(VLOOKUP(AA68,Tabelas!B:D,3,0),0),\"\")","v":0},{"$f":"IF(A68<>\"\",IFERROR(VLOOKUP(AB68,Tabelas!B:D,3,0),0),\"\")","v":0},{"$f":"IF(A68<>\"\",IFERROR(VLOOKUP(AC68,Tabelas!B:D,3,0),0),\"\")","v":0},{"$f":"IF(A68<>\"\",IFERROR(VLOOKUP(AD68,Tabelas!B:D,3,0),0),\"\")","v":0},{"$f":"IF(A68<>\"\",IFERROR(VLOOKUP(AE68,Tabelas!B:D,3,0),0),\"\")","v":0},{"$f":"IF(A68<>\"\",IFERROR(VLOOKUP(AF68,Tabelas!B:D,3,0),0),\"\")","v":0},{"$f":"IF(A68<>\"\",IFERROR(VLOOKUP(AG68,Tabelas!B:D,3,0),0),\"\")","v":0},{"$f":"IF(A68<>\"\",IFERROR(VLOOKUP(AH68,Tabelas!B:D,3,0),0),\"\")","v":0},{"$f":"IF(A68<>\"\",IFERROR(VLOOKUP(AI68,Tabelas!B:D,3,0),0),\"\")","v":0},{"$f":"IF(A68<>\"\",IFERROR(VLOOKUP(AJ68,Tabelas!B:D,3,0),0),\"\")","v":0},{"$f":"IF(A68<>\"\",IFERROR(VLOOKUP(AK68,Tabelas!B:D,3,0),0),\"\")","v":0},{"$f":"IF(A68<>\"\",IFERROR(VLOOKUP(AL68,Tabelas!B:D,3,0),0),\"\")","v":0},{"$f":"IF(A68<>\"\",IFERROR(VLOOKUP(AM68,Tabelas!B:D,3,0),0),\"\")","v":0},{"$f":"IF(A68<>\"\",IFERROR(VLOOKUP(AN68,Tabelas!B:D,3,0),0),\"\")","v":0},{"$f":"IF(A68<>\"\",IFERROR(VLOOKUP(AO68,Tabelas!B:D,3,0),0),\"\")","v":0},{"$f":"IF(A68<>\"\",IFERROR(VLOOKUP(AP68,Tabelas!B:D,3,0),0),\"\")","v":0},{"$f":"IF(A68<>\"\",IFERROR(VLOOKUP(AQ68,Tabelas!B:D,3,0),0),\"\")","v":0},{"$f":"IF(A68<>\"\",IFERROR(VLOOKUP(AR68,Tabelas!B:D,3,0),0),\"\")","v":0},0,0,0,0,0,0,0,0,0]
["Eliane M. Cachoeira",null,null,null,null,null,null,null,null,null,null,null,null,null,null,null,null,null,null,null,null,null,null,null,null,null,null,null,null,null,null,null,null,null,null,null,null,null,null,null,null,null,null,null,{"$f":"IF(A69<>\"\",IFERROR(VLOOKUP(N69,Tabelas!B:D,3,0),0),\"\")","v":0},{"$f":"IF(A69<>\"\",IFERROR(VLOOKUP(O69,Tabelas!B:D,3,0),0),\"\")","v":0},{"$f":"IF(A69<>\"\",IFERROR(VLOOKUP(P69,Tabelas!B:D,3,0),0),\"\")","v":0},{"$f":"IF(A69<>\"\",IFERROR(VLOOKUP(Q69,Tabelas!B:D,3,0),0),\"\")","v":0},{"$f":"IF(A69<>\"\",IFERROR(VLOOKUP(R69,Tabelas!B:D,3,0),0),\"\")","v":0},{"$f":"IF(A69<>\"\",IFERROR(VLOOKUP(S69,Tabelas!B:D,3,0),0),\"\")","v":0},{"$f":"IF(A69<>\"\",IFERROR(VLOOKUP(T69,Tabelas!B:D,3,0),0),\"\")","v":0},{"$f":"IF(A69<>\"\",IFERROR(VLOOKUP(U69,Tabelas!B:D,3,0),0),\"\")","v":0},{"$f":"IF(A69<>\"\",IFERROR(VLOOKUP(V69,Tabelas!B:D,3,0),0),\"\")","v":0},{"$f":"IF(A69<>\"\",IFERROR(VLOOKUP(W69,Tabelas!B:D,3,0),0),\"\")","v":0},{"$f":"IF(A69<>\"\",IFERROR(VLOOKUP(X69,Tabelas!B:D,3,0),0),\"\")","v":0},{"$f":"IF(A69<>\"\",IFERROR(VLOOKUP(Y69,Tabelas!B:D,3,0),0),\"\")","v":0},{"$f":"IF(A69<>\"\",IFERROR(VLOOKUP(Z69,Tabelas!B:D,3,0),0),\"\")","v":0},{"$f":"IF(A69<>\"\",IFERROR(VLOOKUP(AA69,Tabelas!B:D,3,0),0),\"\")","v":0},{"$f":"IF(A69<>\"\",IFERROR(VLOOKUP(AB69,Tabelas!B:D,3,0),0),\"\")","v":0},{"$f":"IF(A69<>\"\",IFERROR(VLOOKUP(AC69,Tabelas!B:D,3,0),0),\"\")","v":0},{"$f":"IF(A69<>\"\",IFERROR(VLOOKUP(AD69,Tabelas!B:D,3,0),0),\"\")","v":0},{"$f":"IF(A69<>\"\",IFERROR(VLOOKUP(AE69,Tabelas!B:D,3,0),0),\"\")","v":0},{"$f":"IF(A69<>\"\",IFERROR(VLOOKUP(AF69,Tabelas!B:D,3,0),0),\"\")","v":0},{"$f":"IF(A69<>\"\",IFERROR(VLOOKUP(AG69,Tabelas!B:D,3,0),0),\"\")","v":0},{"$f":"IF(A69<>\"\",IFERROR(VLOOKUP(AH69,Tabelas!B:D,3,0),0),\"\")","v":0},{"$f":"IF(A69<>\"\",IFERROR(VLOOKUP(AI69,Tabelas!B:D,3,0),0),\"\")","v":0},{"$f":"IF(A69<>\"\",IFERROR(VLOOKUP(AJ69,Tabelas!B:D,3,0),0),\"\")","v":0},{"$f":"IF(A69<>\"\",IFERROR(VLOOKUP(AK69,Tabelas!B:D,3,0),0),\"\")","v":0},{"$f":"IF(A69<>\"\",IFERROR(VLOOKUP(AL69,Tabelas!B:D,3,0),0),\"\")","v":0},{"$f":"IF(A69<>\"\",IFERROR(VLOOKUP(AM69,Tabelas!B:D,3,0),0),\"\")","v":0},{"$f":"IF(A69<>\"\",IFERROR(VLOOKUP(AN69,Tabelas!B:D,3,0),0),\"\")","v":0},{"$f":"IF(A69<>\"\",IFERROR(VLOOKUP(AO69,Tabelas!B:D,3,0),0),\"\")","v":0},{"$f":"IF(A69<>\"\",IFERROR(VLOOKUP(AP69,Tabelas!B:D,3,0),0),\"\")","v":0},{"$f":"IF(A69<>\"\",IFERROR(VLOOKUP(AQ69,Tabelas!B:D,3,0),0),\"\")","v":0},{"$f":"IF(A69<>\"\",IFERROR(VLOOKUP(AR69,Tabelas!B:D,3,0),0),\"\")","v":0},0,0,0,0,0,0,0,0,0]
["Eudinéia L. Schmitz",null,null,null,null,null,null,null,null,null,null,null,null,null,null,null,null,null,null,null,null,null,null,null,null,null,null,null,null,null,null,null,null,null,null,null,null,null,null,null,null,null,null,null,{"$f":"IF(A70<>\"\",IFERROR(VLOOKUP(N70,Tabelas!B:D,3,0),0),\"\")","v":0},{"$f":"IF(A70<>\"\",IFERROR(VLOOKUP(O70,Tabelas!B:D,3,0),0),\"\")","v":0},{"$f":"IF(A70<>\"\",IFERROR(VLOOKUP(P70,Tabelas!B:D,3,0),0),\"\")","v":0},{"$f":"IF(A70<>\"\",IFERROR(VLOOKUP(Q70,Tabelas!B:D,3,0),0),\"\")","v":0},{"$f":"IF(A70<>\"\",IFERROR(VLOOKUP(R70,Tabelas!B:D,3,0),0),\"\")","v":0},{"$f":"IF(A70<>\"\",IFERROR(VLOOKUP(S70,Tabelas!B:D,3,0),0),\"\")","v":0},{"$f":"IF(A70<>\"\",IFERROR(VLOOKUP(T70,Tabelas!B:D,3,0),0),\"\")","v":0},{"$f":"IF(A70<>\"\",IFERROR(VLOOKUP(U70,Tabelas!B:D,3,0),0),\"\")","v":0},{"$f":"IF(A70<>\"\",IFERROR(VLOOKUP(V70,Tabelas!B:D,3,0),0),\"\")","v":0},{"$f":"IF(A70<>\"\",IFERROR(VLOOKUP(W70,Tabelas!B:D,3,0),0),\"\")","v":0},{"$f":"IF(A70<>\"\",IFERROR(VLOOKUP(X70,Tabelas!B:D,3,0),0),\"\")","v":0},{"$f":"IF(A70<>\"\",IFERROR(VLOOKUP(Y70,Tabelas!B:D,3,0),0),\"\")","v":0},{"$f":"IF(A70<>\"\",IFERROR(VLOOKUP(Z70,Tabelas!B:D,3,0),0),\"\")","v":0},{"$f":"IF(A70<>\"\",IFERROR(VLOOKUP(AA70,Tabelas!B:D,3,0),0),\"\")","v":0},{"$f":"IF(A70<>\"\",IFERROR(VLOOKUP(AB70,Tabelas!B:D,3,0),0),\"\")","v":0},{"$f":"IF(A70<>\"\",IFERROR(VLOOKUP(AC70,Tabelas!B:D,3,0),0),\"\")","v":0},{"$f":"IF(A70<>\"\",IFERROR(VLOOKUP(AD70,Tabelas!B:D,3,0),0),\"\")","v":0},{"$f":"IF(A70<>\"\",IFERROR(VLOOKUP(AE70,Tabelas!B:D,3,0),0),\"\")","v":0},{"$f":"IF(A70<>\"\",IFERROR(VLOOKUP(AF70,Tabelas!B:D,3,0),0),\"\")","v":0},{"$f":"IF(A70<>\"\",IFERROR(VLOOKUP(AG70,Tabelas!B:D,3,0),0),\"\")","v":0},{"$f":"IF(A70<>\"\",IFERROR(VLOOKUP(AH70,Tabelas!B:D,3,0),0),\"\")","v":0},{"$f":"IF(A70<>\"\",IFERROR(VLOOKUP(AI70,Tabelas!B:D,3,0),0),\"\")","v":0},{"$f":"IF(A70<>\"\",IFERROR(VLOOKUP(AJ70,Tabelas!B:D,3,0),0),\"\")","v":0},{"$f":"IF(A70<>\"\",IFERROR(VLOOKUP(AK70,Tabelas!B:D,3,0),0),\"\")","v":0},{"$f":"IF(A70<>\"\",IFERROR(VLOOKUP(AL70,Tabelas!B:D,3,0),0),\"\")","v":0},{"$f":"IF(A70<>\"\",IFERROR(VLOOKUP(AM70,Tabelas!B:D,3,0),0),\"\")","v":0},{"$f":"IF(A70<>\"\",IFERROR(VLOOKUP(AN70,Tabelas!B:D,3,0),0),\"\")","v":0},{"$f":"IF(A70<>\"\",IFERROR(VLOOKUP(AO70,Tabelas!B:D,3,0),0),\"\")","v":0},{"$f":"IF(A70<>\"\",IFERROR(VLOOKUP(AP70,Tabelas!B:D,3,0),0),\"\")","v":0},{"$f":"IF(A70<>\"\",IFERROR(VLOOKUP(AQ70,Tabelas!B:D,3,0),0),\"\")","v":0},{"$f":"IF(A70<>\"\",IFERROR(VLOOKUP(AR70,Tabelas!B:D,3,0),0),\"\")","v":0},0,0,0,0,0,0,0,0,0]
["NOTURNO 3",null,null,null,null,null,null,null,null,null,null,null,null,null,null,null,null,null,null,null,null,null,null,null,null,null,null,null,null,null,null,null,null,null,null,null,null,null,null,null,null,null,null,null,{"$f":"IF(A71<>\"\",IFERROR(VLOOKUP(N71,Tabelas!B:D,3,0),0),\"\")","v":0},{"$f":"IF(A71<>\"\",IFERROR(VLOOKUP(O71,Tabelas!B:D,3,0),0),\"\")","v":0},{"$f":"IF(A71<>\"\",IFERROR(VLOOKUP(P71,Tabelas!B:D,3,0),0),\"\")","v":0},{"$f":"IF(A71<>\"\",IFERROR(VLOOKUP(Q71,Tabelas!B:D,3,0),0),\"\")","v":0},{"$f":"IF(A71<>\"\",IFERROR(VLOOKUP(R71,Tabelas!B:D,3,0),0),\"\")","v":0},{"$f":"IF(A71<>\"\",IFERROR(VLOOKUP(S71,Tabelas!B:D,3,0),0),\"\")","v":0},{"$f":"IF(A71<>\"\",IFERROR(VLOOKUP(T71,Tabelas!B:D,3,0),0),\"\")","v":0},{"$f":"IF(A71<>\"\",IFERROR(VLOOKUP(U71,Tabelas!B:D,3,0),0),\"\")","v":0},{"$f":"IF(A71<>\"\",IFERROR(VLOOKUP(V71,Tabelas!B:D,3,0),0),\"\")","v":0},{"$f":"IF(A71<>\"\",IFERROR(VLOOKUP(W71,Tabelas!B:D,3,0),0),\"\")","v":0},{"$f":"IF(A71<>\"\",IFERROR(VLOOKUP(X71,Tabelas!B:D,3,0),0),\"\")","v":0},{"$f":"IF(A71<>\"\",IFERROR(VLOOKUP(Y71,Tabelas!B:D,3,0),0),\"\")","v":0},{"$f":"IF(A71<>\"\",IFERROR(VLOOKUP(Z71,Tabelas!B:D,3,0),0),\"\")","v":0},{"$f":"IF(A71<>\"\",IFERROR(VLOOKUP(AA71,Tabelas!B:D,3,0),0),\"\")","v":0},{"$f":"IF(A71<>\"\",IFERROR(VLOOKUP(AB71,Tabelas!B:D,3,0),0),\"\")","v":0},{"$f":"IF(A71<>\"\",IFERROR(VLOOKUP(AC71,Tabelas!B:D,3,0),0),\"\")","v":0},{"$f":"IF(A71<>\"\",IFERROR(VLOOKUP(AD71,Tabelas!B:D,3,0),0),\"\")","v":0},{"$f":"IF(A71<>\"\",IFERROR(VLOOKUP(AE71,Tabelas!B:D,3,0),0),\"\")","v":0},{"$f":"IF(A71<>\"\",IFERROR(VLOOKUP(AF71,Tabelas!B:D,3,0),0),\"\")","v":0},{"$f":"IF(A71<>\"\",IFERROR(VLOOKUP(AG71,Tabelas!B:D,3,0),0),\"\")","v":0},{"$f":"IF(A71<>\"\",IFERROR(VLOOKUP(AH71,Tabelas!B:D,3,0),0),\"\")","v":0},{"$f":"IF(A71<>\"\",IFERROR(VLOOKUP(AI71,Tabelas!B:D,3,0),0),\"\")","v":0},{"$f":"IF(A71<>\"\",IFERROR(VLOOKUP(AJ71,Tabelas!B:D,3,0),0),\"\")","v":0},{"$f":"IF(A71<>\"\",IFERROR(VLOOKUP(AK71,Tabelas!B:D,3,0),0),\"\")","v":0},{"$f":"IF(A71<>\"\",IFERROR(VLOOKUP(AL71,Tabelas!B:D,3,0),0),\"\")","v":0},{"$f":"IF(A71<>\"\",IFERROR(VLOOKUP(AM71,Tabelas!B:D,3,0),0),\"\")","v":0},{"$f":"IF(A71<>\"\",IFERROR(VLOOKUP(AN71,Tabelas!B:D,3,0),0),\"\")","v":0},{"$f":"IF(A71<>\"\",IFERROR(VLOOKUP(AO71,Tabelas!B:D,3,0),0),\"\")","v":0},{"$f":"IF(A71<>\"\",IFERROR(VLOOKUP(AP71,Tabelas!B:D,3,0),0),\"\")","v":0},{"$f":"IF(A71<>\"\",IFERROR(VLOOKUP(AQ71,Tabelas!B:D,3,0),0),\"\")","v":0},{"$f":"IF(A71<>\"\",IFERROR(VLOOKUP(AR71,Tabelas!B:D,3,0),0),\"\")","v":0},0,0,0,0,0,0,0,0,0]
["David T. Alflen",null,null,null,null,null,null,null,null,null,null,null,null,null,null,null,null,null,null,null,null,null,null,null,null,null,null,null,null,null,null,null,null,null,null,null,null,null,null,null,null,null,null,null,{"$f":"IF(A72<>\"\",IFERROR(VLOOKUP(N72,Tabelas!B:D,3,0),0),\"\")","v":0},{"$f":"IF(A72<>\"\",IFERROR(VLOOKUP(O72,Tabelas!B:D,3,0),0),\"\")","v":0},{"$f":"IF(A72<>\"\",IFERROR(VLOOKUP(P72,Tabelas!B:D,3,0),0),\"\")","v":0},{"$f":"IF(A72<>\"\",IFERROR(VLOOKUP(Q72,Tabelas!B:D,3,0),0),\"\")","v":0},{"$f":"IF(A72<>\"\",IFERROR(VLOOKUP(R72,Tabelas!B:D,3,0),0),\"\")","v":0},{"$f":"IF(A72<>\"\",IFERROR(VLOOKUP(S72,Tabelas!B:D,3,0),0),\"\")","v":0},{"$f":"IF(A72<>\"\",IFERROR(VLOOKUP(T72,Tabelas!B:D,3,0),0),\"\")","v":0},{"$f":"IF(A72<>\"\",IFERROR(VLOOKUP(U72,Tabelas!B:D,3,0),0),\"\")","v":0},{"$f":"IF(A72<>\"\",IFERROR(VLOOKUP(V72,Tabelas!B:D,3,0),0),\"\")","v":0},{"$f":"IF(A72<>\"\",IFERROR(VLOOKUP(W72,Tabelas!B:D,3,0),0),\"\")","v":0},{"$f":"IF(A72<>\"\",IFERROR(VLOOKUP(X72,Tabelas!B:D,3,0),0),\"\")","v":0},{"$f":"IF(A72<>\"\",IFERROR(VLOOKUP(Y72,Tabelas!B:D,3,0),0),\"\")","v":0},{"$f":"IF(A72<>\"\",IFERROR(VLOOKUP(Z72,Tabelas!B:D,3,0),0),\"\")","v":0},{"$f":"IF(A72<>\"\",IFERROR(VLOOKUP(AA72,Tabelas!B:D,3,0),0),\"\")","v":0},{"$f":"IF(A72<>\"\",IFERROR(VLOOKUP(AB72,Tabelas!B:D,3,0),0),\"\")","v":0},{"$f":"IF(A72<>\"\",IFERROR(VLOOKUP(AC72,Tabelas!B:D,3,0),0),\"\")","v":0},{"$f":"IF(A72<>\"\",IFERROR(VLOOKUP(AD72,Tabelas!B:D,3,0),0),\"\")","v":0},{"$f":"IF(A72<>\"\",IFERROR(VLOOKUP(AE72,Tabelas!B:D,3,0),0),\"\")","v":0},{"$f":"IF(A72<>\"\",IFERROR(VLOOKUP(AF72,Tabelas!B:D,3,0),0),\"\")","v":0},{"$f":"IF(A72<>\"\",IFERROR(VLOOKUP(AG72,Tabelas!B:D,3,0),0),\"\")","v":0},{"$f":"IF(A72<>\"\",IFERROR(VLOOKUP(AH72,Tabelas!B:D,3,0),0),\"\")","v":0},{"$f":"IF(A72<>\"\",IFERROR(VLOOKUP(AI72,Tabelas!B:D,3,0),0),\"\")","v":0},{"$f":"IF(A72<>\"\",IFERROR(VLOOKUP(AJ72,Tabelas!B:D,3,0),0),\"\")","v":0},{"$f":"IF(A72<>\"\",IFERROR(VLOOKUP(AK72,Tabelas!B:D,3,0),0),\"\")","v":0},{"$f":"IF(A72<>\"\",IFERROR(VLOOKUP(AL72,Tabelas!B:D,3,0),0),\"\")","v":0},{"$f":"IF(A72<>\"\",IFERROR(VLOOKUP(AM72,Tabelas!B:D,3,0),0),\"\")","v":0},{"$f":"IF(A72<>\"\",IFERROR(VLOOKUP(AN72,Tabelas!B:D,3,0),0),\"\")","v":0},{"$f":"IF(A72<>\"\",IFERROR(VLOOKUP(AO72,Tabelas!B:D,3,0),0),\"\")","v":0},{"$f":"IF(A72<>\"\",IFERROR(VLOOKUP(AP72,Tabelas!B:D,3,0),0),\"\")","v":0},{"$f":"IF(A72<>\"\",IFERROR(VLOOKUP(AQ72,Tabelas!B:D,3,0),0),\"\")","v":0},{"$f":"IF(A72<>\"\",IFERROR(VLOOKUP(AR72,Tabelas!B:D,3,0),0),\"\")","v":0},0,0,0,0,0,0,0,0,0]
["Débora C. Garcia",null,null,null,null,null,null,null,null,null,null,null,null,null,null,null,null,null,null,null,null,null,null,null,null,null,null,null,null,null,null,null,null,null,null,null,null,null,null,null,null,null,null,null,{"$f":"IF(A73<>\"\",IFERROR(VLOOKUP(N73,Tabelas!B:D,3,0),0),\"\")","v":0},{"$f":"IF(A73<>\"\",IFERROR(VLOOKUP(O73,Tabelas!B:D,3,0),0),\"\")","v":0},{"$f":"IF(A73<>\"\",IFERROR(VLOOKUP(P73,Tabelas!B:D,3,0),0),\"\")","v":0},{"$f":"IF(A73<>\"\",IFERROR(VLOOKUP(Q73,Tabelas!B:D,3,0),0),\"\")","v":0},{"$f":"IF(A73<>\"\",IFERROR(VLOOKUP(R73,Tabelas!B:D,3,0),0),\"\")","v":0},{"$f":"IF(A73<>\"\",IFERROR(VLOOKUP(S73,Tabelas!B:D,3,0),0),\"\")","v":0},{"$f":"IF(A73<>\"\",IFERROR(VLOOKUP(T73,Tabelas!B:D,3,0),0),\"\")","v":0},{"$f":"IF(A73<>\"\",IFERROR(VLOOKUP(U73,Tabelas!B:D,3,0),0),\"\")","v":0},{"$f":"IF(A73<>\"\",IFERROR(VLOOKUP(V73,Tabelas!B:D,3,0),0),\"\")","v":0},{"$f":"IF(A73<>\"\",IFERROR(VLOOKUP(W73,Tabelas!B:D,3,0),0),\"\")","v":0},{"$f":"IF(A73<>\"\",IFERROR(VLOOKUP(X73,Tabelas!B:D,3,0),0),\"\")","v":0},{"$f":"IF(A73<>\"\",IFERROR(VLOOKUP(Y73,Tabelas!B:D,3,0),0),\"\")","v":0},{"$f":"IF(A73<>\"\",IFERROR(VLOOKUP(Z73,Tabelas!B:D,3,0),0),\"\")","v":0},{"$f":"IF(A73<>\"\",IFERROR(VLOOKUP(AA73,Tabelas!B:D,3,0),0),\"\")","v":0},{"$f":"IF(A73<>\"\",IFERROR(VLOOKUP(AB73,Tabelas!B:D,3,0),0),\"\")","v":0},{"$f":"IF(A73<>\"\",IFERROR(VLOOKUP(AC73,Tabelas!B:D,3,0),0),\"\")","v":0},{"$f":"IF(A73<>\"\",IFERROR(VLOOKUP(AD73,Tabelas!B:D,3,0),0),\"\")","v":0},{"$f":"IF(A73<>\"\",IFERROR(VLOOKUP(AE73,Tabelas!B:D,3,0),0),\"\")","v":0},{"$f":"IF(A73<>\"\",IFERROR(VLOOKUP(AF73,Tabelas!B:D,3,0),0),\"\")","v":0},{"$f":"IF(A73<>\"\",IFERROR(VLOOKUP(AG73,Tabelas!B:D,3,0),0),\"\")","v":0},{"$f":"IF(A73<>\"\",IFERROR(VLOOKUP(AH73,Tabelas!B:D,3,0),0),\"\")","v":0},{"$f":"IF(A73<>\"\",IFERROR(VLOOKUP(AI73,Tabelas!B:D,3,0),0),\"\")","v":0},{"$f":"IF(A73<>\"\",IFERROR(VLOOKUP(AJ73,Tabelas!B:D,3,0),0),\"\")","v":0},{"$f":"IF(A73<>\"\",IFERROR(VLOOKUP(AK73,Tabelas!B:D,3,0),0),\"\")","v":0},{"$f":"IF(A73<>\"\",IFERROR(VLOOKUP(AL73,Tabelas!B:D,3,0),0),\"\")","v":0},{"$f":"IF(A73<>\"\",IFERROR(VLOOKUP(AM73,Tabelas!B:D,3,0),0),\"\")","v":0},{"$f":"IF(A73<>\"\",IFERROR(VLOOKUP(AN73,Tabelas!B:D,3,0),0),\"\")","v":0},{"$f":"IF(A73<>\"\",IFERROR(VLOOKUP(AO73,Tabelas!B:D,3,0),0),\"\")","v":0},{"$f":"IF(A73<>\"\",IFERROR(VLOOKUP(AP73,Tabelas!B:D,3,0),0),\"\")","v":0},{"$f":"IF(A73<>\"\",IFERROR(VLOOKUP(AQ73,Tabelas!B:D,3,0),0),\"\")","v":0},{"$f":"IF(A73<>\"\",IFERROR(VLOOKUP(AR73,Tabelas!B:D,3,0),0),\"\")","v":0},0,0,0,0,0,0,0,0,0]
["Edna dos S. Fonseca",null,null,null,null,null,null,null,null,null,null,null,null,null,null,null,null,null,null,null,null,null,null,null,null,null,null,null,null,null,null,null,null,null,null,null,null,null,null,null,null,null,null,null,{"$f":"IF(A74<>\"\",IFERROR(VLOOKUP(N74,Tabelas!B:D,3,0),0),\"\")","v":0},{"$f":"IF(A74<>\"\",IFERROR(VLOOKUP(O74,Tabelas!B:D,3,0),0),\"\")","v":0},{"$f":"IF(A74<>\"\",IFERROR(VLOOKUP(P74,Tabelas!B:D,3,0),0),\"\")","v":0},{"$f":"IF(A74<>\"\",IFERROR(VLOOKUP(Q74,Tabelas!B:D,3,0),0),\"\")","v":0},{"$f":"IF(A74<>\"\",IFERROR(VLOOKUP(R74,Tabelas!B:D,3,0),0),\"\")","v":0},{"$f":"IF(A74<>\"\",IFERROR(VLOOKUP(S74,Tabelas!B:D,3,0),0),\"\")","v":0},{"$f":"IF(A74<>\"\",IFERROR(VLOOKUP(T74,Tabelas!B:D,3,0),0),\"\")","v":0},{"$f":"IF(A74<>\"\",IFERROR(VLOOKUP(U74,Tabelas!B:D,3,0),0),\"\")","v":0},{"$f":"IF(A74<>\"\",IFERROR(VLOOKUP(V74,Tabelas!B:D,3,0),0),\"\")","v":0},{"$f":"IF(A74<>\"\",IFERROR(VLOOKUP(W74,Tabelas!B:D,3,0),0),\"\")","v":0},{"$f":"IF(A74<>\"\",IFERROR(VLOOKUP(X74,Tabelas!B:D,3,0),0),\"\")","v":0},{"$f":"IF(A74<>\"\",IFERROR(VLOOKUP(Y74,Tabelas!B:D,3,0),0),\"\")","v":0},{"$f":"IF(A74<>\"\",IFERROR(VLOOKUP(Z74,Tabelas!B:D,3,0),0),\"\")","v":0},{"$f":"IF(A74<>\"\",IFERROR(VLOOKUP(AA74,Tabelas!B:D,3,0),0),\"\")","v":0},{"$f":"IF(A74<>\"\",IFERROR(VLOOKUP(AB74,Tabelas!B:D,3,0),0),\"\")","v":0},{"$f":"IF(A74<>\"\",IFERROR(VLOOKUP(AC74,Tabelas!B:D,3,0),0),\"\")","v":0},{"$f":"IF(A74<>\"\",IFERROR(VLOOKUP(AD74,Tabelas!B:D,3,0),0),\"\")","v":0},{"$f":"IF(A74<>\"\",IFERROR(VLOOKUP(AE74,Tabelas!B:D,3,0),0),\"\")","v":0},{"$f":"IF(A74<>\"\",IFERROR(VLOOKUP(AF74,Tabelas!B:D,3,0),0),\"\")","v":0},{"$f":"IF(A74<>\"\",IFERROR(VLOOKUP(AG74,Tabelas!B:D,3,0),0),\"\")","v":0},{"$f":"IF(A74<>\"\",IFERROR(VLOOKUP(AH74,Tabelas!B:D,3,0),0),\"\")","v":0},{"$f":"IF(A74<>\"\",IFERROR(VLOOKUP(AI74,Tabelas!B:D,3,0),0),\"\")","v":0},{"$f":"IF(A74<>\"\",IFERROR(VLOOKUP(AJ74,Tabelas!B:D,3,0),0),\"\")","v":0},{"$f":"IF(A74<>\"\",IFERROR(VLOOKUP(AK74,Tabelas!B:D,3,0),0),\"\")","v":0},{"$f":"IF(A74<>\"\",IFERROR(VLOOKUP(AL74,Tabelas!B:D,3,0),0),\"\")","v":0},{"$f":"IF(A74<>\"\",IFERROR(VLOOKUP(AM74,Tabelas!B:D,3,0),0),\"\")","v":0},{"$f":"IF(A74<>\"\",IFERROR(VLOOKUP(AN74,Tabelas!B:D,3,0),0),\"\")","v":0},{"$f":"IF(A74<>\"\",IFERROR(VLOOKUP(AO74,Tabelas!B:D,3,0),0),\"\")","v":0},{"$f":"IF(A74<>\"\",IFERROR(VLOOKUP(AP74,Tabelas!B:D,3,0),0),\"\")","v":0},{"$f":"IF(A74<>\"\",IFERROR(VLOOKUP(AQ74,Tabelas!B:D,3,0),0),\"\")","v":0},{"$f":"IF(A74<>\"\",IFERROR(VLOOKUP(AR74,Tabelas!B:D,3,0),0),\"\")","v":0},0,0,0,0,0,0,0,0,0]
["Evelin F. Pedroso",null,null,null,null,null,null,null,null,null,null,null,null,null,null,null,null,null,null,null,null,null,null,null,null,null,null,null,null,null,null,null,null,null,null,null,null,null,null,null,null,null,null,null,{"$f":"IF(A75<>\"\",IFERROR(VLOOKUP(N75,Tabelas!B:D,3,0),0),\"\")","v":0},{"$f":"IF(A75<>\"\",IFERROR(VLOOKUP(O75,Tabelas!B:D,3,0),0),\"\")","v":0},{"$f":"IF(A75<>\"\",IFERROR(VLOOKUP(P75,Tabelas!B:D,3,0),0),\"\")","v":0},{"$f":"IF(A75<>\"\",IFERROR(VLOOKUP(Q75,Tabelas!B:D,3,0),0),\"\")","v":0},{"$f":"IF(A75<>\"\",IFERROR(VLOOKUP(R75,Tabelas!B:D,3,0),0),\"\")","v":0},{"$f":"IF(A75<>\"\",IFERROR(VLOOKUP(S75,Tabelas!B:D,3,0),0),\"\")","v":0},{"$f":"IF(A75<>\"\",IFERROR(VLOOKUP(T75,Tabelas!B:D,3,0),0),\"\")","v":0},{"$f":"IF(A75<>\"\",IFERROR(VLOOKUP(U75,Tabelas!B:D,3,0),0),\"\")","v":0},{"$f":"IF(A75<>\"\",IFERROR(VLOOKUP(V75,Tabelas!B:D,3,0),0),\"\")","v":0},{"$f":"IF(A75<>\"\",IFERROR(VLOOKUP(W75,Tabelas!B:D,3,0),0),\"\")","v":0},{"$f":"IF(A75<>\"\",IFERROR(VLOOKUP(X75,Tabelas!B:D,3,0),0),\"\")","v":0},{"$f":"IF(A75<>\"\",IFERROR(VLOOKUP(Y75,Tabelas!B:D,3,0),0),\"\")","v":0},{"$f":"IF(A75<>\"\",IFERROR(VLOOKUP(Z75,Tabelas!B:D,3,0),0),\"\")","v":0},{"$f":"IF(A75<>\"\",IFERROR(VLOOKUP(AA75,Tabelas!B:D,3,0),0),\"\")","v":0},{"$f":"IF(A75<>\"\",IFERROR(VLOOKUP(AB75,Tabelas!B:D,3,0),0),\"\")","v":0},{"$f":"IF(A75<>\"\",IFERROR(VLOOKUP(AC75,Tabelas!B:D,3,0),0),\"\")","v":0},{"$f":"IF(A75<>\"\",IFERROR(VLOOKUP(AD75,Tabelas!B:D,3,0),0),\"\")","v":0},{"$f":"IF(A75<>\"\",IFERROR(VLOOKUP(AE75,Tabelas!B:D,3,0),0),\"\")","v":0},{"$f":"IF(A75<>\"\",IFERROR(VLOOKUP(AF75,Tabelas!B:D,3,0),0),\"\")","v":0},{"$f":"IF(A75<>\"\",IFERROR(VLOOKUP(AG75,Tabelas!B:D,3,0),0),\"\")","v":0},{"$f":"IF(A75<>\"\",IFERROR(VLOOKUP(AH75,Tabelas!B:D,3,0),0),\"\")","v":0},{"$f":"IF(A75<>\"\",IFERROR(VLOOKUP(AI75,Tabelas!B:D,3,0),0),\"\")","v":0},{"$f":"IF(A75<>\"\",IFERROR(VLOOKUP(AJ75,Tabelas!B:D,3,0),0),\"\")","v":0},{"$f":"IF(A75<>\"\",IFERROR(VLOOKUP(AK75,Tabelas!B:D,3,0),0),\"\")","v":0},{"$f":"IF(A75<>\"\",IFERROR(VLOOKUP(AL75,Tabelas!B:D,3,0),0),\"\")","v":0},{"$f":"IF(A75<>\"\",IFERROR(VLOOKUP(AM75,Tabelas!B:D,3,0),0),\"\")","v":0},{"$f":"IF(A75<>\"\",IFERROR(VLOOKUP(AN75,Tabelas!B:D,3,0),0),\"\")","v":0},{"$f":"IF(A75<>\"\",IFERROR(VLOOKUP(AO75,Tabelas!B:D,3,0),0),\"\")","v":0},{"$f":"IF(A75<>\"\",IFERROR(VLOOKUP(AP75,Tabelas!B:D,3,0),0),\"\")","v":0},{"$f":"IF(A75<>\"\",IFERROR(VLOOKUP(AQ75,Tabelas!B:D,3,0),0),\"\")","v":0},{"$f":"IF(A75<>\"\",IFERROR(VLOOKUP(AR75,Tabelas!B:D,3,0),0),\"\")","v":0},{"$f":"IF(A75<>\"\",SUM(AS75:BW75),\"\")","v":0},{"$f":"IF(A75<>\"\",COUNTIF(N75:AR75,\"LM\")+COUNTIF(N75:AR75,\"L\"),\"\")+COUNTIF(N75:AR75,\"LP\")","v":0},{"$f":"IF(A75<>\"\",COUNTIF(N75:AR75,\"AB\"),\"\")","v":0},{"$f":"IF(A75<>\"\",COUNTIF(N75:AR75,\"FE\"),\"\")","v":0},{"$f":"IF(A75<>\"\",COUNTIF(N75:AR75,\"LC\"),\"\")","v":0},{"$f":"IF(A75<>\"\",COUNTIF(N75:AR75,\"CE\"),\"\")","v":0},{"$f":"IF(A75<>\"\",COUNTIF(N75:AR75,\"AF1\")+COUNTIF(N75:AR75,\"AF2\")+COUNTIF(N75:AR75,\"AF3\")+COUNTIF(N75:AR75,\"AF4\")+COUNTIF(N75:AR75,\"AF5\")+COUNTIF(N75:AR75,\"AF6\")+COUNTIF(N75:AR75,\"AF7\")+COUNTIF(N75:AR75,\"AF8\")+COUNTIF(N75:AR75,\"AF9\")+COUNTIF(N75:AR75,\"AF10\")+COUNTIF(N75:AR75,\"AF11\")+COUNTIF(N75:AR75,\"AF12\")+COUNTIF(N75:AR75,\"AF13\")+COUNTIF(N75:AR75,\"AF14\"),\"\")","v":0},{"$f":"IF(A75<>\"\",COUNTIF(N75:AR75,\"CE\")+COUNTIF(N75:AR75,\"L\")+COUNTIF(N75:AR75,\"LM\")+COUNTIF(N75:AR75,\"LP\")+COUNTIF(N75:AR75,\"LC\")+COUNTIF(N75:AR75,\"AB\")+COUNTIF(N75:AR75,\"AF1\")+COUNTIF(N75:AR75,\"AF2\")+COUNTIF(N75:AR75,\"AF3\")+COUNTIF(N75:AR75,\"AF4\")+COUNTIF(N75:AR75,\"AF5\")+COUNTIF(N75:AR75,\"AF6\")+COUNTIF(N75:AR75,\"AF7\")+COUNTIF(N75:AR75,\"AF8\")+COUNTIF(N75:AR75,\"AF9\")+COUNTIF(N75:AR75,\"AF10\")+COUNTIF(N75:AR75,\"AF11\")+COUNTIF(N75:AR75,\"AF12\")+COUNTIF(N75:AR75,\"AF13\")+COUNTIF(N75:AR75,\"AF14\")+COUNTIF(N75:AR75,\"RC\")+COUNTIF(N75:AR75,\"FO\")+COUNTIF(N75:AR75,\"FE\"),\"\")","v":0},{"$f":"IF(A75<>\"\",COUNTIF(N75:AR75,\"APH\"),\"\")","v":0}]
["Graziele Telles",null,null,null,null,null,null,null,null,null,null,null,null,null,null,null,null,null,null,null,null,null,null,null,null,null,null,null,null,null,null,null,null,null,null,null,null,null,null,null,null,null,null,null,{"$f":"IF(A76<>\"\",IFERROR(VLOOKUP(N76,Tabelas!B:D,3,0),0),\"\")","v":0},{"$f":"IF(A76<>\"\",IFERROR(VLOOKUP(O76,Tabelas!B:D,3,0),0),\"\")","v":0},{"$f":"IF(A76<>\"\",IFERROR(VLOOKUP(P76,Tabelas!B:D,3,0),0),\"\")","v":0},{"$f":"IF(A76<>\"\",IFERROR(VLOOKUP(Q76,Tabelas!B:D,3,0),0),\"\")","v":0},{"$f":"IF(A76<>\"\",IFERROR(VLOOKUP(R76,Tabelas!B:D,3,0),0),\"\")","v":0},{"$f":"IF(A76<>\"\",IFERROR(VLOOKUP(S76,Tabelas!B:D,3,0),0),\"\")","v":0},{"$f":"IF(A76<>\"\",IFERROR(VLOOKUP(T76,Tabelas!B:D,3,0),0),\"\")","v":0},{"$f":"IF(A76<>\"\",IFERROR(VLOOKUP(U76,Tabelas!B:D,3,0),0),\"\")","v":0},{"$f":"IF(A76<>\"\",IFERROR(VLOOKUP(V76,Tabelas!B:D,3,0),0),\"\")","v":0},{"$f":"IF(A76<>\"\",IFERROR(VLOOKUP(W76,Tabelas!B:D,3,0),0),\"\")","v":0},{"$f":"IF(A76<>\"\",IFERROR(VLOOKUP(X76,Tabelas!B:D,3,0),0),\"\")","v":0},{"$f":"IF(A76<>\"\",IFERROR(VLOOKUP(Y76,Tabelas!B:D,3,0),0),\"\")","v":0},{"$f":"IF(A76<>\"\",IFERROR(VLOOKUP(Z76,Tabelas!B:D,3,0),0),\"\")","v":0},{"$f":"IF(A76<>\"\",IFERROR(VLOOKUP(AA76,Tabelas!B:D,3,0),0),\"\")","v":0},{"$f":"IF(A76<>\"\",IFERROR(VLOOKUP(AB76,Tabelas!B:D,3,0),0),\"\")","v":0},{"$f":"IF(A76<>\"\",IFERROR(VLOOKUP(AC76,Tabelas!B:D,3,0),0),\"\")","v":0},{"$f":"IF(A76<>\"\",IFERROR(VLOOKUP(AD76,Tabelas!B:D,3,0),0),\"\")","v":0},{"$f":"IF(A76<>\"\",IFERROR(VLOOKUP(AE76,Tabelas!B:D,3,0),0),\"\")","v":0},{"$f":"IF(A76<>\"\",IFERROR(VLOOKUP(AF76,Tabelas!B:D,3,0),0),\"\")","v":0},{"$f":"IF(A76<>\"\",IFERROR(VLOOKUP(AG76,Tabelas!B:D,3,0),0),\"\")","v":0},{"$f":"IF(A76<>\"\",IFERROR(VLOOKUP(AH76,Tabelas!B:D,3,0),0),\"\")","v":0},{"$f":"IF(A76<>\"\",IFERROR(VLOOKUP(AI76,Tabelas!B:D,3,0),0),\"\")","v":0},{"$f":"IF(A76<>\"\",IFERROR(VLOOKUP(AJ76,Tabelas!B:D,3,0),0),\"\")","v":0},{"$f":"IF(A76<>\"\",IFERROR(VLOOKUP(AK76,Tabelas!B:D,3,0),0),\"\")","v":0},{"$f":"IF(A76<>\"\",IFERROR(VLOOKUP(AL76,Tabelas!B:D,3,0),0),\"\")","v":0},{"$f":"IF(A76<>\"\",IFERROR(VLOOKUP(AM76,Tabelas!B:D,3,0),0),\"\")","v":0},{"$f":"IF(A76<>\"\",IFERROR(VLOOKUP(AN76,Tabelas!B:D,3,0),0),\"\")","v":0},{"$f":"IF(A76<>\"\",IFERROR(VLOOKUP(AO76,Tabelas!B:D,3,0),0),\"\")","v":0},{"$f":"IF(A76<>\"\",IFERROR(VLOOKUP(AP76,Tabelas!B:D,3,0),0),\"\")","v":0},{"$f":"IF(A76<>\"\",IFERROR(VLOOKUP(AQ76,Tabelas!B:D,3,0),0),\"\")","v":0},{"$f":"IF(A76<>\"\",IFERROR(VLOOKUP(AR76,Tabelas!B:D,3,0),0),\"\")","v":0},0,0,{"$f":"IF(A76<>\"\",COUNTIF(N76:AR76,\"AB\"),\"\")","v":0},{"$f":"IF(A76<>\"\",COUNTIF(N76:AR76,\"FE\"),\"\")","v":0},{"$f":"IF(A76<>\"\",COUNTIF(N76:AR76,\"LC\"),\"\")","v":0},{"$f":"IF(A76<>\"\",COUNTIF(N76:AR76,\"CE\"),\"\")","v":0},0,0,0]
["James E. Knaul",null,null,null,null,null,null,null,null,null,null,null,null,null,null,null,null,null,null,null,null,null,null,null,null,null,null,null,null,null,null,null,null,null,null,null,null,null,null,null,null,null,null,null,{"$f":"IF(A77<>\"\",IFERROR(VLOOKUP(N77,Tabelas!B:D,3,0),0),\"\")","v":0},{"$f":"IF(A77<>\"\",IFERROR(VLOOKUP(O77,Tabelas!B:D,3,0),0),\"\")","v":0},{"$f":"IF(A77<>\"\",IFERROR(VLOOKUP(P77,Tabelas!B:D,3,0),0),\"\")","v":0},{"$f":"IF(A77<>\"\",IFERROR(VLOOKUP(Q77,Tabelas!B:D,3,0),0),\"\")","v":0},{"$f":"IF(A77<>\"\",IFERROR(VLOOKUP(R77,Tabelas!B:D,3,0),0),\"\")","v":0},{"$f":"IF(A77<>\"\",IFERROR(VLOOKUP(S77,Tabelas!B:D,3,0),0),\"\")","v":0},{"$f":"IF(A77<>\"\",IFERROR(VLOOKUP(T77,Tabelas!B:D,3,0),0),\"\")","v":0},{"$f":"IF(A77<>\"\",IFERROR(VLOOKUP(U77,Tabelas!B:D,3,0),0),\"\")","v":0},{"$f":"IF(A77<>\"\",IFERROR(VLOOKUP(V77,Tabelas!B:D,3,0),0),\"\")","v":0},{"$f":"IF(A77<>\"\",IFERROR(VLOOKUP(W77,Tabelas!B:D,3,0),0),\"\")","v":0},{"$f":"IF(A77<>\"\",IFERROR(VLOOKUP(X77,Tabelas!B:D,3,0),0),\"\")","v":0},{"$f":"IF(A77<>\"\",IFERROR(VLOOKUP(Y77,Tabelas!B:D,3,0),0),\"\")","v":0},{"$f":"IF(A77<>\"\",IFERROR(VLOOKUP(Z77,Tabelas!B:D,3,0),0),\"\")","v":0},{"$f":"IF(A77<>\"\",IFERROR(VLOOKUP(AA77,Tabelas!B:D,3,0),0),\"\")","v":0},{"$f":"IF(A77<>\"\",IFERROR(VLOOKUP(AB77,Tabelas!B:D,3,0),0),\"\")","v":0},{"$f":"IF(A77<>\"\",IFERROR(VLOOKUP(AC77,Tabelas!B:D,3,0),0),\"\")","v":0},{"$f":"IF(A77<>\"\",IFERROR(VLOOKUP(AD77,Tabelas!B:D,3,0),0),\"\")","v":0},{"$f":"IF(A77<>\"\",IFERROR(VLOOKUP(AE77,Tabelas!B:D,3,0),0),\"\")","v":0},{"$f":"IF(A77<>\"\",IFERROR(VLOOKUP(AF77,Tabelas!B:D,3,0),0),\"\")","v":0},{"$f":"IF(A77<>\"\",IFERROR(VLOOKUP(AG77,Tabelas!B:D,3,0),0),\"\")","v":0},{"$f":"IF(A77<>\"\",IFERROR(VLOOKUP(AH77,Tabelas!B:D,3,0),0),\"\")","v":0},{"$f":"IF(A77<>\"\",IFERROR(VLOOKUP(AI77,Tabelas!B:D,3,0),0),\"\")","v":0},{"$f":"IF(A77<>\"\",IFERROR(VLOOKUP(AJ77,Tabelas!B:D,3,0),0),\"\")","v":0},{"$f":"IF(A77<>\"\",IFERROR(VLOOKUP(AK77,Tabelas!B:D,3,0),0),\"\")","v":0},{"$f":"IF(A77<>\"\",IFERROR(VLOOKUP(AL77,Tabelas!B:D,3,0),0),\"\")","v":0},{"$f":"IF(A77<>\"\",IFERROR(VLOOKUP(AM77,Tabelas!B:D,3,0),0),\"\")","v":0},{"$f":"IF(A77<>\"\",IFERROR(VLOOKUP(AN77,Tabelas!B:D,3,0),0),\"\")","v":0},{"$f":"IF(A77<>\"\",IFERROR(VLOOKUP(AO77,Tabelas!B:D,3,0),0),\"\")","v":0},{"$f":"IF(A77<>\"\",IFERROR(VLOOKUP(AP77,Tabelas!B:D,3,0),0),\"\")","v":0},{"$f":"IF(A77<>\"\",IFERROR(VLOOKUP(AQ77,Tabelas!B:D,3,0),0),\"\")","v":0},{"$f":"IF(A77<>\"\",IFERROR(VLOOKUP(AR77,Tabelas!B:D,3,0),0),\"\")","v":0},0,0,{"$f":"IF(A77<>\"\",COUNTIF(N77:AR77,\"AB\"),\"\")","v":0},{"$f":"IF(A77<>\"\",COUNTIF(N77:AR77,\"FE\"),\"\")","v":0},{"$f":"IF(A77<>\"\",COUNTIF(N77:AR77,\"LC\"),\"\")","v":0},{"$f":"IF(A77<>\"\",COUNTIF(N77:AR77,\"CE\"),\"\")","v":0},0,0,0]
["Márcia T. Mariano",null,null,null,null,null,null,null,null,null,null,null,null,null,null,null,null,null,null,null,null,null,null,null,null,null,null,null,null,null,null,null,null,null,null,null,null,null,null,null,null,null,null,null,{"$f":"IF(A78<>\"\",IFERROR(VLOOKUP(N78,Tabelas!B:D,3,0),0),\"\")","v":0},{"$f":"IF(A78<>\"\",IFERROR(VLOOKUP(O78,Tabelas!B:D,3,0),0),\"\")","v":0},{"$f":"IF(A78<>\"\",IFERROR(VLOOKUP(P78,Tabelas!B:D,3,0),0),\"\")","v":0},{"$f":"IF(A78<>\"\",IFERROR(VLOOKUP(Q78,Tabelas!B:D,3,0),0),\"\")","v":0},{"$f":"IF(A78<>\"\",IFERROR(VLOOKUP(R78,Tabelas!B:D,3,0),0),\"\")","v":0},{"$f":"IF(A78<>\"\",IFERROR(VLOOKUP(S78,Tabelas!B:D,3,0),0),\"\")","v":0},{"$f":"IF(A78<>\"\",IFERROR(VLOOKUP(T78,Tabelas!B:D,3,0),0),\"\")","v":0},{"$f":"IF(A78<>\"\",IFERROR(VLOOKUP(U78,Tabelas!B:D,3,0),0),\"\")","v":0},{"$f":"IF(A78<>\"\",IFERROR(VLOOKUP(V78,Tabelas!B:D,3,0),0),\"\")","v":0},{"$f":"IF(A78<>\"\",IFERROR(VLOOKUP(W78,Tabelas!B:D,3,0),0),\"\")","v":0},{"$f":"IF(A78<>\"\",IFERROR(VLOOKUP(X78,Tabelas!B:D,3,0),0),\"\")","v":0},{"$f":"IF(A78<>\"\",IFERROR(VLOOKUP(Y78,Tabelas!B:D,3,0),0),\"\")","v":0},{"$f":"IF(A78<>\"\",IFERROR(VLOOKUP(Z78,Tabelas!B:D,3,0),0),\"\")","v":0},{"$f":"IF(A78<>\"\",IFERROR(VLOOKUP(AA78,Tabelas!B:D,3,0),0),\"\")","v":0},{"$f":"IF(A78<>\"\",IFERROR(VLOOKUP(AB78,Tabelas!B:D,3,0),0),\"\")","v":0},{"$f":"IF(A78<>\"\",IFERROR(VLOOKUP(AC78,Tabelas!B:D,3,0),0),\"\")","v":0},{"$f":"IF(A78<>\"\",IFERROR(VLOOKUP(AD78,Tabelas!B:D,3,0),0),\"\")","v":0},{"$f":"IF(A78<>\"\",IFERROR(VLOOKUP(AE78,Tabelas!B:D,3,0),0),\"\")","v":0},{"$f":"IF(A78<>\"\",IFERROR(VLOOKUP(AF78,Tabelas!B:D,3,0),0),\"\")","v":0},{"$f":"IF(A78<>\"\",IFERROR(VLOOKUP(AG78,Tabelas!B:D,3,0),0),\"\")","v":0},{"$f":"IF(A78<>\"\",IFERROR(VLOOKUP(AH78,Tabelas!B:D,3,0),0),\"\")","v":0},{"$f":"IF(A78<>\"\",IFERROR(VLOOKUP(AI78,Tabelas!B:D,3,0),0),\"\")","v":0},{"$f":"IF(A78<>\"\",IFERROR(VLOOKUP(AJ78,Tabelas!B:D,3,0),0),\"\")","v":0},{"$f":"IF(A78<>\"\",IFERROR(VLOOKUP(AK78,Tabelas!B:D,3,0),0),\"\")","v":0},{"$f":"IF(A78<>\"\",IFERROR(VLOOKUP(AL78,Tabelas!B:D,3,0),0),\"\")","v":0},{"$f":"IF(A78<>\"\",IFERROR(VLOOKUP(AM78,Tabelas!B:D,3,0),0),\"\")","v":0},{"$f":"IF(A78<>\"\",IFERROR(VLOOKUP(AN78,Tabelas!B:D,3,0),0),\"\")","v":0},{"$f":"IF(A78<>\"\",IFERROR(VLOOKUP(AO78,Tabelas!B:D,3,0),0),\"\")","v":0},{"$f":"IF(A78<>\"\",IFERROR(VLOOKUP(AP78,Tabelas!B:D,3,0),0),\"\")","v":0},{"$f":"IF(A78<>\"\",IFERROR(VLOOKUP(AQ78,Tabelas!B:D,3,0),0),\"\")","v":0},{"$f":"IF(A78<>\"\",IFERROR(VLOOKUP(AR78,Tabelas!B:D,3,0),0),\"\")","v":0},0,0,{"$f":"IF(A78<>\"\",COUNTIF(N78:AR78,\"AB\"),\"\")","v":0},{"$f":"IF(A78<>\"\",COUNTIF(N78:AR78,\"FE\"),\"\")","v":0},{"$f":"IF(A78<>\"\",COUNTIF(N78:AR78,\"LC\"),\"\")","v":0},{"$f":"IF(A78<>\"\",COUNTIF(N78:AR78,\"CE\"),\"\")","v":0},0,0,0]
["AUXILIARES",null,null,null,null,null,null,null,null,null,null,null,null,null,null,null,null,null,null,null,null,null,null,null,null,null,null,null,null,null,null,null,null,null,null,null,null,null,null,null,null,null,null,null,{"$f":"IF(A79<>\"\",IFERROR(VLOOKUP(N79,Tabelas!B:D,3,0),0),\"\")","v":0},{"$f":"IF(A79<>\"\",IFERROR(VLOOKUP(O79,Tabelas!B:D,3,0),0),\"\")","v":0},{"$f":"IF(A79<>\"\",IFERROR(VLOOKUP(P79,Tabelas!B:D,3,0),0),\"\")","v":0},{"$f":"IF(A79<>\"\",IFERROR(VLOOKUP(Q79,Tabelas!B:D,3,0),0),\"\")","v":0},{"$f":"IF(A79<>\"\",IFERROR(VLOOKUP(R79,Tabelas!B:D,3,0),0),\"\")","v":0},{"$f":"IF(A79<>\"\",IFERROR(VLOOKUP(S79,Tabelas!B:D,3,0),0),\"\")","v":0},{"$f":"IF(A79<>\"\",IFERROR(VLOOKUP(T79,Tabelas!B:D,3,0),0),\"\")","v":0},{"$f":"IF(A79<>\"\",IFERROR(VLOOKUP(U79,Tabelas!B:D,3,0),0),\"\")","v":0},{"$f":"IF(A79<>\"\",IFERROR(VLOOKUP(V79,Tabelas!B:D,3,0),0),\"\")","v":0},{"$f":"IF(A79<>\"\",IFERROR(VLOOKUP(W79,Tabelas!B:D,3,0),0),\"\")","v":0},{"$f":"IF(A79<>\"\",IFERROR(VLOOKUP(X79,Tabelas!B:D,3,0),0),\"\")","v":0},{"$f":"IF(A79<>\"\",IFERROR(VLOOKUP(Y79,Tabelas!B:D,3,0),0),\"\")","v":0},{"$f":"IF(A79<>\"\",IFERROR(VLOOKUP(Z79,Tabelas!B:D,3,0),0),\"\")","v":0},{"$f":"IF(A79<>\"\",IFERROR(VLOOKUP(AA79,Tabelas!B:D,3,0),0),\"\")","v":0},{"$f":"IF(A79<>\"\",IFERROR(VLOOKUP(AB79,Tabelas!B:D,3,0),0),\"\")","v":0},{"$f":"IF(A79<>\"\",IFERROR(VLOOKUP(AC79,Tabelas!B:D,3,0),0),\"\")","v":0},{"$f":"IF(A79<>\"\",IFERROR(VLOOKUP(AD79,Tabelas!B:D,3,0),0),\"\")","v":0},{"$f":"IF(A79<>\"\",IFERROR(VLOOKUP(AE79,Tabelas!B:D,3,0),0),\"\")","v":0},{"$f":"IF(A79<>\"\",IFERROR(VLOOKUP(AF79,Tabelas!B:D,3,0),0),\"\")","v":0},{"$f":"IF(A79<>\"\",IFERROR(VLOOKUP(AG79,Tabelas!B:D,3,0),0),\"\")","v":0},{"$f":"IF(A79<>\"\",IFERROR(VLOOKUP(AH79,Tabelas!B:D,3,0),0),\"\")","v":0},{"$f":"IF(A79<>\"\",IFERROR(VLOOKUP(AI79,Tabelas!B:D,3,0),0),\"\")","v":0},{"$f":"IF(A79<>\"\",IFERROR(VLOOKUP(AJ79,Tabelas!B:D,3,0),0),\"\")","v":0},{"$f":"IF(A79<>\"\",IFERROR(VLOOKUP(AK79,Tabelas!B:D,3,0),0),\"\")","v":0},{"$f":"IF(A79<>\"\",IFERROR(VLOOKUP(AL79,Tabelas!B:D,3,0),0),\"\")","v":0},{"$f":"IF(A79<>\"\",IFERROR(VLOOKUP(AM79,Tabelas!B:D,3,0),0),\"\")","v":0},{"$f":"IF(A79<>\"\",IFERROR(VLOOKUP(AN79,Tabelas!B:D,3,0),0),\"\")","v":0},{"$f":"IF(A79<>\"\",IFERROR(VLOOKUP(AO79,Tabelas!B:D,3,0),0),\"\")","v":0},{"$f":"IF(A79<>\"\",IFERROR(VLOOKUP(AP79,Tabelas!B:D,3,0),0),\"\")","v":0},{"$f":"IF(A79<>\"\",IFERROR(VLOOKUP(AQ79,Tabelas!B:D,3,0),0),\"\")","v":0},{"$f":"IF(A79<>\"\",IFERROR(VLOOKUP(AR79,Tabelas!B:D,3,0),0),\"\")","v":0},0,0,{"$f":"IF(A79<>\"\",COUNTIF(N79:AR79,\"AB\"),\"\")","v":0},{"$f":"IF(A79<>\"\",COUNTIF(N79:AR79,\"FE\"),\"\")","v":0},{"$f":"IF(A79<>\"\",COUNTIF(N79:AR79,\"LC\"),\"\")","v":0},{"$f":"IF(A79<>\"\",COUNTIF(N79:AR79,\"CE\"),\"\")","v":0},0,0,0]
["Adelino da Silva",null,null,null,null,null,null,null,null,null,null,null,null,null,null,null,null,null,null,null,null,null,null,null,null,null,null,null,null,null,null,null,null,null,null,null,null,null,null,null,null,null,null,null,{"$f":"IF(A80<>\"\",IFERROR(VLOOKUP(N80,Tabelas!B:D,3,0),0),\"\")","v":0},{"$f":"IF(A80<>\"\",IFERROR(VLOOKUP(O80,Tabelas!B:D,3,0),0),\"\")","v":0},{"$f":"IF(A80<>\"\",IFERROR(VLOOKUP(P80,Tabelas!B:D,3,0),0),\"\")","v":0},{"$f":"IF(A80<>\"\",IFERROR(VLOOKUP(Q80,Tabelas!B:D,3,0),0),\"\")","v":0},{"$f":"IF(A80<>\"\",IFERROR(VLOOKUP(R80,Tabelas!B:D,3,0),0),\"\")","v":0},{"$f":"IF(A80<>\"\",IFERROR(VLOOKUP(S80,Tabelas!B:D,3,0),0),\"\")","v":0},{"$f":"IF(A80<>\"\",IFERROR(VLOOKUP(T80,Tabelas!B:D,3,0),0),\"\")","v":0},{"$f":"IF(A80<>\"\",IFERROR(VLOOKUP(U80,Tabelas!B:D,3,0),0),\"\")","v":0},{"$f":"IF(A80<>\"\",IFERROR(VLOOKUP(V80,Tabelas!B:D,3,0),0),\"\")","v":0},{"$f":"IF(A80<>\"\",IFERROR(VLOOKUP(W80,Tabelas!B:D,3,0),0),\"\")","v":0},{"$f":"IF(A80<>\"\",IFERROR(VLOOKUP(X80,Tabelas!B:D,3,0),0),\"\")","v":0},{"$f":"IF(A80<>\"\",IFERROR(VLOOKUP(Y80,Tabelas!B:D,3,0),0),\"\")","v":0},{"$f":"IF(A80<>\"\",IFERROR(VLOOKUP(Z80,Tabelas!B:D,3,0),0),\"\")","v":0},{"$f":"IF(A80<>\"\",IFERROR(VLOOKUP(AA80,Tabelas!B:D,3,0),0),\"\")","v":0},{"$f":"IF(A80<>\"\",IFERROR(VLOOKUP(AB80,Tabelas!B:D,3,0),0),\"\")","v":0},{"$f":"IF(A80<>\"\",IFERROR(VLOOKUP(AC80,Tabelas!B:D,3,0),0),\"\")","v":0},{"$f":"IF(A80<>\"\",IFERROR(VLOOKUP(AD80,Tabelas!B:D,3,0),0),\"\")","v":0},{"$f":"IF(A80<>\"\",IFERROR(VLOOKUP(AE80,Tabelas!B:D,3,0),0),\"\")","v":0},{"$f":"IF(A80<>\"\",IFERROR(VLOOKUP(AF80,Tabelas!B:D,3,0),0),\"\")","v":0},{"$f":"IF(A80<>\"\",IFERROR(VLOOKUP(AG80,Tabelas!B:D,3,0),0),\"\")","v":0},{"$f":"IF(A80<>\"\",IFERROR(VLOOKUP(AH80,Tabelas!B:D,3,0),0),\"\")","v":0},{"$f":"IF(A80<>\"\",IFERROR(VLOOKUP(AI80,Tabelas!B:D,3,0),0),\"\")","v":0},{"$f":"IF(A80<>\"\",IFERROR(VLOOKUP(AJ80,Tabelas!B:D,3,0),0),\"\")","v":0},{"$f":"IF(A80<>\"\",IFERROR(VLOOKUP(AK80,Tabelas!B:D,3,0),0),\"\")","v":0},{"$f":"IF(A80<>\"\",IFERROR(VLOOKUP(AL80,Tabelas!B:D,3,0),0),\"\")","v":0},{"$f":"IF(A80<>\"\",IFERROR(VLOOKUP(AM80,Tabelas!B:D,3,0),0),\"\")","v":0},{"$f":"IF(A80<>\"\",IFERROR(VLOOKUP(AN80,Tabelas!B:D,3,0),0),\"\")","v":0},{"$f":"IF(A80<>\"\",IFERROR(VLOOKUP(AO80,Tabelas!B:D,3,0),0),\"\")","v":0},{"$f":"IF(A80<>\"\",IFERROR(VLOOKUP(AP80,Tabelas!B:D,3,0),0),\"\")","v":0},{"$f":"IF(A80<>\"\",IFERROR(VLOOKUP(AQ80,Tabelas!B:D,3,0),0),\"\")","v":0},{"$f":"IF(A80<>\"\",IFERROR(VLOOKUP(AR80,Tabelas!B:D,3,0),0),\"\")","v":0},0,0,{"$f":"IF(A80<>\"\",COUNTIF(N80:AR80,\"AB\"),\"\")","v":0},{"$f":"IF(A80<>\"\",COUNTIF(N80:AR80,\"FE\"),\"\")","v":0},{"$f":"IF(A80<>\"\",COUNTIF(N80:AR80,\"LC\"),\"\")","v":0},{"$f":"IF(A80<>\"\",COUNTIF(N80:AR80,\"CE\"),\"\")","v":0},0,0,0]
["Neri J. Rios",null,null,null,null,null,null,null,null,null,null,null,null,null,null,null,null,null,null,null,null,null,null,null,null,null,null,null,null,null,null,null,null,null,null,null,null,null,null,null,null,null,null,null,{"$f":"IF(A81<>\"\",IFERROR(VLOOKUP(N81,Tabelas!B:D,3,0),0),\"\")","v":0},{"$f":"IF(A81<>\"\",IFERROR(VLOOKUP(O81,Tabelas!B:D,3,0),0),\"\")","v":0},{"$f":"IF(A81<>\"\",IFERROR(VLOOKUP(P81,Tabelas!B:D,3,0),0),\"\")","v":0},{"$f":"IF(A81<>\"\",IFERROR(VLOOKUP(Q81,Tabelas!B:D,3,0),0),\"\")","v":0},{"$f":"IF(A81<>\"\",IFERROR(VLOOKUP(R81,Tabelas!B:D,3,0),0),\"\")","v":0},{"$f":"IF(A81<>\"\",IFERROR(VLOOKUP(S81,Tabelas!B:D,3,0),0),\"\")","v":0},{"$f":"IF(A81<>\"\",IFERROR(VLOOKUP(T81,Tabelas!B:D,3,0),0),\"\")","v":0},{"$f":"IF(A81<>\"\",IFERROR(VLOOKUP(U81,Tabelas!B:D,3,0),0),\"\")","v":0},{"$f":"IF(A81<>\"\",IFERROR(VLOOKUP(V81,Tabelas!B:D,3,0),0),\"\")","v":0},{"$f":"IF(A81<>\"\",IFERROR(VLOOKUP(W81,Tabelas!B:D,3,0),0),\"\")","v":0},{"$f":"IF(A81<>\"\",IFERROR(VLOOKUP(X81,Tabelas!B:D,3,0),0),\"\")","v":0},{"$f":"IF(A81<>\"\",IFERROR(VLOOKUP(Y81,Tabelas!B:D,3,0),0),\"\")","v":0},{"$f":"IF(A81<>\"\",IFERROR(VLOOKUP(Z81,Tabelas!B:D,3,0),0),\"\")","v":0},{"$f":"IF(A81<>\"\",IFERROR(VLOOKUP(AA81,Tabelas!B:D,3,0),0),\"\")","v":0},{"$f":"IF(A81<>\"\",IFERROR(VLOOKUP(AB81,Tabelas!B:D,3,0),0),\"\")","v":0},{"$f":"IF(A81<>\"\",IFERROR(VLOOKUP(AC81,Tabelas!B:D,3,0),0),\"\")","v":0},{"$f":"IF(A81<>\"\",IFERROR(VLOOKUP(AD81,Tabelas!B:D,3,0),0),\"\")","v":0},{"$f":"IF(A81<>\"\",IFERROR(VLOOKUP(AE81,Tabelas!B:D,3,0),0),\"\")","v":0},{"$f":"IF(A81<>\"\",IFERROR(VLOOKUP(AF81,Tabelas!B:D,3,0),0),\"\")","v":0},{"$f":"IF(A81<>\"\",IFERROR(VLOOKUP(AG81,Tabelas!B:D,3,0),0),\"\")","v":0},{"$f":"IF(A81<>\"\",IFERROR(VLOOKUP(AH81,Tabelas!B:D,3,0),0),\"\")","v":0},{"$f":"IF(A81<>\"\",IFERROR(VLOOKUP(AI81,Tabelas!B:D,3,0),0),\"\")","v":0},{"$f":"IF(A81<>\"\",IFERROR(VLOOKUP(AJ81,Tabelas!B:D,3,0),0),\"\")","v":0},{"$f":"IF(A81<>\"\",IFERROR(VLOOKUP(AK81,Tabelas!B:D,3,0),0),\"\")","v":0},{"$f":"IF(A81<>\"\",IFERROR(VLOOKUP(AL81,Tabelas!B:D,3,0),0),\"\")","v":0},{"$f":"IF(A81<>\"\",IFERROR(VLOOKUP(AM81,Tabelas!B:D,3,0),0),\"\")","v":0},{"$f":"IF(A81<>\"\",IFERROR(VLOOKUP(AN81,Tabelas!B:D,3,0),0),\"\")","v":0},{"$f":"IF(A81<>\"\",IFERROR(VLOOKUP(AO81,Tabelas!B:D,3,0),0),\"\")","v":0},{"$f":"IF(A81<>\"\",IFERROR(VLOOKUP(AP81,Tabelas!B:D,3,0),0),\"\")","v":0},{"$f":"IF(A81<>\"\",IFERROR(VLOOKUP(AQ81,Tabelas!B:D,3,0),0),\"\")","v":0},{"$f":"IF(A81<>\"\",IFERROR(VLOOKUP(AR81,Tabelas!B:D,3,0),0),\"\")","v":0},0,0,{"$f":"IF(A81<>\"\",COUNTIF(N81:AR81,\"AB\"),\"\")","v":0},{"$f":"IF(A81<>\"\",COUNTIF(N81:AR81,\"FE\"),\"\")","v":0},{"$f":"IF(A81<>\"\",COUNTIF(N81:AR81,\"LC\"),\"\")","v":0},{"$f":"IF(A81<>\"\",COUNTIF(N81:AR81,\"CE\"),\"\")","v":0},0,0,0]
["Regina G. Cúrcio",null,null,null,null,null,null,null,null,null,null,null,null,null,null,null,null,null,null,null,null,null,null,null,null,null,null,null,null,null,null,null,null,null,null,null,null,null,null,null,null,null,null,null,{"$f":"IF(A82<>\"\",IFERROR(VLOOKUP(N82,Tabelas!B:D,3,0),0),\"\")","v":0},{"$f":"IF(A82<>\"\",IFERROR(VLOOKUP(O82,Tabelas!B:D,3,0),0),\"\")","v":0},{"$f":"IF(A82<>\"\",IFERROR(VLOOKUP(P82,Tabelas!B:D,3,0),0),\"\")","v":0},{"$f":"IF(A82<>\"\",IFERROR(VLOOKUP(Q82,Tabelas!B:D,3,0),0),\"\")","v":0},{"$f":"IF(A82<>\"\",IFERROR(VLOOKUP(R82,Tabelas!B:D,3,0),0),\"\")","v":0},{"$f":"IF(A82<>\"\",IFERROR(VLOOKUP(S82,Tabelas!B:D,3,0),0),\"\")","v":0},{"$f":"IF(A82<>\"\",IFERROR(VLOOKUP(T82,Tabelas!B:D,3,0),0),\"\")","v":0},{"$f":"IF(A82<>\"\",IFERROR(VLOOKUP(U82,Tabelas!B:D,3,0),0),\"\")","v":0},{"$f":"IF(A82<>\"\",IFERROR(VLOOKUP(V82,Tabelas!B:D,3,0),0),\"\")","v":0},{"$f":"IF(A82<>\"\",IFERROR(VLOOKUP(W82,Tabelas!B:D,3,0),0),\"\")","v":0},{"$f":"IF(A82<>\"\",IFERROR(VLOOKUP(X82,Tabelas!B:D,3,0),0),\"\")","v":0},{"$f":"IF(A82<>\"\",IFERROR(VLOOKUP(Y82,Tabelas!B:D,3,0),0),\"\")","v":0},{"$f":"IF(A82<>\"\",IFERROR(VLOOKUP(Z82,Tabelas!B:D,3,0),0),\"\")","v":0},{"$f":"IF(A82<>\"\",IFERROR(VLOOKUP(AA82,Tabelas!B:D,3,0),0),\"\")","v":0},{"$f":"IF(A82<>\"\",IFERROR(VLOOKUP(AB82,Tabelas!B:D,3,0),0),\"\")","v":0},{"$f":"IF(A82<>\"\",IFERROR(VLOOKUP(AC82,Tabelas!B:D,3,0),0),\"\")","v":0},{"$f":"IF(A82<>\"\",IFERROR(VLOOKUP(AD82,Tabelas!B:D,3,0),0),\"\")","v":0},{"$f":"IF(A82<>\"\",IFERROR(VLOOKUP(AE82,Tabelas!B:D,3,0),0),\"\")","v":0},{"$f":"IF(A82<>\"\",IFERROR(VLOOKUP(AF82,Tabelas!B:D,3,0),0),\"\")","v":0},{"$f":"IF(A82<>\"\",IFERROR(VLOOKUP(AG82,Tabelas!B:D,3,0),0),\"\")","v":0},{"$f":"IF(A82<>\"\",IFERROR(VLOOKUP(AH82,Tabelas!B:D,3,0),0),\"\")","v":0},{"$f":"IF(A82<>\"\",IFERROR(VLOOKUP(AI82,Tabelas!B:D,3,0),0),\"\")","v":0},{"$f":"IF(A82<>\"\",IFERROR(VLOOKUP(AJ82,Tabelas!B:D,3,0),0),\"\")","v":0},{"$f":"IF(A82<>\"\",IFERROR(VLOOKUP(AK82,Tabelas!B:D,3,0),0),\"\")","v":0},{"$f":"IF(A82<>\"\",IFERROR(VLOOKUP(AL82,Tabelas!B:D,3,0),0),\"\")","v":0},{"$f":"IF(A82<>\"\",IFERROR(VLOOKUP(AM82,Tabelas!B:D,3,0),0),\"\")","v":0},{"$f":"IF(A82<>\"\",IFERROR(VLOOKUP(AN82,Tabelas!B:D,3,0),0),\"\")","v":0},{"$f":"IF(A82<>\"\",IFERROR(VLOOKUP(AO82,Tabelas!B:D,3,0),0),\"\")","v":0},{"$f":"IF(A82<>\"\",IFERROR(VLOOKUP(AP82,Tabelas!B:D,3,0),0),\"\")","v":0},{"$f":"IF(A82<>\"\",IFERROR(VLOOKUP(AQ82,Tabelas!B:D,3,0),0),\"\")","v":0},{"$f":"IF(A82<>\"\",IFERROR(VLOOKUP(AR82,Tabelas!B:D,3,0),0),\"\")","v":0},0,0,{"$f":"IF(A82<>\"\",COUNTIF(N82:AR82,\"AB\"),\"\")","v":0},{"$f":"IF(A82<>\"\",COUNTIF(N82:AR82,\"FE\"),\"\")","v":0},{"$f":"IF(A82<>\"\",COUNTIF(N82:AR82,\"LC\"),\"\")","v":0},{"$f":"IF(A82<>\"\",COUNTIF(N82:AR82,\"CE\"),\"\")","v":0},0,0,0]
["Ricardo R. Santos",null,null,null,null,null,null,null,null,null,null,null,null,null,null,null,null,null,null,null,null,null,null,null,null,null,null,null,null,null,null,null,null,null,null,null,null,null,null,null,null,null,null,null,{"$f":"IF(A83<>\"\",IFERROR(VLOOKUP(N83,Tabelas!B:D,3,0),0),\"\")","v":0},{"$f":"IF(A83<>\"\",IFERROR(VLOOKUP(O83,Tabelas!B:D,3,0),0),\"\")","v":0},{"$f":"IF(A83<>\"\",IFERROR(VLOOKUP(P83,Tabelas!B:D,3,0),0),\"\")","v":0},{"$f":"IF(A83<>\"\",IFERROR(VLOOKUP(Q83,Tabelas!B:D,3,0),0),\"\")","v":0},{"$f":"IF(A83<>\"\",IFERROR(VLOOKUP(R83,Tabelas!B:D,3,0),0),\"\")","v":0},{"$f":"IF(A83<>\"\",IFERROR(VLOOKUP(S83,Tabelas!B:D,3,0),0),\"\")","v":0},{"$f":"IF(A83<>\"\",IFERROR(VLOOKUP(T83,Tabelas!B:D,3,0),0),\"\")","v":0},{"$f":"IF(A83<>\"\",IFERROR(VLOOKUP(U83,Tabelas!B:D,3,0),0),\"\")","v":0},{"$f":"IF(A83<>\"\",IFERROR(VLOOKUP(V83,Tabelas!B:D,3,0),0),\"\")","v":0},{"$f":"IF(A83<>\"\",IFERROR(VLOOKUP(W83,Tabelas!B:D,3,0),0),\"\")","v":0},{"$f":"IF(A83<>\"\",IFERROR(VLOOKUP(X83,Tabelas!B:D,3,0),0),\"\")","v":0},{"$f":"IF(A83<>\"\",IFERROR(VLOOKUP(Y83,Tabelas!B:D,3,0),0),\"\")","v":0},{"$f":"IF(A83<>\"\",IFERROR(VLOOKUP(Z83,Tabelas!B:D,3,0),0),\"\")","v":0},{"$f":"IF(A83<>\"\",IFERROR(VLOOKUP(AA83,Tabelas!B:D,3,0),0),\"\")","v":0},{"$f":"IF(A83<>\"\",IFERROR(VLOOKUP(AB83,Tabelas!B:D,3,0),0),\"\")","v":0},{"$f":"IF(A83<>\"\",IFERROR(VLOOKUP(AC83,Tabelas!B:D,3,0),0),\"\")","v":0},{"$f":"IF(A83<>\"\",IFERROR(VLOOKUP(AD83,Tabelas!B:D,3,0),0),\"\")","v":0},{"$f":"IF(A83<>\"\",IFERROR(VLOOKUP(AE83,Tabelas!B:D,3,0),0),\"\")","v":0},{"$f":"IF(A83<>\"\",IFERROR(VLOOKUP(AF83,Tabelas!B:D,3,0),0),\"\")","v":0},{"$f":"IF(A83<>\"\",IFERROR(VLOOKUP(AG83,Tabelas!B:D,3,0),0),\"\")","v":0},{"$f":"IF(A83<>\"\",IFERROR(VLOOKUP(AH83,Tabelas!B:D,3,0),0),\"\")","v":0},{"$f":"IF(A83<>\"\",IFERROR(VLOOKUP(AI83,Tabelas!B:D,3,0),0),\"\")","v":0},{"$f":"IF(A83<>\"\",IFERROR(VLOOKUP(AJ83,Tabelas!B:D,3,0),0),\"\")","v":0},{"$f":"IF(A83<>\"\",IFERROR(VLOOKUP(AK83,Tabelas!B:D,3,0),0),\"\")","v":0},{"$f":"IF(A83<>\"\",IFERROR(VLOOKUP(AL83,Tabelas!B:D,3,0),0),\"\")","v":0},{"$f":"IF(A83<>\"\",IFERROR(VLOOKUP(AM83,Tabelas!B:D,3,0),0),\"\")","v":0},{"$f":"IF(A83<>\"\",IFERROR(VLOOKUP(AN83,Tabelas!B:D,3,0),0),\"\")","v":0},{"$f":"IF(A83<>\"\",IFERROR(VLOOKUP(AO83,Tabelas!B:D,3,0),0),\"\")","v":0},{"$f":"IF(A83<>\"\",IFERROR(VLOOKUP(AP83,Tabelas!B:D,3,0),0),\"\")","v":0},{"$f":"IF(A83<>\"\",IFERROR(VLOOKUP(AQ83,Tabelas!B:D,3,0),0),\"\")","v":0},{"$f":"IF(A83<>\"\",IFERROR(VLOOKUP(AR83,Tabelas!B:D,3,0),0),\"\")","v":0},0,0,{"$f":"IF(A83<>\"\",COUNTIF(N83:AR83,\"AB\"),\"\")","v":0},{"$f":"IF(A83<>\"\",COUNTIF(N83:AR83,\"FE\"),\"\")","v":0},{"$f":"IF(A83<>\"\",COUNTIF(N83:AR83,\"LC\"),\"\")","v":0},{"$f":"IF(A83<>\"\",COUNTIF(N83:AR83,\"CE\"),\"\")","v":0},0,0,0]
["ADMINISTRATIVO",null,null,null,null,null,null,null,null,null,null,null,null,null,null,null,null,null,null,null,null,null,null,null,null,null,null,null,null,null,null,null,null,null,null,null,null,null,null,null,null,null,null,null,{"$f":"IF(A84<>\"\",IFERROR(VLOOKUP(N84,Tabelas!B:D,3,0),0),\"\")","v":0},{"$f":"IF(A84<>\"\",IFERROR(VLOOKUP(O84,Tabelas!B:D,3,0),0),\"\")","v":0},{"$f":"IF(A84<>\"\",IFERROR(VLOOKUP(P84,Tabelas!B:D,3,0),0),\"\")","v":0},{"$f":"IF(A84<>\"\",IFERROR(VLOOKUP(Q84,Tabelas!B:D,3,0),0),\"\")","v":0},{"$f":"IF(A84<>\"\",IFERROR(VLOOKUP(R84,Tabelas!B:D,3,0),0),\"\")","v":0},{"$f":"IF(A84<>\"\",IFERROR(VLOOKUP(S84,Tabelas!B:D,3,0),0),\"\")","v":0},{"$f":"IF(A84<>\"\",IFERROR(VLOOKUP(T84,Tabelas!B:D,3,0),0),\"\")","v":0},{"$f":"IF(A84<>\"\",IFERROR(VLOOKUP(U84,Tabelas!B:D,3,0),0),\"\")","v":0},{"$f":"IF(A84<>\"\",IFERROR(VLOOKUP(V84,Tabelas!B:D,3,0),0),\"\")","v":0},{"$f":"IF(A84<>\"\",IFERROR(VLOOKUP(W84,Tabelas!B:D,3,0),0),\"\")","v":0},{"$f":"IF(A84<>\"\",IFERROR(VLOOKUP(X84,Tabelas!B:D,3,0),0),\"\")","v":0},{"$f":"IF(A84<>\"\",IFERROR(VLOOKUP(Y84,Tabelas!B:D,3,0),0),\"\")","v":0},{"$f":"IF(A84<>\"\",IFERROR(VLOOKUP(Z84,Tabelas!B:D,3,0),0),\"\")","v":0},{"$f":"IF(A84<>\"\",IFERROR(VLOOKUP(AA84,Tabelas!B:D,3,0),0),\"\")","v":0},{"$f":"IF(A84<>\"\",IFERROR(VLOOKUP(AB84,Tabelas!B:D,3,0),0),\"\")","v":0},{"$f":"IF(A84<>\"\",IFERROR(VLOOKUP(AC84,Tabelas!B:D,3,0),0),\"\")","v":0},{"$f":"IF(A84<>\"\",IFERROR(VLOOKUP(AD84,Tabelas!B:D,3,0),0),\"\")","v":0},{"$f":"IF(A84<>\"\",IFERROR(VLOOKUP(AE84,Tabelas!B:D,3,0),0),\"\")","v":0},{"$f":"IF(A84<>\"\",IFERROR(VLOOKUP(AF84,Tabelas!B:D,3,0),0),\"\")","v":0},{"$f":"IF(A84<>\"\",IFERROR(VLOOKUP(AG84,Tabelas!B:D,3,0),0),\"\")","v":0},{"$f":"IF(A84<>\"\",IFERROR(VLOOKUP(AH84,Tabelas!B:D,3,0),0),\"\")","v":0},{"$f":"IF(A84<>\"\",IFERROR(VLOOKUP(AI84,Tabelas!B:D,3,0),0),\"\")","v":0},{"$f":"IF(A84<>\"\",IFERROR(VLOOKUP(AJ84,Tabelas!B:D,3,0),0),\"\")","v":0},{"$f":"IF(A84<>\"\",IFERROR(VLOOKUP(AK84,Tabelas!B:D,3,0),0),\"\")","v":0},{"$f":"IF(A84<>\"\",IFERROR(VLOOKUP(AL84,Tabelas!B:D,3,0),0),\"\")","v":0},{"$f":"IF(A84<>\"\",IFERROR(VLOOKUP(AM84,Tabelas!B:D,3,0),0),\"\")","v":0},{"$f":"IF(A84<>\"\",IFERROR(VLOOKUP(AN84,Tabelas!B:D,3,0),0),\"\")","v":0},{"$f":"IF(A84<>\"\",IFERROR(VLOOKUP(AO84,Tabelas!B:D,3,0),0),\"\")","v":0},{"$f":"IF(A84<>\"\",IFERROR(VLOOKUP(AP84,Tabelas!B:D,3,0),0),\"\")","v":0},{"$f":"IF(A84<>\"\",IFERROR(VLOOKUP(AQ84,Tabelas!B:D,3,0),0),\"\")","v":0},{"$f":"IF(A84<>\"\",IFERROR(VLOOKUP(AR84,Tabelas!B:D,3,0),0),\"\")","v":0},0,0,{"$f":"IF(A84<>\"\",COUNTIF(N84:AR84,\"AB\"),\"\")","v":0},{"$f":"IF(A84<>\"\",COUNTIF(N84:AR84,\"FE\"),\"\")","v":0},{"$f":"IF(A84<>\"\",COUNTIF(N84:AR84,\"LC\"),\"\")","v":0},{"$f":"IF(A84<>\"\",COUNTIF(N84:AR84,\"CE\"),\"\")","v":0},0,0,0]
["Aline Coelho",null,null,null,null,null,null,null,null,null,null,null,null,null,null,null,null,null,null,null,null,null,null,null,null,null,null,null,null,null,null,null,null,null,null,null,null,null,null,null,null,null,null,null,{"$f":"IF(A85<>\"\",IFERROR(VLOOKUP(N85,Tabelas!B:D,3,0),0),\"\")","v":0},{"$f":"IF(A85<>\"\",IFERROR(VLOOKUP(O85,Tabelas!B:D,3,0),0),\"\")","v":0},{"$f":"IF(A85<>\"\",IFERROR(VLOOKUP(P85,Tabelas!B:D,3,0),0),\"\")","v":0},{"$f":"IF(A85<>\"\",IFERROR(VLOOKUP(Q85,Tabelas!B:D,3,0),0),\"\")","v":0},{"$f":"IF(A85<>\"\",IFERROR(VLOOKUP(R85,Tabelas!B:D,3,0),0),\"\")","v":0},{"$f":"IF(A85<>\"\",IFERROR(VLOOKUP(S85,Tabelas!B:D,3,0),0),\"\")","v":0},{"$f":"IF(A85<>\"\",IFERROR(VLOOKUP(T85,Tabelas!B:D,3,0),0),\"\")","v":0},{"$f":"IF(A85<>\"\",IFERROR(VLOOKUP(U85,Tabelas!B:D,3,0),0),\"\")","v":0},{"$f":"IF(A85<>\"\",IFERROR(VLOOKUP(V85,Tabelas!B:D,3,0),0),\"\")","v":0},{"$f":"IF(A85<>\"\",IFERROR(VLOOKUP(W85,Tabelas!B:D,3,0),0),\"\")","v":0},{"$f":"IF(A85<>\"\",IFERROR(VLOOKUP(X85,Tabelas!B:D,3,0),0),\"\")","v":0},{"$f":"IF(A85<>\"\",IFERROR(VLOOKUP(Y85,Tabelas!B:D,3,0),0),\"\")","v":0},{"$f":"IF(A85<>\"\",IFERROR(VLOOKUP(Z85,Tabelas!B:D,3,0),0),\"\")","v":0},{"$f":"IF(A85<>\"\",IFERROR(VLOOKUP(AA85,Tabelas!B:D,3,0),0),\"\")","v":0},{"$f":"IF(A85<>\"\",IFERROR(VLOOKUP(AB85,Tabelas!B:D,3,0),0),\"\")","v":0},{"$f":"IF(A85<>\"\",IFERROR(VLOOKUP(AC85,Tabelas!B:D,3,0),0),\"\")","v":0},{"$f":"IF(A85<>\"\",IFERROR(VLOOKUP(AD85,Tabelas!B:D,3,0),0),\"\")","v":0},{"$f":"IF(A85<>\"\",IFERROR(VLOOKUP(AE85,Tabelas!B:D,3,0),0),\"\")","v":0},{"$f":"IF(A85<>\"\",IFERROR(VLOOKUP(AF85,Tabelas!B:D,3,0),0),\"\")","v":0},{"$f":"IF(A85<>\"\",IFERROR(VLOOKUP(AG85,Tabelas!B:D,3,0),0),\"\")","v":0},{"$f":"IF(A85<>\"\",IFERROR(VLOOKUP(AH85,Tabelas!B:D,3,0),0),\"\")","v":0},{"$f":"IF(A85<>\"\",IFERROR(VLOOKUP(AI85,Tabelas!B:D,3,0),0),\"\")","v":0},{"$f":"IF(A85<>\"\",IFERROR(VLOOKUP(AJ85,Tabelas!B:D,3,0),0),\"\")","v":0},{"$f":"IF(A85<>\"\",IFERROR(VLOOKUP(AK85,Tabelas!B:D,3,0),0),\"\")","v":0},{"$f":"IF(A85<>\"\",IFERROR(VLOOKUP(AL85,Tabelas!B:D,3,0),0),\"\")","v":0},{"$f":"IF(A85<>\"\",IFERROR(VLOOKUP(AM85,Tabelas!B:D,3,0),0),\"\")","v":0},{"$f":"IF(A85<>\"\",IFERROR(VLOOKUP(AN85,Tabelas!B:D,3,0),0),\"\")","v":0},{"$f":"IF(A85<>\"\",IFERROR(VLOOKUP(AO85,Tabelas!B:D,3,0),0),\"\")","v":0},{"$f":"IF(A85<>\"\",IFERROR(VLOOKUP(AP85,Tabelas!B:D,3,0),0),\"\")","v":0},{"$f":"IF(A85<>\"\",IFERROR(VLOOKUP(AQ85,Tabelas!B:D,3,0),0),\"\")","v":0},{"$f":"IF(A85<>\"\",IFERROR(VLOOKUP(AR85,Tabelas!B:D,3,0),0),\"\")","v":0},0,0,{"$f":"IF(A85<>\"\",COUNTIF(N85:AR85,\"AB\"),\"\")","v":0},{"$f":"IF(A85<>\"\",COUNTIF(N85:AR85,\"FE\"),\"\")","v":0},{"$f":"IF(A85<>\"\",COUNTIF(N85:AR85,\"LC\"),\"\")","v":0},{"$f":"IF(A85<>\"\",COUNTIF(N85:AR85,\"CE\"),\"\")","v":0},0,0,0]
["AFASTAMENTOS",null,null,null,null,null,null,null,null,null,null,null,null,null,null,null,null,null,null,null,null,null,null,null,null,null,null,null,null,null,null,null,null,null,null,null,null,null,null,null,null,null,null,null,{"$f":"IF(A86<>\"\",IFERROR(VLOOKUP(N86,Tabelas!B:D,3,0),0),\"\")","v":0},{"$f":"IF(A86<>\"\",IFERROR(VLOOKUP(O86,Tabelas!B:D,3,0),0),\"\")","v":0},{"$f":"IF(A86<>\"\",IFERROR(VLOOKUP(P86,Tabelas!B:D,3,0),0),\"\")","v":0},{"$f":"IF(A86<>\"\",IFERROR(VLOOKUP(Q86,Tabelas!B:D,3,0),0),\"\")","v":0},{"$f":"IF(A86<>\"\",IFERROR(VLOOKUP(R86,Tabelas!B:D,3,0),0),\"\")","v":0},{"$f":"IF(A86<>\"\",IFERROR(VLOOKUP(S86,Tabelas!B:D,3,0),0),\"\")","v":0},{"$f":"IF(A86<>\"\",IFERROR(VLOOKUP(T86,Tabelas!B:D,3,0),0),\"\")","v":0},{"$f":"IF(A86<>\"\",IFERROR(VLOOKUP(U86,Tabelas!B:D,3,0),0),\"\")","v":0},{"$f":"IF(A86<>\"\",IFERROR(VLOOKUP(V86,Tabelas!B:D,3,0),0),\"\")","v":0},{"$f":"IF(A86<>\"\",IFERROR(VLOOKUP(W86,Tabelas!B:D,3,0),0),\"\")","v":0},{"$f":"IF(A86<>\"\",IFERROR(VLOOKUP(X86,Tabelas!B:D,3,0),0),\"\")","v":0},{"$f":"IF(A86<>\"\",IFERROR(VLOOKUP(Y86,Tabelas!B:D,3,0),0),\"\")","v":0},{"$f":"IF(A86<>\"\",IFERROR(VLOOKUP(Z86,Tabelas!B:D,3,0),0),\"\")","v":0},{"$f":"IF(A86<>\"\",IFERROR(VLOOKUP(AA86,Tabelas!B:D,3,0),0),\"\")","v":0},{"$f":"IF(A86<>\"\",IFERROR(VLOOKUP(AB86,Tabelas!B:D,3,0),0),\"\")","v":0},{"$f":"IF(A86<>\"\",IFERROR(VLOOKUP(AC86,Tabelas!B:D,3,0),0),\"\")","v":0},{"$f":"IF(A86<>\"\",IFERROR(VLOOKUP(AD86,Tabelas!B:D,3,0),0),\"\")","v":0},{"$f":"IF(A86<>\"\",IFERROR(VLOOKUP(AE86,Tabelas!B:D,3,0),0),\"\")","v":0},{"$f":"IF(A86<>\"\",IFERROR(VLOOKUP(AF86,Tabelas!B:D,3,0),0),\"\")","v":0},{"$f":"IF(A86<>\"\",IFERROR(VLOOKUP(AG86,Tabelas!B:D,3,0),0),\"\")","v":0},{"$f":"IF(A86<>\"\",IFERROR(VLOOKUP(AH86,Tabelas!B:D,3,0),0),\"\")","v":0},{"$f":"IF(A86<>\"\",IFERROR(VLOOKUP(AI86,Tabelas!B:D,3,0),0),\"\")","v":0},{"$f":"IF(A86<>\"\",IFERROR(VLOOKUP(AJ86,Tabelas!B:D,3,0),0),\"\")","v":0},{"$f":"IF(A86<>\"\",IFERROR(VLOOKUP(AK86,Tabelas!B:D,3,0),0),\"\")","v":0},{"$f":"IF(A86<>\"\",IFERROR(VLOOKUP(AL86,Tabelas!B:D,3,0),0),\"\")","v":0},{"$f":"IF(A86<>\"\",IFERROR(VLOOKUP(AM86,Tabelas!B:D,3,0),0),\"\")","v":0},{"$f":"IF(A86<>\"\",IFERROR(VLOOKUP(AN86,Tabelas!B:D,3,0),0),\"\")","v":0},{"$f":"IF(A86<>\"\",IFERROR(VLOOKUP(AO86,Tabelas!B:D,3,0),0),\"\")","v":0},{"$f":"IF(A86<>\"\",IFERROR(VLOOKUP(AP86,Tabelas!B:D,3,0),0),\"\")","v":0},{"$f":"IF(A86<>\"\",IFERROR(VLOOKUP(AQ86,Tabelas!B:D,3,0),0),\"\")","v":0},{"$f":"IF(A86<>\"\",IFERROR(VLOOKUP(AR86,Tabelas!B:D,3,0),0),\"\")","v":0},0,0,{"$f":"IF(A86<>\"\",COUNTIF(N86:AR86,\"AB\"),\"\")","v":0},{"$f":"IF(A86<>\"\",COUNTIF(N86:AR86,\"FE\"),\"\")","v":0},{"$f":"IF(A86<>\"\",COUNTIF(N86:AR86,\"LC\"),\"\")","v":0},{"$f":"IF(A86<>\"\",COUNTIF(N86:AR86,\"CE\"),\"\")","v":0},0,0,0]
["Elaine A. G. Medeiros",null,null,null,null,null,null,null,null,null,null,null,null,null,null,null,null,null,null,null,null,null,null,null,null,null,null,null,null,null,null,null,null,null,null,null,null,null,null,null,null,null,null,null,{"$f":"IF(A87<>\"\",IFERROR(VLOOKUP(N87,Tabelas!B:D,3,0),0),\"\")","v":0},{"$f":"IF(A87<>\"\",IFERROR(VLOOKUP(O87,Tabelas!B:D,3,0),0),\"\")","v":0},{"$f":"IF(A87<>\"\",IFERROR(VLOOKUP(P87,Tabelas!B:D,3,0),0),\"\")","v":0},{"$f":"IF(A87<>\"\",IFERROR(VLOOKUP(Q87,Tabelas!B:D,3,0),0),\"\")","v":0},{"$f":"IF(A87<>\"\",IFERROR(VLOOKUP(R87,Tabelas!B:D,3,0),0),\"\")","v":0},{"$f":"IF(A87<>\"\",IFERROR(VLOOKUP(S87,Tabelas!B:D,3,0),0),\"\")","v":0},{"$f":"IF(A87<>\"\",IFERROR(VLOOKUP(T87,Tabelas!B:D,3,0),0),\"\")","v":0},{"$f":"IF(A87<>\"\",IFERROR(VLOOKUP(U87,Tabelas!B:D,3,0),0),\"\")","v":0},{"$f":"IF(A87<>\"\",IFERROR(VLOOKUP(V87,Tabelas!B:D,3,0),0),\"\")","v":0},{"$f":"IF(A87<>\"\",IFERROR(VLOOKUP(W87,Tabelas!B:D,3,0),0),\"\")","v":0},{"$f":"IF(A87<>\"\",IFERROR(VLOOKUP(X87,Tabelas!B:D,3,0),0),\"\")","v":0},{"$f":"IF(A87<>\"\",IFERROR(VLOOKUP(Y87,Tabelas!B:D,3,0),0),\"\")","v":0},{"$f":"IF(A87<>\"\",IFERROR(VLOOKUP(Z87,Tabelas!B:D,3,0),0),\"\")","v":0},{"$f":"IF(A87<>\"\",IFERROR(VLOOKUP(AA87,Tabelas!B:D,3,0),0),\"\")","v":0},{"$f":"IF(A87<>\"\",IFERROR(VLOOKUP(AB87,Tabelas!B:D,3,0),0),\"\")","v":0},{"$f":"IF(A87<>\"\",IFERROR(VLOOKUP(AC87,Tabelas!B:D,3,0),0),\"\")","v":0},{"$f":"IF(A87<>\"\",IFERROR(VLOOKUP(AD87,Tabelas!B:D,3,0),0),\"\")","v":0},{"$f":"IF(A87<>\"\",IFERROR(VLOOKUP(AE87,Tabelas!B:D,3,0),0),\"\")","v":0},{"$f":"IF(A87<>\"\",IFERROR(VLOOKUP(AF87,Tabelas!B:D,3,0),0),\"\")","v":0},{"$f":"IF(A87<>\"\",IFERROR(VLOOKUP(AG87,Tabelas!B:D,3,0),0),\"\")","v":0},{"$f":"IF(A87<>\"\",IFERROR(VLOOKUP(AH87,Tabelas!B:D,3,0),0),\"\")","v":0},{"$f":"IF(A87<>\"\",IFERROR(VLOOKUP(AI87,Tabelas!B:D,3,0),0),\"\")","v":0},{"$f":"IF(A87<>\"\",IFERROR(VLOOKUP(AJ87,Tabelas!B:D,3,0),0),\"\")","v":0},{"$f":"IF(A87<>\"\",IFERROR(VLOOKUP(AK87,Tabelas!B:D,3,0),0),\"\")","v":0},{"$f":"IF(A87<>\"\",IFERROR(VLOOKUP(AL87,Tabelas!B:D,3,0),0),\"\")","v":0},{"$f":"IF(A87<>\"\",IFERROR(VLOOKUP(AM87,Tabelas!B:D,3,0),0),\"\")","v":0},{"$f":"IF(A87<>\"\",IFERROR(VLOOKUP(AN87,Tabelas!B:D,3,0),0),\"\")","v":0},{"$f":"IF(A87<>\"\",IFERROR(VLOOKUP(AO87,Tabelas!B:D,3,0),0),\"\")","v":0},{"$f":"IF(A87<>\"\",IFERROR(VLOOKUP(AP87,Tabelas!B:D,3,0),0),\"\")","v":0},{"$f":"IF(A87<>\"\",IFERROR(VLOOKUP(AQ87,Tabelas!B:D,3,0),0),\"\")","v":0},{"$f":"IF(A87<>\"\",IFERROR(VLOOKUP(AR87,Tabelas!B:D,3,0),0),\"\")","v":0},0,0,{"$f":"IF(A87<>\"\",COUNTIF(N87:AR87,\"AB\"),\"\")","v":0},{"$f":"IF(A87<>\"\",COUNTIF(N87:AR87,\"FE\"),\"\")","v":0},{"$f":"IF(A87<>\"\",COUNTIF(N87:AR87,\"LC\"),\"\")","v":0},{"$f":"IF(A87<>\"\",COUNTIF(N87:AR87,\"CE\"),\"\")","v":0},0,0,0]
["COBERTURAS EXTERNAS",null,null,null,null,null,null,null,null,null,null,null,null,null,null,null,null,null,null,null,null,null,null,null,null,null,null,null,null,null,null,null,null,null,null,null,null,null,null,null,null,null,null,null,{"$f":"IF(A88<>\"\",IFERROR(VLOOKUP(N88,Tabelas!B:D,3,0),0),\"\")","v":0},{"$f":"IF(A88<>\"\",IFERROR(VLOOKUP(O88,Tabelas!B:D,3,0),0),\"\")","v":0},{"$f":"IF(A88<>\"\",IFERROR(VLOOKUP(P88,Tabelas!B:D,3,0),0),\"\")","v":0},{"$f":"IF(A88<>\"\",IFERROR(VLOOKUP(Q88,Tabelas!B:D,3,0),0),\"\")","v":0},{"$f":"IF(A88<>\"\",IFERROR(VLOOKUP(R88,Tabelas!B:D,3,0),0),\"\")","v":0},{"$f":"IF(A88<>\"\",IFERROR(VLOOKUP(S88,Tabelas!B:D,3,0),0),\"\")","v":0},{"$f":"IF(A88<>\"\",IFERROR(VLOOKUP(T88,Tabelas!B:D,3,0),0),\"\")","v":0},{"$f":"IF(A88<>\"\",IFERROR(VLOOKUP(U88,Tabelas!B:D,3,0),0),\"\")","v":0},{"$f":"IF(A88<>\"\",IFERROR(VLOOKUP(V88,Tabelas!B:D,3,0),0),\"\")","v":0},{"$f":"IF(A88<>\"\",IFERROR(VLOOKUP(W88,Tabelas!B:D,3,0),0),\"\")","v":0},{"$f":"IF(A88<>\"\",IFERROR(VLOOKUP(X88,Tabelas!B:D,3,0),0),\"\")","v":0},{"$f":"IF(A88<>\"\",IFERROR(VLOOKUP(Y88,Tabelas!B:D,3,0),0),\"\")","v":0},{"$f":"IF(A88<>\"\",IFERROR(VLOOKUP(Z88,Tabelas!B:D,3,0),0),\"\")","v":0},{"$f":"IF(A88<>\"\",IFERROR(VLOOKUP(AA88,Tabelas!B:D,3,0),0),\"\")","v":0},{"$f":"IF(A88<>\"\",IFERROR(VLOOKUP(AB88,Tabelas!B:D,3,0),0),\"\")","v":0},{"$f":"IF(A88<>\"\",IFERROR(VLOOKUP(AC88,Tabelas!B:D,3,0),0),\"\")","v":0},{"$f":"IF(A88<>\"\",IFERROR(VLOOKUP(AD88,Tabelas!B:D,3,0),0),\"\")","v":0},{"$f":"IF(A88<>\"\",IFERROR(VLOOKUP(AE88,Tabelas!B:D,3,0),0),\"\")","v":0},{"$f":"IF(A88<>\"\",IFERROR(VLOOKUP(AF88,Tabelas!B:D,3,0),0),\"\")","v":0},{"$f":"IF(A88<>\"\",IFERROR(VLOOKUP(AG88,Tabelas!B:D,3,0),0),\"\")","v":0},{"$f":"IF(A88<>\"\",IFERROR(VLOOKUP(AH88,Tabelas!B:D,3,0),0),\"\")","v":0},{"$f":"IF(A88<>\"\",IFERROR(VLOOKUP(AI88,Tabelas!B:D,3,0),0),\"\")","v":0},{"$f":"IF(A88<>\"\",IFERROR(VLOOKUP(AJ88,Tabelas!B:D,3,0),0),\"\")","v":0},{"$f":"IF(A88<>\"\",IFERROR(VLOOKUP(AK88,Tabelas!B:D,3,0),0),\"\")","v":0},{"$f":"IF(A88<>\"\",IFERROR(VLOOKUP(AL88,Tabelas!B:D,3,0),0),\"\")","v":0},{"$f":"IF(A88<>\"\",IFERROR(VLOOKUP(AM88,Tabelas!B:D,3,0),0),\"\")","v":0},{"$f":"IF(A88<>\"\",IFERROR(VLOOKUP(AN88,Tabelas!B:D,3,0),0),\"\")","v":0},{"$f":"IF(A88<>\"\",IFERROR(VLOOKUP(AO88,Tabelas!B:D,3,0),0),\"\")","v":0},{"$f":"IF(A88<>\"\",IFERROR(VLOOKUP(AP88,Tabelas!B:D,3,0),0),\"\")","v":0},{"$f":"IF(A88<>\"\",IFERROR(VLOOKUP(AQ88,Tabelas!B:D,3,0),0),\"\")","v":0},{"$f":"IF(A88<>\"\",IFERROR(VLOOKUP(AR88,Tabelas!B:D,3,0),0),\"\")","v":0},0,0,{"$f":"IF(A88<>\"\",COUNTIF(N88:AR88,\"AB\"),\"\")","v":0},{"$f":"IF(A88<>\"\",COUNTIF(N88:AR88,\"FE\"),\"\")","v":0},{"$f":"IF(A88<>\"\",COUNTIF(N88:AR88,\"LC\"),\"\")","v":0},{"$f":"IF(A88<>\"\",COUNTIF(N88:AR88,\"CE\"),\"\")","v":0},0,0,0]
[null,null,null,null,null,null,null,null,null,null,null,null,null,null,null,null,null,null,null,null,null,null,null,null,null,null,null,null,null,null,null,null,null,null,null,null,null,null,null,null,null,null,null,null,{"$f":"IF(A89<>\"\",IFERROR(VLOOKUP(N89,Tabelas!B:D,3,0),0),\"\")","v":""},{"$f":"IF(A89<>\"\",IFERROR(VLOOKUP(O89,Tabelas!B:D,3,0),0),\"\")","v":""},{"$f":"IF(A89<>\"\",IFERROR(VLOOKUP(P89,Tabelas!B:D,3,0),0),\"\")","v":""},{"$f":"IF(A89<>\"\",IFERROR(VLOOKUP(Q89,Tabelas!B:D,3,0),0),\"\")","v":""},{"$f":"IF(A89<>\"\",IFERROR(VLOOKUP(R89,Tabelas!B:D,3,0),0),\"\")","v":""},{"$f":"IF(A89<>\"\",IFERROR(VLOOKUP(S89,Tabelas!B:D,3,0),0),\"\")","v":""},{"$f":"IF(A89<>\"\",IFERROR(VLOOKUP(T89,Tabelas!B:D,3,0),0),\"\")","v":""},{"$f":"IF(A89<>\"\",IFERROR(VLOOKUP(U89,Tabelas!B:D,3,0),0),\"\")","v":""},{"$f":"IF(A89<>\"\",IFERROR(VLOOKUP(V89,Tabelas!B:D,3,0),0),\"\")","v":""},{"$f":"IF(A89<>\"\",IFERROR(VLOOKUP(W89,Tabelas!B:D,3,0),0),\"\")","v":""},{"$f":"IF(A89<>\"\",IFERROR(VLOOKUP(X89,Tabelas!B:D,3,0),0),\"\")","v":""},{"$f":"IF(A89<>\"\",IFERROR(VLOOKUP(Y89,Tabelas!B:D,3,0),0),\"\")","v":""},{"$f":"IF(A89<>\"\",IFERROR(VLOOKUP(Z89,Tabelas!B:D,3,0),0),\"\")","v":""},{"$f":"IF(A89<>\"\",IFERROR(VLOOKUP(AA89,Tabelas!B:D,3,0),0),\"\")","v":""},{"$f":"IF(A89<>\"\",IFERROR(VLOOKUP(AB89,Tabelas!B:D,3,0),0),\"\")","v":""},{"$f":"IF(A89<>\"\",IFERROR(VLOOKUP(AC89,Tabelas!B:D,3,0),0),\"\")","v":""},{"$f":"IF(A89<>\"\",IFERROR(VLOOKUP(AD89,Tabelas!B:D,3,0),0),\"\")","v":""},{"$f":"IF(A89<>\"\",IFERROR(VLOOKUP(AE89,Tabelas!B:D,3,0),0),\"\")","v":""},{"$f":"IF(A89<>\"\",IFERROR(VLOOKUP(AF89,Tabelas!B:D,3,0),0),\"\")","v":""},{"$f":"IF(A89<>\"\",IFERROR(VLOOKUP(AG89,Tabelas!B:D,3,0),0),\"\")","v":""},{"$f":"IF(A89<>\"\",IFERROR(VLOOKUP(AH89,Tabelas!B:D,3,0),0),\"\")","v":""},{"$f":"IF(A89<>\"\",IFERROR(VLOOKUP(AI89,Tabelas!B:D,3,0),0),\"\")","v":""},{"$f":"IF(A89<>\"\",IFERROR(VLOOKUP(AJ89,Tabelas!B:D,3,0),0),\"\")","v":""},{"$f":"IF(A89<>\"\",IFERROR(VLOOKUP(AK89,Tabelas!B:D,3,0),0),\"\")","v":""},{"$f":"IF(A89<>\"\",IFERROR(VLOOKUP(AL89,Tabelas!B:D,3,0),0),\"\")","v":""},{"$f":"IF(A89<>\"\",IFERROR(VLOOKUP(AM89,Tabelas!B:D,3,0),0),\"\")","v":""},{"$f":"IF(A89<>\"\",IFERROR(VLOOKUP(AN89,Tabelas!B:D,3,0),0),\"\")","v":""},{"$f":"IF(A89<>\"\",IFERROR(VLOOKUP(AO89,Tabelas!B:D,3,0),0),\"\")","v":""},{"$f":"IF(A89<>\"\",IFERROR(VLOOKUP(AP89,Tabelas!B:D,3,0),0),\"\")","v":""},{"$f":"IF(A89<>\"\",IFERROR(VLOOKUP(AQ89,Tabelas!B:D,3,0),0),\"\")","v":""},{"$f":"IF(A89<>\"\",IFERROR(VLOOKUP(AR89,Tabelas!B:D,3,0),0),\"\")","v":""},"",{"$error":"#VALUE!"},{"$f":"IF(A89<>\"\",COUNTIF(N89:AR89,\"AB\"),\"\")","v":""},{"$f":"IF(A89<>\"\",COUNTIF(N89:AR89,\"FE\"),\"\")","v":""},{"$f":"IF(A89<>\"\",COUNTIF(N89:AR89,\"LC\"),\"\")","v":""},{"$f":"IF(A89<>\"\",COUNTIF(N89:AR89,\"CE\"),\"\")","v":""},"","",""]
[null,null,null,null,null,null,null,null,null,null,null,null,null,null,null,null,null,null,null,null,null,null,null,null,null,null,null,null,null,null,null,null,null,null,null,null,null,null,null,null,null,null,null,null,{"$f":"IF(A90<>\"\",IFERROR(VLOOKUP(N90,Tabelas!B:D,3,0),0),\"\")","v":""},{"$f":"IF(A90<>\"\",IFERROR(VLOOKUP(O90,Tabelas!B:D,3,0),0),\"\")","v":""},{"$f":"IF(A90<>\"\",IFERROR(VLOOKUP(P90,Tabelas!B:D,3,0),0),\"\")","v":""},{"$f":"IF(A90<>\"\",IFERROR(VLOOKUP(Q90,Tabelas!B:D,3,0),0),\"\")","v":""},{"$f":"IF(A90<>\"\",IFERROR(VLOOKUP(R90,Tabelas!B:D,3,0),0),\"\")","v":""},{"$f":"IF(A90<>\"\",IFERROR(VLOOKUP(S90,Tabelas!B:D,3,0),0),\"\")","v":""},{"$f":"IF(A90<>\"\",IFERROR(VLOOKUP(T90,Tabelas!B:D,3,0),0),\"\")","v":""},{"$f":"IF(A90<>\"\",IFERROR(VLOOKUP(U90,Tabelas!B:D,3,0),0),\"\")","v":""},{"$f":"IF(A90<>\"\",IFERROR(VLOOKUP(V90,Tabelas!B:D,3,0),0),\"\")","v":""},{"$f":"IF(A90<>\"\",IFERROR(VLOOKUP(W90,Tabelas!B:D,3,0),0),\"\")","v":""},{"$f":"IF(A90<>\"\",IFERROR(VLOOKUP(X90,Tabelas!B:D,3,0),0),\"\")","v":""},{"$f":"IF(A90<>\"\",IFERROR(VLOOKUP(Y90,Tabelas!B:D,3,0),0),\"\")","v":""},{"$f":"IF(A90<>\"\",IFERROR(VLOOKUP(Z90,Tabelas!B:D,3,0),0),\"\")","v":""},{"$f":"IF(A90<>\"\",IFERROR(VLOOKUP(AA90,Tabelas!B:D,3,0),0),\"\")","v":""},{"$f":"IF(A90<>\"\",IFERROR(VLOOKUP(AB90,Tabelas!B:D,3,0),0),\"\")","v":""},{"$f":"IF(A90<>\"\",IFERROR(VLOOKUP(AC90,Tabelas!B:D,3,0),0),\"\")","v":""},{"$f":"IF(A90<>\"\",IFERROR(VLOOKUP(AD90,Tabelas!B:D,3,0),0),\"\")","v":""},{"$f":"IF(A90<>\"\",IFERROR(VLOOKUP(AE90,Tabelas!B:D,3,0),0),\"\")","v":""},{"$f":"IF(A90<>\"\",IFERROR(VLOOKUP(AF90,Tabelas!B:D,3,0),0),\"\")","v":""},{"$f":"IF(A90<>\"\",IFERROR(VLOOKUP(AG90,Tabelas!B:D,3,0),0),\"\")","v":""},{"$f":"IF(A90<>\"\",IFERROR(VLOOKUP(AH90,Tabelas!B:D,3,0),0),\"\")","v":""},{"$f":"IF(A90<>\"\",IFERROR(VLOOKUP(AI90,Tabelas!B:D,3,0),0),\"\")","v":""},{"$f":"IF(A90<>\"\",IFERROR(VLOOKUP(AJ90,Tabelas!B:D,3,0),0),\"\")","v":""},{"$f":"IF(A90<>\"\",IFERROR(VLOOKUP(AK90,Tabelas!B:D,3,0),0),\"\")","v":""},{"$f":"IF(A90<>\"\",IFERROR(VLOOKUP(AL90,Tabelas!B:D,3,0),0),\"\")","v":""},{"$f":"IF(A90<>\"\",IFERROR(VLOOKUP(AM90,Tabelas!B:D,3,0),0),\"\")","v":""},{"$f":"IF(A90<>\"\",IFERROR(VLOOKUP(AN90,Tabelas!B:D,3,0),0),\"\")","v":""},{"$f":"IF(A90<>\"\",IFERROR(VLOOKUP(AO90,Tabelas!B:D,3,0),0),\"\")","v":""},{"$f":"IF(A90<>\"\",IFERROR(VLOOKUP(AP90,Tabelas!B:D,3,0),0),\"\")","v":""},{"$f":"IF(A90<>\"\",IFERROR(VLOOKUP(AQ90,Tabelas!B:D,3,0),0),\"\")","v":""},{"$f":"IF(A90<>\"\",IFERROR(VLOOKUP(AR90,Tabelas!B:D,3,0),0),\"\")","v":""},"",{"$error":"#VALUE!"},"","","","","","",""]
["TOTAL PROFISSIONAIS MATUTINO",null,null,null,null,null,null,null,null,null,null,null,null,{"$f":"COUNTIF(N9:N55,\"M\")+COUNTIF(N56:N65,\"M\")+COUNTIF(N66:N90,\"M\")+COUNTIF(N9:N55,\"M?\") +COUNTIF(N56:N65,\"M?\")+COUNTIF(N66:N90,\"M?\")+ COUNTIF(N9:N55, \"MT?\") + COUNTIF(N56:N65, \"MT?\")+ COUNTIF(N66:N90, \"MT?\")+ COUNTIF(N9:N55, \"D?\")  + COUNTIF(N56:N65, \"D?\")+COUNTIF(N66:N90, \"D?\")+ COUNTIF(N9:N55, \"DN?\")+ COUNTIF(N56:N65, \"DN?\")+ COUNTIF(N66:N90, \"DN?\")+ COUNTIF(N9:N55, \"MT??\") + COUNTIF(N56:N65, \"MT??\")+ COUNTIF(N66:N90, \"MT??\")+ COUNTIF(N9:N55, \"D\")  + COUNTIF(N56:N65, \"D\")+COUNTIF(N66:N90, \"D\")","v":0},0,0,0,0,0,0,0,0,0,0,0,0,0,0,0,0,0,0,0,0,0,0,0,0,0,0,0,0,0,0]
["TOTAL DE PROFISSIONAIS VESPERTINO",null,null,null,null,null,null,null,null,null,null,null,null,{"$f":"COUNTIF(N9:N55,\"T\")+COUNTIF(N56:N65,\"T\")+COUNTIF(N66:N90,\"T\")+COUNTIF(N9:N55,\"T?\") +COUNTIF(N56:N65,\"T?\")+COUNTIF(N66:N90,\"T?\")+ COUNTIF(N9:N55, \"MT?\") + COUNTIF(N56:N65, \"MT?\")+ COUNTIF(N66:N90, \"MT?\")+ COUNTIF(N9:N55, \"D?\")  + COUNTIF(N56:N65, \"D?\")+COUNTIF(N66:N90, \"D?\")+ COUNTIF(N9:N55, \"DN?\")+ COUNTIF(N56:N65, \"DN?\")+ COUNTIF(N66:N90, \"DN?\")+ COUNTIF(N9:N55, \"MT??\") + COUNTIF(N56:N65, \"MT??\")+ COUNTIF(N66:N90, \"MT??\")+ COUNTIF(N9:N55, \"D\")  + COUNTIF(N56:N65, \"D\")+COUNTIF(N66:N90, \"D\")","v":0},0,0,0,0,0,0,0,0,0,0,0,0,0,0,0,0,0,0,0,0,0,0,0,0,0,0,0,0,0,0,{"$f":"IF(A92<>\"\",IFERROR(VLOOKUP(N92,Tabelas!B:D,3,0),0),\"\")","v":0},{"$f":"IF(A92<>\"\",IFERROR(VLOOKUP(O92,Tabelas!B:D,3,0),0),\"\")","v":0},{"$f":"IF(A92<>\"\",IFERROR(VLOOKUP(P92,Tabelas!B:D,3,0),0),\"\")","v":0},{"$f":"IF(A92<>\"\",IFERROR(VLOOKUP(Q92,Tabelas!B:D,3,0),0),\"\")","v":0},{"$f":"IF(A92<>\"\",IFERROR(VLOOKUP(R92,Tabelas!B:D,3,0),0),\"\")","v":0},{"$f":"IF(A92<>\"\",IFERROR(VLOOKUP(S92,Tabelas!B:D,3,0),0),\"\")","v":0},{"$f":"IF(A92<>\"\",IFERROR(VLOOKUP(T92,Tabelas!B:D,3,0),0),\"\")","v":0},{"$f":"IF(A92<>\"\",IFERROR(VLOOKUP(U92,Tabelas!B:D,3,0),0),\"\")","v":0},{"$f":"IF(A92<>\"\",IFERROR(VLOOKUP(V92,Tabelas!B:D,3,0),0),\"\")","v":0},{"$f":"IF(A92<>\"\",IFERROR(VLOOKUP(W92,Tabelas!B:D,3,0),0),\"\")","v":0},{"$f":"IF(A92<>\"\",IFERROR(VLOOKUP(X92,Tabelas!B:D,3,0),0),\"\")","v":0},{"$f":"IF(A92<>\"\",IFERROR(VLOOKUP(Y92,Tabelas!B:D,3,0),0),\"\")","v":0},{"$f":"IF(A92<>\"\",IFERROR(VLOOKUP(Z92,Tabelas!B:D,3,0),0),\"\")","v":0},{"$f":"IF(A92<>\"\",IFERROR(VLOOKUP(AA92,Tabelas!B:D,3,0),0),\"\")","v":0},{"$f":"IF(A92<>\"\",IFERROR(VLOOKUP(AB92,Tabelas!B:D,3,0),0),\"\")","v":0},{"$f":"IF(A92<>\"\",IFERROR(VLOOKUP(AC92,Tabelas!B:D,3,0),0),\"\")","v":0},{"$f":"IF(A92<>\"\",IFERROR(VLOOKUP(AD92,Tabelas!B:D,3,0),0),\"\")","v":0},{"$f":"IF(A92<>\"\",IFERROR(VLOOKUP(AE92,Tabelas!B:D,3,0),0),\"\")","v":0},{"$f":"IF(A92<>\"\",IFERROR(VLOOKUP(AF92,Tabelas!B:D,3,0),0),\"\")","v":0},{"$f":"IF(A92<>\"\",IFERROR(VLOOKUP(AG92,Tabelas!B:D,3,0),0),\"\")","v":0},{"$f":"IF(A92<>\"\",IFERROR(VLOOKUP(AH92,Tabelas!B:D,3,0),0),\"\")","v":0},{"$f":"IF(A92<>\"\",IFERROR(VLOOKUP(AI92,Tabelas!B:D,3,0),0),\"\")","v":0},{"$f":"IF(A92<>\"\",IFERROR(VLOOKUP(AJ92,Tabelas!B:D,3,0),0),\"\")","v":0},{"$f":"IF(A92<>\"\",IFERROR(VLOOKUP(AK92,Tabelas!B:D,3,0),0),\"\")","v":0},{"$f":"IF(A92<>\"\",IFERROR(VLOOKUP(AL92,Tabelas!B:D,3,0),0),\"\")","v":0},{"$f":"IF(A92<>\"\",IFERROR(VLOOKUP(AM92,Tabelas!B:D,3,0),0),\"\")","v":0},{"$f":"IF(A92<>\"\",IFERROR(VLOOKUP(AN92,Tabelas!B:D,3,0),0),\"\")","v":0},{"$f":"IF(A92<>\"\",IFERROR(VLOOKUP(AO92,Tabelas!B:D,3,0),0),\"\")","v":0},{"$f":"IF(A92<>\"\",IFERROR(VLOOKUP(AP92,Tabelas!B:D,3,0),0),\"\")","v":0},{"$f":"IF(A92<>\"\",IFERROR(VLOOKUP(AQ92,Tabelas!B:D,3,0),0),\"\")","v":0},{"$f":"IF(A92<>\"\",IFERROR(VLOOKUP(AR92,Tabelas!B:D,3,0),0),\"\")","v":0}]
["TOTAL DE PROFISSIONAIS NOTURNO",null,null,null,null,null,null,null,null,null,null,null,null,{"$f":"COUNTIF(N9:N55,\"N\")+COUNTIF(N56:N65,\"N\")+COUNTIF(N66:N90,\"N\")+COUNTIF(N9:N55,\"N?\") +COUNTIF(N56:N65,\"N?\")+COUNTIF(N66:N90,\"N?\")+ COUNTIF(N9:N55, \"DN?\")+ COUNTIF(N56:N65, \"DN?\")+ COUNTIF(N66:N90, \"DN?\")","v":0},0,0,0,0,0,0,0,0,0,0,0,0,0,0,0,0,0,0,0,0,0,0,0,0,0,0,0,0,0,0,{"$f":"IF(A93<>\"\",IFERROR(VLOOKUP(N93,Tabelas!B:D,3,0),0),\"\")","v":0},{"$f":"IF(A93<>\"\",IFERROR(VLOOKUP(O93,Tabelas!B:D,3,0),0),\"\")","v":0},{"$f":"IF(A93<>\"\",IFERROR(VLOOKUP(P93,Tabelas!B:D,3,0),0),\"\")","v":0},{"$f":"IF(A93<>\"\",IFERROR(VLOOKUP(Q93,Tabelas!B:D,3,0),0),\"\")","v":0},{"$f":"IF(A93<>\"\",IFERROR(VLOOKUP(R93,Tabelas!B:D,3,0),0),\"\")","v":0},{"$f":"IF(A93<>\"\",IFERROR(VLOOKUP(S93,Tabelas!B:D,3,0),0),\"\")","v":0},{"$f":"IF(A93<>\"\",IFERROR(VLOOKUP(T93,Tabelas!B:D,3,0),0),\"\")","v":0},{"$f":"IF(A93<>\"\",IFERROR(VLOOKUP(U93,Tabelas!B:D,3,0),0),\"\")","v":0},{"$f":"IF(A93<>\"\",IFERROR(VLOOKUP(V93,Tabelas!B:D,3,0),0),\"\")","v":0},{"$f":"IF(A93<>\"\",IFERROR(VLOOKUP(W93,Tabelas!B:D,3,0),0),\"\")","v":0},{"$f":"IF(A93<>\"\",IFERROR(VLOOKUP(X93,Tabelas!B:D,3,0),0),\"\")","v":0},{"$f":"IF(A93<>\"\",IFERROR(VLOOKUP(Y93,Tabelas!B:D,3,0),0),\"\")","v":0},{"$f":"IF(A93<>\"\",IFERROR(VLOOKUP(Z93,Tabelas!B:D,3,0),0),\"\")","v":0},{"$f":"IF(A93<>\"\",IFERROR(VLOOKUP(AA93,Tabelas!B:D,3,0),0),\"\")","v":0},{"$f":"IF(A93<>\"\",IFERROR(VLOOKUP(AB93,Tabelas!B:D,3,0),0),\"\")","v":0},{"$f":"IF(A93<>\"\",IFERROR(VLOOKUP(AC93,Tabelas!B:D,3,0),0),\"\")","v":0},{"$f":"IF(A93<>\"\",IFERROR(VLOOKUP(AD93,Tabelas!B:D,3,0),0),\"\")","v":0},{"$f":"IF(A93<>\"\",IFERROR(VLOOKUP(AE93,Tabelas!B:D,3,0),0),\"\")","v":0},{"$f":"IF(A93<>\"\",IFERROR(VLOOKUP(AF93,Tabelas!B:D,3,0),0),\"\")","v":0},{"$f":"IF(A93<>\"\",IFERROR(VLOOKUP(AG93,Tabelas!B:D,3,0),0),\"\")","v":0},{"$f":"IF(A93<>\"\",IFERROR(VLOOKUP(AH93,Tabelas!B:D,3,0),0),\"\")","v":0},{"$f":"IF(A93<>\"\",IFERROR(VLOOKUP(AI93,Tabelas!B:D,3,0),0),\"\")","v":0},{"$f":"IF(A93<>\"\",IFERROR(VLOOKUP(AJ93,Tabelas!B:D,3,0),0),\"\")","v":0},{"$f":"IF(A93<>\"\",IFERROR(VLOOKUP(AK93,Tabelas!B:D,3,0),0),\"\")","v":0},{"$f":"IF(A93<>\"\",IFERROR(VLOOKUP(AL93,Tabelas!B:D,3,0),0),\"\")","v":0},{"$f":"IF(A93<>\"\",IFERROR(VLOOKUP(AM93,Tabelas!B:D,3,0),0),\"\")","v":0},{"$f":"IF(A93<>\"\",IFERROR(VLOOKUP(AN93,Tabelas!B:D,3,0),0),\"\")","v":0},{"$f":"IF(A93<>\"\",IFERROR(VLOOKUP(AO93,Tabelas!B:D,3,0),0),\"\")","v":0},{"$f":"IF(A93<>\"\",IFERROR(VLOOKUP(AP93,Tabelas!B:D,3,0),0),\"\")","v":0},{"$f":"IF(A93<>\"\",IFERROR(VLOOKUP(AQ93,Tabelas!B:D,3,0),0),\"\")","v":0},{"$f":"IF(A93<>\"\",IFERROR(VLOOKUP(AR93,Tabelas!B:D,3,0),0),\"\")","v":0}]
[null,null,null,null,null,null,null,null,null,null,null,null,null,null,null,null,null,null,null,null,null,null,null,null,null,null,null,null,null,null,null,null,null,null,null,null,null,null,null,null,null,null,null,null,{"$f":"IF(A94<>\"\",IFERROR(VLOOKUP(N94,Tabelas!B:D,3,0),0),\"\")","v":""},{"$f":"IF(A94<>\"\",IFERROR(VLOOKUP(O94,Tabelas!B:D,3,0),0),\"\")","v":""},{"$f":"IF(A94<>\"\",IFERROR(VLOOKUP(P94,Tabelas!B:D,3,0),0),\"\")","v":""},{"$f":"IF(A94<>\"\",IFERROR(VLOOKUP(Q94,Tabelas!B:D,3,0),0),\"\")","v":""},{"$f":"IF(A94<>\"\",IFERROR(VLOOKUP(R94,Tabelas!B:D,3,0),0),\"\")","v":""},{"$f":"IF(A94<>\"\",IFERROR(VLOOKUP(S94,Tabelas!B:D,3,0),0),\"\")","v":""},{"$f":"IF(A94<>\"\",IFERROR(VLOOKUP(T94,Tabelas!B:D,3,0),0),\"\")","v":""},{"$f":"IF(A94<>\"\",IFERROR(VLOOKUP(U94,Tabelas!B:D,3,0),0),\"\")","v":""},{"$f":"IF(A94<>\"\",IFERROR(VLOOKUP(V94,Tabelas!B:D,3,0),0),\"\")","v":""},{"$f":"IF(A94<>\"\",IFERROR(VLOOKUP(W94,Tabelas!B:D,3,0),0),\"\")","v":""},{"$f":"IF(A94<>\"\",IFERROR(VLOOKUP(X94,Tabelas!B:D,3,0),0),\"\")","v":""},{"$f":"IF(A94<>\"\",IFERROR(VLOOKUP(Y94,Tabelas!B:D,3,0),0),\"\")","v":""},{"$f":"IF(A94<>\"\",IFERROR(VLOOKUP(Z94,Tabelas!B:D,3,0),0),\"\")","v":""},{"$f":"IF(A94<>\"\",IFERROR(VLOOKUP(AA94,Tabelas!B:D,3,0),0),\"\")","v":""},{"$f":"IF(A94<>\"\",IFERROR(VLOOKUP(AB94,Tabelas!B:D,3,0),0),\"\")","v":""},{"$f":"IF(A94<>\"\",IFERROR(VLOOKUP(AC94,Tabelas!B:D,3,0),0),\"\")","v":""},{"$f":"IF(A94<>\"\",IFERROR(VLOOKUP(AD94,Tabelas!B:D,3,0),0),\"\")","v":""},{"$f":"IF(A94<>\"\",IFERROR(VLOOKUP(AE94,Tabelas!B:D,3,0),0),\"\")","v":""},{"$f":"IF(A94<>\"\",IFERROR(VLOOKUP(AF94,Tabelas!B:D,3,0),0),\"\")","v":""},{"$f":"IF(A94<>\"\",IFERROR(VLOOKUP(AG94,Tabelas!B:D,3,0),0),\"\")","v":""},{"$f":"IF(A94<>\"\",IFERROR(VLOOKUP(AH94,Tabelas!B:D,3,0),0),\"\")","v":""},{"$f":"IF(A94<>\"\",IFERROR(VLOOKUP(AI94,Tabelas!B:D,3,0),0),\"\")","v":""},{"$f":"IF(A94<>\"\",IFERROR(VLOOKUP(AJ94,Tabelas!B:D,3,0),0),\"\")","v":""},{"$f":"IF(A94<>\"\",IFERROR(VLOOKUP(AK94,Tabelas!B:D,3,0),0),\"\")","v":""},{"$f":"IF(A94<>\"\",IFERROR(VLOOKUP(AL94,Tabelas!B:D,3,0),0),\"\")","v":""},{"$f":"IF(A94<>\"\",IFERROR(VLOOKUP(AM94,Tabelas!B:D,3,0),0),\"\")","v":""},{"$f":"IF(A94<>\"\",IFERROR(VLOOKUP(AN94,Tabelas!B:D,3,0),0),\"\")","v":""},{"$f":"IF(A94<>\"\",IFERROR(VLOOKUP(AO94,Tabelas!B:D,3,0),0),\"\")","v":""},{"$f":"IF(A94<>\"\",IFERROR(VLOOKUP(AP94,Tabelas!B:D,3,0),0),\"\")","v":""},{"$f":"IF(A94<>\"\",IFERROR(VLOOKUP(AQ94,Tabelas!B:D,3,0),0),\"\")","v":""},{"$f":"IF(A94<>\"\",IFERROR(VLOOKUP(AR94,Tabelas!B:D,3,0),0),\"\")","v":""},"",{"$f":"IF(A94<>\"\",COUNTIF(N94:AR94,\"LM\")+COUNTIF(N94:AR94,\"L\"),\"\")","v":""},"","","","",null,{"$f":"IF(A94<>\"\",COUNTIF(N94:AR94,\"CE\")+COUNTIF(N94:AR94,\"L\")+COUNTIF(N94:AR94,\"LM\")+COUNTIF(N94:AR94,\"LC\")+COUNTIF(N94:AR94,\"AB\"),\"\")","v":""},{"$f":"IF(A94<>\"\",COUNTIF(N94:AR94,\"APH\"),\"\")","v":""}]
["Legenda:",null,null,null,null,null,null,null,null,null,null,null,null,null,null,null,null,null,null,null,null,null,null,null,null,null,null,null,null,null,null,null,null,null,null,null,null,null,null,null,null,null,null,null,null,null,null,null,null,null,null,null,null,null,null,null,null,null,null,null,null,null,null,null,null,null,null,null,null,null,null,null,null,null,null,"OBSERVAÇÕES:"]
["Licença Maternidade","LM","Férias",null,"FE","Ponto Facultativo",null,null,null,null,null,null,null,null,null,"PF","Manhã **",null,null,null,null,null,null,"M","Diunro (8 hrs) **",null,null,null,null,null,null,"MT",null,null,null,null,null,null,null,null,null,null,null,null,null,null,null,null,null,null,null,null,null,null,null,null,null,null,null,null,null,null,null,null,null,null,null,null,null,null,null,null,null,null,null,"* Para os Afastamentos previstos em lei, utilizar as legendas "]
["Licença Paternidade","LP","Feriado",null,"FD","Abono",null,null,null,null,null,null,null,null,null,"AB","Tarde **",null,null,null,null,null,null,"T","Dia/ noite (24 hrs) **",null,null,null,null,null,null,"DN",null,null,null,null,null,null,null,null,null,null,null,null,null,null,null,null,null,null,null,null,null,null,null,null,null,null,null,null,null,null,null,null,null,null,null,null,null,null,null,null,null,null,null,"numeradas conforme descrição no item 3.2.2 da NO DGP nº 04/2017."]
["Licença Médica/Odontológica","L","Folga",null,"FO","Compensação Horas Excedentes",null,null,null,null,null,null,null,null,null,"CE","Plantão Dia (12 hrs) **",null,null,null,null,null,null,"D",null,null,null,null,null,null,null,null,null,null,null,null,null,null,null,null,null,null,null,null,null,null,null,null,null,null,null,null,null,null,null,null,null,null,null,null,null,null,null,null,null,null,null,null,null,null,null,null,null,null,null,"** Para as variações de horários (M1, M2, T1, T2...), utilizar as "]
["Licença Capacitação","LC","Recesso",null,"RC","Afastamento*",null,null,null,null,null,null,null,null,null,"AF","Plantão Noite (12 hrs)**",null,null,null,null,null,null,"N",null,null,null,null,null,null,null,null,null,null,null,null,null,null,null,null,null,null,null,null,null,null,null,null,null,null,null,null,null,null,null,null,null,null,null,null,null,null,null,null,null,null,null,null,null,null,null,null,null,null,null,"legendas numeradas conforme descrição do item 3.2.2 na Norma "]
[null,null,null,null,null,null,null,null,null,null,null,null,null,null,null,null,null,null,null,null,null,null,null,null,null,null,null,null,null,null,null,null,null,null,null,null,null,null,null,null,null,null,null,null,null,null,null,null,null,null,null,null,null,null,null,null,null,null,null,null,null,null,null,null,null,null,null,null,null,null,null,null,null,null,null,"Operacional DGP nº 04/2017."]

{"sheet":"Julho","index":6,"n_rows":48,"n_cols":84,"rows_kept":48,"cut":false,"hidden":false,"merged":[[38,0,38,6],[39,0,39,6],[40,0,40,6],[5,0,7,0],[5,1,7,1],[5,2,7,2],[5,3,7,3],[5,4,7,4],[5,5,7,5],[5,6,5,12],[42,75,42,83],[5,78,6,78],[5,79,6,79],[5,80,6,80],[5,81,6,81],[5,82,6,82],[5,83,6,83],[5,77,6,77],[5,13,5,43],[5,44,5,74],[5,75,6,75],[5,76,6,76],[6,6,7,6],[6,7,7,7],[6,8,7,8],[6,9,6,10],[6,11,7,11],[6,12,7,12],[1,0,1,43],[2,0,2,43],[3,0,3,43],[4,1,4,21],[4,24,4,35],[4,38,4,43]]}
[]
[]
["Hospital Universitário Professor Polydoro Ernani de São Thiago"]
["ESCALA MENSAL DE TRABALHO"]
["DIVISÃO /SETOR/UNIDADE:",null,null,null,null,null,null,null,null,null,null,null,null,null,null,null,null,null,null,null,null,null,"MÊS:",null,"Julho",null,null,null,null,null,null,null,null,null,null,null,"ANO:",null,2018]
["NOME COMPLETO","SIAPE","REGISTRO CONSELHO CLASSE","CARGO","VÍNCULO","C.H SEM.","INTERVALO",null,null,null,null,null,null,"DIAS DO MÊS",null,null,null,null,null,null,null,null,null,null,null,null,null,null,null,null,null,null,null,null,null,null,null,null,null,null,null,null,null,null,"CÁLCULO DAS HORAS",null,null,null,null,null,null,null,null,null,null,null,null,null,null,null,null,null,null,null,null,null,null,null,null,null,null,null,null,null,null,"CH MENSAL","LM/LP/L","Abono","Férias","LC","CE","AF  Legais"," TOTAL AFASTAMENTOS","APH"]
[null,null,null,null,null,null,"M","MT","D","DN",null,"T","N",1,2,3,4,5,6,7,8,9,10,11,12,13,14,15,16,17,18,19,20,21,22,23,24,25,{"$f":"IF(DAY(DATE(AM5,VLOOKUP(Y5,Tabelas!M:N,2,0)+1,1)-1)>=26,26,\"\")","v":26},{"$f":"IF(DAY(DATE(AM5,VLOOKUP(Y5,Tabelas!M:N,2,0)+1,1)-1)>=27,27,\"\")","v":27},{"$f":"IF(DAY(DATE(AM5,VLOOKUP(Y5,Tabelas!M:N,2,0)+1,1)-1)>=28,28,\"\")","v":28},{"$f":"IF(DAY(DATE(AM5,VLOOKUP(Y5,Tabelas!M:N,2,0)+1,1)-1)>=29,29,\"\")","v":29},{"$f":"IF(DAY(DATE(AM5,VLOOKUP(Y5,Tabelas!M:N,2,0)+1,1)-1)>=30,30,\"\")","v":30},{"$f":"IF(DAY(DATE(AM5,VLOOKUP(Y5,Tabelas!M:N,2,0)+1,1)-1)>=31,31,\"\")","v":31}]
[null,null,null,null,null,null,null,null,null,1,2,null,null,{"$f":"IF(N7<>\"\",IFERROR(VLOOKUP(WEEKDAY(CONCATENATE(N7,$Y$5,$AM$5)),Tabelas!$I:$J,2,0),\"\"),\"\")","v":"DOM"},{"$f":"IF(O7<>\"\",IFERROR(VLOOKUP(WEEKDAY(CONCATENATE(O7,$Y$5,$AM$5)),Tabelas!$I:$J,2,0),\"\"),\"\")","v":"SEG"},{"$f":"IF(P7<>\"\",IFERROR(VLOOKUP(WEEKDAY(CONCATENATE(P7,$Y$5,$AM$5)),Tabelas!$I:$J,2,0),\"\"),\"\")","v":"TER"},{"$f":"IF(Q7<>\"\",IFERROR(VLOOKUP(WEEKDAY(CONCATENATE(Q7,$Y$5,$AM$5)),Tabelas!$I:$J,2,0),\"\"),\"\")","v":"QUA"},{"$f":"IF(R7<>\"\",IFERROR(VLOOKUP(WEEKDAY(CONCATENATE(R7,$Y$5,$AM$5)),Tabelas!$I:$J,2,0),\"\"),\"\")","v":"QUI"},{"$f":"IF(S7<>\"\",IFERROR(VLOOKUP(WEEKDAY(CONCATENATE(S7,$Y$5,$AM$5)),Tabelas!$I:$J,2,0),\"\"),\"\")","v":"SEX"},{"$f":"IF(T7<>\"\",IFERROR(VLOOKUP(WEEKDAY(CONCATENATE(T7,$Y$5,$AM$5)),Tabelas!$I:$J,2,0),\"\"),\"\")","v":"SAB"},{"$f":"IF(U7<>\"\",IFERROR(VLOOKUP(WEEKDAY(CONCATENATE(U7,$Y$5,$AM$5)),Tabelas!$I:$J,2,0),\"\"),\"\")","v":"DOM"},{"$f":"IF(V7<>\"\",IFERROR(VLOOKUP(WEEKDAY(CONCATENATE(V7,$Y$5,$AM$5)),Tabelas!$I:$J,2,0),\"\"),\"\")","v":"SEG"},{"$f":"IF(W7<>\"\",IFERROR(VLOOKUP(WEEKDAY(CONCATENATE(W7,$Y$5,$AM$5)),Tabelas!$I:$J,2,0),\"\"),\"\")","v":"TER"},{"$f":"IF(X7<>\"\",IFERROR(VLOOKUP(WEEKDAY(CONCATENATE(X7,$Y$5,$AM$5)),Tabelas!$I:$J,2,0),\"\"),\"\")","v":"QUA"},{"$f":"IF(Y7<>\"\",IFERROR(VLOOKUP(WEEKDAY(CONCATENATE(Y7,$Y$5,$AM$5)),Tabelas!$I:$J,2,0),\"\"),\"\")","v":"QUI"},{"$f":"IF(Z7<>\"\",IFERROR(VLOOKUP(WEEKDAY(CONCATENATE(Z7,$Y$5,$AM$5)),Tabelas!$I:$J,2,0),\"\"),\"\")","v":"SEX"},{"$f":"IF(AA7<>\"\",IFERROR(VLOOKUP(WEEKDAY(CONCATENATE(AA7,$Y$5,$AM$5)),Tabelas!$I:$J,2,0),\"\"),\"\")","v":"SAB"},{"$f":"IF(AB7<>\"\",IFERROR(VLOOKUP(WEEKDAY(CONCATENATE(AB7,$Y$5,$AM$5)),Tabelas!$I:$J,2,0),\"\"),\"\")","v":"DOM"},{"$f":"IF(AC7<>\"\",IFERROR(VLOOKUP(WEEKDAY(CONCATENATE(AC7,$Y$5,$AM$5)),Tabelas!$I:$J,2,0),\"\"),\"\")","v":"SEG"},{"$f":"IF(AD7<>\"\",IFERROR(VLOOKUP(WEEKDAY(CONCATENATE(AD7,$Y$5,$AM$5)),Tabelas!$I:$J,2,0),\"\"),\"\")","v":"TER"},{"$f":"IF(AE7<>\"\",IFERROR(VLOOKUP(WEEKDAY(CONCATENATE(AE7,$Y$5,$AM$5)),Tabelas!$I:$J,2,0),\"\"),\"\")","v":"QUA"},{"$f":"IF(AF7<>\"\",IFERROR(VLOOKUP(WEEKDAY(CONCATENATE(AF7,$Y$5,$AM$5)),Tabelas!$I:$J,2,0),\"\"),\"\")","v":"QUI"},{"$f":"IF(AG7<>\"\",IFERROR(VLOOKUP(WEEKDAY(CONCATENATE(AG7,$Y$5,$AM$5)),Tabelas!$I:$J,2,0),\"\"),\"\")","v":"SEX"},{"$f":"IF(AH7<>\"\",IFERROR(VLOOKUP(WEEKDAY(CONCATENATE(AH7,$Y$5,$AM$5)),Tabelas!$I:$J,2,0),\"\"),\"\")","v":"SAB"},{"$f":"IF(AI7<>\"\",IFERROR(VLOOKUP(WEEKDAY(CONCATENATE(AI7,$Y$5,$AM$5)),Tabelas!$I:$J,2,0),\"\"),\"\")","v":"DOM"},{"$f":"IF(AJ7<>\"\",IFERROR(VLOOKUP(WEEKDAY(CONCATENATE(AJ7,$Y$5,$AM$5)),Tabelas!$I:$J,2,0),\"\"),\"\")","v":"SEG"},{"$f":"IF(AK7<>\"\",IFERROR(VLOOKUP(WEEKDAY(CONCATENATE(AK7,$Y$5,$AM$5)),Tabelas!$I:$J,2,0),\"\"),\"\")","v":"TER"},{"$f":"IF(AL7<>\"\",IFERROR(VLOOKUP(WEEKDAY(CONCATENATE(AL7,$Y$5,$AM$5)),Tabelas!$I:$J,2,0),\"\"),\"\")","v":"QUA"},{"$f":"IF(AM7<>\"\",IFERROR(VLOOKUP(WEEKDAY(CONCATENATE(AM7,$Y$5,$AM$5)),Tabelas!$I:$J,2,0),\"\"),\"\")","v":"QUI"},{"$f":"IF(AN7<>\"\",IFERROR(VLOOKUP(WEEKDAY(CONCATENATE(AN7,$Y$5,$AM$5)),Tabelas!$I:$J,2,0),\"\"),\"\")","v":"SEX"},{"$f":"IF(AO7<>\"\",IFERROR(VLOOKUP(WEEKDAY(CONCATENATE(AO7,$Y$5,$AM$5)),Tabelas!$I:$J,2,0),\"\"),\"\")","v":"SAB"},{"$f":"IF(AP7<>\"\",IFERROR(VLOOKUP(WEEKDAY(CONCATENATE(AP7,$Y$5,$AM$5)),Tabelas!$I:$J,2,0),\"\"),\"\")","v":"DOM"},{"$f":"IF(AQ7<>\"\",IFERROR(VLOOKUP(WEEKDAY(CONCATENATE(AQ7,$Y$5,$AM$5)),Tabelas!$I:$J,2,0),\"\"),\"\")","v":"SEG"},{"$f":"IF(AR7<>\"\",IFERROR(VLOOKUP(WEEKDAY(CONCATENATE(AR7,$Y$5,$AM$5)),Tabelas!$I:$J,2,0),\"\"),\"\")","v":"TER"},1,2,3,4,5,6,7,8,9,10,11,12,13,14,15,16,17,18,19,20,21,22,23,24,25,26,27,28,29,30,31,"Total","Dias","Dias","Dias","Dias","Dias","Dias","Dias","Dias"]
["Fulano de Tal 1",1234567,123,"ENF","Ebserh",36,null,null,null,null,null,null,null,null,null,null,null,null,null,null,null,null,null,null,null,null,null,null,null,null,null,null,null,null,null,null,null,null,null,null,null,null,null,null,{"$f":"IF(A9<>\"\",IFERROR(VLOOKUP(N9,Tabelas!B:D,3,0),0),\"\")","v":0},{"$f":"IF(A9<>\"\",IFERROR(VLOOKUP(O9,Tabelas!B:D,3,0),0),\"\")","v":0},{"$f":"IF(A9<>\"\",IFERROR(VLOOKUP(P9,Tabelas!B:D,3,0),0),\"\")","v":0},{"$f":"IF(A9<>\"\",IFERROR(VLOOKUP(Q9,Tabelas!B:D,3,0),0),\"\")","v":0},{"$f":"IF(A9<>\"\",IFERROR(VLOOKUP(R9,Tabelas!B:D,3,0),0),\"\")","v":0},{"$f":"IF(A9<>\"\",IFERROR(VLOOKUP(S9,Tabelas!B:D,3,0),0),\"\")","v":0},{"$f":"IF(A9<>\"\",IFERROR(VLOOKUP(T9,Tabelas!B:D,3,0),0),\"\")","v":0},{"$f":"IF(A9<>\"\",IFERROR(VLOOKUP(U9,Tabelas!B:D,3,0),0),\"\")","v":0},{"$f":"IF(A9<>\"\",IFERROR(VLOOKUP(V9,Tabelas!B:D,3,0),0),\"\")","v":0},{"$f":"IF(A9<>\"\",IFERROR(VLOOKUP(W9,Tabelas!B:D,3,0),0),\"\")","v":0},{"$f":"IF(A9<>\"\",IFERROR(VLOOKUP(X9,Tabelas!B:D,3,0),0),\"\")","v":0},{"$f":"IF(A9<>\"\",IFERROR(VLOOKUP(Y9,Tabelas!B:D,3,0),0),\"\")","v":0},{"$f":"IF(A9<>\"\",IFERROR(VLOOKUP(Z9,Tabelas!B:D,3,0),0),\"\")","v":0},{"$f":"IF(A9<>\"\",IFERROR(VLOOKUP(AA9,Tabelas!B:D,3,0),0),\"\")","v":0},{"$f":"IF(A9<>\"\",IFERROR(VLOOKUP(AB9,Tabelas!B:D,3,0),0),\"\")","v":0},{"$f":"IF(A9<>\"\",IFERROR(VLOOKUP(AC9,Tabelas!B:D,3,0),0),\"\")","v":0},{"$f":"IF(A9<>\"\",IFERROR(VLOOKUP(AD9,Tabelas!B:D,3,0),0),\"\")","v":0},{"$f":"IF(A9<>\"\",IFERROR(VLOOKUP(AE9,Tabelas!B:D,3,0),0),\"\")","v":0},{"$f":"IF(A9<>\"\",IFERROR(VLOOKUP(AF9,Tabelas!B:D,3,0),0),\"\")","v":0},{"$f":"IF(A9<>\"\",IFERROR(VLOOKUP(AG9,Tabelas!B:D,3,0),0),\"\")","v":0},{"$f":"IF(A9<>\"\",IFERROR(VLOOKUP(AH9,Tabelas!B:D,3,0),0),\"\")","v":0},{"$f":"IF(A9<>\"\",IFERROR(VLOOKUP(AI9,Tabelas!B:D,3,0),0),\"\")","v":0},{"$f":"IF(A9<>\"\",IFERROR(VLOOKUP(AJ9,Tabelas!B:D,3,0),0),\"\")","v":0},{"$f":"IF(A9<>\"\",IFERROR(VLOOKUP(AK9,Tabelas!B:D,3,0),0),\"\")","v":0},{"$f":"IF(A9<>\"\",IFERROR(VLOOKUP(AL9,Tabelas!B:D,3,0),0),\"\")","v":0},{"$f":"IF(A9<>\"\",IFERROR(VLOOKUP(AM9,Tabelas!B:D,3,0),0),\"\")","v":0},{"$f":"IF(A9<>\"\",IFERROR(VLOOKUP(AN9,Tabelas!B:D,3,0),0),\"\")","v":0},{"$f":"IF(A9<>\"\",IFERROR(VLOOKUP(AO9,Tabelas!B:D,3,0),0),\"\")","v":0},{"$f":"IF(A9<>\"\",IFERROR(VLOOKUP(AP9,Tabelas!B:D,3,0),0),\"\")","v":0},{"$f":"IF(A9<>\"\",IFERROR(VLOOKUP(AQ9,Tabelas!B:D,3,0),0),\"\")","v":0},{"$f":"IF(A9<>\"\",IFERROR(VLOOKUP(AR9,Tabelas!B:D,3,0),0),\"\")","v":0},{"$f":"IF(A9<>\"\",SUM(AS9:BW9),\"\")","v":0},{"$f":"IF(A9<>\"\",COUNTIF(N9:AR9,\"LM\")+COUNTIF(N9:AR9,\"L\"),\"\")+COUNTIF(N9:AR9,\"LP\")","v":0},{"$f":"IF(A9<>\"\",COUNTIF(N9:AR9,\"AB\"),\"\")","v":0},{"$f":"IF(A9<>\"\",COUNTIF(N9:AR9,\"FE\"),\"\")","v":0},{"$f":"IF(A9<>\"\",COUNTIF(N9:AR9,\"LC\"),\"\")","v":0},{"$f":"IF(A9<>\"\",COUNTIF(N9:AR9,\"CE\"),\"\")","v":0},{"$f":"IF(A9<>\"\",COUNTIF(N9:AR9,\"AF1\")+COUNTIF(N9:AR9,\"AF2\")+COUNTIF(N9:AR9,\"AF3\")+COUNTIF(N9:AR9,\"AF4\")+COUNTIF(N9:AR9,\"AF5\")+COUNTIF(N9:AR9,\"AF6\")+COUNTIF(N9:AR9,\"AF7\")+COUNTIF(N9:AR9,\"AF8\")+COUNTIF(N9:AR9,\"AF9\")+COUNTIF(N9:AR9,\"AF10\")+COUNTIF(N9:AR9,\"AF11\")+COUNTIF(N9:AR9,\"AF12\")+COUNTIF(N9:AR9,\"AF13\")+COUNTIF(N9:AR9,\"AF14\"),\"\")","v":0},{"$f":"IF(A9<>\"\",COUNTIF(N9:AR9,\"CE\")+COUNTIF(N9:AR9,\"L\")+COUNTIF(N9:AR9,\"LM\")+COUNTIF(N9:AR9,\"LP\")+COUNTIF(N9:AR9,\"LC\")+COUNTIF(N9:AR9,\"AB\")+COUNTIF(N9:AR9,\"AF1\")+COUNTIF(N9:AR9,\"AF2\")+COUNTIF(N9:AR9,\"AF3\")+COUNTIF(N9:AR9,\"AF4\")+COUNTIF(N9:AR9,\"AF5\")+COUNTIF(N9:AR9,\"AF6\")+COUNTIF(N9:AR9,\"AF7\")+COUNTIF(N9:AR9,\"AF8\")+COUNTIF(N9:AR9,\"AF9\")+COUNTIF(N9:AR9,\"AF10\")+COUNTIF(N9:AR9,\"AF11\")+COUNTIF(N9:AR9,\"AF12\")+COUNTIF(N9:AR9,\"AF13\")+COUNTIF(N9:AR9,\"AF14\")+COUNTIF(N9:AR9,\"RC\")+COUNTIF(N9:AR9,\"FO\")+COUNTIF(N9:AR9,\"FE\"),\"\")","v":0},{"$f":"IF(A9<>\"\",COUNTIF(N9:AR9,\"APH\"),\"\")","v":0}]
["Fulano de Tal 2",1234567,123,"ENF","Ebserh",36,null,null,null,null,null,null,null,null,null,null,null,null,null,null,null,null,null,null,null,null,null,null,null,null,null,null,null,null,null,null,null,null,null,null,null,null,null,null,{"$f":"IF(A10<>\"\",IFERROR(VLOOKUP(N10,Tabelas!B:D,3,0),0),\"\")","v":0},{"$f":"IF(A10<>\"\",IFERROR(VLOOKUP(O10,Tabelas!B:D,3,0),0),\"\")","v":0},{"$f":"IF(A10<>\"\",IFERROR(VLOOKUP(P10,Tabelas!B:D,3,0),0),\"\")","v":0},{"$f":"IF(A10<>\"\",IFERROR(VLOOKUP(Q10,Tabelas!B:D,3,0),0),\"\")","v":0},{"$f":"IF(A10<>\"\",IFERROR(VLOOKUP(R10,Tabelas!B:D,3,0),0),\"\")","v":0},{"$f":"IF(A10<>\"\",IFERROR(VLOOKUP(S10,Tabelas!B:D,3,0),0),\"\")","v":0},{"$f":"IF(A10<>\"\",IFERROR(VLOOKUP(T10,Tabelas!B:D,3,0),0),\"\")","v":0},{"$f":"IF(A10<>\"\",IFERROR(VLOOKUP(U10,Tabelas!B:D,3,0),0),\"\")","v":0},{"$f":"IF(A10<>\"\",IFERROR(VLOOKUP(V10,Tabelas!B:D,3,0),0),\"\")","v":0},{"$f":"IF(A10<>\"\",IFERROR(VLOOKUP(W10,Tabelas!B:D,3,0),0),\"\")","v":0},{"$f":"IF(A10<>\"\",IFERROR(VLOOKUP(X10,Tabelas!B:D,3,0),0),\"\")","v":0},{"$f":"IF(A10<>\"\",IFERROR(VLOOKUP(Y10,Tabelas!B:D,3,0),0),\"\")","v":0},{"$f":"IF(A10<>\"\",IFERROR(VLOOKUP(Z10,Tabelas!B:D,3,0),0),\"\")","v":0},{"$f":"IF(A10<>\"\",IFERROR(VLOOKUP(AA10,Tabelas!B:D,3,0),0),\"\")","v":0},{"$f":"IF(A10<>\"\",IFERROR(VLOOKUP(AB10,Tabelas!B:D,3,0),0),\"\")","v":0},{"$f":"IF(A10<>\"\",IFERROR(VLOOKUP(AC10,Tabelas!B:D,3,0),0),\"\")","v":0},{"$f":"IF(A10<>\"\",IFERROR(VLOOKUP(AD10,Tabelas!B:D,3,0),0),\"\")","v":0},{"$f":"IF(A10<>\"\",IFERROR(VLOOKUP(AE10,Tabelas!B:D,3,0),0),\"\")","v":0},{"$f":"IF(A10<>\"\",IFERROR(VLOOKUP(AF10,Tabelas!B:D,3,0),0),\"\")","v":0},{"$f":"IF(A10<>\"\",IFERROR(VLOOKUP(AG10,Tabelas!B:D,3,0),0),\"\")","v":0},{"$f":"IF(A10<>\"\",IFERROR(VLOOKUP(AH10,Tabelas!B:D,3,0),0),\"\")","v":0},{"$f":"IF(A10<>\"\",IFERROR(VLOOKUP(AI10,Tabelas!B:D,3,0),0),\"\")","v":0},{"$f":"IF(A10<>\"\",IFERROR(VLOOKUP(AJ10,Tabelas!B:D,3,0),0),\"\")","v":0},{"$f":"IF(A10<>\"\",IFERROR(VLOOKUP(AK10,Tabelas!B:D,3,0),0),\"\")","v":0},{"$f":"IF(A10<>\"\",IFERROR(VLOOKUP(AL10,Tabelas!B:D,3,0),0),\"\")","v":0},{"$f":"IF(A10<>\"\",IFERROR(VLOOKUP(AM10,Tabelas!B:D,3,0),0),\"\")","v":0},{"$f":"IF(A10<>\"\",IFERROR(VLOOKUP(AN10,Tabelas!B:D,3,0),0),\"\")","v":0},{"$f":"IF(A10<>\"\",IFERROR(VLOOKUP(AO10,Tabelas!B:D,3,0),0),\"\")","v":0},{"$f":"IF(A10<>\"\",IFERROR(VLOOKUP(AP10,Tabelas!B:D,3,0),0),\"\")","v":0},{"$f":"IF(A10<>\"\",IFERROR(VLOOKUP(AQ10,Tabelas!B:D,3,0),0),\"\")","v":0},{"$f":"IF(A10<>\"\",IFERROR(VLOOKUP(AR10,Tabelas!B:D,3,0),0),\"\")","v":0},{"$f":"IF(A10<>\"\",SUM(AS10:BW10),\"\")","v":0},{"$f":"IF(A10<>\"\",COUNTIF(N10:AR10,\"LM\")+COUNTIF(N10:AR10,\"L\"),\"\")+COUNTIF(N10:AR10,\"LP\")","v":0},0,0,0,0,{"$f":"IF(A10<>\"\",COUNTIF(N10:AR10,\"AF1\")+COUNTIF(N10:AR10,\"AF2\")+COUNTIF(N10:AR10,\"AF3\")+COUNTIF(N10:AR10,\"AF4\")+COUNTIF(N10:AR10,\"AF5\")+COUNTIF(N10:AR10,\"AF6\")+COUNTIF(N10:AR10,\"AF7\")+COUNTIF(N10:AR10,\"AF8\")+COUNTIF(N10:AR10,\"AF9\")+COUNTIF(N10:AR10,\"AF10\")+COUNTIF(N10:AR10,\"AF11\")+COUNTIF(N10:AR10,\"AF12\")+COUNTIF(N10:AR10,\"AF13\")+COUNTIF(N10:AR10,\"AF14\"),\"\")","v":0},{"$f":"IF(A10<>\"\",COUNTIF(N10:AR10,\"CE\")+COUNTIF(N10:AR10,\"L\")+COUNTIF(N10:AR10,\"LM\")+COUNTIF(N10:AR10,\"LP\")+COUNTIF(N10:AR10,\"LC\")+COUNTIF(N10:AR10,\"AB\")+COUNTIF(N10:AR10,\"AF1\")+COUNTIF(N10:AR10,\"AF2\")+COUNTIF(N10:AR10,\"AF3\")+COUNTIF(N10:AR10,\"AF4\")+COUNTIF(N10:AR10,\"AF5\")+COUNTIF(N10:AR10,\"AF6\")+COUNTIF(N10:AR10,\"AF7\")+COUNTIF(N10:AR10,\"AF8\")+COUNTIF(N10:AR10,\"AF9\")+COUNTIF(N10:AR10,\"AF10\")+COUNTIF(N10:AR10,\"AF11\")+COUNTIF(N10:AR10,\"AF12\")+COUNTIF(N10:AR10,\"AF13\")+COUNTIF(N10:AR10,\"AF14\")+COUNTIF(N10:AR10,\"RC\")+COUNTIF(N10:AR10,\"FO\")+COUNTIF(N10:AR10,\"FE\"),\"\")","v":0},{"$f":"IF(A10<>\"\",COUNTIF(N10:AR10,\"APH\"),\"\")","v":0}]
["Fulano de Tal 3",1234567,123,"ENF","Ebserh",36,null,null,null,null,null,null,null,null,null,null,null,null,null,null,null,null,null,null,null,null,null,null,null,null,null,null,null,null,null,null,null,null,null,null,null,null,null,null,{"$f":"IF(A11<>\"\",IFERROR(VLOOKUP(N11,Tabelas!B:D,3,0),0),\"\")","v":0},{"$f":"IF(A11<>\"\",IFERROR(VLOOKUP(O11,Tabelas!B:D,3,0),0),\"\")","v":0},{"$f":"IF(A11<>\"\",IFERROR(VLOOKUP(P11,Tabelas!B:D,3,0),0),\"\")","v":0},{"$f":"IF(A11<>\"\",IFERROR(VLOOKUP(Q11,Tabelas!B:D,3,0),0),\"\")","v":0},{"$f":"IF(A11<>\"\",IFERROR(VLOOKUP(R11,Tabelas!B:D,3,0),0),\"\")","v":0},{"$f":"IF(A11<>\"\",IFERROR(VLOOKUP(S11,Tabelas!B:D,3,0),0),\"\")","v":0},{"$f":"IF(A11<>\"\",IFERROR(VLOOKUP(T11,Tabelas!B:D,3,0),0),\"\")","v":0},{"$f":"IF(A11<>\"\",IFERROR(VLOOKUP(U11,Tabelas!B:D,3,0),0),\"\")","v":0},{"$f":"IF(A11<>\"\",IFERROR(VLOOKUP(V11,Tabelas!B:D,3,0),0),\"\")","v":0},{"$f":"IF(A11<>\"\",IFERROR(VLOOKUP(W11,Tabelas!B:D,3,0),0),\"\")","v":0},{"$f":"IF(A11<>\"\",IFERROR(VLOOKUP(X11,Tabelas!B:D,3,0),0),\"\")","v":0},{"$f":"IF(A11<>\"\",IFERROR(VLOOKUP(Y11,Tabelas!B:D,3,0),0),\"\")","v":0},{"$f":"IF(A11<>\"\",IFERROR(VLOOKUP(Z11,Tabelas!B:D,3,0),0),\"\")","v":0},{"$f":"IF(A11<>\"\",IFERROR(VLOOKUP(AA11,Tabelas!B:D,3,0),0),\"\")","v":0},{"$f":"IF(A11<>\"\",IFERROR(VLOOKUP(AB11,Tabelas!B:D,3,0),0),\"\")","v":0},{"$f":"IF(A11<>\"\",IFERROR(VLOOKUP(AC11,Tabelas!B:D,3,0),0),\"\")","v":0},{"$f":"IF(A11<>\"\",IFERROR(VLOOKUP(AD11,Tabelas!B:D,3,0),0),\"\")","v":0},{"$f":"IF(A11<>\"\",IFERROR(VLOOKUP(AE11,Tabelas!B:D,3,0),0),\"\")","v":0},{"$f":"IF(A11<>\"\",IFERROR(VLOOKUP(AF11,Tabelas!B:D,3,0),0),\"\")","v":0},{"$f":"IF(A11<>\"\",IFERROR(VLOOKUP(AG11,Tabelas!B:D,3,0),0),\"\")","v":0},{"$f":"IF(A11<>\"\",IFERROR(VLOOKUP(AH11,Tabelas!B:D,3,0),0),\"\")","v":0},{"$f":"IF(A11<>\"\",IFERROR(VLOOKUP(AI11,Tabelas!B:D,3,0),0),\"\")","v":0},{"$f":"IF(A11<>\"\",IFERROR(VLOOKUP(AJ11,Tabelas!B:D,3,0),0),\"\")","v":0},{"$f":"IF(A11<>\"\",IFERROR(VLOOKUP(AK11,Tabelas!B:D,3,0),0),\"\")","v":0},{"$f":"IF(A11<>\"\",IFERROR(VLOOKUP(AL11,Tabelas!B:D,3,0),0),\"\")","v":0},{"$f":"IF(A11<>\"\",IFERROR(VLOOKUP(AM11,Tabelas!B:D,3,0),0),\"\")","v":0},{"$f":"IF(A11<>\"\",IFERROR(VLOOKUP(AN11,Tabelas!B:D,3,0),0),\"\")","v":0},{"$f":"IF(A11<>\"\",IFERROR(VLOOKUP(AO11,Tabelas!B:D,3,0),0),\"\")","v":0},{"$f":"IF(A11<>\"\",IFERROR(VLOOKUP(AP11,Tabelas!B:D,3,0),0),\"\")","v":0},{"$f":"IF(A11<>\"\",IFERROR(VLOOKUP(AQ11,Tabelas!B:D,3,0),0),\"\")","v":0},{"$f":"IF(A11<>\"\",IFERROR(VLOOKUP(AR11,Tabelas!B:D,3,0),0),\"\")","v":0},0,0,0,0,0,0,0,0,{"$f":"IF(A11<>\"\",COUNTIF(N11:AR11,\"APH\"),\"\")","v":0}]
["Fulano de Tal 4",1234567,123,"ENF","Ebserh",36,null,null,null,null,null,null,null,null,null,null,null,null,null,null,null,null,null,null,null,null,null,null,null,null,null,null,null,null,null,null,null,null,null,null,null,null,null,null,{"$f":"IF(A12<>\"\",IFERROR(VLOOKUP(N12,Tabelas!B:D,3,0),0),\"\")","v":0},{"$f":"IF(A12<>\"\",IFERROR(VLOOKUP(O12,Tabelas!B:D,3,0),0),\"\")","v":0},{"$f":"IF(A12<>\"\",IFERROR(VLOOKUP(P12,Tabelas!B:D,3,0),0),\"\")","v":0},{"$f":"IF(A12<>\"\",IFERROR(VLOOKUP(Q12,Tabelas!B:D,3,0),0),\"\")","v":0},{"$f":"IF(A12<>\"\",IFERROR(VLOOKUP(R12,Tabelas!B:D,3,0),0),\"\")","v":0},{"$f":"IF(A12<>\"\",IFERROR(VLOOKUP(S12,Tabelas!B:D,3,0),0),\"\")","v":0},{"$f":"IF(A12<>\"\",IFERROR(VLOOKUP(T12,Tabelas!B:D,3,0),0),\"\")","v":0},{"$f":"IF(A12<>\"\",IFERROR(VLOOKUP(U12,Tabelas!B:D,3,0),0),\"\")","v":0},{"$f":"IF(A12<>\"\",IFERROR(VLOOKUP(V12,Tabelas!B:D,3,0),0),\"\")","v":0},{"$f":"IF(A12<>\"\",IFERROR(VLOOKUP(W12,Tabelas!B:D,3,0),0),\"\")","v":0},{"$f":"IF(A12<>\"\",IFERROR(VLOOKUP(X12,Tabelas!B:D,3,0),0),\"\")","v":0},{"$f":"IF(A12<>\"\",IFERROR(VLOOKUP(Y12,Tabelas!B:D,3,0),0),\"\")","v":0},{"$f":"IF(A12<>\"\",IFERROR(VLOOKUP(Z12,Tabelas!B:D,3,0),0),\"\")","v":0},{"$f":"IF(A12<>\"\",IFERROR(VLOOKUP(AA12,Tabelas!B:D,3,0),0),\"\")","v":0},{"$f":"IF(A12<>\"\",IFERROR(VLOOKUP(AB12,Tabelas!B:D,3,0),0),\"\")","v":0},{"$f":"IF(A12<>\"\",IFERROR(VLOOKUP(AC12,Tabelas!B:D,3,0),0),\"\")","v":0},{"$f":"IF(A12<>\"\",IFERROR(VLOOKUP(AD12,Tabelas!B:D,3,0),0),\"\")","v":0},{"$f":"IF(A12<>\"\",IFERROR(VLOOKUP(AE12,Tabelas!B:D,3,0),0),\"\")","v":0},{"$f":"IF(A12<>\"\",IFERROR(VLOOKUP(AF12,Tabelas!B:D,3,0),0),\"\")","v":0},{"$f":"IF(A12<>\"\",IFERROR(VLOOKUP(AG12,Tabelas!B:D,3,0),0),\"\")","v":0},{"$f":"IF(A12<>\"\",IFERROR(VLOOKUP(AH12,Tabelas!B:D,3,0),0),\"\")","v":0},{"$f":"IF(A12<>\"\",IFERROR(VLOOKUP(AI12,Tabelas!B:D,3,0),0),\"\")","v":0},{"$f":"IF(A12<>\"\",IFERROR(VLOOKUP(AJ12,Tabelas!B:D,3,0),0),\"\")","v":0},{"$f":"IF(A12<>\"\",IFERROR(VLOOKUP(AK12,Tabelas!B:D,3,0),0),\"\")","v":0},{"$f":"IF(A12<>\"\",IFERROR(VLOOKUP(AL12,Tabelas!B:D,3,0),0),\"\")","v":0},{"$f":"IF(A12<>\"\",IFERROR(VLOOKUP(AM12,Tabelas!B:D,3,0),0),\"\")","v":0},{"$f":"IF(A12<>\"\",IFERROR(VLOOKUP(AN12,Tabelas!B:D,3,0),0),\"\")","v":0},{"$f":"IF(A12<>\"\",IFERROR(VLOOKUP(AO12,Tabelas!B:D,3,0),0),\"\")","v":0},{"$f":"IF(A12<>\"\",IFERROR(VLOOKUP(AP12,Tabelas!B:D,3,0),0),\"\")","v":0},{"$f":"IF(A12<>\"\",IFERROR(VLOOKUP(AQ12,Tabelas!B:D,3,0),0),\"\")","v":0},{"$f":"IF(A12<>\"\",IFERROR(VLOOKUP(AR12,Tabelas!B:D,3,0),0),\"\")","v":0},0,0,0,0,0,0,0,0,{"$f":"IF(A12<>\"\",COUNTIF(N12:AR12,\"APH\"),\"\")","v":0}]
["Fulano de Tal 5",1234567,123,"ENF","Ebserh",36,null,null,null,null,null,null,null,null,null,null,null,null,null,null,null,null,null,null,null,null,null,null,null,null,null,null,null,null,null,null,null,null,null,null,null,null,null,null,{"$f":"IF(A13<>\"\",IFERROR(VLOOKUP(N13,Tabelas!B:D,3,0),0),\"\")","v":0},{"$f":"IF(A13<>\"\",IFERROR(VLOOKUP(O13,Tabelas!B:D,3,0),0),\"\")","v":0},{"$f":"IF(A13<>\"\",IFERROR(VLOOKUP(P13,Tabelas!B:D,3,0),0),\"\")","v":0},{"$f":"IF(A13<>\"\",IFERROR(VLOOKUP(Q13,Tabelas!B:D,3,0),0),\"\")","v":0},{"$f":"IF(A13<>\"\",IFERROR(VLOOKUP(R13,Tabelas!B:D,3,0),0),\"\")","v":0},{"$f":"IF(A13<>\"\",IFERROR(VLOOKUP(S13,Tabelas!B:D,3,0),0),\"\")","v":0},{"$f":"IF(A13<>\"\",IFERROR(VLOOKUP(T13,Tabelas!B:D,3,0),0),\"\")","v":0},{"$f":"IF(A13<>\"\",IFERROR(VLOOKUP(U13,Tabelas!B:D,3,0),0),\"\")","v":0},{"$f":"IF(A13<>\"\",IFERROR(VLOOKUP(V13,Tabelas!B:D,3,0),0),\"\")","v":0},{"$f":"IF(A13<>\"\",IFERROR(VLOOKUP(W13,Tabelas!B:D,3,0),0),\"\")","v":0},{"$f":"IF(A13<>\"\",IFERROR(VLOOKUP(X13,Tabelas!B:D,3,0),0),\"\")","v":0},{"$f":"IF(A13<>\"\",IFERROR(VLOOKUP(Y13,Tabelas!B:D,3,0),0),\"\")","v":0},{"$f":"IF(A13<>\"\",IFERROR(VLOOKUP(Z13,Tabelas!B:D,3,0),0),\"\")","v":0},{"$f":"IF(A13<>\"\",IFERROR(VLOOKUP(AA13,Tabelas!B:D,3,0),0),\"\")","v":0},{"$f":"IF(A13<>\"\",IFERROR(VLOOKUP(AB13,Tabelas!B:D,3,0),0),\"\")","v":0},{"$f":"IF(A13<>\"\",IFERROR(VLOOKUP(AC13,Tabelas!B:D,3,0),0),\"\")","v":0},{"$f":"IF(A13<>\"\",IFERROR(VLOOKUP(AD13,Tabelas!B:D,3,0),0),\"\")","v":0},{"$f":"IF(A13<>\"\",IFERROR(VLOOKUP(AE13,Tabelas!B:D,3,0),0),\"\")","v":0},{"$f":"IF(A13<>\"\",IFERROR(VLOOKUP(AF13,Tabelas!B:D,3,0),0),\"\")","v":0},{"$f":"IF(A13<>\"\",IFERROR(VLOOKUP(AG13,Tabelas!B:D,3,0),0),\"\")","v":0},{"$f":"IF(A13<>\"\",IFERROR(VLOOKUP(AH13,Tabelas!B:D,3,0),0),\"\")","v":0},{"$f":"IF(A13<>\"\",IFERROR(VLOOKUP(AI13,Tabelas!B:D,3,0),0),\"\")","v":0},{"$f":"IF(A13<>\"\",IFERROR(VLOOKUP(AJ13,Tabelas!B:D,3,0),0),\"\")","v":0},{"$f":"IF(A13<>\"\",IFERROR(VLOOKUP(AK13,Tabelas!B:D,3,0),0),\"\")","v":0},{"$f":"IF(A13<>\"\",IFERROR(VLOOKUP(AL13,Tabelas!B:D,3,0),0),\"\")","v":0},{"$f":"IF(A13<>\"\",IFERROR(VLOOKUP(AM13,Tabelas!B:D,3,0),0),\"\")","v":0},{"$f":"IF(A13<>\"\",IFERROR(VLOOKUP(AN13,Tabelas!B:D,3,0),0),\"\")","v":0},{"$f":"IF(A13<>\"\",IFERROR(VLOOKUP(AO13,Tabelas!B:D,3,0),0),\"\")","v":0},{"$f":"IF(A13<>\"\",IFERROR(VLOOKUP(AP13,Tabelas!B:D,3,0),0),\"\")","v":0},{"$f":"IF(A13<>\"\",IFERROR(VLOOKUP(AQ13,Tabelas!B:D,3,0),0),\"\")","v":0},{"$f":"IF(A13<>\"\",IFERROR(VLOOKUP(AR13,Tabelas!B:D,3,0),0),\"\")","v":0},0,0,0,0,0,0,0,0,{"$f":"IF(A13<>\"\",COUNTIF(N13:AR13,\"APH\"),\"\")","v":0}]
["Fulano de Tal 6",1234567,123,"ENF","Ebserh",36,null,null,null,null,null,null,null,null,null,null,null,null,null,null,null,null,null,null,null,null,null,null,null,null,null,null,null,null,null,null,null,null,null,null,null,null,null,null,{"$f":"IF(A14<>\"\",IFERROR(VLOOKUP(N14,Tabelas!B:D,3,0),0),\"\")","v":0},{"$f":"IF(A14<>\"\",IFERROR(VLOOKUP(O14,Tabelas!B:D,3,0),0),\"\")","v":0},{"$f":"IF(A14<>\"\",IFERROR(VLOOKUP(P14,Tabelas!B:D,3,0),0),\"\")","v":0},{"$f":"IF(A14<>\"\",IFERROR(VLOOKUP(Q14,Tabelas!B:D,3,0),0),\"\")","v":0},{"$f":"IF(A14<>\"\",IFERROR(VLOOKUP(R14,Tabelas!B:D,3,0),0),\"\")","v":0},{"$f":"IF(A14<>\"\",IFERROR(VLOOKUP(S14,Tabelas!B:D,3,0),0),\"\")","v":0},{"$f":"IF(A14<>\"\",IFERROR(VLOOKUP(T14,Tabelas!B:D,3,0),0),\"\")","v":0},{"$f":"IF(A14<>\"\",IFERROR(VLOOKUP(U14,Tabelas!B:D,3,0),0),\"\")","v":0},{"$f":"IF(A14<>\"\",IFERROR(VLOOKUP(V14,Tabelas!B:D,3,0),0),\"\")","v":0},{"$f":"IF(A14<>\"\",IFERROR(VLOOKUP(W14,Tabelas!B:D,3,0),0),\"\")","v":0},{"$f":"IF(A14<>\"\",IFERROR(VLOOKUP(X14,Tabelas!B:D,3,0),0),\"\")","v":0},{"$f":"IF(A14<>\"\",IFERROR(VLOOKUP(Y14,Tabelas!B:D,3,0),0),\"\")","v":0},{"$f":"IF(A14<>\"\",IFERROR(VLOOKUP(Z14,Tabelas!B:D,3,0),0),\"\")","v":0},{"$f":"IF(A14<>\"\",IFERROR(VLOOKUP(AA14,Tabelas!B:D,3,0),0),\"\")","v":0},{"$f":"IF(A14<>\"\",IFERROR(VLOOKUP(AB14,Tabelas!B:D,3,0),0),\"\")","v":0},{"$f":"IF(A14<>\"\",IFERROR(VLOOKUP(AC14,Tabelas!B:D,3,0),0),\"\")","v":0},{"$f":"IF(A14<>\"\",IFERROR(VLOOKUP(AD14,Tabelas!B:D,3,0),0),\"\")","v":0},{"$f":"IF(A14<>\"\",IFERROR(VLOOKUP(AE14,Tabelas!B:D,3,0),0),\"\")","v":0},{"$f":"IF(A14<>\"\",IFERROR(VLOOKUP(AF14,Tabelas!B:D,3,0),0),\"\")","v":0},{"$f":"IF(A14<>\"\",IFERROR(VLOOKUP(AG14,Tabelas!B:D,3,0),0),\"\")","v":0},{"$f":"IF(A14<>\"\",IFERROR(VLOOKUP(AH14,Tabelas!B:D,3,0),0),\"\")","v":0},{"$f":"IF(A14<>\"\",IFERROR(VLOOKUP(AI14,Tabelas!B:D,3,0),0),\"\")","v":0},{"$f":"IF(A14<>\"\",IFERROR(VLOOKUP(AJ14,Tabelas!B:D,3,0),0),\"\")","v":0},{"$f":"IF(A14<>\"\",IFERROR(VLOOKUP(AK14,Tabelas!B:D,3,0),0),\"\")","v":0},{"$f":"IF(A14<>\"\",IFERROR(VLOOKUP(AL14,Tabelas!B:D,3,0),0),\"\")","v":0},{"$f":"IF(A14<>\"\",IFERROR(VLOOKUP(AM14,Tabelas!B:D,3,0),0),\"\")","v":0},{"$f":"IF(A14<>\"\",IFERROR(VLOOKUP(AN14,Tabelas!B:D,3,0),0),\"\")","v":0},{"$f":"IF(A14<>\"\",IFERROR(VLOOKUP(AO14,Tabelas!B:D,3,0),0),\"\")","v":0},{"$f":"IF(A14<>\"\",IFERROR(VLOOKUP(AP14,Tabelas!B:D,3,0),0),\"\")","v":0},{"$f":"IF(A14<>\"\",IFERROR(VLOOKUP(AQ14,Tabelas!B:D,3,0),0),\"\")","v":0},{"$f":"IF(A14<>\"\",IFERROR(VLOOKUP(AR14,Tabelas!B:D,3,0),0),\"\")","v":0},0,0,0,0,0,0,0,0,{"$f":"IF(A14<>\"\",COUNTIF(N14:AR14,\"APH\"),\"\")","v":0}]
["Fulano de Tal 7",1234567,123,"ENF","Ebserh",36,null,null,null,null,null,null,null,null,null,null,null,null,null,null,null,null,null,null,null,null,null,null,null,null,null,null,null,null,null,null,null,null,null,null,null,null,null,null,{"$f":"IF(A15<>\"\",IFERROR(VLOOKUP(N15,Tabelas!B:D,3,0),0),\"\")","v":0},{"$f":"IF(A15<>\"\",IFERROR(VLOOKUP(O15,Tabelas!B:D,3,0),0),\"\")","v":0},{"$f":"IF(A15<>\"\",IFERROR(VLOOKUP(P15,Tabelas!B:D,3,0),0),\"\")","v":0},{"$f":"IF(A15<>\"\",IFERROR(VLOOKUP(Q15,Tabelas!B:D,3,0),0),\"\")","v":0},{"$f":"IF(A15<>\"\",IFERROR(VLOOKUP(R15,Tabelas!B:D,3,0),0),\"\")","v":0},{"$f":"IF(A15<>\"\",IFERROR(VLOOKUP(S15,Tabelas!B:D,3,0),0),\"\")","v":0},{"$f":"IF(A15<>\"\",IFERROR(VLOOKUP(T15,Tabelas!B:D,3,0),0),\"\")","v":0},{"$f":"IF(A15<>\"\",IFERROR(VLOOKUP(U15,Tabelas!B:D,3,0),0),\"\")","v":0},{"$f":"IF(A15<>\"\",IFERROR(VLOOKUP(V15,Tabelas!B:D,3,0),0),\"\")","v":0},{"$f":"IF(A15<>\"\",IFERROR(VLOOKUP(W15,Tabelas!B:D,3,0),0),\"\")","v":0},{"$f":"IF(A15<>\"\",IFERROR(VLOOKUP(X15,Tabelas!B:D,3,0),0),\"\")","v":0},{"$f":"IF(A15<>\"\",IFERROR(VLOOKUP(Y15,Tabelas!B:D,3,0),0),\"\")","v":0},{"$f":"IF(A15<>\"\",IFERROR(VLOOKUP(Z15,Tabelas!B:D,3,0),0),\"\")","v":0},{"$f":"IF(A15<>\"\",IFERROR(VLOOKUP(AA15,Tabelas!B:D,3,0),0),\"\")","v":0},{"$f":"IF(A15<>\"\",IFERROR(VLOOKUP(AB15,Tabelas!B:D,3,0),0),\"\")","v":0},{"$f":"IF(A15<>\"\",IFERROR(VLOOKUP(AC15,Tabelas!B:D,3,0),0),\"\")","v":0},{"$f":"IF(A15<>\"\",IFERROR(VLOOKUP(AD15,Tabelas!B:D,3,0),0),\"\")","v":0},{"$f":"IF(A15<>\"\",IFERROR(VLOOKUP(AE15,Tabelas!B:D,3,0),0),\"\")","v":0},{"$f":"IF(A15<>\"\",IFERROR(VLOOKUP(AF15,Tabelas!B:D,3,0),0),\"\")","v":0},{"$f":"IF(A15<>\"\",IFERROR(VLOOKUP(AG15,Tabelas!B:D,3,0),0),\"\")","v":0},{"$f":"IF(A15<>\"\",IFERROR(VLOOKUP(AH15,Tabelas!B:D,3,0),0),\"\")","v":0},{"$f":"IF(A15<>\"\",IFERROR(VLOOKUP(AI15,Tabelas!B:D,3,0),0),\"\")","v":0},{"$f":"IF(A15<>\"\",IFERROR(VLOOKUP(AJ15,Tabelas!B:D,3,0),0),\"\")","v":0},{"$f":"IF(A15<>\"\",IFERROR(VLOOKUP(AK15,Tabelas!B:D,3,0),0),\"\")","v":0},{"$f":"IF(A15<>\"\",IFERROR(VLOOKUP(AL15,Tabelas!B:D,3,0),0),\"\")","v":0},{"$f":"IF(A15<>\"\",IFERROR(VLOOKUP(AM15,Tabelas!B:D,3,0),0),\"\")","v":0},{"$f":"IF(A15<>\"\",IFERROR(VLOOKUP(AN15,Tabelas!B:D,3,0),0),\"\")","v":0},{"$f":"IF(A15<>\"\",IFERROR(VLOOKUP(AO15,Tabelas!B:D,3,0),0),\"\")","v":0},{"$f":"IF(A15<>\"\",IFERROR(VLOOKUP(AP15,Tabelas!B:D,3,0),0),\"\")","v":0},{"$f":"IF(A15<>\"\",IFERROR(VLOOKUP(AQ15,Tabelas!B:D,3,0),0),\"\")","v":0},{"$f":"IF(A15<>\"\",IFERROR(VLOOKUP(AR15,Tabelas!B:D,3,0),0),\"\")","v":0},0,0,0,0,0,0,0,0,{"$f":"IF(A15<>\"\",COUNTIF(N15:AR15,\"APH\"),\"\")","v":0}]
["Fulano de Tal 8",1234567,123,"ENF","Ebserh",36,null,null,null,null,null,null,null,null,null,null,null,null,null,null,null,null,null,null,null,null,null,null,null,null,null,null,null,null,null,null,null,null,null,null,null,null,null,null,{"$f":"IF(A16<>\"\",IFERROR(VLOOKUP(N16,Tabelas!B:D,3,0),0),\"\")","v":0},{"$f":"IF(A16<>\"\",IFERROR(VLOOKUP(O16,Tabelas!B:D,3,0),0),\"\")","v":0},{"$f":"IF(A16<>\"\",IFERROR(VLOOKUP(P16,Tabelas!B:D,3,0),0),\"\")","v":0},{"$f":"IF(A16<>\"\",IFERROR(VLOOKUP(Q16,Tabelas!B:D,3,0),0),\"\")","v":0},{"$f":"IF(A16<>\"\",IFERROR(VLOOKUP(R16,Tabelas!B:D,3,0),0),\"\")","v":0},{"$f":"IF(A16<>\"\",IFERROR(VLOOKUP(S16,Tabelas!B:D,3,0),0),\"\")","v":0},{"$f":"IF(A16<>\"\",IFERROR(VLOOKUP(T16,Tabelas!B:D,3,0),0),\"\")","v":0},{"$f":"IF(A16<>\"\",IFERROR(VLOOKUP(U16,Tabelas!B:D,3,0),0),\"\")","v":0},{"$f":"IF(A16<>\"\",IFERROR(VLOOKUP(V16,Tabelas!B:D,3,0),0),\"\")","v":0},{"$f":"IF(A16<>\"\",IFERROR(VLOOKUP(W16,Tabelas!B:D,3,0),0),\"\")","v":0},{"$f":"IF(A16<>\"\",IFERROR(VLOOKUP(X16,Tabelas!B:D,3,0),0),\"\")","v":0},{"$f":"IF(A16<>\"\",IFERROR(VLOOKUP(Y16,Tabelas!B:D,3,0),0),\"\")","v":0},{"$f":"IF(A16<>\"\",IFERROR(VLOOKUP(Z16,Tabelas!B:D,3,0),0),\"\")","v":0},{"$f":"IF(A16<>\"\",IFERROR(VLOOKUP(AA16,Tabelas!B:D,3,0),0),\"\")","v":0},{"$f":"IF(A16<>\"\",IFERROR(VLOOKUP(AB16,Tabelas!B:D,3,0),0),\"\")","v":0},{"$f":"IF(A16<>\"\",IFERROR(VLOOKUP(AC16,Tabelas!B:D,3,0),0),\"\")","v":0},{"$f":"IF(A16<>\"\",IFERROR(VLOOKUP(AD16,Tabelas!B:D,3,0),0),\"\")","v":0},{"$f":"IF(A16<>\"\",IFERROR(VLOOKUP(AE16,Tabelas!B:D,3,0),0),\"\")","v":0},{"$f":"IF(A16<>\"\",IFERROR(VLOOKUP(AF16,Tabelas!B:D,3,0),0),\"\")","v":0},{"$f":"IF(A16<>\"\",IFERROR(VLOOKUP(AG16,Tabelas!B:D,3,0),0),\"\")","v":0},{"$f":"IF(A16<>\"\",IFERROR(VLOOKUP(AH16,Tabelas!B:D,3,0),0),\"\")","v":0},{"$f":"IF(A16<>\"\",IFERROR(VLOOKUP(AI16,Tabelas!B:D,3,0),0),\"\")","v":0},{"$f":"IF(A16<>\"\",IFERROR(VLOOKUP(AJ16,Tabelas!B:D,3,0),0),\"\")","v":0},{"$f":"IF(A16<>\"\",IFERROR(VLOOKUP(AK16,Tabelas!B:D,3,0),0),\"\")","v":0},{"$f":"IF(A16<>\"\",IFERROR(VLOOKUP(AL16,Tabelas!B:D,3,0),0),\"\")","v":0},{"$f":"IF(A16<>\"\",IFERROR(VLOOKUP(AM16,Tabelas!B:D,3,0),0),\"\")","v":0},{"$f":"IF(A16<>\"\",IFERROR(VLOOKUP(AN16,Tabelas!B:D,3,0),0),\"\")","v":0},{"$f":"IF(A16<>\"\",IFERROR(VLOOKUP(AO16,Tabelas!B:D,3,0),0),\"\")","v":0},{"$f":"IF(A16<>\"\",IFERROR(VLOOKUP(AP16,Tabelas!B:D,3,0),0),\"\")","v":0},{"$f":"IF(A16<>\"\",IFERROR(VLOOKUP(AQ16,Tabelas!B:D,3,0),0),\"\")","v":0},{"$f":"IF(A16<>\"\",IFERROR(VLOOKUP(AR16,Tabelas!B:D,3,0),0),\"\")","v":0},0,0,0,0,0,0,0,0,{"$f":"IF(A16<>\"\",COUNTIF(N16:AR16,\"APH\"),\"\")","v":0}]
["Fulano de Tal 9",1234567,123,"ENF","Ebserh",36,null,null,null,null,null,null,null,null,null,null,null,null,null,null,null,null,null,null,null,null,null,null,null,null,null,null,null,null,null,null,null,null,null,null,null,null,null,null,{"$f":"IF(A17<>\"\",IFERROR(VLOOKUP(N17,Tabelas!B:D,3,0),0),\"\")","v":0},{"$f":"IF(A17<>\"\",IFERROR(VLOOKUP(O17,Tabelas!B:D,3,0),0),\"\")","v":0},{"$f":"IF(A17<>\"\",IFERROR(VLOOKUP(P17,Tabelas!B:D,3,0),0),\"\")","v":0},{"$f":"IF(A17<>\"\",IFERROR(VLOOKUP(Q17,Tabelas!B:D,3,0),0),\"\")","v":0},{"$f":"IF(A17<>\"\",IFERROR(VLOOKUP(R17,Tabelas!B:D,3,0),0),\"\")","v":0},{"$f":"IF(A17<>\"\",IFERROR(VLOOKUP(S17,Tabelas!B:D,3,0),0),\"\")","v":0},{"$f":"IF(A17<>\"\",IFERROR(VLOOKUP(T17,Tabelas!B:D,3,0),0),\"\")","v":0},{"$f":"IF(A17<>\"\",IFERROR(VLOOKUP(U17,Tabelas!B:D,3,0),0),\"\")","v":0},{"$f":"IF(A17<>\"\",IFERROR(VLOOKUP(V17,Tabelas!B:D,3,0),0),\"\")","v":0},{"$f":"IF(A17<>\"\",IFERROR(VLOOKUP(W17,Tabelas!B:D,3,0),0),\"\")","v":0},{"$f":"IF(A17<>\"\",IFERROR(VLOOKUP(X17,Tabelas!B:D,3,0),0),\"\")","v":0},{"$f":"IF(A17<>\"\",IFERROR(VLOOKUP(Y17,Tabelas!B:D,3,0),0),\"\")","v":0},{"$f":"IF(A17<>\"\",IFERROR(VLOOKUP(Z17,Tabelas!B:D,3,0),0),\"\")","v":0},{"$f":"IF(A17<>\"\",IFERROR(VLOOKUP(AA17,Tabelas!B:D,3,0),0),\"\")","v":0},{"$f":"IF(A17<>\"\",IFERROR(VLOOKUP(AB17,Tabelas!B:D,3,0),0),\"\")","v":0},{"$f":"IF(A17<>\"\",IFERROR(VLOOKUP(AC17,Tabelas!B:D,3,0),0),\"\")","v":0},{"$f":"IF(A17<>\"\",IFERROR(VLOOKUP(AD17,Tabelas!B:D,3,0),0),\"\")","v":0},{"$f":"IF(A17<>\"\",IFERROR(VLOOKUP(AE17,Tabelas!B:D,3,0),0),\"\")","v":0},{"$f":"IF(A17<>\"\",IFERROR(VLOOKUP(AF17,Tabelas!B:D,3,0),0),\"\")","v":0},{"$f":"IF(A17<>\"\",IFERROR(VLOOKUP(AG17,Tabelas!B:D,3,0),0),\"\")","v":0},{"$f":"IF(A17<>\"\",IFERROR(VLOOKUP(AH17,Tabelas!B:D,3,0),0),\"\")","v":0},{"$f":"IF(A17<>\"\",IFERROR(VLOOKUP(AI17,Tabelas!B:D,3,0),0),\"\")","v":0},{"$f":"IF(A17<>\"\",IFERROR(VLOOKUP(AJ17,Tabelas!B:D,3,0),0),\"\")","v":0},{"$f":"IF(A17<>\"\",IFERROR(VLOOKUP(AK17,Tabelas!B:D,3,0),0),\"\")","v":0},{"$f":"IF(A17<>\"\",IFERROR(VLOOKUP(AL17,Tabelas!B:D,3,0),0),\"\")","v":0},{"$f":"IF(A17<>\"\",IFERROR(VLOOKUP(AM17,Tabelas!B:D,3,0),0),\"\")","v":0},{"$f":"IF(A17<>\"\",IFERROR(VLOOKUP(AN17,Tabelas!B:D,3,0),0),\"\")","v":0},{"$f":"IF(A17<>\"\",IFERROR(VLOOKUP(AO17,Tabelas!B:D,3,0),0),\"\")","v":0},{"$f":"IF(A17<>\"\",IFERROR(VLOOKUP(AP17,Tabelas!B:D,3,0),0),\"\")","v":0},{"$f":"IF(A17<>\"\",IFERROR(VLOOKUP(AQ17,Tabelas!B:D,3,0),0),\"\")","v":0},{"$f":"IF(A17<>\"\",IFERROR(VLOOKUP(AR17,Tabelas!B:D,3,0),0),\"\")","v":0},0,0,0,0,0,0,0,0,{"$f":"IF(A17<>\"\",COUNTIF(N17:AR17,\"APH\"),\"\")","v":0}]
["Fulano de Tal 10",1234567,123,"ENF","Ebserh",36,null,null,null,null,null,null,null,null,null,null,null,null,null,null,null,null,null,null,null,null,null,null,null,null,null,null,null,null,null,null,null,null,null,null,null,null,null,null,{"$f":"IF(A18<>\"\",IFERROR(VLOOKUP(N18,Tabelas!B:D,3,0),0),\"\")","v":0},{"$f":"IF(A18<>\"\",IFERROR(VLOOKUP(O18,Tabelas!B:D,3,0),0),\"\")","v":0},{"$f":"IF(A18<>\"\",IFERROR(VLOOKUP(P18,Tabelas!B:D,3,0),0),\"\")","v":0},{"$f":"IF(A18<>\"\",IFERROR(VLOOKUP(Q18,Tabelas!B:D,3,0),0),\"\")","v":0},{"$f":"IF(A18<>\"\",IFERROR(VLOOKUP(R18,Tabelas!B:D,3,0),0),\"\")","v":0},{"$f":"IF(A18<>\"\",IFERROR(VLOOKUP(S18,Tabelas!B:D,3,0),0),\"\")","v":0},{"$f":"IF(A18<>\"\",IFERROR(VLOOKUP(T18,Tabelas!B:D,3,0),0),\"\")","v":0},{"$f":"IF(A18<>\"\",IFERROR(VLOOKUP(U18,Tabelas!B:D,3,0),0),\"\")","v":0},{"$f":"IF(A18<>\"\",IFERROR(VLOOKUP(V18,Tabelas!B:D,3,0),0),\"\")","v":0},{"$f":"IF(A18<>\"\",IFERROR(VLOOKUP(W18,Tabelas!B:D,3,0),0),\"\")","v":0},{"$f":"IF(A18<>\"\",IFERROR(VLOOKUP(X18,Tabelas!B:D,3,0),0),\"\")","v":0},{"$f":"IF(A18<>\"\",IFERROR(VLOOKUP(Y18,Tabelas!B:D,3,0),0),\"\")","v":0},{"$f":"IF(A18<>\"\",IFERROR(VLOOKUP(Z18,Tabelas!B:D,3,0),0),\"\")","v":0},{"$f":"IF(A18<>\"\",IFERROR(VLOOKUP(AA18,Tabelas!B:D,3,0),0),\"\")","v":0},{"$f":"IF(A18<>\"\",IFERROR(VLOOKUP(AB18,Tabelas!B:D,3,0),0),\"\")","v":0},{"$f":"IF(A18<>\"\",IFERROR(VLOOKUP(AC18,Tabelas!B:D,3,0),0),\"\")","v":0},{"$f":"IF(A18<>\"\",IFERROR(VLOOKUP(AD18,Tabelas!B:D,3,0),0),\"\")","v":0},{"$f":"IF(A18<>\"\",IFERROR(VLOOKUP(AE18,Tabelas!B:D,3,0),0),\"\")","v":0},{"$f":"IF(A18<>\"\",IFERROR(VLOOKUP(AF18,Tabelas!B:D,3,0),0),\"\")","v":0},{"$f":"IF(A18<>\"\",IFERROR(VLOOKUP(AG18,Tabelas!B:D,3,0),0),\"\")","v":0},{"$f":"IF(A18<>\"\",IFERROR(VLOOKUP(AH18,Tabelas!B:D,3,0),0),\"\")","v":0},{"$f":"IF(A18<>\"\",IFERROR(VLOOKUP(AI18,Tabelas!B:D,3,0),0),\"\")","v":0},{"$f":"IF(A18<>\"\",IFERROR(VLOOKUP(AJ18,Tabelas!B:D,3,0),0),\"\")","v":0},{"$f":"IF(A18<>\"\",IFERROR(VLOOKUP(AK18,Tabelas!B:D,3,0),0),\"\")","v":0},{"$f":"IF(A18<>\"\",IFERROR(VLOOKUP(AL18,Tabelas!B:D,3,0),0),\"\")","v":0},{"$f":"IF(A18<>\"\",IFERROR(VLOOKUP(AM18,Tabelas!B:D,3,0),0),\"\")","v":0},{"$f":"IF(A18<>\"\",IFERROR(VLOOKUP(AN18,Tabelas!B:D,3,0),0),\"\")","v":0},{"$f":"IF(A18<>\"\",IFERROR(VLOOKUP(AO18,Tabelas!B:D,3,0),0),\"\")","v":0},{"$f":"IF(A18<>\"\",IFERROR(VLOOKUP(AP18,Tabelas!B:D,3,0),0),\"\")","v":0},{"$f":"IF(A18<>\"\",IFERROR(VLOOKUP(AQ18,Tabelas!B:D,3,0),0),\"\")","v":0},{"$f":"IF(A18<>\"\",IFERROR(VLOOKUP(AR18,Tabelas!B:D,3,0),0),\"\")","v":0},0,0,0,0,0,0,0,0,{"$f":"IF(A18<>\"\",COUNTIF(N18:AR18,\"APH\"),\"\")","v":0}]
["Fulano de Tal 11",1234567,123,"ENF","Ebserh",36,null,null,null,null,null,null,null,null,null,null,null,null,null,null,null,null,null,null,null,null,null,null,null,null,null,null,null,null,null,null,null,null,null,null,null,null,null,null,{"$f":"IF(A19<>\"\",IFERROR(VLOOKUP(N19,Tabelas!B:D,3,0),0),\"\")","v":0},{"$f":"IF(A19<>\"\",IFERROR(VLOOKUP(O19,Tabelas!B:D,3,0),0),\"\")","v":0},{"$f":"IF(A19<>\"\",IFERROR(VLOOKUP(P19,Tabelas!B:D,3,0),0),\"\")","v":0},{"$f":"IF(A19<>\"\",IFERROR(VLOOKUP(Q19,Tabelas!B:D,3,0),0),\"\")","v":0},{"$f":"IF(A19<>\"\",IFERROR(VLOOKUP(R19,Tabelas!B:D,3,0),0),\"\")","v":0},{"$f":"IF(A19<>\"\",IFERROR(VLOOKUP(S19,Tabelas!B:D,3,0),0),\"\")","v":0},{"$f":"IF(A19<>\"\",IFERROR(VLOOKUP(T19,Tabelas!B:D,3,0),0),\"\")","v":0},{"$f":"IF(A19<>\"\",IFERROR(VLOOKUP(U19,Tabelas!B:D,3,0),0),\"\")","v":0},{"$f":"IF(A19<>\"\",IFERROR(VLOOKUP(V19,Tabelas!B:D,3,0),0),\"\")","v":0},{"$f":"IF(A19<>\"\",IFERROR(VLOOKUP(W19,Tabelas!B:D,3,0),0),\"\")","v":0},{"$f":"IF(A19<>\"\",IFERROR(VLOOKUP(X19,Tabelas!B:D,3,0),0),\"\")","v":0},{"$f":"IF(A19<>\"\",IFERROR(VLOOKUP(Y19,Tabelas!B:D,3,0),0),\"\")","v":0},{"$f":"IF(A19<>\"\",IFERROR(VLOOKUP(Z19,Tabelas!B:D,3,0),0),\"\")","v":0},{"$f":"IF(A19<>\"\",IFERROR(VLOOKUP(AA19,Tabelas!B:D,3,0),0),\"\")","v":0},{"$f":"IF(A19<>\"\",IFERROR(VLOOKUP(AB19,Tabelas!B:D,3,0),0),\"\")","v":0},{"$f":"IF(A19<>\"\",IFERROR(VLOOKUP(AC19,Tabelas!B:D,3,0),0),\"\")","v":0},{"$f":"IF(A19<>\"\",IFERROR(VLOOKUP(AD19,Tabelas!B:D,3,0),0),\"\")","v":0},{"$f":"IF(A19<>\"\",IFERROR(VLOOKUP(AE19,Tabelas!B:D,3,0),0),\"\")","v":0},{"$f":"IF(A19<>\"\",IFERROR(VLOOKUP(AF19,Tabelas!B:D,3,0),0),\"\")","v":0},{"$f":"IF(A19<>\"\",IFERROR(VLOOKUP(AG19,Tabelas!B:D,3,0),0),\"\")","v":0},{"$f":"IF(A19<>\"\",IFERROR(VLOOKUP(AH19,Tabelas!B:D,3,0),0),\"\")","v":0},{"$f":"IF(A19<>\"\",IFERROR(VLOOKUP(AI19,Tabelas!B:D,3,0),0),\"\")","v":0},{"$f":"IF(A19<>\"\",IFERROR(VLOOKUP(AJ19,Tabelas!B:D,3,0),0),\"\")","v":0},{"$f":"IF(A19<>\"\",IFERROR(VLOOKUP(AK19,Tabelas!B:D,3,0),0),\"\")","v":0},{"$f":"IF(A19<>\"\",IFERROR(VLOOKUP(AL19,Tabelas!B:D,3,0),0),\"\")","v":0},{"$f":"IF(A19<>\"\",IFERROR(VLOOKUP(AM19,Tabelas!B:D,3,0),0),\"\")","v":0},{"$f":"IF(A19<>\"\",IFERROR(VLOOKUP(AN19,Tabelas!B:D,3,0),0),\"\")","v":0},{"$f":"IF(A19<>\"\",IFERROR(VLOOKUP(AO19,Tabelas!B:D,3,0),0),\"\")","v":0},{"$f":"IF(A19<>\"\",IFERROR(VLOOKUP(AP19,Tabelas!B:D,3,0),0),\"\")","v":0},{"$f":"IF(A19<>\"\",IFERROR(VLOOKUP(AQ19,Tabelas!B:D,3,0),0),\"\")","v":0},{"$f":"IF(A19<>\"\",IFERROR(VLOOKUP(AR19,Tabelas!B:D,3,0),0),\"\")","v":0},0,0,0,0,0,0,0,0,{"$f":"IF(A19<>\"\",COUNTIF(N19:AR19,\"APH\"),\"\")","v":0}]
["Fulano de Tal 12",1234567,123,"ENF","Ebserh",36,null,null,null,null,null,null,null,null,null,null,null,null,null,null,null,null,null,null,null,null,null,null,null,null,null,null,null,null,null,null,null,null,null,null,null,null,null,null,{"$f":"IF(A20<>\"\",IFERROR(VLOOKUP(N20,Tabelas!B:D,3,0),0),\"\")","v":0},{"$f":"IF(A20<>\"\",IFERROR(VLOOKUP(O20,Tabelas!B:D,3,0),0),\"\")","v":0},{"$f":"IF(A20<>\"\",IFERROR(VLOOKUP(P20,Tabelas!B:D,3,0),0),\"\")","v":0},{"$f":"IF(A20<>\"\",IFERROR(VLOOKUP(Q20,Tabelas!B:D,3,0),0),\"\")","v":0},{"$f":"IF(A20<>\"\",IFERROR(VLOOKUP(R20,Tabelas!B:D,3,0),0),\"\")","v":0},{"$f":"IF(A20<>\"\",IFERROR(VLOOKUP(S20,Tabelas!B:D,3,0),0),\"\")","v":0},{"$f":"IF(A20<>\"\",IFERROR(VLOOKUP(T20,Tabelas!B:D,3,0),0),\"\")","v":0},{"$f":"IF(A20<>\"\",IFERROR(VLOOKUP(U20,Tabelas!B:D,3,0),0),\"\")","v":0},{"$f":"IF(A20<>\"\",IFERROR(VLOOKUP(V20,Tabelas!B:D,3,0),0),\"\")","v":0},{"$f":"IF(A20<>\"\",IFERROR(VLOOKUP(W20,Tabelas!B:D,3,0),0),\"\")","v":0},{"$f":"IF(A20<>\"\",IFERROR(VLOOKUP(X20,Tabelas!B:D,3,0),0),\"\")","v":0},{"$f":"IF(A20<>\"\",IFERROR(VLOOKUP(Y20,Tabelas!B:D,3,0),0),\"\")","v":0},{"$f":"IF(A20<>\"\",IFERROR(VLOOKUP(Z20,Tabelas!B:D,3,0),0),\"\")","v":0},{"$f":"IF(A20<>\"\",IFERROR(VLOOKUP(AA20,Tabelas!B:D,3,0),0),\"\")","v":0},{"$f":"IF(A20<>\"\",IFERROR(VLOOKUP(AB20,Tabelas!B:D,3,0),0),\"\")","v":0},{"$f":"IF(A20<>\"\",IFERROR(VLOOKUP(AC20,Tabelas!B:D,3,0),0),\"\")","v":0},{"$f":"IF(A20<>\"\",IFERROR(VLOOKUP(AD20,Tabelas!B:D,3,0),0),\"\")","v":0},{"$f":"IF(A20<>\"\",IFERROR(VLOOKUP(AE20,Tabelas!B:D,3,0),0),\"\")","v":0},{"$f":"IF(A20<>\"\",IFERROR(VLOOKUP(AF20,Tabelas!B:D,3,0),0),\"\")","v":0},{"$f":"IF(A20<>\"\",IFERROR(VLOOKUP(AG20,Tabelas!B:D,3,0),0),\"\")","v":0},{"$f":"IF(A20<>\"\",IFERROR(VLOOKUP(AH20,Tabelas!B:D,3,0),0),\"\")","v":0},{"$f":"IF(A20<>\"\",IFERROR(VLOOKUP(AI20,Tabelas!B:D,3,0),0),\"\")","v":0},{"$f":"IF(A20<>\"\",IFERROR(VLOOKUP(AJ20,Tabelas!B:D,3,0),0),\"\")","v":0},{"$f":"IF(A20<>\"\",IFERROR(VLOOKUP(AK20,Tabelas!B:D,3,0),0),\"\")","v":0},{"$f":"IF(A20<>\"\",IFERROR(VLOOKUP(AL20,Tabelas!B:D,3,0),0),\"\")","v":0},{"$f":"IF(A20<>\"\",IFERROR(VLOOKUP(AM20,Tabelas!B:D,3,0),0),\"\")","v":0},{"$f":"IF(A20<>\"\",IFERROR(VLOOKUP(AN20,Tabelas!B:D,3,0),0),\"\")","v":0},{"$f":"IF(A20<>\"\",IFERROR(VLOOKUP(AO20,Tabelas!B:D,3,0),0),\"\")","v":0},{"$f":"IF(A20<>\"\",IFERROR(VLOOKUP(AP20,Tabelas!B:D,3,0),0),\"\")","v":0},{"$f":"IF(A20<>\"\",IFERROR(VLOOKUP(AQ20,Tabelas!B:D,3,0),0),\"\")","v":0},{"$f":"IF(A20<>\"\",IFERROR(VLOOKUP(AR20,Tabelas!B:D,3,0),0),\"\")","v":0},0,0,0,0,0,0,0,0,0]
["Fulano de Tal 13",1234567,123,"ENF","Ebserh",36,null,null,null,null,null,null,null,null,null,null,null,null,null,null,null,null,null,null,null,null,null,null,null,null,null,null,null,null,null,null,null,null,null,null,null,null,null,null,{"$f":"IF(A21<>\"\",IFERROR(VLOOKUP(N21,Tabelas!B:D,3,0),0),\"\")","v":0},{"$f":"IF(A21<>\"\",IFERROR(VLOOKUP(O21,Tabelas!B:D,3,0),0),\"\")","v":0},{"$f":"IF(A21<>\"\",IFERROR(VLOOKUP(P21,Tabelas!B:D,3,0),0),\"\")","v":0},{"$f":"IF(A21<>\"\",IFERROR(VLOOKUP(Q21,Tabelas!B:D,3,0),0),\"\")","v":0},{"$f":"IF(A21<>\"\",IFERROR(VLOOKUP(R21,Tabelas!B:D,3,0),0),\"\")","v":0},{"$f":"IF(A21<>\"\",IFERROR(VLOOKUP(S21,Tabelas!B:D,3,0),0),\"\")","v":0},{"$f":"IF(A21<>\"\",IFERROR(VLOOKUP(T21,Tabelas!B:D,3,0),0),\"\")","v":0},{"$f":"IF(A21<>\"\",IFERROR(VLOOKUP(U21,Tabelas!B:D,3,0),0),\"\")","v":0},{"$f":"IF(A21<>\"\",IFERROR(VLOOKUP(V21,Tabelas!B:D,3,0),0),\"\")","v":0},{"$f":"IF(A21<>\"\",IFERROR(VLOOKUP(W21,Tabelas!B:D,3,0),0),\"\")","v":0},{"$f":"IF(A21<>\"\",IFERROR(VLOOKUP(X21,Tabelas!B:D,3,0),0),\"\")","v":0},{"$f":"IF(A21<>\"\",IFERROR(VLOOKUP(Y21,Tabelas!B:D,3,0),0),\"\")","v":0},{"$f":"IF(A21<>\"\",IFERROR(VLOOKUP(Z21,Tabelas!B:D,3,0),0),\"\")","v":0},{"$f":"IF(A21<>\"\",IFERROR(VLOOKUP(AA21,Tabelas!B:D,3,0),0),\"\")","v":0},{"$f":"IF(A21<>\"\",IFERROR(VLOOKUP(AB21,Tabelas!B:D,3,0),0),\"\")","v":0},{"$f":"IF(A21<>\"\",IFERROR(VLOOKUP(AC21,Tabelas!B:D,3,0),0),\"\")","v":0},{"$f":"IF(A21<>\"\",IFERROR(VLOOKUP(AD21,Tabelas!B:D,3,0),0),\"\")","v":0},{"$f":"IF(A21<>\"\",IFERROR(VLOOKUP(AE21,Tabelas!B:D,3,0),0),\"\")","v":0},{"$f":"IF(A21<>\"\",IFERROR(VLOOKUP(AF21,Tabelas!B:D,3,0),0),\"\")","v":0},{"$f":"IF(A21<>\"\",IFERROR(VLOOKUP(AG21,Tabelas!B:D,3,0),0),\"\")","v":0},{"$f":"IF(A21<>\"\",IFERROR(VLOOKUP(AH21,Tabelas!B:D,3,0),0),\"\")","v":0},{"$f":"IF(A21<>\"\",IFERROR(VLOOKUP(AI21,Tabelas!B:D,3,0),0),\"\")","v":0},{"$f":"IF(A21<>\"\",IFERROR(VLOOKUP(AJ21,Tabelas!B:D,3,0),0),\"\")","v":0},{"$f":"IF(A21<>\"\",IFERROR(VLOOKUP(AK21,Tabelas!B:D,3,0),0),\"\")","v":0},{"$f":"IF(A21<>\"\",IFERROR(VLOOKUP(AL21,Tabelas!B:D,3,0),0),\"\")","v":0},{"$f":"IF(A21<>\"\",IFERROR(VLOOKUP(AM21,Tabelas!B:D,3,0),0),\"\")","v":0},{"$f":"IF(A21<>\"\",IFERROR(VLOOKUP(AN21,Tabelas!B:D,3,0),0),\"\")","v":0},{"$f":"IF(A21<>\"\",IFERROR(VLOOKUP(AO21,Tabelas!B:D,3,0),0),\"\")","v":0},{"$f":"IF(A21<>\"\",IFERROR(VLOOKUP(AP21,Tabelas!B:D,3,0),0),\"\")","v":0},{"$f":"IF(A21<>\"\",IFERROR(VLOOKUP(AQ21,Tabelas!B:D,3,0),0),\"\")","v":0},{"$f":"IF(A21<>\"\",IFERROR(VLOOKUP(AR21,Tabelas!B:D,3,0),0),\"\")","v":0},0,0,0,0,0,0,0,0,0]
["Fulano de Tal 14",1234567,123,"ENF","Ebserh",36,null,null,null,null,null,null,null,null,null,null,null,null,null,null,null,null,null,null,null,null,null,null,null,null,null,null,null,null,null,null,null,null,null,null,null,null,null,null,{"$f":"IF(A22<>\"\",IFERROR(VLOOKUP(N22,Tabelas!B:D,3,0),0),\"\")","v":0},{"$f":"IF(A22<>\"\",IFERROR(VLOOKUP(O22,Tabelas!B:D,3,0),0),\"\")","v":0},{"$f":"IF(A22<>\"\",IFERROR(VLOOKUP(P22,Tabelas!B:D,3,0),0),\"\")","v":0},{"$f":"IF(A22<>\"\",IFERROR(VLOOKUP(Q22,Tabelas!B:D,3,0),0),\"\")","v":0},{"$f":"IF(A22<>\"\",IFERROR(VLOOKUP(R22,Tabelas!B:D,3,0),0),\"\")","v":0},{"$f":"IF(A22<>\"\",IFERROR(VLOOKUP(S22,Tabelas!B:D,3,0),0),\"\")","v":0},{"$f":"IF(A22<>\"\",IFERROR(VLOOKUP(T22,Tabelas!B:D,3,0),0),\"\")","v":0},{"$f":"IF(A22<>\"\",IFERROR(VLOOKUP(U22,Tabelas!B:D,3,0),0),\"\")","v":0},{"$f":"IF(A22<>\"\",IFERROR(VLOOKUP(V22,Tabelas!B:D,3,0),0),\"\")","v":0},{"$f":"IF(A22<>\"\",IFERROR(VLOOKUP(W22,Tabelas!B:D,3,0),0),\"\")","v":0},{"$f":"IF(A22<>\"\",IFERROR(VLOOKUP(X22,Tabelas!B:D,3,0),0),\"\")","v":0},{"$f":"IF(A22<>\"\",IFERROR(VLOOKUP(Y22,Tabelas!B:D,3,0),0),\"\")","v":0},{"$f":"IF(A22<>\"\",IFERROR(VLOOKUP(Z22,Tabelas!B:D,3,0),0),\"\")","v":0},{"$f":"IF(A22<>\"\",IFERROR(VLOOKUP(AA22,Tabelas!B:D,3,0),0),\"\")","v":0},{"$f":"IF(A22<>\"\",IFERROR(VLOOKUP(AB22,Tabelas!B:D,3,0),0),\"\")","v":0},{"$f":"IF(A22<>\"\",IFERROR(VLOOKUP(AC22,Tabelas!B:D,3,0),0),\"\")","v":0},{"$f":"IF(A22<>\"\",IFERROR(VLOOKUP(AD22,Tabelas!B:D,3,0),0),\"\")","v":0},{"$f":"IF(A22<>\"\",IFERROR(VLOOKUP(AE22,Tabelas!B:D,3,0),0),\"\")","v":0},{"$f":"IF(A22<>\"\",IFERROR(VLOOKUP(AF22,Tabelas!B:D,3,0),0),\"\")","v":0},{"$f":"IF(A22<>\"\",IFERROR(VLOOKUP(AG22,Tabelas!B:D,3,0),0),\"\")","v":0},{"$f":"IF(A22<>\"\",IFERROR(VLOOKUP(AH22,Tabelas!B:D,3,0),0),\"\")","v":0},{"$f":"IF(A22<>\"\",IFERROR(VLOOKUP(AI22,Tabelas!B:D,3,0),0),\"\")","v":0},{"$f":"IF(A22<>\"\",IFERROR(VLOOKUP(AJ22,Tabelas!B:D,3,0),0),\"\")","v":0},{"$f":"IF(A22<>\"\",IFERROR(VLOOKUP(AK22,Tabelas!B:D,3,0),0),\"\")","v":0},{"$f":"IF(A22<>\"\",IFERROR(VLOOKUP(AL22,Tabelas!B:D,3,0),0),\"\")","v":0},{"$f":"IF(A22<>\"\",IFERROR(VLOOKUP(AM22,Tabelas!B:D,3,0),0),\"\")","v":0},{"$f":"IF(A22<>\"\",IFERROR(VLOOKUP(AN22,Tabelas!B:D,3,0),0),\"\")","v":0},{"$f":"IF(A22<>\"\",IFERROR(VLOOKUP(AO22,Tabelas!B:D,3,0),0),\"\")","v":0},{"$f":"IF(A22<>\"\",IFERROR(VLOOKUP(AP22,Tabelas!B:D,3,0),0),\"\")","v":0},{"$f":"IF(A22<>\"\",IFERROR(VLOOKUP(AQ22,Tabelas!B:D,3,0),0),\"\")","v":0},{"$f":"IF(A22<>\"\",IFERROR(VLOOKUP(AR22,Tabelas!B:D,3,0),0),\"\")","v":0},0,0,0,0,0,0,0,0,0]
["Fulano de Tal 15",1234567,123,"ENF","Ebserh",36,null,null,null,null,null,null,null,null,null,null,null,null,null,null,null,null,null,null,null,null,null,null,null,null,null,null,null,null,null,null,null,null,null,null,null,null,null,null,{"$f":"IF(A23<>\"\",IFERROR(VLOOKUP(N23,Tabelas!B:D,3,0),0),\"\")","v":0},{"$f":"IF(A23<>\"\",IFERROR(VLOOKUP(O23,Tabelas!B:D,3,0),0),\"\")","v":0},{"$f":"IF(A23<>\"\",IFERROR(VLOOKUP(P23,Tabelas!B:D,3,0),0),\"\")","v":0},{"$f":"IF(A23<>\"\",IFERROR(VLOOKUP(Q23,Tabelas!B:D,3,0),0),\"\")","v":0},{"$f":"IF(A23<>\"\",IFERROR(VLOOKUP(R23,Tabelas!B:D,3,0),0),\"\")","v":0},{"$f":"IF(A23<>\"\",IFERROR(VLOOKUP(S23,Tabelas!B:D,3,0),0),\"\")","v":0},{"$f":"IF(A23<>\"\",IFERROR(VLOOKUP(T23,Tabelas!B:D,3,0),0),\"\")","v":0},{"$f":"IF(A23<>\"\",IFERROR(VLOOKUP(U23,Tabelas!B:D,3,0),0),\"\")","v":0},{"$f":"IF(A23<>\"\",IFERROR(VLOOKUP(V23,Tabelas!B:D,3,0),0),\"\")","v":0},{"$f":"IF(A23<>\"\",IFERROR(VLOOKUP(W23,Tabelas!B:D,3,0),0),\"\")","v":0},{"$f":"IF(A23<>\"\",IFERROR(VLOOKUP(X23,Tabelas!B:D,3,0),0),\"\")","v":0},{"$f":"IF(A23<>\"\",IFERROR(VLOOKUP(Y23,Tabelas!B:D,3,0),0),\"\")","v":0},{"$f":"IF(A23<>\"\",IFERROR(VLOOKUP(Z23,Tabelas!B:D,3,0),0),\"\")","v":0},{"$f":"IF(A23<>\"\",IFERROR(VLOOKUP(AA23,Tabelas!B:D,3,0),0),\"\")","v":0},{"$f":"IF(A23<>\"\",IFERROR(VLOOKUP(AB23,Tabelas!B:D,3,0),0),\"\")","v":0},{"$f":"IF(A23<>\"\",IFERROR(VLOOKUP(AC23,Tabelas!B:D,3,0),0),\"\")","v":0},{"$f":"IF(A23<>\"\",IFERROR(VLOOKUP(AD23,Tabelas!B:D,3,0),0),\"\")","v":0},{"$f":"IF(A23<>\"\",IFERROR(VLOOKUP(AE23,Tabelas!B:D,3,0),0),\"\")","v":0},{"$f":"IF(A23<>\"\",IFERROR(VLOOKUP(AF23,Tabelas!B:D,3,0),0),\"\")","v":0},{"$f":"IF(A23<>\"\",IFERROR(VLOOKUP(AG23,Tabelas!B:D,3,0),0),\"\")","v":0},{"$f":"IF(A23<>\"\",IFERROR(VLOOKUP(AH23,Tabelas!B:D,3,0),0),\"\")","v":0},{"$f":"IF(A23<>\"\",IFERROR(VLOOKUP(AI23,Tabelas!B:D,3,0),0),\"\")","v":0},{"$f":"IF(A23<>\"\",IFERROR(VLOOKUP(AJ23,Tabelas!B:D,3,0),0),\"\")","v":0},{"$f":"IF(A23<>\"\",IFERROR(VLOOKUP(AK23,Tabelas!B:D,3,0),0),\"\")","v":0},{"$f":"IF(A23<>\"\",IFERROR(VLOOKUP(AL23,Tabelas!B:D,3,0),0),\"\")","v":0},{"$f":"IF(A23<>\"\",IFERROR(VLOOKUP(AM23,Tabelas!B:D,3,0),0),\"\")","v":0},{"$f":"IF(A23<>\"\",IFERROR(VLOOKUP(AN23,Tabelas!B:D,3,0),0),\"\")","v":0},{"$f":"IF(A23<>\"\",IFERROR(VLOOKUP(AO23,Tabelas!B:D,3,0),0),\"\")","v":0},{"$f":"IF(A23<>\"\",IFERROR(VLOOKUP(AP23,Tabelas!B:D,3,0),0),\"\")","v":0},{"$f":"IF(A23<>\"\",IFERROR(VLOOKUP(AQ23,Tabelas!B:D,3,0),0),\"\")","v":0},{"$f":"IF(A23<>\"\",IFERROR(VLOOKUP(AR23,Tabelas!B:D,3,0),0),\"\")","v":0},0,0,0,0,0,0,0,0,0]
["Fulano de Tal 16",1234567,123,"ENF","Ebserh",36,null,null,null,null,null,null,null,null,null,null,null,null,null,null,null,null,null,null,null,null,null,null,null,null,null,null,null,null,null,null,null,null,null,null,null,null,null,null,{"$f":"IF(A24<>\"\",IFERROR(VLOOKUP(N24,Tabelas!B:D,3,0),0),\"\")","v":0},{"$f":"IF(A24<>\"\",IFERROR(VLOOKUP(O24,Tabelas!B:D,3,0),0),\"\")","v":0},{"$f":"IF(A24<>\"\",IFERROR(VLOOKUP(P24,Tabelas!B:D,3,0),0),\"\")","v":0},{"$f":"IF(A24<>\"\",IFERROR(VLOOKUP(Q24,Tabelas!B:D,3,0),0),\"\")","v":0},{"$f":"IF(A24<>\"\",IFERROR(VLOOKUP(R24,Tabelas!B:D,3,0),0),\"\")","v":0},{"$f":"IF(A24<>\"\",IFERROR(VLOOKUP(S24,Tabelas!B:D,3,0),0),\"\")","v":0},{"$f":"IF(A24<>\"\",IFERROR(VLOOKUP(T24,Tabelas!B:D,3,0),0),\"\")","v":0},{"$f":"IF(A24<>\"\",IFERROR(VLOOKUP(U24,Tabelas!B:D,3,0),0),\"\")","v":0},{"$f":"IF(A24<>\"\",IFERROR(VLOOKUP(V24,Tabelas!B:D,3,0),0),\"\")","v":0},{"$f":"IF(A24<>\"\",IFERROR(VLOOKUP(W24,Tabelas!B:D,3,0),0),\"\")","v":0},{"$f":"IF(A24<>\"\",IFERROR(VLOOKUP(X24,Tabelas!B:D,3,0),0),\"\")","v":0},{"$f":"IF(A24<>\"\",IFERROR(VLOOKUP(Y24,Tabelas!B:D,3,0),0),\"\")","v":0},{"$f":"IF(A24<>\"\",IFERROR(VLOOKUP(Z24,Tabelas!B:D,3,0),0),\"\")","v":0},{"$f":"IF(A24<>\"\",IFERROR(VLOOKUP(AA24,Tabelas!B:D,3,0),0),\"\")","v":0},{"$f":"IF(A24<>\"\",IFERROR(VLOOKUP(AB24,Tabelas!B:D,3,0),0),\"\")","v":0},{"$f":"IF(A24<>\"\",IFERROR(VLOOKUP(AC24,Tabelas!B:D,3,0),0),\"\")","v":0},{"$f":"IF(A24<>\"\",IFERROR(VLOOKUP(AD24,Tabelas!B:D,3,0),0),\"\")","v":0},{"$f":"IF(A24<>\"\",IFERROR(VLOOKUP(AE24,Tabelas!B:D,3,0),0),\"\")","v":0},{"$f":"IF(A24<>\"\",IFERROR(VLOOKUP(AF24,Tabelas!B:D,3,0),0),\"\")","v":0},{"$f":"IF(A24<>\"\",IFERROR(VLOOKUP(AG24,Tabelas!B:D,3,0),0),\"\")","v":0},{"$f":"IF(A24<>\"\",IFERROR(VLOOKUP(AH24,Tabelas!B:D,3,0),0),\"\")","v":0},{"$f":"IF(A24<>\"\",IFERROR(VLOOKUP(AI24,Tabelas!B:D,3,0),0),\"\")","v":0},{"$f":"IF(A24<>\"\",IFERROR(VLOOKUP(AJ24,Tabelas!B:D,3,0),0),\"\")","v":0},{"$f":"IF(A24<>\"\",IFERROR(VLOOKUP(AK24,Tabelas!B:D,3,0),0),\"\")","v":0},{"$f":"IF(A24<>\"\",IFERROR(VLOOKUP(AL24,Tabelas!B:D,3,0),0),\"\")","v":0},{"$f":"IF(A24<>\"\",IFERROR(VLOOKUP(AM24,Tabelas!B:D,3,0),0),\"\")","v":0},{"$f":"IF(A24<>\"\",IFERROR(VLOOKUP(AN24,Tabelas!B:D,3,0),0),\"\")","v":0},{"$f":"IF(A24<>\"\",IFERROR(VLOOKUP(AO24,Tabelas!B:D,3,0),0),\"\")","v":0},{"$f":"IF(A24<>\"\",IFERROR(VLOOKUP(AP24,Tabelas!B:D,3,0),0),\"\")","v":0},{"$f":"IF(A24<>\"\",IFERROR(VLOOKUP(AQ24,Tabelas!B:D,3,0),0),\"\")","v":0},{"$f":"IF(A24<>\"\",IFERROR(VLOOKUP(AR24,Tabelas!B:D,3,0),0),\"\")","v":0},0,0,0,0,0,0,0,0,0]
["Fulano de Tal 17",1234567,123,"ENF","Ebserh",36,null,null,null,null,null,null,null,null,null,null,null,null,null,null,null,null,null,null,null,null,null,null,null,null,null,null,null,null,null,null,null,null,null,null,null,null,null,null,{"$f":"IF(A25<>\"\",IFERROR(VLOOKUP(N25,Tabelas!B:D,3,0),0),\"\")","v":0},{"$f":"IF(A25<>\"\",IFERROR(VLOOKUP(O25,Tabelas!B:D,3,0),0),\"\")","v":0},{"$f":"IF(A25<>\"\",IFERROR(VLOOKUP(P25,Tabelas!B:D,3,0),0),\"\")","v":0},{"$f":"IF(A25<>\"\",IFERROR(VLOOKUP(Q25,Tabelas!B:D,3,0),0),\"\")","v":0},{"$f":"IF(A25<>\"\",IFERROR(VLOOKUP(R25,Tabelas!B:D,3,0),0),\"\")","v":0},{"$f":"IF(A25<>\"\",IFERROR(VLOOKUP(S25,Tabelas!B:D,3,0),0),\"\")","v":0},{"$f":"IF(A25<>\"\",IFERROR(VLOOKUP(T25,Tabelas!B:D,3,0),0),\"\")","v":0},{"$f":"IF(A25<>\"\",IFERROR(VLOOKUP(U25,Tabelas!B:D,3,0),0),\"\")","v":0},{"$f":"IF(A25<>\"\",IFERROR(VLOOKUP(V25,Tabelas!B:D,3,0),0),\"\")","v":0},{"$f":"IF(A25<>\"\",IFERROR(VLOOKUP(W25,Tabelas!B:D,3,0),0),\"\")","v":0},{"$f":"IF(A25<>\"\",IFERROR(VLOOKUP(X25,Tabelas!B:D,3,0),0),\"\")","v":0},{"$f":"IF(A25<>\"\",IFERROR(VLOOKUP(Y25,Tabelas!B:D,3,0),0),\"\")","v":0},{"$f":"IF(A25<>\"\",IFERROR(VLOOKUP(Z25,Tabelas!B:D,3,0),0),\"\")","v":0},{"$f":"IF(A25<>\"\",IFERROR(VLOOKUP(AA25,Tabelas!B:D,3,0),0),\"\")","v":0},{"$f":"IF(A25<>\"\",IFERROR(VLOOKUP(AB25,Tabelas!B:D,3,0),0),\"\")","v":0},{"$f":"IF(A25<>\"\",IFERROR(VLOOKUP(AC25,Tabelas!B:D,3,0),0),\"\")","v":0},{"$f":"IF(A25<>\"\",IFERROR(VLOOKUP(AD25,Tabelas!B:D,3,0),0),\"\")","v":0},{"$f":"IF(A25<>\"\",IFERROR(VLOOKUP(AE25,Tabelas!B:D,3,0),0),\"\")","v":0},{"$f":"IF(A25<>\"\",IFERROR(VLOOKUP(AF25,Tabelas!B:D,3,0),0),\"\")","v":0},{"$f":"IF(A25<>\"\",IFERROR(VLOOKUP(AG25,Tabelas!B:D,3,0),0),\"\")","v":0},{"$f":"IF(A25<>\"\",IFERROR(VLOOKUP(AH25,Tabelas!B:D,3,0),0),\"\")","v":0},{"$f":"IF(A25<>\"\",IFERROR(VLOOKUP(AI25,Tabelas!B:D,3,0),0),\"\")","v":0},{"$f":"IF(A25<>\"\",IFERROR(VLOOKUP(AJ25,Tabelas!B:D,3,0),0),\"\")","v":0},{"$f":"IF(A25<>\"\",IFERROR(VLOOKUP(AK25,Tabelas!B:D,3,0),0),\"\")","v":0},{"$f":"IF(A25<>\"\",IFERROR(VLOOKUP(AL25,Tabelas!B:D,3,0),0),\"\")","v":0},{"$f":"IF(A25<>\"\",IFERROR(VLOOKUP(AM25,Tabelas!B:D,3,0),0),\"\")","v":0},{"$f":"IF(A25<>\"\",IFERROR(VLOOKUP(AN25,Tabelas!B:D,3,0),0),\"\")","v":0},{"$f":"IF(A25<>\"\",IFERROR(VLOOKUP(AO25,Tabelas!B:D,3,0),0),\"\")","v":0},{"$f":"IF(A25<>\"\",IFERROR(VLOOKUP(AP25,Tabelas!B:D,3,0),0),\"\")","v":0},{"$f":"IF(A25<>\"\",IFERROR(VLOOKUP(AQ25,Tabelas!B:D,3,0),0),\"\")","v":0},{"$f":"IF(A25<>\"\",IFERROR(VLOOKUP(AR25,Tabelas!B:D,3,0),0),\"\")","v":0},0,0,0,0,0,0,0,0,0]
["Fulano de Tal 18",1234567,123,"ENF","Ebserh",36,null,null,null,null,null,null,null,null,null,null,null,null,null,null,null,null,null,null,null,null,null,null,null,null,null,null,null,null,null,null,null,null,null,null,null,null,null,null,{"$f":"IF(A26<>\"\",IFERROR(VLOOKUP(N26,Tabelas!B:D,3,0),0),\"\")","v":0},{"$f":"IF(A26<>\"\",IFERROR(VLOOKUP(O26,Tabelas!B:D,3,0),0),\"\")","v":0},{"$f":"IF(A26<>\"\",IFERROR(VLOOKUP(P26,Tabelas!B:D,3,0),0),\"\")","v":0},{"$f":"IF(A26<>\"\",IFERROR(VLOOKUP(Q26,Tabelas!B:D,3,0),0),\"\")","v":0},{"$f":"IF(A26<>\"\",IFERROR(VLOOKUP(R26,Tabelas!B:D,3,0),0),\"\")","v":0},{"$f":"IF(A26<>\"\",IFERROR(VLOOKUP(S26,Tabelas!B:D,3,0),0),\"\")","v":0},{"$f":"IF(A26<>\"\",IFERROR(VLOOKUP(T26,Tabelas!B:D,3,0),0),\"\")","v":0},{"$f":"IF(A26<>\"\",IFERROR(VLOOKUP(U26,Tabelas!B:D,3,0),0),\"\")","v":0},{"$f":"IF(A26<>\"\",IFERROR(VLOOKUP(V26,Tabelas!B:D,3,0),0),\"\")","v":0},{"$f":"IF(A26<>\"\",IFERROR(VLOOKUP(W26,Tabelas!B:D,3,0),0),\"\")","v":0},{"$f":"IF(A26<>\"\",IFERROR(VLOOKUP(X26,Tabelas!B:D,3,0),0),\"\")","v":0},{"$f":"IF(A26<>\"\",IFERROR(VLOOKUP(Y26,Tabelas!B:D,3,0),0),\"\")","v":0},{"$f":"IF(A26<>\"\",IFERROR(VLOOKUP(Z26,Tabelas!B:D,3,0),0),\"\")","v":0},{"$f":"IF(A26<>\"\",IFERROR(VLOOKUP(AA26,Tabelas!B:D,3,0),0),\"\")","v":0},{"$f":"IF(A26<>\"\",IFERROR(VLOOKUP(AB26,Tabelas!B:D,3,0),0),\"\")","v":0},{"$f":"IF(A26<>\"\",IFERROR(VLOOKUP(AC26,Tabelas!B:D,3,0),0),\"\")","v":0},{"$f":"IF(A26<>\"\",IFERROR(VLOOKUP(AD26,Tabelas!B:D,3,0),0),\"\")","v":0},{"$f":"IF(A26<>\"\",IFERROR(VLOOKUP(AE26,Tabelas!B:D,3,0),0),\"\")","v":0},{"$f":"IF(A26<>\"\",IFERROR(VLOOKUP(AF26,Tabelas!B:D,3,0),0),\"\")","v":0},{"$f":"IF(A26<>\"\",IFERROR(VLOOKUP(AG26,Tabelas!B:D,3,0),0),\"\")","v":0},{"$f":"IF(A26<>\"\",IFERROR(VLOOKUP(AH26,Tabelas!B:D,3,0),0),\"\")","v":0},{"$f":"IF(A26<>\"\",IFERROR(VLOOKUP(AI26,Tabelas!B:D,3,0),0),\"\")","v":0},{"$f":"IF(A26<>\"\",IFERROR(VLOOKUP(AJ26,Tabelas!B:D,3,0),0),\"\")","v":0},{"$f":"IF(A26<>\"\",IFERROR(VLOOKUP(AK26,Tabelas!B:D,3,0),0),\"\")","v":0},{"$f":"IF(A26<>\"\",IFERROR(VLOOKUP(AL26,Tabelas!B:D,3,0),0),\"\")","v":0},{"$f":"IF(A26<>\"\",IFERROR(VLOOKUP(AM26,Tabelas!B:D,3,0),0),\"\")","v":0},{"$f":"IF(A26<>\"\",IFERROR(VLOOKUP(AN26,Tabelas!B:D,3,0),0),\"\")","v":0},{"$f":"IF(A26<>\"\",IFERROR(VLOOKUP(AO26,Tabelas!B:D,3,0),0),\"\")","v":0},{"$f":"IF(A26<>\"\",IFERROR(VLOOKUP(AP26,Tabelas!B:D,3,0),0),\"\")","v":0},{"$f":"IF(A26<>\"\",IFERROR(VLOOKUP(AQ26,Tabelas!B:D,3,0),0),\"\")","v":0},{"$f":"IF(A26<>\"\",IFERROR(VLOOKUP(AR26,Tabelas!B:D,3,0),0),\"\")","v":0},0,0,0,0,0,0,0,0,0]
["Fulano de Tal 19",1234567,123,"ENF","Ebserh",36,null,null,null,null,null,null,null,null,null,null,null,null,null,null,null,null,null,null,null,null,null,null,null,null,null,null,null,null,null,null,null,null,null,null,null,null,null,null,{"$f":"IF(A27<>\"\",IFERROR(VLOOKUP(N27,Tabelas!B:D,3,0),0),\"\")","v":0},{"$f":"IF(A27<>\"\",IFERROR(VLOOKUP(O27,Tabelas!B:D,3,0),0),\"\")","v":0},{"$f":"IF(A27<>\"\",IFERROR(VLOOKUP(P27,Tabelas!B:D,3,0),0),\"\")","v":0},{"$f":"IF(A27<>\"\",IFERROR(VLOOKUP(Q27,Tabelas!B:D,3,0),0),\"\")","v":0},{"$f":"IF(A27<>\"\",IFERROR(VLOOKUP(R27,Tabelas!B:D,3,0),0),\"\")","v":0},{"$f":"IF(A27<>\"\",IFERROR(VLOOKUP(S27,Tabelas!B:D,3,0),0),\"\")","v":0},{"$f":"IF(A27<>\"\",IFERROR(VLOOKUP(T27,Tabelas!B:D,3,0),0),\"\")","v":0},{"$f":"IF(A27<>\"\",IFERROR(VLOOKUP(U27,Tabelas!B:D,3,0),0),\"\")","v":0},{"$f":"IF(A27<>\"\",IFERROR(VLOOKUP(V27,Tabelas!B:D,3,0),0),\"\")","v":0},{"$f":"IF(A27<>\"\",IFERROR(VLOOKUP(W27,Tabelas!B:D,3,0),0),\"\")","v":0},{"$f":"IF(A27<>\"\",IFERROR(VLOOKUP(X27,Tabelas!B:D,3,0),0),\"\")","v":0},{"$f":"IF(A27<>\"\",IFERROR(VLOOKUP(Y27,Tabelas!B:D,3,0),0),\"\")","v":0},{"$f":"IF(A27<>\"\",IFERROR(VLOOKUP(Z27,Tabelas!B:D,3,0),0),\"\")","v":0},{"$f":"IF(A27<>\"\",IFERROR(VLOOKUP(AA27,Tabelas!B:D,3,0),0),\"\")","v":0},{"$f":"IF(A27<>\"\",IFERROR(VLOOKUP(AB27,Tabelas!B:D,3,0),0),\"\")","v":0},{"$f":"IF(A27<>\"\",IFERROR(VLOOKUP(AC27,Tabelas!B:D,3,0),0),\"\")","v":0},{"$f":"IF(A27<>\"\",IFERROR(VLOOKUP(AD27,Tabelas!B:D,3,0),0),\"\")","v":0},{"$f":"IF(A27<>\"\",IFERROR(VLOOKUP(AE27,Tabelas!B:D,3,0),0),\"\")","v":0},{"$f":"IF(A27<>\"\",IFERROR(VLOOKUP(AF27,Tabelas!B:D,3,0),0),\"\")","v":0},{"$f":"IF(A27<>\"\",IFERROR(VLOOKUP(AG27,Tabelas!B:D,3,0),0),\"\")","v":0},{"$f":"IF(A27<>\"\",IFERROR(VLOOKUP(AH27,Tabelas!B:D,3,0),0),\"\")","v":0},{"$f":"IF(A27<>\"\",IFERROR(VLOOKUP(AI27,Tabelas!B:D,3,0),0),\"\")","v":0},{"$f":"IF(A27<>\"\",IFERROR(VLOOKUP(AJ27,Tabelas!B:D,3,0),0),\"\")","v":0},{"$f":"IF(A27<>\"\",IFERROR(VLOOKUP(AK27,Tabelas!B:D,3,0),0),\"\")","v":0},{"$f":"IF(A27<>\"\",IFERROR(VLOOKUP(AL27,Tabelas!B:D,3,0),0),\"\")","v":0},{"$f":"IF(A27<>\"\",IFERROR(VLOOKUP(AM27,Tabelas!B:D,3,0),0),\"\")","v":0},{"$f":"IF(A27<>\"\",IFERROR(VLOOKUP(AN27,Tabelas!B:D,3,0),0),\"\")","v":0},{"$f":"IF(A27<>\"\",IFERROR(VLOOKUP(AO27,Tabelas!B:D,3,0),0),\"\")","v":0},{"$f":"IF(A27<>\"\",IFERROR(VLOOKUP(AP27,Tabelas!B:D,3,0),0),\"\")","v":0},{"$f":"IF(A27<>\"\",IFERROR(VLOOKUP(AQ27,Tabelas!B:D,3,0),0),\"\")","v":0},{"$f":"IF(A27<>\"\",IFERROR(VLOOKUP(AR27,Tabelas!B:D,3,0),0),\"\")","v":0},0,0,0,0,0,0,0,0,0]
["Fulano de Tal 20",1234567,123,"ENF","Ebserh",36,null,null,null,null,null,null,null,null,null,null,null,null,null,null,null,null,null,null,null,null,null,null,null,null,null,null,null,null,null,null,null,null,null,null,null,null,null,null,{"$f":"IF(A28<>\"\",IFERROR(VLOOKUP(N28,Tabelas!B:D,3,0),0),\"\")","v":0},{"$f":"IF(A28<>\"\",IFERROR(VLOOKUP(O28,Tabelas!B:D,3,0),0),\"\")","v":0},{"$f":"IF(A28<>\"\",IFERROR(VLOOKUP(P28,Tabelas!B:D,3,0),0),\"\")","v":0},{"$f":"IF(A28<>\"\",IFERROR(VLOOKUP(Q28,Tabelas!B:D,3,0),0),\"\")","v":0},{"$f":"IF(A28<>\"\",IFERROR(VLOOKUP(R28,Tabelas!B:D,3,0),0),\"\")","v":0},{"$f":"IF(A28<>\"\",IFERROR(VLOOKUP(S28,Tabelas!B:D,3,0),0),\"\")","v":0},{"$f":"IF(A28<>\"\",IFERROR(VLOOKUP(T28,Tabelas!B:D,3,0),0),\"\")","v":0},{"$f":"IF(A28<>\"\",IFERROR(VLOOKUP(U28,Tabelas!B:D,3,0),0),\"\")","v":0},{"$f":"IF(A28<>\"\",IFERROR(VLOOKUP(V28,Tabelas!B:D,3,0),0),\"\")","v":0},{"$f":"IF(A28<>\"\",IFERROR(VLOOKUP(W28,Tabelas!B:D,3,0),0),\"\")","v":0},{"$f":"IF(A28<>\"\",IFERROR(VLOOKUP(X28,Tabelas!B:D,3,0),0),\"\")","v":0},{"$f":"IF(A28<>\"\",IFERROR(VLOOKUP(Y28,Tabelas!B:D,3,0),0),\"\")","v":0},{"$f":"IF(A28<>\"\",IFERROR(VLOOKUP(Z28,Tabelas!B:D,3,0),0),\"\")","v":0},{"$f":"IF(A28<>\"\",IFERROR(VLOOKUP(AA28,Tabelas!B:D,3,0),0),\"\")","v":0},{"$f":"IF(A28<>\"\",IFERROR(VLOOKUP(AB28,Tabelas!B:D,3,0),0),\"\")","v":0},{"$f":"IF(A28<>\"\",IFERROR(VLOOKUP(AC28,Tabelas!B:D,3,0),0),\"\")","v":0},{"$f":"IF(A28<>\"\",IFERROR(VLOOKUP(AD28,Tabelas!B:D,3,0),0),\"\")","v":0},{"$f":"IF(A28<>\"\",IFERROR(VLOOKUP(AE28,Tabelas!B:D,3,0),0),\"\")","v":0},{"$f":"IF(A28<>\"\",IFERROR(VLOOKUP(AF28,Tabelas!B:D,3,0),0),\"\")","v":0},{"$f":"IF(A28<>\"\",IFERROR(VLOOKUP(AG28,Tabelas!B:D,3,0),0),\"\")","v":0},{"$f":"IF(A28<>\"\",IFERROR(VLOOKUP(AH28,Tabelas!B:D,3,0),0),\"\")","v":0},{"$f":"IF(A28<>\"\",IFERROR(VLOOKUP(AI28,Tabelas!B:D,3,0),0),\"\")","v":0},{"$f":"IF(A28<>\"\",IFERROR(VLOOKUP(AJ28,Tabelas!B:D,3,0),0),\"\")","v":0},{"$f":"IF(A28<>\"\",IFERROR(VLOOKUP(AK28,Tabelas!B:D,3,0),0),\"\")","v":0},{"$f":"IF(A28<>\"\",IFERROR(VLOOKUP(AL28,Tabelas!B:D,3,0),0),\"\")","v":0},{"$f":"IF(A28<>\"\",IFERROR(VLOOKUP(AM28,Tabelas!B:D,3,0),0),\"\")","v":0},{"$f":"IF(A28<>\"\",IFERROR(VLOOKUP(AN28,Tabelas!B:D,3,0),0),\"\")","v":0},{"$f":"IF(A28<>\"\",IFERROR(VLOOKUP(AO28,Tabelas!B:D,3,0),0),\"\")","v":0},{"$f":"IF(A28<>\"\",IFERROR(VLOOKUP(AP28,Tabelas!B:D,3,0),0),\"\")","v":0},{"$f":"IF(A28<>\"\",IFERROR(VLOOKUP(AQ28,Tabelas!B:D,3,0),0),\"\")","v":0},{"$f":"IF(A28<>\"\",IFERROR(VLOOKUP(AR28,Tabelas!B:D,3,0),0),\"\")","v":0},0,0,0,0,0,0,0,0,0]
["Fulano de Tal 21",1234567,123,"ENF","Ebserh",36,null,null,null,null,null,null,null,null,null,null,null,null,null,null,null,null,null,null,null,null,null,null,null,null,null,null,null,null,null,null,null,null,null,null,null,null,null,null,{"$f":"IF(A29<>\"\",IFERROR(VLOOKUP(N29,Tabelas!B:D,3,0),0),\"\")","v":0},{"$f":"IF(A29<>\"\",IFERROR(VLOOKUP(O29,Tabelas!B:D,3,0),0),\"\")","v":0},{"$f":"IF(A29<>\"\",IFERROR(VLOOKUP(P29,Tabelas!B:D,3,0),0),\"\")","v":0},{"$f":"IF(A29<>\"\",IFERROR(VLOOKUP(Q29,Tabelas!B:D,3,0),0),\"\")","v":0},{"$f":"IF(A29<>\"\",IFERROR(VLOOKUP(R29,Tabelas!B:D,3,0),0),\"\")","v":0},{"$f":"IF(A29<>\"\",IFERROR(VLOOKUP(S29,Tabelas!B:D,3,0),0),\"\")","v":0},{"$f":"IF(A29<>\"\",IFERROR(VLOOKUP(T29,Tabelas!B:D,3,0),0),\"\")","v":0},{"$f":"IF(A29<>\"\",IFERROR(VLOOKUP(U29,Tabelas!B:D,3,0),0),\"\")","v":0},{"$f":"IF(A29<>\"\",IFERROR(VLOOKUP(V29,Tabelas!B:D,3,0),0),\"\")","v":0},{"$f":"IF(A29<>\"\",IFERROR(VLOOKUP(W29,Tabelas!B:D,3,0),0),\"\")","v":0},{"$f":"IF(A29<>\"\",IFERROR(VLOOKUP(X29,Tabelas!B:D,3,0),0),\"\")","v":0},{"$f":"IF(A29<>\"\",IFERROR(VLOOKUP(Y29,Tabelas!B:D,3,0),0),\"\")","v":0},{"$f":"IF(A29<>\"\",IFERROR(VLOOKUP(Z29,Tabelas!B:D,3,0),0),\"\")","v":0},{"$f":"IF(A29<>\"\",IFERROR(VLOOKUP(AA29,Tabelas!B:D,3,0),0),\"\")","v":0},{"$f":"IF(A29<>\"\",IFERROR(VLOOKUP(AB29,Tabelas!B:D,3,0),0),\"\")","v":0},{"$f":"IF(A29<>\"\",IFERROR(VLOOKUP(AC29,Tabelas!B:D,3,0),0),\"\")","v":0},{"$f":"IF(A29<>\"\",IFERROR(VLOOKUP(AD29,Tabelas!B:D,3,0),0),\"\")","v":0},{"$f":"IF(A29<>\"\",IFERROR(VLOOKUP(AE29,Tabelas!B:D,3,0),0),\"\")","v":0},{"$f":"IF(A29<>\"\",IFERROR(VLOOKUP(AF29,Tabelas!B:D,3,0),0),\"\")","v":0},{"$f":"IF(A29<>\"\",IFERROR(VLOOKUP(AG29,Tabelas!B:D,3,0),0),\"\")","v":0},{"$f":"IF(A29<>\"\",IFERROR(VLOOKUP(AH29,Tabelas!B:D,3,0),0),\"\")","v":0},{"$f":"IF(A29<>\"\",IFERROR(VLOOKUP(AI29,Tabelas!B:D,3,0),0),\"\")","v":0},{"$f":"IF(A29<>\"\",IFERROR(VLOOKUP(AJ29,Tabelas!B:D,3,0),0),\"\")","v":0},{"$f":"IF(A29<>\"\",IFERROR(VLOOKUP(AK29,Tabelas!B:D,3,0),0),\"\")","v":0},{"$f":"IF(A29<>\"\",IFERROR(VLOOKUP(AL29,Tabelas!B:D,3,0),0),\"\")","v":0},{"$f":"IF(A29<>\"\",IFERROR(VLOOKUP(AM29,Tabelas!B:D,3,0),0),\"\")","v":0},{"$f":"IF(A29<>\"\",IFERROR(VLOOKUP(AN29,Tabelas!B:D,3,0),0),\"\")","v":0},{"$f":"IF(A29<>\"\",IFERROR(VLOOKUP(AO29,Tabelas!B:D,3,0),0),\"\")","v":0},{"$f":"IF(A29<>\"\",IFERROR(VLOOKUP(AP29,Tabelas!B:D,3,0),0),\"\")","v":0},{"$f":"IF(A29<>\"\",IFERROR(VLOOKUP(AQ29,Tabelas!B:D,3,0),0),\"\")","v":0},{"$f":"IF(A29<>\"\",IFERROR(VLOOKUP(AR29,Tabelas!B:D,3,0),0),\"\")","v":0},0,0,0,0,0,0,0,0,0]
["Fulano de Tal 22",1234567,123,"ENF","Ebserh",36,null,null,null,null,null,null,null,null,null,null,null,null,null,null,null,null,null,null,null,null,null,null,null,null,null,null,null,null,null,null,null,null,null,null,null,null,null,null,{"$f":"IF(A30<>\"\",IFERROR(VLOOKUP(N30,Tabelas!B:D,3,0),0),\"\")","v":0},{"$f":"IF(A30<>\"\",IFERROR(VLOOKUP(O30,Tabelas!B:D,3,0),0),\"\")","v":0},{"$f":"IF(A30<>\"\",IFERROR(VLOOKUP(P30,Tabelas!B:D,3,0),0),\"\")","v":0},{"$f":"IF(A30<>\"\",IFERROR(VLOOKUP(Q30,Tabelas!B:D,3,0),0),\"\")","v":0},{"$f":"IF(A30<>\"\",IFERROR(VLOOKUP(R30,Tabelas!B:D,3,0),0),\"\")","v":0},{"$f":"IF(A30<>\"\",IFERROR(VLOOKUP(S30,Tabelas!B:D,3,0),0),\"\")","v":0},{"$f":"IF(A30<>\"\",IFERROR(VLOOKUP(T30,Tabelas!B:D,3,0),0),\"\")","v":0},{"$f":"IF(A30<>\"\",IFERROR(VLOOKUP(U30,Tabelas!B:D,3,0),0),\"\")","v":0},{"$f":"IF(A30<>\"\",IFERROR(VLOOKUP(V30,Tabelas!B:D,3,0),0),\"\")","v":0},{"$f":"IF(A30<>\"\",IFERROR(VLOOKUP(W30,Tabelas!B:D,3,0),0),\"\")","v":0},{"$f":"IF(A30<>\"\",IFERROR(VLOOKUP(X30,Tabelas!B:D,3,0),0),\"\")","v":0},{"$f":"IF(A30<>\"\",IFERROR(VLOOKUP(Y30,Tabelas!B:D,3,0),0),\"\")","v":0},{"$f":"IF(A30<>\"\",IFERROR(VLOOKUP(Z30,Tabelas!B:D,3,0),0),\"\")","v":0},{"$f":"IF(A30<>\"\",IFERROR(VLOOKUP(AA30,Tabelas!B:D,3,0),0),\"\")","v":0},{"$f":"IF(A30<>\"\",IFERROR(VLOOKUP(AB30,Tabelas!B:D,3,0),0),\"\")","v":0},{"$f":"IF(A30<>\"\",IFERROR(VLOOKUP(AC30,Tabelas!B:D,3,0),0),\"\")","v":0},{"$f":"IF(A30<>\"\",IFERROR(VLOOKUP(AD30,Tabelas!B:D,3,0),0),\"\")","v":0},{"$f":"IF(A30<>\"\",IFERROR(VLOOKUP(AE30,Tabelas!B:D,3,0),0),\"\")","v":0},{"$f":"IF(A30<>\"\",IFERROR(VLOOKUP(AF30,Tabelas!B:D,3,0),0),\"\")","v":0},{"$f":"IF(A30<>\"\",IFERROR(VLOOKUP(AG30,Tabelas!B:D,3,0),0),\"\")","v":0},{"$f":"IF(A30<>\"\",IFERROR(VLOOKUP(AH30,Tabelas!B:D,3,0),0),\"\")","v":0},{"$f":"IF(A30<>\"\",IFERROR(VLOOKUP(AI30,Tabelas!B:D,3,0),0),\"\")","v":0},{"$f":"IF(A30<>\"\",IFERROR(VLOOKUP(AJ30,Tabelas!B:D,3,0),0),\"\")","v":0},{"$f":"IF(A30<>\"\",IFERROR(VLOOKUP(AK30,Tabelas!B:D,3,0),0),\"\")","v":0},{"$f":"IF(A30<>\"\",IFERROR(VLOOKUP(AL30,Tabelas!B:D,3,0),0),\"\")","v":0},{"$f":"IF(A30<>\"\",IFERROR(VLOOKUP(AM30,Tabelas!B:D,3,0),0),\"\")","v":0},{"$f":"IF(A30<>\"\",IFERROR(VLOOKUP(AN30,Tabelas!B:D,3,0),0),\"\")","v":0},{"$f":"IF(A30<>\"\",IFERROR(VLOOKUP(AO30,Tabelas!B:D,3,0),0),\"\")","v":0},{"$f":"IF(A30<>\"\",IFERROR(VLOOKUP(AP30,Tabelas!B:D,3,0),0),\"\")","v":0},{"$f":"IF(A30<>\"\",IFERROR(VLOOKUP(AQ30,Tabelas!B:D,3,0),0),\"\")","v":0},{"$f":"IF(A30<>\"\",IFERROR(VLOOKUP(AR30,Tabelas!B:D,3,0),0),\"\")","v":0},0,0,0,0,0,0,0,0,0]
["Fulano de Tal 23",1234567,123,"ENF","Ebserh",36,null,null,null,null,null,null,null,null,null,null,null,null,null,null,null,null,null,null,null,null,null,null,null,null,null,null,null,null,null,null,null,null,null,null,null,null,null,null,{"$f":"IF(A31<>\"\",IFERROR(VLOOKUP(N31,Tabelas!B:D,3,0),0),\"\")","v":0},{"$f":"IF(A31<>\"\",IFERROR(VLOOKUP(O31,Tabelas!B:D,3,0),0),\"\")","v":0},{"$f":"IF(A31<>\"\",IFERROR(VLOOKUP(P31,Tabelas!B:D,3,0),0),\"\")","v":0},{"$f":"IF(A31<>\"\",IFERROR(VLOOKUP(Q31,Tabelas!B:D,3,0),0),\"\")","v":0},{"$f":"IF(A31<>\"\",IFERROR(VLOOKUP(R31,Tabelas!B:D,3,0),0),\"\")","v":0},{"$f":"IF(A31<>\"\",IFERROR(VLOOKUP(S31,Tabelas!B:D,3,0),0),\"\")","v":0},{"$f":"IF(A31<>\"\",IFERROR(VLOOKUP(T31,Tabelas!B:D,3,0),0),\"\")","v":0},{"$f":"IF(A31<>\"\",IFERROR(VLOOKUP(U31,Tabelas!B:D,3,0),0),\"\")","v":0},{"$f":"IF(A31<>\"\",IFERROR(VLOOKUP(V31,Tabelas!B:D,3,0),0),\"\")","v":0},{"$f":"IF(A31<>\"\",IFERROR(VLOOKUP(W31,Tabelas!B:D,3,0),0),\"\")","v":0},{"$f":"IF(A31<>\"\",IFERROR(VLOOKUP(X31,Tabelas!B:D,3,0),0),\"\")","v":0},{"$f":"IF(A31<>\"\",IFERROR(VLOOKUP(Y31,Tabelas!B:D,3,0),0),\"\")","v":0},{"$f":"IF(A31<>\"\",IFERROR(VLOOKUP(Z31,Tabelas!B:D,3,0),0),\"\")","v":0},{"$f":"IF(A31<>\"\",IFERROR(VLOOKUP(AA31,Tabelas!B:D,3,0),0),\"\")","v":0},{"$f":"IF(A31<>\"\",IFERROR(VLOOKUP(AB31,Tabelas!B:D,3,0),0),\"\")","v":0},{"$f":"IF(A31<>\"\",IFERROR(VLOOKUP(AC31,Tabelas!B:D,3,0),0),\"\")","v":0},{"$f":"IF(A31<>\"\",IFERROR(VLOOKUP(AD31,Tabelas!B:D,3,0),0),\"\")","v":0},{"$f":"IF(A31<>\"\",IFERROR(VLOOKUP(AE31,Tabelas!B:D,3,0),0),\"\")","v":0},{"$f":"IF(A31<>\"\",IFERROR(VLOOKUP(AF31,Tabelas!B:D,3,0),0),\"\")","v":0},{"$f":"IF(A31<>\"\",IFERROR(VLOOKUP(AG31,Tabelas!B:D,3,0),0),\"\")","v":0},{"$f":"IF(A31<>\"\",IFERROR(VLOOKUP(AH31,Tabelas!B:D,3,0),0),\"\")","v":0},{"$f":"IF(A31<>\"\",IFERROR(VLOOKUP(AI31,Tabelas!B:D,3,0),0),\"\")","v":0},{"$f":"IF(A31<>\"\",IFERROR(VLOOKUP(AJ31,Tabelas!B:D,3,0),0),\"\")","v":0},{"$f":"IF(A31<>\"\",IFERROR(VLOOKUP(AK31,Tabelas!B:D,3,0),0),\"\")","v":0},{"$f":"IF(A31<>\"\",IFERROR(VLOOKUP(AL31,Tabelas!B:D,3,0),0),\"\")","v":0},{"$f":"IF(A31<>\"\",IFERROR(VLOOKUP(AM31,Tabelas!B:D,3,0),0),\"\")","v":0},{"$f":"IF(A31<>\"\",IFERROR(VLOOKUP(AN31,Tabelas!B:D,3,0),0),\"\")","v":0},{"$f":"IF(A31<>\"\",IFERROR(VLOOKUP(AO31,Tabelas!B:D,3,0),0),\"\")","v":0},{"$f":"IF(A31<>\"\",IFERROR(VLOOKUP(AP31,Tabelas!B:D,3,0),0),\"\")","v":0},{"$f":"IF(A31<>\"\",IFERROR(VLOOKUP(AQ31,Tabelas!B:D,3,0),0),\"\")","v":0},{"$f":"IF(A31<>\"\",IFERROR(VLOOKUP(AR31,Tabelas!B:D,3,0),0),\"\")","v":0},0,0,0,0,0,0,0,0,0]
["Fulano de Tal 24",1234567,123,"ENF","Ebserh",36,null,null,null,null,null,null,null,null,null,null,null,null,null,null,null,null,null,null,null,null,null,null,null,null,null,null,null,null,null,null,null,null,null,null,null,null,null,null,{"$f":"IF(A32<>\"\",IFERROR(VLOOKUP(N32,Tabelas!B:D,3,0),0),\"\")","v":0},{"$f":"IF(A32<>\"\",IFERROR(VLOOKUP(O32,Tabelas!B:D,3,0),0),\"\")","v":0},{"$f":"IF(A32<>\"\",IFERROR(VLOOKUP(P32,Tabelas!B:D,3,0),0),\"\")","v":0},{"$f":"IF(A32<>\"\",IFERROR(VLOOKUP(Q32,Tabelas!B:D,3,0),0),\"\")","v":0},{"$f":"IF(A32<>\"\",IFERROR(VLOOKUP(R32,Tabelas!B:D,3,0),0),\"\")","v":0},{"$f":"IF(A32<>\"\",IFERROR(VLOOKUP(S32,Tabelas!B:D,3,0),0),\"\")","v":0},{"$f":"IF(A32<>\"\",IFERROR(VLOOKUP(T32,Tabelas!B:D,3,0),0),\"\")","v":0},{"$f":"IF(A32<>\"\",IFERROR(VLOOKUP(U32,Tabelas!B:D,3,0),0),\"\")","v":0},{"$f":"IF(A32<>\"\",IFERROR(VLOOKUP(V32,Tabelas!B:D,3,0),0),\"\")","v":0},{"$f":"IF(A32<>\"\",IFERROR(VLOOKUP(W32,Tabelas!B:D,3,0),0),\"\")","v":0},{"$f":"IF(A32<>\"\",IFERROR(VLOOKUP(X32,Tabelas!B:D,3,0),0),\"\")","v":0},{"$f":"IF(A32<>\"\",IFERROR(VLOOKUP(Y32,Tabelas!B:D,3,0),0),\"\")","v":0},{"$f":"IF(A32<>\"\",IFERROR(VLOOKUP(Z32,Tabelas!B:D,3,0),0),\"\")","v":0},{"$f":"IF(A32<>\"\",IFERROR(VLOOKUP(AA32,Tabelas!B:D,3,0),0),\"\")","v":0},{"$f":"IF(A32<>\"\",IFERROR(VLOOKUP(AB32,Tabelas!B:D,3,0),0),\"\")","v":0},{"$f":"IF(A32<>\"\",IFERROR(VLOOKUP(AC32,Tabelas!B:D,3,0),0),\"\")","v":0},{"$f":"IF(A32<>\"\",IFERROR(VLOOKUP(AD32,Tabelas!B:D,3,0),0),\"\")","v":0},{"$f":"IF(A32<>\"\",IFERROR(VLOOKUP(AE32,Tabelas!B:D,3,0),0),\"\")","v":0},{"$f":"IF(A32<>\"\",IFERROR(VLOOKUP(AF32,Tabelas!B:D,3,0),0),\"\")","v":0},{"$f":"IF(A32<>\"\",IFERROR(VLOOKUP(AG32,Tabelas!B:D,3,0),0),\"\")","v":0},{"$f":"IF(A32<>\"\",IFERROR(VLOOKUP(AH32,Tabelas!B:D,3,0),0),\"\")","v":0},{"$f":"IF(A32<>\"\",IFERROR(VLOOKUP(AI32,Tabelas!B:D,3,0),0),\"\")","v":0},{"$f":"IF(A32<>\"\",IFERROR(VLOOKUP(AJ32,Tabelas!B:D,3,0),0),\"\")","v":0},{"$f":"IF(A32<>\"\",IFERROR(VLOOKUP(AK32,Tabelas!B:D,3,0),0),\"\")","v":0},{"$f":"IF(A32<>\"\",IFERROR(VLOOKUP(AL32,Tabelas!B:D,3,0),0),\"\")","v":0},{"$f":"IF(A32<>\"\",IFERROR(VLOOKUP(AM32,Tabelas!B:D,3,0),0),\"\")","v":0},{"$f":"IF(A32<>\"\",IFERROR(VLOOKUP(AN32,Tabelas!B:D,3,0),0),\"\")","v":0},{"$f":"IF(A32<>\"\",IFERROR(VLOOKUP(AO32,Tabelas!B:D,3,0),0),\"\")","v":0},{"$f":"IF(A32<>\"\",IFERROR(VLOOKUP(AP32,Tabelas!B:D,3,0),0),\"\")","v":0},{"$f":"IF(A32<>\"\",IFERROR(VLOOKUP(AQ32,Tabelas!B:D,3,0),0),\"\")","v":0},{"$f":"IF(A32<>\"\",IFERROR(VLOOKUP(AR32,Tabelas!B:D,3,0),0),\"\")","v":0},0,0,0,0,0,0,0,0,0]
["Fulano de Tal 25",1234567,123,"ENF","Ebserh",36,null,null,null,null,null,null,null,null,null,null,null,null,null,null,null,null,null,null,null,null,null,null,null,null,null,null,null,null,null,null,null,null,null,null,null,null,null,null,{"$f":"IF(A33<>\"\",IFERROR(VLOOKUP(N33,Tabelas!B:D,3,0),0),\"\")","v":0},{"$f":"IF(A33<>\"\",IFERROR(VLOOKUP(O33,Tabelas!B:D,3,0),0),\"\")","v":0},{"$f":"IF(A33<>\"\",IFERROR(VLOOKUP(P33,Tabelas!B:D,3,0),0),\"\")","v":0},{"$f":"IF(A33<>\"\",IFERROR(VLOOKUP(Q33,Tabelas!B:D,3,0),0),\"\")","v":0},{"$f":"IF(A33<>\"\",IFERROR(VLOOKUP(R33,Tabelas!B:D,3,0),0),\"\")","v":0},{"$f":"IF(A33<>\"\",IFERROR(VLOOKUP(S33,Tabelas!B:D,3,0),0),\"\")","v":0},{"$f":"IF(A33<>\"\",IFERROR(VLOOKUP(T33,Tabelas!B:D,3,0),0),\"\")","v":0},{"$f":"IF(A33<>\"\",IFERROR(VLOOKUP(U33,Tabelas!B:D,3,0),0),\"\")","v":0},{"$f":"IF(A33<>\"\",IFERROR(VLOOKUP(V33,Tabelas!B:D,3,0),0),\"\")","v":0},{"$f":"IF(A33<>\"\",IFERROR(VLOOKUP(W33,Tabelas!B:D,3,0),0),\"\")","v":0},{"$f":"IF(A33<>\"\",IFERROR(VLOOKUP(X33,Tabelas!B:D,3,0),0),\"\")","v":0},{"$f":"IF(A33<>\"\",IFERROR(VLOOKUP(Y33,Tabelas!B:D,3,0),0),\"\")","v":0},{"$f":"IF(A33<>\"\",IFERROR(VLOOKUP(Z33,Tabelas!B:D,3,0),0),\"\")","v":0},{"$f":"IF(A33<>\"\",IFERROR(VLOOKUP(AA33,Tabelas!B:D,3,0),0),\"\")","v":0},{"$f":"IF(A33<>\"\",IFERROR(VLOOKUP(AB33,Tabelas!B:D,3,0),0),\"\")","v":0},{"$f":"IF(A33<>\"\",IFERROR(VLOOKUP(AC33,Tabelas!B:D,3,0),0),\"\")","v":0},{"$f":"IF(A33<>\"\",IFERROR(VLOOKUP(AD33,Tabelas!B:D,3,0),0),\"\")","v":0},{"$f":"IF(A33<>\"\",IFERROR(VLOOKUP(AE33,Tabelas!B:D,3,0),0),\"\")","v":0},{"$f":"IF(A33<>\"\",IFERROR(VLOOKUP(AF33,Tabelas!B:D,3,0),0),\"\")","v":0},{"$f":"IF(A33<>\"\",IFERROR(VLOOKUP(AG33,Tabelas!B:D,3,0),0),\"\")","v":0},{"$f":"IF(A33<>\"\",IFERROR(VLOOKUP(AH33,Tabelas!B:D,3,0),0),\"\")","v":0},{"$f":"IF(A33<>\"\",IFERROR(VLOOKUP(AI33,Tabelas!B:D,3,0),0),\"\")","v":0},{"$f":"IF(A33<>\"\",IFERROR(VLOOKUP(AJ33,Tabelas!B:D,3,0),0),\"\")","v":0},{"$f":"IF(A33<>\"\",IFERROR(VLOOKUP(AK33,Tabelas!B:D,3,0),0),\"\")","v":0},{"$f":"IF(A33<>\"\",IFERROR(VLOOKUP(AL33,Tabelas!B:D,3,0),0),\"\")","v":0},{"$f":"IF(A33<>\"\",IFERROR(VLOOKUP(AM33,Tabelas!B:D,3,0),0),\"\")","v":0},{"$f":"IF(A33<>\"\",IFERROR(VLOOKUP(AN33,Tabelas!B:D,3,0),0),\"\")","v":0},{"$f":"IF(A33<>\"\",IFERROR(VLOOKUP(AO33,Tabelas!B:D,3,0),0),\"\")","v":0},{"$f":"IF(A33<>\"\",IFERROR(VLOOKUP(AP33,Tabelas!B:D,3,0),0),\"\")","v":0},{"$f":"IF(A33<>\"\",IFERROR(VLOOKUP(AQ33,Tabelas!B:D,3,0),0),\"\")","v":0},{"$f":"IF(A33<>\"\",IFERROR(VLOOKUP(AR33,Tabelas!B:D,3,0),0),\"\")","v":0},0,0,0,0,0,0,0,0,0]
["Fulano de Tal 26",1234567,123,"ENF","Ebserh",36,null,null,null,null,null,null,null,null,null,null,null,null,null,null,null,null,null,null,null,null,null,null,null,null,null,null,null,null,null,null,null,null,null,null,null,null,null,null,{"$f":"IF(A34<>\"\",IFERROR(VLOOKUP(N34,Tabelas!B:D,3,0),0),\"\")","v":0},{"$f":"IF(A34<>\"\",IFERROR(VLOOKUP(O34,Tabelas!B:D,3,0),0),\"\")","v":0},{"$f":"IF(A34<>\"\",IFERROR(VLOOKUP(P34,Tabelas!B:D,3,0),0),\"\")","v":0},{"$f":"IF(A34<>\"\",IFERROR(VLOOKUP(Q34,Tabelas!B:D,3,0),0),\"\")","v":0},{"$f":"IF(A34<>\"\",IFERROR(VLOOKUP(R34,Tabelas!B:D,3,0),0),\"\")","v":0},{"$f":"IF(A34<>\"\",IFERROR(VLOOKUP(S34,Tabelas!B:D,3,0),0),\"\")","v":0},{"$f":"IF(A34<>\"\",IFERROR(VLOOKUP(T34,Tabelas!B:D,3,0),0),\"\")","v":0},{"$f":"IF(A34<>\"\",IFERROR(VLOOKUP(U34,Tabelas!B:D,3,0),0),\"\")","v":0},{"$f":"IF(A34<>\"\",IFERROR(VLOOKUP(V34,Tabelas!B:D,3,0),0),\"\")","v":0},{"$f":"IF(A34<>\"\",IFERROR(VLOOKUP(W34,Tabelas!B:D,3,0),0),\"\")","v":0},{"$f":"IF(A34<>\"\",IFERROR(VLOOKUP(X34,Tabelas!B:D,3,0),0),\"\")","v":0},{"$f":"IF(A34<>\"\",IFERROR(VLOOKUP(Y34,Tabelas!B:D,3,0),0),\"\")","v":0},{"$f":"IF(A34<>\"\",IFERROR(VLOOKUP(Z34,Tabelas!B:D,3,0),0),\"\")","v":0},{"$f":"IF(A34<>\"\",IFERROR(VLOOKUP(AA34,Tabelas!B:D,3,0),0),\"\")","v":0},{"$f":"IF(A34<>\"\",IFERROR(VLOOKUP(AB34,Tabelas!B:D,3,0),0),\"\")","v":0},{"$f":"IF(A34<>\"\",IFERROR(VLOOKUP(AC34,Tabelas!B:D,3,0),0),\"\")","v":0},{"$f":"IF(A34<>\"\",IFERROR(VLOOKUP(AD34,Tabelas!B:D,3,0),0),\"\")","v":0},{"$f":"IF(A34<>\"\",IFERROR(VLOOKUP(AE34,Tabelas!B:D,3,0),0),\"\")","v":0},{"$f":"IF(A34<>\"\",IFERROR(VLOOKUP(AF34,Tabelas!B:D,3,0),0),\"\")","v":0},{"$f":"IF(A34<>\"\",IFERROR(VLOOKUP(AG34,Tabelas!B:D,3,0),0),\"\")","v":0},{"$f":"IF(A34<>\"\",IFERROR(VLOOKUP(AH34,Tabelas!B:D,3,0),0),\"\")","v":0},{"$f":"IF(A34<>\"\",IFERROR(VLOOKUP(AI34,Tabelas!B:D,3,0),0),\"\")","v":0},{"$f":"IF(A34<>\"\",IFERROR(VLOOKUP(AJ34,Tabelas!B:D,3,0),0),\"\")","v":0},{"$f":"IF(A34<>\"\",IFERROR(VLOOKUP(AK34,Tabelas!B:D,3,0),0),\"\")","v":0},{"$f":"IF(A34<>\"\",IFERROR(VLOOKUP(AL34,Tabelas!B:D,3,0),0),\"\")","v":0},{"$f":"IF(A34<>\"\",IFERROR(VLOOKUP(AM34,Tabelas!B:D,3,0),0),\"\")","v":0},{"$f":"IF(A34<>\"\",IFERROR(VLOOKUP(AN34,Tabelas!B:D,3,0),0),\"\")","v":0},{"$f":"IF(A34<>\"\",IFERROR(VLOOKUP(AO34,Tabelas!B:D,3,0),0),\"\")","v":0},{"$f":"IF(A34<>\"\",IFERROR(VLOOKUP(AP34,Tabelas!B:D,3,0),0),\"\")","v":0},{"$f":"IF(A34<>\"\",IFERROR(VLOOKUP(AQ34,Tabelas!B:D,3,0),0),\"\")","v":0},{"$f":"IF(A34<>\"\",IFERROR(VLOOKUP(AR34,Tabelas!B:D,3,0),0),\"\")","v":0},0,0,0,0,0,0,0,0,0]
["Fulano de Tal 27",1234567,123,"ENF","Ebserh",36,null,null,null,null,null,null,null,null,null,null,null,null,null,null,null,null,null,null,null,null,null,null,null,null,null,null,null,null,null,null,null,null,null,null,null,null,null,null,{"$f":"IF(A35<>\"\",IFERROR(VLOOKUP(N35,Tabelas!B:D,3,0),0),\"\")","v":0},{"$f":"IF(A35<>\"\",IFERROR(VLOOKUP(O35,Tabelas!B:D,3,0),0),\"\")","v":0},{"$f":"IF(A35<>\"\",IFERROR(VLOOKUP(P35,Tabelas!B:D,3,0),0),\"\")","v":0},{"$f":"IF(A35<>\"\",IFERROR(VLOOKUP(Q35,Tabelas!B:D,3,0),0),\"\")","v":0},{"$f":"IF(A35<>\"\",IFERROR(VLOOKUP(R35,Tabelas!B:D,3,0),0),\"\")","v":0},{"$f":"IF(A35<>\"\",IFERROR(VLOOKUP(S35,Tabelas!B:D,3,0),0),\"\")","v":0},{"$f":"IF(A35<>\"\",IFERROR(VLOOKUP(T35,Tabelas!B:D,3,0),0),\"\")","v":0},{"$f":"IF(A35<>\"\",IFERROR(VLOOKUP(U35,Tabelas!B:D,3,0),0),\"\")","v":0},{"$f":"IF(A35<>\"\",IFERROR(VLOOKUP(V35,Tabelas!B:D,3,0),0),\"\")","v":0},{"$f":"IF(A35<>\"\",IFERROR(VLOOKUP(W35,Tabelas!B:D,3,0),0),\"\")","v":0},{"$f":"IF(A35<>\"\",IFERROR(VLOOKUP(X35,Tabelas!B:D,3,0),0),\"\")","v":0},{"$f":"IF(A35<>\"\",IFERROR(VLOOKUP(Y35,Tabelas!B:D,3,0),0),\"\")","v":0},{"$f":"IF(A35<>\"\",IFERROR(VLOOKUP(Z35,Tabelas!B:D,3,0),0),\"\")","v":0},{"$f":"IF(A35<>\"\",IFERROR(VLOOKUP(AA35,Tabelas!B:D,3,0),0),\"\")","v":0},{"$f":"IF(A35<>\"\",IFERROR(VLOOKUP(AB35,Tabelas!B:D,3,0),0),\"\")","v":0},{"$f":"IF(A35<>\"\",IFERROR(VLOOKUP(AC35,Tabelas!B:D,3,0),0),\"\")","v":0},{"$f":"IF(A35<>\"\",IFERROR(VLOOKUP(AD35,Tabelas!B:D,3,0),0),\"\")","v":0},{"$f":"IF(A35<>\"\",IFERROR(VLOOKUP(AE35,Tabelas!B:D,3,0),0),\"\")","v":0},{"$f":"IF(A35<>\"\",IFERROR(VLOOKUP(AF35,Tabelas!B:D,3,0),0),\"\")","v":0},{"$f":"IF(A35<>\"\",IFERROR(VLOOKUP(AG35,Tabelas!B:D,3,0),0),\"\")","v":0},{"$f":"IF(A35<>\"\",IFERROR(VLOOKUP(AH35,Tabelas!B:D,3,0),0),\"\")","v":0},{"$f":"IF(A35<>\"\",IFERROR(VLOOKUP(AI35,Tabelas!B:D,3,0),0),\"\")","v":0},{"$f":"IF(A35<>\"\",IFERROR(VLOOKUP(AJ35,Tabelas!B:D,3,0),0),\"\")","v":0},{"$f":"IF(A35<>\"\",IFERROR(VLOOKUP(AK35,Tabelas!B:D,3,0),0),\"\")","v":0},{"$f":"IF(A35<>\"\",IFERROR(VLOOKUP(AL35,Tabelas!B:D,3,0),0),\"\")","v":0},{"$f":"IF(A35<>\"\",IFERROR(VLOOKUP(AM35,Tabelas!B:D,3,0),0),\"\")","v":0},{"$f":"IF(A35<>\"\",IFERROR(VLOOKUP(AN35,Tabelas!B:D,3,0),0),\"\")","v":0},{"$f":"IF(A35<>\"\",IFERROR(VLOOKUP(AO35,Tabelas!B:D,3,0),0),\"\")","v":0},{"$f":"IF(A35<>\"\",IFERROR(VLOOKUP(AP35,Tabelas!B:D,3,0),0),\"\")","v":0},{"$f":"IF(A35<>\"\",IFERROR(VLOOKUP(AQ35,Tabelas!B:D,3,0),0),\"\")","v":0},{"$f":"IF(A35<>\"\",IFERROR(VLOOKUP(AR35,Tabelas!B:D,3,0),0),\"\")","v":0},0,0,0,0,0,0,0,0,0]
["Fulano de Tal 28",1234567,123,"ENF","Ebserh",36,null,null,null,null,null,null,null,null,null,null,null,null,null,null,null,null,null,null,null,null,null,null,null,null,null,null,null,null,null,null,null,null,null,null,null,null,null,null,{"$f":"IF(A36<>\"\",IFERROR(VLOOKUP(N36,Tabelas!B:D,3,0),0),\"\")","v":0},{"$f":"IF(A36<>\"\",IFERROR(VLOOKUP(O36,Tabelas!B:D,3,0),0),\"\")","v":0},{"$f":"IF(A36<>\"\",IFERROR(VLOOKUP(P36,Tabelas!B:D,3,0),0),\"\")","v":0},{"$f":"IF(A36<>\"\",IFERROR(VLOOKUP(Q36,Tabelas!B:D,3,0),0),\"\")","v":0},{"$f":"IF(A36<>\"\",IFERROR(VLOOKUP(R36,Tabelas!B:D,3,0),0),\"\")","v":0},{"$f":"IF(A36<>\"\",IFERROR(VLOOKUP(S36,Tabelas!B:D,3,0),0),\"\")","v":0},{"$f":"IF(A36<>\"\",IFERROR(VLOOKUP(T36,Tabelas!B:D,3,0),0),\"\")","v":0},{"$f":"IF(A36<>\"\",IFERROR(VLOOKUP(U36,Tabelas!B:D,3,0),0),\"\")","v":0},{"$f":"IF(A36<>\"\",IFERROR(VLOOKUP(V36,Tabelas!B:D,3,0),0),\"\")","v":0},{"$f":"IF(A36<>\"\",IFERROR(VLOOKUP(W36,Tabelas!B:D,3,0),0),\"\")","v":0},{"$f":"IF(A36<>\"\",IFERROR(VLOOKUP(X36,Tabelas!B:D,3,0),0),\"\")","v":0},{"$f":"IF(A36<>\"\",IFERROR(VLOOKUP(Y36,Tabelas!B:D,3,0),0),\"\")","v":0},{"$f":"IF(A36<>\"\",IFERROR(VLOOKUP(Z36,Tabelas!B:D,3,0),0),\"\")","v":0},{"$f":"IF(A36<>\"\",IFERROR(VLOOKUP(AA36,Tabelas!B:D,3,0),0),\"\")","v":0},{"$f":"IF(A36<>\"\",IFERROR(VLOOKUP(AB36,Tabelas!B:D,3,0),0),\"\")","v":0},{"$f":"IF(A36<>\"\",IFERROR(VLOOKUP(AC36,Tabelas!B:D,3,0),0),\"\")","v":0},{"$f":"IF(A36<>\"\",IFERROR(VLOOKUP(AD36,Tabelas!B:D,3,0),0),\"\")","v":0},{"$f":"IF(A36<>\"\",IFERROR(VLOOKUP(AE36,Tabelas!B:D,3,0),0),\"\")","v":0},{"$f":"IF(A36<>\"\",IFERROR(VLOOKUP(AF36,Tabelas!B:D,3,0),0),\"\")","v":0},{"$f":"IF(A36<>\"\",IFERROR(VLOOKUP(AG36,Tabelas!B:D,3,0),0),\"\")","v":0},{"$f":"IF(A36<>\"\",IFERROR(VLOOKUP(AH36,Tabelas!B:D,3,0),0),\"\")","v":0},{"$f":"IF(A36<>\"\",IFERROR(VLOOKUP(AI36,Tabelas!B:D,3,0),0),\"\")","v":0},{"$f":"IF(A36<>\"\",IFERROR(VLOOKUP(AJ36,Tabelas!B:D,3,0),0),\"\")","v":0},{"$f":"IF(A36<>\"\",IFERROR(VLOOKUP(AK36,Tabelas!B:D,3,0),0),\"\")","v":0},{"$f":"IF(A36<>\"\",IFERROR(VLOOKUP(AL36,Tabelas!B:D,3,0),0),\"\")","v":0},{"$f":"IF(A36<>\"\",IFERROR(VLOOKUP(AM36,Tabelas!B:D,3,0),0),\"\")","v":0},{"$f":"IF(A36<>\"\",IFERROR(VLOOKUP(AN36,Tabelas!B:D,3,0),0),\"\")","v":0},{"$f":"IF(A36<>\"\",IFERROR(VLOOKUP(AO36,Tabelas!B:D,3,0),0),\"\")","v":0},{"$f":"IF(A36<>\"\",IFERROR(VLOOKUP(AP36,Tabelas!B:D,3,0),0),\"\")","v":0},{"$f":"IF(A36<>\"\",IFERROR(VLOOKUP(AQ36,Tabelas!B:D,3,0),0),\"\")","v":0},{"$f":"IF(A36<>\"\",IFERROR(VLOOKUP(AR36,Tabelas!B:D,3,0),0),\"\")","v":0},0,0,0,0,0,0,0,0,0]
["Fulano de Tal 29",1234567,123,"ENF","Ebserh",36,null,null,null,null,null,null,null,null,null,null,null,null,null,null,null,null,null,null,null,null,null,null,null,null,null,null,null,null,null,null,null,null,null,null,null,null,null,null,{"$f":"IF(A37<>\"\",IFERROR(VLOOKUP(N37,Tabelas!B:D,3,0),0),\"\")","v":0},{"$f":"IF(A37<>\"\",IFERROR(VLOOKUP(O37,Tabelas!B:D,3,0),0),\"\")","v":0},{"$f":"IF(A37<>\"\",IFERROR(VLOOKUP(P37,Tabelas!B:D,3,0),0),\"\")","v":0},{"$f":"IF(A37<>\"\",IFERROR(VLOOKUP(Q37,Tabelas!B:D,3,0),0),\"\")","v":0},{"$f":"IF(A37<>\"\",IFERROR(VLOOKUP(R37,Tabelas!B:D,3,0),0),\"\")","v":0},{"$f":"IF(A37<>\"\",IFERROR(VLOOKUP(S37,Tabelas!B:D,3,0),0),\"\")","v":0},{"$f":"IF(A37<>\"\",IFERROR(VLOOKUP(T37,Tabelas!B:D,3,0),0),\"\")","v":0},{"$f":"IF(A37<>\"\",IFERROR(VLOOKUP(U37,Tabelas!B:D,3,0),0),\"\")","v":0},{"$f":"IF(A37<>\"\",IFERROR(VLOOKUP(V37,Tabelas!B:D,3,0),0),\"\")","v":0},{"$f":"IF(A37<>\"\",IFERROR(VLOOKUP(W37,Tabelas!B:D,3,0),0),\"\")","v":0},{"$f":"IF(A37<>\"\",IFERROR(VLOOKUP(X37,Tabelas!B:D,3,0),0),\"\")","v":0},{"$f":"IF(A37<>\"\",IFERROR(VLOOKUP(Y37,Tabelas!B:D,3,0),0),\"\")","v":0},{"$f":"IF(A37<>\"\",IFERROR(VLOOKUP(Z37,Tabelas!B:D,3,0),0),\"\")","v":0},{"$f":"IF(A37<>\"\",IFERROR(VLOOKUP(AA37,Tabelas!B:D,3,0),0),\"\")","v":0},{"$f":"IF(A37<>\"\",IFERROR(VLOOKUP(AB37,Tabelas!B:D,3,0),0),\"\")","v":0},{"$f":"IF(A37<>\"\",IFERROR(VLOOKUP(AC37,Tabelas!B:D,3,0),0),\"\")","v":0},{"$f":"IF(A37<>\"\",IFERROR(VLOOKUP(AD37,Tabelas!B:D,3,0),0),\"\")","v":0},{"$f":"IF(A37<>\"\",IFERROR(VLOOKUP(AE37,Tabelas!B:D,3,0),0),\"\")","v":0},{"$f":"IF(A37<>\"\",IFERROR(VLOOKUP(AF37,Tabelas!B:D,3,0),0),\"\")","v":0},{"$f":"IF(A37<>\"\",IFERROR(VLOOKUP(AG37,Tabelas!B:D,3,0),0),\"\")","v":0},{"$f":"IF(A37<>\"\",IFERROR(VLOOKUP(AH37,Tabelas!B:D,3,0),0),\"\")","v":0},{"$f":"IF(A37<>\"\",IFERROR(VLOOKUP(AI37,Tabelas!B:D,3,0),0),\"\")","v":0},{"$f":"IF(A37<>\"\",IFERROR(VLOOKUP(AJ37,Tabelas!B:D,3,0),0),\"\")","v":0},{"$f":"IF(A37<>\"\",IFERROR(VLOOKUP(AK37,Tabelas!B:D,3,0),0),\"\")","v":0},{"$f":"IF(A37<>\"\",IFERROR(VLOOKUP(AL37,Tabelas!B:D,3,0),0),\"\")","v":0},{"$f":"IF(A37<>\"\",IFERROR(VLOOKUP(AM37,Tabelas!B:D,3,0),0),\"\")","v":0},{"$f":"IF(A37<>\"\",IFERROR(VLOOKUP(AN37,Tabelas!B:D,3,0),0),\"\")","v":0},{"$f":"IF(A37<>\"\",IFERROR(VLOOKUP(AO37,Tabelas!B:D,3,0),0),\"\")","v":0},{"$f":"IF(A37<>\"\",IFERROR(VLOOKUP(AP37,Tabelas!B:D,3,0),0),\"\")","v":0},{"$f":"IF(A37<>\"\",IFERROR(VLOOKUP(AQ37,Tabelas!B:D,3,0),0),\"\")","v":0},{"$f":"IF(A37<>\"\",IFERROR(VLOOKUP(AR37,Tabelas!B:D,3,0),0),\"\")","v":0},0,0,0,0,0,0,0,0,0]
["Fulano de Tal 30",1234567,123,"ENF","Ebserh",36,null,null,null,null,null,null,null,null,null,null,null,null,null,null,null,null,null,null,null,null,null,null,null,null,null,null,null,null,null,null,null,null,null,null,null,null,null,null,{"$f":"IF(A38<>\"\",IFERROR(VLOOKUP(N38,Tabelas!B:D,3,0),0),\"\")","v":0},{"$f":"IF(A38<>\"\",IFERROR(VLOOKUP(O38,Tabelas!B:D,3,0),0),\"\")","v":0},{"$f":"IF(A38<>\"\",IFERROR(VLOOKUP(P38,Tabelas!B:D,3,0),0),\"\")","v":0},{"$f":"IF(A38<>\"\",IFERROR(VLOOKUP(Q38,Tabelas!B:D,3,0),0),\"\")","v":0},{"$f":"IF(A38<>\"\",IFERROR(VLOOKUP(R38,Tabelas!B:D,3,0),0),\"\")","v":0},{"$f":"IF(A38<>\"\",IFERROR(VLOOKUP(S38,Tabelas!B:D,3,0),0),\"\")","v":0},{"$f":"IF(A38<>\"\",IFERROR(VLOOKUP(T38,Tabelas!B:D,3,0),0),\"\")","v":0},{"$f":"IF(A38<>\"\",IFERROR(VLOOKUP(U38,Tabelas!B:D,3,0),0),\"\")","v":0},{"$f":"IF(A38<>\"\",IFERROR(VLOOKUP(V38,Tabelas!B:D,3,0),0),\"\")","v":0},{"$f":"IF(A38<>\"\",IFERROR(VLOOKUP(W38,Tabelas!B:D,3,0),0),\"\")","v":0},{"$f":"IF(A38<>\"\",IFERROR(VLOOKUP(X38,Tabelas!B:D,3,0),0),\"\")","v":0},{"$f":"IF(A38<>\"\",IFERROR(VLOOKUP(Y38,Tabelas!B:D,3,0),0),\"\")","v":0},{"$f":"IF(A38<>\"\",IFERROR(VLOOKUP(Z38,Tabelas!B:D,3,0),0),\"\")","v":0},{"$f":"IF(A38<>\"\",IFERROR(VLOOKUP(AA38,Tabelas!B:D,3,0),0),\"\")","v":0},{"$f":"IF(A38<>\"\",IFERROR(VLOOKUP(AB38,Tabelas!B:D,3,0),0),\"\")","v":0},{"$f":"IF(A38<>\"\",IFERROR(VLOOKUP(AC38,Tabelas!B:D,3,0),0),\"\")","v":0},{"$f":"IF(A38<>\"\",IFERROR(VLOOKUP(AD38,Tabelas!B:D,3,0),0),\"\")","v":0},{"$f":"IF(A38<>\"\",IFERROR(VLOOKUP(AE38,Tabelas!B:D,3,0),0),\"\")","v":0},{"$f":"IF(A38<>\"\",IFERROR(VLOOKUP(AF38,Tabelas!B:D,3,0),0),\"\")","v":0},{"$f":"IF(A38<>\"\",IFERROR(VLOOKUP(AG38,Tabelas!B:D,3,0),0),\"\")","v":0},{"$f":"IF(A38<>\"\",IFERROR(VLOOKUP(AH38,Tabelas!B:D,3,0),0),\"\")","v":0},{"$f":"IF(A38<>\"\",IFERROR(VLOOKUP(AI38,Tabelas!B:D,3,0),0),\"\")","v":0},{"$f":"IF(A38<>\"\",IFERROR(VLOOKUP(AJ38,Tabelas!B:D,3,0),0),\"\")","v":0},{"$f":"IF(A38<>\"\",IFERROR(VLOOKUP(AK38,Tabelas!B:D,3,0),0),\"\")","v":0},{"$f":"IF(A38<>\"\",IFERROR(VLOOKUP(AL38,Tabelas!B:D,3,0),0),\"\")","v":0},{"$f":"IF(A38<>\"\",IFERROR(VLOOKUP(AM38,Tabelas!B:D,3,0),0),\"\")","v":0},{"$f":"IF(A38<>\"\",IFERROR(VLOOKUP(AN38,Tabelas!B:D,3,0),0),\"\")","v":0},{"$f":"IF(A38<>\"\",IFERROR(VLOOKUP(AO38,Tabelas!B:D,3,0),0),\"\")","v":0},{"$f":"IF(A38<>\"\",IFERROR(VLOOKUP(AP38,Tabelas!B:D,3,0),0),\"\")","v":0},{"$f":"IF(A38<>\"\",IFERROR(VLOOKUP(AQ38,Tabelas!B:D,3,0),0),\"\")","v":0},{"$f":"IF(A38<>\"\",IFERROR(VLOOKUP(AR38,Tabelas!B:D,3,0),0),\"\")","v":0},0,0,0,0,0,0,0,0,0]
["TOTAL PROFISSIONAIS MATUTINO",null,null,null,null,null,null,null,null,null,null,null,null,{"$f":"COUNTIF(N9:N18,\"M\")+COUNTIF(N19:N28,\"M\")+COUNTIF(N29:N38,\"M\")+COUNTIF(N9:N18,\"M?\") +COUNTIF(N19:N28,\"M?\")+COUNTIF(N29:N38,\"M?\")+ COUNTIF(N9:N18, \"MT?\") + COUNTIF(N19:N28, \"MT?\")+ COUNTIF(N29:N38, \"MT?\")+ COUNTIF(N9:N18, \"D?\")  + COUNTIF(N19:N28, \"D?\")+COUNTIF(N29:N38, \"D?\")+ COUNTIF(N9:N18, \"DN?\")+ COUNTIF(N19:N28, \"DN?\")+ COUNTIF(N29:N38, \"DN?\")+ COUNTIF(N9:N18, \"MT??\") + COUNTIF(N19:N28, \"MT??\")+ COUNTIF(N29:N38, \"MT??\")+ COUNTIF(N9:N18, \"D\")  + COUNTIF(N19:N28, \"D\")+COUNTIF(N29:N38, \"D\")","v":0},0,0,0,0,0,0,0,0,0,0,0,0,0,0,0,0,0,0,0,0,0,0,0,0,0,0,0,0,0,0]
["TOTAL DE PROFISSIONAIS VESPERTINO",null,null,null,null,null,null,null,null,null,null,null,null,{"$f":"COUNTIF(N9:N18,\"T\")+COUNTIF(N19:N28,\"T\")+COUNTIF(N29:N38,\"T\")+COUNTIF(N9:N18,\"T?\") +COUNTIF(N19:N28,\"T?\")+COUNTIF(N29:N38,\"T?\")+ COUNTIF(N9:N18, \"MT?\") + COUNTIF(N19:N28, \"MT?\")+ COUNTIF(N29:N38, \"MT?\")+ COUNTIF(N9:N18, \"D?\")  + COUNTIF(N19:N28, \"D?\")+COUNTIF(N29:N38, \"D?\")+ COUNTIF(N9:N18, \"DN?\")+ COUNTIF(N19:N28, \"DN?\")+ COUNTIF(N29:N38, \"DN?\")+ COUNTIF(N9:N18, \"MT??\") + COUNTIF(N19:N28, \"MT??\")+ COUNTIF(N29:N38, \"MT??\")+ COUNTIF(N9:N18, \"D\")  + COUNTIF(N19:N28, \"D\")+COUNTIF(N29:N38, \"D\")","v":0},0,0,0,0,0,0,0,0,0,0,0,0,0,0,0,0,0,0,0,0,0,0,0,0,0,0,0,0,0,0,{"$f":"IF(A40<>\"\",IFERROR(VLOOKUP(N40,Tabelas!B:D,3,0),0),\"\")","v":0},{"$f":"IF(A40<>\"\",IFERROR(VLOOKUP(O40,Tabelas!B:D,3,0),0),\"\")","v":0},{"$f":"IF(A40<>\"\",IFERROR(VLOOKUP(P40,Tabelas!B:D,3,0),0),\"\")","v":0},{"$f":"IF(A40<>\"\",IFERROR(VLOOKUP(Q40,Tabelas!B:D,3,0),0),\"\")","v":0},{"$f":"IF(A40<>\"\",IFERROR(VLOOKUP(R40,Tabelas!B:D,3,0),0),\"\")","v":0},{"$f":"IF(A40<>\"\",IFERROR(VLOOKUP(S40,Tabelas!B:D,3,0),0),\"\")","v":0},{"$f":"IF(A40<>\"\",IFERROR(VLOOKUP(T40,Tabelas!B:D,3,0),0),\"\")","v":0},{"$f":"IF(A40<>\"\",IFERROR(VLOOKUP(U40,Tabelas!B:D,3,0),0),\"\")","v":0},{"$f":"IF(A40<>\"\",IFERROR(VLOOKUP(V40,Tabelas!B:D,3,0),0),\"\")","v":0},{"$f":"IF(A40<>\"\",IFERROR(VLOOKUP(W40,Tabelas!B:D,3,0),0),\"\")","v":0},{"$f":"IF(A40<>\"\",IFERROR(VLOOKUP(X40,Tabelas!B:D,3,0),0),\"\")","v":0},{"$f":"IF(A40<>\"\",IFERROR(VLOOKUP(Y40,Tabelas!B:D,3,0),0),\"\")","v":0},{"$f":"IF(A40<>\"\",IFERROR(VLOOKUP(Z40,Tabelas!B:D,3,0),0),\"\")","v":0},{"$f":"IF(A40<>\"\",IFERROR(VLOOKUP(AA40,Tabelas!B:D,3,0),0),\"\")","v":0},{"$f":"IF(A40<>\"\",IFERROR(VLOOKUP(AB40,Tabelas!B:D,3,0),0),\"\")","v":0},{"$f":"IF(A40<>\"\",IFERROR(VLOOKUP(AC40,Tabelas!B:D,3,0),0),\"\")","v":0},{"$f":"IF(A40<>\"\",IFERROR(VLOOKUP(AD40,Tabelas!B:D,3,0),0),\"\")","v":0},{"$f":"IF(A40<>\"\",IFERROR(VLOOKUP(AE40,Tabelas!B:D,3,0),0),\"\")","v":0},{"$f":"IF(A40<>\"\",IFERROR(VLOOKUP(AF40,Tabelas!B:D,3,0),0),\"\")","v":0},{"$f":"IF(A40<>\"\",IFERROR(VLOOKUP(AG40,Tabelas!B:D,3,0),0),\"\")","v":0},{"$f":"IF(A40<>\"\",IFERROR(VLOOKUP(AH40,Tabelas!B:D,3,0),0),\"\")","v":0},{"$f":"IF(A40<>\"\",IFERROR(VLOOKUP(AI40,Tabelas!B:D,3,0),0),\"\")","v":0},{"$f":"IF(A40<>\"\",IFERROR(VLOOKUP(AJ40,Tabelas!B:D,3,0),0),\"\")","v":0},{"$f":"IF(A40<>\"\",IFERROR(VLOOKUP(AK40,Tabelas!B:D,3,0),0),\"\")","v":0},{"$f":"IF(A40<>\"\",IFERROR(VLOOKUP(AL40,Tabelas!B:D,3,0),0),\"\")","v":0},{"$f":"IF(A40<>\"\",IFERROR(VLOOKUP(AM40,Tabelas!B:D,3,0),0),\"\")","v":0},{"$f":"IF(A40<>\"\",IFERROR(VLOOKUP(AN40,Tabelas!B:D,3,0),0),\"\")","v":0},{"$f":"IF(A40<>\"\",IFERROR(VLOOKUP(AO40,Tabelas!B:D,3,0),0),\"\")","v":0},{"$f":"IF(A40<>\"\",IFERROR(VLOOKUP(AP40,Tabelas!B:D,3,0),0),\"\")","v":0},{"$f":"IF(A40<>\"\",IFERROR(VLOOKUP(AQ40,Tabelas!B:D,3,0),0),\"\")","v":0},{"$f":"IF(A40<>\"\",IFERROR(VLOOKUP(AR40,Tabelas!B:D,3,0),0),\"\")","v":0}]
["TOTAL DE PROFISSIONAIS NOTURNO",null,null,null,null,null,null,null,null,null,null,null,null,{"$f":"COUNTIF(N9:N18,\"N\")+COUNTIF(N19:N28,\"N\")+COUNTIF(N29:N38,\"N\")+COUNTIF(N9:N18,\"N?\") +COUNTIF(N19:N28,\"N?\")+COUNTIF(N29:N38,\"N?\")+ COUNTIF(N9:N18, \"DN?\")+ COUNTIF(N19:N28, \"DN?\")+ COUNTIF(N29:N38, \"DN?\")","v":0},0,0,0,0,0,0,0,0,0,0,0,0,0,0,0,0,0,0,0,0,0,0,0,0,0,0,0,0,0,0,{"$f":"IF(A41<>\"\",IFERROR(VLOOKUP(N41,Tabelas!B:D,3,0),0),\"\")","v":0},{"$f":"IF(A41<>\"\",IFERROR(VLOOKUP(O41,Tabelas!B:D,3,0),0),\"\")","v":0},{"$f":"IF(A41<>\"\",IFERROR(VLOOKUP(P41,Tabelas!B:D,3,0),0),\"\")","v":0},{"$f":"IF(A41<>\"\",IFERROR(VLOOKUP(Q41,Tabelas!B:D,3,0),0),\"\")","v":0},{"$f":"IF(A41<>\"\",IFERROR(VLOOKUP(R41,Tabelas!B:D,3,0),0),\"\")","v":0},{"$f":"IF(A41<>\"\",IFERROR(VLOOKUP(S41,Tabelas!B:D,3,0),0),\"\")","v":0},{"$f":"IF(A41<>\"\",IFERROR(VLOOKUP(T41,Tabelas!B:D,3,0),0),\"\")","v":0},{"$f":"IF(A41<>\"\",IFERROR(VLOOKUP(U41,Tabelas!B:D,3,0),0),\"\")","v":0},{"$f":"IF(A41<>\"\",IFERROR(VLOOKUP(V41,Tabelas!B:D,3,0),0),\"\")","v":0},{"$f":"IF(A41<>\"\",IFERROR(VLOOKUP(W41,Tabelas!B:D,3,0),0),\"\")","v":0},{"$f":"IF(A41<>\"\",IFERROR(VLOOKUP(X41,Tabelas!B:D,3,0),0),\"\")","v":0},{"$f":"IF(A41<>\"\",IFERROR(VLOOKUP(Y41,Tabelas!B:D,3,0),0),\"\")","v":0},{"$f":"IF(A41<>\"\",IFERROR(VLOOKUP(Z41,Tabelas!B:D,3,0),0),\"\")","v":0},{"$f":"IF(A41<>\"\",IFERROR(VLOOKUP(AA41,Tabelas!B:D,3,0),0),\"\")","v":0},{"$f":"IF(A41<>\"\",IFERROR(VLOOKUP(AB41,Tabelas!B:D,3,0),0),\"\")","v":0},{"$f":"IF(A41<>\"\",IFERROR(VLOOKUP(AC41,Tabelas!B:D,3,0),0),\"\")","v":0},{"$f":"IF(A41<>\"\",IFERROR(VLOOKUP(AD41,Tabelas!B:D,3,0),0),\"\")","v":0},{"$f":"IF(A41<>\"\",IFERROR(VLOOKUP(AE41,Tabelas!B:D,3,0),0),\"\")","v":0},{"$f":"IF(A41<>\"\",IFERROR(VLOOKUP(AF41,Tabelas!B:D,3,0),0),\"\")","v":0},{"$f":"IF(A41<>\"\",IFERROR(VLOOKUP(AG41,Tabelas!B:D,3,0),0),\"\")","v":0},{"$f":"IF(A41<>\"\",IFERROR(VLOOKUP(AH41,Tabelas!B:D,3,0),0),\"\")","v":0},{"$f":"IF(A41<>\"\",IFERROR(VLOOKUP(AI41,Tabelas!B:D,3,0),0),\"\")","v":0},{"$f":"IF(A41<>\"\",IFERROR(VLOOKUP(AJ41,Tabelas!B:D,3,0),0),\"\")","v":0},{"$f":"IF(A41<>\"\",IFERROR(VLOOKUP(AK41,Tabelas!B:D,3,0),0),\"\")","v":0},{"$f":"IF(A41<>\"\",IFERROR(VLOOKUP(AL41,Tabelas!B:D,3,0),0),\"\")","v":0},{"$f":"IF(A41<>\"\",IFERROR(VLOOKUP(AM41,Tabelas!B:D,3,0),0),\"\")","v":0},{"$f":"IF(A41<>\"\",IFERROR(VLOOKUP(AN41,Tabelas!B:D,3,0),0),\"\")","v":0},{"$f":"IF(A41<>\"\",IFERROR(VLOOKUP(AO41,Tabelas!B:D,3,0),0),\"\")","v":0},{"$f":"IF(A41<>\"\",IFERROR(VLOOKUP(AP41,Tabelas!B:D,3,0),0),\"\")","v":0},{"$f":"IF(A41<>\"\",IFERROR(VLOOKUP(AQ41,Tabelas!B:D,3,0),0),\"\")","v":0},{"$f":"IF(A41<>\"\",IFERROR(VLOOKUP(AR41,Tabelas!B:D,3,0),0),\"\")","v":0}]
[null,null,null,null,null,null,null,null,null,null,null,null,null,null,null,null,null,null,null,null,null,null,null,null,null,null,null,null,null,null,null,null,null,null,null,null,null,null,null,null,null,null,null,null,{"$f":"IF(A42<>\"\",IFERROR(VLOOKUP(N42,Tabelas!B:D,3,0),0),\"\")","v":""},{"$f":"IF(A42<>\"\",IFERROR(VLOOKUP(O42,Tabelas!B:D,3,0),0),\"\")","v":""},{"$f":"IF(A42<>\"\",IFERROR(VLOOKUP(P42,Tabelas!B:D,3,0),0),\"\")","v":""},{"$f":"IF(A42<>\"\",IFERROR(VLOOKUP(Q42,Tabelas!B:D,3,0),0),\"\")","v":""},{"$f":"IF(A42<>\"\",IFERROR(VLOOKUP(R42,Tabelas!B:D,3,0),0),\"\")","v":""},{"$f":"IF(A42<>\"\",IFERROR(VLOOKUP(S42,Tabelas!B:D,3,0),0),\"\")","v":""},{"$f":"IF(A42<>\"\",IFERROR(VLOOKUP(T42,Tabelas!B:D,3,0),0),\"\")","v":""},{"$f":"IF(A42<>\"\",IFERROR(VLOOKUP(U42,Tabelas!B:D,3,0),0),\"\")","v":""},{"$f":"IF(A42<>\"\",IFERROR(VLOOKUP(V42,Tabelas!B:D,3,0),0),\"\")","v":""},{"$f":"IF(A42<>\"\",IFERROR(VLOOKUP(W42,Tabelas!B:D,3,0),0),\"\")","v":""},{"$f":"IF(A42<>\"\",IFERROR(VLOOKUP(X42,Tabelas!B:D,3,0),0),\"\")","v":""},{"$f":"IF(A42<>\"\",IFERROR(VLOOKUP(Y42,Tabelas!B:D,3,0),0),\"\")","v":""},{"$f":"IF(A42<>\"\",IFERROR(VLOOKUP(Z42,Tabelas!B:D,3,0),0),\"\")","v":""},{"$f":"IF(A42<>\"\",IFERROR(VLOOKUP(AA42,Tabelas!B:D,3,0),0),\"\")","v":""},{"$f":"IF(A42<>\"\",IFERROR(VLOOKUP(AB42,Tabelas!B:D,3,0),0),\"\")","v":""},{"$f":"IF(A42<>\"\",IFERROR(VLOOKUP(AC42,Tabelas!B:D,3,0),0),\"\")","v":""},{"$f":"IF(A42<>\"\",IFERROR(VLOOKUP(AD42,Tabelas!B:D,3,0),0),\"\")","v":""},{"$f":"IF(A42<>\"\",IFERROR(VLOOKUP(AE42,Tabelas!B:D,3,0),0),\"\")","v":""},{"$f":"IF(A42<>\"\",IFERROR(VLOOKUP(AF42,Tabelas!B:D,3,0),0),\"\")","v":""},{"$f":"IF(A42<>\"\",IFERROR(VLOOKUP(AG42,Tabelas!B:D,3,0),0),\"\")","v":""},{"$f":"IF(A42<>\"\",IFERROR(VLOOKUP(AH42,Tabelas!B:D,3,0),0),\"\")","v":""},{"$f":"IF(A42<>\"\",IFERROR(VLOOKUP(AI42,Tabelas!B:D,3,0),0),\"\")","v":""},{"$f":"IF(A42<>\"\",IFERROR(VLOOKUP(AJ42,Tabelas!B:D,3,0),0),\"\")","v":""},{"$f":"IF(A42<>\"\",IFERROR(VLOOKUP(AK42,Tabelas!B:D,3,0),0),\"\")","v":""},{"$f":"IF(A42<>\"\",IFERROR(VLOOKUP(AL42,Tabelas!B:D,3,0),0),\"\")","v":""},{"$f":"IF(A42<>\"\",IFERROR(VLOOKUP(AM42,Tabelas!B:D,3,0),0),\"\")","v":""},{"$f":"IF(A42<>\"\",IFERROR(VLOOKUP(AN42,Tabelas!B:D,3,0),0),\"\")","v":""},{"$f":"IF(A42<>\"\",IFERROR(VLOOKUP(AO42,Tabelas!B:D,3,0),0),\"\")","v":""},{"$f":"IF(A42<>\"\",IFERROR(VLOOKUP(AP42,Tabelas!B:D,3,0),0),\"\")","v":""},{"$f":"IF(A42<>\"\",IFERROR(VLOOKUP(AQ42,Tabelas!B:D,3,0),0),\"\")","v":""},{"$f":"IF(A42<>\"\",IFERROR(VLOOKUP(AR42,Tabelas!B:D,3,0),0),\"\")","v":""},"",{"$f":"IF(A42<>\"\",COUNTIF(N42:AR42,\"LM\")+COUNTIF(N42:AR42,\"L\"),\"\")","v":""},"","","","",null,{"$f":"IF(A42<>\"\",COUNTIF(N42:AR42,\"CE\")+COUNTIF(N42:AR42,\"L\")+COUNTIF(N42:AR42,\"LM\")+COUNTIF(N42:AR42,\"LC\")+COUNTIF(N42:AR42,\"AB\"),\"\")","v":""},{"$f":"IF(A42<>\"\",COUNTIF(N42:AR42,\"APH\"),\"\")","v":""}]
["Legenda:",null,null,null,null,null,null,null,null,null,null,null,null,null,null,null,null,null,null,null,null,null,null,null,null,null,null,null,null,null,null,null,null,null,null,null,null,null,null,null,null,null,null,null,null,null,null,null,null,null,null,null,null,null,null,null,null,null,null,null,null,null,null,null,null,null,null,null,null,null,null,null,null,null,null,"OBSERVAÇÕES:"]
["Licença Maternidade","LM","Férias",null,"FE","Ponto Facultativo",null,null,null,null,null,null,null,null,null,"PF","Manhã **",null,null,null,null,null,null,"M","Diunro (8 hrs) **",null,null,null,null,null,null,"MT",null,null,null,null,null,null,null,null,null,null,null,null,null,null,null,null,null,null,null,null,null,null,null,null,null,null,null,null,null,null,null,null,null,null,null,null,null,null,null,null,null,null,null,"* Para os Afastamentos previstos em lei, utilizar as legendas "]
["Licença Paternidade","LP","Feriado",null,"FD","Abono",null,null,null,null,null,null,null,null,null,"AB","Tarde **",null,null,null,null,null,null,"T","Dia/ noite (24 hrs) **",null,null,null,null,null,null,"DN",null,null,null,null,null,null,null,null,null,null,null,null,null,null,null,null,null,null,null,null,null,null,null,null,null,null,null,null,null,null,null,null,null,null,null,null,null,null,null,null,null,null,null,"numeradas conforme descrição no item 3.2.2 da NO DGP nº 04/2017."]
["Licença Médica/Odontológica","L","Folga",null,"FO","Compensação Horas Excedentes",null,null,null,null,null,null,null,null,null,"CE","Plantão Dia (12 hrs) **",null,null,null,null,null,null,"D",null,null,null,null,null,null,null,null,null,null,null,null,null,null,null,null,null,null,null,null,null,null,null,null,null,null,null,null,null,null,null,null,null,null,null,null,null,null,null,null,null,null,null,null,null,null,null,null,null,null,null,"** Para as variações de horários (M1, M2, T1, T2...), utilizar as "]
["Licença Capacitação","LC","Recesso",null,"RC","Afastamento*",null,null,null,null,null,null,null,null,null,"AF","Plantão Noite (12 hrs)**",null,null,null,null,null,null,"N",null,null,null,null,null,null,null,null,null,null,null,null,null,null,null,null,null,null,null,null,null,null,null,null,null,null,null,null,null,null,null,null,null,null,null,null,null,null,null,null,null,null,null,null,null,null,null,null,null,null,null,"legendas numeradas conforme descrição do item 3.2.2 na Norma "]
[null,null,null,null,null,null,null,null,null,null,null,null,null,null,null,null,null,null,null,null,null,null,null,null,null,null,null,null,null,null,null,null,null,null,null,null,null,null,null,null,null,null,null,null,null,null,null,null,null,null,null,null,null,null,null,null,null,null,null,null,null,null,null,null,null,null,null,null,null,null,null,null,null,null,null,"Operacional DGP nº 04/2017."]

{"sheet":"Agosto","index":7,"n_rows":48,"n_cols":84,"rows_kept":48,"cut":false,"hidden":false,"merged":[[38,0,38,6],[39,0,39,6],[40,0,40,6],[5,0,7,0],[5,1,7,1],[5,2,7,2],[5,3,7,3],[5,4,7,4],[5,5,7,5],[5,6,5,12],[42,75,42,83],[5,78,6,78],[5,79,6,79],[5,80,6,80],[5,81,6,81],[5,82,6,82],[5,83,6,83],[5,77,6,77],[5,13,5,43],[5,44,5,74],[5,75,6,75],[5,76,6,76],[6,6,7,6],[6,7,7,7],[6,8,7,8],[6,9,6,10],[6,11,7,11],[6,12,7,12],[1,0,1,43],[2,0,2,43],[3,0,3,43],[4,1,4,21],[4,24,4,35],[4,38,4,43]]}
[]
[]
["Hospital Universitário Professor Polydoro Ernani de São Thiago"]
["ESCALA MENSAL DE TRABALHO"]
["DIVISÃO /SETOR/UNIDADE:",null,null,null,null,null,null,null,null,null,null,null,null,null,null,null,null,null,null,null,null,null,"MÊS:",null,"Agosto",null,null,null,null,null,null,null,null,null,null,null,"ANO:",null,2018]
["NOME COMPLETO","SIAPE","REGISTRO CONSELHO CLASSE","CARGO","VÍNCULO","C.H SEM.","INTERVALO",null,null,null,null,null,null,"DIAS DO MÊS",null,null,null,null,null,null,null,null,null,null,null,null,null,null,null,null,null,null,null,null,null,null,null,null,null,null,null,null,null,null,"CÁLCULO DAS HORAS",null,null,null,null,null,null,null,null,null,null,null,null,null,null,null,null,null,null,null,null,null,null,null,null,null,null,null,null,null,null,"CH MENSAL","LM/LP/L","Abono","Férias","LC","CE","AF  Legais"," TOTAL AFASTAMENTOS","APH"]
[null,null,null,null,null,null,"M","MT","D","DN",null,"T","N",1,2,3,4,5,6,7,8,9,10,11,12,13,14,15,16,17,18,19,20,21,22,23,24,25,{"$f":"IF(DAY(DATE(AM5,VLOOKUP(Y5,Tabelas!M:N,2,0)+1,1)-1)>=26,26,\"\")","v":26},{"$f":"IF(DAY(DATE(AM5,VLOOKUP(Y5,Tabelas!M:N,2,0)+1,1)-1)>=27,27,\"\")","v":27},{"$f":"IF(DAY(DATE(AM5,VLOOKUP(Y5,Tabelas!M:N,2,0)+1,1)-1)>=28,28,\"\")","v":28},{"$f":"IF(DAY(DATE(AM5,VLOOKUP(Y5,Tabelas!M:N,2,0)+1,1)-1)>=29,29,\"\")","v":29},{"$f":"IF(DAY(DATE(AM5,VLOOKUP(Y5,Tabelas!M:N,2,0)+1,1)-1)>=30,30,\"\")","v":30},{"$f":"IF(DAY(DATE(AM5,VLOOKUP(Y5,Tabelas!M:N,2,0)+1,1)-1)>=31,31,\"\")","v":31}]
[null,null,null,null,null,null,null,null,null,1,2,null,null,{"$f":"IF(N7<>\"\",IFERROR(VLOOKUP(WEEKDAY(CONCATENATE(N7,$Y$5,$AM$5)),Tabelas!$I:$J,2,0),\"\"),\"\")","v":"QUA"},{"$f":"IF(O7<>\"\",IFERROR(VLOOKUP(WEEKDAY(CONCATENATE(O7,$Y$5,$AM$5)),Tabelas!$I:$J,2,0),\"\"),\"\")","v":"QUI"},{"$f":"IF(P7<>\"\",IFERROR(VLOOKUP(WEEKDAY(CONCATENATE(P7,$Y$5,$AM$5)),Tabelas!$I:$J,2,0),\"\"),\"\")","v":"SEX"},{"$f":"IF(Q7<>\"\",IFERROR(VLOOKUP(WEEKDAY(CONCATENATE(Q7,$Y$5,$AM$5)),Tabelas!$I:$J,2,0),\"\"),\"\")","v":"SAB"},{"$f":"IF(R7<>\"\",IFERROR(VLOOKUP(WEEKDAY(CONCATENATE(R7,$Y$5,$AM$5)),Tabelas!$I:$J,2,0),\"\"),\"\")","v":"DOM"},{"$f":"IF(S7<>\"\",IFERROR(VLOOKUP(WEEKDAY(CONCATENATE(S7,$Y$5,$AM$5)),Tabelas!$I:$J,2,0),\"\"),\"\")","v":"SEG"},{"$f":"IF(T7<>\"\",IFERROR(VLOOKUP(WEEKDAY(CONCATENATE(T7,$Y$5,$AM$5)),Tabelas!$I:$J,2,0),\"\"),\"\")","v":"TER"},{"$f":"IF(U7<>\"\",IFERROR(VLOOKUP(WEEKDAY(CONCATENATE(U7,$Y$5,$AM$5)),Tabelas!$I:$J,2,0),\"\"),\"\")","v":"QUA"},{"$f":"IF(V7<>\"\",IFERROR(VLOOKUP(WEEKDAY(CONCATENATE(V7,$Y$5,$AM$5)),Tabelas!$I:$J,2,0),\"\"),\"\")","v":"QUI"},{"$f":"IF(W7<>\"\",IFERROR(VLOOKUP(WEEKDAY(CONCATENATE(W7,$Y$5,$AM$5)),Tabelas!$I:$J,2,0),\"\"),\"\")","v":"SEX"},{"$f":"IF(X7<>\"\",IFERROR(VLOOKUP(WEEKDAY(CONCATENATE(X7,$Y$5,$AM$5)),Tabelas!$I:$J,2,0),\"\"),\"\")","v":"SAB"},{"$f":"IF(Y7<>\"\",IFERROR(VLOOKUP(WEEKDAY(CONCATENATE(Y7,$Y$5,$AM$5)),Tabelas!$I:$J,2,0),\"\"),\"\")","v":"DOM"},{"$f":"IF(Z7<>\"\",IFERROR(VLOOKUP(WEEKDAY(CONCATENATE(Z7,$Y$5,$AM$5)),Tabelas!$I:$J,2,0),\"\"),\"\")","v":"SEG"},{"$f":"IF(AA7<>\"\",IFERROR(VLOOKUP(WEEKDAY(CONCATENATE(AA7,$Y$5,$AM$5)),Tabelas!$I:$J,2,0),\"\"),\"\")","v":"TER"},{"$f":"IF(AB7<>\"\",IFERROR(VLOOKUP(WEEKDAY(CONCATENATE(AB7,$Y$5,$AM$5)),Tabelas!$I:$J,2,0),\"\"),\"\")","v":"QUA"},{"$f":"IF(AC7<>\"\",IFERROR(VLOOKUP(WEEKDAY(CONCATENATE(AC7,$Y$5,$AM$5)),Tabelas!$I:$J,2,0),\"\"),\"\")","v":"QUI"},{"$f":"IF(AD7<>\"\",IFERROR(VLOOKUP(WEEKDAY(CONCATENATE(AD7,$Y$5,$AM$5)),Tabelas!$I:$J,2,0),\"\"),\"\")","v":"SEX"},{"$f":"IF(AE7<>\"\",IFERROR(VLOOKUP(WEEKDAY(CONCATENATE(AE7,$Y$5,$AM$5)),Tabelas!$I:$J,2,0),\"\"),\"\")","v":"SAB"},{"$f":"IF(AF7<>\"\",IFERROR(VLOOKUP(WEEKDAY(CONCATENATE(AF7,$Y$5,$AM$5)),Tabelas!$I:$J,2,0),\"\"),\"\")","v":"DOM"},{"$f":"IF(AG7<>\"\",IFERROR(VLOOKUP(WEEKDAY(CONCATENATE(AG7,$Y$5,$AM$5)),Tabelas!$I:$J,2,0),\"\"),\"\")","v":"SEG"},{"$f":"IF(AH7<>\"\",IFERROR(VLOOKUP(WEEKDAY(CONCATENATE(AH7,$Y$5,$AM$5)),Tabelas!$I:$J,2,0),\"\"),\"\")","v":"TER"},{"$f":"IF(AI7<>\"\",IFERROR(VLOOKUP(WEEKDAY(CONCATENATE(AI7,$Y$5,$AM$5)),Tabelas!$I:$J,2,0),\"\"),\"\")","v":"QUA"},{"$f":"IF(AJ7<>\"\",IFERROR(VLOOKUP(WEEKDAY(CONCATENATE(AJ7,$Y$5,$AM$5)),Tabelas!$I:$J,2,0),\"\"),\"\")","v":"QUI"},{"$f":"IF(AK7<>\"\",IFERROR(VLOOKUP(WEEKDAY(CONCATENATE(AK7,$Y$5,$AM$5)),Tabelas!$I:$J,2,0),\"\"),\"\")","v":"SEX"},{"$f":"IF(AL7<>\"\",IFERROR(VLOOKUP(WEEKDAY(CONCATENATE(AL7,$Y$5,$AM$5)),Tabelas!$I:$J,2,0),\"\"),\"\")","v":"SAB"},{"$f":"IF(AM7<>\"\",IFERROR(VLOOKUP(WEEKDAY(CONCATENATE(AM7,$Y$5,$AM$5)),Tabelas!$I:$J,2,0),\"\"),\"\")","v":"DOM"},{"$f":"IF(AN7<>\"\",IFERROR(VLOOKUP(WEEKDAY(CONCATENATE(AN7,$Y$5,$AM$5)),Tabelas!$I:$J,2,0),\"\"),\"\")","v":"SEG"},{"$f":"IF(AO7<>\"\",IFERROR(VLOOKUP(WEEKDAY(CONCATENATE(AO7,$Y$5,$AM$5)),Tabelas!$I:$J,2,0),\"\"),\"\")","v":"TER"},{"$f":"IF(AP7<>\"\",IFERROR(VLOOKUP(WEEKDAY(CONCATENATE(AP7,$Y$5,$AM$5)),Tabelas!$I:$J,2,0),\"\"),\"\")","v":"QUA"},{"$f":"IF(AQ7<>\"\",IFERROR(VLOOKUP(WEEKDAY(CONCATENATE(AQ7,$Y$5,$AM$5)),Tabelas!$I:$J,2,0),\"\"),\"\")","v":"QUI"},{"$f":"IF(AR7<>\"\",IFERROR(VLOOKUP(WEEKDAY(CONCATENATE(AR7,$Y$5,$AM$5)),Tabelas!$I:$J,2,0),\"\"),\"\")","v":"SEX"},1,2,3,4,5,6,7,8,9,10,11,12,13,14,15,16,17,18,19,20,21,22,23,24,25,26,27,28,29,30,31,"Total","Dias","Dias","Dias","Dias","Dias","Dias","Dias","Dias"]
["Fulano de Tal 1",1234567,123,"ENF","Ebserh",36,null,null,null,null,null,null,null,null,null,null,null,null,null,null,null,null,null,null,null,null,null,null,null,null,null,null,null,null,null,null,null,null,null,null,null,null,null,null,{"$f":"IF(A9<>\"\",IFERROR(VLOOKUP(N9,Tabelas!B:D,3,0),0),\"\")","v":0},{"$f":"IF(A9<>\"\",IFERROR(VLOOKUP(O9,Tabelas!B:D,3,0),0),\"\")","v":0},{"$f":"IF(A9<>\"\",IFERROR(VLOOKUP(P9,Tabelas!B:D,3,0),0),\"\")","v":0},{"$f":"IF(A9<>\"\",IFERROR(VLOOKUP(Q9,Tabelas!B:D,3,0),0),\"\")","v":0},{"$f":"IF(A9<>\"\",IFERROR(VLOOKUP(R9,Tabelas!B:D,3,0),0),\"\")","v":0},{"$f":"IF(A9<>\"\",IFERROR(VLOOKUP(S9,Tabelas!B:D,3,0),0),\"\")","v":0},{"$f":"IF(A9<>\"\",IFERROR(VLOOKUP(T9,Tabelas!B:D,3,0),0),\"\")","v":0},{"$f":"IF(A9<>\"\",IFERROR(VLOOKUP(U9,Tabelas!B:D,3,0),0),\"\")","v":0},{"$f":"IF(A9<>\"\",IFERROR(VLOOKUP(V9,Tabelas!B:D,3,0),0),\"\")","v":0},{"$f":"IF(A9<>\"\",IFERROR(VLOOKUP(W9,Tabelas!B:D,3,0),0),\"\")","v":0},{"$f":"IF(A9<>\"\",IFERROR(VLOOKUP(X9,Tabelas!B:D,3,0),0),\"\")","v":0},{"$f":"IF(A9<>\"\",IFERROR(VLOOKUP(Y9,Tabelas!B:D,3,0),0),\"\")","v":0},{"$f":"IF(A9<>\"\",IFERROR(VLOOKUP(Z9,Tabelas!B:D,3,0),0),\"\")","v":0},{"$f":"IF(A9<>\"\",IFERROR(VLOOKUP(AA9,Tabelas!B:D,3,0),0),\"\")","v":0},{"$f":"IF(A9<>\"\",IFERROR(VLOOKUP(AB9,Tabelas!B:D,3,0),0),\"\")","v":0},{"$f":"IF(A9<>\"\",IFERROR(VLOOKUP(AC9,Tabelas!B:D,3,0),0),\"\")","v":0},{"$f":"IF(A9<>\"\",IFERROR(VLOOKUP(AD9,Tabelas!B:D,3,0),0),\"\")","v":0},{"$f":"IF(A9<>\"\",IFERROR(VLOOKUP(AE9,Tabelas!B:D,3,0),0),\"\")","v":0},{"$f":"IF(A9<>\"\",IFERROR(VLOOKUP(AF9,Tabelas!B:D,3,0),0),\"\")","v":0},{"$f":"IF(A9<>\"\",IFERROR(VLOOKUP(AG9,Tabelas!B:D,3,0),0),\"\")","v":0},{"$f":"IF(A9<>\"\",IFERROR(VLOOKUP(AH9,Tabelas!B:D,3,0),0),\"\")","v":0},{"$f":"IF(A9<>\"\",IFERROR(VLOOKUP(AI9,Tabelas!B:D,3,0),0),\"\")","v":0},{"$f":"IF(A9<>\"\",IFERROR(VLOOKUP(AJ9,Tabelas!B:D,3,0),0),\"\")","v":0},{"$f":"IF(A9<>\"\",IFERROR(VLOOKUP(AK9,Tabelas!B:D,3,0),0),\"\")","v":0},{"$f":"IF(A9<>\"\",IFERROR(VLOOKUP(AL9,Tabelas!B:D,3,0),0),\"\")","v":0},{"$f":"IF(A9<>\"\",IFERROR(VLOOKUP(AM9,Tabelas!B:D,3,0),0),\"\")","v":0},{"$f":"IF(A9<>\"\",IFERROR(VLOOKUP(AN9,Tabelas!B:D,3,0),0),\"\")","v":0},{"$f":"IF(A9<>\"\",IFERROR(VLOOKUP(AO9,Tabelas!B:D,3,0),0),\"\")","v":0},{"$f":"IF(A9<>\"\",IFERROR(VLOOKUP(AP9,Tabelas!B:D,3,0),0),\"\")","v":0},{"$f":"IF(A9<>\"\",IFERROR(VLOOKUP(AQ9,Tabelas!B:D,3,0),0),\"\")","v":0},{"$f":"IF(A9<>\"\",IFERROR(VLOOKUP(AR9,Tabelas!B:D,3,0),0),\"\")","v":0},{"$f":"IF(A9<>\"\",SUM(AS9:BW9),\"\")","v":0},{"$f":"IF(A9<>\"\",COUNTIF(N9:AR9,\"LM\")+COUNTIF(N9:AR9,\"L\"),\"\")+COUNTIF(N9:AR9,\"LP\")","v":0},{"$f":"IF(A9<>\"\",COUNTIF(N9:AR9,\"AB\"),\"\")","v":0},{"$f":"IF(A9<>\"\",COUNTIF(N9:AR9,\"FE\"),\"\")","v":0},{"$f":"IF(A9<>\"\",COUNTIF(N9:AR9,\"LC\"),\"\")","v":0},{"$f":"IF(A9<>\"\",COUNTIF(N9:AR9,\"CE\"),\"\")","v":0},{"$f":"IF(A9<>\"\",COUNTIF(N9:AR9,\"AF1\")+COUNTIF(N9:AR9,\"AF2\")+COUNTIF(N9:AR9,\"AF3\")+COUNTIF(N9:AR9,\"AF4\")+COUNTIF(N9:AR9,\"AF5\")+COUNTIF(N9:AR9,\"AF6\")+COUNTIF(N9:AR9,\"AF7\")+COUNTIF(N9:AR9,\"AF8\")+COUNTIF(N9:AR9,\"AF9\")+COUNTIF(N9:AR9,\"AF10\")+COUNTIF(N9:AR9,\"AF11\")+COUNTIF(N9:AR9,\"AF12\")+COUNTIF(N9:AR9,\"AF13\")+COUNTIF(N9:AR9,\"AF14\"),\"\")","v":0},{"$f":"IF(A9<>\"\",COUNTIF(N9:AR9,\"CE\")+COUNTIF(N9:AR9,\"L\")+COUNTIF(N9:AR9,\"LM\")+COUNTIF(N9:AR9,\"LP\")+COUNTIF(N9:AR9,\"LC\")+COUNTIF(N9:AR9,\"AB\")+COUNTIF(N9:AR9,\"AF1\")+COUNTIF(N9:AR9,\"AF2\")+COUNTIF(N9:AR9,\"AF3\")+COUNTIF(N9:AR9,\"AF4\")+COUNTIF(N9:AR9,\"AF5\")+COUNTIF(N9:AR9,\"AF6\")+COUNTIF(N9:AR9,\"AF7\")+COUNTIF(N9:AR9,\"AF8\")+COUNTIF(N9:AR9,\"AF9\")+COUNTIF(N9:AR9,\"AF10\")+COUNTIF(N9:AR9,\"AF11\")+COUNTIF(N9:AR9,\"AF12\")+COUNTIF(N9:AR9,\"AF13\")+COUNTIF(N9:AR9,\"AF14\")+COUNTIF(N9:AR9,\"RC\")+COUNTIF(N9:AR9,\"FO\")+COUNTIF(N9:AR9,\"FE\"),\"\")","v":0},{"$f":"IF(A9<>\"\",COUNTIF(N9:AR9,\"APH\"),\"\")","v":0}]
["Fulano de Tal 2",1234567,123,"ENF","Ebserh",36,null,null,null,null,null,null,null,null,null,null,null,null,null,null,null,null,null,null,null,null,null,null,null,null,null,null,null,null,null,null,null,null,null,null,null,null,null,null,{"$f":"IF(A10<>\"\",IFERROR(VLOOKUP(N10,Tabelas!B:D,3,0),0),\"\")","v":0},{"$f":"IF(A10<>\"\",IFERROR(VLOOKUP(O10,Tabelas!B:D,3,0),0),\"\")","v":0},{"$f":"IF(A10<>\"\",IFERROR(VLOOKUP(P10,Tabelas!B:D,3,0),0),\"\")","v":0},{"$f":"IF(A10<>\"\",IFERROR(VLOOKUP(Q10,Tabelas!B:D,3,0),0),\"\")","v":0},{"$f":"IF(A10<>\"\",IFERROR(VLOOKUP(R10,Tabelas!B:D,3,0),0),\"\")","v":0},{"$f":"IF(A10<>\"\",IFERROR(VLOOKUP(S10,Tabelas!B:D,3,0),0),\"\")","v":0},{"$f":"IF(A10<>\"\",IFERROR(VLOOKUP(T10,Tabelas!B:D,3,0),0),\"\")","v":0},{"$f":"IF(A10<>\"\",IFERROR(VLOOKUP(U10,Tabelas!B:D,3,0),0),\"\")","v":0},{"$f":"IF(A10<>\"\",IFERROR(VLOOKUP(V10,Tabelas!B:D,3,0),0),\"\")","v":0},{"$f":"IF(A10<>\"\",IFERROR(VLOOKUP(W10,Tabelas!B:D,3,0),0),\"\")","v":0},{"$f":"IF(A10<>\"\",IFERROR(VLOOKUP(X10,Tabelas!B:D,3,0),0),\"\")","v":0},{"$f":"IF(A10<>\"\",IFERROR(VLOOKUP(Y10,Tabelas!B:D,3,0),0),\"\")","v":0},{"$f":"IF(A10<>\"\",IFERROR(VLOOKUP(Z10,Tabelas!B:D,3,0),0),\"\")","v":0},{"$f":"IF(A10<>\"\",IFERROR(VLOOKUP(AA10,Tabelas!B:D,3,0),0),\"\")","v":0},{"$f":"IF(A10<>\"\",IFERROR(VLOOKUP(AB10,Tabelas!B:D,3,0),0),\"\")","v":0},{"$f":"IF(A10<>\"\",IFERROR(VLOOKUP(AC10,Tabelas!B:D,3,0),0),\"\")","v":0},{"$f":"IF(A10<>\"\",IFERROR(VLOOKUP(AD10,Tabelas!B:D,3,0),0),\"\")","v":0},{"$f":"IF(A10<>\"\",IFERROR(VLOOKUP(AE10,Tabelas!B:D,3,0),0),\"\")","v":0},{"$f":"IF(A10<>\"\",IFERROR(VLOOKUP(AF10,Tabelas!B:D,3,0),0),\"\")","v":0},{"$f":"IF(A10<>\"\",IFERROR(VLOOKUP(AG10,Tabelas!B:D,3,0),0),\"\")","v":0},{"$f":"IF(A10<>\"\",IFERROR(VLOOKUP(AH10,Tabelas!B:D,3,0),0),\"\")","v":0},{"$f":"IF(A10<>\"\",IFERROR(VLOOKUP(AI10,Tabelas!B:D,3,0),0),\"\")","v":0},{"$f":"IF(A10<>\"\",IFERROR(VLOOKUP(AJ10,Tabelas!B:D,3,0),0),\"\")","v":0},{"$f":"IF(A10<>\"\",IFERROR(VLOOKUP(AK10,Tabelas!B:D,3,0),0),\"\")","v":0},{"$f":"IF(A10<>\"\",IFERROR(VLOOKUP(AL10,Tabelas!B:D,3,0),0),\"\")","v":0},{"$f":"IF(A10<>\"\",IFERROR(VLOOKUP(AM10,Tabelas!B:D,3,0),0),\"\")","v":0},{"$f":"IF(A10<>\"\",IFERROR(VLOOKUP(AN10,Tabelas!B:D,3,0),0),\"\")","v":0},{"$f":"IF(A10<>\"\",IFERROR(VLOOKUP(AO10,Tabelas!B:D,3,0),0),\"\")","v":0},{"$f":"IF(A10<>\"\",IFERROR(VLOOKUP(AP10,Tabelas!B:D,3,0),0),\"\")","v":0},{"$f":"IF(A10<>\"\",IFERROR(VLOOKUP(AQ10,Tabelas!B:D,3,0),0),\"\")","v":0},{"$f":"IF(A10<>\"\",IFERROR(VLOOKUP(AR10,Tabelas!B:D,3,0),0),\"\")","v":0},{"$f":"IF(A10<>\"\",SUM(AS10:BW10),\"\")","v":0},{"$f":"IF(A10<>\"\",COUNTIF(N10:AR10,\"LM\")+COUNTIF(N10:AR10,\"L\"),\"\")+COUNTIF(N10:AR10,\"LP\")","v":0},0,0,0,0,{"$f":"IF(A10<>\"\",COUNTIF(N10:AR10,\"AF1\")+COUNTIF(N10:AR10,\"AF2\")+COUNTIF(N10:AR10,\"AF3\")+COUNTIF(N10:AR10,\"AF4\")+COUNTIF(N10:AR10,\"AF5\")+COUNTIF(N10:AR10,\"AF6\")+COUNTIF(N10:AR10,\"AF7\")+COUNTIF(N10:AR10,\"AF8\")+COUNTIF(N10:AR10,\"AF9\")+COUNTIF(N10:AR10,\"AF10\")+COUNTIF(N10:AR10,\"AF11\")+COUNTIF(N10:AR10,\"AF12\")+COUNTIF(N10:AR10,\"AF13\")+COUNTIF(N10:AR10,\"AF14\"),\"\")","v":0},{"$f":"IF(A10<>\"\",COUNTIF(N10:AR10,\"CE\")+COUNTIF(N10:AR10,\"L\")+COUNTIF(N10:AR10,\"LM\")+COUNTIF(N10:AR10,\"LP\")+COUNTIF(N10:AR10,\"LC\")+COUNTIF(N10:AR10,\"AB\")+COUNTIF(N10:AR10,\"AF1\")+COUNTIF(N10:AR10,\"AF2\")+COUNTIF(N10:AR10,\"AF3\")+COUNTIF(N10:AR10,\"AF4\")+COUNTIF(N10:AR10,\"AF5\")+COUNTIF(N10:AR10,\"AF6\")+COUNTIF(N10:AR10,\"AF7\")+COUNTIF(N10:AR10,\"AF8\")+COUNTIF(N10:AR10,\"AF9\")+COUNTIF(N10:AR10,\"AF10\")+COUNTIF(N10:AR10,\"AF11\")+COUNTIF(N10:AR10,\"AF12\")+COUNTIF(N10:AR10,\"AF13\")+COUNTIF(N10:AR10,\"AF14\")+COUNTIF(N10:AR10,\"RC\")+COUNTIF(N10:AR10,\"FO\")+COUNTIF(N10:AR10,\"FE\"),\"\")","v":0},{"$f":"IF(A10<>\"\",COUNTIF(N10:AR10,\"APH\"),\"\")","v":0}]
["Fulano de Tal 3",1234567,123,"ENF","Ebserh",36,null,null,null,null,null,null,null,null,null,null,null,null,null,null,null,null,null,null,null,null,null,null,null,null,null,null,null,null,null,null,null,null,null,null,null,null,null,null,{"$f":"IF(A11<>\"\",IFERROR(VLOOKUP(N11,Tabelas!B:D,3,0),0),\"\")","v":0},{"$f":"IF(A11<>\"\",IFERROR(VLOOKUP(O11,Tabelas!B:D,3,0),0),\"\")","v":0},{"$f":"IF(A11<>\"\",IFERROR(VLOOKUP(P11,Tabelas!B:D,3,0),0),\"\")","v":0},{"$f":"IF(A11<>\"\",IFERROR(VLOOKUP(Q11,Tabelas!B:D,3,0),0),\"\")","v":0},{"$f":"IF(A11<>\"\",IFERROR(VLOOKUP(R11,Tabelas!B:D,3,0),0),\"\")","v":0},{"$f":"IF(A11<>\"\",IFERROR(VLOOKUP(S11,Tabelas!B:D,3,0),0),\"\")","v":0},{"$f":"IF(A11<>\"\",IFERROR(VLOOKUP(T11,Tabelas!B:D,3,0),0),\"\")","v":0},{"$f":"IF(A11<>\"\",IFERROR(VLOOKUP(U11,Tabelas!B:D,3,0),0),\"\")","v":0},{"$f":"IF(A11<>\"\",IFERROR(VLOOKUP(V11,Tabelas!B:D,3,0),0),\"\")","v":0},{"$f":"IF(A11<>\"\",IFERROR(VLOOKUP(W11,Tabelas!B:D,3,0),0),\"\")","v":0},{"$f":"IF(A11<>\"\",IFERROR(VLOOKUP(X11,Tabelas!B:D,3,0),0),\"\")","v":0},{"$f":"IF(A11<>\"\",IFERROR(VLOOKUP(Y11,Tabelas!B:D,3,0),0),\"\")","v":0},{"$f":"IF(A11<>\"\",IFERROR(VLOOKUP(Z11,Tabelas!B:D,3,0),0),\"\")","v":0},{"$f":"IF(A11<>\"\",IFERROR(VLOOKUP(AA11,Tabelas!B:D,3,0),0),\"\")","v":0},{"$f":"IF(A11<>\"\",IFERROR(VLOOKUP(AB11,Tabelas!B:D,3,0),0),\"\")","v":0},{"$f":"IF(A11<>\"\",IFERROR(VLOOKUP(AC11,Tabelas!B:D,3,0),0),\"\")","v":0},{"$f":"IF(A11<>\"\",IFERROR(VLOOKUP(AD11,Tabelas!B:D,3,0),0),\"\")","v":0},{"$f":"IF(A11<>\"\",IFERROR(VLOOKUP(AE11,Tabelas!B:D,3,0),0),\"\")","v":0},{"$f":"IF(A11<>\"\",IFERROR(VLOOKUP(AF11,Tabelas!B:D,3,0),0),\"\")","v":0},{"$f":"IF(A11<>\"\",IFERROR(VLOOKUP(AG11,Tabelas!B:D,3,0),0),\"\")","v":0},{"$f":"IF(A11<>\"\",IFERROR(VLOOKUP(AH11,Tabelas!B:D,3,0),0),\"\")","v":0},{"$f":"IF(A11<>\"\",IFERROR(VLOOKUP(AI11,Tabelas!B:D,3,0),0),\"\")","v":0},{"$f":"IF(A11<>\"\",IFERROR(VLOOKUP(AJ11,Tabelas!B:D,3,0),0),\"\")","v":0},{"$f":"IF(A11<>\"\",IFERROR(VLOOKUP(AK11,Tabelas!B:D,3,0),0),\"\")","v":0},{"$f":"IF(A11<>\"\",IFERROR(VLOOKUP(AL11,Tabelas!B:D,3,0),0),\"\")","v":0},{"$f":"IF(A11<>\"\",IFERROR(VLOOKUP(AM11,Tabelas!B:D,3,0),0),\"\")","v":0},{"$f":"IF(A11<>\"\",IFERROR(VLOOKUP(AN11,Tabelas!B:D,3,0),0),\"\")","v":0},{"$f":"IF(A11<>\"\",IFERROR(VLOOKUP(AO11,Tabelas!B:D,3,0),0),\"\")","v":0},{"$f":"IF(A11<>\"\",IFERROR(VLOOKUP(AP11,Tabelas!B:D,3,0),0),\"\")","v":0},{"$f":"IF(A11<>\"\",IFERROR(VLOOKUP(AQ11,Tabelas!B:D,3,0),0),\"\")","v":0},{"$f":"IF(A11<>\"\",IFERROR(VLOOKUP(AR11,Tabelas!B:D,3,0),0),\"\")","v":0},0,0,0,0,0,0,0,0,{"$f":"IF(A11<>\"\",COUNTIF(N11:AR11,\"APH\"),\"\")","v":0}]
["Fulano de Tal 4",1234567,123,"ENF","Ebserh",36,null,null,null,null,null,null,null,null,null,null,null,null,null,null,null,null,null,null,null,null,null,null,null,null,null,null,null,null,null,null,null,null,null,null,null,null,null,null,{"$f":"IF(A12<>\"\",IFERROR(VLOOKUP(N12,Tabelas!B:D,3,0),0),\"\")","v":0},{"$f":"IF(A12<>\"\",IFERROR(VLOOKUP(O12,Tabelas!B:D,3,0),0),\"\")","v":0},{"$f":"IF(A12<>\"\",IFERROR(VLOOKUP(P12,Tabelas!B:D,3,0),0),\"\")","v":0},{"$f":"IF(A12<>\"\",IFERROR(VLOOKUP(Q12,Tabelas!B:D,3,0),0),\"\")","v":0},{"$f":"IF(A12<>\"\",IFERROR(VLOOKUP(R12,Tabelas!B:D,3,0),0),\"\")","v":0},{"$f":"IF(A12<>\"\",IFERROR(VLOOKUP(S12,Tabelas!B:D,3,0),0),\"\")","v":0},{"$f":"IF(A12<>\"\",IFERROR(VLOOKUP(T12,Tabelas!B:D,3,0),0),\"\")","v":0},{"$f":"IF(A12<>\"\",IFERROR(VLOOKUP(U12,Tabelas!B:D,3,0),0),\"\")","v":0},{"$f":"IF(A12<>\"\",IFERROR(VLOOKUP(V12,Tabelas!B:D,3,0),0),\"\")","v":0},{"$f":"IF(A12<>\"\",IFERROR(VLOOKUP(W12,Tabelas!B:D,3,0),0),\"\")","v":0},{"$f":"IF(A12<>\"\",IFERROR(VLOOKUP(X12,Tabelas!B:D,3,0),0),\"\")","v":0},{"$f":"IF(A12<>\"\",IFERROR(VLOOKUP(Y12,Tabelas!B:D,3,0),0),\"\")","v":0},{"$f":"IF(A12<>\"\",IFERROR(VLOOKUP(Z12,Tabelas!B:D,3,0),0),\"\")","v":0},{"$f":"IF(A12<>\"\",IFERROR(VLOOKUP(AA12,Tabelas!B:D,3,0),0),\"\")","v":0},{"$f":"IF(A12<>\"\",IFERROR(VLOOKUP(AB12,Tabelas!B:D,3,0),0),\"\")","v":0},{"$f":"IF(A12<>\"\",IFERROR(VLOOKUP(AC12,Tabelas!B:D,3,0),0),\"\")","v":0},{"$f":"IF(A12<>\"\",IFERROR(VLOOKUP(AD12,Tabelas!B:D,3,0),0),\"\")","v":0},{"$f":"IF(A12<>\"\",IFERROR(VLOOKUP(AE12,Tabelas!B:D,3,0),0),\"\")","v":0},{"$f":"IF(A12<>\"\",IFERROR(VLOOKUP(AF12,Tabelas!B:D,3,0),0),\"\")","v":0},{"$f":"IF(A12<>\"\",IFERROR(VLOOKUP(AG12,Tabelas!B:D,3,0),0),\"\")","v":0},{"$f":"IF(A12<>\"\",IFERROR(VLOOKUP(AH12,Tabelas!B:D,3,0),0),\"\")","v":0},{"$f":"IF(A12<>\"\",IFERROR(VLOOKUP(AI12,Tabelas!B:D,3,0),0),\"\")","v":0},{"$f":"IF(A12<>\"\",IFERROR(VLOOKUP(AJ12,Tabelas!B:D,3,0),0),\"\")","v":0},{"$f":"IF(A12<>\"\",IFERROR(VLOOKUP(AK12,Tabelas!B:D,3,0),0),\"\")","v":0},{"$f":"IF(A12<>\"\",IFERROR(VLOOKUP(AL12,Tabelas!B:D,3,0),0),\"\")","v":0},{"$f":"IF(A12<>\"\",IFERROR(VLOOKUP(AM12,Tabelas!B:D,3,0),0),\"\")","v":0},{"$f":"IF(A12<>\"\",IFERROR(VLOOKUP(AN12,Tabelas!B:D,3,0),0),\"\")","v":0},{"$f":"IF(A12<>\"\",IFERROR(VLOOKUP(AO12,Tabelas!B:D,3,0),0),\"\")","v":0},{"$f":"IF(A12<>\"\",IFERROR(VLOOKUP(AP12,Tabelas!B:D,3,0),0),\"\")","v":0},{"$f":"IF(A12<>\"\",IFERROR(VLOOKUP(AQ12,Tabelas!B:D,3,0),0),\"\")","v":0},{"$f":"IF(A12<>\"\",IFERROR(VLOOKUP(AR12,Tabelas!B:D,3,0),0),\"\")","v":0},0,0,0,0,0,0,0,0,{"$f":"IF(A12<>\"\",COUNTIF(N12:AR12,\"APH\"),\"\")","v":0}]
["Fulano de Tal 5",1234567,123,"ENF","Ebserh",36,null,null,null,null,null,null,null,null,null,null,null,null,null,null,null,null,null,null,null,null,null,null,null,null,null,null,null,null,null,null,null,null,null,null,null,null,null,null,{"$f":"IF(A13<>\"\",IFERROR(VLOOKUP(N13,Tabelas!B:D,3,0),0),\"\")","v":0},{"$f":"IF(A13<>\"\",IFERROR(VLOOKUP(O13,Tabelas!B:D,3,0),0),\"\")","v":0},{"$f":"IF(A13<>\"\",IFERROR(VLOOKUP(P13,Tabelas!B:D,3,0),0),\"\")","v":0},{"$f":"IF(A13<>\"\",IFERROR(VLOOKUP(Q13,Tabelas!B:D,3,0),0),\"\")","v":0},{"$f":"IF(A13<>\"\",IFERROR(VLOOKUP(R13,Tabelas!B:D,3,0),0),\"\")","v":0},{"$f":"IF(A13<>\"\",IFERROR(VLOOKUP(S13,Tabelas!B:D,3,0),0),\"\")","v":0},{"$f":"IF(A13<>\"\",IFERROR(VLOOKUP(T13,Tabelas!B:D,3,0),0),\"\")","v":0},{"$f":"IF(A13<>\"\",IFERROR(VLOOKUP(U13,Tabelas!B:D,3,0),0),\"\")","v":0},{"$f":"IF(A13<>\"\",IFERROR(VLOOKUP(V13,Tabelas!B:D,3,0),0),\"\")","v":0},{"$f":"IF(A13<>\"\",IFERROR(VLOOKUP(W13,Tabelas!B:D,3,0),0),\"\")","v":0},{"$f":"IF(A13<>\"\",IFERROR(VLOOKUP(X13,Tabelas!B:D,3,0),0),\"\")","v":0},{"$f":"IF(A13<>\"\",IFERROR(VLOOKUP(Y13,Tabelas!B:D,3,0),0),\"\")","v":0},{"$f":"IF(A13<>\"\",IFERROR(VLOOKUP(Z13,Tabelas!B:D,3,0),0),\"\")","v":0},{"$f":"IF(A13<>\"\",IFERROR(VLOOKUP(AA13,Tabelas!B:D,3,0),0),\"\")","v":0},{"$f":"IF(A13<>\"\",IFERROR(VLOOKUP(AB13,Tabelas!B:D,3,0),0),\"\")","v":0},{"$f":"IF(A13<>\"\",IFERROR(VLOOKUP(AC13,Tabelas!B:D,3,0),0),\"\")","v":0},{"$f":"IF(A13<>\"\",IFERROR(VLOOKUP(AD13,Tabelas!B:D,3,0),0),\"\")","v":0},{"$f":"IF(A13<>\"\",IFERROR(VLOOKUP(AE13,Tabelas!B:D,3,0),0),\"\")","v":0},{"$f":"IF(A13<>\"\",IFERROR(VLOOKUP(AF13,Tabelas!B:D,3,0),0),\"\")","v":0},{"$f":"IF(A13<>\"\",IFERROR(VLOOKUP(AG13,Tabelas!B:D,3,0),0),\"\")","v":0},{"$f":"IF(A13<>\"\",IFERROR(VLOOKUP(AH13,Tabelas!B:D,3,0),0),\"\")","v":0},{"$f":"IF(A13<>\"\",IFERROR(VLOOKUP(AI13,Tabelas!B:D,3,0),0),\"\")","v":0},{"$f":"IF(A13<>\"\",IFERROR(VLOOKUP(AJ13,Tabelas!B:D,3,0),0),\"\")","v":0},{"$f":"IF(A13<>\"\",IFERROR(VLOOKUP(AK13,Tabelas!B:D,3,0),0),\"\")","v":0},{"$f":"IF(A13<>\"\",IFERROR(VLOOKUP(AL13,Tabelas!B:D,3,0),0),\"\")","v":0},{"$f":"IF(A13<>\"\",IFERROR(VLOOKUP(AM13,Tabelas!B:D,3,0),0),\"\")","v":0},{"$f":"IF(A13<>\"\",IFERROR(VLOOKUP(AN13,Tabelas!B:D,3,0),0),\"\")","v":0},{"$f":"IF(A13<>\"\",IFERROR(VLOOKUP(AO13,Tabelas!B:D,3,0),0),\"\")","v":0},{"$f":"IF(A13<>\"\",IFERROR(VLOOKUP(AP13,Tabelas!B:D,3,0),0),\"\")","v":0},{"$f":"IF(A13<>\"\",IFERROR(VLOOKUP(AQ13,Tabelas!B:D,3,0),0),\"\")","v":0},{"$f":"IF(A13<>\"\",IFERROR(VLOOKUP(AR13,Tabelas!B:D,3,0),0),\"\")","v":0},0,0,0,0,0,0,0,0,{"$f":"IF(A13<>\"\",COUNTIF(N13:AR13,\"APH\"),\"\")","v":0}]
["Fulano de Tal 6",1234567,123,"ENF","Ebserh",36,null,null,null,null,null,null,null,null,null,null,null,null,null,null,null,null,null,null,null,null,null,null,null,null,null,null,null,null,null,null,null,null,null,null,null,null,null,null,{"$f":"IF(A14<>\"\",IFERROR(VLOOKUP(N14,Tabelas!B:D,3,0),0),\"\")","v":0},{"$f":"IF(A14<>\"\",IFERROR(VLOOKUP(O14,Tabelas!B:D,3,0),0),\"\")","v":0},{"$f":"IF(A14<>\"\",IFERROR(VLOOKUP(P14,Tabelas!B:D,3,0),0),\"\")","v":0},{"$f":"IF(A14<>\"\",IFERROR(VLOOKUP(Q14,Tabelas!B:D,3,0),0),\"\")","v":0},{"$f":"IF(A14<>\"\",IFERROR(VLOOKUP(R14,Tabelas!B:D,3,0),0),\"\")","v":0},{"$f":"IF(A14<>\"\",IFERROR(VLOOKUP(S14,Tabelas!B:D,3,0),0),\"\")","v":0},{"$f":"IF(A14<>\"\",IFERROR(VLOOKUP(T14,Tabelas!B:D,3,0),0),\"\")","v":0},{"$f":"IF(A14<>\"\",IFERROR(VLOOKUP(U14,Tabelas!B:D,3,0),0),\"\")","v":0},{"$f":"IF(A14<>\"\",IFERROR(VLOOKUP(V14,Tabelas!B:D,3,0),0),\"\")","v":0},{"$f":"IF(A14<>\"\",IFERROR(VLOOKUP(W14,Tabelas!B:D,3,0),0),\"\")","v":0},{"$f":"IF(A14<>\"\",IFERROR(VLOOKUP(X14,Tabelas!B:D,3,0),0),\"\")","v":0},{"$f":"IF(A14<>\"\",IFERROR(VLOOKUP(Y14,Tabelas!B:D,3,0),0),\"\")","v":0},{"$f":"IF(A14<>\"\",IFERROR(VLOOKUP(Z14,Tabelas!B:D,3,0),0),\"\")","v":0},{"$f":"IF(A14<>\"\",IFERROR(VLOOKUP(AA14,Tabelas!B:D,3,0),0),\"\")","v":0},{"$f":"IF(A14<>\"\",IFERROR(VLOOKUP(AB14,Tabelas!B:D,3,0),0),\"\")","v":0},{"$f":"IF(A14<>\"\",IFERROR(VLOOKUP(AC14,Tabelas!B:D,3,0),0),\"\")","v":0},{"$f":"IF(A14<>\"\",IFERROR(VLOOKUP(AD14,Tabelas!B:D,3,0),0),\"\")","v":0},{"$f":"IF(A14<>\"\",IFERROR(VLOOKUP(AE14,Tabelas!B:D,3,0),0),\"\")","v":0},{"$f":"IF(A14<>\"\",IFERROR(VLOOKUP(AF14,Tabelas!B:D,3,0),0),\"\")","v":0},{"$f":"IF(A14<>\"\",IFERROR(VLOOKUP(AG14,Tabelas!B:D,3,0),0),\"\")","v":0},{"$f":"IF(A14<>\"\",IFERROR(VLOOKUP(AH14,Tabelas!B:D,3,0),0),\"\")","v":0},{"$f":"IF(A14<>\"\",IFERROR(VLOOKUP(AI14,Tabelas!B:D,3,0),0),\"\")","v":0},{"$f":"IF(A14<>\"\",IFERROR(VLOOKUP(AJ14,Tabelas!B:D,3,0),0),\"\")","v":0},{"$f":"IF(A14<>\"\",IFERROR(VLOOKUP(AK14,Tabelas!B:D,3,0),0),\"\")","v":0},{"$f":"IF(A14<>\"\",IFERROR(VLOOKUP(AL14,Tabelas!B:D,3,0),0),\"\")","v":0},{"$f":"IF(A14<>\"\",IFERROR(VLOOKUP(AM14,Tabelas!B:D,3,0),0),\"\")","v":0},{"$f":"IF(A14<>\"\",IFERROR(VLOOKUP(AN14,Tabelas!B:D,3,0),0),\"\")","v":0},{"$f":"IF(A14<>\"\",IFERROR(VLOOKUP(AO14,Tabelas!B:D,3,0),0),\"\")","v":0},{"$f":"IF(A14<>\"\",IFERROR(VLOOKUP(AP14,Tabelas!B:D,3,0),0),\"\")","v":0},{"$f":"IF(A14<>\"\",IFERROR(VLOOKUP(AQ14,Tabelas!B:D,3,0),0),\"\")","v":0},{"$f":"IF(A14<>\"\",IFERROR(VLOOKUP(AR14,Tabelas!B:D,3,0),0),\"\")","v":0},0,0,0,0,0,0,0,0,{"$f":"IF(A14<>\"\",COUNTIF(N14:AR14,\"APH\"),\"\")","v":0}]
["Fulano de Tal 7",1234567,123,"ENF","Ebserh",36,null,null,null,null,null,null,null,null,null,null,null,null,null,null,null,null,null,null,null,null,null,null,null,null,null,null,null,null,null,null,null,null,null,null,null,null,null,null,{"$f":"IF(A15<>\"\",IFERROR(VLOOKUP(N15,Tabelas!B:D,3,0),0),\"\")","v":0},{"$f":"IF(A15<>\"\",IFERROR(VLOOKUP(O15,Tabelas!B:D,3,0),0),\"\")","v":0},{"$f":"IF(A15<>\"\",IFERROR(VLOOKUP(P15,Tabelas!B:D,3,0),0),\"\")","v":0},{"$f":"IF(A15<>\"\",IFERROR(VLOOKUP(Q15,Tabelas!B:D,3,0),0),\"\")","v":0},{"$f":"IF(A15<>\"\",IFERROR(VLOOKUP(R15,Tabelas!B:D,3,0),0),\"\")","v":0},{"$f":"IF(A15<>\"\",IFERROR(VLOOKUP(S15,Tabelas!B:D,3,0),0),\"\")","v":0},{"$f":"IF(A15<>\"\",IFERROR(VLOOKUP(T15,Tabelas!B:D,3,0),0),\"\")","v":0},{"$f":"IF(A15<>\"\",IFERROR(VLOOKUP(U15,Tabelas!B:D,3,0),0),\"\")","v":0},{"$f":"IF(A15<>\"\",IFERROR(VLOOKUP(V15,Tabelas!B:D,3,0),0),\"\")","v":0},{"$f":"IF(A15<>\"\",IFERROR(VLOOKUP(W15,Tabelas!B:D,3,0),0),\"\")","v":0},{"$f":"IF(A15<>\"\",IFERROR(VLOOKUP(X15,Tabelas!B:D,3,0),0),\"\")","v":0},{"$f":"IF(A15<>\"\",IFERROR(VLOOKUP(Y15,Tabelas!B:D,3,0),0),\"\")","v":0},{"$f":"IF(A15<>\"\",IFERROR(VLOOKUP(Z15,Tabelas!B:D,3,0),0),\"\")","v":0},{"$f":"IF(A15<>\"\",IFERROR(VLOOKUP(AA15,Tabelas!B:D,3,0),0),\"\")","v":0},{"$f":"IF(A15<>\"\",IFERROR(VLOOKUP(AB15,Tabelas!B:D,3,0),0),\"\")","v":0},{"$f":"IF(A15<>\"\",IFERROR(VLOOKUP(AC15,Tabelas!B:D,3,0),0),\"\")","v":0},{"$f":"IF(A15<>\"\",IFERROR(VLOOKUP(AD15,Tabelas!B:D,3,0),0),\"\")","v":0},{"$f":"IF(A15<>\"\",IFERROR(VLOOKUP(AE15,Tabelas!B:D,3,0),0),\"\")","v":0},{"$f":"IF(A15<>\"\",IFERROR(VLOOKUP(AF15,Tabelas!B:D,3,0),0),\"\")","v":0},{"$f":"IF(A15<>\"\",IFERROR(VLOOKUP(AG15,Tabelas!B:D,3,0),0),\"\")","v":0},{"$f":"IF(A15<>\"\",IFERROR(VLOOKUP(AH15,Tabelas!B:D,3,0),0),\"\")","v":0},{"$f":"IF(A15<>\"\",IFERROR(VLOOKUP(AI15,Tabelas!B:D,3,0),0),\"\")","v":0},{"$f":"IF(A15<>\"\",IFERROR(VLOOKUP(AJ15,Tabelas!B:D,3,0),0),\"\")","v":0},{"$f":"IF(A15<>\"\",IFERROR(VLOOKUP(AK15,Tabelas!B:D,3,0),0),\"\")","v":0},{"$f":"IF(A15<>\"\",IFERROR(VLOOKUP(AL15,Tabelas!B:D,3,0),0),\"\")","v":0},{"$f":"IF(A15<>\"\",IFERROR(VLOOKUP(AM15,Tabelas!B:D,3,0),0),\"\")","v":0},{"$f":"IF(A15<>\"\",IFERROR(VLOOKUP(AN15,Tabelas!B:D,3,0),0),\"\")","v":0},{"$f":"IF(A15<>\"\",IFERROR(VLOOKUP(AO15,Tabelas!B:D,3,0),0),\"\")","v":0},{"$f":"IF(A15<>\"\",IFERROR(VLOOKUP(AP15,Tabelas!B:D,3,0),0),\"\")","v":0},{"$f":"IF(A15<>\"\",IFERROR(VLOOKUP(AQ15,Tabelas!B:D,3,0),0),\"\")","v":0},{"$f":"IF(A15<>\"\",IFERROR(VLOOKUP(AR15,Tabelas!B:D,3,0),0),\"\")","v":0},0,0,0,0,0,0,0,0,{"$f":"IF(A15<>\"\",COUNTIF(N15:AR15,\"APH\"),\"\")","v":0}]
["Fulano de Tal 8",1234567,123,"ENF","Ebserh",36,null,null,null,null,null,null,null,null,null,null,null,null,null,null,null,null,null,null,null,null,null,null,null,null,null,null,null,null,null,null,null,null,null,null,null,null,null,null,{"$f":"IF(A16<>\"\",IFERROR(VLOOKUP(N16,Tabelas!B:D,3,0),0),\"\")","v":0},{"$f":"IF(A16<>\"\",IFERROR(VLOOKUP(O16,Tabelas!B:D,3,0),0),\"\")","v":0},{"$f":"IF(A16<>\"\",IFERROR(VLOOKUP(P16,Tabelas!B:D,3,0),0),\"\")","v":0},{"$f":"IF(A16<>\"\",IFERROR(VLOOKUP(Q16,Tabelas!B:D,3,0),0),\"\")","v":0},{"$f":"IF(A16<>\"\",IFERROR(VLOOKUP(R16,Tabelas!B:D,3,0),0),\"\")","v":0},{"$f":"IF(A16<>\"\",IFERROR(VLOOKUP(S16,Tabelas!B:D,3,0),0),\"\")","v":0},{"$f":"IF(A16<>\"\",IFERROR(VLOOKUP(T16,Tabelas!B:D,3,0),0),\"\")","v":0},{"$f":"IF(A16<>\"\",IFERROR(VLOOKUP(U16,Tabelas!B:D,3,0),0),\"\")","v":0},{"$f":"IF(A16<>\"\",IFERROR(VLOOKUP(V16,Tabelas!B:D,3,0),0),\"\")","v":0},{"$f":"IF(A16<>\"\",IFERROR(VLOOKUP(W16,Tabelas!B:D,3,0),0),\"\")","v":0},{"$f":"IF(A16<>\"\",IFERROR(VLOOKUP(X16,Tabelas!B:D,3,0),0),\"\")","v":0},{"$f":"IF(A16<>\"\",IFERROR(VLOOKUP(Y16,Tabelas!B:D,3,0),0),\"\")","v":0},{"$f":"IF(A16<>\"\",IFERROR(VLOOKUP(Z16,Tabelas!B:D,3,0),0),\"\")","v":0},{"$f":"IF(A16<>\"\",IFERROR(VLOOKUP(AA16,Tabelas!B:D,3,0),0),\"\")","v":0},{"$f":"IF(A16<>\"\",IFERROR(VLOOKUP(AB16,Tabelas!B:D,3,0),0),\"\")","v":0},{"$f":"IF(A16<>\"\",IFERROR(VLOOKUP(AC16,Tabelas!B:D,3,0),0),\"\")","v":0},{"$f":"IF(A16<>\"\",IFERROR(VLOOKUP(AD16,Tabelas!B:D,3,0),0),\"\")","v":0},{"$f":"IF(A16<>\"\",IFERROR(VLOOKUP(AE16,Tabelas!B:D,3,0),0),\"\")","v":0},{"$f":"IF(A16<>\"\",IFERROR(VLOOKUP(AF16,Tabelas!B:D,3,0),0),\"\")","v":0},{"$f":"IF(A16<>\"\",IFERROR(VLOOKUP(AG16,Tabelas!B:D,3,0),0),\"\")","v":0},{"$f":"IF(A16<>\"\",IFERROR(VLOOKUP(AH16,Tabelas!B:D,3,0),0),\"\")","v":0},{"$f":"IF(A16<>\"\",IFERROR(VLOOKUP(AI16,Tabelas!B:D,3,0),0),\"\")","v":0},{"$f":"IF(A16<>\"\",IFERROR(VLOOKUP(AJ16,Tabelas!B:D,3,0),0),\"\")","v":0},{"$f":"IF(A16<>\"\",IFERROR(VLOOKUP(AK16,Tabelas!B:D,3,0),0),\"\")","v":0},{"$f":"IF(A16<>\"\",IFERROR(VLOOKUP(AL16,Tabelas!B:D,3,0),0),\"\")","v":0},{"$f":"IF(A16<>\"\",IFERROR(VLOOKUP(AM16,Tabelas!B:D,3,0),0),\"\")","v":0},{"$f":"IF(A16<>\"\",IFERROR(VLOOKUP(AN16,Tabelas!B:D,3,0),0),\"\")","v":0},{"$f":"IF(A16<>\"\",IFERROR(VLOOKUP(AO16,Tabelas!B:D,3,0),0),\"\")","v":0},{"$f":"IF(A16<>\"\",IFERROR(VLOOKUP(AP16,Tabelas!B:D,3,0),0),\"\")","v":0},{"$f":"IF(A16<>\"\",IFERROR(VLOOKUP(AQ16,Tabelas!B:D,3,0),0),\"\")","v":0},{"$f":"IF(A16<>\"\",IFERROR(VLOOKUP(AR16,Tabelas!B:D,3,0),0),\"\")","v":0},0,0,0,0,0,0,0,0,{"$f":"IF(A16<>\"\",COUNTIF(N16:AR16,\"APH\"),\"\")","v":0}]
["Fulano de Tal 9",1234567,123,"ENF","Ebserh",36,null,null,null,null,null,null,null,null,null,null,null,null,null,null,null,null,null,null,null,null,null,null,null,null,null,null,null,null,null,null,null,null,null,null,null,null,null,null,{"$f":"IF(A17<>\"\",IFERROR(VLOOKUP(N17,Tabelas!B:D,3,0),0),\"\")","v":0},{"$f":"IF(A17<>\"\",IFERROR(VLOOKUP(O17,Tabelas!B:D,3,0),0),\"\")","v":0},{"$f":"IF(A17<>\"\",IFERROR(VLOOKUP(P17,Tabelas!B:D,3,0),0),\"\")","v":0},{"$f":"IF(A17<>\"\",IFERROR(VLOOKUP(Q17,Tabelas!B:D,3,0),0),\"\")","v":0},{"$f":"IF(A17<>\"\",IFERROR(VLOOKUP(R17,Tabelas!B:D,3,0),0),\"\")","v":0},{"$f":"IF(A17<>\"\",IFERROR(VLOOKUP(S17,Tabelas!B:D,3,0),0),\"\")","v":0},{"$f":"IF(A17<>\"\",IFERROR(VLOOKUP(T17,Tabelas!B:D,3,0),0),\"\")","v":0},{"$f":"IF(A17<>\"\",IFERROR(VLOOKUP(U17,Tabelas!B:D,3,0),0),\"\")","v":0},{"$f":"IF(A17<>\"\",IFERROR(VLOOKUP(V17,Tabelas!B:D,3,0),0),\"\")","v":0},{"$f":"IF(A17<>\"\",IFERROR(VLOOKUP(W17,Tabelas!B:D,3,0),0),\"\")","v":0},{"$f":"IF(A17<>\"\",IFERROR(VLOOKUP(X17,Tabelas!B:D,3,0),0),\"\")","v":0},{"$f":"IF(A17<>\"\",IFERROR(VLOOKUP(Y17,Tabelas!B:D,3,0),0),\"\")","v":0},{"$f":"IF(A17<>\"\",IFERROR(VLOOKUP(Z17,Tabelas!B:D,3,0),0),\"\")","v":0},{"$f":"IF(A17<>\"\",IFERROR(VLOOKUP(AA17,Tabelas!B:D,3,0),0),\"\")","v":0},{"$f":"IF(A17<>\"\",IFERROR(VLOOKUP(AB17,Tabelas!B:D,3,0),0),\"\")","v":0},{"$f":"IF(A17<>\"\",IFERROR(VLOOKUP(AC17,Tabelas!B:D,3,0),0),\"\")","v":0},{"$f":"IF(A17<>\"\",IFERROR(VLOOKUP(AD17,Tabelas!B:D,3,0),0),\"\")","v":0},{"$f":"IF(A17<>\"\",IFERROR(VLOOKUP(AE17,Tabelas!B:D,3,0),0),\"\")","v":0},{"$f":"IF(A17<>\"\",IFERROR(VLOOKUP(AF17,Tabelas!B:D,3,0),0),\"\")","v":0},{"$f":"IF(A17<>\"\",IFERROR(VLOOKUP(AG17,Tabelas!B:D,3,0),0),\"\")","v":0},{"$f":"IF(A17<>\"\",IFERROR(VLOOKUP(AH17,Tabelas!B:D,3,0),0),\"\")","v":0},{"$f":"IF(A17<>\"\",IFERROR(VLOOKUP(AI17,Tabelas!B:D,3,0),0),\"\")","v":0},{"$f":"IF(A17<>\"\",IFERROR(VLOOKUP(AJ17,Tabelas!B:D,3,0),0),\"\")","v":0},{"$f":"IF(A17<>\"\",IFERROR(VLOOKUP(AK17,Tabelas!B:D,3,0),0),\"\")","v":0},{"$f":"IF(A17<>\"\",IFERROR(VLOOKUP(AL17,Tabelas!B:D,3,0),0),\"\")","v":0},{"$f":"IF(A17<>\"\",IFERROR(VLOOKUP(AM17,Tabelas!B:D,3,0),0),\"\")","v":0},{"$f":"IF(A17<>\"\",IFERROR(VLOOKUP(AN17,Tabelas!B:D,3,0),0),\"\")","v":0},{"$f":"IF(A17<>\"\",IFERROR(VLOOKUP(AO17,Tabelas!B:D,3,0),0),\"\")","v":0},{"$f":"IF(A17<>\"\",IFERROR(VLOOKUP(AP17,Tabelas!B:D,3,0),0),\"\")","v":0},{"$f":"IF(A17<>\"\",IFERROR(VLOOKUP(AQ17,Tabelas!B:D,3,0),0),\"\")","v":0},{"$f":"IF(A17<>\"\",IFERROR(VLOOKUP(AR17,Tabelas!B:D,3,0),0),\"\")","v":0},0,0,0,0,0,0,0,0,{"$f":"IF(A17<>\"\",COUNTIF(N17:AR17,\"APH\"),\"\")","v":0}]
["Fulano de Tal 10",1234567,123,"ENF","Ebserh",36,null,null,null,null,null,null,null,null,null,null,null,null,null,null,null,null,null,null,null,null,null,null,null,null,null,null,null,null,null,null,null,null,null,null,null,null,null,null,{"$f":"IF(A18<>\"\",IFERROR(VLOOKUP(N18,Tabelas!B:D,3,0),0),\"\")","v":0},{"$f":"IF(A18<>\"\",IFERROR(VLOOKUP(O18,Tabelas!B:D,3,0),0),\"\")","v":0},{"$f":"IF(A18<>\"\",IFERROR(VLOOKUP(P18,Tabelas!B:D,3,0),0),\"\")","v":0},{"$f":"IF(A18<>\"\",IFERROR(VLOOKUP(Q18,Tabelas!B:D,3,0),0),\"\")","v":0},{"$f":"IF(A18<>\"\",IFERROR(VLOOKUP(R18,Tabelas!B:D,3,0),0),\"\")","v":0},{"$f":"IF(A18<>\"\",IFERROR(VLOOKUP(S18,Tabelas!B:D,3,0),0),\"\")","v":0},{"$f":"IF(A18<>\"\",IFERROR(VLOOKUP(T18,Tabelas!B:D,3,0),0),\"\")","v":0},{"$f":"IF(A18<>\"\",IFERROR(VLOOKUP(U18,Tabelas!B:D,3,0),0),\"\")","v":0},{"$f":"IF(A18<>\"\",IFERROR(VLOOKUP(V18,Tabelas!B:D,3,0),0),\"\")","v":0},{"$f":"IF(A18<>\"\",IFERROR(VLOOKUP(W18,Tabelas!B:D,3,0),0),\"\")","v":0},{"$f":"IF(A18<>\"\",IFERROR(VLOOKUP(X18,Tabelas!B:D,3,0),0),\"\")","v":0},{"$f":"IF(A18<>\"\",IFERROR(VLOOKUP(Y18,Tabelas!B:D,3,0),0),\"\")","v":0},{"$f":"IF(A18<>\"\",IFERROR(VLOOKUP(Z18,Tabelas!B:D,3,0),0),\"\")","v":0},{"$f":"IF(A18<>\"\",IFERROR(VLOOKUP(AA18,Tabelas!B:D,3,0),0),\"\")","v":0},{"$f":"IF(A18<>\"\",IFERROR(VLOOKUP(AB18,Tabelas!B:D,3,0),0),\"\")","v":0},{"$f":"IF(A18<>\"\",IFERROR(VLOOKUP(AC18,Tabelas!B:D,3,0),0),\"\")","v":0},{"$f":"IF(A18<>\"\",IFERROR(VLOOKUP(AD18,Tabelas!B:D,3,0),0),\"\")","v":0},{"$f":"IF(A18<>\"\",IFERROR(VLOOKUP(AE18,Tabelas!B:D,3,0),0),\"\")","v":0},{"$f":"IF(A18<>\"\",IFERROR(VLOOKUP(AF18,Tabelas!B:D,3,0),0),\"\")","v":0},{"$f":"IF(A18<>\"\",IFERROR(VLOOKUP(AG18,Tabelas!B:D,3,0),0),\"\")","v":0},{"$f":"IF(A18<>\"\",IFERROR(VLOOKUP(AH18,Tabelas!B:D,3,0),0),\"\")","v":0},{"$f":"IF(A18<>\"\",IFERROR(VLOOKUP(AI18,Tabelas!B:D,3,0),0),\"\")","v":0},{"$f":"IF(A18<>\"\",IFERROR(VLOOKUP(AJ18,Tabelas!B:D,3,0),0),\"\")","v":0},{"$f":"IF(A18<>\"\",IFERROR(VLOOKUP(AK18,Tabelas!B:D,3,0),0),\"\")","v":0},{"$f":"IF(A18<>\"\",IFERROR(VLOOKUP(AL18,Tabelas!B:D,3,0),0),\"\")","v":0},{"$f":"IF(A18<>\"\",IFERROR(VLOOKUP(AM18,Tabelas!B:D,3,0),0),\"\")","v":0},{"$f":"IF(A18<>\"\",IFERROR(VLOOKUP(AN18,Tabelas!B:D,3,0),0),\"\")","v":0},{"$f":"IF(A18<>\"\",IFERROR(VLOOKUP(AO18,Tabelas!B:D,3,0),0),\"\")","v":0},{"$f":"IF(A18<>\"\",IFERROR(VLOOKUP(AP18,Tabelas!B:D,3,0),0),\"\")","v":0},{"$f":"IF(A18<>\"\",IFERROR(VLOOKUP(AQ18,Tabelas!B:D,3,0),0),\"\")","v":0},{"$f":"IF(A18<>\"\",IFERROR(VLOOKUP(AR18,Tabelas!B:D,3,0),0),\"\")","v":0},0,0,0,0,0,0,0,0,{"$f":"IF(A18<>\"\",COUNTIF(N18:AR18,\"APH\"),\"\")","v":0}]
["Fulano de Tal 11",1234567,123,"ENF","Ebserh",36,null,null,null,null,null,null,null,null,null,null,null,null,null,null,null,null,null,null,null,null,null,null,null,null,null,null,null,null,null,null,null,null,null,null,null,null,null,null,{"$f":"IF(A19<>\"\",IFERROR(VLOOKUP(N19,Tabelas!B:D,3,0),0),\"\")","v":0},{"$f":"IF(A19<>\"\",IFERROR(VLOOKUP(O19,Tabelas!B:D,3,0),0),\"\")","v":0},{"$f":"IF(A19<>\"\",IFERROR(VLOOKUP(P19,Tabelas!B:D,3,0),0),\"\")","v":0},{"$f":"IF(A19<>\"\",IFERROR(VLOOKUP(Q19,Tabelas!B:D,3,0),0),\"\")","v":0},{"$f":"IF(A19<>\"\",IFERROR(VLOOKUP(R19,Tabelas!B:D,3,0),0),\"\")","v":0},{"$f":"IF(A19<>\"\",IFERROR(VLOOKUP(S19,Tabelas!B:D,3,0),0),\"\")","v":0},{"$f":"IF(A19<>\"\",IFERROR(VLOOKUP(T19,Tabelas!B:D,3,0),0),\"\")","v":0},{"$f":"IF(A19<>\"\",IFERROR(VLOOKUP(U19,Tabelas!B:D,3,0),0),\"\")","v":0},{"$f":"IF(A19<>\"\",IFERROR(VLOOKUP(V19,Tabelas!B:D,3,0),0),\"\")","v":0},{"$f":"IF(A19<>\"\",IFERROR(VLOOKUP(W19,Tabelas!B:D,3,0),0),\"\")","v":0},{"$f":"IF(A19<>\"\",IFERROR(VLOOKUP(X19,Tabelas!B:D,3,0),0),\"\")","v":0},{"$f":"IF(A19<>\"\",IFERROR(VLOOKUP(Y19,Tabelas!B:D,3,0),0),\"\")","v":0},{"$f":"IF(A19<>\"\",IFERROR(VLOOKUP(Z19,Tabelas!B:D,3,0),0),\"\")","v":0},{"$f":"IF(A19<>\"\",IFERROR(VLOOKUP(AA19,Tabelas!B:D,3,0),0),\"\")","v":0},{"$f":"IF(A19<>\"\",IFERROR(VLOOKUP(AB19,Tabelas!B:D,3,0),0),\"\")","v":0},{"$f":"IF(A19<>\"\",IFERROR(VLOOKUP(AC19,Tabelas!B:D,3,0),0),\"\")","v":0},{"$f":"IF(A19<>\"\",IFERROR(VLOOKUP(AD19,Tabelas!B:D,3,0),0),\"\")","v":0},{"$f":"IF(A19<>\"\",IFERROR(VLOOKUP(AE19,Tabelas!B:D,3,0),0),\"\")","v":0},{"$f":"IF(A19<>\"\",IFERROR(VLOOKUP(AF19,Tabelas!B:D,3,0),0),\"\")","v":0},{"$f":"IF(A19<>\"\",IFERROR(VLOOKUP(AG19,Tabelas!B:D,3,0),0),\"\")","v":0},{"$f":"IF(A19<>\"\",IFERROR(VLOOKUP(AH19,Tabelas!B:D,3,0),0),\"\")","v":0},{"$f":"IF(A19<>\"\",IFERROR(VLOOKUP(AI19,Tabelas!B:D,3,0),0),\"\")","v":0},{"$f":"IF(A19<>\"\",IFERROR(VLOOKUP(AJ19,Tabelas!B:D,3,0),0),\"\")","v":0},{"$f":"IF(A19<>\"\",IFERROR(VLOOKUP(AK19,Tabelas!B:D,3,0),0),\"\")","v":0},{"$f":"IF(A19<>\"\",IFERROR(VLOOKUP(AL19,Tabelas!B:D,3,0),0),\"\")","v":0},{"$f":"IF(A19<>\"\",IFERROR(VLOOKUP(AM19,Tabelas!B:D,3,0),0),\"\")","v":0},{"$f":"IF(A19<>\"\",IFERROR(VLOOKUP(AN19,Tabelas!B:D,3,0),0),\"\")","v":0},{"$f":"IF(A19<>\"\",IFERROR(VLOOKUP(AO19,Tabelas!B:D,3,0),0),\"\")","v":0},{"$f":"IF(A19<>\"\",IFERROR(VLOOKUP(AP19,Tabelas!B:D,3,0),0),\"\")","v":0},{"$f":"IF(A19<>\"\",IFERROR(VLOOKUP(AQ19,Tabelas!B:D,3,0),0),\"\")","v":0},{"$f":"IF(A19<>\"\",IFERROR(VLOOKUP(AR19,Tabelas!B:D,3,0),0),\"\")","v":0},0,0,0,0,0,0,0,0,{"$f":"IF(A19<>\"\",COUNTIF(N19:AR19,\"APH\"),\"\")","v":0}]
["Fulano de Tal 12",1234567,123,"ENF","Ebserh",36,null,null,null,null,null,null,null,null,null,null,null,null,null,null,null,null,null,null,null,null,null,null,null,null,null,null,null,null,null,null,null,null,null,null,null,null,null,null,{"$f":"IF(A20<>\"\",IFERROR(VLOOKUP(N20,Tabelas!B:D,3,0),0),\"\")","v":0},{"$f":"IF(A20<>\"\",IFERROR(VLOOKUP(O20,Tabelas!B:D,3,0),0),\"\")","v":0},{"$f":"IF(A20<>\"\",IFERROR(VLOOKUP(P20,Tabelas!B:D,3,0),0),\"\")","v":0},{"$f":"IF(A20<>\"\",IFERROR(VLOOKUP(Q20,Tabelas!B:D,3,0),0),\"\")","v":0},{"$f":"IF(A20<>\"\",IFERROR(VLOOKUP(R20,Tabelas!B:D,3,0),0),\"\")","v":0},{"$f":"IF(A20<>\"\",IFERROR(VLOOKUP(S20,Tabelas!B:D,3,0),0),\"\")","v":0},{"$f":"IF(A20<>\"\",IFERROR(VLOOKUP(T20,Tabelas!B:D,3,0),0),\"\")","v":0},{"$f":"IF(A20<>\"\",IFERROR(VLOOKUP(U20,Tabelas!B:D,3,0),0),\"\")","v":0},{"$f":"IF(A20<>\"\",IFERROR(VLOOKUP(V20,Tabelas!B:D,3,0),0),\"\")","v":0},{"$f":"IF(A20<>\"\",IFERROR(VLOOKUP(W20,Tabelas!B:D,3,0),0),\"\")","v":0},{"$f":"IF(A20<>\"\",IFERROR(VLOOKUP(X20,Tabelas!B:D,3,0),0),\"\")","v":0},{"$f":"IF(A20<>\"\",IFERROR(VLOOKUP(Y20,Tabelas!B:D,3,0),0),\"\")","v":0},{"$f":"IF(A20<>\"\",IFERROR(VLOOKUP(Z20,Tabelas!B:D,3,0),0),\"\")","v":0},{"$f":"IF(A20<>\"\",IFERROR(VLOOKUP(AA20,Tabelas!B:D,3,0),0),\"\")","v":0},{"$f":"IF(A20<>\"\",IFERROR(VLOOKUP(AB20,Tabelas!B:D,3,0),0),\"\")","v":0},{"$f":"IF(A20<>\"\",IFERROR(VLOOKUP(AC20,Tabelas!B:D,3,0),0),\"\")","v":0},{"$f":"IF(A20<>\"\",IFERROR(VLOOKUP(AD20,Tabelas!B:D,3,0),0),\"\")","v":0},{"$f":"IF(A20<>\"\",IFERROR(VLOOKUP(AE20,Tabelas!B:D,3,0),0),\"\")","v":0},{"$f":"IF(A20<>\"\",IFERROR(VLOOKUP(AF20,Tabelas!B:D,3,0),0),\"\")","v":0},{"$f":"IF(A20<>\"\",IFERROR(VLOOKUP(AG20,Tabelas!B:D,3,0),0),\"\")","v":0},{"$f":"IF(A20<>\"\",IFERROR(VLOOKUP(AH20,Tabelas!B:D,3,0),0),\"\")","v":0},{"$f":"IF(A20<>\"\",IFERROR(VLOOKUP(AI20,Tabelas!B:D,3,0),0),\"\")","v":0},{"$f":"IF(A20<>\"\",IFERROR(VLOOKUP(AJ20,Tabelas!B:D,3,0),0),\"\")","v":0},{"$f":"IF(A20<>\"\",IFERROR(VLOOKUP(AK20,Tabelas!B:D,3,0),0),\"\")","v":0},{"$f":"IF(A20<>\"\",IFERROR(VLOOKUP(AL20,Tabelas!B:D,3,0),0),\"\")","v":0},{"$f":"IF(A20<>\"\",IFERROR(VLOOKUP(AM20,Tabelas!B:D,3,0),0),\"\")","v":0},{"$f":"IF(A20<>\"\",IFERROR(VLOOKUP(AN20,Tabelas!B:D,3,0),0),\"\")","v":0},{"$f":"IF(A20<>\"\",IFERROR(VLOOKUP(AO20,Tabelas!B:D,3,0),0),\"\")","v":0},{"$f":"IF(A20<>\"\",IFERROR(VLOOKUP(AP20,Tabelas!B:D,3,0),0),\"\")","v":0},{"$f":"IF(A20<>\"\",IFERROR(VLOOKUP(AQ20,Tabelas!B:D,3,0),0),\"\")","v":0},{"$f":"IF(A20<>\"\",IFERROR(VLOOKUP(AR20,Tabelas!B:D,3,0),0),\"\")","v":0},0,0,0,0,0,0,0,0,0]
["Fulano de Tal 13",1234567,123,"ENF","Ebserh",36,null,null,null,null,null,null,null,null,null,null,null,null,null,null,null,null,null,null,null,null,null,null,null,null,null,null,null,null,null,null,null,null,null,null,null,null,null,null,{"$f":"IF(A21<>\"\",IFERROR(VLOOKUP(N21,Tabelas!B:D,3,0),0),\"\")","v":0},{"$f":"IF(A21<>\"\",IFERROR(VLOOKUP(O21,Tabelas!B:D,3,0),0),\"\")","v":0},{"$f":"IF(A21<>\"\",IFERROR(VLOOKUP(P21,Tabelas!B:D,3,0),0),\"\")","v":0},{"$f":"IF(A21<>\"\",IFERROR(VLOOKUP(Q21,Tabelas!B:D,3,0),0),\"\")","v":0},{"$f":"IF(A21<>\"\",IFERROR(VLOOKUP(R21,Tabelas!B:D,3,0),0),\"\")","v":0},{"$f":"IF(A21<>\"\",IFERROR(VLOOKUP(S21,Tabelas!B:D,3,0),0),\"\")","v":0},{"$f":"IF(A21<>\"\",IFERROR(VLOOKUP(T21,Tabelas!B:D,3,0),0),\"\")","v":0},{"$f":"IF(A21<>\"\",IFERROR(VLOOKUP(U21,Tabelas!B:D,3,0),0),\"\")","v":0},{"$f":"IF(A21<>\"\",IFERROR(VLOOKUP(V21,Tabelas!B:D,3,0),0),\"\")","v":0},{"$f":"IF(A21<>\"\",IFERROR(VLOOKUP(W21,Tabelas!B:D,3,0),0),\"\")","v":0},{"$f":"IF(A21<>\"\",IFERROR(VLOOKUP(X21,Tabelas!B:D,3,0),0),\"\")","v":0},{"$f":"IF(A21<>\"\",IFERROR(VLOOKUP(Y21,Tabelas!B:D,3,0),0),\"\")","v":0},{"$f":"IF(A21<>\"\",IFERROR(VLOOKUP(Z21,Tabelas!B:D,3,0),0),\"\")","v":0},{"$f":"IF(A21<>\"\",IFERROR(VLOOKUP(AA21,Tabelas!B:D,3,0),0),\"\")","v":0},{"$f":"IF(A21<>\"\",IFERROR(VLOOKUP(AB21,Tabelas!B:D,3,0),0),\"\")","v":0},{"$f":"IF(A21<>\"\",IFERROR(VLOOKUP(AC21,Tabelas!B:D,3,0),0),\"\")","v":0},{"$f":"IF(A21<>\"\",IFERROR(VLOOKUP(AD21,Tabelas!B:D,3,0),0),\"\")","v":0},{"$f":"IF(A21<>\"\",IFERROR(VLOOKUP(AE21,Tabelas!B:D,3,0),0),\"\")","v":0},{"$f":"IF(A21<>\"\",IFERROR(VLOOKUP(AF21,Tabelas!B:D,3,0),0),\"\")","v":0},{"$f":"IF(A21<>\"\",IFERROR(VLOOKUP(AG21,Tabelas!B:D,3,0),0),\"\")","v":0},{"$f":"IF(A21<>\"\",IFERROR(VLOOKUP(AH21,Tabelas!B:D,3,0),0),\"\")","v":0},{"$f":"IF(A21<>\"\",IFERROR(VLOOKUP(AI21,Tabelas!B:D,3,0),0),\"\")","v":0},{"$f":"IF(A21<>\"\",IFERROR(VLOOKUP(AJ21,Tabelas!B:D,3,0),0),\"\")","v":0},{"$f":"IF(A21<>\"\",IFERROR(VLOOKUP(AK21,Tabelas!B:D,3,0),0),\"\")","v":0},{"$f":"IF(A21<>\"\",IFERROR(VLOOKUP(AL21,Tabelas!B:D,3,0),0),\"\")","v":0},{"$f":"IF(A21<>\"\",IFERROR(VLOOKUP(AM21,Tabelas!B:D,3,0),0),\"\")","v":0},{"$f":"IF(A21<>\"\",IFERROR(VLOOKUP(AN21,Tabelas!B:D,3,0),0),\"\")","v":0},{"$f":"IF(A21<>\"\",IFERROR(VLOOKUP(AO21,Tabelas!B:D,3,0),0),\"\")","v":0},{"$f":"IF(A21<>\"\",IFERROR(VLOOKUP(AP21,Tabelas!B:D,3,0),0),\"\")","v":0},{"$f":"IF(A21<>\"\",IFERROR(VLOOKUP(AQ21,Tabelas!B:D,3,0),0),\"\")","v":0},{"$f":"IF(A21<>\"\",IFERROR(VLOOKUP(AR21,Tabelas!B:D,3,0),0),\"\")","v":0},0,0,0,0,0,0,0,0,0]
["Fulano de Tal 14",1234567,123,"ENF","Ebserh",36,null,null,null,null,null,null,null,null,null,null,null,null,null,null,null,null,null,null,null,null,null,null,null,null,null,null,null,null,null,null,null,null,null,null,null,null,null,null,{"$f":"IF(A22<>\"\",IFERROR(VLOOKUP(N22,Tabelas!B:D,3,0),0),\"\")","v":0},{"$f":"IF(A22<>\"\",IFERROR(VLOOKUP(O22,Tabelas!B:D,3,0),0),\"\")","v":0},{"$f":"IF(A22<>\"\",IFERROR(VLOOKUP(P22,Tabelas!B:D,3,0),0),\"\")","v":0},{"$f":"IF(A22<>\"\",IFERROR(VLOOKUP(Q22,Tabelas!B:D,3,0),0),\"\")","v":0},{"$f":"IF(A22<>\"\",IFERROR(VLOOKUP(R22,Tabelas!B:D,3,0),0),\"\")","v":0},{"$f":"IF(A22<>\"\",IFERROR(VLOOKUP(S22,Tabelas!B:D,3,0),0),\"\")","v":0},{"$f":"IF(A22<>\"\",IFERROR(VLOOKUP(T22,Tabelas!B:D,3,0),0),\"\")","v":0},{"$f":"IF(A22<>\"\",IFERROR(VLOOKUP(U22,Tabelas!B:D,3,0),0),\"\")","v":0},{"$f":"IF(A22<>\"\",IFERROR(VLOOKUP(V22,Tabelas!B:D,3,0),0),\"\")","v":0},{"$f":"IF(A22<>\"\",IFERROR(VLOOKUP(W22,Tabelas!B:D,3,0),0),\"\")","v":0},{"$f":"IF(A22<>\"\",IFERROR(VLOOKUP(X22,Tabelas!B:D,3,0),0),\"\")","v":0},{"$f":"IF(A22<>\"\",IFERROR(VLOOKUP(Y22,Tabelas!B:D,3,0),0),\"\")","v":0},{"$f":"IF(A22<>\"\",IFERROR(VLOOKUP(Z22,Tabelas!B:D,3,0),0),\"\")","v":0},{"$f":"IF(A22<>\"\",IFERROR(VLOOKUP(AA22,Tabelas!B:D,3,0),0),\"\")","v":0},{"$f":"IF(A22<>\"\",IFERROR(VLOOKUP(AB22,Tabelas!B:D,3,0),0),\"\")","v":0},{"$f":"IF(A22<>\"\",IFERROR(VLOOKUP(AC22,Tabelas!B:D,3,0),0),\"\")","v":0},{"$f":"IF(A22<>\"\",IFERROR(VLOOKUP(AD22,Tabelas!B:D,3,0),0),\"\")","v":0},{"$f":"IF(A22<>\"\",IFERROR(VLOOKUP(AE22,Tabelas!B:D,3,0),0),\"\")","v":0},{"$f":"IF(A22<>\"\",IFERROR(VLOOKUP(AF22,Tabelas!B:D,3,0),0),\"\")","v":0},{"$f":"IF(A22<>\"\",IFERROR(VLOOKUP(AG22,Tabelas!B:D,3,0),0),\"\")","v":0},{"$f":"IF(A22<>\"\",IFERROR(VLOOKUP(AH22,Tabelas!B:D,3,0),0),\"\")","v":0},{"$f":"IF(A22<>\"\",IFERROR(VLOOKUP(AI22,Tabelas!B:D,3,0),0),\"\")","v":0},{"$f":"IF(A22<>\"\",IFERROR(VLOOKUP(AJ22,Tabelas!B:D,3,0),0),\"\")","v":0},{"$f":"IF(A22<>\"\",IFERROR(VLOOKUP(AK22,Tabelas!B:D,3,0),0),\"\")","v":0},{"$f":"IF(A22<>\"\",IFERROR(VLOOKUP(AL22,Tabelas!B:D,3,0),0),\"\")","v":0},{"$f":"IF(A22<>\"\",IFERROR(VLOOKUP(AM22,Tabelas!B:D,3,0),0),\"\")","v":0},{"$f":"IF(A22<>\"\",IFERROR(VLOOKUP(AN22,Tabelas!B:D,3,0),0),\"\")","v":0},{"$f":"IF(A22<>\"\",IFERROR(VLOOKUP(AO22,Tabelas!B:D,3,0),0),\"\")","v":0},{"$f":"IF(A22<>\"\",IFERROR(VLOOKUP(AP22,Tabelas!B:D,3,0),0),\"\")","v":0},{"$f":"IF(A22<>\"\",IFERROR(VLOOKUP(AQ22,Tabelas!B:D,3,0),0),\"\")","v":0},{"$f":"IF(A22<>\"\",IFERROR(VLOOKUP(AR22,Tabelas!B:D,3,0),0),\"\")","v":0},0,0,0,0,0,0,0,0,0]
["Fulano de Tal 15",1234567,123,"ENF","Ebserh",36,null,null,null,null,null,null,null,null,null,null,null,null,null,null,null,null,null,null,null,null,null,null,null,null,null,null,null,null,null,null,null,null,null,null,null,null,null,null,{"$f":"IF(A23<>\"\",IFERROR(VLOOKUP(N23,Tabelas!B:D,3,0),0),\"\")","v":0},{"$f":"IF(A23<>\"\",IFERROR(VLOOKUP(O23,Tabelas!B:D,3,0),0),\"\")","v":0},{"$f":"IF(A23<>\"\",IFERROR(VLOOKUP(P23,Tabelas!B:D,3,0),0),\"\")","v":0},{"$f":"IF(A23<>\"\",IFERROR(VLOOKUP(Q23,Tabelas!B:D,3,0),0),\"\")","v":0},{"$f":"IF(A23<>\"\",IFERROR(VLOOKUP(R23,Tabelas!B:D,3,0),0),\"\")","v":0},{"$f":"IF(A23<>\"\",IFERROR(VLOOKUP(S23,Tabelas!B:D,3,0),0),\"\")","v":0},{"$f":"IF(A23<>\"\",IFERROR(VLOOKUP(T23,Tabelas!B:D,3,0),0),\"\")","v":0},{"$f":"IF(A23<>\"\",IFERROR(VLOOKUP(U23,Tabelas!B:D,3,0),0),\"\")","v":0},{"$f":"IF(A23<>\"\",IFERROR(VLOOKUP(V23,Tabelas!B:D,3,0),0),\"\")","v":0},{"$f":"IF(A23<>\"\",IFERROR(VLOOKUP(W23,Tabelas!B:D,3,0),0),\"\")","v":0},{"$f":"IF(A23<>\"\",IFERROR(VLOOKUP(X23,Tabelas!B:D,3,0),0),\"\")","v":0},{"$f":"IF(A23<>\"\",IFERROR(VLOOKUP(Y23,Tabelas!B:D,3,0),0),\"\")","v":0},{"$f":"IF(A23<>\"\",IFERROR(VLOOKUP(Z23,Tabelas!B:D,3,0),0),\"\")","v":0},{"$f":"IF(A23<>\"\",IFERROR(VLOOKUP(AA23,Tabelas!B:D,3,0),0),\"\")","v":0},{"$f":"IF(A23<>\"\",IFERROR(VLOOKUP(AB23,Tabelas!B:D,3,0),0),\"\")","v":0},{"$f":"IF(A23<>\"\",IFERROR(VLOOKUP(AC23,Tabelas!B:D,3,0),0),\"\")","v":0},{"$f":"IF(A23<>\"\",IFERROR(VLOOKUP(AD23,Tabelas!B:D,3,0),0),\"\")","v":0},{"$f":"IF(A23<>\"\",IFERROR(VLOOKUP(AE23,Tabelas!B:D,3,0),0),\"\")","v":0},{"$f":"IF(A23<>\"\",IFERROR(VLOOKUP(AF23,Tabelas!B:D,3,0),0),\"\")","v":0},{"$f":"IF(A23<>\"\",IFERROR(VLOOKUP(AG23,Tabelas!B:D,3,0),0),\"\")","v":0},{"$f":"IF(A23<>\"\",IFERROR(VLOOKUP(AH23,Tabelas!B:D,3,0),0),\"\")","v":0},{"$f":"IF(A23<>\"\",IFERROR(VLOOKUP(AI23,Tabelas!B:D,3,0),0),\"\")","v":0},{"$f":"IF(A23<>\"\",IFERROR(VLOOKUP(AJ23,Tabelas!B:D,3,0),0),\"\")","v":0},{"$f":"IF(A23<>\"\",IFERROR(VLOOKUP(AK23,Tabelas!B:D,3,0),0),\"\")","v":0},{"$f":"IF(A23<>\"\",IFERROR(VLOOKUP(AL23,Tabelas!B:D,3,0),0),\"\")","v":0},{"$f":"IF(A23<>\"\",IFERROR(VLOOKUP(AM23,Tabelas!B:D,3,0),0),\"\")","v":0},{"$f":"IF(A23<>\"\",IFERROR(VLOOKUP(AN23,Tabelas!B:D,3,0),0),\"\")","v":0},{"$f":"IF(A23<>\"\",IFERROR(VLOOKUP(AO23,Tabelas!B:D,3,0),0),\"\")","v":0},{"$f":"IF(A23<>\"\",IFERROR(VLOOKUP(AP23,Tabelas!B:D,3,0),0),\"\")","v":0},{"$f":"IF(A23<>\"\",IFERROR(VLOOKUP(AQ23,Tabelas!B:D,3,0),0),\"\")","v":0},{"$f":"IF(A23<>\"\",IFERROR(VLOOKUP(AR23,Tabelas!B:D,3,0),0),\"\")","v":0},0,0,0,0,0,0,0,0,0]
["Fulano de Tal 16",1234567,123,"ENF","Ebserh",36,null,null,null,null,null,null,null,null,null,null,null,null,null,null,null,null,null,null,null,null,null,null,null,null,null,null,null,null,null,null,null,null,null,null,null,null,null,null,{"$f":"IF(A24<>\"\",IFERROR(VLOOKUP(N24,Tabelas!B:D,3,0),0),\"\")","v":0},{"$f":"IF(A24<>\"\",IFERROR(VLOOKUP(O24,Tabelas!B:D,3,0),0),\"\")","v":0},{"$f":"IF(A24<>\"\",IFERROR(VLOOKUP(P24,Tabelas!B:D,3,0),0),\"\")","v":0},{"$f":"IF(A24<>\"\",IFERROR(VLOOKUP(Q24,Tabelas!B:D,3,0),0),\"\")","v":0},{"$f":"IF(A24<>\"\",IFERROR(VLOOKUP(R24,Tabelas!B:D,3,0),0),\"\")","v":0},{"$f":"IF(A24<>\"\",IFERROR(VLOOKUP(S24,Tabelas!B:D,3,0),0),\"\")","v":0},{"$f":"IF(A24<>\"\",IFERROR(VLOOKUP(T24,Tabelas!B:D,3,0),0),\"\")","v":0},{"$f":"IF(A24<>\"\",IFERROR(VLOOKUP(U24,Tabelas!B:D,3,0),0),\"\")","v":0},{"$f":"IF(A24<>\"\",IFERROR(VLOOKUP(V24,Tabelas!B:D,3,0),0),\"\")","v":0},{"$f":"IF(A24<>\"\",IFERROR(VLOOKUP(W24,Tabelas!B:D,3,0),0),\"\")","v":0},{"$f":"IF(A24<>\"\",IFERROR(VLOOKUP(X24,Tabelas!B:D,3,0),0),\"\")","v":0},{"$f":"IF(A24<>\"\",IFERROR(VLOOKUP(Y24,Tabelas!B:D,3,0),0),\"\")","v":0},{"$f":"IF(A24<>\"\",IFERROR(VLOOKUP(Z24,Tabelas!B:D,3,0),0),\"\")","v":0},{"$f":"IF(A24<>\"\",IFERROR(VLOOKUP(AA24,Tabelas!B:D,3,0),0),\"\")","v":0},{"$f":"IF(A24<>\"\",IFERROR(VLOOKUP(AB24,Tabelas!B:D,3,0),0),\"\")","v":0},{"$f":"IF(A24<>\"\",IFERROR(VLOOKUP(AC24,Tabelas!B:D,3,0),0),\"\")","v":0},{"$f":"IF(A24<>\"\",IFERROR(VLOOKUP(AD24,Tabelas!B:D,3,0),0),\"\")","v":0},{"$f":"IF(A24<>\"\",IFERROR(VLOOKUP(AE24,Tabelas!B:D,3,0),0),\"\")","v":0},{"$f":"IF(A24<>\"\",IFERROR(VLOOKUP(AF24,Tabelas!B:D,3,0),0),\"\")","v":0},{"$f":"IF(A24<>\"\",IFERROR(VLOOKUP(AG24,Tabelas!B:D,3,0),0),\"\")","v":0},{"$f":"IF(A24<>\"\",IFERROR(VLOOKUP(AH24,Tabelas!B:D,3,0),0),\"\")","v":0},{"$f":"IF(A24<>\"\",IFERROR(VLOOKUP(AI24,Tabelas!B:D,3,0),0),\"\")","v":0},{"$f":"IF(A24<>\"\",IFERROR(VLOOKUP(AJ24,Tabelas!B:D,3,0),0),\"\")","v":0},{"$f":"IF(A24<>\"\",IFERROR(VLOOKUP(AK24,Tabelas!B:D,3,0),0),\"\")","v":0},{"$f":"IF(A24<>\"\",IFERROR(VLOOKUP(AL24,Tabelas!B:D,3,0),0),\"\")","v":0},{"$f":"IF(A24<>\"\",IFERROR(VLOOKUP(AM24,Tabelas!B:D,3,0),0),\"\")","v":0},{"$f":"IF(A24<>\"\",IFERROR(VLOOKUP(AN24,Tabelas!B:D,3,0),0),\"\")","v":0},{"$f":"IF(A24<>\"\",IFERROR(VLOOKUP(AO24,Tabelas!B:D,3,0),0),\"\")","v":0},{"$f":"IF(A24<>\"\",IFERROR(VLOOKUP(AP24,Tabelas!B:D,3,0),0),\"\")","v":0},{"$f":"IF(A24<>\"\",IFERROR(VLOOKUP(AQ24,Tabelas!B:D,3,0),0),\"\")","v":0},{"$f":"IF(A24<>\"\",IFERROR(VLOOKUP(AR24,Tabelas!B:D,3,0),0),\"\")","v":0},0,0,0,0,0,0,0,0,0]
["Fulano de Tal 17",1234567,123,"ENF","Ebserh",36,null,null,null,null,null,null,null,null,null,null,null,null,null,null,null,null,null,null,null,null,null,null,null,null,null,null,null,null,null,null,null,null,null,null,null,null,null,null,{"$f":"IF(A25<>\"\",IFERROR(VLOOKUP(N25,Tabelas!B:D,3,0),0),\"\")","v":0},{"$f":"IF(A25<>\"\",IFERROR(VLOOKUP(O25,Tabelas!B:D,3,0),0),\"\")","v":0},{"$f":"IF(A25<>\"\",IFERROR(VLOOKUP(P25,Tabelas!B:D,3,0),0),\"\")","v":0},{"$f":"IF(A25<>\"\",IFERROR(VLOOKUP(Q25,Tabelas!B:D,3,0),0),\"\")","v":0},{"$f":"IF(A25<>\"\",IFERROR(VLOOKUP(R25,Tabelas!B:D,3,0),0),\"\")","v":0},{"$f":"IF(A25<>\"\",IFERROR(VLOOKUP(S25,Tabelas!B:D,3,0),0),\"\")","v":0},{"$f":"IF(A25<>\"\",IFERROR(VLOOKUP(T25,Tabelas!B:D,3,0),0),\"\")","v":0},{"$f":"IF(A25<>\"\",IFERROR(VLOOKUP(U25,Tabelas!B:D,3,0),0),\"\")","v":0},{"$f":"IF(A25<>\"\",IFERROR(VLOOKUP(V25,Tabelas!B:D,3,0),0),\"\")","v":0},{"$f":"IF(A25<>\"\",IFERROR(VLOOKUP(W25,Tabelas!B:D,3,0),0),\"\")","v":0},{"$f":"IF(A25<>\"\",IFERROR(VLOOKUP(X25,Tabelas!B:D,3,0),0),\"\")","v":0},{"$f":"IF(A25<>\"\",IFERROR(VLOOKUP(Y25,Tabelas!B:D,3,0),0),\"\")","v":0},{"$f":"IF(A25<>\"\",IFERROR(VLOOKUP(Z25,Tabelas!B:D,3,0),0),\"\")","v":0},{"$f":"IF(A25<>\"\",IFERROR(VLOOKUP(AA25,Tabelas!B:D,3,0),0),\"\")","v":0},{"$f":"IF(A25<>\"\",IFERROR(VLOOKUP(AB25,Tabelas!B:D,3,0),0),\"\")","v":0},{"$f":"IF(A25<>\"\",IFERROR(VLOOKUP(AC25,Tabelas!B:D,3,0),0),\"\")","v":0},{"$f":"IF(A25<>\"\",IFERROR(VLOOKUP(AD25,Tabelas!B:D,3,0),0),\"\")","v":0},{"$f":"IF(A25<>\"\",IFERROR(VLOOKUP(AE25,Tabelas!B:D,3,0),0),\"\")","v":0},{"$f":"IF(A25<>\"\",IFERROR(VLOOKUP(AF25,Tabelas!B:D,3,0),0),\"\")","v":0},{"$f":"IF(A25<>\"\",IFERROR(VLOOKUP(AG25,Tabelas!B:D,3,0),0),\"\")","v":0},{"$f":"IF(A25<>\"\",IFERROR(VLOOKUP(AH25,Tabelas!B:D,3,0),0),\"\")","v":0},{"$f":"IF(A25<>\"\",IFERROR(VLOOKUP(AI25,Tabelas!B:D,3,0),0),\"\")","v":0},{"$f":"IF(A25<>\"\",IFERROR(VLOOKUP(AJ25,Tabelas!B:D,3,0),0),\"\")","v":0},{"$f":"IF(A25<>\"\",IFERROR(VLOOKUP(AK25,Tabelas!B:D,3,0),0),\"\")","v":0},{"$f":"IF(A25<>\"\",IFERROR(VLOOKUP(AL25,Tabelas!B:D,3,0),0),\"\")","v":0},{"$f":"IF(A25<>\"\",IFERROR(VLOOKUP(AM25,Tabelas!B:D,3,0),0),\"\")","v":0},{"$f":"IF(A25<>\"\",IFERROR(VLOOKUP(AN25,Tabelas!B:D,3,0),0),\"\")","v":0},{"$f":"IF(A25<>\"\",IFERROR(VLOOKUP(AO25,Tabelas!B:D,3,0),0),\"\")","v":0},{"$f":"IF(A25<>\"\",IFERROR(VLOOKUP(AP25,Tabelas!B:D,3,0),0),\"\")","v":0},{"$f":"IF(A25<>\"\",IFERROR(VLOOKUP(AQ25,Tabelas!B:D,3,0),0),\"\")","v":0},{"$f":"IF(A25<>\"\",IFERROR(VLOOKUP(AR25,Tabelas!B:D,3,0),0),\"\")","v":0},0,0,0,0,0,0,0,0,0]
["Fulano de Tal 18",1234567,123,"ENF","Ebserh",36,null,null,null,null,null,null,null,null,null,null,null,null,null,null,null,null,null,null,null,null,null,null,null,null,null,null,null,null,null,null,null,null,null,null,null,null,null,null,{"$f":"IF(A26<>\"\",IFERROR(VLOOKUP(N26,Tabelas!B:D,3,0),0),\"\")","v":0},{"$f":"IF(A26<>\"\",IFERROR(VLOOKUP(O26,Tabelas!B:D,3,0),0),\"\")","v":0},{"$f":"IF(A26<>\"\",IFERROR(VLOOKUP(P26,Tabelas!B:D,3,0),0),\"\")","v":0},{"$f":"IF(A26<>\"\",IFERROR(VLOOKUP(Q26,Tabelas!B:D,3,0),0),\"\")","v":0},{"$f":"IF(A26<>\"\",IFERROR(VLOOKUP(R26,Tabelas!B:D,3,0),0),\"\")","v":0},{"$f":"IF(A26<>\"\",IFERROR(VLOOKUP(S26,Tabelas!B:D,3,0),0),\"\")","v":0},{"$f":"IF(A26<>\"\",IFERROR(VLOOKUP(T26,Tabelas!B:D,3,0),0),\"\")","v":0},{"$f":"IF(A26<>\"\",IFERROR(VLOOKUP(U26,Tabelas!B:D,3,0),0),\"\")","v":0},{"$f":"IF(A26<>\"\",IFERROR(VLOOKUP(V26,Tabelas!B:D,3,0),0),\"\")","v":0},{"$f":"IF(A26<>\"\",IFERROR(VLOOKUP(W26,Tabelas!B:D,3,0),0),\"\")","v":0},{"$f":"IF(A26<>\"\",IFERROR(VLOOKUP(X26,Tabelas!B:D,3,0),0),\"\")","v":0},{"$f":"IF(A26<>\"\",IFERROR(VLOOKUP(Y26,Tabelas!B:D,3,0),0),\"\")","v":0},{"$f":"IF(A26<>\"\",IFERROR(VLOOKUP(Z26,Tabelas!B:D,3,0),0),\"\")","v":0},{"$f":"IF(A26<>\"\",IFERROR(VLOOKUP(AA26,Tabelas!B:D,3,0),0),\"\")","v":0},{"$f":"IF(A26<>\"\",IFERROR(VLOOKUP(AB26,Tabelas!B:D,3,0),0),\"\")","v":0},{"$f":"IF(A26<>\"\",IFERROR(VLOOKUP(AC26,Tabelas!B:D,3,0),0),\"\")","v":0},{"$f":"IF(A26<>\"\",IFERROR(VLOOKUP(AD26,Tabelas!B:D,3,0),0),\"\")","v":0},{"$f":"IF(A26<>\"\",IFERROR(VLOOKUP(AE26,Tabelas!B:D,3,0),0),\"\")","v":0},{"$f":"IF(A26<>\"\",IFERROR(VLOOKUP(AF26,Tabelas!B:D,3,0),0),\"\")","v":0},{"$f":"IF(A26<>\"\",IFERROR(VLOOKUP(AG26,Tabelas!B:D,3,0),0),\"\")","v":0},{"$f":"IF(A26<>\"\",IFERROR(VLOOKUP(AH26,Tabelas!B:D,3,0),0),\"\")","v":0},{"$f":"IF(A26<>\"\",IFERROR(VLOOKUP(AI26,Tabelas!B:D,3,0),0),\"\")","v":0},{"$f":"IF(A26<>\"\",IFERROR(VLOOKUP(AJ26,Tabelas!B:D,3,0),0),\"\")","v":0},{"$f":"IF(A26<>\"\",IFERROR(VLOOKUP(AK26,Tabelas!B:D,3,0),0),\"\")","v":0},{"$f":"IF(A26<>\"\",IFERROR(VLOOKUP(AL26,Tabelas!B:D,3,0),0),\"\")","v":0},{"$f":"IF(A26<>\"\",IFERROR(VLOOKUP(AM26,Tabelas!B:D,3,0),0),\"\")","v":0},{"$f":"IF(A26<>\"\",IFERROR(VLOOKUP(AN26,Tabelas!B:D,3,0),0),\"\")","v":0},{"$f":"IF(A26<>\"\",IFERROR(VLOOKUP(AO26,Tabelas!B:D,3,0),0),\"\")","v":0},{"$f":"IF(A26<>\"\",IFERROR(VLOOKUP(AP26,Tabelas!B:D,3,0),0),\"\")","v":0},{"$f":"IF(A26<>\"\",IFERROR(VLOOKUP(AQ26,Tabelas!B:D,3,0),0),\"\")","v":0},{"$f":"IF(A26<>\"\",IFERROR(VLOOKUP(AR26,Tabelas!B:D,3,0),0),\"\")","v":0},0,0,0,0,0,0,0,0,0]
["Fulano de Tal 19",1234567,123,"ENF","Ebserh",36,null,null,null,null,null,null,null,null,null,null,null,null,null,null,null,null,null,null,null,null,null,null,null,null,null,null,null,null,null,null,null,null,null,null,null,null,null,null,{"$f":"IF(A27<>\"\",IFERROR(VLOOKUP(N27,Tabelas!B:D,3,0),0),\"\")","v":0},{"$f":"IF(A27<>\"\",IFERROR(VLOOKUP(O27,Tabelas!B:D,3,0),0),\"\")","v":0},{"$f":"IF(A27<>\"\",IFERROR(VLOOKUP(P27,Tabelas!B:D,3,0),0),\"\")","v":0},{"$f":"IF(A27<>\"\",IFERROR(VLOOKUP(Q27,Tabelas!B:D,3,0),0),\"\")","v":0},{"$f":"IF(A27<>\"\",IFERROR(VLOOKUP(R27,Tabelas!B:D,3,0),0),\"\")","v":0},{"$f":"IF(A27<>\"\",IFERROR(VLOOKUP(S27,Tabelas!B:D,3,0),0),\"\")","v":0},{"$f":"IF(A27<>\"\",IFERROR(VLOOKUP(T27,Tabelas!B:D,3,0),0),\"\")","v":0},{"$f":"IF(A27<>\"\",IFERROR(VLOOKUP(U27,Tabelas!B:D,3,0),0),\"\")","v":0},{"$f":"IF(A27<>\"\",IFERROR(VLOOKUP(V27,Tabelas!B:D,3,0),0),\"\")","v":0},{"$f":"IF(A27<>\"\",IFERROR(VLOOKUP(W27,Tabelas!B:D,3,0),0),\"\")","v":0},{"$f":"IF(A27<>\"\",IFERROR(VLOOKUP(X27,Tabelas!B:D,3,0),0),\"\")","v":0},{"$f":"IF(A27<>\"\",IFERROR(VLOOKUP(Y27,Tabelas!B:D,3,0),0),\"\")","v":0},{"$f":"IF(A27<>\"\",IFERROR(VLOOKUP(Z27,Tabelas!B:D,3,0),0),\"\")","v":0},{"$f":"IF(A27<>\"\",IFERROR(VLOOKUP(AA27,Tabelas!B:D,3,0),0),\"\")","v":0},{"$f":"IF(A27<>\"\",IFERROR(VLOOKUP(AB27,Tabelas!B:D,3,0),0),\"\")","v":0},{"$f":"IF(A27<>\"\",IFERROR(VLOOKUP(AC27,Tabelas!B:D,3,0),0),\"\")","v":0},{"$f":"IF(A27<>\"\",IFERROR(VLOOKUP(AD27,Tabelas!B:D,3,0),0),\"\")","v":0},{"$f":"IF(A27<>\"\",IFERROR(VLOOKUP(AE27,Tabelas!B:D,3,0),0),\"\")","v":0},{"$f":"IF(A27<>\"\",IFERROR(VLOOKUP(AF27,Tabelas!B:D,3,0),0),\"\")","v":0},{"$f":"IF(A27<>\"\",IFERROR(VLOOKUP(AG27,Tabelas!B:D,3,0),0),\"\")","v":0},{"$f":"IF(A27<>\"\",IFERROR(VLOOKUP(AH27,Tabelas!B:D,3,0),0),\"\")","v":0},{"$f":"IF(A27<>\"\",IFERROR(VLOOKUP(AI27,Tabelas!B:D,3,0),0),\"\")","v":0},{"$f":"IF(A27<>\"\",IFERROR(VLOOKUP(AJ27,Tabelas!B:D,3,0),0),\"\")","v":0},{"$f":"IF(A27<>\"\",IFERROR(VLOOKUP(AK27,Tabelas!B:D,3,0),0),\"\")","v":0},{"$f":"IF(A27<>\"\",IFERROR(VLOOKUP(AL27,Tabelas!B:D,3,0),0),\"\")","v":0},{"$f":"IF(A27<>\"\",IFERROR(VLOOKUP(AM27,Tabelas!B:D,3,0),0),\"\")","v":0},{"$f":"IF(A27<>\"\",IFERROR(VLOOKUP(AN27,Tabelas!B:D,3,0),0),\"\")","v":0},{"$f":"IF(A27<>\"\",IFERROR(VLOOKUP(AO27,Tabelas!B:D,3,0),0),\"\")","v":0},{"$f":"IF(A27<>\"\",IFERROR(VLOOKUP(AP27,Tabelas!B:D,3,0),0),\"\")","v":0},{"$f":"IF(A27<>\"\",IFERROR(VLOOKUP(AQ27,Tabelas!B:D,3,0),0),\"\")","v":0},{"$f":"IF(A27<>\"\",IFERROR(VLOOKUP(AR27,Tabelas!B:D,3,0),0),\"\")","v":0},0,0,0,0,0,0,0,0,0]
["Fulano de Tal 20",1234567,123,"ENF","Ebserh",36,null,null,null,null,null,null,null,null,null,null,null,null,null,null,null,null,null,null,null,null,null,null,null,null,null,null,null,null,null,null,null,null,null,null,null,null,null,null,{"$f":"IF(A28<>\"\",IFERROR(VLOOKUP(N28,Tabelas!B:D,3,0),0),\"\")","v":0},{"$f":"IF(A28<>\"\",IFERROR(VLOOKUP(O28,Tabelas!B:D,3,0),0),\"\")","v":0},{"$f":"IF(A28<>\"\",IFERROR(VLOOKUP(P28,Tabelas!B:D,3,0),0),\"\")","v":0},{"$f":"IF(A28<>\"\",IFERROR(VLOOKUP(Q28,Tabelas!B:D,3,0),0),\"\")","v":0},{"$f":"IF(A28<>\"\",IFERROR(VLOOKUP(R28,Tabelas!B:D,3,0),0),\"\")","v":0},{"$f":"IF(A28<>\"\",IFERROR(VLOOKUP(S28,Tabelas!B:D,3,0),0),\"\")","v":0},{"$f":"IF(A28<>\"\",IFERROR(VLOOKUP(T28,Tabelas!B:D,3,0),0),\"\")","v":0},{"$f":"IF(A28<>\"\",IFERROR(VLOOKUP(U28,Tabelas!B:D,3,0),0),\"\")","v":0},{"$f":"IF(A28<>\"\",IFERROR(VLOOKUP(V28,Tabelas!B:D,3,0),0),\"\")","v":0},{"$f":"IF(A28<>\"\",IFERROR(VLOOKUP(W28,Tabelas!B:D,3,0),0),\"\")","v":0},{"$f":"IF(A28<>\"\",IFERROR(VLOOKUP(X28,Tabelas!B:D,3,0),0),\"\")","v":0},{"$f":"IF(A28<>\"\",IFERROR(VLOOKUP(Y28,Tabelas!B:D,3,0),0),\"\")","v":0},{"$f":"IF(A28<>\"\",IFERROR(VLOOKUP(Z28,Tabelas!B:D,3,0),0),\"\")","v":0},{"$f":"IF(A28<>\"\",IFERROR(VLOOKUP(AA28,Tabelas!B:D,3,0),0),\"\")","v":0},{"$f":"IF(A28<>\"\",IFERROR(VLOOKUP(AB28,Tabelas!B:D,3,0),0),\"\")","v":0},{"$f":"IF(A28<>\"\",IFERROR(VLOOKUP(AC28,Tabelas!B:D,3,0),0),\"\")","v":0},{"$f":"IF(A28<>\"\",IFERROR(VLOOKUP(AD28,Tabelas!B:D,3,0),0),\"\")","v":0},{"$f":"IF(A28<>\"\",IFERROR(VLOOKUP(AE28,Tabelas!B:D,3,0),0),\"\")","v":0},{"$f":"IF(A28<>\"\",IFERROR(VLOOKUP(AF28,Tabelas!B:D,3,0),0),\"\")","v":0},{"$f":"IF(A28<>\"\",IFERROR(VLOOKUP(AG28,Tabelas!B:D,3,0),0),\"\")","v":0},{"$f":"IF(A28<>\"\",IFERROR(VLOOKUP(AH28,Tabelas!B:D,3,0),0),\"\")","v":0},{"$f":"IF(A28<>\"\",IFERROR(VLOOKUP(AI28,Tabelas!B:D,3,0),0),\"\")","v":0},{"$f":"IF(A28<>\"\",IFERROR(VLOOKUP(AJ28,Tabelas!B:D,3,0),0),\"\")","v":0},{"$f":"IF(A28<>\"\",IFERROR(VLOOKUP(AK28,Tabelas!B:D,3,0),0),\"\")","v":0},{"$f":"IF(A28<>\"\",IFERROR(VLOOKUP(AL28,Tabelas!B:D,3,0),0),\"\")","v":0},{"$f":"IF(A28<>\"\",IFERROR(VLOOKUP(AM28,Tabelas!B:D,3,0),0),\"\")","v":0},{"$f":"IF(A28<>\"\",IFERROR(VLOOKUP(AN28,Tabelas!B:D,3,0),0),\"\")","v":0},{"$f":"IF(A28<>\"\",IFERROR(VLOOKUP(AO28,Tabelas!B:D,3,0),0),\"\")","v":0},{"$f":"IF(A28<>\"\",IFERROR(VLOOKUP(AP28,Tabelas!B:D,3,0),0),\"\")","v":0},{"$f":"IF(A28<>\"\",IFERROR(VLOOKUP(AQ28,Tabelas!B:D,3,0),0),\"\")","v":0},{"$f":"IF(A28<>\"\",IFERROR(VLOOKUP(AR28,Tabelas!B:D,3,0),0),\"\")","v":0},0,0,0,0,0,0,0,0,0]
["Fulano de Tal 21",1234567,123,"ENF","Ebserh",36,null,null,null,null,null,null,null,null,null,null,null,null,null,null,null,null,null,null,null,null,null,null,null,null,null,null,null,null,null,null,null,null,null,null,null,null,null,null,{"$f":"IF(A29<>\"\",IFERROR(VLOOKUP(N29,Tabelas!B:D,3,0),0),\"\")","v":0},{"$f":"IF(A29<>\"\",IFERROR(VLOOKUP(O29,Tabelas!B:D,3,0),0),\"\")","v":0},{"$f":"IF(A29<>\"\",IFERROR(VLOOKUP(P29,Tabelas!B:D,3,0),0),\"\")","v":0},{"$f":"IF(A29<>\"\",IFERROR(VLOOKUP(Q29,Tabelas!B:D,3,0),0),\"\")","v":0},{"$f":"IF(A29<>\"\",IFERROR(VLOOKUP(R29,Tabelas!B:D,3,0),0),\"\")","v":0},{"$f":"IF(A29<>\"\",IFERROR(VLOOKUP(S29,Tabelas!B:D,3,0),0),\"\")","v":0},{"$f":"IF(A29<>\"\",IFERROR(VLOOKUP(T29,Tabelas!B:D,3,0),0),\"\")","v":0},{"$f":"IF(A29<>\"\",IFERROR(VLOOKUP(U29,Tabelas!B:D,3,0),0),\"\")","v":0},{"$f":"IF(A29<>\"\",IFERROR(VLOOKUP(V29,Tabelas!B:D,3,0),0),\"\")","v":0},{"$f":"IF(A29<>\"\",IFERROR(VLOOKUP(W29,Tabelas!B:D,3,0),0),\"\")","v":0},{"$f":"IF(A29<>\"\",IFERROR(VLOOKUP(X29,Tabelas!B:D,3,0),0),\"\")","v":0},{"$f":"IF(A29<>\"\",IFERROR(VLOOKUP(Y29,Tabelas!B:D,3,0),0),\"\")","v":0},{"$f":"IF(A29<>\"\",IFERROR(VLOOKUP(Z29,Tabelas!B:D,3,0),0),\"\")","v":0},{"$f":"IF(A29<>\"\",IFERROR(VLOOKUP(AA29,Tabelas!B:D,3,0),0),\"\")","v":0},{"$f":"IF(A29<>\"\",IFERROR(VLOOKUP(AB29,Tabelas!B:D,3,0),0),\"\")","v":0},{"$f":"IF(A29<>\"\",IFERROR(VLOOKUP(AC29,Tabelas!B:D,3,0),0),\"\")","v":0},{"$f":"IF(A29<>\"\",IFERROR(VLOOKUP(AD29,Tabelas!B:D,3,0),0),\"\")","v":0},{"$f":"IF(A29<>\"\",IFERROR(VLOOKUP(AE29,Tabelas!B:D,3,0),0),\"\")","v":0},{"$f":"IF(A29<>\"\",IFERROR(VLOOKUP(AF29,Tabelas!B:D,3,0),0),\"\")","v":0},{"$f":"IF(A29<>\"\",IFERROR(VLOOKUP(AG29,Tabelas!B:D,3,0),0),\"\")","v":0},{"$f":"IF(A29<>\"\",IFERROR(VLOOKUP(AH29,Tabelas!B:D,3,0),0),\"\")","v":0},{"$f":"IF(A29<>\"\",IFERROR(VLOOKUP(AI29,Tabelas!B:D,3,0),0),\"\")","v":0},{"$f":"IF(A29<>\"\",IFERROR(VLOOKUP(AJ29,Tabelas!B:D,3,0),0),\"\")","v":0},{"$f":"IF(A29<>\"\",IFERROR(VLOOKUP(AK29,Tabelas!B:D,3,0),0),\"\")","v":0},{"$f":"IF(A29<>\"\",IFERROR(VLOOKUP(AL29,Tabelas!B:D,3,0),0),\"\")","v":0},{"$f":"IF(A29<>\"\",IFERROR(VLOOKUP(AM29,Tabelas!B:D,3,0),0),\"\")","v":0},{"$f":"IF(A29<>\"\",IFERROR(VLOOKUP(AN29,Tabelas!B:D,3,0),0),\"\")","v":0},{"$f":"IF(A29<>\"\",IFERROR(VLOOKUP(AO29,Tabelas!B:D,3,0),0),\"\")","v":0},{"$f":"IF(A29<>\"\",IFERROR(VLOOKUP(AP29,Tabelas!B:D,3,0),0),\"\")","v":0},{"$f":"IF(A29<>\"\",IFERROR(VLOOKUP(AQ29,Tabelas!B:D,3,0),0),\"\")","v":0},{"$f":"IF(A29<>\"\",IFERROR(VLOOKUP(AR29,Tabelas!B:D,3,0),0),\"\")","v":0},0,0,0,0,0,0,0,0,0]
["Fulano de Tal 22",1234567,123,"ENF","Ebserh",36,null,null,null,null,null,null,null,null,null,null,null,null,null,null,null,null,null,null,null,null,null,null,null,null,null,null,null,null,null,null,null,null,null,null,null,null,null,null,{"$f":"IF(A30<>\"\",IFERROR(VLOOKUP(N30,Tabelas!B:D,3,0),0),\"\")","v":0},{"$f":"IF(A30<>\"\",IFERROR(VLOOKUP(O30,Tabelas!B:D,3,0),0),\"\")","v":0},{"$f":"IF(A30<>\"\",IFERROR(VLOOKUP(P30,Tabelas!B:D,3,0),0),\"\")","v":0},{"$f":"IF(A30<>\"\",IFERROR(VLOOKUP(Q30,Tabelas!B:D,3,0),0),\"\")","v":0},{"$f":"IF(A30<>\"\",IFERROR(VLOOKUP(R30,Tabelas!B:D,3,0),0),\"\")","v":0},{"$f":"IF(A30<>\"\",IFERROR(VLOOKUP(S30,Tabelas!B:D,3,0),0),\"\")","v":0},{"$f":"IF(A30<>\"\",IFERROR(VLOOKUP(T30,Tabelas!B:D,3,0),0),\"\")","v":0},{"$f":"IF(A30<>\"\",IFERROR(VLOOKUP(U30,Tabelas!B:D,3,0),0),\"\")","v":0},{"$f":"IF(A30<>\"\",IFERROR(VLOOKUP(V30,Tabelas!B:D,3,0),0),\"\")","v":0},{"$f":"IF(A30<>\"\",IFERROR(VLOOKUP(W30,Tabelas!B:D,3,0),0),\"\")","v":0},{"$f":"IF(A30<>\"\",IFERROR(VLOOKUP(X30,Tabelas!B:D,3,0),0),\"\")","v":0},{"$f":"IF(A30<>\"\",IFERROR(VLOOKUP(Y30,Tabelas!B:D,3,0),0),\"\")","v":0},{"$f":"IF(A30<>\"\",IFERROR(VLOOKUP(Z30,Tabelas!B:D,3,0),0),\"\")","v":0},{"$f":"IF(A30<>\"\",IFERROR(VLOOKUP(AA30,Tabelas!B:D,3,0),0),\"\")","v":0},{"$f":"IF(A30<>\"\",IFERROR(VLOOKUP(AB30,Tabelas!B:D,3,0),0),\"\")","v":0},{"$f":"IF(A30<>\"\",IFERROR(VLOOKUP(AC30,Tabelas!B:D,3,0),0),\"\")","v":0},{"$f":"IF(A30<>\"\",IFERROR(VLOOKUP(AD30,Tabelas!B:D,3,0),0),\"\")","v":0},{"$f":"IF(A30<>\"\",IFERROR(VLOOKUP(AE30,Tabelas!B:D,3,0),0),\"\")","v":0},{"$f":"IF(A30<>\"\",IFERROR(VLOOKUP(AF30,Tabelas!B:D,3,0),0),\"\")","v":0},{"$f":"IF(A30<>\"\",IFERROR(VLOOKUP(AG30,Tabelas!B:D,3,0),0),\"\")","v":0},{"$f":"IF(A30<>\"\",IFERROR(VLOOKUP(AH30,Tabelas!B:D,3,0),0),\"\")","v":0},{"$f":"IF(A30<>\"\",IFERROR(VLOOKUP(AI30,Tabelas!B:D,3,0),0),\"\")","v":0},{"$f":"IF(A30<>\"\",IFERROR(VLOOKUP(AJ30,Tabelas!B:D,3,0),0),\"\")","v":0},{"$f":"IF(A30<>\"\",IFERROR(VLOOKUP(AK30,Tabelas!B:D,3,0),0),\"\")","v":0},{"$f":"IF(A30<>\"\",IFERROR(VLOOKUP(AL30,Tabelas!B:D,3,0),0),\"\")","v":0},{"$f":"IF(A30<>\"\",IFERROR(VLOOKUP(AM30,Tabelas!B:D,3,0),0),\"\")","v":0},{"$f":"IF(A30<>\"\",IFERROR(VLOOKUP(AN30,Tabelas!B:D,3,0),0),\"\")","v":0},{"$f":"IF(A30<>\"\",IFERROR(VLOOKUP(AO30,Tabelas!B:D,3,0),0),\"\")","v":0},{"$f":"IF(A30<>\"\",IFERROR(VLOOKUP(AP30,Tabelas!B:D,3,0),0),\"\")","v":0},{"$f":"IF(A30<>\"\",IFERROR(VLOOKUP(AQ30,Tabelas!B:D,3,0),0),\"\")","v":0},{"$f":"IF(A30<>\"\",IFERROR(VLOOKUP(AR30,Tabelas!B:D,3,0),0),\"\")","v":0},0,0,0,0,0,0,0,0,0]
["Fulano de Tal 23",1234567,123,"ENF","Ebserh",36,null,null,null,null,null,null,null,null,null,null,null,null,null,null,null,null,null,null,null,null,null,null,null,null,null,null,null,null,null,null,null,null,null,null,null,null,null,null,{"$f":"IF(A31<>\"\",IFERROR(VLOOKUP(N31,Tabelas!B:D,3,0),0),\"\")","v":0},{"$f":"IF(A31<>\"\",IFERROR(VLOOKUP(O31,Tabelas!B:D,3,0),0),\"\")","v":0},{"$f":"IF(A31<>\"\",IFERROR(VLOOKUP(P31,Tabelas!B:D,3,0),0),\"\")","v":0},{"$f":"IF(A31<>\"\",IFERROR(VLOOKUP(Q31,Tabelas!B:D,3,0),0),\"\")","v":0},{"$f":"IF(A31<>\"\",IFERROR(VLOOKUP(R31,Tabelas!B:D,3,0),0),\"\")","v":0},{"$f":"IF(A31<>\"\",IFERROR(VLOOKUP(S31,Tabelas!B:D,3,0),0),\"\")","v":0},{"$f":"IF(A31<>\"\",IFERROR(VLOOKUP(T31,Tabelas!B:D,3,0),0),\"\")","v":0},{"$f":"IF(A31<>\"\",IFERROR(VLOOKUP(U31,Tabelas!B:D,3,0),0),\"\")","v":0},{"$f":"IF(A31<>\"\",IFERROR(VLOOKUP(V31,Tabelas!B:D,3,0),0),\"\")","v":0},{"$f":"IF(A31<>\"\",IFERROR(VLOOKUP(W31,Tabelas!B:D,3,0),0),\"\")","v":0},{"$f":"IF(A31<>\"\",IFERROR(VLOOKUP(X31,Tabelas!B:D,3,0),0),\"\")","v":0},{"$f":"IF(A31<>\"\",IFERROR(VLOOKUP(Y31,Tabelas!B:D,3,0),0),\"\")","v":0},{"$f":"IF(A31<>\"\",IFERROR(VLOOKUP(Z31,Tabelas!B:D,3,0),0),\"\")","v":0},{"$f":"IF(A31<>\"\",IFERROR(VLOOKUP(AA31,Tabelas!B:D,3,0),0),\"\")","v":0},{"$f":"IF(A31<>\"\",IFERROR(VLOOKUP(AB31,Tabelas!B:D,3,0),0),\"\")","v":0},{"$f":"IF(A31<>\"\",IFERROR(VLOOKUP(AC31,Tabelas!B:D,3,0),0),\"\")","v":0},{"$f":"IF(A31<>\"\",IFERROR(VLOOKUP(AD31,Tabelas!B:D,3,0),0),\"\")","v":0},{"$f":"IF(A31<>\"\",IFERROR(VLOOKUP(AE31,Tabelas!B:D,3,0),0),\"\")","v":0},{"$f":"IF(A31<>\"\",IFERROR(VLOOKUP(AF31,Tabelas!B:D,3,0),0),\"\")","v":0},{"$f":"IF(A31<>\"\",IFERROR(VLOOKUP(AG31,Tabelas!B:D,3,0),0),\"\")","v":0},{"$f":"IF(A31<>\"\",IFERROR(VLOOKUP(AH31,Tabelas!B:D,3,0),0),\"\")","v":0},{"$f":"IF(A31<>\"\",IFERROR(VLOOKUP(AI31,Tabelas!B:D,3,0),0),\"\")","v":0},{"$f":"IF(A31<>\"\",IFERROR(VLOOKUP(AJ31,Tabelas!B:D,3,0),0),\"\")","v":0},{"$f":"IF(A31<>\"\",IFERROR(VLOOKUP(AK31,Tabelas!B:D,3,0),0),\"\")","v":0},{"$f":"IF(A31<>\"\",IFERROR(VLOOKUP(AL31,Tabelas!B:D,3,0),0),\"\")","v":0},{"$f":"IF(A31<>\"\",IFERROR(VLOOKUP(AM31,Tabelas!B:D,3,0),0),\"\")","v":0},{"$f":"IF(A31<>\"\",IFERROR(VLOOKUP(AN31,Tabelas!B:D,3,0),0),\"\")","v":0},{"$f":"IF(A31<>\"\",IFERROR(VLOOKUP(AO31,Tabelas!B:D,3,0),0),\"\")","v":0},{"$f":"IF(A31<>\"\",IFERROR(VLOOKUP(AP31,Tabelas!B:D,3,0),0),\"\")","v":0},{"$f":"IF(A31<>\"\",IFERROR(VLOOKUP(AQ31,Tabelas!B:D,3,0),0),\"\")","v":0},{"$f":"IF(A31<>\"\",IFERROR(VLOOKUP(AR31,Tabelas!B:D,3,0),0),\"\")","v":0},0,0,0,0,0,0,0,0,0]
["Fulano de Tal 24",1234567,123,"ENF","Ebserh",36,null,null,null,null,null,null,null,null,null,null,null,null,null,null,null,null,null,null,null,null,null,null,null,null,null,null,null,null,null,null,null,null,null,null,null,null,null,null,{"$f":"IF(A32<>\"\",IFERROR(VLOOKUP(N32,Tabelas!B:D,3,0),0),\"\")","v":0},{"$f":"IF(A32<>\"\",IFERROR(VLOOKUP(O32,Tabelas!B:D,3,0),0),\"\")","v":0},{"$f":"IF(A32<>\"\",IFERROR(VLOOKUP(P32,Tabelas!B:D,3,0),0),\"\")","v":0},{"$f":"IF(A32<>\"\",IFERROR(VLOOKUP(Q32,Tabelas!B:D,3,0),0),\"\")","v":0},{"$f":"IF(A32<>\"\",IFERROR(VLOOKUP(R32,Tabelas!B:D,3,0),0),\"\")","v":0},{"$f":"IF(A32<>\"\",IFERROR(VLOOKUP(S32,Tabelas!B:D,3,0),0),\"\")","v":0},{"$f":"IF(A32<>\"\",IFERROR(VLOOKUP(T32,Tabelas!B:D,3,0),0),\"\")","v":0},{"$f":"IF(A32<>\"\",IFERROR(VLOOKUP(U32,Tabelas!B:D,3,0),0),\"\")","v":0},{"$f":"IF(A32<>\"\",IFERROR(VLOOKUP(V32,Tabelas!B:D,3,0),0),\"\")","v":0},{"$f":"IF(A32<>\"\",IFERROR(VLOOKUP(W32,Tabelas!B:D,3,0),0),\"\")","v":0},{"$f":"IF(A32<>\"\",IFERROR(VLOOKUP(X32,Tabelas!B:D,3,0),0),\"\")","v":0},{"$f":"IF(A32<>\"\",IFERROR(VLOOKUP(Y32,Tabelas!B:D,3,0),0),\"\")","v":0},{"$f":"IF(A32<>\"\",IFERROR(VLOOKUP(Z32,Tabelas!B:D,3,0),0),\"\")","v":0},{"$f":"IF(A32<>\"\",IFERROR(VLOOKUP(AA32,Tabelas!B:D,3,0),0),\"\")","v":0},{"$f":"IF(A32<>\"\",IFERROR(VLOOKUP(AB32,Tabelas!B:D,3,0),0),\"\")","v":0},{"$f":"IF(A32<>\"\",IFERROR(VLOOKUP(AC32,Tabelas!B:D,3,0),0),\"\")","v":0},{"$f":"IF(A32<>\"\",IFERROR(VLOOKUP(AD32,Tabelas!B:D,3,0),0),\"\")","v":0},{"$f":"IF(A32<>\"\",IFERROR(VLOOKUP(AE32,Tabelas!B:D,3,0),0),\"\")","v":0},{"$f":"IF(A32<>\"\",IFERROR(VLOOKUP(AF32,Tabelas!B:D,3,0),0),\"\")","v":0},{"$f":"IF(A32<>\"\",IFERROR(VLOOKUP(AG32,Tabelas!B:D,3,0),0),\"\")","v":0},{"$f":"IF(A32<>\"\",IFERROR(VLOOKUP(AH32,Tabelas!B:D,3,0),0),\"\")","v":0},{"$f":"IF(A32<>\"\",IFERROR(VLOOKUP(AI32,Tabelas!B:D,3,0),0),\"\")","v":0},{"$f":"IF(A32<>\"\",IFERROR(VLOOKUP(AJ32,Tabelas!B:D,3,0),0),\"\")","v":0},{"$f":"IF(A32<>\"\",IFERROR(VLOOKUP(AK32,Tabelas!B:D,3,0),0),\"\")","v":0},{"$f":"IF(A32<>\"\",IFERROR(VLOOKUP(AL32,Tabelas!B:D,3,0),0),\"\")","v":0},{"$f":"IF(A32<>\"\",IFERROR(VLOOKUP(AM32,Tabelas!B:D,3,0),0),\"\")","v":0},{"$f":"IF(A32<>\"\",IFERROR(VLOOKUP(AN32,Tabelas!B:D,3,0),0),\"\")","v":0},{"$f":"IF(A32<>\"\",IFERROR(VLOOKUP(AO32,Tabelas!B:D,3,0),0),\"\")","v":0},{"$f":"IF(A32<>\"\",IFERROR(VLOOKUP(AP32,Tabelas!B:D,3,0),0),\"\")","v":0},{"$f":"IF(A32<>\"\",IFERROR(VLOOKUP(AQ32,Tabelas!B:D,3,0),0),\"\")","v":0},{"$f":"IF(A32<>\"\",IFERROR(VLOOKUP(AR32,Tabelas!B:D,3,0),0),\"\")","v":0},0,0,0,0,0,0,0,0,0]
["Fulano de Tal 25",1234567,123,"ENF","Ebserh",36,null,null,null,null,null,null,null,null,null,null,null,null,null,null,null,null,null,null,null,null,null,null,null,null,null,null,null,null,null,null,null,null,null,null,null,null,null,null,{"$f":"IF(A33<>\"\",IFERROR(VLOOKUP(N33,Tabelas!B:D,3,0),0),\"\")","v":0},{"$f":"IF(A33<>\"\",IFERROR(VLOOKUP(O33,Tabelas!B:D,3,0),0),\"\")","v":0},{"$f":"IF(A33<>\"\",IFERROR(VLOOKUP(P33,Tabelas!B:D,3,0),0),\"\")","v":0},{"$f":"IF(A33<>\"\",IFERROR(VLOOKUP(Q33,Tabelas!B:D,3,0),0),\"\")","v":0},{"$f":"IF(A33<>\"\",IFERROR(VLOOKUP(R33,Tabelas!B:D,3,0),0),\"\")","v":0},{"$f":"IF(A33<>\"\",IFERROR(VLOOKUP(S33,Tabelas!B:D,3,0),0),\"\")","v":0},{"$f":"IF(A33<>\"\",IFERROR(VLOOKUP(T33,Tabelas!B:D,3,0),0),\"\")","v":0},{"$f":"IF(A33<>\"\",IFERROR(VLOOKUP(U33,Tabelas!B:D,3,0),0),\"\")","v":0},{"$f":"IF(A33<>\"\",IFERROR(VLOOKUP(V33,Tabelas!B:D,3,0),0),\"\")","v":0},{"$f":"IF(A33<>\"\",IFERROR(VLOOKUP(W33,Tabelas!B:D,3,0),0),\"\")","v":0},{"$f":"IF(A33<>\"\",IFERROR(VLOOKUP(X33,Tabelas!B:D,3,0),0),\"\")","v":0},{"$f":"IF(A33<>\"\",IFERROR(VLOOKUP(Y33,Tabelas!B:D,3,0),0),\"\")","v":0},{"$f":"IF(A33<>\"\",IFERROR(VLOOKUP(Z33,Tabelas!B:D,3,0),0),\"\")","v":0},{"$f":"IF(A33<>\"\",IFERROR(VLOOKUP(AA33,Tabelas!B:D,3,0),0),\"\")","v":0},{"$f":"IF(A33<>\"\",IFERROR(VLOOKUP(AB33,Tabelas!B:D,3,0),0),\"\")","v":0},{"$f":"IF(A33<>\"\",IFERROR(VLOOKUP(AC33,Tabelas!B:D,3,0),0),\"\")","v":0},{"$f":"IF(A33<>\"\",IFERROR(VLOOKUP(AD33,Tabelas!B:D,3,0),0),\"\")","v":0},{"$f":"IF(A33<>\"\",IFERROR(VLOOKUP(AE33,Tabelas!B:D,3,0),0),\"\")","v":0},{"$f":"IF(A33<>\"\",IFERROR(VLOOKUP(AF33,Tabelas!B:D,3,0),0),\"\")","v":0},{"$f":"IF(A33<>\"\",IFERROR(VLOOKUP(AG33,Tabelas!B:D,3,0),0),\"\")","v":0},{"$f":"IF(A33<>\"\",IFERROR(VLOOKUP(AH33,Tabelas!B:D,3,0),0),\"\")","v":0},{"$f":"IF(A33<>\"\",IFERROR(VLOOKUP(AI33,Tabelas!B:D,3,0),0),\"\")","v":0},{"$f":"IF(A33<>\"\",IFERROR(VLOOKUP(AJ33,Tabelas!B:D,3,0),0),\"\")","v":0},{"$f":"IF(A33<>\"\",IFERROR(VLOOKUP(AK33,Tabelas!B:D,3,0),0),\"\")","v":0},{"$f":"IF(A33<>\"\",IFERROR(VLOOKUP(AL33,Tabelas!B:D,3,0),0),\"\")","v":0},{"$f":"IF(A33<>\"\",IFERROR(VLOOKUP(AM33,Tabelas!B:D,3,0),0),\"\")","v":0},{"$f":"IF(A33<>\"\",IFERROR(VLOOKUP(AN33,Tabelas!B:D,3,0),0),\"\")","v":0},{"$f":"IF(A33<>\"\",IFERROR(VLOOKUP(AO33,Tabelas!B:D,3,0),0),\"\")","v":0},{"$f":"IF(A33<>\"\",IFERROR(VLOOKUP(AP33,Tabelas!B:D,3,0),0),\"\")","v":0},{"$f":"IF(A33<>\"\",IFERROR(VLOOKUP(AQ33,Tabelas!B:D,3,0),0),\"\")","v":0},{"$f":"IF(A33<>\"\",IFERROR(VLOOKUP(AR33,Tabelas!B:D,3,0),0),\"\")","v":0},0,0,0,0,0,0,0,0,0]
["Fulano de Tal 26",1234567,123,"ENF","Ebserh",36,null,null,null,null,null,null,null,null,null,null,null,null,null,null,null,null,null,null,null,null,null,null,null,null,null,null,null,null,null,null,null,null,null,null,null,null,null,null,{"$f":"IF(A34<>\"\",IFERROR(VLOOKUP(N34,Tabelas!B:D,3,0),0),\"\")","v":0},{"$f":"IF(A34<>\"\",IFERROR(VLOOKUP(O34,Tabelas!B:D,3,0),0),\"\")","v":0},{"$f":"IF(A34<>\"\",IFERROR(VLOOKUP(P34,Tabelas!B:D,3,0),0),\"\")","v":0},{"$f":"IF(A34<>\"\",IFERROR(VLOOKUP(Q34,Tabelas!B:D,3,0),0),\"\")","v":0},{"$f":"IF(A34<>\"\",IFERROR(VLOOKUP(R34,Tabelas!B:D,3,0),0),\"\")","v":0},{"$f":"IF(A34<>\"\",IFERROR(VLOOKUP(S34,Tabelas!B:D,3,0),0),\"\")","v":0},{"$f":"IF(A34<>\"\",IFERROR(VLOOKUP(T34,Tabelas!B:D,3,0),0),\"\")","v":0},{"$f":"IF(A34<>\"\",IFERROR(VLOOKUP(U34,Tabelas!B:D,3,0),0),\"\")","v":0},{"$f":"IF(A34<>\"\",IFERROR(VLOOKUP(V34,Tabelas!B:D,3,0),0),\"\")","v":0},{"$f":"IF(A34<>\"\",IFERROR(VLOOKUP(W34,Tabelas!B:D,3,0),0),\"\")","v":0},{"$f":"IF(A34<>\"\",IFERROR(VLOOKUP(X34,Tabelas!B:D,3,0),0),\"\")","v":0},{"$f":"IF(A34<>\"\",IFERROR(VLOOKUP(Y34,Tabelas!B:D,3,0),0),\"\")","v":0},{"$f":"IF(A34<>\"\",IFERROR(VLOOKUP(Z34,Tabelas!B:D,3,0),0),\"\")","v":0},{"$f":"IF(A34<>\"\",IFERROR(VLOOKUP(AA34,Tabelas!B:D,3,0),0),\"\")","v":0},{"$f":"IF(A34<>\"\",IFERROR(VLOOKUP(AB34,Tabelas!B:D,3,0),0),\"\")","v":0},{"$f":"IF(A34<>\"\",IFERROR(VLOOKUP(AC34,Tabelas!B:D,3,0),0),\"\")","v":0},{"$f":"IF(A34<>\"\",IFERROR(VLOOKUP(AD34,Tabelas!B:D,3,0),0),\"\")","v":0},{"$f":"IF(A34<>\"\",IFERROR(VLOOKUP(AE34,Tabelas!B:D,3,0),0),\"\")","v":0},{"$f":"IF(A34<>\"\",IFERROR(VLOOKUP(AF34,Tabelas!B:D,3,0),0),\"\")","v":0},{"$f":"IF(A34<>\"\",IFERROR(VLOOKUP(AG34,Tabelas!B:D,3,0),0),\"\")","v":0},{"$f":"IF(A34<>\"\",IFERROR(VLOOKUP(AH34,Tabelas!B:D,3,0),0),\"\")","v":0},{"$f":"IF(A34<>\"\",IFERROR(VLOOKUP(AI34,Tabelas!B:D,3,0),0),\"\")","v":0},{"$f":"IF(A34<>\"\",IFERROR(VLOOKUP(AJ34,Tabelas!B:D,3,0),0),\"\")","v":0},{"$f":"IF(A34<>\"\",IFERROR(VLOOKUP(AK34,Tabelas!B:D,3,0),0),\"\")","v":0},{"$f":"IF(A34<>\"\",IFERROR(VLOOKUP(AL34,Tabelas!B:D,3,0),0),\"\")","v":0},{"$f":"IF(A34<>\"\",IFERROR(VLOOKUP(AM34,Tabelas!B:D,3,0),0),\"\")","v":0},{"$f":"IF(A34<>\"\",IFERROR(VLOOKUP(AN34,Tabelas!B:D,3,0),0),\"\")","v":0},{"$f":"IF(A34<>\"\",IFERROR(VLOOKUP(AO34,Tabelas!B:D,3,0),0),\"\")","v":0},{"$f":"IF(A34<>\"\",IFERROR(VLOOKUP(AP34,Tabelas!B:D,3,0),0),\"\")","v":0},{"$f":"IF(A34<>\"\",IFERROR(VLOOKUP(AQ34,Tabelas!B:D,3,0),0),\"\")","v":0},{"$f":"IF(A34<>\"\",IFERROR(VLOOKUP(AR34,Tabelas!B:D,3,0),0),\"\")","v":0},0,0,0,0,0,0,0,0,0]
["Fulano de Tal 27",1234567,123,"ENF","Ebserh",36,null,null,null,null,null,null,null,null,null,null,null,null,null,null,null,null,null,null,null,null,null,null,null,null,null,null,null,null,null,null,null,null,null,null,null,null,null,null,{"$f":"IF(A35<>\"\",IFERROR(VLOOKUP(N35,Tabelas!B:D,3,0),0),\"\")","v":0},{"$f":"IF(A35<>\"\",IFERROR(VLOOKUP(O35,Tabelas!B:D,3,0),0),\"\")","v":0},{"$f":"IF(A35<>\"\",IFERROR(VLOOKUP(P35,Tabelas!B:D,3,0),0),\"\")","v":0},{"$f":"IF(A35<>\"\",IFERROR(VLOOKUP(Q35,Tabelas!B:D,3,0),0),\"\")","v":0},{"$f":"IF(A35<>\"\",IFERROR(VLOOKUP(R35,Tabelas!B:D,3,0),0),\"\")","v":0},{"$f":"IF(A35<>\"\",IFERROR(VLOOKUP(S35,Tabelas!B:D,3,0),0),\"\")","v":0},{"$f":"IF(A35<>\"\",IFERROR(VLOOKUP(T35,Tabelas!B:D,3,0),0),\"\")","v":0},{"$f":"IF(A35<>\"\",IFERROR(VLOOKUP(U35,Tabelas!B:D,3,0),0),\"\")","v":0},{"$f":"IF(A35<>\"\",IFERROR(VLOOKUP(V35,Tabelas!B:D,3,0),0),\"\")","v":0},{"$f":"IF(A35<>\"\",IFERROR(VLOOKUP(W35,Tabelas!B:D,3,0),0),\"\")","v":0},{"$f":"IF(A35<>\"\",IFERROR(VLOOKUP(X35,Tabelas!B:D,3,0),0),\"\")","v":0},{"$f":"IF(A35<>\"\",IFERROR(VLOOKUP(Y35,Tabelas!B:D,3,0),0),\"\")","v":0},{"$f":"IF(A35<>\"\",IFERROR(VLOOKUP(Z35,Tabelas!B:D,3,0),0),\"\")","v":0},{"$f":"IF(A35<>\"\",IFERROR(VLOOKUP(AA35,Tabelas!B:D,3,0),0),\"\")","v":0},{"$f":"IF(A35<>\"\",IFERROR(VLOOKUP(AB35,Tabelas!B:D,3,0),0),\"\")","v":0},{"$f":"IF(A35<>\"\",IFERROR(VLOOKUP(AC35,Tabelas!B:D,3,0),0),\"\")","v":0},{"$f":"IF(A35<>\"\",IFERROR(VLOOKUP(AD35,Tabelas!B:D,3,0),0),\"\")","v":0},{"$f":"IF(A35<>\"\",IFERROR(VLOOKUP(AE35,Tabelas!B:D,3,0),0),\"\")","v":0},{"$f":"IF(A35<>\"\",IFERROR(VLOOKUP(AF35,Tabelas!B:D,3,0),0),\"\")","v":0},{"$f":"IF(A35<>\"\",IFERROR(VLOOKUP(AG35,Tabelas!B:D,3,0),0),\"\")","v":0},{"$f":"IF(A35<>\"\",IFERROR(VLOOKUP(AH35,Tabelas!B:D,3,0),0),\"\")","v":0},{"$f":"IF(A35<>\"\",IFERROR(VLOOKUP(AI35,Tabelas!B:D,3,0),0),\"\")","v":0},{"$f":"IF(A35<>\"\",IFERROR(VLOOKUP(AJ35,Tabelas!B:D,3,0),0),\"\")","v":0},{"$f":"IF(A35<>\"\",IFERROR(VLOOKUP(AK35,Tabelas!B:D,3,0),0),\"\")","v":0},{"$f":"IF(A35<>\"\",IFERROR(VLOOKUP(AL35,Tabelas!B:D,3,0),0),\"\")","v":0},{"$f":"IF(A35<>\"\",IFERROR(VLOOKUP(AM35,Tabelas!B:D,3,0),0),\"\")","v":0},{"$f":"IF(A35<>\"\",IFERROR(VLOOKUP(AN35,Tabelas!B:D,3,0),0),\"\")","v":0},{"$f":"IF(A35<>\"\",IFERROR(VLOOKUP(AO35,Tabelas!B:D,3,0),0),\"\")","v":0},{"$f":"IF(A35<>\"\",IFERROR(VLOOKUP(AP35,Tabelas!B:D,3,0),0),\"\")","v":0},{"$f":"IF(A35<>\"\",IFERROR(VLOOKUP(AQ35,Tabelas!B:D,3,0),0),\"\")","v":0},{"$f":"IF(A35<>\"\",IFERROR(VLOOKUP(AR35,Tabelas!B:D,3,0),0),\"\")","v":0},0,0,0,0,0,0,0,0,0]
["Fulano de Tal 28",1234567,123,"ENF","Ebserh",36,null,null,null,null,null,null,null,null,null,null,null,null,null,null,null,null,null,null,null,null,null,null,null,null,null,null,null,null,null,null,null,null,null,null,null,null,null,null,{"$f":"IF(A36<>\"\",IFERROR(VLOOKUP(N36,Tabelas!B:D,3,0),0),\"\")","v":0},{"$f":"IF(A36<>\"\",IFERROR(VLOOKUP(O36,Tabelas!B:D,3,0),0),\"\")","v":0},{"$f":"IF(A36<>\"\",IFERROR(VLOOKUP(P36,Tabelas!B:D,3,0),0),\"\")","v":0},{"$f":"IF(A36<>\"\",IFERROR(VLOOKUP(Q36,Tabelas!B:D,3,0),0),\"\")","v":0},{"$f":"IF(A36<>\"\",IFERROR(VLOOKUP(R36,Tabelas!B:D,3,0),0),\"\")","v":0},{"$f":"IF(A36<>\"\",IFERROR(VLOOKUP(S36,Tabelas!B:D,3,0),0),\"\")","v":0},{"$f":"IF(A36<>\"\",IFERROR(VLOOKUP(T36,Tabelas!B:D,3,0),0),\"\")","v":0},{"$f":"IF(A36<>\"\",IFERROR(VLOOKUP(U36,Tabelas!B:D,3,0),0),\"\")","v":0},{"$f":"IF(A36<>\"\",IFERROR(VLOOKUP(V36,Tabelas!B:D,3,0),0),\"\")","v":0},{"$f":"IF(A36<>\"\",IFERROR(VLOOKUP(W36,Tabelas!B:D,3,0),0),\"\")","v":0},{"$f":"IF(A36<>\"\",IFERROR(VLOOKUP(X36,Tabelas!B:D,3,0),0),\"\")","v":0},{"$f":"IF(A36<>\"\",IFERROR(VLOOKUP(Y36,Tabelas!B:D,3,0),0),\"\")","v":0},{"$f":"IF(A36<>\"\",IFERROR(VLOOKUP(Z36,Tabelas!B:D,3,0),0),\"\")","v":0},{"$f":"IF(A36<>\"\",IFERROR(VLOOKUP(AA36,Tabelas!B:D,3,0),0),\"\")","v":0},{"$f":"IF(A36<>\"\",IFERROR(VLOOKUP(AB36,Tabelas!B:D,3,0),0),\"\")","v":0},{"$f":"IF(A36<>\"\",IFERROR(VLOOKUP(AC36,Tabelas!B:D,3,0),0),\"\")","v":0},{"$f":"IF(A36<>\"\",IFERROR(VLOOKUP(AD36,Tabelas!B:D,3,0),0),\"\")","v":0},{"$f":"IF(A36<>\"\",IFERROR(VLOOKUP(AE36,Tabelas!B:D,3,0),0),\"\")","v":0},{"$f":"IF(A36<>\"\",IFERROR(VLOOKUP(AF36,Tabelas!B:D,3,0),0),\"\")","v":0},{"$f":"IF(A36<>\"\",IFERROR(VLOOKUP(AG36,Tabelas!B:D,3,0),0),\"\")","v":0},{"$f":"IF(A36<>\"\",IFERROR(VLOOKUP(AH36,Tabelas!B:D,3,0),0),\"\")","v":0},{"$f":"IF(A36<>\"\",IFERROR(VLOOKUP(AI36,Tabelas!B:D,3,0),0),\"\")","v":0},{"$f":"IF(A36<>\"\",IFERROR(VLOOKUP(AJ36,Tabelas!B:D,3,0),0),\"\")","v":0},{"$f":"IF(A36<>\"\",IFERROR(VLOOKUP(AK36,Tabelas!B:D,3,0),0),\"\")","v":0},{"$f":"IF(A36<>\"\",IFERROR(VLOOKUP(AL36,Tabelas!B:D,3,0),0),\"\")","v":0},{"$f":"IF(A36<>\"\",IFERROR(VLOOKUP(AM36,Tabelas!B:D,3,0),0),\"\")","v":0},{"$f":"IF(A36<>\"\",IFERROR(VLOOKUP(AN36,Tabelas!B:D,3,0),0),\"\")","v":0},{"$f":"IF(A36<>\"\",IFERROR(VLOOKUP(AO36,Tabelas!B:D,3,0),0),\"\")","v":0},{"$f":"IF(A36<>\"\",IFERROR(VLOOKUP(AP36,Tabelas!B:D,3,0),0),\"\")","v":0},{"$f":"IF(A36<>\"\",IFERROR(VLOOKUP(AQ36,Tabelas!B:D,3,0),0),\"\")","v":0},{"$f":"IF(A36<>\"\",IFERROR(VLOOKUP(AR36,Tabelas!B:D,3,0),0),\"\")","v":0},0,0,0,0,0,0,0,0,0]
["Fulano de Tal 29",1234567,123,"ENF","Ebserh",36,null,null,null,null,null,null,null,null,null,null,null,null,null,null,null,null,null,null,null,null,null,null,null,null,null,null,null,null,null,null,null,null,null,null,null,null,null,null,{"$f":"IF(A37<>\"\",IFERROR(VLOOKUP(N37,Tabelas!B:D,3,0),0),\"\")","v":0},{"$f":"IF(A37<>\"\",IFERROR(VLOOKUP(O37,Tabelas!B:D,3,0),0),\"\")","v":0},{"$f":"IF(A37<>\"\",IFERROR(VLOOKUP(P37,Tabelas!B:D,3,0),0),\"\")","v":0},{"$f":"IF(A37<>\"\",IFERROR(VLOOKUP(Q37,Tabelas!B:D,3,0),0),\"\")","v":0},{"$f":"IF(A37<>\"\",IFERROR(VLOOKUP(R37,Tabelas!B:D,3,0),0),\"\")","v":0},{"$f":"IF(A37<>\"\",IFERROR(VLOOKUP(S37,Tabelas!B:D,3,0),0),\"\")","v":0},{"$f":"IF(A37<>\"\",IFERROR(VLOOKUP(T37,Tabelas!B:D,3,0),0),\"\")","v":0},{"$f":"IF(A37<>\"\",IFERROR(VLOOKUP(U37,Tabelas!B:D,3,0),0),\"\")","v":0},{"$f":"IF(A37<>\"\",IFERROR(VLOOKUP(V37,Tabelas!B:D,3,0),0),\"\")","v":0},{"$f":"IF(A37<>\"\",IFERROR(VLOOKUP(W37,Tabelas!B:D,3,0),0),\"\")","v":0},{"$f":"IF(A37<>\"\",IFERROR(VLOOKUP(X37,Tabelas!B:D,3,0),0),\"\")","v":0},{"$f":"IF(A37<>\"\",IFERROR(VLOOKUP(Y37,Tabelas!B:D,3,0),0),\"\")","v":0},{"$f":"IF(A37<>\"\",IFERROR(VLOOKUP(Z37,Tabelas!B:D,3,0),0),\"\")","v":0},{"$f":"IF(A37<>\"\",IFERROR(VLOOKUP(AA37,Tabelas!B:D,3,0),0),\"\")","v":0},{"$f":"IF(A37<>\"\",IFERROR(VLOOKUP(AB37,Tabelas!B:D,3,0),0),\"\")","v":0},{"$f":"IF(A37<>\"\",IFERROR(VLOOKUP(AC37,Tabelas!B:D,3,0),0),\"\")","v":0},{"$f":"IF(A37<>\"\",IFERROR(VLOOKUP(AD37,Tabelas!B:D,3,0),0),\"\")","v":0},{"$f":"IF(A37<>\"\",IFERROR(VLOOKUP(AE37,Tabelas!B:D,3,0),0),\"\")","v":0},{"$f":"IF(A37<>\"\",IFERROR(VLOOKUP(AF37,Tabelas!B:D,3,0),0),\"\")","v":0},{"$f":"IF(A37<>\"\",IFERROR(VLOOKUP(AG37,Tabelas!B:D,3,0),0),\"\")","v":0},{"$f":"IF(A37<>\"\",IFERROR(VLOOKUP(AH37,Tabelas!B:D,3,0),0),\"\")","v":0},{"$f":"IF(A37<>\"\",IFERROR(VLOOKUP(AI37,Tabelas!B:D,3,0),0),\"\")","v":0},{"$f":"IF(A37<>\"\",IFERROR(VLOOKUP(AJ37,Tabelas!B:D,3,0),0),\"\")","v":0},{"$f":"IF(A37<>\"\",IFERROR(VLOOKUP(AK37,Tabelas!B:D,3,0),0),\"\")","v":0},{"$f":"IF(A37<>\"\",IFERROR(VLOOKUP(AL37,Tabelas!B:D,3,0),0),\"\")","v":0},{"$f":"IF(A37<>\"\",IFERROR(VLOOKUP(AM37,Tabelas!B:D,3,0),0),\"\")","v":0},{"$f":"IF(A37<>\"\",IFERROR(VLOOKUP(AN37,Tabelas!B:D,3,0),0),\"\")","v":0},{"$f":"IF(A37<>\"\",IFERROR(VLOOKUP(AO37,Tabelas!B:D,3,0),0),\"\")","v":0},{"$f":"IF(A37<>\"\",IFERROR(VLOOKUP(AP37,Tabelas!B:D,3,0),0),\"\")","v":0},{"$f":"IF(A37<>\"\",IFERROR(VLOOKUP(AQ37,Tabelas!B:D,3,0),0),\"\")","v":0},{"$f":"IF(A37<>\"\",IFERROR(VLOOKUP(AR37,Tabelas!B:D,3,0),0),\"\")","v":0},0,0,0,0,0,0,0,0,0]
["Fulano de Tal 30",1234567,123,"ENF","Ebserh",36,null,null,null,null,null,null,null,null,null,null,null,null,null,null,null,null,null,null,null,null,null,null,null,null,null,null,null,null,null,null,null,null,null,null,null,null,null,null,{"$f":"IF(A38<>\"\",IFERROR(VLOOKUP(N38,Tabelas!B:D,3,0),0),\"\")","v":0},{"$f":"IF(A38<>\"\",IFERROR(VLOOKUP(O38,Tabelas!B:D,3,0),0),\"\")","v":0},{"$f":"IF(A38<>\"\",IFERROR(VLOOKUP(P38,Tabelas!B:D,3,0),0),\"\")","v":0},{"$f":"IF(A38<>\"\",IFERROR(VLOOKUP(Q38,Tabelas!B:D,3,0),0),\"\")","v":0},{"$f":"IF(A38<>\"\",IFERROR(VLOOKUP(R38,Tabelas!B:D,3,0),0),\"\")","v":0},{"$f":"IF(A38<>\"\",IFERROR(VLOOKUP(S38,Tabelas!B:D,3,0),0),\"\")","v":0},{"$f":"IF(A38<>\"\",IFERROR(VLOOKUP(T38,Tabelas!B:D,3,0),0),\"\")","v":0},{"$f":"IF(A38<>\"\",IFERROR(VLOOKUP(U38,Tabelas!B:D,3,0),0),\"\")","v":0},{"$f":"IF(A38<>\"\",IFERROR(VLOOKUP(V38,Tabelas!B:D,3,0),0),\"\")","v":0},{"$f":"IF(A38<>\"\",IFERROR(VLOOKUP(W38,Tabelas!B:D,3,0),0),\"\")","v":0},{"$f":"IF(A38<>\"\",IFERROR(VLOOKUP(X38,Tabelas!B:D,3,0),0),\"\")","v":0},{"$f":"IF(A38<>\"\",IFERROR(VLOOKUP(Y38,Tabelas!B:D,3,0),0),\"\")","v":0},{"$f":"IF(A38<>\"\",IFERROR(VLOOKUP(Z38,Tabelas!B:D,3,0),0),\"\")","v":0},{"$f":"IF(A38<>\"\",IFERROR(VLOOKUP(AA38,Tabelas!B:D,3,0),0),\"\")","v":0},{"$f":"IF(A38<>\"\",IFERROR(VLOOKUP(AB38,Tabelas!B:D,3,0),0),\"\")","v":0},{"$f":"IF(A38<>\"\",IFERROR(VLOOKUP(AC38,Tabelas!B:D,3,0),0),\"\")","v":0},{"$f":"IF(A38<>\"\",IFERROR(VLOOKUP(AD38,Tabelas!B:D,3,0),0),\"\")","v":0},{"$f":"IF(A38<>\"\",IFERROR(VLOOKUP(AE38,Tabelas!B:D,3,0),0),\"\")","v":0},{"$f":"IF(A38<>\"\",IFERROR(VLOOKUP(AF38,Tabelas!B:D,3,0),0),\"\")","v":0},{"$f":"IF(A38<>\"\",IFERROR(VLOOKUP(AG38,Tabelas!B:D,3,0),0),\"\")","v":0},{"$f":"IF(A38<>\"\",IFERROR(VLOOKUP(AH38,Tabelas!B:D,3,0),0),\"\")","v":0},{"$f":"IF(A38<>\"\",IFERROR(VLOOKUP(AI38,Tabelas!B:D,3,0),0),\"\")","v":0},{"$f":"IF(A38<>\"\",IFERROR(VLOOKUP(AJ38,Tabelas!B:D,3,0),0),\"\")","v":0},{"$f":"IF(A38<>\"\",IFERROR(VLOOKUP(AK38,Tabelas!B:D,3,0),0),\"\")","v":0},{"$f":"IF(A38<>\"\",IFERROR(VLOOKUP(AL38,Tabelas!B:D,3,0),0),\"\")","v":0},{"$f":"IF(A38<>\"\",IFERROR(VLOOKUP(AM38,Tabelas!B:D,3,0),0),\"\")","v":0},{"$f":"IF(A38<>\"\",IFERROR(VLOOKUP(AN38,Tabelas!B:D,3,0),0),\"\")","v":0},{"$f":"IF(A38<>\"\",IFERROR(VLOOKUP(AO38,Tabelas!B:D,3,0),0),\"\")","v":0},{"$f":"IF(A38<>\"\",IFERROR(VLOOKUP(AP38,Tabelas!B:D,3,0),0),\"\")","v":0},{"$f":"IF(A38<>\"\",IFERROR(VLOOKUP(AQ38,Tabelas!B:D,3,0),0),\"\")","v":0},{"$f":"IF(A38<>\"\",IFERROR(VLOOKUP(AR38,Tabelas!B:D,3,0),0),\"\")","v":0},0,0,0,0,0,0,0,0,0]
["TOTAL PROFISSIONAIS MATUTINO",null,null,null,null,null,null,null,null,null,null,null,null,{"$f":"COUNTIF(N9:N18,\"M\")+COUNTIF(N19:N28,\"M\")+COUNTIF(N29:N38,\"M\")+COUNTIF(N9:N18,\"M?\") +COUNTIF(N19:N28,\"M?\")+COUNTIF(N29:N38,\"M?\")+ COUNTIF(N9:N18, \"MT?\") + COUNTIF(N19:N28, \"MT?\")+ COUNTIF(N29:N38, \"MT?\")+ COUNTIF(N9:N18, \"D?\")  + COUNTIF(N19:N28, \"D?\")+COUNTIF(N29:N38, \"D?\")+ COUNTIF(N9:N18, \"DN?\")+ COUNTIF(N19:N28, \"DN?\")+ COUNTIF(N29:N38, \"DN?\")+ COUNTIF(N9:N18, \"MT??\") + COUNTIF(N19:N28, \"MT??\")+ COUNTIF(N29:N38, \"MT??\")+ COUNTIF(N9:N18, \"D\")  + COUNTIF(N19:N28, \"D\")+COUNTIF(N29:N38, \"D\")","v":0},0,0,0,0,0,0,0,0,0,0,0,0,0,0,0,0,0,0,0,0,0,0,0,0,0,0,0,0,0,0]
["TOTAL DE PROFISSIONAIS VESPERTINO",null,null,null,null,null,null,null,null,null,null,null,null,{"$f":"COUNTIF(N9:N18,\"T\")+COUNTIF(N19:N28,\"T\")+COUNTIF(N29:N38,\"T\")+COUNTIF(N9:N18,\"T?\") +COUNTIF(N19:N28,\"T?\")+COUNTIF(N29:N38,\"T?\")+ COUNTIF(N9:N18, \"MT?\") + COUNTIF(N19:N28, \"MT?\")+ COUNTIF(N29:N38, \"MT?\")+ COUNTIF(N9:N18, \"D?\")  + COUNTIF(N19:N28, \"D?\")+COUNTIF(N29:N38, \"D?\")+ COUNTIF(N9:N18, \"DN?\")+ COUNTIF(N19:N28, \"DN?\")+ COUNTIF(N29:N38, \"DN?\")+ COUNTIF(N9:N18, \"MT??\") + COUNTIF(N19:N28, \"MT??\")+ COUNTIF(N29:N38, \"MT??\")+ COUNTIF(N9:N18, \"D\")  + COUNTIF(N19:N28, \"D\")+COUNTIF(N29:N38, \"D\")","v":0},0,0,0,0,0,0,0,0,0,0,0,0,0,0,0,0,0,0,0,0,0,0,0,0,0,0,0,0,0,0,{"$f":"IF(A40<>\"\",IFERROR(VLOOKUP(N40,Tabelas!B:D,3,0),0),\"\")","v":0},{"$f":"IF(A40<>\"\",IFERROR(VLOOKUP(O40,Tabelas!B:D,3,0),0),\"\")","v":0},{"$f":"IF(A40<>\"\",IFERROR(VLOOKUP(P40,Tabelas!B:D,3,0),0),\"\")","v":0},{"$f":"IF(A40<>\"\",IFERROR(VLOOKUP(Q40,Tabelas!B:D,3,0),0),\"\")","v":0},{"$f":"IF(A40<>\"\",IFERROR(VLOOKUP(R40,Tabelas!B:D,3,0),0),\"\")","v":0},{"$f":"IF(A40<>\"\",IFERROR(VLOOKUP(S40,Tabelas!B:D,3,0),0),\"\")","v":0},{"$f":"IF(A40<>\"\",IFERROR(VLOOKUP(T40,Tabelas!B:D,3,0),0),\"\")","v":0},{"$f":"IF(A40<>\"\",IFERROR(VLOOKUP(U40,Tabelas!B:D,3,0),0),\"\")","v":0},{"$f":"IF(A40<>\"\",IFERROR(VLOOKUP(V40,Tabelas!B:D,3,0),0),\"\")","v":0},{"$f":"IF(A40<>\"\",IFERROR(VLOOKUP(W40,Tabelas!B:D,3,0),0),\"\")","v":0},{"$f":"IF(A40<>\"\",IFERROR(VLOOKUP(X40,Tabelas!B:D,3,0),0),\"\")","v":0},{"$f":"IF(A40<>\"\",IFERROR(VLOOKUP(Y40,Tabelas!B:D,3,0),0),\"\")","v":0},{"$f":"IF(A40<>\"\",IFERROR(VLOOKUP(Z40,Tabelas!B:D,3,0),0),\"\")","v":0},{"$f":"IF(A40<>\"\",IFERROR(VLOOKUP(AA40,Tabelas!B:D,3,0),0),\"\")","v":0},{"$f":"IF(A40<>\"\",IFERROR(VLOOKUP(AB40,Tabelas!B:D,3,0),0),\"\")","v":0},{"$f":"IF(A40<>\"\",IFERROR(VLOOKUP(AC40,Tabelas!B:D,3,0),0),\"\")","v":0},{"$f":"IF(A40<>\"\",IFERROR(VLOOKUP(AD40,Tabelas!B:D,3,0),0),\"\")","v":0},{"$f":"IF(A40<>\"\",IFERROR(VLOOKUP(AE40,Tabelas!B:D,3,0),0),\"\")","v":0},{"$f":"IF(A40<>\"\",IFERROR(VLOOKUP(AF40,Tabelas!B:D,3,0),0),\"\")","v":0},{"$f":"IF(A40<>\"\",IFERROR(VLOOKUP(AG40,Tabelas!B:D,3,0),0),\"\")","v":0},{"$f":"IF(A40<>\"\",IFERROR(VLOOKUP(AH40,Tabelas!B:D,3,0),0),\"\")","v":0},{"$f":"IF(A40<>\"\",IFERROR(VLOOKUP(AI40,Tabelas!B:D,3,0),0),\"\")","v":0},{"$f":"IF(A40<>\"\",IFERROR(VLOOKUP(AJ40,Tabelas!B:D,3,0),0),\"\")","v":0},{"$f":"IF(A40<>\"\",IFERROR(VLOOKUP(AK40,Tabelas!B:D,3,0),0),\"\")","v":0},{"$f":"IF(A40<>\"\",IFERROR(VLOOKUP(AL40,Tabelas!B:D,3,0),0),\"\")","v":0},{"$f":"IF(A40<>\"\",IFERROR(VLOOKUP(AM40,Tabelas!B:D,3,0),0),\"\")","v":0},{"$f":"IF(A40<>\"\",IFERROR(VLOOKUP(AN40,Tabelas!B:D,3,0),0),\"\")","v":0},{"$f":"IF(A40<>\"\",IFERROR(VLOOKUP(AO40,Tabelas!B:D,3,0),0),\"\")","v":0},{"$f":"IF(A40<>\"\",IFERROR(VLOOKUP(AP40,Tabelas!B:D,3,0),0),\"\")","v":0},{"$f":"IF(A40<>\"\",IFERROR(VLOOKUP(AQ40,Tabelas!B:D,3,0),0),\"\")","v":0},{"$f":"IF(A40<>\"\",IFERROR(VLOOKUP(AR40,Tabelas!B:D,3,0),0),\"\")","v":0}]
["TOTAL DE PROFISSIONAIS NOTURNO",null,null,null,null,null,null,null,null,null,null,null,null,{"$f":"COUNTIF(N9:N18,\"N\")+COUNTIF(N19:N28,\"N\")+COUNTIF(N29:N38,\"N\")+COUNTIF(N9:N18,\"N?\") +COUNTIF(N19:N28,\"N?\")+COUNTIF(N29:N38,\"N?\")+ COUNTIF(N9:N18, \"DN?\")+ COUNTIF(N19:N28, \"DN?\")+ COUNTIF(N29:N38, \"DN?\")","v":0},0,0,0,0,0,0,0,0,0,0,0,0,0,0,0,0,0,0,0,0,0,0,0,0,0,0,0,0,0,0,{"$f":"IF(A41<>\"\",IFERROR(VLOOKUP(N41,Tabelas!B:D,3,0),0),\"\")","v":0},{"$f":"IF(A41<>\"\",IFERROR(VLOOKUP(O41,Tabelas!B:D,3,0),0),\"\")","v":0},{"$f":"IF(A41<>\"\",IFERROR(VLOOKUP(P41,Tabelas!B:D,3,0),0),\"\")","v":0},{"$f":"IF(A41<>\"\",IFERROR(VLOOKUP(Q41,Tabelas!B:D,3,0),0),\"\")","v":0},{"$f":"IF(A41<>\"\",IFERROR(VLOOKUP(R41,Tabelas!B:D,3,0),0),\"\")","v":0},{"$f":"IF(A41<>\"\",IFERROR(VLOOKUP(S41,Tabelas!B:D,3,0),0),\"\")","v":0},{"$f":"IF(A41<>\"\",IFERROR(VLOOKUP(T41,Tabelas!B:D,3,0),0),\"\")","v":0},{"$f":"IF(A41<>\"\",IFERROR(VLOOKUP(U41,Tabelas!B:D,3,0),0),\"\")","v":0},{"$f":"IF(A41<>\"\",IFERROR(VLOOKUP(V41,Tabelas!B:D,3,0),0),\"\")","v":0},{"$f":"IF(A41<>\"\",IFERROR(VLOOKUP(W41,Tabelas!B:D,3,0),0),\"\")","v":0},{"$f":"IF(A41<>\"\",IFERROR(VLOOKUP(X41,Tabelas!B:D,3,0),0),\"\")","v":0},{"$f":"IF(A41<>\"\",IFERROR(VLOOKUP(Y41,Tabelas!B:D,3,0),0),\"\")","v":0},{"$f":"IF(A41<>\"\",IFERROR(VLOOKUP(Z41,Tabelas!B:D,3,0),0),\"\")","v":0},{"$f":"IF(A41<>\"\",IFERROR(VLOOKUP(AA41,Tabelas!B:D,3,0),0),\"\")","v":0},{"$f":"IF(A41<>\"\",IFERROR(VLOOKUP(AB41,Tabelas!B:D,3,0),0),\"\")","v":0},{"$f":"IF(A41<>\"\",IFERROR(VLOOKUP(AC41,Tabelas!B:D,3,0),0),\"\")","v":0},{"$f":"IF(A41<>\"\",IFERROR(VLOOKUP(AD41,Tabelas!B:D,3,0),0),\"\")","v":0},{"$f":"IF(A41<>\"\",IFERROR(VLOOKUP(AE41,Tabelas!B:D,3,0),0),\"\")","v":0},{"$f":"IF(A41<>\"\",IFERROR(VLOOKUP(AF41,Tabelas!B:D,3,0),0),\"\")","v":0},{"$f":"IF(A41<>\"\",IFERROR(VLOOKUP(AG41,Tabelas!B:D,3,0),0),\"\")","v":0},{"$f":"IF(A41<>\"\",IFERROR(VLOOKUP(AH41,Tabelas!B:D,3,0),0),\"\")","v":0},{"$f":"IF(A41<>\"\",IFERROR(VLOOKUP(AI41,Tabelas!B:D,3,0),0),\"\")","v":0},{"$f":"IF(A41<>\"\",IFERROR(VLOOKUP(AJ41,Tabelas!B:D,3,0),0),\"\")","v":0},{"$f":"IF(A41<>\"\",IFERROR(VLOOKUP(AK41,Tabelas!B:D,3,0),0),\"\")","v":0},{"$f":"IF(A41<>\"\",IFERROR(VLOOKUP(AL41,Tabelas!B:D,3,0),0),\"\")","v":0},{"$f":"IF(A41<>\"\",IFERROR(VLOOKUP(AM41,Tabelas!B:D,3,0),0),\"\")","v":0},{"$f":"IF(A41<>\"\",IFERROR(VLOOKUP(AN41,Tabelas!B:D,3,0),0),\"\")","v":0},{"$f":"IF(A41<>\"\",IFERROR(VLOOKUP(AO41,Tabelas!B:D,3,0),0),\"\")","v":0},{"$f":"IF(A41<>\"\",IFERROR(VLOOKUP(AP41,Tabelas!B:D,3,0),0),\"\")","v":0},{"$f":"IF(A41<>\"\",IFERROR(VLOOKUP(AQ41,Tabelas!B:D,3,0),0),\"\")","v":0},{"$f":"IF(A41<>\"\",IFERROR(VLOOKUP(AR41,Tabelas!B:D,3,0),0),\"\")","v":0}]
[null,null,null,null,null,null,null,null,null,null,null,null,null,null,null,null,null,null,null,null,null,null,null,null,null,null,null,null,null,null,null,null,null,null,null,null,null,null,null,null,null,null,null,null,{"$f":"IF(A42<>\"\",IFERROR(VLOOKUP(N42,Tabelas!B:D,3,0),0),\"\")","v":""},{"$f":"IF(A42<>\"\",IFERROR(VLOOKUP(O42,Tabelas!B:D,3,0),0),\"\")","v":""},{"$f":"IF(A42<>\"\",IFERROR(VLOOKUP(P42,Tabelas!B:D,3,0),0),\"\")","v":""},{"$f":"IF(A42<>\"\",IFERROR(VLOOKUP(Q42,Tabelas!B:D,3,0),0),\"\")","v":""},{"$f":"IF(A42<>\"\",IFERROR(VLOOKUP(R42,Tabelas!B:D,3,0),0),\"\")","v":""},{"$f":"IF(A42<>\"\",IFERROR(VLOOKUP(S42,Tabelas!B:D,3,0),0),\"\")","v":""},{"$f":"IF(A42<>\"\",IFERROR(VLOOKUP(T42,Tabelas!B:D,3,0),0),\"\")","v":""},{"$f":"IF(A42<>\"\",IFERROR(VLOOKUP(U42,Tabelas!B:D,3,0),0),\"\")","v":""},{"$f":"IF(A42<>\"\",IFERROR(VLOOKUP(V42,Tabelas!B:D,3,0),0),\"\")","v":""},{"$f":"IF(A42<>\"\",IFERROR(VLOOKUP(W42,Tabelas!B:D,3,0),0),\"\")","v":""},{"$f":"IF(A42<>\"\",IFERROR(VLOOKUP(X42,Tabelas!B:D,3,0),0),\"\")","v":""},{"$f":"IF(A42<>\"\",IFERROR(VLOOKUP(Y42,Tabelas!B:D,3,0),0),\"\")","v":""},{"$f":"IF(A42<>\"\",IFERROR(VLOOKUP(Z42,Tabelas!B:D,3,0),0),\"\")","v":""},{"$f":"IF(A42<>\"\",IFERROR(VLOOKUP(AA42,Tabelas!B:D,3,0),0),\"\")","v":""},{"$f":"IF(A42<>\"\",IFERROR(VLOOKUP(AB42,Tabelas!B:D,3,0),0),\"\")","v":""},{"$f":"IF(A42<>\"\",IFERROR(VLOOKUP(AC42,Tabelas!B:D,3,0),0),\"\")","v":""},{"$f":"IF(A42<>\"\",IFERROR(VLOOKUP(AD42,Tabelas!B:D,3,0),0),\"\")","v":""},{"$f":"IF(A42<>\"\",IFERROR(VLOOKUP(AE42,Tabelas!B:D,3,0),0),\"\")","v":""},{"$f":"IF(A42<>\"\",IFERROR(VLOOKUP(AF42,Tabelas!B:D,3,0),0),\"\")","v":""},{"$f":"IF(A42<>\"\",IFERROR(VLOOKUP(AG42,Tabelas!B:D,3,0),0),\"\")","v":""},{"$f":"IF(A42<>\"\",IFERROR(VLOOKUP(AH42,Tabelas!B:D,3,0),0),\"\")","v":""},{"$f":"IF(A42<>\"\",IFERROR(VLOOKUP(AI42,Tabelas!B:D,3,0),0),\"\")","v":""},{"$f":"IF(A42<>\"\",IFERROR(VLOOKUP(AJ42,Tabelas!B:D,3,0),0),\"\")","v":""},{"$f":"IF(A42<>\"\",IFERROR(VLOOKUP(AK42,Tabelas!B:D,3,0),0),\"\")","v":""},{"$f":"IF(A42<>\"\",IFERROR(VLOOKUP(AL42,Tabelas!B:D,3,0),0),\"\")","v":""},{"$f":"IF(A42<>\"\",IFERROR(VLOOKUP(AM42,Tabelas!B:D,3,0),0),\"\")","v":""},{"$f":"IF(A42<>\"\",IFERROR(VLOOKUP(AN42,Tabelas!B:D,3,0),0),\"\")","v":""},{"$f":"IF(A42<>\"\",IFERROR(VLOOKUP(AO42,Tabelas!B:D,3,0),0),\"\")","v":""},{"$f":"IF(A42<>\"\",IFERROR(VLOOKUP(AP42,Tabelas!B:D,3,0),0),\"\")","v":""},{"$f":"IF(A42<>\"\",IFERROR(VLOOKUP(AQ42,Tabelas!B:D,3,0),0),\"\")","v":""},{"$f":"IF(A42<>\"\",IFERROR(VLOOKUP(AR42,Tabelas!B:D,3,0),0),\"\")","v":""},"",{"$f":"IF(A42<>\"\",COUNTIF(N42:AR42,\"LM\")+COUNTIF(N42:AR42,\"L\"),\"\")","v":""},"","","","",null,{"$f":"IF(A42<>\"\",COUNTIF(N42:AR42,\"CE\")+COUNTIF(N42:AR42,\"L\")+COUNTIF(N42:AR42,\"LM\")+COUNTIF(N42:AR42,\"LC\")+COUNTIF(N42:AR42,\"AB\"),\"\")","v":""},{"$f":"IF(A42<>\"\",COUNTIF(N42:AR42,\"APH\"),\"\")","v":""}]
["Legenda:",null,null,null,null,null,null,null,null,null,null,null,null,null,null,null,null,null,null,null,null,null,null,null,null,null,null,null,null,null,null,null,null,null,null,null,null,null,null,null,null,null,null,null,null,null,null,null,null,null,null,null,null,null,null,null,null,null,null,null,null,null,null,null,null,null,null,null,null,null,null,null,null,null,null,"OBSERVAÇÕES:"]
["Licença Maternidade","LM","Férias",null,"FE","Ponto Facultativo",null,null,null,null,null,null,null,null,null,"PF","Manhã **",null,null,null,null,null,null,"M","Diunro (8 hrs) **",null,null,null,null,null,null,"MT",null,null,null,null,null,null,null,null,null,null,null,null,null,null,null,null,null,null,null,null,null,null,null,null,null,null,null,null,null,null,null,null,null,null,null,null,null,null,null,null,null,null,null,"* Para os Afastamentos previstos em lei, utilizar as legendas "]
["Licença Paternidade","LP","Feriado",null,"FD","Abono",null,null,null,null,null,null,null,null,null,"AB","Tarde **",null,null,null,null,null,null,"T","Dia/ noite (24 hrs) **",null,null,null,null,null,null,"DN",null,null,null,null,null,null,null,null,null,null,null,null,null,null,null,null,null,null,null,null,null,null,null,null,null,null,null,null,null,null,null,null,null,null,null,null,null,null,null,null,null,null,null,"numeradas conforme descrição no item 3.2.2 da NO DGP nº 04/2017."]
["Licença Médica/Odontológica","L","Folga",null,"FO","Compensação Horas Excedentes",null,null,null,null,null,null,null,null,null,"CE","Plantão Dia (12 hrs) **",null,null,null,null,null,null,"D",null,null,null,null,null,null,null,null,null,null,null,null,null,null,null,null,null,null,null,null,null,null,null,null,null,null,null,null,null,null,null,null,null,null,null,null,null,null,null,null,null,null,null,null,null,null,null,null,null,null,null,"** Para as variações de horários (M1, M2, T1, T2...), utilizar as "]
["Licença Capacitação","LC","Recesso",null,"RC","Afastamento*",null,null,null,null,null,null,null,null,null,"AF","Plantão Noite (12 hrs)**",null,null,null,null,null,null,"N",null,null,null,null,null,null,null,null,null,null,null,null,null,null,null,null,null,null,null,null,null,null,null,null,null,null,null,null,null,null,null,null,null,null,null,null,null,null,null,null,null,null,null,null,null,null,null,null,null,null,null,"legendas numeradas conforme descrição do item 3.2.2 na Norma "]
[null,null,null,null,null,null,null,null,null,null,null,null,null,null,null,null,null,null,null,null,null,null,null,null,null,null,null,null,null,null,null,null,null,null,null,null,null,null,null,null,null,null,null,null,null,null,null,null,null,null,null,null,null,null,null,null,null,null,null,null,null,null,null,null,null,null,null,null,null,null,null,null,null,null,null,"Operacional DGP nº 04/2017."]

{"sheet":"Setembro","index":8,"n_rows":48,"n_cols":84,"rows_kept":48,"cut":false,"hidden":false,"merged":[[38,0,38,6],[39,0,39,6],[40,0,40,6],[5,0,7,0],[5,1,7,1],[5,2,7,2],[5,3,7,3],[5,4,7,4],[5,5,7,5],[5,6,5,12],[42,75,42,83],[5,78,6,78],[5,79,6,79],[5,80,6,80],[5,81,6,81],[5,82,6,82],[5,83,6,83],[5,77,6,77],[5,13,5,43],[5,44,5,74],[5,75,6,75],[5,76,6,76],[6,6,7,6],[6,7,7,7],[6,8,7,8],[6,9,6,10],[6,11,7,11],[6,12,7,12],[1,0,1,43],[2,0,2,43],[3,0,3,43],[4,1,4,21],[4,24,4,35],[4,38,4,43]]}
[]
[]
["Hospital Universitário Professor Polydoro Ernani de São Thiago"]
["ESCALA MENSAL DE TRABALHO"]
["DIVISÃO /SETOR/UNIDADE:",null,null,null,null,null,null,null,null,null,null,null,null,null,null,null,null,null,null,null,null,null,"MÊS:",null,"Setembro",null,null,null,null,null,null,null,null,null,null,null,"ANO:",null,2018]
["NOME COMPLETO","SIAPE","REGISTRO CONSELHO CLASSE","CARGO","VÍNCULO","C.H SEM.","INTERVALO",null,null,null,null,null,null,"DIAS DO MÊS",null,null,null,null,null,null,null,null,null,null,null,null,null,null,null,null,null,null,null,null,null,null,null,null,null,null,null,null,null,null,"CÁLCULO DAS HORAS",null,null,null,null,null,null,null,null,null,null,null,null,null,null,null,null,null,null,null,null,null,null,null,null,null,null,null,null,null,null,"CH MENSAL","LM/LP/L","Abono","Férias","LC","CE","AF  Legais"," TOTAL AFASTAMENTOS","APH"]
[null,null,null,null,null,null,"M","MT","D","DN",null,"T","N",1,2,3,4,5,6,7,8,9,10,11,12,13,14,15,16,17,18,19,20,21,22,23,24,25,{"$f":"IF(DAY(DATE(AM5,VLOOKUP(Y5,Tabelas!M:N,2,0)+1,1)-1)>=26,26,\"\")","v":26},{"$f":"IF(DAY(DATE(AM5,VLOOKUP(Y5,Tabelas!M:N,2,0)+1,1)-1)>=27,27,\"\")","v":27},{"$f":"IF(DAY(DATE(AM5,VLOOKUP(Y5,Tabelas!M:N,2,0)+1,1)-1)>=28,28,\"\")","v":28},{"$f":"IF(DAY(DATE(AM5,VLOOKUP(Y5,Tabelas!M:N,2,0)+1,1)-1)>=29,29,\"\")","v":29},{"$f":"IF(DAY(DATE(AM5,VLOOKUP(Y5,Tabelas!M:N,2,0)+1,1)-1)>=30,30,\"\")","v":30},{"$f":"IF(DAY(DATE(AM5,VLOOKUP(Y5,Tabelas!M:N,2,0)+1,1)-1)>=31,31,\"\")","v":""}]
[null,null,null,null,null,null,null,null,null,1,2,null,null,{"$f":"IF(N7<>\"\",IFERROR(VLOOKUP(WEEKDAY(CONCATENATE(N7,$Y$5,$AM$5)),Tabelas!$I:$J,2,0),\"\"),\"\")","v":"SAB"},{"$f":"IF(O7<>\"\",IFERROR(VLOOKUP(WEEKDAY(CONCATENATE(O7,$Y$5,$AM$5)),Tabelas!$I:$J,2,0),\"\"),\"\")","v":"DOM"},{"$f":"IF(P7<>\"\",IFERROR(VLOOKUP(WEEKDAY(CONCATENATE(P7,$Y$5,$AM$5)),Tabelas!$I:$J,2,0),\"\"),\"\")","v":"SEG"},{"$f":"IF(Q7<>\"\",IFERROR(VLOOKUP(WEEKDAY(CONCATENATE(Q7,$Y$5,$AM$5)),Tabelas!$I:$J,2,0),\"\"),\"\")","v":"TER"},{"$f":"IF(R7<>\"\",IFERROR(VLOOKUP(WEEKDAY(CONCATENATE(R7,$Y$5,$AM$5)),Tabelas!$I:$J,2,0),\"\"),\"\")","v":"QUA"},{"$f":"IF(S7<>\"\",IFERROR(VLOOKUP(WEEKDAY(CONCATENATE(S7,$Y$5,$AM$5)),Tabelas!$I:$J,2,0),\"\"),\"\")","v":"QUI"},{"$f":"IF(T7<>\"\",IFERROR(VLOOKUP(WEEKDAY(CONCATENATE(T7,$Y$5,$AM$5)),Tabelas!$I:$J,2,0),\"\"),\"\")","v":"SEX"},{"$f":"IF(U7<>\"\",IFERROR(VLOOKUP(WEEKDAY(CONCATENATE(U7,$Y$5,$AM$5)),Tabelas!$I:$J,2,0),\"\"),\"\")","v":"SAB"},{"$f":"IF(V7<>\"\",IFERROR(VLOOKUP(WEEKDAY(CONCATENATE(V7,$Y$5,$AM$5)),Tabelas!$I:$J,2,0),\"\"),\"\")","v":"DOM"},{"$f":"IF(W7<>\"\",IFERROR(VLOOKUP(WEEKDAY(CONCATENATE(W7,$Y$5,$AM$5)),Tabelas!$I:$J,2,0),\"\"),\"\")","v":"SEG"},{"$f":"IF(X7<>\"\",IFERROR(VLOOKUP(WEEKDAY(CONCATENATE(X7,$Y$5,$AM$5)),Tabelas!$I:$J,2,0),\"\"),\"\")","v":"TER"},{"$f":"IF(Y7<>\"\",IFERROR(VLOOKUP(WEEKDAY(CONCATENATE(Y7,$Y$5,$AM$5)),Tabelas!$I:$J,2,0),\"\"),\"\")","v":"QUA"},{"$f":"IF(Z7<>\"\",IFERROR(VLOOKUP(WEEKDAY(CONCATENATE(Z7,$Y$5,$AM$5)),Tabelas!$I:$J,2,0),\"\"),\"\")","v":"QUI"},{"$f":"IF(AA7<>\"\",IFERROR(VLOOKUP(WEEKDAY(CONCATENATE(AA7,$Y$5,$AM$5)),Tabelas!$I:$J,2,0),\"\"),\"\")","v":"SEX"},{"$f":"IF(AB7<>\"\",IFERROR(VLOOKUP(WEEKDAY(CONCATENATE(AB7,$Y$5,$AM$5)),Tabelas!$I:$J,2,0),\"\"),\"\")","v":"SAB"},{"$f":"IF(AC7<>\"\",IFERROR(VLOOKUP(WEEKDAY(CONCATENATE(AC7,$Y$5,$AM$5)),Tabelas!$I:$J,2,0),\"\"),\"\")","v":"DOM"},{"$f":"IF(AD7<>\"\",IFERROR(VLOOKUP(WEEKDAY(CONCATENATE(AD7,$Y$5,$AM$5)),Tabelas!$I:$J,2,0),\"\"),\"\")","v":"SEG"},{"$f":"IF(AE7<>\"\",IFERROR(VLOOKUP(WEEKDAY(CONCATENATE(AE7,$Y$5,$AM$5)),Tabelas!$I:$J,2,0),\"\"),\"\")","v":"TER"},{"$f":"IF(AF7<>\"\",IFERROR(VLOOKUP(WEEKDAY(CONCATENATE(AF7,$Y$5,$AM$5)),Tabelas!$I:$J,2,0),\"\"),\"\")","v":"QUA"},{"$f":"IF(AG7<>\"\",IFERROR(VLOOKUP(WEEKDAY(CONCATENATE(AG7,$Y$5,$AM$5)),Tabelas!$I:$J,2,0),\"\"),\"\")","v":"QUI"},{"$f":"IF(AH7<>\"\",IFERROR(VLOOKUP(WEEKDAY(CONCATENATE(AH7,$Y$5,$AM$5)),Tabelas!$I:$J,2,0),\"\"),\"\")","v":"SEX"},{"$f":"IF(AI7<>\"\",IFERROR(VLOOKUP(WEEKDAY(CONCATENATE(AI7,$Y$5,$AM$5)),Tabelas!$I:$J,2,0),\"\"),\"\")","v":"SAB"},{"$f":"IF(AJ7<>\"\",IFERROR(VLOOKUP(WEEKDAY(CONCATENATE(AJ7,$Y$5,$AM$5)),Tabelas!$I:$J,2,0),\"\"),\"\")","v":"DOM"},{"$f":"IF(AK7<>\"\",IFERROR(VLOOKUP(WEEKDAY(CONCATENATE(AK7,$Y$5,$AM$5)),Tabelas!$I:$J,2,0),\"\"),\"\")","v":"SEG"},{"$f":"IF(AL7<>\"\",IFERROR(VLOOKUP(WEEKDAY(CONCATENATE(AL7,$Y$5,$AM$5)),Tabelas!$I:$J,2,0),\"\"),\"\")","v":"TER"},{"$f":"IF(AM7<>\"\",IFERROR(VLOOKUP(WEEKDAY(CONCATENATE(AM7,$Y$5,$AM$5)),Tabelas!$I:$J,2,0),\"\"),\"\")","v":"QUA"},{"$f":"IF(AN7<>\"\",IFERROR(VLOOKUP(WEEKDAY(CONCATENATE(AN7,$Y$5,$AM$5)),Tabelas!$I:$J,2,0),\"\"),\"\")","v":"QUI"},{"$f":"IF(AO7<>\"\",IFERROR(VLOOKUP(WEEKDAY(CONCATENATE(AO7,$Y$5,$AM$5)),Tabelas!$I:$J,2,0),\"\"),\"\")","v":"SEX"},{"$f":"IF(AP7<>\"\",IFERROR(VLOOKUP(WEEKDAY(CONCATENATE(AP7,$Y$5,$AM$5)),Tabelas!$I:$J,2,0),\"\"),\"\")","v":"SAB"},{"$f":"IF(AQ7<>\"\",IFERROR(VLOOKUP(WEEKDAY(CONCATENATE(AQ7,$Y$5,$AM$5)),Tabelas!$I:$J,2,0),\"\"),\"\")","v":"DOM"},{"$f":"IF(AR7<>\"\",IFERROR(VLOOKUP(WEEKDAY(CONCATENATE(AR7,$Y$5,$AM$5)),Tabelas!$I:$J,2,0),\"\"),\"\")","v":""},1,2,3,4,5,6,7,8,9,10,11,12,13,14,15,16,17,18,19,20,21,22,23,24,25,26,27,28,29,30,31,"Total","Dias","Dias","Dias","Dias","Dias","Dias","Dias","Dias"]
["Fulano de Tal 1",1234567,123,"ENF","Ebserh",36,null,null,null,null,null,null,null,null,null,null,null,null,null,null,null,null,null,null,null,null,null,null,null,null,null,null,null,null,null,null,null,null,null,null,null,null,null,null,{"$f":"IF(A9<>\"\",IFERROR(VLOOKUP(N9,Tabelas!B:D,3,0),0),\"\")","v":0},{"$f":"IF(A9<>\"\",IFERROR(VLOOKUP(O9,Tabelas!B:D,3,0),0),\"\")","v":0},{"$f":"IF(A9<>\"\",IFERROR(VLOOKUP(P9,Tabelas!B:D,3,0),0),\"\")","v":0},{"$f":"IF(A9<>\"\",IFERROR(VLOOKUP(Q9,Tabelas!B:D,3,0),0),\"\")","v":0},{"$f":"IF(A9<>\"\",IFERROR(VLOOKUP(R9,Tabelas!B:D,3,0),0),\"\")","v":0},{"$f":"IF(A9<>\"\",IFERROR(VLOOKUP(S9,Tabelas!B:D,3,0),0),\"\")","v":0},{"$f":"IF(A9<>\"\",IFERROR(VLOOKUP(T9,Tabelas!B:D,3,0),0),\"\")","v":0},{"$f":"IF(A9<>\"\",IFERROR(VLOOKUP(U9,Tabelas!B:D,3,0),0),\"\")","v":0},{"$f":"IF(A9<>\"\",IFERROR(VLOOKUP(V9,Tabelas!B:D,3,0),0),\"\")","v":0},{"$f":"IF(A9<>\"\",IFERROR(VLOOKUP(W9,Tabelas!B:D,3,0),0),\"\")","v":0},{"$f":"IF(A9<>\"\",IFERROR(VLOOKUP(X9,Tabelas!B:D,3,0),0),\"\")","v":0},{"$f":"IF(A9<>\"\",IFERROR(VLOOKUP(Y9,Tabelas!B:D,3,0),0),\"\")","v":0},{"$f":"IF(A9<>\"\",IFERROR(VLOOKUP(Z9,Tabelas!B:D,3,0),0),\"\")","v":0},{"$f":"IF(A9<>\"\",IFERROR(VLOOKUP(AA9,Tabelas!B:D,3,0),0),\"\")","v":0},{"$f":"IF(A9<>\"\",IFERROR(VLOOKUP(AB9,Tabelas!B:D,3,0),0),\"\")","v":0},{"$f":"IF(A9<>\"\",IFERROR(VLOOKUP(AC9,Tabelas!B:D,3,0),0),\"\")","v":0},{"$f":"IF(A9<>\"\",IFERROR(VLOOKUP(AD9,Tabelas!B:D,3,0),0),\"\")","v":0},{"$f":"IF(A9<>\"\",IFERROR(VLOOKUP(AE9,Tabelas!B:D,3,0),0),\"\")","v":0},{"$f":"IF(A9<>\"\",IFERROR(VLOOKUP(AF9,Tabelas!B:D,3,0),0),\"\")","v":0},{"$f":"IF(A9<>\"\",IFERROR(VLOOKUP(AG9,Tabelas!B:D,3,0),0),\"\")","v":0},{"$f":"IF(A9<>\"\",IFERROR(VLOOKUP(AH9,Tabelas!B:D,3,0),0),\"\")","v":0},{"$f":"IF(A9<>\"\",IFERROR(VLOOKUP(AI9,Tabelas!B:D,3,0),0),\"\")","v":0},{"$f":"IF(A9<>\"\",IFERROR(VLOOKUP(AJ9,Tabelas!B:D,3,0),0),\"\")","v":0},{"$f":"IF(A9<>\"\",IFERROR(VLOOKUP(AK9,Tabelas!B:D,3,0),0),\"\")","v":0},{"$f":"IF(A9<>\"\",IFERROR(VLOOKUP(AL9,Tabelas!B:D,3,0),0),\"\")","v":0},{"$f":"IF(A9<>\"\",IFERROR(VLOOKUP(AM9,Tabelas!B:D,3,0),0),\"\")","v":0},{"$f":"IF(A9<>\"\",IFERROR(VLOOKUP(AN9,Tabelas!B:D,3,0),0),\"\")","v":0},{"$f":"IF(A9<>\"\",IFERROR(VLOOKUP(AO9,Tabelas!B:D,3,0),0),\"\")","v":0},{"$f":"IF(A9<>\"\",IFERROR(VLOOKUP(AP9,Tabelas!B:D,3,0),0),\"\")","v":0},{"$f":"IF(A9<>\"\",IFERROR(VLOOKUP(AQ9,Tabelas!B:D,3,0),0),\"\")","v":0},{"$f":"IF(A9<>\"\",IFERROR(VLOOKUP(AR9,Tabelas!B:D,3,0),0),\"\")","v":0},{"$f":"IF(A9<>\"\",SUM(AS9:BW9),\"\")","v":0},{"$f":"IF(A9<>\"\",COUNTIF(N9:AR9,\"LM\")+COUNTIF(N9:AR9,\"L\"),\"\")+COUNTIF(N9:AR9,\"LP\")","v":0},{"$f":"IF(A9<>\"\",COUNTIF(N9:AR9,\"AB\"),\"\")","v":0},{"$f":"IF(A9<>\"\",COUNTIF(N9:AR9,\"FE\"),\"\")","v":0},{"$f":"IF(A9<>\"\",COUNTIF(N9:AR9,\"LC\"),\"\")","v":0},{"$f":"IF(A9<>\"\",COUNTIF(N9:AR9,\"CE\"),\"\")","v":0},{"$f":"IF(A9<>\"\",COUNTIF(N9:AR9,\"AF1\")+COUNTIF(N9:AR9,\"AF2\")+COUNTIF(N9:AR9,\"AF3\")+COUNTIF(N9:AR9,\"AF4\")+COUNTIF(N9:AR9,\"AF5\")+COUNTIF(N9:AR9,\"AF6\")+COUNTIF(N9:AR9,\"AF7\")+COUNTIF(N9:AR9,\"AF8\")+COUNTIF(N9:AR9,\"AF9\")+COUNTIF(N9:AR9,\"AF10\")+COUNTIF(N9:AR9,\"AF11\")+COUNTIF(N9:AR9,\"AF12\")+COUNTIF(N9:AR9,\"AF13\")+COUNTIF(N9:AR9,\"AF14\"),\"\")","v":0},{"$f":"IF(A9<>\"\",COUNTIF(N9:AR9,\"CE\")+COUNTIF(N9:AR9,\"L\")+COUNTIF(N9:AR9,\"LM\")+COUNTIF(N9:AR9,\"LP\")+COUNTIF(N9:AR9,\"LC\")+COUNTIF(N9:AR9,\"AB\")+COUNTIF(N9:AR9,\"AF1\")+COUNTIF(N9:AR9,\"AF2\")+COUNTIF(N9:AR9,\"AF3\")+COUNTIF(N9:AR9,\"AF4\")+COUNTIF(N9:AR9,\"AF5\")+COUNTIF(N9:AR9,\"AF6\")+COUNTIF(N9:AR9,\"AF7\")+COUNTIF(N9:AR9,\"AF8\")+COUNTIF(N9:AR9,\"AF9\")+COUNTIF(N9:AR9,\"AF10\")+COUNTIF(N9:AR9,\"AF11\")+COUNTIF(N9:AR9,\"AF12\")+COUNTIF(N9:AR9,\"AF13\")+COUNTIF(N9:AR9,\"AF14\")+COUNTIF(N9:AR9,\"RC\")+COUNTIF(N9:AR9,\"FO\")+COUNTIF(N9:AR9,\"FE\"),\"\")","v":0},{"$f":"IF(A9<>\"\",COUNTIF(N9:AR9,\"APH\"),\"\")","v":0}]
["Fulano de Tal 2",1234567,123,"ENF","Ebserh",36,null,null,null,null,null,null,null,null,null,null,null,null,null,null,null,null,null,null,null,null,null,null,null,null,null,null,null,null,null,null,null,null,null,null,null,null,null,null,{"$f":"IF(A10<>\"\",IFERROR(VLOOKUP(N10,Tabelas!B:D,3,0),0),\"\")","v":0},{"$f":"IF(A10<>\"\",IFERROR(VLOOKUP(O10,Tabelas!B:D,3,0),0),\"\")","v":0},{"$f":"IF(A10<>\"\",IFERROR(VLOOKUP(P10,Tabelas!B:D,3,0),0),\"\")","v":0},{"$f":"IF(A10<>\"\",IFERROR(VLOOKUP(Q10,Tabelas!B:D,3,0),0),\"\")","v":0},{"$f":"IF(A10<>\"\",IFERROR(VLOOKUP(R10,Tabelas!B:D,3,0),0),\"\")","v":0},{"$f":"IF(A10<>\"\",IFERROR(VLOOKUP(S10,Tabelas!B:D,3,0),0),\"\")","v":0},{"$f":"IF(A10<>\"\",IFERROR(VLOOKUP(T10,Tabelas!B:D,3,0),0),\"\")","v":0},{"$f":"IF(A10<>\"\",IFERROR(VLOOKUP(U10,Tabelas!B:D,3,0),0),\"\")","v":0},{"$f":"IF(A10<>\"\",IFERROR(VLOOKUP(V10,Tabelas!B:D,3,0),0),\"\")","v":0},{"$f":"IF(A10<>\"\",IFERROR(VLOOKUP(W10,Tabelas!B:D,3,0),0),\"\")","v":0},{"$f":"IF(A10<>\"\",IFERROR(VLOOKUP(X10,Tabelas!B:D,3,0),0),\"\")","v":0},{"$f":"IF(A10<>\"\",IFERROR(VLOOKUP(Y10,Tabelas!B:D,3,0),0),\"\")","v":0},{"$f":"IF(A10<>\"\",IFERROR(VLOOKUP(Z10,Tabelas!B:D,3,0),0),\"\")","v":0},{"$f":"IF(A10<>\"\",IFERROR(VLOOKUP(AA10,Tabelas!B:D,3,0),0),\"\")","v":0},{"$f":"IF(A10<>\"\",IFERROR(VLOOKUP(AB10,Tabelas!B:D,3,0),0),\"\")","v":0},{"$f":"IF(A10<>\"\",IFERROR(VLOOKUP(AC10,Tabelas!B:D,3,0),0),\"\")","v":0},{"$f":"IF(A10<>\"\",IFERROR(VLOOKUP(AD10,Tabelas!B:D,3,0),0),\"\")","v":0},{"$f":"IF(A10<>\"\",IFERROR(VLOOKUP(AE10,Tabelas!B:D,3,0),0),\"\")","v":0},{"$f":"IF(A10<>\"\",IFERROR(VLOOKUP(AF10,Tabelas!B:D,3,0),0),\"\")","v":0},{"$f":"IF(A10<>\"\",IFERROR(VLOOKUP(AG10,Tabelas!B:D,3,0),0),\"\")","v":0},{"$f":"IF(A10<>\"\",IFERROR(VLOOKUP(AH10,Tabelas!B:D,3,0),0),\"\")","v":0},{"$f":"IF(A10<>\"\",IFERROR(VLOOKUP(AI10,Tabelas!B:D,3,0),0),\"\")","v":0},{"$f":"IF(A10<>\"\",IFERROR(VLOOKUP(AJ10,Tabelas!B:D,3,0),0),\"\")","v":0},{"$f":"IF(A10<>\"\",IFERROR(VLOOKUP(AK10,Tabelas!B:D,3,0),0),\"\")","v":0},{"$f":"IF(A10<>\"\",IFERROR(VLOOKUP(AL10,Tabelas!B:D,3,0),0),\"\")","v":0},{"$f":"IF(A10<>\"\",IFERROR(VLOOKUP(AM10,Tabelas!B:D,3,0),0),\"\")","v":0},{"$f":"IF(A10<>\"\",IFERROR(VLOOKUP(AN10,Tabelas!B:D,3,0),0),\"\")","v":0},{"$f":"IF(A10<>\"\",IFERROR(VLOOKUP(AO10,Tabelas!B:D,3,0),0),\"\")","v":0},{"$f":"IF(A10<>\"\",IFERROR(VLOOKUP(AP10,Tabelas!B:D,3,0),0),\"\")","v":0},{"$f":"IF(A10<>\"\",IFERROR(VLOOKUP(AQ10,Tabelas!B:D,3,0),0),\"\")","v":0},{"$f":"IF(A10<>\"\",IFERROR(VLOOKUP(AR10,Tabelas!B:D,3,0),0),\"\")","v":0},{"$f":"IF(A10<>\"\",SUM(AS10:BW10),\"\")","v":0},{"$f":"IF(A10<>\"\",COUNTIF(N10:AR10,\"LM\")+COUNTIF(N10:AR10,\"L\"),\"\")+COUNTIF(N10:AR10,\"LP\")","v":0},0,0,0,0,{"$f":"IF(A10<>\"\",COUNTIF(N10:AR10,\"AF1\")+COUNTIF(N10:AR10,\"AF2\")+COUNTIF(N10:AR10,\"AF3\")+COUNTIF(N10:AR10,\"AF4\")+COUNTIF(N10:AR10,\"AF5\")+COUNTIF(N10:AR10,\"AF6\")+COUNTIF(N10:AR10,\"AF7\")+COUNTIF(N10:AR10,\"AF8\")+COUNTIF(N10:AR10,\"AF9\")+COUNTIF(N10:AR10,\"AF10\")+COUNTIF(N10:AR10,\"AF11\")+COUNTIF(N10:AR10,\"AF12\")+COUNTIF(N10:AR10,\"AF13\")+COUNTIF(N10:AR10,\"AF14\"),\"\")","v":0},{"$f":"IF(A10<>\"\",COUNTIF(N10:AR10,\"CE\")+COUNTIF(N10:AR10,\"L\")+COUNTIF(N10:AR10,\"LM\")+COUNTIF(N10:AR10,\"LP\")+COUNTIF(N10:AR10,\"LC\")+COUNTIF(N10:AR10,\"AB\")+COUNTIF(N10:AR10,\"AF1\")+COUNTIF(N10:AR10,\"AF2\")+COUNTIF(N10:AR10,\"AF3\")+COUNTIF(N10:AR10,\"AF4\")+COUNTIF(N10:AR10,\"AF5\")+COUNTIF(N10:AR10,\"AF6\")+COUNTIF(N10:AR10,\"AF7\")+COUNTIF(N10:AR10,\"AF8\")+COUNTIF(N10:AR10,\"AF9\")+COUNTIF(N10:AR10,\"AF10\")+COUNTIF(N10:AR10,\"AF11\")+COUNTIF(N10:AR10,\"AF12\")+COUNTIF(N10:AR10,\"AF13\")+COUNTIF(N10:AR10,\"AF14\")+COUNTIF(N10:AR10,\"RC\")+COUNTIF(N10:AR10,\"FO\")+COUNTIF(N10:AR10,\"FE\"),\"\")","v":0},{"$f":"IF(A10<>\"\",COUNTIF(N10:AR10,\"APH\"),\"\")","v":0}]
["Fulano de Tal 3",1234567,123,"ENF","Ebserh",36,null,null,null,null,null,null,null,null,null,null,null,null,null,null,null,null,null,null,null,null,null,null,null,null,null,null,null,null,null,null,null,null,null,null,null,null,null,null,{"$f":"IF(A11<>\"\",IFERROR(VLOOKUP(N11,Tabelas!B:D,3,0),0),\"\")","v":0},{"$f":"IF(A11<>\"\",IFERROR(VLOOKUP(O11,Tabelas!B:D,3,0),0),\"\")","v":0},{"$f":"IF(A11<>\"\",IFERROR(VLOOKUP(P11,Tabelas!B:D,3,0),0),\"\")","v":0},{"$f":"IF(A11<>\"\",IFERROR(VLOOKUP(Q11,Tabelas!B:D,3,0),0),\"\")","v":0},{"$f":"IF(A11<>\"\",IFERROR(VLOOKUP(R11,Tabelas!B:D,3,0),0),\"\")","v":0},{"$f":"IF(A11<>\"\",IFERROR(VLOOKUP(S11,Tabelas!B:D,3,0),0),\"\")","v":0},{"$f":"IF(A11<>\"\",IFERROR(VLOOKUP(T11,Tabelas!B:D,3,0),0),\"\")","v":0},{"$f":"IF(A11<>\"\",IFERROR(VLOOKUP(U11,Tabelas!B:D,3,0),0),\"\")","v":0},{"$f":"IF(A11<>\"\",IFERROR(VLOOKUP(V11,Tabelas!B:D,3,0),0),\"\")","v":0},{"$f":"IF(A11<>\"\",IFERROR(VLOOKUP(W11,Tabelas!B:D,3,0),0),\"\")","v":0},{"$f":"IF(A11<>\"\",IFERROR(VLOOKUP(X11,Tabelas!B:D,3,0),0),\"\")","v":0},{"$f":"IF(A11<>\"\",IFERROR(VLOOKUP(Y11,Tabelas!B:D,3,0),0),\"\")","v":0},{"$f":"IF(A11<>\"\",IFERROR(VLOOKUP(Z11,Tabelas!B:D,3,0),0),\"\")","v":0},{"$f":"IF(A11<>\"\",IFERROR(VLOOKUP(AA11,Tabelas!B:D,3,0),0),\"\")","v":0},{"$f":"IF(A11<>\"\",IFERROR(VLOOKUP(AB11,Tabelas!B:D,3,0),0),\"\")","v":0},{"$f":"IF(A11<>\"\",IFERROR(VLOOKUP(AC11,Tabelas!B:D,3,0),0),\"\")","v":0},{"$f":"IF(A11<>\"\",IFERROR(VLOOKUP(AD11,Tabelas!B:D,3,0),0),\"\")","v":0},{"$f":"IF(A11<>\"\",IFERROR(VLOOKUP(AE11,Tabelas!B:D,3,0),0),\"\")","v":0},{"$f":"IF(A11<>\"\",IFERROR(VLOOKUP(AF11,Tabelas!B:D,3,0),0),\"\")","v":0},{"$f":"IF(A11<>\"\",IFERROR(VLOOKUP(AG11,Tabelas!B:D,3,0),0),\"\")","v":0},{"$f":"IF(A11<>\"\",IFERROR(VLOOKUP(AH11,Tabelas!B:D,3,0),0),\"\")","v":0},{"$f":"IF(A11<>\"\",IFERROR(VLOOKUP(AI11,Tabelas!B:D,3,0),0),\"\")","v":0},{"$f":"IF(A11<>\"\",IFERROR(VLOOKUP(AJ11,Tabelas!B:D,3,0),0),\"\")","v":0},{"$f":"IF(A11<>\"\",IFERROR(VLOOKUP(AK11,Tabelas!B:D,3,0),0),\"\")","v":0},{"$f":"IF(A11<>\"\",IFERROR(VLOOKUP(AL11,Tabelas!B:D,3,0),0),\"\")","v":0},{"$f":"IF(A11<>\"\",IFERROR(VLOOKUP(AM11,Tabelas!B:D,3,0),0),\"\")","v":0},{"$f":"IF(A11<>\"\",IFERROR(VLOOKUP(AN11,Tabelas!B:D,3,0),0),\"\")","v":0},{"$f":"IF(A11<>\"\",IFERROR(VLOOKUP(AO11,Tabelas!B:D,3,0),0),\"\")","v":0},{"$f":"IF(A11<>\"\",IFERROR(VLOOKUP(AP11,Tabelas!B:D,3,0),0),\"\")","v":0},{"$f":"IF(A11<>\"\",IFERROR(VLOOKUP(AQ11,Tabelas!B:D,3,0),0),\"\")","v":0},{"$f":"IF(A11<>\"\",IFERROR(VLOOKUP(AR11,Tabelas!B:D,3,0),0),\"\")","v":0},0,0,0,0,0,0,0,0,{"$f":"IF(A11<>\"\",COUNTIF(N11:AR11,\"APH\"),\"\")","v":0}]
["Fulano de Tal 4",1234567,123,"ENF","Ebserh",36,null,null,null,null,null,null,null,null,null,null,null,null,null,null,null,null,null,null,null,null,null,null,null,null,null,null,null,null,null,null,null,null,null,null,null,null,null,null,{"$f":"IF(A12<>\"\",IFERROR(VLOOKUP(N12,Tabelas!B:D,3,0),0),\"\")","v":0},{"$f":"IF(A12<>\"\",IFERROR(VLOOKUP(O12,Tabelas!B:D,3,0),0),\"\")","v":0},{"$f":"IF(A12<>\"\",IFERROR(VLOOKUP(P12,Tabelas!B:D,3,0),0),\"\")","v":0},{"$f":"IF(A12<>\"\",IFERROR(VLOOKUP(Q12,Tabelas!B:D,3,0),0),\"\")","v":0},{"$f":"IF(A12<>\"\",IFERROR(VLOOKUP(R12,Tabelas!B:D,3,0),0),\"\")","v":0},{"$f":"IF(A12<>\"\",IFERROR(VLOOKUP(S12,Tabelas!B:D,3,0),0),\"\")","v":0},{"$f":"IF(A12<>\"\",IFERROR(VLOOKUP(T12,Tabelas!B:D,3,0),0),\"\")","v":0},{"$f":"IF(A12<>\"\",IFERROR(VLOOKUP(U12,Tabelas!B:D,3,0),0),\"\")","v":0},{"$f":"IF(A12<>\"\",IFERROR(VLOOKUP(V12,Tabelas!B:D,3,0),0),\"\")","v":0},{"$f":"IF(A12<>\"\",IFERROR(VLOOKUP(W12,Tabelas!B:D,3,0),0),\"\")","v":0},{"$f":"IF(A12<>\"\",IFERROR(VLOOKUP(X12,Tabelas!B:D,3,0),0),\"\")","v":0},{"$f":"IF(A12<>\"\",IFERROR(VLOOKUP(Y12,Tabelas!B:D,3,0),0),\"\")","v":0},{"$f":"IF(A12<>\"\",IFERROR(VLOOKUP(Z12,Tabelas!B:D,3,0),0),\"\")","v":0},{"$f":"IF(A12<>\"\",IFERROR(VLOOKUP(AA12,Tabelas!B:D,3,0),0),\"\")","v":0},{"$f":"IF(A12<>\"\",IFERROR(VLOOKUP(AB12,Tabelas!B:D,3,0),0),\"\")","v":0},{"$f":"IF(A12<>\"\",IFERROR(VLOOKUP(AC12,Tabelas!B:D,3,0),0),\"\")","v":0},{"$f":"IF(A12<>\"\",IFERROR(VLOOKUP(AD12,Tabelas!B:D,3,0),0),\"\")","v":0},{"$f":"IF(A12<>\"\",IFERROR(VLOOKUP(AE12,Tabelas!B:D,3,0),0),\"\")","v":0},{"$f":"IF(A12<>\"\",IFERROR(VLOOKUP(AF12,Tabelas!B:D,3,0),0),\"\")","v":0},{"$f":"IF(A12<>\"\",IFERROR(VLOOKUP(AG12,Tabelas!B:D,3,0),0),\"\")","v":0},{"$f":"IF(A12<>\"\",IFERROR(VLOOKUP(AH12,Tabelas!B:D,3,0),0),\"\")","v":0},{"$f":"IF(A12<>\"\",IFERROR(VLOOKUP(AI12,Tabelas!B:D,3,0),0),\"\")","v":0},{"$f":"IF(A12<>\"\",IFERROR(VLOOKUP(AJ12,Tabelas!B:D,3,0),0),\"\")","v":0},{"$f":"IF(A12<>\"\",IFERROR(VLOOKUP(AK12,Tabelas!B:D,3,0),0),\"\")","v":0},{"$f":"IF(A12<>\"\",IFERROR(VLOOKUP(AL12,Tabelas!B:D,3,0),0),\"\")","v":0},{"$f":"IF(A12<>\"\",IFERROR(VLOOKUP(AM12,Tabelas!B:D,3,0),0),\"\")","v":0},{"$f":"IF(A12<>\"\",IFERROR(VLOOKUP(AN12,Tabelas!B:D,3,0),0),\"\")","v":0},{"$f":"IF(A12<>\"\",IFERROR(VLOOKUP(AO12,Tabelas!B:D,3,0),0),\"\")","v":0},{"$f":"IF(A12<>\"\",IFERROR(VLOOKUP(AP12,Tabelas!B:D,3,0),0),\"\")","v":0},{"$f":"IF(A12<>\"\",IFERROR(VLOOKUP(AQ12,Tabelas!B:D,3,0),0),\"\")","v":0},{"$f":"IF(A12<>\"\",IFERROR(VLOOKUP(AR12,Tabelas!B:D,3,0),0),\"\")","v":0},0,0,0,0,0,0,0,0,{"$f":"IF(A12<>\"\",COUNTIF(N12:AR12,\"APH\"),\"\")","v":0}]
["Fulano de Tal 5",1234567,123,"ENF","Ebserh",36,null,null,null,null,null,null,null,null,null,null,null,null,null,null,null,null,null,null,null,null,null,null,null,null,null,null,null,null,null,null,null,null,null,null,null,null,null,null,{"$f":"IF(A13<>\"\",IFERROR(VLOOKUP(N13,Tabelas!B:D,3,0),0),\"\")","v":0},{"$f":"IF(A13<>\"\",IFERROR(VLOOKUP(O13,Tabelas!B:D,3,0),0),\"\")","v":0},{"$f":"IF(A13<>\"\",IFERROR(VLOOKUP(P13,Tabelas!B:D,3,0),0),\"\")","v":0},{"$f":"IF(A13<>\"\",IFERROR(VLOOKUP(Q13,Tabelas!B:D,3,0),0),\"\")","v":0},{"$f":"IF(A13<>\"\",IFERROR(VLOOKUP(R13,Tabelas!B:D,3,0),0),\"\")","v":0},{"$f":"IF(A13<>\"\",IFERROR(VLOOKUP(S13,Tabelas!B:D,3,0),0),\"\")","v":0},{"$f":"IF(A13<>\"\",IFERROR(VLOOKUP(T13,Tabelas!B:D,3,0),0),\"\")","v":0},{"$f":"IF(A13<>\"\",IFERROR(VLOOKUP(U13,Tabelas!B:D,3,0),0),\"\")","v":0},{"$f":"IF(A13<>\"\",IFERROR(VLOOKUP(V13,Tabelas!B:D,3,0),0),\"\")","v":0},{"$f":"IF(A13<>\"\",IFERROR(VLOOKUP(W13,Tabelas!B:D,3,0),0),\"\")","v":0},{"$f":"IF(A13<>\"\",IFERROR(VLOOKUP(X13,Tabelas!B:D,3,0),0),\"\")","v":0},{"$f":"IF(A13<>\"\",IFERROR(VLOOKUP(Y13,Tabelas!B:D,3,0),0),\"\")","v":0},{"$f":"IF(A13<>\"\",IFERROR(VLOOKUP(Z13,Tabelas!B:D,3,0),0),\"\")","v":0},{"$f":"IF(A13<>\"\",IFERROR(VLOOKUP(AA13,Tabelas!B:D,3,0),0),\"\")","v":0},{"$f":"IF(A13<>\"\",IFERROR(VLOOKUP(AB13,Tabelas!B:D,3,0),0),\"\")","v":0},{"$f":"IF(A13<>\"\",IFERROR(VLOOKUP(AC13,Tabelas!B:D,3,0),0),\"\")","v":0},{"$f":"IF(A13<>\"\",IFERROR(VLOOKUP(AD13,Tabelas!B:D,3,0),0),\"\")","v":0},{"$f":"IF(A13<>\"\",IFERROR(VLOOKUP(AE13,Tabelas!B:D,3,0),0),\"\")","v":0},{"$f":"IF(A13<>\"\",IFERROR(VLOOKUP(AF13,Tabelas!B:D,3,0),0),\"\")","v":0},{"$f":"IF(A13<>\"\",IFERROR(VLOOKUP(AG13,Tabelas!B:D,3,0),0),\"\")","v":0},{"$f":"IF(A13<>\"\",IFERROR(VLOOKUP(AH13,Tabelas!B:D,3,0),0),\"\")","v":0},{"$f":"IF(A13<>\"\",IFERROR(VLOOKUP(AI13,Tabelas!B:D,3,0),0),\"\")","v":0},{"$f":"IF(A13<>\"\",IFERROR(VLOOKUP(AJ13,Tabelas!B:D,3,0),0),\"\")","v":0},{"$f":"IF(A13<>\"\",IFERROR(VLOOKUP(AK13,Tabelas!B:D,3,0),0),\"\")","v":0},{"$f":"IF(A13<>\"\",IFERROR(VLOOKUP(AL13,Tabelas!B:D,3,0),0),\"\")","v":0},{"$f":"IF(A13<>\"\",IFERROR(VLOOKUP(AM13,Tabelas!B:D,3,0),0),\"\")","v":0},{"$f":"IF(A13<>\"\",IFERROR(VLOOKUP(AN13,Tabelas!B:D,3,0),0),\"\")","v":0},{"$f":"IF(A13<>\"\",IFERROR(VLOOKUP(AO13,Tabelas!B:D,3,0),0),\"\")","v":0},{"$f":"IF(A13<>\"\",IFERROR(VLOOKUP(AP13,Tabelas!B:D,3,0),0),\"\")","v":0},{"$f":"IF(A13<>\"\",IFERROR(VLOOKUP(AQ13,Tabelas!B:D,3,0),0),\"\")","v":0},{"$f":"IF(A13<>\"\",IFERROR(VLOOKUP(AR13,Tabelas!B:D,3,0),0),\"\")","v":0},0,0,0,0,0,0,0,0,{"$f":"IF(A13<>\"\",COUNTIF(N13:AR13,\"APH\"),\"\")","v":0}]
["Fulano de Tal 6",1234567,123,"ENF","Ebserh",36,null,null,null,null,null,null,null,null,null,null,null,null,null,null,null,null,null,null,null,null,null,null,null,null,null,null,null,null,null,null,null,null,null,null,null,null,null,null,{"$f":"IF(A14<>\"\",IFERROR(VLOOKUP(N14,Tabelas!B:D,3,0),0),\"\")","v":0},{"$f":"IF(A14<>\"\",IFERROR(VLOOKUP(O14,Tabelas!B:D,3,0),0),\"\")","v":0},{"$f":"IF(A14<>\"\",IFERROR(VLOOKUP(P14,Tabelas!B:D,3,0),0),\"\")","v":0},{"$f":"IF(A14<>\"\",IFERROR(VLOOKUP(Q14,Tabelas!B:D,3,0),0),\"\")","v":0},{"$f":"IF(A14<>\"\",IFERROR(VLOOKUP(R14,Tabelas!B:D,3,0),0),\"\")","v":0},{"$f":"IF(A14<>\"\",IFERROR(VLOOKUP(S14,Tabelas!B:D,3,0),0),\"\")","v":0},{"$f":"IF(A14<>\"\",IFERROR(VLOOKUP(T14,Tabelas!B:D,3,0),0),\"\")","v":0},{"$f":"IF(A14<>\"\",IFERROR(VLOOKUP(U14,Tabelas!B:D,3,0),0),\"\")","v":0},{"$f":"IF(A14<>\"\",IFERROR(VLOOKUP(V14,Tabelas!B:D,3,0),0),\"\")","v":0},{"$f":"IF(A14<>\"\",IFERROR(VLOOKUP(W14,Tabelas!B:D,3,0),0),\"\")","v":0},{"$f":"IF(A14<>\"\",IFERROR(VLOOKUP(X14,Tabelas!B:D,3,0),0),\"\")","v":0},{"$f":"IF(A14<>\"\",IFERROR(VLOOKUP(Y14,Tabelas!B:D,3,0),0),\"\")","v":0},{"$f":"IF(A14<>\"\",IFERROR(VLOOKUP(Z14,Tabelas!B:D,3,0),0),\"\")","v":0},{"$f":"IF(A14<>\"\",IFERROR(VLOOKUP(AA14,Tabelas!B:D,3,0),0),\"\")","v":0},{"$f":"IF(A14<>\"\",IFERROR(VLOOKUP(AB14,Tabelas!B:D,3,0),0),\"\")","v":0},{"$f":"IF(A14<>\"\",IFERROR(VLOOKUP(AC14,Tabelas!B:D,3,0),0),\"\")","v":0},{"$f":"IF(A14<>\"\",IFERROR(VLOOKUP(AD14,Tabelas!B:D,3,0),0),\"\")","v":0},{"$f":"IF(A14<>\"\",IFERROR(VLOOKUP(AE14,Tabelas!B:D,3,0),0),\"\")","v":0},{"$f":"IF(A14<>\"\",IFERROR(VLOOKUP(AF14,Tabelas!B:D,3,0),0),\"\")","v":0},{"$f":"IF(A14<>\"\",IFERROR(VLOOKUP(AG14,Tabelas!B:D,3,0),0),\"\")","v":0},{"$f":"IF(A14<>\"\",IFERROR(VLOOKUP(AH14,Tabelas!B:D,3,0),0),\"\")","v":0},{"$f":"IF(A14<>\"\",IFERROR(VLOOKUP(AI14,Tabelas!B:D,3,0),0),\"\")","v":0},{"$f":"IF(A14<>\"\",IFERROR(VLOOKUP(AJ14,Tabelas!B:D,3,0),0),\"\")","v":0},{"$f":"IF(A14<>\"\",IFERROR(VLOOKUP(AK14,Tabelas!B:D,3,0),0),\"\")","v":0},{"$f":"IF(A14<>\"\",IFERROR(VLOOKUP(AL14,Tabelas!B:D,3,0),0),\"\")","v":0},{"$f":"IF(A14<>\"\",IFERROR(VLOOKUP(AM14,Tabelas!B:D,3,0),0),\"\")","v":0},{"$f":"IF(A14<>\"\",IFERROR(VLOOKUP(AN14,Tabelas!B:D,3,0),0),\"\")","v":0},{"$f":"IF(A14<>\"\",IFERROR(VLOOKUP(AO14,Tabelas!B:D,3,0),0),\"\")","v":0},{"$f":"IF(A14<>\"\",IFERROR(VLOOKUP(AP14,Tabelas!B:D,3,0),0),\"\")","v":0},{"$f":"IF(A14<>\"\",IFERROR(VLOOKUP(AQ14,Tabelas!B:D,3,0),0),\"\")","v":0},{"$f":"IF(A14<>\"\",IFERROR(VLOOKUP(AR14,Tabelas!B:D,3,0),0),\"\")","v":0},0,0,0,0,0,0,0,0,{"$f":"IF(A14<>\"\",COUNTIF(N14:AR14,\"APH\"),\"\")","v":0}]
["Fulano de Tal 7",1234567,123,"ENF","Ebserh",36,null,null,null,null,null,null,null,null,null,null,null,null,null,null,null,null,null,null,null,null,null,null,null,null,null,null,null,null,null,null,null,null,null,null,null,null,null,null,{"$f":"IF(A15<>\"\",IFERROR(VLOOKUP(N15,Tabelas!B:D,3,0),0),\"\")","v":0},{"$f":"IF(A15<>\"\",IFERROR(VLOOKUP(O15,Tabelas!B:D,3,0),0),\"\")","v":0},{"$f":"IF(A15<>\"\",IFERROR(VLOOKUP(P15,Tabelas!B:D,3,0),0),\"\")","v":0},{"$f":"IF(A15<>\"\",IFERROR(VLOOKUP(Q15,Tabelas!B:D,3,0),0),\"\")","v":0},{"$f":"IF(A15<>\"\",IFERROR(VLOOKUP(R15,Tabelas!B:D,3,0),0),\"\")","v":0},{"$f":"IF(A15<>\"\",IFERROR(VLOOKUP(S15,Tabelas!B:D,3,0),0),\"\")","v":0},{"$f":"IF(A15<>\"\",IFERROR(VLOOKUP(T15,Tabelas!B:D,3,0),0),\"\")","v":0},{"$f":"IF(A15<>\"\",IFERROR(VLOOKUP(U15,Tabelas!B:D,3,0),0),\"\")","v":0},{"$f":"IF(A15<>\"\",IFERROR(VLOOKUP(V15,Tabelas!B:D,3,0),0),\"\")","v":0},{"$f":"IF(A15<>\"\",IFERROR(VLOOKUP(W15,Tabelas!B:D,3,0),0),\"\")","v":0},{"$f":"IF(A15<>\"\",IFERROR(VLOOKUP(X15,Tabelas!B:D,3,0),0),\"\")","v":0},{"$f":"IF(A15<>\"\",IFERROR(VLOOKUP(Y15,Tabelas!B:D,3,0),0),\"\")","v":0},{"$f":"IF(A15<>\"\",IFERROR(VLOOKUP(Z15,Tabelas!B:D,3,0),0),\"\")","v":0},{"$f":"IF(A15<>\"\",IFERROR(VLOOKUP(AA15,Tabelas!B:D,3,0),0),\"\")","v":0},{"$f":"IF(A15<>\"\",IFERROR(VLOOKUP(AB15,Tabelas!B:D,3,0),0),\"\")","v":0},{"$f":"IF(A15<>\"\",IFERROR(VLOOKUP(AC15,Tabelas!B:D,3,0),0),\"\")","v":0},{"$f":"IF(A15<>\"\",IFERROR(VLOOKUP(AD15,Tabelas!B:D,3,0),0),\"\")","v":0},{"$f":"IF(A15<>\"\",IFERROR(VLOOKUP(AE15,Tabelas!B:D,3,0),0),\"\")","v":0},{"$f":"IF(A15<>\"\",IFERROR(VLOOKUP(AF15,Tabelas!B:D,3,0),0),\"\")","v":0},{"$f":"IF(A15<>\"\",IFERROR(VLOOKUP(AG15,Tabelas!B:D,3,0),0),\"\")","v":0},{"$f":"IF(A15<>\"\",IFERROR(VLOOKUP(AH15,Tabelas!B:D,3,0),0),\"\")","v":0},{"$f":"IF(A15<>\"\",IFERROR(VLOOKUP(AI15,Tabelas!B:D,3,0),0),\"\")","v":0},{"$f":"IF(A15<>\"\",IFERROR(VLOOKUP(AJ15,Tabelas!B:D,3,0),0),\"\")","v":0},{"$f":"IF(A15<>\"\",IFERROR(VLOOKUP(AK15,Tabelas!B:D,3,0),0),\"\")","v":0},{"$f":"IF(A15<>\"\",IFERROR(VLOOKUP(AL15,Tabelas!B:D,3,0),0),\"\")","v":0},{"$f":"IF(A15<>\"\",IFERROR(VLOOKUP(AM15,Tabelas!B:D,3,0),0),\"\")","v":0},{"$f":"IF(A15<>\"\",IFERROR(VLOOKUP(AN15,Tabelas!B:D,3,0),0),\"\")","v":0},{"$f":"IF(A15<>\"\",IFERROR(VLOOKUP(AO15,Tabelas!B:D,3,0),0),\"\")","v":0},{"$f":"IF(A15<>\"\",IFERROR(VLOOKUP(AP15,Tabelas!B:D,3,0),0),\"\")","v":0},{"$f":"IF(A15<>\"\",IFERROR(VLOOKUP(AQ15,Tabelas!B:D,3,0),0),\"\")","v":0},{"$f":"IF(A15<>\"\",IFERROR(VLOOKUP(AR15,Tabelas!B:D,3,0),0),\"\")","v":0},0,0,0,0,0,0,0,0,{"$f":"IF(A15<>\"\",COUNTIF(N15:AR15,\"APH\"),\"\")","v":0}]
["Fulano de Tal 8",1234567,123,"ENF","Ebserh",36,null,null,null,null,null,null,null,null,null,null,null,null,null,null,null,null,null,null,null,null,null,null,null,null,null,null,null,null,null,null,null,null,null,null,null,null,null,null,{"$f":"IF(A16<>\"\",IFERROR(VLOOKUP(N16,Tabelas!B:D,3,0),0),\"\")","v":0},{"$f":"IF(A16<>\"\",IFERROR(VLOOKUP(O16,Tabelas!B:D,3,0),0),\"\")","v":0},{"$f":"IF(A16<>\"\",IFERROR(VLOOKUP(P16,Tabelas!B:D,3,0),0),\"\")","v":0},{"$f":"IF(A16<>\"\",IFERROR(VLOOKUP(Q16,Tabelas!B:D,3,0),0),\"\")","v":0},{"$f":"IF(A16<>\"\",IFERROR(VLOOKUP(R16,Tabelas!B:D,3,0),0),\"\")","v":0},{"$f":"IF(A16<>\"\",IFERROR(VLOOKUP(S16,Tabelas!B:D,3,0),0),\"\")","v":0},{"$f":"IF(A16<>\"\",IFERROR(VLOOKUP(T16,Tabelas!B:D,3,0),0),\"\")","v":0},{"$f":"IF(A16<>\"\",IFERROR(VLOOKUP(U16,Tabelas!B:D,3,0),0),\"\")","v":0},{"$f":"IF(A16<>\"\",IFERROR(VLOOKUP(V16,Tabelas!B:D,3,0),0),\"\")","v":0},{"$f":"IF(A16<>\"\",IFERROR(VLOOKUP(W16,Tabelas!B:D,3,0),0),\"\")","v":0},{"$f":"IF(A16<>\"\",IFERROR(VLOOKUP(X16,Tabelas!B:D,3,0),0),\"\")","v":0},{"$f":"IF(A16<>\"\",IFERROR(VLOOKUP(Y16,Tabelas!B:D,3,0),0),\"\")","v":0},{"$f":"IF(A16<>\"\",IFERROR(VLOOKUP(Z16,Tabelas!B:D,3,0),0),\"\")","v":0},{"$f":"IF(A16<>\"\",IFERROR(VLOOKUP(AA16,Tabelas!B:D,3,0),0),\"\")","v":0},{"$f":"IF(A16<>\"\",IFERROR(VLOOKUP(AB16,Tabelas!B:D,3,0),0),\"\")","v":0},{"$f":"IF(A16<>\"\",IFERROR(VLOOKUP(AC16,Tabelas!B:D,3,0),0),\"\")","v":0},{"$f":"IF(A16<>\"\",IFERROR(VLOOKUP(AD16,Tabelas!B:D,3,0),0),\"\")","v":0},{"$f":"IF(A16<>\"\",IFERROR(VLOOKUP(AE16,Tabelas!B:D,3,0),0),\"\")","v":0},{"$f":"IF(A16<>\"\",IFERROR(VLOOKUP(AF16,Tabelas!B:D,3,0),0),\"\")","v":0},{"$f":"IF(A16<>\"\",IFERROR(VLOOKUP(AG16,Tabelas!B:D,3,0),0),\"\")","v":0},{"$f":"IF(A16<>\"\",IFERROR(VLOOKUP(AH16,Tabelas!B:D,3,0),0),\"\")","v":0},{"$f":"IF(A16<>\"\",IFERROR(VLOOKUP(AI16,Tabelas!B:D,3,0),0),\"\")","v":0},{"$f":"IF(A16<>\"\",IFERROR(VLOOKUP(AJ16,Tabelas!B:D,3,0),0),\"\")","v":0},{"$f":"IF(A16<>\"\",IFERROR(VLOOKUP(AK16,Tabelas!B:D,3,0),0),\"\")","v":0},{"$f":"IF(A16<>\"\",IFERROR(VLOOKUP(AL16,Tabelas!B:D,3,0),0),\"\")","v":0},{"$f":"IF(A16<>\"\",IFERROR(VLOOKUP(AM16,Tabelas!B:D,3,0),0),\"\")","v":0},{"$f":"IF(A16<>\"\",IFERROR(VLOOKUP(AN16,Tabelas!B:D,3,0),0),\"\")","v":0},{"$f":"IF(A16<>\"\",IFERROR(VLOOKUP(AO16,Tabelas!B:D,3,0),0),\"\")","v":0},{"$f":"IF(A16<>\"\",IFERROR(VLOOKUP(AP16,Tabelas!B:D,3,0),0),\"\")","v":0},{"$f":"IF(A16<>\"\",IFERROR(VLOOKUP(AQ16,Tabelas!B:D,3,0),0),\"\")","v":0},{"$f":"IF(A16<>\"\",IFERROR(VLOOKUP(AR16,Tabelas!B:D,3,0),0),\"\")","v":0},0,0,0,0,0,0,0,0,{"$f":"IF(A16<>\"\",COUNTIF(N16:AR16,\"APH\"),\"\")","v":0}]
["Fulano de Tal 9",1234567,123,"ENF","Ebserh",36,null,null,null,null,null,null,null,null,null,null,null,null,null,null,null,null,null,null,null,null,null,null,null,null,null,null,null,null,null,null,null,null,null,null,null,null,null,null,{"$f":"IF(A17<>\"\",IFERROR(VLOOKUP(N17,Tabelas!B:D,3,0),0),\"\")","v":0},{"$f":"IF(A17<>\"\",IFERROR(VLOOKUP(O17,Tabelas!B:D,3,0),0),\"\")","v":0},{"$f":"IF(A17<>\"\",IFERROR(VLOOKUP(P17,Tabelas!B:D,3,0),0),\"\")","v":0},{"$f":"IF(A17<>\"\",IFERROR(VLOOKUP(Q17,Tabelas!B:D,3,0),0),\"\")","v":0},{"$f":"IF(A17<>\"\",IFERROR(VLOOKUP(R17,Tabelas!B:D,3,0),0),\"\")","v":0},{"$f":"IF(A17<>\"\",IFERROR(VLOOKUP(S17,Tabelas!B:D,3,0),0),\"\")","v":0},{"$f":"IF(A17<>\"\",IFERROR(VLOOKUP(T17,Tabelas!B:D,3,0),0),\"\")","v":0},{"$f":"IF(A17<>\"\",IFERROR(VLOOKUP(U17,Tabelas!B:D,3,0),0),\"\")","v":0},{"$f":"IF(A17<>\"\",IFERROR(VLOOKUP(V17,Tabelas!B:D,3,0),0),\"\")","v":0},{"$f":"IF(A17<>\"\",IFERROR(VLOOKUP(W17,Tabelas!B:D,3,0),0),\"\")","v":0},{"$f":"IF(A17<>\"\",IFERROR(VLOOKUP(X17,Tabelas!B:D,3,0),0),\"\")","v":0},{"$f":"IF(A17<>\"\",IFERROR(VLOOKUP(Y17,Tabelas!B:D,3,0),0),\"\")","v":0},{"$f":"IF(A17<>\"\",IFERROR(VLOOKUP(Z17,Tabelas!B:D,3,0),0),\"\")","v":0},{"$f":"IF(A17<>\"\",IFERROR(VLOOKUP(AA17,Tabelas!B:D,3,0),0),\"\")","v":0},{"$f":"IF(A17<>\"\",IFERROR(VLOOKUP(AB17,Tabelas!B:D,3,0),0),\"\")","v":0},{"$f":"IF(A17<>\"\",IFERROR(VLOOKUP(AC17,Tabelas!B:D,3,0),0),\"\")","v":0},{"$f":"IF(A17<>\"\",IFERROR(VLOOKUP(AD17,Tabelas!B:D,3,0),0),\"\")","v":0},{"$f":"IF(A17<>\"\",IFERROR(VLOOKUP(AE17,Tabelas!B:D,3,0),0),\"\")","v":0},{"$f":"IF(A17<>\"\",IFERROR(VLOOKUP(AF17,Tabelas!B:D,3,0),0),\"\")","v":0},{"$f":"IF(A17<>\"\",IFERROR(VLOOKUP(AG17,Tabelas!B:D,3,0),0),\"\")","v":0},{"$f":"IF(A17<>\"\",IFERROR(VLOOKUP(AH17,Tabelas!B:D,3,0),0),\"\")","v":0},{"$f":"IF(A17<>\"\",IFERROR(VLOOKUP(AI17,Tabelas!B:D,3,0),0),\"\")","v":0},{"$f":"IF(A17<>\"\",IFERROR(VLOOKUP(AJ17,Tabelas!B:D,3,0),0),\"\")","v":0},{"$f":"IF(A17<>\"\",IFERROR(VLOOKUP(AK17,Tabelas!B:D,3,0),0),\"\")","v":0},{"$f":"IF(A17<>\"\",IFERROR(VLOOKUP(AL17,Tabelas!B:D,3,0),0),\"\")","v":0},{"$f":"IF(A17<>\"\",IFERROR(VLOOKUP(AM17,Tabelas!B:D,3,0),0),\"\")","v":0},{"$f":"IF(A17<>\"\",IFERROR(VLOOKUP(AN17,Tabelas!B:D,3,0),0),\"\")","v":0},{"$f":"IF(A17<>\"\",IFERROR(VLOOKUP(AO17,Tabelas!B:D,3,0),0),\"\")","v":0},{"$f":"IF(A17<>\"\",IFERROR(VLOOKUP(AP17,Tabelas!B:D,3,0),0),\"\")","v":0},{"$f":"IF(A17<>\"\",IFERROR(VLOOKUP(AQ17,Tabelas!B:D,3,0),0),\"\")","v":0},{"$f":"IF(A17<>\"\",IFERROR(VLOOKUP(AR17,Tabelas!B:D,3,0),0),\"\")","v":0},0,0,0,0,0,0,0,0,{"$f":"IF(A17<>\"\",COUNTIF(N17:AR17,\"APH\"),\"\")","v":0}]
["Fulano de Tal 10",1234567,123,"ENF","Ebserh",36,null,null,null,null,null,null,null,null,null,null,null,null,null,null,null,null,null,null,null,null,null,null,null,null,null,null,null,null,null,null,null,null,null,null,null,null,null,null,{"$f":"IF(A18<>\"\",IFERROR(VLOOKUP(N18,Tabelas!B:D,3,0),0),\"\")","v":0},{"$f":"IF(A18<>\"\",IFERROR(VLOOKUP(O18,Tabelas!B:D,3,0),0),\"\")","v":0},{"$f":"IF(A18<>\"\",IFERROR(VLOOKUP(P18,Tabelas!B:D,3,0),0),\"\")","v":0},{"$f":"IF(A18<>\"\",IFERROR(VLOOKUP(Q18,Tabelas!B:D,3,0),0),\"\")","v":0},{"$f":"IF(A18<>\"\",IFERROR(VLOOKUP(R18,Tabelas!B:D,3,0),0),\"\")","v":0},{"$f":"IF(A18<>\"\",IFERROR(VLOOKUP(S18,Tabelas!B:D,3,0),0),\"\")","v":0},{"$f":"IF(A18<>\"\",IFERROR(VLOOKUP(T18,Tabelas!B:D,3,0),0),\"\")","v":0},{"$f":"IF(A18<>\"\",IFERROR(VLOOKUP(U18,Tabelas!B:D,3,0),0),\"\")","v":0},{"$f":"IF(A18<>\"\",IFERROR(VLOOKUP(V18,Tabelas!B:D,3,0),0),\"\")","v":0},{"$f":"IF(A18<>\"\",IFERROR(VLOOKUP(W18,Tabelas!B:D,3,0),0),\"\")","v":0},{"$f":"IF(A18<>\"\",IFERROR(VLOOKUP(X18,Tabelas!B:D,3,0),0),\"\")","v":0},{"$f":"IF(A18<>\"\",IFERROR(VLOOKUP(Y18,Tabelas!B:D,3,0),0),\"\")","v":0},{"$f":"IF(A18<>\"\",IFERROR(VLOOKUP(Z18,Tabelas!B:D,3,0),0),\"\")","v":0},{"$f":"IF(A18<>\"\",IFERROR(VLOOKUP(AA18,Tabelas!B:D,3,0),0),\"\")","v":0},{"$f":"IF(A18<>\"\",IFERROR(VLOOKUP(AB18,Tabelas!B:D,3,0),0),\"\")","v":0},{"$f":"IF(A18<>\"\",IFERROR(VLOOKUP(AC18,Tabelas!B:D,3,0),0),\"\")","v":0},{"$f":"IF(A18<>\"\",IFERROR(VLOOKUP(AD18,Tabelas!B:D,3,0),0),\"\")","v":0},{"$f":"IF(A18<>\"\",IFERROR(VLOOKUP(AE18,Tabelas!B:D,3,0),0),\"\")","v":0},{"$f":"IF(A18<>\"\",IFERROR(VLOOKUP(AF18,Tabelas!B:D,3,0),0),\"\")","v":0},{"$f":"IF(A18<>\"\",IFERROR(VLOOKUP(AG18,Tabelas!B:D,3,0),0),\"\")","v":0},{"$f":"IF(A18<>\"\",IFERROR(VLOOKUP(AH18,Tabelas!B:D,3,0),0),\"\")","v":0},{"$f":"IF(A18<>\"\",IFERROR(VLOOKUP(AI18,Tabelas!B:D,3,0),0),\"\")","v":0},{"$f":"IF(A18<>\"\",IFERROR(VLOOKUP(AJ18,Tabelas!B:D,3,0),0),\"\")","v":0},{"$f":"IF(A18<>\"\",IFERROR(VLOOKUP(AK18,Tabelas!B:D,3,0),0),\"\")","v":0},{"$f":"IF(A18<>\"\",IFERROR(VLOOKUP(AL18,Tabelas!B:D,3,0),0),\"\")","v":0},{"$f":"IF(A18<>\"\",IFERROR(VLOOKUP(AM18,Tabelas!B:D,3,0),0),\"\")","v":0},{"$f":"IF(A18<>\"\",IFERROR(VLOOKUP(AN18,Tabelas!B:D,3,0),0),\"\")","v":0},{"$f":"IF(A18<>\"\",IFERROR(VLOOKUP(AO18,Tabelas!B:D,3,0),0),\"\")","v":0},{"$f":"IF(A18<>\"\",IFERROR(VLOOKUP(AP18,Tabelas!B:D,3,0),0),\"\")","v":0},{"$f":"IF(A18<>\"\",IFERROR(VLOOKUP(AQ18,Tabelas!B:D,3,0),0),\"\")","v":0},{"$f":"IF(A18<>\"\",IFERROR(VLOOKUP(AR18,Tabelas!B:D,3,0),0),\"\")","v":0},0,0,0,0,0,0,0,0,{"$f":"IF(A18<>\"\",COUNTIF(N18:AR18,\"APH\"),\"\")","v":0}]
["Fulano de Tal 11",1234567,123,"ENF","Ebserh",36,null,null,null,null,null,null,null,null,null,null,null,null,null,null,null,null,null,null,null,null,null,null,null,null,null,null,null,null,null,null,null,null,null,null,null,null,null,null,{"$f":"IF(A19<>\"\",IFERROR(VLOOKUP(N19,Tabelas!B:D,3,0),0),\"\")","v":0},{"$f":"IF(A19<>\"\",IFERROR(VLOOKUP(O19,Tabelas!B:D,3,0),0),\"\")","v":0},{"$f":"IF(A19<>\"\",IFERROR(VLOOKUP(P19,Tabelas!B:D,3,0),0),\"\")","v":0},{"$f":"IF(A19<>\"\",IFERROR(VLOOKUP(Q19,Tabelas!B:D,3,0),0),\"\")","v":0},{"$f":"IF(A19<>\"\",IFERROR(VLOOKUP(R19,Tabelas!B:D,3,0),0),\"\")","v":0},{"$f":"IF(A19<>\"\",IFERROR(VLOOKUP(S19,Tabelas!B:D,3,0),0),\"\")","v":0},{"$f":"IF(A19<>\"\",IFERROR(VLOOKUP(T19,Tabelas!B:D,3,0),0),\"\")","v":0},{"$f":"IF(A19<>\"\",IFERROR(VLOOKUP(U19,Tabelas!B:D,3,0),0),\"\")","v":0},{"$f":"IF(A19<>\"\",IFERROR(VLOOKUP(V19,Tabelas!B:D,3,0),0),\"\")","v":0},{"$f":"IF(A19<>\"\",IFERROR(VLOOKUP(W19,Tabelas!B:D,3,0),0),\"\")","v":0},{"$f":"IF(A19<>\"\",IFERROR(VLOOKUP(X19,Tabelas!B:D,3,0),0),\"\")","v":0},{"$f":"IF(A19<>\"\",IFERROR(VLOOKUP(Y19,Tabelas!B:D,3,0),0),\"\")","v":0},{"$f":"IF(A19<>\"\",IFERROR(VLOOKUP(Z19,Tabelas!B:D,3,0),0),\"\")","v":0},{"$f":"IF(A19<>\"\",IFERROR(VLOOKUP(AA19,Tabelas!B:D,3,0),0),\"\")","v":0},{"$f":"IF(A19<>\"\",IFERROR(VLOOKUP(AB19,Tabelas!B:D,3,0),0),\"\")","v":0},{"$f":"IF(A19<>\"\",IFERROR(VLOOKUP(AC19,Tabelas!B:D,3,0),0),\"\")","v":0},{"$f":"IF(A19<>\"\",IFERROR(VLOOKUP(AD19,Tabelas!B:D,3,0),0),\"\")","v":0},{"$f":"IF(A19<>\"\",IFERROR(VLOOKUP(AE19,Tabelas!B:D,3,0),0),\"\")","v":0},{"$f":"IF(A19<>\"\",IFERROR(VLOOKUP(AF19,Tabelas!B:D,3,0),0),\"\")","v":0},{"$f":"IF(A19<>\"\",IFERROR(VLOOKUP(AG19,Tabelas!B:D,3,0),0),\"\")","v":0},{"$f":"IF(A19<>\"\",IFERROR(VLOOKUP(AH19,Tabelas!B:D,3,0),0),\"\")","v":0},{"$f":"IF(A19<>\"\",IFERROR(VLOOKUP(AI19,Tabelas!B:D,3,0),0),\"\")","v":0},{"$f":"IF(A19<>\"\",IFERROR(VLOOKUP(AJ19,Tabelas!B:D,3,0),0),\"\")","v":0},{"$f":"IF(A19<>\"\",IFERROR(VLOOKUP(AK19,Tabelas!B:D,3,0),0),\"\")","v":0},{"$f":"IF(A19<>\"\",IFERROR(VLOOKUP(AL19,Tabelas!B:D,3,0),0),\"\")","v":0},{"$f":"IF(A19<>\"\",IFERROR(VLOOKUP(AM19,Tabelas!B:D,3,0),0),\"\")","v":0},{"$f":"IF(A19<>\"\",IFERROR(VLOOKUP(AN19,Tabelas!B:D,3,0),0),\"\")","v":0},{"$f":"IF(A19<>\"\",IFERROR(VLOOKUP(AO19,Tabelas!B:D,3,0),0),\"\")","v":0},{"$f":"IF(A19<>\"\",IFERROR(VLOOKUP(AP19,Tabelas!B:D,3,0),0),\"\")","v":0},{"$f":"IF(A19<>\"\",IFERROR(VLOOKUP(AQ19,Tabelas!B:D,3,0),0),\"\")","v":0},{"$f":"IF(A19<>\"\",IFERROR(VLOOKUP(AR19,Tabelas!B:D,3,0),0),\"\")","v":0},0,0,0,0,0,0,0,0,{"$f":"IF(A19<>\"\",COUNTIF(N19:AR19,\"APH\"),\"\")","v":0}]
["Fulano de Tal 12",1234567,123,"ENF","Ebserh",36,null,null,null,null,null,null,null,null,null,null,null,null,null,null,null,null,null,null,null,null,null,null,null,null,null,null,null,null,null,null,null,null,null,null,null,null,null,null,{"$f":"IF(A20<>\"\",IFERROR(VLOOKUP(N20,Tabelas!B:D,3,0),0),\"\")","v":0},{"$f":"IF(A20<>\"\",IFERROR(VLOOKUP(O20,Tabelas!B:D,3,0),0),\"\")","v":0},{"$f":"IF(A20<>\"\",IFERROR(VLOOKUP(P20,Tabelas!B:D,3,0),0),\"\")","v":0},{"$f":"IF(A20<>\"\",IFERROR(VLOOKUP(Q20,Tabelas!B:D,3,0),0),\"\")","v":0},{"$f":"IF(A20<>\"\",IFERROR(VLOOKUP(R20,Tabelas!B:D,3,0),0),\"\")","v":0},{"$f":"IF(A20<>\"\",IFERROR(VLOOKUP(S20,Tabelas!B:D,3,0),0),\"\")","v":0},{"$f":"IF(A20<>\"\",IFERROR(VLOOKUP(T20,Tabelas!B:D,3,0),0),\"\")","v":0},{"$f":"IF(A20<>\"\",IFERROR(VLOOKUP(U20,Tabelas!B:D,3,0),0),\"\")","v":0},{"$f":"IF(A20<>\"\",IFERROR(VLOOKUP(V20,Tabelas!B:D,3,0),0),\"\")","v":0},{"$f":"IF(A20<>\"\",IFERROR(VLOOKUP(W20,Tabelas!B:D,3,0),0),\"\")","v":0},{"$f":"IF(A20<>\"\",IFERROR(VLOOKUP(X20,Tabelas!B:D,3,0),0),\"\")","v":0},{"$f":"IF(A20<>\"\",IFERROR(VLOOKUP(Y20,Tabelas!B:D,3,0),0),\"\")","v":0},{"$f":"IF(A20<>\"\",IFERROR(VLOOKUP(Z20,Tabelas!B:D,3,0),0),\"\")","v":0},{"$f":"IF(A20<>\"\",IFERROR(VLOOKUP(AA20,Tabelas!B:D,3,0),0),\"\")","v":0},{"$f":"IF(A20<>\"\",IFERROR(VLOOKUP(AB20,Tabelas!B:D,3,0),0),\"\")","v":0},{"$f":"IF(A20<>\"\",IFERROR(VLOOKUP(AC20,Tabelas!B:D,3,0),0),\"\")","v":0},{"$f":"IF(A20<>\"\",IFERROR(VLOOKUP(AD20,Tabelas!B:D,3,0),0),\"\")","v":0},{"$f":"IF(A20<>\"\",IFERROR(VLOOKUP(AE20,Tabelas!B:D,3,0),0),\"\")","v":0},{"$f":"IF(A20<>\"\",IFERROR(VLOOKUP(AF20,Tabelas!B:D,3,0),0),\"\")","v":0},{"$f":"IF(A20<>\"\",IFERROR(VLOOKUP(AG20,Tabelas!B:D,3,0),0),\"\")","v":0},{"$f":"IF(A20<>\"\",IFERROR(VLOOKUP(AH20,Tabelas!B:D,3,0),0),\"\")","v":0},{"$f":"IF(A20<>\"\",IFERROR(VLOOKUP(AI20,Tabelas!B:D,3,0),0),\"\")","v":0},{"$f":"IF(A20<>\"\",IFERROR(VLOOKUP(AJ20,Tabelas!B:D,3,0),0),\"\")","v":0},{"$f":"IF(A20<>\"\",IFERROR(VLOOKUP(AK20,Tabelas!B:D,3,0),0),\"\")","v":0},{"$f":"IF(A20<>\"\",IFERROR(VLOOKUP(AL20,Tabelas!B:D,3,0),0),\"\")","v":0},{"$f":"IF(A20<>\"\",IFERROR(VLOOKUP(AM20,Tabelas!B:D,3,0),0),\"\")","v":0},{"$f":"IF(A20<>\"\",IFERROR(VLOOKUP(AN20,Tabelas!B:D,3,0),0),\"\")","v":0},{"$f":"IF(A20<>\"\",IFERROR(VLOOKUP(AO20,Tabelas!B:D,3,0),0),\"\")","v":0},{"$f":"IF(A20<>\"\",IFERROR(VLOOKUP(AP20,Tabelas!B:D,3,0),0),\"\")","v":0},{"$f":"IF(A20<>\"\",IFERROR(VLOOKUP(AQ20,Tabelas!B:D,3,0),0),\"\")","v":0},{"$f":"IF(A20<>\"\",IFERROR(VLOOKUP(AR20,Tabelas!B:D,3,0),0),\"\")","v":0},0,0,0,0,0,0,0,0,0]
["Fulano de Tal 13",1234567,123,"ENF","Ebserh",36,null,null,null,null,null,null,null,null,null,null,null,null,null,null,null,null,null,null,null,null,null,null,null,null,null,null,null,null,null,null,null,null,null,null,null,null,null,null,{"$f":"IF(A21<>\"\",IFERROR(VLOOKUP(N21,Tabelas!B:D,3,0),0),\"\")","v":0},{"$f":"IF(A21<>\"\",IFERROR(VLOOKUP(O21,Tabelas!B:D,3,0),0),\"\")","v":0},{"$f":"IF(A21<>\"\",IFERROR(VLOOKUP(P21,Tabelas!B:D,3,0),0),\"\")","v":0},{"$f":"IF(A21<>\"\",IFERROR(VLOOKUP(Q21,Tabelas!B:D,3,0),0),\"\")","v":0},{"$f":"IF(A21<>\"\",IFERROR(VLOOKUP(R21,Tabelas!B:D,3,0),0),\"\")","v":0},{"$f":"IF(A21<>\"\",IFERROR(VLOOKUP(S21,Tabelas!B:D,3,0),0),\"\")","v":0},{"$f":"IF(A21<>\"\",IFERROR(VLOOKUP(T21,Tabelas!B:D,3,0),0),\"\")","v":0},{"$f":"IF(A21<>\"\",IFERROR(VLOOKUP(U21,Tabelas!B:D,3,0),0),\"\")","v":0},{"$f":"IF(A21<>\"\",IFERROR(VLOOKUP(V21,Tabelas!B:D,3,0),0),\"\")","v":0},{"$f":"IF(A21<>\"\",IFERROR(VLOOKUP(W21,Tabelas!B:D,3,0),0),\"\")","v":0},{"$f":"IF(A21<>\"\",IFERROR(VLOOKUP(X21,Tabelas!B:D,3,0),0),\"\")","v":0},{"$f":"IF(A21<>\"\",IFERROR(VLOOKUP(Y21,Tabelas!B:D,3,0),0),\"\")","v":0},{"$f":"IF(A21<>\"\",IFERROR(VLOOKUP(Z21,Tabelas!B:D,3,0),0),\"\")","v":0},{"$f":"IF(A21<>\"\",IFERROR(VLOOKUP(AA21,Tabelas!B:D,3,0),0),\"\")","v":0},{"$f":"IF(A21<>\"\",IFERROR(VLOOKUP(AB21,Tabelas!B:D,3,0),0),\"\")","v":0},{"$f":"IF(A21<>\"\",IFERROR(VLOOKUP(AC21,Tabelas!B:D,3,0),0),\"\")","v":0},{"$f":"IF(A21<>\"\",IFERROR(VLOOKUP(AD21,Tabelas!B:D,3,0),0),\"\")","v":0},{"$f":"IF(A21<>\"\",IFERROR(VLOOKUP(AE21,Tabelas!B:D,3,0),0),\"\")","v":0},{"$f":"IF(A21<>\"\",IFERROR(VLOOKUP(AF21,Tabelas!B:D,3,0),0),\"\")","v":0},{"$f":"IF(A21<>\"\",IFERROR(VLOOKUP(AG21,Tabelas!B:D,3,0),0),\"\")","v":0},{"$f":"IF(A21<>\"\",IFERROR(VLOOKUP(AH21,Tabelas!B:D,3,0),0),\"\")","v":0},{"$f":"IF(A21<>\"\",IFERROR(VLOOKUP(AI21,Tabelas!B:D,3,0),0),\"\")","v":0},{"$f":"IF(A21<>\"\",IFERROR(VLOOKUP(AJ21,Tabelas!B:D,3,0),0),\"\")","v":0},{"$f":"IF(A21<>\"\",IFERROR(VLOOKUP(AK21,Tabelas!B:D,3,0),0),\"\")","v":0},{"$f":"IF(A21<>\"\",IFERROR(VLOOKUP(AL21,Tabelas!B:D,3,0),0),\"\")","v":0},{"$f":"IF(A21<>\"\",IFERROR(VLOOKUP(AM21,Tabelas!B:D,3,0),0),\"\")","v":0},{"$f":"IF(A21<>\"\",IFERROR(VLOOKUP(AN21,Tabelas!B:D,3,0),0),\"\")","v":0},{"$f":"IF(A21<>\"\",IFERROR(VLOOKUP(AO21,Tabelas!B:D,3,0),0),\"\")","v":0},{"$f":"IF(A21<>\"\",IFERROR(VLOOKUP(AP21,Tabelas!B:D,3,0),0),\"\")","v":0},{"$f":"IF(A21<>\"\",IFERROR(VLOOKUP(AQ21,Tabelas!B:D,3,0),0),\"\")","v":0},{"$f":"IF(A21<>\"\",IFERROR(VLOOKUP(AR21,Tabelas!B:D,3,0),0),\"\")","v":0},0,0,0,0,0,0,0,0,0]
["Fulano de Tal 14",1234567,123,"ENF","Ebserh",36,null,null,null,null,null,null,null,null,null,null,null,null,null,null,null,null,null,null,null,null,null,null,null,null,null,null,null,null,null,null,null,null,null,null,null,null,null,null,{"$f":"IF(A22<>\"\",IFERROR(VLOOKUP(N22,Tabelas!B:D,3,0),0),\"\")","v":0},{"$f":"IF(A22<>\"\",IFERROR(VLOOKUP(O22,Tabelas!B:D,3,0),0),\"\")","v":0},{"$f":"IF(A22<>\"\",IFERROR(VLOOKUP(P22,Tabelas!B:D,3,0),0),\"\")","v":0},{"$f":"IF(A22<>\"\",IFERROR(VLOOKUP(Q22,Tabelas!B:D,3,0),0),\"\")","v":0},{"$f":"IF(A22<>\"\",IFERROR(VLOOKUP(R22,Tabelas!B:D,3,0),0),\"\")","v":0},{"$f":"IF(A22<>\"\",IFERROR(VLOOKUP(S22,Tabelas!B:D,3,0),0),\"\")","v":0},{"$f":"IF(A22<>\"\",IFERROR(VLOOKUP(T22,Tabelas!B:D,3,0),0),\"\")","v":0},{"$f":"IF(A22<>\"\",IFERROR(VLOOKUP(U22,Tabelas!B:D,3,0),0),\"\")","v":0},{"$f":"IF(A22<>\"\",IFERROR(VLOOKUP(V22,Tabelas!B:D,3,0),0),\"\")","v":0},{"$f":"IF(A22<>\"\",IFERROR(VLOOKUP(W22,Tabelas!B:D,3,0),0),\"\")","v":0},{"$f":"IF(A22<>\"\",IFERROR(VLOOKUP(X22,Tabelas!B:D,3,0),0),\"\")","v":0},{"$f":"IF(A22<>\"\",IFERROR(VLOOKUP(Y22,Tabelas!B:D,3,0),0),\"\")","v":0},{"$f":"IF(A22<>\"\",IFERROR(VLOOKUP(Z22,Tabelas!B:D,3,0),0),\"\")","v":0},{"$f":"IF(A22<>\"\",IFERROR(VLOOKUP(AA22,Tabelas!B:D,3,0),0),\"\")","v":0},{"$f":"IF(A22<>\"\",IFERROR(VLOOKUP(AB22,Tabelas!B:D,3,0),0),\"\")","v":0},{"$f":"IF(A22<>\"\",IFERROR(VLOOKUP(AC22,Tabelas!B:D,3,0),0),\"\")","v":0},{"$f":"IF(A22<>\"\",IFERROR(VLOOKUP(AD22,Tabelas!B:D,3,0),0),\"\")","v":0},{"$f":"IF(A22<>\"\",IFERROR(VLOOKUP(AE22,Tabelas!B:D,3,0),0),\"\")","v":0},{"$f":"IF(A22<>\"\",IFERROR(VLOOKUP(AF22,Tabelas!B:D,3,0),0),\"\")","v":0},{"$f":"IF(A22<>\"\",IFERROR(VLOOKUP(AG22,Tabelas!B:D,3,0),0),\"\")","v":0},{"$f":"IF(A22<>\"\",IFERROR(VLOOKUP(AH22,Tabelas!B:D,3,0),0),\"\")","v":0},{"$f":"IF(A22<>\"\",IFERROR(VLOOKUP(AI22,Tabelas!B:D,3,0),0),\"\")","v":0},{"$f":"IF(A22<>\"\",IFERROR(VLOOKUP(AJ22,Tabelas!B:D,3,0),0),\"\")","v":0},{"$f":"IF(A22<>\"\",IFERROR(VLOOKUP(AK22,Tabelas!B:D,3,0),0),\"\")","v":0},{"$f":"IF(A22<>\"\",IFERROR(VLOOKUP(AL22,Tabelas!B:D,3,0),0),\"\")","v":0},{"$f":"IF(A22<>\"\",IFERROR(VLOOKUP(AM22,Tabelas!B:D,3,0),0),\"\")","v":0},{"$f":"IF(A22<>\"\",IFERROR(VLOOKUP(AN22,Tabelas!B:D,3,0),0),\"\")","v":0},{"$f":"IF(A22<>\"\",IFERROR(VLOOKUP(AO22,Tabelas!B:D,3,0),0),\"\")","v":0},{"$f":"IF(A22<>\"\",IFERROR(VLOOKUP(AP22,Tabelas!B:D,3,0),0),\"\")","v":0},{"$f":"IF(A22<>\"\",IFERROR(VLOOKUP(AQ22,Tabelas!B:D,3,0),0),\"\")","v":0},{"$f":"IF(A22<>\"\",IFERROR(VLOOKUP(AR22,Tabelas!B:D,3,0),0),\"\")","v":0},0,0,0,0,0,0,0,0,0]
["Fulano de Tal 15",1234567,123,"ENF","Ebserh",36,null,null,null,null,null,null,null,null,null,null,null,null,null,null,null,null,null,null,null,null,null,null,null,null,null,null,null,null,null,null,null,null,null,null,null,null,null,null,{"$f":"IF(A23<>\"\",IFERROR(VLOOKUP(N23,Tabelas!B:D,3,0),0),\"\")","v":0},{"$f":"IF(A23<>\"\",IFERROR(VLOOKUP(O23,Tabelas!B:D,3,0),0),\"\")","v":0},{"$f":"IF(A23<>\"\",IFERROR(VLOOKUP(P23,Tabelas!B:D,3,0),0),\"\")","v":0},{"$f":"IF(A23<>\"\",IFERROR(VLOOKUP(Q23,Tabelas!B:D,3,0),0),\"\")","v":0},{"$f":"IF(A23<>\"\",IFERROR(VLOOKUP(R23,Tabelas!B:D,3,0),0),\"\")","v":0},{"$f":"IF(A23<>\"\",IFERROR(VLOOKUP(S23,Tabelas!B:D,3,0),0),\"\")","v":0},{"$f":"IF(A23<>\"\",IFERROR(VLOOKUP(T23,Tabelas!B:D,3,0),0),\"\")","v":0},{"$f":"IF(A23<>\"\",IFERROR(VLOOKUP(U23,Tabelas!B:D,3,0),0),\"\")","v":0},{"$f":"IF(A23<>\"\",IFERROR(VLOOKUP(V23,Tabelas!B:D,3,0),0),\"\")","v":0},{"$f":"IF(A23<>\"\",IFERROR(VLOOKUP(W23,Tabelas!B:D,3,0),0),\"\")","v":0},{"$f":"IF(A23<>\"\",IFERROR(VLOOKUP(X23,Tabelas!B:D,3,0),0),\"\")","v":0},{"$f":"IF(A23<>\"\",IFERROR(VLOOKUP(Y23,Tabelas!B:D,3,0),0),\"\")","v":0},{"$f":"IF(A23<>\"\",IFERROR(VLOOKUP(Z23,Tabelas!B:D,3,0),0),\"\")","v":0},{"$f":"IF(A23<>\"\",IFERROR(VLOOKUP(AA23,Tabelas!B:D,3,0),0),\"\")","v":0},{"$f":"IF(A23<>\"\",IFERROR(VLOOKUP(AB23,Tabelas!B:D,3,0),0),\"\")","v":0},{"$f":"IF(A23<>\"\",IFERROR(VLOOKUP(AC23,Tabelas!B:D,3,0),0),\"\")","v":0},{"$f":"IF(A23<>\"\",IFERROR(VLOOKUP(AD23,Tabelas!B:D,3,0),0),\"\")","v":0},{"$f":"IF(A23<>\"\",IFERROR(VLOOKUP(AE23,Tabelas!B:D,3,0),0),\"\")","v":0},{"$f":"IF(A23<>\"\",IFERROR(VLOOKUP(AF23,Tabelas!B:D,3,0),0),\"\")","v":0},{"$f":"IF(A23<>\"\",IFERROR(VLOOKUP(AG23,Tabelas!B:D,3,0),0),\"\")","v":0},{"$f":"IF(A23<>\"\",IFERROR(VLOOKUP(AH23,Tabelas!B:D,3,0),0),\"\")","v":0},{"$f":"IF(A23<>\"\",IFERROR(VLOOKUP(AI23,Tabelas!B:D,3,0),0),\"\")","v":0},{"$f":"IF(A23<>\"\",IFERROR(VLOOKUP(AJ23,Tabelas!B:D,3,0),0),\"\")","v":0},{"$f":"IF(A23<>\"\",IFERROR(VLOOKUP(AK23,Tabelas!B:D,3,0),0),\"\")","v":0},{"$f":"IF(A23<>\"\",IFERROR(VLOOKUP(AL23,Tabelas!B:D,3,0),0),\"\")","v":0},{"$f":"IF(A23<>\"\",IFERROR(VLOOKUP(AM23,Tabelas!B:D,3,0),0),\"\")","v":0},{"$f":"IF(A23<>\"\",IFERROR(VLOOKUP(AN23,Tabelas!B:D,3,0),0),\"\")","v":0},{"$f":"IF(A23<>\"\",IFERROR(VLOOKUP(AO23,Tabelas!B:D,3,0),0),\"\")","v":0},{"$f":"IF(A23<>\"\",IFERROR(VLOOKUP(AP23,Tabelas!B:D,3,0),0),\"\")","v":0},{"$f":"IF(A23<>\"\",IFERROR(VLOOKUP(AQ23,Tabelas!B:D,3,0),0),\"\")","v":0},{"$f":"IF(A23<>\"\",IFERROR(VLOOKUP(AR23,Tabelas!B:D,3,0),0),\"\")","v":0},0,0,0,0,0,0,0,0,0]
["Fulano de Tal 16",1234567,123,"ENF","Ebserh",36,null,null,null,null,null,null,null,null,null,null,null,null,null,null,null,null,null,null,null,null,null,null,null,null,null,null,null,null,null,null,null,null,null,null,null,null,null,null,{"$f":"IF(A24<>\"\",IFERROR(VLOOKUP(N24,Tabelas!B:D,3,0),0),\"\")","v":0},{"$f":"IF(A24<>\"\",IFERROR(VLOOKUP(O24,Tabelas!B:D,3,0),0),\"\")","v":0},{"$f":"IF(A24<>\"\",IFERROR(VLOOKUP(P24,Tabelas!B:D,3,0),0),\"\")","v":0},{"$f":"IF(A24<>\"\",IFERROR(VLOOKUP(Q24,Tabelas!B:D,3,0),0),\"\")","v":0},{"$f":"IF(A24<>\"\",IFERROR(VLOOKUP(R24,Tabelas!B:D,3,0),0),\"\")","v":0},{"$f":"IF(A24<>\"\",IFERROR(VLOOKUP(S24,Tabelas!B:D,3,0),0),\"\")","v":0},{"$f":"IF(A24<>\"\",IFERROR(VLOOKUP(T24,Tabelas!B:D,3,0),0),\"\")","v":0},{"$f":"IF(A24<>\"\",IFERROR(VLOOKUP(U24,Tabelas!B:D,3,0),0),\"\")","v":0},{"$f":"IF(A24<>\"\",IFERROR(VLOOKUP(V24,Tabelas!B:D,3,0),0),\"\")","v":0},{"$f":"IF(A24<>\"\",IFERROR(VLOOKUP(W24,Tabelas!B:D,3,0),0),\"\")","v":0},{"$f":"IF(A24<>\"\",IFERROR(VLOOKUP(X24,Tabelas!B:D,3,0),0),\"\")","v":0},{"$f":"IF(A24<>\"\",IFERROR(VLOOKUP(Y24,Tabelas!B:D,3,0),0),\"\")","v":0},{"$f":"IF(A24<>\"\",IFERROR(VLOOKUP(Z24,Tabelas!B:D,3,0),0),\"\")","v":0},{"$f":"IF(A24<>\"\",IFERROR(VLOOKUP(AA24,Tabelas!B:D,3,0),0),\"\")","v":0},{"$f":"IF(A24<>\"\",IFERROR(VLOOKUP(AB24,Tabelas!B:D,3,0),0),\"\")","v":0},{"$f":"IF(A24<>\"\",IFERROR(VLOOKUP(AC24,Tabelas!B:D,3,0),0),\"\")","v":0},{"$f":"IF(A24<>\"\",IFERROR(VLOOKUP(AD24,Tabelas!B:D,3,0),0),\"\")","v":0},{"$f":"IF(A24<>\"\",IFERROR(VLOOKUP(AE24,Tabelas!B:D,3,0),0),\"\")","v":0},{"$f":"IF(A24<>\"\",IFERROR(VLOOKUP(AF24,Tabelas!B:D,3,0),0),\"\")","v":0},{"$f":"IF(A24<>\"\",IFERROR(VLOOKUP(AG24,Tabelas!B:D,3,0),0),\"\")","v":0},{"$f":"IF(A24<>\"\",IFERROR(VLOOKUP(AH24,Tabelas!B:D,3,0),0),\"\")","v":0},{"$f":"IF(A24<>\"\",IFERROR(VLOOKUP(AI24,Tabelas!B:D,3,0),0),\"\")","v":0},{"$f":"IF(A24<>\"\",IFERROR(VLOOKUP(AJ24,Tabelas!B:D,3,0),0),\"\")","v":0},{"$f":"IF(A24<>\"\",IFERROR(VLOOKUP(AK24,Tabelas!B:D,3,0),0),\"\")","v":0},{"$f":"IF(A24<>\"\",IFERROR(VLOOKUP(AL24,Tabelas!B:D,3,0),0),\"\")","v":0},{"$f":"IF(A24<>\"\",IFERROR(VLOOKUP(AM24,Tabelas!B:D,3,0),0),\"\")","v":0},{"$f":"IF(A24<>\"\",IFERROR(VLOOKUP(AN24,Tabelas!B:D,3,0),0),\"\")","v":0},{"$f":"IF(A24<>\"\",IFERROR(VLOOKUP(AO24,Tabelas!B:D,3,0),0),\"\")","v":0},{"$f":"IF(A24<>\"\",IFERROR(VLOOKUP(AP24,Tabelas!B:D,3,0),0),\"\")","v":0},{"$f":"IF(A24<>\"\",IFERROR(VLOOKUP(AQ24,Tabelas!B:D,3,0),0),\"\")","v":0},{"$f":"IF(A24<>\"\",IFERROR(VLOOKUP(AR24,Tabelas!B:D,3,0),0),\"\")","v":0},0,0,0,0,0,0,0,0,0]
["Fulano de Tal 17",1234567,123,"ENF","Ebserh",36,null,null,null,null,null,null,null,null,null,null,null,null,null,null,null,null,null,null,null,null,null,null,null,null,null,null,null,null,null,null,null,null,null,null,null,null,null,null,{"$f":"IF(A25<>\"\",IFERROR(VLOOKUP(N25,Tabelas!B:D,3,0),0),\"\")","v":0},{"$f":"IF(A25<>\"\",IFERROR(VLOOKUP(O25,Tabelas!B:D,3,0),0),\"\")","v":0},{"$f":"IF(A25<>\"\",IFERROR(VLOOKUP(P25,Tabelas!B:D,3,0),0),\"\")","v":0},{"$f":"IF(A25<>\"\",IFERROR(VLOOKUP(Q25,Tabelas!B:D,3,0),0),\"\")","v":0},{"$f":"IF(A25<>\"\",IFERROR(VLOOKUP(R25,Tabelas!B:D,3,0),0),\"\")","v":0},{"$f":"IF(A25<>\"\",IFERROR(VLOOKUP(S25,Tabelas!B:D,3,0),0),\"\")","v":0},{"$f":"IF(A25<>\"\",IFERROR(VLOOKUP(T25,Tabelas!B:D,3,0),0),\"\")","v":0},{"$f":"IF(A25<>\"\",IFERROR(VLOOKUP(U25,Tabelas!B:D,3,0),0),\"\")","v":0},{"$f":"IF(A25<>\"\",IFERROR(VLOOKUP(V25,Tabelas!B:D,3,0),0),\"\")","v":0},{"$f":"IF(A25<>\"\",IFERROR(VLOOKUP(W25,Tabelas!B:D,3,0),0),\"\")","v":0},{"$f":"IF(A25<>\"\",IFERROR(VLOOKUP(X25,Tabelas!B:D,3,0),0),\"\")","v":0},{"$f":"IF(A25<>\"\",IFERROR(VLOOKUP(Y25,Tabelas!B:D,3,0),0),\"\")","v":0},{"$f":"IF(A25<>\"\",IFERROR(VLOOKUP(Z25,Tabelas!B:D,3,0),0),\"\")","v":0},{"$f":"IF(A25<>\"\",IFERROR(VLOOKUP(AA25,Tabelas!B:D,3,0),0),\"\")","v":0},{"$f":"IF(A25<>\"\",IFERROR(VLOOKUP(AB25,Tabelas!B:D,3,0),0),\"\")","v":0},{"$f":"IF(A25<>\"\",IFERROR(VLOOKUP(AC25,Tabelas!B:D,3,0),0),\"\")","v":0},{"$f":"IF(A25<>\"\",IFERROR(VLOOKUP(AD25,Tabelas!B:D,3,0),0),\"\")","v":0},{"$f":"IF(A25<>\"\",IFERROR(VLOOKUP(AE25,Tabelas!B:D,3,0),0),\"\")","v":0},{"$f":"IF(A25<>\"\",IFERROR(VLOOKUP(AF25,Tabelas!B:D,3,0),0),\"\")","v":0},{"$f":"IF(A25<>\"\",IFERROR(VLOOKUP(AG25,Tabelas!B:D,3,0),0),\"\")","v":0},{"$f":"IF(A25<>\"\",IFERROR(VLOOKUP(AH25,Tabelas!B:D,3,0),0),\"\")","v":0},{"$f":"IF(A25<>\"\",IFERROR(VLOOKUP(AI25,Tabelas!B:D,3,0),0),\"\")","v":0},{"$f":"IF(A25<>\"\",IFERROR(VLOOKUP(AJ25,Tabelas!B:D,3,0),0),\"\")","v":0},{"$f":"IF(A25<>\"\",IFERROR(VLOOKUP(AK25,Tabelas!B:D,3,0),0),\"\")","v":0},{"$f":"IF(A25<>\"\",IFERROR(VLOOKUP(AL25,Tabelas!B:D,3,0),0),\"\")","v":0},{"$f":"IF(A25<>\"\",IFERROR(VLOOKUP(AM25,Tabelas!B:D,3,0),0),\"\")","v":0},{"$f":"IF(A25<>\"\",IFERROR(VLOOKUP(AN25,Tabelas!B:D,3,0),0),\"\")","v":0},{"$f":"IF(A25<>\"\",IFERROR(VLOOKUP(AO25,Tabelas!B:D,3,0),0),\"\")","v":0},{"$f":"IF(A25<>\"\",IFERROR(VLOOKUP(AP25,Tabelas!B:D,3,0),0),\"\")","v":0},{"$f":"IF(A25<>\"\",IFERROR(VLOOKUP(AQ25,Tabelas!B:D,3,0),0),\"\")","v":0},{"$f":"IF(A25<>\"\",IFERROR(VLOOKUP(AR25,Tabelas!B:D,3,0),0),\"\")","v":0},0,0,0,0,0,0,0,0,0]
["Fulano de Tal 18",1234567,123,"ENF","Ebserh",36,null,null,null,null,null,null,null,null,null,null,null,null,null,null,null,null,null,null,null,null,null,null,null,null,null,null,null,null,null,null,null,null,null,null,null,null,null,null,{"$f":"IF(A26<>\"\",IFERROR(VLOOKUP(N26,Tabelas!B:D,3,0),0),\"\")","v":0},{"$f":"IF(A26<>\"\",IFERROR(VLOOKUP(O26,Tabelas!B:D,3,0),0),\"\")","v":0},{"$f":"IF(A26<>\"\",IFERROR(VLOOKUP(P26,Tabelas!B:D,3,0),0),\"\")","v":0},{"$f":"IF(A26<>\"\",IFERROR(VLOOKUP(Q26,Tabelas!B:D,3,0),0),\"\")","v":0},{"$f":"IF(A26<>\"\",IFERROR(VLOOKUP(R26,Tabelas!B:D,3,0),0),\"\")","v":0},{"$f":"IF(A26<>\"\",IFERROR(VLOOKUP(S26,Tabelas!B:D,3,0),0),\"\")","v":0},{"$f":"IF(A26<>\"\",IFERROR(VLOOKUP(T26,Tabelas!B:D,3,0),0),\"\")","v":0},{"$f":"IF(A26<>\"\",IFERROR(VLOOKUP(U26,Tabelas!B:D,3,0),0),\"\")","v":0},{"$f":"IF(A26<>\"\",IFERROR(VLOOKUP(V26,Tabelas!B:D,3,0),0),\"\")","v":0},{"$f":"IF(A26<>\"\",IFERROR(VLOOKUP(W26,Tabelas!B:D,3,0),0),\"\")","v":0},{"$f":"IF(A26<>\"\",IFERROR(VLOOKUP(X26,Tabelas!B:D,3,0),0),\"\")","v":0},{"$f":"IF(A26<>\"\",IFERROR(VLOOKUP(Y26,Tabelas!B:D,3,0),0),\"\")","v":0},{"$f":"IF(A26<>\"\",IFERROR(VLOOKUP(Z26,Tabelas!B:D,3,0),0),\"\")","v":0},{"$f":"IF(A26<>\"\",IFERROR(VLOOKUP(AA26,Tabelas!B:D,3,0),0),\"\")","v":0},{"$f":"IF(A26<>\"\",IFERROR(VLOOKUP(AB26,Tabelas!B:D,3,0),0),\"\")","v":0},{"$f":"IF(A26<>\"\",IFERROR(VLOOKUP(AC26,Tabelas!B:D,3,0),0),\"\")","v":0},{"$f":"IF(A26<>\"\",IFERROR(VLOOKUP(AD26,Tabelas!B:D,3,0),0),\"\")","v":0},{"$f":"IF(A26<>\"\",IFERROR(VLOOKUP(AE26,Tabelas!B:D,3,0),0),\"\")","v":0},{"$f":"IF(A26<>\"\",IFERROR(VLOOKUP(AF26,Tabelas!B:D,3,0),0),\"\")","v":0},{"$f":"IF(A26<>\"\",IFERROR(VLOOKUP(AG26,Tabelas!B:D,3,0),0),\"\")","v":0},{"$f":"IF(A26<>\"\",IFERROR(VLOOKUP(AH26,Tabelas!B:D,3,0),0),\"\")","v":0},{"$f":"IF(A26<>\"\",IFERROR(VLOOKUP(AI26,Tabelas!B:D,3,0),0),\"\")","v":0},{"$f":"IF(A26<>\"\",IFERROR(VLOOKUP(AJ26,Tabelas!B:D,3,0),0),\"\")","v":0},{"$f":"IF(A26<>\"\",IFERROR(VLOOKUP(AK26,Tabelas!B:D,3,0),0),\"\")","v":0},{"$f":"IF(A26<>\"\",IFERROR(VLOOKUP(AL26,Tabelas!B:D,3,0),0),\"\")","v":0},{"$f":"IF(A26<>\"\",IFERROR(VLOOKUP(AM26,Tabelas!B:D,3,0),0),\"\")","v":0},{"$f":"IF(A26<>\"\",IFERROR(VLOOKUP(AN26,Tabelas!B:D,3,0),0),\"\")","v":0},{"$f":"IF(A26<>\"\",IFERROR(VLOOKUP(AO26,Tabelas!B:D,3,0),0),\"\")","v":0},{"$f":"IF(A26<>\"\",IFERROR(VLOOKUP(AP26,Tabelas!B:D,3,0),0),\"\")","v":0},{"$f":"IF(A26<>\"\",IFERROR(VLOOKUP(AQ26,Tabelas!B:D,3,0),0),\"\")","v":0},{"$f":"IF(A26<>\"\",IFERROR(VLOOKUP(AR26,Tabelas!B:D,3,0),0),\"\")","v":0},0,0,0,0,0,0,0,0,0]
["Fulano de Tal 19",1234567,123,"ENF","Ebserh",36,null,null,null,null,null,null,null,null,null,null,null,null,null,null,null,null,null,null,null,null,null,null,null,null,null,null,null,null,null,null,null,null,null,null,null,null,null,null,{"$f":"IF(A27<>\"\",IFERROR(VLOOKUP(N27,Tabelas!B:D,3,0),0),\"\")","v":0},{"$f":"IF(A27<>\"\",IFERROR(VLOOKUP(O27,Tabelas!B:D,3,0),0),\"\")","v":0},{"$f":"IF(A27<>\"\",IFERROR(VLOOKUP(P27,Tabelas!B:D,3,0),0),\"\")","v":0},{"$f":"IF(A27<>\"\",IFERROR(VLOOKUP(Q27,Tabelas!B:D,3,0),0),\"\")","v":0},{"$f":"IF(A27<>\"\",IFERROR(VLOOKUP(R27,Tabelas!B:D,3,0),0),\"\")","v":0},{"$f":"IF(A27<>\"\",IFERROR(VLOOKUP(S27,Tabelas!B:D,3,0),0),\"\")","v":0},{"$f":"IF(A27<>\"\",IFERROR(VLOOKUP(T27,Tabelas!B:D,3,0),0),\"\")","v":0},{"$f":"IF(A27<>\"\",IFERROR(VLOOKUP(U27,Tabelas!B:D,3,0),0),\"\")","v":0},{"$f":"IF(A27<>\"\",IFERROR(VLOOKUP(V27,Tabelas!B:D,3,0),0),\"\")","v":0},{"$f":"IF(A27<>\"\",IFERROR(VLOOKUP(W27,Tabelas!B:D,3,0),0),\"\")","v":0},{"$f":"IF(A27<>\"\",IFERROR(VLOOKUP(X27,Tabelas!B:D,3,0),0),\"\")","v":0},{"$f":"IF(A27<>\"\",IFERROR(VLOOKUP(Y27,Tabelas!B:D,3,0),0),\"\")","v":0},{"$f":"IF(A27<>\"\",IFERROR(VLOOKUP(Z27,Tabelas!B:D,3,0),0),\"\")","v":0},{"$f":"IF(A27<>\"\",IFERROR(VLOOKUP(AA27,Tabelas!B:D,3,0),0),\"\")","v":0},{"$f":"IF(A27<>\"\",IFERROR(VLOOKUP(AB27,Tabelas!B:D,3,0),0),\"\")","v":0},{"$f":"IF(A27<>\"\",IFERROR(VLOOKUP(AC27,Tabelas!B:D,3,0),0),\"\")","v":0},{"$f":"IF(A27<>\"\",IFERROR(VLOOKUP(AD27,Tabelas!B:D,3,0),0),\"\")","v":0},{"$f":"IF(A27<>\"\",IFERROR(VLOOKUP(AE27,Tabelas!B:D,3,0),0),\"\")","v":0},{"$f":"IF(A27<>\"\",IFERROR(VLOOKUP(AF27,Tabelas!B:D,3,0),0),\"\")","v":0},{"$f":"IF(A27<>\"\",IFERROR(VLOOKUP(AG27,Tabelas!B:D,3,0),0),\"\")","v":0},{"$f":"IF(A27<>\"\",IFERROR(VLOOKUP(AH27,Tabelas!B:D,3,0),0),\"\")","v":0},{"$f":"IF(A27<>\"\",IFERROR(VLOOKUP(AI27,Tabelas!B:D,3,0),0),\"\")","v":0},{"$f":"IF(A27<>\"\",IFERROR(VLOOKUP(AJ27,Tabelas!B:D,3,0),0),\"\")","v":0},{"$f":"IF(A27<>\"\",IFERROR(VLOOKUP(AK27,Tabelas!B:D,3,0),0),\"\")","v":0},{"$f":"IF(A27<>\"\",IFERROR(VLOOKUP(AL27,Tabelas!B:D,3,0),0),\"\")","v":0},{"$f":"IF(A27<>\"\",IFERROR(VLOOKUP(AM27,Tabelas!B:D,3,0),0),\"\")","v":0},{"$f":"IF(A27<>\"\",IFERROR(VLOOKUP(AN27,Tabelas!B:D,3,0),0),\"\")","v":0},{"$f":"IF(A27<>\"\",IFERROR(VLOOKUP(AO27,Tabelas!B:D,3,0),0),\"\")","v":0},{"$f":"IF(A27<>\"\",IFERROR(VLOOKUP(AP27,Tabelas!B:D,3,0),0),\"\")","v":0},{"$f":"IF(A27<>\"\",IFERROR(VLOOKUP(AQ27,Tabelas!B:D,3,0),0),\"\")","v":0},{"$f":"IF(A27<>\"\",IFERROR(VLOOKUP(AR27,Tabelas!B:D,3,0),0),\"\")","v":0},0,0,0,0,0,0,0,0,0]
["Fulano de Tal 20",1234567,123,"ENF","Ebserh",36,null,null,null,null,null,null,null,null,null,null,null,null,null,null,null,null,null,null,null,null,null,null,null,null,null,null,null,null,null,null,null,null,null,null,null,null,null,null,{"$f":"IF(A28<>\"\",IFERROR(VLOOKUP(N28,Tabelas!B:D,3,0),0),\"\")","v":0},{"$f":"IF(A28<>\"\",IFERROR(VLOOKUP(O28,Tabelas!B:D,3,0),0),\"\")","v":0},{"$f":"IF(A28<>\"\",IFERROR(VLOOKUP(P28,Tabelas!B:D,3,0),0),\"\")","v":0},{"$f":"IF(A28<>\"\",IFERROR(VLOOKUP(Q28,Tabelas!B:D,3,0),0),\"\")","v":0},{"$f":"IF(A28<>\"\",IFERROR(VLOOKUP(R28,Tabelas!B:D,3,0),0),\"\")","v":0},{"$f":"IF(A28<>\"\",IFERROR(VLOOKUP(S28,Tabelas!B:D,3,0),0),\"\")","v":0},{"$f":"IF(A28<>\"\",IFERROR(VLOOKUP(T28,Tabelas!B:D,3,0),0),\"\")","v":0},{"$f":"IF(A28<>\"\",IFERROR(VLOOKUP(U28,Tabelas!B:D,3,0),0),\"\")","v":0},{"$f":"IF(A28<>\"\",IFERROR(VLOOKUP(V28,Tabelas!B:D,3,0),0),\"\")","v":0},{"$f":"IF(A28<>\"\",IFERROR(VLOOKUP(W28,Tabelas!B:D,3,0),0),\"\")","v":0},{"$f":"IF(A28<>\"\",IFERROR(VLOOKUP(X28,Tabelas!B:D,3,0),0),\"\")","v":0},{"$f":"IF(A28<>\"\",IFERROR(VLOOKUP(Y28,Tabelas!B:D,3,0),0),\"\")","v":0},{"$f":"IF(A28<>\"\",IFERROR(VLOOKUP(Z28,Tabelas!B:D,3,0),0),\"\")","v":0},{"$f":"IF(A28<>\"\",IFERROR(VLOOKUP(AA28,Tabelas!B:D,3,0),0),\"\")","v":0},{"$f":"IF(A28<>\"\",IFERROR(VLOOKUP(AB28,Tabelas!B:D,3,0),0),\"\")","v":0},{"$f":"IF(A28<>\"\",IFERROR(VLOOKUP(AC28,Tabelas!B:D,3,0),0),\"\")","v":0},{"$f":"IF(A28<>\"\",IFERROR(VLOOKUP(AD28,Tabelas!B:D,3,0),0),\"\")","v":0},{"$f":"IF(A28<>\"\",IFERROR(VLOOKUP(AE28,Tabelas!B:D,3,0),0),\"\")","v":0},{"$f":"IF(A28<>\"\",IFERROR(VLOOKUP(AF28,Tabelas!B:D,3,0),0),\"\")","v":0},{"$f":"IF(A28<>\"\",IFERROR(VLOOKUP(AG28,Tabelas!B:D,3,0),0),\"\")","v":0},{"$f":"IF(A28<>\"\",IFERROR(VLOOKUP(AH28,Tabelas!B:D,3,0),0),\"\")","v":0},{"$f":"IF(A28<>\"\",IFERROR(VLOOKUP(AI28,Tabelas!B:D,3,0),0),\"\")","v":0},{"$f":"IF(A28<>\"\",IFERROR(VLOOKUP(AJ28,Tabelas!B:D,3,0),0),\"\")","v":0},{"$f":"IF(A28<>\"\",IFERROR(VLOOKUP(AK28,Tabelas!B:D,3,0),0),\"\")","v":0},{"$f":"IF(A28<>\"\",IFERROR(VLOOKUP(AL28,Tabelas!B:D,3,0),0),\"\")","v":0},{"$f":"IF(A28<>\"\",IFERROR(VLOOKUP(AM28,Tabelas!B:D,3,0),0),\"\")","v":0},{"$f":"IF(A28<>\"\",IFERROR(VLOOKUP(AN28,Tabelas!B:D,3,0),0),\"\")","v":0},{"$f":"IF(A28<>\"\",IFERROR(VLOOKUP(AO28,Tabelas!B:D,3,0),0),\"\")","v":0},{"$f":"IF(A28<>\"\",IFERROR(VLOOKUP(AP28,Tabelas!B:D,3,0),0),\"\")","v":0},{"$f":"IF(A28<>\"\",IFERROR(VLOOKUP(AQ28,Tabelas!B:D,3,0),0),\"\")","v":0},{"$f":"IF(A28<>\"\",IFERROR(VLOOKUP(AR28,Tabelas!B:D,3,0),0),\"\")","v":0},0,0,0,0,0,0,0,0,0]
["Fulano de Tal 21",1234567,123,"ENF","Ebserh",36,null,null,null,null,null,null,null,null,null,null,null,null,null,null,null,null,null,null,null,null,null,null,null,null,null,null,null,null,null,null,null,null,null,null,null,null,null,null,{"$f":"IF(A29<>\"\",IFERROR(VLOOKUP(N29,Tabelas!B:D,3,0),0),\"\")","v":0},{"$f":"IF(A29<>\"\",IFERROR(VLOOKUP(O29,Tabelas!B:D,3,0),0),\"\")","v":0},{"$f":"IF(A29<>\"\",IFERROR(VLOOKUP(P29,Tabelas!B:D,3,0),0),\"\")","v":0},{"$f":"IF(A29<>\"\",IFERROR(VLOOKUP(Q29,Tabelas!B:D,3,0),0),\"\")","v":0},{"$f":"IF(A29<>\"\",IFERROR(VLOOKUP(R29,Tabelas!B:D,3,0),0),\"\")","v":0},{"$f":"IF(A29<>\"\",IFERROR(VLOOKUP(S29,Tabelas!B:D,3,0),0),\"\")","v":0},{"$f":"IF(A29<>\"\",IFERROR(VLOOKUP(T29,Tabelas!B:D,3,0),0),\"\")","v":0},{"$f":"IF(A29<>\"\",IFERROR(VLOOKUP(U29,Tabelas!B:D,3,0),0),\"\")","v":0},{"$f":"IF(A29<>\"\",IFERROR(VLOOKUP(V29,Tabelas!B:D,3,0),0),\"\")","v":0},{"$f":"IF(A29<>\"\",IFERROR(VLOOKUP(W29,Tabelas!B:D,3,0),0),\"\")","v":0},{"$f":"IF(A29<>\"\",IFERROR(VLOOKUP(X29,Tabelas!B:D,3,0),0),\"\")","v":0},{"$f":"IF(A29<>\"\",IFERROR(VLOOKUP(Y29,Tabelas!B:D,3,0),0),\"\")","v":0},{"$f":"IF(A29<>\"\",IFERROR(VLOOKUP(Z29,Tabelas!B:D,3,0),0),\"\")","v":0},{"$f":"IF(A29<>\"\",IFERROR(VLOOKUP(AA29,Tabelas!B:D,3,0),0),\"\")","v":0},{"$f":"IF(A29<>\"\",IFERROR(VLOOKUP(AB29,Tabelas!B:D,3,0),0),\"\")","v":0},{"$f":"IF(A29<>\"\",IFERROR(VLOOKUP(AC29,Tabelas!B:D,3,0),0),\"\")","v":0},{"$f":"IF(A29<>\"\",IFERROR(VLOOKUP(AD29,Tabelas!B:D,3,0),0),\"\")","v":0},{"$f":"IF(A29<>\"\",IFERROR(VLOOKUP(AE29,Tabelas!B:D,3,0),0),\"\")","v":0},{"$f":"IF(A29<>\"\",IFERROR(VLOOKUP(AF29,Tabelas!B:D,3,0),0),\"\")","v":0},{"$f":"IF(A29<>\"\",IFERROR(VLOOKUP(AG29,Tabelas!B:D,3,0),0),\"\")","v":0},{"$f":"IF(A29<>\"\",IFERROR(VLOOKUP(AH29,Tabelas!B:D,3,0),0),\"\")","v":0},{"$f":"IF(A29<>\"\",IFERROR(VLOOKUP(AI29,Tabelas!B:D,3,0),0),\"\")","v":0},{"$f":"IF(A29<>\"\",IFERROR(VLOOKUP(AJ29,Tabelas!B:D,3,0),0),\"\")","v":0},{"$f":"IF(A29<>\"\",IFERROR(VLOOKUP(AK29,Tabelas!B:D,3,0),0),\"\")","v":0},{"$f":"IF(A29<>\"\",IFERROR(VLOOKUP(AL29,Tabelas!B:D,3,0),0),\"\")","v":0},{"$f":"IF(A29<>\"\",IFERROR(VLOOKUP(AM29,Tabelas!B:D,3,0),0),\"\")","v":0},{"$f":"IF(A29<>\"\",IFERROR(VLOOKUP(AN29,Tabelas!B:D,3,0),0),\"\")","v":0},{"$f":"IF(A29<>\"\",IFERROR(VLOOKUP(AO29,Tabelas!B:D,3,0),0),\"\")","v":0},{"$f":"IF(A29<>\"\",IFERROR(VLOOKUP(AP29,Tabelas!B:D,3,0),0),\"\")","v":0},{"$f":"IF(A29<>\"\",IFERROR(VLOOKUP(AQ29,Tabelas!B:D,3,0),0),\"\")","v":0},{"$f":"IF(A29<>\"\",IFERROR(VLOOKUP(AR29,Tabelas!B:D,3,0),0),\"\")","v":0},0,0,0,0,0,0,0,0,0]
["Fulano de Tal 22",1234567,123,"ENF","Ebserh",36,null,null,null,null,null,null,null,null,null,null,null,null,null,null,null,null,null,null,null,null,null,null,null,null,null,null,null,null,null,null,null,null,null,null,null,null,null,null,{"$f":"IF(A30<>\"\",IFERROR(VLOOKUP(N30,Tabelas!B:D,3,0),0),\"\")","v":0},{"$f":"IF(A30<>\"\",IFERROR(VLOOKUP(O30,Tabelas!B:D,3,0),0),\"\")","v":0},{"$f":"IF(A30<>\"\",IFERROR(VLOOKUP(P30,Tabelas!B:D,3,0),0),\"\")","v":0},{"$f":"IF(A30<>\"\",IFERROR(VLOOKUP(Q30,Tabelas!B:D,3,0),0),\"\")","v":0},{"$f":"IF(A30<>\"\",IFERROR(VLOOKUP(R30,Tabelas!B:D,3,0),0),\"\")","v":0},{"$f":"IF(A30<>\"\",IFERROR(VLOOKUP(S30,Tabelas!B:D,3,0),0),\"\")","v":0},{"$f":"IF(A30<>\"\",IFERROR(VLOOKUP(T30,Tabelas!B:D,3,0),0),\"\")","v":0},{"$f":"IF(A30<>\"\",IFERROR(VLOOKUP(U30,Tabelas!B:D,3,0),0),\"\")","v":0},{"$f":"IF(A30<>\"\",IFERROR(VLOOKUP(V30,Tabelas!B:D,3,0),0),\"\")","v":0},{"$f":"IF(A30<>\"\",IFERROR(VLOOKUP(W30,Tabelas!B:D,3,0),0),\"\")","v":0},{"$f":"IF(A30<>\"\",IFERROR(VLOOKUP(X30,Tabelas!B:D,3,0),0),\"\")","v":0},{"$f":"IF(A30<>\"\",IFERROR(VLOOKUP(Y30,Tabelas!B:D,3,0),0),\"\")","v":0},{"$f":"IF(A30<>\"\",IFERROR(VLOOKUP(Z30,Tabelas!B:D,3,0),0),\"\")","v":0},{"$f":"IF(A30<>\"\",IFERROR(VLOOKUP(AA30,Tabelas!B:D,3,0),0),\"\")","v":0},{"$f":"IF(A30<>\"\",IFERROR(VLOOKUP(AB30,Tabelas!B:D,3,0),0),\"\")","v":0},{"$f":"IF(A30<>\"\",IFERROR(VLOOKUP(AC30,Tabelas!B:D,3,0),0),\"\")","v":0},{"$f":"IF(A30<>\"\",IFERROR(VLOOKUP(AD30,Tabelas!B:D,3,0),0),\"\")","v":0},{"$f":"IF(A30<>\"\",IFERROR(VLOOKUP(AE30,Tabelas!B:D,3,0),0),\"\")","v":0},{"$f":"IF(A30<>\"\",IFERROR(VLOOKUP(AF30,Tabelas!B:D,3,0),0),\"\")","v":0},{"$f":"IF(A30<>\"\",IFERROR(VLOOKUP(AG30,Tabelas!B:D,3,0),0),\"\")","v":0},{"$f":"IF(A30<>\"\",IFERROR(VLOOKUP(AH30,Tabelas!B:D,3,0),0),\"\")","v":0},{"$f":"IF(A30<>\"\",IFERROR(VLOOKUP(AI30,Tabelas!B:D,3,0),0),\"\")","v":0},{"$f":"IF(A30<>\"\",IFERROR(VLOOKUP(AJ30,Tabelas!B:D,3,0),0),\"\")","v":0},{"$f":"IF(A30<>\"\",IFERROR(VLOOKUP(AK30,Tabelas!B:D,3,0),0),\"\")","v":0},{"$f":"IF(A30<>\"\",IFERROR(VLOOKUP(AL30,Tabelas!B:D,3,0),0),\"\")","v":0},{"$f":"IF(A30<>\"\",IFERROR(VLOOKUP(AM30,Tabelas!B:D,3,0),0),\"\")","v":0},{"$f":"IF(A30<>\"\",IFERROR(VLOOKUP(AN30,Tabelas!B:D,3,0),0),\"\")","v":0},{"$f":"IF(A30<>\"\",IFERROR(VLOOKUP(AO30,Tabelas!B:D,3,0),0),\"\")","v":0},{"$f":"IF(A30<>\"\",IFERROR(VLOOKUP(AP30,Tabelas!B:D,3,0),0),\"\")","v":0},{"$f":"IF(A30<>\"\",IFERROR(VLOOKUP(AQ30,Tabelas!B:D,3,0),0),\"\")","v":0},{"$f":"IF(A30<>\"\",IFERROR(VLOOKUP(AR30,Tabelas!B:D,3,0),0),\"\")","v":0},0,0,0,0,0,0,0,0,0]
["Fulano de Tal 23",1234567,123,"ENF","Ebserh",36,null,null,null,null,null,null,null,null,null,null,null,null,null,null,null,null,null,null,null,null,null,null,null,null,null,null,null,null,null,null,null,null,null,null,null,null,null,null,{"$f":"IF(A31<>\"\",IFERROR(VLOOKUP(N31,Tabelas!B:D,3,0),0),\"\")","v":0},{"$f":"IF(A31<>\"\",IFERROR(VLOOKUP(O31,Tabelas!B:D,3,0),0),\"\")","v":0},{"$f":"IF(A31<>\"\",IFERROR(VLOOKUP(P31,Tabelas!B:D,3,0),0),\"\")","v":0},{"$f":"IF(A31<>\"\",IFERROR(VLOOKUP(Q31,Tabelas!B:D,3,0),0),\"\")","v":0},{"$f":"IF(A31<>\"\",IFERROR(VLOOKUP(R31,Tabelas!B:D,3,0),0),\"\")","v":0},{"$f":"IF(A31<>\"\",IFERROR(VLOOKUP(S31,Tabelas!B:D,3,0),0),\"\")","v":0},{"$f":"IF(A31<>\"\",IFERROR(VLOOKUP(T31,Tabelas!B:D,3,0),0),\"\")","v":0},{"$f":"IF(A31<>\"\",IFERROR(VLOOKUP(U31,Tabelas!B:D,3,0),0),\"\")","v":0},{"$f":"IF(A31<>\"\",IFERROR(VLOOKUP(V31,Tabelas!B:D,3,0),0),\"\")","v":0},{"$f":"IF(A31<>\"\",IFERROR(VLOOKUP(W31,Tabelas!B:D,3,0),0),\"\")","v":0},{"$f":"IF(A31<>\"\",IFERROR(VLOOKUP(X31,Tabelas!B:D,3,0),0),\"\")","v":0},{"$f":"IF(A31<>\"\",IFERROR(VLOOKUP(Y31,Tabelas!B:D,3,0),0),\"\")","v":0},{"$f":"IF(A31<>\"\",IFERROR(VLOOKUP(Z31,Tabelas!B:D,3,0),0),\"\")","v":0},{"$f":"IF(A31<>\"\",IFERROR(VLOOKUP(AA31,Tabelas!B:D,3,0),0),\"\")","v":0},{"$f":"IF(A31<>\"\",IFERROR(VLOOKUP(AB31,Tabelas!B:D,3,0),0),\"\")","v":0},{"$f":"IF(A31<>\"\",IFERROR(VLOOKUP(AC31,Tabelas!B:D,3,0),0),\"\")","v":0},{"$f":"IF(A31<>\"\",IFERROR(VLOOKUP(AD31,Tabelas!B:D,3,0),0),\"\")","v":0},{"$f":"IF(A31<>\"\",IFERROR(VLOOKUP(AE31,Tabelas!B:D,3,0),0),\"\")","v":0},{"$f":"IF(A31<>\"\",IFERROR(VLOOKUP(AF31,Tabelas!B:D,3,0),0),\"\")","v":0},{"$f":"IF(A31<>\"\",IFERROR(VLOOKUP(AG31,Tabelas!B:D,3,0),0),\"\")","v":0},{"$f":"IF(A31<>\"\",IFERROR(VLOOKUP(AH31,Tabelas!B:D,3,0),0),\"\")","v":0},{"$f":"IF(A31<>\"\",IFERROR(VLOOKUP(AI31,Tabelas!B:D,3,0),0),\"\")","v":0},{"$f":"IF(A31<>\"\",IFERROR(VLOOKUP(AJ31,Tabelas!B:D,3,0),0),\"\")","v":0},{"$f":"IF(A31<>\"\",IFERROR(VLOOKUP(AK31,Tabelas!B:D,3,0),0),\"\")","v":0},{"$f":"IF(A31<>\"\",IFERROR(VLOOKUP(AL31,Tabelas!B:D,3,0),0),\"\")","v":0},{"$f":"IF(A31<>\"\",IFERROR(VLOOKUP(AM31,Tabelas!B:D,3,0),0),\"\")","v":0},{"$f":"IF(A31<>\"\",IFERROR(VLOOKUP(AN31,Tabelas!B:D,3,0),0),\"\")","v":0},{"$f":"IF(A31<>\"\",IFERROR(VLOOKUP(AO31,Tabelas!B:D,3,0),0),\"\")","v":0},{"$f":"IF(A31<>\"\",IFERROR(VLOOKUP(AP31,Tabelas!B:D,3,0),0),\"\")","v":0},{"$f":"IF(A31<>\"\",IFERROR(VLOOKUP(AQ31,Tabelas!B:D,3,0),0),\"\")","v":0},{"$f":"IF(A31<>\"\",IFERROR(VLOOKUP(AR31,Tabelas!B:D,3,0),0),\"\")","v":0},0,0,0,0,0,0,0,0,0]
["Fulano de Tal 24",1234567,123,"ENF","Ebserh",36,null,null,null,null,null,null,null,null,null,null,null,null,null,null,null,null,null,null,null,null,null,null,null,null,null,null,null,null,null,null,null,null,null,null,null,null,null,null,{"$f":"IF(A32<>\"\",IFERROR(VLOOKUP(N32,Tabelas!B:D,3,0),0),\"\")","v":0},{"$f":"IF(A32<>\"\",IFERROR(VLOOKUP(O32,Tabelas!B:D,3,0),0),\"\")","v":0},{"$f":"IF(A32<>\"\",IFERROR(VLOOKUP(P32,Tabelas!B:D,3,0),0),\"\")","v":0},{"$f":"IF(A32<>\"\",IFERROR(VLOOKUP(Q32,Tabelas!B:D,3,0),0),\"\")","v":0},{"$f":"IF(A32<>\"\",IFERROR(VLOOKUP(R32,Tabelas!B:D,3,0),0),\"\")","v":0},{"$f":"IF(A32<>\"\",IFERROR(VLOOKUP(S32,Tabelas!B:D,3,0),0),\"\")","v":0},{"$f":"IF(A32<>\"\",IFERROR(VLOOKUP(T32,Tabelas!B:D,3,0),0),\"\")","v":0},{"$f":"IF(A32<>\"\",IFERROR(VLOOKUP(U32,Tabelas!B:D,3,0),0),\"\")","v":0},{"$f":"IF(A32<>\"\",IFERROR(VLOOKUP(V32,Tabelas!B:D,3,0),0),\"\")","v":0},{"$f":"IF(A32<>\"\",IFERROR(VLOOKUP(W32,Tabelas!B:D,3,0),0),\"\")","v":0},{"$f":"IF(A32<>\"\",IFERROR(VLOOKUP(X32,Tabelas!B:D,3,0),0),\"\")","v":0},{"$f":"IF(A32<>\"\",IFERROR(VLOOKUP(Y32,Tabelas!B:D,3,0),0),\"\")","v":0},{"$f":"IF(A32<>\"\",IFERROR(VLOOKUP(Z32,Tabelas!B:D,3,0),0),\"\")","v":0},{"$f":"IF(A32<>\"\",IFERROR(VLOOKUP(AA32,Tabelas!B:D,3,0),0),\"\")","v":0},{"$f":"IF(A32<>\"\",IFERROR(VLOOKUP(AB32,Tabelas!B:D,3,0),0),\"\")","v":0},{"$f":"IF(A32<>\"\",IFERROR(VLOOKUP(AC32,Tabelas!B:D,3,0),0),\"\")","v":0},{"$f":"IF(A32<>\"\",IFERROR(VLOOKUP(AD32,Tabelas!B:D,3,0),0),\"\")","v":0},{"$f":"IF(A32<>\"\",IFERROR(VLOOKUP(AE32,Tabelas!B:D,3,0),0),\"\")","v":0},{"$f":"IF(A32<>\"\",IFERROR(VLOOKUP(AF32,Tabelas!B:D,3,0),0),\"\")","v":0},{"$f":"IF(A32<>\"\",IFERROR(VLOOKUP(AG32,Tabelas!B:D,3,0),0),\"\")","v":0},{"$f":"IF(A32<>\"\",IFERROR(VLOOKUP(AH32,Tabelas!B:D,3,0),0),\"\")","v":0},{"$f":"IF(A32<>\"\",IFERROR(VLOOKUP(AI32,Tabelas!B:D,3,0),0),\"\")","v":0},{"$f":"IF(A32<>\"\",IFERROR(VLOOKUP(AJ32,Tabelas!B:D,3,0),0),\"\")","v":0},{"$f":"IF(A32<>\"\",IFERROR(VLOOKUP(AK32,Tabelas!B:D,3,0),0),\"\")","v":0},{"$f":"IF(A32<>\"\",IFERROR(VLOOKUP(AL32,Tabelas!B:D,3,0),0),\"\")","v":0},{"$f":"IF(A32<>\"\",IFERROR(VLOOKUP(AM32,Tabelas!B:D,3,0),0),\"\")","v":0},{"$f":"IF(A32<>\"\",IFERROR(VLOOKUP(AN32,Tabelas!B:D,3,0),0),\"\")","v":0},{"$f":"IF(A32<>\"\",IFERROR(VLOOKUP(AO32,Tabelas!B:D,3,0),0),\"\")","v":0},{"$f":"IF(A32<>\"\",IFERROR(VLOOKUP(AP32,Tabelas!B:D,3,0),0),\"\")","v":0},{"$f":"IF(A32<>\"\",IFERROR(VLOOKUP(AQ32,Tabelas!B:D,3,0),0),\"\")","v":0},{"$f":"IF(A32<>\"\",IFERROR(VLOOKUP(AR32,Tabelas!B:D,3,0),0),\"\")","v":0},0,0,0,0,0,0,0,0,0]
["Fulano de Tal 25",1234567,123,"ENF","Ebserh",36,null,null,null,null,null,null,null,null,null,null,null,null,null,null,null,null,null,null,null,null,null,null,null,null,null,null,null,null,null,null,null,null,null,null,null,null,null,null,{"$f":"IF(A33<>\"\",IFERROR(VLOOKUP(N33,Tabelas!B:D,3,0),0),\"\")","v":0},{"$f":"IF(A33<>\"\",IFERROR(VLOOKUP(O33,Tabelas!B:D,3,0),0),\"\")","v":0},{"$f":"IF(A33<>\"\",IFERROR(VLOOKUP(P33,Tabelas!B:D,3,0),0),\"\")","v":0},{"$f":"IF(A33<>\"\",IFERROR(VLOOKUP(Q33,Tabelas!B:D,3,0),0),\"\")","v":0},{"$f":"IF(A33<>\"\",IFERROR(VLOOKUP(R33,Tabelas!B:D,3,0),0),\"\")","v":0},{"$f":"IF(A33<>\"\",IFERROR(VLOOKUP(S33,Tabelas!B:D,3,0),0),\"\")","v":0},{"$f":"IF(A33<>\"\",IFERROR(VLOOKUP(T33,Tabelas!B:D,3,0),0),\"\")","v":0},{"$f":"IF(A33<>\"\",IFERROR(VLOOKUP(U33,Tabelas!B:D,3,0),0),\"\")","v":0},{"$f":"IF(A33<>\"\",IFERROR(VLOOKUP(V33,Tabelas!B:D,3,0),0),\"\")","v":0},{"$f":"IF(A33<>\"\",IFERROR(VLOOKUP(W33,Tabelas!B:D,3,0),0),\"\")","v":0},{"$f":"IF(A33<>\"\",IFERROR(VLOOKUP(X33,Tabelas!B:D,3,0),0),\"\")","v":0},{"$f":"IF(A33<>\"\",IFERROR(VLOOKUP(Y33,Tabelas!B:D,3,0),0),\"\")","v":0},{"$f":"IF(A33<>\"\",IFERROR(VLOOKUP(Z33,Tabelas!B:D,3,0),0),\"\")","v":0},{"$f":"IF(A33<>\"\",IFERROR(VLOOKUP(AA33,Tabelas!B:D,3,0),0),\"\")","v":0},{"$f":"IF(A33<>\"\",IFERROR(VLOOKUP(AB33,Tabelas!B:D,3,0),0),\"\")","v":0},{"$f":"IF(A33<>\"\",IFERROR(VLOOKUP(AC33,Tabelas!B:D,3,0),0),\"\")","v":0},{"$f":"IF(A33<>\"\",IFERROR(VLOOKUP(AD33,Tabelas!B:D,3,0),0),\"\")","v":0},{"$f":"IF(A33<>\"\",IFERROR(VLOOKUP(AE33,Tabelas!B:D,3,0),0),\"\")","v":0},{"$f":"IF(A33<>\"\",IFERROR(VLOOKUP(AF33,Tabelas!B:D,3,0),0),\"\")","v":0},{"$f":"IF(A33<>\"\",IFERROR(VLOOKUP(AG33,Tabelas!B:D,3,0),0),\"\")","v":0},{"$f":"IF(A33<>\"\",IFERROR(VLOOKUP(AH33,Tabelas!B:D,3,0),0),\"\")","v":0},{"$f":"IF(A33<>\"\",IFERROR(VLOOKUP(AI33,Tabelas!B:D,3,0),0),\"\")","v":0},{"$f":"IF(A33<>\"\",IFERROR(VLOOKUP(AJ33,Tabelas!B:D,3,0),0),\"\")","v":0},{"$f":"IF(A33<>\"\",IFERROR(VLOOKUP(AK33,Tabelas!B:D,3,0),0),\"\")","v":0},{"$f":"IF(A33<>\"\",IFERROR(VLOOKUP(AL33,Tabelas!B:D,3,0),0),\"\")","v":0},{"$f":"IF(A33<>\"\",IFERROR(VLOOKUP(AM33,Tabelas!B:D,3,0),0),\"\")","v":0},{"$f":"IF(A33<>\"\",IFERROR(VLOOKUP(AN33,Tabelas!B:D,3,0),0),\"\")","v":0},{"$f":"IF(A33<>\"\",IFERROR(VLOOKUP(AO33,Tabelas!B:D,3,0),0),\"\")","v":0},{"$f":"IF(A33<>\"\",IFERROR(VLOOKUP(AP33,Tabelas!B:D,3,0),0),\"\")","v":0},{"$f":"IF(A33<>\"\",IFERROR(VLOOKUP(AQ33,Tabelas!B:D,3,0),0),\"\")","v":0},{"$f":"IF(A33<>\"\",IFERROR(VLOOKUP(AR33,Tabelas!B:D,3,0),0),\"\")","v":0},0,0,0,0,0,0,0,0,0]
["Fulano de Tal 26",1234567,123,"ENF","Ebserh",36,null,null,null,null,null,null,null,null,null,null,null,null,null,null,null,null,null,null,null,null,null,null,null,null,null,null,null,null,null,null,null,null,null,null,null,null,null,null,{"$f":"IF(A34<>\"\",IFERROR(VLOOKUP(N34,Tabelas!B:D,3,0),0),\"\")","v":0},{"$f":"IF(A34<>\"\",IFERROR(VLOOKUP(O34,Tabelas!B:D,3,0),0),\"\")","v":0},{"$f":"IF(A34<>\"\",IFERROR(VLOOKUP(P34,Tabelas!B:D,3,0),0),\"\")","v":0},{"$f":"IF(A34<>\"\",IFERROR(VLOOKUP(Q34,Tabelas!B:D,3,0),0),\"\")","v":0},{"$f":"IF(A34<>\"\",IFERROR(VLOOKUP(R34,Tabelas!B:D,3,0),0),\"\")","v":0},{"$f":"IF(A34<>\"\",IFERROR(VLOOKUP(S34,Tabelas!B:D,3,0),0),\"\")","v":0},{"$f":"IF(A34<>\"\",IFERROR(VLOOKUP(T34,Tabelas!B:D,3,0),0),\"\")","v":0},{"$f":"IF(A34<>\"\",IFERROR(VLOOKUP(U34,Tabelas!B:D,3,0),0),\"\")","v":0},{"$f":"IF(A34<>\"\",IFERROR(VLOOKUP(V34,Tabelas!B:D,3,0),0),\"\")","v":0},{"$f":"IF(A34<>\"\",IFERROR(VLOOKUP(W34,Tabelas!B:D,3,0),0),\"\")","v":0},{"$f":"IF(A34<>\"\",IFERROR(VLOOKUP(X34,Tabelas!B:D,3,0),0),\"\")","v":0},{"$f":"IF(A34<>\"\",IFERROR(VLOOKUP(Y34,Tabelas!B:D,3,0),0),\"\")","v":0},{"$f":"IF(A34<>\"\",IFERROR(VLOOKUP(Z34,Tabelas!B:D,3,0),0),\"\")","v":0},{"$f":"IF(A34<>\"\",IFERROR(VLOOKUP(AA34,Tabelas!B:D,3,0),0),\"\")","v":0},{"$f":"IF(A34<>\"\",IFERROR(VLOOKUP(AB34,Tabelas!B:D,3,0),0),\"\")","v":0},{"$f":"IF(A34<>\"\",IFERROR(VLOOKUP(AC34,Tabelas!B:D,3,0),0),\"\")","v":0},{"$f":"IF(A34<>\"\",IFERROR(VLOOKUP(AD34,Tabelas!B:D,3,0),0),\"\")","v":0},{"$f":"IF(A34<>\"\",IFERROR(VLOOKUP(AE34,Tabelas!B:D,3,0),0),\"\")","v":0},{"$f":"IF(A34<>\"\",IFERROR(VLOOKUP(AF34,Tabelas!B:D,3,0),0),\"\")","v":0},{"$f":"IF(A34<>\"\",IFERROR(VLOOKUP(AG34,Tabelas!B:D,3,0),0),\"\")","v":0},{"$f":"IF(A34<>\"\",IFERROR(VLOOKUP(AH34,Tabelas!B:D,3,0),0),\"\")","v":0},{"$f":"IF(A34<>\"\",IFERROR(VLOOKUP(AI34,Tabelas!B:D,3,0),0),\"\")","v":0},{"$f":"IF(A34<>\"\",IFERROR(VLOOKUP(AJ34,Tabelas!B:D,3,0),0),\"\")","v":0},{"$f":"IF(A34<>\"\",IFERROR(VLOOKUP(AK34,Tabelas!B:D,3,0),0),\"\")","v":0},{"$f":"IF(A34<>\"\",IFERROR(VLOOKUP(AL34,Tabelas!B:D,3,0),0),\"\")","v":0},{"$f":"IF(A34<>\"\",IFERROR(VLOOKUP(AM34,Tabelas!B:D,3,0),0),\"\")","v":0},{"$f":"IF(A34<>\"\",IFERROR(VLOOKUP(AN34,Tabelas!B:D,3,0),0),\"\")","v":0},{"$f":"IF(A34<>\"\",IFERROR(VLOOKUP(AO34,Tabelas!B:D,3,0),0),\"\")","v":0},{"$f":"IF(A34<>\"\",IFERROR(VLOOKUP(AP34,Tabelas!B:D,3,0),0),\"\")","v":0},{"$f":"IF(A34<>\"\",IFERROR(VLOOKUP(AQ34,Tabelas!B:D,3,0),0),\"\")","v":0},{"$f":"IF(A34<>\"\",IFERROR(VLOOKUP(AR34,Tabelas!B:D,3,0),0),\"\")","v":0},0,0,0,0,0,0,0,0,0]
["Fulano de Tal 27",1234567,123,"ENF","Ebserh",36,null,null,null,null,null,null,null,null,null,null,null,null,null,null,null,null,null,null,null,null,null,null,null,null,null,null,null,null,null,null,null,null,null,null,null,null,null,null,{"$f":"IF(A35<>\"\",IFERROR(VLOOKUP(N35,Tabelas!B:D,3,0),0),\"\")","v":0},{"$f":"IF(A35<>\"\",IFERROR(VLOOKUP(O35,Tabelas!B:D,3,0),0),\"\")","v":0},{"$f":"IF(A35<>\"\",IFERROR(VLOOKUP(P35,Tabelas!B:D,3,0),0),\"\")","v":0},{"$f":"IF(A35<>\"\",IFERROR(VLOOKUP(Q35,Tabelas!B:D,3,0),0),\"\")","v":0},{"$f":"IF(A35<>\"\",IFERROR(VLOOKUP(R35,Tabelas!B:D,3,0),0),\"\")","v":0},{"$f":"IF(A35<>\"\",IFERROR(VLOOKUP(S35,Tabelas!B:D,3,0),0),\"\")","v":0},{"$f":"IF(A35<>\"\",IFERROR(VLOOKUP(T35,Tabelas!B:D,3,0),0),\"\")","v":0},{"$f":"IF(A35<>\"\",IFERROR(VLOOKUP(U35,Tabelas!B:D,3,0),0),\"\")","v":0},{"$f":"IF(A35<>\"\",IFERROR(VLOOKUP(V35,Tabelas!B:D,3,0),0),\"\")","v":0},{"$f":"IF(A35<>\"\",IFERROR(VLOOKUP(W35,Tabelas!B:D,3,0),0),\"\")","v":0},{"$f":"IF(A35<>\"\",IFERROR(VLOOKUP(X35,Tabelas!B:D,3,0),0),\"\")","v":0},{"$f":"IF(A35<>\"\",IFERROR(VLOOKUP(Y35,Tabelas!B:D,3,0),0),\"\")","v":0},{"$f":"IF(A35<>\"\",IFERROR(VLOOKUP(Z35,Tabelas!B:D,3,0),0),\"\")","v":0},{"$f":"IF(A35<>\"\",IFERROR(VLOOKUP(AA35,Tabelas!B:D,3,0),0),\"\")","v":0},{"$f":"IF(A35<>\"\",IFERROR(VLOOKUP(AB35,Tabelas!B:D,3,0),0),\"\")","v":0},{"$f":"IF(A35<>\"\",IFERROR(VLOOKUP(AC35,Tabelas!B:D,3,0),0),\"\")","v":0},{"$f":"IF(A35<>\"\",IFERROR(VLOOKUP(AD35,Tabelas!B:D,3,0),0),\"\")","v":0},{"$f":"IF(A35<>\"\",IFERROR(VLOOKUP(AE35,Tabelas!B:D,3,0),0),\"\")","v":0},{"$f":"IF(A35<>\"\",IFERROR(VLOOKUP(AF35,Tabelas!B:D,3,0),0),\"\")","v":0},{"$f":"IF(A35<>\"\",IFERROR(VLOOKUP(AG35,Tabelas!B:D,3,0),0),\"\")","v":0},{"$f":"IF(A35<>\"\",IFERROR(VLOOKUP(AH35,Tabelas!B:D,3,0),0),\"\")","v":0},{"$f":"IF(A35<>\"\",IFERROR(VLOOKUP(AI35,Tabelas!B:D,3,0),0),\"\")","v":0},{"$f":"IF(A35<>\"\",IFERROR(VLOOKUP(AJ35,Tabelas!B:D,3,0),0),\"\")","v":0},{"$f":"IF(A35<>\"\",IFERROR(VLOOKUP(AK35,Tabelas!B:D,3,0),0),\"\")","v":0},{"$f":"IF(A35<>\"\",IFERROR(VLOOKUP(AL35,Tabelas!B:D,3,0),0),\"\")","v":0},{"$f":"IF(A35<>\"\",IFERROR(VLOOKUP(AM35,Tabelas!B:D,3,0),0),\"\")","v":0},{"$f":"IF(A35<>\"\",IFERROR(VLOOKUP(AN35,Tabelas!B:D,3,0),0),\"\")","v":0},{"$f":"IF(A35<>\"\",IFERROR(VLOOKUP(AO35,Tabelas!B:D,3,0),0),\"\")","v":0},{"$f":"IF(A35<>\"\",IFERROR(VLOOKUP(AP35,Tabelas!B:D,3,0),0),\"\")","v":0},{"$f":"IF(A35<>\"\",IFERROR(VLOOKUP(AQ35,Tabelas!B:D,3,0),0),\"\")","v":0},{"$f":"IF(A35<>\"\",IFERROR(VLOOKUP(AR35,Tabelas!B:D,3,0),0),\"\")","v":0},0,0,0,0,0,0,0,0,0]
["Fulano de Tal 28",1234567,123,"ENF","Ebserh",36,null,null,null,null,null,null,null,null,null,null,null,null,null,null,null,null,null,null,null,null,null,null,null,null,null,null,null,null,null,null,null,null,null,null,null,null,null,null,{"$f":"IF(A36<>\"\",IFERROR(VLOOKUP(N36,Tabelas!B:D,3,0),0),\"\")","v":0},{"$f":"IF(A36<>\"\",IFERROR(VLOOKUP(O36,Tabelas!B:D,3,0),0),\"\")","v":0},{"$f":"IF(A36<>\"\",IFERROR(VLOOKUP(P36,Tabelas!B:D,3,0),0),\"\")","v":0},{"$f":"IF(A36<>\"\",IFERROR(VLOOKUP(Q36,Tabelas!B:D,3,0),0),\"\")","v":0},{"$f":"IF(A36<>\"\",IFERROR(VLOOKUP(R36,Tabelas!B:D,3,0),0),\"\")","v":0},{"$f":"IF(A36<>\"\",IFERROR(VLOOKUP(S36,Tabelas!B:D,3,0),0),\"\")","v":0},{"$f":"IF(A36<>\"\",IFERROR(VLOOKUP(T36,Tabelas!B:D,3,0),0),\"\")","v":0},{"$f":"IF(A36<>\"\",IFERROR(VLOOKUP(U36,Tabelas!B:D,3,0),0),\"\")","v":0},{"$f":"IF(A36<>\"\",IFERROR(VLOOKUP(V36,Tabelas!B:D,3,0),0),\"\")","v":0},{"$f":"IF(A36<>\"\",IFERROR(VLOOKUP(W36,Tabelas!B:D,3,0),0),\"\")","v":0},{"$f":"IF(A36<>\"\",IFERROR(VLOOKUP(X36,Tabelas!B:D,3,0),0),\"\")","v":0},{"$f":"IF(A36<>\"\",IFERROR(VLOOKUP(Y36,Tabelas!B:D,3,0),0),\"\")","v":0},{"$f":"IF(A36<>\"\",IFERROR(VLOOKUP(Z36,Tabelas!B:D,3,0),0),\"\")","v":0},{"$f":"IF(A36<>\"\",IFERROR(VLOOKUP(AA36,Tabelas!B:D,3,0),0),\"\")","v":0},{"$f":"IF(A36<>\"\",IFERROR(VLOOKUP(AB36,Tabelas!B:D,3,0),0),\"\")","v":0},{"$f":"IF(A36<>\"\",IFERROR(VLOOKUP(AC36,Tabelas!B:D,3,0),0),\"\")","v":0},{"$f":"IF(A36<>\"\",IFERROR(VLOOKUP(AD36,Tabelas!B:D,3,0),0),\"\")","v":0},{"$f":"IF(A36<>\"\",IFERROR(VLOOKUP(AE36,Tabelas!B:D,3,0),0),\"\")","v":0},{"$f":"IF(A36<>\"\",IFERROR(VLOOKUP(AF36,Tabelas!B:D,3,0),0),\"\")","v":0},{"$f":"IF(A36<>\"\",IFERROR(VLOOKUP(AG36,Tabelas!B:D,3,0),0),\"\")","v":0},{"$f":"IF(A36<>\"\",IFERROR(VLOOKUP(AH36,Tabelas!B:D,3,0),0),\"\")","v":0},{"$f":"IF(A36<>\"\",IFERROR(VLOOKUP(AI36,Tabelas!B:D,3,0),0),\"\")","v":0},{"$f":"IF(A36<>\"\",IFERROR(VLOOKUP(AJ36,Tabelas!B:D,3,0),0),\"\")","v":0},{"$f":"IF(A36<>\"\",IFERROR(VLOOKUP(AK36,Tabelas!B:D,3,0),0),\"\")","v":0},{"$f":"IF(A36<>\"\",IFERROR(VLOOKUP(AL36,Tabelas!B:D,3,0),0),\"\")","v":0},{"$f":"IF(A36<>\"\",IFERROR(VLOOKUP(AM36,Tabelas!B:D,3,0),0),\"\")","v":0},{"$f":"IF(A36<>\"\",IFERROR(VLOOKUP(AN36,Tabelas!B:D,3,0),0),\"\")","v":0},{"$f":"IF(A36<>\"\",IFERROR(VLOOKUP(AO36,Tabelas!B:D,3,0),0),\"\")","v":0},{"$f":"IF(A36<>\"\",IFERROR(VLOOKUP(AP36,Tabelas!B:D,3,0),0),\"\")","v":0},{"$f":"IF(A36<>\"\",IFERROR(VLOOKUP(AQ36,Tabelas!B:D,3,0),0),\"\")","v":0},{"$f":"IF(A36<>\"\",IFERROR(VLOOKUP(AR36,Tabelas!B:D,3,0),0),\"\")","v":0},0,0,0,0,0,0,0,0,0]
["Fulano de Tal 29",1234567,123,"ENF","Ebserh",36,null,null,null,null,null,null,null,null,null,null,null,null,null,null,null,null,null,null,null,null,null,null,null,null,null,null,null,null,null,null,null,null,null,null,null,null,null,null,{"$f":"IF(A37<>\"\",IFERROR(VLOOKUP(N37,Tabelas!B:D,3,0),0),\"\")","v":0},{"$f":"IF(A37<>\"\",IFERROR(VLOOKUP(O37,Tabelas!B:D,3,0),0),\"\")","v":0},{"$f":"IF(A37<>\"\",IFERROR(VLOOKUP(P37,Tabelas!B:D,3,0),0),\"\")","v":0},{"$f":"IF(A37<>\"\",IFERROR(VLOOKUP(Q37,Tabelas!B:D,3,0),0),\"\")","v":0},{"$f":"IF(A37<>\"\",IFERROR(VLOOKUP(R37,Tabelas!B:D,3,0),0),\"\")","v":0},{"$f":"IF(A37<>\"\",IFERROR(VLOOKUP(S37,Tabelas!B:D,3,0),0),\"\")","v":0},{"$f":"IF(A37<>\"\",IFERROR(VLOOKUP(T37,Tabelas!B:D,3,0),0),\"\")","v":0},{"$f":"IF(A37<>\"\",IFERROR(VLOOKUP(U37,Tabelas!B:D,3,0),0),\"\")","v":0},{"$f":"IF(A37<>\"\",IFERROR(VLOOKUP(V37,Tabelas!B:D,3,0),0),\"\")","v":0},{"$f":"IF(A37<>\"\",IFERROR(VLOOKUP(W37,Tabelas!B:D,3,0),0),\"\")","v":0},{"$f":"IF(A37<>\"\",IFERROR(VLOOKUP(X37,Tabelas!B:D,3,0),0),\"\")","v":0},{"$f":"IF(A37<>\"\",IFERROR(VLOOKUP(Y37,Tabelas!B:D,3,0),0),\"\")","v":0},{"$f":"IF(A37<>\"\",IFERROR(VLOOKUP(Z37,Tabelas!B:D,3,0),0),\"\")","v":0},{"$f":"IF(A37<>\"\",IFERROR(VLOOKUP(AA37,Tabelas!B:D,3,0),0),\"\")","v":0},{"$f":"IF(A37<>\"\",IFERROR(VLOOKUP(AB37,Tabelas!B:D,3,0),0),\"\")","v":0},{"$f":"IF(A37<>\"\",IFERROR(VLOOKUP(AC37,Tabelas!B:D,3,0),0),\"\")","v":0},{"$f":"IF(A37<>\"\",IFERROR(VLOOKUP(AD37,Tabelas!B:D,3,0),0),\"\")","v":0},{"$f":"IF(A37<>\"\",IFERROR(VLOOKUP(AE37,Tabelas!B:D,3,0),0),\"\")","v":0},{"$f":"IF(A37<>\"\",IFERROR(VLOOKUP(AF37,Tabelas!B:D,3,0),0),\"\")","v":0},{"$f":"IF(A37<>\"\",IFERROR(VLOOKUP(AG37,Tabelas!B:D,3,0),0),\"\")","v":0},{"$f":"IF(A37<>\"\",IFERROR(VLOOKUP(AH37,Tabelas!B:D,3,0),0),\"\")","v":0},{"$f":"IF(A37<>\"\",IFERROR(VLOOKUP(AI37,Tabelas!B:D,3,0),0),\"\")","v":0},{"$f":"IF(A37<>\"\",IFERROR(VLOOKUP(AJ37,Tabelas!B:D,3,0),0),\"\")","v":0},{"$f":"IF(A37<>\"\",IFERROR(VLOOKUP(AK37,Tabelas!B:D,3,0),0),\"\")","v":0},{"$f":"IF(A37<>\"\",IFERROR(VLOOKUP(AL37,Tabelas!B:D,3,0),0),\"\")","v":0},{"$f":"IF(A37<>\"\",IFERROR(VLOOKUP(AM37,Tabelas!B:D,3,0),0),\"\")","v":0},{"$f":"IF(A37<>\"\",IFERROR(VLOOKUP(AN37,Tabelas!B:D,3,0),0),\"\")","v":0},{"$f":"IF(A37<>\"\",IFERROR(VLOOKUP(AO37,Tabelas!B:D,3,0),0),\"\")","v":0},{"$f":"IF(A37<>\"\",IFERROR(VLOOKUP(AP37,Tabelas!B:D,3,0),0),\"\")","v":0},{"$f":"IF(A37<>\"\",IFERROR(VLOOKUP(AQ37,Tabelas!B:D,3,0),0),\"\")","v":0},{"$f":"IF(A37<>\"\",IFERROR(VLOOKUP(AR37,Tabelas!B:D,3,0),0),\"\")","v":0},0,0,0,0,0,0,0,0,0]
["Fulano de Tal 30",1234567,123,"ENF","Ebserh",36,null,null,null,null,null,null,null,null,null,null,null,null,null,null,null,null,null,null,null,null,null,null,null,null,null,null,null,null,null,null,null,null,null,null,null,null,null,null,{"$f":"IF(A38<>\"\",IFERROR(VLOOKUP(N38,Tabelas!B:D,3,0),0),\"\")","v":0},{"$f":"IF(A38<>\"\",IFERROR(VLOOKUP(O38,Tabelas!B:D,3,0),0),\"\")","v":0},{"$f":"IF(A38<>\"\",IFERROR(VLOOKUP(P38,Tabelas!B:D,3,0),0),\"\")","v":0},{"$f":"IF(A38<>\"\",IFERROR(VLOOKUP(Q38,Tabelas!B:D,3,0),0),\"\")","v":0},{"$f":"IF(A38<>\"\",IFERROR(VLOOKUP(R38,Tabelas!B:D,3,0),0),\"\")","v":0},{"$f":"IF(A38<>\"\",IFERROR(VLOOKUP(S38,Tabelas!B:D,3,0),0),\"\")","v":0},{"$f":"IF(A38<>\"\",IFERROR(VLOOKUP(T38,Tabelas!B:D,3,0),0),\"\")","v":0},{"$f":"IF(A38<>\"\",IFERROR(VLOOKUP(U38,Tabelas!B:D,3,0),0),\"\")","v":0},{"$f":"IF(A38<>\"\",IFERROR(VLOOKUP(V38,Tabelas!B:D,3,0),0),\"\")","v":0},{"$f":"IF(A38<>\"\",IFERROR(VLOOKUP(W38,Tabelas!B:D,3,0),0),\"\")","v":0},{"$f":"IF(A38<>\"\",IFERROR(VLOOKUP(X38,Tabelas!B:D,3,0),0),\"\")","v":0},{"$f":"IF(A38<>\"\",IFERROR(VLOOKUP(Y38,Tabelas!B:D,3,0),0),\"\")","v":0},{"$f":"IF(A38<>\"\",IFERROR(VLOOKUP(Z38,Tabelas!B:D,3,0),0),\"\")","v":0},{"$f":"IF(A38<>\"\",IFERROR(VLOOKUP(AA38,Tabelas!B:D,3,0),0),\"\")","v":0},{"$f":"IF(A38<>\"\",IFERROR(VLOOKUP(AB38,Tabelas!B:D,3,0),0),\"\")","v":0},{"$f":"IF(A38<>\"\",IFERROR(VLOOKUP(AC38,Tabelas!B:D,3,0),0),\"\")","v":0},{"$f":"IF(A38<>\"\",IFERROR(VLOOKUP(AD38,Tabelas!B:D,3,0),0),\"\")","v":0},{"$f":"IF(A38<>\"\",IFERROR(VLOOKUP(AE38,Tabelas!B:D,3,0),0),\"\")","v":0},{"$f":"IF(A38<>\"\",IFERROR(VLOOKUP(AF38,Tabelas!B:D,3,0),0),\"\")","v":0},{"$f":"IF(A38<>\"\",IFERROR(VLOOKUP(AG38,Tabelas!B:D,3,0),0),\"\")","v":0},{"$f":"IF(A38<>\"\",IFERROR(VLOOKUP(AH38,Tabelas!B:D,3,0),0),\"\")","v":0},{"$f":"IF(A38<>\"\",IFERROR(VLOOKUP(AI38,Tabelas!B:D,3,0),0),\"\")","v":0},{"$f":"IF(A38<>\"\",IFERROR(VLOOKUP(AJ38,Tabelas!B:D,3,0),0),\"\")","v":0},{"$f":"IF(A38<>\"\",IFERROR(VLOOKUP(AK38,Tabelas!B:D,3,0),0),\"\")","v":0},{"$f":"IF(A38<>\"\",IFERROR(VLOOKUP(AL38,Tabelas!B:D,3,0),0),\"\")","v":0},{"$f":"IF(A38<>\"\",IFERROR(VLOOKUP(AM38,Tabelas!B:D,3,0),0),\"\")","v":0},{"$f":"IF(A38<>\"\",IFERROR(VLOOKUP(AN38,Tabelas!B:D,3,0),0),\"\")","v":0},{"$f":"IF(A38<>\"\",IFERROR(VLOOKUP(AO38,Tabelas!B:D,3,0),0),\"\")","v":0},{"$f":"IF(A38<>\"\",IFERROR(VLOOKUP(AP38,Tabelas!B:D,3,0),0),\"\")","v":0},{"$f":"IF(A38<>\"\",IFERROR(VLOOKUP(AQ38,Tabelas!B:D,3,0),0),\"\")","v":0},{"$f":"IF(A38<>\"\",IFERROR(VLOOKUP(AR38,Tabelas!B:D,3,0),0),\"\")","v":0},0,0,0,0,0,0,0,0,0]
["TOTAL PROFISSIONAIS MATUTINO",null,null,null,null,null,null,null,null,null,null,null,null,{"$f":"COUNTIF(N9:N18,\"M\")+COUNTIF(N19:N28,\"M\")+COUNTIF(N29:N38,\"M\")+COUNTIF(N9:N18,\"M?\") +COUNTIF(N19:N28,\"M?\")+COUNTIF(N29:N38,\"M?\")+ COUNTIF(N9:N18, \"MT?\") + COUNTIF(N19:N28, \"MT?\")+ COUNTIF(N29:N38, \"MT?\")+ COUNTIF(N9:N18, \"D?\")  + COUNTIF(N19:N28, \"D?\")+COUNTIF(N29:N38, \"D?\")+ COUNTIF(N9:N18, \"DN?\")+ COUNTIF(N19:N28, \"DN?\")+ COUNTIF(N29:N38, \"DN?\")+ COUNTIF(N9:N18, \"MT??\") + COUNTIF(N19:N28, \"MT??\")+ COUNTIF(N29:N38, \"MT??\")+ COUNTIF(N9:N18, \"D\")  + COUNTIF(N19:N28, \"D\")+COUNTIF(N29:N38, \"D\")","v":0},0,0,0,0,0,0,0,0,0,0,0,0,0,0,0,0,0,0,0,0,0,0,0,0,0,0,0,0,0,0]
["TOTAL DE PROFISSIONAIS VESPERTINO",null,null,null,null,null,null,null,null,null,null,null,null,{"$f":"COUNTIF(N9:N18,\"T\")+COUNTIF(N19:N28,\"T\")+COUNTIF(N29:N38,\"T\")+COUNTIF(N9:N18,\"T?\") +COUNTIF(N19:N28,\"T?\")+COUNTIF(N29:N38,\"T?\")+ COUNTIF(N9:N18, \"MT?\") + COUNTIF(N19:N28, \"MT?\")+ COUNTIF(N29:N38, \"MT?\")+ COUNTIF(N9:N18, \"D?\")  + COUNTIF(N19:N28, \"D?\")+COUNTIF(N29:N38, \"D?\")+ COUNTIF(N9:N18, \"DN?\")+ COUNTIF(N19:N28, \"DN?\")+ COUNTIF(N29:N38, \"DN?\")+ COUNTIF(N9:N18, \"MT??\") + COUNTIF(N19:N28, \"MT??\")+ COUNTIF(N29:N38, \"MT??\")+ COUNTIF(N9:N18, \"D\")  + COUNTIF(N19:N28, \"D\")+COUNTIF(N29:N38, \"D\")","v":0},0,0,0,0,0,0,0,0,0,0,0,0,0,0,0,0,0,0,0,0,0,0,0,0,0,0,0,0,0,0,{"$f":"IF(A40<>\"\",IFERROR(VLOOKUP(N40,Tabelas!B:D,3,0),0),\"\")","v":0},{"$f":"IF(A40<>\"\",IFERROR(VLOOKUP(O40,Tabelas!B:D,3,0),0),\"\")","v":0},{"$f":"IF(A40<>\"\",IFERROR(VLOOKUP(P40,Tabelas!B:D,3,0),0),\"\")","v":0},{"$f":"IF(A40<>\"\",IFERROR(VLOOKUP(Q40,Tabelas!B:D,3,0),0),\"\")","v":0},{"$f":"IF(A40<>\"\",IFERROR(VLOOKUP(R40,Tabelas!B:D,3,0),0),\"\")","v":0},{"$f":"IF(A40<>\"\",IFERROR(VLOOKUP(S40,Tabelas!B:D,3,0),0),\"\")","v":0},{"$f":"IF(A40<>\"\",IFERROR(VLOOKUP(T40,Tabelas!B:D,3,0),0),\"\")","v":0},{"$f":"IF(A40<>\"\",IFERROR(VLOOKUP(U40,Tabelas!B:D,3,0),0),\"\")","v":0},{"$f":"IF(A40<>\"\",IFERROR(VLOOKUP(V40,Tabelas!B:D,3,0),0),\"\")","v":0},{"$f":"IF(A40<>\"\",IFERROR(VLOOKUP(W40,Tabelas!B:D,3,0),0),\"\")","v":0},{"$f":"IF(A40<>\"\",IFERROR(VLOOKUP(X40,Tabelas!B:D,3,0),0),\"\")","v":0},{"$f":"IF(A40<>\"\",IFERROR(VLOOKUP(Y40,Tabelas!B:D,3,0),0),\"\")","v":0},{"$f":"IF(A40<>\"\",IFERROR(VLOOKUP(Z40,Tabelas!B:D,3,0),0),\"\")","v":0},{"$f":"IF(A40<>\"\",IFERROR(VLOOKUP(AA40,Tabelas!B:D,3,0),0),\"\")","v":0},{"$f":"IF(A40<>\"\",IFERROR(VLOOKUP(AB40,Tabelas!B:D,3,0),0),\"\")","v":0},{"$f":"IF(A40<>\"\",IFERROR(VLOOKUP(AC40,Tabelas!B:D,3,0),0),\"\")","v":0},{"$f":"IF(A40<>\"\",IFERROR(VLOOKUP(AD40,Tabelas!B:D,3,0),0),\"\")","v":0},{"$f":"IF(A40<>\"\",IFERROR(VLOOKUP(AE40,Tabelas!B:D,3,0),0),\"\")","v":0},{"$f":"IF(A40<>\"\",IFERROR(VLOOKUP(AF40,Tabelas!B:D,3,0),0),\"\")","v":0},{"$f":"IF(A40<>\"\",IFERROR(VLOOKUP(AG40,Tabelas!B:D,3,0),0),\"\")","v":0},{"$f":"IF(A40<>\"\",IFERROR(VLOOKUP(AH40,Tabelas!B:D,3,0),0),\"\")","v":0},{"$f":"IF(A40<>\"\",IFERROR(VLOOKUP(AI40,Tabelas!B:D,3,0),0),\"\")","v":0},{"$f":"IF(A40<>\"\",IFERROR(VLOOKUP(AJ40,Tabelas!B:D,3,0),0),\"\")","v":0},{"$f":"IF(A40<>\"\",IFERROR(VLOOKUP(AK40,Tabelas!B:D,3,0),0),\"\")","v":0},{"$f":"IF(A40<>\"\",IFERROR(VLOOKUP(AL40,Tabelas!B:D,3,0),0),\"\")","v":0},{"$f":"IF(A40<>\"\",IFERROR(VLOOKUP(AM40,Tabelas!B:D,3,0),0),\"\")","v":0},{"$f":"IF(A40<>\"\",IFERROR(VLOOKUP(AN40,Tabelas!B:D,3,0),0),\"\")","v":0},{"$f":"IF(A40<>\"\",IFERROR(VLOOKUP(AO40,Tabelas!B:D,3,0),0),\"\")","v":0},{"$f":"IF(A40<>\"\",IFERROR(VLOOKUP(AP40,Tabelas!B:D,3,0),0),\"\")","v":0},{"$f":"IF(A40<>\"\",IFERROR(VLOOKUP(AQ40,Tabelas!B:D,3,0),0),\"\")","v":0},{"$f":"IF(A40<>\"\",IFERROR(VLOOKUP(AR40,Tabelas!B:D,3,0),0),\"\")","v":0}]
["TOTAL DE PROFISSIONAIS NOTURNO",null,null,null,null,null,null,null,null,null,null,null,null,{"$f":"COUNTIF(N9:N18,\"N\")+COUNTIF(N19:N28,\"N\")+COUNTIF(N29:N38,\"N\")+COUNTIF(N9:N18,\"N?\") +COUNTIF(N19:N28,\"N?\")+COUNTIF(N29:N38,\"N?\")+ COUNTIF(N9:N18, \"DN?\")+ COUNTIF(N19:N28, \"DN?\")+ COUNTIF(N29:N38, \"DN?\")","v":0},0,0,0,0,0,0,0,0,0,0,0,0,0,0,0,0,0,0,0,0,0,0,0,0,0,0,0,0,0,0,{"$f":"IF(A41<>\"\",IFERROR(VLOOKUP(N41,Tabelas!B:D,3,0),0),\"\")","v":0},{"$f":"IF(A41<>\"\",IFERROR(VLOOKUP(O41,Tabelas!B:D,3,0),0),\"\")","v":0},{"$f":"IF(A41<>\"\",IFERROR(VLOOKUP(P41,Tabelas!B:D,3,0),0),\"\")","v":0},{"$f":"IF(A41<>\"\",IFERROR(VLOOKUP(Q41,Tabelas!B:D,3,0),0),\"\")","v":0},{"$f":"IF(A41<>\"\",IFERROR(VLOOKUP(R41,Tabelas!B:D,3,0),0),\"\")","v":0},{"$f":"IF(A41<>\"\",IFERROR(VLOOKUP(S41,Tabelas!B:D,3,0),0),\"\")","v":0},{"$f":"IF(A41<>\"\",IFERROR(VLOOKUP(T41,Tabelas!B:D,3,0),0),\"\")","v":0},{"$f":"IF(A41<>\"\",IFERROR(VLOOKUP(U41,Tabelas!B:D,3,0),0),\"\")","v":0},{"$f":"IF(A41<>\"\",IFERROR(VLOOKUP(V41,Tabelas!B:D,3,0),0),\"\")","v":0},{"$f":"IF(A41<>\"\",IFERROR(VLOOKUP(W41,Tabelas!B:D,3,0),0),\"\")","v":0},{"$f":"IF(A41<>\"\",IFERROR(VLOOKUP(X41,Tabelas!B:D,3,0),0),\"\")","v":0},{"$f":"IF(A41<>\"\",IFERROR(VLOOKUP(Y41,Tabelas!B:D,3,0),0),\"\")","v":0},{"$f":"IF(A41<>\"\",IFERROR(VLOOKUP(Z41,Tabelas!B:D,3,0),0),\"\")","v":0},{"$f":"IF(A41<>\"\",IFERROR(VLOOKUP(AA41,Tabelas!B:D,3,0),0),\"\")","v":0},{"$f":"IF(A41<>\"\",IFERROR(VLOOKUP(AB41,Tabelas!B:D,3,0),0),\"\")","v":0},{"$f":"IF(A41<>\"\",IFERROR(VLOOKUP(AC41,Tabelas!B:D,3,0),0),\"\")","v":0},{"$f":"IF(A41<>\"\",IFERROR(VLOOKUP(AD41,Tabelas!B:D,3,0),0),\"\")","v":0},{"$f":"IF(A41<>\"\",IFERROR(VLOOKUP(AE41,Tabelas!B:D,3,0),0),\"\")","v":0},{"$f":"IF(A41<>\"\",IFERROR(VLOOKUP(AF41,Tabelas!B:D,3,0),0),\"\")","v":0},{"$f":"IF(A41<>\"\",IFERROR(VLOOKUP(AG41,Tabelas!B:D,3,0),0),\"\")","v":0},{"$f":"IF(A41<>\"\",IFERROR(VLOOKUP(AH41,Tabelas!B:D,3,0),0),\"\")","v":0},{"$f":"IF(A41<>\"\",IFERROR(VLOOKUP(AI41,Tabelas!B:D,3,0),0),\"\")","v":0},{"$f":"IF(A41<>\"\",IFERROR(VLOOKUP(AJ41,Tabelas!B:D,3,0),0),\"\")","v":0},{"$f":"IF(A41<>\"\",IFERROR(VLOOKUP(AK41,Tabelas!B:D,3,0),0),\"\")","v":0},{"$f":"IF(A41<>\"\",IFERROR(VLOOKUP(AL41,Tabelas!B:D,3,0),0),\"\")","v":0},{"$f":"IF(A41<>\"\",IFERROR(VLOOKUP(AM41,Tabelas!B:D,3,0),0),\"\")","v":0},{"$f":"IF(A41<>\"\",IFERROR(VLOOKUP(AN41,Tabelas!B:D,3,0),0),\"\")","v":0},{"$f":"IF(A41<>\"\",IFERROR(VLOOKUP(AO41,Tabelas!B:D,3,0),0),\"\")","v":0},{"$f":"IF(A41<>\"\",IFERROR(VLOOKUP(AP41,Tabelas!B:D,3,0),0),\"\")","v":0},{"$f":"IF(A41<>\"\",IFERROR(VLOOKUP(AQ41,Tabelas!B:D,3,0),0),\"\")","v":0},{"$f":"IF(A41<>\"\",IFERROR(VLOOKUP(AR41,Tabelas!B:D,3,0),0),\"\")","v":0}]
[null,null,null,null,null,null,null,null,null,null,null,null,null,null,null,null,null,null,null,null,null,null,null,null,null,null,null,null,null,null,null,null,null,null,null,null,null,null,null,null,null,null,null,null,{"$f":"IF(A42<>\"\",IFERROR(VLOOKUP(N42,Tabelas!B:D,3,0),0),\"\")","v":""},{"$f":"IF(A42<>\"\",IFERROR(VLOOKUP(O42,Tabelas!B:D,3,0),0),\"\")","v":""},{"$f":"IF(A42<>\"\",IFERROR(VLOOKUP(P42,Tabelas!B:D,3,0),0),\"\")","v":""},{"$f":"IF(A42<>\"\",IFERROR(VLOOKUP(Q42,Tabelas!B:D,3,0),0),\"\")","v":""},{"$f":"IF(A42<>\"\",IFERROR(VLOOKUP(R42,Tabelas!B:D,3,0),0),\"\")","v":""},{"$f":"IF(A42<>\"\",IFERROR(VLOOKUP(S42,Tabelas!B:D,3,0),0),\"\")","v":""},{"$f":"IF(A42<>\"\",IFERROR(VLOOKUP(T42,Tabelas!B:D,3,0),0),\"\")","v":""},{"$f":"IF(A42<>\"\",IFERROR(VLOOKUP(U42,Tabelas!B:D,3,0),0),\"\")","v":""},{"$f":"IF(A42<>\"\",IFERROR(VLOOKUP(V42,Tabelas!B:D,3,0),0),\"\")","v":""},{"$f":"IF(A42<>\"\",IFERROR(VLOOKUP(W42,Tabelas!B:D,3,0),0),\"\")","v":""},{"$f":"IF(A42<>\"\",IFERROR(VLOOKUP(X42,Tabelas!B:D,3,0),0),\"\")","v":""},{"$f":"IF(A42<>\"\",IFERROR(VLOOKUP(Y42,Tabelas!B:D,3,0),0),\"\")","v":""},{"$f":"IF(A42<>\"\",IFERROR(VLOOKUP(Z42,Tabelas!B:D,3,0),0),\"\")","v":""},{"$f":"IF(A42<>\"\",IFERROR(VLOOKUP(AA42,Tabelas!B:D,3,0),0),\"\")","v":""},{"$f":"IF(A42<>\"\",IFERROR(VLOOKUP(AB42,Tabelas!B:D,3,0),0),\"\")","v":""},{"$f":"IF(A42<>\"\",IFERROR(VLOOKUP(AC42,Tabelas!B:D,3,0),0),\"\")","v":""},{"$f":"IF(A42<>\"\",IFERROR(VLOOKUP(AD42,Tabelas!B:D,3,0),0),\"\")","v":""},{"$f":"IF(A42<>\"\",IFERROR(VLOOKUP(AE42,Tabelas!B:D,3,0),0),\"\")","v":""},{"$f":"IF(A42<>\"\",IFERROR(VLOOKUP(AF42,Tabelas!B:D,3,0),0),\"\")","v":""},{"$f":"IF(A42<>\"\",IFERROR(VLOOKUP(AG42,Tabelas!B:D,3,0),0),\"\")","v":""},{"$f":"IF(A42<>\"\",IFERROR(VLOOKUP(AH42,Tabelas!B:D,3,0),0),\"\")","v":""},{"$f":"IF(A42<>\"\",IFERROR(VLOOKUP(AI42,Tabelas!B:D,3,0),0),\"\")","v":""},{"$f":"IF(A42<>\"\",IFERROR(VLOOKUP(AJ42,Tabelas!B:D,3,0),0),\"\")","v":""},{"$f":"IF(A42<>\"\",IFERROR(VLOOKUP(AK42,Tabelas!B:D,3,0),0),\"\")","v":""},{"$f":"IF(A42<>\"\",IFERROR(VLOOKUP(AL42,Tabelas!B:D,3,0),0),\"\")","v":""},{"$f":"IF(A42<>\"\",IFERROR(VLOOKUP(AM42,Tabelas!B:D,3,0),0),\"\")","v":""},{"$f":"IF(A42<>\"\",IFERROR(VLOOKUP(AN42,Tabelas!B:D,3,0),0),\"\")","v":""},{"$f":"IF(A42<>\"\",IFERROR(VLOOKUP(AO42,Tabelas!B:D,3,0),0),\"\")","v":""},{"$f":"IF(A42<>\"\",IFERROR(VLOOKUP(AP42,Tabelas!B:D,3,0),0),\"\")","v":""},{"$f":"IF(A42<>\"\",IFERROR(VLOOKUP(AQ42,Tabelas!B:D,3,0),0),\"\")","v":""},{"$f":"IF(A42<>\"\",IFERROR(VLOOKUP(AR42,Tabelas!B:D,3,0),0),\"\")","v":""},"",{"$f":"IF(A42<>\"\",COUNTIF(N42:AR42,\"LM\")+COUNTIF(N42:AR42,\"L\"),\"\")","v":""},"","","","",null,{"$f":"IF(A42<>\"\",COUNTIF(N42:AR42,\"CE\")+COUNTIF(N42:AR42,\"L\")+COUNTIF(N42:AR42,\"LM\")+COUNTIF(N42:AR42,\"LC\")+COUNTIF(N42:AR42,\"AB\"),\"\")","v":""},{"$f":"IF(A42<>\"\",COUNTIF(N42:AR42,\"APH\"),\"\")","v":""}]
["Legenda:",null,null,null,null,null,null,null,null,null,null,null,null,null,null,null,null,null,null,null,null,null,null,null,null,null,null,null,null,null,null,null,null,null,null,null,null,null,null,null,null,null,null,null,null,null,null,null,null,null,null,null,null,null,null,null,null,null,null,null,null,null,null,null,null,null,null,null,null,null,null,null,null,null,null,"OBSERVAÇÕES:"]
["Licença Maternidade","LM","Férias",null,"FE","Ponto Facultativo",null,null,null,null,null,null,null,null,null,"PF","Manhã **",null,null,null,null,null,null,"M","Diunro (8 hrs) **",null,null,null,null,null,null,"MT",null,null,null,null,null,null,null,null,null,null,null,null,null,null,null,null,null,null,null,null,null,null,null,null,null,null,null,null,null,null,null,null,null,null,null,null,null,null,null,null,null,null,null,"* Para os Afastamentos previstos em lei, utilizar as legendas "]
["Licença Paternidade","LP","Feriado",null,"FD","Abono",null,null,null,null,null,null,null,null,null,"AB","Tarde **",null,null,null,null,null,null,"T","Dia/ noite (24 hrs) **",null,null,null,null,null,null,"DN",null,null,null,null,null,null,null,null,null,null,null,null,null,null,null,null,null,null,null,null,null,null,null,null,null,null,null,null,null,null,null,null,null,null,null,null,null,null,null,null,null,null,null,"numeradas conforme descrição no item 3.2.2 da NO DGP nº 04/2017."]
["Licença Médica/Odontológica","L","Folga",null,"FO","Compensação Horas Excedentes",null,null,null,null,null,null,null,null,null,"CE","Plantão Dia (12 hrs) **",null,null,null,null,null,null,"D",null,null,null,null,null,null,null,null,null,null,null,null,null,null,null,null,null,null,null,null,null,null,null,null,null,null,null,null,null,null,null,null,null,null,null,null,null,null,null,null,null,null,null,null,null,null,null,null,null,null,null,"** Para as variações de horários (M1, M2, T1, T2...), utilizar as "]
["Licença Capacitação","LC","Recesso",null,"RC","Afastamento*",null,null,null,null,null,null,null,null,null,"AF","Plantão Noite (12 hrs)**",null,null,null,null,null,null,"N",null,null,null,null,null,null,null,null,null,null,null,null,null,null,null,null,null,null,null,null,null,null,null,null,null,null,null,null,null,null,null,null,null,null,null,null,null,null,null,null,null,null,null,null,null,null,null,null,null,null,null,"legendas numeradas conforme descrição do item 3.2.2 na Norma "]
[null,null,null,null,null,null,null,null,null,null,null,null,null,null,null,null,null,null,null,null,null,null,null,null,null,null,null,null,null,null,null,null,null,null,null,null,null,null,null,null,null,null,null,null,null,null,null,null,null,null,null,null,null,null,null,null,null,null,null,null,null,null,null,null,null,null,null,null,null,null,null,null,null,null,null,"Operacional DGP nº 04/2017."]

{"sheet":"Outubro","index":9,"n_rows":72,"n_cols":84,"rows_kept":72,"cut":false,"hidden":false,"merged":[[62,0,62,6],[63,0,63,6],[64,0,64,6],[5,0,7,0],[5,1,7,1],[5,2,7,2],[5,3,7,3],[5,4,7,4],[5,5,7,5],[5,6,5,12],[66,75,66,83],[5,78,6,78],[5,79,6,79],[5,80,6,80],[5,81,6,81],[5,82,6,82],[5,83,6,83],[5,77,6,77],[5,13,5,43],[5,44,5,74],[5,75,6,75],[5,76,6,76],[6,6,7,6],[6,7,7,7],[6,8,7,8],[6,9,6,10],[6,11,7,11],[6,12,7,12],[1,0,1,43],[2,0,2,43],[3,0,3,43],[4,1,4,21],[4,24,4,35],[4,38,4,43]]}
[]
[]
["Hospital Universitário Professor Polydoro Ernani de São Thiago"]
["ESCALA MENSAL DE TRABALHO"]
["DIVISÃO /SETOR/UNIDADE: UTI adulto HU/UFSC",null,null,null,null,null,null,null,null,null,null,null,null,null,null,null,null,null,null,null,null,null,"MÊS:",null,"Outubro",null,null,null,null,null,null,null,null,null,null,null,"ANO:",null,2018]
["NOME COMPLETO","SIAPE","REGISTRO CONSELHO CLASSE","CARGO","VÍNCULO","C.H SEM.","INTERVALO",null,null,null,null,null,null,"DIAS DO MÊS",null,null,null,null,null,null,null,null,null,null,null,null,null,null,null,null,null,null,null,null,null,null,null,null,null,null,null,null,null,null,"CÁLCULO DAS HORAS",null,null,null,null,null,null,null,null,null,null,null,null,null,null,null,null,null,null,null,null,null,null,null,null,null,null,null,null,null,null,"CH MENSAL","LM/LP/L","Abono","Férias","LC","CE","AF  Legais"," TOTAL AFASTAMENTOS","APH"]
[null,null,null,null,null,null,"M","MT","D","DN",null,"T","N",1,2,3,4,5,6,7,8,9,10,11,12,13,14,15,16,17,18,19,20,21,22,23,24,25,{"$f":"IF(DAY(DATE(AM5,VLOOKUP(Y5,Tabelas!M:N,2,0)+1,1)-1)>=26,26,\"\")","v":26},{"$f":"IF(DAY(DATE(AM5,VLOOKUP(Y5,Tabelas!M:N,2,0)+1,1)-1)>=27,27,\"\")","v":27},{"$f":"IF(DAY(DATE(AM5,VLOOKUP(Y5,Tabelas!M:N,2,0)+1,1)-1)>=28,28,\"\")","v":28},{"$f":"IF(DAY(DATE(AM5,VLOOKUP(Y5,Tabelas!M:N,2,0)+1,1)-1)>=29,29,\"\")","v":29},{"$f":"IF(DAY(DATE(AM5,VLOOKUP(Y5,Tabelas!M:N,2,0)+1,1)-1)>=30,30,\"\")","v":30},{"$f":"IF(DAY(DATE(AM5,VLOOKUP(Y5,Tabelas!M:N,2,0)+1,1)-1)>=31,31,\"\")","v":31}]
[null,null,null,null,null,null,null,null,null,1,2,null,null,{"$f":"IF(N7<>\"\",IFERROR(VLOOKUP(WEEKDAY(CONCATENATE(N7,$Y$5,$AM$5)),Tabelas!$I:$J,2,0),\"\"),\"\")","v":"SEG"},{"$f":"IF(O7<>\"\",IFERROR(VLOOKUP(WEEKDAY(CONCATENATE(O7,$Y$5,$AM$5)),Tabelas!$I:$J,2,0),\"\"),\"\")","v":"TER"},{"$f":"IF(P7<>\"\",IFERROR(VLOOKUP(WEEKDAY(CONCATENATE(P7,$Y$5,$AM$5)),Tabelas!$I:$J,2,0),\"\"),\"\")","v":"QUA"},{"$f":"IF(Q7<>\"\",IFERROR(VLOOKUP(WEEKDAY(CONCATENATE(Q7,$Y$5,$AM$5)),Tabelas!$I:$J,2,0),\"\"),\"\")","v":"QUI"},{"$f":"IF(R7<>\"\",IFERROR(VLOOKUP(WEEKDAY(CONCATENATE(R7,$Y$5,$AM$5)),Tabelas!$I:$J,2,0),\"\"),\"\")","v":"SEX"},{"$f":"IF(S7<>\"\",IFERROR(VLOOKUP(WEEKDAY(CONCATENATE(S7,$Y$5,$AM$5)),Tabelas!$I:$J,2,0),\"\"),\"\")","v":"SAB"},{"$f":"IF(T7<>\"\",IFERROR(VLOOKUP(WEEKDAY(CONCATENATE(T7,$Y$5,$AM$5)),Tabelas!$I:$J,2,0),\"\"),\"\")","v":"DOM"},{"$f":"IF(U7<>\"\",IFERROR(VLOOKUP(WEEKDAY(CONCATENATE(U7,$Y$5,$AM$5)),Tabelas!$I:$J,2,0),\"\"),\"\")","v":"SEG"},{"$f":"IF(V7<>\"\",IFERROR(VLOOKUP(WEEKDAY(CONCATENATE(V7,$Y$5,$AM$5)),Tabelas!$I:$J,2,0),\"\"),\"\")","v":"TER"},{"$f":"IF(W7<>\"\",IFERROR(VLOOKUP(WEEKDAY(CONCATENATE(W7,$Y$5,$AM$5)),Tabelas!$I:$J,2,0),\"\"),\"\")","v":"QUA"},{"$f":"IF(X7<>\"\",IFERROR(VLOOKUP(WEEKDAY(CONCATENATE(X7,$Y$5,$AM$5)),Tabelas!$I:$J,2,0),\"\"),\"\")","v":"QUI"},{"$f":"IF(Y7<>\"\",IFERROR(VLOOKUP(WEEKDAY(CONCATENATE(Y7,$Y$5,$AM$5)),Tabelas!$I:$J,2,0),\"\"),\"\")","v":"SEX"},{"$f":"IF(Z7<>\"\",IFERROR(VLOOKUP(WEEKDAY(CONCATENATE(Z7,$Y$5,$AM$5)),Tabelas!$I:$J,2,0),\"\"),\"\")","v":"SAB"},{"$f":"IF(AA7<>\"\",IFERROR(VLOOKUP(WEEKDAY(CONCATENATE(AA7,$Y$5,$AM$5)),Tabelas!$I:$J,2,0),\"\"),\"\")","v":"DOM"},{"$f":"IF(AB7<>\"\",IFERROR(VLOOKUP(WEEKDAY(CONCATENATE(AB7,$Y$5,$AM$5)),Tabelas!$I:$J,2,0),\"\"),\"\")","v":"SEG"},{"$f":"IF(AC7<>\"\",IFERROR(VLOOKUP(WEEKDAY(CONCATENATE(AC7,$Y$5,$AM$5)),Tabelas!$I:$J,2,0),\"\"),\"\")","v":"TER"},{"$f":"IF(AD7<>\"\",IFERROR(VLOOKUP(WEEKDAY(CONCATENATE(AD7,$Y$5,$AM$5)),Tabelas!$I:$J,2,0),\"\"),\"\")","v":"QUA"},{"$f":"IF(AE7<>\"\",IFERROR(VLOOKUP(WEEKDAY(CONCATENATE(AE7,$Y$5,$AM$5)),Tabelas!$I:$J,2,0),\"\"),\"\")","v":"QUI"},{"$f":"IF(AF7<>\"\",IFERROR(VLOOKUP(WEEKDAY(CONCATENATE(AF7,$Y$5,$AM$5)),Tabelas!$I:$J,2,0),\"\"),\"\")","v":"SEX"},{"$f":"IF(AG7<>\"\",IFERROR(VLOOKUP(WEEKDAY(CONCATENATE(AG7,$Y$5,$AM$5)),Tabelas!$I:$J,2,0),\"\"),\"\")","v":"SAB"},{"$f":"IF(AH7<>\"\",IFERROR(VLOOKUP(WEEKDAY(CONCATENATE(AH7,$Y$5,$AM$5)),Tabelas!$I:$J,2,0),\"\"),\"\")","v":"DOM"},{"$f":"IF(AI7<>\"\",IFERROR(VLOOKUP(WEEKDAY(CONCATENATE(AI7,$Y$5,$AM$5)),Tabelas!$I:$J,2,0),\"\"),\"\")","v":"SEG"},{"$f":"IF(AJ7<>\"\",IFERROR(VLOOKUP(WEEKDAY(CONCATENATE(AJ7,$Y$5,$AM$5)),Tabelas!$I:$J,2,0),\"\"),\"\")","v":"TER"},{"$f":"IF(AK7<>\"\",IFERROR(VLOOKUP(WEEKDAY(CONCATENATE(AK7,$Y$5,$AM$5)),Tabelas!$I:$J,2,0),\"\"),\"\")","v":"QUA"},{"$f":"IF(AL7<>\"\",IFERROR(VLOOKUP(WEEKDAY(CONCATENATE(AL7,$Y$5,$AM$5)),Tabelas!$I:$J,2,0),\"\"),\"\")","v":"QUI"},{"$f":"IF(AM7<>\"\",IFERROR(VLOOKUP(WEEKDAY(CONCATENATE(AM7,$Y$5,$AM$5)),Tabelas!$I:$J,2,0),\"\"),\"\")","v":"SEX"},{"$f":"IF(AN7<>\"\",IFERROR(VLOOKUP(WEEKDAY(CONCATENATE(AN7,$Y$5,$AM$5)),Tabelas!$I:$J,2,0),\"\"),\"\")","v":"SAB"},{"$f":"IF(AO7<>\"\",IFERROR(VLOOKUP(WEEKDAY(CONCATENATE(AO7,$Y$5,$AM$5)),Tabelas!$I:$J,2,0),\"\"),\"\")","v":"DOM"},{"$f":"IF(AP7<>\"\",IFERROR(VLOOKUP(WEEKDAY(CONCATENATE(AP7,$Y$5,$AM$5)),Tabelas!$I:$J,2,0),\"\"),\"\")","v":"SEG"},{"$f":"IF(AQ7<>\"\",IFERROR(VLOOKUP(WEEKDAY(CONCATENATE(AQ7,$Y$5,$AM$5)),Tabelas!$I:$J,2,0),\"\"),\"\")","v":"TER"},{"$f":"IF(AR7<>\"\",IFERROR(VLOOKUP(WEEKDAY(CONCATENATE(AR7,$Y$5,$AM$5)),Tabelas!$I:$J,2,0),\"\"),\"\")","v":"QUA"},1,2,3,4,5,6,7,8,9,10,11,12,13,14,15,16,17,18,19,20,21,22,23,24,25,26,27,28,29,30,31,"Total","Dias","Dias","Dias","Dias","Dias","Dias","Dias","Dias"]
["ENFERMEIROS"]
["Matutino"]
["Clarice Koerich",1061962,null,"ENF","RJU",30,null,null,null,null,null,null,null,null,null,null,null,null,null,null,null,null,null,null,null,null,null,null,null,null,null,null,null,null,null,null,null,null,null,null,null,null,null,null,{"$f":"IF(A11<>\"\",IFERROR(VLOOKUP(N11,Tabelas!B:D,3,0),0),\"\")","v":0},{"$f":"IF(A11<>\"\",IFERROR(VLOOKUP(O11,Tabelas!B:D,3,0),0),\"\")","v":0},{"$f":"IF(A11<>\"\",IFERROR(VLOOKUP(P11,Tabelas!B:D,3,0),0),\"\")","v":0},{"$f":"IF(A11<>\"\",IFERROR(VLOOKUP(Q11,Tabelas!B:D,3,0),0),\"\")","v":0},{"$f":"IF(A11<>\"\",IFERROR(VLOOKUP(R11,Tabelas!B:D,3,0),0),\"\")","v":0},{"$f":"IF(A11<>\"\",IFERROR(VLOOKUP(S11,Tabelas!B:D,3,0),0),\"\")","v":0},{"$f":"IF(A11<>\"\",IFERROR(VLOOKUP(T11,Tabelas!B:D,3,0),0),\"\")","v":0},{"$f":"IF(A11<>\"\",IFERROR(VLOOKUP(U11,Tabelas!B:D,3,0),0),\"\")","v":0},{"$f":"IF(A11<>\"\",IFERROR(VLOOKUP(V11,Tabelas!B:D,3,0),0),\"\")","v":0},{"$f":"IF(A11<>\"\",IFERROR(VLOOKUP(W11,Tabelas!B:D,3,0),0),\"\")","v":0},{"$f":"IF(A11<>\"\",IFERROR(VLOOKUP(X11,Tabelas!B:D,3,0),0),\"\")","v":0},{"$f":"IF(A11<>\"\",IFERROR(VLOOKUP(Y11,Tabelas!B:D,3,0),0),\"\")","v":0},{"$f":"IF(A11<>\"\",IFERROR(VLOOKUP(Z11,Tabelas!B:D,3,0),0),\"\")","v":0},{"$f":"IF(A11<>\"\",IFERROR(VLOOKUP(AA11,Tabelas!B:D,3,0),0),\"\")","v":0},{"$f":"IF(A11<>\"\",IFERROR(VLOOKUP(AB11,Tabelas!B:D,3,0),0),\"\")","v":0},{"$f":"IF(A11<>\"\",IFERROR(VLOOKUP(AC11,Tabelas!B:D,3,0),0),\"\")","v":0},{"$f":"IF(A11<>\"\",IFERROR(VLOOKUP(AD11,Tabelas!B:D,3,0),0),\"\")","v":0},{"$f":"IF(A11<>\"\",IFERROR(VLOOKUP(AE11,Tabelas!B:D,3,0),0),\"\")","v":0},{"$f":"IF(A11<>\"\",IFERROR(VLOOKUP(AF11,Tabelas!B:D,3,0),0),\"\")","v":0},{"$f":"IF(A11<>\"\",IFERROR(VLOOKUP(AG11,Tabelas!B:D,3,0),0),\"\")","v":0},{"$f":"IF(A11<>\"\",IFERROR(VLOOKUP(AH11,Tabelas!B:D,3,0),0),\"\")","v":0},{"$f":"IF(A11<>\"\",IFERROR(VLOOKUP(AI11,Tabelas!B:D,3,0),0),\"\")","v":0},{"$f":"IF(A11<>\"\",IFERROR(VLOOKUP(AJ11,Tabelas!B:D,3,0),0),\"\")","v":0},{"$f":"IF(A11<>\"\",IFERROR(VLOOKUP(AK11,Tabelas!B:D,3,0),0),\"\")","v":0},{"$f":"IF(A11<>\"\",IFERROR(VLOOKUP(AL11,Tabelas!B:D,3,0),0),\"\")","v":0},{"$f":"IF(A11<>\"\",IFERROR(VLOOKUP(AM11,Tabelas!B:D,3,0),0),\"\")","v":0},{"$f":"IF(A11<>\"\",IFERROR(VLOOKUP(AN11,Tabelas!B:D,3,0),0),\"\")","v":0},{"$f":"IF(A11<>\"\",IFERROR(VLOOKUP(AO11,Tabelas!B:D,3,0),0),\"\")","v":0},{"$f":"IF(A11<>\"\",IFERROR(VLOOKUP(AP11,Tabelas!B:D,3,0),0),\"\")","v":0},{"$f":"IF(A11<>\"\",IFERROR(VLOOKUP(AQ11,Tabelas!B:D,3,0),0),\"\")","v":0},{"$f":"IF(A11<>\"\",IFERROR(VLOOKUP(AR11,Tabelas!B:D,3,0),0),\"\")","v":0},{"$f":"IF(A11<>\"\",SUM(AS11:BW11),\"\")","v":0},{"$f":"IF(A11<>\"\",COUNTIF(N11:AR11,\"LM\")+COUNTIF(N11:AR11,\"L\"),\"\")+COUNTIF(N11:AR11,\"LP\")","v":0},{"$f":"IF(A11<>\"\",COUNTIF(N11:AR11,\"AB\"),\"\")","v":0},{"$f":"IF(A11<>\"\",COUNTIF(N11:AR11,\"FE\"),\"\")","v":0},{"$f":"IF(A11<>\"\",COUNTIF(N11:AR11,\"LC\"),\"\")","v":0},{"$f":"IF(A11<>\"\",COUNTIF(N11:AR11,\"CE\"),\"\")","v":0},{"$f":"IF(A11<>\"\",COUNTIF(N11:AR11,\"AF1\")+COUNTIF(N11:AR11,\"AF2\")+COUNTIF(N11:AR11,\"AF3\")+COUNTIF(N11:AR11,\"AF4\")+COUNTIF(N11:AR11,\"AF5\")+COUNTIF(N11:AR11,\"AF6\")+COUNTIF(N11:AR11,\"AF7\")+COUNTIF(N11:AR11,\"AF8\")+COUNTIF(N11:AR11,\"AF9\")+COUNTIF(N11:AR11,\"AF10\")+COUNTIF(N11:AR11,\"AF11\")+COUNTIF(N11:AR11,\"AF12\")+COUNTIF(N11:AR11,\"AF13\")+COUNTIF(N11:AR11,\"AF14\"),\"\")","v":0},{"$f":"IF(A11<>\"\",COUNTIF(N11:AR11,\"CE\")+COUNTIF(N11:AR11,\"L\")+COUNTIF(N11:AR11,\"LM\")+COUNTIF(N11:AR11,\"LP\")+COUNTIF(N11:AR11,\"LC\")+COUNTIF(N11:AR11,\"AB\")+COUNTIF(N11:AR11,\"AF1\")+COUNTIF(N11:AR11,\"AF2\")+COUNTIF(N11:AR11,\"AF3\")+COUNTIF(N11:AR11,\"AF4\")+COUNTIF(N11:AR11,\"AF5\")+COUNTIF(N11:AR11,\"AF6\")+COUNTIF(N11:AR11,\"AF7\")+COUNTIF(N11:AR11,\"AF8\")+COUNTIF(N11:AR11,\"AF9\")+COUNTIF(N11:AR11,\"AF10\")+COUNTIF(N11:AR11,\"AF11\")+COUNTIF(N11:AR11,\"AF12\")+COUNTIF(N11:AR11,\"AF13\")+COUNTIF(N11:AR11,\"AF14\")+COUNTIF(N11:AR11,\"RC\")+COUNTIF(N11:AR11,\"FO\")+COUNTIF(N11:AR11,\"FE\"),\"\")","v":0},{"$f":"IF(A11<>\"\",COUNTIF(N11:AR11,\"APH\"),\"\")","v":0}]
["Hilário Mattioli Neto",1359213,123,"ENF","Ebserh",36,null,null,null,null,null,null,null,null,null,null,null,null,null,null,null,null,null,null,null,null,null,null,null,null,null,null,null,null,null,null,null,null,null,null,null,null,null,null,{"$f":"IF(A12<>\"\",IFERROR(VLOOKUP(N12,Tabelas!B:D,3,0),0),\"\")","v":0},{"$f":"IF(A12<>\"\",IFERROR(VLOOKUP(O12,Tabelas!B:D,3,0),0),\"\")","v":0},{"$f":"IF(A12<>\"\",IFERROR(VLOOKUP(P12,Tabelas!B:D,3,0),0),\"\")","v":0},{"$f":"IF(A12<>\"\",IFERROR(VLOOKUP(Q12,Tabelas!B:D,3,0),0),\"\")","v":0},{"$f":"IF(A12<>\"\",IFERROR(VLOOKUP(R12,Tabelas!B:D,3,0),0),\"\")","v":0},{"$f":"IF(A12<>\"\",IFERROR(VLOOKUP(S12,Tabelas!B:D,3,0),0),\"\")","v":0},{"$f":"IF(A12<>\"\",IFERROR(VLOOKUP(T12,Tabelas!B:D,3,0),0),\"\")","v":0},{"$f":"IF(A12<>\"\",IFERROR(VLOOKUP(U12,Tabelas!B:D,3,0),0),\"\")","v":0},{"$f":"IF(A12<>\"\",IFERROR(VLOOKUP(V12,Tabelas!B:D,3,0),0),\"\")","v":0},{"$f":"IF(A12<>\"\",IFERROR(VLOOKUP(W12,Tabelas!B:D,3,0),0),\"\")","v":0},{"$f":"IF(A12<>\"\",IFERROR(VLOOKUP(X12,Tabelas!B:D,3,0),0),\"\")","v":0},{"$f":"IF(A12<>\"\",IFERROR(VLOOKUP(Y12,Tabelas!B:D,3,0),0),\"\")","v":0},{"$f":"IF(A12<>\"\",IFERROR(VLOOKUP(Z12,Tabelas!B:D,3,0),0),\"\")","v":0},{"$f":"IF(A12<>\"\",IFERROR(VLOOKUP(AA12,Tabelas!B:D,3,0),0),\"\")","v":0},{"$f":"IF(A12<>\"\",IFERROR(VLOOKUP(AB12,Tabelas!B:D,3,0),0),\"\")","v":0},{"$f":"IF(A12<>\"\",IFERROR(VLOOKUP(AC12,Tabelas!B:D,3,0),0),\"\")","v":0},{"$f":"IF(A12<>\"\",IFERROR(VLOOKUP(AD12,Tabelas!B:D,3,0),0),\"\")","v":0},{"$f":"IF(A12<>\"\",IFERROR(VLOOKUP(AE12,Tabelas!B:D,3,0),0),\"\")","v":0},{"$f":"IF(A12<>\"\",IFERROR(VLOOKUP(AF12,Tabelas!B:D,3,0),0),\"\")","v":0},{"$f":"IF(A12<>\"\",IFERROR(VLOOKUP(AG12,Tabelas!B:D,3,0),0),\"\")","v":0},{"$f":"IF(A12<>\"\",IFERROR(VLOOKUP(AH12,Tabelas!B:D,3,0),0),\"\")","v":0},{"$f":"IF(A12<>\"\",IFERROR(VLOOKUP(AI12,Tabelas!B:D,3,0),0),\"\")","v":0},{"$f":"IF(A12<>\"\",IFERROR(VLOOKUP(AJ12,Tabelas!B:D,3,0),0),\"\")","v":0},{"$f":"IF(A12<>\"\",IFERROR(VLOOKUP(AK12,Tabelas!B:D,3,0),0),\"\")","v":0},{"$f":"IF(A12<>\"\",IFERROR(VLOOKUP(AL12,Tabelas!B:D,3,0),0),\"\")","v":0},{"$f":"IF(A12<>\"\",IFERROR(VLOOKUP(AM12,Tabelas!B:D,3,0),0),\"\")","v":0},{"$f":"IF(A12<>\"\",IFERROR(VLOOKUP(AN12,Tabelas!B:D,3,0),0),\"\")","v":0},{"$f":"IF(A12<>\"\",IFERROR(VLOOKUP(AO12,Tabelas!B:D,3,0),0),\"\")","v":0},{"$f":"IF(A12<>\"\",IFERROR(VLOOKUP(AP12,Tabelas!B:D,3,0),0),\"\")","v":0},{"$f":"IF(A12<>\"\",IFERROR(VLOOKUP(AQ12,Tabelas!B:D,3,0),0),\"\")","v":0},{"$f":"IF(A12<>\"\",IFERROR(VLOOKUP(AR12,Tabelas!B:D,3,0),0),\"\")","v":0},{"$f":"IF(A12<>\"\",SUM(AS12:BW12),\"\")","v":0},{"$f":"IF(A12<>\"\",COUNTIF(N12:AR12,\"LM\")+COUNTIF(N12:AR12,\"L\"),\"\")+COUNTIF(N12:AR12,\"LP\")","v":0},0,0,0,0,{"$f":"IF(A12<>\"\",COUNTIF(N12:AR12,\"AF1\")+COUNTIF(N12:AR12,\"AF2\")+COUNTIF(N12:AR12,\"AF3\")+COUNTIF(N12:AR12,\"AF4\")+COUNTIF(N12:AR12,\"AF5\")+COUNTIF(N12:AR12,\"AF6\")+COUNTIF(N12:AR12,\"AF7\")+COUNTIF(N12:AR12,\"AF8\")+COUNTIF(N12:AR12,\"AF9\")+COUNTIF(N12:AR12,\"AF10\")+COUNTIF(N12:AR12,\"AF11\")+COUNTIF(N12:AR12,\"AF12\")+COUNTIF(N12:AR12,\"AF13\")+COUNTIF(N12:AR12,\"AF14\"),\"\")","v":0},{"$f":"IF(A12<>\"\",COUNTIF(N12:AR12,\"CE\")+COUNTIF(N12:AR12,\"L\")+COUNTIF(N12:AR12,\"LM\")+COUNTIF(N12:AR12,\"LP\")+COUNTIF(N12:AR12,\"LC\")+COUNTIF(N12:AR12,\"AB\")+COUNTIF(N12:AR12,\"AF1\")+COUNTIF(N12:AR12,\"AF2\")+COUNTIF(N12:AR12,\"AF3\")+COUNTIF(N12:AR12,\"AF4\")+COUNTIF(N12:AR12,\"AF5\")+COUNTIF(N12:AR12,\"AF6\")+COUNTIF(N12:AR12,\"AF7\")+COUNTIF(N12:AR12,\"AF8\")+COUNTIF(N12:AR12,\"AF9\")+COUNTIF(N12:AR12,\"AF10\")+COUNTIF(N12:AR12,\"AF11\")+COUNTIF(N12:AR12,\"AF12\")+COUNTIF(N12:AR12,\"AF13\")+COUNTIF(N12:AR12,\"AF14\")+COUNTIF(N12:AR12,\"RC\")+COUNTIF(N12:AR12,\"FO\")+COUNTIF(N12:AR12,\"FE\"),\"\")","v":0},{"$f":"IF(A12<>\"\",COUNTIF(N12:AR12,\"APH\"),\"\")","v":0}]
["Ana Paula G. T. Pereira ",1234567,123,"ENF","Ebserh",36,null,null,null,null,null,null,null,null,null,null,null,null,null,null,null,null,null,null,null,null,null,null,null,null,null,null,null,null,null,null,null,null,null,null,null,null,null,null,{"$f":"IF(A13<>\"\",IFERROR(VLOOKUP(N13,Tabelas!B:D,3,0),0),\"\")","v":0},{"$f":"IF(A13<>\"\",IFERROR(VLOOKUP(O13,Tabelas!B:D,3,0),0),\"\")","v":0},{"$f":"IF(A13<>\"\",IFERROR(VLOOKUP(P13,Tabelas!B:D,3,0),0),\"\")","v":0},{"$f":"IF(A13<>\"\",IFERROR(VLOOKUP(Q13,Tabelas!B:D,3,0),0),\"\")","v":0},{"$f":"IF(A13<>\"\",IFERROR(VLOOKUP(R13,Tabelas!B:D,3,0),0),\"\")","v":0},{"$f":"IF(A13<>\"\",IFERROR(VLOOKUP(S13,Tabelas!B:D,3,0),0),\"\")","v":0},{"$f":"IF(A13<>\"\",IFERROR(VLOOKUP(T13,Tabelas!B:D,3,0),0),\"\")","v":0},{"$f":"IF(A13<>\"\",IFERROR(VLOOKUP(U13,Tabelas!B:D,3,0),0),\"\")","v":0},{"$f":"IF(A13<>\"\",IFERROR(VLOOKUP(V13,Tabelas!B:D,3,0),0),\"\")","v":0},{"$f":"IF(A13<>\"\",IFERROR(VLOOKUP(W13,Tabelas!B:D,3,0),0),\"\")","v":0},{"$f":"IF(A13<>\"\",IFERROR(VLOOKUP(X13,Tabelas!B:D,3,0),0),\"\")","v":0},{"$f":"IF(A13<>\"\",IFERROR(VLOOKUP(Y13,Tabelas!B:D,3,0),0),\"\")","v":0},{"$f":"IF(A13<>\"\",IFERROR(VLOOKUP(Z13,Tabelas!B:D,3,0),0),\"\")","v":0},{"$f":"IF(A13<>\"\",IFERROR(VLOOKUP(AA13,Tabelas!B:D,3,0),0),\"\")","v":0},{"$f":"IF(A13<>\"\",IFERROR(VLOOKUP(AB13,Tabelas!B:D,3,0),0),\"\")","v":0},{"$f":"IF(A13<>\"\",IFERROR(VLOOKUP(AC13,Tabelas!B:D,3,0),0),\"\")","v":0},{"$f":"IF(A13<>\"\",IFERROR(VLOOKUP(AD13,Tabelas!B:D,3,0),0),\"\")","v":0},{"$f":"IF(A13<>\"\",IFERROR(VLOOKUP(AE13,Tabelas!B:D,3,0),0),\"\")","v":0},{"$f":"IF(A13<>\"\",IFERROR(VLOOKUP(AF13,Tabelas!B:D,3,0),0),\"\")","v":0},{"$f":"IF(A13<>\"\",IFERROR(VLOOKUP(AG13,Tabelas!B:D,3,0),0),\"\")","v":0},{"$f":"IF(A13<>\"\",IFERROR(VLOOKUP(AH13,Tabelas!B:D,3,0),0),\"\")","v":0},{"$f":"IF(A13<>\"\",IFERROR(VLOOKUP(AI13,Tabelas!B:D,3,0),0),\"\")","v":0},{"$f":"IF(A13<>\"\",IFERROR(VLOOKUP(AJ13,Tabelas!B:D,3,0),0),\"\")","v":0},{"$f":"IF(A13<>\"\",IFERROR(VLOOKUP(AK13,Tabelas!B:D,3,0),0),\"\")","v":0},{"$f":"IF(A13<>\"\",IFERROR(VLOOKUP(AL13,Tabelas!B:D,3,0),0),\"\")","v":0},{"$f":"IF(A13<>\"\",IFERROR(VLOOKUP(AM13,Tabelas!B:D,3,0),0),\"\")","v":0},{"$f":"IF(A13<>\"\",IFERROR(VLOOKUP(AN13,Tabelas!B:D,3,0),0),\"\")","v":0},{"$f":"IF(A13<>\"\",IFERROR(VLOOKUP(AO13,Tabelas!B:D,3,0),0),\"\")","v":0},{"$f":"IF(A13<>\"\",IFERROR(VLOOKUP(AP13,Tabelas!B:D,3,0),0),\"\")","v":0},{"$f":"IF(A13<>\"\",IFERROR(VLOOKUP(AQ13,Tabelas!B:D,3,0),0),\"\")","v":0},{"$f":"IF(A13<>\"\",IFERROR(VLOOKUP(AR13,Tabelas!B:D,3,0),0),\"\")","v":0},0,0,0,0,0,0,0,0,{"$f":"IF(A13<>\"\",COUNTIF(N13:AR13,\"APH\"),\"\")","v":0}]
["Simone Cidade",1358064,123,"ENF","Ebserh",36,null,null,null,null,null,null,null,null,null,null,null,null,null,null,null,null,null,null,null,null,null,null,null,null,null,null,null,null,null,null,null,null,null,null,null,null,null,null,{"$f":"IF(A14<>\"\",IFERROR(VLOOKUP(N14,Tabelas!B:D,3,0),0),\"\")","v":0},{"$f":"IF(A14<>\"\",IFERROR(VLOOKUP(O14,Tabelas!B:D,3,0),0),\"\")","v":0},{"$f":"IF(A14<>\"\",IFERROR(VLOOKUP(P14,Tabelas!B:D,3,0),0),\"\")","v":0},{"$f":"IF(A14<>\"\",IFERROR(VLOOKUP(Q14,Tabelas!B:D,3,0),0),\"\")","v":0},{"$f":"IF(A14<>\"\",IFERROR(VLOOKUP(R14,Tabelas!B:D,3,0),0),\"\")","v":0},{"$f":"IF(A14<>\"\",IFERROR(VLOOKUP(S14,Tabelas!B:D,3,0),0),\"\")","v":0},{"$f":"IF(A14<>\"\",IFERROR(VLOOKUP(T14,Tabelas!B:D,3,0),0),\"\")","v":0},{"$f":"IF(A14<>\"\",IFERROR(VLOOKUP(U14,Tabelas!B:D,3,0),0),\"\")","v":0},{"$f":"IF(A14<>\"\",IFERROR(VLOOKUP(V14,Tabelas!B:D,3,0),0),\"\")","v":0},{"$f":"IF(A14<>\"\",IFERROR(VLOOKUP(W14,Tabelas!B:D,3,0),0),\"\")","v":0},{"$f":"IF(A14<>\"\",IFERROR(VLOOKUP(X14,Tabelas!B:D,3,0),0),\"\")","v":0},{"$f":"IF(A14<>\"\",IFERROR(VLOOKUP(Y14,Tabelas!B:D,3,0),0),\"\")","v":0},{"$f":"IF(A14<>\"\",IFERROR(VLOOKUP(Z14,Tabelas!B:D,3,0),0),\"\")","v":0},{"$f":"IF(A14<>\"\",IFERROR(VLOOKUP(AA14,Tabelas!B:D,3,0),0),\"\")","v":0},{"$f":"IF(A14<>\"\",IFERROR(VLOOKUP(AB14,Tabelas!B:D,3,0),0),\"\")","v":0},{"$f":"IF(A14<>\"\",IFERROR(VLOOKUP(AC14,Tabelas!B:D,3,0),0),\"\")","v":0},{"$f":"IF(A14<>\"\",IFERROR(VLOOKUP(AD14,Tabelas!B:D,3,0),0),\"\")","v":0},{"$f":"IF(A14<>\"\",IFERROR(VLOOKUP(AE14,Tabelas!B:D,3,0),0),\"\")","v":0},{"$f":"IF(A14<>\"\",IFERROR(VLOOKUP(AF14,Tabelas!B:D,3,0),0),\"\")","v":0},{"$f":"IF(A14<>\"\",IFERROR(VLOOKUP(AG14,Tabelas!B:D,3,0),0),\"\")","v":0},{"$f":"IF(A14<>\"\",IFERROR(VLOOKUP(AH14,Tabelas!B:D,3,0),0),\"\")","v":0},{"$f":"IF(A14<>\"\",IFERROR(VLOOKUP(AI14,Tabelas!B:D,3,0),0),\"\")","v":0},{"$f":"IF(A14<>\"\",IFERROR(VLOOKUP(AJ14,Tabelas!B:D,3,0),0),\"\")","v":0},{"$f":"IF(A14<>\"\",IFERROR(VLOOKUP(AK14,Tabelas!B:D,3,0),0),\"\")","v":0},{"$f":"IF(A14<>\"\",IFERROR(VLOOKUP(AL14,Tabelas!B:D,3,0),0),\"\")","v":0},{"$f":"IF(A14<>\"\",IFERROR(VLOOKUP(AM14,Tabelas!B:D,3,0),0),\"\")","v":0},{"$f":"IF(A14<>\"\",IFERROR(VLOOKUP(AN14,Tabelas!B:D,3,0),0),\"\")","v":0},{"$f":"IF(A14<>\"\",IFERROR(VLOOKUP(AO14,Tabelas!B:D,3,0),0),\"\")","v":0},{"$f":"IF(A14<>\"\",IFERROR(VLOOKUP(AP14,Tabelas!B:D,3,0),0),\"\")","v":0},{"$f":"IF(A14<>\"\",IFERROR(VLOOKUP(AQ14,Tabelas!B:D,3,0),0),\"\")","v":0},{"$f":"IF(A14<>\"\",IFERROR(VLOOKUP(AR14,Tabelas!B:D,3,0),0),\"\")","v":0},0,0,0,0,0,0,0,0,{"$f":"IF(A14<>\"\",COUNTIF(N14:AR14,\"APH\"),\"\")","v":0}]
["Elaine A.G. Medeiros",1836019,123,"ENF","Ebserh",36,null,null,null,null,null,null,null,null,null,null,null,null,null,null,null,null,null,null,null,null,null,null,null,null,null,null,null,null,null,null,null,null,null,null,null,null,null,null,{"$f":"IF(A15<>\"\",IFERROR(VLOOKUP(N15,Tabelas!B:D,3,0),0),\"\")","v":0},{"$f":"IF(A15<>\"\",IFERROR(VLOOKUP(O15,Tabelas!B:D,3,0),0),\"\")","v":0},{"$f":"IF(A15<>\"\",IFERROR(VLOOKUP(P15,Tabelas!B:D,3,0),0),\"\")","v":0},{"$f":"IF(A15<>\"\",IFERROR(VLOOKUP(Q15,Tabelas!B:D,3,0),0),\"\")","v":0},{"$f":"IF(A15<>\"\",IFERROR(VLOOKUP(R15,Tabelas!B:D,3,0),0),\"\")","v":0},{"$f":"IF(A15<>\"\",IFERROR(VLOOKUP(S15,Tabelas!B:D,3,0),0),\"\")","v":0},{"$f":"IF(A15<>\"\",IFERROR(VLOOKUP(T15,Tabelas!B:D,3,0),0),\"\")","v":0},{"$f":"IF(A15<>\"\",IFERROR(VLOOKUP(U15,Tabelas!B:D,3,0),0),\"\")","v":0},{"$f":"IF(A15<>\"\",IFERROR(VLOOKUP(V15,Tabelas!B:D,3,0),0),\"\")","v":0},{"$f":"IF(A15<>\"\",IFERROR(VLOOKUP(W15,Tabelas!B:D,3,0),0),\"\")","v":0},{"$f":"IF(A15<>\"\",IFERROR(VLOOKUP(X15,Tabelas!B:D,3,0),0),\"\")","v":0},{"$f":"IF(A15<>\"\",IFERROR(VLOOKUP(Y15,Tabelas!B:D,3,0),0),\"\")","v":0},{"$f":"IF(A15<>\"\",IFERROR(VLOOKUP(Z15,Tabelas!B:D,3,0),0),\"\")","v":0},{"$f":"IF(A15<>\"\",IFERROR(VLOOKUP(AA15,Tabelas!B:D,3,0),0),\"\")","v":0},{"$f":"IF(A15<>\"\",IFERROR(VLOOKUP(AB15,Tabelas!B:D,3,0),0),\"\")","v":0},{"$f":"IF(A15<>\"\",IFERROR(VLOOKUP(AC15,Tabelas!B:D,3,0),0),\"\")","v":0},{"$f":"IF(A15<>\"\",IFERROR(VLOOKUP(AD15,Tabelas!B:D,3,0),0),\"\")","v":0},{"$f":"IF(A15<>\"\",IFERROR(VLOOKUP(AE15,Tabelas!B:D,3,0),0),\"\")","v":0},{"$f":"IF(A15<>\"\",IFERROR(VLOOKUP(AF15,Tabelas!B:D,3,0),0),\"\")","v":0},{"$f":"IF(A15<>\"\",IFERROR(VLOOKUP(AG15,Tabelas!B:D,3,0),0),\"\")","v":0},{"$f":"IF(A15<>\"\",IFERROR(VLOOKUP(AH15,Tabelas!B:D,3,0),0),\"\")","v":0},{"$f":"IF(A15<>\"\",IFERROR(VLOOKUP(AI15,Tabelas!B:D,3,0),0),\"\")","v":0},{"$f":"IF(A15<>\"\",IFERROR(VLOOKUP(AJ15,Tabelas!B:D,3,0),0),\"\")","v":0},{"$f":"IF(A15<>\"\",IFERROR(VLOOKUP(AK15,Tabelas!B:D,3,0),0),\"\")","v":0},{"$f":"IF(A15<>\"\",IFERROR(VLOOKUP(AL15,Tabelas!B:D,3,0),0),\"\")","v":0},{"$f":"IF(A15<>\"\",IFERROR(VLOOKUP(AM15,Tabelas!B:D,3,0),0),\"\")","v":0},{"$f":"IF(A15<>\"\",IFERROR(VLOOKUP(AN15,Tabelas!B:D,3,0),0),\"\")","v":0},{"$f":"IF(A15<>\"\",IFERROR(VLOOKUP(AO15,Tabelas!B:D,3,0),0),\"\")","v":0},{"$f":"IF(A15<>\"\",IFERROR(VLOOKUP(AP15,Tabelas!B:D,3,0),0),\"\")","v":0},{"$f":"IF(A15<>\"\",IFERROR(VLOOKUP(AQ15,Tabelas!B:D,3,0),0),\"\")","v":0},{"$f":"IF(A15<>\"\",IFERROR(VLOOKUP(AR15,Tabelas!B:D,3,0),0),\"\")","v":0},0,0,0,0,0,0,0,0,{"$f":"IF(A15<>\"\",COUNTIF(N15:AR15,\"APH\"),\"\")","v":0}]
["Vespertino",null,null,null,null,null,null,null,null,null,null,null,null,null,null,null,null,null,null,null,null,null,null,null,null,null,null,null,null,null,null,null,null,null,null,null,null,null,null,null,null,null,null,null,null,null,null,null,null,null,null,null,null,null,null,null,null,null,null,null,null,null,null,null,null,null,null,null,null,null,null,null,null,null,null,null,0,0,0,0,0,0,0,0]
["Alex Becker",1843901,123,"ENF","Ebserh",36,null,null,null,null,null,null,null,null,null,null,null,null,null,null,null,null,null,null,null,null,null,null,null,null,null,null,null,null,null,null,null,null,null,null,null,null,null,null,{"$f":"IF(A17<>\"\",IFERROR(VLOOKUP(N17,Tabelas!B:D,3,0),0),\"\")","v":0},{"$f":"IF(A17<>\"\",IFERROR(VLOOKUP(O17,Tabelas!B:D,3,0),0),\"\")","v":0},{"$f":"IF(A17<>\"\",IFERROR(VLOOKUP(P17,Tabelas!B:D,3,0),0),\"\")","v":0},{"$f":"IF(A17<>\"\",IFERROR(VLOOKUP(Q17,Tabelas!B:D,3,0),0),\"\")","v":0},{"$f":"IF(A17<>\"\",IFERROR(VLOOKUP(R17,Tabelas!B:D,3,0),0),\"\")","v":0},{"$f":"IF(A17<>\"\",IFERROR(VLOOKUP(S17,Tabelas!B:D,3,0),0),\"\")","v":0},{"$f":"IF(A17<>\"\",IFERROR(VLOOKUP(T17,Tabelas!B:D,3,0),0),\"\")","v":0},{"$f":"IF(A17<>\"\",IFERROR(VLOOKUP(U17,Tabelas!B:D,3,0),0),\"\")","v":0},{"$f":"IF(A17<>\"\",IFERROR(VLOOKUP(V17,Tabelas!B:D,3,0),0),\"\")","v":0},{"$f":"IF(A17<>\"\",IFERROR(VLOOKUP(W17,Tabelas!B:D,3,0),0),\"\")","v":0},{"$f":"IF(A17<>\"\",IFERROR(VLOOKUP(X17,Tabelas!B:D,3,0),0),\"\")","v":0},{"$f":"IF(A17<>\"\",IFERROR(VLOOKUP(Y17,Tabelas!B:D,3,0),0),\"\")","v":0},{"$f":"IF(A17<>\"\",IFERROR(VLOOKUP(Z17,Tabelas!B:D,3,0),0),\"\")","v":0},{"$f":"IF(A17<>\"\",IFERROR(VLOOKUP(AA17,Tabelas!B:D,3,0),0),\"\")","v":0},{"$f":"IF(A17<>\"\",IFERROR(VLOOKUP(AB17,Tabelas!B:D,3,0),0),\"\")","v":0},{"$f":"IF(A17<>\"\",IFERROR(VLOOKUP(AC17,Tabelas!B:D,3,0),0),\"\")","v":0},{"$f":"IF(A17<>\"\",IFERROR(VLOOKUP(AD17,Tabelas!B:D,3,0),0),\"\")","v":0},{"$f":"IF(A17<>\"\",IFERROR(VLOOKUP(AE17,Tabelas!B:D,3,0),0),\"\")","v":0},{"$f":"IF(A17<>\"\",IFERROR(VLOOKUP(AF17,Tabelas!B:D,3,0),0),\"\")","v":0},{"$f":"IF(A17<>\"\",IFERROR(VLOOKUP(AG17,Tabelas!B:D,3,0),0),\"\")","v":0},{"$f":"IF(A17<>\"\",IFERROR(VLOOKUP(AH17,Tabelas!B:D,3,0),0),\"\")","v":0},{"$f":"IF(A17<>\"\",IFERROR(VLOOKUP(AI17,Tabelas!B:D,3,0),0),\"\")","v":0},{"$f":"IF(A17<>\"\",IFERROR(VLOOKUP(AJ17,Tabelas!B:D,3,0),0),\"\")","v":0},{"$f":"IF(A17<>\"\",IFERROR(VLOOKUP(AK17,Tabelas!B:D,3,0),0),\"\")","v":0},{"$f":"IF(A17<>\"\",IFERROR(VLOOKUP(AL17,Tabelas!B:D,3,0),0),\"\")","v":0},{"$f":"IF(A17<>\"\",IFERROR(VLOOKUP(AM17,Tabelas!B:D,3,0),0),\"\")","v":0},{"$f":"IF(A17<>\"\",IFERROR(VLOOKUP(AN17,Tabelas!B:D,3,0),0),\"\")","v":0},{"$f":"IF(A17<>\"\",IFERROR(VLOOKUP(AO17,Tabelas!B:D,3,0),0),\"\")","v":0},{"$f":"IF(A17<>\"\",IFERROR(VLOOKUP(AP17,Tabelas!B:D,3,0),0),\"\")","v":0},{"$f":"IF(A17<>\"\",IFERROR(VLOOKUP(AQ17,Tabelas!B:D,3,0),0),\"\")","v":0},{"$f":"IF(A17<>\"\",IFERROR(VLOOKUP(AR17,Tabelas!B:D,3,0),0),\"\")","v":0},0,0,0,0,0,0,0,0,{"$f":"IF(A17<>\"\",COUNTIF(N17:AR17,\"APH\"),\"\")","v":0}]
["Daniele C. Perin",1900563,123,"ENF","Ebserh",36,null,null,null,null,null,null,null,null,null,null,null,null,null,null,null,null,null,null,null,null,null,null,null,null,null,null,null,null,null,null,null,null,null,null,null,null,null,null,{"$f":"IF(A18<>\"\",IFERROR(VLOOKUP(N18,Tabelas!B:D,3,0),0),\"\")","v":0},{"$f":"IF(A18<>\"\",IFERROR(VLOOKUP(O18,Tabelas!B:D,3,0),0),\"\")","v":0},{"$f":"IF(A18<>\"\",IFERROR(VLOOKUP(P18,Tabelas!B:D,3,0),0),\"\")","v":0},{"$f":"IF(A18<>\"\",IFERROR(VLOOKUP(Q18,Tabelas!B:D,3,0),0),\"\")","v":0},{"$f":"IF(A18<>\"\",IFERROR(VLOOKUP(R18,Tabelas!B:D,3,0),0),\"\")","v":0},{"$f":"IF(A18<>\"\",IFERROR(VLOOKUP(S18,Tabelas!B:D,3,0),0),\"\")","v":0},{"$f":"IF(A18<>\"\",IFERROR(VLOOKUP(T18,Tabelas!B:D,3,0),0),\"\")","v":0},{"$f":"IF(A18<>\"\",IFERROR(VLOOKUP(U18,Tabelas!B:D,3,0),0),\"\")","v":0},{"$f":"IF(A18<>\"\",IFERROR(VLOOKUP(V18,Tabelas!B:D,3,0),0),\"\")","v":0},{"$f":"IF(A18<>\"\",IFERROR(VLOOKUP(W18,Tabelas!B:D,3,0),0),\"\")","v":0},{"$f":"IF(A18<>\"\",IFERROR(VLOOKUP(X18,Tabelas!B:D,3,0),0),\"\")","v":0},{"$f":"IF(A18<>\"\",IFERROR(VLOOKUP(Y18,Tabelas!B:D,3,0),0),\"\")","v":0},{"$f":"IF(A18<>\"\",IFERROR(VLOOKUP(Z18,Tabelas!B:D,3,0),0),\"\")","v":0},{"$f":"IF(A18<>\"\",IFERROR(VLOOKUP(AA18,Tabelas!B:D,3,0),0),\"\")","v":0},{"$f":"IF(A18<>\"\",IFERROR(VLOOKUP(AB18,Tabelas!B:D,3,0),0),\"\")","v":0},{"$f":"IF(A18<>\"\",IFERROR(VLOOKUP(AC18,Tabelas!B:D,3,0),0),\"\")","v":0},{"$f":"IF(A18<>\"\",IFERROR(VLOOKUP(AD18,Tabelas!B:D,3,0),0),\"\")","v":0},{"$f":"IF(A18<>\"\",IFERROR(VLOOKUP(AE18,Tabelas!B:D,3,0),0),\"\")","v":0},{"$f":"IF(A18<>\"\",IFERROR(VLOOKUP(AF18,Tabelas!B:D,3,0),0),\"\")","v":0},{"$f":"IF(A18<>\"\",IFERROR(VLOOKUP(AG18,Tabelas!B:D,3,0),0),\"\")","v":0},{"$f":"IF(A18<>\"\",IFERROR(VLOOKUP(AH18,Tabelas!B:D,3,0),0),\"\")","v":0},{"$f":"IF(A18<>\"\",IFERROR(VLOOKUP(AI18,Tabelas!B:D,3,0),0),\"\")","v":0},{"$f":"IF(A18<>\"\",IFERROR(VLOOKUP(AJ18,Tabelas!B:D,3,0),0),\"\")","v":0},{"$f":"IF(A18<>\"\",IFERROR(VLOOKUP(AK18,Tabelas!B:D,3,0),0),\"\")","v":0},{"$f":"IF(A18<>\"\",IFERROR(VLOOKUP(AL18,Tabelas!B:D,3,0),0),\"\")","v":0},{"$f":"IF(A18<>\"\",IFERROR(VLOOKUP(AM18,Tabelas!B:D,3,0),0),\"\")","v":0},{"$f":"IF(A18<>\"\",IFERROR(VLOOKUP(AN18,Tabelas!B:D,3,0),0),\"\")","v":0},{"$f":"IF(A18<>\"\",IFERROR(VLOOKUP(AO18,Tabelas!B:D,3,0),0),\"\")","v":0},{"$f":"IF(A18<>\"\",IFERROR(VLOOKUP(AP18,Tabelas!B:D,3,0),0),\"\")","v":0},{"$f":"IF(A18<>\"\",IFERROR(VLOOKUP(AQ18,Tabelas!B:D,3,0),0),\"\")","v":0},{"$f":"IF(A18<>\"\",IFERROR(VLOOKUP(AR18,Tabelas!B:D,3,0),0),\"\")","v":0},0,0,0,0,0,0,0,0,{"$f":"IF(A18<>\"\",COUNTIF(N18:AR18,\"APH\"),\"\")","v":0}]
["Vanessa D. Barros",null,123,"ENF","Ebserh",36,null,null,null,null,null,null,null,null,null,null,null,null,null,null,null,null,null,null,null,null,null,null,null,null,null,null,null,null,null,null,null,null,null,null,null,null,null,null,{"$f":"IF(A19<>\"\",IFERROR(VLOOKUP(N19,Tabelas!B:D,3,0),0),\"\")","v":0},{"$f":"IF(A19<>\"\",IFERROR(VLOOKUP(O19,Tabelas!B:D,3,0),0),\"\")","v":0},{"$f":"IF(A19<>\"\",IFERROR(VLOOKUP(P19,Tabelas!B:D,3,0),0),\"\")","v":0},{"$f":"IF(A19<>\"\",IFERROR(VLOOKUP(Q19,Tabelas!B:D,3,0),0),\"\")","v":0},{"$f":"IF(A19<>\"\",IFERROR(VLOOKUP(R19,Tabelas!B:D,3,0),0),\"\")","v":0},{"$f":"IF(A19<>\"\",IFERROR(VLOOKUP(S19,Tabelas!B:D,3,0),0),\"\")","v":0},{"$f":"IF(A19<>\"\",IFERROR(VLOOKUP(T19,Tabelas!B:D,3,0),0),\"\")","v":0},{"$f":"IF(A19<>\"\",IFERROR(VLOOKUP(U19,Tabelas!B:D,3,0),0),\"\")","v":0},{"$f":"IF(A19<>\"\",IFERROR(VLOOKUP(V19,Tabelas!B:D,3,0),0),\"\")","v":0},{"$f":"IF(A19<>\"\",IFERROR(VLOOKUP(W19,Tabelas!B:D,3,0),0),\"\")","v":0},{"$f":"IF(A19<>\"\",IFERROR(VLOOKUP(X19,Tabelas!B:D,3,0),0),\"\")","v":0},{"$f":"IF(A19<>\"\",IFERROR(VLOOKUP(Y19,Tabelas!B:D,3,0),0),\"\")","v":0},{"$f":"IF(A19<>\"\",IFERROR(VLOOKUP(Z19,Tabelas!B:D,3,0),0),\"\")","v":0},{"$f":"IF(A19<>\"\",IFERROR(VLOOKUP(AA19,Tabelas!B:D,3,0),0),\"\")","v":0},{"$f":"IF(A19<>\"\",IFERROR(VLOOKUP(AB19,Tabelas!B:D,3,0),0),\"\")","v":0},{"$f":"IF(A19<>\"\",IFERROR(VLOOKUP(AC19,Tabelas!B:D,3,0),0),\"\")","v":0},{"$f":"IF(A19<>\"\",IFERROR(VLOOKUP(AD19,Tabelas!B:D,3,0),0),\"\")","v":0},{"$f":"IF(A19<>\"\",IFERROR(VLOOKUP(AE19,Tabelas!B:D,3,0),0),\"\")","v":0},{"$f":"IF(A19<>\"\",IFERROR(VLOOKUP(AF19,Tabelas!B:D,3,0),0),\"\")","v":0},{"$f":"IF(A19<>\"\",IFERROR(VLOOKUP(AG19,Tabelas!B:D,3,0),0),\"\")","v":0},{"$f":"IF(A19<>\"\",IFERROR(VLOOKUP(AH19,Tabelas!B:D,3,0),0),\"\")","v":0},{"$f":"IF(A19<>\"\",IFERROR(VLOOKUP(AI19,Tabelas!B:D,3,0),0),\"\")","v":0},{"$f":"IF(A19<>\"\",IFERROR(VLOOKUP(AJ19,Tabelas!B:D,3,0),0),\"\")","v":0},{"$f":"IF(A19<>\"\",IFERROR(VLOOKUP(AK19,Tabelas!B:D,3,0),0),\"\")","v":0},{"$f":"IF(A19<>\"\",IFERROR(VLOOKUP(AL19,Tabelas!B:D,3,0),0),\"\")","v":0},{"$f":"IF(A19<>\"\",IFERROR(VLOOKUP(AM19,Tabelas!B:D,3,0),0),\"\")","v":0},{"$f":"IF(A19<>\"\",IFERROR(VLOOKUP(AN19,Tabelas!B:D,3,0),0),\"\")","v":0},{"$f":"IF(A19<>\"\",IFERROR(VLOOKUP(AO19,Tabelas!B:D,3,0),0),\"\")","v":0},{"$f":"IF(A19<>\"\",IFERROR(VLOOKUP(AP19,Tabelas!B:D,3,0),0),\"\")","v":0},{"$f":"IF(A19<>\"\",IFERROR(VLOOKUP(AQ19,Tabelas!B:D,3,0),0),\"\")","v":0},{"$f":"IF(A19<>\"\",IFERROR(VLOOKUP(AR19,Tabelas!B:D,3,0),0),\"\")","v":0},0,0,0,0,0,0,0,0,{"$f":"IF(A19<>\"\",COUNTIF(N19:AR19,\"APH\"),\"\")","v":0}]
["Francijane A. Costa",1234567,123,"ENF","Ebserh",36,null,null,null,null,null,null,null,null,null,null,null,null,null,null,null,null,null,null,null,null,null,null,null,null,null,null,null,null,null,null,null,null,null,null,null,null,null,null,{"$f":"IF(A20<>\"\",IFERROR(VLOOKUP(N20,Tabelas!B:D,3,0),0),\"\")","v":0},{"$f":"IF(A20<>\"\",IFERROR(VLOOKUP(O20,Tabelas!B:D,3,0),0),\"\")","v":0},{"$f":"IF(A20<>\"\",IFERROR(VLOOKUP(P20,Tabelas!B:D,3,0),0),\"\")","v":0},{"$f":"IF(A20<>\"\",IFERROR(VLOOKUP(Q20,Tabelas!B:D,3,0),0),\"\")","v":0},{"$f":"IF(A20<>\"\",IFERROR(VLOOKUP(R20,Tabelas!B:D,3,0),0),\"\")","v":0},{"$f":"IF(A20<>\"\",IFERROR(VLOOKUP(S20,Tabelas!B:D,3,0),0),\"\")","v":0},{"$f":"IF(A20<>\"\",IFERROR(VLOOKUP(T20,Tabelas!B:D,3,0),0),\"\")","v":0},{"$f":"IF(A20<>\"\",IFERROR(VLOOKUP(U20,Tabelas!B:D,3,0),0),\"\")","v":0},{"$f":"IF(A20<>\"\",IFERROR(VLOOKUP(V20,Tabelas!B:D,3,0),0),\"\")","v":0},{"$f":"IF(A20<>\"\",IFERROR(VLOOKUP(W20,Tabelas!B:D,3,0),0),\"\")","v":0},{"$f":"IF(A20<>\"\",IFERROR(VLOOKUP(X20,Tabelas!B:D,3,0),0),\"\")","v":0},{"$f":"IF(A20<>\"\",IFERROR(VLOOKUP(Y20,Tabelas!B:D,3,0),0),\"\")","v":0},{"$f":"IF(A20<>\"\",IFERROR(VLOOKUP(Z20,Tabelas!B:D,3,0),0),\"\")","v":0},{"$f":"IF(A20<>\"\",IFERROR(VLOOKUP(AA20,Tabelas!B:D,3,0),0),\"\")","v":0},{"$f":"IF(A20<>\"\",IFERROR(VLOOKUP(AB20,Tabelas!B:D,3,0),0),\"\")","v":0},{"$f":"IF(A20<>\"\",IFERROR(VLOOKUP(AC20,Tabelas!B:D,3,0),0),\"\")","v":0},{"$f":"IF(A20<>\"\",IFERROR(VLOOKUP(AD20,Tabelas!B:D,3,0),0),\"\")","v":0},{"$f":"IF(A20<>\"\",IFERROR(VLOOKUP(AE20,Tabelas!B:D,3,0),0),\"\")","v":0},{"$f":"IF(A20<>\"\",IFERROR(VLOOKUP(AF20,Tabelas!B:D,3,0),0),\"\")","v":0},{"$f":"IF(A20<>\"\",IFERROR(VLOOKUP(AG20,Tabelas!B:D,3,0),0),\"\")","v":0},{"$f":"IF(A20<>\"\",IFERROR(VLOOKUP(AH20,Tabelas!B:D,3,0),0),\"\")","v":0},{"$f":"IF(A20<>\"\",IFERROR(VLOOKUP(AI20,Tabelas!B:D,3,0),0),\"\")","v":0},{"$f":"IF(A20<>\"\",IFERROR(VLOOKUP(AJ20,Tabelas!B:D,3,0),0),\"\")","v":0},{"$f":"IF(A20<>\"\",IFERROR(VLOOKUP(AK20,Tabelas!B:D,3,0),0),\"\")","v":0},{"$f":"IF(A20<>\"\",IFERROR(VLOOKUP(AL20,Tabelas!B:D,3,0),0),\"\")","v":0},{"$f":"IF(A20<>\"\",IFERROR(VLOOKUP(AM20,Tabelas!B:D,3,0),0),\"\")","v":0},{"$f":"IF(A20<>\"\",IFERROR(VLOOKUP(AN20,Tabelas!B:D,3,0),0),\"\")","v":0},{"$f":"IF(A20<>\"\",IFERROR(VLOOKUP(AO20,Tabelas!B:D,3,0),0),\"\")","v":0},{"$f":"IF(A20<>\"\",IFERROR(VLOOKUP(AP20,Tabelas!B:D,3,0),0),\"\")","v":0},{"$f":"IF(A20<>\"\",IFERROR(VLOOKUP(AQ20,Tabelas!B:D,3,0),0),\"\")","v":0},{"$f":"IF(A20<>\"\",IFERROR(VLOOKUP(AR20,Tabelas!B:D,3,0),0),\"\")","v":0},0,0,0,0,0,0,0,0,{"$f":"IF(A20<>\"\",COUNTIF(N20:AR20,\"APH\"),\"\")","v":0}]
["Noturno 1",null,null,null,null,null,null,null,null,null,null,null,null,null,null,null,null,null,null,null,null,null,null,null,null,null,null,null,null,null,null,null,null,null,null,null,null,null,null,null,null,null,null,null,null,null,null,null,null,null,null,null,null,null,null,null,null,null,null,null,null,null,null,null,null,null,null,null,null,null,null,null,null,null,null,null,0,0,0,0,0,0,0,0]
["Janeide F. de Mello",1160014,123,"ENF","Ebserh",36,null,null,null,null,null,null,null,null,null,null,null,null,null,null,null,null,null,null,null,null,null,null,null,null,null,null,null,null,null,null,null,null,null,null,null,null,null,null,{"$f":"IF(A22<>\"\",IFERROR(VLOOKUP(N22,Tabelas!B:D,3,0),0),\"\")","v":0},{"$f":"IF(A22<>\"\",IFERROR(VLOOKUP(O22,Tabelas!B:D,3,0),0),\"\")","v":0},{"$f":"IF(A22<>\"\",IFERROR(VLOOKUP(P22,Tabelas!B:D,3,0),0),\"\")","v":0},{"$f":"IF(A22<>\"\",IFERROR(VLOOKUP(Q22,Tabelas!B:D,3,0),0),\"\")","v":0},{"$f":"IF(A22<>\"\",IFERROR(VLOOKUP(R22,Tabelas!B:D,3,0),0),\"\")","v":0},{"$f":"IF(A22<>\"\",IFERROR(VLOOKUP(S22,Tabelas!B:D,3,0),0),\"\")","v":0},{"$f":"IF(A22<>\"\",IFERROR(VLOOKUP(T22,Tabelas!B:D,3,0),0),\"\")","v":0},{"$f":"IF(A22<>\"\",IFERROR(VLOOKUP(U22,Tabelas!B:D,3,0),0),\"\")","v":0},{"$f":"IF(A22<>\"\",IFERROR(VLOOKUP(V22,Tabelas!B:D,3,0),0),\"\")","v":0},{"$f":"IF(A22<>\"\",IFERROR(VLOOKUP(W22,Tabelas!B:D,3,0),0),\"\")","v":0},{"$f":"IF(A22<>\"\",IFERROR(VLOOKUP(X22,Tabelas!B:D,3,0),0),\"\")","v":0},{"$f":"IF(A22<>\"\",IFERROR(VLOOKUP(Y22,Tabelas!B:D,3,0),0),\"\")","v":0},{"$f":"IF(A22<>\"\",IFERROR(VLOOKUP(Z22,Tabelas!B:D,3,0),0),\"\")","v":0},{"$f":"IF(A22<>\"\",IFERROR(VLOOKUP(AA22,Tabelas!B:D,3,0),0),\"\")","v":0},{"$f":"IF(A22<>\"\",IFERROR(VLOOKUP(AB22,Tabelas!B:D,3,0),0),\"\")","v":0},{"$f":"IF(A22<>\"\",IFERROR(VLOOKUP(AC22,Tabelas!B:D,3,0),0),\"\")","v":0},{"$f":"IF(A22<>\"\",IFERROR(VLOOKUP(AD22,Tabelas!B:D,3,0),0),\"\")","v":0},{"$f":"IF(A22<>\"\",IFERROR(VLOOKUP(AE22,Tabelas!B:D,3,0),0),\"\")","v":0},{"$f":"IF(A22<>\"\",IFERROR(VLOOKUP(AF22,Tabelas!B:D,3,0),0),\"\")","v":0},{"$f":"IF(A22<>\"\",IFERROR(VLOOKUP(AG22,Tabelas!B:D,3,0),0),\"\")","v":0},{"$f":"IF(A22<>\"\",IFERROR(VLOOKUP(AH22,Tabelas!B:D,3,0),0),\"\")","v":0},{"$f":"IF(A22<>\"\",IFERROR(VLOOKUP(AI22,Tabelas!B:D,3,0),0),\"\")","v":0},{"$f":"IF(A22<>\"\",IFERROR(VLOOKUP(AJ22,Tabelas!B:D,3,0),0),\"\")","v":0},{"$f":"IF(A22<>\"\",IFERROR(VLOOKUP(AK22,Tabelas!B:D,3,0),0),\"\")","v":0},{"$f":"IF(A22<>\"\",IFERROR(VLOOKUP(AL22,Tabelas!B:D,3,0),0),\"\")","v":0},{"$f":"IF(A22<>\"\",IFERROR(VLOOKUP(AM22,Tabelas!B:D,3,0),0),\"\")","v":0},{"$f":"IF(A22<>\"\",IFERROR(VLOOKUP(AN22,Tabelas!B:D,3,0),0),\"\")","v":0},{"$f":"IF(A22<>\"\",IFERROR(VLOOKUP(AO22,Tabelas!B:D,3,0),0),\"\")","v":0},{"$f":"IF(A22<>\"\",IFERROR(VLOOKUP(AP22,Tabelas!B:D,3,0),0),\"\")","v":0},{"$f":"IF(A22<>\"\",IFERROR(VLOOKUP(AQ22,Tabelas!B:D,3,0),0),\"\")","v":0},{"$f":"IF(A22<>\"\",IFERROR(VLOOKUP(AR22,Tabelas!B:D,3,0),0),\"\")","v":0},0,0,0,0,0,0,0,0,{"$f":"IF(A22<>\"\",COUNTIF(N22:AR22,\"APH\"),\"\")","v":0}]
["Sabrina Guterres",3767570,123,"ENF","Ebserh",36,null,null,null,null,null,null,null,null,null,null,null,null,null,null,null,null,null,null,null,null,null,null,null,null,null,null,null,null,null,null,null,null,null,null,null,null,null,null,{"$f":"IF(A23<>\"\",IFERROR(VLOOKUP(N23,Tabelas!B:D,3,0),0),\"\")","v":0},{"$f":"IF(A23<>\"\",IFERROR(VLOOKUP(O23,Tabelas!B:D,3,0),0),\"\")","v":0},{"$f":"IF(A23<>\"\",IFERROR(VLOOKUP(P23,Tabelas!B:D,3,0),0),\"\")","v":0},{"$f":"IF(A23<>\"\",IFERROR(VLOOKUP(Q23,Tabelas!B:D,3,0),0),\"\")","v":0},{"$f":"IF(A23<>\"\",IFERROR(VLOOKUP(R23,Tabelas!B:D,3,0),0),\"\")","v":0},{"$f":"IF(A23<>\"\",IFERROR(VLOOKUP(S23,Tabelas!B:D,3,0),0),\"\")","v":0},{"$f":"IF(A23<>\"\",IFERROR(VLOOKUP(T23,Tabelas!B:D,3,0),0),\"\")","v":0},{"$f":"IF(A23<>\"\",IFERROR(VLOOKUP(U23,Tabelas!B:D,3,0),0),\"\")","v":0},{"$f":"IF(A23<>\"\",IFERROR(VLOOKUP(V23,Tabelas!B:D,3,0),0),\"\")","v":0},{"$f":"IF(A23<>\"\",IFERROR(VLOOKUP(W23,Tabelas!B:D,3,0),0),\"\")","v":0},{"$f":"IF(A23<>\"\",IFERROR(VLOOKUP(X23,Tabelas!B:D,3,0),0),\"\")","v":0},{"$f":"IF(A23<>\"\",IFERROR(VLOOKUP(Y23,Tabelas!B:D,3,0),0),\"\")","v":0},{"$f":"IF(A23<>\"\",IFERROR(VLOOKUP(Z23,Tabelas!B:D,3,0),0),\"\")","v":0},{"$f":"IF(A23<>\"\",IFERROR(VLOOKUP(AA23,Tabelas!B:D,3,0),0),\"\")","v":0},{"$f":"IF(A23<>\"\",IFERROR(VLOOKUP(AB23,Tabelas!B:D,3,0),0),\"\")","v":0},{"$f":"IF(A23<>\"\",IFERROR(VLOOKUP(AC23,Tabelas!B:D,3,0),0),\"\")","v":0},{"$f":"IF(A23<>\"\",IFERROR(VLOOKUP(AD23,Tabelas!B:D,3,0),0),\"\")","v":0},{"$f":"IF(A23<>\"\",IFERROR(VLOOKUP(AE23,Tabelas!B:D,3,0),0),\"\")","v":0},{"$f":"IF(A23<>\"\",IFERROR(VLOOKUP(AF23,Tabelas!B:D,3,0),0),\"\")","v":0},{"$f":"IF(A23<>\"\",IFERROR(VLOOKUP(AG23,Tabelas!B:D,3,0),0),\"\")","v":0},{"$f":"IF(A23<>\"\",IFERROR(VLOOKUP(AH23,Tabelas!B:D,3,0),0),\"\")","v":0},{"$f":"IF(A23<>\"\",IFERROR(VLOOKUP(AI23,Tabelas!B:D,3,0),0),\"\")","v":0},{"$f":"IF(A23<>\"\",IFERROR(VLOOKUP(AJ23,Tabelas!B:D,3,0),0),\"\")","v":0},{"$f":"IF(A23<>\"\",IFERROR(VLOOKUP(AK23,Tabelas!B:D,3,0),0),\"\")","v":0},{"$f":"IF(A23<>\"\",IFERROR(VLOOKUP(AL23,Tabelas!B:D,3,0),0),\"\")","v":0},{"$f":"IF(A23<>\"\",IFERROR(VLOOKUP(AM23,Tabelas!B:D,3,0),0),\"\")","v":0},{"$f":"IF(A23<>\"\",IFERROR(VLOOKUP(AN23,Tabelas!B:D,3,0),0),\"\")","v":0},{"$f":"IF(A23<>\"\",IFERROR(VLOOKUP(AO23,Tabelas!B:D,3,0),0),\"\")","v":0},{"$f":"IF(A23<>\"\",IFERROR(VLOOKUP(AP23,Tabelas!B:D,3,0),0),\"\")","v":0},{"$f":"IF(A23<>\"\",IFERROR(VLOOKUP(AQ23,Tabelas!B:D,3,0),0),\"\")","v":0},{"$f":"IF(A23<>\"\",IFERROR(VLOOKUP(AR23,Tabelas!B:D,3,0),0),\"\")","v":0},0,0,0,0,0,0,0,0,{"$f":"IF(A23<>\"\",COUNTIF(N23:AR23,\"APH\"),\"\")","v":0}]
["Noturno 2",null,null,null,null,null,null,null,null,null,null,null,null,null,null,null,null,null,null,null,null,null,null,null,null,null,null,null,null,null,null,null,null,null,null,null,null,null,null,null,null,null,null,null,null,null,null,null,null,null,null,null,null,null,null,null,null,null,null,null,null,null,null,null,null,null,null,null,null,null,null,null,null,null,null,null,0,0,0,0,0,0,0,0]
["Fabiana M. de Pinho",1234567,123,"ENF","Ebserh",36,null,null,null,null,null,null,null,null,null,null,null,null,null,null,null,null,null,null,null,null,null,null,null,null,null,null,null,null,null,null,null,null,null,null,null,null,null,null,{"$f":"IF(A25<>\"\",IFERROR(VLOOKUP(N25,Tabelas!B:D,3,0),0),\"\")","v":0},{"$f":"IF(A25<>\"\",IFERROR(VLOOKUP(O25,Tabelas!B:D,3,0),0),\"\")","v":0},{"$f":"IF(A25<>\"\",IFERROR(VLOOKUP(P25,Tabelas!B:D,3,0),0),\"\")","v":0},{"$f":"IF(A25<>\"\",IFERROR(VLOOKUP(Q25,Tabelas!B:D,3,0),0),\"\")","v":0},{"$f":"IF(A25<>\"\",IFERROR(VLOOKUP(R25,Tabelas!B:D,3,0),0),\"\")","v":0},{"$f":"IF(A25<>\"\",IFERROR(VLOOKUP(S25,Tabelas!B:D,3,0),0),\"\")","v":0},{"$f":"IF(A25<>\"\",IFERROR(VLOOKUP(T25,Tabelas!B:D,3,0),0),\"\")","v":0},{"$f":"IF(A25<>\"\",IFERROR(VLOOKUP(U25,Tabelas!B:D,3,0),0),\"\")","v":0},{"$f":"IF(A25<>\"\",IFERROR(VLOOKUP(V25,Tabelas!B:D,3,0),0),\"\")","v":0},{"$f":"IF(A25<>\"\",IFERROR(VLOOKUP(W25,Tabelas!B:D,3,0),0),\"\")","v":0},{"$f":"IF(A25<>\"\",IFERROR(VLOOKUP(X25,Tabelas!B:D,3,0),0),\"\")","v":0},{"$f":"IF(A25<>\"\",IFERROR(VLOOKUP(Y25,Tabelas!B:D,3,0),0),\"\")","v":0},{"$f":"IF(A25<>\"\",IFERROR(VLOOKUP(Z25,Tabelas!B:D,3,0),0),\"\")","v":0},{"$f":"IF(A25<>\"\",IFERROR(VLOOKUP(AA25,Tabelas!B:D,3,0),0),\"\")","v":0},{"$f":"IF(A25<>\"\",IFERROR(VLOOKUP(AB25,Tabelas!B:D,3,0),0),\"\")","v":0},{"$f":"IF(A25<>\"\",IFERROR(VLOOKUP(AC25,Tabelas!B:D,3,0),0),\"\")","v":0},{"$f":"IF(A25<>\"\",IFERROR(VLOOKUP(AD25,Tabelas!B:D,3,0),0),\"\")","v":0},{"$f":"IF(A25<>\"\",IFERROR(VLOOKUP(AE25,Tabelas!B:D,3,0),0),\"\")","v":0},{"$f":"IF(A25<>\"\",IFERROR(VLOOKUP(AF25,Tabelas!B:D,3,0),0),\"\")","v":0},{"$f":"IF(A25<>\"\",IFERROR(VLOOKUP(AG25,Tabelas!B:D,3,0),0),\"\")","v":0},{"$f":"IF(A25<>\"\",IFERROR(VLOOKUP(AH25,Tabelas!B:D,3,0),0),\"\")","v":0},{"$f":"IF(A25<>\"\",IFERROR(VLOOKUP(AI25,Tabelas!B:D,3,0),0),\"\")","v":0},{"$f":"IF(A25<>\"\",IFERROR(VLOOKUP(AJ25,Tabelas!B:D,3,0),0),\"\")","v":0},{"$f":"IF(A25<>\"\",IFERROR(VLOOKUP(AK25,Tabelas!B:D,3,0),0),\"\")","v":0},{"$f":"IF(A25<>\"\",IFERROR(VLOOKUP(AL25,Tabelas!B:D,3,0),0),\"\")","v":0},{"$f":"IF(A25<>\"\",IFERROR(VLOOKUP(AM25,Tabelas!B:D,3,0),0),\"\")","v":0},{"$f":"IF(A25<>\"\",IFERROR(VLOOKUP(AN25,Tabelas!B:D,3,0),0),\"\")","v":0},{"$f":"IF(A25<>\"\",IFERROR(VLOOKUP(AO25,Tabelas!B:D,3,0),0),\"\")","v":0},{"$f":"IF(A25<>\"\",IFERROR(VLOOKUP(AP25,Tabelas!B:D,3,0),0),\"\")","v":0},{"$f":"IF(A25<>\"\",IFERROR(VLOOKUP(AQ25,Tabelas!B:D,3,0),0),\"\")","v":0},{"$f":"IF(A25<>\"\",IFERROR(VLOOKUP(AR25,Tabelas!B:D,3,0),0),\"\")","v":0},0,0,0,0,0,0,0,0,0]
["Noturno 3",null,null,null,null,null,null,null,null,null,null,null,null,null,null,null,null,null,null,null,null,null,null,null,null,null,null,null,null,null,null,null,null,null,null,null,null,null,null,null,null,null,null,null,null,null,null,null,null,null,null,null,null,null,null,null,null,null,null,null,null,null,null,null,null,null,null,null,null,null,null,null,null,null,null,null,0,0,0,0,0,0,0,0]
["Berenice Rubik",2551350,123,"ENF","Ebserh",36,null,null,null,null,null,null,null,null,null,null,null,null,null,null,null,null,null,null,null,null,null,null,null,null,null,null,null,null,null,null,null,null,null,null,null,null,null,null,{"$f":"IF(A27<>\"\",IFERROR(VLOOKUP(N27,Tabelas!B:D,3,0),0),\"\")","v":0},{"$f":"IF(A27<>\"\",IFERROR(VLOOKUP(O27,Tabelas!B:D,3,0),0),\"\")","v":0},{"$f":"IF(A27<>\"\",IFERROR(VLOOKUP(P27,Tabelas!B:D,3,0),0),\"\")","v":0},{"$f":"IF(A27<>\"\",IFERROR(VLOOKUP(Q27,Tabelas!B:D,3,0),0),\"\")","v":0},{"$f":"IF(A27<>\"\",IFERROR(VLOOKUP(R27,Tabelas!B:D,3,0),0),\"\")","v":0},{"$f":"IF(A27<>\"\",IFERROR(VLOOKUP(S27,Tabelas!B:D,3,0),0),\"\")","v":0},{"$f":"IF(A27<>\"\",IFERROR(VLOOKUP(T27,Tabelas!B:D,3,0),0),\"\")","v":0},{"$f":"IF(A27<>\"\",IFERROR(VLOOKUP(U27,Tabelas!B:D,3,0),0),\"\")","v":0},{"$f":"IF(A27<>\"\",IFERROR(VLOOKUP(V27,Tabelas!B:D,3,0),0),\"\")","v":0},{"$f":"IF(A27<>\"\",IFERROR(VLOOKUP(W27,Tabelas!B:D,3,0),0),\"\")","v":0},{"$f":"IF(A27<>\"\",IFERROR(VLOOKUP(X27,Tabelas!B:D,3,0),0),\"\")","v":0},{"$f":"IF(A27<>\"\",IFERROR(VLOOKUP(Y27,Tabelas!B:D,3,0),0),\"\")","v":0},{"$f":"IF(A27<>\"\",IFERROR(VLOOKUP(Z27,Tabelas!B:D,3,0),0),\"\")","v":0},{"$f":"IF(A27<>\"\",IFERROR(VLOOKUP(AA27,Tabelas!B:D,3,0),0),\"\")","v":0},{"$f":"IF(A27<>\"\",IFERROR(VLOOKUP(AB27,Tabelas!B:D,3,0),0),\"\")","v":0},{"$f":"IF(A27<>\"\",IFERROR(VLOOKUP(AC27,Tabelas!B:D,3,0),0),\"\")","v":0},{"$f":"IF(A27<>\"\",IFERROR(VLOOKUP(AD27,Tabelas!B:D,3,0),0),\"\")","v":0},{"$f":"IF(A27<>\"\",IFERROR(VLOOKUP(AE27,Tabelas!B:D,3,0),0),\"\")","v":0},{"$f":"IF(A27<>\"\",IFERROR(VLOOKUP(AF27,Tabelas!B:D,3,0),0),\"\")","v":0},{"$f":"IF(A27<>\"\",IFERROR(VLOOKUP(AG27,Tabelas!B:D,3,0),0),\"\")","v":0},{"$f":"IF(A27<>\"\",IFERROR(VLOOKUP(AH27,Tabelas!B:D,3,0),0),\"\")","v":0},{"$f":"IF(A27<>\"\",IFERROR(VLOOKUP(AI27,Tabelas!B:D,3,0),0),\"\")","v":0},{"$f":"IF(A27<>\"\",IFERROR(VLOOKUP(AJ27,Tabelas!B:D,3,0),0),\"\")","v":0},{"$f":"IF(A27<>\"\",IFERROR(VLOOKUP(AK27,Tabelas!B:D,3,0),0),\"\")","v":0},{"$f":"IF(A27<>\"\",IFERROR(VLOOKUP(AL27,Tabelas!B:D,3,0),0),\"\")","v":0},{"$f":"IF(A27<>\"\",IFERROR(VLOOKUP(AM27,Tabelas!B:D,3,0),0),\"\")","v":0},{"$f":"IF(A27<>\"\",IFERROR(VLOOKUP(AN27,Tabelas!B:D,3,0),0),\"\")","v":0},{"$f":"IF(A27<>\"\",IFERROR(VLOOKUP(AO27,Tabelas!B:D,3,0),0),\"\")","v":0},{"$f":"IF(A27<>\"\",IFERROR(VLOOKUP(AP27,Tabelas!B:D,3,0),0),\"\")","v":0},{"$f":"IF(A27<>\"\",IFERROR(VLOOKUP(AQ27,Tabelas!B:D,3,0),0),\"\")","v":0},{"$f":"IF(A27<>\"\",IFERROR(VLOOKUP(AR27,Tabelas!B:D,3,0),0),\"\")","v":0},0,0,0,0,0,0,0,0,0]
["Giselle B. da Rosa",2423163,123,"ENF","Ebserh",36,null,null,null,null,null,null,null,null,null,null,null,null,null,null,null,null,null,null,null,null,null,null,null,null,null,null,null,null,null,null,null,null,null,null,null,null,null,null,{"$f":"IF(A28<>\"\",IFERROR(VLOOKUP(N28,Tabelas!B:D,3,0),0),\"\")","v":0},{"$f":"IF(A28<>\"\",IFERROR(VLOOKUP(O28,Tabelas!B:D,3,0),0),\"\")","v":0},{"$f":"IF(A28<>\"\",IFERROR(VLOOKUP(P28,Tabelas!B:D,3,0),0),\"\")","v":0},{"$f":"IF(A28<>\"\",IFERROR(VLOOKUP(Q28,Tabelas!B:D,3,0),0),\"\")","v":0},{"$f":"IF(A28<>\"\",IFERROR(VLOOKUP(R28,Tabelas!B:D,3,0),0),\"\")","v":0},{"$f":"IF(A28<>\"\",IFERROR(VLOOKUP(S28,Tabelas!B:D,3,0),0),\"\")","v":0},{"$f":"IF(A28<>\"\",IFERROR(VLOOKUP(T28,Tabelas!B:D,3,0),0),\"\")","v":0},{"$f":"IF(A28<>\"\",IFERROR(VLOOKUP(U28,Tabelas!B:D,3,0),0),\"\")","v":0},{"$f":"IF(A28<>\"\",IFERROR(VLOOKUP(V28,Tabelas!B:D,3,0),0),\"\")","v":0},{"$f":"IF(A28<>\"\",IFERROR(VLOOKUP(W28,Tabelas!B:D,3,0),0),\"\")","v":0},{"$f":"IF(A28<>\"\",IFERROR(VLOOKUP(X28,Tabelas!B:D,3,0),0),\"\")","v":0},{"$f":"IF(A28<>\"\",IFERROR(VLOOKUP(Y28,Tabelas!B:D,3,0),0),\"\")","v":0},{"$f":"IF(A28<>\"\",IFERROR(VLOOKUP(Z28,Tabelas!B:D,3,0),0),\"\")","v":0},{"$f":"IF(A28<>\"\",IFERROR(VLOOKUP(AA28,Tabelas!B:D,3,0),0),\"\")","v":0},{"$f":"IF(A28<>\"\",IFERROR(VLOOKUP(AB28,Tabelas!B:D,3,0),0),\"\")","v":0},{"$f":"IF(A28<>\"\",IFERROR(VLOOKUP(AC28,Tabelas!B:D,3,0),0),\"\")","v":0},{"$f":"IF(A28<>\"\",IFERROR(VLOOKUP(AD28,Tabelas!B:D,3,0),0),\"\")","v":0},{"$f":"IF(A28<>\"\",IFERROR(VLOOKUP(AE28,Tabelas!B:D,3,0),0),\"\")","v":0},{"$f":"IF(A28<>\"\",IFERROR(VLOOKUP(AF28,Tabelas!B:D,3,0),0),\"\")","v":0},{"$f":"IF(A28<>\"\",IFERROR(VLOOKUP(AG28,Tabelas!B:D,3,0),0),\"\")","v":0},{"$f":"IF(A28<>\"\",IFERROR(VLOOKUP(AH28,Tabelas!B:D,3,0),0),\"\")","v":0},{"$f":"IF(A28<>\"\",IFERROR(VLOOKUP(AI28,Tabelas!B:D,3,0),0),\"\")","v":0},{"$f":"IF(A28<>\"\",IFERROR(VLOOKUP(AJ28,Tabelas!B:D,3,0),0),\"\")","v":0},{"$f":"IF(A28<>\"\",IFERROR(VLOOKUP(AK28,Tabelas!B:D,3,0),0),\"\")","v":0},{"$f":"IF(A28<>\"\",IFERROR(VLOOKUP(AL28,Tabelas!B:D,3,0),0),\"\")","v":0},{"$f":"IF(A28<>\"\",IFERROR(VLOOKUP(AM28,Tabelas!B:D,3,0),0),\"\")","v":0},{"$f":"IF(A28<>\"\",IFERROR(VLOOKUP(AN28,Tabelas!B:D,3,0),0),\"\")","v":0},{"$f":"IF(A28<>\"\",IFERROR(VLOOKUP(AO28,Tabelas!B:D,3,0),0),\"\")","v":0},{"$f":"IF(A28<>\"\",IFERROR(VLOOKUP(AP28,Tabelas!B:D,3,0),0),\"\")","v":0},{"$f":"IF(A28<>\"\",IFERROR(VLOOKUP(AQ28,Tabelas!B:D,3,0),0),\"\")","v":0},{"$f":"IF(A28<>\"\",IFERROR(VLOOKUP(AR28,Tabelas!B:D,3,0),0),\"\")","v":0},0,0,0,0,0,0,0,0,0]
["Técnicos de Enfermagem"]
["Plantonista Diurno"]
["Luana A. Steffen",null,123,"ENF","Ebserh",36,null,null,null,null,null,null,null,null,null,null,null,null,null,null,null,null,null,null,null,null,null,null,null,null,null,null,null,null,null,null,null,null,null,null,null,null,null,null,{"$f":"IF(A31<>\"\",IFERROR(VLOOKUP(N31,Tabelas!B:D,3,0),0),\"\")","v":0},{"$f":"IF(A31<>\"\",IFERROR(VLOOKUP(O31,Tabelas!B:D,3,0),0),\"\")","v":0},{"$f":"IF(A31<>\"\",IFERROR(VLOOKUP(P31,Tabelas!B:D,3,0),0),\"\")","v":0},{"$f":"IF(A31<>\"\",IFERROR(VLOOKUP(Q31,Tabelas!B:D,3,0),0),\"\")","v":0},{"$f":"IF(A31<>\"\",IFERROR(VLOOKUP(R31,Tabelas!B:D,3,0),0),\"\")","v":0},{"$f":"IF(A31<>\"\",IFERROR(VLOOKUP(S31,Tabelas!B:D,3,0),0),\"\")","v":0},{"$f":"IF(A31<>\"\",IFERROR(VLOOKUP(T31,Tabelas!B:D,3,0),0),\"\")","v":0},{"$f":"IF(A31<>\"\",IFERROR(VLOOKUP(U31,Tabelas!B:D,3,0),0),\"\")","v":0},{"$f":"IF(A31<>\"\",IFERROR(VLOOKUP(V31,Tabelas!B:D,3,0),0),\"\")","v":0},{"$f":"IF(A31<>\"\",IFERROR(VLOOKUP(W31,Tabelas!B:D,3,0),0),\"\")","v":0},{"$f":"IF(A31<>\"\",IFERROR(VLOOKUP(X31,Tabelas!B:D,3,0),0),\"\")","v":0},{"$f":"IF(A31<>\"\",IFERROR(VLOOKUP(Y31,Tabelas!B:D,3,0),0),\"\")","v":0},{"$f":"IF(A31<>\"\",IFERROR(VLOOKUP(Z31,Tabelas!B:D,3,0),0),\"\")","v":0},{"$f":"IF(A31<>\"\",IFERROR(VLOOKUP(AA31,Tabelas!B:D,3,0),0),\"\")","v":0},{"$f":"IF(A31<>\"\",IFERROR(VLOOKUP(AB31,Tabelas!B:D,3,0),0),\"\")","v":0},{"$f":"IF(A31<>\"\",IFERROR(VLOOKUP(AC31,Tabelas!B:D,3,0),0),\"\")","v":0},{"$f":"IF(A31<>\"\",IFERROR(VLOOKUP(AD31,Tabelas!B:D,3,0),0),\"\")","v":0},{"$f":"IF(A31<>\"\",IFERROR(VLOOKUP(AE31,Tabelas!B:D,3,0),0),\"\")","v":0},{"$f":"IF(A31<>\"\",IFERROR(VLOOKUP(AF31,Tabelas!B:D,3,0),0),\"\")","v":0},{"$f":"IF(A31<>\"\",IFERROR(VLOOKUP(AG31,Tabelas!B:D,3,0),0),\"\")","v":0},{"$f":"IF(A31<>\"\",IFERROR(VLOOKUP(AH31,Tabelas!B:D,3,0),0),\"\")","v":0},{"$f":"IF(A31<>\"\",IFERROR(VLOOKUP(AI31,Tabelas!B:D,3,0),0),\"\")","v":0},{"$f":"IF(A31<>\"\",IFERROR(VLOOKUP(AJ31,Tabelas!B:D,3,0),0),\"\")","v":0},{"$f":"IF(A31<>\"\",IFERROR(VLOOKUP(AK31,Tabelas!B:D,3,0),0),\"\")","v":0},{"$f":"IF(A31<>\"\",IFERROR(VLOOKUP(AL31,Tabelas!B:D,3,0),0),\"\")","v":0},{"$f":"IF(A31<>\"\",IFERROR(VLOOKUP(AM31,Tabelas!B:D,3,0),0),\"\")","v":0},{"$f":"IF(A31<>\"\",IFERROR(VLOOKUP(AN31,Tabelas!B:D,3,0),0),\"\")","v":0},{"$f":"IF(A31<>\"\",IFERROR(VLOOKUP(AO31,Tabelas!B:D,3,0),0),\"\")","v":0},{"$f":"IF(A31<>\"\",IFERROR(VLOOKUP(AP31,Tabelas!B:D,3,0),0),\"\")","v":0},{"$f":"IF(A31<>\"\",IFERROR(VLOOKUP(AQ31,Tabelas!B:D,3,0),0),\"\")","v":0},{"$f":"IF(A31<>\"\",IFERROR(VLOOKUP(AR31,Tabelas!B:D,3,0),0),\"\")","v":0},0,0,0,0,0,0,0,0,0]
["Adriana  Miranda",1358181,123,"ENF","Ebserh",36,null,null,null,null,null,null,null,null,null,null,null,null,null,null,null,null,null,null,null,null,null,null,null,null,null,null,null,null,null,null,null,null,null,null,null,null,null,null,{"$f":"IF(A32<>\"\",IFERROR(VLOOKUP(N32,Tabelas!B:D,3,0),0),\"\")","v":0},{"$f":"IF(A32<>\"\",IFERROR(VLOOKUP(O32,Tabelas!B:D,3,0),0),\"\")","v":0},{"$f":"IF(A32<>\"\",IFERROR(VLOOKUP(P32,Tabelas!B:D,3,0),0),\"\")","v":0},{"$f":"IF(A32<>\"\",IFERROR(VLOOKUP(Q32,Tabelas!B:D,3,0),0),\"\")","v":0},{"$f":"IF(A32<>\"\",IFERROR(VLOOKUP(R32,Tabelas!B:D,3,0),0),\"\")","v":0},{"$f":"IF(A32<>\"\",IFERROR(VLOOKUP(S32,Tabelas!B:D,3,0),0),\"\")","v":0},{"$f":"IF(A32<>\"\",IFERROR(VLOOKUP(T32,Tabelas!B:D,3,0),0),\"\")","v":0},{"$f":"IF(A32<>\"\",IFERROR(VLOOKUP(U32,Tabelas!B:D,3,0),0),\"\")","v":0},{"$f":"IF(A32<>\"\",IFERROR(VLOOKUP(V32,Tabelas!B:D,3,0),0),\"\")","v":0},{"$f":"IF(A32<>\"\",IFERROR(VLOOKUP(W32,Tabelas!B:D,3,0),0),\"\")","v":0},{"$f":"IF(A32<>\"\",IFERROR(VLOOKUP(X32,Tabelas!B:D,3,0),0),\"\")","v":0},{"$f":"IF(A32<>\"\",IFERROR(VLOOKUP(Y32,Tabelas!B:D,3,0),0),\"\")","v":0},{"$f":"IF(A32<>\"\",IFERROR(VLOOKUP(Z32,Tabelas!B:D,3,0),0),\"\")","v":0},{"$f":"IF(A32<>\"\",IFERROR(VLOOKUP(AA32,Tabelas!B:D,3,0),0),\"\")","v":0},{"$f":"IF(A32<>\"\",IFERROR(VLOOKUP(AB32,Tabelas!B:D,3,0),0),\"\")","v":0},{"$f":"IF(A32<>\"\",IFERROR(VLOOKUP(AC32,Tabelas!B:D,3,0),0),\"\")","v":0},{"$f":"IF(A32<>\"\",IFERROR(VLOOKUP(AD32,Tabelas!B:D,3,0),0),\"\")","v":0},{"$f":"IF(A32<>\"\",IFERROR(VLOOKUP(AE32,Tabelas!B:D,3,0),0),\"\")","v":0},{"$f":"IF(A32<>\"\",IFERROR(VLOOKUP(AF32,Tabelas!B:D,3,0),0),\"\")","v":0},{"$f":"IF(A32<>\"\",IFERROR(VLOOKUP(AG32,Tabelas!B:D,3,0),0),\"\")","v":0},{"$f":"IF(A32<>\"\",IFERROR(VLOOKUP(AH32,Tabelas!B:D,3,0),0),\"\")","v":0},{"$f":"IF(A32<>\"\",IFERROR(VLOOKUP(AI32,Tabelas!B:D,3,0),0),\"\")","v":0},{"$f":"IF(A32<>\"\",IFERROR(VLOOKUP(AJ32,Tabelas!B:D,3,0),0),\"\")","v":0},{"$f":"IF(A32<>\"\",IFERROR(VLOOKUP(AK32,Tabelas!B:D,3,0),0),\"\")","v":0},{"$f":"IF(A32<>\"\",IFERROR(VLOOKUP(AL32,Tabelas!B:D,3,0),0),\"\")","v":0},{"$f":"IF(A32<>\"\",IFERROR(VLOOKUP(AM32,Tabelas!B:D,3,0),0),\"\")","v":0},{"$f":"IF(A32<>\"\",IFERROR(VLOOKUP(AN32,Tabelas!B:D,3,0),0),\"\")","v":0},{"$f":"IF(A32<>\"\",IFERROR(VLOOKUP(AO32,Tabelas!B:D,3,0),0),\"\")","v":0},{"$f":"IF(A32<>\"\",IFERROR(VLOOKUP(AP32,Tabelas!B:D,3,0),0),\"\")","v":0},{"$f":"IF(A32<>\"\",IFERROR(VLOOKUP(AQ32,Tabelas!B:D,3,0),0),\"\")","v":0},{"$f":"IF(A32<>\"\",IFERROR(VLOOKUP(AR32,Tabelas!B:D,3,0),0),\"\")","v":0},0,0,0,0,0,0,0,0,0]
["Rosemare Silveira",1851021,123,"ENF","Ebserh",36,null,null,null,null,null,null,null,null,null,null,null,null,null,null,null,null,null,null,null,null,null,null,null,null,null,null,null,null,null,null,null,null,null,null,null,null,null,null,{"$f":"IF(A33<>\"\",IFERROR(VLOOKUP(N33,Tabelas!B:D,3,0),0),\"\")","v":0},{"$f":"IF(A33<>\"\",IFERROR(VLOOKUP(O33,Tabelas!B:D,3,0),0),\"\")","v":0},{"$f":"IF(A33<>\"\",IFERROR(VLOOKUP(P33,Tabelas!B:D,3,0),0),\"\")","v":0},{"$f":"IF(A33<>\"\",IFERROR(VLOOKUP(Q33,Tabelas!B:D,3,0),0),\"\")","v":0},{"$f":"IF(A33<>\"\",IFERROR(VLOOKUP(R33,Tabelas!B:D,3,0),0),\"\")","v":0},{"$f":"IF(A33<>\"\",IFERROR(VLOOKUP(S33,Tabelas!B:D,3,0),0),\"\")","v":0},{"$f":"IF(A33<>\"\",IFERROR(VLOOKUP(T33,Tabelas!B:D,3,0),0),\"\")","v":0},{"$f":"IF(A33<>\"\",IFERROR(VLOOKUP(U33,Tabelas!B:D,3,0),0),\"\")","v":0},{"$f":"IF(A33<>\"\",IFERROR(VLOOKUP(V33,Tabelas!B:D,3,0),0),\"\")","v":0},{"$f":"IF(A33<>\"\",IFERROR(VLOOKUP(W33,Tabelas!B:D,3,0),0),\"\")","v":0},{"$f":"IF(A33<>\"\",IFERROR(VLOOKUP(X33,Tabelas!B:D,3,0),0),\"\")","v":0},{"$f":"IF(A33<>\"\",IFERROR(VLOOKUP(Y33,Tabelas!B:D,3,0),0),\"\")","v":0},{"$f":"IF(A33<>\"\",IFERROR(VLOOKUP(Z33,Tabelas!B:D,3,0),0),\"\")","v":0},{"$f":"IF(A33<>\"\",IFERROR(VLOOKUP(AA33,Tabelas!B:D,3,0),0),\"\")","v":0},{"$f":"IF(A33<>\"\",IFERROR(VLOOKUP(AB33,Tabelas!B:D,3,0),0),\"\")","v":0},{"$f":"IF(A33<>\"\",IFERROR(VLOOKUP(AC33,Tabelas!B:D,3,0),0),\"\")","v":0},{"$f":"IF(A33<>\"\",IFERROR(VLOOKUP(AD33,Tabelas!B:D,3,0),0),\"\")","v":0},{"$f":"IF(A33<>\"\",IFERROR(VLOOKUP(AE33,Tabelas!B:D,3,0),0),\"\")","v":0},{"$f":"IF(A33<>\"\",IFERROR(VLOOKUP(AF33,Tabelas!B:D,3,0),0),\"\")","v":0},{"$f":"IF(A33<>\"\",IFERROR(VLOOKUP(AG33,Tabelas!B:D,3,0),0),\"\")","v":0},{"$f":"IF(A33<>\"\",IFERROR(VLOOKUP(AH33,Tabelas!B:D,3,0),0),\"\")","v":0},{"$f":"IF(A33<>\"\",IFERROR(VLOOKUP(AI33,Tabelas!B:D,3,0),0),\"\")","v":0},{"$f":"IF(A33<>\"\",IFERROR(VLOOKUP(AJ33,Tabelas!B:D,3,0),0),\"\")","v":0},{"$f":"IF(A33<>\"\",IFERROR(VLOOKUP(AK33,Tabelas!B:D,3,0),0),\"\")","v":0},{"$f":"IF(A33<>\"\",IFERROR(VLOOKUP(AL33,Tabelas!B:D,3,0),0),\"\")","v":0},{"$f":"IF(A33<>\"\",IFERROR(VLOOKUP(AM33,Tabelas!B:D,3,0),0),\"\")","v":0},{"$f":"IF(A33<>\"\",IFERROR(VLOOKUP(AN33,Tabelas!B:D,3,0),0),\"\")","v":0},{"$f":"IF(A33<>\"\",IFERROR(VLOOKUP(AO33,Tabelas!B:D,3,0),0),\"\")","v":0},{"$f":"IF(A33<>\"\",IFERROR(VLOOKUP(AP33,Tabelas!B:D,3,0),0),\"\")","v":0},{"$f":"IF(A33<>\"\",IFERROR(VLOOKUP(AQ33,Tabelas!B:D,3,0),0),\"\")","v":0},{"$f":"IF(A33<>\"\",IFERROR(VLOOKUP(AR33,Tabelas!B:D,3,0),0),\"\")","v":0},0,0,0,0,0,0,0,0,0]
["Izabel F. Pauli",2246833,123,"ENF","Ebserh",36,null,null,null,null,null,null,null,null,null,null,null,null,null,null,null,null,null,null,null,null,null,null,null,null,null,null,null,null,null,null,null,null,null,null,null,null,null,null,{"$f":"IF(A34<>\"\",IFERROR(VLOOKUP(N34,Tabelas!B:D,3,0),0),\"\")","v":0},{"$f":"IF(A34<>\"\",IFERROR(VLOOKUP(O34,Tabelas!B:D,3,0),0),\"\")","v":0},{"$f":"IF(A34<>\"\",IFERROR(VLOOKUP(P34,Tabelas!B:D,3,0),0),\"\")","v":0},{"$f":"IF(A34<>\"\",IFERROR(VLOOKUP(Q34,Tabelas!B:D,3,0),0),\"\")","v":0},{"$f":"IF(A34<>\"\",IFERROR(VLOOKUP(R34,Tabelas!B:D,3,0),0),\"\")","v":0},{"$f":"IF(A34<>\"\",IFERROR(VLOOKUP(S34,Tabelas!B:D,3,0),0),\"\")","v":0},{"$f":"IF(A34<>\"\",IFERROR(VLOOKUP(T34,Tabelas!B:D,3,0),0),\"\")","v":0},{"$f":"IF(A34<>\"\",IFERROR(VLOOKUP(U34,Tabelas!B:D,3,0),0),\"\")","v":0},{"$f":"IF(A34<>\"\",IFERROR(VLOOKUP(V34,Tabelas!B:D,3,0),0),\"\")","v":0},{"$f":"IF(A34<>\"\",IFERROR(VLOOKUP(W34,Tabelas!B:D,3,0),0),\"\")","v":0},{"$f":"IF(A34<>\"\",IFERROR(VLOOKUP(X34,Tabelas!B:D,3,0),0),\"\")","v":0},{"$f":"IF(A34<>\"\",IFERROR(VLOOKUP(Y34,Tabelas!B:D,3,0),0),\"\")","v":0},{"$f":"IF(A34<>\"\",IFERROR(VLOOKUP(Z34,Tabelas!B:D,3,0),0),\"\")","v":0},{"$f":"IF(A34<>\"\",IFERROR(VLOOKUP(AA34,Tabelas!B:D,3,0),0),\"\")","v":0},{"$f":"IF(A34<>\"\",IFERROR(VLOOKUP(AB34,Tabelas!B:D,3,0),0),\"\")","v":0},{"$f":"IF(A34<>\"\",IFERROR(VLOOKUP(AC34,Tabelas!B:D,3,0),0),\"\")","v":0},{"$f":"IF(A34<>\"\",IFERROR(VLOOKUP(AD34,Tabelas!B:D,3,0),0),\"\")","v":0},{"$f":"IF(A34<>\"\",IFERROR(VLOOKUP(AE34,Tabelas!B:D,3,0),0),\"\")","v":0},{"$f":"IF(A34<>\"\",IFERROR(VLOOKUP(AF34,Tabelas!B:D,3,0),0),\"\")","v":0},{"$f":"IF(A34<>\"\",IFERROR(VLOOKUP(AG34,Tabelas!B:D,3,0),0),\"\")","v":0},{"$f":"IF(A34<>\"\",IFERROR(VLOOKUP(AH34,Tabelas!B:D,3,0),0),\"\")","v":0},{"$f":"IF(A34<>\"\",IFERROR(VLOOKUP(AI34,Tabelas!B:D,3,0),0),\"\")","v":0},{"$f":"IF(A34<>\"\",IFERROR(VLOOKUP(AJ34,Tabelas!B:D,3,0),0),\"\")","v":0},{"$f":"IF(A34<>\"\",IFERROR(VLOOKUP(AK34,Tabelas!B:D,3,0),0),\"\")","v":0},{"$f":"IF(A34<>\"\",IFERROR(VLOOKUP(AL34,Tabelas!B:D,3,0),0),\"\")","v":0},{"$f":"IF(A34<>\"\",IFERROR(VLOOKUP(AM34,Tabelas!B:D,3,0),0),\"\")","v":0},{"$f":"IF(A34<>\"\",IFERROR(VLOOKUP(AN34,Tabelas!B:D,3,0),0),\"\")","v":0},{"$f":"IF(A34<>\"\",IFERROR(VLOOKUP(AO34,Tabelas!B:D,3,0),0),\"\")","v":0},{"$f":"IF(A34<>\"\",IFERROR(VLOOKUP(AP34,Tabelas!B:D,3,0),0),\"\")","v":0},{"$f":"IF(A34<>\"\",IFERROR(VLOOKUP(AQ34,Tabelas!B:D,3,0),0),\"\")","v":0},{"$f":"IF(A34<>\"\",IFERROR(VLOOKUP(AR34,Tabelas!B:D,3,0),0),\"\")","v":0},0,0,0,0,0,0,0,0,0]
["Lisiane M. Dias",null,123,"ENF","Ebserh",36,null,null,null,null,null,null,null,null,null,null,null,null,null,null,null,null,null,null,null,null,null,null,null,null,null,null,null,null,null,null,null,null,null,null,null,null,null,null,{"$f":"IF(A35<>\"\",IFERROR(VLOOKUP(N35,Tabelas!B:D,3,0),0),\"\")","v":0},{"$f":"IF(A35<>\"\",IFERROR(VLOOKUP(O35,Tabelas!B:D,3,0),0),\"\")","v":0},{"$f":"IF(A35<>\"\",IFERROR(VLOOKUP(P35,Tabelas!B:D,3,0),0),\"\")","v":0},{"$f":"IF(A35<>\"\",IFERROR(VLOOKUP(Q35,Tabelas!B:D,3,0),0),\"\")","v":0},{"$f":"IF(A35<>\"\",IFERROR(VLOOKUP(R35,Tabelas!B:D,3,0),0),\"\")","v":0},{"$f":"IF(A35<>\"\",IFERROR(VLOOKUP(S35,Tabelas!B:D,3,0),0),\"\")","v":0},{"$f":"IF(A35<>\"\",IFERROR(VLOOKUP(T35,Tabelas!B:D,3,0),0),\"\")","v":0},{"$f":"IF(A35<>\"\",IFERROR(VLOOKUP(U35,Tabelas!B:D,3,0),0),\"\")","v":0},{"$f":"IF(A35<>\"\",IFERROR(VLOOKUP(V35,Tabelas!B:D,3,0),0),\"\")","v":0},{"$f":"IF(A35<>\"\",IFERROR(VLOOKUP(W35,Tabelas!B:D,3,0),0),\"\")","v":0},{"$f":"IF(A35<>\"\",IFERROR(VLOOKUP(X35,Tabelas!B:D,3,0),0),\"\")","v":0},{"$f":"IF(A35<>\"\",IFERROR(VLOOKUP(Y35,Tabelas!B:D,3,0),0),\"\")","v":0},{"$f":"IF(A35<>\"\",IFERROR(VLOOKUP(Z35,Tabelas!B:D,3,0),0),\"\")","v":0},{"$f":"IF(A35<>\"\",IFERROR(VLOOKUP(AA35,Tabelas!B:D,3,0),0),\"\")","v":0},{"$f":"IF(A35<>\"\",IFERROR(VLOOKUP(AB35,Tabelas!B:D,3,0),0),\"\")","v":0},{"$f":"IF(A35<>\"\",IFERROR(VLOOKUP(AC35,Tabelas!B:D,3,0),0),\"\")","v":0},{"$f":"IF(A35<>\"\",IFERROR(VLOOKUP(AD35,Tabelas!B:D,3,0),0),\"\")","v":0},{"$f":"IF(A35<>\"\",IFERROR(VLOOKUP(AE35,Tabelas!B:D,3,0),0),\"\")","v":0},{"$f":"IF(A35<>\"\",IFERROR(VLOOKUP(AF35,Tabelas!B:D,3,0),0),\"\")","v":0},{"$f":"IF(A35<>\"\",IFERROR(VLOOKUP(AG35,Tabelas!B:D,3,0),0),\"\")","v":0},{"$f":"IF(A35<>\"\",IFERROR(VLOOKUP(AH35,Tabelas!B:D,3,0),0),\"\")","v":0},{"$f":"IF(A35<>\"\",IFERROR(VLOOKUP(AI35,Tabelas!B:D,3,0),0),\"\")","v":0},{"$f":"IF(A35<>\"\",IFERROR(VLOOKUP(AJ35,Tabelas!B:D,3,0),0),\"\")","v":0},{"$f":"IF(A35<>\"\",IFERROR(VLOOKUP(AK35,Tabelas!B:D,3,0),0),\"\")","v":0},{"$f":"IF(A35<>\"\",IFERROR(VLOOKUP(AL35,Tabelas!B:D,3,0),0),\"\")","v":0},{"$f":"IF(A35<>\"\",IFERROR(VLOOKUP(AM35,Tabelas!B:D,3,0),0),\"\")","v":0},{"$f":"IF(A35<>\"\",IFERROR(VLOOKUP(AN35,Tabelas!B:D,3,0),0),\"\")","v":0},{"$f":"IF(A35<>\"\",IFERROR(VLOOKUP(AO35,Tabelas!B:D,3,0),0),\"\")","v":0},{"$f":"IF(A35<>\"\",IFERROR(VLOOKUP(AP35,Tabelas!B:D,3,0),0),\"\")","v":0},{"$f":"IF(A35<>\"\",IFERROR(VLOOKUP(AQ35,Tabelas!B:D,3,0),0),\"\")","v":0},{"$f":"IF(A35<>\"\",IFERROR(VLOOKUP(AR35,Tabelas!B:D,3,0),0),\"\")","v":0},0,0,0,0,0,0,0,0,0]
["Zuleide F. Medeiros",2081427,123,"ENF","Ebserh",36,null,null,null,null,null,null,null,null,null,null,null,null,null,null,null,null,null,null,null,null,null,null,null,null,null,null,null,null,null,null,null,null,null,null,null,null,null,null,{"$f":"IF(A36<>\"\",IFERROR(VLOOKUP(N36,Tabelas!B:D,3,0),0),\"\")","v":0},{"$f":"IF(A36<>\"\",IFERROR(VLOOKUP(O36,Tabelas!B:D,3,0),0),\"\")","v":0},{"$f":"IF(A36<>\"\",IFERROR(VLOOKUP(P36,Tabelas!B:D,3,0),0),\"\")","v":0},{"$f":"IF(A36<>\"\",IFERROR(VLOOKUP(Q36,Tabelas!B:D,3,0),0),\"\")","v":0},{"$f":"IF(A36<>\"\",IFERROR(VLOOKUP(R36,Tabelas!B:D,3,0),0),\"\")","v":0},{"$f":"IF(A36<>\"\",IFERROR(VLOOKUP(S36,Tabelas!B:D,3,0),0),\"\")","v":0},{"$f":"IF(A36<>\"\",IFERROR(VLOOKUP(T36,Tabelas!B:D,3,0),0),\"\")","v":0},{"$f":"IF(A36<>\"\",IFERROR(VLOOKUP(U36,Tabelas!B:D,3,0),0),\"\")","v":0},{"$f":"IF(A36<>\"\",IFERROR(VLOOKUP(V36,Tabelas!B:D,3,0),0),\"\")","v":0},{"$f":"IF(A36<>\"\",IFERROR(VLOOKUP(W36,Tabelas!B:D,3,0),0),\"\")","v":0},{"$f":"IF(A36<>\"\",IFERROR(VLOOKUP(X36,Tabelas!B:D,3,0),0),\"\")","v":0},{"$f":"IF(A36<>\"\",IFERROR(VLOOKUP(Y36,Tabelas!B:D,3,0),0),\"\")","v":0},{"$f":"IF(A36<>\"\",IFERROR(VLOOKUP(Z36,Tabelas!B:D,3,0),0),\"\")","v":0},{"$f":"IF(A36<>\"\",IFERROR(VLOOKUP(AA36,Tabelas!B:D,3,0),0),\"\")","v":0},{"$f":"IF(A36<>\"\",IFERROR(VLOOKUP(AB36,Tabelas!B:D,3,0),0),\"\")","v":0},{"$f":"IF(A36<>\"\",IFERROR(VLOOKUP(AC36,Tabelas!B:D,3,0),0),\"\")","v":0},{"$f":"IF(A36<>\"\",IFERROR(VLOOKUP(AD36,Tabelas!B:D,3,0),0),\"\")","v":0},{"$f":"IF(A36<>\"\",IFERROR(VLOOKUP(AE36,Tabelas!B:D,3,0),0),\"\")","v":0},{"$f":"IF(A36<>\"\",IFERROR(VLOOKUP(AF36,Tabelas!B:D,3,0),0),\"\")","v":0},{"$f":"IF(A36<>\"\",IFERROR(VLOOKUP(AG36,Tabelas!B:D,3,0),0),\"\")","v":0},{"$f":"IF(A36<>\"\",IFERROR(VLOOKUP(AH36,Tabelas!B:D,3,0),0),\"\")","v":0},{"$f":"IF(A36<>\"\",IFERROR(VLOOKUP(AI36,Tabelas!B:D,3,0),0),\"\")","v":0},{"$f":"IF(A36<>\"\",IFERROR(VLOOKUP(AJ36,Tabelas!B:D,3,0),0),\"\")","v":0},{"$f":"IF(A36<>\"\",IFERROR(VLOOKUP(AK36,Tabelas!B:D,3,0),0),\"\")","v":0},{"$f":"IF(A36<>\"\",IFERROR(VLOOKUP(AL36,Tabelas!B:D,3,0),0),\"\")","v":0},{"$f":"IF(A36<>\"\",IFERROR(VLOOKUP(AM36,Tabelas!B:D,3,0),0),\"\")","v":0},{"$f":"IF(A36<>\"\",IFERROR(VLOOKUP(AN36,Tabelas!B:D,3,0),0),\"\")","v":0},{"$f":"IF(A36<>\"\",IFERROR(VLOOKUP(AO36,Tabelas!B:D,3,0),0),\"\")","v":0},{"$f":"IF(A36<>\"\",IFERROR(VLOOKUP(AP36,Tabelas!B:D,3,0),0),\"\")","v":0},{"$f":"IF(A36<>\"\",IFERROR(VLOOKUP(AQ36,Tabelas!B:D,3,0),0),\"\")","v":0},{"$f":"IF(A36<>\"\",IFERROR(VLOOKUP(AR36,Tabelas!B:D,3,0),0),\"\")","v":0},0,0,0,0,0,0,0,0,0]
["José  j. Duarte",null,123,"ENF","Ebserh",36,null,null,null,null,null,null,null,null,null,null,null,null,null,null,null,null,null,null,null,null,null,null,null,null,null,null,null,null,null,null,null,null,null,null,null,null,null,null,{"$f":"IF(A37<>\"\",IFERROR(VLOOKUP(N37,Tabelas!B:D,3,0),0),\"\")","v":0},{"$f":"IF(A37<>\"\",IFERROR(VLOOKUP(O37,Tabelas!B:D,3,0),0),\"\")","v":0},{"$f":"IF(A37<>\"\",IFERROR(VLOOKUP(P37,Tabelas!B:D,3,0),0),\"\")","v":0},{"$f":"IF(A37<>\"\",IFERROR(VLOOKUP(Q37,Tabelas!B:D,3,0),0),\"\")","v":0},{"$f":"IF(A37<>\"\",IFERROR(VLOOKUP(R37,Tabelas!B:D,3,0),0),\"\")","v":0},{"$f":"IF(A37<>\"\",IFERROR(VLOOKUP(S37,Tabelas!B:D,3,0),0),\"\")","v":0},{"$f":"IF(A37<>\"\",IFERROR(VLOOKUP(T37,Tabelas!B:D,3,0),0),\"\")","v":0},{"$f":"IF(A37<>\"\",IFERROR(VLOOKUP(U37,Tabelas!B:D,3,0),0),\"\")","v":0},{"$f":"IF(A37<>\"\",IFERROR(VLOOKUP(V37,Tabelas!B:D,3,0),0),\"\")","v":0},{"$f":"IF(A37<>\"\",IFERROR(VLOOKUP(W37,Tabelas!B:D,3,0),0),\"\")","v":0},{"$f":"IF(A37<>\"\",IFERROR(VLOOKUP(X37,Tabelas!B:D,3,0),0),\"\")","v":0},{"$f":"IF(A37<>\"\",IFERROR(VLOOKUP(Y37,Tabelas!B:D,3,0),0),\"\")","v":0},{"$f":"IF(A37<>\"\",IFERROR(VLOOKUP(Z37,Tabelas!B:D,3,0),0),\"\")","v":0},{"$f":"IF(A37<>\"\",IFERROR(VLOOKUP(AA37,Tabelas!B:D,3,0),0),\"\")","v":0},{"$f":"IF(A37<>\"\",IFERROR(VLOOKUP(AB37,Tabelas!B:D,3,0),0),\"\")","v":0},{"$f":"IF(A37<>\"\",IFERROR(VLOOKUP(AC37,Tabelas!B:D,3,0),0),\"\")","v":0},{"$f":"IF(A37<>\"\",IFERROR(VLOOKUP(AD37,Tabelas!B:D,3,0),0),\"\")","v":0},{"$f":"IF(A37<>\"\",IFERROR(VLOOKUP(AE37,Tabelas!B:D,3,0),0),\"\")","v":0},{"$f":"IF(A37<>\"\",IFERROR(VLOOKUP(AF37,Tabelas!B:D,3,0),0),\"\")","v":0},{"$f":"IF(A37<>\"\",IFERROR(VLOOKUP(AG37,Tabelas!B:D,3,0),0),\"\")","v":0},{"$f":"IF(A37<>\"\",IFERROR(VLOOKUP(AH37,Tabelas!B:D,3,0),0),\"\")","v":0},{"$f":"IF(A37<>\"\",IFERROR(VLOOKUP(AI37,Tabelas!B:D,3,0),0),\"\")","v":0},{"$f":"IF(A37<>\"\",IFERROR(VLOOKUP(AJ37,Tabelas!B:D,3,0),0),\"\")","v":0},{"$f":"IF(A37<>\"\",IFERROR(VLOOKUP(AK37,Tabelas!B:D,3,0),0),\"\")","v":0},{"$f":"IF(A37<>\"\",IFERROR(VLOOKUP(AL37,Tabelas!B:D,3,0),0),\"\")","v":0},{"$f":"IF(A37<>\"\",IFERROR(VLOOKUP(AM37,Tabelas!B:D,3,0),0),\"\")","v":0},{"$f":"IF(A37<>\"\",IFERROR(VLOOKUP(AN37,Tabelas!B:D,3,0),0),\"\")","v":0},{"$f":"IF(A37<>\"\",IFERROR(VLOOKUP(AO37,Tabelas!B:D,3,0),0),\"\")","v":0},{"$f":"IF(A37<>\"\",IFERROR(VLOOKUP(AP37,Tabelas!B:D,3,0),0),\"\")","v":0},{"$f":"IF(A37<>\"\",IFERROR(VLOOKUP(AQ37,Tabelas!B:D,3,0),0),\"\")","v":0},{"$f":"IF(A37<>\"\",IFERROR(VLOOKUP(AR37,Tabelas!B:D,3,0),0),\"\")","v":0},0,0,0,0,0,0,0,0,0]
["Luciane Virgilio",null,123,"ENF","Ebserh",36,null,null,null,null,null,null,null,null,null,null,null,null,null,null,null,null,null,null,null,null,null,null,null,null,null,null,null,null,null,null,null,null,null,null,null,null,null,null,{"$f":"IF(A38<>\"\",IFERROR(VLOOKUP(N38,Tabelas!B:D,3,0),0),\"\")","v":0},{"$f":"IF(A38<>\"\",IFERROR(VLOOKUP(O38,Tabelas!B:D,3,0),0),\"\")","v":0},{"$f":"IF(A38<>\"\",IFERROR(VLOOKUP(P38,Tabelas!B:D,3,0),0),\"\")","v":0},{"$f":"IF(A38<>\"\",IFERROR(VLOOKUP(Q38,Tabelas!B:D,3,0),0),\"\")","v":0},{"$f":"IF(A38<>\"\",IFERROR(VLOOKUP(R38,Tabelas!B:D,3,0),0),\"\")","v":0},{"$f":"IF(A38<>\"\",IFERROR(VLOOKUP(S38,Tabelas!B:D,3,0),0),\"\")","v":0},{"$f":"IF(A38<>\"\",IFERROR(VLOOKUP(T38,Tabelas!B:D,3,0),0),\"\")","v":0},{"$f":"IF(A38<>\"\",IFERROR(VLOOKUP(U38,Tabelas!B:D,3,0),0),\"\")","v":0},{"$f":"IF(A38<>\"\",IFERROR(VLOOKUP(V38,Tabelas!B:D,3,0),0),\"\")","v":0},{"$f":"IF(A38<>\"\",IFERROR(VLOOKUP(W38,Tabelas!B:D,3,0),0),\"\")","v":0},{"$f":"IF(A38<>\"\",IFERROR(VLOOKUP(X38,Tabelas!B:D,3,0),0),\"\")","v":0},{"$f":"IF(A38<>\"\",IFERROR(VLOOKUP(Y38,Tabelas!B:D,3,0),0),\"\")","v":0},{"$f":"IF(A38<>\"\",IFERROR(VLOOKUP(Z38,Tabelas!B:D,3,0),0),\"\")","v":0},{"$f":"IF(A38<>\"\",IFERROR(VLOOKUP(AA38,Tabelas!B:D,3,0),0),\"\")","v":0},{"$f":"IF(A38<>\"\",IFERROR(VLOOKUP(AB38,Tabelas!B:D,3,0),0),\"\")","v":0},{"$f":"IF(A38<>\"\",IFERROR(VLOOKUP(AC38,Tabelas!B:D,3,0),0),\"\")","v":0},{"$f":"IF(A38<>\"\",IFERROR(VLOOKUP(AD38,Tabelas!B:D,3,0),0),\"\")","v":0},{"$f":"IF(A38<>\"\",IFERROR(VLOOKUP(AE38,Tabelas!B:D,3,0),0),\"\")","v":0},{"$f":"IF(A38<>\"\",IFERROR(VLOOKUP(AF38,Tabelas!B:D,3,0),0),\"\")","v":0},{"$f":"IF(A38<>\"\",IFERROR(VLOOKUP(AG38,Tabelas!B:D,3,0),0),\"\")","v":0},{"$f":"IF(A38<>\"\",IFERROR(VLOOKUP(AH38,Tabelas!B:D,3,0),0),\"\")","v":0},{"$f":"IF(A38<>\"\",IFERROR(VLOOKUP(AI38,Tabelas!B:D,3,0),0),\"\")","v":0},{"$f":"IF(A38<>\"\",IFERROR(VLOOKUP(AJ38,Tabelas!B:D,3,0),0),\"\")","v":0},{"$f":"IF(A38<>\"\",IFERROR(VLOOKUP(AK38,Tabelas!B:D,3,0),0),\"\")","v":0},{"$f":"IF(A38<>\"\",IFERROR(VLOOKUP(AL38,Tabelas!B:D,3,0),0),\"\")","v":0},{"$f":"IF(A38<>\"\",IFERROR(VLOOKUP(AM38,Tabelas!B:D,3,0),0),\"\")","v":0},{"$f":"IF(A38<>\"\",IFERROR(VLOOKUP(AN38,Tabelas!B:D,3,0),0),\"\")","v":0},{"$f":"IF(A38<>\"\",IFERROR(VLOOKUP(AO38,Tabelas!B:D,3,0),0),\"\")","v":0},{"$f":"IF(A38<>\"\",IFERROR(VLOOKUP(AP38,Tabelas!B:D,3,0),0),\"\")","v":0},{"$f":"IF(A38<>\"\",IFERROR(VLOOKUP(AQ38,Tabelas!B:D,3,0),0),\"\")","v":0},{"$f":"IF(A38<>\"\",IFERROR(VLOOKUP(AR38,Tabelas!B:D,3,0),0),\"\")","v":0},0,0,0,0,0,0,0,0,0]
["Marinalva S. Silva",null,123,"ENF","Ebserh",36,null,null,null,null,null,null,null,null,null,null,null,null,null,null,null,null,null,null,null,null,null,null,null,null,null,null,null,null,null,null,null,null,null,null,null,null,null,null,{"$f":"IF(A39<>\"\",IFERROR(VLOOKUP(N39,Tabelas!B:D,3,0),0),\"\")","v":0},{"$f":"IF(A39<>\"\",IFERROR(VLOOKUP(O39,Tabelas!B:D,3,0),0),\"\")","v":0},{"$f":"IF(A39<>\"\",IFERROR(VLOOKUP(P39,Tabelas!B:D,3,0),0),\"\")","v":0},{"$f":"IF(A39<>\"\",IFERROR(VLOOKUP(Q39,Tabelas!B:D,3,0),0),\"\")","v":0},{"$f":"IF(A39<>\"\",IFERROR(VLOOKUP(R39,Tabelas!B:D,3,0),0),\"\")","v":0},{"$f":"IF(A39<>\"\",IFERROR(VLOOKUP(S39,Tabelas!B:D,3,0),0),\"\")","v":0},{"$f":"IF(A39<>\"\",IFERROR(VLOOKUP(T39,Tabelas!B:D,3,0),0),\"\")","v":0},{"$f":"IF(A39<>\"\",IFERROR(VLOOKUP(U39,Tabelas!B:D,3,0),0),\"\")","v":0},{"$f":"IF(A39<>\"\",IFERROR(VLOOKUP(V39,Tabelas!B:D,3,0),0),\"\")","v":0},{"$f":"IF(A39<>\"\",IFERROR(VLOOKUP(W39,Tabelas!B:D,3,0),0),\"\")","v":0},{"$f":"IF(A39<>\"\",IFERROR(VLOOKUP(X39,Tabelas!B:D,3,0),0),\"\")","v":0},{"$f":"IF(A39<>\"\",IFERROR(VLOOKUP(Y39,Tabelas!B:D,3,0),0),\"\")","v":0},{"$f":"IF(A39<>\"\",IFERROR(VLOOKUP(Z39,Tabelas!B:D,3,0),0),\"\")","v":0},{"$f":"IF(A39<>\"\",IFERROR(VLOOKUP(AA39,Tabelas!B:D,3,0),0),\"\")","v":0},{"$f":"IF(A39<>\"\",IFERROR(VLOOKUP(AB39,Tabelas!B:D,3,0),0),\"\")","v":0},{"$f":"IF(A39<>\"\",IFERROR(VLOOKUP(AC39,Tabelas!B:D,3,0),0),\"\")","v":0},{"$f":"IF(A39<>\"\",IFERROR(VLOOKUP(AD39,Tabelas!B:D,3,0),0),\"\")","v":0},{"$f":"IF(A39<>\"\",IFERROR(VLOOKUP(AE39,Tabelas!B:D,3,0),0),\"\")","v":0},{"$f":"IF(A39<>\"\",IFERROR(VLOOKUP(AF39,Tabelas!B:D,3,0),0),\"\")","v":0},{"$f":"IF(A39<>\"\",IFERROR(VLOOKUP(AG39,Tabelas!B:D,3,0),0),\"\")","v":0},{"$f":"IF(A39<>\"\",IFERROR(VLOOKUP(AH39,Tabelas!B:D,3,0),0),\"\")","v":0},{"$f":"IF(A39<>\"\",IFERROR(VLOOKUP(AI39,Tabelas!B:D,3,0),0),\"\")","v":0},{"$f":"IF(A39<>\"\",IFERROR(VLOOKUP(AJ39,Tabelas!B:D,3,0),0),\"\")","v":0},{"$f":"IF(A39<>\"\",IFERROR(VLOOKUP(AK39,Tabelas!B:D,3,0),0),\"\")","v":0},{"$f":"IF(A39<>\"\",IFERROR(VLOOKUP(AL39,Tabelas!B:D,3,0),0),\"\")","v":0},{"$f":"IF(A39<>\"\",IFERROR(VLOOKUP(AM39,Tabelas!B:D,3,0),0),\"\")","v":0},{"$f":"IF(A39<>\"\",IFERROR(VLOOKUP(AN39,Tabelas!B:D,3,0),0),\"\")","v":0},{"$f":"IF(A39<>\"\",IFERROR(VLOOKUP(AO39,Tabelas!B:D,3,0),0),\"\")","v":0},{"$f":"IF(A39<>\"\",IFERROR(VLOOKUP(AP39,Tabelas!B:D,3,0),0),\"\")","v":0},{"$f":"IF(A39<>\"\",IFERROR(VLOOKUP(AQ39,Tabelas!B:D,3,0),0),\"\")","v":0},{"$f":"IF(A39<>\"\",IFERROR(VLOOKUP(AR39,Tabelas!B:D,3,0),0),\"\")","v":0},0,0,0,0,0,0,0,0,0]
["Matutino",null,null,null,null,null,null,null,null,null,null,null,null,null,null,null,null,null,null,null,null,null,null,null,null,null,null,null,null,null,null,null,null,null,null,null,null,null,null,null,null,null,null,null,null,null,null,null,null,null,null,null,null,null,null,null,null,null,null,null,null,null,null,null,null,null,null,null,null,null,null,null,null,null,null,null,0,0,0,0,0,0,0,0]
["Fulano de Tal 25",1234567,123,"ENF","Ebserh",36,null,null,null,null,null,null,null,null,null,null,null,null,null,null,null,null,null,null,null,null,null,null,null,null,null,null,null,null,null,null,null,null,null,null,null,null,null,null,{"$f":"IF(A41<>\"\",IFERROR(VLOOKUP(N41,Tabelas!B:D,3,0),0),\"\")","v":0},{"$f":"IF(A41<>\"\",IFERROR(VLOOKUP(O41,Tabelas!B:D,3,0),0),\"\")","v":0},{"$f":"IF(A41<>\"\",IFERROR(VLOOKUP(P41,Tabelas!B:D,3,0),0),\"\")","v":0},{"$f":"IF(A41<>\"\",IFERROR(VLOOKUP(Q41,Tabelas!B:D,3,0),0),\"\")","v":0},{"$f":"IF(A41<>\"\",IFERROR(VLOOKUP(R41,Tabelas!B:D,3,0),0),\"\")","v":0},{"$f":"IF(A41<>\"\",IFERROR(VLOOKUP(S41,Tabelas!B:D,3,0),0),\"\")","v":0},{"$f":"IF(A41<>\"\",IFERROR(VLOOKUP(T41,Tabelas!B:D,3,0),0),\"\")","v":0},{"$f":"IF(A41<>\"\",IFERROR(VLOOKUP(U41,Tabelas!B:D,3,0),0),\"\")","v":0},{"$f":"IF(A41<>\"\",IFERROR(VLOOKUP(V41,Tabelas!B:D,3,0),0),\"\")","v":0},{"$f":"IF(A41<>\"\",IFERROR(VLOOKUP(W41,Tabelas!B:D,3,0),0),\"\")","v":0},{"$f":"IF(A41<>\"\",IFERROR(VLOOKUP(X41,Tabelas!B:D,3,0),0),\"\")","v":0},{"$f":"IF(A41<>\"\",IFERROR(VLOOKUP(Y41,Tabelas!B:D,3,0),0),\"\")","v":0},{"$f":"IF(A41<>\"\",IFERROR(VLOOKUP(Z41,Tabelas!B:D,3,0),0),\"\")","v":0},{"$f":"IF(A41<>\"\",IFERROR(VLOOKUP(AA41,Tabelas!B:D,3,0),0),\"\")","v":0},{"$f":"IF(A41<>\"\",IFERROR(VLOOKUP(AB41,Tabelas!B:D,3,0),0),\"\")","v":0},{"$f":"IF(A41<>\"\",IFERROR(VLOOKUP(AC41,Tabelas!B:D,3,0),0),\"\")","v":0},{"$f":"IF(A41<>\"\",IFERROR(VLOOKUP(AD41,Tabelas!B:D,3,0),0),\"\")","v":0},{"$f":"IF(A41<>\"\",IFERROR(VLOOKUP(AE41,Tabelas!B:D,3,0),0),\"\")","v":0},{"$f":"IF(A41<>\"\",IFERROR(VLOOKUP(AF41,Tabelas!B:D,3,0),0),\"\")","v":0},{"$f":"IF(A41<>\"\",IFERROR(VLOOKUP(AG41,Tabelas!B:D,3,0),0),\"\")","v":0},{"$f":"IF(A41<>\"\",IFERROR(VLOOKUP(AH41,Tabelas!B:D,3,0),0),\"\")","v":0},{"$f":"IF(A41<>\"\",IFERROR(VLOOKUP(AI41,Tabelas!B:D,3,0),0),\"\")","v":0},{"$f":"IF(A41<>\"\",IFERROR(VLOOKUP(AJ41,Tabelas!B:D,3,0),0),\"\")","v":0},{"$f":"IF(A41<>\"\",IFERROR(VLOOKUP(AK41,Tabelas!B:D,3,0),0),\"\")","v":0},{"$f":"IF(A41<>\"\",IFERROR(VLOOKUP(AL41,Tabelas!B:D,3,0),0),\"\")","v":0},{"$f":"IF(A41<>\"\",IFERROR(VLOOKUP(AM41,Tabelas!B:D,3,0),0),\"\")","v":0},{"$f":"IF(A41<>\"\",IFERROR(VLOOKUP(AN41,Tabelas!B:D,3,0),0),\"\")","v":0},{"$f":"IF(A41<>\"\",IFERROR(VLOOKUP(AO41,Tabelas!B:D,3,0),0),\"\")","v":0},{"$f":"IF(A41<>\"\",IFERROR(VLOOKUP(AP41,Tabelas!B:D,3,0),0),\"\")","v":0},{"$f":"IF(A41<>\"\",IFERROR(VLOOKUP(AQ41,Tabelas!B:D,3,0),0),\"\")","v":0},{"$f":"IF(A41<>\"\",IFERROR(VLOOKUP(AR41,Tabelas!B:D,3,0),0),\"\")","v":0},0,0,0,0,0,0,0,0,0]
["Fulano de Tal 26",1234567,123,"ENF","Ebserh",36,null,null,null,null,null,null,null,null,null,null,null,null,null,null,null,null,null,null,null,null,null,null,null,null,null,null,null,null,null,null,null,null,null,null,null,null,null,null,{"$f":"IF(A42<>\"\",IFERROR(VLOOKUP(N42,Tabelas!B:D,3,0),0),\"\")","v":0},{"$f":"IF(A42<>\"\",IFERROR(VLOOKUP(O42,Tabelas!B:D,3,0),0),\"\")","v":0},{"$f":"IF(A42<>\"\",IFERROR(VLOOKUP(P42,Tabelas!B:D,3,0),0),\"\")","v":0},{"$f":"IF(A42<>\"\",IFERROR(VLOOKUP(Q42,Tabelas!B:D,3,0),0),\"\")","v":0},{"$f":"IF(A42<>\"\",IFERROR(VLOOKUP(R42,Tabelas!B:D,3,0),0),\"\")","v":0},{"$f":"IF(A42<>\"\",IFERROR(VLOOKUP(S42,Tabelas!B:D,3,0),0),\"\")","v":0},{"$f":"IF(A42<>\"\",IFERROR(VLOOKUP(T42,Tabelas!B:D,3,0),0),\"\")","v":0},{"$f":"IF(A42<>\"\",IFERROR(VLOOKUP(U42,Tabelas!B:D,3,0),0),\"\")","v":0},{"$f":"IF(A42<>\"\",IFERROR(VLOOKUP(V42,Tabelas!B:D,3,0),0),\"\")","v":0},{"$f":"IF(A42<>\"\",IFERROR(VLOOKUP(W42,Tabelas!B:D,3,0),0),\"\")","v":0},{"$f":"IF(A42<>\"\",IFERROR(VLOOKUP(X42,Tabelas!B:D,3,0),0),\"\")","v":0},{"$f":"IF(A42<>\"\",IFERROR(VLOOKUP(Y42,Tabelas!B:D,3,0),0),\"\")","v":0},{"$f":"IF(A42<>\"\",IFERROR(VLOOKUP(Z42,Tabelas!B:D,3,0),0),\"\")","v":0},{"$f":"IF(A42<>\"\",IFERROR(VLOOKUP(AA42,Tabelas!B:D,3,0),0),\"\")","v":0},{"$f":"IF(A42<>\"\",IFERROR(VLOOKUP(AB42,Tabelas!B:D,3,0),0),\"\")","v":0},{"$f":"IF(A42<>\"\",IFERROR(VLOOKUP(AC42,Tabelas!B:D,3,0),0),\"\")","v":0},{"$f":"IF(A42<>\"\",IFERROR(VLOOKUP(AD42,Tabelas!B:D,3,0),0),\"\")","v":0},{"$f":"IF(A42<>\"\",IFERROR(VLOOKUP(AE42,Tabelas!B:D,3,0),0),\"\")","v":0},{"$f":"IF(A42<>\"\",IFERROR(VLOOKUP(AF42,Tabelas!B:D,3,0),0),\"\")","v":0},{"$f":"IF(A42<>\"\",IFERROR(VLOOKUP(AG42,Tabelas!B:D,3,0),0),\"\")","v":0},{"$f":"IF(A42<>\"\",IFERROR(VLOOKUP(AH42,Tabelas!B:D,3,0),0),\"\")","v":0},{"$f":"IF(A42<>\"\",IFERROR(VLOOKUP(AI42,Tabelas!B:D,3,0),0),\"\")","v":0},{"$f":"IF(A42<>\"\",IFERROR(VLOOKUP(AJ42,Tabelas!B:D,3,0),0),\"\")","v":0},{"$f":"IF(A42<>\"\",IFERROR(VLOOKUP(AK42,Tabelas!B:D,3,0),0),\"\")","v":0},{"$f":"IF(A42<>\"\",IFERROR(VLOOKUP(AL42,Tabelas!B:D,3,0),0),\"\")","v":0},{"$f":"IF(A42<>\"\",IFERROR(VLOOKUP(AM42,Tabelas!B:D,3,0),0),\"\")","v":0},{"$f":"IF(A42<>\"\",IFERROR(VLOOKUP(AN42,Tabelas!B:D,3,0),0),\"\")","v":0},{"$f":"IF(A42<>\"\",IFERROR(VLOOKUP(AO42,Tabelas!B:D,3,0),0),\"\")","v":0},{"$f":"IF(A42<>\"\",IFERROR(VLOOKUP(AP42,Tabelas!B:D,3,0),0),\"\")","v":0},{"$f":"IF(A42<>\"\",IFERROR(VLOOKUP(AQ42,Tabelas!B:D,3,0),0),\"\")","v":0},{"$f":"IF(A42<>\"\",IFERROR(VLOOKUP(AR42,Tabelas!B:D,3,0),0),\"\")","v":0},0,0,0,0,0,0,0,0,0]
["Fulano de Tal 27",1234567,123,"ENF","Ebserh",36,null,null,null,null,null,null,null,null,null,null,null,null,null,null,null,null,null,null,null,null,null,null,null,null,null,null,null,null,null,null,null,null,null,null,null,null,null,null,{"$f":"IF(A43<>\"\",IFERROR(VLOOKUP(N43,Tabelas!B:D,3,0),0),\"\")","v":0},{"$f":"IF(A43<>\"\",IFERROR(VLOOKUP(O43,Tabelas!B:D,3,0),0),\"\")","v":0},{"$f":"IF(A43<>\"\",IFERROR(VLOOKUP(P43,Tabelas!B:D,3,0),0),\"\")","v":0},{"$f":"IF(A43<>\"\",IFERROR(VLOOKUP(Q43,Tabelas!B:D,3,0),0),\"\")","v":0},{"$f":"IF(A43<>\"\",IFERROR(VLOOKUP(R43,Tabelas!B:D,3,0),0),\"\")","v":0},{"$f":"IF(A43<>\"\",IFERROR(VLOOKUP(S43,Tabelas!B:D,3,0),0),\"\")","v":0},{"$f":"IF(A43<>\"\",IFERROR(VLOOKUP(T43,Tabelas!B:D,3,0),0),\"\")","v":0},{"$f":"IF(A43<>\"\",IFERROR(VLOOKUP(U43,Tabelas!B:D,3,0),0),\"\")","v":0},{"$f":"IF(A43<>\"\",IFERROR(VLOOKUP(V43,Tabelas!B:D,3,0),0),\"\")","v":0},{"$f":"IF(A43<>\"\",IFERROR(VLOOKUP(W43,Tabelas!B:D,3,0),0),\"\")","v":0},{"$f":"IF(A43<>\"\",IFERROR(VLOOKUP(X43,Tabelas!B:D,3,0),0),\"\")","v":0},{"$f":"IF(A43<>\"\",IFERROR(VLOOKUP(Y43,Tabelas!B:D,3,0),0),\"\")","v":0},{"$f":"IF(A43<>\"\",IFERROR(VLOOKUP(Z43,Tabelas!B:D,3,0),0),\"\")","v":0},{"$f":"IF(A43<>\"\",IFERROR(VLOOKUP(AA43,Tabelas!B:D,3,0),0),\"\")","v":0},{"$f":"IF(A43<>\"\",IFERROR(VLOOKUP(AB43,Tabelas!B:D,3,0),0),\"\")","v":0},{"$f":"IF(A43<>\"\",IFERROR(VLOOKUP(AC43,Tabelas!B:D,3,0),0),\"\")","v":0},{"$f":"IF(A43<>\"\",IFERROR(VLOOKUP(AD43,Tabelas!B:D,3,0),0),\"\")","v":0},{"$f":"IF(A43<>\"\",IFERROR(VLOOKUP(AE43,Tabelas!B:D,3,0),0),\"\")","v":0},{"$f":"IF(A43<>\"\",IFERROR(VLOOKUP(AF43,Tabelas!B:D,3,0),0),\"\")","v":0},{"$f":"IF(A43<>\"\",IFERROR(VLOOKUP(AG43,Tabelas!B:D,3,0),0),\"\")","v":0},{"$f":"IF(A43<>\"\",IFERROR(VLOOKUP(AH43,Tabelas!B:D,3,0),0),\"\")","v":0},{"$f":"IF(A43<>\"\",IFERROR(VLOOKUP(AI43,Tabelas!B:D,3,0),0),\"\")","v":0},{"$f":"IF(A43<>\"\",IFERROR(VLOOKUP(AJ43,Tabelas!B:D,3,0),0),\"\")","v":0},{"$f":"IF(A43<>\"\",IFERROR(VLOOKUP(AK43,Tabelas!B:D,3,0),0),\"\")","v":0},{"$f":"IF(A43<>\"\",IFERROR(VLOOKUP(AL43,Tabelas!B:D,3,0),0),\"\")","v":0},{"$f":"IF(A43<>\"\",IFERROR(VLOOKUP(AM43,Tabelas!B:D,3,0),0),\"\")","v":0},{"$f":"IF(A43<>\"\",IFERROR(VLOOKUP(AN43,Tabelas!B:D,3,0),0),\"\")","v":0},{"$f":"IF(A43<>\"\",IFERROR(VLOOKUP(AO43,Tabelas!B:D,3,0),0),\"\")","v":0},{"$f":"IF(A43<>\"\",IFERROR(VLOOKUP(AP43,Tabelas!B:D,3,0),0),\"\")","v":0},{"$f":"IF(A43<>\"\",IFERROR(VLOOKUP(AQ43,Tabelas!B:D,3,0),0),\"\")","v":0},{"$f":"IF(A43<>\"\",IFERROR(VLOOKUP(AR43,Tabelas!B:D,3,0),0),\"\")","v":0},0,0,0,0,0,0,0,0,0]
["Fulano de Tal 28",1234567,123,"ENF","Ebserh",36,null,null,null,null,null,null,null,null,null,null,null,null,null,null,null,null,null,null,null,null,null,null,null,null,null,null,null,null,null,null,null,null,null,null,null,null,null,null,{"$f":"IF(A44<>\"\",IFERROR(VLOOKUP(N44,Tabelas!B:D,3,0),0),\"\")","v":0},{"$f":"IF(A44<>\"\",IFERROR(VLOOKUP(O44,Tabelas!B:D,3,0),0),\"\")","v":0},{"$f":"IF(A44<>\"\",IFERROR(VLOOKUP(P44,Tabelas!B:D,3,0),0),\"\")","v":0},{"$f":"IF(A44<>\"\",IFERROR(VLOOKUP(Q44,Tabelas!B:D,3,0),0),\"\")","v":0},{"$f":"IF(A44<>\"\",IFERROR(VLOOKUP(R44,Tabelas!B:D,3,0),0),\"\")","v":0},{"$f":"IF(A44<>\"\",IFERROR(VLOOKUP(S44,Tabelas!B:D,3,0),0),\"\")","v":0},{"$f":"IF(A44<>\"\",IFERROR(VLOOKUP(T44,Tabelas!B:D,3,0),0),\"\")","v":0},{"$f":"IF(A44<>\"\",IFERROR(VLOOKUP(U44,Tabelas!B:D,3,0),0),\"\")","v":0},{"$f":"IF(A44<>\"\",IFERROR(VLOOKUP(V44,Tabelas!B:D,3,0),0),\"\")","v":0},{"$f":"IF(A44<>\"\",IFERROR(VLOOKUP(W44,Tabelas!B:D,3,0),0),\"\")","v":0},{"$f":"IF(A44<>\"\",IFERROR(VLOOKUP(X44,Tabelas!B:D,3,0),0),\"\")","v":0},{"$f":"IF(A44<>\"\",IFERROR(VLOOKUP(Y44,Tabelas!B:D,3,0),0),\"\")","v":0},{"$f":"IF(A44<>\"\",IFERROR(VLOOKUP(Z44,Tabelas!B:D,3,0),0),\"\")","v":0},{"$f":"IF(A44<>\"\",IFERROR(VLOOKUP(AA44,Tabelas!B:D,3,0),0),\"\")","v":0},{"$f":"IF(A44<>\"\",IFERROR(VLOOKUP(AB44,Tabelas!B:D,3,0),0),\"\")","v":0},{"$f":"IF(A44<>\"\",IFERROR(VLOOKUP(AC44,Tabelas!B:D,3,0),0),\"\")","v":0},{"$f":"IF(A44<>\"\",IFERROR(VLOOKUP(AD44,Tabelas!B:D,3,0),0),\"\")","v":0},{"$f":"IF(A44<>\"\",IFERROR(VLOOKUP(AE44,Tabelas!B:D,3,0),0),\"\")","v":0},{"$f":"IF(A44<>\"\",IFERROR(VLOOKUP(AF44,Tabelas!B:D,3,0),0),\"\")","v":0},{"$f":"IF(A44<>\"\",IFERROR(VLOOKUP(AG44,Tabelas!B:D,3,0),0),\"\")","v":0},{"$f":"IF(A44<>\"\",IFERROR(VLOOKUP(AH44,Tabelas!B:D,3,0),0),\"\")","v":0},{"$f":"IF(A44<>\"\",IFERROR(VLOOKUP(AI44,Tabelas!B:D,3,0),0),\"\")","v":0},{"$f":"IF(A44<>\"\",IFERROR(VLOOKUP(AJ44,Tabelas!B:D,3,0),0),\"\")","v":0},{"$f":"IF(A44<>\"\",IFERROR(VLOOKUP(AK44,Tabelas!B:D,3,0),0),\"\")","v":0},{"$f":"IF(A44<>\"\",IFERROR(VLOOKUP(AL44,Tabelas!B:D,3,0),0),\"\")","v":0},{"$f":"IF(A44<>\"\",IFERROR(VLOOKUP(AM44,Tabelas!B:D,3,0),0),\"\")","v":0},{"$f":"IF(A44<>\"\",IFERROR(VLOOKUP(AN44,Tabelas!B:D,3,0),0),\"\")","v":0},{"$f":"IF(A44<>\"\",IFERROR(VLOOKUP(AO44,Tabelas!B:D,3,0),0),\"\")","v":0},{"$f":"IF(A44<>\"\",IFERROR(VLOOKUP(AP44,Tabelas!B:D,3,0),0),\"\")","v":0},{"$f":"IF(A44<>\"\",IFERROR(VLOOKUP(AQ44,Tabelas!B:D,3,0),0),\"\")","v":0},{"$f":"IF(A44<>\"\",IFERROR(VLOOKUP(AR44,Tabelas!B:D,3,0),0),\"\")","v":0},0,0,0,0,0,0,0,0,0]
[]
["Vespertino",null,null,null,null,null,null,null,null,null,null,null,null,null,null,null,null,null,null,null,null,null,null,null,null,null,null,null,null,null,null,null,null,null,null,null,null,null,null,null,null,null,null,null,null,null,null,null,null,null,null,null,null,null,null,null,null,null,null,null,null,null,null,null,null,null,null,null,null,null,null,null,null,null,null,null,0,0,0,0,0,0,0,0]
["Fulano de Tal 29",1234567,123,"ENF","Ebserh",36,null,null,null,null,null,null,null,null,null,null,null,null,null,null,null,null,null,null,null,null,null,null,null,null,null,null,null,null,null,null,null,null,null,null,null,null,null,null,{"$f":"IF(A47<>\"\",IFERROR(VLOOKUP(N47,Tabelas!B:D,3,0),0),\"\")","v":0},{"$f":"IF(A47<>\"\",IFERROR(VLOOKUP(O47,Tabelas!B:D,3,0),0),\"\")","v":0},{"$f":"IF(A47<>\"\",IFERROR(VLOOKUP(P47,Tabelas!B:D,3,0),0),\"\")","v":0},{"$f":"IF(A47<>\"\",IFERROR(VLOOKUP(Q47,Tabelas!B:D,3,0),0),\"\")","v":0},{"$f":"IF(A47<>\"\",IFERROR(VLOOKUP(R47,Tabelas!B:D,3,0),0),\"\")","v":0},{"$f":"IF(A47<>\"\",IFERROR(VLOOKUP(S47,Tabelas!B:D,3,0),0),\"\")","v":0},{"$f":"IF(A47<>\"\",IFERROR(VLOOKUP(T47,Tabelas!B:D,3,0),0),\"\")","v":0},{"$f":"IF(A47<>\"\",IFERROR(VLOOKUP(U47,Tabelas!B:D,3,0),0),\"\")","v":0},{"$f":"IF(A47<>\"\",IFERROR(VLOOKUP(V47,Tabelas!B:D,3,0),0),\"\")","v":0},{"$f":"IF(A47<>\"\",IFERROR(VLOOKUP(W47,Tabelas!B:D,3,0),0),\"\")","v":0},{"$f":"IF(A47<>\"\",IFERROR(VLOOKUP(X47,Tabelas!B:D,3,0),0),\"\")","v":0},{"$f":"IF(A47<>\"\",IFERROR(VLOOKUP(Y47,Tabelas!B:D,3,0),0),\"\")","v":0},{"$f":"IF(A47<>\"\",IFERROR(VLOOKUP(Z47,Tabelas!B:D,3,0),0),\"\")","v":0},{"$f":"IF(A47<>\"\",IFERROR(VLOOKUP(AA47,Tabelas!B:D,3,0),0),\"\")","v":0},{"$f":"IF(A47<>\"\",IFERROR(VLOOKUP(AB47,Tabelas!B:D,3,0),0),\"\")","v":0},{"$f":"IF(A47<>\"\",IFERROR(VLOOKUP(AC47,Tabelas!B:D,3,0),0),\"\")","v":0},{"$f":"IF(A47<>\"\",IFERROR(VLOOKUP(AD47,Tabelas!B:D,3,0),0),\"\")","v":0},{"$f":"IF(A47<>\"\",IFERROR(VLOOKUP(AE47,Tabelas!B:D,3,0),0),\"\")","v":0},{"$f":"IF(A47<>\"\",IFERROR(VLOOKUP(AF47,Tabelas!B:D,3,0),0),\"\")","v":0},{"$f":"IF(A47<>\"\",IFERROR(VLOOKUP(AG47,Tabelas!B:D,3,0),0),\"\")","v":0},{"$f":"IF(A47<>\"\",IFERROR(VLOOKUP(AH47,Tabelas!B:D,3,0),0),\"\")","v":0},{"$f":"IF(A47<>\"\",IFERROR(VLOOKUP(AI47,Tabelas!B:D,3,0),0),\"\")","v":0},{"$f":"IF(A47<>\"\",IFERROR(VLOOKUP(AJ47,Tabelas!B:D,3,0),0),\"\")","v":0},{"$f":"IF(A47<>\"\",IFERROR(VLOOKUP(AK47,Tabelas!B:D,3,0),0),\"\")","v":0},{"$f":"IF(A47<>\"\",IFERROR(VLOOKUP(AL47,Tabelas!B:D,3,0),0),\"\")","v":0},{"$f":"IF(A47<>\"\",IFERROR(VLOOKUP(AM47,Tabelas!B:D,3,0),0),\"\")","v":0},{"$f":"IF(A47<>\"\",IFERROR(VLOOKUP(AN47,Tabelas!B:D,3,0),0),\"\")","v":0},{"$f":"IF(A47<>\"\",IFERROR(VLOOKUP(AO47,Tabelas!B:D,3,0),0),\"\")","v":0},{"$f":"IF(A47<>\"\",IFERROR(VLOOKUP(AP47,Tabelas!B:D,3,0),0),\"\")","v":0},{"$f":"IF(A47<>\"\",IFERROR(VLOOKUP(AQ47,Tabelas!B:D,3,0),0),\"\")","v":0},{"$f":"IF(A47<>\"\",IFERROR(VLOOKUP(AR47,Tabelas!B:D,3,0),0),\"\")","v":0},0,0,0,0,0,0,0,0,0]
[]
[]
[]
[]
[]
[]
[]
[]
[]
[]
[]
[]
[]
[]
["Fulano de Tal 30",1234567,123,"ENF","Ebserh",36,null,null,null,null,null,null,null,null,null,null,null,null,null,null,null,null,null,null,null,null,null,null,null,null,null,null,null,null,null,null,null,null,null,null,null,null,null,null,{"$f":"IF(A62<>\"\",IFERROR(VLOOKUP(N62,Tabelas!B:D,3,0),0),\"\")","v":0},{"$f":"IF(A62<>\"\",IFERROR(VLOOKUP(O62,Tabelas!B:D,3,0),0),\"\")","v":0},{"$f":"IF(A62<>\"\",IFERROR(VLOOKUP(P62,Tabelas!B:D,3,0),0),\"\")","v":0},{"$f":"IF(A62<>\"\",IFERROR(VLOOKUP(Q62,Tabelas!B:D,3,0),0),\"\")","v":0},{"$f":"IF(A62<>\"\",IFERROR(VLOOKUP(R62,Tabelas!B:D,3,0),0),\"\")","v":0},{"$f":"IF(A62<>\"\",IFERROR(VLOOKUP(S62,Tabelas!B:D,3,0),0),\"\")","v":0},{"$f":"IF(A62<>\"\",IFERROR(VLOOKUP(T62,Tabelas!B:D,3,0),0),\"\")","v":0},{"$f":"IF(A62<>\"\",IFERROR(VLOOKUP(U62,Tabelas!B:D,3,0),0),\"\")","v":0},{"$f":"IF(A62<>\"\",IFERROR(VLOOKUP(V62,Tabelas!B:D,3,0),0),\"\")","v":0},{"$f":"IF(A62<>\"\",IFERROR(VLOOKUP(W62,Tabelas!B:D,3,0),0),\"\")","v":0},{"$f":"IF(A62<>\"\",IFERROR(VLOOKUP(X62,Tabelas!B:D,3,0),0),\"\")","v":0},{"$f":"IF(A62<>\"\",IFERROR(VLOOKUP(Y62,Tabelas!B:D,3,0),0),\"\")","v":0},{"$f":"IF(A62<>\"\",IFERROR(VLOOKUP(Z62,Tabelas!B:D,3,0),0),\"\")","v":0},{"$f":"IF(A62<>\"\",IFERROR(VLOOKUP(AA62,Tabelas!B:D,3,0),0),\"\")","v":0},{"$f":"IF(A62<>\"\",IFERROR(VLOOKUP(AB62,Tabelas!B:D,3,0),0),\"\")","v":0},{"$f":"IF(A62<>\"\",IFERROR(VLOOKUP(AC62,Tabelas!B:D,3,0),0),\"\")","v":0},{"$f":"IF(A62<>\"\",IFERROR(VLOOKUP(AD62,Tabelas!B:D,3,0),0),\"\")","v":0},{"$f":"IF(A62<>\"\",IFERROR(VLOOKUP(AE62,Tabelas!B:D,3,0),0),\"\")","v":0},{"$f":"IF(A62<>\"\",IFERROR(VLOOKUP(AF62,Tabelas!B:D,3,0),0),\"\")","v":0},{"$f":"IF(A62<>\"\",IFERROR(VLOOKUP(AG62,Tabelas!B:D,3,0),0),\"\")","v":0},{"$f":"IF(A62<>\"\",IFERROR(VLOOKUP(AH62,Tabelas!B:D,3,0),0),\"\")","v":0},{"$f":"IF(A62<>\"\",IFERROR(VLOOKUP(AI62,Tabelas!B:D,3,0),0),\"\")","v":0},{"$f":"IF(A62<>\"\",IFERROR(VLOOKUP(AJ62,Tabelas!B:D,3,0),0),\"\")","v":0},{"$f":"IF(A62<>\"\",IFERROR(VLOOKUP(AK62,Tabelas!B:D,3,0),0),\"\")","v":0},{"$f":"IF(A62<>\"\",IFERROR(VLOOKUP(AL62,Tabelas!B:D,3,0),0),\"\")","v":0},{"$f":"IF(A62<>\"\",IFERROR(VLOOKUP(AM62,Tabelas!B:D,3,0),0),\"\")","v":0},{"$f":"IF(A62<>\"\",IFERROR(VLOOKUP(AN62,Tabelas!B:D,3,0),0),\"\")","v":0},{"$f":"IF(A62<>\"\",IFERROR(VLOOKUP(AO62,Tabelas!B:D,3,0),0),\"\")","v":0},{"$f":"IF(A62<>\"\",IFERROR(VLOOKUP(AP62,Tabelas!B:D,3,0),0),\"\")","v":0},{"$f":"IF(A62<>\"\",IFERROR(VLOOKUP(AQ62,Tabelas!B:D,3,0),0),\"\")","v":0},{"$f":"IF(A62<>\"\",IFERROR(VLOOKUP(AR62,Tabelas!B:D,3,0),0),\"\")","v":0},0,0,0,0,0,0,0,0,0]
["TOTAL PROFISSIONAIS MATUTINO",null,null,null,null,null,null,null,null,null,null,null,null,{"$f":"COUNTIF(N11:N22,\"M\")+COUNTIF(N23:N35,\"M\")+COUNTIF(N36:N62,\"M\")+COUNTIF(N11:N22,\"M?\") +COUNTIF(N23:N35,\"M?\")+COUNTIF(N36:N62,\"M?\")+ COUNTIF(N11:N22, \"MT?\") + COUNTIF(N23:N35, \"MT?\")+ COUNTIF(N36:N62, \"MT?\")+ COUNTIF(N11:N22, \"D?\")  + COUNTIF(N23:N35, \"D?\")+COUNTIF(N36:N62, \"D?\")+ COUNTIF(N11:N22, \"DN?\")+ COUNTIF(N23:N35, \"DN?\")+ COUNTIF(N36:N62, \"DN?\")+ COUNTIF(N11:N22, \"MT??\") + COUNTIF(N23:N35, \"MT??\")+ COUNTIF(N36:N62, \"MT??\")+ COUNTIF(N11:N22, \"D\")  + COUNTIF(N23:N35, \"D\")+COUNTIF(N36:N62, \"D\")","v":0},0,0,0,0,0,0,0,0,0,0,0,0,0,0,0,0,0,0,0,0,0,0,0,0,0,0,0,0,0,0]
["TOTAL DE PROFISSIONAIS VESPERTINO",null,null,null,null,null,null,null,null,null,null,null,null,{"$f":"COUNTIF(N11:N22,\"T\")+COUNTIF(N23:N35,\"T\")+COUNTIF(N36:N62,\"T\")+COUNTIF(N11:N22,\"T?\") +COUNTIF(N23:N35,\"T?\")+COUNTIF(N36:N62,\"T?\")+ COUNTIF(N11:N22, \"MT?\") + COUNTIF(N23:N35, \"MT?\")+ COUNTIF(N36:N62, \"MT?\")+ COUNTIF(N11:N22, \"D?\")  + COUNTIF(N23:N35, \"D?\")+COUNTIF(N36:N62, \"D?\")+ COUNTIF(N11:N22, \"DN?\")+ COUNTIF(N23:N35, \"DN?\")+ COUNTIF(N36:N62, \"DN?\")+ COUNTIF(N11:N22, \"MT??\") + COUNTIF(N23:N35, \"MT??\")+ COUNTIF(N36:N62, \"MT??\")+ COUNTIF(N11:N22, \"D\")  + COUNTIF(N23:N35, \"D\")+COUNTIF(N36:N62, \"D\")","v":0},0,0,0,0,0,0,0,0,0,0,0,0,0,0,0,0,0,0,0,0,0,0,0,0,0,0,0,0,0,0,{"$f":"IF(A64<>\"\",IFERROR(VLOOKUP(N64,Tabelas!B:D,3,0),0),\"\")","v":0},{"$f":"IF(A64<>\"\",IFERROR(VLOOKUP(O64,Tabelas!B:D,3,0),0),\"\")","v":0},{"$f":"IF(A64<>\"\",IFERROR(VLOOKUP(P64,Tabelas!B:D,3,0),0),\"\")","v":0},{"$f":"IF(A64<>\"\",IFERROR(VLOOKUP(Q64,Tabelas!B:D,3,0),0),\"\")","v":0},{"$f":"IF(A64<>\"\",IFERROR(VLOOKUP(R64,Tabelas!B:D,3,0),0),\"\")","v":0},{"$f":"IF(A64<>\"\",IFERROR(VLOOKUP(S64,Tabelas!B:D,3,0),0),\"\")","v":0},{"$f":"IF(A64<>\"\",IFERROR(VLOOKUP(T64,Tabelas!B:D,3,0),0),\"\")","v":0},{"$f":"IF(A64<>\"\",IFERROR(VLOOKUP(U64,Tabelas!B:D,3,0),0),\"\")","v":0},{"$f":"IF(A64<>\"\",IFERROR(VLOOKUP(V64,Tabelas!B:D,3,0),0),\"\")","v":0},{"$f":"IF(A64<>\"\",IFERROR(VLOOKUP(W64,Tabelas!B:D,3,0),0),\"\")","v":0},{"$f":"IF(A64<>\"\",IFERROR(VLOOKUP(X64,Tabelas!B:D,3,0),0),\"\")","v":0},{"$f":"IF(A64<>\"\",IFERROR(VLOOKUP(Y64,Tabelas!B:D,3,0),0),\"\")","v":0},{"$f":"IF(A64<>\"\",IFERROR(VLOOKUP(Z64,Tabelas!B:D,3,0),0),\"\")","v":0},{"$f":"IF(A64<>\"\",IFERROR(VLOOKUP(AA64,Tabelas!B:D,3,0),0),\"\")","v":0},{"$f":"IF(A64<>\"\",IFERROR(VLOOKUP(AB64,Tabelas!B:D,3,0),0),\"\")","v":0},{"$f":"IF(A64<>\"\",IFERROR(VLOOKUP(AC64,Tabelas!B:D,3,0),0),\"\")","v":0},{"$f":"IF(A64<>\"\",IFERROR(VLOOKUP(AD64,Tabelas!B:D,3,0),0),\"\")","v":0},{"$f":"IF(A64<>\"\",IFERROR(VLOOKUP(AE64,Tabelas!B:D,3,0),0),\"\")","v":0},{"$f":"IF(A64<>\"\",IFERROR(VLOOKUP(AF64,Tabelas!B:D,3,0),0),\"\")","v":0},{"$f":"IF(A64<>\"\",IFERROR(VLOOKUP(AG64,Tabelas!B:D,3,0),0),\"\")","v":0},{"$f":"IF(A64<>\"\",IFERROR(VLOOKUP(AH64,Tabelas!B:D,3,0),0),\"\")","v":0},{"$f":"IF(A64<>\"\",IFERROR(VLOOKUP(AI64,Tabelas!B:D,3,0),0),\"\")","v":0},{"$f":"IF(A64<>\"\",IFERROR(VLOOKUP(AJ64,Tabelas!B:D,3,0),0),\"\")","v":0},{"$f":"IF(A64<>\"\",IFERROR(VLOOKUP(AK64,Tabelas!B:D,3,0),0),\"\")","v":0},{"$f":"IF(A64<>\"\",IFERROR(VLOOKUP(AL64,Tabelas!B:D,3,0),0),\"\")","v":0},{"$f":"IF(A64<>\"\",IFERROR(VLOOKUP(AM64,Tabelas!B:D,3,0),0),\"\")","v":0},{"$f":"IF(A64<>\"\",IFERROR(VLOOKUP(AN64,Tabelas!B:D,3,0),0),\"\")","v":0},{"$f":"IF(A64<>\"\",IFERROR(VLOOKUP(AO64,Tabelas!B:D,3,0),0),\"\")","v":0},{"$f":"IF(A64<>\"\",IFERROR(VLOOKUP(AP64,Tabelas!B:D,3,0),0),\"\")","v":0},{"$f":"IF(A64<>\"\",IFERROR(VLOOKUP(AQ64,Tabelas!B:D,3,0),0),\"\")","v":0},{"$f":"IF(A64<>\"\",IFERROR(VLOOKUP(AR64,Tabelas!B:D,3,0),0),\"\")","v":0}]
["TOTAL DE PROFISSIONAIS NOTURNO",null,null,null,null,null,null,null,null,null,null,null,null,{"$f":"COUNTIF(N11:N22,\"N\")+COUNTIF(N23:N35,\"N\")+COUNTIF(N36:N62,\"N\")+COUNTIF(N11:N22,\"N?\") +COUNTIF(N23:N35,\"N?\")+COUNTIF(N36:N62,\"N?\")+ COUNTIF(N11:N22, \"DN?\")+ COUNTIF(N23:N35, \"DN?\")+ COUNTIF(N36:N62, \"DN?\")","v":0},0,0,0,0,0,0,0,0,0,0,0,0,0,0,0,0,0,0,0,0,0,0,0,0,0,0,0,0,0,0,{"$f":"IF(A65<>\"\",IFERROR(VLOOKUP(N65,Tabelas!B:D,3,0),0),\"\")","v":0},{"$f":"IF(A65<>\"\",IFERROR(VLOOKUP(O65,Tabelas!B:D,3,0),0),\"\")","v":0},{"$f":"IF(A65<>\"\",IFERROR(VLOOKUP(P65,Tabelas!B:D,3,0),0),\"\")","v":0},{"$f":"IF(A65<>\"\",IFERROR(VLOOKUP(Q65,Tabelas!B:D,3,0),0),\"\")","v":0},{"$f":"IF(A65<>\"\",IFERROR(VLOOKUP(R65,Tabelas!B:D,3,0),0),\"\")","v":0},{"$f":"IF(A65<>\"\",IFERROR(VLOOKUP(S65,Tabelas!B:D,3,0),0),\"\")","v":0},{"$f":"IF(A65<>\"\",IFERROR(VLOOKUP(T65,Tabelas!B:D,3,0),0),\"\")","v":0},{"$f":"IF(A65<>\"\",IFERROR(VLOOKUP(U65,Tabelas!B:D,3,0),0),\"\")","v":0},{"$f":"IF(A65<>\"\",IFERROR(VLOOKUP(V65,Tabelas!B:D,3,0),0),\"\")","v":0},{"$f":"IF(A65<>\"\",IFERROR(VLOOKUP(W65,Tabelas!B:D,3,0),0),\"\")","v":0},{"$f":"IF(A65<>\"\",IFERROR(VLOOKUP(X65,Tabelas!B:D,3,0),0),\"\")","v":0},{"$f":"IF(A65<>\"\",IFERROR(VLOOKUP(Y65,Tabelas!B:D,3,0),0),\"\")","v":0},{"$f":"IF(A65<>\"\",IFERROR(VLOOKUP(Z65,Tabelas!B:D,3,0),0),\"\")","v":0},{"$f":"IF(A65<>\"\",IFERROR(VLOOKUP(AA65,Tabelas!B:D,3,0),0),\"\")","v":0},{"$f":"IF(A65<>\"\",IFERROR(VLOOKUP(AB65,Tabelas!B:D,3,0),0),\"\")","v":0},{"$f":"IF(A65<>\"\",IFERROR(VLOOKUP(AC65,Tabelas!B:D,3,0),0),\"\")","v":0},{"$f":"IF(A65<>\"\",IFERROR(VLOOKUP(AD65,Tabelas!B:D,3,0),0),\"\")","v":0},{"$f":"IF(A65<>\"\",IFERROR(VLOOKUP(AE65,Tabelas!B:D,3,0),0),\"\")","v":0},{"$f":"IF(A65<>\"\",IFERROR(VLOOKUP(AF65,Tabelas!B:D,3,0),0),\"\")","v":0},{"$f":"IF(A65<>\"\",IFERROR(VLOOKUP(AG65,Tabelas!B:D,3,0),0),\"\")","v":0},{"$f":"IF(A65<>\"\",IFERROR(VLOOKUP(AH65,Tabelas!B:D,3,0),0),\"\")","v":0},{"$f":"IF(A65<>\"\",IFERROR(VLOOKUP(AI65,Tabelas!B:D,3,0),0),\"\")","v":0},{"$f":"IF(A65<>\"\",IFERROR(VLOOKUP(AJ65,Tabelas!B:D,3,0),0),\"\")","v":0},{"$f":"IF(A65<>\"\",IFERROR(VLOOKUP(AK65,Tabelas!B:D,3,0),0),\"\")","v":0},{"$f":"IF(A65<>\"\",IFERROR(VLOOKUP(AL65,Tabelas!B:D,3,0),0),\"\")","v":0},{"$f":"IF(A65<>\"\",IFERROR(VLOOKUP(AM65,Tabelas!B:D,3,0),0),\"\")","v":0},{"$f":"IF(A65<>\"\",IFERROR(VLOOKUP(AN65,Tabelas!B:D,3,0),0),\"\")","v":0},{"$f":"IF(A65<>\"\",IFERROR(VLOOKUP(AO65,Tabelas!B:D,3,0),0),\"\")","v":0},{"$f":"IF(A65<>\"\",IFERROR(VLOOKUP(AP65,Tabelas!B:D,3,0),0),\"\")","v":0},{"$f":"IF(A65<>\"\",IFERROR(VLOOKUP(AQ65,Tabelas!B:D,3,0),0),\"\")","v":0},{"$f":"IF(A65<>\"\",IFERROR(VLOOKUP(AR65,Tabelas!B:D,3,0),0),\"\")","v":0}]
[null,null,null,null,null,null,null,null,null,null,null,null,null,null,null,null,null,null,null,null,null,null,null,null,null,null,null,null,null,null,null,null,null,null,null,null,null,null,null,null,null,null,null,null,{"$f":"IF(A66<>\"\",IFERROR(VLOOKUP(N66,Tabelas!B:D,3,0),0),\"\")","v":""},{"$f":"IF(A66<>\"\",IFERROR(VLOOKUP(O66,Tabelas!B:D,3,0),0),\"\")","v":""},{"$f":"IF(A66<>\"\",IFERROR(VLOOKUP(P66,Tabelas!B:D,3,0),0),\"\")","v":""},{"$f":"IF(A66<>\"\",IFERROR(VLOOKUP(Q66,Tabelas!B:D,3,0),0),\"\")","v":""},{"$f":"IF(A66<>\"\",IFERROR(VLOOKUP(R66,Tabelas!B:D,3,0),0),\"\")","v":""},{"$f":"IF(A66<>\"\",IFERROR(VLOOKUP(S66,Tabelas!B:D,3,0),0),\"\")","v":""},{"$f":"IF(A66<>\"\",IFERROR(VLOOKUP(T66,Tabelas!B:D,3,0),0),\"\")","v":""},{"$f":"IF(A66<>\"\",IFERROR(VLOOKUP(U66,Tabelas!B:D,3,0),0),\"\")","v":""},{"$f":"IF(A66<>\"\",IFERROR(VLOOKUP(V66,Tabelas!B:D,3,0),0),\"\")","v":""},{"$f":"IF(A66<>\"\",IFERROR(VLOOKUP(W66,Tabelas!B:D,3,0),0),\"\")","v":""},{"$f":"IF(A66<>\"\",IFERROR(VLOOKUP(X66,Tabelas!B:D,3,0),0),\"\")","v":""},{"$f":"IF(A66<>\"\",IFERROR(VLOOKUP(Y66,Tabelas!B:D,3,0),0),\"\")","v":""},{"$f":"IF(A66<>\"\",IFERROR(VLOOKUP(Z66,Tabelas!B:D,3,0),0),\"\")","v":""},{"$f":"IF(A66<>\"\",IFERROR(VLOOKUP(AA66,Tabelas!B:D,3,0),0),\"\")","v":""},{"$f":"IF(A66<>\"\",IFERROR(VLOOKUP(AB66,Tabelas!B:D,3,0),0),\"\")","v":""},{"$f":"IF(A66<>\"\",IFERROR(VLOOKUP(AC66,Tabelas!B:D,3,0),0),\"\")","v":""},{"$f":"IF(A66<>\"\",IFERROR(VLOOKUP(AD66,Tabelas!B:D,3,0),0),\"\")","v":""},{"$f":"IF(A66<>\"\",IFERROR(VLOOKUP(AE66,Tabelas!B:D,3,0),0),\"\")","v":""},{"$f":"IF(A66<>\"\",IFERROR(VLOOKUP(AF66,Tabelas!B:D,3,0),0),\"\")","v":""},{"$f":"IF(A66<>\"\",IFERROR(VLOOKUP(AG66,Tabelas!B:D,3,0),0),\"\")","v":""},{"$f":"IF(A66<>\"\",IFERROR(VLOOKUP(AH66,Tabelas!B:D,3,0),0),\"\")","v":""},{"$f":"IF(A66<>\"\",IFERROR(VLOOKUP(AI66,Tabelas!B:D,3,0),0),\"\")","v":""},{"$f":"IF(A66<>\"\",IFERROR(VLOOKUP(AJ66,Tabelas!B:D,3,0),0),\"\")","v":""},{"$f":"IF(A66<>\"\",IFERROR(VLOOKUP(AK66,Tabelas!B:D,3,0),0),\"\")","v":""},{"$f":"IF(A66<>\"\",IFERROR(VLOOKUP(AL66,Tabelas!B:D,3,0),0),\"\")","v":""},{"$f":"IF(A66<>\"\",IFERROR(VLOOKUP(AM66,Tabelas!B:D,3,0),0),\"\")","v":""},{"$f":"IF(A66<>\"\",IFERROR(VLOOKUP(AN66,Tabelas!B:D,3,0),0),\"\")","v":""},{"$f":"IF(A66<>\"\",IFERROR(VLOOKUP(AO66,Tabelas!B:D,3,0),0),\"\")","v":""},{"$f":"IF(A66<>\"\",IFERROR(VLOOKUP(AP66,Tabelas!B:D,3,0),0),\"\")","v":""},{"$f":"IF(A66<>\"\",IFERROR(VLOOKUP(AQ66,Tabelas!B:D,3,0),0),\"\")","v":""},{"$f":"IF(A66<>\"\",IFERROR(VLOOKUP(AR66,Tabelas!B:D,3,0),0),\"\")","v":""},"",{"$f":"IF(A66<>\"\",COUNTIF(N66:AR66,\"LM\")+COUNTIF(N66:AR66,\"L\"),\"\")","v":""},"","","","",null,{"$f":"IF(A66<>\"\",COUNTIF(N66:AR66,\"CE\")+COUNTIF(N66:AR66,\"L\")+COUNTIF(N66:AR66,\"LM\")+COUNTIF(N66:AR66,\"LC\")+COUNTIF(N66:AR66,\"AB\"),\"\")","v":""},{"$f":"IF(A66<>\"\",COUNTIF(N66:AR66,\"APH\"),\"\")","v":""}]
["Legenda:",null,null,null,null,null,null,null,null,null,null,null,null,null,null,null,null,null,null,null,null,null,null,null,null,null,null,null,null,null,null,null,null,null,null,null,null,null,null,null,null,null,null,null,null,null,null,null,null,null,null,null,null,null,null,null,null,null,null,null,null,null,null,null,null,null,null,null,null,null,null,null,null,null,null,"OBSERVAÇÕES:"]
["Licença Maternidade","LM","Férias",null,"FE","Ponto Facultativo",null,null,null,null,null,null,null,null,null,"PF","Manhã **",null,null,null,null,null,null,"M","Diunro (8 hrs) **",null,null,null,null,null,null,"MT",null,null,null,null,null,null,null,null,null,null,null,null,null,null,null,null,null,null,null,null,null,null,null,null,null,null,null,null,null,null,null,null,null,null,null,null,null,null,null,null,null,null,null,"* Para os Afastamentos previstos em lei, utilizar as legendas "]
["Licença Paternidade","LP","Feriado",null,"FD","Abono",null,null,null,null,null,null,null,null,null,"AB","Tarde **",null,null,null,null,null,null,"T","Dia/ noite (24 hrs) **",null,null,null,null,null,null,"DN",null,null,null,null,null,null,null,null,null,null,null,null,null,null,null,null,null,null,null,null,null,null,null,null,null,null,null,null,null,null,null,null,null,null,null,null,null,null,null,null,null,null,null,"numeradas conforme descrição no item 3.2.2 da NO DGP nº 04/2017."]
["Licença Médica/Odontológica","L","Folga",null,"FO","Compensação Horas Excedentes",null,null,null,null,null,null,null,null,null,"CE","Plantão Dia (12 hrs) **",null,null,null,null,null,null,"D",null,null,null,null,null,null,null,null,null,null,null,null,null,null,null,null,null,null,null,null,null,null,null,null,null,null,null,null,null,null,null,null,null,null,null,null,null,null,null,null,null,null,null,null,null,null,null,null,null,null,null,"** Para as variações de horários (M1, M2, T1, T2...), utilizar as "]
["Licença Capacitação","LC","Recesso",null,"RC","Afastamento*",null,null,null,null,null,null,null,null,null,"AF","Plantão Noite (12 hrs)**",null,null,null,null,null,null,"N",null,null,null,null,null,null,null,null,null,null,null,null,null,null,null,null,null,null,null,null,null,null,null,null,null,null,null,null,null,null,null,null,null,null,null,null,null,null,null,null,null,null,null,null,null,null,null,null,null,null,null,"legendas numeradas conforme descrição do item 3.2.2 na Norma "]
[null,null,null,null,null,null,null,null,null,null,null,null,null,null,null,null,null,null,null,null,null,null,null,null,null,null,null,null,null,null,null,null,null,null,null,null,null,null,null,null,null,null,null,null,null,null,null,null,null,null,null,null,null,null,null,null,null,null,null,null,null,null,null,null,null,null,null,null,null,null,null,null,null,null,null,"Operacional DGP nº 04/2017."]

{"sheet":"Novembro","index":10,"n_rows":48,"n_cols":84,"rows_kept":48,"cut":false,"hidden":false,"merged":[[38,0,38,6],[39,0,39,6],[40,0,40,6],[5,0,7,0],[5,1,7,1],[5,2,7,2],[5,3,7,3],[5,4,7,4],[5,5,7,5],[5,6,5,12],[42,75,42,83],[5,78,6,78],[5,79,6,79],[5,80,6,80],[5,81,6,81],[5,82,6,82],[5,83,6,83],[5,77,6,77],[5,13,5,43],[5,44,5,74],[5,75,6,75],[5,76,6,76],[6,6,7,6],[6,7,7,7],[6,8,7,8],[6,9,6,10],[6,11,7,11],[6,12,7,12],[1,0,1,43],[2,0,2,43],[3,0,3,43],[4,1,4,21],[4,24,4,35],[4,38,4,43]]}
[]
[]
["Hospital Universitário Professor Polydoro Ernani de São Thiago"]
["ESCALA MENSAL DE TRABALHO"]
["DIVISÃO /SETOR/UNIDADE:",null,null,null,null,null,null,null,null,null,null,null,null,null,null,null,null,null,null,null,null,null,"MÊS:",null,"Novembro",null,null,null,null,null,null,null,null,null,null,null,"ANO:",null,2018]
["NOME COMPLETO","SIAPE","REGISTRO CONSELHO CLASSE","CARGO","VÍNCULO","C.H SEM.","INTERVALO",null,null,null,null,null,null,"DIAS DO MÊS",null,null,null,null,null,null,null,null,null,null,null,null,null,null,null,null,null,null,null,null,null,null,null,null,null,null,null,null,null,null,"CÁLCULO DAS HORAS",null,null,null,null,null,null,null,null,null,null,null,null,null,null,null,null,null,null,null,null,null,null,null,null,null,null,null,null,null,null,"CH MENSAL","LM/LP/L","Abono","Férias","LC","CE","AF  Legais"," TOTAL AFASTAMENTOS","APH"]
[null,null,null,null,null,null,"M","MT","D","DN",null,"T","N",1,2,3,4,5,6,7,8,9,10,11,12,13,14,15,16,17,18,19,20,21,22,23,24,25,{"$f":"IF(DAY(DATE(AM5,VLOOKUP(Y5,Tabelas!M:N,2,0)+1,1)-1)>=26,26,\"\")","v":26},{"$f":"IF(DAY(DATE(AM5,VLOOKUP(Y5,Tabelas!M:N,2,0)+1,1)-1)>=27,27,\"\")","v":27},{"$f":"IF(DAY(DATE(AM5,VLOOKUP(Y5,Tabelas!M:N,2,0)+1,1)-1)>=28,28,\"\")","v":28},{"$f":"IF(DAY(DATE(AM5,VLOOKUP(Y5,Tabelas!M:N,2,0)+1,1)-1)>=29,29,\"\")","v":29},{"$f":"IF(DAY(DATE(AM5,VLOOKUP(Y5,Tabelas!M:N,2,0)+1,1)-1)>=30,30,\"\")","v":30},{"$f":"IF(DAY(DATE(AM5,VLOOKUP(Y5,Tabelas!M:N,2,0)+1,1)-1)>=31,31,\"\")","v":""}]
[null,null,null,null,null,null,null,null,null,1,2,null,null,{"$f":"IF(N7<>\"\",IFERROR(VLOOKUP(WEEKDAY(CONCATENATE(N7,$Y$5,$AM$5)),Tabelas!$I:$J,2,0),\"\"),\"\")","v":"QUI"},{"$f":"IF(O7<>\"\",IFERROR(VLOOKUP(WEEKDAY(CONCATENATE(O7,$Y$5,$AM$5)),Tabelas!$I:$J,2,0),\"\"),\"\")","v":"SEX"},{"$f":"IF(P7<>\"\",IFERROR(VLOOKUP(WEEKDAY(CONCATENATE(P7,$Y$5,$AM$5)),Tabelas!$I:$J,2,0),\"\"),\"\")","v":"SAB"},{"$f":"IF(Q7<>\"\",IFERROR(VLOOKUP(WEEKDAY(CONCATENATE(Q7,$Y$5,$AM$5)),Tabelas!$I:$J,2,0),\"\"),\"\")","v":"DOM"},{"$f":"IF(R7<>\"\",IFERROR(VLOOKUP(WEEKDAY(CONCATENATE(R7,$Y$5,$AM$5)),Tabelas!$I:$J,2,0),\"\"),\"\")","v":"SEG"},{"$f":"IF(S7<>\"\",IFERROR(VLOOKUP(WEEKDAY(CONCATENATE(S7,$Y$5,$AM$5)),Tabelas!$I:$J,2,0),\"\"),\"\")","v":"TER"},{"$f":"IF(T7<>\"\",IFERROR(VLOOKUP(WEEKDAY(CONCATENATE(T7,$Y$5,$AM$5)),Tabelas!$I:$J,2,0),\"\"),\"\")","v":"QUA"},{"$f":"IF(U7<>\"\",IFERROR(VLOOKUP(WEEKDAY(CONCATENATE(U7,$Y$5,$AM$5)),Tabelas!$I:$J,2,0),\"\"),\"\")","v":"QUI"},{"$f":"IF(V7<>\"\",IFERROR(VLOOKUP(WEEKDAY(CONCATENATE(V7,$Y$5,$AM$5)),Tabelas!$I:$J,2,0),\"\"),\"\")","v":"SEX"},{"$f":"IF(W7<>\"\",IFERROR(VLOOKUP(WEEKDAY(CONCATENATE(W7,$Y$5,$AM$5)),Tabelas!$I:$J,2,0),\"\"),\"\")","v":"SAB"},{"$f":"IF(X7<>\"\",IFERROR(VLOOKUP(WEEKDAY(CONCATENATE(X7,$Y$5,$AM$5)),Tabelas!$I:$J,2,0),\"\"),\"\")","v":"DOM"},{"$f":"IF(Y7<>\"\",IFERROR(VLOOKUP(WEEKDAY(CONCATENATE(Y7,$Y$5,$AM$5)),Tabelas!$I:$J,2,0),\"\"),\"\")","v":"SEG"},{"$f":"IF(Z7<>\"\",IFERROR(VLOOKUP(WEEKDAY(CONCATENATE(Z7,$Y$5,$AM$5)),Tabelas!$I:$J,2,0),\"\"),\"\")","v":"TER"},{"$f":"IF(AA7<>\"\",IFERROR(VLOOKUP(WEEKDAY(CONCATENATE(AA7,$Y$5,$AM$5)),Tabelas!$I:$J,2,0),\"\"),\"\")","v":"QUA"},{"$f":"IF(AB7<>\"\",IFERROR(VLOOKUP(WEEKDAY(CONCATENATE(AB7,$Y$5,$AM$5)),Tabelas!$I:$J,2,0),\"\"),\"\")","v":"QUI"},{"$f":"IF(AC7<>\"\",IFERROR(VLOOKUP(WEEKDAY(CONCATENATE(AC7,$Y$5,$AM$5)),Tabelas!$I:$J,2,0),\"\"),\"\")","v":"SEX"},{"$f":"IF(AD7<>\"\",IFERROR(VLOOKUP(WEEKDAY(CONCATENATE(AD7,$Y$5,$AM$5)),Tabelas!$I:$J,2,0),\"\"),\"\")","v":"SAB"},{"$f":"IF(AE7<>\"\",IFERROR(VLOOKUP(WEEKDAY(CONCATENATE(AE7,$Y$5,$AM$5)),Tabelas!$I:$J,2,0),\"\"),\"\")","v":"DOM"},{"$f":"IF(AF7<>\"\",IFERROR(VLOOKUP(WEEKDAY(CONCATENATE(AF7,$Y$5,$AM$5)),Tabelas!$I:$J,2,0),\"\"),\"\")","v":"SEG"},{"$f":"IF(AG7<>\"\",IFERROR(VLOOKUP(WEEKDAY(CONCATENATE(AG7,$Y$5,$AM$5)),Tabelas!$I:$J,2,0),\"\"),\"\")","v":"TER"},{"$f":"IF(AH7<>\"\",IFERROR(VLOOKUP(WEEKDAY(CONCATENATE(AH7,$Y$5,$AM$5)),Tabelas!$I:$J,2,0),\"\"),\"\")","v":"QUA"},{"$f":"IF(AI7<>\"\",IFERROR(VLOOKUP(WEEKDAY(CONCATENATE(AI7,$Y$5,$AM$5)),Tabelas!$I:$J,2,0),\"\"),\"\")","v":"QUI"},{"$f":"IF(AJ7<>\"\",IFERROR(VLOOKUP(WEEKDAY(CONCATENATE(AJ7,$Y$5,$AM$5)),Tabelas!$I:$J,2,0),\"\"),\"\")","v":"SEX"},{"$f":"IF(AK7<>\"\",IFERROR(VLOOKUP(WEEKDAY(CONCATENATE(AK7,$Y$5,$AM$5)),Tabelas!$I:$J,2,0),\"\"),\"\")","v":"SAB"},{"$f":"IF(AL7<>\"\",IFERROR(VLOOKUP(WEEKDAY(CONCATENATE(AL7,$Y$5,$AM$5)),Tabelas!$I:$J,2,0),\"\"),\"\")","v":"DOM"},{"$f":"IF(AM7<>\"\",IFERROR(VLOOKUP(WEEKDAY(CONCATENATE(AM7,$Y$5,$AM$5)),Tabelas!$I:$J,2,0),\"\"),\"\")","v":"SEG"},{"$f":"IF(AN7<>\"\",IFERROR(VLOOKUP(WEEKDAY(CONCATENATE(AN7,$Y$5,$AM$5)),Tabelas!$I:$J,2,0),\"\"),\"\")","v":"TER"},{"$f":"IF(AO7<>\"\",IFERROR(VLOOKUP(WEEKDAY(CONCATENATE(AO7,$Y$5,$AM$5)),Tabelas!$I:$J,2,0),\"\"),\"\")","v":"QUA"},{"$f":"IF(AP7<>\"\",IFERROR(VLOOKUP(WEEKDAY(CONCATENATE(AP7,$Y$5,$AM$5)),Tabelas!$I:$J,2,0),\"\"),\"\")","v":"QUI"},{"$f":"IF(AQ7<>\"\",IFERROR(VLOOKUP(WEEKDAY(CONCATENATE(AQ7,$Y$5,$AM$5)),Tabelas!$I:$J,2,0),\"\"),\"\")","v":"SEX"},{"$f":"IF(AR7<>\"\",IFERROR(VLOOKUP(WEEKDAY(CONCATENATE(AR7,$Y$5,$AM$5)),Tabelas!$I:$J,2,0),\"\"),\"\")","v":""},1,2,3,4,5,6,7,8,9,10,11,12,13,14,15,16,17,18,19,20,21,22,23,24,25,26,27,28,29,30,31,"Total","Dias","Dias","Dias","Dias","Dias","Dias","Dias","Dias"]
["Fulano de Tal 1",1234567,123,"ENF","Ebserh",36,null,null,null,null,null,null,null,null,null,null,null,null,null,null,null,null,null,null,null,null,null,null,null,null,null,null,null,null,null,null,null,null,null,null,null,null,null,null,{"$f":"IF(A9<>\"\",IFERROR(VLOOKUP(N9,Tabelas!B:D,3,0),0),\"\")","v":0},{"$f":"IF(A9<>\"\",IFERROR(VLOOKUP(O9,Tabelas!B:D,3,0),0),\"\")","v":0},{"$f":"IF(A9<>\"\",IFERROR(VLOOKUP(P9,Tabelas!B:D,3,0),0),\"\")","v":0},{"$f":"IF(A9<>\"\",IFERROR(VLOOKUP(Q9,Tabelas!B:D,3,0),0),\"\")","v":0},{"$f":"IF(A9<>\"\",IFERROR(VLOOKUP(R9,Tabelas!B:D,3,0),0),\"\")","v":0},{"$f":"IF(A9<>\"\",IFERROR(VLOOKUP(S9,Tabelas!B:D,3,0),0),\"\")","v":0},{"$f":"IF(A9<>\"\",IFERROR(VLOOKUP(T9,Tabelas!B:D,3,0),0),\"\")","v":0},{"$f":"IF(A9<>\"\",IFERROR(VLOOKUP(U9,Tabelas!B:D,3,0),0),\"\")","v":0},{"$f":"IF(A9<>\"\",IFERROR(VLOOKUP(V9,Tabelas!B:D,3,0),0),\"\")","v":0},{"$f":"IF(A9<>\"\",IFERROR(VLOOKUP(W9,Tabelas!B:D,3,0),0),\"\")","v":0},{"$f":"IF(A9<>\"\",IFERROR(VLOOKUP(X9,Tabelas!B:D,3,0),0),\"\")","v":0},{"$f":"IF(A9<>\"\",IFERROR(VLOOKUP(Y9,Tabelas!B:D,3,0),0),\"\")","v":0},{"$f":"IF(A9<>\"\",IFERROR(VLOOKUP(Z9,Tabelas!B:D,3,0),0),\"\")","v":0},{"$f":"IF(A9<>\"\",IFERROR(VLOOKUP(AA9,Tabelas!B:D,3,0),0),\"\")","v":0},{"$f":"IF(A9<>\"\",IFERROR(VLOOKUP(AB9,Tabelas!B:D,3,0),0),\"\")","v":0},{"$f":"IF(A9<>\"\",IFERROR(VLOOKUP(AC9,Tabelas!B:D,3,0),0),\"\")","v":0},{"$f":"IF(A9<>\"\",IFERROR(VLOOKUP(AD9,Tabelas!B:D,3,0),0),\"\")","v":0},{"$f":"IF(A9<>\"\",IFERROR(VLOOKUP(AE9,Tabelas!B:D,3,0),0),\"\")","v":0},{"$f":"IF(A9<>\"\",IFERROR(VLOOKUP(AF9,Tabelas!B:D,3,0),0),\"\")","v":0},{"$f":"IF(A9<>\"\",IFERROR(VLOOKUP(AG9,Tabelas!B:D,3,0),0),\"\")","v":0},{"$f":"IF(A9<>\"\",IFERROR(VLOOKUP(AH9,Tabelas!B:D,3,0),0),\"\")","v":0},{"$f":"IF(A9<>\"\",IFERROR(VLOOKUP(AI9,Tabelas!B:D,3,0),0),\"\")","v":0},{"$f":"IF(A9<>\"\",IFERROR(VLOOKUP(AJ9,Tabelas!B:D,3,0),0),\"\")","v":0},{"$f":"IF(A9<>\"\",IFERROR(VLOOKUP(AK9,Tabelas!B:D,3,0),0),\"\")","v":0},{"$f":"IF(A9<>\"\",IFERROR(VLOOKUP(AL9,Tabelas!B:D,3,0),0),\"\")","v":0},{"$f":"IF(A9<>\"\",IFERROR(VLOOKUP(AM9,Tabelas!B:D,3,0),0),\"\")","v":0},{"$f":"IF(A9<>\"\",IFERROR(VLOOKUP(AN9,Tabelas!B:D,3,0),0),\"\")","v":0},{"$f":"IF(A9<>\"\",IFERROR(VLOOKUP(AO9,Tabelas!B:D,3,0),0),\"\")","v":0},{"$f":"IF(A9<>\"\",IFERROR(VLOOKUP(AP9,Tabelas!B:D,3,0),0),\"\")","v":0},{"$f":"IF(A9<>\"\",IFERROR(VLOOKUP(AQ9,Tabelas!B:D,3,0),0),\"\")","v":0},{"$f":"IF(A9<>\"\",IFERROR(VLOOKUP(AR9,Tabelas!B:D,3,0),0),\"\")","v":0},{"$f":"IF(A9<>\"\",SUM(AS9:BW9),\"\")","v":0},{"$f":"IF(A9<>\"\",COUNTIF(N9:AR9,\"LM\")+COUNTIF(N9:AR9,\"L\"),\"\")+COUNTIF(N9:AR9,\"LP\")","v":0},{"$f":"IF(A9<>\"\",COUNTIF(N9:AR9,\"AB\"),\"\")","v":0},{"$f":"IF(A9<>\"\",COUNTIF(N9:AR9,\"FE\"),\"\")","v":0},{"$f":"IF(A9<>\"\",COUNTIF(N9:AR9,\"LC\"),\"\")","v":0},{"$f":"IF(A9<>\"\",COUNTIF(N9:AR9,\"CE\"),\"\")","v":0},{"$f":"IF(A9<>\"\",COUNTIF(N9:AR9,\"AF1\")+COUNTIF(N9:AR9,\"AF2\")+COUNTIF(N9:AR9,\"AF3\")+COUNTIF(N9:AR9,\"AF4\")+COUNTIF(N9:AR9,\"AF5\")+COUNTIF(N9:AR9,\"AF6\")+COUNTIF(N9:AR9,\"AF7\")+COUNTIF(N9:AR9,\"AF8\")+COUNTIF(N9:AR9,\"AF9\")+COUNTIF(N9:AR9,\"AF10\")+COUNTIF(N9:AR9,\"AF11\")+COUNTIF(N9:AR9,\"AF12\")+COUNTIF(N9:AR9,\"AF13\")+COUNTIF(N9:AR9,\"AF14\"),\"\")","v":0},{"$f":"IF(A9<>\"\",COUNTIF(N9:AR9,\"CE\")+COUNTIF(N9:AR9,\"L\")+COUNTIF(N9:AR9,\"LM\")+COUNTIF(N9:AR9,\"LP\")+COUNTIF(N9:AR9,\"LC\")+COUNTIF(N9:AR9,\"AB\")+COUNTIF(N9:AR9,\"AF1\")+COUNTIF(N9:AR9,\"AF2\")+COUNTIF(N9:AR9,\"AF3\")+COUNTIF(N9:AR9,\"AF4\")+COUNTIF(N9:AR9,\"AF5\")+COUNTIF(N9:AR9,\"AF6\")+COUNTIF(N9:AR9,\"AF7\")+COUNTIF(N9:AR9,\"AF8\")+COUNTIF(N9:AR9,\"AF9\")+COUNTIF(N9:AR9,\"AF10\")+COUNTIF(N9:AR9,\"AF11\")+COUNTIF(N9:AR9,\"AF12\")+COUNTIF(N9:AR9,\"AF13\")+COUNTIF(N9:AR9,\"AF14\")+COUNTIF(N9:AR9,\"RC\")+COUNTIF(N9:AR9,\"FO\")+COUNTIF(N9:AR9,\"FE\"),\"\")","v":0},{"$f":"IF(A9<>\"\",COUNTIF(N9:AR9,\"APH\"),\"\")","v":0}]
["Fulano de Tal 2",1234567,123,"ENF","Ebserh",36,null,null,null,null,null,null,null,null,null,null,null,null,null,null,null,null,null,null,null,null,null,null,null,null,null,null,null,null,null,null,null,null,null,null,null,null,null,null,{"$f":"IF(A10<>\"\",IFERROR(VLOOKUP(N10,Tabelas!B:D,3,0),0),\"\")","v":0},{"$f":"IF(A10<>\"\",IFERROR(VLOOKUP(O10,Tabelas!B:D,3,0),0),\"\")","v":0},{"$f":"IF(A10<>\"\",IFERROR(VLOOKUP(P10,Tabelas!B:D,3,0),0),\"\")","v":0},{"$f":"IF(A10<>\"\",IFERROR(VLOOKUP(Q10,Tabelas!B:D,3,0),0),\"\")","v":0},{"$f":"IF(A10<>\"\",IFERROR(VLOOKUP(R10,Tabelas!B:D,3,0),0),\"\")","v":0},{"$f":"IF(A10<>\"\",IFERROR(VLOOKUP(S10,Tabelas!B:D,3,0),0),\"\")","v":0},{"$f":"IF(A10<>\"\",IFERROR(VLOOKUP(T10,Tabelas!B:D,3,0),0),\"\")","v":0},{"$f":"IF(A10<>\"\",IFERROR(VLOOKUP(U10,Tabelas!B:D,3,0),0),\"\")","v":0},{"$f":"IF(A10<>\"\",IFERROR(VLOOKUP(V10,Tabelas!B:D,3,0),0),\"\")","v":0},{"$f":"IF(A10<>\"\",IFERROR(VLOOKUP(W10,Tabelas!B:D,3,0),0),\"\")","v":0},{"$f":"IF(A10<>\"\",IFERROR(VLOOKUP(X10,Tabelas!B:D,3,0),0),\"\")","v":0},{"$f":"IF(A10<>\"\",IFERROR(VLOOKUP(Y10,Tabelas!B:D,3,0),0),\"\")","v":0},{"$f":"IF(A10<>\"\",IFERROR(VLOOKUP(Z10,Tabelas!B:D,3,0),0),\"\")","v":0},{"$f":"IF(A10<>\"\",IFERROR(VLOOKUP(AA10,Tabelas!B:D,3,0),0),\"\")","v":0},{"$f":"IF(A10<>\"\",IFERROR(VLOOKUP(AB10,Tabelas!B:D,3,0),0),\"\")","v":0},{"$f":"IF(A10<>\"\",IFERROR(VLOOKUP(AC10,Tabelas!B:D,3,0),0),\"\")","v":0},{"$f":"IF(A10<>\"\",IFERROR(VLOOKUP(AD10,Tabelas!B:D,3,0),0),\"\")","v":0},{"$f":"IF(A10<>\"\",IFERROR(VLOOKUP(AE10,Tabelas!B:D,3,0),0),\"\")","v":0},{"$f":"IF(A10<>\"\",IFERROR(VLOOKUP(AF10,Tabelas!B:D,3,0),0),\"\")","v":0},{"$f":"IF(A10<>\"\",IFERROR(VLOOKUP(AG10,Tabelas!B:D,3,0),0),\"\")","v":0},{"$f":"IF(A10<>\"\",IFERROR(VLOOKUP(AH10,Tabelas!B:D,3,0),0),\"\")","v":0},{"$f":"IF(A10<>\"\",IFERROR(VLOOKUP(AI10,Tabelas!B:D,3,0),0),\"\")","v":0},{"$f":"IF(A10<>\"\",IFERROR(VLOOKUP(AJ10,Tabelas!B:D,3,0),0),\"\")","v":0},{"$f":"IF(A10<>\"\",IFERROR(VLOOKUP(AK10,Tabelas!B:D,3,0),0),\"\")","v":0},{"$f":"IF(A10<>\"\",IFERROR(VLOOKUP(AL10,Tabelas!B:D,3,0),0),\"\")","v":0},{"$f":"IF(A10<>\"\",IFERROR(VLOOKUP(AM10,Tabelas!B:D,3,0),0),\"\")","v":0},{"$f":"IF(A10<>\"\",IFERROR(VLOOKUP(AN10,Tabelas!B:D,3,0),0),\"\")","v":0},{"$f":"IF(A10<>\"\",IFERROR(VLOOKUP(AO10,Tabelas!B:D,3,0),0),\"\")","v":0},{"$f":"IF(A10<>\"\",IFERROR(VLOOKUP(AP10,Tabelas!B:D,3,0),0),\"\")","v":0},{"$f":"IF(A10<>\"\",IFERROR(VLOOKUP(AQ10,Tabelas!B:D,3,0),0),\"\")","v":0},{"$f":"IF(A10<>\"\",IFERROR(VLOOKUP(AR10,Tabelas!B:D,3,0),0),\"\")","v":0},{"$f":"IF(A10<>\"\",SUM(AS10:BW10),\"\")","v":0},{"$f":"IF(A10<>\"\",COUNTIF(N10:AR10,\"LM\")+COUNTIF(N10:AR10,\"L\"),\"\")+COUNTIF(N10:AR10,\"LP\")","v":0},0,0,0,0,{"$f":"IF(A10<>\"\",COUNTIF(N10:AR10,\"AF1\")+COUNTIF(N10:AR10,\"AF2\")+COUNTIF(N10:AR10,\"AF3\")+COUNTIF(N10:AR10,\"AF4\")+COUNTIF(N10:AR10,\"AF5\")+COUNTIF(N10:AR10,\"AF6\")+COUNTIF(N10:AR10,\"AF7\")+COUNTIF(N10:AR10,\"AF8\")+COUNTIF(N10:AR10,\"AF9\")+COUNTIF(N10:AR10,\"AF10\")+COUNTIF(N10:AR10,\"AF11\")+COUNTIF(N10:AR10,\"AF12\")+COUNTIF(N10:AR10,\"AF13\")+COUNTIF(N10:AR10,\"AF14\"),\"\")","v":0},{"$f":"IF(A10<>\"\",COUNTIF(N10:AR10,\"CE\")+COUNTIF(N10:AR10,\"L\")+COUNTIF(N10:AR10,\"LM\")+COUNTIF(N10:AR10,\"LP\")+COUNTIF(N10:AR10,\"LC\")+COUNTIF(N10:AR10,\"AB\")+COUNTIF(N10:AR10,\"AF1\")+COUNTIF(N10:AR10,\"AF2\")+COUNTIF(N10:AR10,\"AF3\")+COUNTIF(N10:AR10,\"AF4\")+COUNTIF(N10:AR10,\"AF5\")+COUNTIF(N10:AR10,\"AF6\")+COUNTIF(N10:AR10,\"AF7\")+COUNTIF(N10:AR10,\"AF8\")+COUNTIF(N10:AR10,\"AF9\")+COUNTIF(N10:AR10,\"AF10\")+COUNTIF(N10:AR10,\"AF11\")+COUNTIF(N10:AR10,\"AF12\")+COUNTIF(N10:AR10,\"AF13\")+COUNTIF(N10:AR10,\"AF14\")+COUNTIF(N10:AR10,\"RC\")+COUNTIF(N10:AR10,\"FO\")+COUNTIF(N10:AR10,\"FE\"),\"\")","v":0},{"$f":"IF(A10<>\"\",COUNTIF(N10:AR10,\"APH\"),\"\")","v":0}]
["Fulano de Tal 3",1234567,123,"ENF","Ebserh",36,null,null,null,null,null,null,null,null,null,null,null,null,null,null,null,null,null,null,null,null,null,null,null,null,null,null,null,null,null,null,null,null,null,null,null,null,null,null,{"$f":"IF(A11<>\"\",IFERROR(VLOOKUP(N11,Tabelas!B:D,3,0),0),\"\")","v":0},{"$f":"IF(A11<>\"\",IFERROR(VLOOKUP(O11,Tabelas!B:D,3,0),0),\"\")","v":0},{"$f":"IF(A11<>\"\",IFERROR(VLOOKUP(P11,Tabelas!B:D,3,0),0),\"\")","v":0},{"$f":"IF(A11<>\"\",IFERROR(VLOOKUP(Q11,Tabelas!B:D,3,0),0),\"\")","v":0},{"$f":"IF(A11<>\"\",IFERROR(VLOOKUP(R11,Tabelas!B:D,3,0),0),\"\")","v":0},{"$f":"IF(A11<>\"\",IFERROR(VLOOKUP(S11,Tabelas!B:D,3,0),0),\"\")","v":0},{"$f":"IF(A11<>\"\",IFERROR(VLOOKUP(T11,Tabelas!B:D,3,0),0),\"\")","v":0},{"$f":"IF(A11<>\"\",IFERROR(VLOOKUP(U11,Tabelas!B:D,3,0),0),\"\")","v":0},{"$f":"IF(A11<>\"\",IFERROR(VLOOKUP(V11,Tabelas!B:D,3,0),0),\"\")","v":0},{"$f":"IF(A11<>\"\",IFERROR(VLOOKUP(W11,Tabelas!B:D,3,0),0),\"\")","v":0},{"$f":"IF(A11<>\"\",IFERROR(VLOOKUP(X11,Tabelas!B:D,3,0),0),\"\")","v":0},{"$f":"IF(A11<>\"\",IFERROR(VLOOKUP(Y11,Tabelas!B:D,3,0),0),\"\")","v":0},{"$f":"IF(A11<>\"\",IFERROR(VLOOKUP(Z11,Tabelas!B:D,3,0),0),\"\")","v":0},{"$f":"IF(A11<>\"\",IFERROR(VLOOKUP(AA11,Tabelas!B:D,3,0),0),\"\")","v":0},{"$f":"IF(A11<>\"\",IFERROR(VLOOKUP(AB11,Tabelas!B:D,3,0),0),\"\")","v":0},{"$f":"IF(A11<>\"\",IFERROR(VLOOKUP(AC11,Tabelas!B:D,3,0),0),\"\")","v":0},{"$f":"IF(A11<>\"\",IFERROR(VLOOKUP(AD11,Tabelas!B:D,3,0),0),\"\")","v":0},{"$f":"IF(A11<>\"\",IFERROR(VLOOKUP(AE11,Tabelas!B:D,3,0),0),\"\")","v":0},{"$f":"IF(A11<>\"\",IFERROR(VLOOKUP(AF11,Tabelas!B:D,3,0),0),\"\")","v":0},{"$f":"IF(A11<>\"\",IFERROR(VLOOKUP(AG11,Tabelas!B:D,3,0),0),\"\")","v":0},{"$f":"IF(A11<>\"\",IFERROR(VLOOKUP(AH11,Tabelas!B:D,3,0),0),\"\")","v":0},{"$f":"IF(A11<>\"\",IFERROR(VLOOKUP(AI11,Tabelas!B:D,3,0),0),\"\")","v":0},{"$f":"IF(A11<>\"\",IFERROR(VLOOKUP(AJ11,Tabelas!B:D,3,0),0),\"\")","v":0},{"$f":"IF(A11<>\"\",IFERROR(VLOOKUP(AK11,Tabelas!B:D,3,0),0),\"\")","v":0},{"$f":"IF(A11<>\"\",IFERROR(VLOOKUP(AL11,Tabelas!B:D,3,0),0),\"\")","v":0},{"$f":"IF(A11<>\"\",IFERROR(VLOOKUP(AM11,Tabelas!B:D,3,0),0),\"\")","v":0},{"$f":"IF(A11<>\"\",IFERROR(VLOOKUP(AN11,Tabelas!B:D,3,0),0),\"\")","v":0},{"$f":"IF(A11<>\"\",IFERROR(VLOOKUP(AO11,Tabelas!B:D,3,0),0),\"\")","v":0},{"$f":"IF(A11<>\"\",IFERROR(VLOOKUP(AP11,Tabelas!B:D,3,0),0),\"\")","v":0},{"$f":"IF(A11<>\"\",IFERROR(VLOOKUP(AQ11,Tabelas!B:D,3,0),0),\"\")","v":0},{"$f":"IF(A11<>\"\",IFERROR(VLOOKUP(AR11,Tabelas!B:D,3,0),0),\"\")","v":0},0,0,0,0,0,0,0,0,{"$f":"IF(A11<>\"\",COUNTIF(N11:AR11,\"APH\"),\"\")","v":0}]
["Fulano de Tal 4",1234567,123,"ENF","Ebserh",36,null,null,null,null,null,null,null,null,null,null,null,null,null,null,null,null,null,null,null,null,null,null,null,null,null,null,null,null,null,null,null,null,null,null,null,null,null,null,{"$f":"IF(A12<>\"\",IFERROR(VLOOKUP(N12,Tabelas!B:D,3,0),0),\"\")","v":0},{"$f":"IF(A12<>\"\",IFERROR(VLOOKUP(O12,Tabelas!B:D,3,0),0),\"\")","v":0},{"$f":"IF(A12<>\"\",IFERROR(VLOOKUP(P12,Tabelas!B:D,3,0),0),\"\")","v":0},{"$f":"IF(A12<>\"\",IFERROR(VLOOKUP(Q12,Tabelas!B:D,3,0),0),\"\")","v":0},{"$f":"IF(A12<>\"\",IFERROR(VLOOKUP(R12,Tabelas!B:D,3,0),0),\"\")","v":0},{"$f":"IF(A12<>\"\",IFERROR(VLOOKUP(S12,Tabelas!B:D,3,0),0),\"\")","v":0},{"$f":"IF(A12<>\"\",IFERROR(VLOOKUP(T12,Tabelas!B:D,3,0),0),\"\")","v":0},{"$f":"IF(A12<>\"\",IFERROR(VLOOKUP(U12,Tabelas!B:D,3,0),0),\"\")","v":0},{"$f":"IF(A12<>\"\",IFERROR(VLOOKUP(V12,Tabelas!B:D,3,0),0),\"\")","v":0},{"$f":"IF(A12<>\"\",IFERROR(VLOOKUP(W12,Tabelas!B:D,3,0),0),\"\")","v":0},{"$f":"IF(A12<>\"\",IFERROR(VLOOKUP(X12,Tabelas!B:D,3,0),0),\"\")","v":0},{"$f":"IF(A12<>\"\",IFERROR(VLOOKUP(Y12,Tabelas!B:D,3,0),0),\"\")","v":0},{"$f":"IF(A12<>\"\",IFERROR(VLOOKUP(Z12,Tabelas!B:D,3,0),0),\"\")","v":0},{"$f":"IF(A12<>\"\",IFERROR(VLOOKUP(AA12,Tabelas!B:D,3,0),0),\"\")","v":0},{"$f":"IF(A12<>\"\",IFERROR(VLOOKUP(AB12,Tabelas!B:D,3,0),0),\"\")","v":0},{"$f":"IF(A12<>\"\",IFERROR(VLOOKUP(AC12,Tabelas!B:D,3,0),0),\"\")","v":0},{"$f":"IF(A12<>\"\",IFERROR(VLOOKUP(AD12,Tabelas!B:D,3,0),0),\"\")","v":0},{"$f":"IF(A12<>\"\",IFERROR(VLOOKUP(AE12,Tabelas!B:D,3,0),0),\"\")","v":0},{"$f":"IF(A12<>\"\",IFERROR(VLOOKUP(AF12,Tabelas!B:D,3,0),0),\"\")","v":0},{"$f":"IF(A12<>\"\",IFERROR(VLOOKUP(AG12,Tabelas!B:D,3,0),0),\"\")","v":0},{"$f":"IF(A12<>\"\",IFERROR(VLOOKUP(AH12,Tabelas!B:D,3,0),0),\"\")","v":0},{"$f":"IF(A12<>\"\",IFERROR(VLOOKUP(AI12,Tabelas!B:D,3,0),0),\"\")","v":0},{"$f":"IF(A12<>\"\",IFERROR(VLOOKUP(AJ12,Tabelas!B:D,3,0),0),\"\")","v":0},{"$f":"IF(A12<>\"\",IFERROR(VLOOKUP(AK12,Tabelas!B:D,3,0),0),\"\")","v":0},{"$f":"IF(A12<>\"\",IFERROR(VLOOKUP(AL12,Tabelas!B:D,3,0),0),\"\")","v":0},{"$f":"IF(A12<>\"\",IFERROR(VLOOKUP(AM12,Tabelas!B:D,3,0),0),\"\")","v":0},{"$f":"IF(A12<>\"\",IFERROR(VLOOKUP(AN12,Tabelas!B:D,3,0),0),\"\")","v":0},{"$f":"IF(A12<>\"\",IFERROR(VLOOKUP(AO12,Tabelas!B:D,3,0),0),\"\")","v":0},{"$f":"IF(A12<>\"\",IFERROR(VLOOKUP(AP12,Tabelas!B:D,3,0),0),\"\")","v":0},{"$f":"IF(A12<>\"\",IFERROR(VLOOKUP(AQ12,Tabelas!B:D,3,0),0),\"\")","v":0},{"$f":"IF(A12<>\"\",IFERROR(VLOOKUP(AR12,Tabelas!B:D,3,0),0),\"\")","v":0},0,0,0,0,0,0,0,0,{"$f":"IF(A12<>\"\",COUNTIF(N12:AR12,\"APH\"),\"\")","v":0}]
["Fulano de Tal 5",1234567,123,"ENF","Ebserh",36,null,null,null,null,null,null,null,null,null,null,null,null,null,null,null,null,null,null,null,null,null,null,null,null,null,null,null,null,null,null,null,null,null,null,null,null,null,null,{"$f":"IF(A13<>\"\",IFERROR(VLOOKUP(N13,Tabelas!B:D,3,0),0),\"\")","v":0},{"$f":"IF(A13<>\"\",IFERROR(VLOOKUP(O13,Tabelas!B:D,3,0),0),\"\")","v":0},{"$f":"IF(A13<>\"\",IFERROR(VLOOKUP(P13,Tabelas!B:D,3,0),0),\"\")","v":0},{"$f":"IF(A13<>\"\",IFERROR(VLOOKUP(Q13,Tabelas!B:D,3,0),0),\"\")","v":0},{"$f":"IF(A13<>\"\",IFERROR(VLOOKUP(R13,Tabelas!B:D,3,0),0),\"\")","v":0},{"$f":"IF(A13<>\"\",IFERROR(VLOOKUP(S13,Tabelas!B:D,3,0),0),\"\")","v":0},{"$f":"IF(A13<>\"\",IFERROR(VLOOKUP(T13,Tabelas!B:D,3,0),0),\"\")","v":0},{"$f":"IF(A13<>\"\",IFERROR(VLOOKUP(U13,Tabelas!B:D,3,0),0),\"\")","v":0},{"$f":"IF(A13<>\"\",IFERROR(VLOOKUP(V13,Tabelas!B:D,3,0),0),\"\")","v":0},{"$f":"IF(A13<>\"\",IFERROR(VLOOKUP(W13,Tabelas!B:D,3,0),0),\"\")","v":0},{"$f":"IF(A13<>\"\",IFERROR(VLOOKUP(X13,Tabelas!B:D,3,0),0),\"\")","v":0},{"$f":"IF(A13<>\"\",IFERROR(VLOOKUP(Y13,Tabelas!B:D,3,0),0),\"\")","v":0},{"$f":"IF(A13<>\"\",IFERROR(VLOOKUP(Z13,Tabelas!B:D,3,0),0),\"\")","v":0},{"$f":"IF(A13<>\"\",IFERROR(VLOOKUP(AA13,Tabelas!B:D,3,0),0),\"\")","v":0},{"$f":"IF(A13<>\"\",IFERROR(VLOOKUP(AB13,Tabelas!B:D,3,0),0),\"\")","v":0},{"$f":"IF(A13<>\"\",IFERROR(VLOOKUP(AC13,Tabelas!B:D,3,0),0),\"\")","v":0},{"$f":"IF(A13<>\"\",IFERROR(VLOOKUP(AD13,Tabelas!B:D,3,0),0),\"\")","v":0},{"$f":"IF(A13<>\"\",IFERROR(VLOOKUP(AE13,Tabelas!B:D,3,0),0),\"\")","v":0},{"$f":"IF(A13<>\"\",IFERROR(VLOOKUP(AF13,Tabelas!B:D,3,0),0),\"\")","v":0},{"$f":"IF(A13<>\"\",IFERROR(VLOOKUP(AG13,Tabelas!B:D,3,0),0),\"\")","v":0},{"$f":"IF(A13<>\"\",IFERROR(VLOOKUP(AH13,Tabelas!B:D,3,0),0),\"\")","v":0},{"$f":"IF(A13<>\"\",IFERROR(VLOOKUP(AI13,Tabelas!B:D,3,0),0),\"\")","v":0},{"$f":"IF(A13<>\"\",IFERROR(VLOOKUP(AJ13,Tabelas!B:D,3,0),0),\"\")","v":0},{"$f":"IF(A13<>\"\",IFERROR(VLOOKUP(AK13,Tabelas!B:D,3,0),0),\"\")","v":0},{"$f":"IF(A13<>\"\",IFERROR(VLOOKUP(AL13,Tabelas!B:D,3,0),0),\"\")","v":0},{"$f":"IF(A13<>\"\",IFERROR(VLOOKUP(AM13,Tabelas!B:D,3,0),0),\"\")","v":0},{"$f":"IF(A13<>\"\",IFERROR(VLOOKUP(AN13,Tabelas!B:D,3,0),0),\"\")","v":0},{"$f":"IF(A13<>\"\",IFERROR(VLOOKUP(AO13,Tabelas!B:D,3,0),0),\"\")","v":0},{"$f":"IF(A13<>\"\",IFERROR(VLOOKUP(AP13,Tabelas!B:D,3,0),0),\"\")","v":0},{"$f":"IF(A13<>\"\",IFERROR(VLOOKUP(AQ13,Tabelas!B:D,3,0),0),\"\")","v":0},{"$f":"IF(A13<>\"\",IFERROR(VLOOKUP(AR13,Tabelas!B:D,3,0),0),\"\")","v":0},0,0,0,0,0,0,0,0,{"$f":"IF(A13<>\"\",COUNTIF(N13:AR13,\"APH\"),\"\")","v":0}]
["Fulano de Tal 6",1234567,123,"ENF","Ebserh",36,null,null,null,null,null,null,null,null,null,null,null,null,null,null,null,null,null,null,null,null,null,null,null,null,null,null,null,null,null,null,null,null,null,null,null,null,null,null,{"$f":"IF(A14<>\"\",IFERROR(VLOOKUP(N14,Tabelas!B:D,3,0),0),\"\")","v":0},{"$f":"IF(A14<>\"\",IFERROR(VLOOKUP(O14,Tabelas!B:D,3,0),0),\"\")","v":0},{"$f":"IF(A14<>\"\",IFERROR(VLOOKUP(P14,Tabelas!B:D,3,0),0),\"\")","v":0},{"$f":"IF(A14<>\"\",IFERROR(VLOOKUP(Q14,Tabelas!B:D,3,0),0),\"\")","v":0},{"$f":"IF(A14<>\"\",IFERROR(VLOOKUP(R14,Tabelas!B:D,3,0),0),\"\")","v":0},{"$f":"IF(A14<>\"\",IFERROR(VLOOKUP(S14,Tabelas!B:D,3,0),0),\"\")","v":0},{"$f":"IF(A14<>\"\",IFERROR(VLOOKUP(T14,Tabelas!B:D,3,0),0),\"\")","v":0},{"$f":"IF(A14<>\"\",IFERROR(VLOOKUP(U14,Tabelas!B:D,3,0),0),\"\")","v":0},{"$f":"IF(A14<>\"\",IFERROR(VLOOKUP(V14,Tabelas!B:D,3,0),0),\"\")","v":0},{"$f":"IF(A14<>\"\",IFERROR(VLOOKUP(W14,Tabelas!B:D,3,0),0),\"\")","v":0},{"$f":"IF(A14<>\"\",IFERROR(VLOOKUP(X14,Tabelas!B:D,3,0),0),\"\")","v":0},{"$f":"IF(A14<>\"\",IFERROR(VLOOKUP(Y14,Tabelas!B:D,3,0),0),\"\")","v":0},{"$f":"IF(A14<>\"\",IFERROR(VLOOKUP(Z14,Tabelas!B:D,3,0),0),\"\")","v":0},{"$f":"IF(A14<>\"\",IFERROR(VLOOKUP(AA14,Tabelas!B:D,3,0),0),\"\")","v":0},{"$f":"IF(A14<>\"\",IFERROR(VLOOKUP(AB14,Tabelas!B:D,3,0),0),\"\")","v":0},{"$f":"IF(A14<>\"\",IFERROR(VLOOKUP(AC14,Tabelas!B:D,3,0),0),\"\")","v":0},{"$f":"IF(A14<>\"\",IFERROR(VLOOKUP(AD14,Tabelas!B:D,3,0),0),\"\")","v":0},{"$f":"IF(A14<>\"\",IFERROR(VLOOKUP(AE14,Tabelas!B:D,3,0),0),\"\")","v":0},{"$f":"IF(A14<>\"\",IFERROR(VLOOKUP(AF14,Tabelas!B:D,3,0),0),\"\")","v":0},{"$f":"IF(A14<>\"\",IFERROR(VLOOKUP(AG14,Tabelas!B:D,3,0),0),\"\")","v":0},{"$f":"IF(A14<>\"\",IFERROR(VLOOKUP(AH14,Tabelas!B:D,3,0),0),\"\")","v":0},{"$f":"IF(A14<>\"\",IFERROR(VLOOKUP(AI14,Tabelas!B:D,3,0),0),\"\")","v":0},{"$f":"IF(A14<>\"\",IFERROR(VLOOKUP(AJ14,Tabelas!B:D,3,0),0),\"\")","v":0},{"$f":"IF(A14<>\"\",IFERROR(VLOOKUP(AK14,Tabelas!B:D,3,0),0),\"\")","v":0},{"$f":"IF(A14<>\"\",IFERROR(VLOOKUP(AL14,Tabelas!B:D,3,0),0),\"\")","v":0},{"$f":"IF(A14<>\"\",IFERROR(VLOOKUP(AM14,Tabelas!B:D,3,0),0),\"\")","v":0},{"$f":"IF(A14<>\"\",IFERROR(VLOOKUP(AN14,Tabelas!B:D,3,0),0),\"\")","v":0},{"$f":"IF(A14<>\"\",IFERROR(VLOOKUP(AO14,Tabelas!B:D,3,0),0),\"\")","v":0},{"$f":"IF(A14<>\"\",IFERROR(VLOOKUP(AP14,Tabelas!B:D,3,0),0),\"\")","v":0},{"$f":"IF(A14<>\"\",IFERROR(VLOOKUP(AQ14,Tabelas!B:D,3,0),0),\"\")","v":0},{"$f":"IF(A14<>\"\",IFERROR(VLOOKUP(AR14,Tabelas!B:D,3,0),0),\"\")","v":0},0,0,0,0,0,0,0,0,{"$f":"IF(A14<>\"\",COUNTIF(N14:AR14,\"APH\"),\"\")","v":0}]
["Fulano de Tal 7",1234567,123,"ENF","Ebserh",36,null,null,null,null,null,null,null,null,null,null,null,null,null,null,null,null,null,null,null,null,null,null,null,null,null,null,null,null,null,null,null,null,null,null,null,null,null,null,{"$f":"IF(A15<>\"\",IFERROR(VLOOKUP(N15,Tabelas!B:D,3,0),0),\"\")","v":0},{"$f":"IF(A15<>\"\",IFERROR(VLOOKUP(O15,Tabelas!B:D,3,0),0),\"\")","v":0},{"$f":"IF(A15<>\"\",IFERROR(VLOOKUP(P15,Tabelas!B:D,3,0),0),\"\")","v":0},{"$f":"IF(A15<>\"\",IFERROR(VLOOKUP(Q15,Tabelas!B:D,3,0),0),\"\")","v":0},{"$f":"IF(A15<>\"\",IFERROR(VLOOKUP(R15,Tabelas!B:D,3,0),0),\"\")","v":0},{"$f":"IF(A15<>\"\",IFERROR(VLOOKUP(S15,Tabelas!B:D,3,0),0),\"\")","v":0},{"$f":"IF(A15<>\"\",IFERROR(VLOOKUP(T15,Tabelas!B:D,3,0),0),\"\")","v":0},{"$f":"IF(A15<>\"\",IFERROR(VLOOKUP(U15,Tabelas!B:D,3,0),0),\"\")","v":0},{"$f":"IF(A15<>\"\",IFERROR(VLOOKUP(V15,Tabelas!B:D,3,0),0),\"\")","v":0},{"$f":"IF(A15<>\"\",IFERROR(VLOOKUP(W15,Tabelas!B:D,3,0),0),\"\")","v":0},{"$f":"IF(A15<>\"\",IFERROR(VLOOKUP(X15,Tabelas!B:D,3,0),0),\"\")","v":0},{"$f":"IF(A15<>\"\",IFERROR(VLOOKUP(Y15,Tabelas!B:D,3,0),0),\"\")","v":0},{"$f":"IF(A15<>\"\",IFERROR(VLOOKUP(Z15,Tabelas!B:D,3,0),0),\"\")","v":0},{"$f":"IF(A15<>\"\",IFERROR(VLOOKUP(AA15,Tabelas!B:D,3,0),0),\"\")","v":0},{"$f":"IF(A15<>\"\",IFERROR(VLOOKUP(AB15,Tabelas!B:D,3,0),0),\"\")","v":0},{"$f":"IF(A15<>\"\",IFERROR(VLOOKUP(AC15,Tabelas!B:D,3,0),0),\"\")","v":0},{"$f":"IF(A15<>\"\",IFERROR(VLOOKUP(AD15,Tabelas!B:D,3,0),0),\"\")","v":0},{"$f":"IF(A15<>\"\",IFERROR(VLOOKUP(AE15,Tabelas!B:D,3,0),0),\"\")","v":0},{"$f":"IF(A15<>\"\",IFERROR(VLOOKUP(AF15,Tabelas!B:D,3,0),0),\"\")","v":0},{"$f":"IF(A15<>\"\",IFERROR(VLOOKUP(AG15,Tabelas!B:D,3,0),0),\"\")","v":0},{"$f":"IF(A15<>\"\",IFERROR(VLOOKUP(AH15,Tabelas!B:D,3,0),0),\"\")","v":0},{"$f":"IF(A15<>\"\",IFERROR(VLOOKUP(AI15,Tabelas!B:D,3,0),0),\"\")","v":0},{"$f":"IF(A15<>\"\",IFERROR(VLOOKUP(AJ15,Tabelas!B:D,3,0),0),\"\")","v":0},{"$f":"IF(A15<>\"\",IFERROR(VLOOKUP(AK15,Tabelas!B:D,3,0),0),\"\")","v":0},{"$f":"IF(A15<>\"\",IFERROR(VLOOKUP(AL15,Tabelas!B:D,3,0),0),\"\")","v":0},{"$f":"IF(A15<>\"\",IFERROR(VLOOKUP(AM15,Tabelas!B:D,3,0),0),\"\")","v":0},{"$f":"IF(A15<>\"\",IFERROR(VLOOKUP(AN15,Tabelas!B:D,3,0),0),\"\")","v":0},{"$f":"IF(A15<>\"\",IFERROR(VLOOKUP(AO15,Tabelas!B:D,3,0),0),\"\")","v":0},{"$f":"IF(A15<>\"\",IFERROR(VLOOKUP(AP15,Tabelas!B:D,3,0),0),\"\")","v":0},{"$f":"IF(A15<>\"\",IFERROR(VLOOKUP(AQ15,Tabelas!B:D,3,0),0),\"\")","v":0},{"$f":"IF(A15<>\"\",IFERROR(VLOOKUP(AR15,Tabelas!B:D,3,0),0),\"\")","v":0},0,0,0,0,0,0,0,0,{"$f":"IF(A15<>\"\",COUNTIF(N15:AR15,\"APH\"),\"\")","v":0}]
["Fulano de Tal 8",1234567,123,"ENF","Ebserh",36,null,null,null,null,null,null,null,null,null,null,null,null,null,null,null,null,null,null,null,null,null,null,null,null,null,null,null,null,null,null,null,null,null,null,null,null,null,null,{"$f":"IF(A16<>\"\",IFERROR(VLOOKUP(N16,Tabelas!B:D,3,0),0),\"\")","v":0},{"$f":"IF(A16<>\"\",IFERROR(VLOOKUP(O16,Tabelas!B:D,3,0),0),\"\")","v":0},{"$f":"IF(A16<>\"\",IFERROR(VLOOKUP(P16,Tabelas!B:D,3,0),0),\"\")","v":0},{"$f":"IF(A16<>\"\",IFERROR(VLOOKUP(Q16,Tabelas!B:D,3,0),0),\"\")","v":0},{"$f":"IF(A16<>\"\",IFERROR(VLOOKUP(R16,Tabelas!B:D,3,0),0),\"\")","v":0},{"$f":"IF(A16<>\"\",IFERROR(VLOOKUP(S16,Tabelas!B:D,3,0),0),\"\")","v":0},{"$f":"IF(A16<>\"\",IFERROR(VLOOKUP(T16,Tabelas!B:D,3,0),0),\"\")","v":0},{"$f":"IF(A16<>\"\",IFERROR(VLOOKUP(U16,Tabelas!B:D,3,0),0),\"\")","v":0},{"$f":"IF(A16<>\"\",IFERROR(VLOOKUP(V16,Tabelas!B:D,3,0),0),\"\")","v":0},{"$f":"IF(A16<>\"\",IFERROR(VLOOKUP(W16,Tabelas!B:D,3,0),0),\"\")","v":0},{"$f":"IF(A16<>\"\",IFERROR(VLOOKUP(X16,Tabelas!B:D,3,0),0),\"\")","v":0},{"$f":"IF(A16<>\"\",IFERROR(VLOOKUP(Y16,Tabelas!B:D,3,0),0),\"\")","v":0},{"$f":"IF(A16<>\"\",IFERROR(VLOOKUP(Z16,Tabelas!B:D,3,0),0),\"\")","v":0},{"$f":"IF(A16<>\"\",IFERROR(VLOOKUP(AA16,Tabelas!B:D,3,0),0),\"\")","v":0},{"$f":"IF(A16<>\"\",IFERROR(VLOOKUP(AB16,Tabelas!B:D,3,0),0),\"\")","v":0},{"$f":"IF(A16<>\"\",IFERROR(VLOOKUP(AC16,Tabelas!B:D,3,0),0),\"\")","v":0},{"$f":"IF(A16<>\"\",IFERROR(VLOOKUP(AD16,Tabelas!B:D,3,0),0),\"\")","v":0},{"$f":"IF(A16<>\"\",IFERROR(VLOOKUP(AE16,Tabelas!B:D,3,0),0),\"\")","v":0},{"$f":"IF(A16<>\"\",IFERROR(VLOOKUP(AF16,Tabelas!B:D,3,0),0),\"\")","v":0},{"$f":"IF(A16<>\"\",IFERROR(VLOOKUP(AG16,Tabelas!B:D,3,0),0),\"\")","v":0},{"$f":"IF(A16<>\"\",IFERROR(VLOOKUP(AH16,Tabelas!B:D,3,0),0),\"\")","v":0},{"$f":"IF(A16<>\"\",IFERROR(VLOOKUP(AI16,Tabelas!B:D,3,0),0),\"\")","v":0},{"$f":"IF(A16<>\"\",IFERROR(VLOOKUP(AJ16,Tabelas!B:D,3,0),0),\"\")","v":0},{"$f":"IF(A16<>\"\",IFERROR(VLOOKUP(AK16,Tabelas!B:D,3,0),0),\"\")","v":0},{"$f":"IF(A16<>\"\",IFERROR(VLOOKUP(AL16,Tabelas!B:D,3,0),0),\"\")","v":0},{"$f":"IF(A16<>\"\",IFERROR(VLOOKUP(AM16,Tabelas!B:D,3,0),0),\"\")","v":0},{"$f":"IF(A16<>\"\",IFERROR(VLOOKUP(AN16,Tabelas!B:D,3,0),0),\"\")","v":0},{"$f":"IF(A16<>\"\",IFERROR(VLOOKUP(AO16,Tabelas!B:D,3,0),0),\"\")","v":0},{"$f":"IF(A16<>\"\",IFERROR(VLOOKUP(AP16,Tabelas!B:D,3,0),0),\"\")","v":0},{"$f":"IF(A16<>\"\",IFERROR(VLOOKUP(AQ16,Tabelas!B:D,3,0),0),\"\")","v":0},{"$f":"IF(A16<>\"\",IFERROR(VLOOKUP(AR16,Tabelas!B:D,3,0),0),\"\")","v":0},0,0,0,0,0,0,0,0,{"$f":"IF(A16<>\"\",COUNTIF(N16:AR16,\"APH\"),\"\")","v":0}]
["Fulano de Tal 9",1234567,123,"ENF","Ebserh",36,null,null,null,null,null,null,null,null,null,null,null,null,null,null,null,null,null,null,null,null,null,null,null,null,null,null,null,null,null,null,null,null,null,null,null,null,null,null,{"$f":"IF(A17<>\"\",IFERROR(VLOOKUP(N17,Tabelas!B:D,3,0),0),\"\")","v":0},{"$f":"IF(A17<>\"\",IFERROR(VLOOKUP(O17,Tabelas!B:D,3,0),0),\"\")","v":0},{"$f":"IF(A17<>\"\",IFERROR(VLOOKUP(P17,Tabelas!B:D,3,0),0),\"\")","v":0},{"$f":"IF(A17<>\"\",IFERROR(VLOOKUP(Q17,Tabelas!B:D,3,0),0),\"\")","v":0},{"$f":"IF(A17<>\"\",IFERROR(VLOOKUP(R17,Tabelas!B:D,3,0),0),\"\")","v":0},{"$f":"IF(A17<>\"\",IFERROR(VLOOKUP(S17,Tabelas!B:D,3,0),0),\"\")","v":0},{"$f":"IF(A17<>\"\",IFERROR(VLOOKUP(T17,Tabelas!B:D,3,0),0),\"\")","v":0},{"$f":"IF(A17<>\"\",IFERROR(VLOOKUP(U17,Tabelas!B:D,3,0),0),\"\")","v":0},{"$f":"IF(A17<>\"\",IFERROR(VLOOKUP(V17,Tabelas!B:D,3,0),0),\"\")","v":0},{"$f":"IF(A17<>\"\",IFERROR(VLOOKUP(W17,Tabelas!B:D,3,0),0),\"\")","v":0},{"$f":"IF(A17<>\"\",IFERROR(VLOOKUP(X17,Tabelas!B:D,3,0),0),\"\")","v":0},{"$f":"IF(A17<>\"\",IFERROR(VLOOKUP(Y17,Tabelas!B:D,3,0),0),\"\")","v":0},{"$f":"IF(A17<>\"\",IFERROR(VLOOKUP(Z17,Tabelas!B:D,3,0),0),\"\")","v":0},{"$f":"IF(A17<>\"\",IFERROR(VLOOKUP(AA17,Tabelas!B:D,3,0),0),\"\")","v":0},{"$f":"IF(A17<>\"\",IFERROR(VLOOKUP(AB17,Tabelas!B:D,3,0),0),\"\")","v":0},{"$f":"IF(A17<>\"\",IFERROR(VLOOKUP(AC17,Tabelas!B:D,3,0),0),\"\")","v":0},{"$f":"IF(A17<>\"\",IFERROR(VLOOKUP(AD17,Tabelas!B:D,3,0),0),\"\")","v":0},{"$f":"IF(A17<>\"\",IFERROR(VLOOKUP(AE17,Tabelas!B:D,3,0),0),\"\")","v":0},{"$f":"IF(A17<>\"\",IFERROR(VLOOKUP(AF17,Tabelas!B:D,3,0),0),\"\")","v":0},{"$f":"IF(A17<>\"\",IFERROR(VLOOKUP(AG17,Tabelas!B:D,3,0),0),\"\")","v":0},{"$f":"IF(A17<>\"\",IFERROR(VLOOKUP(AH17,Tabelas!B:D,3,0),0),\"\")","v":0},{"$f":"IF(A17<>\"\",IFERROR(VLOOKUP(AI17,Tabelas!B:D,3,0),0),\"\")","v":0},{"$f":"IF(A17<>\"\",IFERROR(VLOOKUP(AJ17,Tabelas!B:D,3,0),0),\"\")","v":0},{"$f":"IF(A17<>\"\",IFERROR(VLOOKUP(AK17,Tabelas!B:D,3,0),0),\"\")","v":0},{"$f":"IF(A17<>\"\",IFERROR(VLOOKUP(AL17,Tabelas!B:D,3,0),0),\"\")","v":0},{"$f":"IF(A17<>\"\",IFERROR(VLOOKUP(AM17,Tabelas!B:D,3,0),0),\"\")","v":0},{"$f":"IF(A17<>\"\",IFERROR(VLOOKUP(AN17,Tabelas!B:D,3,0),0),\"\")","v":0},{"$f":"IF(A17<>\"\",IFERROR(VLOOKUP(AO17,Tabelas!B:D,3,0),0),\"\")","v":0},{"$f":"IF(A17<>\"\",IFERROR(VLOOKUP(AP17,Tabelas!B:D,3,0),0),\"\")","v":0},{"$f":"IF(A17<>\"\",IFERROR(VLOOKUP(AQ17,Tabelas!B:D,3,0),0),\"\")","v":0},{"$f":"IF(A17<>\"\",IFERROR(VLOOKUP(AR17,Tabelas!B:D,3,0),0),\"\")","v":0},0,0,0,0,0,0,0,0,{"$f":"IF(A17<>\"\",COUNTIF(N17:AR17,\"APH\"),\"\")","v":0}]
["Fulano de Tal 10",1234567,123,"ENF","Ebserh",36,null,null,null,null,null,null,null,null,null,null,null,null,null,null,null,null,null,null,null,null,null,null,null,null,null,null,null,null,null,null,null,null,null,null,null,null,null,null,{"$f":"IF(A18<>\"\",IFERROR(VLOOKUP(N18,Tabelas!B:D,3,0),0),\"\")","v":0},{"$f":"IF(A18<>\"\",IFERROR(VLOOKUP(O18,Tabelas!B:D,3,0),0),\"\")","v":0},{"$f":"IF(A18<>\"\",IFERROR(VLOOKUP(P18,Tabelas!B:D,3,0),0),\"\")","v":0},{"$f":"IF(A18<>\"\",IFERROR(VLOOKUP(Q18,Tabelas!B:D,3,0),0),\"\")","v":0},{"$f":"IF(A18<>\"\",IFERROR(VLOOKUP(R18,Tabelas!B:D,3,0),0),\"\")","v":0},{"$f":"IF(A18<>\"\",IFERROR(VLOOKUP(S18,Tabelas!B:D,3,0),0),\"\")","v":0},{"$f":"IF(A18<>\"\",IFERROR(VLOOKUP(T18,Tabelas!B:D,3,0),0),\"\")","v":0},{"$f":"IF(A18<>\"\",IFERROR(VLOOKUP(U18,Tabelas!B:D,3,0),0),\"\")","v":0},{"$f":"IF(A18<>\"\",IFERROR(VLOOKUP(V18,Tabelas!B:D,3,0),0),\"\")","v":0},{"$f":"IF(A18<>\"\",IFERROR(VLOOKUP(W18,Tabelas!B:D,3,0),0),\"\")","v":0},{"$f":"IF(A18<>\"\",IFERROR(VLOOKUP(X18,Tabelas!B:D,3,0),0),\"\")","v":0},{"$f":"IF(A18<>\"\",IFERROR(VLOOKUP(Y18,Tabelas!B:D,3,0),0),\"\")","v":0},{"$f":"IF(A18<>\"\",IFERROR(VLOOKUP(Z18,Tabelas!B:D,3,0),0),\"\")","v":0},{"$f":"IF(A18<>\"\",IFERROR(VLOOKUP(AA18,Tabelas!B:D,3,0),0),\"\")","v":0},{"$f":"IF(A18<>\"\",IFERROR(VLOOKUP(AB18,Tabelas!B:D,3,0),0),\"\")","v":0},{"$f":"IF(A18<>\"\",IFERROR(VLOOKUP(AC18,Tabelas!B:D,3,0),0),\"\")","v":0},{"$f":"IF(A18<>\"\",IFERROR(VLOOKUP(AD18,Tabelas!B:D,3,0),0),\"\")","v":0},{"$f":"IF(A18<>\"\",IFERROR(VLOOKUP(AE18,Tabelas!B:D,3,0),0),\"\")","v":0},{"$f":"IF(A18<>\"\",IFERROR(VLOOKUP(AF18,Tabelas!B:D,3,0),0),\"\")","v":0},{"$f":"IF(A18<>\"\",IFERROR(VLOOKUP(AG18,Tabelas!B:D,3,0),0),\"\")","v":0},{"$f":"IF(A18<>\"\",IFERROR(VLOOKUP(AH18,Tabelas!B:D,3,0),0),\"\")","v":0},{"$f":"IF(A18<>\"\",IFERROR(VLOOKUP(AI18,Tabelas!B:D,3,0),0),\"\")","v":0},{"$f":"IF(A18<>\"\",IFERROR(VLOOKUP(AJ18,Tabelas!B:D,3,0),0),\"\")","v":0},{"$f":"IF(A18<>\"\",IFERROR(VLOOKUP(AK18,Tabelas!B:D,3,0),0),\"\")","v":0},{"$f":"IF(A18<>\"\",IFERROR(VLOOKUP(AL18,Tabelas!B:D,3,0),0),\"\")","v":0},{"$f":"IF(A18<>\"\",IFERROR(VLOOKUP(AM18,Tabelas!B:D,3,0),0),\"\")","v":0},{"$f":"IF(A18<>\"\",IFERROR(VLOOKUP(AN18,Tabelas!B:D,3,0),0),\"\")","v":0},{"$f":"IF(A18<>\"\",IFERROR(VLOOKUP(AO18,Tabelas!B:D,3,0),0),\"\")","v":0},{"$f":"IF(A18<>\"\",IFERROR(VLOOKUP(AP18,Tabelas!B:D,3,0),0),\"\")","v":0},{"$f":"IF(A18<>\"\",IFERROR(VLOOKUP(AQ18,Tabelas!B:D,3,0),0),\"\")","v":0},{"$f":"IF(A18<>\"\",IFERROR(VLOOKUP(AR18,Tabelas!B:D,3,0),0),\"\")","v":0},0,0,0,0,0,0,0,0,{"$f":"IF(A18<>\"\",COUNTIF(N18:AR18,\"APH\"),\"\")","v":0}]
["Fulano de Tal 11",1234567,123,"ENF","Ebserh",36,null,null,null,null,null,null,null,null,null,null,null,null,null,null,null,null,null,null,null,null,null,null,null,null,null,null,null,null,null,null,null,null,null,null,null,null,null,null,{"$f":"IF(A19<>\"\",IFERROR(VLOOKUP(N19,Tabelas!B:D,3,0),0),\"\")","v":0},{"$f":"IF(A19<>\"\",IFERROR(VLOOKUP(O19,Tabelas!B:D,3,0),0),\"\")","v":0},{"$f":"IF(A19<>\"\",IFERROR(VLOOKUP(P19,Tabelas!B:D,3,0),0),\"\")","v":0},{"$f":"IF(A19<>\"\",IFERROR(VLOOKUP(Q19,Tabelas!B:D,3,0),0),\"\")","v":0},{"$f":"IF(A19<>\"\",IFERROR(VLOOKUP(R19,Tabelas!B:D,3,0),0),\"\")","v":0},{"$f":"IF(A19<>\"\",IFERROR(VLOOKUP(S19,Tabelas!B:D,3,0),0),\"\")","v":0},{"$f":"IF(A19<>\"\",IFERROR(VLOOKUP(T19,Tabelas!B:D,3,0),0),\"\")","v":0},{"$f":"IF(A19<>\"\",IFERROR(VLOOKUP(U19,Tabelas!B:D,3,0),0),\"\")","v":0},{"$f":"IF(A19<>\"\",IFERROR(VLOOKUP(V19,Tabelas!B:D,3,0),0),\"\")","v":0},{"$f":"IF(A19<>\"\",IFERROR(VLOOKUP(W19,Tabelas!B:D,3,0),0),\"\")","v":0},{"$f":"IF(A19<>\"\",IFERROR(VLOOKUP(X19,Tabelas!B:D,3,0),0),\"\")","v":0},{"$f":"IF(A19<>\"\",IFERROR(VLOOKUP(Y19,Tabelas!B:D,3,0),0),\"\")","v":0},{"$f":"IF(A19<>\"\",IFERROR(VLOOKUP(Z19,Tabelas!B:D,3,0),0),\"\")","v":0},{"$f":"IF(A19<>\"\",IFERROR(VLOOKUP(AA19,Tabelas!B:D,3,0),0),\"\")","v":0},{"$f":"IF(A19<>\"\",IFERROR(VLOOKUP(AB19,Tabelas!B:D,3,0),0),\"\")","v":0},{"$f":"IF(A19<>\"\",IFERROR(VLOOKUP(AC19,Tabelas!B:D,3,0),0),\"\")","v":0},{"$f":"IF(A19<>\"\",IFERROR(VLOOKUP(AD19,Tabelas!B:D,3,0),0),\"\")","v":0},{"$f":"IF(A19<>\"\",IFERROR(VLOOKUP(AE19,Tabelas!B:D,3,0),0),\"\")","v":0},{"$f":"IF(A19<>\"\",IFERROR(VLOOKUP(AF19,Tabelas!B:D,3,0),0),\"\")","v":0},{"$f":"IF(A19<>\"\",IFERROR(VLOOKUP(AG19,Tabelas!B:D,3,0),0),\"\")","v":0},{"$f":"IF(A19<>\"\",IFERROR(VLOOKUP(AH19,Tabelas!B:D,3,0),0),\"\")","v":0},{"$f":"IF(A19<>\"\",IFERROR(VLOOKUP(AI19,Tabelas!B:D,3,0),0),\"\")","v":0},{"$f":"IF(A19<>\"\",IFERROR(VLOOKUP(AJ19,Tabelas!B:D,3,0),0),\"\")","v":0},{"$f":"IF(A19<>\"\",IFERROR(VLOOKUP(AK19,Tabelas!B:D,3,0),0),\"\")","v":0},{"$f":"IF(A19<>\"\",IFERROR(VLOOKUP(AL19,Tabelas!B:D,3,0),0),\"\")","v":0},{"$f":"IF(A19<>\"\",IFERROR(VLOOKUP(AM19,Tabelas!B:D,3,0),0),\"\")","v":0},{"$f":"IF(A19<>\"\",IFERROR(VLOOKUP(AN19,Tabelas!B:D,3,0),0),\"\")","v":0},{"$f":"IF(A19<>\"\",IFERROR(VLOOKUP(AO19,Tabelas!B:D,3,0),0),\"\")","v":0},{"$f":"IF(A19<>\"\",IFERROR(VLOOKUP(AP19,Tabelas!B:D,3,0),0),\"\")","v":0},{"$f":"IF(A19<>\"\",IFERROR(VLOOKUP(AQ19,Tabelas!B:D,3,0),0),\"\")","v":0},{"$f":"IF(A19<>\"\",IFERROR(VLOOKUP(AR19,Tabelas!B:D,3,0),0),\"\")","v":0},0,0,0,0,0,0,0,0,{"$f":"IF(A19<>\"\",COUNTIF(N19:AR19,\"APH\"),\"\")","v":0}]
["Fulano de Tal 12",1234567,123,"ENF","Ebserh",36,null,null,null,null,null,null,null,null,null,null,null,null,null,null,null,null,null,null,null,null,null,null,null,null,null,null,null,null,null,null,null,null,null,null,null,null,null,null,{"$f":"IF(A20<>\"\",IFERROR(VLOOKUP(N20,Tabelas!B:D,3,0),0),\"\")","v":0},{"$f":"IF(A20<>\"\",IFERROR(VLOOKUP(O20,Tabelas!B:D,3,0),0),\"\")","v":0},{"$f":"IF(A20<>\"\",IFERROR(VLOOKUP(P20,Tabelas!B:D,3,0),0),\"\")","v":0},{"$f":"IF(A20<>\"\",IFERROR(VLOOKUP(Q20,Tabelas!B:D,3,0),0),\"\")","v":0},{"$f":"IF(A20<>\"\",IFERROR(VLOOKUP(R20,Tabelas!B:D,3,0),0),\"\")","v":0},{"$f":"IF(A20<>\"\",IFERROR(VLOOKUP(S20,Tabelas!B:D,3,0),0),\"\")","v":0},{"$f":"IF(A20<>\"\",IFERROR(VLOOKUP(T20,Tabelas!B:D,3,0),0),\"\")","v":0},{"$f":"IF(A20<>\"\",IFERROR(VLOOKUP(U20,Tabelas!B:D,3,0),0),\"\")","v":0},{"$f":"IF(A20<>\"\",IFERROR(VLOOKUP(V20,Tabelas!B:D,3,0),0),\"\")","v":0},{"$f":"IF(A20<>\"\",IFERROR(VLOOKUP(W20,Tabelas!B:D,3,0),0),\"\")","v":0},{"$f":"IF(A20<>\"\",IFERROR(VLOOKUP(X20,Tabelas!B:D,3,0),0),\"\")","v":0},{"$f":"IF(A20<>\"\",IFERROR(VLOOKUP(Y20,Tabelas!B:D,3,0),0),\"\")","v":0},{"$f":"IF(A20<>\"\",IFERROR(VLOOKUP(Z20,Tabelas!B:D,3,0),0),\"\")","v":0},{"$f":"IF(A20<>\"\",IFERROR(VLOOKUP(AA20,Tabelas!B:D,3,0),0),\"\")","v":0},{"$f":"IF(A20<>\"\",IFERROR(VLOOKUP(AB20,Tabelas!B:D,3,0),0),\"\")","v":0},{"$f":"IF(A20<>\"\",IFERROR(VLOOKUP(AC20,Tabelas!B:D,3,0),0),\"\")","v":0},{"$f":"IF(A20<>\"\",IFERROR(VLOOKUP(AD20,Tabelas!B:D,3,0),0),\"\")","v":0},{"$f":"IF(A20<>\"\",IFERROR(VLOOKUP(AE20,Tabelas!B:D,3,0),0),\"\")","v":0},{"$f":"IF(A20<>\"\",IFERROR(VLOOKUP(AF20,Tabelas!B:D,3,0),0),\"\")","v":0},{"$f":"IF(A20<>\"\",IFERROR(VLOOKUP(AG20,Tabelas!B:D,3,0),0),\"\")","v":0},{"$f":"IF(A20<>\"\",IFERROR(VLOOKUP(AH20,Tabelas!B:D,3,0),0),\"\")","v":0},{"$f":"IF(A20<>\"\",IFERROR(VLOOKUP(AI20,Tabelas!B:D,3,0),0),\"\")","v":0},{"$f":"IF(A20<>\"\",IFERROR(VLOOKUP(AJ20,Tabelas!B:D,3,0),0),\"\")","v":0},{"$f":"IF(A20<>\"\",IFERROR(VLOOKUP(AK20,Tabelas!B:D,3,0),0),\"\")","v":0},{"$f":"IF(A20<>\"\",IFERROR(VLOOKUP(AL20,Tabelas!B:D,3,0),0),\"\")","v":0},{"$f":"IF(A20<>\"\",IFERROR(VLOOKUP(AM20,Tabelas!B:D,3,0),0),\"\")","v":0},{"$f":"IF(A20<>\"\",IFERROR(VLOOKUP(AN20,Tabelas!B:D,3,0),0),\"\")","v":0},{"$f":"IF(A20<>\"\",IFERROR(VLOOKUP(AO20,Tabelas!B:D,3,0),0),\"\")","v":0},{"$f":"IF(A20<>\"\",IFERROR(VLOOKUP(AP20,Tabelas!B:D,3,0),0),\"\")","v":0},{"$f":"IF(A20<>\"\",IFERROR(VLOOKUP(AQ20,Tabelas!B:D,3,0),0),\"\")","v":0},{"$f":"IF(A20<>\"\",IFERROR(VLOOKUP(AR20,Tabelas!B:D,3,0),0),\"\")","v":0},0,0,0,0,0,0,0,0,0]
["Fulano de Tal 13",1234567,123,"ENF","Ebserh",36,null,null,null,null,null,null,null,null,null,null,null,null,null,null,null,null,null,null,null,null,null,null,null,null,null,null,null,null,null,null,null,null,null,null,null,null,null,null,{"$f":"IF(A21<>\"\",IFERROR(VLOOKUP(N21,Tabelas!B:D,3,0),0),\"\")","v":0},{"$f":"IF(A21<>\"\",IFERROR(VLOOKUP(O21,Tabelas!B:D,3,0),0),\"\")","v":0},{"$f":"IF(A21<>\"\",IFERROR(VLOOKUP(P21,Tabelas!B:D,3,0),0),\"\")","v":0},{"$f":"IF(A21<>\"\",IFERROR(VLOOKUP(Q21,Tabelas!B:D,3,0),0),\"\")","v":0},{"$f":"IF(A21<>\"\",IFERROR(VLOOKUP(R21,Tabelas!B:D,3,0),0),\"\")","v":0},{"$f":"IF(A21<>\"\",IFERROR(VLOOKUP(S21,Tabelas!B:D,3,0),0),\"\")","v":0},{"$f":"IF(A21<>\"\",IFERROR(VLOOKUP(T21,Tabelas!B:D,3,0),0),\"\")","v":0},{"$f":"IF(A21<>\"\",IFERROR(VLOOKUP(U21,Tabelas!B:D,3,0),0),\"\")","v":0},{"$f":"IF(A21<>\"\",IFERROR(VLOOKUP(V21,Tabelas!B:D,3,0),0),\"\")","v":0},{"$f":"IF(A21<>\"\",IFERROR(VLOOKUP(W21,Tabelas!B:D,3,0),0),\"\")","v":0},{"$f":"IF(A21<>\"\",IFERROR(VLOOKUP(X21,Tabelas!B:D,3,0),0),\"\")","v":0},{"$f":"IF(A21<>\"\",IFERROR(VLOOKUP(Y21,Tabelas!B:D,3,0),0),\"\")","v":0},{"$f":"IF(A21<>\"\",IFERROR(VLOOKUP(Z21,Tabelas!B:D,3,0),0),\"\")","v":0},{"$f":"IF(A21<>\"\",IFERROR(VLOOKUP(AA21,Tabelas!B:D,3,0),0),\"\")","v":0},{"$f":"IF(A21<>\"\",IFERROR(VLOOKUP(AB21,Tabelas!B:D,3,0),0),\"\")","v":0},{"$f":"IF(A21<>\"\",IFERROR(VLOOKUP(AC21,Tabelas!B:D,3,0),0),\"\")","v":0},{"$f":"IF(A21<>\"\",IFERROR(VLOOKUP(AD21,Tabelas!B:D,3,0),0),\"\")","v":0},{"$f":"IF(A21<>\"\",IFERROR(VLOOKUP(AE21,Tabelas!B:D,3,0),0),\"\")","v":0},{"$f":"IF(A21<>\"\",IFERROR(VLOOKUP(AF21,Tabelas!B:D,3,0),0),\"\")","v":0},{"$f":"IF(A21<>\"\",IFERROR(VLOOKUP(AG21,Tabelas!B:D,3,0),0),\"\")","v":0},{"$f":"IF(A21<>\"\",IFERROR(VLOOKUP(AH21,Tabelas!B:D,3,0),0),\"\")","v":0},{"$f":"IF(A21<>\"\",IFERROR(VLOOKUP(AI21,Tabelas!B:D,3,0),0),\"\")","v":0},{"$f":"IF(A21<>\"\",IFERROR(VLOOKUP(AJ21,Tabelas!B:D,3,0),0),\"\")","v":0},{"$f":"IF(A21<>\"\",IFERROR(VLOOKUP(AK21,Tabelas!B:D,3,0),0),\"\")","v":0},{"$f":"IF(A21<>\"\",IFERROR(VLOOKUP(AL21,Tabelas!B:D,3,0),0),\"\")","v":0},{"$f":"IF(A21<>\"\",IFERROR(VLOOKUP(AM21,Tabelas!B:D,3,0),0),\"\")","v":0},{"$f":"IF(A21<>\"\",IFERROR(VLOOKUP(AN21,Tabelas!B:D,3,0),0),\"\")","v":0},{"$f":"IF(A21<>\"\",IFERROR(VLOOKUP(AO21,Tabelas!B:D,3,0),0),\"\")","v":0},{"$f":"IF(A21<>\"\",IFERROR(VLOOKUP(AP21,Tabelas!B:D,3,0),0),\"\")","v":0},{"$f":"IF(A21<>\"\",IFERROR(VLOOKUP(AQ21,Tabelas!B:D,3,0),0),\"\")","v":0},{"$f":"IF(A21<>\"\",IFERROR(VLOOKUP(AR21,Tabelas!B:D,3,0),0),\"\")","v":0},0,0,0,0,0,0,0,0,0]
["Fulano de Tal 14",1234567,123,"ENF","Ebserh",36,null,null,null,null,null,null,null,null,null,null,null,null,null,null,null,null,null,null,null,null,null,null,null,null,null,null,null,null,null,null,null,null,null,null,null,null,null,null,{"$f":"IF(A22<>\"\",IFERROR(VLOOKUP(N22,Tabelas!B:D,3,0),0),\"\")","v":0},{"$f":"IF(A22<>\"\",IFERROR(VLOOKUP(O22,Tabelas!B:D,3,0),0),\"\")","v":0},{"$f":"IF(A22<>\"\",IFERROR(VLOOKUP(P22,Tabelas!B:D,3,0),0),\"\")","v":0},{"$f":"IF(A22<>\"\",IFERROR(VLOOKUP(Q22,Tabelas!B:D,3,0),0),\"\")","v":0},{"$f":"IF(A22<>\"\",IFERROR(VLOOKUP(R22,Tabelas!B:D,3,0),0),\"\")","v":0},{"$f":"IF(A22<>\"\",IFERROR(VLOOKUP(S22,Tabelas!B:D,3,0),0),\"\")","v":0},{"$f":"IF(A22<>\"\",IFERROR(VLOOKUP(T22,Tabelas!B:D,3,0),0),\"\")","v":0},{"$f":"IF(A22<>\"\",IFERROR(VLOOKUP(U22,Tabelas!B:D,3,0),0),\"\")","v":0},{"$f":"IF(A22<>\"\",IFERROR(VLOOKUP(V22,Tabelas!B:D,3,0),0),\"\")","v":0},{"$f":"IF(A22<>\"\",IFERROR(VLOOKUP(W22,Tabelas!B:D,3,0),0),\"\")","v":0},{"$f":"IF(A22<>\"\",IFERROR(VLOOKUP(X22,Tabelas!B:D,3,0),0),\"\")","v":0},{"$f":"IF(A22<>\"\",IFERROR(VLOOKUP(Y22,Tabelas!B:D,3,0),0),\"\")","v":0},{"$f":"IF(A22<>\"\",IFERROR(VLOOKUP(Z22,Tabelas!B:D,3,0),0),\"\")","v":0},{"$f":"IF(A22<>\"\",IFERROR(VLOOKUP(AA22,Tabelas!B:D,3,0),0),\"\")","v":0},{"$f":"IF(A22<>\"\",IFERROR(VLOOKUP(AB22,Tabelas!B:D,3,0),0),\"\")","v":0},{"$f":"IF(A22<>\"\",IFERROR(VLOOKUP(AC22,Tabelas!B:D,3,0),0),\"\")","v":0},{"$f":"IF(A22<>\"\",IFERROR(VLOOKUP(AD22,Tabelas!B:D,3,0),0),\"\")","v":0},{"$f":"IF(A22<>\"\",IFERROR(VLOOKUP(AE22,Tabelas!B:D,3,0),0),\"\")","v":0},{"$f":"IF(A22<>\"\",IFERROR(VLOOKUP(AF22,Tabelas!B:D,3,0),0),\"\")","v":0},{"$f":"IF(A22<>\"\",IFERROR(VLOOKUP(AG22,Tabelas!B:D,3,0),0),\"\")","v":0},{"$f":"IF(A22<>\"\",IFERROR(VLOOKUP(AH22,Tabelas!B:D,3,0),0),\"\")","v":0},{"$f":"IF(A22<>\"\",IFERROR(VLOOKUP(AI22,Tabelas!B:D,3,0),0),\"\")","v":0},{"$f":"IF(A22<>\"\",IFERROR(VLOOKUP(AJ22,Tabelas!B:D,3,0),0),\"\")","v":0},{"$f":"IF(A22<>\"\",IFERROR(VLOOKUP(AK22,Tabelas!B:D,3,0),0),\"\")","v":0},{"$f":"IF(A22<>\"\",IFERROR(VLOOKUP(AL22,Tabelas!B:D,3,0),0),\"\")","v":0},{"$f":"IF(A22<>\"\",IFERROR(VLOOKUP(AM22,Tabelas!B:D,3,0),0),\"\")","v":0},{"$f":"IF(A22<>\"\",IFERROR(VLOOKUP(AN22,Tabelas!B:D,3,0),0),\"\")","v":0},{"$f":"IF(A22<>\"\",IFERROR(VLOOKUP(AO22,Tabelas!B:D,3,0),0),\"\")","v":0},{"$f":"IF(A22<>\"\",IFERROR(VLOOKUP(AP22,Tabelas!B:D,3,0),0),\"\")","v":0},{"$f":"IF(A22<>\"\",IFERROR(VLOOKUP(AQ22,Tabelas!B:D,3,0),0),\"\")","v":0},{"$f":"IF(A22<>\"\",IFERROR(VLOOKUP(AR22,Tabelas!B:D,3,0),0),\"\")","v":0},0,0,0,0,0,0,0,0,0]
["Fulano de Tal 15",1234567,123,"ENF","Ebserh",36,null,null,null,null,null,null,null,null,null,null,null,null,null,null,null,null,null,null,null,null,null,null,null,null,null,null,null,null,null,null,null,null,null,null,null,null,null,null,{"$f":"IF(A23<>\"\",IFERROR(VLOOKUP(N23,Tabelas!B:D,3,0),0),\"\")","v":0},{"$f":"IF(A23<>\"\",IFERROR(VLOOKUP(O23,Tabelas!B:D,3,0),0),\"\")","v":0},{"$f":"IF(A23<>\"\",IFERROR(VLOOKUP(P23,Tabelas!B:D,3,0),0),\"\")","v":0},{"$f":"IF(A23<>\"\",IFERROR(VLOOKUP(Q23,Tabelas!B:D,3,0),0),\"\")","v":0},{"$f":"IF(A23<>\"\",IFERROR(VLOOKUP(R23,Tabelas!B:D,3,0),0),\"\")","v":0},{"$f":"IF(A23<>\"\",IFERROR(VLOOKUP(S23,Tabelas!B:D,3,0),0),\"\")","v":0},{"$f":"IF(A23<>\"\",IFERROR(VLOOKUP(T23,Tabelas!B:D,3,0),0),\"\")","v":0},{"$f":"IF(A23<>\"\",IFERROR(VLOOKUP(U23,Tabelas!B:D,3,0),0),\"\")","v":0},{"$f":"IF(A23<>\"\",IFERROR(VLOOKUP(V23,Tabelas!B:D,3,0),0),\"\")","v":0},{"$f":"IF(A23<>\"\",IFERROR(VLOOKUP(W23,Tabelas!B:D,3,0),0),\"\")","v":0},{"$f":"IF(A23<>\"\",IFERROR(VLOOKUP(X23,Tabelas!B:D,3,0),0),\"\")","v":0},{"$f":"IF(A23<>\"\",IFERROR(VLOOKUP(Y23,Tabelas!B:D,3,0),0),\"\")","v":0},{"$f":"IF(A23<>\"\",IFERROR(VLOOKUP(Z23,Tabelas!B:D,3,0),0),\"\")","v":0},{"$f":"IF(A23<>\"\",IFERROR(VLOOKUP(AA23,Tabelas!B:D,3,0),0),\"\")","v":0},{"$f":"IF(A23<>\"\",IFERROR(VLOOKUP(AB23,Tabelas!B:D,3,0),0),\"\")","v":0},{"$f":"IF(A23<>\"\",IFERROR(VLOOKUP(AC23,Tabelas!B:D,3,0),0),\"\")","v":0},{"$f":"IF(A23<>\"\",IFERROR(VLOOKUP(AD23,Tabelas!B:D,3,0),0),\"\")","v":0},{"$f":"IF(A23<>\"\",IFERROR(VLOOKUP(AE23,Tabelas!B:D,3,0),0),\"\")","v":0},{"$f":"IF(A23<>\"\",IFERROR(VLOOKUP(AF23,Tabelas!B:D,3,0),0),\"\")","v":0},{"$f":"IF(A23<>\"\",IFERROR(VLOOKUP(AG23,Tabelas!B:D,3,0),0),\"\")","v":0},{"$f":"IF(A23<>\"\",IFERROR(VLOOKUP(AH23,Tabelas!B:D,3,0),0),\"\")","v":0},{"$f":"IF(A23<>\"\",IFERROR(VLOOKUP(AI23,Tabelas!B:D,3,0),0),\"\")","v":0},{"$f":"IF(A23<>\"\",IFERROR(VLOOKUP(AJ23,Tabelas!B:D,3,0),0),\"\")","v":0},{"$f":"IF(A23<>\"\",IFERROR(VLOOKUP(AK23,Tabelas!B:D,3,0),0),\"\")","v":0},{"$f":"IF(A23<>\"\",IFERROR(VLOOKUP(AL23,Tabelas!B:D,3,0),0),\"\")","v":0},{"$f":"IF(A23<>\"\",IFERROR(VLOOKUP(AM23,Tabelas!B:D,3,0),0),\"\")","v":0},{"$f":"IF(A23<>\"\",IFERROR(VLOOKUP(AN23,Tabelas!B:D,3,0),0),\"\")","v":0},{"$f":"IF(A23<>\"\",IFERROR(VLOOKUP(AO23,Tabelas!B:D,3,0),0),\"\")","v":0},{"$f":"IF(A23<>\"\",IFERROR(VLOOKUP(AP23,Tabelas!B:D,3,0),0),\"\")","v":0},{"$f":"IF(A23<>\"\",IFERROR(VLOOKUP(AQ23,Tabelas!B:D,3,0),0),\"\")","v":0},{"$f":"IF(A23<>\"\",IFERROR(VLOOKUP(AR23,Tabelas!B:D,3,0),0),\"\")","v":0},0,0,0,0,0,0,0,0,0]
["Fulano de Tal 16",1234567,123,"ENF","Ebserh",36,null,null,null,null,null,null,null,null,null,null,null,null,null,null,null,null,null,null,null,null,null,null,null,null,null,null,null,null,null,null,null,null,null,null,null,null,null,null,{"$f":"IF(A24<>\"\",IFERROR(VLOOKUP(N24,Tabelas!B:D,3,0),0),\"\")","v":0},{"$f":"IF(A24<>\"\",IFERROR(VLOOKUP(O24,Tabelas!B:D,3,0),0),\"\")","v":0},{"$f":"IF(A24<>\"\",IFERROR(VLOOKUP(P24,Tabelas!B:D,3,0),0),\"\")","v":0},{"$f":"IF(A24<>\"\",IFERROR(VLOOKUP(Q24,Tabelas!B:D,3,0),0),\"\")","v":0},{"$f":"IF(A24<>\"\",IFERROR(VLOOKUP(R24,Tabelas!B:D,3,0),0),\"\")","v":0},{"$f":"IF(A24<>\"\",IFERROR(VLOOKUP(S24,Tabelas!B:D,3,0),0),\"\")","v":0},{"$f":"IF(A24<>\"\",IFERROR(VLOOKUP(T24,Tabelas!B:D,3,0),0),\"\")","v":0},{"$f":"IF(A24<>\"\",IFERROR(VLOOKUP(U24,Tabelas!B:D,3,0),0),\"\")","v":0},{"$f":"IF(A24<>\"\",IFERROR(VLOOKUP(V24,Tabelas!B:D,3,0),0),\"\")","v":0},{"$f":"IF(A24<>\"\",IFERROR(VLOOKUP(W24,Tabelas!B:D,3,0),0),\"\")","v":0},{"$f":"IF(A24<>\"\",IFERROR(VLOOKUP(X24,Tabelas!B:D,3,0),0),\"\")","v":0},{"$f":"IF(A24<>\"\",IFERROR(VLOOKUP(Y24,Tabelas!B:D,3,0),0),\"\")","v":0},{"$f":"IF(A24<>\"\",IFERROR(VLOOKUP(Z24,Tabelas!B:D,3,0),0),\"\")","v":0},{"$f":"IF(A24<>\"\",IFERROR(VLOOKUP(AA24,Tabelas!B:D,3,0),0),\"\")","v":0},{"$f":"IF(A24<>\"\",IFERROR(VLOOKUP(AB24,Tabelas!B:D,3,0),0),\"\")","v":0},{"$f":"IF(A24<>\"\",IFERROR(VLOOKUP(AC24,Tabelas!B:D,3,0),0),\"\")","v":0},{"$f":"IF(A24<>\"\",IFERROR(VLOOKUP(AD24,Tabelas!B:D,3,0),0),\"\")","v":0},{"$f":"IF(A24<>\"\",IFERROR(VLOOKUP(AE24,Tabelas!B:D,3,0),0),\"\")","v":0},{"$f":"IF(A24<>\"\",IFERROR(VLOOKUP(AF24,Tabelas!B:D,3,0),0),\"\")","v":0},{"$f":"IF(A24<>\"\",IFERROR(VLOOKUP(AG24,Tabelas!B:D,3,0),0),\"\")","v":0},{"$f":"IF(A24<>\"\",IFERROR(VLOOKUP(AH24,Tabelas!B:D,3,0),0),\"\")","v":0},{"$f":"IF(A24<>\"\",IFERROR(VLOOKUP(AI24,Tabelas!B:D,3,0),0),\"\")","v":0},{"$f":"IF(A24<>\"\",IFERROR(VLOOKUP(AJ24,Tabelas!B:D,3,0),0),\"\")","v":0},{"$f":"IF(A24<>\"\",IFERROR(VLOOKUP(AK24,Tabelas!B:D,3,0),0),\"\")","v":0},{"$f":"IF(A24<>\"\",IFERROR(VLOOKUP(AL24,Tabelas!B:D,3,0),0),\"\")","v":0},{"$f":"IF(A24<>\"\",IFERROR(VLOOKUP(AM24,Tabelas!B:D,3,0),0),\"\")","v":0},{"$f":"IF(A24<>\"\",IFERROR(VLOOKUP(AN24,Tabelas!B:D,3,0),0),\"\")","v":0},{"$f":"IF(A24<>\"\",IFERROR(VLOOKUP(AO24,Tabelas!B:D,3,0),0),\"\")","v":0},{"$f":"IF(A24<>\"\",IFERROR(VLOOKUP(AP24,Tabelas!B:D,3,0),0),\"\")","v":0},{"$f":"IF(A24<>\"\",IFERROR(VLOOKUP(AQ24,Tabelas!B:D,3,0),0),\"\")","v":0},{"$f":"IF(A24<>\"\",IFERROR(VLOOKUP(AR24,Tabelas!B:D,3,0),0),\"\")","v":0},0,0,0,0,0,0,0,0,0]
["Fulano de Tal 17",1234567,123,"ENF","Ebserh",36,null,null,null,null,null,null,null,null,null,null,null,null,null,null,null,null,null,null,null,null,null,null,null,null,null,null,null,null,null,null,null,null,null,null,null,null,null,null,{"$f":"IF(A25<>\"\",IFERROR(VLOOKUP(N25,Tabelas!B:D,3,0),0),\"\")","v":0},{"$f":"IF(A25<>\"\",IFERROR(VLOOKUP(O25,Tabelas!B:D,3,0),0),\"\")","v":0},{"$f":"IF(A25<>\"\",IFERROR(VLOOKUP(P25,Tabelas!B:D,3,0),0),\"\")","v":0},{"$f":"IF(A25<>\"\",IFERROR(VLOOKUP(Q25,Tabelas!B:D,3,0),0),\"\")","v":0},{"$f":"IF(A25<>\"\",IFERROR(VLOOKUP(R25,Tabelas!B:D,3,0),0),\"\")","v":0},{"$f":"IF(A25<>\"\",IFERROR(VLOOKUP(S25,Tabelas!B:D,3,0),0),\"\")","v":0},{"$f":"IF(A25<>\"\",IFERROR(VLOOKUP(T25,Tabelas!B:D,3,0),0),\"\")","v":0},{"$f":"IF(A25<>\"\",IFERROR(VLOOKUP(U25,Tabelas!B:D,3,0),0),\"\")","v":0},{"$f":"IF(A25<>\"\",IFERROR(VLOOKUP(V25,Tabelas!B:D,3,0),0),\"\")","v":0},{"$f":"IF(A25<>\"\",IFERROR(VLOOKUP(W25,Tabelas!B:D,3,0),0),\"\")","v":0},{"$f":"IF(A25<>\"\",IFERROR(VLOOKUP(X25,Tabelas!B:D,3,0),0),\"\")","v":0},{"$f":"IF(A25<>\"\",IFERROR(VLOOKUP(Y25,Tabelas!B:D,3,0),0),\"\")","v":0},{"$f":"IF(A25<>\"\",IFERROR(VLOOKUP(Z25,Tabelas!B:D,3,0),0),\"\")","v":0},{"$f":"IF(A25<>\"\",IFERROR(VLOOKUP(AA25,Tabelas!B:D,3,0),0),\"\")","v":0},{"$f":"IF(A25<>\"\",IFERROR(VLOOKUP(AB25,Tabelas!B:D,3,0),0),\"\")","v":0},{"$f":"IF(A25<>\"\",IFERROR(VLOOKUP(AC25,Tabelas!B:D,3,0),0),\"\")","v":0},{"$f":"IF(A25<>\"\",IFERROR(VLOOKUP(AD25,Tabelas!B:D,3,0),0),\"\")","v":0},{"$f":"IF(A25<>\"\",IFERROR(VLOOKUP(AE25,Tabelas!B:D,3,0),0),\"\")","v":0},{"$f":"IF(A25<>\"\",IFERROR(VLOOKUP(AF25,Tabelas!B:D,3,0),0),\"\")","v":0},{"$f":"IF(A25<>\"\",IFERROR(VLOOKUP(AG25,Tabelas!B:D,3,0),0),\"\")","v":0},{"$f":"IF(A25<>\"\",IFERROR(VLOOKUP(AH25,Tabelas!B:D,3,0),0),\"\")","v":0},{"$f":"IF(A25<>\"\",IFERROR(VLOOKUP(AI25,Tabelas!B:D,3,0),0),\"\")","v":0},{"$f":"IF(A25<>\"\",IFERROR(VLOOKUP(AJ25,Tabelas!B:D,3,0),0),\"\")","v":0},{"$f":"IF(A25<>\"\",IFERROR(VLOOKUP(AK25,Tabelas!B:D,3,0),0),\"\")","v":0},{"$f":"IF(A25<>\"\",IFERROR(VLOOKUP(AL25,Tabelas!B:D,3,0),0),\"\")","v":0},{"$f":"IF(A25<>\"\",IFERROR(VLOOKUP(AM25,Tabelas!B:D,3,0),0),\"\")","v":0},{"$f":"IF(A25<>\"\",IFERROR(VLOOKUP(AN25,Tabelas!B:D,3,0),0),\"\")","v":0},{"$f":"IF(A25<>\"\",IFERROR(VLOOKUP(AO25,Tabelas!B:D,3,0),0),\"\")","v":0},{"$f":"IF(A25<>\"\",IFERROR(VLOOKUP(AP25,Tabelas!B:D,3,0),0),\"\")","v":0},{"$f":"IF(A25<>\"\",IFERROR(VLOOKUP(AQ25,Tabelas!B:D,3,0),0),\"\")","v":0},{"$f":"IF(A25<>\"\",IFERROR(VLOOKUP(AR25,Tabelas!B:D,3,0),0),\"\")","v":0},0,0,0,0,0,0,0,0,0]
["Fulano de Tal 18",1234567,123,"ENF","Ebserh",36,null,null,null,null,null,null,null,null,null,null,null,null,null,null,null,null,null,null,null,null,null,null,null,null,null,null,null,null,null,null,null,null,null,null,null,null,null,null,{"$f":"IF(A26<>\"\",IFERROR(VLOOKUP(N26,Tabelas!B:D,3,0),0),\"\")","v":0},{"$f":"IF(A26<>\"\",IFERROR(VLOOKUP(O26,Tabelas!B:D,3,0),0),\"\")","v":0},{"$f":"IF(A26<>\"\",IFERROR(VLOOKUP(P26,Tabelas!B:D,3,0),0),\"\")","v":0},{"$f":"IF(A26<>\"\",IFERROR(VLOOKUP(Q26,Tabelas!B:D,3,0),0),\"\")","v":0},{"$f":"IF(A26<>\"\",IFERROR(VLOOKUP(R26,Tabelas!B:D,3,0),0),\"\")","v":0},{"$f":"IF(A26<>\"\",IFERROR(VLOOKUP(S26,Tabelas!B:D,3,0),0),\"\")","v":0},{"$f":"IF(A26<>\"\",IFERROR(VLOOKUP(T26,Tabelas!B:D,3,0),0),\"\")","v":0},{"$f":"IF(A26<>\"\",IFERROR(VLOOKUP(U26,Tabelas!B:D,3,0),0),\"\")","v":0},{"$f":"IF(A26<>\"\",IFERROR(VLOOKUP(V26,Tabelas!B:D,3,0),0),\"\")","v":0},{"$f":"IF(A26<>\"\",IFERROR(VLOOKUP(W26,Tabelas!B:D,3,0),0),\"\")","v":0},{"$f":"IF(A26<>\"\",IFERROR(VLOOKUP(X26,Tabelas!B:D,3,0),0),\"\")","v":0},{"$f":"IF(A26<>\"\",IFERROR(VLOOKUP(Y26,Tabelas!B:D,3,0),0),\"\")","v":0},{"$f":"IF(A26<>\"\",IFERROR(VLOOKUP(Z26,Tabelas!B:D,3,0),0),\"\")","v":0},{"$f":"IF(A26<>\"\",IFERROR(VLOOKUP(AA26,Tabelas!B:D,3,0),0),\"\")","v":0},{"$f":"IF(A26<>\"\",IFERROR(VLOOKUP(AB26,Tabelas!B:D,3,0),0),\"\")","v":0},{"$f":"IF(A26<>\"\",IFERROR(VLOOKUP(AC26,Tabelas!B:D,3,0),0),\"\")","v":0},{"$f":"IF(A26<>\"\",IFERROR(VLOOKUP(AD26,Tabelas!B:D,3,0),0),\"\")","v":0},{"$f":"IF(A26<>\"\",IFERROR(VLOOKUP(AE26,Tabelas!B:D,3,0),0),\"\")","v":0},{"$f":"IF(A26<>\"\",IFERROR(VLOOKUP(AF26,Tabelas!B:D,3,0),0),\"\")","v":0},{"$f":"IF(A26<>\"\",IFERROR(VLOOKUP(AG26,Tabelas!B:D,3,0),0),\"\")","v":0},{"$f":"IF(A26<>\"\",IFERROR(VLOOKUP(AH26,Tabelas!B:D,3,0),0),\"\")","v":0},{"$f":"IF(A26<>\"\",IFERROR(VLOOKUP(AI26,Tabelas!B:D,3,0),0),\"\")","v":0},{"$f":"IF(A26<>\"\",IFERROR(VLOOKUP(AJ26,Tabelas!B:D,3,0),0),\"\")","v":0},{"$f":"IF(A26<>\"\",IFERROR(VLOOKUP(AK26,Tabelas!B:D,3,0),0),\"\")","v":0},{"$f":"IF(A26<>\"\",IFERROR(VLOOKUP(AL26,Tabelas!B:D,3,0),0),\"\")","v":0},{"$f":"IF(A26<>\"\",IFERROR(VLOOKUP(AM26,Tabelas!B:D,3,0),0),\"\")","v":0},{"$f":"IF(A26<>\"\",IFERROR(VLOOKUP(AN26,Tabelas!B:D,3,0),0),\"\")","v":0},{"$f":"IF(A26<>\"\",IFERROR(VLOOKUP(AO26,Tabelas!B:D,3,0),0),\"\")","v":0},{"$f":"IF(A26<>\"\",IFERROR(VLOOKUP(AP26,Tabelas!B:D,3,0),0),\"\")","v":0},{"$f":"IF(A26<>\"\",IFERROR(VLOOKUP(AQ26,Tabelas!B:D,3,0),0),\"\")","v":0},{"$f":"IF(A26<>\"\",IFERROR(VLOOKUP(AR26,Tabelas!B:D,3,0),0),\"\")","v":0},0,0,0,0,0,0,0,0,0]
["Fulano de Tal 19",1234567,123,"ENF","Ebserh",36,null,null,null,null,null,null,null,null,null,null,null,null,null,null,null,null,null,null,null,null,null,null,null,null,null,null,null,null,null,null,null,null,null,null,null,null,null,null,{"$f":"IF(A27<>\"\",IFERROR(VLOOKUP(N27,Tabelas!B:D,3,0),0),\"\")","v":0},{"$f":"IF(A27<>\"\",IFERROR(VLOOKUP(O27,Tabelas!B:D,3,0),0),\"\")","v":0},{"$f":"IF(A27<>\"\",IFERROR(VLOOKUP(P27,Tabelas!B:D,3,0),0),\"\")","v":0},{"$f":"IF(A27<>\"\",IFERROR(VLOOKUP(Q27,Tabelas!B:D,3,0),0),\"\")","v":0},{"$f":"IF(A27<>\"\",IFERROR(VLOOKUP(R27,Tabelas!B:D,3,0),0),\"\")","v":0},{"$f":"IF(A27<>\"\",IFERROR(VLOOKUP(S27,Tabelas!B:D,3,0),0),\"\")","v":0},{"$f":"IF(A27<>\"\",IFERROR(VLOOKUP(T27,Tabelas!B:D,3,0),0),\"\")","v":0},{"$f":"IF(A27<>\"\",IFERROR(VLOOKUP(U27,Tabelas!B:D,3,0),0),\"\")","v":0},{"$f":"IF(A27<>\"\",IFERROR(VLOOKUP(V27,Tabelas!B:D,3,0),0),\"\")","v":0},{"$f":"IF(A27<>\"\",IFERROR(VLOOKUP(W27,Tabelas!B:D,3,0),0),\"\")","v":0},{"$f":"IF(A27<>\"\",IFERROR(VLOOKUP(X27,Tabelas!B:D,3,0),0),\"\")","v":0},{"$f":"IF(A27<>\"\",IFERROR(VLOOKUP(Y27,Tabelas!B:D,3,0),0),\"\")","v":0},{"$f":"IF(A27<>\"\",IFERROR(VLOOKUP(Z27,Tabelas!B:D,3,0),0),\"\")","v":0},{"$f":"IF(A27<>\"\",IFERROR(VLOOKUP(AA27,Tabelas!B:D,3,0),0),\"\")","v":0},{"$f":"IF(A27<>\"\",IFERROR(VLOOKUP(AB27,Tabelas!B:D,3,0),0),\"\")","v":0},{"$f":"IF(A27<>\"\",IFERROR(VLOOKUP(AC27,Tabelas!B:D,3,0),0),\"\")","v":0},{"$f":"IF(A27<>\"\",IFERROR(VLOOKUP(AD27,Tabelas!B:D,3,0),0),\"\")","v":0},{"$f":"IF(A27<>\"\",IFERROR(VLOOKUP(AE27,Tabelas!B:D,3,0),0),\"\")","v":0},{"$f":"IF(A27<>\"\",IFERROR(VLOOKUP(AF27,Tabelas!B:D,3,0),0),\"\")","v":0},{"$f":"IF(A27<>\"\",IFERROR(VLOOKUP(AG27,Tabelas!B:D,3,0),0),\"\")","v":0},{"$f":"IF(A27<>\"\",IFERROR(VLOOKUP(AH27,Tabelas!B:D,3,0),0),\"\")","v":0},{"$f":"IF(A27<>\"\",IFERROR(VLOOKUP(AI27,Tabelas!B:D,3,0),0),\"\")","v":0},{"$f":"IF(A27<>\"\",IFERROR(VLOOKUP(AJ27,Tabelas!B:D,3,0),0),\"\")","v":0},{"$f":"IF(A27<>\"\",IFERROR(VLOOKUP(AK27,Tabelas!B:D,3,0),0),\"\")","v":0},{"$f":"IF(A27<>\"\",IFERROR(VLOOKUP(AL27,Tabelas!B:D,3,0),0),\"\")","v":0},{"$f":"IF(A27<>\"\",IFERROR(VLOOKUP(AM27,Tabelas!B:D,3,0),0),\"\")","v":0},{"$f":"IF(A27<>\"\",IFERROR(VLOOKUP(AN27,Tabelas!B:D,3,0),0),\"\")","v":0},{"$f":"IF(A27<>\"\",IFERROR(VLOOKUP(AO27,Tabelas!B:D,3,0),0),\"\")","v":0},{"$f":"IF(A27<>\"\",IFERROR(VLOOKUP(AP27,Tabelas!B:D,3,0),0),\"\")","v":0},{"$f":"IF(A27<>\"\",IFERROR(VLOOKUP(AQ27,Tabelas!B:D,3,0),0),\"\")","v":0},{"$f":"IF(A27<>\"\",IFERROR(VLOOKUP(AR27,Tabelas!B:D,3,0),0),\"\")","v":0},0,0,0,0,0,0,0,0,0]
["Fulano de Tal 20",1234567,123,"ENF","Ebserh",36,null,null,null,null,null,null,null,null,null,null,null,null,null,null,null,null,null,null,null,null,null,null,null,null,null,null,null,null,null,null,null,null,null,null,null,null,null,null,{"$f":"IF(A28<>\"\",IFERROR(VLOOKUP(N28,Tabelas!B:D,3,0),0),\"\")","v":0},{"$f":"IF(A28<>\"\",IFERROR(VLOOKUP(O28,Tabelas!B:D,3,0),0),\"\")","v":0},{"$f":"IF(A28<>\"\",IFERROR(VLOOKUP(P28,Tabelas!B:D,3,0),0),\"\")","v":0},{"$f":"IF(A28<>\"\",IFERROR(VLOOKUP(Q28,Tabelas!B:D,3,0),0),\"\")","v":0},{"$f":"IF(A28<>\"\",IFERROR(VLOOKUP(R28,Tabelas!B:D,3,0),0),\"\")","v":0},{"$f":"IF(A28<>\"\",IFERROR(VLOOKUP(S28,Tabelas!B:D,3,0),0),\"\")","v":0},{"$f":"IF(A28<>\"\",IFERROR(VLOOKUP(T28,Tabelas!B:D,3,0),0),\"\")","v":0},{"$f":"IF(A28<>\"\",IFERROR(VLOOKUP(U28,Tabelas!B:D,3,0),0),\"\")","v":0},{"$f":"IF(A28<>\"\",IFERROR(VLOOKUP(V28,Tabelas!B:D,3,0),0),\"\")","v":0},{"$f":"IF(A28<>\"\",IFERROR(VLOOKUP(W28,Tabelas!B:D,3,0),0),\"\")","v":0},{"$f":"IF(A28<>\"\",IFERROR(VLOOKUP(X28,Tabelas!B:D,3,0),0),\"\")","v":0},{"$f":"IF(A28<>\"\",IFERROR(VLOOKUP(Y28,Tabelas!B:D,3,0),0),\"\")","v":0},{"$f":"IF(A28<>\"\",IFERROR(VLOOKUP(Z28,Tabelas!B:D,3,0),0),\"\")","v":0},{"$f":"IF(A28<>\"\",IFERROR(VLOOKUP(AA28,Tabelas!B:D,3,0),0),\"\")","v":0},{"$f":"IF(A28<>\"\",IFERROR(VLOOKUP(AB28,Tabelas!B:D,3,0),0),\"\")","v":0},{"$f":"IF(A28<>\"\",IFERROR(VLOOKUP(AC28,Tabelas!B:D,3,0),0),\"\")","v":0},{"$f":"IF(A28<>\"\",IFERROR(VLOOKUP(AD28,Tabelas!B:D,3,0),0),\"\")","v":0},{"$f":"IF(A28<>\"\",IFERROR(VLOOKUP(AE28,Tabelas!B:D,3,0),0),\"\")","v":0},{"$f":"IF(A28<>\"\",IFERROR(VLOOKUP(AF28,Tabelas!B:D,3,0),0),\"\")","v":0},{"$f":"IF(A28<>\"\",IFERROR(VLOOKUP(AG28,Tabelas!B:D,3,0),0),\"\")","v":0},{"$f":"IF(A28<>\"\",IFERROR(VLOOKUP(AH28,Tabelas!B:D,3,0),0),\"\")","v":0},{"$f":"IF(A28<>\"\",IFERROR(VLOOKUP(AI28,Tabelas!B:D,3,0),0),\"\")","v":0},{"$f":"IF(A28<>\"\",IFERROR(VLOOKUP(AJ28,Tabelas!B:D,3,0),0),\"\")","v":0},{"$f":"IF(A28<>\"\",IFERROR(VLOOKUP(AK28,Tabelas!B:D,3,0),0),\"\")","v":0},{"$f":"IF(A28<>\"\",IFERROR(VLOOKUP(AL28,Tabelas!B:D,3,0),0),\"\")","v":0},{"$f":"IF(A28<>\"\",IFERROR(VLOOKUP(AM28,Tabelas!B:D,3,0),0),\"\")","v":0},{"$f":"IF(A28<>\"\",IFERROR(VLOOKUP(AN28,Tabelas!B:D,3,0),0),\"\")","v":0},{"$f":"IF(A28<>\"\",IFERROR(VLOOKUP(AO28,Tabelas!B:D,3,0),0),\"\")","v":0},{"$f":"IF(A28<>\"\",IFERROR(VLOOKUP(AP28,Tabelas!B:D,3,0),0),\"\")","v":0},{"$f":"IF(A28<>\"\",IFERROR(VLOOKUP(AQ28,Tabelas!B:D,3,0),0),\"\")","v":0},{"$f":"IF(A28<>\"\",IFERROR(VLOOKUP(AR28,Tabelas!B:D,3,0),0),\"\")","v":0},0,0,0,0,0,0,0,0,0]
["Fulano de Tal 21",1234567,123,"ENF","Ebserh",36,null,null,null,null,null,null,null,null,null,null,null,null,null,null,null,null,null,null,null,null,null,null,null,null,null,null,null,null,null,null,null,null,null,null,null,null,null,null,{"$f":"IF(A29<>\"\",IFERROR(VLOOKUP(N29,Tabelas!B:D,3,0),0),\"\")","v":0},{"$f":"IF(A29<>\"\",IFERROR(VLOOKUP(O29,Tabelas!B:D,3,0),0),\"\")","v":0},{"$f":"IF(A29<>\"\",IFERROR(VLOOKUP(P29,Tabelas!B:D,3,0),0),\"\")","v":0},{"$f":"IF(A29<>\"\",IFERROR(VLOOKUP(Q29,Tabelas!B:D,3,0),0),\"\")","v":0},{"$f":"IF(A29<>\"\",IFERROR(VLOOKUP(R29,Tabelas!B:D,3,0),0),\"\")","v":0},{"$f":"IF(A29<>\"\",IFERROR(VLOOKUP(S29,Tabelas!B:D,3,0),0),\"\")","v":0},{"$f":"IF(A29<>\"\",IFERROR(VLOOKUP(T29,Tabelas!B:D,3,0),0),\"\")","v":0},{"$f":"IF(A29<>\"\",IFERROR(VLOOKUP(U29,Tabelas!B:D,3,0),0),\"\")","v":0},{"$f":"IF(A29<>\"\",IFERROR(VLOOKUP(V29,Tabelas!B:D,3,0),0),\"\")","v":0},{"$f":"IF(A29<>\"\",IFERROR(VLOOKUP(W29,Tabelas!B:D,3,0),0),\"\")","v":0},{"$f":"IF(A29<>\"\",IFERROR(VLOOKUP(X29,Tabelas!B:D,3,0),0),\"\")","v":0},{"$f":"IF(A29<>\"\",IFERROR(VLOOKUP(Y29,Tabelas!B:D,3,0),0),\"\")","v":0},{"$f":"IF(A29<>\"\",IFERROR(VLOOKUP(Z29,Tabelas!B:D,3,0),0),\"\")","v":0},{"$f":"IF(A29<>\"\",IFERROR(VLOOKUP(AA29,Tabelas!B:D,3,0),0),\"\")","v":0},{"$f":"IF(A29<>\"\",IFERROR(VLOOKUP(AB29,Tabelas!B:D,3,0),0),\"\")","v":0},{"$f":"IF(A29<>\"\",IFERROR(VLOOKUP(AC29,Tabelas!B:D,3,0),0),\"\")","v":0},{"$f":"IF(A29<>\"\",IFERROR(VLOOKUP(AD29,Tabelas!B:D,3,0),0),\"\")","v":0},{"$f":"IF(A29<>\"\",IFERROR(VLOOKUP(AE29,Tabelas!B:D,3,0),0),\"\")","v":0},{"$f":"IF(A29<>\"\",IFERROR(VLOOKUP(AF29,Tabelas!B:D,3,0),0),\"\")","v":0},{"$f":"IF(A29<>\"\",IFERROR(VLOOKUP(AG29,Tabelas!B:D,3,0),0),\"\")","v":0},{"$f":"IF(A29<>\"\",IFERROR(VLOOKUP(AH29,Tabelas!B:D,3,0),0),\"\")","v":0},{"$f":"IF(A29<>\"\",IFERROR(VLOOKUP(AI29,Tabelas!B:D,3,0),0),\"\")","v":0},{"$f":"IF(A29<>\"\",IFERROR(VLOOKUP(AJ29,Tabelas!B:D,3,0),0),\"\")","v":0},{"$f":"IF(A29<>\"\",IFERROR(VLOOKUP(AK29,Tabelas!B:D,3,0),0),\"\")","v":0},{"$f":"IF(A29<>\"\",IFERROR(VLOOKUP(AL29,Tabelas!B:D,3,0),0),\"\")","v":0},{"$f":"IF(A29<>\"\",IFERROR(VLOOKUP(AM29,Tabelas!B:D,3,0),0),\"\")","v":0},{"$f":"IF(A29<>\"\",IFERROR(VLOOKUP(AN29,Tabelas!B:D,3,0),0),\"\")","v":0},{"$f":"IF(A29<>\"\",IFERROR(VLOOKUP(AO29,Tabelas!B:D,3,0),0),\"\")","v":0},{"$f":"IF(A29<>\"\",IFERROR(VLOOKUP(AP29,Tabelas!B:D,3,0),0),\"\")","v":0},{"$f":"IF(A29<>\"\",IFERROR(VLOOKUP(AQ29,Tabelas!B:D,3,0),0),\"\")","v":0},{"$f":"IF(A29<>\"\",IFERROR(VLOOKUP(AR29,Tabelas!B:D,3,0),0),\"\")","v":0},0,0,0,0,0,0,0,0,0]
["Fulano de Tal 22",1234567,123,"ENF","Ebserh",36,null,null,null,null,null,null,null,null,null,null,null,null,null,null,null,null,null,null,null,null,null,null,null,null,null,null,null,null,null,null,null,null,null,null,null,null,null,null,{"$f":"IF(A30<>\"\",IFERROR(VLOOKUP(N30,Tabelas!B:D,3,0),0),\"\")","v":0},{"$f":"IF(A30<>\"\",IFERROR(VLOOKUP(O30,Tabelas!B:D,3,0),0),\"\")","v":0},{"$f":"IF(A30<>\"\",IFERROR(VLOOKUP(P30,Tabelas!B:D,3,0),0),\"\")","v":0},{"$f":"IF(A30<>\"\",IFERROR(VLOOKUP(Q30,Tabelas!B:D,3,0),0),\"\")","v":0},{"$f":"IF(A30<>\"\",IFERROR(VLOOKUP(R30,Tabelas!B:D,3,0),0),\"\")","v":0},{"$f":"IF(A30<>\"\",IFERROR(VLOOKUP(S30,Tabelas!B:D,3,0),0),\"\")","v":0},{"$f":"IF(A30<>\"\",IFERROR(VLOOKUP(T30,Tabelas!B:D,3,0),0),\"\")","v":0},{"$f":"IF(A30<>\"\",IFERROR(VLOOKUP(U30,Tabelas!B:D,3,0),0),\"\")","v":0},{"$f":"IF(A30<>\"\",IFERROR(VLOOKUP(V30,Tabelas!B:D,3,0),0),\"\")","v":0},{"$f":"IF(A30<>\"\",IFERROR(VLOOKUP(W30,Tabelas!B:D,3,0),0),\"\")","v":0},{"$f":"IF(A30<>\"\",IFERROR(VLOOKUP(X30,Tabelas!B:D,3,0),0),\"\")","v":0},{"$f":"IF(A30<>\"\",IFERROR(VLOOKUP(Y30,Tabelas!B:D,3,0),0),\"\")","v":0},{"$f":"IF(A30<>\"\",IFERROR(VLOOKUP(Z30,Tabelas!B:D,3,0),0),\"\")","v":0},{"$f":"IF(A30<>\"\",IFERROR(VLOOKUP(AA30,Tabelas!B:D,3,0),0),\"\")","v":0},{"$f":"IF(A30<>\"\",IFERROR(VLOOKUP(AB30,Tabelas!B:D,3,0),0),\"\")","v":0},{"$f":"IF(A30<>\"\",IFERROR(VLOOKUP(AC30,Tabelas!B:D,3,0),0),\"\")","v":0},{"$f":"IF(A30<>\"\",IFERROR(VLOOKUP(AD30,Tabelas!B:D,3,0),0),\"\")","v":0},{"$f":"IF(A30<>\"\",IFERROR(VLOOKUP(AE30,Tabelas!B:D,3,0),0),\"\")","v":0},{"$f":"IF(A30<>\"\",IFERROR(VLOOKUP(AF30,Tabelas!B:D,3,0),0),\"\")","v":0},{"$f":"IF(A30<>\"\",IFERROR(VLOOKUP(AG30,Tabelas!B:D,3,0),0),\"\")","v":0},{"$f":"IF(A30<>\"\",IFERROR(VLOOKUP(AH30,Tabelas!B:D,3,0),0),\"\")","v":0},{"$f":"IF(A30<>\"\",IFERROR(VLOOKUP(AI30,Tabelas!B:D,3,0),0),\"\")","v":0},{"$f":"IF(A30<>\"\",IFERROR(VLOOKUP(AJ30,Tabelas!B:D,3,0),0),\"\")","v":0},{"$f":"IF(A30<>\"\",IFERROR(VLOOKUP(AK30,Tabelas!B:D,3,0),0),\"\")","v":0},{"$f":"IF(A30<>\"\",IFERROR(VLOOKUP(AL30,Tabelas!B:D,3,0),0),\"\")","v":0},{"$f":"IF(A30<>\"\",IFERROR(VLOOKUP(AM30,Tabelas!B:D,3,0),0),\"\")","v":0},{"$f":"IF(A30<>\"\",IFERROR(VLOOKUP(AN30,Tabelas!B:D,3,0),0),\"\")","v":0},{"$f":"IF(A30<>\"\",IFERROR(VLOOKUP(AO30,Tabelas!B:D,3,0),0),\"\")","v":0},{"$f":"IF(A30<>\"\",IFERROR(VLOOKUP(AP30,Tabelas!B:D,3,0),0),\"\")","v":0},{"$f":"IF(A30<>\"\",IFERROR(VLOOKUP(AQ30,Tabelas!B:D,3,0),0),\"\")","v":0},{"$f":"IF(A30<>\"\",IFERROR(VLOOKUP(AR30,Tabelas!B:D,3,0),0),\"\")","v":0},0,0,0,0,0,0,0,0,0]
["Fulano de Tal 23",1234567,123,"ENF","Ebserh",36,null,null,null,null,null,null,null,null,null,null,null,null,null,null,null,null,null,null,null,null,null,null,null,null,null,null,null,null,null,null,null,null,null,null,null,null,null,null,{"$f":"IF(A31<>\"\",IFERROR(VLOOKUP(N31,Tabelas!B:D,3,0),0),\"\")","v":0},{"$f":"IF(A31<>\"\",IFERROR(VLOOKUP(O31,Tabelas!B:D,3,0),0),\"\")","v":0},{"$f":"IF(A31<>\"\",IFERROR(VLOOKUP(P31,Tabelas!B:D,3,0),0),\"\")","v":0},{"$f":"IF(A31<>\"\",IFERROR(VLOOKUP(Q31,Tabelas!B:D,3,0),0),\"\")","v":0},{"$f":"IF(A31<>\"\",IFERROR(VLOOKUP(R31,Tabelas!B:D,3,0),0),\"\")","v":0},{"$f":"IF(A31<>\"\",IFERROR(VLOOKUP(S31,Tabelas!B:D,3,0),0),\"\")","v":0},{"$f":"IF(A31<>\"\",IFERROR(VLOOKUP(T31,Tabelas!B:D,3,0),0),\"\")","v":0},{"$f":"IF(A31<>\"\",IFERROR(VLOOKUP(U31,Tabelas!B:D,3,0),0),\"\")","v":0},{"$f":"IF(A31<>\"\",IFERROR(VLOOKUP(V31,Tabelas!B:D,3,0),0),\"\")","v":0},{"$f":"IF(A31<>\"\",IFERROR(VLOOKUP(W31,Tabelas!B:D,3,0),0),\"\")","v":0},{"$f":"IF(A31<>\"\",IFERROR(VLOOKUP(X31,Tabelas!B:D,3,0),0),\"\")","v":0},{"$f":"IF(A31<>\"\",IFERROR(VLOOKUP(Y31,Tabelas!B:D,3,0),0),\"\")","v":0},{"$f":"IF(A31<>\"\",IFERROR(VLOOKUP(Z31,Tabelas!B:D,3,0),0),\"\")","v":0},{"$f":"IF(A31<>\"\",IFERROR(VLOOKUP(AA31,Tabelas!B:D,3,0),0),\"\")","v":0},{"$f":"IF(A31<>\"\",IFERROR(VLOOKUP(AB31,Tabelas!B:D,3,0),0),\"\")","v":0},{"$f":"IF(A31<>\"\",IFERROR(VLOOKUP(AC31,Tabelas!B:D,3,0),0),\"\")","v":0},{"$f":"IF(A31<>\"\",IFERROR(VLOOKUP(AD31,Tabelas!B:D,3,0),0),\"\")","v":0},{"$f":"IF(A31<>\"\",IFERROR(VLOOKUP(AE31,Tabelas!B:D,3,0),0),\"\")","v":0},{"$f":"IF(A31<>\"\",IFERROR(VLOOKUP(AF31,Tabelas!B:D,3,0),0),\"\")","v":0},{"$f":"IF(A31<>\"\",IFERROR(VLOOKUP(AG31,Tabelas!B:D,3,0),0),\"\")","v":0},{"$f":"IF(A31<>\"\",IFERROR(VLOOKUP(AH31,Tabelas!B:D,3,0),0),\"\")","v":0},{"$f":"IF(A31<>\"\",IFERROR(VLOOKUP(AI31,Tabelas!B:D,3,0),0),\"\")","v":0},{"$f":"IF(A31<>\"\",IFERROR(VLOOKUP(AJ31,Tabelas!B:D,3,0),0),\"\")","v":0},{"$f":"IF(A31<>\"\",IFERROR(VLOOKUP(AK31,Tabelas!B:D,3,0),0),\"\")","v":0},{"$f":"IF(A31<>\"\",IFERROR(VLOOKUP(AL31,Tabelas!B:D,3,0),0),\"\")","v":0},{"$f":"IF(A31<>\"\",IFERROR(VLOOKUP(AM31,Tabelas!B:D,3,0),0),\"\")","v":0},{"$f":"IF(A31<>\"\",IFERROR(VLOOKUP(AN31,Tabelas!B:D,3,0),0),\"\")","v":0},{"$f":"IF(A31<>\"\",IFERROR(VLOOKUP(AO31,Tabelas!B:D,3,0),0),\"\")","v":0},{"$f":"IF(A31<>\"\",IFERROR(VLOOKUP(AP31,Tabelas!B:D,3,0),0),\"\")","v":0},{"$f":"IF(A31<>\"\",IFERROR(VLOOKUP(AQ31,Tabelas!B:D,3,0),0),\"\")","v":0},{"$f":"IF(A31<>\"\",IFERROR(VLOOKUP(AR31,Tabelas!B:D,3,0),0),\"\")","v":0},0,0,0,0,0,0,0,0,0]
["Fulano de Tal 24",1234567,123,"ENF","Ebserh",36,null,null,null,null,null,null,null,null,null,null,null,null,null,null,null,null,null,null,null,null,null,null,null,null,null,null,null,null,null,null,null,null,null,null,null,null,null,null,{"$f":"IF(A32<>\"\",IFERROR(VLOOKUP(N32,Tabelas!B:D,3,0),0),\"\")","v":0},{"$f":"IF(A32<>\"\",IFERROR(VLOOKUP(O32,Tabelas!B:D,3,0),0),\"\")","v":0},{"$f":"IF(A32<>\"\",IFERROR(VLOOKUP(P32,Tabelas!B:D,3,0),0),\"\")","v":0},{"$f":"IF(A32<>\"\",IFERROR(VLOOKUP(Q32,Tabelas!B:D,3,0),0),\"\")","v":0},{"$f":"IF(A32<>\"\",IFERROR(VLOOKUP(R32,Tabelas!B:D,3,0),0),\"\")","v":0},{"$f":"IF(A32<>\"\",IFERROR(VLOOKUP(S32,Tabelas!B:D,3,0),0),\"\")","v":0},{"$f":"IF(A32<>\"\",IFERROR(VLOOKUP(T32,Tabelas!B:D,3,0),0),\"\")","v":0},{"$f":"IF(A32<>\"\",IFERROR(VLOOKUP(U32,Tabelas!B:D,3,0),0),\"\")","v":0},{"$f":"IF(A32<>\"\",IFERROR(VLOOKUP(V32,Tabelas!B:D,3,0),0),\"\")","v":0},{"$f":"IF(A32<>\"\",IFERROR(VLOOKUP(W32,Tabelas!B:D,3,0),0),\"\")","v":0},{"$f":"IF(A32<>\"\",IFERROR(VLOOKUP(X32,Tabelas!B:D,3,0),0),\"\")","v":0},{"$f":"IF(A32<>\"\",IFERROR(VLOOKUP(Y32,Tabelas!B:D,3,0),0),\"\")","v":0},{"$f":"IF(A32<>\"\",IFERROR(VLOOKUP(Z32,Tabelas!B:D,3,0),0),\"\")","v":0},{"$f":"IF(A32<>\"\",IFERROR(VLOOKUP(AA32,Tabelas!B:D,3,0),0),\"\")","v":0},{"$f":"IF(A32<>\"\",IFERROR(VLOOKUP(AB32,Tabelas!B:D,3,0),0),\"\")","v":0},{"$f":"IF(A32<>\"\",IFERROR(VLOOKUP(AC32,Tabelas!B:D,3,0),0),\"\")","v":0},{"$f":"IF(A32<>\"\",IFERROR(VLOOKUP(AD32,Tabelas!B:D,3,0),0),\"\")","v":0},{"$f":"IF(A32<>\"\",IFERROR(VLOOKUP(AE32,Tabelas!B:D,3,0),0),\"\")","v":0},{"$f":"IF(A32<>\"\",IFERROR(VLOOKUP(AF32,Tabelas!B:D,3,0),0),\"\")","v":0},{"$f":"IF(A32<>\"\",IFERROR(VLOOKUP(AG32,Tabelas!B:D,3,0),0),\"\")","v":0},{"$f":"IF(A32<>\"\",IFERROR(VLOOKUP(AH32,Tabelas!B:D,3,0),0),\"\")","v":0},{"$f":"IF(A32<>\"\",IFERROR(VLOOKUP(AI32,Tabelas!B:D,3,0),0),\"\")","v":0},{"$f":"IF(A32<>\"\",IFERROR(VLOOKUP(AJ32,Tabelas!B:D,3,0),0),\"\")","v":0},{"$f":"IF(A32<>\"\",IFERROR(VLOOKUP(AK32,Tabelas!B:D,3,0),0),\"\")","v":0},{"$f":"IF(A32<>\"\",IFERROR(VLOOKUP(AL32,Tabelas!B:D,3,0),0),\"\")","v":0},{"$f":"IF(A32<>\"\",IFERROR(VLOOKUP(AM32,Tabelas!B:D,3,0),0),\"\")","v":0},{"$f":"IF(A32<>\"\",IFERROR(VLOOKUP(AN32,Tabelas!B:D,3,0),0),\"\")","v":0},{"$f":"IF(A32<>\"\",IFERROR(VLOOKUP(AO32,Tabelas!B:D,3,0),0),\"\")","v":0},{"$f":"IF(A32<>\"\",IFERROR(VLOOKUP(AP32,Tabelas!B:D,3,0),0),\"\")","v":0},{"$f":"IF(A32<>\"\",IFERROR(VLOOKUP(AQ32,Tabelas!B:D,3,0),0),\"\")","v":0},{"$f":"IF(A32<>\"\",IFERROR(VLOOKUP(AR32,Tabelas!B:D,3,0),0),\"\")","v":0},0,0,0,0,0,0,0,0,0]
["Fulano de Tal 25",1234567,123,"ENF","Ebserh",36,null,null,null,null,null,null,null,null,null,null,null,null,null,null,null,null,null,null,null,null,null,null,null,null,null,null,null,null,null,null,null,null,null,null,null,null,null,null,{"$f":"IF(A33<>\"\",IFERROR(VLOOKUP(N33,Tabelas!B:D,3,0),0),\"\")","v":0},{"$f":"IF(A33<>\"\",IFERROR(VLOOKUP(O33,Tabelas!B:D,3,0),0),\"\")","v":0},{"$f":"IF(A33<>\"\",IFERROR(VLOOKUP(P33,Tabelas!B:D,3,0),0),\"\")","v":0},{"$f":"IF(A33<>\"\",IFERROR(VLOOKUP(Q33,Tabelas!B:D,3,0),0),\"\")","v":0},{"$f":"IF(A33<>\"\",IFERROR(VLOOKUP(R33,Tabelas!B:D,3,0),0),\"\")","v":0},{"$f":"IF(A33<>\"\",IFERROR(VLOOKUP(S33,Tabelas!B:D,3,0),0),\"\")","v":0},{"$f":"IF(A33<>\"\",IFERROR(VLOOKUP(T33,Tabelas!B:D,3,0),0),\"\")","v":0},{"$f":"IF(A33<>\"\",IFERROR(VLOOKUP(U33,Tabelas!B:D,3,0),0),\"\")","v":0},{"$f":"IF(A33<>\"\",IFERROR(VLOOKUP(V33,Tabelas!B:D,3,0),0),\"\")","v":0},{"$f":"IF(A33<>\"\",IFERROR(VLOOKUP(W33,Tabelas!B:D,3,0),0),\"\")","v":0},{"$f":"IF(A33<>\"\",IFERROR(VLOOKUP(X33,Tabelas!B:D,3,0),0),\"\")","v":0},{"$f":"IF(A33<>\"\",IFERROR(VLOOKUP(Y33,Tabelas!B:D,3,0),0),\"\")","v":0},{"$f":"IF(A33<>\"\",IFERROR(VLOOKUP(Z33,Tabelas!B:D,3,0),0),\"\")","v":0},{"$f":"IF(A33<>\"\",IFERROR(VLOOKUP(AA33,Tabelas!B:D,3,0),0),\"\")","v":0},{"$f":"IF(A33<>\"\",IFERROR(VLOOKUP(AB33,Tabelas!B:D,3,0),0),\"\")","v":0},{"$f":"IF(A33<>\"\",IFERROR(VLOOKUP(AC33,Tabelas!B:D,3,0),0),\"\")","v":0},{"$f":"IF(A33<>\"\",IFERROR(VLOOKUP(AD33,Tabelas!B:D,3,0),0),\"\")","v":0},{"$f":"IF(A33<>\"\",IFERROR(VLOOKUP(AE33,Tabelas!B:D,3,0),0),\"\")","v":0},{"$f":"IF(A33<>\"\",IFERROR(VLOOKUP(AF33,Tabelas!B:D,3,0),0),\"\")","v":0},{"$f":"IF(A33<>\"\",IFERROR(VLOOKUP(AG33,Tabelas!B:D,3,0),0),\"\")","v":0},{"$f":"IF(A33<>\"\",IFERROR(VLOOKUP(AH33,Tabelas!B:D,3,0),0),\"\")","v":0},{"$f":"IF(A33<>\"\",IFERROR(VLOOKUP(AI33,Tabelas!B:D,3,0),0),\"\")","v":0},{"$f":"IF(A33<>\"\",IFERROR(VLOOKUP(AJ33,Tabelas!B:D,3,0),0),\"\")","v":0},{"$f":"IF(A33<>\"\",IFERROR(VLOOKUP(AK33,Tabelas!B:D,3,0),0),\"\")","v":0},{"$f":"IF(A33<>\"\",IFERROR(VLOOKUP(AL33,Tabelas!B:D,3,0),0),\"\")","v":0},{"$f":"IF(A33<>\"\",IFERROR(VLOOKUP(AM33,Tabelas!B:D,3,0),0),\"\")","v":0},{"$f":"IF(A33<>\"\",IFERROR(VLOOKUP(AN33,Tabelas!B:D,3,0),0),\"\")","v":0},{"$f":"IF(A33<>\"\",IFERROR(VLOOKUP(AO33,Tabelas!B:D,3,0),0),\"\")","v":0},{"$f":"IF(A33<>\"\",IFERROR(VLOOKUP(AP33,Tabelas!B:D,3,0),0),\"\")","v":0},{"$f":"IF(A33<>\"\",IFERROR(VLOOKUP(AQ33,Tabelas!B:D,3,0),0),\"\")","v":0},{"$f":"IF(A33<>\"\",IFERROR(VLOOKUP(AR33,Tabelas!B:D,3,0),0),\"\")","v":0},0,0,0,0,0,0,0,0,0]
["Fulano de Tal 26",1234567,123,"ENF","Ebserh",36,null,null,null,null,null,null,null,null,null,null,null,null,null,null,null,null,null,null,null,null,null,null,null,null,null,null,null,null,null,null,null,null,null,null,null,null,null,null,{"$f":"IF(A34<>\"\",IFERROR(VLOOKUP(N34,Tabelas!B:D,3,0),0),\"\")","v":0},{"$f":"IF(A34<>\"\",IFERROR(VLOOKUP(O34,Tabelas!B:D,3,0),0),\"\")","v":0},{"$f":"IF(A34<>\"\",IFERROR(VLOOKUP(P34,Tabelas!B:D,3,0),0),\"\")","v":0},{"$f":"IF(A34<>\"\",IFERROR(VLOOKUP(Q34,Tabelas!B:D,3,0),0),\"\")","v":0},{"$f":"IF(A34<>\"\",IFERROR(VLOOKUP(R34,Tabelas!B:D,3,0),0),\"\")","v":0},{"$f":"IF(A34<>\"\",IFERROR(VLOOKUP(S34,Tabelas!B:D,3,0),0),\"\")","v":0},{"$f":"IF(A34<>\"\",IFERROR(VLOOKUP(T34,Tabelas!B:D,3,0),0),\"\")","v":0},{"$f":"IF(A34<>\"\",IFERROR(VLOOKUP(U34,Tabelas!B:D,3,0),0),\"\")","v":0},{"$f":"IF(A34<>\"\",IFERROR(VLOOKUP(V34,Tabelas!B:D,3,0),0),\"\")","v":0},{"$f":"IF(A34<>\"\",IFERROR(VLOOKUP(W34,Tabelas!B:D,3,0),0),\"\")","v":0},{"$f":"IF(A34<>\"\",IFERROR(VLOOKUP(X34,Tabelas!B:D,3,0),0),\"\")","v":0},{"$f":"IF(A34<>\"\",IFERROR(VLOOKUP(Y34,Tabelas!B:D,3,0),0),\"\")","v":0},{"$f":"IF(A34<>\"\",IFERROR(VLOOKUP(Z34,Tabelas!B:D,3,0),0),\"\")","v":0},{"$f":"IF(A34<>\"\",IFERROR(VLOOKUP(AA34,Tabelas!B:D,3,0),0),\"\")","v":0},{"$f":"IF(A34<>\"\",IFERROR(VLOOKUP(AB34,Tabelas!B:D,3,0),0),\"\")","v":0},{"$f":"IF(A34<>\"\",IFERROR(VLOOKUP(AC34,Tabelas!B:D,3,0),0),\"\")","v":0},{"$f":"IF(A34<>\"\",IFERROR(VLOOKUP(AD34,Tabelas!B:D,3,0),0),\"\")","v":0},{"$f":"IF(A34<>\"\",IFERROR(VLOOKUP(AE34,Tabelas!B:D,3,0),0),\"\")","v":0},{"$f":"IF(A34<>\"\",IFERROR(VLOOKUP(AF34,Tabelas!B:D,3,0),0),\"\")","v":0},{"$f":"IF(A34<>\"\",IFERROR(VLOOKUP(AG34,Tabelas!B:D,3,0),0),\"\")","v":0},{"$f":"IF(A34<>\"\",IFERROR(VLOOKUP(AH34,Tabelas!B:D,3,0),0),\"\")","v":0},{"$f":"IF(A34<>\"\",IFERROR(VLOOKUP(AI34,Tabelas!B:D,3,0),0),\"\")","v":0},{"$f":"IF(A34<>\"\",IFERROR(VLOOKUP(AJ34,Tabelas!B:D,3,0),0),\"\")","v":0},{"$f":"IF(A34<>\"\",IFERROR(VLOOKUP(AK34,Tabelas!B:D,3,0),0),\"\")","v":0},{"$f":"IF(A34<>\"\",IFERROR(VLOOKUP(AL34,Tabelas!B:D,3,0),0),\"\")","v":0},{"$f":"IF(A34<>\"\",IFERROR(VLOOKUP(AM34,Tabelas!B:D,3,0),0),\"\")","v":0},{"$f":"IF(A34<>\"\",IFERROR(VLOOKUP(AN34,Tabelas!B:D,3,0),0),\"\")","v":0},{"$f":"IF(A34<>\"\",IFERROR(VLOOKUP(AO34,Tabelas!B:D,3,0),0),\"\")","v":0},{"$f":"IF(A34<>\"\",IFERROR(VLOOKUP(AP34,Tabelas!B:D,3,0),0),\"\")","v":0},{"$f":"IF(A34<>\"\",IFERROR(VLOOKUP(AQ34,Tabelas!B:D,3,0),0),\"\")","v":0},{"$f":"IF(A34<>\"\",IFERROR(VLOOKUP(AR34,Tabelas!B:D,3,0),0),\"\")","v":0},0,0,0,0,0,0,0,0,0]
["Fulano de Tal 27",1234567,123,"ENF","Ebserh",36,null,null,null,null,null,null,null,null,null,null,null,null,null,null,null,null,null,null,null,null,null,null,null,null,null,null,null,null,null,null,null,null,null,null,null,null,null,null,{"$f":"IF(A35<>\"\",IFERROR(VLOOKUP(N35,Tabelas!B:D,3,0),0),\"\")","v":0},{"$f":"IF(A35<>\"\",IFERROR(VLOOKUP(O35,Tabelas!B:D,3,0),0),\"\")","v":0},{"$f":"IF(A35<>\"\",IFERROR(VLOOKUP(P35,Tabelas!B:D,3,0),0),\"\")","v":0},{"$f":"IF(A35<>\"\",IFERROR(VLOOKUP(Q35,Tabelas!B:D,3,0),0),\"\")","v":0},{"$f":"IF(A35<>\"\",IFERROR(VLOOKUP(R35,Tabelas!B:D,3,0),0),\"\")","v":0},{"$f":"IF(A35<>\"\",IFERROR(VLOOKUP(S35,Tabelas!B:D,3,0),0),\"\")","v":0},{"$f":"IF(A35<>\"\",IFERROR(VLOOKUP(T35,Tabelas!B:D,3,0),0),\"\")","v":0},{"$f":"IF(A35<>\"\",IFERROR(VLOOKUP(U35,Tabelas!B:D,3,0),0),\"\")","v":0},{"$f":"IF(A35<>\"\",IFERROR(VLOOKUP(V35,Tabelas!B:D,3,0),0),\"\")","v":0},{"$f":"IF(A35<>\"\",IFERROR(VLOOKUP(W35,Tabelas!B:D,3,0),0),\"\")","v":0},{"$f":"IF(A35<>\"\",IFERROR(VLOOKUP(X35,Tabelas!B:D,3,0),0),\"\")","v":0},{"$f":"IF(A35<>\"\",IFERROR(VLOOKUP(Y35,Tabelas!B:D,3,0),0),\"\")","v":0},{"$f":"IF(A35<>\"\",IFERROR(VLOOKUP(Z35,Tabelas!B:D,3,0),0),\"\")","v":0},{"$f":"IF(A35<>\"\",IFERROR(VLOOKUP(AA35,Tabelas!B:D,3,0),0),\"\")","v":0},{"$f":"IF(A35<>\"\",IFERROR(VLOOKUP(AB35,Tabelas!B:D,3,0),0),\"\")","v":0},{"$f":"IF(A35<>\"\",IFERROR(VLOOKUP(AC35,Tabelas!B:D,3,0),0),\"\")","v":0},{"$f":"IF(A35<>\"\",IFERROR(VLOOKUP(AD35,Tabelas!B:D,3,0),0),\"\")","v":0},{"$f":"IF(A35<>\"\",IFERROR(VLOOKUP(AE35,Tabelas!B:D,3,0),0),\"\")","v":0},{"$f":"IF(A35<>\"\",IFERROR(VLOOKUP(AF35,Tabelas!B:D,3,0),0),\"\")","v":0},{"$f":"IF(A35<>\"\",IFERROR(VLOOKUP(AG35,Tabelas!B:D,3,0),0),\"\")","v":0},{"$f":"IF(A35<>\"\",IFERROR(VLOOKUP(AH35,Tabelas!B:D,3,0),0),\"\")","v":0},{"$f":"IF(A35<>\"\",IFERROR(VLOOKUP(AI35,Tabelas!B:D,3,0),0),\"\")","v":0},{"$f":"IF(A35<>\"\",IFERROR(VLOOKUP(AJ35,Tabelas!B:D,3,0),0),\"\")","v":0},{"$f":"IF(A35<>\"\",IFERROR(VLOOKUP(AK35,Tabelas!B:D,3,0),0),\"\")","v":0},{"$f":"IF(A35<>\"\",IFERROR(VLOOKUP(AL35,Tabelas!B:D,3,0),0),\"\")","v":0},{"$f":"IF(A35<>\"\",IFERROR(VLOOKUP(AM35,Tabelas!B:D,3,0),0),\"\")","v":0},{"$f":"IF(A35<>\"\",IFERROR(VLOOKUP(AN35,Tabelas!B:D,3,0),0),\"\")","v":0},{"$f":"IF(A35<>\"\",IFERROR(VLOOKUP(AO35,Tabelas!B:D,3,0),0),\"\")","v":0},{"$f":"IF(A35<>\"\",IFERROR(VLOOKUP(AP35,Tabelas!B:D,3,0),0),\"\")","v":0},{"$f":"IF(A35<>\"\",IFERROR(VLOOKUP(AQ35,Tabelas!B:D,3,0),0),\"\")","v":0},{"$f":"IF(A35<>\"\",IFERROR(VLOOKUP(AR35,Tabelas!B:D,3,0),0),\"\")","v":0},0,0,0,0,0,0,0,0,0]
["Fulano de Tal 28",1234567,123,"ENF","Ebserh",36,null,null,null,null,null,null,null,null,null,null,null,null,null,null,null,null,null,null,null,null,null,null,null,null,null,null,null,null,null,null,null,null,null,null,null,null,null,null,{"$f":"IF(A36<>\"\",IFERROR(VLOOKUP(N36,Tabelas!B:D,3,0),0),\"\")","v":0},{"$f":"IF(A36<>\"\",IFERROR(VLOOKUP(O36,Tabelas!B:D,3,0),0),\"\")","v":0},{"$f":"IF(A36<>\"\",IFERROR(VLOOKUP(P36,Tabelas!B:D,3,0),0),\"\")","v":0},{"$f":"IF(A36<>\"\",IFERROR(VLOOKUP(Q36,Tabelas!B:D,3,0),0),\"\")","v":0},{"$f":"IF(A36<>\"\",IFERROR(VLOOKUP(R36,Tabelas!B:D,3,0),0),\"\")","v":0},{"$f":"IF(A36<>\"\",IFERROR(VLOOKUP(S36,Tabelas!B:D,3,0),0),\"\")","v":0},{"$f":"IF(A36<>\"\",IFERROR(VLOOKUP(T36,Tabelas!B:D,3,0),0),\"\")","v":0},{"$f":"IF(A36<>\"\",IFERROR(VLOOKUP(U36,Tabelas!B:D,3,0),0),\"\")","v":0},{"$f":"IF(A36<>\"\",IFERROR(VLOOKUP(V36,Tabelas!B:D,3,0),0),\"\")","v":0},{"$f":"IF(A36<>\"\",IFERROR(VLOOKUP(W36,Tabelas!B:D,3,0),0),\"\")","v":0},{"$f":"IF(A36<>\"\",IFERROR(VLOOKUP(X36,Tabelas!B:D,3,0),0),\"\")","v":0},{"$f":"IF(A36<>\"\",IFERROR(VLOOKUP(Y36,Tabelas!B:D,3,0),0),\"\")","v":0},{"$f":"IF(A36<>\"\",IFERROR(VLOOKUP(Z36,Tabelas!B:D,3,0),0),\"\")","v":0},{"$f":"IF(A36<>\"\",IFERROR(VLOOKUP(AA36,Tabelas!B:D,3,0),0),\"\")","v":0},{"$f":"IF(A36<>\"\",IFERROR(VLOOKUP(AB36,Tabelas!B:D,3,0),0),\"\")","v":0},{"$f":"IF(A36<>\"\",IFERROR(VLOOKUP(AC36,Tabelas!B:D,3,0),0),\"\")","v":0},{"$f":"IF(A36<>\"\",IFERROR(VLOOKUP(AD36,Tabelas!B:D,3,0),0),\"\")","v":0},{"$f":"IF(A36<>\"\",IFERROR(VLOOKUP(AE36,Tabelas!B:D,3,0),0),\"\")","v":0},{"$f":"IF(A36<>\"\",IFERROR(VLOOKUP(AF36,Tabelas!B:D,3,0),0),\"\")","v":0},{"$f":"IF(A36<>\"\",IFERROR(VLOOKUP(AG36,Tabelas!B:D,3,0),0),\"\")","v":0},{"$f":"IF(A36<>\"\",IFERROR(VLOOKUP(AH36,Tabelas!B:D,3,0),0),\"\")","v":0},{"$f":"IF(A36<>\"\",IFERROR(VLOOKUP(AI36,Tabelas!B:D,3,0),0),\"\")","v":0},{"$f":"IF(A36<>\"\",IFERROR(VLOOKUP(AJ36,Tabelas!B:D,3,0),0),\"\")","v":0},{"$f":"IF(A36<>\"\",IFERROR(VLOOKUP(AK36,Tabelas!B:D,3,0),0),\"\")","v":0},{"$f":"IF(A36<>\"\",IFERROR(VLOOKUP(AL36,Tabelas!B:D,3,0),0),\"\")","v":0},{"$f":"IF(A36<>\"\",IFERROR(VLOOKUP(AM36,Tabelas!B:D,3,0),0),\"\")","v":0},{"$f":"IF(A36<>\"\",IFERROR(VLOOKUP(AN36,Tabelas!B:D,3,0),0),\"\")","v":0},{"$f":"IF(A36<>\"\",IFERROR(VLOOKUP(AO36,Tabelas!B:D,3,0),0),\"\")","v":0},{"$f":"IF(A36<>\"\",IFERROR(VLOOKUP(AP36,Tabelas!B:D,3,0),0),\"\")","v":0},{"$f":"IF(A36<>\"\",IFERROR(VLOOKUP(AQ36,Tabelas!B:D,3,0),0),\"\")","v":0},{"$f":"IF(A36<>\"\",IFERROR(VLOOKUP(AR36,Tabelas!B:D,3,0),0),\"\")","v":0},0,0,0,0,0,0,0,0,0]
["Fulano de Tal 29",1234567,123,"ENF","Ebserh",36,null,null,null,null,null,null,null,null,null,null,null,null,null,null,null,null,null,null,null,null,null,null,null,null,null,null,null,null,null,null,null,null,null,null,null,null,null,null,{"$f":"IF(A37<>\"\",IFERROR(VLOOKUP(N37,Tabelas!B:D,3,0),0),\"\")","v":0},{"$f":"IF(A37<>\"\",IFERROR(VLOOKUP(O37,Tabelas!B:D,3,0),0),\"\")","v":0},{"$f":"IF(A37<>\"\",IFERROR(VLOOKUP(P37,Tabelas!B:D,3,0),0),\"\")","v":0},{"$f":"IF(A37<>\"\",IFERROR(VLOOKUP(Q37,Tabelas!B:D,3,0),0),\"\")","v":0},{"$f":"IF(A37<>\"\",IFERROR(VLOOKUP(R37,Tabelas!B:D,3,0),0),\"\")","v":0},{"$f":"IF(A37<>\"\",IFERROR(VLOOKUP(S37,Tabelas!B:D,3,0),0),\"\")","v":0},{"$f":"IF(A37<>\"\",IFERROR(VLOOKUP(T37,Tabelas!B:D,3,0),0),\"\")","v":0},{"$f":"IF(A37<>\"\",IFERROR(VLOOKUP(U37,Tabelas!B:D,3,0),0),\"\")","v":0},{"$f":"IF(A37<>\"\",IFERROR(VLOOKUP(V37,Tabelas!B:D,3,0),0),\"\")","v":0},{"$f":"IF(A37<>\"\",IFERROR(VLOOKUP(W37,Tabelas!B:D,3,0),0),\"\")","v":0},{"$f":"IF(A37<>\"\",IFERROR(VLOOKUP(X37,Tabelas!B:D,3,0),0),\"\")","v":0},{"$f":"IF(A37<>\"\",IFERROR(VLOOKUP(Y37,Tabelas!B:D,3,0),0),\"\")","v":0},{"$f":"IF(A37<>\"\",IFERROR(VLOOKUP(Z37,Tabelas!B:D,3,0),0),\"\")","v":0},{"$f":"IF(A37<>\"\",IFERROR(VLOOKUP(AA37,Tabelas!B:D,3,0),0),\"\")","v":0},{"$f":"IF(A37<>\"\",IFERROR(VLOOKUP(AB37,Tabelas!B:D,3,0),0),\"\")","v":0},{"$f":"IF(A37<>\"\",IFERROR(VLOOKUP(AC37,Tabelas!B:D,3,0),0),\"\")","v":0},{"$f":"IF(A37<>\"\",IFERROR(VLOOKUP(AD37,Tabelas!B:D,3,0),0),\"\")","v":0},{"$f":"IF(A37<>\"\",IFERROR(VLOOKUP(AE37,Tabelas!B:D,3,0),0),\"\")","v":0},{"$f":"IF(A37<>\"\",IFERROR(VLOOKUP(AF37,Tabelas!B:D,3,0),0),\"\")","v":0},{"$f":"IF(A37<>\"\",IFERROR(VLOOKUP(AG37,Tabelas!B:D,3,0),0),\"\")","v":0},{"$f":"IF(A37<>\"\",IFERROR(VLOOKUP(AH37,Tabelas!B:D,3,0),0),\"\")","v":0},{"$f":"IF(A37<>\"\",IFERROR(VLOOKUP(AI37,Tabelas!B:D,3,0),0),\"\")","v":0},{"$f":"IF(A37<>\"\",IFERROR(VLOOKUP(AJ37,Tabelas!B:D,3,0),0),\"\")","v":0},{"$f":"IF(A37<>\"\",IFERROR(VLOOKUP(AK37,Tabelas!B:D,3,0),0),\"\")","v":0},{"$f":"IF(A37<>\"\",IFERROR(VLOOKUP(AL37,Tabelas!B:D,3,0),0),\"\")","v":0},{"$f":"IF(A37<>\"\",IFERROR(VLOOKUP(AM37,Tabelas!B:D,3,0),0),\"\")","v":0},{"$f":"IF(A37<>\"\",IFERROR(VLOOKUP(AN37,Tabelas!B:D,3,0),0),\"\")","v":0},{"$f":"IF(A37<>\"\",IFERROR(VLOOKUP(AO37,Tabelas!B:D,3,0),0),\"\")","v":0},{"$f":"IF(A37<>\"\",IFERROR(VLOOKUP(AP37,Tabelas!B:D,3,0),0),\"\")","v":0},{"$f":"IF(A37<>\"\",IFERROR(VLOOKUP(AQ37,Tabelas!B:D,3,0),0),\"\")","v":0},{"$f":"IF(A37<>\"\",IFERROR(VLOOKUP(AR37,Tabelas!B:D,3,0),0),\"\")","v":0},0,0,0,0,0,0,0,0,0]
["Fulano de Tal 30",1234567,123,"ENF","Ebserh",36,null,null,null,null,null,null,null,null,null,null,null,null,null,null,null,null,null,null,null,null,null,null,null,null,null,null,null,null,null,null,null,null,null,null,null,null,null,null,{"$f":"IF(A38<>\"\",IFERROR(VLOOKUP(N38,Tabelas!B:D,3,0),0),\"\")","v":0},{"$f":"IF(A38<>\"\",IFERROR(VLOOKUP(O38,Tabelas!B:D,3,0),0),\"\")","v":0},{"$f":"IF(A38<>\"\",IFERROR(VLOOKUP(P38,Tabelas!B:D,3,0),0),\"\")","v":0},{"$f":"IF(A38<>\"\",IFERROR(VLOOKUP(Q38,Tabelas!B:D,3,0),0),\"\")","v":0},{"$f":"IF(A38<>\"\",IFERROR(VLOOKUP(R38,Tabelas!B:D,3,0),0),\"\")","v":0},{"$f":"IF(A38<>\"\",IFERROR(VLOOKUP(S38,Tabelas!B:D,3,0),0),\"\")","v":0},{"$f":"IF(A38<>\"\",IFERROR(VLOOKUP(T38,Tabelas!B:D,3,0),0),\"\")","v":0},{"$f":"IF(A38<>\"\",IFERROR(VLOOKUP(U38,Tabelas!B:D,3,0),0),\"\")","v":0},{"$f":"IF(A38<>\"\",IFERROR(VLOOKUP(V38,Tabelas!B:D,3,0),0),\"\")","v":0},{"$f":"IF(A38<>\"\",IFERROR(VLOOKUP(W38,Tabelas!B:D,3,0),0),\"\")","v":0},{"$f":"IF(A38<>\"\",IFERROR(VLOOKUP(X38,Tabelas!B:D,3,0),0),\"\")","v":0},{"$f":"IF(A38<>\"\",IFERROR(VLOOKUP(Y38,Tabelas!B:D,3,0),0),\"\")","v":0},{"$f":"IF(A38<>\"\",IFERROR(VLOOKUP(Z38,Tabelas!B:D,3,0),0),\"\")","v":0},{"$f":"IF(A38<>\"\",IFERROR(VLOOKUP(AA38,Tabelas!B:D,3,0),0),\"\")","v":0},{"$f":"IF(A38<>\"\",IFERROR(VLOOKUP(AB38,Tabelas!B:D,3,0),0),\"\")","v":0},{"$f":"IF(A38<>\"\",IFERROR(VLOOKUP(AC38,Tabelas!B:D,3,0),0),\"\")","v":0},{"$f":"IF(A38<>\"\",IFERROR(VLOOKUP(AD38,Tabelas!B:D,3,0),0),\"\")","v":0},{"$f":"IF(A38<>\"\",IFERROR(VLOOKUP(AE38,Tabelas!B:D,3,0),0),\"\")","v":0},{"$f":"IF(A38<>\"\",IFERROR(VLOOKUP(AF38,Tabelas!B:D,3,0),0),\"\")","v":0},{"$f":"IF(A38<>\"\",IFERROR(VLOOKUP(AG38,Tabelas!B:D,3,0),0),\"\")","v":0},{"$f":"IF(A38<>\"\",IFERROR(VLOOKUP(AH38,Tabelas!B:D,3,0),0),\"\")","v":0},{"$f":"IF(A38<>\"\",IFERROR(VLOOKUP(AI38,Tabelas!B:D,3,0),0),\"\")","v":0},{"$f":"IF(A38<>\"\",IFERROR(VLOOKUP(AJ38,Tabelas!B:D,3,0),0),\"\")","v":0},{"$f":"IF(A38<>\"\",IFERROR(VLOOKUP(AK38,Tabelas!B:D,3,0),0),\"\")","v":0},{"$f":"IF(A38<>\"\",IFERROR(VLOOKUP(AL38,Tabelas!B:D,3,0),0),\"\")","v":0},{"$f":"IF(A38<>\"\",IFERROR(VLOOKUP(AM38,Tabelas!B:D,3,0),0),\"\")","v":0},{"$f":"IF(A38<>\"\",IFERROR(VLOOKUP(AN38,Tabelas!B:D,3,0),0),\"\")","v":0},{"$f":"IF(A38<>\"\",IFERROR(VLOOKUP(AO38,Tabelas!B:D,3,0),0),\"\")","v":0},{"$f":"IF(A38<>\"\",IFERROR(VLOOKUP(AP38,Tabelas!B:D,3,0),0),\"\")","v":0},{"$f":"IF(A38<>\"\",IFERROR(VLOOKUP(AQ38,Tabelas!B:D,3,0),0),\"\")","v":0},{"$f":"IF(A38<>\"\",IFERROR(VLOOKUP(AR38,Tabelas!B:D,3,0),0),\"\")","v":0},0,0,0,0,0,0,0,0,0]
["TOTAL PROFISSIONAIS MATUTINO",null,null,null,null,null,null,null,null,null,null,null,null,{"$f":"COUNTIF(N9:N18,\"M\")+COUNTIF(N19:N28,\"M\")+COUNTIF(N29:N38,\"M\")+COUNTIF(N9:N18,\"M?\") +COUNTIF(N19:N28,\"M?\")+COUNTIF(N29:N38,\"M?\")+ COUNTIF(N9:N18, \"MT?\") + COUNTIF(N19:N28, \"MT?\")+ COUNTIF(N29:N38, \"MT?\")+ COUNTIF(N9:N18, \"D?\")  + COUNTIF(N19:N28, \"D?\")+COUNTIF(N29:N38, \"D?\")+ COUNTIF(N9:N18, \"DN?\")+ COUNTIF(N19:N28, \"DN?\")+ COUNTIF(N29:N38, \"DN?\")+ COUNTIF(N9:N18, \"MT??\") + COUNTIF(N19:N28, \"MT??\")+ COUNTIF(N29:N38, \"MT??\")+ COUNTIF(N9:N18, \"D\")  + COUNTIF(N19:N28, \"D\")+COUNTIF(N29:N38, \"D\")","v":0},0,0,0,0,0,0,0,0,0,0,0,0,0,0,0,0,0,0,0,0,0,0,0,0,0,0,0,0,0,0]
["TOTAL DE PROFISSIONAIS VESPERTINO",null,null,null,null,null,null,null,null,null,null,null,null,{"$f":"COUNTIF(N9:N18,\"T\")+COUNTIF(N19:N28,\"T\")+COUNTIF(N29:N38,\"T\")+COUNTIF(N9:N18,\"T?\") +COUNTIF(N19:N28,\"T?\")+COUNTIF(N29:N38,\"T?\")+ COUNTIF(N9:N18, \"MT?\") + COUNTIF(N19:N28, \"MT?\")+ COUNTIF(N29:N38, \"MT?\")+ COUNTIF(N9:N18, \"D?\")  + COUNTIF(N19:N28, \"D?\")+COUNTIF(N29:N38, \"D?\")+ COUNTIF(N9:N18, \"DN?\")+ COUNTIF(N19:N28, \"DN?\")+ COUNTIF(N29:N38, \"DN?\")+ COUNTIF(N9:N18, \"MT??\") + COUNTIF(N19:N28, \"MT??\")+ COUNTIF(N29:N38, \"MT??\")+ COUNTIF(N9:N18, \"D\")  + COUNTIF(N19:N28, \"D\")+COUNTIF(N29:N38, \"D\")","v":0},0,0,0,0,0,0,0,0,0,0,0,0,0,0,0,0,0,0,0,0,0,0,0,0,0,0,0,0,0,0,{"$f":"IF(A40<>\"\",IFERROR(VLOOKUP(N40,Tabelas!B:D,3,0),0),\"\")","v":0},{"$f":"IF(A40<>\"\",IFERROR(VLOOKUP(O40,Tabelas!B:D,3,0),0),\"\")","v":0},{"$f":"IF(A40<>\"\",IFERROR(VLOOKUP(P40,Tabelas!B:D,3,0),0),\"\")","v":0},{"$f":"IF(A40<>\"\",IFERROR(VLOOKUP(Q40,Tabelas!B:D,3,0),0),\"\")","v":0},{"$f":"IF(A40<>\"\",IFERROR(VLOOKUP(R40,Tabelas!B:D,3,0),0),\"\")","v":0},{"$f":"IF(A40<>\"\",IFERROR(VLOOKUP(S40,Tabelas!B:D,3,0),0),\"\")","v":0},{"$f":"IF(A40<>\"\",IFERROR(VLOOKUP(T40,Tabelas!B:D,3,0),0),\"\")","v":0},{"$f":"IF(A40<>\"\",IFERROR(VLOOKUP(U40,Tabelas!B:D,3,0),0),\"\")","v":0},{"$f":"IF(A40<>\"\",IFERROR(VLOOKUP(V40,Tabelas!B:D,3,0),0),\"\")","v":0},{"$f":"IF(A40<>\"\",IFERROR(VLOOKUP(W40,Tabelas!B:D,3,0),0),\"\")","v":0},{"$f":"IF(A40<>\"\",IFERROR(VLOOKUP(X40,Tabelas!B:D,3,0),0),\"\")","v":0},{"$f":"IF(A40<>\"\",IFERROR(VLOOKUP(Y40,Tabelas!B:D,3,0),0),\"\")","v":0},{"$f":"IF(A40<>\"\",IFERROR(VLOOKUP(Z40,Tabelas!B:D,3,0),0),\"\")","v":0},{"$f":"IF(A40<>\"\",IFERROR(VLOOKUP(AA40,Tabelas!B:D,3,0),0),\"\")","v":0},{"$f":"IF(A40<>\"\",IFERROR(VLOOKUP(AB40,Tabelas!B:D,3,0),0),\"\")","v":0},{"$f":"IF(A40<>\"\",IFERROR(VLOOKUP(AC40,Tabelas!B:D,3,0),0),\"\")","v":0},{"$f":"IF(A40<>\"\",IFERROR(VLOOKUP(AD40,Tabelas!B:D,3,0),0),\"\")","v":0},{"$f":"IF(A40<>\"\",IFERROR(VLOOKUP(AE40,Tabelas!B:D,3,0),0),\"\")","v":0},{"$f":"IF(A40<>\"\",IFERROR(VLOOKUP(AF40,Tabelas!B:D,3,0),0),\"\")","v":0},{"$f":"IF(A40<>\"\",IFERROR(VLOOKUP(AG40,Tabelas!B:D,3,0),0),\"\")","v":0},{"$f":"IF(A40<>\"\",IFERROR(VLOOKUP(AH40,Tabelas!B:D,3,0),0),\"\")","v":0},{"$f":"IF(A40<>\"\",IFERROR(VLOOKUP(AI40,Tabelas!B:D,3,0),0),\"\")","v":0},{"$f":"IF(A40<>\"\",IFERROR(VLOOKUP(AJ40,Tabelas!B:D,3,0),0),\"\")","v":0},{"$f":"IF(A40<>\"\",IFERROR(VLOOKUP(AK40,Tabelas!B:D,3,0),0),\"\")","v":0},{"$f":"IF(A40<>\"\",IFERROR(VLOOKUP(AL40,Tabelas!B:D,3,0),0),\"\")","v":0},{"$f":"IF(A40<>\"\",IFERROR(VLOOKUP(AM40,Tabelas!B:D,3,0),0),\"\")","v":0},{"$f":"IF(A40<>\"\",IFERROR(VLOOKUP(AN40,Tabelas!B:D,3,0),0),\"\")","v":0},{"$f":"IF(A40<>\"\",IFERROR(VLOOKUP(AO40,Tabelas!B:D,3,0),0),\"\")","v":0},{"$f":"IF(A40<>\"\",IFERROR(VLOOKUP(AP40,Tabelas!B:D,3,0),0),\"\")","v":0},{"$f":"IF(A40<>\"\",IFERROR(VLOOKUP(AQ40,Tabelas!B:D,3,0),0),\"\")","v":0},{"$f":"IF(A40<>\"\",IFERROR(VLOOKUP(AR40,Tabelas!B:D,3,0),0),\"\")","v":0}]
["TOTAL DE PROFISSIONAIS NOTURNO",null,null,null,null,null,null,null,null,null,null,null,null,{"$f":"COUNTIF(N9:N18,\"N\")+COUNTIF(N19:N28,\"N\")+COUNTIF(N29:N38,\"N\")+COUNTIF(N9:N18,\"N?\") +COUNTIF(N19:N28,\"N?\")+COUNTIF(N29:N38,\"N?\")+ COUNTIF(N9:N18, \"DN?\")+ COUNTIF(N19:N28, \"DN?\")+ COUNTIF(N29:N38, \"DN?\")","v":0},0,0,0,0,0,0,0,0,0,0,0,0,0,0,0,0,0,0,0,0,0,0,0,0,0,0,0,0,0,0,{"$f":"IF(A41<>\"\",IFERROR(VLOOKUP(N41,Tabelas!B:D,3,0),0),\"\")","v":0},{"$f":"IF(A41<>\"\",IFERROR(VLOOKUP(O41,Tabelas!B:D,3,0),0),\"\")","v":0},{"$f":"IF(A41<>\"\",IFERROR(VLOOKUP(P41,Tabelas!B:D,3,0),0),\"\")","v":0},{"$f":"IF(A41<>\"\",IFERROR(VLOOKUP(Q41,Tabelas!B:D,3,0),0),\"\")","v":0},{"$f":"IF(A41<>\"\",IFERROR(VLOOKUP(R41,Tabelas!B:D,3,0),0),\"\")","v":0},{"$f":"IF(A41<>\"\",IFERROR(VLOOKUP(S41,Tabelas!B:D,3,0),0),\"\")","v":0},{"$f":"IF(A41<>\"\",IFERROR(VLOOKUP(T41,Tabelas!B:D,3,0),0),\"\")","v":0},{"$f":"IF(A41<>\"\",IFERROR(VLOOKUP(U41,Tabelas!B:D,3,0),0),\"\")","v":0},{"$f":"IF(A41<>\"\",IFERROR(VLOOKUP(V41,Tabelas!B:D,3,0),0),\"\")","v":0},{"$f":"IF(A41<>\"\",IFERROR(VLOOKUP(W41,Tabelas!B:D,3,0),0),\"\")","v":0},{"$f":"IF(A41<>\"\",IFERROR(VLOOKUP(X41,Tabelas!B:D,3,0),0),\"\")","v":0},{"$f":"IF(A41<>\"\",IFERROR(VLOOKUP(Y41,Tabelas!B:D,3,0),0),\"\")","v":0},{"$f":"IF(A41<>\"\",IFERROR(VLOOKUP(Z41,Tabelas!B:D,3,0),0),\"\")","v":0},{"$f":"IF(A41<>\"\",IFERROR(VLOOKUP(AA41,Tabelas!B:D,3,0),0),\"\")","v":0},{"$f":"IF(A41<>\"\",IFERROR(VLOOKUP(AB41,Tabelas!B:D,3,0),0),\"\")","v":0},{"$f":"IF(A41<>\"\",IFERROR(VLOOKUP(AC41,Tabelas!B:D,3,0),0),\"\")","v":0},{"$f":"IF(A41<>\"\",IFERROR(VLOOKUP(AD41,Tabelas!B:D,3,0),0),\"\")","v":0},{"$f":"IF(A41<>\"\",IFERROR(VLOOKUP(AE41,Tabelas!B:D,3,0),0),\"\")","v":0},{"$f":"IF(A41<>\"\",IFERROR(VLOOKUP(AF41,Tabelas!B:D,3,0),0),\"\")","v":0},{"$f":"IF(A41<>\"\",IFERROR(VLOOKUP(AG41,Tabelas!B:D,3,0),0),\"\")","v":0},{"$f":"IF(A41<>\"\",IFERROR(VLOOKUP(AH41,Tabelas!B:D,3,0),0),\"\")","v":0},{"$f":"IF(A41<>\"\",IFERROR(VLOOKUP(AI41,Tabelas!B:D,3,0),0),\"\")","v":0},{"$f":"IF(A41<>\"\",IFERROR(VLOOKUP(AJ41,Tabelas!B:D,3,0),0),\"\")","v":0},{"$f":"IF(A41<>\"\",IFERROR(VLOOKUP(AK41,Tabelas!B:D,3,0),0),\"\")","v":0},{"$f":"IF(A41<>\"\",IFERROR(VLOOKUP(AL41,Tabelas!B:D,3,0),0),\"\")","v":0},{"$f":"IF(A41<>\"\",IFERROR(VLOOKUP(AM41,Tabelas!B:D,3,0),0),\"\")","v":0},{"$f":"IF(A41<>\"\",IFERROR(VLOOKUP(AN41,Tabelas!B:D,3,0),0),\"\")","v":0},{"$f":"IF(A41<>\"\",IFERROR(VLOOKUP(AO41,Tabelas!B:D,3,0),0),\"\")","v":0},{"$f":"IF(A41<>\"\",IFERROR(VLOOKUP(AP41,Tabelas!B:D,3,0),0),\"\")","v":0},{"$f":"IF(A41<>\"\",IFERROR(VLOOKUP(AQ41,Tabelas!B:D,3,0),0),\"\")","v":0},{"$f":"IF(A41<>\"\",IFERROR(VLOOKUP(AR41,Tabelas!B:D,3,0),0),\"\")","v":0}]
[null,null,null,null,null,null,null,null,null,null,null,null,null,null,null,null,null,null,null,null,null,null,null,null,null,null,null,null,null,null,null,null,null,null,null,null,null,null,null,null,null,null,null,null,{"$f":"IF(A42<>\"\",IFERROR(VLOOKUP(N42,Tabelas!B:D,3,0),0),\"\")","v":""},{"$f":"IF(A42<>\"\",IFERROR(VLOOKUP(O42,Tabelas!B:D,3,0),0),\"\")","v":""},{"$f":"IF(A42<>\"\",IFERROR(VLOOKUP(P42,Tabelas!B:D,3,0),0),\"\")","v":""},{"$f":"IF(A42<>\"\",IFERROR(VLOOKUP(Q42,Tabelas!B:D,3,0),0),\"\")","v":""},{"$f":"IF(A42<>\"\",IFERROR(VLOOKUP(R42,Tabelas!B:D,3,0),0),\"\")","v":""},{"$f":"IF(A42<>\"\",IFERROR(VLOOKUP(S42,Tabelas!B:D,3,0),0),\"\")","v":""},{"$f":"IF(A42<>\"\",IFERROR(VLOOKUP(T42,Tabelas!B:D,3,0),0),\"\")","v":""},{"$f":"IF(A42<>\"\",IFERROR(VLOOKUP(U42,Tabelas!B:D,3,0),0),\"\")","v":""},{"$f":"IF(A42<>\"\",IFERROR(VLOOKUP(V42,Tabelas!B:D,3,0),0),\"\")","v":""},{"$f":"IF(A42<>\"\",IFERROR(VLOOKUP(W42,Tabelas!B:D,3,0),0),\"\")","v":""},{"$f":"IF(A42<>\"\",IFERROR(VLOOKUP(X42,Tabelas!B:D,3,0),0),\"\")","v":""},{"$f":"IF(A42<>\"\",IFERROR(VLOOKUP(Y42,Tabelas!B:D,3,0),0),\"\")","v":""},{"$f":"IF(A42<>\"\",IFERROR(VLOOKUP(Z42,Tabelas!B:D,3,0),0),\"\")","v":""},{"$f":"IF(A42<>\"\",IFERROR(VLOOKUP(AA42,Tabelas!B:D,3,0),0),\"\")","v":""},{"$f":"IF(A42<>\"\",IFERROR(VLOOKUP(AB42,Tabelas!B:D,3,0),0),\"\")","v":""},{"$f":"IF(A42<>\"\",IFERROR(VLOOKUP(AC42,Tabelas!B:D,3,0),0),\"\")","v":""},{"$f":"IF(A42<>\"\",IFERROR(VLOOKUP(AD42,Tabelas!B:D,3,0),0),\"\")","v":""},{"$f":"IF(A42<>\"\",IFERROR(VLOOKUP(AE42,Tabelas!B:D,3,0),0),\"\")","v":""},{"$f":"IF(A42<>\"\",IFERROR(VLOOKUP(AF42,Tabelas!B:D,3,0),0),\"\")","v":""},{"$f":"IF(A42<>\"\",IFERROR(VLOOKUP(AG42,Tabelas!B:D,3,0),0),\"\")","v":""},{"$f":"IF(A42<>\"\",IFERROR(VLOOKUP(AH42,Tabelas!B:D,3,0),0),\"\")","v":""},{"$f":"IF(A42<>\"\",IFERROR(VLOOKUP(AI42,Tabelas!B:D,3,0),0),\"\")","v":""},{"$f":"IF(A42<>\"\",IFERROR(VLOOKUP(AJ42,Tabelas!B:D,3,0),0),\"\")","v":""},{"$f":"IF(A42<>\"\",IFERROR(VLOOKUP(AK42,Tabelas!B:D,3,0),0),\"\")","v":""},{"$f":"IF(A42<>\"\",IFERROR(VLOOKUP(AL42,Tabelas!B:D,3,0),0),\"\")","v":""},{"$f":"IF(A42<>\"\",IFERROR(VLOOKUP(AM42,Tabelas!B:D,3,0),0),\"\")","v":""},{"$f":"IF(A42<>\"\",IFERROR(VLOOKUP(AN42,Tabelas!B:D,3,0),0),\"\")","v":""},{"$f":"IF(A42<>\"\",IFERROR(VLOOKUP(AO42,Tabelas!B:D,3,0),0),\"\")","v":""},{"$f":"IF(A42<>\"\",IFERROR(VLOOKUP(AP42,Tabelas!B:D,3,0),0),\"\")","v":""},{"$f":"IF(A42<>\"\",IFERROR(VLOOKUP(AQ42,Tabelas!B:D,3,0),0),\"\")","v":""},{"$f":"IF(A42<>\"\",IFERROR(VLOOKUP(AR42,Tabelas!B:D,3,0),0),\"\")","v":""},"",{"$f":"IF(A42<>\"\",COUNTIF(N42:AR42,\"LM\")+COUNTIF(N42:AR42,\"L\"),\"\")","v":""},"","","","",null,{"$f":"IF(A42<>\"\",COUNTIF(N42:AR42,\"CE\")+COUNTIF(N42:AR42,\"L\")+COUNTIF(N42:AR42,\"LM\")+COUNTIF(N42:AR42,\"LC\")+COUNTIF(N42:AR42,\"AB\"),\"\")","v":""},{"$f":"IF(A42<>\"\",COUNTIF(N42:AR42,\"APH\"),\"\")","v":""}]
["Legenda:",null,null,null,null,null,null,null,null,null,null,null,null,null,null,null,null,null,null,null,null,null,null,null,null,null,null,null,null,null,null,null,null,null,null,null,null,null,null,null,null,null,null,null,null,null,null,null,null,null,null,null,null,null,null,null,null,null,null,null,null,null,null,null,null,null,null,null,null,null,null,null,null,null,null,"OBSERVAÇÕES:"]
["Licença Maternidade","LM","Férias",null,"FE","Ponto Facultativo",null,null,null,null,null,null,null,null,null,"PF","Manhã **",null,null,null,null,null,null,"M","Diunro (8 hrs) **",null,null,null,null,null,null,"MT",null,null,null,null,null,null,null,null,null,null,null,null,null,null,null,null,null,null,null,null,null,null,null,null,null,null,null,null,null,null,null,null,null,null,null,null,null,null,null,null,null,null,null,"* Para os Afastamentos previstos em lei, utilizar as legendas "]
["Licença Paternidade","LP","Feriado",null,"FD","Abono",null,null,null,null,null,null,null,null,null,"AB","Tarde **",null,null,null,null,null,null,"T","Dia/ noite (24 hrs) **",null,null,null,null,null,null,"DN",null,null,null,null,null,null,null,null,null,null,null,null,null,null,null,null,null,null,null,null,null,null,null,null,null,null,null,null,null,null,null,null,null,null,null,null,null,null,null,null,null,null,null,"numeradas conforme descrição no item 3.2.2 da NO DGP nº 04/2017."]
["Licença Médica/Odontológica","L","Folga",null,"FO","Compensação Horas Excedentes",null,null,null,null,null,null,null,null,null,"CE","Plantão Dia (12 hrs) **",null,null,null,null,null,null,"D",null,null,null,null,null,null,null,null,null,null,null,null,null,null,null,null,null,null,null,null,null,null,null,null,null,null,null,null,null,null,null,null,null,null,null,null,null,null,null,null,null,null,null,null,null,null,null,null,null,null,null,"** Para as variações de horários (M1, M2, T1, T2...), utilizar as "]
["Licença Capacitação","LC","Recesso",null,"RC","Afastamento*",null,null,null,null,null,null,null,null,null,"AF","Plantão Noite (12 hrs)**",null,null,null,null,null,null,"N",null,null,null,null,null,null,null,null,null,null,null,null,null,null,null,null,null,null,null,null,null,null,null,null,null,null,null,null,null,null,null,null,null,null,null,null,null,null,null,null,null,null,null,null,null,null,null,null,null,null,null,"legendas numeradas conforme descrição do item 3.2.2 na Norma "]
[null,null,null,null,null,null,null,null,null,null,null,null,null,null,null,null,null,null,null,null,null,null,null,null,null,null,null,null,null,null,null,null,null,null,null,null,null,null,null,null,null,null,null,null,null,null,null,null,null,null,null,null,null,null,null,null,null,null,null,null,null,null,null,null,null,null,null,null,null,null,null,null,null,null,null,"Operacional DGP nº 04/2017."]

{"sheet":"Dezembro","index":11,"n_rows":48,"n_cols":84,"rows_kept":48,"cut":false,"hidden":false,"merged":[[38,0,38,6],[39,0,39,6],[40,0,40,6],[42,75,42,83],[5,76,6,76],[5,77,6,77],[5,0,7,0],[5,1,7,1],[5,2,7,2],[5,78,6,78],[5,79,6,79],[5,80,6,80],[5,82,6,82],[5,83,6,83],[5,81,6,81],[5,13,5,43],[5,44,5,74],[5,75,6,75],[5,3,7,3],[5,4,7,4],[5,5,7,5],[5,6,5,12],[6,6,7,6],[6,7,7,7],[6,8,7,8],[6,9,6,10],[6,11,7,11],[6,12,7,12],[1,0,1,43],[2,0,2,43],[3,0,3,43],[4,1,4,21],[4,24,4,35],[4,38,4,43]]}
[]
[]
["Hospital Universitário Professor Polydoro Ernani de São Thiago"]
["ESCALA MENSAL DE TRABALHO"]
["DIVISÃO /SETOR/UNIDADE:",null,null,null,null,null,null,null,null,null,null,null,null,null,null,null,null,null,null,null,null,null,"MÊS:",null,"Dezembro",null,null,null,null,null,null,null,null,null,null,null,"ANO:",null,2018]
["NOME COMPLETO","SIAPE","REGISTRO CONSELHO CLASSE","CARGO","VÍNCULO","C.H SEM.","INTERVALO",null,null,null,null,null,null,"DIAS DO MÊS",null,null,null,null,null,null,null,null,null,null,null,null,null,null,null,null,null,null,null,null,null,null,null,null,null,null,null,null,null,null,"CÁLCULO DAS HORAS",null,null,null,null,null,null,null,null,null,null,null,null,null,null,null,null,null,null,null,null,null,null,null,null,null,null,null,null,null,null,"CH MENSAL","LM/LP/L","Abono","Férias","LC","CE","AF  Legais"," TOTAL AFASTAMENTOS","APH"]
[null,null,null,null,null,null,"M","MT","D","DN",null,"T","N",1,2,3,4,5,6,7,8,9,10,11,12,13,14,15,16,17,18,19,20,21,22,23,24,25,{"$f":"IF(DAY(DATE(AM5,VLOOKUP(Y5,Tabelas!M:N,2,0)+1,1)-1)>=26,26,\"\")","v":26},{"$f":"IF(DAY(DATE(AM5,VLOOKUP(Y5,Tabelas!M:N,2,0)+1,1)-1)>=27,27,\"\")","v":27},{"$f":"IF(DAY(DATE(AM5,VLOOKUP(Y5,Tabelas!M:N,2,0)+1,1)-1)>=28,28,\"\")","v":28},{"$f":"IF(DAY(DATE(AM5,VLOOKUP(Y5,Tabelas!M:N,2,0)+1,1)-1)>=29,29,\"\")","v":29},{"$f":"IF(DAY(DATE(AM5,VLOOKUP(Y5,Tabelas!M:N,2,0)+1,1)-1)>=30,30,\"\")","v":30},{"$f":"IF(DAY(DATE(AM5,VLOOKUP(Y5,Tabelas!M:N,2,0)+1,1)-1)>=31,31,\"\")","v":31}]
[null,null,null,null,null,null,null,null,null,1,2,null,null,{"$f":"IF(N7<>\"\",IFERROR(VLOOKUP(WEEKDAY(CONCATENATE(N7,$Y$5,$AM$5)),Tabelas!$I:$J,2,0),\"\"),\"\")","v":"SAB"},{"$f":"IF(O7<>\"\",IFERROR(VLOOKUP(WEEKDAY(CONCATENATE(O7,$Y$5,$AM$5)),Tabelas!$I:$J,2,0),\"\"),\"\")","v":"DOM"},{"$f":"IF(P7<>\"\",IFERROR(VLOOKUP(WEEKDAY(CONCATENATE(P7,$Y$5,$AM$5)),Tabelas!$I:$J,2,0),\"\"),\"\")","v":"SEG"},{"$f":"IF(Q7<>\"\",IFERROR(VLOOKUP(WEEKDAY(CONCATENATE(Q7,$Y$5,$AM$5)),Tabelas!$I:$J,2,0),\"\"),\"\")","v":"TER"},{"$f":"IF(R7<>\"\",IFERROR(VLOOKUP(WEEKDAY(CONCATENATE(R7,$Y$5,$AM$5)),Tabelas!$I:$J,2,0),\"\"),\"\")","v":"QUA"},{"$f":"IF(S7<>\"\",IFERROR(VLOOKUP(WEEKDAY(CONCATENATE(S7,$Y$5,$AM$5)),Tabelas!$I:$J,2,0),\"\"),\"\")","v":"QUI"},{"$f":"IF(T7<>\"\",IFERROR(VLOOKUP(WEEKDAY(CONCATENATE(T7,$Y$5,$AM$5)),Tabelas!$I:$J,2,0),\"\"),\"\")","v":"SEX"},{"$f":"IF(U7<>\"\",IFERROR(VLOOKUP(WEEKDAY(CONCATENATE(U7,$Y$5,$AM$5)),Tabelas!$I:$J,2,0),\"\"),\"\")","v":"SAB"},{"$f":"IF(V7<>\"\",IFERROR(VLOOKUP(WEEKDAY(CONCATENATE(V7,$Y$5,$AM$5)),Tabelas!$I:$J,2,0),\"\"),\"\")","v":"DOM"},{"$f":"IF(W7<>\"\",IFERROR(VLOOKUP(WEEKDAY(CONCATENATE(W7,$Y$5,$AM$5)),Tabelas!$I:$J,2,0),\"\"),\"\")","v":"SEG"},{"$f":"IF(X7<>\"\",IFERROR(VLOOKUP(WEEKDAY(CONCATENATE(X7,$Y$5,$AM$5)),Tabelas!$I:$J,2,0),\"\"),\"\")","v":"TER"},{"$f":"IF(Y7<>\"\",IFERROR(VLOOKUP(WEEKDAY(CONCATENATE(Y7,$Y$5,$AM$5)),Tabelas!$I:$J,2,0),\"\"),\"\")","v":"QUA"},{"$f":"IF(Z7<>\"\",IFERROR(VLOOKUP(WEEKDAY(CONCATENATE(Z7,$Y$5,$AM$5)),Tabelas!$I:$J,2,0),\"\"),\"\")","v":"QUI"},{"$f":"IF(AA7<>\"\",IFERROR(VLOOKUP(WEEKDAY(CONCATENATE(AA7,$Y$5,$AM$5)),Tabelas!$I:$J,2,0),\"\"),\"\")","v":"SEX"},{"$f":"IF(AB7<>\"\",IFERROR(VLOOKUP(WEEKDAY(CONCATENATE(AB7,$Y$5,$AM$5)),Tabelas!$I:$J,2,0),\"\"),\"\")","v":"SAB"},{"$f":"IF(AC7<>\"\",IFERROR(VLOOKUP(WEEKDAY(CONCATENATE(AC7,$Y$5,$AM$5)),Tabelas!$I:$J,2,0),\"\"),\"\")","v":"DOM"},{"$f":"IF(AD7<>\"\",IFERROR(VLOOKUP(WEEKDAY(CONCATENATE(AD7,$Y$5,$AM$5)),Tabelas!$I:$J,2,0),\"\"),\"\")","v":"SEG"},{"$f":"IF(AE7<>\"\",IFERROR(VLOOKUP(WEEKDAY(CONCATENATE(AE7,$Y$5,$AM$5)),Tabelas!$I:$J,2,0),\"\"),\"\")","v":"TER"},{"$f":"IF(AF7<>\"\",IFERROR(VLOOKUP(WEEKDAY(CONCATENATE(AF7,$Y$5,$AM$5)),Tabelas!$I:$J,2,0),\"\"),\"\")","v":"QUA"},{"$f":"IF(AG7<>\"\",IFERROR(VLOOKUP(WEEKDAY(CONCATENATE(AG7,$Y$5,$AM$5)),Tabelas!$I:$J,2,0),\"\"),\"\")","v":"QUI"},{"$f":"IF(AH7<>\"\",IFERROR(VLOOKUP(WEEKDAY(CONCATENATE(AH7,$Y$5,$AM$5)),Tabelas!$I:$J,2,0),\"\"),\"\")","v":"SEX"},{"$f":"IF(AI7<>\"\",IFERROR(VLOOKUP(WEEKDAY(CONCATENATE(AI7,$Y$5,$AM$5)),Tabelas!$I:$J,2,0),\"\"),\"\")","v":"SAB"},{"$f":"IF(AJ7<>\"\",IFERROR(VLOOKUP(WEEKDAY(CONCATENATE(AJ7,$Y$5,$AM$5)),Tabelas!$I:$J,2,0),\"\"),\"\")","v":"DOM"},{"$f":"IF(AK7<>\"\",IFERROR(VLOOKUP(WEEKDAY(CONCATENATE(AK7,$Y$5,$AM$5)),Tabelas!$I:$J,2,0),\"\"),\"\")","v":"SEG"},{"$f":"IF(AL7<>\"\",IFERROR(VLOOKUP(WEEKDAY(CONCATENATE(AL7,$Y$5,$AM$5)),Tabelas!$I:$J,2,0),\"\"),\"\")","v":"TER"},{"$f":"IF(AM7<>\"\",IFERROR(VLOOKUP(WEEKDAY(CONCATENATE(AM7,$Y$5,$AM$5)),Tabelas!$I:$J,2,0),\"\"),\"\")","v":"QUA"},{"$f":"IF(AN7<>\"\",IFERROR(VLOOKUP(WEEKDAY(CONCATENATE(AN7,$Y$5,$AM$5)),Tabelas!$I:$J,2,0),\"\"),\"\")","v":"QUI"},{"$f":"IF(AO7<>\"\",IFERROR(VLOOKUP(WEEKDAY(CONCATENATE(AO7,$Y$5,$AM$5)),Tabelas!$I:$J,2,0),\"\"),\"\")","v":"SEX"},{"$f":"IF(AP7<>\"\",IFERROR(VLOOKUP(WEEKDAY(CONCATENATE(AP7,$Y$5,$AM$5)),Tabelas!$I:$J,2,0),\"\"),\"\")","v":"SAB"},{"$f":"IF(AQ7<>\"\",IFERROR(VLOOKUP(WEEKDAY(CONCATENATE(AQ7,$Y$5,$AM$5)),Tabelas!$I:$J,2,0),\"\"),\"\")","v":"DOM"},{"$f":"IF(AR7<>\"\",IFERROR(VLOOKUP(WEEKDAY(CONCATENATE(AR7,$Y$5,$AM$5)),Tabelas!$I:$J,2,0),\"\"),\"\")","v":"SEG"},1,2,3,4,5,6,7,8,9,10,11,12,13,14,15,16,17,18,19,20,21,22,23,24,25,26,27,28,29,30,31,"Total","Dias","Dias","Dias","Dias","Dias","Dias","Dias","Dias"]
["Fulano de Tal 1",1234567,123,"ENF","Ebserh",36,null,null,null,null,null,null,null,null,null,null,null,null,null,null,null,null,null,null,null,null,null,null,null,null,null,null,null,null,null,null,null,null,null,null,null,null,null,null,{"$f":"IF(A9<>\"\",IFERROR(VLOOKUP(N9,Tabelas!B:D,3,0),0),\"\")","v":0},{"$f":"IF(A9<>\"\",IFERROR(VLOOKUP(O9,Tabelas!B:D,3,0),0),\"\")","v":0},{"$f":"IF(A9<>\"\",IFERROR(VLOOKUP(P9,Tabelas!B:D,3,0),0),\"\")","v":0},{"$f":"IF(A9<>\"\",IFERROR(VLOOKUP(Q9,Tabelas!B:D,3,0),0),\"\")","v":0},{"$f":"IF(A9<>\"\",IFERROR(VLOOKUP(R9,Tabelas!B:D,3,0),0),\"\")","v":0},{"$f":"IF(A9<>\"\",IFERROR(VLOOKUP(S9,Tabelas!B:D,3,0),0),\"\")","v":0},{"$f":"IF(A9<>\"\",IFERROR(VLOOKUP(T9,Tabelas!B:D,3,0),0),\"\")","v":0},{"$f":"IF(A9<>\"\",IFERROR(VLOOKUP(U9,Tabelas!B:D,3,0),0),\"\")","v":0},{"$f":"IF(A9<>\"\",IFERROR(VLOOKUP(V9,Tabelas!B:D,3,0),0),\"\")","v":0},{"$f":"IF(A9<>\"\",IFERROR(VLOOKUP(W9,Tabelas!B:D,3,0),0),\"\")","v":0},{"$f":"IF(A9<>\"\",IFERROR(VLOOKUP(X9,Tabelas!B:D,3,0),0),\"\")","v":0},{"$f":"IF(A9<>\"\",IFERROR(VLOOKUP(Y9,Tabelas!B:D,3,0),0),\"\")","v":0},{"$f":"IF(A9<>\"\",IFERROR(VLOOKUP(Z9,Tabelas!B:D,3,0),0),\"\")","v":0},{"$f":"IF(A9<>\"\",IFERROR(VLOOKUP(AA9,Tabelas!B:D,3,0),0),\"\")","v":0},{"$f":"IF(A9<>\"\",IFERROR(VLOOKUP(AB9,Tabelas!B:D,3,0),0),\"\")","v":0},{"$f":"IF(A9<>\"\",IFERROR(VLOOKUP(AC9,Tabelas!B:D,3,0),0),\"\")","v":0},{"$f":"IF(A9<>\"\",IFERROR(VLOOKUP(AD9,Tabelas!B:D,3,0),0),\"\")","v":0},{"$f":"IF(A9<>\"\",IFERROR(VLOOKUP(AE9,Tabelas!B:D,3,0),0),\"\")","v":0},{"$f":"IF(A9<>\"\",IFERROR(VLOOKUP(AF9,Tabelas!B:D,3,0),0),\"\")","v":0},{"$f":"IF(A9<>\"\",IFERROR(VLOOKUP(AG9,Tabelas!B:D,3,0),0),\"\")","v":0},{"$f":"IF(A9<>\"\",IFERROR(VLOOKUP(AH9,Tabelas!B:D,3,0),0),\"\")","v":0},{"$f":"IF(A9<>\"\",IFERROR(VLOOKUP(AI9,Tabelas!B:D,3,0),0),\"\")","v":0},{"$f":"IF(A9<>\"\",IFERROR(VLOOKUP(AJ9,Tabelas!B:D,3,0),0),\"\")","v":0},{"$f":"IF(A9<>\"\",IFERROR(VLOOKUP(AK9,Tabelas!B:D,3,0),0),\"\")","v":0},{"$f":"IF(A9<>\"\",IFERROR(VLOOKUP(AL9,Tabelas!B:D,3,0),0),\"\")","v":0},{"$f":"IF(A9<>\"\",IFERROR(VLOOKUP(AM9,Tabelas!B:D,3,0),0),\"\")","v":0},{"$f":"IF(A9<>\"\",IFERROR(VLOOKUP(AN9,Tabelas!B:D,3,0),0),\"\")","v":0},{"$f":"IF(A9<>\"\",IFERROR(VLOOKUP(AO9,Tabelas!B:D,3,0),0),\"\")","v":0},{"$f":"IF(A9<>\"\",IFERROR(VLOOKUP(AP9,Tabelas!B:D,3,0),0),\"\")","v":0},{"$f":"IF(A9<>\"\",IFERROR(VLOOKUP(AQ9,Tabelas!B:D,3,0),0),\"\")","v":0},{"$f":"IF(A9<>\"\",IFERROR(VLOOKUP(AR9,Tabelas!B:D,3,0),0),\"\")","v":0},{"$f":"IF(A9<>\"\",SUM(AS9:BW9),\"\")","v":0},{"$f":"IF(A9<>\"\",COUNTIF(N9:AR9,\"LM\")+COUNTIF(N9:AR9,\"L\"),\"\")+COUNTIF(N9:AR9,\"LP\")","v":0},{"$f":"IF(A9<>\"\",COUNTIF(N9:AR9,\"AB\"),\"\")","v":0},{"$f":"IF(A9<>\"\",COUNTIF(N9:AR9,\"FE\"),\"\")","v":0},{"$f":"IF(A9<>\"\",COUNTIF(N9:AR9,\"LC\"),\"\")","v":0},{"$f":"IF(A9<>\"\",COUNTIF(N9:AR9,\"CE\"),\"\")","v":0},{"$f":"IF(A9<>\"\",COUNTIF(N9:AR9,\"AF1\")+COUNTIF(N9:AR9,\"AF2\")+COUNTIF(N9:AR9,\"AF3\")+COUNTIF(N9:AR9,\"AF4\")+COUNTIF(N9:AR9,\"AF5\")+COUNTIF(N9:AR9,\"AF6\")+COUNTIF(N9:AR9,\"AF7\")+COUNTIF(N9:AR9,\"AF8\")+COUNTIF(N9:AR9,\"AF9\")+COUNTIF(N9:AR9,\"AF10\")+COUNTIF(N9:AR9,\"AF11\")+COUNTIF(N9:AR9,\"AF12\")+COUNTIF(N9:AR9,\"AF13\")+COUNTIF(N9:AR9,\"AF14\"),\"\")","v":0},{"$f":"IF(A9<>\"\",COUNTIF(N9:AR9,\"CE\")+COUNTIF(N9:AR9,\"L\")+COUNTIF(N9:AR9,\"LM\")+COUNTIF(N9:AR9,\"LP\")+COUNTIF(N9:AR9,\"LC\")+COUNTIF(N9:AR9,\"AB\")+COUNTIF(N9:AR9,\"AF1\")+COUNTIF(N9:AR9,\"AF2\")+COUNTIF(N9:AR9,\"AF3\")+COUNTIF(N9:AR9,\"AF4\")+COUNTIF(N9:AR9,\"AF5\")+COUNTIF(N9:AR9,\"AF6\")+COUNTIF(N9:AR9,\"AF7\")+COUNTIF(N9:AR9,\"AF8\")+COUNTIF(N9:AR9,\"AF9\")+COUNTIF(N9:AR9,\"AF10\")+COUNTIF(N9:AR9,\"AF11\")+COUNTIF(N9:AR9,\"AF12\")+COUNTIF(N9:AR9,\"AF13\")+COUNTIF(N9:AR9,\"AF14\")+COUNTIF(N9:AR9,\"RC\")+COUNTIF(N9:AR9,\"FO\")+COUNTIF(N9:AR9,\"FE\"),\"\")","v":0},{"$f":"IF(A9<>\"\",COUNTIF(N9:AR9,\"APH\"),\"\")","v":0}]
["Fulano de Tal 2",1234567,123,"ENF","Ebserh",36,null,null,null,null,null,null,null,null,null,null,null,null,null,null,null,null,null,null,null,null,null,null,null,null,null,null,null,null,null,null,null,null,null,null,null,null,null,null,{"$f":"IF(A10<>\"\",IFERROR(VLOOKUP(N10,Tabelas!B:D,3,0),0),\"\")","v":0},{"$f":"IF(A10<>\"\",IFERROR(VLOOKUP(O10,Tabelas!B:D,3,0),0),\"\")","v":0},{"$f":"IF(A10<>\"\",IFERROR(VLOOKUP(P10,Tabelas!B:D,3,0),0),\"\")","v":0},{"$f":"IF(A10<>\"\",IFERROR(VLOOKUP(Q10,Tabelas!B:D,3,0),0),\"\")","v":0},{"$f":"IF(A10<>\"\",IFERROR(VLOOKUP(R10,Tabelas!B:D,3,0),0),\"\")","v":0},{"$f":"IF(A10<>\"\",IFERROR(VLOOKUP(S10,Tabelas!B:D,3,0),0),\"\")","v":0},{"$f":"IF(A10<>\"\",IFERROR(VLOOKUP(T10,Tabelas!B:D,3,0),0),\"\")","v":0},{"$f":"IF(A10<>\"\",IFERROR(VLOOKUP(U10,Tabelas!B:D,3,0),0),\"\")","v":0},{"$f":"IF(A10<>\"\",IFERROR(VLOOKUP(V10,Tabelas!B:D,3,0),0),\"\")","v":0},{"$f":"IF(A10<>\"\",IFERROR(VLOOKUP(W10,Tabelas!B:D,3,0),0),\"\")","v":0},{"$f":"IF(A10<>\"\",IFERROR(VLOOKUP(X10,Tabelas!B:D,3,0),0),\"\")","v":0},{"$f":"IF(A10<>\"\",IFERROR(VLOOKUP(Y10,Tabelas!B:D,3,0),0),\"\")","v":0},{"$f":"IF(A10<>\"\",IFERROR(VLOOKUP(Z10,Tabelas!B:D,3,0),0),\"\")","v":0},{"$f":"IF(A10<>\"\",IFERROR(VLOOKUP(AA10,Tabelas!B:D,3,0),0),\"\")","v":0},{"$f":"IF(A10<>\"\",IFERROR(VLOOKUP(AB10,Tabelas!B:D,3,0),0),\"\")","v":0},{"$f":"IF(A10<>\"\",IFERROR(VLOOKUP(AC10,Tabelas!B:D,3,0),0),\"\")","v":0},{"$f":"IF(A10<>\"\",IFERROR(VLOOKUP(AD10,Tabelas!B:D,3,0),0),\"\")","v":0},{"$f":"IF(A10<>\"\",IFERROR(VLOOKUP(AE10,Tabelas!B:D,3,0),0),\"\")","v":0},{"$f":"IF(A10<>\"\",IFERROR(VLOOKUP(AF10,Tabelas!B:D,3,0),0),\"\")","v":0},{"$f":"IF(A10<>\"\",IFERROR(VLOOKUP(AG10,Tabelas!B:D,3,0),0),\"\")","v":0},{"$f":"IF(A10<>\"\",IFERROR(VLOOKUP(AH10,Tabelas!B:D,3,0),0),\"\")","v":0},{"$f":"IF(A10<>\"\",IFERROR(VLOOKUP(AI10,Tabelas!B:D,3,0),0),\"\")","v":0},{"$f":"IF(A10<>\"\",IFERROR(VLOOKUP(AJ10,Tabelas!B:D,3,0),0),\"\")","v":0},{"$f":"IF(A10<>\"\",IFERROR(VLOOKUP(AK10,Tabelas!B:D,3,0),0),\"\")","v":0},{"$f":"IF(A10<>\"\",IFERROR(VLOOKUP(AL10,Tabelas!B:D,3,0),0),\"\")","v":0},{"$f":"IF(A10<>\"\",IFERROR(VLOOKUP(AM10,Tabelas!B:D,3,0),0),\"\")","v":0},{"$f":"IF(A10<>\"\",IFERROR(VLOOKUP(AN10,Tabelas!B:D,3,0),0),\"\")","v":0},{"$f":"IF(A10<>\"\",IFERROR(VLOOKUP(AO10,Tabelas!B:D,3,0),0),\"\")","v":0},{"$f":"IF(A10<>\"\",IFERROR(VLOOKUP(AP10,Tabelas!B:D,3,0),0),\"\")","v":0},{"$f":"IF(A10<>\"\",IFERROR(VLOOKUP(AQ10,Tabelas!B:D,3,0),0),\"\")","v":0},{"$f":"IF(A10<>\"\",IFERROR(VLOOKUP(AR10,Tabelas!B:D,3,0),0),\"\")","v":0},{"$f":"IF(A10<>\"\",SUM(AS10:BW10),\"\")","v":0},{"$f":"IF(A10<>\"\",COUNTIF(N10:AR10,\"LM\")+COUNTIF(N10:AR10,\"L\"),\"\")+COUNTIF(N10:AR10,\"LP\")","v":0},{"$f":"IF(A10<>\"\",COUNTIF(N10:AR10,\"AB\"),\"\")","v":0},{"$f":"IF(A10<>\"\",COUNTIF(N10:AR10,\"FE\"),\"\")","v":0},{"$f":"IF(A10<>\"\",COUNTIF(N10:AR10,\"LC\"),\"\")","v":0},{"$f":"IF(A10<>\"\",COUNTIF(N10:AR10,\"CE\"),\"\")","v":0},{"$f":"IF(A10<>\"\",COUNTIF(N10:AR10,\"AF1\")+COUNTIF(N10:AR10,\"AF2\")+COUNTIF(N10:AR10,\"AF3\")+COUNTIF(N10:AR10,\"AF4\")+COUNTIF(N10:AR10,\"AF5\")+COUNTIF(N10:AR10,\"AF6\")+COUNTIF(N10:AR10,\"AF7\")+COUNTIF(N10:AR10,\"AF8\")+COUNTIF(N10:AR10,\"AF9\")+COUNTIF(N10:AR10,\"AF10\")+COUNTIF(N10:AR10,\"AF11\")+COUNTIF(N10:AR10,\"AF12\")+COUNTIF(N10:AR10,\"AF13\")+COUNTIF(N10:AR10,\"AF14\"),\"\")","v":0},{"$f":"IF(A10<>\"\",COUNTIF(N10:AR10,\"CE\")+COUNTIF(N10:AR10,\"L\")+COUNTIF(N10:AR10,\"LM\")+COUNTIF(N10:AR10,\"LP\")+COUNTIF(N10:AR10,\"LC\")+COUNTIF(N10:AR10,\"AB\")+COUNTIF(N10:AR10,\"AF1\")+COUNTIF(N10:AR10,\"AF2\")+COUNTIF(N10:AR10,\"AF3\")+COUNTIF(N10:AR10,\"AF4\")+COUNTIF(N10:AR10,\"AF5\")+COUNTIF(N10:AR10,\"AF6\")+COUNTIF(N10:AR10,\"AF7\")+COUNTIF(N10:AR10,\"AF8\")+COUNTIF(N10:AR10,\"AF9\")+COUNTIF(N10:AR10,\"AF10\")+COUNTIF(N10:AR10,\"AF11\")+COUNTIF(N10:AR10,\"AF12\")+COUNTIF(N10:AR10,\"AF13\")+COUNTIF(N10:AR10,\"AF14\")+COUNTIF(N10:AR10,\"RC\")+COUNTIF(N10:AR10,\"FO\")+COUNTIF(N10:AR10,\"FE\"),\"\")","v":0},{"$f":"IF(A10<>\"\",COUNTIF(N10:AR10,\"APH\"),\"\")","v":0}]
["Fulano de Tal 3",1234567,123,"ENF","Ebserh",36,null,null,null,null,null,null,null,null,null,null,null,null,null,null,null,null,null,null,null,null,null,null,null,null,null,null,null,null,null,null,null,null,null,null,null,null,null,null,{"$f":"IF(A11<>\"\",IFERROR(VLOOKUP(N11,Tabelas!B:D,3,0),0),\"\")","v":0},{"$f":"IF(A11<>\"\",IFERROR(VLOOKUP(O11,Tabelas!B:D,3,0),0),\"\")","v":0},{"$f":"IF(A11<>\"\",IFERROR(VLOOKUP(P11,Tabelas!B:D,3,0),0),\"\")","v":0},{"$f":"IF(A11<>\"\",IFERROR(VLOOKUP(Q11,Tabelas!B:D,3,0),0),\"\")","v":0},{"$f":"IF(A11<>\"\",IFERROR(VLOOKUP(R11,Tabelas!B:D,3,0),0),\"\")","v":0},{"$f":"IF(A11<>\"\",IFERROR(VLOOKUP(S11,Tabelas!B:D,3,0),0),\"\")","v":0},{"$f":"IF(A11<>\"\",IFERROR(VLOOKUP(T11,Tabelas!B:D,3,0),0),\"\")","v":0},{"$f":"IF(A11<>\"\",IFERROR(VLOOKUP(U11,Tabelas!B:D,3,0),0),\"\")","v":0},{"$f":"IF(A11<>\"\",IFERROR(VLOOKUP(V11,Tabelas!B:D,3,0),0),\"\")","v":0},{"$f":"IF(A11<>\"\",IFERROR(VLOOKUP(W11,Tabelas!B:D,3,0),0),\"\")","v":0},{"$f":"IF(A11<>\"\",IFERROR(VLOOKUP(X11,Tabelas!B:D,3,0),0),\"\")","v":0},{"$f":"IF(A11<>\"\",IFERROR(VLOOKUP(Y11,Tabelas!B:D,3,0),0),\"\")","v":0},{"$f":"IF(A11<>\"\",IFERROR(VLOOKUP(Z11,Tabelas!B:D,3,0),0),\"\")","v":0},{"$f":"IF(A11<>\"\",IFERROR(VLOOKUP(AA11,Tabelas!B:D,3,0),0),\"\")","v":0},{"$f":"IF(A11<>\"\",IFERROR(VLOOKUP(AB11,Tabelas!B:D,3,0),0),\"\")","v":0},{"$f":"IF(A11<>\"\",IFERROR(VLOOKUP(AC11,Tabelas!B:D,3,0),0),\"\")","v":0},{"$f":"IF(A11<>\"\",IFERROR(VLOOKUP(AD11,Tabelas!B:D,3,0),0),\"\")","v":0},{"$f":"IF(A11<>\"\",IFERROR(VLOOKUP(AE11,Tabelas!B:D,3,0),0),\"\")","v":0},{"$f":"IF(A11<>\"\",IFERROR(VLOOKUP(AF11,Tabelas!B:D,3,0),0),\"\")","v":0},{"$f":"IF(A11<>\"\",IFERROR(VLOOKUP(AG11,Tabelas!B:D,3,0),0),\"\")","v":0},{"$f":"IF(A11<>\"\",IFERROR(VLOOKUP(AH11,Tabelas!B:D,3,0),0),\"\")","v":0},{"$f":"IF(A11<>\"\",IFERROR(VLOOKUP(AI11,Tabelas!B:D,3,0),0),\"\")","v":0},{"$f":"IF(A11<>\"\",IFERROR(VLOOKUP(AJ11,Tabelas!B:D,3,0),0),\"\")","v":0},{"$f":"IF(A11<>\"\",IFERROR(VLOOKUP(AK11,Tabelas!B:D,3,0),0),\"\")","v":0},{"$f":"IF(A11<>\"\",IFERROR(VLOOKUP(AL11,Tabelas!B:D,3,0),0),\"\")","v":0},{"$f":"IF(A11<>\"\",IFERROR(VLOOKUP(AM11,Tabelas!B:D,3,0),0),\"\")","v":0},{"$f":"IF(A11<>\"\",IFERROR(VLOOKUP(AN11,Tabelas!B:D,3,0),0),\"\")","v":0},{"$f":"IF(A11<>\"\",IFERROR(VLOOKUP(AO11,Tabelas!B:D,3,0),0),\"\")","v":0},{"$f":"IF(A11<>\"\",IFERROR(VLOOKUP(AP11,Tabelas!B:D,3,0),0),\"\")","v":0},{"$f":"IF(A11<>\"\",IFERROR(VLOOKUP(AQ11,Tabelas!B:D,3,0),0),\"\")","v":0},{"$f":"IF(A11<>\"\",IFERROR(VLOOKUP(AR11,Tabelas!B:D,3,0),0),\"\")","v":0},{"$f":"IF(A11<>\"\",SUM(AS11:BW11),\"\")","v":0},0,0,0,0,0,0,0,{"$f":"IF(A11<>\"\",COUNTIF(N11:AR11,\"APH\"),\"\")","v":0}]
["Fulano de Tal 4",1234567,123,"ENF","Ebserh",36,null,null,null,null,null,null,null,null,null,null,null,null,null,null,null,null,null,null,null,null,null,null,null,null,null,null,null,null,null,null,null,null,null,null,null,null,null,null,{"$f":"IF(A12<>\"\",IFERROR(VLOOKUP(N12,Tabelas!B:D,3,0),0),\"\")","v":0},{"$f":"IF(A12<>\"\",IFERROR(VLOOKUP(O12,Tabelas!B:D,3,0),0),\"\")","v":0},{"$f":"IF(A12<>\"\",IFERROR(VLOOKUP(P12,Tabelas!B:D,3,0),0),\"\")","v":0},{"$f":"IF(A12<>\"\",IFERROR(VLOOKUP(Q12,Tabelas!B:D,3,0),0),\"\")","v":0},{"$f":"IF(A12<>\"\",IFERROR(VLOOKUP(R12,Tabelas!B:D,3,0),0),\"\")","v":0},{"$f":"IF(A12<>\"\",IFERROR(VLOOKUP(S12,Tabelas!B:D,3,0),0),\"\")","v":0},{"$f":"IF(A12<>\"\",IFERROR(VLOOKUP(T12,Tabelas!B:D,3,0),0),\"\")","v":0},{"$f":"IF(A12<>\"\",IFERROR(VLOOKUP(U12,Tabelas!B:D,3,0),0),\"\")","v":0},{"$f":"IF(A12<>\"\",IFERROR(VLOOKUP(V12,Tabelas!B:D,3,0),0),\"\")","v":0},{"$f":"IF(A12<>\"\",IFERROR(VLOOKUP(W12,Tabelas!B:D,3,0),0),\"\")","v":0},{"$f":"IF(A12<>\"\",IFERROR(VLOOKUP(X12,Tabelas!B:D,3,0),0),\"\")","v":0},{"$f":"IF(A12<>\"\",IFERROR(VLOOKUP(Y12,Tabelas!B:D,3,0),0),\"\")","v":0},{"$f":"IF(A12<>\"\",IFERROR(VLOOKUP(Z12,Tabelas!B:D,3,0),0),\"\")","v":0},{"$f":"IF(A12<>\"\",IFERROR(VLOOKUP(AA12,Tabelas!B:D,3,0),0),\"\")","v":0},{"$f":"IF(A12<>\"\",IFERROR(VLOOKUP(AB12,Tabelas!B:D,3,0),0),\"\")","v":0},{"$f":"IF(A12<>\"\",IFERROR(VLOOKUP(AC12,Tabelas!B:D,3,0),0),\"\")","v":0},{"$f":"IF(A12<>\"\",IFERROR(VLOOKUP(AD12,Tabelas!B:D,3,0),0),\"\")","v":0},{"$f":"IF(A12<>\"\",IFERROR(VLOOKUP(AE12,Tabelas!B:D,3,0),0),\"\")","v":0},{"$f":"IF(A12<>\"\",IFERROR(VLOOKUP(AF12,Tabelas!B:D,3,0),0),\"\")","v":0},{"$f":"IF(A12<>\"\",IFERROR(VLOOKUP(AG12,Tabelas!B:D,3,0),0),\"\")","v":0},{"$f":"IF(A12<>\"\",IFERROR(VLOOKUP(AH12,Tabelas!B:D,3,0),0),\"\")","v":0},{"$f":"IF(A12<>\"\",IFERROR(VLOOKUP(AI12,Tabelas!B:D,3,0),0),\"\")","v":0},{"$f":"IF(A12<>\"\",IFERROR(VLOOKUP(AJ12,Tabelas!B:D,3,0),0),\"\")","v":0},{"$f":"IF(A12<>\"\",IFERROR(VLOOKUP(AK12,Tabelas!B:D,3,0),0),\"\")","v":0},{"$f":"IF(A12<>\"\",IFERROR(VLOOKUP(AL12,Tabelas!B:D,3,0),0),\"\")","v":0},{"$f":"IF(A12<>\"\",IFERROR(VLOOKUP(AM12,Tabelas!B:D,3,0),0),\"\")","v":0},{"$f":"IF(A12<>\"\",IFERROR(VLOOKUP(AN12,Tabelas!B:D,3,0),0),\"\")","v":0},{"$f":"IF(A12<>\"\",IFERROR(VLOOKUP(AO12,Tabelas!B:D,3,0),0),\"\")","v":0},{"$f":"IF(A12<>\"\",IFERROR(VLOOKUP(AP12,Tabelas!B:D,3,0),0),\"\")","v":0},{"$f":"IF(A12<>\"\",IFERROR(VLOOKUP(AQ12,Tabelas!B:D,3,0),0),\"\")","v":0},{"$f":"IF(A12<>\"\",IFERROR(VLOOKUP(AR12,Tabelas!B:D,3,0),0),\"\")","v":0},0,0,0,0,0,0,0,0,{"$f":"IF(A12<>\"\",COUNTIF(N12:AR12,\"APH\"),\"\")","v":0}]
["Fulano de Tal 5",1234567,123,"ENF","Ebserh",36,null,null,null,null,null,null,null,null,null,null,null,null,null,null,null,null,null,null,null,null,null,null,null,null,null,null,null,null,null,null,null,null,null,null,null,null,null,null,{"$f":"IF(A13<>\"\",IFERROR(VLOOKUP(N13,Tabelas!B:D,3,0),0),\"\")","v":0},{"$f":"IF(A13<>\"\",IFERROR(VLOOKUP(O13,Tabelas!B:D,3,0),0),\"\")","v":0},{"$f":"IF(A13<>\"\",IFERROR(VLOOKUP(P13,Tabelas!B:D,3,0),0),\"\")","v":0},{"$f":"IF(A13<>\"\",IFERROR(VLOOKUP(Q13,Tabelas!B:D,3,0),0),\"\")","v":0},{"$f":"IF(A13<>\"\",IFERROR(VLOOKUP(R13,Tabelas!B:D,3,0),0),\"\")","v":0},{"$f":"IF(A13<>\"\",IFERROR(VLOOKUP(S13,Tabelas!B:D,3,0),0),\"\")","v":0},{"$f":"IF(A13<>\"\",IFERROR(VLOOKUP(T13,Tabelas!B:D,3,0),0),\"\")","v":0},{"$f":"IF(A13<>\"\",IFERROR(VLOOKUP(U13,Tabelas!B:D,3,0),0),\"\")","v":0},{"$f":"IF(A13<>\"\",IFERROR(VLOOKUP(V13,Tabelas!B:D,3,0),0),\"\")","v":0},{"$f":"IF(A13<>\"\",IFERROR(VLOOKUP(W13,Tabelas!B:D,3,0),0),\"\")","v":0},{"$f":"IF(A13<>\"\",IFERROR(VLOOKUP(X13,Tabelas!B:D,3,0),0),\"\")","v":0},{"$f":"IF(A13<>\"\",IFERROR(VLOOKUP(Y13,Tabelas!B:D,3,0),0),\"\")","v":0},{"$f":"IF(A13<>\"\",IFERROR(VLOOKUP(Z13,Tabelas!B:D,3,0),0),\"\")","v":0},{"$f":"IF(A13<>\"\",IFERROR(VLOOKUP(AA13,Tabelas!B:D,3,0),0),\"\")","v":0},{"$f":"IF(A13<>\"\",IFERROR(VLOOKUP(AB13,Tabelas!B:D,3,0),0),\"\")","v":0},{"$f":"IF(A13<>\"\",IFERROR(VLOOKUP(AC13,Tabelas!B:D,3,0),0),\"\")","v":0},{"$f":"IF(A13<>\"\",IFERROR(VLOOKUP(AD13,Tabelas!B:D,3,0),0),\"\")","v":0},{"$f":"IF(A13<>\"\",IFERROR(VLOOKUP(AE13,Tabelas!B:D,3,0),0),\"\")","v":0},{"$f":"IF(A13<>\"\",IFERROR(VLOOKUP(AF13,Tabelas!B:D,3,0),0),\"\")","v":0},{"$f":"IF(A13<>\"\",IFERROR(VLOOKUP(AG13,Tabelas!B:D,3,0),0),\"\")","v":0},{"$f":"IF(A13<>\"\",IFERROR(VLOOKUP(AH13,Tabelas!B:D,3,0),0),\"\")","v":0},{"$f":"IF(A13<>\"\",IFERROR(VLOOKUP(AI13,Tabelas!B:D,3,0),0),\"\")","v":0},{"$f":"IF(A13<>\"\",IFERROR(VLOOKUP(AJ13,Tabelas!B:D,3,0),0),\"\")","v":0},{"$f":"IF(A13<>\"\",IFERROR(VLOOKUP(AK13,Tabelas!B:D,3,0),0),\"\")","v":0},{"$f":"IF(A13<>\"\",IFERROR(VLOOKUP(AL13,Tabelas!B:D,3,0),0),\"\")","v":0},{"$f":"IF(A13<>\"\",IFERROR(VLOOKUP(AM13,Tabelas!B:D,3,0),0),\"\")","v":0},{"$f":"IF(A13<>\"\",IFERROR(VLOOKUP(AN13,Tabelas!B:D,3,0),0),\"\")","v":0},{"$f":"IF(A13<>\"\",IFERROR(VLOOKUP(AO13,Tabelas!B:D,3,0),0),\"\")","v":0},{"$f":"IF(A13<>\"\",IFERROR(VLOOKUP(AP13,Tabelas!B:D,3,0),0),\"\")","v":0},{"$f":"IF(A13<>\"\",IFERROR(VLOOKUP(AQ13,Tabelas!B:D,3,0),0),\"\")","v":0},{"$f":"IF(A13<>\"\",IFERROR(VLOOKUP(AR13,Tabelas!B:D,3,0),0),\"\")","v":0},{"$f":"IF(A13<>\"\",SUM(AS13:BW13),\"\")","v":0},0,{"$f":"IF(A13<>\"\",COUNTIF(N13:AR13,\"AB\"),\"\")","v":0},{"$f":"IF(A13<>\"\",COUNTIF(N13:AR13,\"FE\"),\"\")","v":0},{"$f":"IF(A13<>\"\",COUNTIF(N13:AR13,\"LC\"),\"\")","v":0},{"$f":"IF(A13<>\"\",COUNTIF(N13:AR13,\"CE\"),\"\")","v":0},0,0,{"$f":"IF(A13<>\"\",COUNTIF(N13:AR13,\"APH\"),\"\")","v":0}]
["Fulano de Tal 6",1234567,123,"ENF","Ebserh",36,null,null,null,null,null,null,null,null,null,null,null,null,null,null,null,null,null,null,null,null,null,null,null,null,null,null,null,null,null,null,null,null,null,null,null,null,null,null,{"$f":"IF(A14<>\"\",IFERROR(VLOOKUP(N14,Tabelas!B:D,3,0),0),\"\")","v":0},{"$f":"IF(A14<>\"\",IFERROR(VLOOKUP(O14,Tabelas!B:D,3,0),0),\"\")","v":0},{"$f":"IF(A14<>\"\",IFERROR(VLOOKUP(P14,Tabelas!B:D,3,0),0),\"\")","v":0},{"$f":"IF(A14<>\"\",IFERROR(VLOOKUP(Q14,Tabelas!B:D,3,0),0),\"\")","v":0},{"$f":"IF(A14<>\"\",IFERROR(VLOOKUP(R14,Tabelas!B:D,3,0),0),\"\")","v":0},{"$f":"IF(A14<>\"\",IFERROR(VLOOKUP(S14,Tabelas!B:D,3,0),0),\"\")","v":0},{"$f":"IF(A14<>\"\",IFERROR(VLOOKUP(T14,Tabelas!B:D,3,0),0),\"\")","v":0},{"$f":"IF(A14<>\"\",IFERROR(VLOOKUP(U14,Tabelas!B:D,3,0),0),\"\")","v":0},{"$f":"IF(A14<>\"\",IFERROR(VLOOKUP(V14,Tabelas!B:D,3,0),0),\"\")","v":0},{"$f":"IF(A14<>\"\",IFERROR(VLOOKUP(W14,Tabelas!B:D,3,0),0),\"\")","v":0},{"$f":"IF(A14<>\"\",IFERROR(VLOOKUP(X14,Tabelas!B:D,3,0),0),\"\")","v":0},{"$f":"IF(A14<>\"\",IFERROR(VLOOKUP(Y14,Tabelas!B:D,3,0),0),\"\")","v":0},{"$f":"IF(A14<>\"\",IFERROR(VLOOKUP(Z14,Tabelas!B:D,3,0),0),\"\")","v":0},{"$f":"IF(A14<>\"\",IFERROR(VLOOKUP(AA14,Tabelas!B:D,3,0),0),\"\")","v":0},{"$f":"IF(A14<>\"\",IFERROR(VLOOKUP(AB14,Tabelas!B:D,3,0),0),\"\")","v":0},{"$f":"IF(A14<>\"\",IFERROR(VLOOKUP(AC14,Tabelas!B:D,3,0),0),\"\")","v":0},{"$f":"IF(A14<>\"\",IFERROR(VLOOKUP(AD14,Tabelas!B:D,3,0),0),\"\")","v":0},{"$f":"IF(A14<>\"\",IFERROR(VLOOKUP(AE14,Tabelas!B:D,3,0),0),\"\")","v":0},{"$f":"IF(A14<>\"\",IFERROR(VLOOKUP(AF14,Tabelas!B:D,3,0),0),\"\")","v":0},{"$f":"IF(A14<>\"\",IFERROR(VLOOKUP(AG14,Tabelas!B:D,3,0),0),\"\")","v":0},{"$f":"IF(A14<>\"\",IFERROR(VLOOKUP(AH14,Tabelas!B:D,3,0),0),\"\")","v":0},{"$f":"IF(A14<>\"\",IFERROR(VLOOKUP(AI14,Tabelas!B:D,3,0),0),\"\")","v":0},{"$f":"IF(A14<>\"\",IFERROR(VLOOKUP(AJ14,Tabelas!B:D,3,0),0),\"\")","v":0},{"$f":"IF(A14<>\"\",IFERROR(VLOOKUP(AK14,Tabelas!B:D,3,0),0),\"\")","v":0},{"$f":"IF(A14<>\"\",IFERROR(VLOOKUP(AL14,Tabelas!B:D,3,0),0),\"\")","v":0},{"$f":"IF(A14<>\"\",IFERROR(VLOOKUP(AM14,Tabelas!B:D,3,0),0),\"\")","v":0},{"$f":"IF(A14<>\"\",IFERROR(VLOOKUP(AN14,Tabelas!B:D,3,0),0),\"\")","v":0},{"$f":"IF(A14<>\"\",IFERROR(VLOOKUP(AO14,Tabelas!B:D,3,0),0),\"\")","v":0},{"$f":"IF(A14<>\"\",IFERROR(VLOOKUP(AP14,Tabelas!B:D,3,0),0),\"\")","v":0},{"$f":"IF(A14<>\"\",IFERROR(VLOOKUP(AQ14,Tabelas!B:D,3,0),0),\"\")","v":0},{"$f":"IF(A14<>\"\",IFERROR(VLOOKUP(AR14,Tabelas!B:D,3,0),0),\"\")","v":0},0,0,0,0,0,0,0,0,{"$f":"IF(A14<>\"\",COUNTIF(N14:AR14,\"APH\"),\"\")","v":0}]
["Fulano de Tal 7",1234567,123,"ENF","Ebserh",36,null,null,null,null,null,null,null,null,"N2",null,null,"N2",null,null,"N2",null,null,"N2",null,null,"N2",null,null,"N2",null,null,"N2",null,null,"N2",null,null,"N2",null,null,"N2",null,null,{"$f":"IF(A15<>\"\",IFERROR(VLOOKUP(N15,Tabelas!B:D,3,0),0),\"\")","v":0},{"$f":"IF(A15<>\"\",IFERROR(VLOOKUP(O15,Tabelas!B:D,3,0),0),\"\")","v":12},{"$f":"IF(A15<>\"\",IFERROR(VLOOKUP(P15,Tabelas!B:D,3,0),0),\"\")","v":0},{"$f":"IF(A15<>\"\",IFERROR(VLOOKUP(Q15,Tabelas!B:D,3,0),0),\"\")","v":0},{"$f":"IF(A15<>\"\",IFERROR(VLOOKUP(R15,Tabelas!B:D,3,0),0),\"\")","v":12},{"$f":"IF(A15<>\"\",IFERROR(VLOOKUP(S15,Tabelas!B:D,3,0),0),\"\")","v":0},{"$f":"IF(A15<>\"\",IFERROR(VLOOKUP(T15,Tabelas!B:D,3,0),0),\"\")","v":0},{"$f":"IF(A15<>\"\",IFERROR(VLOOKUP(U15,Tabelas!B:D,3,0),0),\"\")","v":12},{"$f":"IF(A15<>\"\",IFERROR(VLOOKUP(V15,Tabelas!B:D,3,0),0),\"\")","v":0},{"$f":"IF(A15<>\"\",IFERROR(VLOOKUP(W15,Tabelas!B:D,3,0),0),\"\")","v":0},{"$f":"IF(A15<>\"\",IFERROR(VLOOKUP(X15,Tabelas!B:D,3,0),0),\"\")","v":12},{"$f":"IF(A15<>\"\",IFERROR(VLOOKUP(Y15,Tabelas!B:D,3,0),0),\"\")","v":0},{"$f":"IF(A15<>\"\",IFERROR(VLOOKUP(Z15,Tabelas!B:D,3,0),0),\"\")","v":0},{"$f":"IF(A15<>\"\",IFERROR(VLOOKUP(AA15,Tabelas!B:D,3,0),0),\"\")","v":12},{"$f":"IF(A15<>\"\",IFERROR(VLOOKUP(AB15,Tabelas!B:D,3,0),0),\"\")","v":0},{"$f":"IF(A15<>\"\",IFERROR(VLOOKUP(AC15,Tabelas!B:D,3,0),0),\"\")","v":0},{"$f":"IF(A15<>\"\",IFERROR(VLOOKUP(AD15,Tabelas!B:D,3,0),0),\"\")","v":12},{"$f":"IF(A15<>\"\",IFERROR(VLOOKUP(AE15,Tabelas!B:D,3,0),0),\"\")","v":0},{"$f":"IF(A15<>\"\",IFERROR(VLOOKUP(AF15,Tabelas!B:D,3,0),0),\"\")","v":0},{"$f":"IF(A15<>\"\",IFERROR(VLOOKUP(AG15,Tabelas!B:D,3,0),0),\"\")","v":12},{"$f":"IF(A15<>\"\",IFERROR(VLOOKUP(AH15,Tabelas!B:D,3,0),0),\"\")","v":0},{"$f":"IF(A15<>\"\",IFERROR(VLOOKUP(AI15,Tabelas!B:D,3,0),0),\"\")","v":0},{"$f":"IF(A15<>\"\",IFERROR(VLOOKUP(AJ15,Tabelas!B:D,3,0),0),\"\")","v":12},{"$f":"IF(A15<>\"\",IFERROR(VLOOKUP(AK15,Tabelas!B:D,3,0),0),\"\")","v":0},{"$f":"IF(A15<>\"\",IFERROR(VLOOKUP(AL15,Tabelas!B:D,3,0),0),\"\")","v":0},{"$f":"IF(A15<>\"\",IFERROR(VLOOKUP(AM15,Tabelas!B:D,3,0),0),\"\")","v":12},{"$f":"IF(A15<>\"\",IFERROR(VLOOKUP(AN15,Tabelas!B:D,3,0),0),\"\")","v":0},{"$f":"IF(A15<>\"\",IFERROR(VLOOKUP(AO15,Tabelas!B:D,3,0),0),\"\")","v":0},{"$f":"IF(A15<>\"\",IFERROR(VLOOKUP(AP15,Tabelas!B:D,3,0),0),\"\")","v":12},{"$f":"IF(A15<>\"\",IFERROR(VLOOKUP(AQ15,Tabelas!B:D,3,0),0),\"\")","v":0},{"$f":"IF(A15<>\"\",IFERROR(VLOOKUP(AR15,Tabelas!B:D,3,0),0),\"\")","v":0},{"$f":"IF(A15<>\"\",SUM(AS15:BW15),\"\")","v":120},0,{"$f":"IF(A15<>\"\",COUNTIF(N15:AR15,\"AB\"),\"\")","v":0},{"$f":"IF(A15<>\"\",COUNTIF(N15:AR15,\"FE\"),\"\")","v":0},{"$f":"IF(A15<>\"\",COUNTIF(N15:AR15,\"LC\"),\"\")","v":0},{"$f":"IF(A15<>\"\",COUNTIF(N15:AR15,\"CE\"),\"\")","v":0},0,0,{"$f":"IF(A15<>\"\",COUNTIF(N15:AR15,\"APH\"),\"\")","v":0}]
["Fulano de Tal 8",1234567,123,"ENF","Ebserh",36,null,null,null,null,null,null,null,null,null,null,null,null,null,null,null,null,null,null,null,null,null,null,null,null,null,null,null,null,null,null,null,null,null,null,null,null,null,null,{"$f":"IF(A16<>\"\",IFERROR(VLOOKUP(N16,Tabelas!B:D,3,0),0),\"\")","v":0},{"$f":"IF(A16<>\"\",IFERROR(VLOOKUP(O16,Tabelas!B:D,3,0),0),\"\")","v":0},{"$f":"IF(A16<>\"\",IFERROR(VLOOKUP(P16,Tabelas!B:D,3,0),0),\"\")","v":0},{"$f":"IF(A16<>\"\",IFERROR(VLOOKUP(Q16,Tabelas!B:D,3,0),0),\"\")","v":0},{"$f":"IF(A16<>\"\",IFERROR(VLOOKUP(R16,Tabelas!B:D,3,0),0),\"\")","v":0},{"$f":"IF(A16<>\"\",IFERROR(VLOOKUP(S16,Tabelas!B:D,3,0),0),\"\")","v":0},{"$f":"IF(A16<>\"\",IFERROR(VLOOKUP(T16,Tabelas!B:D,3,0),0),\"\")","v":0},{"$f":"IF(A16<>\"\",IFERROR(VLOOKUP(U16,Tabelas!B:D,3,0),0),\"\")","v":0},{"$f":"IF(A16<>\"\",IFERROR(VLOOKUP(V16,Tabelas!B:D,3,0),0),\"\")","v":0},{"$f":"IF(A16<>\"\",IFERROR(VLOOKUP(W16,Tabelas!B:D,3,0),0),\"\")","v":0},{"$f":"IF(A16<>\"\",IFERROR(VLOOKUP(X16,Tabelas!B:D,3,0),0),\"\")","v":0},{"$f":"IF(A16<>\"\",IFERROR(VLOOKUP(Y16,Tabelas!B:D,3,0),0),\"\")","v":0},{"$f":"IF(A16<>\"\",IFERROR(VLOOKUP(Z16,Tabelas!B:D,3,0),0),\"\")","v":0},{"$f":"IF(A16<>\"\",IFERROR(VLOOKUP(AA16,Tabelas!B:D,3,0),0),\"\")","v":0},{"$f":"IF(A16<>\"\",IFERROR(VLOOKUP(AB16,Tabelas!B:D,3,0),0),\"\")","v":0},{"$f":"IF(A16<>\"\",IFERROR(VLOOKUP(AC16,Tabelas!B:D,3,0),0),\"\")","v":0},{"$f":"IF(A16<>\"\",IFERROR(VLOOKUP(AD16,Tabelas!B:D,3,0),0),\"\")","v":0},{"$f":"IF(A16<>\"\",IFERROR(VLOOKUP(AE16,Tabelas!B:D,3,0),0),\"\")","v":0},{"$f":"IF(A16<>\"\",IFERROR(VLOOKUP(AF16,Tabelas!B:D,3,0),0),\"\")","v":0},{"$f":"IF(A16<>\"\",IFERROR(VLOOKUP(AG16,Tabelas!B:D,3,0),0),\"\")","v":0},{"$f":"IF(A16<>\"\",IFERROR(VLOOKUP(AH16,Tabelas!B:D,3,0),0),\"\")","v":0},{"$f":"IF(A16<>\"\",IFERROR(VLOOKUP(AI16,Tabelas!B:D,3,0),0),\"\")","v":0},{"$f":"IF(A16<>\"\",IFERROR(VLOOKUP(AJ16,Tabelas!B:D,3,0),0),\"\")","v":0},{"$f":"IF(A16<>\"\",IFERROR(VLOOKUP(AK16,Tabelas!B:D,3,0),0),\"\")","v":0},{"$f":"IF(A16<>\"\",IFERROR(VLOOKUP(AL16,Tabelas!B:D,3,0),0),\"\")","v":0},{"$f":"IF(A16<>\"\",IFERROR(VLOOKUP(AM16,Tabelas!B:D,3,0),0),\"\")","v":0},{"$f":"IF(A16<>\"\",IFERROR(VLOOKUP(AN16,Tabelas!B:D,3,0),0),\"\")","v":0},{"$f":"IF(A16<>\"\",IFERROR(VLOOKUP(AO16,Tabelas!B:D,3,0),0),\"\")","v":0},{"$f":"IF(A16<>\"\",IFERROR(VLOOKUP(AP16,Tabelas!B:D,3,0),0),\"\")","v":0},{"$f":"IF(A16<>\"\",IFERROR(VLOOKUP(AQ16,Tabelas!B:D,3,0),0),\"\")","v":0},{"$f":"IF(A16<>\"\",IFERROR(VLOOKUP(AR16,Tabelas!B:D,3,0),0),\"\")","v":0},0,0,0,0,0,0,0,0,{"$f":"IF(A16<>\"\",COUNTIF(N16:AR16,\"APH\"),\"\")","v":0}]
["Fulano de Tal 9",1234567,123,"ENF","Ebserh",36,null,null,null,null,null,null,null,"N2",null,null,"N2",null,null,"N2",null,null,"N2",null,null,"N2",null,null,"N2",null,null,"N2",null,null,"N2",null,null,"N2",null,null,"N2",null,null,"N2",{"$f":"IF(A17<>\"\",IFERROR(VLOOKUP(N17,Tabelas!B:D,3,0),0),\"\")","v":12},{"$f":"IF(A17<>\"\",IFERROR(VLOOKUP(O17,Tabelas!B:D,3,0),0),\"\")","v":0},{"$f":"IF(A17<>\"\",IFERROR(VLOOKUP(P17,Tabelas!B:D,3,0),0),\"\")","v":0},{"$f":"IF(A17<>\"\",IFERROR(VLOOKUP(Q17,Tabelas!B:D,3,0),0),\"\")","v":12},{"$f":"IF(A17<>\"\",IFERROR(VLOOKUP(R17,Tabelas!B:D,3,0),0),\"\")","v":0},{"$f":"IF(A17<>\"\",IFERROR(VLOOKUP(S17,Tabelas!B:D,3,0),0),\"\")","v":0},{"$f":"IF(A17<>\"\",IFERROR(VLOOKUP(T17,Tabelas!B:D,3,0),0),\"\")","v":12},{"$f":"IF(A17<>\"\",IFERROR(VLOOKUP(U17,Tabelas!B:D,3,0),0),\"\")","v":0},{"$f":"IF(A17<>\"\",IFERROR(VLOOKUP(V17,Tabelas!B:D,3,0),0),\"\")","v":0},{"$f":"IF(A17<>\"\",IFERROR(VLOOKUP(W17,Tabelas!B:D,3,0),0),\"\")","v":12},{"$f":"IF(A17<>\"\",IFERROR(VLOOKUP(X17,Tabelas!B:D,3,0),0),\"\")","v":0},{"$f":"IF(A17<>\"\",IFERROR(VLOOKUP(Y17,Tabelas!B:D,3,0),0),\"\")","v":0},{"$f":"IF(A17<>\"\",IFERROR(VLOOKUP(Z17,Tabelas!B:D,3,0),0),\"\")","v":12},{"$f":"IF(A17<>\"\",IFERROR(VLOOKUP(AA17,Tabelas!B:D,3,0),0),\"\")","v":0},{"$f":"IF(A17<>\"\",IFERROR(VLOOKUP(AB17,Tabelas!B:D,3,0),0),\"\")","v":0},{"$f":"IF(A17<>\"\",IFERROR(VLOOKUP(AC17,Tabelas!B:D,3,0),0),\"\")","v":12},{"$f":"IF(A17<>\"\",IFERROR(VLOOKUP(AD17,Tabelas!B:D,3,0),0),\"\")","v":0},{"$f":"IF(A17<>\"\",IFERROR(VLOOKUP(AE17,Tabelas!B:D,3,0),0),\"\")","v":0},{"$f":"IF(A17<>\"\",IFERROR(VLOOKUP(AF17,Tabelas!B:D,3,0),0),\"\")","v":12},{"$f":"IF(A17<>\"\",IFERROR(VLOOKUP(AG17,Tabelas!B:D,3,0),0),\"\")","v":0},{"$f":"IF(A17<>\"\",IFERROR(VLOOKUP(AH17,Tabelas!B:D,3,0),0),\"\")","v":0},{"$f":"IF(A17<>\"\",IFERROR(VLOOKUP(AI17,Tabelas!B:D,3,0),0),\"\")","v":12},{"$f":"IF(A17<>\"\",IFERROR(VLOOKUP(AJ17,Tabelas!B:D,3,0),0),\"\")","v":0},{"$f":"IF(A17<>\"\",IFERROR(VLOOKUP(AK17,Tabelas!B:D,3,0),0),\"\")","v":0},{"$f":"IF(A17<>\"\",IFERROR(VLOOKUP(AL17,Tabelas!B:D,3,0),0),\"\")","v":12},{"$f":"IF(A17<>\"\",IFERROR(VLOOKUP(AM17,Tabelas!B:D,3,0),0),\"\")","v":0},{"$f":"IF(A17<>\"\",IFERROR(VLOOKUP(AN17,Tabelas!B:D,3,0),0),\"\")","v":0},{"$f":"IF(A17<>\"\",IFERROR(VLOOKUP(AO17,Tabelas!B:D,3,0),0),\"\")","v":12},{"$f":"IF(A17<>\"\",IFERROR(VLOOKUP(AP17,Tabelas!B:D,3,0),0),\"\")","v":0},{"$f":"IF(A17<>\"\",IFERROR(VLOOKUP(AQ17,Tabelas!B:D,3,0),0),\"\")","v":0},{"$f":"IF(A17<>\"\",IFERROR(VLOOKUP(AR17,Tabelas!B:D,3,0),0),\"\")","v":12},{"$f":"IF(A17<>\"\",SUM(AS17:BW17),\"\")","v":132},0,{"$f":"IF(A17<>\"\",COUNTIF(N17:AR17,\"AB\"),\"\")","v":0},{"$f":"IF(A17<>\"\",COUNTIF(N17:AR17,\"FE\"),\"\")","v":0},{"$f":"IF(A17<>\"\",COUNTIF(N17:AR17,\"LC\"),\"\")","v":0},{"$f":"IF(A17<>\"\",COUNTIF(N17:AR17,\"CE\"),\"\")","v":0},0,0,{"$f":"IF(A17<>\"\",COUNTIF(N17:AR17,\"APH\"),\"\")","v":0}]
["Fulano de Tal 10",1234567,123,"ENF","Ebserh",36,null,null,null,null,null,null,null,"N2",null,null,"N2",null,null,"N2",null,null,"N2",null,null,"N2",null,null,"N2",null,null,"N2",null,null,"FE","FE","FE","FE","FE","FE","FE","FE","FE","FE",{"$f":"IF(A18<>\"\",IFERROR(VLOOKUP(N18,Tabelas!B:D,3,0),0),\"\")","v":12},{"$f":"IF(A18<>\"\",IFERROR(VLOOKUP(O18,Tabelas!B:D,3,0),0),\"\")","v":0},{"$f":"IF(A18<>\"\",IFERROR(VLOOKUP(P18,Tabelas!B:D,3,0),0),\"\")","v":0},{"$f":"IF(A18<>\"\",IFERROR(VLOOKUP(Q18,Tabelas!B:D,3,0),0),\"\")","v":12},{"$f":"IF(A18<>\"\",IFERROR(VLOOKUP(R18,Tabelas!B:D,3,0),0),\"\")","v":0},{"$f":"IF(A18<>\"\",IFERROR(VLOOKUP(S18,Tabelas!B:D,3,0),0),\"\")","v":0},{"$f":"IF(A18<>\"\",IFERROR(VLOOKUP(T18,Tabelas!B:D,3,0),0),\"\")","v":12},{"$f":"IF(A18<>\"\",IFERROR(VLOOKUP(U18,Tabelas!B:D,3,0),0),\"\")","v":0},{"$f":"IF(A18<>\"\",IFERROR(VLOOKUP(V18,Tabelas!B:D,3,0),0),\"\")","v":0},{"$f":"IF(A18<>\"\",IFERROR(VLOOKUP(W18,Tabelas!B:D,3,0),0),\"\")","v":12},{"$f":"IF(A18<>\"\",IFERROR(VLOOKUP(X18,Tabelas!B:D,3,0),0),\"\")","v":0},{"$f":"IF(A18<>\"\",IFERROR(VLOOKUP(Y18,Tabelas!B:D,3,0),0),\"\")","v":0},{"$f":"IF(A18<>\"\",IFERROR(VLOOKUP(Z18,Tabelas!B:D,3,0),0),\"\")","v":12},{"$f":"IF(A18<>\"\",IFERROR(VLOOKUP(AA18,Tabelas!B:D,3,0),0),\"\")","v":0},{"$f":"IF(A18<>\"\",IFERROR(VLOOKUP(AB18,Tabelas!B:D,3,0),0),\"\")","v":0},{"$f":"IF(A18<>\"\",IFERROR(VLOOKUP(AC18,Tabelas!B:D,3,0),0),\"\")","v":12},{"$f":"IF(A18<>\"\",IFERROR(VLOOKUP(AD18,Tabelas!B:D,3,0),0),\"\")","v":0},{"$f":"IF(A18<>\"\",IFERROR(VLOOKUP(AE18,Tabelas!B:D,3,0),0),\"\")","v":0},{"$f":"IF(A18<>\"\",IFERROR(VLOOKUP(AF18,Tabelas!B:D,3,0),0),\"\")","v":12},{"$f":"IF(A18<>\"\",IFERROR(VLOOKUP(AG18,Tabelas!B:D,3,0),0),\"\")","v":0},{"$f":"IF(A18<>\"\",IFERROR(VLOOKUP(AH18,Tabelas!B:D,3,0),0),\"\")","v":0},{"$f":"IF(A18<>\"\",IFERROR(VLOOKUP(AI18,Tabelas!B:D,3,0),0),\"\")","v":0},{"$f":"IF(A18<>\"\",IFERROR(VLOOKUP(AJ18,Tabelas!B:D,3,0),0),\"\")","v":0},{"$f":"IF(A18<>\"\",IFERROR(VLOOKUP(AK18,Tabelas!B:D,3,0),0),\"\")","v":0},{"$f":"IF(A18<>\"\",IFERROR(VLOOKUP(AL18,Tabelas!B:D,3,0),0),\"\")","v":0},{"$f":"IF(A18<>\"\",IFERROR(VLOOKUP(AM18,Tabelas!B:D,3,0),0),\"\")","v":0},{"$f":"IF(A18<>\"\",IFERROR(VLOOKUP(AN18,Tabelas!B:D,3,0),0),\"\")","v":0},{"$f":"IF(A18<>\"\",IFERROR(VLOOKUP(AO18,Tabelas!B:D,3,0),0),\"\")","v":0},{"$f":"IF(A18<>\"\",IFERROR(VLOOKUP(AP18,Tabelas!B:D,3,0),0),\"\")","v":0},{"$f":"IF(A18<>\"\",IFERROR(VLOOKUP(AQ18,Tabelas!B:D,3,0),0),\"\")","v":0},{"$f":"IF(A18<>\"\",IFERROR(VLOOKUP(AR18,Tabelas!B:D,3,0),0),\"\")","v":0},84,0,0,10,0,0,0,10,{"$f":"IF(A18<>\"\",COUNTIF(N18:AR18,\"APH\"),\"\")","v":0}]
["Fulano de Tal 11",1234567,123,"ENF","Ebserh",36,null,null,null,null,null,null,null,null,null,null,null,null,null,null,null,null,null,null,null,null,null,null,null,null,null,null,null,null,null,null,null,null,null,null,null,null,null,null,{"$f":"IF(A19<>\"\",IFERROR(VLOOKUP(N19,Tabelas!B:D,3,0),0),\"\")","v":0},{"$f":"IF(A19<>\"\",IFERROR(VLOOKUP(O19,Tabelas!B:D,3,0),0),\"\")","v":0},{"$f":"IF(A19<>\"\",IFERROR(VLOOKUP(P19,Tabelas!B:D,3,0),0),\"\")","v":0},{"$f":"IF(A19<>\"\",IFERROR(VLOOKUP(Q19,Tabelas!B:D,3,0),0),\"\")","v":0},{"$f":"IF(A19<>\"\",IFERROR(VLOOKUP(R19,Tabelas!B:D,3,0),0),\"\")","v":0},{"$f":"IF(A19<>\"\",IFERROR(VLOOKUP(S19,Tabelas!B:D,3,0),0),\"\")","v":0},{"$f":"IF(A19<>\"\",IFERROR(VLOOKUP(T19,Tabelas!B:D,3,0),0),\"\")","v":0},{"$f":"IF(A19<>\"\",IFERROR(VLOOKUP(U19,Tabelas!B:D,3,0),0),\"\")","v":0},{"$f":"IF(A19<>\"\",IFERROR(VLOOKUP(V19,Tabelas!B:D,3,0),0),\"\")","v":0},{"$f":"IF(A19<>\"\",IFERROR(VLOOKUP(W19,Tabelas!B:D,3,0),0),\"\")","v":0},{"$f":"IF(A19<>\"\",IFERROR(VLOOKUP(X19,Tabelas!B:D,3,0),0),\"\")","v":0},{"$f":"IF(A19<>\"\",IFERROR(VLOOKUP(Y19,Tabelas!B:D,3,0),0),\"\")","v":0},{"$f":"IF(A19<>\"\",IFERROR(VLOOKUP(Z19,Tabelas!B:D,3,0),0),\"\")","v":0},{"$f":"IF(A19<>\"\",IFERROR(VLOOKUP(AA19,Tabelas!B:D,3,0),0),\"\")","v":0},{"$f":"IF(A19<>\"\",IFERROR(VLOOKUP(AB19,Tabelas!B:D,3,0),0),\"\")","v":0},{"$f":"IF(A19<>\"\",IFERROR(VLOOKUP(AC19,Tabelas!B:D,3,0),0),\"\")","v":0},{"$f":"IF(A19<>\"\",IFERROR(VLOOKUP(AD19,Tabelas!B:D,3,0),0),\"\")","v":0},{"$f":"IF(A19<>\"\",IFERROR(VLOOKUP(AE19,Tabelas!B:D,3,0),0),\"\")","v":0},{"$f":"IF(A19<>\"\",IFERROR(VLOOKUP(AF19,Tabelas!B:D,3,0),0),\"\")","v":0},{"$f":"IF(A19<>\"\",IFERROR(VLOOKUP(AG19,Tabelas!B:D,3,0),0),\"\")","v":0},{"$f":"IF(A19<>\"\",IFERROR(VLOOKUP(AH19,Tabelas!B:D,3,0),0),\"\")","v":0},{"$f":"IF(A19<>\"\",IFERROR(VLOOKUP(AI19,Tabelas!B:D,3,0),0),\"\")","v":0},{"$f":"IF(A19<>\"\",IFERROR(VLOOKUP(AJ19,Tabelas!B:D,3,0),0),\"\")","v":0},{"$f":"IF(A19<>\"\",IFERROR(VLOOKUP(AK19,Tabelas!B:D,3,0),0),\"\")","v":0},{"$f":"IF(A19<>\"\",IFERROR(VLOOKUP(AL19,Tabelas!B:D,3,0),0),\"\")","v":0},{"$f":"IF(A19<>\"\",IFERROR(VLOOKUP(AM19,Tabelas!B:D,3,0),0),\"\")","v":0},{"$f":"IF(A19<>\"\",IFERROR(VLOOKUP(AN19,Tabelas!B:D,3,0),0),\"\")","v":0},{"$f":"IF(A19<>\"\",IFERROR(VLOOKUP(AO19,Tabelas!B:D,3,0),0),\"\")","v":0},{"$f":"IF(A19<>\"\",IFERROR(VLOOKUP(AP19,Tabelas!B:D,3,0),0),\"\")","v":0},{"$f":"IF(A19<>\"\",IFERROR(VLOOKUP(AQ19,Tabelas!B:D,3,0),0),\"\")","v":0},{"$f":"IF(A19<>\"\",IFERROR(VLOOKUP(AR19,Tabelas!B:D,3,0),0),\"\")","v":0},{"$f":"IF(A19<>\"\",SUM(AS19:BW19),\"\")","v":0},{"$f":"IF(A19<>\"\",COUNTIF(N19:AR19,\"LM\")+COUNTIF(N19:AR19,\"L\"),\"\")+COUNTIF(N19:AR19,\"LP\")","v":0},{"$f":"IF(A19<>\"\",COUNTIF(N19:AR19,\"AB\"),\"\")","v":0},{"$f":"IF(A19<>\"\",COUNTIF(N19:AR19,\"FE\"),\"\")","v":0},{"$f":"IF(A19<>\"\",COUNTIF(N19:AR19,\"LC\"),\"\")","v":0},{"$f":"IF(A19<>\"\",COUNTIF(N19:AR19,\"CE\"),\"\")","v":0},{"$f":"IF(A19<>\"\",COUNTIF(N19:AR19,\"AF1\")+COUNTIF(N19:AR19,\"AF2\")+COUNTIF(N19:AR19,\"AF3\")+COUNTIF(N19:AR19,\"AF4\")+COUNTIF(N19:AR19,\"AF5\")+COUNTIF(N19:AR19,\"AF6\")+COUNTIF(N19:AR19,\"AF7\")+COUNTIF(N19:AR19,\"AF8\")+COUNTIF(N19:AR19,\"AF9\")+COUNTIF(N19:AR19,\"AF10\")+COUNTIF(N19:AR19,\"AF11\")+COUNTIF(N19:AR19,\"AF12\")+COUNTIF(N19:AR19,\"AF13\")+COUNTIF(N19:AR19,\"AF14\"),\"\")","v":0},{"$f":"IF(A19<>\"\",COUNTIF(N19:AR19,\"CE\")+COUNTIF(N19:AR19,\"L\")+COUNTIF(N19:AR19,\"LM\")+COUNTIF(N19:AR19,\"LP\")+COUNTIF(N19:AR19,\"LC\")+COUNTIF(N19:AR19,\"AB\")+COUNTIF(N19:AR19,\"AF1\")+COUNTIF(N19:AR19,\"AF2\")+COUNTIF(N19:AR19,\"AF3\")+COUNTIF(N19:AR19,\"AF4\")+COUNTIF(N19:AR19,\"AF5\")+COUNTIF(N19:AR19,\"AF6\")+COUNTIF(N19:AR19,\"AF7\")+COUNTIF(N19:AR19,\"AF8\")+COUNTIF(N19:AR19,\"AF9\")+COUNTIF(N19:AR19,\"AF10\")+COUNTIF(N19:AR19,\"AF11\")+COUNTIF(N19:AR19,\"AF12\")+COUNTIF(N19:AR19,\"AF13\")+COUNTIF(N19:AR19,\"AF14\")+COUNTIF(N19:AR19,\"RC\")+COUNTIF(N19:AR19,\"FO\")+COUNTIF(N19:AR19,\"FE\"),\"\")","v":0},{"$f":"IF(A19<>\"\",COUNTIF(N19:AR19,\"APH\"),\"\")","v":0}]
["Fulano de Tal 12",1234567,123,"ENF","Ebserh",36,null,null,null,null,null,null,null,null,"N2",null,null,"N2",null,null,"N2",null,null,"N2",null,null,"N2",null,null,"N2",null,null,"N2",null,null,"N2",null,null,"N2",null,null,"N2",null,null,{"$f":"IF(A20<>\"\",IFERROR(VLOOKUP(N20,Tabelas!B:D,3,0),0),\"\")","v":0},{"$f":"IF(A20<>\"\",IFERROR(VLOOKUP(O20,Tabelas!B:D,3,0),0),\"\")","v":12},{"$f":"IF(A20<>\"\",IFERROR(VLOOKUP(P20,Tabelas!B:D,3,0),0),\"\")","v":0},{"$f":"IF(A20<>\"\",IFERROR(VLOOKUP(Q20,Tabelas!B:D,3,0),0),\"\")","v":0},{"$f":"IF(A20<>\"\",IFERROR(VLOOKUP(R20,Tabelas!B:D,3,0),0),\"\")","v":12},{"$f":"IF(A20<>\"\",IFERROR(VLOOKUP(S20,Tabelas!B:D,3,0),0),\"\")","v":0},{"$f":"IF(A20<>\"\",IFERROR(VLOOKUP(T20,Tabelas!B:D,3,0),0),\"\")","v":0},{"$f":"IF(A20<>\"\",IFERROR(VLOOKUP(U20,Tabelas!B:D,3,0),0),\"\")","v":12},{"$f":"IF(A20<>\"\",IFERROR(VLOOKUP(V20,Tabelas!B:D,3,0),0),\"\")","v":0},{"$f":"IF(A20<>\"\",IFERROR(VLOOKUP(W20,Tabelas!B:D,3,0),0),\"\")","v":0},{"$f":"IF(A20<>\"\",IFERROR(VLOOKUP(X20,Tabelas!B:D,3,0),0),\"\")","v":12},{"$f":"IF(A20<>\"\",IFERROR(VLOOKUP(Y20,Tabelas!B:D,3,0),0),\"\")","v":0},{"$f":"IF(A20<>\"\",IFERROR(VLOOKUP(Z20,Tabelas!B:D,3,0),0),\"\")","v":0},{"$f":"IF(A20<>\"\",IFERROR(VLOOKUP(AA20,Tabelas!B:D,3,0),0),\"\")","v":12},{"$f":"IF(A20<>\"\",IFERROR(VLOOKUP(AB20,Tabelas!B:D,3,0),0),\"\")","v":0},{"$f":"IF(A20<>\"\",IFERROR(VLOOKUP(AC20,Tabelas!B:D,3,0),0),\"\")","v":0},{"$f":"IF(A20<>\"\",IFERROR(VLOOKUP(AD20,Tabelas!B:D,3,0),0),\"\")","v":12},{"$f":"IF(A20<>\"\",IFERROR(VLOOKUP(AE20,Tabelas!B:D,3,0),0),\"\")","v":0},{"$f":"IF(A20<>\"\",IFERROR(VLOOKUP(AF20,Tabelas!B:D,3,0),0),\"\")","v":0},{"$f":"IF(A20<>\"\",IFERROR(VLOOKUP(AG20,Tabelas!B:D,3,0),0),\"\")","v":12},{"$f":"IF(A20<>\"\",IFERROR(VLOOKUP(AH20,Tabelas!B:D,3,0),0),\"\")","v":0},{"$f":"IF(A20<>\"\",IFERROR(VLOOKUP(AI20,Tabelas!B:D,3,0),0),\"\")","v":0},{"$f":"IF(A20<>\"\",IFERROR(VLOOKUP(AJ20,Tabelas!B:D,3,0),0),\"\")","v":12},{"$f":"IF(A20<>\"\",IFERROR(VLOOKUP(AK20,Tabelas!B:D,3,0),0),\"\")","v":0},{"$f":"IF(A20<>\"\",IFERROR(VLOOKUP(AL20,Tabelas!B:D,3,0),0),\"\")","v":0},{"$f":"IF(A20<>\"\",IFERROR(VLOOKUP(AM20,Tabelas!B:D,3,0),0),\"\")","v":12},{"$f":"IF(A20<>\"\",IFERROR(VLOOKUP(AN20,Tabelas!B:D,3,0),0),\"\")","v":0},{"$f":"IF(A20<>\"\",IFERROR(VLOOKUP(AO20,Tabelas!B:D,3,0),0),\"\")","v":0},{"$f":"IF(A20<>\"\",IFERROR(VLOOKUP(AP20,Tabelas!B:D,3,0),0),\"\")","v":12},{"$f":"IF(A20<>\"\",IFERROR(VLOOKUP(AQ20,Tabelas!B:D,3,0),0),\"\")","v":0},{"$f":"IF(A20<>\"\",IFERROR(VLOOKUP(AR20,Tabelas!B:D,3,0),0),\"\")","v":0},120,0,0,0,0,0,0,0,0]
["Fulano de Tal 13",1234567,123,"ENF","Ebserh",36,null,null,null,null,null,null,null,"L","L","L","L","L","L","L","L","L","L","L","L","L","L","L","L","L","L","L","L","L","L","L","L","L","L","L","L","L","L","L",{"$f":"IF(A21<>\"\",IFERROR(VLOOKUP(N21,Tabelas!B:D,3,0),0),\"\")","v":0},{"$f":"IF(A21<>\"\",IFERROR(VLOOKUP(O21,Tabelas!B:D,3,0),0),\"\")","v":0},{"$f":"IF(A21<>\"\",IFERROR(VLOOKUP(P21,Tabelas!B:D,3,0),0),\"\")","v":0},{"$f":"IF(A21<>\"\",IFERROR(VLOOKUP(Q21,Tabelas!B:D,3,0),0),\"\")","v":0},{"$f":"IF(A21<>\"\",IFERROR(VLOOKUP(R21,Tabelas!B:D,3,0),0),\"\")","v":0},{"$f":"IF(A21<>\"\",IFERROR(VLOOKUP(S21,Tabelas!B:D,3,0),0),\"\")","v":0},{"$f":"IF(A21<>\"\",IFERROR(VLOOKUP(T21,Tabelas!B:D,3,0),0),\"\")","v":0},{"$f":"IF(A21<>\"\",IFERROR(VLOOKUP(U21,Tabelas!B:D,3,0),0),\"\")","v":0},{"$f":"IF(A21<>\"\",IFERROR(VLOOKUP(V21,Tabelas!B:D,3,0),0),\"\")","v":0},{"$f":"IF(A21<>\"\",IFERROR(VLOOKUP(W21,Tabelas!B:D,3,0),0),\"\")","v":0},{"$f":"IF(A21<>\"\",IFERROR(VLOOKUP(X21,Tabelas!B:D,3,0),0),\"\")","v":0},{"$f":"IF(A21<>\"\",IFERROR(VLOOKUP(Y21,Tabelas!B:D,3,0),0),\"\")","v":0},{"$f":"IF(A21<>\"\",IFERROR(VLOOKUP(Z21,Tabelas!B:D,3,0),0),\"\")","v":0},{"$f":"IF(A21<>\"\",IFERROR(VLOOKUP(AA21,Tabelas!B:D,3,0),0),\"\")","v":0},{"$f":"IF(A21<>\"\",IFERROR(VLOOKUP(AB21,Tabelas!B:D,3,0),0),\"\")","v":0},{"$f":"IF(A21<>\"\",IFERROR(VLOOKUP(AC21,Tabelas!B:D,3,0),0),\"\")","v":0},{"$f":"IF(A21<>\"\",IFERROR(VLOOKUP(AD21,Tabelas!B:D,3,0),0),\"\")","v":0},{"$f":"IF(A21<>\"\",IFERROR(VLOOKUP(AE21,Tabelas!B:D,3,0),0),\"\")","v":0},{"$f":"IF(A21<>\"\",IFERROR(VLOOKUP(AF21,Tabelas!B:D,3,0),0),\"\")","v":0},{"$f":"IF(A21<>\"\",IFERROR(VLOOKUP(AG21,Tabelas!B:D,3,0),0),\"\")","v":0},{"$f":"IF(A21<>\"\",IFERROR(VLOOKUP(AH21,Tabelas!B:D,3,0),0),\"\")","v":0},{"$f":"IF(A21<>\"\",IFERROR(VLOOKUP(AI21,Tabelas!B:D,3,0),0),\"\")","v":0},{"$f":"IF(A21<>\"\",IFERROR(VLOOKUP(AJ21,Tabelas!B:D,3,0),0),\"\")","v":0},{"$f":"IF(A21<>\"\",IFERROR(VLOOKUP(AK21,Tabelas!B:D,3,0),0),\"\")","v":0},{"$f":"IF(A21<>\"\",IFERROR(VLOOKUP(AL21,Tabelas!B:D,3,0),0),\"\")","v":0},{"$f":"IF(A21<>\"\",IFERROR(VLOOKUP(AM21,Tabelas!B:D,3,0),0),\"\")","v":0},{"$f":"IF(A21<>\"\",IFERROR(VLOOKUP(AN21,Tabelas!B:D,3,0),0),\"\")","v":0},{"$f":"IF(A21<>\"\",IFERROR(VLOOKUP(AO21,Tabelas!B:D,3,0),0),\"\")","v":0},{"$f":"IF(A21<>\"\",IFERROR(VLOOKUP(AP21,Tabelas!B:D,3,0),0),\"\")","v":0},{"$f":"IF(A21<>\"\",IFERROR(VLOOKUP(AQ21,Tabelas!B:D,3,0),0),\"\")","v":0},{"$f":"IF(A21<>\"\",IFERROR(VLOOKUP(AR21,Tabelas!B:D,3,0),0),\"\")","v":0},0,31,0,0,0,0,0,31,0]
["Fulano de Tal 14",1234567,123,"ENF","Ebserh",36,null,null,null,null,null,null,null,null,null,null,null,null,null,null,null,null,null,null,null,null,null,null,null,null,null,null,null,null,null,null,null,null,null,null,null,null,null,null,{"$f":"IF(A22<>\"\",IFERROR(VLOOKUP(N22,Tabelas!B:D,3,0),0),\"\")","v":0},{"$f":"IF(A22<>\"\",IFERROR(VLOOKUP(O22,Tabelas!B:D,3,0),0),\"\")","v":0},{"$f":"IF(A22<>\"\",IFERROR(VLOOKUP(P22,Tabelas!B:D,3,0),0),\"\")","v":0},{"$f":"IF(A22<>\"\",IFERROR(VLOOKUP(Q22,Tabelas!B:D,3,0),0),\"\")","v":0},{"$f":"IF(A22<>\"\",IFERROR(VLOOKUP(R22,Tabelas!B:D,3,0),0),\"\")","v":0},{"$f":"IF(A22<>\"\",IFERROR(VLOOKUP(S22,Tabelas!B:D,3,0),0),\"\")","v":0},{"$f":"IF(A22<>\"\",IFERROR(VLOOKUP(T22,Tabelas!B:D,3,0),0),\"\")","v":0},{"$f":"IF(A22<>\"\",IFERROR(VLOOKUP(U22,Tabelas!B:D,3,0),0),\"\")","v":0},{"$f":"IF(A22<>\"\",IFERROR(VLOOKUP(V22,Tabelas!B:D,3,0),0),\"\")","v":0},{"$f":"IF(A22<>\"\",IFERROR(VLOOKUP(W22,Tabelas!B:D,3,0),0),\"\")","v":0},{"$f":"IF(A22<>\"\",IFERROR(VLOOKUP(X22,Tabelas!B:D,3,0),0),\"\")","v":0},{"$f":"IF(A22<>\"\",IFERROR(VLOOKUP(Y22,Tabelas!B:D,3,0),0),\"\")","v":0},{"$f":"IF(A22<>\"\",IFERROR(VLOOKUP(Z22,Tabelas!B:D,3,0),0),\"\")","v":0},{"$f":"IF(A22<>\"\",IFERROR(VLOOKUP(AA22,Tabelas!B:D,3,0),0),\"\")","v":0},{"$f":"IF(A22<>\"\",IFERROR(VLOOKUP(AB22,Tabelas!B:D,3,0),0),\"\")","v":0},{"$f":"IF(A22<>\"\",IFERROR(VLOOKUP(AC22,Tabelas!B:D,3,0),0),\"\")","v":0},{"$f":"IF(A22<>\"\",IFERROR(VLOOKUP(AD22,Tabelas!B:D,3,0),0),\"\")","v":0},{"$f":"IF(A22<>\"\",IFERROR(VLOOKUP(AE22,Tabelas!B:D,3,0),0),\"\")","v":0},{"$f":"IF(A22<>\"\",IFERROR(VLOOKUP(AF22,Tabelas!B:D,3,0),0),\"\")","v":0},{"$f":"IF(A22<>\"\",IFERROR(VLOOKUP(AG22,Tabelas!B:D,3,0),0),\"\")","v":0},{"$f":"IF(A22<>\"\",IFERROR(VLOOKUP(AH22,Tabelas!B:D,3,0),0),\"\")","v":0},{"$f":"IF(A22<>\"\",IFERROR(VLOOKUP(AI22,Tabelas!B:D,3,0),0),\"\")","v":0},{"$f":"IF(A22<>\"\",IFERROR(VLOOKUP(AJ22,Tabelas!B:D,3,0),0),\"\")","v":0},{"$f":"IF(A22<>\"\",IFERROR(VLOOKUP(AK22,Tabelas!B:D,3,0),0),\"\")","v":0},{"$f":"IF(A22<>\"\",IFERROR(VLOOKUP(AL22,Tabelas!B:D,3,0),0),\"\")","v":0},{"$f":"IF(A22<>\"\",IFERROR(VLOOKUP(AM22,Tabelas!B:D,3,0),0),\"\")","v":0},{"$f":"IF(A22<>\"\",IFERROR(VLOOKUP(AN22,Tabelas!B:D,3,0),0),\"\")","v":0},{"$f":"IF(A22<>\"\",IFERROR(VLOOKUP(AO22,Tabelas!B:D,3,0),0),\"\")","v":0},{"$f":"IF(A22<>\"\",IFERROR(VLOOKUP(AP22,Tabelas!B:D,3,0),0),\"\")","v":0},{"$f":"IF(A22<>\"\",IFERROR(VLOOKUP(AQ22,Tabelas!B:D,3,0),0),\"\")","v":0},{"$f":"IF(A22<>\"\",IFERROR(VLOOKUP(AR22,Tabelas!B:D,3,0),0),\"\")","v":0},0,0,0,0,0,0,0,0,0]
["Fulano de Tal 15",1234567,123,"ENF","Ebserh",36,null,null,null,null,null,null,null,null,null,null,null,null,null,null,null,null,null,null,null,null,null,null,null,null,null,null,null,null,null,null,null,null,null,null,null,null,null,null,{"$f":"IF(A23<>\"\",IFERROR(VLOOKUP(N23,Tabelas!B:D,3,0),0),\"\")","v":0},{"$f":"IF(A23<>\"\",IFERROR(VLOOKUP(O23,Tabelas!B:D,3,0),0),\"\")","v":0},{"$f":"IF(A23<>\"\",IFERROR(VLOOKUP(P23,Tabelas!B:D,3,0),0),\"\")","v":0},{"$f":"IF(A23<>\"\",IFERROR(VLOOKUP(Q23,Tabelas!B:D,3,0),0),\"\")","v":0},{"$f":"IF(A23<>\"\",IFERROR(VLOOKUP(R23,Tabelas!B:D,3,0),0),\"\")","v":0},{"$f":"IF(A23<>\"\",IFERROR(VLOOKUP(S23,Tabelas!B:D,3,0),0),\"\")","v":0},{"$f":"IF(A23<>\"\",IFERROR(VLOOKUP(T23,Tabelas!B:D,3,0),0),\"\")","v":0},{"$f":"IF(A23<>\"\",IFERROR(VLOOKUP(U23,Tabelas!B:D,3,0),0),\"\")","v":0},{"$f":"IF(A23<>\"\",IFERROR(VLOOKUP(V23,Tabelas!B:D,3,0),0),\"\")","v":0},{"$f":"IF(A23<>\"\",IFERROR(VLOOKUP(W23,Tabelas!B:D,3,0),0),\"\")","v":0},{"$f":"IF(A23<>\"\",IFERROR(VLOOKUP(X23,Tabelas!B:D,3,0),0),\"\")","v":0},{"$f":"IF(A23<>\"\",IFERROR(VLOOKUP(Y23,Tabelas!B:D,3,0),0),\"\")","v":0},{"$f":"IF(A23<>\"\",IFERROR(VLOOKUP(Z23,Tabelas!B:D,3,0),0),\"\")","v":0},{"$f":"IF(A23<>\"\",IFERROR(VLOOKUP(AA23,Tabelas!B:D,3,0),0),\"\")","v":0},{"$f":"IF(A23<>\"\",IFERROR(VLOOKUP(AB23,Tabelas!B:D,3,0),0),\"\")","v":0},{"$f":"IF(A23<>\"\",IFERROR(VLOOKUP(AC23,Tabelas!B:D,3,0),0),\"\")","v":0},{"$f":"IF(A23<>\"\",IFERROR(VLOOKUP(AD23,Tabelas!B:D,3,0),0),\"\")","v":0},{"$f":"IF(A23<>\"\",IFERROR(VLOOKUP(AE23,Tabelas!B:D,3,0),0),\"\")","v":0},{"$f":"IF(A23<>\"\",IFERROR(VLOOKUP(AF23,Tabelas!B:D,3,0),0),\"\")","v":0},{"$f":"IF(A23<>\"\",IFERROR(VLOOKUP(AG23,Tabelas!B:D,3,0),0),\"\")","v":0},{"$f":"IF(A23<>\"\",IFERROR(VLOOKUP(AH23,Tabelas!B:D,3,0),0),\"\")","v":0},{"$f":"IF(A23<>\"\",IFERROR(VLOOKUP(AI23,Tabelas!B:D,3,0),0),\"\")","v":0},{"$f":"IF(A23<>\"\",IFERROR(VLOOKUP(AJ23,Tabelas!B:D,3,0),0),\"\")","v":0},{"$f":"IF(A23<>\"\",IFERROR(VLOOKUP(AK23,Tabelas!B:D,3,0),0),\"\")","v":0},{"$f":"IF(A23<>\"\",IFERROR(VLOOKUP(AL23,Tabelas!B:D,3,0),0),\"\")","v":0},{"$f":"IF(A23<>\"\",IFERROR(VLOOKUP(AM23,Tabelas!B:D,3,0),0),\"\")","v":0},{"$f":"IF(A23<>\"\",IFERROR(VLOOKUP(AN23,Tabelas!B:D,3,0),0),\"\")","v":0},{"$f":"IF(A23<>\"\",IFERROR(VLOOKUP(AO23,Tabelas!B:D,3,0),0),\"\")","v":0},{"$f":"IF(A23<>\"\",IFERROR(VLOOKUP(AP23,Tabelas!B:D,3,0),0),\"\")","v":0},{"$f":"IF(A23<>\"\",IFERROR(VLOOKUP(AQ23,Tabelas!B:D,3,0),0),\"\")","v":0},{"$f":"IF(A23<>\"\",IFERROR(VLOOKUP(AR23,Tabelas!B:D,3,0),0),\"\")","v":0},0,0,0,0,0,0,0,0,0]
["Fulano de Tal 16",1234567,123,"ENF","Ebserh",36,null,null,null,null,null,null,null,null,null,null,null,null,null,null,null,null,null,null,null,null,null,null,null,null,null,null,null,null,null,null,null,null,null,null,null,null,null,null,{"$f":"IF(A24<>\"\",IFERROR(VLOOKUP(N24,Tabelas!B:D,3,0),0),\"\")","v":0},{"$f":"IF(A24<>\"\",IFERROR(VLOOKUP(O24,Tabelas!B:D,3,0),0),\"\")","v":0},{"$f":"IF(A24<>\"\",IFERROR(VLOOKUP(P24,Tabelas!B:D,3,0),0),\"\")","v":0},{"$f":"IF(A24<>\"\",IFERROR(VLOOKUP(Q24,Tabelas!B:D,3,0),0),\"\")","v":0},{"$f":"IF(A24<>\"\",IFERROR(VLOOKUP(R24,Tabelas!B:D,3,0),0),\"\")","v":0},{"$f":"IF(A24<>\"\",IFERROR(VLOOKUP(S24,Tabelas!B:D,3,0),0),\"\")","v":0},{"$f":"IF(A24<>\"\",IFERROR(VLOOKUP(T24,Tabelas!B:D,3,0),0),\"\")","v":0},{"$f":"IF(A24<>\"\",IFERROR(VLOOKUP(U24,Tabelas!B:D,3,0),0),\"\")","v":0},{"$f":"IF(A24<>\"\",IFERROR(VLOOKUP(V24,Tabelas!B:D,3,0),0),\"\")","v":0},{"$f":"IF(A24<>\"\",IFERROR(VLOOKUP(W24,Tabelas!B:D,3,0),0),\"\")","v":0},{"$f":"IF(A24<>\"\",IFERROR(VLOOKUP(X24,Tabelas!B:D,3,0),0),\"\")","v":0},{"$f":"IF(A24<>\"\",IFERROR(VLOOKUP(Y24,Tabelas!B:D,3,0),0),\"\")","v":0},{"$f":"IF(A24<>\"\",IFERROR(VLOOKUP(Z24,Tabelas!B:D,3,0),0),\"\")","v":0},{"$f":"IF(A24<>\"\",IFERROR(VLOOKUP(AA24,Tabelas!B:D,3,0),0),\"\")","v":0},{"$f":"IF(A24<>\"\",IFERROR(VLOOKUP(AB24,Tabelas!B:D,3,0),0),\"\")","v":0},{"$f":"IF(A24<>\"\",IFERROR(VLOOKUP(AC24,Tabelas!B:D,3,0),0),\"\")","v":0},{"$f":"IF(A24<>\"\",IFERROR(VLOOKUP(AD24,Tabelas!B:D,3,0),0),\"\")","v":0},{"$f":"IF(A24<>\"\",IFERROR(VLOOKUP(AE24,Tabelas!B:D,3,0),0),\"\")","v":0},{"$f":"IF(A24<>\"\",IFERROR(VLOOKUP(AF24,Tabelas!B:D,3,0),0),\"\")","v":0},{"$f":"IF(A24<>\"\",IFERROR(VLOOKUP(AG24,Tabelas!B:D,3,0),0),\"\")","v":0},{"$f":"IF(A24<>\"\",IFERROR(VLOOKUP(AH24,Tabelas!B:D,3,0),0),\"\")","v":0},{"$f":"IF(A24<>\"\",IFERROR(VLOOKUP(AI24,Tabelas!B:D,3,0),0),\"\")","v":0},{"$f":"IF(A24<>\"\",IFERROR(VLOOKUP(AJ24,Tabelas!B:D,3,0),0),\"\")","v":0},{"$f":"IF(A24<>\"\",IFERROR(VLOOKUP(AK24,Tabelas!B:D,3,0),0),\"\")","v":0},{"$f":"IF(A24<>\"\",IFERROR(VLOOKUP(AL24,Tabelas!B:D,3,0),0),\"\")","v":0},{"$f":"IF(A24<>\"\",IFERROR(VLOOKUP(AM24,Tabelas!B:D,3,0),0),\"\")","v":0},{"$f":"IF(A24<>\"\",IFERROR(VLOOKUP(AN24,Tabelas!B:D,3,0),0),\"\")","v":0},{"$f":"IF(A24<>\"\",IFERROR(VLOOKUP(AO24,Tabelas!B:D,3,0),0),\"\")","v":0},{"$f":"IF(A24<>\"\",IFERROR(VLOOKUP(AP24,Tabelas!B:D,3,0),0),\"\")","v":0},{"$f":"IF(A24<>\"\",IFERROR(VLOOKUP(AQ24,Tabelas!B:D,3,0),0),\"\")","v":0},{"$f":"IF(A24<>\"\",IFERROR(VLOOKUP(AR24,Tabelas!B:D,3,0),0),\"\")","v":0},0,0,0,0,0,0,0,0,0]
["Fulano de Tal 17",1234567,123,"ENF","Ebserh",36,null,null,null,null,null,null,null,null,null,null,null,null,null,null,null,null,null,null,null,null,null,null,null,null,null,null,null,null,null,null,null,null,null,null,null,null,null,null,{"$f":"IF(A25<>\"\",IFERROR(VLOOKUP(N25,Tabelas!B:D,3,0),0),\"\")","v":0},{"$f":"IF(A25<>\"\",IFERROR(VLOOKUP(O25,Tabelas!B:D,3,0),0),\"\")","v":0},{"$f":"IF(A25<>\"\",IFERROR(VLOOKUP(P25,Tabelas!B:D,3,0),0),\"\")","v":0},{"$f":"IF(A25<>\"\",IFERROR(VLOOKUP(Q25,Tabelas!B:D,3,0),0),\"\")","v":0},{"$f":"IF(A25<>\"\",IFERROR(VLOOKUP(R25,Tabelas!B:D,3,0),0),\"\")","v":0},{"$f":"IF(A25<>\"\",IFERROR(VLOOKUP(S25,Tabelas!B:D,3,0),0),\"\")","v":0},{"$f":"IF(A25<>\"\",IFERROR(VLOOKUP(T25,Tabelas!B:D,3,0),0),\"\")","v":0},{"$f":"IF(A25<>\"\",IFERROR(VLOOKUP(U25,Tabelas!B:D,3,0),0),\"\")","v":0},{"$f":"IF(A25<>\"\",IFERROR(VLOOKUP(V25,Tabelas!B:D,3,0),0),\"\")","v":0},{"$f":"IF(A25<>\"\",IFERROR(VLOOKUP(W25,Tabelas!B:D,3,0),0),\"\")","v":0},{"$f":"IF(A25<>\"\",IFERROR(VLOOKUP(X25,Tabelas!B:D,3,0),0),\"\")","v":0},{"$f":"IF(A25<>\"\",IFERROR(VLOOKUP(Y25,Tabelas!B:D,3,0),0),\"\")","v":0},{"$f":"IF(A25<>\"\",IFERROR(VLOOKUP(Z25,Tabelas!B:D,3,0),0),\"\")","v":0},{"$f":"IF(A25<>\"\",IFERROR(VLOOKUP(AA25,Tabelas!B:D,3,0),0),\"\")","v":0},{"$f":"IF(A25<>\"\",IFERROR(VLOOKUP(AB25,Tabelas!B:D,3,0),0),\"\")","v":0},{"$f":"IF(A25<>\"\",IFERROR(VLOOKUP(AC25,Tabelas!B:D,3,0),0),\"\")","v":0},{"$f":"IF(A25<>\"\",IFERROR(VLOOKUP(AD25,Tabelas!B:D,3,0),0),\"\")","v":0},{"$f":"IF(A25<>\"\",IFERROR(VLOOKUP(AE25,Tabelas!B:D,3,0),0),\"\")","v":0},{"$f":"IF(A25<>\"\",IFERROR(VLOOKUP(AF25,Tabelas!B:D,3,0),0),\"\")","v":0},{"$f":"IF(A25<>\"\",IFERROR(VLOOKUP(AG25,Tabelas!B:D,3,0),0),\"\")","v":0},{"$f":"IF(A25<>\"\",IFERROR(VLOOKUP(AH25,Tabelas!B:D,3,0),0),\"\")","v":0},{"$f":"IF(A25<>\"\",IFERROR(VLOOKUP(AI25,Tabelas!B:D,3,0),0),\"\")","v":0},{"$f":"IF(A25<>\"\",IFERROR(VLOOKUP(AJ25,Tabelas!B:D,3,0),0),\"\")","v":0},{"$f":"IF(A25<>\"\",IFERROR(VLOOKUP(AK25,Tabelas!B:D,3,0),0),\"\")","v":0},{"$f":"IF(A25<>\"\",IFERROR(VLOOKUP(AL25,Tabelas!B:D,3,0),0),\"\")","v":0},{"$f":"IF(A25<>\"\",IFERROR(VLOOKUP(AM25,Tabelas!B:D,3,0),0),\"\")","v":0},{"$f":"IF(A25<>\"\",IFERROR(VLOOKUP(AN25,Tabelas!B:D,3,0),0),\"\")","v":0},{"$f":"IF(A25<>\"\",IFERROR(VLOOKUP(AO25,Tabelas!B:D,3,0),0),\"\")","v":0},{"$f":"IF(A25<>\"\",IFERROR(VLOOKUP(AP25,Tabelas!B:D,3,0),0),\"\")","v":0},{"$f":"IF(A25<>\"\",IFERROR(VLOOKUP(AQ25,Tabelas!B:D,3,0),0),\"\")","v":0},{"$f":"IF(A25<>\"\",IFERROR(VLOOKUP(AR25,Tabelas!B:D,3,0),0),\"\")","v":0},0,0,0,0,0,0,0,0,0]
["Fulano de Tal 18",1234567,123,"ENF","Ebserh",36,null,null,null,null,null,null,null,null,null,null,null,null,null,null,null,null,null,null,null,null,null,null,null,null,null,null,null,null,null,null,null,null,null,null,null,null,null,null,{"$f":"IF(A26<>\"\",IFERROR(VLOOKUP(N26,Tabelas!B:D,3,0),0),\"\")","v":0},{"$f":"IF(A26<>\"\",IFERROR(VLOOKUP(O26,Tabelas!B:D,3,0),0),\"\")","v":0},{"$f":"IF(A26<>\"\",IFERROR(VLOOKUP(P26,Tabelas!B:D,3,0),0),\"\")","v":0},{"$f":"IF(A26<>\"\",IFERROR(VLOOKUP(Q26,Tabelas!B:D,3,0),0),\"\")","v":0},{"$f":"IF(A26<>\"\",IFERROR(VLOOKUP(R26,Tabelas!B:D,3,0),0),\"\")","v":0},{"$f":"IF(A26<>\"\",IFERROR(VLOOKUP(S26,Tabelas!B:D,3,0),0),\"\")","v":0},{"$f":"IF(A26<>\"\",IFERROR(VLOOKUP(T26,Tabelas!B:D,3,0),0),\"\")","v":0},{"$f":"IF(A26<>\"\",IFERROR(VLOOKUP(U26,Tabelas!B:D,3,0),0),\"\")","v":0},{"$f":"IF(A26<>\"\",IFERROR(VLOOKUP(V26,Tabelas!B:D,3,0),0),\"\")","v":0},{"$f":"IF(A26<>\"\",IFERROR(VLOOKUP(W26,Tabelas!B:D,3,0),0),\"\")","v":0},{"$f":"IF(A26<>\"\",IFERROR(VLOOKUP(X26,Tabelas!B:D,3,0),0),\"\")","v":0},{"$f":"IF(A26<>\"\",IFERROR(VLOOKUP(Y26,Tabelas!B:D,3,0),0),\"\")","v":0},{"$f":"IF(A26<>\"\",IFERROR(VLOOKUP(Z26,Tabelas!B:D,3,0),0),\"\")","v":0},{"$f":"IF(A26<>\"\",IFERROR(VLOOKUP(AA26,Tabelas!B:D,3,0),0),\"\")","v":0},{"$f":"IF(A26<>\"\",IFERROR(VLOOKUP(AB26,Tabelas!B:D,3,0),0),\"\")","v":0},{"$f":"IF(A26<>\"\",IFERROR(VLOOKUP(AC26,Tabelas!B:D,3,0),0),\"\")","v":0},{"$f":"IF(A26<>\"\",IFERROR(VLOOKUP(AD26,Tabelas!B:D,3,0),0),\"\")","v":0},{"$f":"IF(A26<>\"\",IFERROR(VLOOKUP(AE26,Tabelas!B:D,3,0),0),\"\")","v":0},{"$f":"IF(A26<>\"\",IFERROR(VLOOKUP(AF26,Tabelas!B:D,3,0),0),\"\")","v":0},{"$f":"IF(A26<>\"\",IFERROR(VLOOKUP(AG26,Tabelas!B:D,3,0),0),\"\")","v":0},{"$f":"IF(A26<>\"\",IFERROR(VLOOKUP(AH26,Tabelas!B:D,3,0),0),\"\")","v":0},{"$f":"IF(A26<>\"\",IFERROR(VLOOKUP(AI26,Tabelas!B:D,3,0),0),\"\")","v":0},{"$f":"IF(A26<>\"\",IFERROR(VLOOKUP(AJ26,Tabelas!B:D,3,0),0),\"\")","v":0},{"$f":"IF(A26<>\"\",IFERROR(VLOOKUP(AK26,Tabelas!B:D,3,0),0),\"\")","v":0},{"$f":"IF(A26<>\"\",IFERROR(VLOOKUP(AL26,Tabelas!B:D,3,0),0),\"\")","v":0},{"$f":"IF(A26<>\"\",IFERROR(VLOOKUP(AM26,Tabelas!B:D,3,0),0),\"\")","v":0},{"$f":"IF(A26<>\"\",IFERROR(VLOOKUP(AN26,Tabelas!B:D,3,0),0),\"\")","v":0},{"$f":"IF(A26<>\"\",IFERROR(VLOOKUP(AO26,Tabelas!B:D,3,0),0),\"\")","v":0},{"$f":"IF(A26<>\"\",IFERROR(VLOOKUP(AP26,Tabelas!B:D,3,0),0),\"\")","v":0},{"$f":"IF(A26<>\"\",IFERROR(VLOOKUP(AQ26,Tabelas!B:D,3,0),0),\"\")","v":0},{"$f":"IF(A26<>\"\",IFERROR(VLOOKUP(AR26,Tabelas!B:D,3,0),0),\"\")","v":0},0,0,0,0,0,0,0,0,0]
["Fulano de Tal 19",1234567,123,"ENF","Ebserh",36,null,null,null,null,null,null,null,null,null,null,null,null,null,null,null,null,null,null,null,null,null,null,null,null,null,null,null,null,null,null,null,null,null,null,null,null,null,null,{"$f":"IF(A27<>\"\",IFERROR(VLOOKUP(N27,Tabelas!B:D,3,0),0),\"\")","v":0},{"$f":"IF(A27<>\"\",IFERROR(VLOOKUP(O27,Tabelas!B:D,3,0),0),\"\")","v":0},{"$f":"IF(A27<>\"\",IFERROR(VLOOKUP(P27,Tabelas!B:D,3,0),0),\"\")","v":0},{"$f":"IF(A27<>\"\",IFERROR(VLOOKUP(Q27,Tabelas!B:D,3,0),0),\"\")","v":0},{"$f":"IF(A27<>\"\",IFERROR(VLOOKUP(R27,Tabelas!B:D,3,0),0),\"\")","v":0},{"$f":"IF(A27<>\"\",IFERROR(VLOOKUP(S27,Tabelas!B:D,3,0),0),\"\")","v":0},{"$f":"IF(A27<>\"\",IFERROR(VLOOKUP(T27,Tabelas!B:D,3,0),0),\"\")","v":0},{"$f":"IF(A27<>\"\",IFERROR(VLOOKUP(U27,Tabelas!B:D,3,0),0),\"\")","v":0},{"$f":"IF(A27<>\"\",IFERROR(VLOOKUP(V27,Tabelas!B:D,3,0),0),\"\")","v":0},{"$f":"IF(A27<>\"\",IFERROR(VLOOKUP(W27,Tabelas!B:D,3,0),0),\"\")","v":0},{"$f":"IF(A27<>\"\",IFERROR(VLOOKUP(X27,Tabelas!B:D,3,0),0),\"\")","v":0},{"$f":"IF(A27<>\"\",IFERROR(VLOOKUP(Y27,Tabelas!B:D,3,0),0),\"\")","v":0},{"$f":"IF(A27<>\"\",IFERROR(VLOOKUP(Z27,Tabelas!B:D,3,0),0),\"\")","v":0},{"$f":"IF(A27<>\"\",IFERROR(VLOOKUP(AA27,Tabelas!B:D,3,0),0),\"\")","v":0},{"$f":"IF(A27<>\"\",IFERROR(VLOOKUP(AB27,Tabelas!B:D,3,0),0),\"\")","v":0},{"$f":"IF(A27<>\"\",IFERROR(VLOOKUP(AC27,Tabelas!B:D,3,0),0),\"\")","v":0},{"$f":"IF(A27<>\"\",IFERROR(VLOOKUP(AD27,Tabelas!B:D,3,0),0),\"\")","v":0},{"$f":"IF(A27<>\"\",IFERROR(VLOOKUP(AE27,Tabelas!B:D,3,0),0),\"\")","v":0},{"$f":"IF(A27<>\"\",IFERROR(VLOOKUP(AF27,Tabelas!B:D,3,0),0),\"\")","v":0},{"$f":"IF(A27<>\"\",IFERROR(VLOOKUP(AG27,Tabelas!B:D,3,0),0),\"\")","v":0},{"$f":"IF(A27<>\"\",IFERROR(VLOOKUP(AH27,Tabelas!B:D,3,0),0),\"\")","v":0},{"$f":"IF(A27<>\"\",IFERROR(VLOOKUP(AI27,Tabelas!B:D,3,0),0),\"\")","v":0},{"$f":"IF(A27<>\"\",IFERROR(VLOOKUP(AJ27,Tabelas!B:D,3,0),0),\"\")","v":0},{"$f":"IF(A27<>\"\",IFERROR(VLOOKUP(AK27,Tabelas!B:D,3,0),0),\"\")","v":0},{"$f":"IF(A27<>\"\",IFERROR(VLOOKUP(AL27,Tabelas!B:D,3,0),0),\"\")","v":0},{"$f":"IF(A27<>\"\",IFERROR(VLOOKUP(AM27,Tabelas!B:D,3,0),0),\"\")","v":0},{"$f":"IF(A27<>\"\",IFERROR(VLOOKUP(AN27,Tabelas!B:D,3,0),0),\"\")","v":0},{"$f":"IF(A27<>\"\",IFERROR(VLOOKUP(AO27,Tabelas!B:D,3,0),0),\"\")","v":0},{"$f":"IF(A27<>\"\",IFERROR(VLOOKUP(AP27,Tabelas!B:D,3,0),0),\"\")","v":0},{"$f":"IF(A27<>\"\",IFERROR(VLOOKUP(AQ27,Tabelas!B:D,3,0),0),\"\")","v":0},{"$f":"IF(A27<>\"\",IFERROR(VLOOKUP(AR27,Tabelas!B:D,3,0),0),\"\")","v":0},0,0,0,0,0,0,0,0,0]
["Fulano de Tal 20",1234567,123,"ENF","Ebserh",36,null,null,null,null,null,null,null,null,null,null,null,null,null,null,null,null,null,null,null,null,null,null,null,null,null,null,null,null,null,null,null,null,null,null,null,null,null,null,{"$f":"IF(A28<>\"\",IFERROR(VLOOKUP(N28,Tabelas!B:D,3,0),0),\"\")","v":0},{"$f":"IF(A28<>\"\",IFERROR(VLOOKUP(O28,Tabelas!B:D,3,0),0),\"\")","v":0},{"$f":"IF(A28<>\"\",IFERROR(VLOOKUP(P28,Tabelas!B:D,3,0),0),\"\")","v":0},{"$f":"IF(A28<>\"\",IFERROR(VLOOKUP(Q28,Tabelas!B:D,3,0),0),\"\")","v":0},{"$f":"IF(A28<>\"\",IFERROR(VLOOKUP(R28,Tabelas!B:D,3,0),0),\"\")","v":0},{"$f":"IF(A28<>\"\",IFERROR(VLOOKUP(S28,Tabelas!B:D,3,0),0),\"\")","v":0},{"$f":"IF(A28<>\"\",IFERROR(VLOOKUP(T28,Tabelas!B:D,3,0),0),\"\")","v":0},{"$f":"IF(A28<>\"\",IFERROR(VLOOKUP(U28,Tabelas!B:D,3,0),0),\"\")","v":0},{"$f":"IF(A28<>\"\",IFERROR(VLOOKUP(V28,Tabelas!B:D,3,0),0),\"\")","v":0},{"$f":"IF(A28<>\"\",IFERROR(VLOOKUP(W28,Tabelas!B:D,3,0),0),\"\")","v":0},{"$f":"IF(A28<>\"\",IFERROR(VLOOKUP(X28,Tabelas!B:D,3,0),0),\"\")","v":0},{"$f":"IF(A28<>\"\",IFERROR(VLOOKUP(Y28,Tabelas!B:D,3,0),0),\"\")","v":0},{"$f":"IF(A28<>\"\",IFERROR(VLOOKUP(Z28,Tabelas!B:D,3,0),0),\"\")","v":0},{"$f":"IF(A28<>\"\",IFERROR(VLOOKUP(AA28,Tabelas!B:D,3,0),0),\"\")","v":0},{"$f":"IF(A28<>\"\",IFERROR(VLOOKUP(AB28,Tabelas!B:D,3,0),0),\"\")","v":0},{"$f":"IF(A28<>\"\",IFERROR(VLOOKUP(AC28,Tabelas!B:D,3,0),0),\"\")","v":0},{"$f":"IF(A28<>\"\",IFERROR(VLOOKUP(AD28,Tabelas!B:D,3,0),0),\"\")","v":0},{"$f":"IF(A28<>\"\",IFERROR(VLOOKUP(AE28,Tabelas!B:D,3,0),0),\"\")","v":0},{"$f":"IF(A28<>\"\",IFERROR(VLOOKUP(AF28,Tabelas!B:D,3,0),0),\"\")","v":0},{"$f":"IF(A28<>\"\",IFERROR(VLOOKUP(AG28,Tabelas!B:D,3,0),0),\"\")","v":0},{"$f":"IF(A28<>\"\",IFERROR(VLOOKUP(AH28,Tabelas!B:D,3,0),0),\"\")","v":0},{"$f":"IF(A28<>\"\",IFERROR(VLOOKUP(AI28,Tabelas!B:D,3,0),0),\"\")","v":0},{"$f":"IF(A28<>\"\",IFERROR(VLOOKUP(AJ28,Tabelas!B:D,3,0),0),\"\")","v":0},{"$f":"IF(A28<>\"\",IFERROR(VLOOKUP(AK28,Tabelas!B:D,3,0),0),\"\")","v":0},{"$f":"IF(A28<>\"\",IFERROR(VLOOKUP(AL28,Tabelas!B:D,3,0),0),\"\")","v":0},{"$f":"IF(A28<>\"\",IFERROR(VLOOKUP(AM28,Tabelas!B:D,3,0),0),\"\")","v":0},{"$f":"IF(A28<>\"\",IFERROR(VLOOKUP(AN28,Tabelas!B:D,3,0),0),\"\")","v":0},{"$f":"IF(A28<>\"\",IFERROR(VLOOKUP(AO28,Tabelas!B:D,3,0),0),\"\")","v":0},{"$f":"IF(A28<>\"\",IFERROR(VLOOKUP(AP28,Tabelas!B:D,3,0),0),\"\")","v":0},{"$f":"IF(A28<>\"\",IFERROR(VLOOKUP(AQ28,Tabelas!B:D,3,0),0),\"\")","v":0},{"$f":"IF(A28<>\"\",IFERROR(VLOOKUP(AR28,Tabelas!B:D,3,0),0),\"\")","v":0},0,0,0,0,0,0,0,0,0]
["Fulano de Tal 21",1234567,123,"ENF","Ebserh",36,null,null,null,null,null,null,null,null,null,null,null,null,null,null,null,null,null,null,null,null,null,null,null,null,null,null,null,null,null,null,null,null,null,null,null,null,null,null,{"$f":"IF(A29<>\"\",IFERROR(VLOOKUP(N29,Tabelas!B:D,3,0),0),\"\")","v":0},{"$f":"IF(A29<>\"\",IFERROR(VLOOKUP(O29,Tabelas!B:D,3,0),0),\"\")","v":0},{"$f":"IF(A29<>\"\",IFERROR(VLOOKUP(P29,Tabelas!B:D,3,0),0),\"\")","v":0},{"$f":"IF(A29<>\"\",IFERROR(VLOOKUP(Q29,Tabelas!B:D,3,0),0),\"\")","v":0},{"$f":"IF(A29<>\"\",IFERROR(VLOOKUP(R29,Tabelas!B:D,3,0),0),\"\")","v":0},{"$f":"IF(A29<>\"\",IFERROR(VLOOKUP(S29,Tabelas!B:D,3,0),0),\"\")","v":0},{"$f":"IF(A29<>\"\",IFERROR(VLOOKUP(T29,Tabelas!B:D,3,0),0),\"\")","v":0},{"$f":"IF(A29<>\"\",IFERROR(VLOOKUP(U29,Tabelas!B:D,3,0),0),\"\")","v":0},{"$f":"IF(A29<>\"\",IFERROR(VLOOKUP(V29,Tabelas!B:D,3,0),0),\"\")","v":0},{"$f":"IF(A29<>\"\",IFERROR(VLOOKUP(W29,Tabelas!B:D,3,0),0),\"\")","v":0},{"$f":"IF(A29<>\"\",IFERROR(VLOOKUP(X29,Tabelas!B:D,3,0),0),\"\")","v":0},{"$f":"IF(A29<>\"\",IFERROR(VLOOKUP(Y29,Tabelas!B:D,3,0),0),\"\")","v":0},{"$f":"IF(A29<>\"\",IFERROR(VLOOKUP(Z29,Tabelas!B:D,3,0),0),\"\")","v":0},{"$f":"IF(A29<>\"\",IFERROR(VLOOKUP(AA29,Tabelas!B:D,3,0),0),\"\")","v":0},{"$f":"IF(A29<>\"\",IFERROR(VLOOKUP(AB29,Tabelas!B:D,3,0),0),\"\")","v":0},{"$f":"IF(A29<>\"\",IFERROR(VLOOKUP(AC29,Tabelas!B:D,3,0),0),\"\")","v":0},{"$f":"IF(A29<>\"\",IFERROR(VLOOKUP(AD29,Tabelas!B:D,3,0),0),\"\")","v":0},{"$f":"IF(A29<>\"\",IFERROR(VLOOKUP(AE29,Tabelas!B:D,3,0),0),\"\")","v":0},{"$f":"IF(A29<>\"\",IFERROR(VLOOKUP(AF29,Tabelas!B:D,3,0),0),\"\")","v":0},{"$f":"IF(A29<>\"\",IFERROR(VLOOKUP(AG29,Tabelas!B:D,3,0),0),\"\")","v":0},{"$f":"IF(A29<>\"\",IFERROR(VLOOKUP(AH29,Tabelas!B:D,3,0),0),\"\")","v":0},{"$f":"IF(A29<>\"\",IFERROR(VLOOKUP(AI29,Tabelas!B:D,3,0),0),\"\")","v":0},{"$f":"IF(A29<>\"\",IFERROR(VLOOKUP(AJ29,Tabelas!B:D,3,0),0),\"\")","v":0},{"$f":"IF(A29<>\"\",IFERROR(VLOOKUP(AK29,Tabelas!B:D,3,0),0),\"\")","v":0},{"$f":"IF(A29<>\"\",IFERROR(VLOOKUP(AL29,Tabelas!B:D,3,0),0),\"\")","v":0},{"$f":"IF(A29<>\"\",IFERROR(VLOOKUP(AM29,Tabelas!B:D,3,0),0),\"\")","v":0},{"$f":"IF(A29<>\"\",IFERROR(VLOOKUP(AN29,Tabelas!B:D,3,0),0),\"\")","v":0},{"$f":"IF(A29<>\"\",IFERROR(VLOOKUP(AO29,Tabelas!B:D,3,0),0),\"\")","v":0},{"$f":"IF(A29<>\"\",IFERROR(VLOOKUP(AP29,Tabelas!B:D,3,0),0),\"\")","v":0},{"$f":"IF(A29<>\"\",IFERROR(VLOOKUP(AQ29,Tabelas!B:D,3,0),0),\"\")","v":0},{"$f":"IF(A29<>\"\",IFERROR(VLOOKUP(AR29,Tabelas!B:D,3,0),0),\"\")","v":0},0,{"$f":"IF(A29<>\"\",COUNTIF(N29:AR29,\"LM\")+COUNTIF(N29:AR29,\"L\"),\"\")+COUNTIF(N29:AR29,\"LP\")","v":0},0,0,0,0,{"$f":"IF(A29<>\"\",COUNTIF(N29:AR29,\"AF1\")+COUNTIF(N29:AR29,\"AF2\")+COUNTIF(N29:AR29,\"AF3\")+COUNTIF(N29:AR29,\"AF4\")+COUNTIF(N29:AR29,\"AF5\")+COUNTIF(N29:AR29,\"AF6\")+COUNTIF(N29:AR29,\"AF7\")+COUNTIF(N29:AR29,\"AF8\")+COUNTIF(N29:AR29,\"AF9\")+COUNTIF(N29:AR29,\"AF10\")+COUNTIF(N29:AR29,\"AF11\")+COUNTIF(N29:AR29,\"AF12\")+COUNTIF(N29:AR29,\"AF13\")+COUNTIF(N29:AR29,\"AF14\"),\"\")","v":0},{"$f":"IF(A29<>\"\",COUNTIF(N29:AR29,\"CE\")+COUNTIF(N29:AR29,\"L\")+COUNTIF(N29:AR29,\"LM\")+COUNTIF(N29:AR29,\"LP\")+COUNTIF(N29:AR29,\"LC\")+COUNTIF(N29:AR29,\"AB\")+COUNTIF(N29:AR29,\"AF1\")+COUNTIF(N29:AR29,\"AF2\")+COUNTIF(N29:AR29,\"AF3\")+COUNTIF(N29:AR29,\"AF4\")+COUNTIF(N29:AR29,\"AF5\")+COUNTIF(N29:AR29,\"AF6\")+COUNTIF(N29:AR29,\"AF7\")+COUNTIF(N29:AR29,\"AF8\")+COUNTIF(N29:AR29,\"AF9\")+COUNTIF(N29:AR29,\"AF10\")+COUNTIF(N29:AR29,\"AF11\")+COUNTIF(N29:AR29,\"AF12\")+COUNTIF(N29:AR29,\"AF13\")+COUNTIF(N29:AR29,\"AF14\")+COUNTIF(N29:AR29,\"RC\")+COUNTIF(N29:AR29,\"FO\")+COUNTIF(N29:AR29,\"FE\"),\"\")","v":0},{"$f":"IF(A29<>\"\",COUNTIF(N29:AR29,\"APH\"),\"\")","v":0}]
["Fulano de Tal 22",1234567,123,"ENF","Ebserh",36,null,null,null,null,null,null,null,null,null,null,null,null,null,null,null,null,null,null,null,null,null,null,null,null,null,null,null,null,null,null,null,null,null,null,null,null,null,null,{"$f":"IF(A30<>\"\",IFERROR(VLOOKUP(N30,Tabelas!B:D,3,0),0),\"\")","v":0},{"$f":"IF(A30<>\"\",IFERROR(VLOOKUP(O30,Tabelas!B:D,3,0),0),\"\")","v":0},{"$f":"IF(A30<>\"\",IFERROR(VLOOKUP(P30,Tabelas!B:D,3,0),0),\"\")","v":0},{"$f":"IF(A30<>\"\",IFERROR(VLOOKUP(Q30,Tabelas!B:D,3,0),0),\"\")","v":0},{"$f":"IF(A30<>\"\",IFERROR(VLOOKUP(R30,Tabelas!B:D,3,0),0),\"\")","v":0},{"$f":"IF(A30<>\"\",IFERROR(VLOOKUP(S30,Tabelas!B:D,3,0),0),\"\")","v":0},{"$f":"IF(A30<>\"\",IFERROR(VLOOKUP(T30,Tabelas!B:D,3,0),0),\"\")","v":0},{"$f":"IF(A30<>\"\",IFERROR(VLOOKUP(U30,Tabelas!B:D,3,0),0),\"\")","v":0},{"$f":"IF(A30<>\"\",IFERROR(VLOOKUP(V30,Tabelas!B:D,3,0),0),\"\")","v":0},{"$f":"IF(A30<>\"\",IFERROR(VLOOKUP(W30,Tabelas!B:D,3,0),0),\"\")","v":0},{"$f":"IF(A30<>\"\",IFERROR(VLOOKUP(X30,Tabelas!B:D,3,0),0),\"\")","v":0},{"$f":"IF(A30<>\"\",IFERROR(VLOOKUP(Y30,Tabelas!B:D,3,0),0),\"\")","v":0},{"$f":"IF(A30<>\"\",IFERROR(VLOOKUP(Z30,Tabelas!B:D,3,0),0),\"\")","v":0},{"$f":"IF(A30<>\"\",IFERROR(VLOOKUP(AA30,Tabelas!B:D,3,0),0),\"\")","v":0},{"$f":"IF(A30<>\"\",IFERROR(VLOOKUP(AB30,Tabelas!B:D,3,0),0),\"\")","v":0},{"$f":"IF(A30<>\"\",IFERROR(VLOOKUP(AC30,Tabelas!B:D,3,0),0),\"\")","v":0},{"$f":"IF(A30<>\"\",IFERROR(VLOOKUP(AD30,Tabelas!B:D,3,0),0),\"\")","v":0},{"$f":"IF(A30<>\"\",IFERROR(VLOOKUP(AE30,Tabelas!B:D,3,0),0),\"\")","v":0},{"$f":"IF(A30<>\"\",IFERROR(VLOOKUP(AF30,Tabelas!B:D,3,0),0),\"\")","v":0},{"$f":"IF(A30<>\"\",IFERROR(VLOOKUP(AG30,Tabelas!B:D,3,0),0),\"\")","v":0},{"$f":"IF(A30<>\"\",IFERROR(VLOOKUP(AH30,Tabelas!B:D,3,0),0),\"\")","v":0},{"$f":"IF(A30<>\"\",IFERROR(VLOOKUP(AI30,Tabelas!B:D,3,0),0),\"\")","v":0},{"$f":"IF(A30<>\"\",IFERROR(VLOOKUP(AJ30,Tabelas!B:D,3,0),0),\"\")","v":0},{"$f":"IF(A30<>\"\",IFERROR(VLOOKUP(AK30,Tabelas!B:D,3,0),0),\"\")","v":0},{"$f":"IF(A30<>\"\",IFERROR(VLOOKUP(AL30,Tabelas!B:D,3,0),0),\"\")","v":0},{"$f":"IF(A30<>\"\",IFERROR(VLOOKUP(AM30,Tabelas!B:D,3,0),0),\"\")","v":0},{"$f":"IF(A30<>\"\",IFERROR(VLOOKUP(AN30,Tabelas!B:D,3,0),0),\"\")","v":0},{"$f":"IF(A30<>\"\",IFERROR(VLOOKUP(AO30,Tabelas!B:D,3,0),0),\"\")","v":0},{"$f":"IF(A30<>\"\",IFERROR(VLOOKUP(AP30,Tabelas!B:D,3,0),0),\"\")","v":0},{"$f":"IF(A30<>\"\",IFERROR(VLOOKUP(AQ30,Tabelas!B:D,3,0),0),\"\")","v":0},{"$f":"IF(A30<>\"\",IFERROR(VLOOKUP(AR30,Tabelas!B:D,3,0),0),\"\")","v":0},0,0,0,0,0,0,0,0,0]
["Fulano de Tal 23",1234567,123,"ENF","Ebserh",36,null,null,null,null,null,null,null,null,null,null,null,null,null,null,null,null,null,null,null,null,null,null,null,null,null,null,null,null,null,null,null,null,null,null,null,null,null,null,{"$f":"IF(A31<>\"\",IFERROR(VLOOKUP(N31,Tabelas!B:D,3,0),0),\"\")","v":0},{"$f":"IF(A31<>\"\",IFERROR(VLOOKUP(O31,Tabelas!B:D,3,0),0),\"\")","v":0},{"$f":"IF(A31<>\"\",IFERROR(VLOOKUP(P31,Tabelas!B:D,3,0),0),\"\")","v":0},{"$f":"IF(A31<>\"\",IFERROR(VLOOKUP(Q31,Tabelas!B:D,3,0),0),\"\")","v":0},{"$f":"IF(A31<>\"\",IFERROR(VLOOKUP(R31,Tabelas!B:D,3,0),0),\"\")","v":0},{"$f":"IF(A31<>\"\",IFERROR(VLOOKUP(S31,Tabelas!B:D,3,0),0),\"\")","v":0},{"$f":"IF(A31<>\"\",IFERROR(VLOOKUP(T31,Tabelas!B:D,3,0),0),\"\")","v":0},{"$f":"IF(A31<>\"\",IFERROR(VLOOKUP(U31,Tabelas!B:D,3,0),0),\"\")","v":0},{"$f":"IF(A31<>\"\",IFERROR(VLOOKUP(V31,Tabelas!B:D,3,0),0),\"\")","v":0},{"$f":"IF(A31<>\"\",IFERROR(VLOOKUP(W31,Tabelas!B:D,3,0),0),\"\")","v":0},{"$f":"IF(A31<>\"\",IFERROR(VLOOKUP(X31,Tabelas!B:D,3,0),0),\"\")","v":0},{"$f":"IF(A31<>\"\",IFERROR(VLOOKUP(Y31,Tabelas!B:D,3,0),0),\"\")","v":0},{"$f":"IF(A31<>\"\",IFERROR(VLOOKUP(Z31,Tabelas!B:D,3,0),0),\"\")","v":0},{"$f":"IF(A31<>\"\",IFERROR(VLOOKUP(AA31,Tabelas!B:D,3,0),0),\"\")","v":0},{"$f":"IF(A31<>\"\",IFERROR(VLOOKUP(AB31,Tabelas!B:D,3,0),0),\"\")","v":0},{"$f":"IF(A31<>\"\",IFERROR(VLOOKUP(AC31,Tabelas!B:D,3,0),0),\"\")","v":0},{"$f":"IF(A31<>\"\",IFERROR(VLOOKUP(AD31,Tabelas!B:D,3,0),0),\"\")","v":0},{"$f":"IF(A31<>\"\",IFERROR(VLOOKUP(AE31,Tabelas!B:D,3,0),0),\"\")","v":0},{"$f":"IF(A31<>\"\",IFERROR(VLOOKUP(AF31,Tabelas!B:D,3,0),0),\"\")","v":0},{"$f":"IF(A31<>\"\",IFERROR(VLOOKUP(AG31,Tabelas!B:D,3,0),0),\"\")","v":0},{"$f":"IF(A31<>\"\",IFERROR(VLOOKUP(AH31,Tabelas!B:D,3,0),0),\"\")","v":0},{"$f":"IF(A31<>\"\",IFERROR(VLOOKUP(AI31,Tabelas!B:D,3,0),0),\"\")","v":0},{"$f":"IF(A31<>\"\",IFERROR(VLOOKUP(AJ31,Tabelas!B:D,3,0),0),\"\")","v":0},{"$f":"IF(A31<>\"\",IFERROR(VLOOKUP(AK31,Tabelas!B:D,3,0),0),\"\")","v":0},{"$f":"IF(A31<>\"\",IFERROR(VLOOKUP(AL31,Tabelas!B:D,3,0),0),\"\")","v":0},{"$f":"IF(A31<>\"\",IFERROR(VLOOKUP(AM31,Tabelas!B:D,3,0),0),\"\")","v":0},{"$f":"IF(A31<>\"\",IFERROR(VLOOKUP(AN31,Tabelas!B:D,3,0),0),\"\")","v":0},{"$f":"IF(A31<>\"\",IFERROR(VLOOKUP(AO31,Tabelas!B:D,3,0),0),\"\")","v":0},{"$f":"IF(A31<>\"\",IFERROR(VLOOKUP(AP31,Tabelas!B:D,3,0),0),\"\")","v":0},{"$f":"IF(A31<>\"\",IFERROR(VLOOKUP(AQ31,Tabelas!B:D,3,0),0),\"\")","v":0},{"$f":"IF(A31<>\"\",IFERROR(VLOOKUP(AR31,Tabelas!B:D,3,0),0),\"\")","v":0},0,0,0,0,0,0,0,0,0]
["Fulano de Tal 24",1234567,123,"ENF","Ebserh",36,null,null,null,null,null,null,null,null,null,null,null,null,null,null,null,null,null,null,null,null,null,null,null,null,null,null,null,null,null,null,null,null,null,null,null,null,null,null,{"$f":"IF(A32<>\"\",IFERROR(VLOOKUP(N32,Tabelas!B:D,3,0),0),\"\")","v":0},{"$f":"IF(A32<>\"\",IFERROR(VLOOKUP(O32,Tabelas!B:D,3,0),0),\"\")","v":0},{"$f":"IF(A32<>\"\",IFERROR(VLOOKUP(P32,Tabelas!B:D,3,0),0),\"\")","v":0},{"$f":"IF(A32<>\"\",IFERROR(VLOOKUP(Q32,Tabelas!B:D,3,0),0),\"\")","v":0},{"$f":"IF(A32<>\"\",IFERROR(VLOOKUP(R32,Tabelas!B:D,3,0),0),\"\")","v":0},{"$f":"IF(A32<>\"\",IFERROR(VLOOKUP(S32,Tabelas!B:D,3,0),0),\"\")","v":0},{"$f":"IF(A32<>\"\",IFERROR(VLOOKUP(T32,Tabelas!B:D,3,0),0),\"\")","v":0},{"$f":"IF(A32<>\"\",IFERROR(VLOOKUP(U32,Tabelas!B:D,3,0),0),\"\")","v":0},{"$f":"IF(A32<>\"\",IFERROR(VLOOKUP(V32,Tabelas!B:D,3,0),0),\"\")","v":0},{"$f":"IF(A32<>\"\",IFERROR(VLOOKUP(W32,Tabelas!B:D,3,0),0),\"\")","v":0},{"$f":"IF(A32<>\"\",IFERROR(VLOOKUP(X32,Tabelas!B:D,3,0),0),\"\")","v":0},{"$f":"IF(A32<>\"\",IFERROR(VLOOKUP(Y32,Tabelas!B:D,3,0),0),\"\")","v":0},{"$f":"IF(A32<>\"\",IFERROR(VLOOKUP(Z32,Tabelas!B:D,3,0),0),\"\")","v":0},{"$f":"IF(A32<>\"\",IFERROR(VLOOKUP(AA32,Tabelas!B:D,3,0),0),\"\")","v":0},{"$f":"IF(A32<>\"\",IFERROR(VLOOKUP(AB32,Tabelas!B:D,3,0),0),\"\")","v":0},{"$f":"IF(A32<>\"\",IFERROR(VLOOKUP(AC32,Tabelas!B:D,3,0),0),\"\")","v":0},{"$f":"IF(A32<>\"\",IFERROR(VLOOKUP(AD32,Tabelas!B:D,3,0),0),\"\")","v":0},{"$f":"IF(A32<>\"\",IFERROR(VLOOKUP(AE32,Tabelas!B:D,3,0),0),\"\")","v":0},{"$f":"IF(A32<>\"\",IFERROR(VLOOKUP(AF32,Tabelas!B:D,3,0),0),\"\")","v":0},{"$f":"IF(A32<>\"\",IFERROR(VLOOKUP(AG32,Tabelas!B:D,3,0),0),\"\")","v":0},{"$f":"IF(A32<>\"\",IFERROR(VLOOKUP(AH32,Tabelas!B:D,3,0),0),\"\")","v":0},{"$f":"IF(A32<>\"\",IFERROR(VLOOKUP(AI32,Tabelas!B:D,3,0),0),\"\")","v":0},{"$f":"IF(A32<>\"\",IFERROR(VLOOKUP(AJ32,Tabelas!B:D,3,0),0),\"\")","v":0},{"$f":"IF(A32<>\"\",IFERROR(VLOOKUP(AK32,Tabelas!B:D,3,0),0),\"\")","v":0},{"$f":"IF(A32<>\"\",IFERROR(VLOOKUP(AL32,Tabelas!B:D,3,0),0),\"\")","v":0},{"$f":"IF(A32<>\"\",IFERROR(VLOOKUP(AM32,Tabelas!B:D,3,0),0),\"\")","v":0},{"$f":"IF(A32<>\"\",IFERROR(VLOOKUP(AN32,Tabelas!B:D,3,0),0),\"\")","v":0},{"$f":"IF(A32<>\"\",IFERROR(VLOOKUP(AO32,Tabelas!B:D,3,0),0),\"\")","v":0},{"$f":"IF(A32<>\"\",IFERROR(VLOOKUP(AP32,Tabelas!B:D,3,0),0),\"\")","v":0},{"$f":"IF(A32<>\"\",IFERROR(VLOOKUP(AQ32,Tabelas!B:D,3,0),0),\"\")","v":0},{"$f":"IF(A32<>\"\",IFERROR(VLOOKUP(AR32,Tabelas!B:D,3,0),0),\"\")","v":0},0,0,0,0,0,0,0,0,0]
["Fulano de Tal 25",1234567,123,"ENF","Ebserh",36,null,null,null,null,null,null,null,null,null,null,null,null,null,null,null,null,null,null,null,null,null,null,null,null,null,null,null,null,null,null,null,null,null,null,null,null,null,null,{"$f":"IF(A33<>\"\",IFERROR(VLOOKUP(N33,Tabelas!B:D,3,0),0),\"\")","v":0},{"$f":"IF(A33<>\"\",IFERROR(VLOOKUP(O33,Tabelas!B:D,3,0),0),\"\")","v":0},{"$f":"IF(A33<>\"\",IFERROR(VLOOKUP(P33,Tabelas!B:D,3,0),0),\"\")","v":0},{"$f":"IF(A33<>\"\",IFERROR(VLOOKUP(Q33,Tabelas!B:D,3,0),0),\"\")","v":0},{"$f":"IF(A33<>\"\",IFERROR(VLOOKUP(R33,Tabelas!B:D,3,0),0),\"\")","v":0},{"$f":"IF(A33<>\"\",IFERROR(VLOOKUP(S33,Tabelas!B:D,3,0),0),\"\")","v":0},{"$f":"IF(A33<>\"\",IFERROR(VLOOKUP(T33,Tabelas!B:D,3,0),0),\"\")","v":0},{"$f":"IF(A33<>\"\",IFERROR(VLOOKUP(U33,Tabelas!B:D,3,0),0),\"\")","v":0},{"$f":"IF(A33<>\"\",IFERROR(VLOOKUP(V33,Tabelas!B:D,3,0),0),\"\")","v":0},{"$f":"IF(A33<>\"\",IFERROR(VLOOKUP(W33,Tabelas!B:D,3,0),0),\"\")","v":0},{"$f":"IF(A33<>\"\",IFERROR(VLOOKUP(X33,Tabelas!B:D,3,0),0),\"\")","v":0},{"$f":"IF(A33<>\"\",IFERROR(VLOOKUP(Y33,Tabelas!B:D,3,0),0),\"\")","v":0},{"$f":"IF(A33<>\"\",IFERROR(VLOOKUP(Z33,Tabelas!B:D,3,0),0),\"\")","v":0},{"$f":"IF(A33<>\"\",IFERROR(VLOOKUP(AA33,Tabelas!B:D,3,0),0),\"\")","v":0},{"$f":"IF(A33<>\"\",IFERROR(VLOOKUP(AB33,Tabelas!B:D,3,0),0),\"\")","v":0},{"$f":"IF(A33<>\"\",IFERROR(VLOOKUP(AC33,Tabelas!B:D,3,0),0),\"\")","v":0},{"$f":"IF(A33<>\"\",IFERROR(VLOOKUP(AD33,Tabelas!B:D,3,0),0),\"\")","v":0},{"$f":"IF(A33<>\"\",IFERROR(VLOOKUP(AE33,Tabelas!B:D,3,0),0),\"\")","v":0},{"$f":"IF(A33<>\"\",IFERROR(VLOOKUP(AF33,Tabelas!B:D,3,0),0),\"\")","v":0},{"$f":"IF(A33<>\"\",IFERROR(VLOOKUP(AG33,Tabelas!B:D,3,0),0),\"\")","v":0},{"$f":"IF(A33<>\"\",IFERROR(VLOOKUP(AH33,Tabelas!B:D,3,0),0),\"\")","v":0},{"$f":"IF(A33<>\"\",IFERROR(VLOOKUP(AI33,Tabelas!B:D,3,0),0),\"\")","v":0},{"$f":"IF(A33<>\"\",IFERROR(VLOOKUP(AJ33,Tabelas!B:D,3,0),0),\"\")","v":0},{"$f":"IF(A33<>\"\",IFERROR(VLOOKUP(AK33,Tabelas!B:D,3,0),0),\"\")","v":0},{"$f":"IF(A33<>\"\",IFERROR(VLOOKUP(AL33,Tabelas!B:D,3,0),0),\"\")","v":0},{"$f":"IF(A33<>\"\",IFERROR(VLOOKUP(AM33,Tabelas!B:D,3,0),0),\"\")","v":0},{"$f":"IF(A33<>\"\",IFERROR(VLOOKUP(AN33,Tabelas!B:D,3,0),0),\"\")","v":0},{"$f":"IF(A33<>\"\",IFERROR(VLOOKUP(AO33,Tabelas!B:D,3,0),0),\"\")","v":0},{"$f":"IF(A33<>\"\",IFERROR(VLOOKUP(AP33,Tabelas!B:D,3,0),0),\"\")","v":0},{"$f":"IF(A33<>\"\",IFERROR(VLOOKUP(AQ33,Tabelas!B:D,3,0),0),\"\")","v":0},{"$f":"IF(A33<>\"\",IFERROR(VLOOKUP(AR33,Tabelas!B:D,3,0),0),\"\")","v":0},0,0,0,0,0,0,0,0,0]
["Fulano de Tal 26",1234567,123,"ENF","Ebserh",36,null,null,null,null,null,null,null,null,null,null,null,null,null,null,null,null,null,null,null,null,null,null,null,null,null,null,null,null,null,null,null,null,null,null,null,null,null,null,{"$f":"IF(A34<>\"\",IFERROR(VLOOKUP(N34,Tabelas!B:D,3,0),0),\"\")","v":0},{"$f":"IF(A34<>\"\",IFERROR(VLOOKUP(O34,Tabelas!B:D,3,0),0),\"\")","v":0},{"$f":"IF(A34<>\"\",IFERROR(VLOOKUP(P34,Tabelas!B:D,3,0),0),\"\")","v":0},{"$f":"IF(A34<>\"\",IFERROR(VLOOKUP(Q34,Tabelas!B:D,3,0),0),\"\")","v":0},{"$f":"IF(A34<>\"\",IFERROR(VLOOKUP(R34,Tabelas!B:D,3,0),0),\"\")","v":0},{"$f":"IF(A34<>\"\",IFERROR(VLOOKUP(S34,Tabelas!B:D,3,0),0),\"\")","v":0},{"$f":"IF(A34<>\"\",IFERROR(VLOOKUP(T34,Tabelas!B:D,3,0),0),\"\")","v":0},{"$f":"IF(A34<>\"\",IFERROR(VLOOKUP(U34,Tabelas!B:D,3,0),0),\"\")","v":0},{"$f":"IF(A34<>\"\",IFERROR(VLOOKUP(V34,Tabelas!B:D,3,0),0),\"\")","v":0},{"$f":"IF(A34<>\"\",IFERROR(VLOOKUP(W34,Tabelas!B:D,3,0),0),\"\")","v":0},{"$f":"IF(A34<>\"\",IFERROR(VLOOKUP(X34,Tabelas!B:D,3,0),0),\"\")","v":0},{"$f":"IF(A34<>\"\",IFERROR(VLOOKUP(Y34,Tabelas!B:D,3,0),0),\"\")","v":0},{"$f":"IF(A34<>\"\",IFERROR(VLOOKUP(Z34,Tabelas!B:D,3,0),0),\"\")","v":0},{"$f":"IF(A34<>\"\",IFERROR(VLOOKUP(AA34,Tabelas!B:D,3,0),0),\"\")","v":0},{"$f":"IF(A34<>\"\",IFERROR(VLOOKUP(AB34,Tabelas!B:D,3,0),0),\"\")","v":0},{"$f":"IF(A34<>\"\",IFERROR(VLOOKUP(AC34,Tabelas!B:D,3,0),0),\"\")","v":0},{"$f":"IF(A34<>\"\",IFERROR(VLOOKUP(AD34,Tabelas!B:D,3,0),0),\"\")","v":0},{"$f":"IF(A34<>\"\",IFERROR(VLOOKUP(AE34,Tabelas!B:D,3,0),0),\"\")","v":0},{"$f":"IF(A34<>\"\",IFERROR(VLOOKUP(AF34,Tabelas!B:D,3,0),0),\"\")","v":0},{"$f":"IF(A34<>\"\",IFERROR(VLOOKUP(AG34,Tabelas!B:D,3,0),0),\"\")","v":0},{"$f":"IF(A34<>\"\",IFERROR(VLOOKUP(AH34,Tabelas!B:D,3,0),0),\"\")","v":0},{"$f":"IF(A34<>\"\",IFERROR(VLOOKUP(AI34,Tabelas!B:D,3,0),0),\"\")","v":0},{"$f":"IF(A34<>\"\",IFERROR(VLOOKUP(AJ34,Tabelas!B:D,3,0),0),\"\")","v":0},{"$f":"IF(A34<>\"\",IFERROR(VLOOKUP(AK34,Tabelas!B:D,3,0),0),\"\")","v":0},{"$f":"IF(A34<>\"\",IFERROR(VLOOKUP(AL34,Tabelas!B:D,3,0),0),\"\")","v":0},{"$f":"IF(A34<>\"\",IFERROR(VLOOKUP(AM34,Tabelas!B:D,3,0),0),\"\")","v":0},{"$f":"IF(A34<>\"\",IFERROR(VLOOKUP(AN34,Tabelas!B:D,3,0),0),\"\")","v":0},{"$f":"IF(A34<>\"\",IFERROR(VLOOKUP(AO34,Tabelas!B:D,3,0),0),\"\")","v":0},{"$f":"IF(A34<>\"\",IFERROR(VLOOKUP(AP34,Tabelas!B:D,3,0),0),\"\")","v":0},{"$f":"IF(A34<>\"\",IFERROR(VLOOKUP(AQ34,Tabelas!B:D,3,0),0),\"\")","v":0},{"$f":"IF(A34<>\"\",IFERROR(VLOOKUP(AR34,Tabelas!B:D,3,0),0),\"\")","v":0},0,0,0,0,0,0,0,0,0]
["Fulano de Tal 27",1234567,123,"ENF","Ebserh",36,null,null,null,null,null,null,null,null,null,null,null,null,null,null,null,null,null,null,null,null,null,null,null,null,null,null,null,null,null,null,null,null,null,null,null,null,null,null,{"$f":"IF(A35<>\"\",IFERROR(VLOOKUP(N35,Tabelas!B:D,3,0),0),\"\")","v":0},{"$f":"IF(A35<>\"\",IFERROR(VLOOKUP(O35,Tabelas!B:D,3,0),0),\"\")","v":0},{"$f":"IF(A35<>\"\",IFERROR(VLOOKUP(P35,Tabelas!B:D,3,0),0),\"\")","v":0},{"$f":"IF(A35<>\"\",IFERROR(VLOOKUP(Q35,Tabelas!B:D,3,0),0),\"\")","v":0},{"$f":"IF(A35<>\"\",IFERROR(VLOOKUP(R35,Tabelas!B:D,3,0),0),\"\")","v":0},{"$f":"IF(A35<>\"\",IFERROR(VLOOKUP(S35,Tabelas!B:D,3,0),0),\"\")","v":0},{"$f":"IF(A35<>\"\",IFERROR(VLOOKUP(T35,Tabelas!B:D,3,0),0),\"\")","v":0},{"$f":"IF(A35<>\"\",IFERROR(VLOOKUP(U35,Tabelas!B:D,3,0),0),\"\")","v":0},{"$f":"IF(A35<>\"\",IFERROR(VLOOKUP(V35,Tabelas!B:D,3,0),0),\"\")","v":0},{"$f":"IF(A35<>\"\",IFERROR(VLOOKUP(W35,Tabelas!B:D,3,0),0),\"\")","v":0},{"$f":"IF(A35<>\"\",IFERROR(VLOOKUP(X35,Tabelas!B:D,3,0),0),\"\")","v":0},{"$f":"IF(A35<>\"\",IFERROR(VLOOKUP(Y35,Tabelas!B:D,3,0),0),\"\")","v":0},{"$f":"IF(A35<>\"\",IFERROR(VLOOKUP(Z35,Tabelas!B:D,3,0),0),\"\")","v":0},{"$f":"IF(A35<>\"\",IFERROR(VLOOKUP(AA35,Tabelas!B:D,3,0),0),\"\")","v":0},{"$f":"IF(A35<>\"\",IFERROR(VLOOKUP(AB35,Tabelas!B:D,3,0),0),\"\")","v":0},{"$f":"IF(A35<>\"\",IFERROR(VLOOKUP(AC35,Tabelas!B:D,3,0),0),\"\")","v":0},{"$f":"IF(A35<>\"\",IFERROR(VLOOKUP(AD35,Tabelas!B:D,3,0),0),\"\")","v":0},{"$f":"IF(A35<>\"\",IFERROR(VLOOKUP(AE35,Tabelas!B:D,3,0),0),\"\")","v":0},{"$f":"IF(A35<>\"\",IFERROR(VLOOKUP(AF35,Tabelas!B:D,3,0),0),\"\")","v":0},{"$f":"IF(A35<>\"\",IFERROR(VLOOKUP(AG35,Tabelas!B:D,3,0),0),\"\")","v":0},{"$f":"IF(A35<>\"\",IFERROR(VLOOKUP(AH35,Tabelas!B:D,3,0),0),\"\")","v":0},{"$f":"IF(A35<>\"\",IFERROR(VLOOKUP(AI35,Tabelas!B:D,3,0),0),\"\")","v":0},{"$f":"IF(A35<>\"\",IFERROR(VLOOKUP(AJ35,Tabelas!B:D,3,0),0),\"\")","v":0},{"$f":"IF(A35<>\"\",IFERROR(VLOOKUP(AK35,Tabelas!B:D,3,0),0),\"\")","v":0},{"$f":"IF(A35<>\"\",IFERROR(VLOOKUP(AL35,Tabelas!B:D,3,0),0),\"\")","v":0},{"$f":"IF(A35<>\"\",IFERROR(VLOOKUP(AM35,Tabelas!B:D,3,0),0),\"\")","v":0},{"$f":"IF(A35<>\"\",IFERROR(VLOOKUP(AN35,Tabelas!B:D,3,0),0),\"\")","v":0},{"$f":"IF(A35<>\"\",IFERROR(VLOOKUP(AO35,Tabelas!B:D,3,0),0),\"\")","v":0},{"$f":"IF(A35<>\"\",IFERROR(VLOOKUP(AP35,Tabelas!B:D,3,0),0),\"\")","v":0},{"$f":"IF(A35<>\"\",IFERROR(VLOOKUP(AQ35,Tabelas!B:D,3,0),0),\"\")","v":0},{"$f":"IF(A35<>\"\",IFERROR(VLOOKUP(AR35,Tabelas!B:D,3,0),0),\"\")","v":0},0,0,0,0,0,0,0,0,0]
["Fulano de Tal 28",1234567,123,"ENF","Ebserh",36,null,null,null,null,null,null,null,null,null,null,null,null,null,null,null,null,null,null,null,null,null,null,null,null,null,null,null,null,null,null,null,null,null,null,null,null,null,null,{"$f":"IF(A36<>\"\",IFERROR(VLOOKUP(N36,Tabelas!B:D,3,0),0),\"\")","v":0},{"$f":"IF(A36<>\"\",IFERROR(VLOOKUP(O36,Tabelas!B:D,3,0),0),\"\")","v":0},{"$f":"IF(A36<>\"\",IFERROR(VLOOKUP(P36,Tabelas!B:D,3,0),0),\"\")","v":0},{"$f":"IF(A36<>\"\",IFERROR(VLOOKUP(Q36,Tabelas!B:D,3,0),0),\"\")","v":0},{"$f":"IF(A36<>\"\",IFERROR(VLOOKUP(R36,Tabelas!B:D,3,0),0),\"\")","v":0},{"$f":"IF(A36<>\"\",IFERROR(VLOOKUP(S36,Tabelas!B:D,3,0),0),\"\")","v":0},{"$f":"IF(A36<>\"\",IFERROR(VLOOKUP(T36,Tabelas!B:D,3,0),0),\"\")","v":0},{"$f":"IF(A36<>\"\",IFERROR(VLOOKUP(U36,Tabelas!B:D,3,0),0),\"\")","v":0},{"$f":"IF(A36<>\"\",IFERROR(VLOOKUP(V36,Tabelas!B:D,3,0),0),\"\")","v":0},{"$f":"IF(A36<>\"\",IFERROR(VLOOKUP(W36,Tabelas!B:D,3,0),0),\"\")","v":0},{"$f":"IF(A36<>\"\",IFERROR(VLOOKUP(X36,Tabelas!B:D,3,0),0),\"\")","v":0},{"$f":"IF(A36<>\"\",IFERROR(VLOOKUP(Y36,Tabelas!B:D,3,0),0),\"\")","v":0},{"$f":"IF(A36<>\"\",IFERROR(VLOOKUP(Z36,Tabelas!B:D,3,0),0),\"\")","v":0},{"$f":"IF(A36<>\"\",IFERROR(VLOOKUP(AA36,Tabelas!B:D,3,0),0),\"\")","v":0},{"$f":"IF(A36<>\"\",IFERROR(VLOOKUP(AB36,Tabelas!B:D,3,0),0),\"\")","v":0},{"$f":"IF(A36<>\"\",IFERROR(VLOOKUP(AC36,Tabelas!B:D,3,0),0),\"\")","v":0},{"$f":"IF(A36<>\"\",IFERROR(VLOOKUP(AD36,Tabelas!B:D,3,0),0),\"\")","v":0},{"$f":"IF(A36<>\"\",IFERROR(VLOOKUP(AE36,Tabelas!B:D,3,0),0),\"\")","v":0},{"$f":"IF(A36<>\"\",IFERROR(VLOOKUP(AF36,Tabelas!B:D,3,0),0),\"\")","v":0},{"$f":"IF(A36<>\"\",IFERROR(VLOOKUP(AG36,Tabelas!B:D,3,0),0),\"\")","v":0},{"$f":"IF(A36<>\"\",IFERROR(VLOOKUP(AH36,Tabelas!B:D,3,0),0),\"\")","v":0},{"$f":"IF(A36<>\"\",IFERROR(VLOOKUP(AI36,Tabelas!B:D,3,0),0),\"\")","v":0},{"$f":"IF(A36<>\"\",IFERROR(VLOOKUP(AJ36,Tabelas!B:D,3,0),0),\"\")","v":0},{"$f":"IF(A36<>\"\",IFERROR(VLOOKUP(AK36,Tabelas!B:D,3,0),0),\"\")","v":0},{"$f":"IF(A36<>\"\",IFERROR(VLOOKUP(AL36,Tabelas!B:D,3,0),0),\"\")","v":0},{"$f":"IF(A36<>\"\",IFERROR(VLOOKUP(AM36,Tabelas!B:D,3,0),0),\"\")","v":0},{"$f":"IF(A36<>\"\",IFERROR(VLOOKUP(AN36,Tabelas!B:D,3,0),0),\"\")","v":0},{"$f":"IF(A36<>\"\",IFERROR(VLOOKUP(AO36,Tabelas!B:D,3,0),0),\"\")","v":0},{"$f":"IF(A36<>\"\",IFERROR(VLOOKUP(AP36,Tabelas!B:D,3,0),0),\"\")","v":0},{"$f":"IF(A36<>\"\",IFERROR(VLOOKUP(AQ36,Tabelas!B:D,3,0),0),\"\")","v":0},{"$f":"IF(A36<>\"\",IFERROR(VLOOKUP(AR36,Tabelas!B:D,3,0),0),\"\")","v":0},0,0,0,0,0,0,0,0,0]
["Fulano de Tal 29",1234567,123,"ENF","Ebserh",36,null,null,null,null,null,null,null,null,null,null,null,null,null,null,null,null,null,null,null,null,null,null,null,null,null,null,null,null,null,null,null,null,null,null,null,null,null,null,{"$f":"IF(A37<>\"\",IFERROR(VLOOKUP(N37,Tabelas!B:D,3,0),0),\"\")","v":0},{"$f":"IF(A37<>\"\",IFERROR(VLOOKUP(O37,Tabelas!B:D,3,0),0),\"\")","v":0},{"$f":"IF(A37<>\"\",IFERROR(VLOOKUP(P37,Tabelas!B:D,3,0),0),\"\")","v":0},{"$f":"IF(A37<>\"\",IFERROR(VLOOKUP(Q37,Tabelas!B:D,3,0),0),\"\")","v":0},{"$f":"IF(A37<>\"\",IFERROR(VLOOKUP(R37,Tabelas!B:D,3,0),0),\"\")","v":0},{"$f":"IF(A37<>\"\",IFERROR(VLOOKUP(S37,Tabelas!B:D,3,0),0),\"\")","v":0},{"$f":"IF(A37<>\"\",IFERROR(VLOOKUP(T37,Tabelas!B:D,3,0),0),\"\")","v":0},{"$f":"IF(A37<>\"\",IFERROR(VLOOKUP(U37,Tabelas!B:D,3,0),0),\"\")","v":0},{"$f":"IF(A37<>\"\",IFERROR(VLOOKUP(V37,Tabelas!B:D,3,0),0),\"\")","v":0},{"$f":"IF(A37<>\"\",IFERROR(VLOOKUP(W37,Tabelas!B:D,3,0),0),\"\")","v":0},{"$f":"IF(A37<>\"\",IFERROR(VLOOKUP(X37,Tabelas!B:D,3,0),0),\"\")","v":0},{"$f":"IF(A37<>\"\",IFERROR(VLOOKUP(Y37,Tabelas!B:D,3,0),0),\"\")","v":0},{"$f":"IF(A37<>\"\",IFERROR(VLOOKUP(Z37,Tabelas!B:D,3,0),0),\"\")","v":0},{"$f":"IF(A37<>\"\",IFERROR(VLOOKUP(AA37,Tabelas!B:D,3,0),0),\"\")","v":0},{"$f":"IF(A37<>\"\",IFERROR(VLOOKUP(AB37,Tabelas!B:D,3,0),0),\"\")","v":0},{"$f":"IF(A37<>\"\",IFERROR(VLOOKUP(AC37,Tabelas!B:D,3,0),0),\"\")","v":0},{"$f":"IF(A37<>\"\",IFERROR(VLOOKUP(AD37,Tabelas!B:D,3,0),0),\"\")","v":0},{"$f":"IF(A37<>\"\",IFERROR(VLOOKUP(AE37,Tabelas!B:D,3,0),0),\"\")","v":0},{"$f":"IF(A37<>\"\",IFERROR(VLOOKUP(AF37,Tabelas!B:D,3,0),0),\"\")","v":0},{"$f":"IF(A37<>\"\",IFERROR(VLOOKUP(AG37,Tabelas!B:D,3,0),0),\"\")","v":0},{"$f":"IF(A37<>\"\",IFERROR(VLOOKUP(AH37,Tabelas!B:D,3,0),0),\"\")","v":0},{"$f":"IF(A37<>\"\",IFERROR(VLOOKUP(AI37,Tabelas!B:D,3,0),0),\"\")","v":0},{"$f":"IF(A37<>\"\",IFERROR(VLOOKUP(AJ37,Tabelas!B:D,3,0),0),\"\")","v":0},{"$f":"IF(A37<>\"\",IFERROR(VLOOKUP(AK37,Tabelas!B:D,3,0),0),\"\")","v":0},{"$f":"IF(A37<>\"\",IFERROR(VLOOKUP(AL37,Tabelas!B:D,3,0),0),\"\")","v":0},{"$f":"IF(A37<>\"\",IFERROR(VLOOKUP(AM37,Tabelas!B:D,3,0),0),\"\")","v":0},{"$f":"IF(A37<>\"\",IFERROR(VLOOKUP(AN37,Tabelas!B:D,3,0),0),\"\")","v":0},{"$f":"IF(A37<>\"\",IFERROR(VLOOKUP(AO37,Tabelas!B:D,3,0),0),\"\")","v":0},{"$f":"IF(A37<>\"\",IFERROR(VLOOKUP(AP37,Tabelas!B:D,3,0),0),\"\")","v":0},{"$f":"IF(A37<>\"\",IFERROR(VLOOKUP(AQ37,Tabelas!B:D,3,0),0),\"\")","v":0},{"$f":"IF(A37<>\"\",IFERROR(VLOOKUP(AR37,Tabelas!B:D,3,0),0),\"\")","v":0},0,0,0,0,0,0,0,0,0]
["Fulano de Tal 30",1234567,123,"ENF","Ebserh",36,null,null,null,null,null,null,null,null,null,null,null,null,null,null,null,null,null,null,null,null,null,null,null,null,null,null,null,null,null,null,null,null,null,null,null,null,null,null,{"$f":"IF(A38<>\"\",IFERROR(VLOOKUP(N38,Tabelas!B:D,3,0),0),\"\")","v":0},{"$f":"IF(A38<>\"\",IFERROR(VLOOKUP(O38,Tabelas!B:D,3,0),0),\"\")","v":0},{"$f":"IF(A38<>\"\",IFERROR(VLOOKUP(P38,Tabelas!B:D,3,0),0),\"\")","v":0},{"$f":"IF(A38<>\"\",IFERROR(VLOOKUP(Q38,Tabelas!B:D,3,0),0),\"\")","v":0},{"$f":"IF(A38<>\"\",IFERROR(VLOOKUP(R38,Tabelas!B:D,3,0),0),\"\")","v":0},{"$f":"IF(A38<>\"\",IFERROR(VLOOKUP(S38,Tabelas!B:D,3,0),0),\"\")","v":0},{"$f":"IF(A38<>\"\",IFERROR(VLOOKUP(T38,Tabelas!B:D,3,0),0),\"\")","v":0},{"$f":"IF(A38<>\"\",IFERROR(VLOOKUP(U38,Tabelas!B:D,3,0),0),\"\")","v":0},{"$f":"IF(A38<>\"\",IFERROR(VLOOKUP(V38,Tabelas!B:D,3,0),0),\"\")","v":0},{"$f":"IF(A38<>\"\",IFERROR(VLOOKUP(W38,Tabelas!B:D,3,0),0),\"\")","v":0},{"$f":"IF(A38<>\"\",IFERROR(VLOOKUP(X38,Tabelas!B:D,3,0),0),\"\")","v":0},{"$f":"IF(A38<>\"\",IFERROR(VLOOKUP(Y38,Tabelas!B:D,3,0),0),\"\")","v":0},{"$f":"IF(A38<>\"\",IFERROR(VLOOKUP(Z38,Tabelas!B:D,3,0),0),\"\")","v":0},{"$f":"IF(A38<>\"\",IFERROR(VLOOKUP(AA38,Tabelas!B:D,3,0),0),\"\")","v":0},{"$f":"IF(A38<>\"\",IFERROR(VLOOKUP(AB38,Tabelas!B:D,3,0),0),\"\")","v":0},{"$f":"IF(A38<>\"\",IFERROR(VLOOKUP(AC38,Tabelas!B:D,3,0),0),\"\")","v":0},{"$f":"IF(A38<>\"\",IFERROR(VLOOKUP(AD38,Tabelas!B:D,3,0),0),\"\")","v":0},{"$f":"IF(A38<>\"\",IFERROR(VLOOKUP(AE38,Tabelas!B:D,3,0),0),\"\")","v":0},{"$f":"IF(A38<>\"\",IFERROR(VLOOKUP(AF38,Tabelas!B:D,3,0),0),\"\")","v":0},{"$f":"IF(A38<>\"\",IFERROR(VLOOKUP(AG38,Tabelas!B:D,3,0),0),\"\")","v":0},{"$f":"IF(A38<>\"\",IFERROR(VLOOKUP(AH38,Tabelas!B:D,3,0),0),\"\")","v":0},{"$f":"IF(A38<>\"\",IFERROR(VLOOKUP(AI38,Tabelas!B:D,3,0),0),\"\")","v":0},{"$f":"IF(A38<>\"\",IFERROR(VLOOKUP(AJ38,Tabelas!B:D,3,0),0),\"\")","v":0},{"$f":"IF(A38<>\"\",IFERROR(VLOOKUP(AK38,Tabelas!B:D,3,0),0),\"\")","v":0},{"$f":"IF(A38<>\"\",IFERROR(VLOOKUP(AL38,Tabelas!B:D,3,0),0),\"\")","v":0},{"$f":"IF(A38<>\"\",IFERROR(VLOOKUP(AM38,Tabelas!B:D,3,0),0),\"\")","v":0},{"$f":"IF(A38<>\"\",IFERROR(VLOOKUP(AN38,Tabelas!B:D,3,0),0),\"\")","v":0},{"$f":"IF(A38<>\"\",IFERROR(VLOOKUP(AO38,Tabelas!B:D,3,0),0),\"\")","v":0},{"$f":"IF(A38<>\"\",IFERROR(VLOOKUP(AP38,Tabelas!B:D,3,0),0),\"\")","v":0},{"$f":"IF(A38<>\"\",IFERROR(VLOOKUP(AQ38,Tabelas!B:D,3,0),0),\"\")","v":0},{"$f":"IF(A38<>\"\",IFERROR(VLOOKUP(AR38,Tabelas!B:D,3,0),0),\"\")","v":0},0,0,0,0,0,0,0,0,0]
["TOTAL PROFISSIONAIS MATUTINO",null,null,null,null,null,null,null,null,null,null,null,null,{"$f":"COUNTIF(N9:N18,\"M\")+COUNTIF(N19:N28,\"M\")+COUNTIF(N29:N38,\"M\")+COUNTIF(N9:N18,\"M?\") +COUNTIF(N19:N28,\"M?\")+COUNTIF(N29:N38,\"M?\")+ COUNTIF(N9:N18, \"MT?\") + COUNTIF(N19:N28, \"MT?\")+ COUNTIF(N29:N38, \"MT?\")+ COUNTIF(N9:N18, \"D?\")  + COUNTIF(N19:N28, \"D?\")+COUNTIF(N29:N38, \"D?\")+ COUNTIF(N9:N18, \"DN?\")+ COUNTIF(N19:N28, \"DN?\")+ COUNTIF(N29:N38, \"DN?\")+ COUNTIF(N9:N18, \"MT??\") + COUNTIF(N19:N28, \"MT??\")+ COUNTIF(N29:N38, \"MT??\")+ COUNTIF(N9:N18, \"D\")  + COUNTIF(N19:N28, \"D\")+COUNTIF(N29:N38, \"D\")","v":0},0,0,0,0,0,0,0,0,0,0,0,0,0,0,0,0,0,0,0,0,0,0,0,0,0,0,0,0,0,0]
["TOTAL DE PROFISSIONAIS VESPERTINO",null,null,null,null,null,null,null,null,null,null,null,null,{"$f":"COUNTIF(N9:N18,\"T\")+COUNTIF(N19:N28,\"T\")+COUNTIF(N29:N38,\"T\")+COUNTIF(N9:N18,\"T?\") +COUNTIF(N19:N28,\"T?\")+COUNTIF(N29:N38,\"T?\")+ COUNTIF(N9:N18, \"MT?\") + COUNTIF(N19:N28, \"MT?\")+ COUNTIF(N29:N38, \"MT?\")+ COUNTIF(N9:N18, \"D?\")  + COUNTIF(N19:N28, \"D?\")+COUNTIF(N29:N38, \"D?\")+ COUNTIF(N9:N18, \"DN?\")+ COUNTIF(N19:N28, \"DN?\")+ COUNTIF(N29:N38, \"DN?\")+ COUNTIF(N9:N18, \"MT??\") + COUNTIF(N19:N28, \"MT??\")+ COUNTIF(N29:N38, \"MT??\")+ COUNTIF(N9:N18, \"D\")  + COUNTIF(N19:N28, \"D\")+COUNTIF(N29:N38, \"D\")","v":0},0,0,0,0,0,0,0,0,0,0,0,0,0,0,0,0,0,0,0,0,0,0,0,0,0,0,0,0,0,0,{"$f":"IF(A40<>\"\",IFERROR(VLOOKUP(N40,Tabelas!B:D,3,0),0),\"\")","v":0},{"$f":"IF(A40<>\"\",IFERROR(VLOOKUP(O40,Tabelas!B:D,3,0),0),\"\")","v":0},{"$f":"IF(A40<>\"\",IFERROR(VLOOKUP(P40,Tabelas!B:D,3,0),0),\"\")","v":0},{"$f":"IF(A40<>\"\",IFERROR(VLOOKUP(Q40,Tabelas!B:D,3,0),0),\"\")","v":0},{"$f":"IF(A40<>\"\",IFERROR(VLOOKUP(R40,Tabelas!B:D,3,0),0),\"\")","v":0},{"$f":"IF(A40<>\"\",IFERROR(VLOOKUP(S40,Tabelas!B:D,3,0),0),\"\")","v":0},{"$f":"IF(A40<>\"\",IFERROR(VLOOKUP(T40,Tabelas!B:D,3,0),0),\"\")","v":0},{"$f":"IF(A40<>\"\",IFERROR(VLOOKUP(U40,Tabelas!B:D,3,0),0),\"\")","v":0},{"$f":"IF(A40<>\"\",IFERROR(VLOOKUP(V40,Tabelas!B:D,3,0),0),\"\")","v":0},{"$f":"IF(A40<>\"\",IFERROR(VLOOKUP(W40,Tabelas!B:D,3,0),0),\"\")","v":0},{"$f":"IF(A40<>\"\",IFERROR(VLOOKUP(X40,Tabelas!B:D,3,0),0),\"\")","v":0},{"$f":"IF(A40<>\"\",IFERROR(VLOOKUP(Y40,Tabelas!B:D,3,0),0),\"\")","v":0},{"$f":"IF(A40<>\"\",IFERROR(VLOOKUP(Z40,Tabelas!B:D,3,0),0),\"\")","v":0},{"$f":"IF(A40<>\"\",IFERROR(VLOOKUP(AA40,Tabelas!B:D,3,0),0),\"\")","v":0},{"$f":"IF(A40<>\"\",IFERROR(VLOOKUP(AB40,Tabelas!B:D,3,0),0),\"\")","v":0},{"$f":"IF(A40<>\"\",IFERROR(VLOOKUP(AC40,Tabelas!B:D,3,0),0),\"\")","v":0},{"$f":"IF(A40<>\"\",IFERROR(VLOOKUP(AD40,Tabelas!B:D,3,0),0),\"\")","v":0},{"$f":"IF(A40<>\"\",IFERROR(VLOOKUP(AE40,Tabelas!B:D,3,0),0),\"\")","v":0},{"$f":"IF(A40<>\"\",IFERROR(VLOOKUP(AF40,Tabelas!B:D,3,0),0),\"\")","v":0},{"$f":"IF(A40<>\"\",IFERROR(VLOOKUP(AG40,Tabelas!B:D,3,0),0),\"\")","v":0},{"$f":"IF(A40<>\"\",IFERROR(VLOOKUP(AH40,Tabelas!B:D,3,0),0),\"\")","v":0},{"$f":"IF(A40<>\"\",IFERROR(VLOOKUP(AI40,Tabelas!B:D,3,0),0),\"\")","v":0},{"$f":"IF(A40<>\"\",IFERROR(VLOOKUP(AJ40,Tabelas!B:D,3,0),0),\"\")","v":0},{"$f":"IF(A40<>\"\",IFERROR(VLOOKUP(AK40,Tabelas!B:D,3,0),0),\"\")","v":0},{"$f":"IF(A40<>\"\",IFERROR(VLOOKUP(AL40,Tabelas!B:D,3,0),0),\"\")","v":0},{"$f":"IF(A40<>\"\",IFERROR(VLOOKUP(AM40,Tabelas!B:D,3,0),0),\"\")","v":0},{"$f":"IF(A40<>\"\",IFERROR(VLOOKUP(AN40,Tabelas!B:D,3,0),0),\"\")","v":0},{"$f":"IF(A40<>\"\",IFERROR(VLOOKUP(AO40,Tabelas!B:D,3,0),0),\"\")","v":0},{"$f":"IF(A40<>\"\",IFERROR(VLOOKUP(AP40,Tabelas!B:D,3,0),0),\"\")","v":0},{"$f":"IF(A40<>\"\",IFERROR(VLOOKUP(AQ40,Tabelas!B:D,3,0),0),\"\")","v":0},{"$f":"IF(A40<>\"\",IFERROR(VLOOKUP(AR40,Tabelas!B:D,3,0),0),\"\")","v":0}]
["TOTAL DE PROFISSIONAIS NOTURNO",null,null,null,null,null,null,null,null,null,null,null,null,{"$f":"COUNTIF(N9:N18,\"N\")+COUNTIF(N19:N28,\"N\")+COUNTIF(N29:N38,\"N\")+COUNTIF(N9:N18,\"N?\") +COUNTIF(N19:N28,\"N?\")+COUNTIF(N29:N38,\"N?\")+ COUNTIF(N9:N18, \"DN?\")+ COUNTIF(N19:N28, \"DN?\")+ COUNTIF(N29:N38, \"DN?\")","v":2},2,0,2,2,0,2,2,0,2,2,0,2,2,0,2,2,0,2,2,0,1,2,0,1,2,0,1,2,0,1,{"$f":"IF(A41<>\"\",IFERROR(VLOOKUP(N41,Tabelas!B:D,3,0),0),\"\")","v":0},{"$f":"IF(A41<>\"\",IFERROR(VLOOKUP(O41,Tabelas!B:D,3,0),0),\"\")","v":0},{"$f":"IF(A41<>\"\",IFERROR(VLOOKUP(P41,Tabelas!B:D,3,0),0),\"\")","v":0},{"$f":"IF(A41<>\"\",IFERROR(VLOOKUP(Q41,Tabelas!B:D,3,0),0),\"\")","v":0},{"$f":"IF(A41<>\"\",IFERROR(VLOOKUP(R41,Tabelas!B:D,3,0),0),\"\")","v":0},{"$f":"IF(A41<>\"\",IFERROR(VLOOKUP(S41,Tabelas!B:D,3,0),0),\"\")","v":0},{"$f":"IF(A41<>\"\",IFERROR(VLOOKUP(T41,Tabelas!B:D,3,0),0),\"\")","v":0},{"$f":"IF(A41<>\"\",IFERROR(VLOOKUP(U41,Tabelas!B:D,3,0),0),\"\")","v":0},{"$f":"IF(A41<>\"\",IFERROR(VLOOKUP(V41,Tabelas!B:D,3,0),0),\"\")","v":0},{"$f":"IF(A41<>\"\",IFERROR(VLOOKUP(W41,Tabelas!B:D,3,0),0),\"\")","v":0},{"$f":"IF(A41<>\"\",IFERROR(VLOOKUP(X41,Tabelas!B:D,3,0),0),\"\")","v":0},{"$f":"IF(A41<>\"\",IFERROR(VLOOKUP(Y41,Tabelas!B:D,3,0),0),\"\")","v":0},{"$f":"IF(A41<>\"\",IFERROR(VLOOKUP(Z41,Tabelas!B:D,3,0),0),\"\")","v":0},{"$f":"IF(A41<>\"\",IFERROR(VLOOKUP(AA41,Tabelas!B:D,3,0),0),\"\")","v":0},{"$f":"IF(A41<>\"\",IFERROR(VLOOKUP(AB41,Tabelas!B:D,3,0),0),\"\")","v":0},{"$f":"IF(A41<>\"\",IFERROR(VLOOKUP(AC41,Tabelas!B:D,3,0),0),\"\")","v":0},{"$f":"IF(A41<>\"\",IFERROR(VLOOKUP(AD41,Tabelas!B:D,3,0),0),\"\")","v":0},{"$f":"IF(A41<>\"\",IFERROR(VLOOKUP(AE41,Tabelas!B:D,3,0),0),\"\")","v":0},{"$f":"IF(A41<>\"\",IFERROR(VLOOKUP(AF41,Tabelas!B:D,3,0),0),\"\")","v":0},{"$f":"IF(A41<>\"\",IFERROR(VLOOKUP(AG41,Tabelas!B:D,3,0),0),\"\")","v":0},{"$f":"IF(A41<>\"\",IFERROR(VLOOKUP(AH41,Tabelas!B:D,3,0),0),\"\")","v":0},{"$f":"IF(A41<>\"\",IFERROR(VLOOKUP(AI41,Tabelas!B:D,3,0),0),\"\")","v":0},{"$f":"IF(A41<>\"\",IFERROR(VLOOKUP(AJ41,Tabelas!B:D,3,0),0),\"\")","v":0},{"$f":"IF(A41<>\"\",IFERROR(VLOOKUP(AK41,Tabelas!B:D,3,0),0),\"\")","v":0},{"$f":"IF(A41<>\"\",IFERROR(VLOOKUP(AL41,Tabelas!B:D,3,0),0),\"\")","v":0},{"$f":"IF(A41<>\"\",IFERROR(VLOOKUP(AM41,Tabelas!B:D,3,0),0),\"\")","v":0},{"$f":"IF(A41<>\"\",IFERROR(VLOOKUP(AN41,Tabelas!B:D,3,0),0),\"\")","v":0},{"$f":"IF(A41<>\"\",IFERROR(VLOOKUP(AO41,Tabelas!B:D,3,0),0),\"\")","v":0},{"$f":"IF(A41<>\"\",IFERROR(VLOOKUP(AP41,Tabelas!B:D,3,0),0),\"\")","v":0},{"$f":"IF(A41<>\"\",IFERROR(VLOOKUP(AQ41,Tabelas!B:D,3,0),0),\"\")","v":0},{"$f":"IF(A41<>\"\",IFERROR(VLOOKUP(AR41,Tabelas!B:D,3,0),0),\"\")","v":0}]
[null,null,null,null,null,null,null,null,null,null,null,null,null,null,null,null,null,null,null,null,null,null,null,null,null,null,null,null,null,null,null,null,null,null,null,null,null,null,null,null,null,null,null,null,{"$f":"IF(A42<>\"\",IFERROR(VLOOKUP(N42,Tabelas!B:D,3,0),0),\"\")","v":""},{"$f":"IF(A42<>\"\",IFERROR(VLOOKUP(O42,Tabelas!B:D,3,0),0),\"\")","v":""},{"$f":"IF(A42<>\"\",IFERROR(VLOOKUP(P42,Tabelas!B:D,3,0),0),\"\")","v":""},{"$f":"IF(A42<>\"\",IFERROR(VLOOKUP(Q42,Tabelas!B:D,3,0),0),\"\")","v":""},{"$f":"IF(A42<>\"\",IFERROR(VLOOKUP(R42,Tabelas!B:D,3,0),0),\"\")","v":""},{"$f":"IF(A42<>\"\",IFERROR(VLOOKUP(S42,Tabelas!B:D,3,0),0),\"\")","v":""},{"$f":"IF(A42<>\"\",IFERROR(VLOOKUP(T42,Tabelas!B:D,3,0),0),\"\")","v":""},{"$f":"IF(A42<>\"\",IFERROR(VLOOKUP(U42,Tabelas!B:D,3,0),0),\"\")","v":""},{"$f":"IF(A42<>\"\",IFERROR(VLOOKUP(V42,Tabelas!B:D,3,0),0),\"\")","v":""},{"$f":"IF(A42<>\"\",IFERROR(VLOOKUP(W42,Tabelas!B:D,3,0),0),\"\")","v":""},{"$f":"IF(A42<>\"\",IFERROR(VLOOKUP(X42,Tabelas!B:D,3,0),0),\"\")","v":""},{"$f":"IF(A42<>\"\",IFERROR(VLOOKUP(Y42,Tabelas!B:D,3,0),0),\"\")","v":""},{"$f":"IF(A42<>\"\",IFERROR(VLOOKUP(Z42,Tabelas!B:D,3,0),0),\"\")","v":""},{"$f":"IF(A42<>\"\",IFERROR(VLOOKUP(AA42,Tabelas!B:D,3,0),0),\"\")","v":""},{"$f":"IF(A42<>\"\",IFERROR(VLOOKUP(AB42,Tabelas!B:D,3,0),0),\"\")","v":""},{"$f":"IF(A42<>\"\",IFERROR(VLOOKUP(AC42,Tabelas!B:D,3,0),0),\"\")","v":""},{"$f":"IF(A42<>\"\",IFERROR(VLOOKUP(AD42,Tabelas!B:D,3,0),0),\"\")","v":""},{"$f":"IF(A42<>\"\",IFERROR(VLOOKUP(AE42,Tabelas!B:D,3,0),0),\"\")","v":""},{"$f":"IF(A42<>\"\",IFERROR(VLOOKUP(AF42,Tabelas!B:D,3,0),0),\"\")","v":""},{"$f":"IF(A42<>\"\",IFERROR(VLOOKUP(AG42,Tabelas!B:D,3,0),0),\"\")","v":""},{"$f":"IF(A42<>\"\",IFERROR(VLOOKUP(AH42,Tabelas!B:D,3,0),0),\"\")","v":""},{"$f":"IF(A42<>\"\",IFERROR(VLOOKUP(AI42,Tabelas!B:D,3,0),0),\"\")","v":""},{"$f":"IF(A42<>\"\",IFERROR(VLOOKUP(AJ42,Tabelas!B:D,3,0),0),\"\")","v":""},{"$f":"IF(A42<>\"\",IFERROR(VLOOKUP(AK42,Tabelas!B:D,3,0),0),\"\")","v":""},{"$f":"IF(A42<>\"\",IFERROR(VLOOKUP(AL42,Tabelas!B:D,3,0),0),\"\")","v":""},{"$f":"IF(A42<>\"\",IFERROR(VLOOKUP(AM42,Tabelas!B:D,3,0),0),\"\")","v":""},{"$f":"IF(A42<>\"\",IFERROR(VLOOKUP(AN42,Tabelas!B:D,3,0),0),\"\")","v":""},{"$f":"IF(A42<>\"\",IFERROR(VLOOKUP(AO42,Tabelas!B:D,3,0),0),\"\")","v":""},{"$f":"IF(A42<>\"\",IFERROR(VLOOKUP(AP42,Tabelas!B:D,3,0),0),\"\")","v":""},{"$f":"IF(A42<>\"\",IFERROR(VLOOKUP(AQ42,Tabelas!B:D,3,0),0),\"\")","v":""},{"$f":"IF(A42<>\"\",IFERROR(VLOOKUP(AR42,Tabelas!B:D,3,0),0),\"\")","v":""},"",{"$f":"IF(A42<>\"\",COUNTIF(N42:AR42,\"LM\")+COUNTIF(N42:AR42,\"L\"),\"\")","v":""},"","","","",null,{"$f":"IF(A42<>\"\",COUNTIF(N42:AR42,\"CE\")+COUNTIF(N42:AR42,\"L\")+COUNTIF(N42:AR42,\"LM\")+COUNTIF(N42:AR42,\"LC\")+COUNTIF(N42:AR42,\"AB\"),\"\")","v":""},{"$f":"IF(A42<>\"\",COUNTIF(N42:AR42,\"APH\"),\"\")","v":""}]
["Legenda:",null,null,null,null,null,null,null,null,null,null,null,null,null,null,null,null,null,null,null,null,null,null,null,null,null,null,null,null,null,null,null,null,null,null,null,null,null,null,null,null,null,null,null,null,null,null,null,null,null,null,null,null,null,null,null,null,null,null,null,null,null,null,null,null,null,null,null,null,null,null,null,null,null,null,"OBSERVAÇÕES:"]
["Licença Maternidade","LM","Férias",null,"FE","Ponto Facultativo",null,null,null,null,null,null,null,null,null,"PF","Manhã **",null,null,null,null,null,null,"M","Diunro (8 hrs) **",null,null,null,null,null,null,"MT",null,null,null,null,null,null,null,null,null,null,null,null,null,null,null,null,null,null,null,null,null,null,null,null,null,null,null,null,null,null,null,null,null,null,null,null,null,null,null,null,null,null,null,"* Para os Afastamentos previstos em lei, utilizar as legendas "]
["Licença Paternidade","LP","Feriado",null,"FD","Abono",null,null,null,null,null,null,null,null,null,"AB","Tarde **",null,null,null,null,null,null,"T","Dia/ noite (24 hrs) **",null,null,null,null,null,null,"DN",null,null,null,null,null,null,null,null,null,null,null,null,null,null,null,null,null,null,null,null,null,null,null,null,null,null,null,null,null,null,null,null,null,null,null,null,null,null,null,null,null,null,null,"numeradas conforme descrição no item 3.2.2 da NO DGP nº 04/2017."]
["Licença Médica/Odontológica","L","Folga",null,"FO","Compensação Horas Excedentes",null,null,null,null,null,null,null,null,null,"CE","Plantão Dia (12 hrs) **",null,null,null,null,null,null,"D",null,null,null,null,null,null,null,null,null,null,null,null,null,null,null,null,null,null,null,null,null,null,null,null,null,null,null,null,null,null,null,null,null,null,null,null,null,null,null,null,null,null,null,null,null,null,null,null,null,null,null,"** Para as variações de horários (M1, M2, T1, T2...), utilizar as "]
["Licença Capacitação","LC","Recesso",null,"RC","Afastamento*",null,null,null,null,null,null,null,null,null,"AF","Plantão Noite (12 hrs)**",null,null,null,null,null,null,"N",null,null,null,null,null,null,null,null,null,null,null,null,null,null,null,null,null,null,null,null,null,null,null,null,null,null,null,null,null,null,null,null,null,null,null,null,null,null,null,null,null,null,null,null,null,null,null,null,null,null,null,"legendas numeradas conforme descrição do item 3.2.2 na Norma "]
[null,null,null,null,null,null,null,null,null,null,null,null,null,null,null,null,null,null,null,null,null,null,null,null,null,null,null,null,null,null,null,null,null,null,null,null,null,null,null,null,null,null,null,null,null,null,null,null,null,null,null,null,null,null,null,null,null,null,null,null,null,null,null,null,null,null,null,null,null,null,null,null,null,null,null,"Operacional DGP nº 04/2017."]

{"sheet":"Tabelas","index":12,"n_rows":71,"n_cols":14,"rows_kept":71,"cut":false,"hidden":true,"merged":[[46,0,70,0],[1,0,45,0]]}
[null,"Legenda","Descrição","CH",null,null,null,null,"Dias da Semana",null,null,"Ano","Mês"]
["Turno de Trabalho",null,null,null,null,null,null,null,1,"DOM",null,2016,"Janeiro",1]
[null,"M1","Matutino 04h",4,null,null,null,null,2,"SEG",null,2017,"Fevereiro",2]
[null,"M2","Matutino 04h",4,null,null,null,null,3,"TER",null,2018,"Março",3]
[null,"M3","Matutino 04h",4,null,null,null,null,4,"QUA",null,2019,"Abril",4]
[null,"M4","Matutino 04h",4,null,null,null,null,5,"QUI",null,2020,"Maio",5]
[null,"M5","Matutino 06h",6,null,null,null,null,6,"SEX",null,2021,"Junho",6]
[null,"M6","Matutino 06h",6,null,null,null,null,7,"SAB",null,2022,"Julho",7]
[null,"M7","Matutino 06h",6,null,null,null,null,null,null,null,2023,"Agosto",8]
[null,null,null,null,null,null,null,null,null,null,null,2024,"Setembro",9]
[null,"T1","Vespertino 04h",4,null,null,null,null,null,null,null,2025,"Outubro",10]
[null,"T2","Vespertino 04h",4,null,null,null,null,null,null,null,null,"Novembro",11]
[null,"T3","Vespertino 04h",4,null,null,null,null,null,null,null,null,"Dezembro",12]
[null,"T4","Vespertino 04h",4]
[null,"T5","Vespertino 06h",6]
[null,"T6","Vespertino 06h",6]
[null,"T7","Vespertino 06h",6]
[null,"T8","Vespertino 06h",6]
[null,"MT1","Diurno 08h",8]
[null,"MT2","Diurno 08h",8]
[null,"MT3","Diurno 08h",8]
[null,"MT4","Diurno 08h",8]
[null,"MT5","Diurno 08h",8]
[null,"MT6","Diurno 08h",8]
[null,"MT7","Diurno 08h",8]
[null,"MT8","Diurno 08h",8]
[null,"MT9","Diurno 08h",8]
[null,"MT10","Diurno 08h",8]
[null,"MT11","Diurno 08h",8]
[null,"MT12","Diurno 08h",8]
[null,"MT13","Diurno 08h",8]
[null,"MT14","Diurno 08h",8]
[null,"MT15","Diurno 08h",8]
[]
[null,"N1","Noturno 12h",12]
[null,"N2","Noturno 12h",12]
[null,"N3","Noturno 12h",12]
[null,"N4","Noturno 12h",6]
[]
[null,"D1","Diurno 12h",12]
[null,"D2","Diurno 12h",12]
[null,"D3","Diurno 12h",12]
[null,"D4","Diurno 12h",12]
[null,"DN1","Diurno/Noturno -24H",24]
[null,"DN2","Diurno/Noturno -24H",24]
[null,"DN3","Diurno/Noturno -24H",24]
["Afastamentos legais","FO","Folga mensal",0]
[null,"FE","Férias",0]
[null,"FD","Feriado",0]
[null,"CE","Compensação de horas excedentes",0]
[null,"L","Licença Médica e Odontológica",0]
[null,"LM","Licença-Maternidade",0]
[null,"LP","Licença-Paternicade",0]
[null,"LC","Licença para Capacitação",0]
[null,"AB","Abono",0]
[null,"RC","Recesso",0]
[null,"PF","Ponto Facultativo",0]
[null,"AF1","Licença por acidente de trabalho",0]
[null,"AF2","Licença gala de 8 (oito) dias consecutivos a contar da data do casamento, ou da data do registro, em cartório, da União Estável",0]
[null,"AF3","Licença por morte de familiar",0]
[null,"AF4","Licença sem remuneração para tratar de interesse particular",0]
[null,"AF5","Licença para acompanhamento de familiar, filhos menores ou pais maiores de 60 (sessenta) anos",0]
[null,"AF6","Licença para exercício de mandato de cargo de direção em entidade Sindical representativa dos empregados da EBSERH (art.543, parágrafo 2º da CLT)",0]
[null,"AF7","Licença para atividade política (Lei 7.664/88, artigo 25)",0]
[null,"AF8","Doação de sangue por um dia em cada seis meses de trabalho",0]
[null,"AF9","Alistamento eleitoral, até 2 (dois) dias, consecutivos ou não",0]
[null,"AF10","Depoimento em inquérito policial ou processo judicial",0]
[null,"AF11","Convocação para o Júri, funções da Justiça Eleitoral desde que amparada em lei, apresentação militar e outros serviços legalmente obrigatórios",0]
[null,"AF12","Realização de provas de exame vestibular",0]
[null,"AF13","Participação em reuniões da Comissão de Negociação",0]
[null,"AF14","Outras ausências permitidas por Lei ou em razão de Acordo ou Convenção Coletiva",0]