{"text_format":"1","workbook":"xlsx","n_sheets":13,"sheets":["Janeiro","Fevereiro","Março","Abril","Maio","Junho","Julho","Agosto","Setembro","Outubro","Novembro","Dezembro","Tabelas"],"not_rendered":{"charts":0,"images":1,"macros":1,"external_links":0,"defined_names":11,"comments":1,"pivot_tables":0},"unopened":[],"bounds":{"document_bytes":16777216,"sheet_cells":100000,"rows_first":2000,"rows_last":500,"rows_between":2000,"halvings":0,"cell_chars":16384,"cell_head_chars":4096},"cells_cut":0,"cells_raw":0,"read":"whole","date_system":"1900"}

{"sheet":"Janeiro","index":0,"n_rows":52,"n_cols":82,"rows_kept":52,"cut":false,"hidden":false,"merged":[[44,20,44,26],[45,2,45,8],[45,9,45,10],[45,11,45,18],[45,20,45,26],[44,2,44,8],[44,9,44,10],[46,20,46,26],[47,2,47,8],[47,9,47,10],[47,11,47,18],[47,20,47,26],[39,0,39,11],[40,0,40,11],[41,0,41,11],[46,2,46,8],[46,9,46,10],[46,11,46,18],[44,11,44,18],[1,0,1,42],[2,0,2,42],[3,0,3,42],[4,1,4,20],[4,23,4,34],[4,37,4,42],[5,6,5,11],[6,76,7,76],[6,77,7,77],[6,78,7,78],[6,79,7,79],[6,6,7,6],[6,7,7,7],[6,8,7,8],[6,11,7,11],[6,9,7,9],[6,10,7,10],[6,80,7,80],[6,81,7,81],[5,12,5,42],[5,43,5,73],[5,75,5,81],[5,74,7,74],[6,75,7,75],[39,79,41,79],[39,80,41,80],[39,81,41,81],[44,28,44,34],[45,28,45,34],[39,74,41,74],[39,75,41,75],[39,76,41,76],[39,77,41,77],[39,78,41,78]]}
[]
[]
["NOME DO HU"]
["ESCALA MENSAL DE TRABALHO"]
["DIVISÃO /SETOR/UNIDADE:",null,null,null,null,null,null,null,null,null,null,null,null,null,null,null,null,null,null,null,null,"MÊS:",null,"Janeiro",null,null,null,null,null,null,null,null,null,null,null,"ANO:",null,2020]
["NOME COMPLETO","SIAPE","     Registro Conselho Classe","Cargo","Vínculo","    C.H Sem","INTERVALO",null,null,null,null,null,"DIAS DO MÊS",null,null,null,null,null,null,null,null,null,null,null,null,null,null,null,null,null,null,null,null,null,null,null,null,null,null,null,null,null,null,"CÁLCULO DAS HORAS",null,null,null,null,null,null,null,null,null,null,null,null,null,null,null,null,null,null,null,null,null,null,null,null,null,null,null,null,null,null,"CH Men.","Dias"]
[null,null,null,null,null,null,"15' M","15' T","15' N","1H D","1H N","2H",1,2,3,4,5,6,7,8,9,10,11,12,13,14,15,16,17,18,19,20,21,22,23,24,25,{"$f":"IF(DAY(DATE(AL5,VLOOKUP(X5,Tabelas!M:N,2,0)+1,1)-1)>=26,26,\"\")","v":26},{"$f":"IF(DAY(DATE(AL5,VLOOKUP(X5,Tabelas!M:N,2,0)+1,1)-1)>=27,27,\"\")","v":27},{"$f":"IF(DAY(DATE(AL5,VLOOKUP(X5,Tabelas!M:N,2,0)+1,1)-1)>=28,28,\"\")","v":28},{"$f":"IF(DAY(DATE(AL5,VLOOKUP(X5,Tabelas!M:N,2,0)+1,1)-1)>=29,29,\"\")","v":29},{"$f":"IF(DAY(DATE(AL5,VLOOKUP(X5,Tabelas!M:N,2,0)+1,1)-1)>=30,30,\"\")","v":30},{"$f":"IF(DAY(DATE(AL5,VLOOKUP(X5,Tabelas!M:N,2,0)+1,1)-1)>=31,31,\"\")","v":31},null,null,null,null,null,null,null,null,null,null,null,null,null,null,null,null,null,null,null,null,null,null,null,null,null,null,null,null,null,null,null,null,"LM/LP/L","AB","FE","LC","CH","AF  "," Total Afast."]
[null,null,null,null,null,null,null,null,null,null,null,null,{"$f":"IF(M7<>\"\",IFERROR(VLOOKUP(WEEKDAY(CONCATENATE(M7,$X$5,$AL$5)),Tabelas!$I:$J,2,0),\"\"),\"\")","v":"QUA"},{"$f":"IF(N7<>\"\",IFERROR(VLOOKUP(WEEKDAY(CONCATENATE(N7,$X$5,$AL$5)),Tabelas!$I:$J,2,0),\"\"),\"\")","v":"QUI"},{"$f":"IF(O7<>\"\",IFERROR(VLOOKUP(WEEKDAY(CONCATENATE(O7,$X$5,$AL$5)),Tabelas!$I:$J,2,0),\"\"),\"\")","v":"SEX"},{"$f":"IF(P7<>\"\",IFERROR(VLOOKUP(WEEKDAY(CONCATENATE(P7,$X$5,$AL$5)),Tabelas!$I:$J,2,0),\"\"),\"\")","v":"SAB"},{"$f":"IF(Q7<>\"\",IFERROR(VLOOKUP(WEEKDAY(CONCATENATE(Q7,$X$5,$AL$5)),Tabelas!$I:$J,2,0),\"\"),\"\")","v":"DOM"},{"$f":"IF(R7<>\"\",IFERROR(VLOOKUP(WEEKDAY(CONCATENATE(R7,$X$5,$AL$5)),Tabelas!$I:$J,2,0),\"\"),\"\")","v":"SEG"},{"$f":"IF(S7<>\"\",IFERROR(VLOOKUP(WEEKDAY(CONCATENATE(S7,$X$5,$AL$5)),Tabelas!$I:$J,2,0),\"\"),\"\")","v":"TER"},{"$f":"IF(T7<>\"\",IFERROR(VLOOKUP(WEEKDAY(CONCATENATE(T7,$X$5,$AL$5)),Tabelas!$I:$J,2,0),\"\"),\"\")","v":"QUA"},{"$f":"IF(U7<>\"\",IFERROR(VLOOKUP(WEEKDAY(CONCATENATE(U7,$X$5,$AL$5)),Tabelas!$I:$J,2,0),\"\"),\"\")","v":"QUI"},{"$f":"IF(V7<>\"\",IFERROR(VLOOKUP(WEEKDAY(CONCATENATE(V7,$X$5,$AL$5)),Tabelas!$I:$J,2,0),\"\"),\"\")","v":"SEX"},{"$f":"IF(W7<>\"\",IFERROR(VLOOKUP(WEEKDAY(CONCATENATE(W7,$X$5,$AL$5)),Tabelas!$I:$J,2,0),\"\"),\"\")","v":"SAB"},{"$f":"IF(X7<>\"\",IFERROR(VLOOKUP(WEEKDAY(CONCATENATE(X7,$X$5,$AL$5)),Tabelas!$I:$J,2,0),\"\"),\"\")","v":"DOM"},{"$f":"IF(Y7<>\"\",IFERROR(VLOOKUP(WEEKDAY(CONCATENATE(Y7,$X$5,$AL$5)),Tabelas!$I:$J,2,0),\"\"),\"\")","v":"SEG"},{"$f":"IF(Z7<>\"\",IFERROR(VLOOKUP(WEEKDAY(CONCATENATE(Z7,$X$5,$AL$5)),Tabelas!$I:$J,2,0),\"\"),\"\")","v":"TER"},{"$f":"IF(AA7<>\"\",IFERROR(VLOOKUP(WEEKDAY(CONCATENATE(AA7,$X$5,$AL$5)),Tabelas!$I:$J,2,0),\"\"),\"\")","v":"QUA"},{"$f":"IF(AB7<>\"\",IFERROR(VLOOKUP(WEEKDAY(CONCATENATE(AB7,$X$5,$AL$5)),Tabelas!$I:$J,2,0),\"\"),\"\")","v":"QUI"},{"$f":"IF(AC7<>\"\",IFERROR(VLOOKUP(WEEKDAY(CONCATENATE(AC7,$X$5,$AL$5)),Tabelas!$I:$J,2,0),\"\"),\"\")","v":"SEX"},{"$f":"IF(AD7<>\"\",IFERROR(VLOOKUP(WEEKDAY(CONCATENATE(AD7,$X$5,$AL$5)),Tabelas!$I:$J,2,0),\"\"),\"\")","v":"SAB"},{"$f":"IF(AE7<>\"\",IFERROR(VLOOKUP(WEEKDAY(CONCATENATE(AE7,$X$5,$AL$5)),Tabelas!$I:$J,2,0),\"\"),\"\")","v":"DOM"},{"$f":"IF(AF7<>\"\",IFERROR(VLOOKUP(WEEKDAY(CONCATENATE(AF7,$X$5,$AL$5)),Tabelas!$I:$J,2,0),\"\"),\"\")","v":"SEG"},{"$f":"IF(AG7<>\"\",IFERROR(VLOOKUP(WEEKDAY(CONCATENATE(AG7,$X$5,$AL$5)),Tabelas!$I:$J,2,0),\"\"),\"\")","v":"TER"},{"$f":"IF(AH7<>\"\",IFERROR(VLOOKUP(WEEKDAY(CONCATENATE(AH7,$X$5,$AL$5)),Tabelas!$I:$J,2,0),\"\"),\"\")","v":"QUA"},{"$f":"IF(AI7<>\"\",IFERROR(VLOOKUP(WEEKDAY(CONCATENATE(AI7,$X$5,$AL$5)),Tabelas!$I:$J,2,0),\"\"),\"\")","v":"QUI"},{"$f":"IF(AJ7<>\"\",IFERROR(VLOOKUP(WEEKDAY(CONCATENATE(AJ7,$X$5,$AL$5)),Tabelas!$I:$J,2,0),\"\"),\"\")","v":"SEX"},{"$f":"IF(AK7<>\"\",IFERROR(VLOOKUP(WEEKDAY(CONCATENATE(AK7,$X$5,$AL$5)),Tabelas!$I:$J,2,0),\"\"),\"\")","v":"SAB"},{"$f":"IF(AL7<>\"\",IFERROR(VLOOKUP(WEEKDAY(CONCATENATE(AL7,$X$5,$AL$5)),Tabelas!$I:$J,2,0),\"\"),\"\")","v":"DOM"},{"$f":"IF(AM7<>\"\",IFERROR(VLOOKUP(WEEKDAY(CONCATENATE(AM7,$X$5,$AL$5)),Tabelas!$I:$J,2,0),\"\"),\"\")","v":"SEG"},{"$f":"IF(AN7<>\"\",IFERROR(VLOOKUP(WEEKDAY(CONCATENATE(AN7,$X$5,$AL$5)),Tabelas!$I:$J,2,0),\"\"),\"\")","v":"TER"},{"$f":"IF(AO7<>\"\",IFERROR(VLOOKUP(WEEKDAY(CONCATENATE(AO7,$X$5,$AL$5)),Tabelas!$I:$J,2,0),\"\"),\"\")","v":"QUA"},{"$f":"IF(AP7<>\"\",IFERROR(VLOOKUP(WEEKDAY(CONCATENATE(AP7,$X$5,$AL$5)),Tabelas!$I:$J,2,0),\"\"),\"\")","v":"QUI"},{"$f":"IF(AQ7<>\"\",IFERROR(VLOOKUP(WEEKDAY(CONCATENATE(AQ7,$X$5,$AL$5)),Tabelas!$I:$J,2,0),\"\"),\"\")","v":"SEX"},1,2,3,4,5,6,7,8,9,10,11,12,13,14,15,16,17,18,19,20,21,22,23,24,25,26,27,28,29,30,31]
["ROTINA",null,null,null,null,null,null,null,null,null,null,null,null,null,null,null,null,null,null,null,null,null,null,null,null,null,null,null,null,null,null,null,null,null,null,null,null,null,null,null,null,null,null,{"$f":"IF(A9<>\"\",IFERROR(VLOOKUP(M9,Tabelas!B:D,3,0),0),\"\")","v":0},{"$f":"IF(A9<>\"\",IFERROR(VLOOKUP(N9,Tabelas!B:D,3,0),0),\"\")","v":0},{"$f":"IF(A9<>\"\",IFERROR(VLOOKUP(O9,Tabelas!B:D,3,0),0),\"\")","v":0},{"$f":"IF(A9<>\"\",IFERROR(VLOOKUP(P9,Tabelas!B:D,3,0),0),\"\")","v":0},{"$f":"IF(A9<>\"\",IFERROR(VLOOKUP(Q9,Tabelas!B:D,3,0),0),\"\")","v":0},{"$f":"IF(A9<>\"\",IFERROR(VLOOKUP(R9,Tabelas!B:D,3,0),0),\"\")","v":0},{"$f":"IF(A9<>\"\",IFERROR(VLOOKUP(S9,Tabelas!B:D,3,0),0),\"\")","v":0},{"$f":"IF(A9<>\"\",IFERROR(VLOOKUP(T9,Tabelas!B:D,3,0),0),\"\")","v":0},{"$f":"IF(A9<>\"\",IFERROR(VLOOKUP(U9,Tabelas!B:D,3,0),0),\"\")","v":0},{"$f":"IF(A9<>\"\",IFERROR(VLOOKUP(V9,Tabelas!B:D,3,0),0),\"\")","v":0},{"$f":"IF(A9<>\"\",IFERROR(VLOOKUP(W9,Tabelas!B:D,3,0),0),\"\")","v":0},{"$f":"IF(A9<>\"\",IFERROR(VLOOKUP(X9,Tabelas!B:D,3,0),0),\"\")","v":0},{"$f":"IF(A9<>\"\",IFERROR(VLOOKUP(Y9,Tabelas!B:D,3,0),0),\"\")","v":0},{"$f":"IF(A9<>\"\",IFERROR(VLOOKUP(Z9,Tabelas!B:D,3,0),0),\"\")","v":0},{"$f":"IF(A9<>\"\",IFERROR(VLOOKUP(AA9,Tabelas!B:D,3,0),0),\"\")","v":0},{"$f":"IF(A9<>\"\",IFERROR(VLOOKUP(AB9,Tabelas!B:D,3,0),0),\"\")","v":0},{"$f":"IF(A9<>\"\",IFERROR(VLOOKUP(AC9,Tabelas!B:D,3,0),0),\"\")","v":0},{"$f":"IF(A9<>\"\",IFERROR(VLOOKUP(AD9,Tabelas!B:D,3,0),0),\"\")","v":0},{"$f":"IF(A9<>\"\",IFERROR(VLOOKUP(AE9,Tabelas!B:D,3,0),0),\"\")","v":0},{"$f":"IF(A9<>\"\",IFERROR(VLOOKUP(AF9,Tabelas!B:D,3,0),0),\"\")","v":0},{"$f":"IF(A9<>\"\",IFERROR(VLOOKUP(AG9,Tabelas!B:D,3,0),0),\"\")","v":0},{"$f":"IF(A9<>\"\",IFERROR(VLOOKUP(AH9,Tabelas!B:D,3,0),0),\"\")","v":0},{"$f":"IF(A9<>\"\",IFERROR(VLOOKUP(AI9,Tabelas!B:D,3,0),0),\"\")","v":0},{"$f":"IF(A9<>\"\",IFERROR(VLOOKUP(AJ9,Tabelas!B:D,3,0),0),\"\")","v":0},{"$f":"IF(A9<>\"\",IFERROR(VLOOKUP(AK9,Tabelas!B:D,3,0),0),\"\")","v":0},{"$f":"IF(A9<>\"\",IFERROR(VLOOKUP(AL9,Tabelas!B:D,3,0),0),\"\")","v":0},{"$f":"IF(A9<>\"\",IFERROR(VLOOKUP(AM9,Tabelas!B:D,3,0),0),\"\")","v":0},{"$f":"IF(A9<>\"\",IFERROR(VLOOKUP(AN9,Tabelas!B:D,3,0),0),\"\")","v":0},{"$f":"IF(A9<>\"\",IFERROR(VLOOKUP(AO9,Tabelas!B:D,3,0),0),\"\")","v":0},{"$f":"IF(A9<>\"\",IFERROR(VLOOKUP(AP9,Tabelas!B:D,3,0),0),\"\")","v":0},{"$f":"IF(A9<>\"\",IFERROR(VLOOKUP(AQ9,Tabelas!B:D,3,0),0),\"\")","v":0},{"$f":"IF(AND(A9<>\"\",E9=\"Ebserh\"),SUM(AR9:BV9)+COUNTIF(M9:AQ9,\"N*\")+COUNTIF(M9:AQ9,\"DN*\"),IF(AND(A9<>\"\",E9<>\"Ebserh\"),SUM(AR9:BV9),\"\"))","v":0},{"$f":"IF(A9<>\"\",COUNTIF(M9:AQ9,\"LM\")+COUNTIF(M9:AQ9,\"L\")+COUNTIF(M9:AQ9,\"LP\"),\"\")","v":0},{"$f":"IF(A9<>\"\",COUNTIF(M9:AQ9,\"AB*\"),\"\")","v":0},{"$f":"IF(A9<>\"\",COUNTIF(M9:AQ9,\"FE\"),\"\")","v":0},{"$f":"IF(A9<>\"\",COUNTIF(M9:AQ9,\"LC\"),\"\")","v":0},{"$f":"IF(A9<>\"\",COUNTIF(M9:AQ9,\"CH*\"),\"\")","v":0},{"$f":"IF(A9<>\"\",COUNTIF(M9:AQ9,\"AF1\")+COUNTIF(M9:AQ9,\"AF2\")+COUNTIF(M9:AQ9,\"AF3\")+COUNTIF(M9:AQ9,\"AF4\")+COUNTIF(M9:AQ9,\"AF5\")+COUNTIF(M9:AQ9,\"AF6\")+COUNTIF(M9:AQ9,\"AF7\")+COUNTIF(M9:AQ9,\"AF8\")+COUNTIF(M9:AQ9,\"AF9\")+COUNTIF(M9:AQ9,\"AF10\")+COUNTIF(M9:AQ9,\"AF11\")+COUNTIF(M9:AQ9,\"AF12\")+COUNTIF(M9:AQ9,\"AF13\")+COUNTIF(M9:AQ9,\"AF14\"),\"\")","v":0},{"$f":"IF(A9<>\"\",COUNTIF(M9:AQ9,\"CH*\")+COUNTIF(M9:AQ9,\"L\")+COUNTIF(M9:AQ9,\"LM\")+COUNTIF(M9:AQ9,\"LP\")+COUNTIF(M9:AQ9,\"LC\")+COUNTIF(M9:AQ9,\"AB*\")+COUNTIF(M9:AQ9,\"AF1\")+COUNTIF(M9:AQ9,\"AF2\")+COUNTIF(M9:AQ9,\"AF3\")+COUNTIF(M9:AQ9,\"AF4\")+COUNTIF(M9:AQ9,\"AF5\")+COUNTIF(M9:AQ9,\"AF6\")+COUNTIF(M9:AQ9,\"AF7\")+COUNTIF(M9:AQ9,\"AF8\")+COUNTIF(M9:AQ9,\"AF9\")+COUNTIF(M9:AQ9,\"AF10\")+COUNTIF(M9:AQ9,\"AF11\")+COUNTIF(M9:AQ9,\"AF12\")+COUNTIF(M9:AQ9,\"AF13\")+COUNTIF(M9:AQ9,\"AF14\")+COUNTIF(M9:AQ9,\"RC\")+COUNTIF(M9:AQ9,\"FO\")+COUNTIF(M9:AQ9,\"FE\"),\"\")","v":0}]
["Alexandre Luciano Klein",2312539,null,"ME","RJU",30,null,null,null,null,null,null,null,"M17","M17",null,null,"M17","M17","M17","M17","M17",null,null,"M17","M17","M17","M17","M17",null,null,"M17","M17","M17","M17","M17",null,null,"M17","M17","M17","M17","M17",{"$f":"IF(A10<>\"\",IFERROR(VLOOKUP(M10,Tabelas!B:D,3,0),0),\"\")","v":0},{"$f":"IF(A10<>\"\",IFERROR(VLOOKUP(N10,Tabelas!B:D,3,0),0),\"\")","v":6},{"$f":"IF(A10<>\"\",IFERROR(VLOOKUP(O10,Tabelas!B:D,3,0),0),\"\")","v":6},{"$f":"IF(A10<>\"\",IFERROR(VLOOKUP(P10,Tabelas!B:D,3,0),0),\"\")","v":0},{"$f":"IF(A10<>\"\",IFERROR(VLOOKUP(Q10,Tabelas!B:D,3,0),0),\"\")","v":0},{"$f":"IF(A10<>\"\",IFERROR(VLOOKUP(R10,Tabelas!B:D,3,0),0),\"\")","v":6},{"$f":"IF(A10<>\"\",IFERROR(VLOOKUP(S10,Tabelas!B:D,3,0),0),\"\")","v":6},{"$f":"IF(A10<>\"\",IFERROR(VLOOKUP(T10,Tabelas!B:D,3,0),0),\"\")","v":6},{"$f":"IF(A10<>\"\",IFERROR(VLOOKUP(U10,Tabelas!B:D,3,0),0),\"\")","v":6},{"$f":"IF(A10<>\"\",IFERROR(VLOOKUP(V10,Tabelas!B:D,3,0),0),\"\")","v":6},{"$f":"IF(A10<>\"\",IFERROR(VLOOKUP(W10,Tabelas!B:D,3,0),0),\"\")","v":0},{"$f":"IF(A10<>\"\",IFERROR(VLOOKUP(X10,Tabelas!B:D,3,0),0),\"\")","v":0},{"$f":"IF(A10<>\"\",IFERROR(VLOOKUP(Y10,Tabelas!B:D,3,0),0),\"\")","v":6},{"$f":"IF(A10<>\"\",IFERROR(VLOOKUP(Z10,Tabelas!B:D,3,0),0),\"\")","v":6},{"$f":"IF(A10<>\"\",IFERROR(VLOOKUP(AA10,Tabelas!B:D,3,0),0),\"\")","v":6},{"$f":"IF(A10<>\"\",IFERROR(VLOOKUP(AB10,Tabelas!B:D,3,0),0),\"\")","v":6},{"$f":"IF(A10<>\"\",IFERROR(VLOOKUP(AC10,Tabelas!B:D,3,0),0),\"\")","v":6},{"$f":"IF(A10<>\"\",IFERROR(VLOOKUP(AD10,Tabelas!B:D,3,0),0),\"\")","v":0},{"$f":"IF(A10<>\"\",IFERROR(VLOOKUP(AE10,Tabelas!B:D,3,0),0),\"\")","v":0},{"$f":"IF(A10<>\"\",IFERROR(VLOOKUP(AF10,Tabelas!B:D,3,0),0),\"\")","v":6},{"$f":"IF(A10<>\"\",IFERROR(VLOOKUP(AG10,Tabelas!B:D,3,0),0),\"\")","v":6},{"$f":"IF(A10<>\"\",IFERROR(VLOOKUP(AH10,Tabelas!B:D,3,0),0),\"\")","v":6},{"$f":"IF(A10<>\"\",IFERROR(VLOOKUP(AI10,Tabelas!B:D,3,0),0),\"\")","v":6},{"$f":"IF(A10<>\"\",IFERROR(VLOOKUP(AJ10,Tabelas!B:D,3,0),0),\"\")","v":6},{"$f":"IF(A10<>\"\",IFERROR(VLOOKUP(AK10,Tabelas!B:D,3,0),0),\"\")","v":0},{"$f":"IF(A10<>\"\",IFERROR(VLOOKUP(AL10,Tabelas!B:D,3,0),0),\"\")","v":0},{"$f":"IF(A10<>\"\",IFERROR(VLOOKUP(AM10,Tabelas!B:D,3,0),0),\"\")","v":6},{"$f":"IF(A10<>\"\",IFERROR(VLOOKUP(AN10,Tabelas!B:D,3,0),0),\"\")","v":6},{"$f":"IF(A10<>\"\",IFERROR(VLOOKUP(AO10,Tabelas!B:D,3,0),0),\"\")","v":6},{"$f":"IF(A10<>\"\",IFERROR(VLOOKUP(AP10,Tabelas!B:D,3,0),0),\"\")","v":6},{"$f":"IF(A10<>\"\",IFERROR(VLOOKUP(AQ10,Tabelas!B:D,3,0),0),\"\")","v":6},132,0,0,0,0,0,0,0]
["Alexandre Luciano Klein",3312539,null,"ME","RJU",20,null,null,null,null,null,null,null,"T17",null,null,null,"T17",null,"T17","T17",null,null,null,"T17",null,"T17","T17",null,null,null,"T17","T17","T17","T17",null,null,null,"T17",null,"T17","T17",null,{"$f":"IF(A11<>\"\",IFERROR(VLOOKUP(M11,Tabelas!B:D,3,0),0),\"\")","v":0},{"$f":"IF(A11<>\"\",IFERROR(VLOOKUP(N11,Tabelas!B:D,3,0),0),\"\")","v":6},{"$f":"IF(A11<>\"\",IFERROR(VLOOKUP(O11,Tabelas!B:D,3,0),0),\"\")","v":0},{"$f":"IF(A11<>\"\",IFERROR(VLOOKUP(P11,Tabelas!B:D,3,0),0),\"\")","v":0},{"$f":"IF(A11<>\"\",IFERROR(VLOOKUP(Q11,Tabelas!B:D,3,0),0),\"\")","v":0},{"$f":"IF(A11<>\"\",IFERROR(VLOOKUP(R11,Tabelas!B:D,3,0),0),\"\")","v":6},{"$f":"IF(A11<>\"\",IFERROR(VLOOKUP(S11,Tabelas!B:D,3,0),0),\"\")","v":0},{"$f":"IF(A11<>\"\",IFERROR(VLOOKUP(T11,Tabelas!B:D,3,0),0),\"\")","v":6},{"$f":"IF(A11<>\"\",IFERROR(VLOOKUP(U11,Tabelas!B:D,3,0),0),\"\")","v":6},{"$f":"IF(A11<>\"\",IFERROR(VLOOKUP(V11,Tabelas!B:D,3,0),0),\"\")","v":0},{"$f":"IF(A11<>\"\",IFERROR(VLOOKUP(W11,Tabelas!B:D,3,0),0),\"\")","v":0},{"$f":"IF(A11<>\"\",IFERROR(VLOOKUP(X11,Tabelas!B:D,3,0),0),\"\")","v":0},{"$f":"IF(A11<>\"\",IFERROR(VLOOKUP(Y11,Tabelas!B:D,3,0),0),\"\")","v":6},{"$f":"IF(A11<>\"\",IFERROR(VLOOKUP(Z11,Tabelas!B:D,3,0),0),\"\")","v":0},{"$f":"IF(A11<>\"\",IFERROR(VLOOKUP(AA11,Tabelas!B:D,3,0),0),\"\")","v":6},{"$f":"IF(A11<>\"\",IFERROR(VLOOKUP(AB11,Tabelas!B:D,3,0),0),\"\")","v":6},{"$f":"IF(A11<>\"\",IFERROR(VLOOKUP(AC11,Tabelas!B:D,3,0),0),\"\")","v":0},{"$f":"IF(A11<>\"\",IFERROR(VLOOKUP(AD11,Tabelas!B:D,3,0),0),\"\")","v":0},{"$f":"IF(A11<>\"\",IFERROR(VLOOKUP(AE11,Tabelas!B:D,3,0),0),\"\")","v":0},{"$f":"IF(A11<>\"\",IFERROR(VLOOKUP(AF11,Tabelas!B:D,3,0),0),\"\")","v":6},{"$f":"IF(A11<>\"\",IFERROR(VLOOKUP(AG11,Tabelas!B:D,3,0),0),\"\")","v":6},{"$f":"IF(A11<>\"\",IFERROR(VLOOKUP(AH11,Tabelas!B:D,3,0),0),\"\")","v":6},{"$f":"IF(A11<>\"\",IFERROR(VLOOKUP(AI11,Tabelas!B:D,3,0),0),\"\")","v":6},{"$f":"IF(A11<>\"\",IFERROR(VLOOKUP(AJ11,Tabelas!B:D,3,0),0),\"\")","v":0},{"$f":"IF(A11<>\"\",IFERROR(VLOOKUP(AK11,Tabelas!B:D,3,0),0),\"\")","v":0},{"$f":"IF(A11<>\"\",IFERROR(VLOOKUP(AL11,Tabelas!B:D,3,0),0),\"\")","v":0},{"$f":"IF(A11<>\"\",IFERROR(VLOOKUP(AM11,Tabelas!B:D,3,0),0),\"\")","v":6},{"$f":"IF(A11<>\"\",IFERROR(VLOOKUP(AN11,Tabelas!B:D,3,0),0),\"\")","v":0},{"$f":"IF(A11<>\"\",IFERROR(VLOOKUP(AO11,Tabelas!B:D,3,0),0),\"\")","v":6},{"$f":"IF(A11<>\"\",IFERROR(VLOOKUP(AP11,Tabelas!B:D,3,0),0),\"\")","v":6},{"$f":"IF(A11<>\"\",IFERROR(VLOOKUP(AQ11,Tabelas!B:D,3,0),0),\"\")","v":0},84,0,0,0,0,0,0,0]
["Alice Danielle Correa Mendes Pinto",1357071,null,"ME","RJU",30,null,null,null,null,null,null,null,"T17","M17",null,null,"M17","T17","M17","T17","M17",null,null,"M17","T17","M17","T17","M17",null,null,"M17","T17","M17","T17","M17",null,null,"M17","T17","M17","T17","M17",{"$f":"IF(A12<>\"\",IFERROR(VLOOKUP(M12,Tabelas!B:D,3,0),0),\"\")","v":0},{"$f":"IF(A12<>\"\",IFERROR(VLOOKUP(N12,Tabelas!B:D,3,0),0),\"\")","v":6},{"$f":"IF(A12<>\"\",IFERROR(VLOOKUP(O12,Tabelas!B:D,3,0),0),\"\")","v":6},{"$f":"IF(A12<>\"\",IFERROR(VLOOKUP(P12,Tabelas!B:D,3,0),0),\"\")","v":0},{"$f":"IF(A12<>\"\",IFERROR(VLOOKUP(Q12,Tabelas!B:D,3,0),0),\"\")","v":0},{"$f":"IF(A12<>\"\",IFERROR(VLOOKUP(R12,Tabelas!B:D,3,0),0),\"\")","v":6},{"$f":"IF(A12<>\"\",IFERROR(VLOOKUP(S12,Tabelas!B:D,3,0),0),\"\")","v":6},{"$f":"IF(A12<>\"\",IFERROR(VLOOKUP(T12,Tabelas!B:D,3,0),0),\"\")","v":6},{"$f":"IF(A12<>\"\",IFERROR(VLOOKUP(U12,Tabelas!B:D,3,0),0),\"\")","v":6},{"$f":"IF(A12<>\"\",IFERROR(VLOOKUP(V12,Tabelas!B:D,3,0),0),\"\")","v":6},{"$f":"IF(A12<>\"\",IFERROR(VLOOKUP(W12,Tabelas!B:D,3,0),0),\"\")","v":0},{"$f":"IF(A12<>\"\",IFERROR(VLOOKUP(X12,Tabelas!B:D,3,0),0),\"\")","v":0},{"$f":"IF(A12<>\"\",IFERROR(VLOOKUP(Y12,Tabelas!B:D,3,0),0),\"\")","v":6},{"$f":"IF(A12<>\"\",IFERROR(VLOOKUP(Z12,Tabelas!B:D,3,0),0),\"\")","v":6},{"$f":"IF(A12<>\"\",IFERROR(VLOOKUP(AA12,Tabelas!B:D,3,0),0),\"\")","v":6},{"$f":"IF(A12<>\"\",IFERROR(VLOOKUP(AB12,Tabelas!B:D,3,0),0),\"\")","v":6},{"$f":"IF(A12<>\"\",IFERROR(VLOOKUP(AC12,Tabelas!B:D,3,0),0),\"\")","v":6},{"$f":"IF(A12<>\"\",IFERROR(VLOOKUP(AD12,Tabelas!B:D,3,0),0),\"\")","v":0},{"$f":"IF(A12<>\"\",IFERROR(VLOOKUP(AE12,Tabelas!B:D,3,0),0),\"\")","v":0},{"$f":"IF(A12<>\"\",IFERROR(VLOOKUP(AF12,Tabelas!B:D,3,0),0),\"\")","v":6},{"$f":"IF(A12<>\"\",IFERROR(VLOOKUP(AG12,Tabelas!B:D,3,0),0),\"\")","v":6},{"$f":"IF(A12<>\"\",IFERROR(VLOOKUP(AH12,Tabelas!B:D,3,0),0),\"\")","v":6},{"$f":"IF(A12<>\"\",IFERROR(VLOOKUP(AI12,Tabelas!B:D,3,0),0),\"\")","v":6},{"$f":"IF(A12<>\"\",IFERROR(VLOOKUP(AJ12,Tabelas!B:D,3,0),0),\"\")","v":6},{"$f":"IF(A12<>\"\",IFERROR(VLOOKUP(AK12,Tabelas!B:D,3,0),0),\"\")","v":0},{"$f":"IF(A12<>\"\",IFERROR(VLOOKUP(AL12,Tabelas!B:D,3,0),0),\"\")","v":0},{"$f":"IF(A12<>\"\",IFERROR(VLOOKUP(AM12,Tabelas!B:D,3,0),0),\"\")","v":6},{"$f":"IF(A12<>\"\",IFERROR(VLOOKUP(AN12,Tabelas!B:D,3,0),0),\"\")","v":6},{"$f":"IF(A12<>\"\",IFERROR(VLOOKUP(AO12,Tabelas!B:D,3,0),0),\"\")","v":6},{"$f":"IF(A12<>\"\",IFERROR(VLOOKUP(AP12,Tabelas!B:D,3,0),0),\"\")","v":6},{"$f":"IF(A12<>\"\",IFERROR(VLOOKUP(AQ12,Tabelas!B:D,3,0),0),\"\")","v":6},132,0,0,0,0,0,0,0]
["Christie Marie Schweitzer",2081333,null,"ME","RJU",20,null,null,null,null,null,null,null,"T17",null,null,null,"T17","T17","T17",null,null,null,null,"T17","T17","T17",null,"FE","FE","FE","FE","FE","FE","FE","FE","FE","FE","FE","FE","FE","FE","FE",{"$f":"IF(A13<>\"\",IFERROR(VLOOKUP(M13,Tabelas!B:D,3,0),0),\"\")","v":0},{"$f":"IF(A13<>\"\",IFERROR(VLOOKUP(N13,Tabelas!B:D,3,0),0),\"\")","v":6},{"$f":"IF(A13<>\"\",IFERROR(VLOOKUP(O13,Tabelas!B:D,3,0),0),\"\")","v":0},{"$f":"IF(A13<>\"\",IFERROR(VLOOKUP(P13,Tabelas!B:D,3,0),0),\"\")","v":0},{"$f":"IF(A13<>\"\",IFERROR(VLOOKUP(Q13,Tabelas!B:D,3,0),0),\"\")","v":0},{"$f":"IF(A13<>\"\",IFERROR(VLOOKUP(R13,Tabelas!B:D,3,0),0),\"\")","v":6},{"$f":"IF(A13<>\"\",IFERROR(VLOOKUP(S13,Tabelas!B:D,3,0),0),\"\")","v":6},{"$f":"IF(A13<>\"\",IFERROR(VLOOKUP(T13,Tabelas!B:D,3,0),0),\"\")","v":6},{"$f":"IF(A13<>\"\",IFERROR(VLOOKUP(U13,Tabelas!B:D,3,0),0),\"\")","v":0},{"$f":"IF(A13<>\"\",IFERROR(VLOOKUP(V13,Tabelas!B:D,3,0),0),\"\")","v":0},{"$f":"IF(A13<>\"\",IFERROR(VLOOKUP(W13,Tabelas!B:D,3,0),0),\"\")","v":0},{"$f":"IF(A13<>\"\",IFERROR(VLOOKUP(X13,Tabelas!B:D,3,0),0),\"\")","v":0},{"$f":"IF(A13<>\"\",IFERROR(VLOOKUP(Y13,Tabelas!B:D,3,0),0),\"\")","v":6},{"$f":"IF(A13<>\"\",IFERROR(VLOOKUP(Z13,Tabelas!B:D,3,0),0),\"\")","v":6},{"$f":"IF(A13<>\"\",IFERROR(VLOOKUP(AA13,Tabelas!B:D,3,0),0),\"\")","v":6},{"$f":"IF(A13<>\"\",IFERROR(VLOOKUP(AB13,Tabelas!B:D,3,0),0),\"\")","v":0},{"$f":"IF(A13<>\"\",IFERROR(VLOOKUP(AC13,Tabelas!B:D,3,0),0),\"\")","v":0},{"$f":"IF(A13<>\"\",IFERROR(VLOOKUP(AD13,Tabelas!B:D,3,0),0),\"\")","v":0},{"$f":"IF(A13<>\"\",IFERROR(VLOOKUP(AE13,Tabelas!B:D,3,0),0),\"\")","v":0},{"$f":"IF(A13<>\"\",IFERROR(VLOOKUP(AF13,Tabelas!B:D,3,0),0),\"\")","v":0},{"$f":"IF(A13<>\"\",IFERROR(VLOOKUP(AG13,Tabelas!B:D,3,0),0),\"\")","v":0},{"$f":"IF(A13<>\"\",IFERROR(VLOOKUP(AH13,Tabelas!B:D,3,0),0),\"\")","v":0},{"$f":"IF(A13<>\"\",IFERROR(VLOOKUP(AI13,Tabelas!B:D,3,0),0),\"\")","v":0},{"$f":"IF(A13<>\"\",IFERROR(VLOOKUP(AJ13,Tabelas!B:D,3,0),0),\"\")","v":0},{"$f":"IF(A13<>\"\",IFERROR(VLOOKUP(AK13,Tabelas!B:D,3,0),0),\"\")","v":0},{"$f":"IF(A13<>\"\",IFERROR(VLOOKUP(AL13,Tabelas!B:D,3,0),0),\"\")","v":0},{"$f":"IF(A13<>\"\",IFERROR(VLOOKUP(AM13,Tabelas!B:D,3,0),0),\"\")","v":0},{"$f":"IF(A13<>\"\",IFERROR(VLOOKUP(AN13,Tabelas!B:D,3,0),0),\"\")","v":0},{"$f":"IF(A13<>\"\",IFERROR(VLOOKUP(AO13,Tabelas!B:D,3,0),0),\"\")","v":0},{"$f":"IF(A13<>\"\",IFERROR(VLOOKUP(AP13,Tabelas!B:D,3,0),0),\"\")","v":0},{"$f":"IF(A13<>\"\",IFERROR(VLOOKUP(AQ13,Tabelas!B:D,3,0),0),\"\")","v":0},42,0,0,15,0,0,0,15]
["Gina Vieira Velho",1185798,null,"ME","RJU",20,null,null,null,null,null,null,null,"M17",null,null,null,"M17",null,"M17","M17",null,null,null,"M17",null,"M17","M17",null,null,null,"D8",null,"M17","M17",null,null,null,"M17",null,"M17","M17",null,{"$f":"IF(A14<>\"\",IFERROR(VLOOKUP(M14,Tabelas!B:D,3,0),0),\"\")","v":0},{"$f":"IF(A14<>\"\",IFERROR(VLOOKUP(N14,Tabelas!B:D,3,0),0),\"\")","v":6},{"$f":"IF(A14<>\"\",IFERROR(VLOOKUP(O14,Tabelas!B:D,3,0),0),\"\")","v":0},{"$f":"IF(A14<>\"\",IFERROR(VLOOKUP(P14,Tabelas!B:D,3,0),0),\"\")","v":0},{"$f":"IF(A14<>\"\",IFERROR(VLOOKUP(Q14,Tabelas!B:D,3,0),0),\"\")","v":0},{"$f":"IF(A14<>\"\",IFERROR(VLOOKUP(R14,Tabelas!B:D,3,0),0),\"\")","v":6},{"$f":"IF(A14<>\"\",IFERROR(VLOOKUP(S14,Tabelas!B:D,3,0),0),\"\")","v":0},{"$f":"IF(A14<>\"\",IFERROR(VLOOKUP(T14,Tabelas!B:D,3,0),0),\"\")","v":6},{"$f":"IF(A14<>\"\",IFERROR(VLOOKUP(U14,Tabelas!B:D,3,0),0),\"\")","v":6},{"$f":"IF(A14<>\"\",IFERROR(VLOOKUP(V14,Tabelas!B:D,3,0),0),\"\")","v":0},{"$f":"IF(A14<>\"\",IFERROR(VLOOKUP(W14,Tabelas!B:D,3,0),0),\"\")","v":0},{"$f":"IF(A14<>\"\",IFERROR(VLOOKUP(X14,Tabelas!B:D,3,0),0),\"\")","v":0},{"$f":"IF(A14<>\"\",IFERROR(VLOOKUP(Y14,Tabelas!B:D,3,0),0),\"\")","v":6},{"$f":"IF(A14<>\"\",IFERROR(VLOOKUP(Z14,Tabelas!B:D,3,0),0),\"\")","v":0},{"$f":"IF(A14<>\"\",IFERROR(VLOOKUP(AA14,Tabelas!B:D,3,0),0),\"\")","v":6},{"$f":"IF(A14<>\"\",IFERROR(VLOOKUP(AB14,Tabelas!B:D,3,0),0),\"\")","v":6},{"$f":"IF(A14<>\"\",IFERROR(VLOOKUP(AC14,Tabelas!B:D,3,0),0),\"\")","v":0},{"$f":"IF(A14<>\"\",IFERROR(VLOOKUP(AD14,Tabelas!B:D,3,0),0),\"\")","v":0},{"$f":"IF(A14<>\"\",IFERROR(VLOOKUP(AE14,Tabelas!B:D,3,0),0),\"\")","v":0},{"$f":"IF(A14<>\"\",IFERROR(VLOOKUP(AF14,Tabelas!B:D,3,0),0),\"\")","v":12},{"$f":"IF(A14<>\"\",IFERROR(VLOOKUP(AG14,Tabelas!B:D,3,0),0),\"\")","v":0},{"$f":"IF(A14<>\"\",IFERROR(VLOOKUP(AH14,Tabelas!B:D,3,0),0),\"\")","v":6},{"$f":"IF(A14<>\"\",IFERROR(VLOOKUP(AI14,Tabelas!B:D,3,0),0),\"\")","v":6},{"$f":"IF(A14<>\"\",IFERROR(VLOOKUP(AJ14,Tabelas!B:D,3,0),0),\"\")","v":0},{"$f":"IF(A14<>\"\",IFERROR(VLOOKUP(AK14,Tabelas!B:D,3,0),0),\"\")","v":0},{"$f":"IF(A14<>\"\",IFERROR(VLOOKUP(AL14,Tabelas!B:D,3,0),0),\"\")","v":0},{"$f":"IF(A14<>\"\",IFERROR(VLOOKUP(AM14,Tabelas!B:D,3,0),0),\"\")","v":6},{"$f":"IF(A14<>\"\",IFERROR(VLOOKUP(AN14,Tabelas!B:D,3,0),0),\"\")","v":0},{"$f":"IF(A14<>\"\",IFERROR(VLOOKUP(AO14,Tabelas!B:D,3,0),0),\"\")","v":6},{"$f":"IF(A14<>\"\",IFERROR(VLOOKUP(AP14,Tabelas!B:D,3,0),0),\"\")","v":6},{"$f":"IF(A14<>\"\",IFERROR(VLOOKUP(AQ14,Tabelas!B:D,3,0),0),\"\")","v":0},84,0,0,0,0,0,0,0]
["Rafael Lisboa de Souza",2344070,null,"ME","RJU",30,null,null,null,null,null,null,null,"M17","M17",null,null,"M17","M17","M17","M17","M17",null,null,"M17","M17","M17","M17","M17",null,null,"M17","M17","M17","M17","M17",null,null,"M17","M17","M17","M17","M17",{"$f":"IF(A15<>\"\",IFERROR(VLOOKUP(M15,Tabelas!B:D,3,0),0),\"\")","v":0},{"$f":"IF(A15<>\"\",IFERROR(VLOOKUP(N15,Tabelas!B:D,3,0),0),\"\")","v":6},{"$f":"IF(A15<>\"\",IFERROR(VLOOKUP(O15,Tabelas!B:D,3,0),0),\"\")","v":6},{"$f":"IF(A15<>\"\",IFERROR(VLOOKUP(P15,Tabelas!B:D,3,0),0),\"\")","v":0},{"$f":"IF(A15<>\"\",IFERROR(VLOOKUP(Q15,Tabelas!B:D,3,0),0),\"\")","v":0},{"$f":"IF(A15<>\"\",IFERROR(VLOOKUP(R15,Tabelas!B:D,3,0),0),\"\")","v":6},{"$f":"IF(A15<>\"\",IFERROR(VLOOKUP(S15,Tabelas!B:D,3,0),0),\"\")","v":6},{"$f":"IF(A15<>\"\",IFERROR(VLOOKUP(T15,Tabelas!B:D,3,0),0),\"\")","v":6},{"$f":"IF(A15<>\"\",IFERROR(VLOOKUP(U15,Tabelas!B:D,3,0),0),\"\")","v":6},{"$f":"IF(A15<>\"\",IFERROR(VLOOKUP(V15,Tabelas!B:D,3,0),0),\"\")","v":6},{"$f":"IF(A15<>\"\",IFERROR(VLOOKUP(W15,Tabelas!B:D,3,0),0),\"\")","v":0},{"$f":"IF(A15<>\"\",IFERROR(VLOOKUP(X15,Tabelas!B:D,3,0),0),\"\")","v":0},{"$f":"IF(A15<>\"\",IFERROR(VLOOKUP(Y15,Tabelas!B:D,3,0),0),\"\")","v":6},{"$f":"IF(A15<>\"\",IFERROR(VLOOKUP(Z15,Tabelas!B:D,3,0),0),\"\")","v":6},{"$f":"IF(A15<>\"\",IFERROR(VLOOKUP(AA15,Tabelas!B:D,3,0),0),\"\")","v":6},{"$f":"IF(A15<>\"\",IFERROR(VLOOKUP(AB15,Tabelas!B:D,3,0),0),\"\")","v":6},{"$f":"IF(A15<>\"\",IFERROR(VLOOKUP(AC15,Tabelas!B:D,3,0),0),\"\")","v":6},{"$f":"IF(A15<>\"\",IFERROR(VLOOKUP(AD15,Tabelas!B:D,3,0),0),\"\")","v":0},{"$f":"IF(A15<>\"\",IFERROR(VLOOKUP(AE15,Tabelas!B:D,3,0),0),\"\")","v":0},{"$f":"IF(A15<>\"\",IFERROR(VLOOKUP(AF15,Tabelas!B:D,3,0),0),\"\")","v":6},{"$f":"IF(A15<>\"\",IFERROR(VLOOKUP(AG15,Tabelas!B:D,3,0),0),\"\")","v":6},{"$f":"IF(A15<>\"\",IFERROR(VLOOKUP(AH15,Tabelas!B:D,3,0),0),\"\")","v":6},{"$f":"IF(A15<>\"\",IFERROR(VLOOKUP(AI15,Tabelas!B:D,3,0),0),\"\")","v":6},{"$f":"IF(A15<>\"\",IFERROR(VLOOKUP(AJ15,Tabelas!B:D,3,0),0),\"\")","v":6},{"$f":"IF(A15<>\"\",IFERROR(VLOOKUP(AK15,Tabelas!B:D,3,0),0),\"\")","v":0},{"$f":"IF(A15<>\"\",IFERROR(VLOOKUP(AL15,Tabelas!B:D,3,0),0),\"\")","v":0},{"$f":"IF(A15<>\"\",IFERROR(VLOOKUP(AM15,Tabelas!B:D,3,0),0),\"\")","v":6},{"$f":"IF(A15<>\"\",IFERROR(VLOOKUP(AN15,Tabelas!B:D,3,0),0),\"\")","v":6},{"$f":"IF(A15<>\"\",IFERROR(VLOOKUP(AO15,Tabelas!B:D,3,0),0),\"\")","v":6},{"$f":"IF(A15<>\"\",IFERROR(VLOOKUP(AP15,Tabelas!B:D,3,0),0),\"\")","v":6},{"$f":"IF(A15<>\"\",IFERROR(VLOOKUP(AQ15,Tabelas!B:D,3,0),0),\"\")","v":6},132,0,0,0,0,0,0,0]
["Karine Damiani Cabral (EMG)",null,null,"ME","RJU",12,null,null,null,null,null,null,null,null,null,null,null,"T17",null,"T17",null,null,null,null,"T17",null,null,null,"T17",null,null,"T17",null,"T17",null,null,null,null,"T17",null,"T17",null,null,{"$f":"IF(A16<>\"\",IFERROR(VLOOKUP(M16,Tabelas!B:D,3,0),0),\"\")","v":0},{"$f":"IF(A16<>\"\",IFERROR(VLOOKUP(N16,Tabelas!B:D,3,0),0),\"\")","v":0},{"$f":"IF(A16<>\"\",IFERROR(VLOOKUP(O16,Tabelas!B:D,3,0),0),\"\")","v":0},{"$f":"IF(A16<>\"\",IFERROR(VLOOKUP(P16,Tabelas!B:D,3,0),0),\"\")","v":0},{"$f":"IF(A16<>\"\",IFERROR(VLOOKUP(Q16,Tabelas!B:D,3,0),0),\"\")","v":0},{"$f":"IF(A16<>\"\",IFERROR(VLOOKUP(R16,Tabelas!B:D,3,0),0),\"\")","v":6},{"$f":"IF(A16<>\"\",IFERROR(VLOOKUP(S16,Tabelas!B:D,3,0),0),\"\")","v":0},{"$f":"IF(A16<>\"\",IFERROR(VLOOKUP(T16,Tabelas!B:D,3,0),0),\"\")","v":6},{"$f":"IF(A16<>\"\",IFERROR(VLOOKUP(U16,Tabelas!B:D,3,0),0),\"\")","v":0},{"$f":"IF(A16<>\"\",IFERROR(VLOOKUP(V16,Tabelas!B:D,3,0),0),\"\")","v":0},{"$f":"IF(A16<>\"\",IFERROR(VLOOKUP(W16,Tabelas!B:D,3,0),0),\"\")","v":0},{"$f":"IF(A16<>\"\",IFERROR(VLOOKUP(X16,Tabelas!B:D,3,0),0),\"\")","v":0},{"$f":"IF(A16<>\"\",IFERROR(VLOOKUP(Y16,Tabelas!B:D,3,0),0),\"\")","v":6},{"$f":"IF(A16<>\"\",IFERROR(VLOOKUP(Z16,Tabelas!B:D,3,0),0),\"\")","v":0},{"$f":"IF(A16<>\"\",IFERROR(VLOOKUP(AA16,Tabelas!B:D,3,0),0),\"\")","v":0},{"$f":"IF(A16<>\"\",IFERROR(VLOOKUP(AB16,Tabelas!B:D,3,0),0),\"\")","v":0},{"$f":"IF(A16<>\"\",IFERROR(VLOOKUP(AC16,Tabelas!B:D,3,0),0),\"\")","v":6},{"$f":"IF(A16<>\"\",IFERROR(VLOOKUP(AD16,Tabelas!B:D,3,0),0),\"\")","v":0},{"$f":"IF(A16<>\"\",IFERROR(VLOOKUP(AE16,Tabelas!B:D,3,0),0),\"\")","v":0},{"$f":"IF(A16<>\"\",IFERROR(VLOOKUP(AF16,Tabelas!B:D,3,0),0),\"\")","v":6},{"$f":"IF(A16<>\"\",IFERROR(VLOOKUP(AG16,Tabelas!B:D,3,0),0),\"\")","v":0},{"$f":"IF(A16<>\"\",IFERROR(VLOOKUP(AH16,Tabelas!B:D,3,0),0),\"\")","v":6},{"$f":"IF(A16<>\"\",IFERROR(VLOOKUP(AI16,Tabelas!B:D,3,0),0),\"\")","v":0},{"$f":"IF(A16<>\"\",IFERROR(VLOOKUP(AJ16,Tabelas!B:D,3,0),0),\"\")","v":0},{"$f":"IF(A16<>\"\",IFERROR(VLOOKUP(AK16,Tabelas!B:D,3,0),0),\"\")","v":0},{"$f":"IF(A16<>\"\",IFERROR(VLOOKUP(AL16,Tabelas!B:D,3,0),0),\"\")","v":0},{"$f":"IF(A16<>\"\",IFERROR(VLOOKUP(AM16,Tabelas!B:D,3,0),0),\"\")","v":6},{"$f":"IF(A16<>\"\",IFERROR(VLOOKUP(AN16,Tabelas!B:D,3,0),0),\"\")","v":0},{"$f":"IF(A16<>\"\",IFERROR(VLOOKUP(AO16,Tabelas!B:D,3,0),0),\"\")","v":6},{"$f":"IF(A16<>\"\",IFERROR(VLOOKUP(AP16,Tabelas!B:D,3,0),0),\"\")","v":0},{"$f":"IF(A16<>\"\",IFERROR(VLOOKUP(AQ16,Tabelas!B:D,3,0),0),\"\")","v":0},48,0,0,0,0,0,0,0]
["Vinícius D. Pedro (EMG)",null,null,"ME","RJU",12,null,null,null,null,null,null,null,null,"T17",null,null,null,"M17",null,null,"T17",null,null,null,"M17",null,null,"T17",null,null,null,"M17",null,null,"T17",null,null,null,"M17",null,null,"T17",{"$f":"IF(A17<>\"\",IFERROR(VLOOKUP(M17,Tabelas!B:D,3,0),0),\"\")","v":0},{"$f":"IF(A17<>\"\",IFERROR(VLOOKUP(N17,Tabelas!B:D,3,0),0),\"\")","v":0},{"$f":"IF(A17<>\"\",IFERROR(VLOOKUP(O17,Tabelas!B:D,3,0),0),\"\")","v":6},{"$f":"IF(A17<>\"\",IFERROR(VLOOKUP(P17,Tabelas!B:D,3,0),0),\"\")","v":0},{"$f":"IF(A17<>\"\",IFERROR(VLOOKUP(Q17,Tabelas!B:D,3,0),0),\"\")","v":0},{"$f":"IF(A17<>\"\",IFERROR(VLOOKUP(R17,Tabelas!B:D,3,0),0),\"\")","v":0},{"$f":"IF(A17<>\"\",IFERROR(VLOOKUP(S17,Tabelas!B:D,3,0),0),\"\")","v":6},{"$f":"IF(A17<>\"\",IFERROR(VLOOKUP(T17,Tabelas!B:D,3,0),0),\"\")","v":0},{"$f":"IF(A17<>\"\",IFERROR(VLOOKUP(U17,Tabelas!B:D,3,0),0),\"\")","v":0},{"$f":"IF(A17<>\"\",IFERROR(VLOOKUP(V17,Tabelas!B:D,3,0),0),\"\")","v":6},{"$f":"IF(A17<>\"\",IFERROR(VLOOKUP(W17,Tabelas!B:D,3,0),0),\"\")","v":0},{"$f":"IF(A17<>\"\",IFERROR(VLOOKUP(X17,Tabelas!B:D,3,0),0),\"\")","v":0},{"$f":"IF(A17<>\"\",IFERROR(VLOOKUP(Y17,Tabelas!B:D,3,0),0),\"\")","v":0},{"$f":"IF(A17<>\"\",IFERROR(VLOOKUP(Z17,Tabelas!B:D,3,0),0),\"\")","v":6},{"$f":"IF(A17<>\"\",IFERROR(VLOOKUP(AA17,Tabelas!B:D,3,0),0),\"\")","v":0},{"$f":"IF(A17<>\"\",IFERROR(VLOOKUP(AB17,Tabelas!B:D,3,0),0),\"\")","v":0},{"$f":"IF(A17<>\"\",IFERROR(VLOOKUP(AC17,Tabelas!B:D,3,0),0),\"\")","v":6},{"$f":"IF(A17<>\"\",IFERROR(VLOOKUP(AD17,Tabelas!B:D,3,0),0),\"\")","v":0},{"$f":"IF(A17<>\"\",IFERROR(VLOOKUP(AE17,Tabelas!B:D,3,0),0),\"\")","v":0},{"$f":"IF(A17<>\"\",IFERROR(VLOOKUP(AF17,Tabelas!B:D,3,0),0),\"\")","v":0},{"$f":"IF(A17<>\"\",IFERROR(VLOOKUP(AG17,Tabelas!B:D,3,0),0),\"\")","v":6},{"$f":"IF(A17<>\"\",IFERROR(VLOOKUP(AH17,Tabelas!B:D,3,0),0),\"\")","v":0},{"$f":"IF(A17<>\"\",IFERROR(VLOOKUP(AI17,Tabelas!B:D,3,0),0),\"\")","v":0},{"$f":"IF(A17<>\"\",IFERROR(VLOOKUP(AJ17,Tabelas!B:D,3,0),0),\"\")","v":6},{"$f":"IF(A17<>\"\",IFERROR(VLOOKUP(AK17,Tabelas!B:D,3,0),0),\"\")","v":0},{"$f":"IF(A17<>\"\",IFERROR(VLOOKUP(AL17,Tabelas!B:D,3,0),0),\"\")","v":0},{"$f":"IF(A17<>\"\",IFERROR(VLOOKUP(AM17,Tabelas!B:D,3,0),0),\"\")","v":0},{"$f":"IF(A17<>\"\",IFERROR(VLOOKUP(AN17,Tabelas!B:D,3,0),0),\"\")","v":6},{"$f":"IF(A17<>\"\",IFERROR(VLOOKUP(AO17,Tabelas!B:D,3,0),0),\"\")","v":0},{"$f":"IF(A17<>\"\",IFERROR(VLOOKUP(AP17,Tabelas!B:D,3,0),0),\"\")","v":0},{"$f":"IF(A17<>\"\",IFERROR(VLOOKUP(AQ17,Tabelas!B:D,3,0),0),\"\")","v":6},54,0,0,0,0,0,0,0]
["Vanessa Miné Geraldo",3055054,null,"ME","EBSERH",24,null,null,null,null,null,null,null,null,"T17",null,null,null,null,null,null,"T17",null,null,null,null,null,null,null,null,null,null,"T17",null,null,"T17",null,null,null,"T17",null,null,"T17",{"$f":"IF(A18<>\"\",IFERROR(VLOOKUP(M18,Tabelas!B:D,3,0),0),\"\")","v":0},{"$f":"IF(A18<>\"\",IFERROR(VLOOKUP(N18,Tabelas!B:D,3,0),0),\"\")","v":0},{"$f":"IF(A18<>\"\",IFERROR(VLOOKUP(O18,Tabelas!B:D,3,0),0),\"\")","v":6},{"$f":"IF(A18<>\"\",IFERROR(VLOOKUP(P18,Tabelas!B:D,3,0),0),\"\")","v":0},{"$f":"IF(A18<>\"\",IFERROR(VLOOKUP(Q18,Tabelas!B:D,3,0),0),\"\")","v":0},{"$f":"IF(A18<>\"\",IFERROR(VLOOKUP(R18,Tabelas!B:D,3,0),0),\"\")","v":0},{"$f":"IF(A18<>\"\",IFERROR(VLOOKUP(S18,Tabelas!B:D,3,0),0),\"\")","v":0},{"$f":"IF(A18<>\"\",IFERROR(VLOOKUP(T18,Tabelas!B:D,3,0),0),\"\")","v":0},{"$f":"IF(A18<>\"\",IFERROR(VLOOKUP(U18,Tabelas!B:D,3,0),0),\"\")","v":0},{"$f":"IF(A18<>\"\",IFERROR(VLOOKUP(V18,Tabelas!B:D,3,0),0),\"\")","v":6},{"$f":"IF(A18<>\"\",IFERROR(VLOOKUP(W18,Tabelas!B:D,3,0),0),\"\")","v":0},{"$f":"IF(A18<>\"\",IFERROR(VLOOKUP(X18,Tabelas!B:D,3,0),0),\"\")","v":0},{"$f":"IF(A18<>\"\",IFERROR(VLOOKUP(Y18,Tabelas!B:D,3,0),0),\"\")","v":0},{"$f":"IF(A18<>\"\",IFERROR(VLOOKUP(Z18,Tabelas!B:D,3,0),0),\"\")","v":0},{"$f":"IF(A18<>\"\",IFERROR(VLOOKUP(AA18,Tabelas!B:D,3,0),0),\"\")","v":0},{"$f":"IF(A18<>\"\",IFERROR(VLOOKUP(AB18,Tabelas!B:D,3,0),0),\"\")","v":0},{"$f":"IF(A18<>\"\",IFERROR(VLOOKUP(AC18,Tabelas!B:D,3,0),0),\"\")","v":0},{"$f":"IF(A18<>\"\",IFERROR(VLOOKUP(AD18,Tabelas!B:D,3,0),0),\"\")","v":0},{"$f":"IF(A18<>\"\",IFERROR(VLOOKUP(AE18,Tabelas!B:D,3,0),0),\"\")","v":0},{"$f":"IF(A18<>\"\",IFERROR(VLOOKUP(AF18,Tabelas!B:D,3,0),0),\"\")","v":0},{"$f":"IF(A18<>\"\",IFERROR(VLOOKUP(AG18,Tabelas!B:D,3,0),0),\"\")","v":6},{"$f":"IF(A18<>\"\",IFERROR(VLOOKUP(AH18,Tabelas!B:D,3,0),0),\"\")","v":0},{"$f":"IF(A18<>\"\",IFERROR(VLOOKUP(AI18,Tabelas!B:D,3,0),0),\"\")","v":0},{"$f":"IF(A18<>\"\",IFERROR(VLOOKUP(AJ18,Tabelas!B:D,3,0),0),\"\")","v":6},{"$f":"IF(A18<>\"\",IFERROR(VLOOKUP(AK18,Tabelas!B:D,3,0),0),\"\")","v":0},{"$f":"IF(A18<>\"\",IFERROR(VLOOKUP(AL18,Tabelas!B:D,3,0),0),\"\")","v":0},{"$f":"IF(A18<>\"\",IFERROR(VLOOKUP(AM18,Tabelas!B:D,3,0),0),\"\")","v":0},{"$f":"IF(A18<>\"\",IFERROR(VLOOKUP(AN18,Tabelas!B:D,3,0),0),\"\")","v":6},{"$f":"IF(A18<>\"\",IFERROR(VLOOKUP(AO18,Tabelas!B:D,3,0),0),\"\")","v":0},{"$f":"IF(A18<>\"\",IFERROR(VLOOKUP(AP18,Tabelas!B:D,3,0),0),\"\")","v":0},{"$f":"IF(A18<>\"\",IFERROR(VLOOKUP(AQ18,Tabelas!B:D,3,0),0),\"\")","v":6},36,0,0,0,0,0,0,0]
[null,null,null,null,null,null,null,null,null,null,null,null,null,null,null,null,null,null,null,null,null,null,null,null,null,null,null,null,null,null,null,null,null,null,null,null,null,null,null,null,null,null,null,{"$f":"IF(A19<>\"\",IFERROR(VLOOKUP(M19,Tabelas!B:D,3,0),0),\"\")","v":""},{"$f":"IF(A19<>\"\",IFERROR(VLOOKUP(N19,Tabelas!B:D,3,0),0),\"\")","v":""},{"$f":"IF(A19<>\"\",IFERROR(VLOOKUP(O19,Tabelas!B:D,3,0),0),\"\")","v":""},{"$f":"IF(A19<>\"\",IFERROR(VLOOKUP(P19,Tabelas!B:D,3,0),0),\"\")","v":""},{"$f":"IF(A19<>\"\",IFERROR(VLOOKUP(Q19,Tabelas!B:D,3,0),0),\"\")","v":""},{"$f":"IF(A19<>\"\",IFERROR(VLOOKUP(R19,Tabelas!B:D,3,0),0),\"\")","v":""},{"$f":"IF(A19<>\"\",IFERROR(VLOOKUP(S19,Tabelas!B:D,3,0),0),\"\")","v":""},{"$f":"IF(A19<>\"\",IFERROR(VLOOKUP(T19,Tabelas!B:D,3,0),0),\"\")","v":""},{"$f":"IF(A19<>\"\",IFERROR(VLOOKUP(U19,Tabelas!B:D,3,0),0),\"\")","v":""},{"$f":"IF(A19<>\"\",IFERROR(VLOOKUP(V19,Tabelas!B:D,3,0),0),\"\")","v":""},{"$f":"IF(A19<>\"\",IFERROR(VLOOKUP(W19,Tabelas!B:D,3,0),0),\"\")","v":""},{"$f":"IF(A19<>\"\",IFERROR(VLOOKUP(X19,Tabelas!B:D,3,0),0),\"\")","v":""},{"$f":"IF(A19<>\"\",IFERROR(VLOOKUP(Y19,Tabelas!B:D,3,0),0),\"\")","v":""},{"$f":"IF(A19<>\"\",IFERROR(VLOOKUP(Z19,Tabelas!B:D,3,0),0),\"\")","v":""},{"$f":"IF(A19<>\"\",IFERROR(VLOOKUP(AA19,Tabelas!B:D,3,0),0),\"\")","v":""},{"$f":"IF(A19<>\"\",IFERROR(VLOOKUP(AB19,Tabelas!B:D,3,0),0),\"\")","v":""},{"$f":"IF(A19<>\"\",IFERROR(VLOOKUP(AC19,Tabelas!B:D,3,0),0),\"\")","v":""},{"$f":"IF(A19<>\"\",IFERROR(VLOOKUP(AD19,Tabelas!B:D,3,0),0),\"\")","v":""},{"$f":"IF(A19<>\"\",IFERROR(VLOOKUP(AE19,Tabelas!B:D,3,0),0),\"\")","v":""},{"$f":"IF(A19<>\"\",IFERROR(VLOOKUP(AF19,Tabelas!B:D,3,0),0),\"\")","v":""},{"$f":"IF(A19<>\"\",IFERROR(VLOOKUP(AG19,Tabelas!B:D,3,0),0),\"\")","v":""},{"$f":"IF(A19<>\"\",IFERROR(VLOOKUP(AH19,Tabelas!B:D,3,0),0),\"\")","v":""},{"$f":"IF(A19<>\"\",IFERROR(VLOOKUP(AI19,Tabelas!B:D,3,0),0),\"\")","v":""},{"$f":"IF(A19<>\"\",IFERROR(VLOOKUP(AJ19,Tabelas!B:D,3,0),0),\"\")","v":""},{"$f":"IF(A19<>\"\",IFERROR(VLOOKUP(AK19,Tabelas!B:D,3,0),0),\"\")","v":""},{"$f":"IF(A19<>\"\",IFERROR(VLOOKUP(AL19,Tabelas!B:D,3,0),0),\"\")","v":""},{"$f":"IF(A19<>\"\",IFERROR(VLOOKUP(AM19,Tabelas!B:D,3,0),0),\"\")","v":""},{"$f":"IF(A19<>\"\",IFERROR(VLOOKUP(AN19,Tabelas!B:D,3,0),0),\"\")","v":""},{"$f":"IF(A19<>\"\",IFERROR(VLOOKUP(AO19,Tabelas!B:D,3,0),0),\"\")","v":""},{"$f":"IF(A19<>\"\",IFERROR(VLOOKUP(AP19,Tabelas!B:D,3,0),0),\"\")","v":""},{"$f":"IF(A19<>\"\",IFERROR(VLOOKUP(AQ19,Tabelas!B:D,3,0),0),\"\")","v":""},"","","","","","","",""]
["PLANTÃO",null,null,null,null,null,null,null,null,null,null,null,null,null,null,null,null,null,null,null,null,null,null,null,null,null,null,null,null,null,null,null,null,null,null,null,null,null,null,null,null,null,null,{"$f":"IF(A20<>\"\",IFERROR(VLOOKUP(M20,Tabelas!B:D,3,0),0),\"\")","v":0},{"$f":"IF(A20<>\"\",IFERROR(VLOOKUP(N20,Tabelas!B:D,3,0),0),\"\")","v":0},{"$f":"IF(A20<>\"\",IFERROR(VLOOKUP(O20,Tabelas!B:D,3,0),0),\"\")","v":0},{"$f":"IF(A20<>\"\",IFERROR(VLOOKUP(P20,Tabelas!B:D,3,0),0),\"\")","v":0},{"$f":"IF(A20<>\"\",IFERROR(VLOOKUP(Q20,Tabelas!B:D,3,0),0),\"\")","v":0},{"$f":"IF(A20<>\"\",IFERROR(VLOOKUP(R20,Tabelas!B:D,3,0),0),\"\")","v":0},{"$f":"IF(A20<>\"\",IFERROR(VLOOKUP(S20,Tabelas!B:D,3,0),0),\"\")","v":0},{"$f":"IF(A20<>\"\",IFERROR(VLOOKUP(T20,Tabelas!B:D,3,0),0),\"\")","v":0},{"$f":"IF(A20<>\"\",IFERROR(VLOOKUP(U20,Tabelas!B:D,3,0),0),\"\")","v":0},{"$f":"IF(A20<>\"\",IFERROR(VLOOKUP(V20,Tabelas!B:D,3,0),0),\"\")","v":0},{"$f":"IF(A20<>\"\",IFERROR(VLOOKUP(W20,Tabelas!B:D,3,0),0),\"\")","v":0},{"$f":"IF(A20<>\"\",IFERROR(VLOOKUP(X20,Tabelas!B:D,3,0),0),\"\")","v":0},{"$f":"IF(A20<>\"\",IFERROR(VLOOKUP(Y20,Tabelas!B:D,3,0),0),\"\")","v":0},{"$f":"IF(A20<>\"\",IFERROR(VLOOKUP(Z20,Tabelas!B:D,3,0),0),\"\")","v":0},{"$f":"IF(A20<>\"\",IFERROR(VLOOKUP(AA20,Tabelas!B:D,3,0),0),\"\")","v":0},{"$f":"IF(A20<>\"\",IFERROR(VLOOKUP(AB20,Tabelas!B:D,3,0),0),\"\")","v":0},{"$f":"IF(A20<>\"\",IFERROR(VLOOKUP(AC20,Tabelas!B:D,3,0),0),\"\")","v":0},{"$f":"IF(A20<>\"\",IFERROR(VLOOKUP(AD20,Tabelas!B:D,3,0),0),\"\")","v":0},{"$f":"IF(A20<>\"\",IFERROR(VLOOKUP(AE20,Tabelas!B:D,3,0),0),\"\")","v":0},{"$f":"IF(A20<>\"\",IFERROR(VLOOKUP(AF20,Tabelas!B:D,3,0),0),\"\")","v":0},{"$f":"IF(A20<>\"\",IFERROR(VLOOKUP(AG20,Tabelas!B:D,3,0),0),\"\")","v":0},{"$f":"IF(A20<>\"\",IFERROR(VLOOKUP(AH20,Tabelas!B:D,3,0),0),\"\")","v":0},{"$f":"IF(A20<>\"\",IFERROR(VLOOKUP(AI20,Tabelas!B:D,3,0),0),\"\")","v":0},{"$f":"IF(A20<>\"\",IFERROR(VLOOKUP(AJ20,Tabelas!B:D,3,0),0),\"\")","v":0},{"$f":"IF(A20<>\"\",IFERROR(VLOOKUP(AK20,Tabelas!B:D,3,0),0),\"\")","v":0},{"$f":"IF(A20<>\"\",IFERROR(VLOOKUP(AL20,Tabelas!B:D,3,0),0),\"\")","v":0},{"$f":"IF(A20<>\"\",IFERROR(VLOOKUP(AM20,Tabelas!B:D,3,0),0),\"\")","v":0},{"$f":"IF(A20<>\"\",IFERROR(VLOOKUP(AN20,Tabelas!B:D,3,0),0),\"\")","v":0},{"$f":"IF(A20<>\"\",IFERROR(VLOOKUP(AO20,Tabelas!B:D,3,0),0),\"\")","v":0},{"$f":"IF(A20<>\"\",IFERROR(VLOOKUP(AP20,Tabelas!B:D,3,0),0),\"\")","v":0},{"$f":"IF(A20<>\"\",IFERROR(VLOOKUP(AQ20,Tabelas!B:D,3,0),0),\"\")","v":0},0,0,0,0,0,0,0,0]
["Air Luis Zambom",1824250,null,"ME","RJU",40,null,null,null,null,null,null,"N10",null,null,null,null,null,"N10",null,null,null,"D8",null,null,null,"N10",null,null,null,"D8",null,null,"N10",null,null,null,null,null,null,null,"N10",null,{"$f":"IF(A21<>\"\",IFERROR(VLOOKUP(M21,Tabelas!B:D,3,0),0),\"\")","v":12},{"$f":"IF(A21<>\"\",IFERROR(VLOOKUP(N21,Tabelas!B:D,3,0),0),\"\")","v":0},{"$f":"IF(A21<>\"\",IFERROR(VLOOKUP(O21,Tabelas!B:D,3,0),0),\"\")","v":0},{"$f":"IF(A21<>\"\",IFERROR(VLOOKUP(P21,Tabelas!B:D,3,0),0),\"\")","v":0},{"$f":"IF(A21<>\"\",IFERROR(VLOOKUP(Q21,Tabelas!B:D,3,0),0),\"\")","v":0},{"$f":"IF(A21<>\"\",IFERROR(VLOOKUP(R21,Tabelas!B:D,3,0),0),\"\")","v":0},{"$f":"IF(A21<>\"\",IFERROR(VLOOKUP(S21,Tabelas!B:D,3,0),0),\"\")","v":12},{"$f":"IF(A21<>\"\",IFERROR(VLOOKUP(T21,Tabelas!B:D,3,0),0),\"\")","v":0},{"$f":"IF(A21<>\"\",IFERROR(VLOOKUP(U21,Tabelas!B:D,3,0),0),\"\")","v":0},{"$f":"IF(A21<>\"\",IFERROR(VLOOKUP(V21,Tabelas!B:D,3,0),0),\"\")","v":0},{"$f":"IF(A21<>\"\",IFERROR(VLOOKUP(W21,Tabelas!B:D,3,0),0),\"\")","v":12},{"$f":"IF(A21<>\"\",IFERROR(VLOOKUP(X21,Tabelas!B:D,3,0),0),\"\")","v":0},{"$f":"IF(A21<>\"\",IFERROR(VLOOKUP(Y21,Tabelas!B:D,3,0),0),\"\")","v":0},{"$f":"IF(A21<>\"\",IFERROR(VLOOKUP(Z21,Tabelas!B:D,3,0),0),\"\")","v":0},{"$f":"IF(A21<>\"\",IFERROR(VLOOKUP(AA21,Tabelas!B:D,3,0),0),\"\")","v":12},{"$f":"IF(A21<>\"\",IFERROR(VLOOKUP(AB21,Tabelas!B:D,3,0),0),\"\")","v":0},{"$f":"IF(A21<>\"\",IFERROR(VLOOKUP(AC21,Tabelas!B:D,3,0),0),\"\")","v":0},{"$f":"IF(A21<>\"\",IFERROR(VLOOKUP(AD21,Tabelas!B:D,3,0),0),\"\")","v":0},{"$f":"IF(A21<>\"\",IFERROR(VLOOKUP(AE21,Tabelas!B:D,3,0),0),\"\")","v":12},{"$f":"IF(A21<>\"\",IFERROR(VLOOKUP(AF21,Tabelas!B:D,3,0),0),\"\")","v":0},{"$f":"IF(A21<>\"\",IFERROR(VLOOKUP(AG21,Tabelas!B:D,3,0),0),\"\")","v":0},{"$f":"IF(A21<>\"\",IFERROR(VLOOKUP(AH21,Tabelas!B:D,3,0),0),\"\")","v":12},{"$f":"IF(A21<>\"\",IFERROR(VLOOKUP(AI21,Tabelas!B:D,3,0),0),\"\")","v":0},{"$f":"IF(A21<>\"\",IFERROR(VLOOKUP(AJ21,Tabelas!B:D,3,0),0),\"\")","v":0},{"$f":"IF(A21<>\"\",IFERROR(VLOOKUP(AK21,Tabelas!B:D,3,0),0),\"\")","v":0},{"$f":"IF(A21<>\"\",IFERROR(VLOOKUP(AL21,Tabelas!B:D,3,0),0),\"\")","v":0},{"$f":"IF(A21<>\"\",IFERROR(VLOOKUP(AM21,Tabelas!B:D,3,0),0),\"\")","v":0},{"$f":"IF(A21<>\"\",IFERROR(VLOOKUP(AN21,Tabelas!B:D,3,0),0),\"\")","v":0},{"$f":"IF(A21<>\"\",IFERROR(VLOOKUP(AO21,Tabelas!B:D,3,0),0),\"\")","v":0},{"$f":"IF(A21<>\"\",IFERROR(VLOOKUP(AP21,Tabelas!B:D,3,0),0),\"\")","v":12},{"$f":"IF(A21<>\"\",IFERROR(VLOOKUP(AQ21,Tabelas!B:D,3,0),0),\"\")","v":0},84,0,0,0,0,0,0,0]
["Aline Varela Dias",1331684,null,"ME","RJU",20,null,null,null,null,null,null,"D8",null,null,"D8",null,"N10",null,null,null,null,"N10",null,null,"N10",null,null,null,null,null,null,"N10",null,null,null,null,null,null,null,"N10",null,null,{"$f":"IF(A22<>\"\",IFERROR(VLOOKUP(M22,Tabelas!B:D,3,0),0),\"\")","v":12},{"$f":"IF(A22<>\"\",IFERROR(VLOOKUP(N22,Tabelas!B:D,3,0),0),\"\")","v":0},{"$f":"IF(A22<>\"\",IFERROR(VLOOKUP(O22,Tabelas!B:D,3,0),0),\"\")","v":0},{"$f":"IF(A22<>\"\",IFERROR(VLOOKUP(P22,Tabelas!B:D,3,0),0),\"\")","v":12},{"$f":"IF(A22<>\"\",IFERROR(VLOOKUP(Q22,Tabelas!B:D,3,0),0),\"\")","v":0},{"$f":"IF(A22<>\"\",IFERROR(VLOOKUP(R22,Tabelas!B:D,3,0),0),\"\")","v":12},{"$f":"IF(A22<>\"\",IFERROR(VLOOKUP(S22,Tabelas!B:D,3,0),0),\"\")","v":0},{"$f":"IF(A22<>\"\",IFERROR(VLOOKUP(T22,Tabelas!B:D,3,0),0),\"\")","v":0},{"$f":"IF(A22<>\"\",IFERROR(VLOOKUP(U22,Tabelas!B:D,3,0),0),\"\")","v":0},{"$f":"IF(A22<>\"\",IFERROR(VLOOKUP(V22,Tabelas!B:D,3,0),0),\"\")","v":0},{"$f":"IF(A22<>\"\",IFERROR(VLOOKUP(W22,Tabelas!B:D,3,0),0),\"\")","v":12},{"$f":"IF(A22<>\"\",IFERROR(VLOOKUP(X22,Tabelas!B:D,3,0),0),\"\")","v":0},{"$f":"IF(A22<>\"\",IFERROR(VLOOKUP(Y22,Tabelas!B:D,3,0),0),\"\")","v":0},{"$f":"IF(A22<>\"\",IFERROR(VLOOKUP(Z22,Tabelas!B:D,3,0),0),\"\")","v":12},{"$f":"IF(A22<>\"\",IFERROR(VLOOKUP(AA22,Tabelas!B:D,3,0),0),\"\")","v":0},{"$f":"IF(A22<>\"\",IFERROR(VLOOKUP(AB22,Tabelas!B:D,3,0),0),\"\")","v":0},{"$f":"IF(A22<>\"\",IFERROR(VLOOKUP(AC22,Tabelas!B:D,3,0),0),\"\")","v":0},{"$f":"IF(A22<>\"\",IFERROR(VLOOKUP(AD22,Tabelas!B:D,3,0),0),\"\")","v":0},{"$f":"IF(A22<>\"\",IFERROR(VLOOKUP(AE22,Tabelas!B:D,3,0),0),\"\")","v":0},{"$f":"IF(A22<>\"\",IFERROR(VLOOKUP(AF22,Tabelas!B:D,3,0),0),\"\")","v":0},{"$f":"IF(A22<>\"\",IFERROR(VLOOKUP(AG22,Tabelas!B:D,3,0),0),\"\")","v":12},{"$f":"IF(A22<>\"\",IFERROR(VLOOKUP(AH22,Tabelas!B:D,3,0),0),\"\")","v":0},{"$f":"IF(A22<>\"\",IFERROR(VLOOKUP(AI22,Tabelas!B:D,3,0),0),\"\")","v":0},{"$f":"IF(A22<>\"\",IFERROR(VLOOKUP(AJ22,Tabelas!B:D,3,0),0),\"\")","v":0},{"$f":"IF(A22<>\"\",IFERROR(VLOOKUP(AK22,Tabelas!B:D,3,0),0),\"\")","v":0},{"$f":"IF(A22<>\"\",IFERROR(VLOOKUP(AL22,Tabelas!B:D,3,0),0),\"\")","v":0},{"$f":"IF(A22<>\"\",IFERROR(VLOOKUP(AM22,Tabelas!B:D,3,0),0),\"\")","v":0},{"$f":"IF(A22<>\"\",IFERROR(VLOOKUP(AN22,Tabelas!B:D,3,0),0),\"\")","v":0},{"$f":"IF(A22<>\"\",IFERROR(VLOOKUP(AO22,Tabelas!B:D,3,0),0),\"\")","v":12},{"$f":"IF(A22<>\"\",IFERROR(VLOOKUP(AP22,Tabelas!B:D,3,0),0),\"\")","v":0},{"$f":"IF(A22<>\"\",IFERROR(VLOOKUP(AQ22,Tabelas!B:D,3,0),0),\"\")","v":0},84,0,0,0,0,0,0,0]
["Anelise Schaeffer da Silveira",1919390,null,"ME","EBSERH",24,null,null,null,null,null,null,null,null,null,null,null,null,null,"N10",null,null,"DN6",null,null,null,null,"N10",null,"N10",null,"N10",null,null,"N10",null,null,"D8",null,null,null,"N10",null,{"$f":"IF(A23<>\"\",IFERROR(VLOOKUP(M23,Tabelas!B:D,3,0),0),\"\")","v":0},{"$f":"IF(A23<>\"\",IFERROR(VLOOKUP(N23,Tabelas!B:D,3,0),0),\"\")","v":0},{"$f":"IF(A23<>\"\",IFERROR(VLOOKUP(O23,Tabelas!B:D,3,0),0),\"\")","v":0},{"$f":"IF(A23<>\"\",IFERROR(VLOOKUP(P23,Tabelas!B:D,3,0),0),\"\")","v":0},{"$f":"IF(A23<>\"\",IFERROR(VLOOKUP(Q23,Tabelas!B:D,3,0),0),\"\")","v":0},{"$f":"IF(A23<>\"\",IFERROR(VLOOKUP(R23,Tabelas!B:D,3,0),0),\"\")","v":0},{"$f":"IF(A23<>\"\",IFERROR(VLOOKUP(S23,Tabelas!B:D,3,0),0),\"\")","v":0},{"$f":"IF(A23<>\"\",IFERROR(VLOOKUP(T23,Tabelas!B:D,3,0),0),\"\")","v":12},{"$f":"IF(A23<>\"\",IFERROR(VLOOKUP(U23,Tabelas!B:D,3,0),0),\"\")","v":0},{"$f":"IF(A23<>\"\",IFERROR(VLOOKUP(V23,Tabelas!B:D,3,0),0),\"\")","v":0},{"$f":"IF(A23<>\"\",IFERROR(VLOOKUP(W23,Tabelas!B:D,3,0),0),\"\")","v":24},{"$f":"IF(A23<>\"\",IFERROR(VLOOKUP(X23,Tabelas!B:D,3,0),0),\"\")","v":0},{"$f":"IF(A23<>\"\",IFERROR(VLOOKUP(Y23,Tabelas!B:D,3,0),0),\"\")","v":0},{"$f":"IF(A23<>\"\",IFERROR(VLOOKUP(Z23,Tabelas!B:D,3,0),0),\"\")","v":0},{"$f":"IF(A23<>\"\",IFERROR(VLOOKUP(AA23,Tabelas!B:D,3,0),0),\"\")","v":0},{"$f":"IF(A23<>\"\",IFERROR(VLOOKUP(AB23,Tabelas!B:D,3,0),0),\"\")","v":12},{"$f":"IF(A23<>\"\",IFERROR(VLOOKUP(AC23,Tabelas!B:D,3,0),0),\"\")","v":0},{"$f":"IF(A23<>\"\",IFERROR(VLOOKUP(AD23,Tabelas!B:D,3,0),0),\"\")","v":12},{"$f":"IF(A23<>\"\",IFERROR(VLOOKUP(AE23,Tabelas!B:D,3,0),0),\"\")","v":0},{"$f":"IF(A23<>\"\",IFERROR(VLOOKUP(AF23,Tabelas!B:D,3,0),0),\"\")","v":12},{"$f":"IF(A23<>\"\",IFERROR(VLOOKUP(AG23,Tabelas!B:D,3,0),0),\"\")","v":0},{"$f":"IF(A23<>\"\",IFERROR(VLOOKUP(AH23,Tabelas!B:D,3,0),0),\"\")","v":0},{"$f":"IF(A23<>\"\",IFERROR(VLOOKUP(AI23,Tabelas!B:D,3,0),0),\"\")","v":12},{"$f":"IF(A23<>\"\",IFERROR(VLOOKUP(AJ23,Tabelas!B:D,3,0),0),\"\")","v":0},{"$f":"IF(A23<>\"\",IFERROR(VLOOKUP(AK23,Tabelas!B:D,3,0),0),\"\")","v":0},{"$f":"IF(A23<>\"\",IFERROR(VLOOKUP(AL23,Tabelas!B:D,3,0),0),\"\")","v":12},{"$f":"IF(A23<>\"\",IFERROR(VLOOKUP(AM23,Tabelas!B:D,3,0),0),\"\")","v":0},{"$f":"IF(A23<>\"\",IFERROR(VLOOKUP(AN23,Tabelas!B:D,3,0),0),\"\")","v":0},{"$f":"IF(A23<>\"\",IFERROR(VLOOKUP(AO23,Tabelas!B:D,3,0),0),\"\")","v":0},{"$f":"IF(A23<>\"\",IFERROR(VLOOKUP(AP23,Tabelas!B:D,3,0),0),\"\")","v":12},{"$f":"IF(A23<>\"\",IFERROR(VLOOKUP(AQ23,Tabelas!B:D,3,0),0),\"\")","v":0},115,0,0,0,0,0,0,0]
["Duane José Milioli",1824201,null,"ME","RJU",20,null,null,null,null,null,null,null,null,null,null,"N10",null,null,"N10",null,null,null,null,null,null,null,"N10",null,"D8",null,null,null,null,"N10",null,"N10",null,null,null,null,null,"N10",{"$f":"IF(A24<>\"\",IFERROR(VLOOKUP(M24,Tabelas!B:D,3,0),0),\"\")","v":0},{"$f":"IF(A24<>\"\",IFERROR(VLOOKUP(N24,Tabelas!B:D,3,0),0),\"\")","v":0},{"$f":"IF(A24<>\"\",IFERROR(VLOOKUP(O24,Tabelas!B:D,3,0),0),\"\")","v":0},{"$f":"IF(A24<>\"\",IFERROR(VLOOKUP(P24,Tabelas!B:D,3,0),0),\"\")","v":0},{"$f":"IF(A24<>\"\",IFERROR(VLOOKUP(Q24,Tabelas!B:D,3,0),0),\"\")","v":12},{"$f":"IF(A24<>\"\",IFERROR(VLOOKUP(R24,Tabelas!B:D,3,0),0),\"\")","v":0},{"$f":"IF(A24<>\"\",IFERROR(VLOOKUP(S24,Tabelas!B:D,3,0),0),\"\")","v":0},{"$f":"IF(A24<>\"\",IFERROR(VLOOKUP(T24,Tabelas!B:D,3,0),0),\"\")","v":12},{"$f":"IF(A24<>\"\",IFERROR(VLOOKUP(U24,Tabelas!B:D,3,0),0),\"\")","v":0},{"$f":"IF(A24<>\"\",IFERROR(VLOOKUP(V24,Tabelas!B:D,3,0),0),\"\")","v":0},{"$f":"IF(A24<>\"\",IFERROR(VLOOKUP(W24,Tabelas!B:D,3,0),0),\"\")","v":0},{"$f":"IF(A24<>\"\",IFERROR(VLOOKUP(X24,Tabelas!B:D,3,0),0),\"\")","v":0},{"$f":"IF(A24<>\"\",IFERROR(VLOOKUP(Y24,Tabelas!B:D,3,0),0),\"\")","v":0},{"$f":"IF(A24<>\"\",IFERROR(VLOOKUP(Z24,Tabelas!B:D,3,0),0),\"\")","v":0},{"$f":"IF(A24<>\"\",IFERROR(VLOOKUP(AA24,Tabelas!B:D,3,0),0),\"\")","v":0},{"$f":"IF(A24<>\"\",IFERROR(VLOOKUP(AB24,Tabelas!B:D,3,0),0),\"\")","v":12},{"$f":"IF(A24<>\"\",IFERROR(VLOOKUP(AC24,Tabelas!B:D,3,0),0),\"\")","v":0},{"$f":"IF(A24<>\"\",IFERROR(VLOOKUP(AD24,Tabelas!B:D,3,0),0),\"\")","v":12},{"$f":"IF(A24<>\"\",IFERROR(VLOOKUP(AE24,Tabelas!B:D,3,0),0),\"\")","v":0},{"$f":"IF(A24<>\"\",IFERROR(VLOOKUP(AF24,Tabelas!B:D,3,0),0),\"\")","v":0},{"$f":"IF(A24<>\"\",IFERROR(VLOOKUP(AG24,Tabelas!B:D,3,0),0),\"\")","v":0},{"$f":"IF(A24<>\"\",IFERROR(VLOOKUP(AH24,Tabelas!B:D,3,0),0),\"\")","v":0},{"$f":"IF(A24<>\"\",IFERROR(VLOOKUP(AI24,Tabelas!B:D,3,0),0),\"\")","v":12},{"$f":"IF(A24<>\"\",IFERROR(VLOOKUP(AJ24,Tabelas!B:D,3,0),0),\"\")","v":0},{"$f":"IF(A24<>\"\",IFERROR(VLOOKUP(AK24,Tabelas!B:D,3,0),0),\"\")","v":12},{"$f":"IF(A24<>\"\",IFERROR(VLOOKUP(AL24,Tabelas!B:D,3,0),0),\"\")","v":0},{"$f":"IF(A24<>\"\",IFERROR(VLOOKUP(AM24,Tabelas!B:D,3,0),0),\"\")","v":0},{"$f":"IF(A24<>\"\",IFERROR(VLOOKUP(AN24,Tabelas!B:D,3,0),0),\"\")","v":0},{"$f":"IF(A24<>\"\",IFERROR(VLOOKUP(AO24,Tabelas!B:D,3,0),0),\"\")","v":0},{"$f":"IF(A24<>\"\",IFERROR(VLOOKUP(AP24,Tabelas!B:D,3,0),0),\"\")","v":0},{"$f":"IF(A24<>\"\",IFERROR(VLOOKUP(AQ24,Tabelas!B:D,3,0),0),\"\")","v":12},84,0,0,0,0,0,0,0]
["Eduardo Jardim Berbigier",2604323,null,"ME","RJU",20,null,null,null,null,null,null,null,"FE","FE","FE","FE","FE","FE","FE","FE","FE","FE","FE","FE","FE","FE","FE","FE","FE","FE","FE","FE","FE","FE","FE","FE","FE","FE","FE","FE","FE","FE",{"$f":"IF(A25<>\"\",IFERROR(VLOOKUP(M25,Tabelas!B:D,3,0),0),\"\")","v":0},{"$f":"IF(A25<>\"\",IFERROR(VLOOKUP(N25,Tabelas!B:D,3,0),0),\"\")","v":0},{"$f":"IF(A25<>\"\",IFERROR(VLOOKUP(O25,Tabelas!B:D,3,0),0),\"\")","v":0},{"$f":"IF(A25<>\"\",IFERROR(VLOOKUP(P25,Tabelas!B:D,3,0),0),\"\")","v":0},{"$f":"IF(A25<>\"\",IFERROR(VLOOKUP(Q25,Tabelas!B:D,3,0),0),\"\")","v":0},{"$f":"IF(A25<>\"\",IFERROR(VLOOKUP(R25,Tabelas!B:D,3,0),0),\"\")","v":0},{"$f":"IF(A25<>\"\",IFERROR(VLOOKUP(S25,Tabelas!B:D,3,0),0),\"\")","v":0},{"$f":"IF(A25<>\"\",IFERROR(VLOOKUP(T25,Tabelas!B:D,3,0),0),\"\")","v":0},{"$f":"IF(A25<>\"\",IFERROR(VLOOKUP(U25,Tabelas!B:D,3,0),0),\"\")","v":0},{"$f":"IF(A25<>\"\",IFERROR(VLOOKUP(V25,Tabelas!B:D,3,0),0),\"\")","v":0},{"$f":"IF(A25<>\"\",IFERROR(VLOOKUP(W25,Tabelas!B:D,3,0),0),\"\")","v":0},{"$f":"IF(A25<>\"\",IFERROR(VLOOKUP(X25,Tabelas!B:D,3,0),0),\"\")","v":0},{"$f":"IF(A25<>\"\",IFERROR(VLOOKUP(Y25,Tabelas!B:D,3,0),0),\"\")","v":0},{"$f":"IF(A25<>\"\",IFERROR(VLOOKUP(Z25,Tabelas!B:D,3,0),0),\"\")","v":0},{"$f":"IF(A25<>\"\",IFERROR(VLOOKUP(AA25,Tabelas!B:D,3,0),0),\"\")","v":0},{"$f":"IF(A25<>\"\",IFERROR(VLOOKUP(AB25,Tabelas!B:D,3,0),0),\"\")","v":0},{"$f":"IF(A25<>\"\",IFERROR(VLOOKUP(AC25,Tabelas!B:D,3,0),0),\"\")","v":0},{"$f":"IF(A25<>\"\",IFERROR(VLOOKUP(AD25,Tabelas!B:D,3,0),0),\"\")","v":0},{"$f":"IF(A25<>\"\",IFERROR(VLOOKUP(AE25,Tabelas!B:D,3,0),0),\"\")","v":0},{"$f":"IF(A25<>\"\",IFERROR(VLOOKUP(AF25,Tabelas!B:D,3,0),0),\"\")","v":0},{"$f":"IF(A25<>\"\",IFERROR(VLOOKUP(AG25,Tabelas!B:D,3,0),0),\"\")","v":0},{"$f":"IF(A25<>\"\",IFERROR(VLOOKUP(AH25,Tabelas!B:D,3,0),0),\"\")","v":0},{"$f":"IF(A25<>\"\",IFERROR(VLOOKUP(AI25,Tabelas!B:D,3,0),0),\"\")","v":0},{"$f":"IF(A25<>\"\",IFERROR(VLOOKUP(AJ25,Tabelas!B:D,3,0),0),\"\")","v":0},{"$f":"IF(A25<>\"\",IFERROR(VLOOKUP(AK25,Tabelas!B:D,3,0),0),\"\")","v":0},{"$f":"IF(A25<>\"\",IFERROR(VLOOKUP(AL25,Tabelas!B:D,3,0),0),\"\")","v":0},{"$f":"IF(A25<>\"\",IFERROR(VLOOKUP(AM25,Tabelas!B:D,3,0),0),\"\")","v":0},{"$f":"IF(A25<>\"\",IFERROR(VLOOKUP(AN25,Tabelas!B:D,3,0),0),\"\")","v":0},{"$f":"IF(A25<>\"\",IFERROR(VLOOKUP(AO25,Tabelas!B:D,3,0),0),\"\")","v":0},{"$f":"IF(A25<>\"\",IFERROR(VLOOKUP(AP25,Tabelas!B:D,3,0),0),\"\")","v":0},{"$f":"IF(A25<>\"\",IFERROR(VLOOKUP(AQ25,Tabelas!B:D,3,0),0),\"\")","v":0},0,0,0,30,0,0,0,30]
["Fernanda Goss Fontanella",1200689,null,"ME","EBSERH",24,null,null,null,null,null,null,null,"N10",null,null,"CH-12",null,null,null,null,"N10",null,"N10",null,null,null,null,"N10",null,null,"N10",null,null,null,null,"D8","N10",null,"N10",null,null,null,{"$f":"IF(A26<>\"\",IFERROR(VLOOKUP(M26,Tabelas!B:D,3,0),0),\"\")","v":0},{"$f":"IF(A26<>\"\",IFERROR(VLOOKUP(N26,Tabelas!B:D,3,0),0),\"\")","v":12},{"$f":"IF(A26<>\"\",IFERROR(VLOOKUP(O26,Tabelas!B:D,3,0),0),\"\")","v":0},{"$f":"IF(A26<>\"\",IFERROR(VLOOKUP(P26,Tabelas!B:D,3,0),0),\"\")","v":0},{"$f":"IF(A26<>\"\",IFERROR(VLOOKUP(Q26,Tabelas!B:D,3,0),0),\"\")","v":0},{"$f":"IF(A26<>\"\",IFERROR(VLOOKUP(R26,Tabelas!B:D,3,0),0),\"\")","v":0},{"$f":"IF(A26<>\"\",IFERROR(VLOOKUP(S26,Tabelas!B:D,3,0),0),\"\")","v":0},{"$f":"IF(A26<>\"\",IFERROR(VLOOKUP(T26,Tabelas!B:D,3,0),0),\"\")","v":0},{"$f":"IF(A26<>\"\",IFERROR(VLOOKUP(U26,Tabelas!B:D,3,0),0),\"\")","v":0},{"$f":"IF(A26<>\"\",IFERROR(VLOOKUP(V26,Tabelas!B:D,3,0),0),\"\")","v":12},{"$f":"IF(A26<>\"\",IFERROR(VLOOKUP(W26,Tabelas!B:D,3,0),0),\"\")","v":0},{"$f":"IF(A26<>\"\",IFERROR(VLOOKUP(X26,Tabelas!B:D,3,0),0),\"\")","v":12},{"$f":"IF(A26<>\"\",IFERROR(VLOOKUP(Y26,Tabelas!B:D,3,0),0),\"\")","v":0},{"$f":"IF(A26<>\"\",IFERROR(VLOOKUP(Z26,Tabelas!B:D,3,0),0),\"\")","v":0},{"$f":"IF(A26<>\"\",IFERROR(VLOOKUP(AA26,Tabelas!B:D,3,0),0),\"\")","v":0},{"$f":"IF(A26<>\"\",IFERROR(VLOOKUP(AB26,Tabelas!B:D,3,0),0),\"\")","v":0},{"$f":"IF(A26<>\"\",IFERROR(VLOOKUP(AC26,Tabelas!B:D,3,0),0),\"\")","v":12},{"$f":"IF(A26<>\"\",IFERROR(VLOOKUP(AD26,Tabelas!B:D,3,0),0),\"\")","v":0},{"$f":"IF(A26<>\"\",IFERROR(VLOOKUP(AE26,Tabelas!B:D,3,0),0),\"\")","v":0},{"$f":"IF(A26<>\"\",IFERROR(VLOOKUP(AF26,Tabelas!B:D,3,0),0),\"\")","v":12},{"$f":"IF(A26<>\"\",IFERROR(VLOOKUP(AG26,Tabelas!B:D,3,0),0),\"\")","v":0},{"$f":"IF(A26<>\"\",IFERROR(VLOOKUP(AH26,Tabelas!B:D,3,0),0),\"\")","v":0},{"$f":"IF(A26<>\"\",IFERROR(VLOOKUP(AI26,Tabelas!B:D,3,0),0),\"\")","v":0},{"$f":"IF(A26<>\"\",IFERROR(VLOOKUP(AJ26,Tabelas!B:D,3,0),0),\"\")","v":0},{"$f":"IF(A26<>\"\",IFERROR(VLOOKUP(AK26,Tabelas!B:D,3,0),0),\"\")","v":12},{"$f":"IF(A26<>\"\",IFERROR(VLOOKUP(AL26,Tabelas!B:D,3,0),0),\"\")","v":12},{"$f":"IF(A26<>\"\",IFERROR(VLOOKUP(AM26,Tabelas!B:D,3,0),0),\"\")","v":0},{"$f":"IF(A26<>\"\",IFERROR(VLOOKUP(AN26,Tabelas!B:D,3,0),0),\"\")","v":12},{"$f":"IF(A26<>\"\",IFERROR(VLOOKUP(AO26,Tabelas!B:D,3,0),0),\"\")","v":0},{"$f":"IF(A26<>\"\",IFERROR(VLOOKUP(AP26,Tabelas!B:D,3,0),0),\"\")","v":0},{"$f":"IF(A26<>\"\",IFERROR(VLOOKUP(AQ26,Tabelas!B:D,3,0),0),\"\")","v":0},103,0,0,0,0,1,0,1]
["Irácino José Miranda Júnior",1006032,null,"ME","EBSERH",24,null,null,null,null,null,null,null,null,"N10","N10",null,null,null,null,null,"AB12",null,"N10",null,null,null,null,null,"AB12",null,"CH-12",null,null,null,null,"D8","N10",null,"N10",null,null,null,{"$f":"IF(A27<>\"\",IFERROR(VLOOKUP(M27,Tabelas!B:D,3,0),0),\"\")","v":0},{"$f":"IF(A27<>\"\",IFERROR(VLOOKUP(N27,Tabelas!B:D,3,0),0),\"\")","v":0},{"$f":"IF(A27<>\"\",IFERROR(VLOOKUP(O27,Tabelas!B:D,3,0),0),\"\")","v":12},{"$f":"IF(A27<>\"\",IFERROR(VLOOKUP(P27,Tabelas!B:D,3,0),0),\"\")","v":12},{"$f":"IF(A27<>\"\",IFERROR(VLOOKUP(Q27,Tabelas!B:D,3,0),0),\"\")","v":0},{"$f":"IF(A27<>\"\",IFERROR(VLOOKUP(R27,Tabelas!B:D,3,0),0),\"\")","v":0},{"$f":"IF(A27<>\"\",IFERROR(VLOOKUP(S27,Tabelas!B:D,3,0),0),\"\")","v":0},{"$f":"IF(A27<>\"\",IFERROR(VLOOKUP(T27,Tabelas!B:D,3,0),0),\"\")","v":0},{"$f":"IF(A27<>\"\",IFERROR(VLOOKUP(U27,Tabelas!B:D,3,0),0),\"\")","v":0},{"$f":"IF(A27<>\"\",IFERROR(VLOOKUP(V27,Tabelas!B:D,3,0),0),\"\")","v":12},{"$f":"IF(A27<>\"\",IFERROR(VLOOKUP(W27,Tabelas!B:D,3,0),0),\"\")","v":0},{"$f":"IF(A27<>\"\",IFERROR(VLOOKUP(X27,Tabelas!B:D,3,0),0),\"\")","v":12},{"$f":"IF(A27<>\"\",IFERROR(VLOOKUP(Y27,Tabelas!B:D,3,0),0),\"\")","v":0},{"$f":"IF(A27<>\"\",IFERROR(VLOOKUP(Z27,Tabelas!B:D,3,0),0),\"\")","v":0},{"$f":"IF(A27<>\"\",IFERROR(VLOOKUP(AA27,Tabelas!B:D,3,0),0),\"\")","v":0},{"$f":"IF(A27<>\"\",IFERROR(VLOOKUP(AB27,Tabelas!B:D,3,0),0),\"\")","v":0},{"$f":"IF(A27<>\"\",IFERROR(VLOOKUP(AC27,Tabelas!B:D,3,0),0),\"\")","v":0},{"$f":"IF(A27<>\"\",IFERROR(VLOOKUP(AD27,Tabelas!B:D,3,0),0),\"\")","v":12},{"$f":"IF(A27<>\"\",IFERROR(VLOOKUP(AE27,Tabelas!B:D,3,0),0),\"\")","v":0},{"$f":"IF(A27<>\"\",IFERROR(VLOOKUP(AF27,Tabelas!B:D,3,0),0),\"\")","v":0},{"$f":"IF(A27<>\"\",IFERROR(VLOOKUP(AG27,Tabelas!B:D,3,0),0),\"\")","v":0},{"$f":"IF(A27<>\"\",IFERROR(VLOOKUP(AH27,Tabelas!B:D,3,0),0),\"\")","v":0},{"$f":"IF(A27<>\"\",IFERROR(VLOOKUP(AI27,Tabelas!B:D,3,0),0),\"\")","v":0},{"$f":"IF(A27<>\"\",IFERROR(VLOOKUP(AJ27,Tabelas!B:D,3,0),0),\"\")","v":0},{"$f":"IF(A27<>\"\",IFERROR(VLOOKUP(AK27,Tabelas!B:D,3,0),0),\"\")","v":12},{"$f":"IF(A27<>\"\",IFERROR(VLOOKUP(AL27,Tabelas!B:D,3,0),0),\"\")","v":12},{"$f":"IF(A27<>\"\",IFERROR(VLOOKUP(AM27,Tabelas!B:D,3,0),0),\"\")","v":0},{"$f":"IF(A27<>\"\",IFERROR(VLOOKUP(AN27,Tabelas!B:D,3,0),0),\"\")","v":12},{"$f":"IF(A27<>\"\",IFERROR(VLOOKUP(AO27,Tabelas!B:D,3,0),0),\"\")","v":0},{"$f":"IF(A27<>\"\",IFERROR(VLOOKUP(AP27,Tabelas!B:D,3,0),0),\"\")","v":0},{"$f":"IF(A27<>\"\",IFERROR(VLOOKUP(AQ27,Tabelas!B:D,3,0),0),\"\")","v":0},101,0,2,0,0,1,0,3]
["João Luiz Henrique da Silveira",1704052,null,"ME","EBSERH",24,null,null,null,null,null,null,null,null,null,null,"DN6",null,null,null,"N10",null,null,null,null,"N10",null,null,null,"D8",null,null,null,"N10",null,"N10","N10",null,null,null,null,null,"N10",{"$f":"IF(A28<>\"\",IFERROR(VLOOKUP(M28,Tabelas!B:D,3,0),0),\"\")","v":0},{"$f":"IF(A28<>\"\",IFERROR(VLOOKUP(N28,Tabelas!B:D,3,0),0),\"\")","v":0},{"$f":"IF(A28<>\"\",IFERROR(VLOOKUP(O28,Tabelas!B:D,3,0),0),\"\")","v":0},{"$f":"IF(A28<>\"\",IFERROR(VLOOKUP(P28,Tabelas!B:D,3,0),0),\"\")","v":0},{"$f":"IF(A28<>\"\",IFERROR(VLOOKUP(Q28,Tabelas!B:D,3,0),0),\"\")","v":24},{"$f":"IF(A28<>\"\",IFERROR(VLOOKUP(R28,Tabelas!B:D,3,0),0),\"\")","v":0},{"$f":"IF(A28<>\"\",IFERROR(VLOOKUP(S28,Tabelas!B:D,3,0),0),\"\")","v":0},{"$f":"IF(A28<>\"\",IFERROR(VLOOKUP(T28,Tabelas!B:D,3,0),0),\"\")","v":0},{"$f":"IF(A28<>\"\",IFERROR(VLOOKUP(U28,Tabelas!B:D,3,0),0),\"\")","v":12},{"$f":"IF(A28<>\"\",IFERROR(VLOOKUP(V28,Tabelas!B:D,3,0),0),\"\")","v":0},{"$f":"IF(A28<>\"\",IFERROR(VLOOKUP(W28,Tabelas!B:D,3,0),0),\"\")","v":0},{"$f":"IF(A28<>\"\",IFERROR(VLOOKUP(X28,Tabelas!B:D,3,0),0),\"\")","v":0},{"$f":"IF(A28<>\"\",IFERROR(VLOOKUP(Y28,Tabelas!B:D,3,0),0),\"\")","v":0},{"$f":"IF(A28<>\"\",IFERROR(VLOOKUP(Z28,Tabelas!B:D,3,0),0),\"\")","v":12},{"$f":"IF(A28<>\"\",IFERROR(VLOOKUP(AA28,Tabelas!B:D,3,0),0),\"\")","v":0},{"$f":"IF(A28<>\"\",IFERROR(VLOOKUP(AB28,Tabelas!B:D,3,0),0),\"\")","v":0},{"$f":"IF(A28<>\"\",IFERROR(VLOOKUP(AC28,Tabelas!B:D,3,0),0),\"\")","v":0},{"$f":"IF(A28<>\"\",IFERROR(VLOOKUP(AD28,Tabelas!B:D,3,0),0),\"\")","v":12},{"$f":"IF(A28<>\"\",IFERROR(VLOOKUP(AE28,Tabelas!B:D,3,0),0),\"\")","v":0},{"$f":"IF(A28<>\"\",IFERROR(VLOOKUP(AF28,Tabelas!B:D,3,0),0),\"\")","v":0},{"$f":"IF(A28<>\"\",IFERROR(VLOOKUP(AG28,Tabelas!B:D,3,0),0),\"\")","v":0},{"$f":"IF(A28<>\"\",IFERROR(VLOOKUP(AH28,Tabelas!B:D,3,0),0),\"\")","v":12},{"$f":"IF(A28<>\"\",IFERROR(VLOOKUP(AI28,Tabelas!B:D,3,0),0),\"\")","v":0},{"$f":"IF(A28<>\"\",IFERROR(VLOOKUP(AJ28,Tabelas!B:D,3,0),0),\"\")","v":12},{"$f":"IF(A28<>\"\",IFERROR(VLOOKUP(AK28,Tabelas!B:D,3,0),0),\"\")","v":12},{"$f":"IF(A28<>\"\",IFERROR(VLOOKUP(AL28,Tabelas!B:D,3,0),0),\"\")","v":0},{"$f":"IF(A28<>\"\",IFERROR(VLOOKUP(AM28,Tabelas!B:D,3,0),0),\"\")","v":0},{"$f":"IF(A28<>\"\",IFERROR(VLOOKUP(AN28,Tabelas!B:D,3,0),0),\"\")","v":0},{"$f":"IF(A28<>\"\",IFERROR(VLOOKUP(AO28,Tabelas!B:D,3,0),0),\"\")","v":0},{"$f":"IF(A28<>\"\",IFERROR(VLOOKUP(AP28,Tabelas!B:D,3,0),0),\"\")","v":0},{"$f":"IF(A28<>\"\",IFERROR(VLOOKUP(AQ28,Tabelas!B:D,3,0),0),\"\")","v":12},115,0,0,0,0,0,0,0]
["Joel de Andrade",1160444,null,"ME","RJU",40,null,null,null,null,null,null,null,null,"N10","N10",null,null,null,null,null,"N10",null,"D8","N10",null,null,null,null,null,"N10",null,null,null,null,null,null,null,"N10",null,null,null,null,{"$f":"IF(A29<>\"\",IFERROR(VLOOKUP(M29,Tabelas!B:D,3,0),0),\"\")","v":0},{"$f":"IF(A29<>\"\",IFERROR(VLOOKUP(N29,Tabelas!B:D,3,0),0),\"\")","v":0},{"$f":"IF(A29<>\"\",IFERROR(VLOOKUP(O29,Tabelas!B:D,3,0),0),\"\")","v":12},{"$f":"IF(A29<>\"\",IFERROR(VLOOKUP(P29,Tabelas!B:D,3,0),0),\"\")","v":12},{"$f":"IF(A29<>\"\",IFERROR(VLOOKUP(Q29,Tabelas!B:D,3,0),0),\"\")","v":0},{"$f":"IF(A29<>\"\",IFERROR(VLOOKUP(R29,Tabelas!B:D,3,0),0),\"\")","v":0},{"$f":"IF(A29<>\"\",IFERROR(VLOOKUP(S29,Tabelas!B:D,3,0),0),\"\")","v":0},{"$f":"IF(A29<>\"\",IFERROR(VLOOKUP(T29,Tabelas!B:D,3,0),0),\"\")","v":0},{"$f":"IF(A29<>\"\",IFERROR(VLOOKUP(U29,Tabelas!B:D,3,0),0),\"\")","v":0},{"$f":"IF(A29<>\"\",IFERROR(VLOOKUP(V29,Tabelas!B:D,3,0),0),\"\")","v":12},{"$f":"IF(A29<>\"\",IFERROR(VLOOKUP(W29,Tabelas!B:D,3,0),0),\"\")","v":0},{"$f":"IF(A29<>\"\",IFERROR(VLOOKUP(X29,Tabelas!B:D,3,0),0),\"\")","v":12},{"$f":"IF(A29<>\"\",IFERROR(VLOOKUP(Y29,Tabelas!B:D,3,0),0),\"\")","v":12},{"$f":"IF(A29<>\"\",IFERROR(VLOOKUP(Z29,Tabelas!B:D,3,0),0),\"\")","v":0},{"$f":"IF(A29<>\"\",IFERROR(VLOOKUP(AA29,Tabelas!B:D,3,0),0),\"\")","v":0},{"$f":"IF(A29<>\"\",IFERROR(VLOOKUP(AB29,Tabelas!B:D,3,0),0),\"\")","v":0},{"$f":"IF(A29<>\"\",IFERROR(VLOOKUP(AC29,Tabelas!B:D,3,0),0),\"\")","v":0},{"$f":"IF(A29<>\"\",IFERROR(VLOOKUP(AD29,Tabelas!B:D,3,0),0),\"\")","v":0},{"$f":"IF(A29<>\"\",IFERROR(VLOOKUP(AE29,Tabelas!B:D,3,0),0),\"\")","v":12},{"$f":"IF(A29<>\"\",IFERROR(VLOOKUP(AF29,Tabelas!B:D,3,0),0),\"\")","v":0},{"$f":"IF(A29<>\"\",IFERROR(VLOOKUP(AG29,Tabelas!B:D,3,0),0),\"\")","v":0},{"$f":"IF(A29<>\"\",IFERROR(VLOOKUP(AH29,Tabelas!B:D,3,0),0),\"\")","v":0},{"$f":"IF(A29<>\"\",IFERROR(VLOOKUP(AI29,Tabelas!B:D,3,0),0),\"\")","v":0},{"$f":"IF(A29<>\"\",IFERROR(VLOOKUP(AJ29,Tabelas!B:D,3,0),0),\"\")","v":0},{"$f":"IF(A29<>\"\",IFERROR(VLOOKUP(AK29,Tabelas!B:D,3,0),0),\"\")","v":0},{"$f":"IF(A29<>\"\",IFERROR(VLOOKUP(AL29,Tabelas!B:D,3,0),0),\"\")","v":0},{"$f":"IF(A29<>\"\",IFERROR(VLOOKUP(AM29,Tabelas!B:D,3,0),0),\"\")","v":12},{"$f":"IF(A29<>\"\",IFERROR(VLOOKUP(AN29,Tabelas!B:D,3,0),0),\"\")","v":0},{"$f":"IF(A29<>\"\",IFERROR(VLOOKUP(AO29,Tabelas!B:D,3,0),0),\"\")","v":0},{"$f":"IF(A29<>\"\",IFERROR(VLOOKUP(AP29,Tabelas!B:D,3,0),0),\"\")","v":0},{"$f":"IF(A29<>\"\",IFERROR(VLOOKUP(AQ29,Tabelas!B:D,3,0),0),\"\")","v":0},84,0,0,0,0,0,0,0]
["Pedro Luz da Rosa",2606805,null,"ME","RJU",20,null,null,null,null,null,null,null,null,null,"D8",null,"N10",null,null,null,null,null,"D8","N10",null,null,null,null,null,"N10",null,"N10",null,null,null,null,null,"N10",null,null,null,null,{"$f":"IF(A30<>\"\",IFERROR(VLOOKUP(M30,Tabelas!B:D,3,0),0),\"\")","v":0},{"$f":"IF(A30<>\"\",IFERROR(VLOOKUP(N30,Tabelas!B:D,3,0),0),\"\")","v":0},{"$f":"IF(A30<>\"\",IFERROR(VLOOKUP(O30,Tabelas!B:D,3,0),0),\"\")","v":0},{"$f":"IF(A30<>\"\",IFERROR(VLOOKUP(P30,Tabelas!B:D,3,0),0),\"\")","v":12},{"$f":"IF(A30<>\"\",IFERROR(VLOOKUP(Q30,Tabelas!B:D,3,0),0),\"\")","v":0},{"$f":"IF(A30<>\"\",IFERROR(VLOOKUP(R30,Tabelas!B:D,3,0),0),\"\")","v":12},{"$f":"IF(A30<>\"\",IFERROR(VLOOKUP(S30,Tabelas!B:D,3,0),0),\"\")","v":0},{"$f":"IF(A30<>\"\",IFERROR(VLOOKUP(T30,Tabelas!B:D,3,0),0),\"\")","v":0},{"$f":"IF(A30<>\"\",IFERROR(VLOOKUP(U30,Tabelas!B:D,3,0),0),\"\")","v":0},{"$f":"IF(A30<>\"\",IFERROR(VLOOKUP(V30,Tabelas!B:D,3,0),0),\"\")","v":0},{"$f":"IF(A30<>\"\",IFERROR(VLOOKUP(W30,Tabelas!B:D,3,0),0),\"\")","v":0},{"$f":"IF(A30<>\"\",IFERROR(VLOOKUP(X30,Tabelas!B:D,3,0),0),\"\")","v":12},{"$f":"IF(A30<>\"\",IFERROR(VLOOKUP(Y30,Tabelas!B:D,3,0),0),\"\")","v":12},{"$f":"IF(A30<>\"\",IFERROR(VLOOKUP(Z30,Tabelas!B:D,3,0),0),\"\")","v":0},{"$f":"IF(A30<>\"\",IFERROR(VLOOKUP(AA30,Tabelas!B:D,3,0),0),\"\")","v":0},{"$f":"IF(A30<>\"\",IFERROR(VLOOKUP(AB30,Tabelas!B:D,3,0),0),\"\")","v":0},{"$f":"IF(A30<>\"\",IFERROR(VLOOKUP(AC30,Tabelas!B:D,3,0),0),\"\")","v":0},{"$f":"IF(A30<>\"\",IFERROR(VLOOKUP(AD30,Tabelas!B:D,3,0),0),\"\")","v":0},{"$f":"IF(A30<>\"\",IFERROR(VLOOKUP(AE30,Tabelas!B:D,3,0),0),\"\")","v":12},{"$f":"IF(A30<>\"\",IFERROR(VLOOKUP(AF30,Tabelas!B:D,3,0),0),\"\")","v":0},{"$f":"IF(A30<>\"\",IFERROR(VLOOKUP(AG30,Tabelas!B:D,3,0),0),\"\")","v":12},{"$f":"IF(A30<>\"\",IFERROR(VLOOKUP(AH30,Tabelas!B:D,3,0),0),\"\")","v":0},{"$f":"IF(A30<>\"\",IFERROR(VLOOKUP(AI30,Tabelas!B:D,3,0),0),\"\")","v":0},{"$f":"IF(A30<>\"\",IFERROR(VLOOKUP(AJ30,Tabelas!B:D,3,0),0),\"\")","v":0},{"$f":"IF(A30<>\"\",IFERROR(VLOOKUP(AK30,Tabelas!B:D,3,0),0),\"\")","v":0},{"$f":"IF(A30<>\"\",IFERROR(VLOOKUP(AL30,Tabelas!B:D,3,0),0),\"\")","v":0},{"$f":"IF(A30<>\"\",IFERROR(VLOOKUP(AM30,Tabelas!B:D,3,0),0),\"\")","v":12},{"$f":"IF(A30<>\"\",IFERROR(VLOOKUP(AN30,Tabelas!B:D,3,0),0),\"\")","v":0},{"$f":"IF(A30<>\"\",IFERROR(VLOOKUP(AO30,Tabelas!B:D,3,0),0),\"\")","v":0},{"$f":"IF(A30<>\"\",IFERROR(VLOOKUP(AP30,Tabelas!B:D,3,0),0),\"\")","v":0},{"$f":"IF(A30<>\"\",IFERROR(VLOOKUP(AQ30,Tabelas!B:D,3,0),0),\"\")","v":0},84,0,0,0,0,0,0,0]
["Robson Lima Ribeiro",3369679,null,"ME","RJU",20,null,null,null,null,null,null,"D8","N10",null,null,"D8",null,null,null,"N10",null,null,null,null,null,null,null,"N10","N10",null,null,null,null,null,"N10",null,null,null,null,null,null,null,{"$f":"IF(A31<>\"\",IFERROR(VLOOKUP(M31,Tabelas!B:D,3,0),0),\"\")","v":12},{"$f":"IF(A31<>\"\",IFERROR(VLOOKUP(N31,Tabelas!B:D,3,0),0),\"\")","v":12},{"$f":"IF(A31<>\"\",IFERROR(VLOOKUP(O31,Tabelas!B:D,3,0),0),\"\")","v":0},{"$f":"IF(A31<>\"\",IFERROR(VLOOKUP(P31,Tabelas!B:D,3,0),0),\"\")","v":0},{"$f":"IF(A31<>\"\",IFERROR(VLOOKUP(Q31,Tabelas!B:D,3,0),0),\"\")","v":12},{"$f":"IF(A31<>\"\",IFERROR(VLOOKUP(R31,Tabelas!B:D,3,0),0),\"\")","v":0},{"$f":"IF(A31<>\"\",IFERROR(VLOOKUP(S31,Tabelas!B:D,3,0),0),\"\")","v":0},{"$f":"IF(A31<>\"\",IFERROR(VLOOKUP(T31,Tabelas!B:D,3,0),0),\"\")","v":0},{"$f":"IF(A31<>\"\",IFERROR(VLOOKUP(U31,Tabelas!B:D,3,0),0),\"\")","v":12},{"$f":"IF(A31<>\"\",IFERROR(VLOOKUP(V31,Tabelas!B:D,3,0),0),\"\")","v":0},{"$f":"IF(A31<>\"\",IFERROR(VLOOKUP(W31,Tabelas!B:D,3,0),0),\"\")","v":0},{"$f":"IF(A31<>\"\",IFERROR(VLOOKUP(X31,Tabelas!B:D,3,0),0),\"\")","v":0},{"$f":"IF(A31<>\"\",IFERROR(VLOOKUP(Y31,Tabelas!B:D,3,0),0),\"\")","v":0},{"$f":"IF(A31<>\"\",IFERROR(VLOOKUP(Z31,Tabelas!B:D,3,0),0),\"\")","v":0},{"$f":"IF(A31<>\"\",IFERROR(VLOOKUP(AA31,Tabelas!B:D,3,0),0),\"\")","v":0},{"$f":"IF(A31<>\"\",IFERROR(VLOOKUP(AB31,Tabelas!B:D,3,0),0),\"\")","v":0},{"$f":"IF(A31<>\"\",IFERROR(VLOOKUP(AC31,Tabelas!B:D,3,0),0),\"\")","v":12},{"$f":"IF(A31<>\"\",IFERROR(VLOOKUP(AD31,Tabelas!B:D,3,0),0),\"\")","v":12},{"$f":"IF(A31<>\"\",IFERROR(VLOOKUP(AE31,Tabelas!B:D,3,0),0),\"\")","v":0},{"$f":"IF(A31<>\"\",IFERROR(VLOOKUP(AF31,Tabelas!B:D,3,0),0),\"\")","v":0},{"$f":"IF(A31<>\"\",IFERROR(VLOOKUP(AG31,Tabelas!B:D,3,0),0),\"\")","v":0},{"$f":"IF(A31<>\"\",IFERROR(VLOOKUP(AH31,Tabelas!B:D,3,0),0),\"\")","v":0},{"$f":"IF(A31<>\"\",IFERROR(VLOOKUP(AI31,Tabelas!B:D,3,0),0),\"\")","v":0},{"$f":"IF(A31<>\"\",IFERROR(VLOOKUP(AJ31,Tabelas!B:D,3,0),0),\"\")","v":12},{"$f":"IF(A31<>\"\",IFERROR(VLOOKUP(AK31,Tabelas!B:D,3,0),0),\"\")","v":0},{"$f":"IF(A31<>\"\",IFERROR(VLOOKUP(AL31,Tabelas!B:D,3,0),0),\"\")","v":0},{"$f":"IF(A31<>\"\",IFERROR(VLOOKUP(AM31,Tabelas!B:D,3,0),0),\"\")","v":0},{"$f":"IF(A31<>\"\",IFERROR(VLOOKUP(AN31,Tabelas!B:D,3,0),0),\"\")","v":0},{"$f":"IF(A31<>\"\",IFERROR(VLOOKUP(AO31,Tabelas!B:D,3,0),0),\"\")","v":0},{"$f":"IF(A31<>\"\",IFERROR(VLOOKUP(AP31,Tabelas!B:D,3,0),0),\"\")","v":0},{"$f":"IF(A31<>\"\",IFERROR(VLOOKUP(AQ31,Tabelas!B:D,3,0),0),\"\")","v":0},84,0,0,0,0,0,0,0]
["Rodrigo Lebarbenchon",1160132,null,"ME","RJU",20,null,null,null,null,null,null,null,null,null,null,null,null,null,null,null,null,null,null,null,null,null,null,null,null,null,null,null,null,null,null,null,null,null,null,null,null,null,{"$f":"IF(A32<>\"\",IFERROR(VLOOKUP(M32,Tabelas!B:D,3,0),0),\"\")","v":0},{"$f":"IF(A32<>\"\",IFERROR(VLOOKUP(N32,Tabelas!B:D,3,0),0),\"\")","v":0},{"$f":"IF(A32<>\"\",IFERROR(VLOOKUP(O32,Tabelas!B:D,3,0),0),\"\")","v":0},{"$f":"IF(A32<>\"\",IFERROR(VLOOKUP(P32,Tabelas!B:D,3,0),0),\"\")","v":0},{"$f":"IF(A32<>\"\",IFERROR(VLOOKUP(Q32,Tabelas!B:D,3,0),0),\"\")","v":0},{"$f":"IF(A32<>\"\",IFERROR(VLOOKUP(R32,Tabelas!B:D,3,0),0),\"\")","v":0},{"$f":"IF(A32<>\"\",IFERROR(VLOOKUP(S32,Tabelas!B:D,3,0),0),\"\")","v":0},{"$f":"IF(A32<>\"\",IFERROR(VLOOKUP(T32,Tabelas!B:D,3,0),0),\"\")","v":0},{"$f":"IF(A32<>\"\",IFERROR(VLOOKUP(U32,Tabelas!B:D,3,0),0),\"\")","v":0},{"$f":"IF(A32<>\"\",IFERROR(VLOOKUP(V32,Tabelas!B:D,3,0),0),\"\")","v":0},{"$f":"IF(A32<>\"\",IFERROR(VLOOKUP(W32,Tabelas!B:D,3,0),0),\"\")","v":0},{"$f":"IF(A32<>\"\",IFERROR(VLOOKUP(X32,Tabelas!B:D,3,0),0),\"\")","v":0},{"$f":"IF(A32<>\"\",IFERROR(VLOOKUP(Y32,Tabelas!B:D,3,0),0),\"\")","v":0},{"$f":"IF(A32<>\"\",IFERROR(VLOOKUP(Z32,Tabelas!B:D,3,0),0),\"\")","v":0},{"$f":"IF(A32<>\"\",IFERROR(VLOOKUP(AA32,Tabelas!B:D,3,0),0),\"\")","v":0},{"$f":"IF(A32<>\"\",IFERROR(VLOOKUP(AB32,Tabelas!B:D,3,0),0),\"\")","v":0},{"$f":"IF(A32<>\"\",IFERROR(VLOOKUP(AC32,Tabelas!B:D,3,0),0),\"\")","v":0},{"$f":"IF(A32<>\"\",IFERROR(VLOOKUP(AD32,Tabelas!B:D,3,0),0),\"\")","v":0},{"$f":"IF(A32<>\"\",IFERROR(VLOOKUP(AE32,Tabelas!B:D,3,0),0),\"\")","v":0},{"$f":"IF(A32<>\"\",IFERROR(VLOOKUP(AF32,Tabelas!B:D,3,0),0),\"\")","v":0},{"$f":"IF(A32<>\"\",IFERROR(VLOOKUP(AG32,Tabelas!B:D,3,0),0),\"\")","v":0},{"$f":"IF(A32<>\"\",IFERROR(VLOOKUP(AH32,Tabelas!B:D,3,0),0),\"\")","v":0},{"$f":"IF(A32<>\"\",IFERROR(VLOOKUP(AI32,Tabelas!B:D,3,0),0),\"\")","v":0},{"$f":"IF(A32<>\"\",IFERROR(VLOOKUP(AJ32,Tabelas!B:D,3,0),0),\"\")","v":0},{"$f":"IF(A32<>\"\",IFERROR(VLOOKUP(AK32,Tabelas!B:D,3,0),0),\"\")","v":0},{"$f":"IF(A32<>\"\",IFERROR(VLOOKUP(AL32,Tabelas!B:D,3,0),0),\"\")","v":0},{"$f":"IF(A32<>\"\",IFERROR(VLOOKUP(AM32,Tabelas!B:D,3,0),0),\"\")","v":0},{"$f":"IF(A32<>\"\",IFERROR(VLOOKUP(AN32,Tabelas!B:D,3,0),0),\"\")","v":0},{"$f":"IF(A32<>\"\",IFERROR(VLOOKUP(AO32,Tabelas!B:D,3,0),0),\"\")","v":0},{"$f":"IF(A32<>\"\",IFERROR(VLOOKUP(AP32,Tabelas!B:D,3,0),0),\"\")","v":0},{"$f":"IF(A32<>\"\",IFERROR(VLOOKUP(AQ32,Tabelas!B:D,3,0),0),\"\")","v":0},0,0,0,0,0,0,0,0]
["Thales Roberto Schott da Silva",1160552,null,"ME","RJU",20,null,null,null,null,null,null,null,"FE","FE","FE","FE","FE","FE","FE","FE","FE","FE","FE","FE","FE","FE","FE","FE","FE","FE","FE","FE","FE","FE","FE","FE","FE","FE","FE","FE","FE","FE",{"$f":"IF(A33<>\"\",IFERROR(VLOOKUP(M33,Tabelas!B:D,3,0),0),\"\")","v":0},{"$f":"IF(A33<>\"\",IFERROR(VLOOKUP(N33,Tabelas!B:D,3,0),0),\"\")","v":0},{"$f":"IF(A33<>\"\",IFERROR(VLOOKUP(O33,Tabelas!B:D,3,0),0),\"\")","v":0},{"$f":"IF(A33<>\"\",IFERROR(VLOOKUP(P33,Tabelas!B:D,3,0),0),\"\")","v":0},{"$f":"IF(A33<>\"\",IFERROR(VLOOKUP(Q33,Tabelas!B:D,3,0),0),\"\")","v":0},{"$f":"IF(A33<>\"\",IFERROR(VLOOKUP(R33,Tabelas!B:D,3,0),0),\"\")","v":0},{"$f":"IF(A33<>\"\",IFERROR(VLOOKUP(S33,Tabelas!B:D,3,0),0),\"\")","v":0},{"$f":"IF(A33<>\"\",IFERROR(VLOOKUP(T33,Tabelas!B:D,3,0),0),\"\")","v":0},{"$f":"IF(A33<>\"\",IFERROR(VLOOKUP(U33,Tabelas!B:D,3,0),0),\"\")","v":0},{"$f":"IF(A33<>\"\",IFERROR(VLOOKUP(V33,Tabelas!B:D,3,0),0),\"\")","v":0},{"$f":"IF(A33<>\"\",IFERROR(VLOOKUP(W33,Tabelas!B:D,3,0),0),\"\")","v":0},{"$f":"IF(A33<>\"\",IFERROR(VLOOKUP(X33,Tabelas!B:D,3,0),0),\"\")","v":0},{"$f":"IF(A33<>\"\",IFERROR(VLOOKUP(Y33,Tabelas!B:D,3,0),0),\"\")","v":0},{"$f":"IF(A33<>\"\",IFERROR(VLOOKUP(Z33,Tabelas!B:D,3,0),0),\"\")","v":0},{"$f":"IF(A33<>\"\",IFERROR(VLOOKUP(AA33,Tabelas!B:D,3,0),0),\"\")","v":0},{"$f":"IF(A33<>\"\",IFERROR(VLOOKUP(AB33,Tabelas!B:D,3,0),0),\"\")","v":0},{"$f":"IF(A33<>\"\",IFERROR(VLOOKUP(AC33,Tabelas!B:D,3,0),0),\"\")","v":0},{"$f":"IF(A33<>\"\",IFERROR(VLOOKUP(AD33,Tabelas!B:D,3,0),0),\"\")","v":0},{"$f":"IF(A33<>\"\",IFERROR(VLOOKUP(AE33,Tabelas!B:D,3,0),0),\"\")","v":0},{"$f":"IF(A33<>\"\",IFERROR(VLOOKUP(AF33,Tabelas!B:D,3,0),0),\"\")","v":0},{"$f":"IF(A33<>\"\",IFERROR(VLOOKUP(AG33,Tabelas!B:D,3,0),0),\"\")","v":0},{"$f":"IF(A33<>\"\",IFERROR(VLOOKUP(AH33,Tabelas!B:D,3,0),0),\"\")","v":0},{"$f":"IF(A33<>\"\",IFERROR(VLOOKUP(AI33,Tabelas!B:D,3,0),0),\"\")","v":0},{"$f":"IF(A33<>\"\",IFERROR(VLOOKUP(AJ33,Tabelas!B:D,3,0),0),\"\")","v":0},{"$f":"IF(A33<>\"\",IFERROR(VLOOKUP(AK33,Tabelas!B:D,3,0),0),\"\")","v":0},{"$f":"IF(A33<>\"\",IFERROR(VLOOKUP(AL33,Tabelas!B:D,3,0),0),\"\")","v":0},{"$f":"IF(A33<>\"\",IFERROR(VLOOKUP(AM33,Tabelas!B:D,3,0),0),\"\")","v":0},{"$f":"IF(A33<>\"\",IFERROR(VLOOKUP(AN33,Tabelas!B:D,3,0),0),\"\")","v":0},{"$f":"IF(A33<>\"\",IFERROR(VLOOKUP(AO33,Tabelas!B:D,3,0),0),\"\")","v":0},{"$f":"IF(A33<>\"\",IFERROR(VLOOKUP(AP33,Tabelas!B:D,3,0),0),\"\")","v":0},{"$f":"IF(A33<>\"\",IFERROR(VLOOKUP(AQ33,Tabelas!B:D,3,0),0),\"\")","v":0},0,0,0,30,0,0,0,30]
["Vanessa Miné Geraldo",3055054,null,"ME","EBSERH",24,null,null,null,null,null,null,"N10",null,null,null,null,null,"N10",null,null,null,null,null,null,null,"N10",null,null,null,"D8",null,null,null,null,null,null,"D8",null,null,"N10",null,null,{"$f":"IF(A34<>\"\",IFERROR(VLOOKUP(M34,Tabelas!B:D,3,0),0),\"\")","v":12},{"$f":"IF(A34<>\"\",IFERROR(VLOOKUP(N34,Tabelas!B:D,3,0),0),\"\")","v":0},{"$f":"IF(A34<>\"\",IFERROR(VLOOKUP(O34,Tabelas!B:D,3,0),0),\"\")","v":0},{"$f":"IF(A34<>\"\",IFERROR(VLOOKUP(P34,Tabelas!B:D,3,0),0),\"\")","v":0},{"$f":"IF(A34<>\"\",IFERROR(VLOOKUP(Q34,Tabelas!B:D,3,0),0),\"\")","v":0},{"$f":"IF(A34<>\"\",IFERROR(VLOOKUP(R34,Tabelas!B:D,3,0),0),\"\")","v":0},{"$f":"IF(A34<>\"\",IFERROR(VLOOKUP(S34,Tabelas!B:D,3,0),0),\"\")","v":12},{"$f":"IF(A34<>\"\",IFERROR(VLOOKUP(T34,Tabelas!B:D,3,0),0),\"\")","v":0},{"$f":"IF(A34<>\"\",IFERROR(VLOOKUP(U34,Tabelas!B:D,3,0),0),\"\")","v":0},{"$f":"IF(A34<>\"\",IFERROR(VLOOKUP(V34,Tabelas!B:D,3,0),0),\"\")","v":0},{"$f":"IF(A34<>\"\",IFERROR(VLOOKUP(W34,Tabelas!B:D,3,0),0),\"\")","v":0},{"$f":"IF(A34<>\"\",IFERROR(VLOOKUP(X34,Tabelas!B:D,3,0),0),\"\")","v":0},{"$f":"IF(A34<>\"\",IFERROR(VLOOKUP(Y34,Tabelas!B:D,3,0),0),\"\")","v":0},{"$f":"IF(A34<>\"\",IFERROR(VLOOKUP(Z34,Tabelas!B:D,3,0),0),\"\")","v":0},{"$f":"IF(A34<>\"\",IFERROR(VLOOKUP(AA34,Tabelas!B:D,3,0),0),\"\")","v":12},{"$f":"IF(A34<>\"\",IFERROR(VLOOKUP(AB34,Tabelas!B:D,3,0),0),\"\")","v":0},{"$f":"IF(A34<>\"\",IFERROR(VLOOKUP(AC34,Tabelas!B:D,3,0),0),\"\")","v":0},{"$f":"IF(A34<>\"\",IFERROR(VLOOKUP(AD34,Tabelas!B:D,3,0),0),\"\")","v":0},{"$f":"IF(A34<>\"\",IFERROR(VLOOKUP(AE34,Tabelas!B:D,3,0),0),\"\")","v":12},{"$f":"IF(A34<>\"\",IFERROR(VLOOKUP(AF34,Tabelas!B:D,3,0),0),\"\")","v":0},{"$f":"IF(A34<>\"\",IFERROR(VLOOKUP(AG34,Tabelas!B:D,3,0),0),\"\")","v":0},{"$f":"IF(A34<>\"\",IFERROR(VLOOKUP(AH34,Tabelas!B:D,3,0),0),\"\")","v":0},{"$f":"IF(A34<>\"\",IFERROR(VLOOKUP(AI34,Tabelas!B:D,3,0),0),\"\")","v":0},{"$f":"IF(A34<>\"\",IFERROR(VLOOKUP(AJ34,Tabelas!B:D,3,0),0),\"\")","v":0},{"$f":"IF(A34<>\"\",IFERROR(VLOOKUP(AK34,Tabelas!B:D,3,0),0),\"\")","v":0},{"$f":"IF(A34<>\"\",IFERROR(VLOOKUP(AL34,Tabelas!B:D,3,0),0),\"\")","v":12},{"$f":"IF(A34<>\"\",IFERROR(VLOOKUP(AM34,Tabelas!B:D,3,0),0),\"\")","v":0},{"$f":"IF(A34<>\"\",IFERROR(VLOOKUP(AN34,Tabelas!B:D,3,0),0),\"\")","v":0},{"$f":"IF(A34<>\"\",IFERROR(VLOOKUP(AO34,Tabelas!B:D,3,0),0),\"\")","v":12},{"$f":"IF(A34<>\"\",IFERROR(VLOOKUP(AP34,Tabelas!B:D,3,0),0),\"\")","v":0},{"$f":"IF(A34<>\"\",IFERROR(VLOOKUP(AQ34,Tabelas!B:D,3,0),0),\"\")","v":0},76,0,0,0,0,0,0,0]
[null,null,null,null,null,null,null,null,null,null,null,null,null,null,null,null,null,null,null,null,null,null,null,null,null,null,null,null,null,null,null,null,null,null,null,null,null,null,null,null,null,null,null,{"$f":"IF(A35<>\"\",IFERROR(VLOOKUP(M35,Tabelas!B:D,3,0),0),\"\")","v":""},{"$f":"IF(A35<>\"\",IFERROR(VLOOKUP(N35,Tabelas!B:D,3,0),0),\"\")","v":""},{"$f":"IF(A35<>\"\",IFERROR(VLOOKUP(O35,Tabelas!B:D,3,0),0),\"\")","v":""},{"$f":"IF(A35<>\"\",IFERROR(VLOOKUP(P35,Tabelas!B:D,3,0),0),\"\")","v":""},{"$f":"IF(A35<>\"\",IFERROR(VLOOKUP(Q35,Tabelas!B:D,3,0),0),\"\")","v":""},{"$f":"IF(A35<>\"\",IFERROR(VLOOKUP(R35,Tabelas!B:D,3,0),0),\"\")","v":""},{"$f":"IF(A35<>\"\",IFERROR(VLOOKUP(S35,Tabelas!B:D,3,0),0),\"\")","v":""},{"$f":"IF(A35<>\"\",IFERROR(VLOOKUP(T35,Tabelas!B:D,3,0),0),\"\")","v":""},{"$f":"IF(A35<>\"\",IFERROR(VLOOKUP(U35,Tabelas!B:D,3,0),0),\"\")","v":""},{"$f":"IF(A35<>\"\",IFERROR(VLOOKUP(V35,Tabelas!B:D,3,0),0),\"\")","v":""},{"$f":"IF(A35<>\"\",IFERROR(VLOOKUP(W35,Tabelas!B:D,3,0),0),\"\")","v":""},{"$f":"IF(A35<>\"\",IFERROR(VLOOKUP(X35,Tabelas!B:D,3,0),0),\"\")","v":""},{"$f":"IF(A35<>\"\",IFERROR(VLOOKUP(Y35,Tabelas!B:D,3,0),0),\"\")","v":""},{"$f":"IF(A35<>\"\",IFERROR(VLOOKUP(Z35,Tabelas!B:D,3,0),0),\"\")","v":""},{"$f":"IF(A35<>\"\",IFERROR(VLOOKUP(AA35,Tabelas!B:D,3,0),0),\"\")","v":""},{"$f":"IF(A35<>\"\",IFERROR(VLOOKUP(AB35,Tabelas!B:D,3,0),0),\"\")","v":""},{"$f":"IF(A35<>\"\",IFERROR(VLOOKUP(AC35,Tabelas!B:D,3,0),0),\"\")","v":""},{"$f":"IF(A35<>\"\",IFERROR(VLOOKUP(AD35,Tabelas!B:D,3,0),0),\"\")","v":""},{"$f":"IF(A35<>\"\",IFERROR(VLOOKUP(AE35,Tabelas!B:D,3,0),0),\"\")","v":""},{"$f":"IF(A35<>\"\",IFERROR(VLOOKUP(AF35,Tabelas!B:D,3,0),0),\"\")","v":""},{"$f":"IF(A35<>\"\",IFERROR(VLOOKUP(AG35,Tabelas!B:D,3,0),0),\"\")","v":""},{"$f":"IF(A35<>\"\",IFERROR(VLOOKUP(AH35,Tabelas!B:D,3,0),0),\"\")","v":""},{"$f":"IF(A35<>\"\",IFERROR(VLOOKUP(AI35,Tabelas!B:D,3,0),0),\"\")","v":""},{"$f":"IF(A35<>\"\",IFERROR(VLOOKUP(AJ35,Tabelas!B:D,3,0),0),\"\")","v":""},{"$f":"IF(A35<>\"\",IFERROR(VLOOKUP(AK35,Tabelas!B:D,3,0),0),\"\")","v":""},{"$f":"IF(A35<>\"\",IFERROR(VLOOKUP(AL35,Tabelas!B:D,3,0),0),\"\")","v":""},{"$f":"IF(A35<>\"\",IFERROR(VLOOKUP(AM35,Tabelas!B:D,3,0),0),\"\")","v":""},{"$f":"IF(A35<>\"\",IFERROR(VLOOKUP(AN35,Tabelas!B:D,3,0),0),\"\")","v":""},{"$f":"IF(A35<>\"\",IFERROR(VLOOKUP(AO35,Tabelas!B:D,3,0),0),\"\")","v":""},{"$f":"IF(A35<>\"\",IFERROR(VLOOKUP(AP35,Tabelas!B:D,3,0),0),\"\")","v":""},{"$f":"IF(A35<>\"\",IFERROR(VLOOKUP(AQ35,Tabelas!B:D,3,0),0),\"\")","v":""},"","","","","","","",""]
["MÉDICA REFERÊNCIA",null,null,null,null,null,null,null,null,null,null,null,null,null,null,null,null,null,null,null,null,null,null,null,null,null,null,null,null,null,null,null,null,null,null,null,null,null,null,null,null,null,null,{"$f":"IF(A36<>\"\",IFERROR(VLOOKUP(M36,Tabelas!B:D,3,0),0),\"\")","v":0},{"$f":"IF(A36<>\"\",IFERROR(VLOOKUP(N36,Tabelas!B:D,3,0),0),\"\")","v":0},{"$f":"IF(A36<>\"\",IFERROR(VLOOKUP(O36,Tabelas!B:D,3,0),0),\"\")","v":0},{"$f":"IF(A36<>\"\",IFERROR(VLOOKUP(P36,Tabelas!B:D,3,0),0),\"\")","v":0},{"$f":"IF(A36<>\"\",IFERROR(VLOOKUP(Q36,Tabelas!B:D,3,0),0),\"\")","v":0},{"$f":"IF(A36<>\"\",IFERROR(VLOOKUP(R36,Tabelas!B:D,3,0),0),\"\")","v":0},{"$f":"IF(A36<>\"\",IFERROR(VLOOKUP(S36,Tabelas!B:D,3,0),0),\"\")","v":0},{"$f":"IF(A36<>\"\",IFERROR(VLOOKUP(T36,Tabelas!B:D,3,0),0),\"\")","v":0},{"$f":"IF(A36<>\"\",IFERROR(VLOOKUP(U36,Tabelas!B:D,3,0),0),\"\")","v":0},{"$f":"IF(A36<>\"\",IFERROR(VLOOKUP(V36,Tabelas!B:D,3,0),0),\"\")","v":0},{"$f":"IF(A36<>\"\",IFERROR(VLOOKUP(W36,Tabelas!B:D,3,0),0),\"\")","v":0},{"$f":"IF(A36<>\"\",IFERROR(VLOOKUP(X36,Tabelas!B:D,3,0),0),\"\")","v":0},{"$f":"IF(A36<>\"\",IFERROR(VLOOKUP(Y36,Tabelas!B:D,3,0),0),\"\")","v":0},{"$f":"IF(A36<>\"\",IFERROR(VLOOKUP(Z36,Tabelas!B:D,3,0),0),\"\")","v":0},{"$f":"IF(A36<>\"\",IFERROR(VLOOKUP(AA36,Tabelas!B:D,3,0),0),\"\")","v":0},{"$f":"IF(A36<>\"\",IFERROR(VLOOKUP(AB36,Tabelas!B:D,3,0),0),\"\")","v":0},{"$f":"IF(A36<>\"\",IFERROR(VLOOKUP(AC36,Tabelas!B:D,3,0),0),\"\")","v":0},{"$f":"IF(A36<>\"\",IFERROR(VLOOKUP(AD36,Tabelas!B:D,3,0),0),\"\")","v":0},{"$f":"IF(A36<>\"\",IFERROR(VLOOKUP(AE36,Tabelas!B:D,3,0),0),\"\")","v":0},{"$f":"IF(A36<>\"\",IFERROR(VLOOKUP(AF36,Tabelas!B:D,3,0),0),\"\")","v":0},{"$f":"IF(A36<>\"\",IFERROR(VLOOKUP(AG36,Tabelas!B:D,3,0),0),\"\")","v":0},{"$f":"IF(A36<>\"\",IFERROR(VLOOKUP(AH36,Tabelas!B:D,3,0),0),\"\")","v":0},{"$f":"IF(A36<>\"\",IFERROR(VLOOKUP(AI36,Tabelas!B:D,3,0),0),\"\")","v":0},{"$f":"IF(A36<>\"\",IFERROR(VLOOKUP(AJ36,Tabelas!B:D,3,0),0),\"\")","v":0},{"$f":"IF(A36<>\"\",IFERROR(VLOOKUP(AK36,Tabelas!B:D,3,0),0),\"\")","v":0},{"$f":"IF(A36<>\"\",IFERROR(VLOOKUP(AL36,Tabelas!B:D,3,0),0),\"\")","v":0},{"$f":"IF(A36<>\"\",IFERROR(VLOOKUP(AM36,Tabelas!B:D,3,0),0),\"\")","v":0},{"$f":"IF(A36<>\"\",IFERROR(VLOOKUP(AN36,Tabelas!B:D,3,0),0),\"\")","v":0},{"$f":"IF(A36<>\"\",IFERROR(VLOOKUP(AO36,Tabelas!B:D,3,0),0),\"\")","v":0},{"$f":"IF(A36<>\"\",IFERROR(VLOOKUP(AP36,Tabelas!B:D,3,0),0),\"\")","v":0},{"$f":"IF(A36<>\"\",IFERROR(VLOOKUP(AQ36,Tabelas!B:D,3,0),0),\"\")","v":0},0,0,0,0,0,0,0,0]
["Ingrid Catharine Costa de Sant Ana",1004451,null,"ME","EBSERH",24,null,null,null,null,null,null,null,"M17","M17",null,null,"M17","M17",null,"M17","M17",null,null,"M17","M17",null,"M17","M17",null,null,"M17","M17",null,"M17","M17",null,null,"M17","M17",null,"M17","M17",{"$f":"IF(A37<>\"\",IFERROR(VLOOKUP(M37,Tabelas!B:D,3,0),0),\"\")","v":0},{"$f":"IF(A37<>\"\",IFERROR(VLOOKUP(N37,Tabelas!B:D,3,0),0),\"\")","v":6},{"$f":"IF(A37<>\"\",IFERROR(VLOOKUP(O37,Tabelas!B:D,3,0),0),\"\")","v":6},{"$f":"IF(A37<>\"\",IFERROR(VLOOKUP(P37,Tabelas!B:D,3,0),0),\"\")","v":0},{"$f":"IF(A37<>\"\",IFERROR(VLOOKUP(Q37,Tabelas!B:D,3,0),0),\"\")","v":0},{"$f":"IF(A37<>\"\",IFERROR(VLOOKUP(R37,Tabelas!B:D,3,0),0),\"\")","v":6},{"$f":"IF(A37<>\"\",IFERROR(VLOOKUP(S37,Tabelas!B:D,3,0),0),\"\")","v":6},{"$f":"IF(A37<>\"\",IFERROR(VLOOKUP(T37,Tabelas!B:D,3,0),0),\"\")","v":0},{"$f":"IF(A37<>\"\",IFERROR(VLOOKUP(U37,Tabelas!B:D,3,0),0),\"\")","v":6},{"$f":"IF(A37<>\"\",IFERROR(VLOOKUP(V37,Tabelas!B:D,3,0),0),\"\")","v":6},{"$f":"IF(A37<>\"\",IFERROR(VLOOKUP(W37,Tabelas!B:D,3,0),0),\"\")","v":0},{"$f":"IF(A37<>\"\",IFERROR(VLOOKUP(X37,Tabelas!B:D,3,0),0),\"\")","v":0},{"$f":"IF(A37<>\"\",IFERROR(VLOOKUP(Y37,Tabelas!B:D,3,0),0),\"\")","v":6},{"$f":"IF(A37<>\"\",IFERROR(VLOOKUP(Z37,Tabelas!B:D,3,0),0),\"\")","v":6},{"$f":"IF(A37<>\"\",IFERROR(VLOOKUP(AA37,Tabelas!B:D,3,0),0),\"\")","v":0},{"$f":"IF(A37<>\"\",IFERROR(VLOOKUP(AB37,Tabelas!B:D,3,0),0),\"\")","v":6},{"$f":"IF(A37<>\"\",IFERROR(VLOOKUP(AC37,Tabelas!B:D,3,0),0),\"\")","v":6},{"$f":"IF(A37<>\"\",IFERROR(VLOOKUP(AD37,Tabelas!B:D,3,0),0),\"\")","v":0},{"$f":"IF(A37<>\"\",IFERROR(VLOOKUP(AE37,Tabelas!B:D,3,0),0),\"\")","v":0},{"$f":"IF(A37<>\"\",IFERROR(VLOOKUP(AF37,Tabelas!B:D,3,0),0),\"\")","v":6},{"$f":"IF(A37<>\"\",IFERROR(VLOOKUP(AG37,Tabelas!B:D,3,0),0),\"\")","v":6},{"$f":"IF(A37<>\"\",IFERROR(VLOOKUP(AH37,Tabelas!B:D,3,0),0),\"\")","v":0},{"$f":"IF(A37<>\"\",IFERROR(VLOOKUP(AI37,Tabelas!B:D,3,0),0),\"\")","v":6},{"$f":"IF(A37<>\"\",IFERROR(VLOOKUP(AJ37,Tabelas!B:D,3,0),0),\"\")","v":6},{"$f":"IF(A37<>\"\",IFERROR(VLOOKUP(AK37,Tabelas!B:D,3,0),0),\"\")","v":0},{"$f":"IF(A37<>\"\",IFERROR(VLOOKUP(AL37,Tabelas!B:D,3,0),0),\"\")","v":0},{"$f":"IF(A37<>\"\",IFERROR(VLOOKUP(AM37,Tabelas!B:D,3,0),0),\"\")","v":6},{"$f":"IF(A37<>\"\",IFERROR(VLOOKUP(AN37,Tabelas!B:D,3,0),0),\"\")","v":6},{"$f":"IF(A37<>\"\",IFERROR(VLOOKUP(AO37,Tabelas!B:D,3,0),0),\"\")","v":0},{"$f":"IF(A37<>\"\",IFERROR(VLOOKUP(AP37,Tabelas!B:D,3,0),0),\"\")","v":6},{"$f":"IF(A37<>\"\",IFERROR(VLOOKUP(AQ37,Tabelas!B:D,3,0),0),\"\")","v":6},108,0,0,0,0,0,0,0]
[null,null,null,null,null,null,null,null,null,null,null,null,null,null,null,null,null,null,null,null,null,null,null,null,null,null,null,null,null,null,null,null,null,null,null,null,null,null,null,null,null,null,null,{"$f":"IF(A38<>\"\",IFERROR(VLOOKUP(M38,Tabelas!B:D,3,0),0),\"\")","v":""},{"$f":"IF(A38<>\"\",IFERROR(VLOOKUP(N38,Tabelas!B:D,3,0),0),\"\")","v":""},{"$f":"IF(A38<>\"\",IFERROR(VLOOKUP(O38,Tabelas!B:D,3,0),0),\"\")","v":""},{"$f":"IF(A38<>\"\",IFERROR(VLOOKUP(P38,Tabelas!B:D,3,0),0),\"\")","v":""},{"$f":"IF(A38<>\"\",IFERROR(VLOOKUP(Q38,Tabelas!B:D,3,0),0),\"\")","v":""},{"$f":"IF(A38<>\"\",IFERROR(VLOOKUP(R38,Tabelas!B:D,3,0),0),\"\")","v":""},{"$f":"IF(A38<>\"\",IFERROR(VLOOKUP(S38,Tabelas!B:D,3,0),0),\"\")","v":""},{"$f":"IF(A38<>\"\",IFERROR(VLOOKUP(T38,Tabelas!B:D,3,0),0),\"\")","v":""},{"$f":"IF(A38<>\"\",IFERROR(VLOOKUP(U38,Tabelas!B:D,3,0),0),\"\")","v":""},{"$f":"IF(A38<>\"\",IFERROR(VLOOKUP(V38,Tabelas!B:D,3,0),0),\"\")","v":""},{"$f":"IF(A38<>\"\",IFERROR(VLOOKUP(W38,Tabelas!B:D,3,0),0),\"\")","v":""},{"$f":"IF(A38<>\"\",IFERROR(VLOOKUP(X38,Tabelas!B:D,3,0),0),\"\")","v":""},{"$f":"IF(A38<>\"\",IFERROR(VLOOKUP(Y38,Tabelas!B:D,3,0),0),\"\")","v":""},{"$f":"IF(A38<>\"\",IFERROR(VLOOKUP(Z38,Tabelas!B:D,3,0),0),\"\")","v":""},{"$f":"IF(A38<>\"\",IFERROR(VLOOKUP(AA38,Tabelas!B:D,3,0),0),\"\")","v":""},{"$f":"IF(A38<>\"\",IFERROR(VLOOKUP(AB38,Tabelas!B:D,3,0),0),\"\")","v":""},{"$f":"IF(A38<>\"\",IFERROR(VLOOKUP(AC38,Tabelas!B:D,3,0),0),\"\")","v":""},{"$f":"IF(A38<>\"\",IFERROR(VLOOKUP(AD38,Tabelas!B:D,3,0),0),\"\")","v":""},{"$f":"IF(A38<>\"\",IFERROR(VLOOKUP(AE38,Tabelas!B:D,3,0),0),\"\")","v":""},{"$f":"IF(A38<>\"\",IFERROR(VLOOKUP(AF38,Tabelas!B:D,3,0),0),\"\")","v":""},{"$f":"IF(A38<>\"\",IFERROR(VLOOKUP(AG38,Tabelas!B:D,3,0),0),\"\")","v":""},{"$f":"IF(A38<>\"\",IFERROR(VLOOKUP(AH38,Tabelas!B:D,3,0),0),\"\")","v":""},{"$f":"IF(A38<>\"\",IFERROR(VLOOKUP(AI38,Tabelas!B:D,3,0),0),\"\")","v":""},{"$f":"IF(A38<>\"\",IFERROR(VLOOKUP(AJ38,Tabelas!B:D,3,0),0),\"\")","v":""},{"$f":"IF(A38<>\"\",IFERROR(VLOOKUP(AK38,Tabelas!B:D,3,0),0),\"\")","v":""},{"$f":"IF(A38<>\"\",IFERROR(VLOOKUP(AL38,Tabelas!B:D,3,0),0),\"\")","v":""},{"$f":"IF(A38<>\"\",IFERROR(VLOOKUP(AM38,Tabelas!B:D,3,0),0),\"\")","v":""},{"$f":"IF(A38<>\"\",IFERROR(VLOOKUP(AN38,Tabelas!B:D,3,0),0),\"\")","v":""},{"$f":"IF(A38<>\"\",IFERROR(VLOOKUP(AO38,Tabelas!B:D,3,0),0),\"\")","v":""},{"$f":"IF(A38<>\"\",IFERROR(VLOOKUP(AP38,Tabelas!B:D,3,0),0),\"\")","v":""},{"$f":"IF(A38<>\"\",IFERROR(VLOOKUP(AQ38,Tabelas!B:D,3,0),0),\"\")","v":""},"","","","","","","",""]
["Elizabeth Kristiane Buss Lunardelli",3760219,null,"ME","RJU",30,null,null,null,null,null,null,null,"LM","LM","LM",null,"FE","FE","FE","FE","FE","FE","FE","FE","FE","FE","FE","FE","FE","FE","FE","FE","FE","FE","FE","FE","FE","FE","FE","FE","FE","FE",{"$f":"IF(A39<>\"\",IFERROR(VLOOKUP(M39,Tabelas!B:D,3,0),0),\"\")","v":0},{"$f":"IF(A39<>\"\",IFERROR(VLOOKUP(N39,Tabelas!B:D,3,0),0),\"\")","v":0},{"$f":"IF(A39<>\"\",IFERROR(VLOOKUP(O39,Tabelas!B:D,3,0),0),\"\")","v":0},{"$f":"IF(A39<>\"\",IFERROR(VLOOKUP(P39,Tabelas!B:D,3,0),0),\"\")","v":0},{"$f":"IF(A39<>\"\",IFERROR(VLOOKUP(Q39,Tabelas!B:D,3,0),0),\"\")","v":0},{"$f":"IF(A39<>\"\",IFERROR(VLOOKUP(R39,Tabelas!B:D,3,0),0),\"\")","v":0},{"$f":"IF(A39<>\"\",IFERROR(VLOOKUP(S39,Tabelas!B:D,3,0),0),\"\")","v":0},{"$f":"IF(A39<>\"\",IFERROR(VLOOKUP(T39,Tabelas!B:D,3,0),0),\"\")","v":0},{"$f":"IF(A39<>\"\",IFERROR(VLOOKUP(U39,Tabelas!B:D,3,0),0),\"\")","v":0},{"$f":"IF(A39<>\"\",IFERROR(VLOOKUP(V39,Tabelas!B:D,3,0),0),\"\")","v":0},{"$f":"IF(A39<>\"\",IFERROR(VLOOKUP(W39,Tabelas!B:D,3,0),0),\"\")","v":0},{"$f":"IF(A39<>\"\",IFERROR(VLOOKUP(X39,Tabelas!B:D,3,0),0),\"\")","v":0},{"$f":"IF(A39<>\"\",IFERROR(VLOOKUP(Y39,Tabelas!B:D,3,0),0),\"\")","v":0},{"$f":"IF(A39<>\"\",IFERROR(VLOOKUP(Z39,Tabelas!B:D,3,0),0),\"\")","v":0},{"$f":"IF(A39<>\"\",IFERROR(VLOOKUP(AA39,Tabelas!B:D,3,0),0),\"\")","v":0},{"$f":"IF(A39<>\"\",IFERROR(VLOOKUP(AB39,Tabelas!B:D,3,0),0),\"\")","v":0},{"$f":"IF(A39<>\"\",IFERROR(VLOOKUP(AC39,Tabelas!B:D,3,0),0),\"\")","v":0},{"$f":"IF(A39<>\"\",IFERROR(VLOOKUP(AD39,Tabelas!B:D,3,0),0),\"\")","v":0},{"$f":"IF(A39<>\"\",IFERROR(VLOOKUP(AE39,Tabelas!B:D,3,0),0),\"\")","v":0},{"$f":"IF(A39<>\"\",IFERROR(VLOOKUP(AF39,Tabelas!B:D,3,0),0),\"\")","v":0},{"$f":"IF(A39<>\"\",IFERROR(VLOOKUP(AG39,Tabelas!B:D,3,0),0),\"\")","v":0},{"$f":"IF(A39<>\"\",IFERROR(VLOOKUP(AH39,Tabelas!B:D,3,0),0),\"\")","v":0},{"$f":"IF(A39<>\"\",IFERROR(VLOOKUP(AI39,Tabelas!B:D,3,0),0),\"\")","v":0},{"$f":"IF(A39<>\"\",IFERROR(VLOOKUP(AJ39,Tabelas!B:D,3,0),0),\"\")","v":0},{"$f":"IF(A39<>\"\",IFERROR(VLOOKUP(AK39,Tabelas!B:D,3,0),0),\"\")","v":0},{"$f":"IF(A39<>\"\",IFERROR(VLOOKUP(AL39,Tabelas!B:D,3,0),0),\"\")","v":0},{"$f":"IF(A39<>\"\",IFERROR(VLOOKUP(AM39,Tabelas!B:D,3,0),0),\"\")","v":0},{"$f":"IF(A39<>\"\",IFERROR(VLOOKUP(AN39,Tabelas!B:D,3,0),0),\"\")","v":0},{"$f":"IF(A39<>\"\",IFERROR(VLOOKUP(AO39,Tabelas!B:D,3,0),0),\"\")","v":0},{"$f":"IF(A39<>\"\",IFERROR(VLOOKUP(AP39,Tabelas!B:D,3,0),0),\"\")","v":0},{"$f":"IF(A39<>\"\",IFERROR(VLOOKUP(AQ39,Tabelas!B:D,3,0),0),\"\")","v":0},0,3,0,26,0,0,0,29]
["TOTAL PROFISSIONAIS MATUTINO",null,null,null,null,null,null,null,null,null,null,null,{"$f":"IF(COUNTIF(M9:M39,\"M*\")+ COUNTIF(M9:M39, \"D*\")-COUNTIF(M9:M39,\"DSR\")<>0,COUNTIF(M9:M39,\"M*\")+ COUNTIF(M9:M39, \"D*\")-COUNTIF(M9:M39,\"DSR\"),\"\")","v":2},4,4,2,2,5,4,4,4,4,2,2,5,4,4,4,4,2,2,5,4,4,4,4,2,2,5,4,4,4,4,null,null,null,null,null,null,null,null,null,null,null,null,null,null,null,null,null,null,null,null,null,null,null,null,null,null,null,null,null,null,null,{"$f":"SUM(BW9:BW39)","v":1866},3,2,101,0,2,0,108]
["TOTAL DE PROFISSIONAIS VESPERTINO",null,null,null,null,null,null,null,null,null,null,null,{"$f":"IF(COUNTIF(M9:M39,\"MT*\") + COUNTIF(M9:M39, \"D*\") + COUNTIF(M9:M39,\"T*\")-COUNTIF(M9:M39,\"DSR\")<>0,COUNTIF(M9:M39,\"MT*\") + COUNTIF(M9:M39, \"D*\") + COUNTIF(M9:M39,\"T*\")-COUNTIF(M9:M39,\"DSR\"),\"\")","v":2},3,2,2,2,3,2,3,2,2,2,2,3,2,2,2,2,2,2,3,3,2,2,2,2,2,2,2,2,2,2,{"$f":"IF(A41<>\"\",IFERROR(VLOOKUP(M41,Tabelas!B:D,3,0),0),\"\")","v":0},{"$f":"IF(A41<>\"\",IFERROR(VLOOKUP(N41,Tabelas!B:D,3,0),0),\"\")","v":0},{"$f":"IF(A41<>\"\",IFERROR(VLOOKUP(O41,Tabelas!B:D,3,0),0),\"\")","v":0},{"$f":"IF(A41<>\"\",IFERROR(VLOOKUP(P41,Tabelas!B:D,3,0),0),\"\")","v":0},{"$f":"IF(A41<>\"\",IFERROR(VLOOKUP(Q41,Tabelas!B:D,3,0),0),\"\")","v":0},{"$f":"IF(A41<>\"\",IFERROR(VLOOKUP(R41,Tabelas!B:D,3,0),0),\"\")","v":0},{"$f":"IF(A41<>\"\",IFERROR(VLOOKUP(S41,Tabelas!B:D,3,0),0),\"\")","v":0},{"$f":"IF(A41<>\"\",IFERROR(VLOOKUP(T41,Tabelas!B:D,3,0),0),\"\")","v":0},{"$f":"IF(A41<>\"\",IFERROR(VLOOKUP(U41,Tabelas!B:D,3,0),0),\"\")","v":0},{"$f":"IF(A41<>\"\",IFERROR(VLOOKUP(V41,Tabelas!B:D,3,0),0),\"\")","v":0},{"$f":"IF(A41<>\"\",IFERROR(VLOOKUP(W41,Tabelas!B:D,3,0),0),\"\")","v":0},{"$f":"IF(A41<>\"\",IFERROR(VLOOKUP(X41,Tabelas!B:D,3,0),0),\"\")","v":0},{"$f":"IF(A41<>\"\",IFERROR(VLOOKUP(Y41,Tabelas!B:D,3,0),0),\"\")","v":0},{"$f":"IF(A41<>\"\",IFERROR(VLOOKUP(Z41,Tabelas!B:D,3,0),0),\"\")","v":0},{"$f":"IF(A41<>\"\",IFERROR(VLOOKUP(AA41,Tabelas!B:D,3,0),0),\"\")","v":0},{"$f":"IF(A41<>\"\",IFERROR(VLOOKUP(AB41,Tabelas!B:D,3,0),0),\"\")","v":0},{"$f":"IF(A41<>\"\",IFERROR(VLOOKUP(AC41,Tabelas!B:D,3,0),0),\"\")","v":0},{"$f":"IF(A41<>\"\",IFERROR(VLOOKUP(AD41,Tabelas!B:D,3,0),0),\"\")","v":0},{"$f":"IF(A41<>\"\",IFERROR(VLOOKUP(AE41,Tabelas!B:D,3,0),0),\"\")","v":0},{"$f":"IF(A41<>\"\",IFERROR(VLOOKUP(AF41,Tabelas!B:D,3,0),0),\"\")","v":0},{"$f":"IF(A41<>\"\",IFERROR(VLOOKUP(AG41,Tabelas!B:D,3,0),0),\"\")","v":0},{"$f":"IF(A41<>\"\",IFERROR(VLOOKUP(AH41,Tabelas!B:D,3,0),0),\"\")","v":0},{"$f":"IF(A41<>\"\",IFERROR(VLOOKUP(AI41,Tabelas!B:D,3,0),0),\"\")","v":0},{"$f":"IF(A41<>\"\",IFERROR(VLOOKUP(AJ41,Tabelas!B:D,3,0),0),\"\")","v":0},{"$f":"IF(A41<>\"\",IFERROR(VLOOKUP(AK41,Tabelas!B:D,3,0),0),\"\")","v":0},{"$f":"IF(A41<>\"\",IFERROR(VLOOKUP(AL41,Tabelas!B:D,3,0),0),\"\")","v":0},{"$f":"IF(A41<>\"\",IFERROR(VLOOKUP(AM41,Tabelas!B:D,3,0),0),\"\")","v":0},{"$f":"IF(A41<>\"\",IFERROR(VLOOKUP(AN41,Tabelas!B:D,3,0),0),\"\")","v":0},{"$f":"IF(A41<>\"\",IFERROR(VLOOKUP(AO41,Tabelas!B:D,3,0),0),\"\")","v":0},{"$f":"IF(A41<>\"\",IFERROR(VLOOKUP(AP41,Tabelas!B:D,3,0),0),\"\")","v":0},{"$f":"IF(A41<>\"\",IFERROR(VLOOKUP(AQ41,Tabelas!B:D,3,0),0),\"\")","v":0}]
["TOTAL DE PROFISSIONAIS NOTURNO",null,null,null,null,null,null,null,null,null,null,null,{"$f":"IF(COUNTIF(M9:M41,\"N?*\") + COUNTIF(M9:M41, \"DN*\")<>0,COUNTIF(M9:M41,\"N?*\") + COUNTIF(M9:M41, \"DN*\"),\"\")","v":2},2,2,2,2,2,2,2,2,2,2,2,2,2,2,2,2,2,2,2,2,2,2,2,2,2,2,2,2,2,2,{"$f":"IF(A42<>\"\",IFERROR(VLOOKUP(M42,Tabelas!B:D,3,0),0),\"\")","v":0},{"$f":"IF(A42<>\"\",IFERROR(VLOOKUP(N42,Tabelas!B:D,3,0),0),\"\")","v":0},{"$f":"IF(A42<>\"\",IFERROR(VLOOKUP(O42,Tabelas!B:D,3,0),0),\"\")","v":0},{"$f":"IF(A42<>\"\",IFERROR(VLOOKUP(P42,Tabelas!B:D,3,0),0),\"\")","v":0},{"$f":"IF(A42<>\"\",IFERROR(VLOOKUP(Q42,Tabelas!B:D,3,0),0),\"\")","v":0},{"$f":"IF(A42<>\"\",IFERROR(VLOOKUP(R42,Tabelas!B:D,3,0),0),\"\")","v":0},{"$f":"IF(A42<>\"\",IFERROR(VLOOKUP(S42,Tabelas!B:D,3,0),0),\"\")","v":0},{"$f":"IF(A42<>\"\",IFERROR(VLOOKUP(T42,Tabelas!B:D,3,0),0),\"\")","v":0},{"$f":"IF(A42<>\"\",IFERROR(VLOOKUP(U42,Tabelas!B:D,3,0),0),\"\")","v":0},{"$f":"IF(A42<>\"\",IFERROR(VLOOKUP(V42,Tabelas!B:D,3,0),0),\"\")","v":0},{"$f":"IF(A42<>\"\",IFERROR(VLOOKUP(W42,Tabelas!B:D,3,0),0),\"\")","v":0},{"$f":"IF(A42<>\"\",IFERROR(VLOOKUP(X42,Tabelas!B:D,3,0),0),\"\")","v":0},{"$f":"IF(A42<>\"\",IFERROR(VLOOKUP(Y42,Tabelas!B:D,3,0),0),\"\")","v":0},{"$f":"IF(A42<>\"\",IFERROR(VLOOKUP(Z42,Tabelas!B:D,3,0),0),\"\")","v":0},{"$f":"IF(A42<>\"\",IFERROR(VLOOKUP(AA42,Tabelas!B:D,3,0),0),\"\")","v":0},{"$f":"IF(A42<>\"\",IFERROR(VLOOKUP(AB42,Tabelas!B:D,3,0),0),\"\")","v":0},{"$f":"IF(A42<>\"\",IFERROR(VLOOKUP(AC42,Tabelas!B:D,3,0),0),\"\")","v":0},{"$f":"IF(A42<>\"\",IFERROR(VLOOKUP(AD42,Tabelas!B:D,3,0),0),\"\")","v":0},{"$f":"IF(A42<>\"\",IFERROR(VLOOKUP(AE42,Tabelas!B:D,3,0),0),\"\")","v":0},{"$f":"IF(A42<>\"\",IFERROR(VLOOKUP(AF42,Tabelas!B:D,3,0),0),\"\")","v":0},{"$f":"IF(A42<>\"\",IFERROR(VLOOKUP(AG42,Tabelas!B:D,3,0),0),\"\")","v":0},{"$f":"IF(A42<>\"\",IFERROR(VLOOKUP(AH42,Tabelas!B:D,3,0),0),\"\")","v":0},{"$f":"IF(A42<>\"\",IFERROR(VLOOKUP(AI42,Tabelas!B:D,3,0),0),\"\")","v":0},{"$f":"IF(A42<>\"\",IFERROR(VLOOKUP(AJ42,Tabelas!B:D,3,0),0),\"\")","v":0},{"$f":"IF(A42<>\"\",IFERROR(VLOOKUP(AK42,Tabelas!B:D,3,0),0),\"\")","v":0},{"$f":"IF(A42<>\"\",IFERROR(VLOOKUP(AL42,Tabelas!B:D,3,0),0),\"\")","v":0},{"$f":"IF(A42<>\"\",IFERROR(VLOOKUP(AM42,Tabelas!B:D,3,0),0),\"\")","v":0},{"$f":"IF(A42<>\"\",IFERROR(VLOOKUP(AN42,Tabelas!B:D,3,0),0),\"\")","v":0},{"$f":"IF(A42<>\"\",IFERROR(VLOOKUP(AO42,Tabelas!B:D,3,0),0),\"\")","v":0},{"$f":"IF(A42<>\"\",IFERROR(VLOOKUP(AP42,Tabelas!B:D,3,0),0),\"\")","v":0},{"$f":"IF(A42<>\"\",IFERROR(VLOOKUP(AQ42,Tabelas!B:D,3,0),0),\"\")","v":0}]
[null,null,null,null,null,null,null,null,null,null,null,null,null,null,null,null,null,null,null,null,null,null,null,null,null,null,null,null,null,null,null,null,null,null,null,null,null,null,null,null,null,null,null,{"$f":"IF(A43<>\"\",IFERROR(VLOOKUP(M43,Tabelas!B:D,3,0),0),\"\")","v":""},{"$f":"IF(A43<>\"\",IFERROR(VLOOKUP(N43,Tabelas!B:D,3,0),0),\"\")","v":""},{"$f":"IF(A43<>\"\",IFERROR(VLOOKUP(O43,Tabelas!B:D,3,0),0),\"\")","v":""},{"$f":"IF(A43<>\"\",IFERROR(VLOOKUP(P43,Tabelas!B:D,3,0),0),\"\")","v":""},{"$f":"IF(A43<>\"\",IFERROR(VLOOKUP(Q43,Tabelas!B:D,3,0),0),\"\")","v":""},{"$f":"IF(A43<>\"\",IFERROR(VLOOKUP(R43,Tabelas!B:D,3,0),0),\"\")","v":""},{"$f":"IF(A43<>\"\",IFERROR(VLOOKUP(S43,Tabelas!B:D,3,0),0),\"\")","v":""},{"$f":"IF(A43<>\"\",IFERROR(VLOOKUP(T43,Tabelas!B:D,3,0),0),\"\")","v":""},{"$f":"IF(A43<>\"\",IFERROR(VLOOKUP(U43,Tabelas!B:D,3,0),0),\"\")","v":""},{"$f":"IF(A43<>\"\",IFERROR(VLOOKUP(V43,Tabelas!B:D,3,0),0),\"\")","v":""},{"$f":"IF(A43<>\"\",IFERROR(VLOOKUP(W43,Tabelas!B:D,3,0),0),\"\")","v":""},{"$f":"IF(A43<>\"\",IFERROR(VLOOKUP(X43,Tabelas!B:D,3,0),0),\"\")","v":""},{"$f":"IF(A43<>\"\",IFERROR(VLOOKUP(Y43,Tabelas!B:D,3,0),0),\"\")","v":""},{"$f":"IF(A43<>\"\",IFERROR(VLOOKUP(Z43,Tabelas!B:D,3,0),0),\"\")","v":""},{"$f":"IF(A43<>\"\",IFERROR(VLOOKUP(AA43,Tabelas!B:D,3,0),0),\"\")","v":""},{"$f":"IF(A43<>\"\",IFERROR(VLOOKUP(AB43,Tabelas!B:D,3,0),0),\"\")","v":""},{"$f":"IF(A43<>\"\",IFERROR(VLOOKUP(AC43,Tabelas!B:D,3,0),0),\"\")","v":""},{"$f":"IF(A43<>\"\",IFERROR(VLOOKUP(AD43,Tabelas!B:D,3,0),0),\"\")","v":""},{"$f":"IF(A43<>\"\",IFERROR(VLOOKUP(AE43,Tabelas!B:D,3,0),0),\"\")","v":""},{"$f":"IF(A43<>\"\",IFERROR(VLOOKUP(AF43,Tabelas!B:D,3,0),0),\"\")","v":""},{"$f":"IF(A43<>\"\",IFERROR(VLOOKUP(AG43,Tabelas!B:D,3,0),0),\"\")","v":""},{"$f":"IF(A43<>\"\",IFERROR(VLOOKUP(AH43,Tabelas!B:D,3,0),0),\"\")","v":""},{"$f":"IF(A43<>\"\",IFERROR(VLOOKUP(AI43,Tabelas!B:D,3,0),0),\"\")","v":""},{"$f":"IF(A43<>\"\",IFERROR(VLOOKUP(AJ43,Tabelas!B:D,3,0),0),\"\")","v":""},{"$f":"IF(A43<>\"\",IFERROR(VLOOKUP(AK43,Tabelas!B:D,3,0),0),\"\")","v":""},{"$f":"IF(A43<>\"\",IFERROR(VLOOKUP(AL43,Tabelas!B:D,3,0),0),\"\")","v":""},{"$f":"IF(A43<>\"\",IFERROR(VLOOKUP(AM43,Tabelas!B:D,3,0),0),\"\")","v":""},{"$f":"IF(A43<>\"\",IFERROR(VLOOKUP(AN43,Tabelas!B:D,3,0),0),\"\")","v":""},{"$f":"IF(A43<>\"\",IFERROR(VLOOKUP(AO43,Tabelas!B:D,3,0),0),\"\")","v":""},{"$f":"IF(A43<>\"\",IFERROR(VLOOKUP(AP43,Tabelas!B:D,3,0),0),\"\")","v":""},{"$f":"IF(A43<>\"\",IFERROR(VLOOKUP(AQ43,Tabelas!B:D,3,0),0),\"\")","v":""}]
["Legenda:"]
["Licença Maternidade","LM","Férias",null,null,null,null,null,null,"FE",null,"Ponto Facultativo",null,null,null,null,null,null,null,"PF","Manhã *",null,null,null,null,null,null,"M","Diurno (8 hrs) *",null,null,null,null,null,null,"MT"]
["Licença Paternidade","LP","Feriado",null,null,null,null,null,null,"FD",null,"Abono **",null,null,null,null,null,null,null,"AB","Tarde *",null,null,null,null,null,null,"T","Dia/ noite (24 hrs) *",null,null,null,null,null,null,"DN"]
["Licença Médica/Odontológica","L","Descanso Semanal Remunerado",null,null,null,null,null,null,"DSR",null,"Compensação de Horas***",null,null,null,null,null,null,null,"CH","Plantão Dia (12 hrs) *",null,null,null,null,null,null,"D"]
["Licença Capacitação","LC","Recesso",null,null,null,null,null,null,"RC",null,"Afastamento**",null,null,null,null,null,null,null,"AF","Plantão Noite (12 hrs) *",null,null,null,null,null,null,"N"]
[]
["OBSERVAÇÕES:"]
["* Para inserção das legendas referentes às jornadas de trabalho, verificar a Tabela 1 do Anexo do Memorando-Circular - SEI nº   25 /2018/CAP/DGP-EBSERH."]
["** Para inserção das legendas referentes aos Afastamentos previstos em lei e às Compensações de horas, verificar a Tabela 2 do Anexo do Memorando-Circular - SEI nº   25 /2018/CAP/DGP-EBSERH."]

{"sheet":"Fevereiro","index":1,"n_rows":52,"n_cols":82,"rows_kept":52,"cut":false,"hidden":false,"merged":[[44,20,44,26],[45,2,45,8],[45,9,45,10],[45,11,45,18],[45,20,45,26],[44,2,44,8],[44,9,44,10],[46,20,46,26],[47,2,47,8],[47,9,47,10],[47,11,47,18],[47,20,47,26],[39,0,39,11],[40,0,40,11],[41,0,41,11],[46,2,46,8],[46,9,46,10],[46,11,46,18],[44,11,44,18],[1,0,1,42],[2,0,2,42],[3,0,3,42],[4,1,4,20],[4,23,4,34],[4,37,4,42],[5,6,5,11],[6,76,7,76],[6,77,7,77],[6,78,7,78],[6,79,7,79],[6,6,7,6],[6,7,7,7],[6,8,7,8],[6,11,7,11],[6,9,7,9],[6,10,7,10],[6,80,7,80],[6,81,7,81],[5,12,5,42],[5,43,5,73],[5,75,5,81],[5,74,7,74],[6,75,7,75],[39,79,41,79],[39,80,41,80],[39,81,41,81],[44,28,44,34],[45,28,45,34],[39,74,41,74],[39,75,41,75],[39,76,41,76],[39,77,41,77],[39,78,41,78]]}
[]
[]
["NOME DO HU"]
["ESCALA MENSAL DE TRABALHO"]
["DIVISÃO /SETOR/UNIDADE:",null,null,null,null,null,null,null,null,null,null,null,null,null,null,null,null,null,null,null,null,"MÊS:",null,"Fevereiro",null,null,null,null,null,null,null,null,null,null,null,"ANO:",null,2020]
["NOME COMPLETO","SIAPE","     Registro Conselho Classe","Cargo","Vínculo","    C.H Sem","INTERVALO",null,null,null,null,null,"DIAS DO MÊS",null,null,null,null,null,null,null,null,null,null,null,null,null,null,null,null,null,null,null,null,null,null,null,null,null,null,null,null,null,null,"CÁLCULO DAS HORAS",null,null,null,null,null,null,null,null,null,null,null,null,null,null,null,null,null,null,null,null,null,null,null,null,null,null,null,null,null,null,"CH Men.","Dias"]
[null,null,null,null,null,null,"15' M","15' T","15' N","1H D","1H N","2H",1,2,3,4,5,6,7,8,9,10,11,12,13,14,15,16,17,18,19,20,21,22,23,24,25,{"$f":"IF(DAY(DATE(AL5,VLOOKUP(X5,Tabelas!M:N,2,0)+1,1)-1)>=26,26,\"\")","v":26},{"$f":"IF(DAY(DATE(AL5,VLOOKUP(X5,Tabelas!M:N,2,0)+1,1)-1)>=27,27,\"\")","v":27},{"$f":"IF(DAY(DATE(AL5,VLOOKUP(X5,Tabelas!M:N,2,0)+1,1)-1)>=28,28,\"\")","v":28},{"$f":"IF(DAY(DATE(AL5,VLOOKUP(X5,Tabelas!M:N,2,0)+1,1)-1)>=29,29,\"\")","v":29},{"$f":"IF(DAY(DATE(AL5,VLOOKUP(X5,Tabelas!M:N,2,0)+1,1)-1)>=30,30,\"\")","v":""},{"$f":"IF(DAY(DATE(AL5,VLOOKUP(X5,Tabelas!M:N,2,0)+1,1)-1)>=31,31,\"\")","v":""},null,null,null,null,null,null,null,null,null,null,null,null,null,null,null,null,null,null,null,null,null,null,null,null,null,null,null,null,null,null,null,null,"LM/LP/L","AB","FE","LC","CH","AF  "," Total Afast."]
[null,null,null,null,null,null,null,null,null,null,null,null,{"$f":"IF(M7<>\"\",IFERROR(VLOOKUP(WEEKDAY(CONCATENATE(M7,$X$5,$AL$5)),Tabelas!$I:$J,2,0),\"\"),\"\")","v":"SAB"},{"$f":"IF(N7<>\"\",IFERROR(VLOOKUP(WEEKDAY(CONCATENATE(N7,$X$5,$AL$5)),Tabelas!$I:$J,2,0),\"\"),\"\")","v":"DOM"},{"$f":"IF(O7<>\"\",IFERROR(VLOOKUP(WEEKDAY(CONCATENATE(O7,$X$5,$AL$5)),Tabelas!$I:$J,2,0),\"\"),\"\")","v":"SEG"},{"$f":"IF(P7<>\"\",IFERROR(VLOOKUP(WEEKDAY(CONCATENATE(P7,$X$5,$AL$5)),Tabelas!$I:$J,2,0),\"\"),\"\")","v":"TER"},{"$f":"IF(Q7<>\"\",IFERROR(VLOOKUP(WEEKDAY(CONCATENATE(Q7,$X$5,$AL$5)),Tabelas!$I:$J,2,0),\"\"),\"\")","v":"QUA"},{"$f":"IF(R7<>\"\",IFERROR(VLOOKUP(WEEKDAY(CONCATENATE(R7,$X$5,$AL$5)),Tabelas!$I:$J,2,0),\"\"),\"\")","v":"QUI"},{"$f":"IF(S7<>\"\",IFERROR(VLOOKUP(WEEKDAY(CONCATENATE(S7,$X$5,$AL$5)),Tabelas!$I:$J,2,0),\"\"),\"\")","v":"SEX"},{"$f":"IF(T7<>\"\",IFERROR(VLOOKUP(WEEKDAY(CONCATENATE(T7,$X$5,$AL$5)),Tabelas!$I:$J,2,0),\"\"),\"\")","v":"SAB"},{"$f":"IF(U7<>\"\",IFERROR(VLOOKUP(WEEKDAY(CONCATENATE(U7,$X$5,$AL$5)),Tabelas!$I:$J,2,0),\"\"),\"\")","v":"DOM"},{"$f":"IF(V7<>\"\",IFERROR(VLOOKUP(WEEKDAY(CONCATENATE(V7,$X$5,$AL$5)),Tabelas!$I:$J,2,0),\"\"),\"\")","v":"SEG"},{"$f":"IF(W7<>\"\",IFERROR(VLOOKUP(WEEKDAY(CONCATENATE(W7,$X$5,$AL$5)),Tabelas!$I:$J,2,0),\"\"),\"\")","v":"TER"},{"$f":"IF(X7<>\"\",IFERROR(VLOOKUP(WEEKDAY(CONCATENATE(X7,$X$5,$AL$5)),Tabelas!$I:$J,2,0),\"\"),\"\")","v":"QUA"},{"$f":"IF(Y7<>\"\",IFERROR(VLOOKUP(WEEKDAY(CONCATENATE(Y7,$X$5,$AL$5)),Tabelas!$I:$J,2,0),\"\"),\"\")","v":"QUI"},{"$f":"IF(Z7<>\"\",IFERROR(VLOOKUP(WEEKDAY(CONCATENATE(Z7,$X$5,$AL$5)),Tabelas!$I:$J,2,0),\"\"),\"\")","v":"SEX"},{"$f":"IF(AA7<>\"\",IFERROR(VLOOKUP(WEEKDAY(CONCATENATE(AA7,$X$5,$AL$5)),Tabelas!$I:$J,2,0),\"\"),\"\")","v":"SAB"},{"$f":"IF(AB7<>\"\",IFERROR(VLOOKUP(WEEKDAY(CONCATENATE(AB7,$X$5,$AL$5)),Tabelas!$I:$J,2,0),\"\"),\"\")","v":"DOM"},{"$f":"IF(AC7<>\"\",IFERROR(VLOOKUP(WEEKDAY(CONCATENATE(AC7,$X$5,$AL$5)),Tabelas!$I:$J,2,0),\"\"),\"\")","v":"SEG"},{"$f":"IF(AD7<>\"\",IFERROR(VLOOKUP(WEEKDAY(CONCATENATE(AD7,$X$5,$AL$5)),Tabelas!$I:$J,2,0),\"\"),\"\")","v":"TER"},{"$f":"IF(AE7<>\"\",IFERROR(VLOOKUP(WEEKDAY(CONCATENATE(AE7,$X$5,$AL$5)),Tabelas!$I:$J,2,0),\"\"),\"\")","v":"QUA"},{"$f":"IF(AF7<>\"\",IFERROR(VLOOKUP(WEEKDAY(CONCATENATE(AF7,$X$5,$AL$5)),Tabelas!$I:$J,2,0),\"\"),\"\")","v":"QUI"},{"$f":"IF(AG7<>\"\",IFERROR(VLOOKUP(WEEKDAY(CONCATENATE(AG7,$X$5,$AL$5)),Tabelas!$I:$J,2,0),\"\"),\"\")","v":"SEX"},{"$f":"IF(AH7<>\"\",IFERROR(VLOOKUP(WEEKDAY(CONCATENATE(AH7,$X$5,$AL$5)),Tabelas!$I:$J,2,0),\"\"),\"\")","v":"SAB"},{"$f":"IF(AI7<>\"\",IFERROR(VLOOKUP(WEEKDAY(CONCATENATE(AI7,$X$5,$AL$5)),Tabelas!$I:$J,2,0),\"\"),\"\")","v":"DOM"},{"$f":"IF(AJ7<>\"\",IFERROR(VLOOKUP(WEEKDAY(CONCATENATE(AJ7,$X$5,$AL$5)),Tabelas!$I:$J,2,0),\"\"),\"\")","v":"SEG"},{"$f":"IF(AK7<>\"\",IFERROR(VLOOKUP(WEEKDAY(CONCATENATE(AK7,$X$5,$AL$5)),Tabelas!$I:$J,2,0),\"\"),\"\")","v":"TER"},{"$f":"IF(AL7<>\"\",IFERROR(VLOOKUP(WEEKDAY(CONCATENATE(AL7,$X$5,$AL$5)),Tabelas!$I:$J,2,0),\"\"),\"\")","v":"QUA"},{"$f":"IF(AM7<>\"\",IFERROR(VLOOKUP(WEEKDAY(CONCATENATE(AM7,$X$5,$AL$5)),Tabelas!$I:$J,2,0),\"\"),\"\")","v":"QUI"},{"$f":"IF(AN7<>\"\",IFERROR(VLOOKUP(WEEKDAY(CONCATENATE(AN7,$X$5,$AL$5)),Tabelas!$I:$J,2,0),\"\"),\"\")","v":"SEX"},{"$f":"IF(AO7<>\"\",IFERROR(VLOOKUP(WEEKDAY(CONCATENATE(AO7,$X$5,$AL$5)),Tabelas!$I:$J,2,0),\"\"),\"\")","v":"SAB"},{"$f":"IF(AP7<>\"\",IFERROR(VLOOKUP(WEEKDAY(CONCATENATE(AP7,$X$5,$AL$5)),Tabelas!$I:$J,2,0),\"\"),\"\")","v":""},{"$f":"IF(AQ7<>\"\",IFERROR(VLOOKUP(WEEKDAY(CONCATENATE(AQ7,$X$5,$AL$5)),Tabelas!$I:$J,2,0),\"\"),\"\")","v":""},1,2,3,4,5,6,7,8,9,10,11,12,13,14,15,16,17,18,19,20,21,22,23,24,25,26,27,28,29,30,31]
["ROTINA",null,null,null,null,null,null,null,null,null,null,null,null,null,null,null,null,null,null,null,null,null,null,null,null,null,null,null,null,null,null,null,null,null,null,null,null,null,null,null,null,null,null,{"$f":"IF(A9<>\"\",IFERROR(VLOOKUP(M9,Tabelas!B:D,3,0),0),\"\")","v":0},{"$f":"IF(A9<>\"\",IFERROR(VLOOKUP(N9,Tabelas!B:D,3,0),0),\"\")","v":0},{"$f":"IF(A9<>\"\",IFERROR(VLOOKUP(O9,Tabelas!B:D,3,0),0),\"\")","v":0},{"$f":"IF(A9<>\"\",IFERROR(VLOOKUP(P9,Tabelas!B:D,3,0),0),\"\")","v":0},{"$f":"IF(A9<>\"\",IFERROR(VLOOKUP(Q9,Tabelas!B:D,3,0),0),\"\")","v":0},{"$f":"IF(A9<>\"\",IFERROR(VLOOKUP(R9,Tabelas!B:D,3,0),0),\"\")","v":0},{"$f":"IF(A9<>\"\",IFERROR(VLOOKUP(S9,Tabelas!B:D,3,0),0),\"\")","v":0},{"$f":"IF(A9<>\"\",IFERROR(VLOOKUP(T9,Tabelas!B:D,3,0),0),\"\")","v":0},{"$f":"IF(A9<>\"\",IFERROR(VLOOKUP(U9,Tabelas!B:D,3,0),0),\"\")","v":0},{"$f":"IF(A9<>\"\",IFERROR(VLOOKUP(V9,Tabelas!B:D,3,0),0),\"\")","v":0},{"$f":"IF(A9<>\"\",IFERROR(VLOOKUP(W9,Tabelas!B:D,3,0),0),\"\")","v":0},{"$f":"IF(A9<>\"\",IFERROR(VLOOKUP(X9,Tabelas!B:D,3,0),0),\"\")","v":0},{"$f":"IF(A9<>\"\",IFERROR(VLOOKUP(Y9,Tabelas!B:D,3,0),0),\"\")","v":0},{"$f":"IF(A9<>\"\",IFERROR(VLOOKUP(Z9,Tabelas!B:D,3,0),0),\"\")","v":0},{"$f":"IF(A9<>\"\",IFERROR(VLOOKUP(AA9,Tabelas!B:D,3,0),0),\"\")","v":0},{"$f":"IF(A9<>\"\",IFERROR(VLOOKUP(AB9,Tabelas!B:D,3,0),0),\"\")","v":0},{"$f":"IF(A9<>\"\",IFERROR(VLOOKUP(AC9,Tabelas!B:D,3,0),0),\"\")","v":0},{"$f":"IF(A9<>\"\",IFERROR(VLOOKUP(AD9,Tabelas!B:D,3,0),0),\"\")","v":0},{"$f":"IF(A9<>\"\",IFERROR(VLOOKUP(AE9,Tabelas!B:D,3,0),0),\"\")","v":0},{"$f":"IF(A9<>\"\",IFERROR(VLOOKUP(AF9,Tabelas!B:D,3,0),0),\"\")","v":0},{"$f":"IF(A9<>\"\",IFERROR(VLOOKUP(AG9,Tabelas!B:D,3,0),0),\"\")","v":0},{"$f":"IF(A9<>\"\",IFERROR(VLOOKUP(AH9,Tabelas!B:D,3,0),0),\"\")","v":0},{"$f":"IF(A9<>\"\",IFERROR(VLOOKUP(AI9,Tabelas!B:D,3,0),0),\"\")","v":0},{"$f":"IF(A9<>\"\",IFERROR(VLOOKUP(AJ9,Tabelas!B:D,3,0),0),\"\")","v":0},{"$f":"IF(A9<>\"\",IFERROR(VLOOKUP(AK9,Tabelas!B:D,3,0),0),\"\")","v":0},{"$f":"IF(A9<>\"\",IFERROR(VLOOKUP(AL9,Tabelas!B:D,3,0),0),\"\")","v":0},{"$f":"IF(A9<>\"\",IFERROR(VLOOKUP(AM9,Tabelas!B:D,3,0),0),\"\")","v":0},{"$f":"IF(A9<>\"\",IFERROR(VLOOKUP(AN9,Tabelas!B:D,3,0),0),\"\")","v":0},{"$f":"IF(A9<>\"\",IFERROR(VLOOKUP(AO9,Tabelas!B:D,3,0),0),\"\")","v":0},{"$f":"IF(A9<>\"\",IFERROR(VLOOKUP(AP9,Tabelas!B:D,3,0),0),\"\")","v":0},{"$f":"IF(A9<>\"\",IFERROR(VLOOKUP(AQ9,Tabelas!B:D,3,0),0),\"\")","v":0},{"$f":"IF(AND(A9<>\"\",E9=\"Ebserh\"),SUM(AR9:BV9)+COUNTIF(M9:AQ9,\"N*\")+COUNTIF(M9:AQ9,\"DN*\"),IF(AND(A9<>\"\",E9<>\"Ebserh\"),SUM(AR9:BV9),\"\"))","v":0},{"$f":"IF(A9<>\"\",COUNTIF(M9:AQ9,\"LM\")+COUNTIF(M9:AQ9,\"L\")+COUNTIF(M9:AQ9,\"LP\"),\"\")","v":0},{"$f":"IF(A9<>\"\",COUNTIF(M9:AQ9,\"AB*\"),\"\")","v":0},{"$f":"IF(A9<>\"\",COUNTIF(M9:AQ9,\"FE\"),\"\")","v":0},{"$f":"IF(A9<>\"\",COUNTIF(M9:AQ9,\"LC\"),\"\")","v":0},{"$f":"IF(A9<>\"\",COUNTIF(M9:AQ9,\"CH*\"),\"\")","v":0},{"$f":"IF(A9<>\"\",COUNTIF(M9:AQ9,\"AF1\")+COUNTIF(M9:AQ9,\"AF2\")+COUNTIF(M9:AQ9,\"AF3\")+COUNTIF(M9:AQ9,\"AF4\")+COUNTIF(M9:AQ9,\"AF5\")+COUNTIF(M9:AQ9,\"AF6\")+COUNTIF(M9:AQ9,\"AF7\")+COUNTIF(M9:AQ9,\"AF8\")+COUNTIF(M9:AQ9,\"AF9\")+COUNTIF(M9:AQ9,\"AF10\")+COUNTIF(M9:AQ9,\"AF11\")+COUNTIF(M9:AQ9,\"AF12\")+COUNTIF(M9:AQ9,\"AF13\")+COUNTIF(M9:AQ9,\"AF14\"),\"\")","v":0},{"$f":"IF(A9<>\"\",COUNTIF(M9:AQ9,\"CH*\")+COUNTIF(M9:AQ9,\"L\")+COUNTIF(M9:AQ9,\"LM\")+COUNTIF(M9:AQ9,\"LP\")+COUNTIF(M9:AQ9,\"LC\")+COUNTIF(M9:AQ9,\"AB*\")+COUNTIF(M9:AQ9,\"AF1\")+COUNTIF(M9:AQ9,\"AF2\")+COUNTIF(M9:AQ9,\"AF3\")+COUNTIF(M9:AQ9,\"AF4\")+COUNTIF(M9:AQ9,\"AF5\")+COUNTIF(M9:AQ9,\"AF6\")+COUNTIF(M9:AQ9,\"AF7\")+COUNTIF(M9:AQ9,\"AF8\")+COUNTIF(M9:AQ9,\"AF9\")+COUNTIF(M9:AQ9,\"AF10\")+COUNTIF(M9:AQ9,\"AF11\")+COUNTIF(M9:AQ9,\"AF12\")+COUNTIF(M9:AQ9,\"AF13\")+COUNTIF(M9:AQ9,\"AF14\")+COUNTIF(M9:AQ9,\"RC\")+COUNTIF(M9:AQ9,\"FO\")+COUNTIF(M9:AQ9,\"FE\"),\"\")","v":0}]
["Alexandre Luciano Klein",2312539,null,"ME","RJU",30,null,null,null,null,null,null,null,null,"M17","M17","M17","M17","M17",null,null,"M17","M17","M17","M17","M17",null,null,"M17","M17","M17","M17","M17",null,null,"M17",null,"M17","M17","M17",null,null,null,{"$f":"IF(A10<>\"\",IFERROR(VLOOKUP(M10,Tabelas!B:D,3,0),0),\"\")","v":0},{"$f":"IF(A10<>\"\",IFERROR(VLOOKUP(N10,Tabelas!B:D,3,0),0),\"\")","v":0},{"$f":"IF(A10<>\"\",IFERROR(VLOOKUP(O10,Tabelas!B:D,3,0),0),\"\")","v":6},{"$f":"IF(A10<>\"\",IFERROR(VLOOKUP(P10,Tabelas!B:D,3,0),0),\"\")","v":6},{"$f":"IF(A10<>\"\",IFERROR(VLOOKUP(Q10,Tabelas!B:D,3,0),0),\"\")","v":6},{"$f":"IF(A10<>\"\",IFERROR(VLOOKUP(R10,Tabelas!B:D,3,0),0),\"\")","v":6},{"$f":"IF(A10<>\"\",IFERROR(VLOOKUP(S10,Tabelas!B:D,3,0),0),\"\")","v":6},{"$f":"IF(A10<>\"\",IFERROR(VLOOKUP(T10,Tabelas!B:D,3,0),0),\"\")","v":0},{"$f":"IF(A10<>\"\",IFERROR(VLOOKUP(U10,Tabelas!B:D,3,0),0),\"\")","v":0},{"$f":"IF(A10<>\"\",IFERROR(VLOOKUP(V10,Tabelas!B:D,3,0),0),\"\")","v":6},{"$f":"IF(A10<>\"\",IFERROR(VLOOKUP(W10,Tabelas!B:D,3,0),0),\"\")","v":6},{"$f":"IF(A10<>\"\",IFERROR(VLOOKUP(X10,Tabelas!B:D,3,0),0),\"\")","v":6},{"$f":"IF(A10<>\"\",IFERROR(VLOOKUP(Y10,Tabelas!B:D,3,0),0),\"\")","v":6},{"$f":"IF(A10<>\"\",IFERROR(VLOOKUP(Z10,Tabelas!B:D,3,0),0),\"\")","v":6},{"$f":"IF(A10<>\"\",IFERROR(VLOOKUP(AA10,Tabelas!B:D,3,0),0),\"\")","v":0},{"$f":"IF(A10<>\"\",IFERROR(VLOOKUP(AB10,Tabelas!B:D,3,0),0),\"\")","v":0},{"$f":"IF(A10<>\"\",IFERROR(VLOOKUP(AC10,Tabelas!B:D,3,0),0),\"\")","v":6},{"$f":"IF(A10<>\"\",IFERROR(VLOOKUP(AD10,Tabelas!B:D,3,0),0),\"\")","v":6},{"$f":"IF(A10<>\"\",IFERROR(VLOOKUP(AE10,Tabelas!B:D,3,0),0),\"\")","v":6},{"$f":"IF(A10<>\"\",IFERROR(VLOOKUP(AF10,Tabelas!B:D,3,0),0),\"\")","v":6},{"$f":"IF(A10<>\"\",IFERROR(VLOOKUP(AG10,Tabelas!B:D,3,0),0),\"\")","v":6},{"$f":"IF(A10<>\"\",IFERROR(VLOOKUP(AH10,Tabelas!B:D,3,0),0),\"\")","v":0},{"$f":"IF(A10<>\"\",IFERROR(VLOOKUP(AI10,Tabelas!B:D,3,0),0),\"\")","v":0},{"$f":"IF(A10<>\"\",IFERROR(VLOOKUP(AJ10,Tabelas!B:D,3,0),0),\"\")","v":6},{"$f":"IF(A10<>\"\",IFERROR(VLOOKUP(AK10,Tabelas!B:D,3,0),0),\"\")","v":0},{"$f":"IF(A10<>\"\",IFERROR(VLOOKUP(AL10,Tabelas!B:D,3,0),0),\"\")","v":6},{"$f":"IF(A10<>\"\",IFERROR(VLOOKUP(AM10,Tabelas!B:D,3,0),0),\"\")","v":6},{"$f":"IF(A10<>\"\",IFERROR(VLOOKUP(AN10,Tabelas!B:D,3,0),0),\"\")","v":6},{"$f":"IF(A10<>\"\",IFERROR(VLOOKUP(AO10,Tabelas!B:D,3,0),0),\"\")","v":0},{"$f":"IF(A10<>\"\",IFERROR(VLOOKUP(AP10,Tabelas!B:D,3,0),0),\"\")","v":0},{"$f":"IF(A10<>\"\",IFERROR(VLOOKUP(AQ10,Tabelas!B:D,3,0),0),\"\")","v":0},114,0,0,0,0,0,0,0]
["Alexandre Luciano Klein",3312539,null,"ME","RJU",20,null,null,null,null,null,null,null,null,"T17",null,"T17","T17",null,null,null,"T17",null,"T17","T17",null,null,null,"T17",null,"T17","T17",null,null,null,"T17",null,"T17","T17",null,null,null,null,{"$f":"IF(A11<>\"\",IFERROR(VLOOKUP(M11,Tabelas!B:D,3,0),0),\"\")","v":0},{"$f":"IF(A11<>\"\",IFERROR(VLOOKUP(N11,Tabelas!B:D,3,0),0),\"\")","v":0},{"$f":"IF(A11<>\"\",IFERROR(VLOOKUP(O11,Tabelas!B:D,3,0),0),\"\")","v":6},{"$f":"IF(A11<>\"\",IFERROR(VLOOKUP(P11,Tabelas!B:D,3,0),0),\"\")","v":0},{"$f":"IF(A11<>\"\",IFERROR(VLOOKUP(Q11,Tabelas!B:D,3,0),0),\"\")","v":6},{"$f":"IF(A11<>\"\",IFERROR(VLOOKUP(R11,Tabelas!B:D,3,0),0),\"\")","v":6},{"$f":"IF(A11<>\"\",IFERROR(VLOOKUP(S11,Tabelas!B:D,3,0),0),\"\")","v":0},{"$f":"IF(A11<>\"\",IFERROR(VLOOKUP(T11,Tabelas!B:D,3,0),0),\"\")","v":0},{"$f":"IF(A11<>\"\",IFERROR(VLOOKUP(U11,Tabelas!B:D,3,0),0),\"\")","v":0},{"$f":"IF(A11<>\"\",IFERROR(VLOOKUP(V11,Tabelas!B:D,3,0),0),\"\")","v":6},{"$f":"IF(A11<>\"\",IFERROR(VLOOKUP(W11,Tabelas!B:D,3,0),0),\"\")","v":0},{"$f":"IF(A11<>\"\",IFERROR(VLOOKUP(X11,Tabelas!B:D,3,0),0),\"\")","v":6},{"$f":"IF(A11<>\"\",IFERROR(VLOOKUP(Y11,Tabelas!B:D,3,0),0),\"\")","v":6},{"$f":"IF(A11<>\"\",IFERROR(VLOOKUP(Z11,Tabelas!B:D,3,0),0),\"\")","v":0},{"$f":"IF(A11<>\"\",IFERROR(VLOOKUP(AA11,Tabelas!B:D,3,0),0),\"\")","v":0},{"$f":"IF(A11<>\"\",IFERROR(VLOOKUP(AB11,Tabelas!B:D,3,0),0),\"\")","v":0},{"$f":"IF(A11<>\"\",IFERROR(VLOOKUP(AC11,Tabelas!B:D,3,0),0),\"\")","v":6},{"$f":"IF(A11<>\"\",IFERROR(VLOOKUP(AD11,Tabelas!B:D,3,0),0),\"\")","v":0},{"$f":"IF(A11<>\"\",IFERROR(VLOOKUP(AE11,Tabelas!B:D,3,0),0),\"\")","v":6},{"$f":"IF(A11<>\"\",IFERROR(VLOOKUP(AF11,Tabelas!B:D,3,0),0),\"\")","v":6},{"$f":"IF(A11<>\"\",IFERROR(VLOOKUP(AG11,Tabelas!B:D,3,0),0),\"\")","v":0},{"$f":"IF(A11<>\"\",IFERROR(VLOOKUP(AH11,Tabelas!B:D,3,0),0),\"\")","v":0},{"$f":"IF(A11<>\"\",IFERROR(VLOOKUP(AI11,Tabelas!B:D,3,0),0),\"\")","v":0},{"$f":"IF(A11<>\"\",IFERROR(VLOOKUP(AJ11,Tabelas!B:D,3,0),0),\"\")","v":6},{"$f":"IF(A11<>\"\",IFERROR(VLOOKUP(AK11,Tabelas!B:D,3,0),0),\"\")","v":0},{"$f":"IF(A11<>\"\",IFERROR(VLOOKUP(AL11,Tabelas!B:D,3,0),0),\"\")","v":6},{"$f":"IF(A11<>\"\",IFERROR(VLOOKUP(AM11,Tabelas!B:D,3,0),0),\"\")","v":6},{"$f":"IF(A11<>\"\",IFERROR(VLOOKUP(AN11,Tabelas!B:D,3,0),0),\"\")","v":0},{"$f":"IF(A11<>\"\",IFERROR(VLOOKUP(AO11,Tabelas!B:D,3,0),0),\"\")","v":0},{"$f":"IF(A11<>\"\",IFERROR(VLOOKUP(AP11,Tabelas!B:D,3,0),0),\"\")","v":0},{"$f":"IF(A11<>\"\",IFERROR(VLOOKUP(AQ11,Tabelas!B:D,3,0),0),\"\")","v":0},72,0,0,0,0,0,0,0]
["Alice Danielle Correa Mendes Pinto",1357071,null,"ME","RJU",30,null,null,null,null,null,null,null,null,"M17","T17","M17","D8","M17",null,null,"M17","T17","M17","D8","M17",null,null,"M17","T17",null,"T17","M17",null,null,null,null,"M17","T17","M17",null,null,null,{"$f":"IF(A12<>\"\",IFERROR(VLOOKUP(M12,Tabelas!B:D,3,0),0),\"\")","v":0},{"$f":"IF(A12<>\"\",IFERROR(VLOOKUP(N12,Tabelas!B:D,3,0),0),\"\")","v":0},{"$f":"IF(A12<>\"\",IFERROR(VLOOKUP(O12,Tabelas!B:D,3,0),0),\"\")","v":6},{"$f":"IF(A12<>\"\",IFERROR(VLOOKUP(P12,Tabelas!B:D,3,0),0),\"\")","v":6},{"$f":"IF(A12<>\"\",IFERROR(VLOOKUP(Q12,Tabelas!B:D,3,0),0),\"\")","v":6},{"$f":"IF(A12<>\"\",IFERROR(VLOOKUP(R12,Tabelas!B:D,3,0),0),\"\")","v":12},{"$f":"IF(A12<>\"\",IFERROR(VLOOKUP(S12,Tabelas!B:D,3,0),0),\"\")","v":6},{"$f":"IF(A12<>\"\",IFERROR(VLOOKUP(T12,Tabelas!B:D,3,0),0),\"\")","v":0},{"$f":"IF(A12<>\"\",IFERROR(VLOOKUP(U12,Tabelas!B:D,3,0),0),\"\")","v":0},{"$f":"IF(A12<>\"\",IFERROR(VLOOKUP(V12,Tabelas!B:D,3,0),0),\"\")","v":6},{"$f":"IF(A12<>\"\",IFERROR(VLOOKUP(W12,Tabelas!B:D,3,0),0),\"\")","v":6},{"$f":"IF(A12<>\"\",IFERROR(VLOOKUP(X12,Tabelas!B:D,3,0),0),\"\")","v":6},{"$f":"IF(A12<>\"\",IFERROR(VLOOKUP(Y12,Tabelas!B:D,3,0),0),\"\")","v":12},{"$f":"IF(A12<>\"\",IFERROR(VLOOKUP(Z12,Tabelas!B:D,3,0),0),\"\")","v":6},{"$f":"IF(A12<>\"\",IFERROR(VLOOKUP(AA12,Tabelas!B:D,3,0),0),\"\")","v":0},{"$f":"IF(A12<>\"\",IFERROR(VLOOKUP(AB12,Tabelas!B:D,3,0),0),\"\")","v":0},{"$f":"IF(A12<>\"\",IFERROR(VLOOKUP(AC12,Tabelas!B:D,3,0),0),\"\")","v":6},{"$f":"IF(A12<>\"\",IFERROR(VLOOKUP(AD12,Tabelas!B:D,3,0),0),\"\")","v":6},{"$f":"IF(A12<>\"\",IFERROR(VLOOKUP(AE12,Tabelas!B:D,3,0),0),\"\")","v":0},{"$f":"IF(A12<>\"\",IFERROR(VLOOKUP(AF12,Tabelas!B:D,3,0),0),\"\")","v":6},{"$f":"IF(A12<>\"\",IFERROR(VLOOKUP(AG12,Tabelas!B:D,3,0),0),\"\")","v":6},{"$f":"IF(A12<>\"\",IFERROR(VLOOKUP(AH12,Tabelas!B:D,3,0),0),\"\")","v":0},{"$f":"IF(A12<>\"\",IFERROR(VLOOKUP(AI12,Tabelas!B:D,3,0),0),\"\")","v":0},{"$f":"IF(A12<>\"\",IFERROR(VLOOKUP(AJ12,Tabelas!B:D,3,0),0),\"\")","v":0},{"$f":"IF(A12<>\"\",IFERROR(VLOOKUP(AK12,Tabelas!B:D,3,0),0),\"\")","v":0},{"$f":"IF(A12<>\"\",IFERROR(VLOOKUP(AL12,Tabelas!B:D,3,0),0),\"\")","v":6},{"$f":"IF(A12<>\"\",IFERROR(VLOOKUP(AM12,Tabelas!B:D,3,0),0),\"\")","v":6},{"$f":"IF(A12<>\"\",IFERROR(VLOOKUP(AN12,Tabelas!B:D,3,0),0),\"\")","v":6},{"$f":"IF(A12<>\"\",IFERROR(VLOOKUP(AO12,Tabelas!B:D,3,0),0),\"\")","v":0},{"$f":"IF(A12<>\"\",IFERROR(VLOOKUP(AP12,Tabelas!B:D,3,0),0),\"\")","v":0},{"$f":"IF(A12<>\"\",IFERROR(VLOOKUP(AQ12,Tabelas!B:D,3,0),0),\"\")","v":0},114,0,0,0,0,0,0,0]
["Christie Marie Schweitzer",2081333,null,"ME","RJU",20,null,null,null,null,null,null,null,null,"T17","T17","T17",null,null,null,null,"T17","T17","T17",null,"T17",null,null,"T17","T17","T17",null,"T17",null,null,null,null,"T17",null,null,null,null,null,{"$f":"IF(A13<>\"\",IFERROR(VLOOKUP(M13,Tabelas!B:D,3,0),0),\"\")","v":0},{"$f":"IF(A13<>\"\",IFERROR(VLOOKUP(N13,Tabelas!B:D,3,0),0),\"\")","v":0},{"$f":"IF(A13<>\"\",IFERROR(VLOOKUP(O13,Tabelas!B:D,3,0),0),\"\")","v":6},{"$f":"IF(A13<>\"\",IFERROR(VLOOKUP(P13,Tabelas!B:D,3,0),0),\"\")","v":6},{"$f":"IF(A13<>\"\",IFERROR(VLOOKUP(Q13,Tabelas!B:D,3,0),0),\"\")","v":6},{"$f":"IF(A13<>\"\",IFERROR(VLOOKUP(R13,Tabelas!B:D,3,0),0),\"\")","v":0},{"$f":"IF(A13<>\"\",IFERROR(VLOOKUP(S13,Tabelas!B:D,3,0),0),\"\")","v":0},{"$f":"IF(A13<>\"\",IFERROR(VLOOKUP(T13,Tabelas!B:D,3,0),0),\"\")","v":0},{"$f":"IF(A13<>\"\",IFERROR(VLOOKUP(U13,Tabelas!B:D,3,0),0),\"\")","v":0},{"$f":"IF(A13<>\"\",IFERROR(VLOOKUP(V13,Tabelas!B:D,3,0),0),\"\")","v":6},{"$f":"IF(A13<>\"\",IFERROR(VLOOKUP(W13,Tabelas!B:D,3,0),0),\"\")","v":6},{"$f":"IF(A13<>\"\",IFERROR(VLOOKUP(X13,Tabelas!B:D,3,0),0),\"\")","v":6},{"$f":"IF(A13<>\"\",IFERROR(VLOOKUP(Y13,Tabelas!B:D,3,0),0),\"\")","v":0},{"$f":"IF(A13<>\"\",IFERROR(VLOOKUP(Z13,Tabelas!B:D,3,0),0),\"\")","v":6},{"$f":"IF(A13<>\"\",IFERROR(VLOOKUP(AA13,Tabelas!B:D,3,0),0),\"\")","v":0},{"$f":"IF(A13<>\"\",IFERROR(VLOOKUP(AB13,Tabelas!B:D,3,0),0),\"\")","v":0},{"$f":"IF(A13<>\"\",IFERROR(VLOOKUP(AC13,Tabelas!B:D,3,0),0),\"\")","v":6},{"$f":"IF(A13<>\"\",IFERROR(VLOOKUP(AD13,Tabelas!B:D,3,0),0),\"\")","v":6},{"$f":"IF(A13<>\"\",IFERROR(VLOOKUP(AE13,Tabelas!B:D,3,0),0),\"\")","v":6},{"$f":"IF(A13<>\"\",IFERROR(VLOOKUP(AF13,Tabelas!B:D,3,0),0),\"\")","v":0},{"$f":"IF(A13<>\"\",IFERROR(VLOOKUP(AG13,Tabelas!B:D,3,0),0),\"\")","v":6},{"$f":"IF(A13<>\"\",IFERROR(VLOOKUP(AH13,Tabelas!B:D,3,0),0),\"\")","v":0},{"$f":"IF(A13<>\"\",IFERROR(VLOOKUP(AI13,Tabelas!B:D,3,0),0),\"\")","v":0},{"$f":"IF(A13<>\"\",IFERROR(VLOOKUP(AJ13,Tabelas!B:D,3,0),0),\"\")","v":0},{"$f":"IF(A13<>\"\",IFERROR(VLOOKUP(AK13,Tabelas!B:D,3,0),0),\"\")","v":0},{"$f":"IF(A13<>\"\",IFERROR(VLOOKUP(AL13,Tabelas!B:D,3,0),0),\"\")","v":6},{"$f":"IF(A13<>\"\",IFERROR(VLOOKUP(AM13,Tabelas!B:D,3,0),0),\"\")","v":0},{"$f":"IF(A13<>\"\",IFERROR(VLOOKUP(AN13,Tabelas!B:D,3,0),0),\"\")","v":0},{"$f":"IF(A13<>\"\",IFERROR(VLOOKUP(AO13,Tabelas!B:D,3,0),0),\"\")","v":0},{"$f":"IF(A13<>\"\",IFERROR(VLOOKUP(AP13,Tabelas!B:D,3,0),0),\"\")","v":0},{"$f":"IF(A13<>\"\",IFERROR(VLOOKUP(AQ13,Tabelas!B:D,3,0),0),\"\")","v":0},72,0,0,0,0,0,0,0]
["Gina Vieira Velho",1185798,null,"ME","RJU",20,null,null,null,null,null,null,null,null,"FE","FE","FE","FE","FE","FE","FE","FE","FE","FE","FE","FE","FE","FE","FE",null,"M17","M17",null,null,null,"M17",null,"M17","M17",null,null,null,null,{"$f":"IF(A14<>\"\",IFERROR(VLOOKUP(M14,Tabelas!B:D,3,0),0),\"\")","v":0},{"$f":"IF(A14<>\"\",IFERROR(VLOOKUP(N14,Tabelas!B:D,3,0),0),\"\")","v":0},{"$f":"IF(A14<>\"\",IFERROR(VLOOKUP(O14,Tabelas!B:D,3,0),0),\"\")","v":0},{"$f":"IF(A14<>\"\",IFERROR(VLOOKUP(P14,Tabelas!B:D,3,0),0),\"\")","v":0},{"$f":"IF(A14<>\"\",IFERROR(VLOOKUP(Q14,Tabelas!B:D,3,0),0),\"\")","v":0},{"$f":"IF(A14<>\"\",IFERROR(VLOOKUP(R14,Tabelas!B:D,3,0),0),\"\")","v":0},{"$f":"IF(A14<>\"\",IFERROR(VLOOKUP(S14,Tabelas!B:D,3,0),0),\"\")","v":0},{"$f":"IF(A14<>\"\",IFERROR(VLOOKUP(T14,Tabelas!B:D,3,0),0),\"\")","v":0},{"$f":"IF(A14<>\"\",IFERROR(VLOOKUP(U14,Tabelas!B:D,3,0),0),\"\")","v":0},{"$f":"IF(A14<>\"\",IFERROR(VLOOKUP(V14,Tabelas!B:D,3,0),0),\"\")","v":0},{"$f":"IF(A14<>\"\",IFERROR(VLOOKUP(W14,Tabelas!B:D,3,0),0),\"\")","v":0},{"$f":"IF(A14<>\"\",IFERROR(VLOOKUP(X14,Tabelas!B:D,3,0),0),\"\")","v":0},{"$f":"IF(A14<>\"\",IFERROR(VLOOKUP(Y14,Tabelas!B:D,3,0),0),\"\")","v":0},{"$f":"IF(A14<>\"\",IFERROR(VLOOKUP(Z14,Tabelas!B:D,3,0),0),\"\")","v":0},{"$f":"IF(A14<>\"\",IFERROR(VLOOKUP(AA14,Tabelas!B:D,3,0),0),\"\")","v":0},{"$f":"IF(A14<>\"\",IFERROR(VLOOKUP(AB14,Tabelas!B:D,3,0),0),\"\")","v":0},{"$f":"IF(A14<>\"\",IFERROR(VLOOKUP(AC14,Tabelas!B:D,3,0),0),\"\")","v":0},{"$f":"IF(A14<>\"\",IFERROR(VLOOKUP(AD14,Tabelas!B:D,3,0),0),\"\")","v":0},{"$f":"IF(A14<>\"\",IFERROR(VLOOKUP(AE14,Tabelas!B:D,3,0),0),\"\")","v":6},{"$f":"IF(A14<>\"\",IFERROR(VLOOKUP(AF14,Tabelas!B:D,3,0),0),\"\")","v":6},{"$f":"IF(A14<>\"\",IFERROR(VLOOKUP(AG14,Tabelas!B:D,3,0),0),\"\")","v":0},{"$f":"IF(A14<>\"\",IFERROR(VLOOKUP(AH14,Tabelas!B:D,3,0),0),\"\")","v":0},{"$f":"IF(A14<>\"\",IFERROR(VLOOKUP(AI14,Tabelas!B:D,3,0),0),\"\")","v":0},{"$f":"IF(A14<>\"\",IFERROR(VLOOKUP(AJ14,Tabelas!B:D,3,0),0),\"\")","v":6},{"$f":"IF(A14<>\"\",IFERROR(VLOOKUP(AK14,Tabelas!B:D,3,0),0),\"\")","v":0},{"$f":"IF(A14<>\"\",IFERROR(VLOOKUP(AL14,Tabelas!B:D,3,0),0),\"\")","v":6},{"$f":"IF(A14<>\"\",IFERROR(VLOOKUP(AM14,Tabelas!B:D,3,0),0),\"\")","v":6},{"$f":"IF(A14<>\"\",IFERROR(VLOOKUP(AN14,Tabelas!B:D,3,0),0),\"\")","v":0},{"$f":"IF(A14<>\"\",IFERROR(VLOOKUP(AO14,Tabelas!B:D,3,0),0),\"\")","v":0},{"$f":"IF(A14<>\"\",IFERROR(VLOOKUP(AP14,Tabelas!B:D,3,0),0),\"\")","v":0},{"$f":"IF(A14<>\"\",IFERROR(VLOOKUP(AQ14,Tabelas!B:D,3,0),0),\"\")","v":0},30,0,0,15,0,0,0,15]
["Rafael Lisboa de Souza",2344070,null,"ME","RJU",30,null,null,null,null,null,null,null,null,"M17","M17","M17","M17","M17",null,null,"M17","M17","M17","M17","M17",null,null,"M17","M17","M17","M17","M17",null,null,"M17",null,"M17","M17","M17",null,null,null,{"$f":"IF(A15<>\"\",IFERROR(VLOOKUP(M15,Tabelas!B:D,3,0),0),\"\")","v":0},{"$f":"IF(A15<>\"\",IFERROR(VLOOKUP(N15,Tabelas!B:D,3,0),0),\"\")","v":0},{"$f":"IF(A15<>\"\",IFERROR(VLOOKUP(O15,Tabelas!B:D,3,0),0),\"\")","v":6},{"$f":"IF(A15<>\"\",IFERROR(VLOOKUP(P15,Tabelas!B:D,3,0),0),\"\")","v":6},{"$f":"IF(A15<>\"\",IFERROR(VLOOKUP(Q15,Tabelas!B:D,3,0),0),\"\")","v":6},{"$f":"IF(A15<>\"\",IFERROR(VLOOKUP(R15,Tabelas!B:D,3,0),0),\"\")","v":6},{"$f":"IF(A15<>\"\",IFERROR(VLOOKUP(S15,Tabelas!B:D,3,0),0),\"\")","v":6},{"$f":"IF(A15<>\"\",IFERROR(VLOOKUP(T15,Tabelas!B:D,3,0),0),\"\")","v":0},{"$f":"IF(A15<>\"\",IFERROR(VLOOKUP(U15,Tabelas!B:D,3,0),0),\"\")","v":0},{"$f":"IF(A15<>\"\",IFERROR(VLOOKUP(V15,Tabelas!B:D,3,0),0),\"\")","v":6},{"$f":"IF(A15<>\"\",IFERROR(VLOOKUP(W15,Tabelas!B:D,3,0),0),\"\")","v":6},{"$f":"IF(A15<>\"\",IFERROR(VLOOKUP(X15,Tabelas!B:D,3,0),0),\"\")","v":6},{"$f":"IF(A15<>\"\",IFERROR(VLOOKUP(Y15,Tabelas!B:D,3,0),0),\"\")","v":6},{"$f":"IF(A15<>\"\",IFERROR(VLOOKUP(Z15,Tabelas!B:D,3,0),0),\"\")","v":6},{"$f":"IF(A15<>\"\",IFERROR(VLOOKUP(AA15,Tabelas!B:D,3,0),0),\"\")","v":0},{"$f":"IF(A15<>\"\",IFERROR(VLOOKUP(AB15,Tabelas!B:D,3,0),0),\"\")","v":0},{"$f":"IF(A15<>\"\",IFERROR(VLOOKUP(AC15,Tabelas!B:D,3,0),0),\"\")","v":6},{"$f":"IF(A15<>\"\",IFERROR(VLOOKUP(AD15,Tabelas!B:D,3,0),0),\"\")","v":6},{"$f":"IF(A15<>\"\",IFERROR(VLOOKUP(AE15,Tabelas!B:D,3,0),0),\"\")","v":6},{"$f":"IF(A15<>\"\",IFERROR(VLOOKUP(AF15,Tabelas!B:D,3,0),0),\"\")","v":6},{"$f":"IF(A15<>\"\",IFERROR(VLOOKUP(AG15,Tabelas!B:D,3,0),0),\"\")","v":6},{"$f":"IF(A15<>\"\",IFERROR(VLOOKUP(AH15,Tabelas!B:D,3,0),0),\"\")","v":0},{"$f":"IF(A15<>\"\",IFERROR(VLOOKUP(AI15,Tabelas!B:D,3,0),0),\"\")","v":0},{"$f":"IF(A15<>\"\",IFERROR(VLOOKUP(AJ15,Tabelas!B:D,3,0),0),\"\")","v":6},{"$f":"IF(A15<>\"\",IFERROR(VLOOKUP(AK15,Tabelas!B:D,3,0),0),\"\")","v":0},{"$f":"IF(A15<>\"\",IFERROR(VLOOKUP(AL15,Tabelas!B:D,3,0),0),\"\")","v":6},{"$f":"IF(A15<>\"\",IFERROR(VLOOKUP(AM15,Tabelas!B:D,3,0),0),\"\")","v":6},{"$f":"IF(A15<>\"\",IFERROR(VLOOKUP(AN15,Tabelas!B:D,3,0),0),\"\")","v":6},{"$f":"IF(A15<>\"\",IFERROR(VLOOKUP(AO15,Tabelas!B:D,3,0),0),\"\")","v":0},{"$f":"IF(A15<>\"\",IFERROR(VLOOKUP(AP15,Tabelas!B:D,3,0),0),\"\")","v":0},{"$f":"IF(A15<>\"\",IFERROR(VLOOKUP(AQ15,Tabelas!B:D,3,0),0),\"\")","v":0},114,0,0,0,0,0,0,0]
["Karine Damiani Cabral (EMG)",null,null,"ME","RJU",12,null,null,null,null,null,null,null,null,"T17",null,"T17",null,null,null,null,"T17",null,"T17",null,null,null,null,"T17",null,"T17",null,null,null,null,"T14",null,"T17",null,null,null,null,null,{"$f":"IF(A16<>\"\",IFERROR(VLOOKUP(M16,Tabelas!B:D,3,0),0),\"\")","v":0},{"$f":"IF(A16<>\"\",IFERROR(VLOOKUP(N16,Tabelas!B:D,3,0),0),\"\")","v":0},{"$f":"IF(A16<>\"\",IFERROR(VLOOKUP(O16,Tabelas!B:D,3,0),0),\"\")","v":6},{"$f":"IF(A16<>\"\",IFERROR(VLOOKUP(P16,Tabelas!B:D,3,0),0),\"\")","v":0},{"$f":"IF(A16<>\"\",IFERROR(VLOOKUP(Q16,Tabelas!B:D,3,0),0),\"\")","v":6},{"$f":"IF(A16<>\"\",IFERROR(VLOOKUP(R16,Tabelas!B:D,3,0),0),\"\")","v":0},{"$f":"IF(A16<>\"\",IFERROR(VLOOKUP(S16,Tabelas!B:D,3,0),0),\"\")","v":0},{"$f":"IF(A16<>\"\",IFERROR(VLOOKUP(T16,Tabelas!B:D,3,0),0),\"\")","v":0},{"$f":"IF(A16<>\"\",IFERROR(VLOOKUP(U16,Tabelas!B:D,3,0),0),\"\")","v":0},{"$f":"IF(A16<>\"\",IFERROR(VLOOKUP(V16,Tabelas!B:D,3,0),0),\"\")","v":6},{"$f":"IF(A16<>\"\",IFERROR(VLOOKUP(W16,Tabelas!B:D,3,0),0),\"\")","v":0},{"$f":"IF(A16<>\"\",IFERROR(VLOOKUP(X16,Tabelas!B:D,3,0),0),\"\")","v":6},{"$f":"IF(A16<>\"\",IFERROR(VLOOKUP(Y16,Tabelas!B:D,3,0),0),\"\")","v":0},{"$f":"IF(A16<>\"\",IFERROR(VLOOKUP(Z16,Tabelas!B:D,3,0),0),\"\")","v":0},{"$f":"IF(A16<>\"\",IFERROR(VLOOKUP(AA16,Tabelas!B:D,3,0),0),\"\")","v":0},{"$f":"IF(A16<>\"\",IFERROR(VLOOKUP(AB16,Tabelas!B:D,3,0),0),\"\")","v":0},{"$f":"IF(A16<>\"\",IFERROR(VLOOKUP(AC16,Tabelas!B:D,3,0),0),\"\")","v":6},{"$f":"IF(A16<>\"\",IFERROR(VLOOKUP(AD16,Tabelas!B:D,3,0),0),\"\")","v":0},{"$f":"IF(A16<>\"\",IFERROR(VLOOKUP(AE16,Tabelas!B:D,3,0),0),\"\")","v":6},{"$f":"IF(A16<>\"\",IFERROR(VLOOKUP(AF16,Tabelas!B:D,3,0),0),\"\")","v":0},{"$f":"IF(A16<>\"\",IFERROR(VLOOKUP(AG16,Tabelas!B:D,3,0),0),\"\")","v":0},{"$f":"IF(A16<>\"\",IFERROR(VLOOKUP(AH16,Tabelas!B:D,3,0),0),\"\")","v":0},{"$f":"IF(A16<>\"\",IFERROR(VLOOKUP(AI16,Tabelas!B:D,3,0),0),\"\")","v":0},{"$f":"IF(A16<>\"\",IFERROR(VLOOKUP(AJ16,Tabelas!B:D,3,0),0),\"\")","v":6},{"$f":"IF(A16<>\"\",IFERROR(VLOOKUP(AK16,Tabelas!B:D,3,0),0),\"\")","v":0},{"$f":"IF(A16<>\"\",IFERROR(VLOOKUP(AL16,Tabelas!B:D,3,0),0),\"\")","v":6},{"$f":"IF(A16<>\"\",IFERROR(VLOOKUP(AM16,Tabelas!B:D,3,0),0),\"\")","v":0},{"$f":"IF(A16<>\"\",IFERROR(VLOOKUP(AN16,Tabelas!B:D,3,0),0),\"\")","v":0},{"$f":"IF(A16<>\"\",IFERROR(VLOOKUP(AO16,Tabelas!B:D,3,0),0),\"\")","v":0},{"$f":"IF(A16<>\"\",IFERROR(VLOOKUP(AP16,Tabelas!B:D,3,0),0),\"\")","v":0},{"$f":"IF(A16<>\"\",IFERROR(VLOOKUP(AQ16,Tabelas!B:D,3,0),0),\"\")","v":0},48,0,0,0,0,0,0,0]
["Vanessa Miné Geraldo",3055054,null,"ME","EBSERH",24,null,null,null,null,null,null,null,null,null,null,null,null,"T17",null,null,null,"T17",null,"T17",null,null,null,null,null,null,null,null,null,null,null,null,null,null,"T17",null,null,null,{"$f":"IF(A17<>\"\",IFERROR(VLOOKUP(M17,Tabelas!B:D,3,0),0),\"\")","v":0},{"$f":"IF(A17<>\"\",IFERROR(VLOOKUP(N17,Tabelas!B:D,3,0),0),\"\")","v":0},{"$f":"IF(A17<>\"\",IFERROR(VLOOKUP(O17,Tabelas!B:D,3,0),0),\"\")","v":0},{"$f":"IF(A17<>\"\",IFERROR(VLOOKUP(P17,Tabelas!B:D,3,0),0),\"\")","v":0},{"$f":"IF(A17<>\"\",IFERROR(VLOOKUP(Q17,Tabelas!B:D,3,0),0),\"\")","v":0},{"$f":"IF(A17<>\"\",IFERROR(VLOOKUP(R17,Tabelas!B:D,3,0),0),\"\")","v":0},{"$f":"IF(A17<>\"\",IFERROR(VLOOKUP(S17,Tabelas!B:D,3,0),0),\"\")","v":6},{"$f":"IF(A17<>\"\",IFERROR(VLOOKUP(T17,Tabelas!B:D,3,0),0),\"\")","v":0},{"$f":"IF(A17<>\"\",IFERROR(VLOOKUP(U17,Tabelas!B:D,3,0),0),\"\")","v":0},{"$f":"IF(A17<>\"\",IFERROR(VLOOKUP(V17,Tabelas!B:D,3,0),0),\"\")","v":0},{"$f":"IF(A17<>\"\",IFERROR(VLOOKUP(W17,Tabelas!B:D,3,0),0),\"\")","v":6},{"$f":"IF(A17<>\"\",IFERROR(VLOOKUP(X17,Tabelas!B:D,3,0),0),\"\")","v":0},{"$f":"IF(A17<>\"\",IFERROR(VLOOKUP(Y17,Tabelas!B:D,3,0),0),\"\")","v":6},{"$f":"IF(A17<>\"\",IFERROR(VLOOKUP(Z17,Tabelas!B:D,3,0),0),\"\")","v":0},{"$f":"IF(A17<>\"\",IFERROR(VLOOKUP(AA17,Tabelas!B:D,3,0),0),\"\")","v":0},{"$f":"IF(A17<>\"\",IFERROR(VLOOKUP(AB17,Tabelas!B:D,3,0),0),\"\")","v":0},{"$f":"IF(A17<>\"\",IFERROR(VLOOKUP(AC17,Tabelas!B:D,3,0),0),\"\")","v":0},{"$f":"IF(A17<>\"\",IFERROR(VLOOKUP(AD17,Tabelas!B:D,3,0),0),\"\")","v":0},{"$f":"IF(A17<>\"\",IFERROR(VLOOKUP(AE17,Tabelas!B:D,3,0),0),\"\")","v":0},{"$f":"IF(A17<>\"\",IFERROR(VLOOKUP(AF17,Tabelas!B:D,3,0),0),\"\")","v":0},{"$f":"IF(A17<>\"\",IFERROR(VLOOKUP(AG17,Tabelas!B:D,3,0),0),\"\")","v":0},{"$f":"IF(A17<>\"\",IFERROR(VLOOKUP(AH17,Tabelas!B:D,3,0),0),\"\")","v":0},{"$f":"IF(A17<>\"\",IFERROR(VLOOKUP(AI17,Tabelas!B:D,3,0),0),\"\")","v":0},{"$f":"IF(A17<>\"\",IFERROR(VLOOKUP(AJ17,Tabelas!B:D,3,0),0),\"\")","v":0},{"$f":"IF(A17<>\"\",IFERROR(VLOOKUP(AK17,Tabelas!B:D,3,0),0),\"\")","v":0},{"$f":"IF(A17<>\"\",IFERROR(VLOOKUP(AL17,Tabelas!B:D,3,0),0),\"\")","v":0},{"$f":"IF(A17<>\"\",IFERROR(VLOOKUP(AM17,Tabelas!B:D,3,0),0),\"\")","v":0},{"$f":"IF(A17<>\"\",IFERROR(VLOOKUP(AN17,Tabelas!B:D,3,0),0),\"\")","v":6},{"$f":"IF(A17<>\"\",IFERROR(VLOOKUP(AO17,Tabelas!B:D,3,0),0),\"\")","v":0},{"$f":"IF(A17<>\"\",IFERROR(VLOOKUP(AP17,Tabelas!B:D,3,0),0),\"\")","v":0},{"$f":"IF(A17<>\"\",IFERROR(VLOOKUP(AQ17,Tabelas!B:D,3,0),0),\"\")","v":0},24,0,0,0,0,0,0,0]
["Vinícius D. Pedro (EMG)",null,null,"ME","RJU",12,null,null,null,null,null,null,null,null,null,"M17",null,null,"T17",null,null,null,"M17",null,null,"T17",null,null,null,"M17",null,null,"T17",null,null,null,null,null,null,"T17",null,null,null,{"$f":"IF(A18<>\"\",IFERROR(VLOOKUP(M18,Tabelas!B:D,3,0),0),\"\")","v":0},{"$f":"IF(A18<>\"\",IFERROR(VLOOKUP(N18,Tabelas!B:D,3,0),0),\"\")","v":0},{"$f":"IF(A18<>\"\",IFERROR(VLOOKUP(O18,Tabelas!B:D,3,0),0),\"\")","v":0},{"$f":"IF(A18<>\"\",IFERROR(VLOOKUP(P18,Tabelas!B:D,3,0),0),\"\")","v":6},{"$f":"IF(A18<>\"\",IFERROR(VLOOKUP(Q18,Tabelas!B:D,3,0),0),\"\")","v":0},{"$f":"IF(A18<>\"\",IFERROR(VLOOKUP(R18,Tabelas!B:D,3,0),0),\"\")","v":0},{"$f":"IF(A18<>\"\",IFERROR(VLOOKUP(S18,Tabelas!B:D,3,0),0),\"\")","v":6},{"$f":"IF(A18<>\"\",IFERROR(VLOOKUP(T18,Tabelas!B:D,3,0),0),\"\")","v":0},{"$f":"IF(A18<>\"\",IFERROR(VLOOKUP(U18,Tabelas!B:D,3,0),0),\"\")","v":0},{"$f":"IF(A18<>\"\",IFERROR(VLOOKUP(V18,Tabelas!B:D,3,0),0),\"\")","v":0},{"$f":"IF(A18<>\"\",IFERROR(VLOOKUP(W18,Tabelas!B:D,3,0),0),\"\")","v":6},{"$f":"IF(A18<>\"\",IFERROR(VLOOKUP(X18,Tabelas!B:D,3,0),0),\"\")","v":0},{"$f":"IF(A18<>\"\",IFERROR(VLOOKUP(Y18,Tabelas!B:D,3,0),0),\"\")","v":0},{"$f":"IF(A18<>\"\",IFERROR(VLOOKUP(Z18,Tabelas!B:D,3,0),0),\"\")","v":6},{"$f":"IF(A18<>\"\",IFERROR(VLOOKUP(AA18,Tabelas!B:D,3,0),0),\"\")","v":0},{"$f":"IF(A18<>\"\",IFERROR(VLOOKUP(AB18,Tabelas!B:D,3,0),0),\"\")","v":0},{"$f":"IF(A18<>\"\",IFERROR(VLOOKUP(AC18,Tabelas!B:D,3,0),0),\"\")","v":0},{"$f":"IF(A18<>\"\",IFERROR(VLOOKUP(AD18,Tabelas!B:D,3,0),0),\"\")","v":6},{"$f":"IF(A18<>\"\",IFERROR(VLOOKUP(AE18,Tabelas!B:D,3,0),0),\"\")","v":0},{"$f":"IF(A18<>\"\",IFERROR(VLOOKUP(AF18,Tabelas!B:D,3,0),0),\"\")","v":0},{"$f":"IF(A18<>\"\",IFERROR(VLOOKUP(AG18,Tabelas!B:D,3,0),0),\"\")","v":6},{"$f":"IF(A18<>\"\",IFERROR(VLOOKUP(AH18,Tabelas!B:D,3,0),0),\"\")","v":0},{"$f":"IF(A18<>\"\",IFERROR(VLOOKUP(AI18,Tabelas!B:D,3,0),0),\"\")","v":0},{"$f":"IF(A18<>\"\",IFERROR(VLOOKUP(AJ18,Tabelas!B:D,3,0),0),\"\")","v":0},{"$f":"IF(A18<>\"\",IFERROR(VLOOKUP(AK18,Tabelas!B:D,3,0),0),\"\")","v":0},{"$f":"IF(A18<>\"\",IFERROR(VLOOKUP(AL18,Tabelas!B:D,3,0),0),\"\")","v":0},{"$f":"IF(A18<>\"\",IFERROR(VLOOKUP(AM18,Tabelas!B:D,3,0),0),\"\")","v":0},{"$f":"IF(A18<>\"\",IFERROR(VLOOKUP(AN18,Tabelas!B:D,3,0),0),\"\")","v":6},{"$f":"IF(A18<>\"\",IFERROR(VLOOKUP(AO18,Tabelas!B:D,3,0),0),\"\")","v":0},{"$f":"IF(A18<>\"\",IFERROR(VLOOKUP(AP18,Tabelas!B:D,3,0),0),\"\")","v":0},{"$f":"IF(A18<>\"\",IFERROR(VLOOKUP(AQ18,Tabelas!B:D,3,0),0),\"\")","v":0},42,0,0,0,0,0,0,0]
[]
[null,null,null,null,null,null,null,null,null,null,null,null,null,null,null,null,null,null,null,null,null,null,null,null,null,null,null,null,null,null,null,null,null,null,null,null,null,null,null,null,null,null,null,{"$f":"IF(A20<>\"\",IFERROR(VLOOKUP(M20,Tabelas!B:D,3,0),0),\"\")","v":""},{"$f":"IF(A20<>\"\",IFERROR(VLOOKUP(N20,Tabelas!B:D,3,0),0),\"\")","v":""},{"$f":"IF(A20<>\"\",IFERROR(VLOOKUP(O20,Tabelas!B:D,3,0),0),\"\")","v":""},{"$f":"IF(A20<>\"\",IFERROR(VLOOKUP(P20,Tabelas!B:D,3,0),0),\"\")","v":""},{"$f":"IF(A20<>\"\",IFERROR(VLOOKUP(Q20,Tabelas!B:D,3,0),0),\"\")","v":""},{"$f":"IF(A20<>\"\",IFERROR(VLOOKUP(R20,Tabelas!B:D,3,0),0),\"\")","v":""},{"$f":"IF(A20<>\"\",IFERROR(VLOOKUP(S20,Tabelas!B:D,3,0),0),\"\")","v":""},{"$f":"IF(A20<>\"\",IFERROR(VLOOKUP(T20,Tabelas!B:D,3,0),0),\"\")","v":""},{"$f":"IF(A20<>\"\",IFERROR(VLOOKUP(U20,Tabelas!B:D,3,0),0),\"\")","v":""},{"$f":"IF(A20<>\"\",IFERROR(VLOOKUP(V20,Tabelas!B:D,3,0),0),\"\")","v":""},{"$f":"IF(A20<>\"\",IFERROR(VLOOKUP(W20,Tabelas!B:D,3,0),0),\"\")","v":""},{"$f":"IF(A20<>\"\",IFERROR(VLOOKUP(X20,Tabelas!B:D,3,0),0),\"\")","v":""},{"$f":"IF(A20<>\"\",IFERROR(VLOOKUP(Y20,Tabelas!B:D,3,0),0),\"\")","v":""},{"$f":"IF(A20<>\"\",IFERROR(VLOOKUP(Z20,Tabelas!B:D,3,0),0),\"\")","v":""},{"$f":"IF(A20<>\"\",IFERROR(VLOOKUP(AA20,Tabelas!B:D,3,0),0),\"\")","v":""},{"$f":"IF(A20<>\"\",IFERROR(VLOOKUP(AB20,Tabelas!B:D,3,0),0),\"\")","v":""},{"$f":"IF(A20<>\"\",IFERROR(VLOOKUP(AC20,Tabelas!B:D,3,0),0),\"\")","v":""},{"$f":"IF(A20<>\"\",IFERROR(VLOOKUP(AD20,Tabelas!B:D,3,0),0),\"\")","v":""},{"$f":"IF(A20<>\"\",IFERROR(VLOOKUP(AE20,Tabelas!B:D,3,0),0),\"\")","v":""},{"$f":"IF(A20<>\"\",IFERROR(VLOOKUP(AF20,Tabelas!B:D,3,0),0),\"\")","v":""},{"$f":"IF(A20<>\"\",IFERROR(VLOOKUP(AG20,Tabelas!B:D,3,0),0),\"\")","v":""},{"$f":"IF(A20<>\"\",IFERROR(VLOOKUP(AH20,Tabelas!B:D,3,0),0),\"\")","v":""},{"$f":"IF(A20<>\"\",IFERROR(VLOOKUP(AI20,Tabelas!B:D,3,0),0),\"\")","v":""},{"$f":"IF(A20<>\"\",IFERROR(VLOOKUP(AJ20,Tabelas!B:D,3,0),0),\"\")","v":""},{"$f":"IF(A20<>\"\",IFERROR(VLOOKUP(AK20,Tabelas!B:D,3,0),0),\"\")","v":""},{"$f":"IF(A20<>\"\",IFERROR(VLOOKUP(AL20,Tabelas!B:D,3,0),0),\"\")","v":""},{"$f":"IF(A20<>\"\",IFERROR(VLOOKUP(AM20,Tabelas!B:D,3,0),0),\"\")","v":""},{"$f":"IF(A20<>\"\",IFERROR(VLOOKUP(AN20,Tabelas!B:D,3,0),0),\"\")","v":""},{"$f":"IF(A20<>\"\",IFERROR(VLOOKUP(AO20,Tabelas!B:D,3,0),0),\"\")","v":""},{"$f":"IF(A20<>\"\",IFERROR(VLOOKUP(AP20,Tabelas!B:D,3,0),0),\"\")","v":""},{"$f":"IF(A20<>\"\",IFERROR(VLOOKUP(AQ20,Tabelas!B:D,3,0),0),\"\")","v":""},{"$f":"IF(AND(A20<>\"\",E20=\"Ebserh\"),SUM(AR20:BV20)+COUNTIF(M20:AQ20,\"N*\")+COUNTIF(M20:AQ20,\"DN*\"),IF(AND(A20<>\"\",E20<>\"Ebserh\"),SUM(AR20:BV20),\"\"))","v":""},{"$f":"IF(A20<>\"\",COUNTIF(M20:AQ20,\"LM\")+COUNTIF(M20:AQ20,\"L\")+COUNTIF(M20:AQ20,\"LP\"),\"\")","v":""},{"$f":"IF(A20<>\"\",COUNTIF(M20:AQ20,\"AB*\"),\"\")","v":""},{"$f":"IF(A20<>\"\",COUNTIF(M20:AQ20,\"FE\"),\"\")","v":""},{"$f":"IF(A20<>\"\",COUNTIF(M20:AQ20,\"LC\"),\"\")","v":""},{"$f":"IF(A20<>\"\",COUNTIF(M20:AQ20,\"CH*\"),\"\")","v":""},{"$f":"IF(A20<>\"\",COUNTIF(M20:AQ20,\"AF1\")+COUNTIF(M20:AQ20,\"AF2\")+COUNTIF(M20:AQ20,\"AF3\")+COUNTIF(M20:AQ20,\"AF4\")+COUNTIF(M20:AQ20,\"AF5\")+COUNTIF(M20:AQ20,\"AF6\")+COUNTIF(M20:AQ20,\"AF7\")+COUNTIF(M20:AQ20,\"AF8\")+COUNTIF(M20:AQ20,\"AF9\")+COUNTIF(M20:AQ20,\"AF10\")+COUNTIF(M20:AQ20,\"AF11\")+COUNTIF(M20:AQ20,\"AF12\")+COUNTIF(M20:AQ20,\"AF13\")+COUNTIF(M20:AQ20,\"AF14\"),\"\")","v":""},{"$f":"IF(A20<>\"\",COUNTIF(M20:AQ20,\"CH*\")+COUNTIF(M20:AQ20,\"L\")+COUNTIF(M20:AQ20,\"LM\")+COUNTIF(M20:AQ20,\"LP\")+COUNTIF(M20:AQ20,\"LC\")+COUNTIF(M20:AQ20,\"AB*\")+COUNTIF(M20:AQ20,\"AF1\")+COUNTIF(M20:AQ20,\"AF2\")+COUNTIF(M20:AQ20,\"AF3\")+COUNTIF(M20:AQ20,\"AF4\")+COUNTIF(M20:AQ20,\"AF5\")+COUNTIF(M20:AQ20,\"AF6\")+COUNTIF(M20:AQ20,\"AF7\")+COUNTIF(M20:AQ20,\"AF8\")+COUNTIF(M20:AQ20,\"AF9\")+COUNTIF(M20:AQ20,\"AF10\")+COUNTIF(M20:AQ20,\"AF11\")+COUNTIF(M20:AQ20,\"AF12\")+COUNTIF(M20:AQ20,\"AF13\")+COUNTIF(M20:AQ20,\"AF14\")+COUNTIF(M20:AQ20,\"RC\")+COUNTIF(M20:AQ20,\"FO\")+COUNTIF(M20:AQ20,\"FE\"),\"\")","v":""}]
["PLANTÃO",null,null,null,null,null,null,null,null,null,null,null,null,null,null,null,null,null,null,null,null,null,null,null,null,null,null,null,null,null,null,null,null,null,null,null,null,null,null,null,null,null,null,{"$f":"IF(A21<>\"\",IFERROR(VLOOKUP(M21,Tabelas!B:D,3,0),0),\"\")","v":0},{"$f":"IF(A21<>\"\",IFERROR(VLOOKUP(N21,Tabelas!B:D,3,0),0),\"\")","v":0},{"$f":"IF(A21<>\"\",IFERROR(VLOOKUP(O21,Tabelas!B:D,3,0),0),\"\")","v":0},{"$f":"IF(A21<>\"\",IFERROR(VLOOKUP(P21,Tabelas!B:D,3,0),0),\"\")","v":0},{"$f":"IF(A21<>\"\",IFERROR(VLOOKUP(Q21,Tabelas!B:D,3,0),0),\"\")","v":0},{"$f":"IF(A21<>\"\",IFERROR(VLOOKUP(R21,Tabelas!B:D,3,0),0),\"\")","v":0},{"$f":"IF(A21<>\"\",IFERROR(VLOOKUP(S21,Tabelas!B:D,3,0),0),\"\")","v":0},{"$f":"IF(A21<>\"\",IFERROR(VLOOKUP(T21,Tabelas!B:D,3,0),0),\"\")","v":0},{"$f":"IF(A21<>\"\",IFERROR(VLOOKUP(U21,Tabelas!B:D,3,0),0),\"\")","v":0},{"$f":"IF(A21<>\"\",IFERROR(VLOOKUP(V21,Tabelas!B:D,3,0),0),\"\")","v":0},{"$f":"IF(A21<>\"\",IFERROR(VLOOKUP(W21,Tabelas!B:D,3,0),0),\"\")","v":0},{"$f":"IF(A21<>\"\",IFERROR(VLOOKUP(X21,Tabelas!B:D,3,0),0),\"\")","v":0},{"$f":"IF(A21<>\"\",IFERROR(VLOOKUP(Y21,Tabelas!B:D,3,0),0),\"\")","v":0},{"$f":"IF(A21<>\"\",IFERROR(VLOOKUP(Z21,Tabelas!B:D,3,0),0),\"\")","v":0},{"$f":"IF(A21<>\"\",IFERROR(VLOOKUP(AA21,Tabelas!B:D,3,0),0),\"\")","v":0},{"$f":"IF(A21<>\"\",IFERROR(VLOOKUP(AB21,Tabelas!B:D,3,0),0),\"\")","v":0},{"$f":"IF(A21<>\"\",IFERROR(VLOOKUP(AC21,Tabelas!B:D,3,0),0),\"\")","v":0},{"$f":"IF(A21<>\"\",IFERROR(VLOOKUP(AD21,Tabelas!B:D,3,0),0),\"\")","v":0},{"$f":"IF(A21<>\"\",IFERROR(VLOOKUP(AE21,Tabelas!B:D,3,0),0),\"\")","v":0},{"$f":"IF(A21<>\"\",IFERROR(VLOOKUP(AF21,Tabelas!B:D,3,0),0),\"\")","v":0},{"$f":"IF(A21<>\"\",IFERROR(VLOOKUP(AG21,Tabelas!B:D,3,0),0),\"\")","v":0},{"$f":"IF(A21<>\"\",IFERROR(VLOOKUP(AH21,Tabelas!B:D,3,0),0),\"\")","v":0},{"$f":"IF(A21<>\"\",IFERROR(VLOOKUP(AI21,Tabelas!B:D,3,0),0),\"\")","v":0},{"$f":"IF(A21<>\"\",IFERROR(VLOOKUP(AJ21,Tabelas!B:D,3,0),0),\"\")","v":0},{"$f":"IF(A21<>\"\",IFERROR(VLOOKUP(AK21,Tabelas!B:D,3,0),0),\"\")","v":0},{"$f":"IF(A21<>\"\",IFERROR(VLOOKUP(AL21,Tabelas!B:D,3,0),0),\"\")","v":0},{"$f":"IF(A21<>\"\",IFERROR(VLOOKUP(AM21,Tabelas!B:D,3,0),0),\"\")","v":0},{"$f":"IF(A21<>\"\",IFERROR(VLOOKUP(AN21,Tabelas!B:D,3,0),0),\"\")","v":0},{"$f":"IF(A21<>\"\",IFERROR(VLOOKUP(AO21,Tabelas!B:D,3,0),0),\"\")","v":0},{"$f":"IF(A21<>\"\",IFERROR(VLOOKUP(AP21,Tabelas!B:D,3,0),0),\"\")","v":0},{"$f":"IF(A21<>\"\",IFERROR(VLOOKUP(AQ21,Tabelas!B:D,3,0),0),\"\")","v":0},0,0,0,0,0,0,0,0]
["Air Luis Zambom",1824250,null,"ME","RJU",40,null,null,null,null,null,null,null,null,null,null,null,null,"N10","N10",null,null,null,null,null,null,null,null,"N10",null,null,null,null,"D8",null,null,null,null,"N10",null,"D8",null,null,{"$f":"IF(A22<>\"\",IFERROR(VLOOKUP(M22,Tabelas!B:D,3,0),0),\"\")","v":0},{"$f":"IF(A22<>\"\",IFERROR(VLOOKUP(N22,Tabelas!B:D,3,0),0),\"\")","v":0},{"$f":"IF(A22<>\"\",IFERROR(VLOOKUP(O22,Tabelas!B:D,3,0),0),\"\")","v":0},{"$f":"IF(A22<>\"\",IFERROR(VLOOKUP(P22,Tabelas!B:D,3,0),0),\"\")","v":0},{"$f":"IF(A22<>\"\",IFERROR(VLOOKUP(Q22,Tabelas!B:D,3,0),0),\"\")","v":0},{"$f":"IF(A22<>\"\",IFERROR(VLOOKUP(R22,Tabelas!B:D,3,0),0),\"\")","v":0},{"$f":"IF(A22<>\"\",IFERROR(VLOOKUP(S22,Tabelas!B:D,3,0),0),\"\")","v":12},{"$f":"IF(A22<>\"\",IFERROR(VLOOKUP(T22,Tabelas!B:D,3,0),0),\"\")","v":12},{"$f":"IF(A22<>\"\",IFERROR(VLOOKUP(U22,Tabelas!B:D,3,0),0),\"\")","v":0},{"$f":"IF(A22<>\"\",IFERROR(VLOOKUP(V22,Tabelas!B:D,3,0),0),\"\")","v":0},{"$f":"IF(A22<>\"\",IFERROR(VLOOKUP(W22,Tabelas!B:D,3,0),0),\"\")","v":0},{"$f":"IF(A22<>\"\",IFERROR(VLOOKUP(X22,Tabelas!B:D,3,0),0),\"\")","v":0},{"$f":"IF(A22<>\"\",IFERROR(VLOOKUP(Y22,Tabelas!B:D,3,0),0),\"\")","v":0},{"$f":"IF(A22<>\"\",IFERROR(VLOOKUP(Z22,Tabelas!B:D,3,0),0),\"\")","v":0},{"$f":"IF(A22<>\"\",IFERROR(VLOOKUP(AA22,Tabelas!B:D,3,0),0),\"\")","v":0},{"$f":"IF(A22<>\"\",IFERROR(VLOOKUP(AB22,Tabelas!B:D,3,0),0),\"\")","v":0},{"$f":"IF(A22<>\"\",IFERROR(VLOOKUP(AC22,Tabelas!B:D,3,0),0),\"\")","v":12},{"$f":"IF(A22<>\"\",IFERROR(VLOOKUP(AD22,Tabelas!B:D,3,0),0),\"\")","v":0},{"$f":"IF(A22<>\"\",IFERROR(VLOOKUP(AE22,Tabelas!B:D,3,0),0),\"\")","v":0},{"$f":"IF(A22<>\"\",IFERROR(VLOOKUP(AF22,Tabelas!B:D,3,0),0),\"\")","v":0},{"$f":"IF(A22<>\"\",IFERROR(VLOOKUP(AG22,Tabelas!B:D,3,0),0),\"\")","v":0},{"$f":"IF(A22<>\"\",IFERROR(VLOOKUP(AH22,Tabelas!B:D,3,0),0),\"\")","v":12},{"$f":"IF(A22<>\"\",IFERROR(VLOOKUP(AI22,Tabelas!B:D,3,0),0),\"\")","v":0},{"$f":"IF(A22<>\"\",IFERROR(VLOOKUP(AJ22,Tabelas!B:D,3,0),0),\"\")","v":0},{"$f":"IF(A22<>\"\",IFERROR(VLOOKUP(AK22,Tabelas!B:D,3,0),0),\"\")","v":0},{"$f":"IF(A22<>\"\",IFERROR(VLOOKUP(AL22,Tabelas!B:D,3,0),0),\"\")","v":0},{"$f":"IF(A22<>\"\",IFERROR(VLOOKUP(AM22,Tabelas!B:D,3,0),0),\"\")","v":12},{"$f":"IF(A22<>\"\",IFERROR(VLOOKUP(AN22,Tabelas!B:D,3,0),0),\"\")","v":0},{"$f":"IF(A22<>\"\",IFERROR(VLOOKUP(AO22,Tabelas!B:D,3,0),0),\"\")","v":12},{"$f":"IF(A22<>\"\",IFERROR(VLOOKUP(AP22,Tabelas!B:D,3,0),0),\"\")","v":0},{"$f":"IF(A22<>\"\",IFERROR(VLOOKUP(AQ22,Tabelas!B:D,3,0),0),\"\")","v":0},72,0,0,0,0,0,0,0]
["Aline Varela Dias",1331684,null,"ME","RJU",20,null,null,null,null,null,null,"D8",null,null,null,null,"N10",null,null,null,null,null,null,null,"N10",null,null,null,null,null,null,null,"N10",null,null,null,"N10",null,null,"N10",null,null,{"$f":"IF(A23<>\"\",IFERROR(VLOOKUP(M23,Tabelas!B:D,3,0),0),\"\")","v":12},{"$f":"IF(A23<>\"\",IFERROR(VLOOKUP(N23,Tabelas!B:D,3,0),0),\"\")","v":0},{"$f":"IF(A23<>\"\",IFERROR(VLOOKUP(O23,Tabelas!B:D,3,0),0),\"\")","v":0},{"$f":"IF(A23<>\"\",IFERROR(VLOOKUP(P23,Tabelas!B:D,3,0),0),\"\")","v":0},{"$f":"IF(A23<>\"\",IFERROR(VLOOKUP(Q23,Tabelas!B:D,3,0),0),\"\")","v":0},{"$f":"IF(A23<>\"\",IFERROR(VLOOKUP(R23,Tabelas!B:D,3,0),0),\"\")","v":12},{"$f":"IF(A23<>\"\",IFERROR(VLOOKUP(S23,Tabelas!B:D,3,0),0),\"\")","v":0},{"$f":"IF(A23<>\"\",IFERROR(VLOOKUP(T23,Tabelas!B:D,3,0),0),\"\")","v":0},{"$f":"IF(A23<>\"\",IFERROR(VLOOKUP(U23,Tabelas!B:D,3,0),0),\"\")","v":0},{"$f":"IF(A23<>\"\",IFERROR(VLOOKUP(V23,Tabelas!B:D,3,0),0),\"\")","v":0},{"$f":"IF(A23<>\"\",IFERROR(VLOOKUP(W23,Tabelas!B:D,3,0),0),\"\")","v":0},{"$f":"IF(A23<>\"\",IFERROR(VLOOKUP(X23,Tabelas!B:D,3,0),0),\"\")","v":0},{"$f":"IF(A23<>\"\",IFERROR(VLOOKUP(Y23,Tabelas!B:D,3,0),0),\"\")","v":0},{"$f":"IF(A23<>\"\",IFERROR(VLOOKUP(Z23,Tabelas!B:D,3,0),0),\"\")","v":12},{"$f":"IF(A23<>\"\",IFERROR(VLOOKUP(AA23,Tabelas!B:D,3,0),0),\"\")","v":0},{"$f":"IF(A23<>\"\",IFERROR(VLOOKUP(AB23,Tabelas!B:D,3,0),0),\"\")","v":0},{"$f":"IF(A23<>\"\",IFERROR(VLOOKUP(AC23,Tabelas!B:D,3,0),0),\"\")","v":0},{"$f":"IF(A23<>\"\",IFERROR(VLOOKUP(AD23,Tabelas!B:D,3,0),0),\"\")","v":0},{"$f":"IF(A23<>\"\",IFERROR(VLOOKUP(AE23,Tabelas!B:D,3,0),0),\"\")","v":0},{"$f":"IF(A23<>\"\",IFERROR(VLOOKUP(AF23,Tabelas!B:D,3,0),0),\"\")","v":0},{"$f":"IF(A23<>\"\",IFERROR(VLOOKUP(AG23,Tabelas!B:D,3,0),0),\"\")","v":0},{"$f":"IF(A23<>\"\",IFERROR(VLOOKUP(AH23,Tabelas!B:D,3,0),0),\"\")","v":12},{"$f":"IF(A23<>\"\",IFERROR(VLOOKUP(AI23,Tabelas!B:D,3,0),0),\"\")","v":0},{"$f":"IF(A23<>\"\",IFERROR(VLOOKUP(AJ23,Tabelas!B:D,3,0),0),\"\")","v":0},{"$f":"IF(A23<>\"\",IFERROR(VLOOKUP(AK23,Tabelas!B:D,3,0),0),\"\")","v":0},{"$f":"IF(A23<>\"\",IFERROR(VLOOKUP(AL23,Tabelas!B:D,3,0),0),\"\")","v":12},{"$f":"IF(A23<>\"\",IFERROR(VLOOKUP(AM23,Tabelas!B:D,3,0),0),\"\")","v":0},{"$f":"IF(A23<>\"\",IFERROR(VLOOKUP(AN23,Tabelas!B:D,3,0),0),\"\")","v":0},{"$f":"IF(A23<>\"\",IFERROR(VLOOKUP(AO23,Tabelas!B:D,3,0),0),\"\")","v":12},{"$f":"IF(A23<>\"\",IFERROR(VLOOKUP(AP23,Tabelas!B:D,3,0),0),\"\")","v":0},{"$f":"IF(A23<>\"\",IFERROR(VLOOKUP(AQ23,Tabelas!B:D,3,0),0),\"\")","v":0},72,0,0,0,0,0,0,0]
["Anelise Schaeffer da Silveira",1919390,null,"ME","EBSERH",24,null,null,null,null,null,null,null,null,null,null,null,null,"N10","N10",null,null,"N10",null,"N10",null,null,"DN6",null,null,null,null,null,null,null,null,null,null,"N10",null,"D8",null,null,{"$f":"IF(A24<>\"\",IFERROR(VLOOKUP(M24,Tabelas!B:D,3,0),0),\"\")","v":0},{"$f":"IF(A24<>\"\",IFERROR(VLOOKUP(N24,Tabelas!B:D,3,0),0),\"\")","v":0},{"$f":"IF(A24<>\"\",IFERROR(VLOOKUP(O24,Tabelas!B:D,3,0),0),\"\")","v":0},{"$f":"IF(A24<>\"\",IFERROR(VLOOKUP(P24,Tabelas!B:D,3,0),0),\"\")","v":0},{"$f":"IF(A24<>\"\",IFERROR(VLOOKUP(Q24,Tabelas!B:D,3,0),0),\"\")","v":0},{"$f":"IF(A24<>\"\",IFERROR(VLOOKUP(R24,Tabelas!B:D,3,0),0),\"\")","v":0},{"$f":"IF(A24<>\"\",IFERROR(VLOOKUP(S24,Tabelas!B:D,3,0),0),\"\")","v":12},{"$f":"IF(A24<>\"\",IFERROR(VLOOKUP(T24,Tabelas!B:D,3,0),0),\"\")","v":12},{"$f":"IF(A24<>\"\",IFERROR(VLOOKUP(U24,Tabelas!B:D,3,0),0),\"\")","v":0},{"$f":"IF(A24<>\"\",IFERROR(VLOOKUP(V24,Tabelas!B:D,3,0),0),\"\")","v":0},{"$f":"IF(A24<>\"\",IFERROR(VLOOKUP(W24,Tabelas!B:D,3,0),0),\"\")","v":12},{"$f":"IF(A24<>\"\",IFERROR(VLOOKUP(X24,Tabelas!B:D,3,0),0),\"\")","v":0},{"$f":"IF(A24<>\"\",IFERROR(VLOOKUP(Y24,Tabelas!B:D,3,0),0),\"\")","v":12},{"$f":"IF(A24<>\"\",IFERROR(VLOOKUP(Z24,Tabelas!B:D,3,0),0),\"\")","v":0},{"$f":"IF(A24<>\"\",IFERROR(VLOOKUP(AA24,Tabelas!B:D,3,0),0),\"\")","v":0},{"$f":"IF(A24<>\"\",IFERROR(VLOOKUP(AB24,Tabelas!B:D,3,0),0),\"\")","v":24},{"$f":"IF(A24<>\"\",IFERROR(VLOOKUP(AC24,Tabelas!B:D,3,0),0),\"\")","v":0},{"$f":"IF(A24<>\"\",IFERROR(VLOOKUP(AD24,Tabelas!B:D,3,0),0),\"\")","v":0},{"$f":"IF(A24<>\"\",IFERROR(VLOOKUP(AE24,Tabelas!B:D,3,0),0),\"\")","v":0},{"$f":"IF(A24<>\"\",IFERROR(VLOOKUP(AF24,Tabelas!B:D,3,0),0),\"\")","v":0},{"$f":"IF(A24<>\"\",IFERROR(VLOOKUP(AG24,Tabelas!B:D,3,0),0),\"\")","v":0},{"$f":"IF(A24<>\"\",IFERROR(VLOOKUP(AH24,Tabelas!B:D,3,0),0),\"\")","v":0},{"$f":"IF(A24<>\"\",IFERROR(VLOOKUP(AI24,Tabelas!B:D,3,0),0),\"\")","v":0},{"$f":"IF(A24<>\"\",IFERROR(VLOOKUP(AJ24,Tabelas!B:D,3,0),0),\"\")","v":0},{"$f":"IF(A24<>\"\",IFERROR(VLOOKUP(AK24,Tabelas!B:D,3,0),0),\"\")","v":0},{"$f":"IF(A24<>\"\",IFERROR(VLOOKUP(AL24,Tabelas!B:D,3,0),0),\"\")","v":0},{"$f":"IF(A24<>\"\",IFERROR(VLOOKUP(AM24,Tabelas!B:D,3,0),0),\"\")","v":12},{"$f":"IF(A24<>\"\",IFERROR(VLOOKUP(AN24,Tabelas!B:D,3,0),0),\"\")","v":0},{"$f":"IF(A24<>\"\",IFERROR(VLOOKUP(AO24,Tabelas!B:D,3,0),0),\"\")","v":12},{"$f":"IF(A24<>\"\",IFERROR(VLOOKUP(AP24,Tabelas!B:D,3,0),0),\"\")","v":0},{"$f":"IF(A24<>\"\",IFERROR(VLOOKUP(AQ24,Tabelas!B:D,3,0),0),\"\")","v":0},102,0,0,0,0,0,0,0]
["Duane José Milioli",1824201,null,"ME","RJU",20,null,null,null,null,null,null,null,null,"N10",null,null,null,null,"D8",null,"N10",null,null,null,null,null,"N10",null,"N10",null,null,null,null,null,null,"N10",null,null,null,null,null,null,{"$f":"IF(A25<>\"\",IFERROR(VLOOKUP(M25,Tabelas!B:D,3,0),0),\"\")","v":0},{"$f":"IF(A25<>\"\",IFERROR(VLOOKUP(N25,Tabelas!B:D,3,0),0),\"\")","v":0},{"$f":"IF(A25<>\"\",IFERROR(VLOOKUP(O25,Tabelas!B:D,3,0),0),\"\")","v":12},{"$f":"IF(A25<>\"\",IFERROR(VLOOKUP(P25,Tabelas!B:D,3,0),0),\"\")","v":0},{"$f":"IF(A25<>\"\",IFERROR(VLOOKUP(Q25,Tabelas!B:D,3,0),0),\"\")","v":0},{"$f":"IF(A25<>\"\",IFERROR(VLOOKUP(R25,Tabelas!B:D,3,0),0),\"\")","v":0},{"$f":"IF(A25<>\"\",IFERROR(VLOOKUP(S25,Tabelas!B:D,3,0),0),\"\")","v":0},{"$f":"IF(A25<>\"\",IFERROR(VLOOKUP(T25,Tabelas!B:D,3,0),0),\"\")","v":12},{"$f":"IF(A25<>\"\",IFERROR(VLOOKUP(U25,Tabelas!B:D,3,0),0),\"\")","v":0},{"$f":"IF(A25<>\"\",IFERROR(VLOOKUP(V25,Tabelas!B:D,3,0),0),\"\")","v":12},{"$f":"IF(A25<>\"\",IFERROR(VLOOKUP(W25,Tabelas!B:D,3,0),0),\"\")","v":0},{"$f":"IF(A25<>\"\",IFERROR(VLOOKUP(X25,Tabelas!B:D,3,0),0),\"\")","v":0},{"$f":"IF(A25<>\"\",IFERROR(VLOOKUP(Y25,Tabelas!B:D,3,0),0),\"\")","v":0},{"$f":"IF(A25<>\"\",IFERROR(VLOOKUP(Z25,Tabelas!B:D,3,0),0),\"\")","v":0},{"$f":"IF(A25<>\"\",IFERROR(VLOOKUP(AA25,Tabelas!B:D,3,0),0),\"\")","v":0},{"$f":"IF(A25<>\"\",IFERROR(VLOOKUP(AB25,Tabelas!B:D,3,0),0),\"\")","v":12},{"$f":"IF(A25<>\"\",IFERROR(VLOOKUP(AC25,Tabelas!B:D,3,0),0),\"\")","v":0},{"$f":"IF(A25<>\"\",IFERROR(VLOOKUP(AD25,Tabelas!B:D,3,0),0),\"\")","v":12},{"$f":"IF(A25<>\"\",IFERROR(VLOOKUP(AE25,Tabelas!B:D,3,0),0),\"\")","v":0},{"$f":"IF(A25<>\"\",IFERROR(VLOOKUP(AF25,Tabelas!B:D,3,0),0),\"\")","v":0},{"$f":"IF(A25<>\"\",IFERROR(VLOOKUP(AG25,Tabelas!B:D,3,0),0),\"\")","v":0},{"$f":"IF(A25<>\"\",IFERROR(VLOOKUP(AH25,Tabelas!B:D,3,0),0),\"\")","v":0},{"$f":"IF(A25<>\"\",IFERROR(VLOOKUP(AI25,Tabelas!B:D,3,0),0),\"\")","v":0},{"$f":"IF(A25<>\"\",IFERROR(VLOOKUP(AJ25,Tabelas!B:D,3,0),0),\"\")","v":0},{"$f":"IF(A25<>\"\",IFERROR(VLOOKUP(AK25,Tabelas!B:D,3,0),0),\"\")","v":12},{"$f":"IF(A25<>\"\",IFERROR(VLOOKUP(AL25,Tabelas!B:D,3,0),0),\"\")","v":0},{"$f":"IF(A25<>\"\",IFERROR(VLOOKUP(AM25,Tabelas!B:D,3,0),0),\"\")","v":0},{"$f":"IF(A25<>\"\",IFERROR(VLOOKUP(AN25,Tabelas!B:D,3,0),0),\"\")","v":0},{"$f":"IF(A25<>\"\",IFERROR(VLOOKUP(AO25,Tabelas!B:D,3,0),0),\"\")","v":0},{"$f":"IF(A25<>\"\",IFERROR(VLOOKUP(AP25,Tabelas!B:D,3,0),0),\"\")","v":0},{"$f":"IF(A25<>\"\",IFERROR(VLOOKUP(AQ25,Tabelas!B:D,3,0),0),\"\")","v":0},72,0,0,0,0,0,0,0]
["Eduardo Jardim Berbigier",2604323,null,"ME","RJU",20,null,null,null,null,null,null,"N10",null,null,"N10",null,null,null,null,null,null,null,null,"N10",null,"D8",null,null,null,null,null,"N10",null,"D8",null,null,null,null,null,null,null,null,{"$f":"IF(A26<>\"\",IFERROR(VLOOKUP(M26,Tabelas!B:D,3,0),0),\"\")","v":12},{"$f":"IF(A26<>\"\",IFERROR(VLOOKUP(N26,Tabelas!B:D,3,0),0),\"\")","v":0},{"$f":"IF(A26<>\"\",IFERROR(VLOOKUP(O26,Tabelas!B:D,3,0),0),\"\")","v":0},{"$f":"IF(A26<>\"\",IFERROR(VLOOKUP(P26,Tabelas!B:D,3,0),0),\"\")","v":12},{"$f":"IF(A26<>\"\",IFERROR(VLOOKUP(Q26,Tabelas!B:D,3,0),0),\"\")","v":0},{"$f":"IF(A26<>\"\",IFERROR(VLOOKUP(R26,Tabelas!B:D,3,0),0),\"\")","v":0},{"$f":"IF(A26<>\"\",IFERROR(VLOOKUP(S26,Tabelas!B:D,3,0),0),\"\")","v":0},{"$f":"IF(A26<>\"\",IFERROR(VLOOKUP(T26,Tabelas!B:D,3,0),0),\"\")","v":0},{"$f":"IF(A26<>\"\",IFERROR(VLOOKUP(U26,Tabelas!B:D,3,0),0),\"\")","v":0},{"$f":"IF(A26<>\"\",IFERROR(VLOOKUP(V26,Tabelas!B:D,3,0),0),\"\")","v":0},{"$f":"IF(A26<>\"\",IFERROR(VLOOKUP(W26,Tabelas!B:D,3,0),0),\"\")","v":0},{"$f":"IF(A26<>\"\",IFERROR(VLOOKUP(X26,Tabelas!B:D,3,0),0),\"\")","v":0},{"$f":"IF(A26<>\"\",IFERROR(VLOOKUP(Y26,Tabelas!B:D,3,0),0),\"\")","v":12},{"$f":"IF(A26<>\"\",IFERROR(VLOOKUP(Z26,Tabelas!B:D,3,0),0),\"\")","v":0},{"$f":"IF(A26<>\"\",IFERROR(VLOOKUP(AA26,Tabelas!B:D,3,0),0),\"\")","v":12},{"$f":"IF(A26<>\"\",IFERROR(VLOOKUP(AB26,Tabelas!B:D,3,0),0),\"\")","v":0},{"$f":"IF(A26<>\"\",IFERROR(VLOOKUP(AC26,Tabelas!B:D,3,0),0),\"\")","v":0},{"$f":"IF(A26<>\"\",IFERROR(VLOOKUP(AD26,Tabelas!B:D,3,0),0),\"\")","v":0},{"$f":"IF(A26<>\"\",IFERROR(VLOOKUP(AE26,Tabelas!B:D,3,0),0),\"\")","v":0},{"$f":"IF(A26<>\"\",IFERROR(VLOOKUP(AF26,Tabelas!B:D,3,0),0),\"\")","v":0},{"$f":"IF(A26<>\"\",IFERROR(VLOOKUP(AG26,Tabelas!B:D,3,0),0),\"\")","v":12},{"$f":"IF(A26<>\"\",IFERROR(VLOOKUP(AH26,Tabelas!B:D,3,0),0),\"\")","v":0},{"$f":"IF(A26<>\"\",IFERROR(VLOOKUP(AI26,Tabelas!B:D,3,0),0),\"\")","v":12},{"$f":"IF(A26<>\"\",IFERROR(VLOOKUP(AJ26,Tabelas!B:D,3,0),0),\"\")","v":0},{"$f":"IF(A26<>\"\",IFERROR(VLOOKUP(AK26,Tabelas!B:D,3,0),0),\"\")","v":0},{"$f":"IF(A26<>\"\",IFERROR(VLOOKUP(AL26,Tabelas!B:D,3,0),0),\"\")","v":0},{"$f":"IF(A26<>\"\",IFERROR(VLOOKUP(AM26,Tabelas!B:D,3,0),0),\"\")","v":0},{"$f":"IF(A26<>\"\",IFERROR(VLOOKUP(AN26,Tabelas!B:D,3,0),0),\"\")","v":0},{"$f":"IF(A26<>\"\",IFERROR(VLOOKUP(AO26,Tabelas!B:D,3,0),0),\"\")","v":0},{"$f":"IF(A26<>\"\",IFERROR(VLOOKUP(AP26,Tabelas!B:D,3,0),0),\"\")","v":0},{"$f":"IF(A26<>\"\",IFERROR(VLOOKUP(AQ26,Tabelas!B:D,3,0),0),\"\")","v":0},72,0,0,0,0,0,0,0]
["Fernanda Goss Fontanella",1200689,null,"ME","EBSERH",24,null,null,null,null,null,null,null,"D8","CH-12",null,null,null,null,null,null,null,null,"N10",null,null,"N10",null,null,"N10",null,"N10",null,null,"N10",null,"D8",null,null,null,null,null,null,{"$f":"IF(A27<>\"\",IFERROR(VLOOKUP(M27,Tabelas!B:D,3,0),0),\"\")","v":0},{"$f":"IF(A27<>\"\",IFERROR(VLOOKUP(N27,Tabelas!B:D,3,0),0),\"\")","v":12},{"$f":"IF(A27<>\"\",IFERROR(VLOOKUP(O27,Tabelas!B:D,3,0),0),\"\")","v":0},{"$f":"IF(A27<>\"\",IFERROR(VLOOKUP(P27,Tabelas!B:D,3,0),0),\"\")","v":0},{"$f":"IF(A27<>\"\",IFERROR(VLOOKUP(Q27,Tabelas!B:D,3,0),0),\"\")","v":0},{"$f":"IF(A27<>\"\",IFERROR(VLOOKUP(R27,Tabelas!B:D,3,0),0),\"\")","v":0},{"$f":"IF(A27<>\"\",IFERROR(VLOOKUP(S27,Tabelas!B:D,3,0),0),\"\")","v":0},{"$f":"IF(A27<>\"\",IFERROR(VLOOKUP(T27,Tabelas!B:D,3,0),0),\"\")","v":0},{"$f":"IF(A27<>\"\",IFERROR(VLOOKUP(U27,Tabelas!B:D,3,0),0),\"\")","v":0},{"$f":"IF(A27<>\"\",IFERROR(VLOOKUP(V27,Tabelas!B:D,3,0),0),\"\")","v":0},{"$f":"IF(A27<>\"\",IFERROR(VLOOKUP(W27,Tabelas!B:D,3,0),0),\"\")","v":0},{"$f":"IF(A27<>\"\",IFERROR(VLOOKUP(X27,Tabelas!B:D,3,0),0),\"\")","v":12},{"$f":"IF(A27<>\"\",IFERROR(VLOOKUP(Y27,Tabelas!B:D,3,0),0),\"\")","v":0},{"$f":"IF(A27<>\"\",IFERROR(VLOOKUP(Z27,Tabelas!B:D,3,0),0),\"\")","v":0},{"$f":"IF(A27<>\"\",IFERROR(VLOOKUP(AA27,Tabelas!B:D,3,0),0),\"\")","v":12},{"$f":"IF(A27<>\"\",IFERROR(VLOOKUP(AB27,Tabelas!B:D,3,0),0),\"\")","v":0},{"$f":"IF(A27<>\"\",IFERROR(VLOOKUP(AC27,Tabelas!B:D,3,0),0),\"\")","v":0},{"$f":"IF(A27<>\"\",IFERROR(VLOOKUP(AD27,Tabelas!B:D,3,0),0),\"\")","v":12},{"$f":"IF(A27<>\"\",IFERROR(VLOOKUP(AE27,Tabelas!B:D,3,0),0),\"\")","v":0},{"$f":"IF(A27<>\"\",IFERROR(VLOOKUP(AF27,Tabelas!B:D,3,0),0),\"\")","v":12},{"$f":"IF(A27<>\"\",IFERROR(VLOOKUP(AG27,Tabelas!B:D,3,0),0),\"\")","v":0},{"$f":"IF(A27<>\"\",IFERROR(VLOOKUP(AH27,Tabelas!B:D,3,0),0),\"\")","v":0},{"$f":"IF(A27<>\"\",IFERROR(VLOOKUP(AI27,Tabelas!B:D,3,0),0),\"\")","v":12},{"$f":"IF(A27<>\"\",IFERROR(VLOOKUP(AJ27,Tabelas!B:D,3,0),0),\"\")","v":0},{"$f":"IF(A27<>\"\",IFERROR(VLOOKUP(AK27,Tabelas!B:D,3,0),0),\"\")","v":12},{"$f":"IF(A27<>\"\",IFERROR(VLOOKUP(AL27,Tabelas!B:D,3,0),0),\"\")","v":0},{"$f":"IF(A27<>\"\",IFERROR(VLOOKUP(AM27,Tabelas!B:D,3,0),0),\"\")","v":0},{"$f":"IF(A27<>\"\",IFERROR(VLOOKUP(AN27,Tabelas!B:D,3,0),0),\"\")","v":0},{"$f":"IF(A27<>\"\",IFERROR(VLOOKUP(AO27,Tabelas!B:D,3,0),0),\"\")","v":0},{"$f":"IF(A27<>\"\",IFERROR(VLOOKUP(AP27,Tabelas!B:D,3,0),0),\"\")","v":0},{"$f":"IF(A27<>\"\",IFERROR(VLOOKUP(AQ27,Tabelas!B:D,3,0),0),\"\")","v":0},89,0,0,0,0,1,0,1]
["Irácino José Miranda Júnior",1006032,null,"ME","EBSERH",24,null,null,null,null,null,null,null,"D8",null,"N10",null,null,null,null,"N10",null,null,"N10",null,null,"D8",null,null,null,"N10",null,"N10",null,"N10",null,null,null,null,null,null,null,null,{"$f":"IF(A28<>\"\",IFERROR(VLOOKUP(M28,Tabelas!B:D,3,0),0),\"\")","v":0},{"$f":"IF(A28<>\"\",IFERROR(VLOOKUP(N28,Tabelas!B:D,3,0),0),\"\")","v":12},{"$f":"IF(A28<>\"\",IFERROR(VLOOKUP(O28,Tabelas!B:D,3,0),0),\"\")","v":0},{"$f":"IF(A28<>\"\",IFERROR(VLOOKUP(P28,Tabelas!B:D,3,0),0),\"\")","v":12},{"$f":"IF(A28<>\"\",IFERROR(VLOOKUP(Q28,Tabelas!B:D,3,0),0),\"\")","v":0},{"$f":"IF(A28<>\"\",IFERROR(VLOOKUP(R28,Tabelas!B:D,3,0),0),\"\")","v":0},{"$f":"IF(A28<>\"\",IFERROR(VLOOKUP(S28,Tabelas!B:D,3,0),0),\"\")","v":0},{"$f":"IF(A28<>\"\",IFERROR(VLOOKUP(T28,Tabelas!B:D,3,0),0),\"\")","v":0},{"$f":"IF(A28<>\"\",IFERROR(VLOOKUP(U28,Tabelas!B:D,3,0),0),\"\")","v":12},{"$f":"IF(A28<>\"\",IFERROR(VLOOKUP(V28,Tabelas!B:D,3,0),0),\"\")","v":0},{"$f":"IF(A28<>\"\",IFERROR(VLOOKUP(W28,Tabelas!B:D,3,0),0),\"\")","v":0},{"$f":"IF(A28<>\"\",IFERROR(VLOOKUP(X28,Tabelas!B:D,3,0),0),\"\")","v":12},{"$f":"IF(A28<>\"\",IFERROR(VLOOKUP(Y28,Tabelas!B:D,3,0),0),\"\")","v":0},{"$f":"IF(A28<>\"\",IFERROR(VLOOKUP(Z28,Tabelas!B:D,3,0),0),\"\")","v":0},{"$f":"IF(A28<>\"\",IFERROR(VLOOKUP(AA28,Tabelas!B:D,3,0),0),\"\")","v":12},{"$f":"IF(A28<>\"\",IFERROR(VLOOKUP(AB28,Tabelas!B:D,3,0),0),\"\")","v":0},{"$f":"IF(A28<>\"\",IFERROR(VLOOKUP(AC28,Tabelas!B:D,3,0),0),\"\")","v":0},{"$f":"IF(A28<>\"\",IFERROR(VLOOKUP(AD28,Tabelas!B:D,3,0),0),\"\")","v":0},{"$f":"IF(A28<>\"\",IFERROR(VLOOKUP(AE28,Tabelas!B:D,3,0),0),\"\")","v":12},{"$f":"IF(A28<>\"\",IFERROR(VLOOKUP(AF28,Tabelas!B:D,3,0),0),\"\")","v":0},{"$f":"IF(A28<>\"\",IFERROR(VLOOKUP(AG28,Tabelas!B:D,3,0),0),\"\")","v":12},{"$f":"IF(A28<>\"\",IFERROR(VLOOKUP(AH28,Tabelas!B:D,3,0),0),\"\")","v":0},{"$f":"IF(A28<>\"\",IFERROR(VLOOKUP(AI28,Tabelas!B:D,3,0),0),\"\")","v":12},{"$f":"IF(A28<>\"\",IFERROR(VLOOKUP(AJ28,Tabelas!B:D,3,0),0),\"\")","v":0},{"$f":"IF(A28<>\"\",IFERROR(VLOOKUP(AK28,Tabelas!B:D,3,0),0),\"\")","v":0},{"$f":"IF(A28<>\"\",IFERROR(VLOOKUP(AL28,Tabelas!B:D,3,0),0),\"\")","v":0},{"$f":"IF(A28<>\"\",IFERROR(VLOOKUP(AM28,Tabelas!B:D,3,0),0),\"\")","v":0},{"$f":"IF(A28<>\"\",IFERROR(VLOOKUP(AN28,Tabelas!B:D,3,0),0),\"\")","v":0},{"$f":"IF(A28<>\"\",IFERROR(VLOOKUP(AO28,Tabelas!B:D,3,0),0),\"\")","v":0},{"$f":"IF(A28<>\"\",IFERROR(VLOOKUP(AP28,Tabelas!B:D,3,0),0),\"\")","v":0},{"$f":"IF(A28<>\"\",IFERROR(VLOOKUP(AQ28,Tabelas!B:D,3,0),0),\"\")","v":0},102,0,0,0,0,0,0,0]
["João Luiz Henrique da Silveira",1704052,null,"ME","EBSERH",24,null,null,null,null,null,null,null,"N10",null,null,null,"N10",null,null,"D8",null,null,null,"FE","FE","FE","FE","FE","FE","FE","FE","FE","FE","FE","FE","FE","FE","FE","N10",null,null,null,{"$f":"IF(A29<>\"\",IFERROR(VLOOKUP(M29,Tabelas!B:D,3,0),0),\"\")","v":0},{"$f":"IF(A29<>\"\",IFERROR(VLOOKUP(N29,Tabelas!B:D,3,0),0),\"\")","v":12},{"$f":"IF(A29<>\"\",IFERROR(VLOOKUP(O29,Tabelas!B:D,3,0),0),\"\")","v":0},{"$f":"IF(A29<>\"\",IFERROR(VLOOKUP(P29,Tabelas!B:D,3,0),0),\"\")","v":0},{"$f":"IF(A29<>\"\",IFERROR(VLOOKUP(Q29,Tabelas!B:D,3,0),0),\"\")","v":0},{"$f":"IF(A29<>\"\",IFERROR(VLOOKUP(R29,Tabelas!B:D,3,0),0),\"\")","v":12},{"$f":"IF(A29<>\"\",IFERROR(VLOOKUP(S29,Tabelas!B:D,3,0),0),\"\")","v":0},{"$f":"IF(A29<>\"\",IFERROR(VLOOKUP(T29,Tabelas!B:D,3,0),0),\"\")","v":0},{"$f":"IF(A29<>\"\",IFERROR(VLOOKUP(U29,Tabelas!B:D,3,0),0),\"\")","v":12},{"$f":"IF(A29<>\"\",IFERROR(VLOOKUP(V29,Tabelas!B:D,3,0),0),\"\")","v":0},{"$f":"IF(A29<>\"\",IFERROR(VLOOKUP(W29,Tabelas!B:D,3,0),0),\"\")","v":0},{"$f":"IF(A29<>\"\",IFERROR(VLOOKUP(X29,Tabelas!B:D,3,0),0),\"\")","v":0},{"$f":"IF(A29<>\"\",IFERROR(VLOOKUP(Y29,Tabelas!B:D,3,0),0),\"\")","v":0},{"$f":"IF(A29<>\"\",IFERROR(VLOOKUP(Z29,Tabelas!B:D,3,0),0),\"\")","v":0},{"$f":"IF(A29<>\"\",IFERROR(VLOOKUP(AA29,Tabelas!B:D,3,0),0),\"\")","v":0},{"$f":"IF(A29<>\"\",IFERROR(VLOOKUP(AB29,Tabelas!B:D,3,0),0),\"\")","v":0},{"$f":"IF(A29<>\"\",IFERROR(VLOOKUP(AC29,Tabelas!B:D,3,0),0),\"\")","v":0},{"$f":"IF(A29<>\"\",IFERROR(VLOOKUP(AD29,Tabelas!B:D,3,0),0),\"\")","v":0},{"$f":"IF(A29<>\"\",IFERROR(VLOOKUP(AE29,Tabelas!B:D,3,0),0),\"\")","v":0},{"$f":"IF(A29<>\"\",IFERROR(VLOOKUP(AF29,Tabelas!B:D,3,0),0),\"\")","v":0},{"$f":"IF(A29<>\"\",IFERROR(VLOOKUP(AG29,Tabelas!B:D,3,0),0),\"\")","v":0},{"$f":"IF(A29<>\"\",IFERROR(VLOOKUP(AH29,Tabelas!B:D,3,0),0),\"\")","v":0},{"$f":"IF(A29<>\"\",IFERROR(VLOOKUP(AI29,Tabelas!B:D,3,0),0),\"\")","v":0},{"$f":"IF(A29<>\"\",IFERROR(VLOOKUP(AJ29,Tabelas!B:D,3,0),0),\"\")","v":0},{"$f":"IF(A29<>\"\",IFERROR(VLOOKUP(AK29,Tabelas!B:D,3,0),0),\"\")","v":0},{"$f":"IF(A29<>\"\",IFERROR(VLOOKUP(AL29,Tabelas!B:D,3,0),0),\"\")","v":0},{"$f":"IF(A29<>\"\",IFERROR(VLOOKUP(AM29,Tabelas!B:D,3,0),0),\"\")","v":0},{"$f":"IF(A29<>\"\",IFERROR(VLOOKUP(AN29,Tabelas!B:D,3,0),0),\"\")","v":12},{"$f":"IF(A29<>\"\",IFERROR(VLOOKUP(AO29,Tabelas!B:D,3,0),0),\"\")","v":0},{"$f":"IF(A29<>\"\",IFERROR(VLOOKUP(AP29,Tabelas!B:D,3,0),0),\"\")","v":0},{"$f":"IF(A29<>\"\",IFERROR(VLOOKUP(AQ29,Tabelas!B:D,3,0),0),\"\")","v":0},51,0,0,15,0,0,0,15]
["Joel de Andrade",1160444,null,"ME","RJU",40,null,null,null,null,null,null,"N10",null,null,null,null,"FE","FE","FE","FE","FE","FE","FE","FE","FE","FE","FE","FE","FE","FE","FE",null,null,"D8","N10",null,null,null,null,null,null,null,{"$f":"IF(A30<>\"\",IFERROR(VLOOKUP(M30,Tabelas!B:D,3,0),0),\"\")","v":12},{"$f":"IF(A30<>\"\",IFERROR(VLOOKUP(N30,Tabelas!B:D,3,0),0),\"\")","v":0},{"$f":"IF(A30<>\"\",IFERROR(VLOOKUP(O30,Tabelas!B:D,3,0),0),\"\")","v":0},{"$f":"IF(A30<>\"\",IFERROR(VLOOKUP(P30,Tabelas!B:D,3,0),0),\"\")","v":0},{"$f":"IF(A30<>\"\",IFERROR(VLOOKUP(Q30,Tabelas!B:D,3,0),0),\"\")","v":0},{"$f":"IF(A30<>\"\",IFERROR(VLOOKUP(R30,Tabelas!B:D,3,0),0),\"\")","v":0},{"$f":"IF(A30<>\"\",IFERROR(VLOOKUP(S30,Tabelas!B:D,3,0),0),\"\")","v":0},{"$f":"IF(A30<>\"\",IFERROR(VLOOKUP(T30,Tabelas!B:D,3,0),0),\"\")","v":0},{"$f":"IF(A30<>\"\",IFERROR(VLOOKUP(U30,Tabelas!B:D,3,0),0),\"\")","v":0},{"$f":"IF(A30<>\"\",IFERROR(VLOOKUP(V30,Tabelas!B:D,3,0),0),\"\")","v":0},{"$f":"IF(A30<>\"\",IFERROR(VLOOKUP(W30,Tabelas!B:D,3,0),0),\"\")","v":0},{"$f":"IF(A30<>\"\",IFERROR(VLOOKUP(X30,Tabelas!B:D,3,0),0),\"\")","v":0},{"$f":"IF(A30<>\"\",IFERROR(VLOOKUP(Y30,Tabelas!B:D,3,0),0),\"\")","v":0},{"$f":"IF(A30<>\"\",IFERROR(VLOOKUP(Z30,Tabelas!B:D,3,0),0),\"\")","v":0},{"$f":"IF(A30<>\"\",IFERROR(VLOOKUP(AA30,Tabelas!B:D,3,0),0),\"\")","v":0},{"$f":"IF(A30<>\"\",IFERROR(VLOOKUP(AB30,Tabelas!B:D,3,0),0),\"\")","v":0},{"$f":"IF(A30<>\"\",IFERROR(VLOOKUP(AC30,Tabelas!B:D,3,0),0),\"\")","v":0},{"$f":"IF(A30<>\"\",IFERROR(VLOOKUP(AD30,Tabelas!B:D,3,0),0),\"\")","v":0},{"$f":"IF(A30<>\"\",IFERROR(VLOOKUP(AE30,Tabelas!B:D,3,0),0),\"\")","v":0},{"$f":"IF(A30<>\"\",IFERROR(VLOOKUP(AF30,Tabelas!B:D,3,0),0),\"\")","v":0},{"$f":"IF(A30<>\"\",IFERROR(VLOOKUP(AG30,Tabelas!B:D,3,0),0),\"\")","v":0},{"$f":"IF(A30<>\"\",IFERROR(VLOOKUP(AH30,Tabelas!B:D,3,0),0),\"\")","v":0},{"$f":"IF(A30<>\"\",IFERROR(VLOOKUP(AI30,Tabelas!B:D,3,0),0),\"\")","v":12},{"$f":"IF(A30<>\"\",IFERROR(VLOOKUP(AJ30,Tabelas!B:D,3,0),0),\"\")","v":12},{"$f":"IF(A30<>\"\",IFERROR(VLOOKUP(AK30,Tabelas!B:D,3,0),0),\"\")","v":0},{"$f":"IF(A30<>\"\",IFERROR(VLOOKUP(AL30,Tabelas!B:D,3,0),0),\"\")","v":0},{"$f":"IF(A30<>\"\",IFERROR(VLOOKUP(AM30,Tabelas!B:D,3,0),0),\"\")","v":0},{"$f":"IF(A30<>\"\",IFERROR(VLOOKUP(AN30,Tabelas!B:D,3,0),0),\"\")","v":0},{"$f":"IF(A30<>\"\",IFERROR(VLOOKUP(AO30,Tabelas!B:D,3,0),0),\"\")","v":0},{"$f":"IF(A30<>\"\",IFERROR(VLOOKUP(AP30,Tabelas!B:D,3,0),0),\"\")","v":0},{"$f":"IF(A30<>\"\",IFERROR(VLOOKUP(AQ30,Tabelas!B:D,3,0),0),\"\")","v":0},36,0,0,15,0,0,0,15]
["Pedro Luz da Rosa",2606805,null,"ME","RJU",20,null,null,null,null,null,null,"D8",null,null,null,"N10",null,null,null,"N10",null,null,null,null,"N10",null,null,null,null,null,null,null,"N10",null,"N10",null,null,null,null,null,null,null,{"$f":"IF(A31<>\"\",IFERROR(VLOOKUP(M31,Tabelas!B:D,3,0),0),\"\")","v":12},{"$f":"IF(A31<>\"\",IFERROR(VLOOKUP(N31,Tabelas!B:D,3,0),0),\"\")","v":0},{"$f":"IF(A31<>\"\",IFERROR(VLOOKUP(O31,Tabelas!B:D,3,0),0),\"\")","v":0},{"$f":"IF(A31<>\"\",IFERROR(VLOOKUP(P31,Tabelas!B:D,3,0),0),\"\")","v":0},{"$f":"IF(A31<>\"\",IFERROR(VLOOKUP(Q31,Tabelas!B:D,3,0),0),\"\")","v":12},{"$f":"IF(A31<>\"\",IFERROR(VLOOKUP(R31,Tabelas!B:D,3,0),0),\"\")","v":0},{"$f":"IF(A31<>\"\",IFERROR(VLOOKUP(S31,Tabelas!B:D,3,0),0),\"\")","v":0},{"$f":"IF(A31<>\"\",IFERROR(VLOOKUP(T31,Tabelas!B:D,3,0),0),\"\")","v":0},{"$f":"IF(A31<>\"\",IFERROR(VLOOKUP(U31,Tabelas!B:D,3,0),0),\"\")","v":12},{"$f":"IF(A31<>\"\",IFERROR(VLOOKUP(V31,Tabelas!B:D,3,0),0),\"\")","v":0},{"$f":"IF(A31<>\"\",IFERROR(VLOOKUP(W31,Tabelas!B:D,3,0),0),\"\")","v":0},{"$f":"IF(A31<>\"\",IFERROR(VLOOKUP(X31,Tabelas!B:D,3,0),0),\"\")","v":0},{"$f":"IF(A31<>\"\",IFERROR(VLOOKUP(Y31,Tabelas!B:D,3,0),0),\"\")","v":0},{"$f":"IF(A31<>\"\",IFERROR(VLOOKUP(Z31,Tabelas!B:D,3,0),0),\"\")","v":12},{"$f":"IF(A31<>\"\",IFERROR(VLOOKUP(AA31,Tabelas!B:D,3,0),0),\"\")","v":0},{"$f":"IF(A31<>\"\",IFERROR(VLOOKUP(AB31,Tabelas!B:D,3,0),0),\"\")","v":0},{"$f":"IF(A31<>\"\",IFERROR(VLOOKUP(AC31,Tabelas!B:D,3,0),0),\"\")","v":0},{"$f":"IF(A31<>\"\",IFERROR(VLOOKUP(AD31,Tabelas!B:D,3,0),0),\"\")","v":0},{"$f":"IF(A31<>\"\",IFERROR(VLOOKUP(AE31,Tabelas!B:D,3,0),0),\"\")","v":0},{"$f":"IF(A31<>\"\",IFERROR(VLOOKUP(AF31,Tabelas!B:D,3,0),0),\"\")","v":0},{"$f":"IF(A31<>\"\",IFERROR(VLOOKUP(AG31,Tabelas!B:D,3,0),0),\"\")","v":0},{"$f":"IF(A31<>\"\",IFERROR(VLOOKUP(AH31,Tabelas!B:D,3,0),0),\"\")","v":12},{"$f":"IF(A31<>\"\",IFERROR(VLOOKUP(AI31,Tabelas!B:D,3,0),0),\"\")","v":0},{"$f":"IF(A31<>\"\",IFERROR(VLOOKUP(AJ31,Tabelas!B:D,3,0),0),\"\")","v":12},{"$f":"IF(A31<>\"\",IFERROR(VLOOKUP(AK31,Tabelas!B:D,3,0),0),\"\")","v":0},{"$f":"IF(A31<>\"\",IFERROR(VLOOKUP(AL31,Tabelas!B:D,3,0),0),\"\")","v":0},{"$f":"IF(A31<>\"\",IFERROR(VLOOKUP(AM31,Tabelas!B:D,3,0),0),\"\")","v":0},{"$f":"IF(A31<>\"\",IFERROR(VLOOKUP(AN31,Tabelas!B:D,3,0),0),\"\")","v":0},{"$f":"IF(A31<>\"\",IFERROR(VLOOKUP(AO31,Tabelas!B:D,3,0),0),\"\")","v":0},{"$f":"IF(A31<>\"\",IFERROR(VLOOKUP(AP31,Tabelas!B:D,3,0),0),\"\")","v":0},{"$f":"IF(A31<>\"\",IFERROR(VLOOKUP(AQ31,Tabelas!B:D,3,0),0),\"\")","v":0},72,0,0,0,0,0,0,0]
["Robson Lima Ribeiro",3369679,null,"ME","RJU",20,null,null,null,null,null,null,null,"N10","N10",null,null,null,null,null,null,null,"N10",null,null,null,"N10",null,null,null,null,"N10",null,null,null,null,"D8",null,null,null,null,null,null,{"$f":"IF(A32<>\"\",IFERROR(VLOOKUP(M32,Tabelas!B:D,3,0),0),\"\")","v":0},{"$f":"IF(A32<>\"\",IFERROR(VLOOKUP(N32,Tabelas!B:D,3,0),0),\"\")","v":12},{"$f":"IF(A32<>\"\",IFERROR(VLOOKUP(O32,Tabelas!B:D,3,0),0),\"\")","v":12},{"$f":"IF(A32<>\"\",IFERROR(VLOOKUP(P32,Tabelas!B:D,3,0),0),\"\")","v":0},{"$f":"IF(A32<>\"\",IFERROR(VLOOKUP(Q32,Tabelas!B:D,3,0),0),\"\")","v":0},{"$f":"IF(A32<>\"\",IFERROR(VLOOKUP(R32,Tabelas!B:D,3,0),0),\"\")","v":0},{"$f":"IF(A32<>\"\",IFERROR(VLOOKUP(S32,Tabelas!B:D,3,0),0),\"\")","v":0},{"$f":"IF(A32<>\"\",IFERROR(VLOOKUP(T32,Tabelas!B:D,3,0),0),\"\")","v":0},{"$f":"IF(A32<>\"\",IFERROR(VLOOKUP(U32,Tabelas!B:D,3,0),0),\"\")","v":0},{"$f":"IF(A32<>\"\",IFERROR(VLOOKUP(V32,Tabelas!B:D,3,0),0),\"\")","v":0},{"$f":"IF(A32<>\"\",IFERROR(VLOOKUP(W32,Tabelas!B:D,3,0),0),\"\")","v":12},{"$f":"IF(A32<>\"\",IFERROR(VLOOKUP(X32,Tabelas!B:D,3,0),0),\"\")","v":0},{"$f":"IF(A32<>\"\",IFERROR(VLOOKUP(Y32,Tabelas!B:D,3,0),0),\"\")","v":0},{"$f":"IF(A32<>\"\",IFERROR(VLOOKUP(Z32,Tabelas!B:D,3,0),0),\"\")","v":0},{"$f":"IF(A32<>\"\",IFERROR(VLOOKUP(AA32,Tabelas!B:D,3,0),0),\"\")","v":12},{"$f":"IF(A32<>\"\",IFERROR(VLOOKUP(AB32,Tabelas!B:D,3,0),0),\"\")","v":0},{"$f":"IF(A32<>\"\",IFERROR(VLOOKUP(AC32,Tabelas!B:D,3,0),0),\"\")","v":0},{"$f":"IF(A32<>\"\",IFERROR(VLOOKUP(AD32,Tabelas!B:D,3,0),0),\"\")","v":0},{"$f":"IF(A32<>\"\",IFERROR(VLOOKUP(AE32,Tabelas!B:D,3,0),0),\"\")","v":0},{"$f":"IF(A32<>\"\",IFERROR(VLOOKUP(AF32,Tabelas!B:D,3,0),0),\"\")","v":12},{"$f":"IF(A32<>\"\",IFERROR(VLOOKUP(AG32,Tabelas!B:D,3,0),0),\"\")","v":0},{"$f":"IF(A32<>\"\",IFERROR(VLOOKUP(AH32,Tabelas!B:D,3,0),0),\"\")","v":0},{"$f":"IF(A32<>\"\",IFERROR(VLOOKUP(AI32,Tabelas!B:D,3,0),0),\"\")","v":0},{"$f":"IF(A32<>\"\",IFERROR(VLOOKUP(AJ32,Tabelas!B:D,3,0),0),\"\")","v":0},{"$f":"IF(A32<>\"\",IFERROR(VLOOKUP(AK32,Tabelas!B:D,3,0),0),\"\")","v":12},{"$f":"IF(A32<>\"\",IFERROR(VLOOKUP(AL32,Tabelas!B:D,3,0),0),\"\")","v":0},{"$f":"IF(A32<>\"\",IFERROR(VLOOKUP(AM32,Tabelas!B:D,3,0),0),\"\")","v":0},{"$f":"IF(A32<>\"\",IFERROR(VLOOKUP(AN32,Tabelas!B:D,3,0),0),\"\")","v":0},{"$f":"IF(A32<>\"\",IFERROR(VLOOKUP(AO32,Tabelas!B:D,3,0),0),\"\")","v":0},{"$f":"IF(A32<>\"\",IFERROR(VLOOKUP(AP32,Tabelas!B:D,3,0),0),\"\")","v":0},{"$f":"IF(A32<>\"\",IFERROR(VLOOKUP(AQ32,Tabelas!B:D,3,0),0),\"\")","v":0},72,0,0,0,0,0,0,0]
["Thales Roberto Schott da Silva",1160552,null,"ME","RJU",20,null,null,null,null,null,null,null,null,null,null,null,null,null,"D8",null,"N10",null,null,null,null,null,"D8",null,null,"N10",null,null,null,null,null,"N10",null,null,"N10",null,null,null,{"$f":"IF(A33<>\"\",IFERROR(VLOOKUP(M33,Tabelas!B:D,3,0),0),\"\")","v":0},{"$f":"IF(A33<>\"\",IFERROR(VLOOKUP(N33,Tabelas!B:D,3,0),0),\"\")","v":0},{"$f":"IF(A33<>\"\",IFERROR(VLOOKUP(O33,Tabelas!B:D,3,0),0),\"\")","v":0},{"$f":"IF(A33<>\"\",IFERROR(VLOOKUP(P33,Tabelas!B:D,3,0),0),\"\")","v":0},{"$f":"IF(A33<>\"\",IFERROR(VLOOKUP(Q33,Tabelas!B:D,3,0),0),\"\")","v":0},{"$f":"IF(A33<>\"\",IFERROR(VLOOKUP(R33,Tabelas!B:D,3,0),0),\"\")","v":0},{"$f":"IF(A33<>\"\",IFERROR(VLOOKUP(S33,Tabelas!B:D,3,0),0),\"\")","v":0},{"$f":"IF(A33<>\"\",IFERROR(VLOOKUP(T33,Tabelas!B:D,3,0),0),\"\")","v":12},{"$f":"IF(A33<>\"\",IFERROR(VLOOKUP(U33,Tabelas!B:D,3,0),0),\"\")","v":0},{"$f":"IF(A33<>\"\",IFERROR(VLOOKUP(V33,Tabelas!B:D,3,0),0),\"\")","v":12},{"$f":"IF(A33<>\"\",IFERROR(VLOOKUP(W33,Tabelas!B:D,3,0),0),\"\")","v":0},{"$f":"IF(A33<>\"\",IFERROR(VLOOKUP(X33,Tabelas!B:D,3,0),0),\"\")","v":0},{"$f":"IF(A33<>\"\",IFERROR(VLOOKUP(Y33,Tabelas!B:D,3,0),0),\"\")","v":0},{"$f":"IF(A33<>\"\",IFERROR(VLOOKUP(Z33,Tabelas!B:D,3,0),0),\"\")","v":0},{"$f":"IF(A33<>\"\",IFERROR(VLOOKUP(AA33,Tabelas!B:D,3,0),0),\"\")","v":0},{"$f":"IF(A33<>\"\",IFERROR(VLOOKUP(AB33,Tabelas!B:D,3,0),0),\"\")","v":12},{"$f":"IF(A33<>\"\",IFERROR(VLOOKUP(AC33,Tabelas!B:D,3,0),0),\"\")","v":0},{"$f":"IF(A33<>\"\",IFERROR(VLOOKUP(AD33,Tabelas!B:D,3,0),0),\"\")","v":0},{"$f":"IF(A33<>\"\",IFERROR(VLOOKUP(AE33,Tabelas!B:D,3,0),0),\"\")","v":12},{"$f":"IF(A33<>\"\",IFERROR(VLOOKUP(AF33,Tabelas!B:D,3,0),0),\"\")","v":0},{"$f":"IF(A33<>\"\",IFERROR(VLOOKUP(AG33,Tabelas!B:D,3,0),0),\"\")","v":0},{"$f":"IF(A33<>\"\",IFERROR(VLOOKUP(AH33,Tabelas!B:D,3,0),0),\"\")","v":0},{"$f":"IF(A33<>\"\",IFERROR(VLOOKUP(AI33,Tabelas!B:D,3,0),0),\"\")","v":0},{"$f":"IF(A33<>\"\",IFERROR(VLOOKUP(AJ33,Tabelas!B:D,3,0),0),\"\")","v":0},{"$f":"IF(A33<>\"\",IFERROR(VLOOKUP(AK33,Tabelas!B:D,3,0),0),\"\")","v":12},{"$f":"IF(A33<>\"\",IFERROR(VLOOKUP(AL33,Tabelas!B:D,3,0),0),\"\")","v":0},{"$f":"IF(A33<>\"\",IFERROR(VLOOKUP(AM33,Tabelas!B:D,3,0),0),\"\")","v":0},{"$f":"IF(A33<>\"\",IFERROR(VLOOKUP(AN33,Tabelas!B:D,3,0),0),\"\")","v":12},{"$f":"IF(A33<>\"\",IFERROR(VLOOKUP(AO33,Tabelas!B:D,3,0),0),\"\")","v":0},{"$f":"IF(A33<>\"\",IFERROR(VLOOKUP(AP33,Tabelas!B:D,3,0),0),\"\")","v":0},{"$f":"IF(A33<>\"\",IFERROR(VLOOKUP(AQ33,Tabelas!B:D,3,0),0),\"\")","v":0},72,0,0,0,0,0,0,0]
["Vanessa Miné Geraldo",3055054,null,"ME","EBSERH",24,null,null,null,null,null,null,null,null,null,null,"N10",null,null,null,"D8",null,null,null,null,null,null,null,"N10",null,null,null,null,"D8",null,null,null,"N10",null,null,"N10",null,null,{"$f":"IF(A34<>\"\",IFERROR(VLOOKUP(M34,Tabelas!B:D,3,0),0),\"\")","v":0},{"$f":"IF(A34<>\"\",IFERROR(VLOOKUP(N34,Tabelas!B:D,3,0),0),\"\")","v":0},{"$f":"IF(A34<>\"\",IFERROR(VLOOKUP(O34,Tabelas!B:D,3,0),0),\"\")","v":0},{"$f":"IF(A34<>\"\",IFERROR(VLOOKUP(P34,Tabelas!B:D,3,0),0),\"\")","v":0},{"$f":"IF(A34<>\"\",IFERROR(VLOOKUP(Q34,Tabelas!B:D,3,0),0),\"\")","v":12},{"$f":"IF(A34<>\"\",IFERROR(VLOOKUP(R34,Tabelas!B:D,3,0),0),\"\")","v":0},{"$f":"IF(A34<>\"\",IFERROR(VLOOKUP(S34,Tabelas!B:D,3,0),0),\"\")","v":0},{"$f":"IF(A34<>\"\",IFERROR(VLOOKUP(T34,Tabelas!B:D,3,0),0),\"\")","v":0},{"$f":"IF(A34<>\"\",IFERROR(VLOOKUP(U34,Tabelas!B:D,3,0),0),\"\")","v":12},{"$f":"IF(A34<>\"\",IFERROR(VLOOKUP(V34,Tabelas!B:D,3,0),0),\"\")","v":0},{"$f":"IF(A34<>\"\",IFERROR(VLOOKUP(W34,Tabelas!B:D,3,0),0),\"\")","v":0},{"$f":"IF(A34<>\"\",IFERROR(VLOOKUP(X34,Tabelas!B:D,3,0),0),\"\")","v":0},{"$f":"IF(A34<>\"\",IFERROR(VLOOKUP(Y34,Tabelas!B:D,3,0),0),\"\")","v":0},{"$f":"IF(A34<>\"\",IFERROR(VLOOKUP(Z34,Tabelas!B:D,3,0),0),\"\")","v":0},{"$f":"IF(A34<>\"\",IFERROR(VLOOKUP(AA34,Tabelas!B:D,3,0),0),\"\")","v":0},{"$f":"IF(A34<>\"\",IFERROR(VLOOKUP(AB34,Tabelas!B:D,3,0),0),\"\")","v":0},{"$f":"IF(A34<>\"\",IFERROR(VLOOKUP(AC34,Tabelas!B:D,3,0),0),\"\")","v":12},{"$f":"IF(A34<>\"\",IFERROR(VLOOKUP(AD34,Tabelas!B:D,3,0),0),\"\")","v":0},{"$f":"IF(A34<>\"\",IFERROR(VLOOKUP(AE34,Tabelas!B:D,3,0),0),\"\")","v":0},{"$f":"IF(A34<>\"\",IFERROR(VLOOKUP(AF34,Tabelas!B:D,3,0),0),\"\")","v":0},{"$f":"IF(A34<>\"\",IFERROR(VLOOKUP(AG34,Tabelas!B:D,3,0),0),\"\")","v":0},{"$f":"IF(A34<>\"\",IFERROR(VLOOKUP(AH34,Tabelas!B:D,3,0),0),\"\")","v":12},{"$f":"IF(A34<>\"\",IFERROR(VLOOKUP(AI34,Tabelas!B:D,3,0),0),\"\")","v":0},{"$f":"IF(A34<>\"\",IFERROR(VLOOKUP(AJ34,Tabelas!B:D,3,0),0),\"\")","v":0},{"$f":"IF(A34<>\"\",IFERROR(VLOOKUP(AK34,Tabelas!B:D,3,0),0),\"\")","v":0},{"$f":"IF(A34<>\"\",IFERROR(VLOOKUP(AL34,Tabelas!B:D,3,0),0),\"\")","v":12},{"$f":"IF(A34<>\"\",IFERROR(VLOOKUP(AM34,Tabelas!B:D,3,0),0),\"\")","v":0},{"$f":"IF(A34<>\"\",IFERROR(VLOOKUP(AN34,Tabelas!B:D,3,0),0),\"\")","v":0},{"$f":"IF(A34<>\"\",IFERROR(VLOOKUP(AO34,Tabelas!B:D,3,0),0),\"\")","v":12},{"$f":"IF(A34<>\"\",IFERROR(VLOOKUP(AP34,Tabelas!B:D,3,0),0),\"\")","v":0},{"$f":"IF(A34<>\"\",IFERROR(VLOOKUP(AQ34,Tabelas!B:D,3,0),0),\"\")","v":0},76,0,0,0,0,0,0,0]
[null,null,null,null,null,null,null,null,null,null,null,null,null,null,null,null,null,null,null,null,null,null,null,null,null,null,null,null,null,null,null,null,null,null,null,null,null,null,null,null,null,null,null,{"$f":"IF(A35<>\"\",IFERROR(VLOOKUP(M35,Tabelas!B:D,3,0),0),\"\")","v":""},{"$f":"IF(A35<>\"\",IFERROR(VLOOKUP(N35,Tabelas!B:D,3,0),0),\"\")","v":""},{"$f":"IF(A35<>\"\",IFERROR(VLOOKUP(O35,Tabelas!B:D,3,0),0),\"\")","v":""},{"$f":"IF(A35<>\"\",IFERROR(VLOOKUP(P35,Tabelas!B:D,3,0),0),\"\")","v":""},{"$f":"IF(A35<>\"\",IFERROR(VLOOKUP(Q35,Tabelas!B:D,3,0),0),\"\")","v":""},{"$f":"IF(A35<>\"\",IFERROR(VLOOKUP(R35,Tabelas!B:D,3,0),0),\"\")","v":""},{"$f":"IF(A35<>\"\",IFERROR(VLOOKUP(S35,Tabelas!B:D,3,0),0),\"\")","v":""},{"$f":"IF(A35<>\"\",IFERROR(VLOOKUP(T35,Tabelas!B:D,3,0),0),\"\")","v":""},{"$f":"IF(A35<>\"\",IFERROR(VLOOKUP(U35,Tabelas!B:D,3,0),0),\"\")","v":""},{"$f":"IF(A35<>\"\",IFERROR(VLOOKUP(V35,Tabelas!B:D,3,0),0),\"\")","v":""},{"$f":"IF(A35<>\"\",IFERROR(VLOOKUP(W35,Tabelas!B:D,3,0),0),\"\")","v":""},{"$f":"IF(A35<>\"\",IFERROR(VLOOKUP(X35,Tabelas!B:D,3,0),0),\"\")","v":""},{"$f":"IF(A35<>\"\",IFERROR(VLOOKUP(Y35,Tabelas!B:D,3,0),0),\"\")","v":""},{"$f":"IF(A35<>\"\",IFERROR(VLOOKUP(Z35,Tabelas!B:D,3,0),0),\"\")","v":""},{"$f":"IF(A35<>\"\",IFERROR(VLOOKUP(AA35,Tabelas!B:D,3,0),0),\"\")","v":""},{"$f":"IF(A35<>\"\",IFERROR(VLOOKUP(AB35,Tabelas!B:D,3,0),0),\"\")","v":""},{"$f":"IF(A35<>\"\",IFERROR(VLOOKUP(AC35,Tabelas!B:D,3,0),0),\"\")","v":""},{"$f":"IF(A35<>\"\",IFERROR(VLOOKUP(AD35,Tabelas!B:D,3,0),0),\"\")","v":""},{"$f":"IF(A35<>\"\",IFERROR(VLOOKUP(AE35,Tabelas!B:D,3,0),0),\"\")","v":""},{"$f":"IF(A35<>\"\",IFERROR(VLOOKUP(AF35,Tabelas!B:D,3,0),0),\"\")","v":""},{"$f":"IF(A35<>\"\",IFERROR(VLOOKUP(AG35,Tabelas!B:D,3,0),0),\"\")","v":""},{"$f":"IF(A35<>\"\",IFERROR(VLOOKUP(AH35,Tabelas!B:D,3,0),0),\"\")","v":""},{"$f":"IF(A35<>\"\",IFERROR(VLOOKUP(AI35,Tabelas!B:D,3,0),0),\"\")","v":""},{"$f":"IF(A35<>\"\",IFERROR(VLOOKUP(AJ35,Tabelas!B:D,3,0),0),\"\")","v":""},{"$f":"IF(A35<>\"\",IFERROR(VLOOKUP(AK35,Tabelas!B:D,3,0),0),\"\")","v":""},{"$f":"IF(A35<>\"\",IFERROR(VLOOKUP(AL35,Tabelas!B:D,3,0),0),\"\")","v":""},{"$f":"IF(A35<>\"\",IFERROR(VLOOKUP(AM35,Tabelas!B:D,3,0),0),\"\")","v":""},{"$f":"IF(A35<>\"\",IFERROR(VLOOKUP(AN35,Tabelas!B:D,3,0),0),\"\")","v":""},{"$f":"IF(A35<>\"\",IFERROR(VLOOKUP(AO35,Tabelas!B:D,3,0),0),\"\")","v":""},{"$f":"IF(A35<>\"\",IFERROR(VLOOKUP(AP35,Tabelas!B:D,3,0),0),\"\")","v":""},{"$f":"IF(A35<>\"\",IFERROR(VLOOKUP(AQ35,Tabelas!B:D,3,0),0),\"\")","v":""},"","","","","","","",""]
["MÉDICA REFERÊNCIA",null,null,null,null,null,null,null,null,null,null,null,null,null,null,null,null,null,null,null,null,null,null,null,null,null,null,null,null,null,null,null,null,null,null,null,null,null,null,null,null,null,null,{"$f":"IF(A36<>\"\",IFERROR(VLOOKUP(M36,Tabelas!B:D,3,0),0),\"\")","v":0},{"$f":"IF(A36<>\"\",IFERROR(VLOOKUP(N36,Tabelas!B:D,3,0),0),\"\")","v":0},{"$f":"IF(A36<>\"\",IFERROR(VLOOKUP(O36,Tabelas!B:D,3,0),0),\"\")","v":0},{"$f":"IF(A36<>\"\",IFERROR(VLOOKUP(P36,Tabelas!B:D,3,0),0),\"\")","v":0},{"$f":"IF(A36<>\"\",IFERROR(VLOOKUP(Q36,Tabelas!B:D,3,0),0),\"\")","v":0},{"$f":"IF(A36<>\"\",IFERROR(VLOOKUP(R36,Tabelas!B:D,3,0),0),\"\")","v":0},{"$f":"IF(A36<>\"\",IFERROR(VLOOKUP(S36,Tabelas!B:D,3,0),0),\"\")","v":0},{"$f":"IF(A36<>\"\",IFERROR(VLOOKUP(T36,Tabelas!B:D,3,0),0),\"\")","v":0},{"$f":"IF(A36<>\"\",IFERROR(VLOOKUP(U36,Tabelas!B:D,3,0),0),\"\")","v":0},{"$f":"IF(A36<>\"\",IFERROR(VLOOKUP(V36,Tabelas!B:D,3,0),0),\"\")","v":0},{"$f":"IF(A36<>\"\",IFERROR(VLOOKUP(W36,Tabelas!B:D,3,0),0),\"\")","v":0},{"$f":"IF(A36<>\"\",IFERROR(VLOOKUP(X36,Tabelas!B:D,3,0),0),\"\")","v":0},{"$f":"IF(A36<>\"\",IFERROR(VLOOKUP(Y36,Tabelas!B:D,3,0),0),\"\")","v":0},{"$f":"IF(A36<>\"\",IFERROR(VLOOKUP(Z36,Tabelas!B:D,3,0),0),\"\")","v":0},{"$f":"IF(A36<>\"\",IFERROR(VLOOKUP(AA36,Tabelas!B:D,3,0),0),\"\")","v":0},{"$f":"IF(A36<>\"\",IFERROR(VLOOKUP(AB36,Tabelas!B:D,3,0),0),\"\")","v":0},{"$f":"IF(A36<>\"\",IFERROR(VLOOKUP(AC36,Tabelas!B:D,3,0),0),\"\")","v":0},{"$f":"IF(A36<>\"\",IFERROR(VLOOKUP(AD36,Tabelas!B:D,3,0),0),\"\")","v":0},{"$f":"IF(A36<>\"\",IFERROR(VLOOKUP(AE36,Tabelas!B:D,3,0),0),\"\")","v":0},{"$f":"IF(A36<>\"\",IFERROR(VLOOKUP(AF36,Tabelas!B:D,3,0),0),\"\")","v":0},{"$f":"IF(A36<>\"\",IFERROR(VLOOKUP(AG36,Tabelas!B:D,3,0),0),\"\")","v":0},{"$f":"IF(A36<>\"\",IFERROR(VLOOKUP(AH36,Tabelas!B:D,3,0),0),\"\")","v":0},{"$f":"IF(A36<>\"\",IFERROR(VLOOKUP(AI36,Tabelas!B:D,3,0),0),\"\")","v":0},{"$f":"IF(A36<>\"\",IFERROR(VLOOKUP(AJ36,Tabelas!B:D,3,0),0),\"\")","v":0},{"$f":"IF(A36<>\"\",IFERROR(VLOOKUP(AK36,Tabelas!B:D,3,0),0),\"\")","v":0},{"$f":"IF(A36<>\"\",IFERROR(VLOOKUP(AL36,Tabelas!B:D,3,0),0),\"\")","v":0},{"$f":"IF(A36<>\"\",IFERROR(VLOOKUP(AM36,Tabelas!B:D,3,0),0),\"\")","v":0},{"$f":"IF(A36<>\"\",IFERROR(VLOOKUP(AN36,Tabelas!B:D,3,0),0),\"\")","v":0},{"$f":"IF(A36<>\"\",IFERROR(VLOOKUP(AO36,Tabelas!B:D,3,0),0),\"\")","v":0},{"$f":"IF(A36<>\"\",IFERROR(VLOOKUP(AP36,Tabelas!B:D,3,0),0),\"\")","v":0},{"$f":"IF(A36<>\"\",IFERROR(VLOOKUP(AQ36,Tabelas!B:D,3,0),0),\"\")","v":0},0,0,0,0,0,0,0,0]
["Ingrid Catharine Costa de Sant Ana",1004451,null,"ME","EBSERH",24,null,null,null,null,null,null,null,null,"M17","M17",null,"M17","M17",null,null,"M17","M17",null,"M17","M17",null,null,"M17","M17",null,"M17","M17",null,null,"AB6","M17",null,"M17","AB6",null,null,null,{"$f":"IF(A37<>\"\",IFERROR(VLOOKUP(M37,Tabelas!B:D,3,0),0),\"\")","v":0},{"$f":"IF(A37<>\"\",IFERROR(VLOOKUP(N37,Tabelas!B:D,3,0),0),\"\")","v":0},{"$f":"IF(A37<>\"\",IFERROR(VLOOKUP(O37,Tabelas!B:D,3,0),0),\"\")","v":6},{"$f":"IF(A37<>\"\",IFERROR(VLOOKUP(P37,Tabelas!B:D,3,0),0),\"\")","v":6},{"$f":"IF(A37<>\"\",IFERROR(VLOOKUP(Q37,Tabelas!B:D,3,0),0),\"\")","v":0},{"$f":"IF(A37<>\"\",IFERROR(VLOOKUP(R37,Tabelas!B:D,3,0),0),\"\")","v":6},{"$f":"IF(A37<>\"\",IFERROR(VLOOKUP(S37,Tabelas!B:D,3,0),0),\"\")","v":6},{"$f":"IF(A37<>\"\",IFERROR(VLOOKUP(T37,Tabelas!B:D,3,0),0),\"\")","v":0},{"$f":"IF(A37<>\"\",IFERROR(VLOOKUP(U37,Tabelas!B:D,3,0),0),\"\")","v":0},{"$f":"IF(A37<>\"\",IFERROR(VLOOKUP(V37,Tabelas!B:D,3,0),0),\"\")","v":6},{"$f":"IF(A37<>\"\",IFERROR(VLOOKUP(W37,Tabelas!B:D,3,0),0),\"\")","v":6},{"$f":"IF(A37<>\"\",IFERROR(VLOOKUP(X37,Tabelas!B:D,3,0),0),\"\")","v":0},{"$f":"IF(A37<>\"\",IFERROR(VLOOKUP(Y37,Tabelas!B:D,3,0),0),\"\")","v":6},{"$f":"IF(A37<>\"\",IFERROR(VLOOKUP(Z37,Tabelas!B:D,3,0),0),\"\")","v":6},{"$f":"IF(A37<>\"\",IFERROR(VLOOKUP(AA37,Tabelas!B:D,3,0),0),\"\")","v":0},{"$f":"IF(A37<>\"\",IFERROR(VLOOKUP(AB37,Tabelas!B:D,3,0),0),\"\")","v":0},{"$f":"IF(A37<>\"\",IFERROR(VLOOKUP(AC37,Tabelas!B:D,3,0),0),\"\")","v":6},{"$f":"IF(A37<>\"\",IFERROR(VLOOKUP(AD37,Tabelas!B:D,3,0),0),\"\")","v":6},{"$f":"IF(A37<>\"\",IFERROR(VLOOKUP(AE37,Tabelas!B:D,3,0),0),\"\")","v":0},{"$f":"IF(A37<>\"\",IFERROR(VLOOKUP(AF37,Tabelas!B:D,3,0),0),\"\")","v":6},{"$f":"IF(A37<>\"\",IFERROR(VLOOKUP(AG37,Tabelas!B:D,3,0),0),\"\")","v":6},{"$f":"IF(A37<>\"\",IFERROR(VLOOKUP(AH37,Tabelas!B:D,3,0),0),\"\")","v":0},{"$f":"IF(A37<>\"\",IFERROR(VLOOKUP(AI37,Tabelas!B:D,3,0),0),\"\")","v":0},{"$f":"IF(A37<>\"\",IFERROR(VLOOKUP(AJ37,Tabelas!B:D,3,0),0),\"\")","v":6},{"$f":"IF(A37<>\"\",IFERROR(VLOOKUP(AK37,Tabelas!B:D,3,0),0),\"\")","v":6},{"$f":"IF(A37<>\"\",IFERROR(VLOOKUP(AL37,Tabelas!B:D,3,0),0),\"\")","v":0},{"$f":"IF(A37<>\"\",IFERROR(VLOOKUP(AM37,Tabelas!B:D,3,0),0),\"\")","v":6},{"$f":"IF(A37<>\"\",IFERROR(VLOOKUP(AN37,Tabelas!B:D,3,0),0),\"\")","v":6},{"$f":"IF(A37<>\"\",IFERROR(VLOOKUP(AO37,Tabelas!B:D,3,0),0),\"\")","v":0},{"$f":"IF(A37<>\"\",IFERROR(VLOOKUP(AP37,Tabelas!B:D,3,0),0),\"\")","v":0},{"$f":"IF(A37<>\"\",IFERROR(VLOOKUP(AQ37,Tabelas!B:D,3,0),0),\"\")","v":0},96,0,2,0,0,0,0,2]
[null,null,null,null,null,null,null,null,null,null,null,null,null,null,null,null,null,null,null,null,null,null,null,null,null,null,null,null,null,null,null,null,null,null,null,null,null,null,null,null,null,null,null,{"$f":"IF(A38<>\"\",IFERROR(VLOOKUP(M38,Tabelas!B:D,3,0),0),\"\")","v":""},{"$f":"IF(A38<>\"\",IFERROR(VLOOKUP(N38,Tabelas!B:D,3,0),0),\"\")","v":""},{"$f":"IF(A38<>\"\",IFERROR(VLOOKUP(O38,Tabelas!B:D,3,0),0),\"\")","v":""},{"$f":"IF(A38<>\"\",IFERROR(VLOOKUP(P38,Tabelas!B:D,3,0),0),\"\")","v":""},{"$f":"IF(A38<>\"\",IFERROR(VLOOKUP(Q38,Tabelas!B:D,3,0),0),\"\")","v":""},{"$f":"IF(A38<>\"\",IFERROR(VLOOKUP(R38,Tabelas!B:D,3,0),0),\"\")","v":""},{"$f":"IF(A38<>\"\",IFERROR(VLOOKUP(S38,Tabelas!B:D,3,0),0),\"\")","v":""},{"$f":"IF(A38<>\"\",IFERROR(VLOOKUP(T38,Tabelas!B:D,3,0),0),\"\")","v":""},{"$f":"IF(A38<>\"\",IFERROR(VLOOKUP(U38,Tabelas!B:D,3,0),0),\"\")","v":""},{"$f":"IF(A38<>\"\",IFERROR(VLOOKUP(V38,Tabelas!B:D,3,0),0),\"\")","v":""},{"$f":"IF(A38<>\"\",IFERROR(VLOOKUP(W38,Tabelas!B:D,3,0),0),\"\")","v":""},{"$f":"IF(A38<>\"\",IFERROR(VLOOKUP(X38,Tabelas!B:D,3,0),0),\"\")","v":""},{"$f":"IF(A38<>\"\",IFERROR(VLOOKUP(Y38,Tabelas!B:D,3,0),0),\"\")","v":""},{"$f":"IF(A38<>\"\",IFERROR(VLOOKUP(Z38,Tabelas!B:D,3,0),0),\"\")","v":""},{"$f":"IF(A38<>\"\",IFERROR(VLOOKUP(AA38,Tabelas!B:D,3,0),0),\"\")","v":""},{"$f":"IF(A38<>\"\",IFERROR(VLOOKUP(AB38,Tabelas!B:D,3,0),0),\"\")","v":""},{"$f":"IF(A38<>\"\",IFERROR(VLOOKUP(AC38,Tabelas!B:D,3,0),0),\"\")","v":""},{"$f":"IF(A38<>\"\",IFERROR(VLOOKUP(AD38,Tabelas!B:D,3,0),0),\"\")","v":""},{"$f":"IF(A38<>\"\",IFERROR(VLOOKUP(AE38,Tabelas!B:D,3,0),0),\"\")","v":""},{"$f":"IF(A38<>\"\",IFERROR(VLOOKUP(AF38,Tabelas!B:D,3,0),0),\"\")","v":""},{"$f":"IF(A38<>\"\",IFERROR(VLOOKUP(AG38,Tabelas!B:D,3,0),0),\"\")","v":""},{"$f":"IF(A38<>\"\",IFERROR(VLOOKUP(AH38,Tabelas!B:D,3,0),0),\"\")","v":""},{"$f":"IF(A38<>\"\",IFERROR(VLOOKUP(AI38,Tabelas!B:D,3,0),0),\"\")","v":""},{"$f":"IF(A38<>\"\",IFERROR(VLOOKUP(AJ38,Tabelas!B:D,3,0),0),\"\")","v":""},{"$f":"IF(A38<>\"\",IFERROR(VLOOKUP(AK38,Tabelas!B:D,3,0),0),\"\")","v":""},{"$f":"IF(A38<>\"\",IFERROR(VLOOKUP(AL38,Tabelas!B:D,3,0),0),\"\")","v":""},{"$f":"IF(A38<>\"\",IFERROR(VLOOKUP(AM38,Tabelas!B:D,3,0),0),\"\")","v":""},{"$f":"IF(A38<>\"\",IFERROR(VLOOKUP(AN38,Tabelas!B:D,3,0),0),\"\")","v":""},{"$f":"IF(A38<>\"\",IFERROR(VLOOKUP(AO38,Tabelas!B:D,3,0),0),\"\")","v":""},{"$f":"IF(A38<>\"\",IFERROR(VLOOKUP(AP38,Tabelas!B:D,3,0),0),\"\")","v":""},{"$f":"IF(A38<>\"\",IFERROR(VLOOKUP(AQ38,Tabelas!B:D,3,0),0),\"\")","v":""},"","","","","","","",""]
["Elizabeth Kristiane Buss Lunardelli",3760219,null,"ME","RJU",30,null,null,null,null,null,null,null,null,"LC","LC","LC","LC","LC","LC","LC","LC","LC","LC","LC","LC","LC","LC","LC","LC","LC","LC","LC","LC","LC","LC","LC","LC","LC","LC","LC",null,null,{"$f":"IF(A39<>\"\",IFERROR(VLOOKUP(M39,Tabelas!B:D,3,0),0),\"\")","v":0},{"$f":"IF(A39<>\"\",IFERROR(VLOOKUP(N39,Tabelas!B:D,3,0),0),\"\")","v":0},{"$f":"IF(A39<>\"\",IFERROR(VLOOKUP(O39,Tabelas!B:D,3,0),0),\"\")","v":0},{"$f":"IF(A39<>\"\",IFERROR(VLOOKUP(P39,Tabelas!B:D,3,0),0),\"\")","v":0},{"$f":"IF(A39<>\"\",IFERROR(VLOOKUP(Q39,Tabelas!B:D,3,0),0),\"\")","v":0},{"$f":"IF(A39<>\"\",IFERROR(VLOOKUP(R39,Tabelas!B:D,3,0),0),\"\")","v":0},{"$f":"IF(A39<>\"\",IFERROR(VLOOKUP(S39,Tabelas!B:D,3,0),0),\"\")","v":0},{"$f":"IF(A39<>\"\",IFERROR(VLOOKUP(T39,Tabelas!B:D,3,0),0),\"\")","v":0},{"$f":"IF(A39<>\"\",IFERROR(VLOOKUP(U39,Tabelas!B:D,3,0),0),\"\")","v":0},{"$f":"IF(A39<>\"\",IFERROR(VLOOKUP(V39,Tabelas!B:D,3,0),0),\"\")","v":0},{"$f":"IF(A39<>\"\",IFERROR(VLOOKUP(W39,Tabelas!B:D,3,0),0),\"\")","v":0},{"$f":"IF(A39<>\"\",IFERROR(VLOOKUP(X39,Tabelas!B:D,3,0),0),\"\")","v":0},{"$f":"IF(A39<>\"\",IFERROR(VLOOKUP(Y39,Tabelas!B:D,3,0),0),\"\")","v":0},{"$f":"IF(A39<>\"\",IFERROR(VLOOKUP(Z39,Tabelas!B:D,3,0),0),\"\")","v":0},{"$f":"IF(A39<>\"\",IFERROR(VLOOKUP(AA39,Tabelas!B:D,3,0),0),\"\")","v":0},{"$f":"IF(A39<>\"\",IFERROR(VLOOKUP(AB39,Tabelas!B:D,3,0),0),\"\")","v":0},{"$f":"IF(A39<>\"\",IFERROR(VLOOKUP(AC39,Tabelas!B:D,3,0),0),\"\")","v":0},{"$f":"IF(A39<>\"\",IFERROR(VLOOKUP(AD39,Tabelas!B:D,3,0),0),\"\")","v":0},{"$f":"IF(A39<>\"\",IFERROR(VLOOKUP(AE39,Tabelas!B:D,3,0),0),\"\")","v":0},{"$f":"IF(A39<>\"\",IFERROR(VLOOKUP(AF39,Tabelas!B:D,3,0),0),\"\")","v":0},{"$f":"IF(A39<>\"\",IFERROR(VLOOKUP(AG39,Tabelas!B:D,3,0),0),\"\")","v":0},{"$f":"IF(A39<>\"\",IFERROR(VLOOKUP(AH39,Tabelas!B:D,3,0),0),\"\")","v":0},{"$f":"IF(A39<>\"\",IFERROR(VLOOKUP(AI39,Tabelas!B:D,3,0),0),\"\")","v":0},{"$f":"IF(A39<>\"\",IFERROR(VLOOKUP(AJ39,Tabelas!B:D,3,0),0),\"\")","v":0},{"$f":"IF(A39<>\"\",IFERROR(VLOOKUP(AK39,Tabelas!B:D,3,0),0),\"\")","v":0},{"$f":"IF(A39<>\"\",IFERROR(VLOOKUP(AL39,Tabelas!B:D,3,0),0),\"\")","v":0},{"$f":"IF(A39<>\"\",IFERROR(VLOOKUP(AM39,Tabelas!B:D,3,0),0),\"\")","v":0},{"$f":"IF(A39<>\"\",IFERROR(VLOOKUP(AN39,Tabelas!B:D,3,0),0),\"\")","v":0},{"$f":"IF(A39<>\"\",IFERROR(VLOOKUP(AO39,Tabelas!B:D,3,0),0),\"\")","v":0},{"$f":"IF(A39<>\"\",IFERROR(VLOOKUP(AP39,Tabelas!B:D,3,0),0),\"\")","v":0},{"$f":"IF(A39<>\"\",IFERROR(VLOOKUP(AQ39,Tabelas!B:D,3,0),0),\"\")","v":0},0,0,0,0,27,0,0,27]
["TOTAL PROFISSIONAIS MATUTINO",null,null,null,null,null,null,null,null,null,null,null,{"$f":"IF(COUNTIF(M9:M39,\"M*\")+ COUNTIF(M9:M39, \"D*\")-COUNTIF(M9:M39,\"DSR\")<>0,COUNTIF(M9:M39,\"M*\")+ COUNTIF(M9:M39, \"D*\")-COUNTIF(M9:M39,\"DSR\"),\"\")","v":2},2,4,4,3,4,4,2,2,4,4,3,4,4,2,2,4,4,3,4,4,2,2,3,3,4,4,3,2,"","",null,null,null,null,null,null,null,null,null,null,null,null,null,null,null,null,null,null,null,null,null,null,null,null,null,null,null,null,null,null,null,{"$f":"SUM(BW9:BW39)","v":1686},0,2,45,27,1,0,75]
["TOTAL DE PROFISSIONAIS VESPERTINO",null,null,null,null,null,null,null,null,null,null,null,{"$f":"IF(COUNTIF(M9:M39,\"MT*\") + COUNTIF(M9:M39, \"D*\") + COUNTIF(M9:M39,\"T*\")-COUNTIF(M9:M39,\"DSR\")<>0,COUNTIF(M9:M39,\"MT*\") + COUNTIF(M9:M39, \"D*\") + COUNTIF(M9:M39,\"T*\")-COUNTIF(M9:M39,\"DSR\"),\"\")","v":2},2,3,2,3,2,2,2,2,3,3,3,3,2,2,2,3,2,3,2,2,2,2,2,2,3,2,2,2,"","",{"$f":"IF(A41<>\"\",IFERROR(VLOOKUP(M41,Tabelas!B:D,3,0),0),\"\")","v":0},{"$f":"IF(A41<>\"\",IFERROR(VLOOKUP(N41,Tabelas!B:D,3,0),0),\"\")","v":0},{"$f":"IF(A41<>\"\",IFERROR(VLOOKUP(O41,Tabelas!B:D,3,0),0),\"\")","v":0},{"$f":"IF(A41<>\"\",IFERROR(VLOOKUP(P41,Tabelas!B:D,3,0),0),\"\")","v":0},{"$f":"IF(A41<>\"\",IFERROR(VLOOKUP(Q41,Tabelas!B:D,3,0),0),\"\")","v":0},{"$f":"IF(A41<>\"\",IFERROR(VLOOKUP(R41,Tabelas!B:D,3,0),0),\"\")","v":0},{"$f":"IF(A41<>\"\",IFERROR(VLOOKUP(S41,Tabelas!B:D,3,0),0),\"\")","v":0},{"$f":"IF(A41<>\"\",IFERROR(VLOOKUP(T41,Tabelas!B:D,3,0),0),\"\")","v":0},{"$f":"IF(A41<>\"\",IFERROR(VLOOKUP(U41,Tabelas!B:D,3,0),0),\"\")","v":0},{"$f":"IF(A41<>\"\",IFERROR(VLOOKUP(V41,Tabelas!B:D,3,0),0),\"\")","v":0},{"$f":"IF(A41<>\"\",IFERROR(VLOOKUP(W41,Tabelas!B:D,3,0),0),\"\")","v":0},{"$f":"IF(A41<>\"\",IFERROR(VLOOKUP(X41,Tabelas!B:D,3,0),0),\"\")","v":0},{"$f":"IF(A41<>\"\",IFERROR(VLOOKUP(Y41,Tabelas!B:D,3,0),0),\"\")","v":0},{"$f":"IF(A41<>\"\",IFERROR(VLOOKUP(Z41,Tabelas!B:D,3,0),0),\"\")","v":0},{"$f":"IF(A41<>\"\",IFERROR(VLOOKUP(AA41,Tabelas!B:D,3,0),0),\"\")","v":0},{"$f":"IF(A41<>\"\",IFERROR(VLOOKUP(AB41,Tabelas!B:D,3,0),0),\"\")","v":0},{"$f":"IF(A41<>\"\",IFERROR(VLOOKUP(AC41,Tabelas!B:D,3,0),0),\"\")","v":0},{"$f":"IF(A41<>\"\",IFERROR(VLOOKUP(AD41,Tabelas!B:D,3,0),0),\"\")","v":0},{"$f":"IF(A41<>\"\",IFERROR(VLOOKUP(AE41,Tabelas!B:D,3,0),0),\"\")","v":0},{"$f":"IF(A41<>\"\",IFERROR(VLOOKUP(AF41,Tabelas!B:D,3,0),0),\"\")","v":0},{"$f":"IF(A41<>\"\",IFERROR(VLOOKUP(AG41,Tabelas!B:D,3,0),0),\"\")","v":0},{"$f":"IF(A41<>\"\",IFERROR(VLOOKUP(AH41,Tabelas!B:D,3,0),0),\"\")","v":0},{"$f":"IF(A41<>\"\",IFERROR(VLOOKUP(AI41,Tabelas!B:D,3,0),0),\"\")","v":0},{"$f":"IF(A41<>\"\",IFERROR(VLOOKUP(AJ41,Tabelas!B:D,3,0),0),\"\")","v":0},{"$f":"IF(A41<>\"\",IFERROR(VLOOKUP(AK41,Tabelas!B:D,3,0),0),\"\")","v":0},{"$f":"IF(A41<>\"\",IFERROR(VLOOKUP(AL41,Tabelas!B:D,3,0),0),\"\")","v":0},{"$f":"IF(A41<>\"\",IFERROR(VLOOKUP(AM41,Tabelas!B:D,3,0),0),\"\")","v":0},{"$f":"IF(A41<>\"\",IFERROR(VLOOKUP(AN41,Tabelas!B:D,3,0),0),\"\")","v":0},{"$f":"IF(A41<>\"\",IFERROR(VLOOKUP(AO41,Tabelas!B:D,3,0),0),\"\")","v":0},{"$f":"IF(A41<>\"\",IFERROR(VLOOKUP(AP41,Tabelas!B:D,3,0),0),\"\")","v":0},{"$f":"IF(A41<>\"\",IFERROR(VLOOKUP(AQ41,Tabelas!B:D,3,0),0),\"\")","v":0}]
["TOTAL DE PROFISSIONAIS NOTURNO",null,null,null,null,null,null,null,null,null,null,null,{"$f":"IF(COUNTIF(M9:M41,\"N?*\") + COUNTIF(M9:M41, \"DN*\")<>0,COUNTIF(M9:M41,\"N?*\") + COUNTIF(M9:M41, \"DN*\"),\"\")","v":2},2,2,2,2,2,2,2,2,2,2,2,2,2,2,2,2,2,2,2,2,2,2,2,2,2,2,2,2,"","",{"$f":"IF(A42<>\"\",IFERROR(VLOOKUP(M42,Tabelas!B:D,3,0),0),\"\")","v":0},{"$f":"IF(A42<>\"\",IFERROR(VLOOKUP(N42,Tabelas!B:D,3,0),0),\"\")","v":0},{"$f":"IF(A42<>\"\",IFERROR(VLOOKUP(O42,Tabelas!B:D,3,0),0),\"\")","v":0},{"$f":"IF(A42<>\"\",IFERROR(VLOOKUP(P42,Tabelas!B:D,3,0),0),\"\")","v":0},{"$f":"IF(A42<>\"\",IFERROR(VLOOKUP(Q42,Tabelas!B:D,3,0),0),\"\")","v":0},{"$f":"IF(A42<>\"\",IFERROR(VLOOKUP(R42,Tabelas!B:D,3,0),0),\"\")","v":0},{"$f":"IF(A42<>\"\",IFERROR(VLOOKUP(S42,Tabelas!B:D,3,0),0),\"\")","v":0},{"$f":"IF(A42<>\"\",IFERROR(VLOOKUP(T42,Tabelas!B:D,3,0),0),\"\")","v":0},{"$f":"IF(A42<>\"\",IFERROR(VLOOKUP(U42,Tabelas!B:D,3,0),0),\"\")","v":0},{"$f":"IF(A42<>\"\",IFERROR(VLOOKUP(V42,Tabelas!B:D,3,0),0),\"\")","v":0},{"$f":"IF(A42<>\"\",IFERROR(VLOOKUP(W42,Tabelas!B:D,3,0),0),\"\")","v":0},{"$f":"IF(A42<>\"\",IFERROR(VLOOKUP(X42,Tabelas!B:D,3,0),0),\"\")","v":0},{"$f":"IF(A42<>\"\",IFERROR(VLOOKUP(Y42,Tabelas!B:D,3,0),0),\"\")","v":0},{"$f":"IF(A42<>\"\",IFERROR(VLOOKUP(Z42,Tabelas!B:D,3,0),0),\"\")","v":0},{"$f":"IF(A42<>\"\",IFERROR(VLOOKUP(AA42,Tabelas!B:D,3,0),0),\"\")","v":0},{"$f":"IF(A42<>\"\",IFERROR(VLOOKUP(AB42,Tabelas!B:D,3,0),0),\"\")","v":0},{"$f":"IF(A42<>\"\",IFERROR(VLOOKUP(AC42,Tabelas!B:D,3,0),0),\"\")","v":0},{"$f":"IF(A42<>\"\",IFERROR(VLOOKUP(AD42,Tabelas!B:D,3,0),0),\"\")","v":0},{"$f":"IF(A42<>\"\",IFERROR(VLOOKUP(AE42,Tabelas!B:D,3,0),0),\"\")","v":0},{"$f":"IF(A42<>\"\",IFERROR(VLOOKUP(AF42,Tabelas!B:D,3,0),0),\"\")","v":0},{"$f":"IF(A42<>\"\",IFERROR(VLOOKUP(AG42,Tabelas!B:D,3,0),0),\"\")","v":0},{"$f":"IF(A42<>\"\",IFERROR(VLOOKUP(AH42,Tabelas!B:D,3,0),0),\"\")","v":0},{"$f":"IF(A42<>\"\",IFERROR(VLOOKUP(AI42,Tabelas!B:D,3,0),0),\"\")","v":0},{"$f":"IF(A42<>\"\",IFERROR(VLOOKUP(AJ42,Tabelas!B:D,3,0),0),\"\")","v":0},{"$f":"IF(A42<>\"\",IFERROR(VLOOKUP(AK42,Tabelas!B:D,3,0),0),\"\")","v":0},{"$f":"IF(A42<>\"\",IFERROR(VLOOKUP(AL42,Tabelas!B:D,3,0),0),\"\")","v":0},{"$f":"IF(A42<>\"\",IFERROR(VLOOKUP(AM42,Tabelas!B:D,3,0),0),\"\")","v":0},{"$f":"IF(A42<>\"\",IFERROR(VLOOKUP(AN42,Tabelas!B:D,3,0),0),\"\")","v":0},{"$f":"IF(A42<>\"\",IFERROR(VLOOKUP(AO42,Tabelas!B:D,3,0),0),\"\")","v":0},{"$f":"IF(A42<>\"\",IFERROR(VLOOKUP(AP42,Tabelas!B:D,3,0),0),\"\")","v":0},{"$f":"IF(A42<>\"\",IFERROR(VLOOKUP(AQ42,Tabelas!B:D,3,0),0),\"\")","v":0}]
[null,null,null,null,null,null,null,null,null,null,null,null,null,null,null,null,null,null,null,null,null,null,null,null,null,null,null,null,null,null,null,null,null,null,null,null,null,null,null,null,null,null,null,{"$f":"IF(A43<>\"\",IFERROR(VLOOKUP(M43,Tabelas!B:D,3,0),0),\"\")","v":""},{"$f":"IF(A43<>\"\",IFERROR(VLOOKUP(N43,Tabelas!B:D,3,0),0),\"\")","v":""},{"$f":"IF(A43<>\"\",IFERROR(VLOOKUP(O43,Tabelas!B:D,3,0),0),\"\")","v":""},{"$f":"IF(A43<>\"\",IFERROR(VLOOKUP(P43,Tabelas!B:D,3,0),0),\"\")","v":""},{"$f":"IF(A43<>\"\",IFERROR(VLOOKUP(Q43,Tabelas!B:D,3,0),0),\"\")","v":""},{"$f":"IF(A43<>\"\",IFERROR(VLOOKUP(R43,Tabelas!B:D,3,0),0),\"\")","v":""},{"$f":"IF(A43<>\"\",IFERROR(VLOOKUP(S43,Tabelas!B:D,3,0),0),\"\")","v":""},{"$f":"IF(A43<>\"\",IFERROR(VLOOKUP(T43,Tabelas!B:D,3,0),0),\"\")","v":""},{"$f":"IF(A43<>\"\",IFERROR(VLOOKUP(U43,Tabelas!B:D,3,0),0),\"\")","v":""},{"$f":"IF(A43<>\"\",IFERROR(VLOOKUP(V43,Tabelas!B:D,3,0),0),\"\")","v":""},{"$f":"IF(A43<>\"\",IFERROR(VLOOKUP(W43,Tabelas!B:D,3,0),0),\"\")","v":""},{"$f":"IF(A43<>\"\",IFERROR(VLOOKUP(X43,Tabelas!B:D,3,0),0),\"\")","v":""},{"$f":"IF(A43<>\"\",IFERROR(VLOOKUP(Y43,Tabelas!B:D,3,0),0),\"\")","v":""},{"$f":"IF(A43<>\"\",IFERROR(VLOOKUP(Z43,Tabelas!B:D,3,0),0),\"\")","v":""},{"$f":"IF(A43<>\"\",IFERROR(VLOOKUP(AA43,Tabelas!B:D,3,0),0),\"\")","v":""},{"$f":"IF(A43<>\"\",IFERROR(VLOOKUP(AB43,Tabelas!B:D,3,0),0),\"\")","v":""},{"$f":"IF(A43<>\"\",IFERROR(VLOOKUP(AC43,Tabelas!B:D,3,0),0),\"\")","v":""},{"$f":"IF(A43<>\"\",IFERROR(VLOOKUP(AD43,Tabelas!B:D,3,0),0),\"\")","v":""},{"$f":"IF(A43<>\"\",IFERROR(VLOOKUP(AE43,Tabelas!B:D,3,0),0),\"\")","v":""},{"$f":"IF(A43<>\"\",IFERROR(VLOOKUP(AF43,Tabelas!B:D,3,0),0),\"\")","v":""},{"$f":"IF(A43<>\"\",IFERROR(VLOOKUP(AG43,Tabelas!B:D,3,0),0),\"\")","v":""},{"$f":"IF(A43<>\"\",IFERROR(VLOOKUP(AH43,Tabelas!B:D,3,0),0),\"\")","v":""},{"$f":"IF(A43<>\"\",IFERROR(VLOOKUP(AI43,Tabelas!B:D,3,0),0),\"\")","v":""},{"$f":"IF(A43<>\"\",IFERROR(VLOOKUP(AJ43,Tabelas!B:D,3,0),0),\"\")","v":""},{"$f":"IF(A43<>\"\",IFERROR(VLOOKUP(AK43,Tabelas!B:D,3,0),0),\"\")","v":""},{"$f":"IF(A43<>\"\",IFERROR(VLOOKUP(AL43,Tabelas!B:D,3,0),0),\"\")","v":""},{"$f":"IF(A43<>\"\",IFERROR(VLOOKUP(AM43,Tabelas!B:D,3,0),0),\"\")","v":""},{"$f":"IF(A43<>\"\",IFERROR(VLOOKUP(AN43,Tabelas!B:D,3,0),0),\"\")","v":""},{"$f":"IF(A43<>\"\",IFERROR(VLOOKUP(AO43,Tabelas!B:D,3,0),0),\"\")","v":""},{"$f":"IF(A43<>\"\",IFERROR(VLOOKUP(AP43,Tabelas!B:D,3,0),0),\"\")","v":""},{"$f":"IF(A43<>\"\",IFERROR(VLOOKUP(AQ43,Tabelas!B:D,3,0),0),\"\")","v":""}]
["Legenda:"]
["Licença Maternidade","LM","Férias",null,null,null,null,null,null,"FE",null,"Ponto Facultativo",null,null,null,null,null,null,null,"PF","Manhã *",null,null,null,null,null,null,"M","Diurno (8 hrs) *",null,null,null,null,null,null,"MT"]
["Licença Paternidade","LP","Feriado",null,null,null,null,null,null,"FD",null,"Abono **",null,null,null,null,null,null,null,"AB","Tarde *",null,null,null,null,null,null,"T","Dia/ noite (24 hrs) *",null,null,null,null,null,null,"DN"]
["Licença Médica/Odontológica","L","Descanso Semanal Remunerado",null,null,null,null,null,null,"DSR",null,"Compensação de Horas***",null,null,null,null,null,null,null,"CH","Plantão Dia (12 hrs) *",null,null,null,null,null,null,"D"]
["Licença Capacitação","LC","Recesso",null,null,null,null,null,null,"RC",null,"Afastamento**",null,null,null,null,null,null,null,"AF","Plantão Noite (12 hrs) *",null,null,null,null,null,null,"N"]
[]
["OBSERVAÇÕES:"]
["* Para inserção das legendas referentes às jornadas de trabalho, verificar a Tabela 1 do Anexo do Memorando-Circular - SEI nº   25 /2018/CAP/DGP-EBSERH."]
["** Para inserção das legendas referentes aos Afastamentos previstos em lei e às Compensações de horas, verificar a Tabela 2 do Anexo do Memorando-Circular - SEI nº   25 /2018/CAP/DGP-EBSERH."]

{"sheet":"Março","index":2,"n_rows":51,"n_cols":82,"rows_kept":51,"cut":false,"hidden":false,"merged":[[43,20,43,26],[44,2,44,8],[44,9,44,10],[44,11,44,18],[44,20,44,26],[43,2,43,8],[43,9,43,10],[45,20,45,26],[46,2,46,8],[46,9,46,10],[46,11,46,18],[46,20,46,26],[38,0,38,11],[39,0,39,11],[40,0,40,11],[45,2,45,8],[45,9,45,10],[45,11,45,18],[43,11,43,18],[1,0,1,42],[2,0,2,42],[3,0,3,42],[4,1,4,20],[4,23,4,34],[4,37,4,42],[5,6,5,11],[6,76,7,76],[6,77,7,77],[6,78,7,78],[6,79,7,79],[6,6,7,6],[6,7,7,7],[6,8,7,8],[6,11,7,11],[6,9,7,9],[6,10,7,10],[6,80,7,80],[6,81,7,81],[5,12,5,42],[5,43,5,73],[5,75,5,81],[5,74,7,74],[6,75,7,75],[38,79,40,79],[38,80,40,80],[38,81,40,81],[43,28,43,34],[44,28,44,34],[38,74,40,74],[38,75,40,75],[38,76,40,76],[38,77,40,77],[38,78,40,78]]}
[]
[]
["NOME DO HU"]
["ESCALA MENSAL DE TRABALHO"]
["DIVISÃO /SETOR/UNIDADE:",null,null,null,null,null,null,null,null,null,null,null,null,null,null,null,null,null,null,null,null,"MÊS:",null,"Março",null,null,null,null,null,null,null,null,null,null,null,"ANO:",null,2020]
["NOME COMPLETO","SIAPE","     Registro Conselho Classe","Cargo","Vínculo","    C.H Sem","INTERVALO",null,null,null,null,null,"DIAS DO MÊS",null,null,null,null,null,null,null,null,null,null,null,null,null,null,null,null,null,null,null,null,null,null,null,null,null,null,null,null,null,null,"CÁLCULO DAS HORAS",null,null,null,null,null,null,null,null,null,null,null,null,null,null,null,null,null,null,null,null,null,null,null,null,null,null,null,null,null,null,"CH Men.","Dias"]
[null,null,null,null,null,null,"15' M","15' T","15' N","1H D","1H N","2H",1,2,3,4,5,6,7,8,9,10,11,12,13,14,15,16,17,18,19,20,21,22,23,24,25,{"$f":"IF(DAY(DATE(AL5,VLOOKUP(X5,Tabelas!M:N,2,0)+1,1)-1)>=26,26,\"\")","v":26},{"$f":"IF(DAY(DATE(AL5,VLOOKUP(X5,Tabelas!M:N,2,0)+1,1)-1)>=27,27,\"\")","v":27},{"$f":"IF(DAY(DATE(AL5,VLOOKUP(X5,Tabelas!M:N,2,0)+1,1)-1)>=28,28,\"\")","v":28},{"$f":"IF(DAY(DATE(AL5,VLOOKUP(X5,Tabelas!M:N,2,0)+1,1)-1)>=29,29,\"\")","v":29},{"$f":"IF(DAY(DATE(AL5,VLOOKUP(X5,Tabelas!M:N,2,0)+1,1)-1)>=30,30,\"\")","v":30},{"$f":"IF(DAY(DATE(AL5,VLOOKUP(X5,Tabelas!M:N,2,0)+1,1)-1)>=31,31,\"\")","v":31},null,null,null,null,null,null,null,null,null,null,null,null,null,null,null,null,null,null,null,null,null,null,null,null,null,null,null,null,null,null,null,null,"LM/LP/L","AB","FE","LC","CH","AF  "," Total Afast."]
[null,null,null,null,null,null,null,null,null,null,null,null,{"$f":"IF(M7<>\"\",IFERROR(VLOOKUP(WEEKDAY(CONCATENATE(M7,$X$5,$AL$5)),Tabelas!$I:$J,2,0),\"\"),\"\")","v":"DOM"},{"$f":"IF(N7<>\"\",IFERROR(VLOOKUP(WEEKDAY(CONCATENATE(N7,$X$5,$AL$5)),Tabelas!$I:$J,2,0),\"\"),\"\")","v":"SEG"},{"$f":"IF(O7<>\"\",IFERROR(VLOOKUP(WEEKDAY(CONCATENATE(O7,$X$5,$AL$5)),Tabelas!$I:$J,2,0),\"\"),\"\")","v":"TER"},{"$f":"IF(P7<>\"\",IFERROR(VLOOKUP(WEEKDAY(CONCATENATE(P7,$X$5,$AL$5)),Tabelas!$I:$J,2,0),\"\"),\"\")","v":"QUA"},{"$f":"IF(Q7<>\"\",IFERROR(VLOOKUP(WEEKDAY(CONCATENATE(Q7,$X$5,$AL$5)),Tabelas!$I:$J,2,0),\"\"),\"\")","v":"QUI"},{"$f":"IF(R7<>\"\",IFERROR(VLOOKUP(WEEKDAY(CONCATENATE(R7,$X$5,$AL$5)),Tabelas!$I:$J,2,0),\"\"),\"\")","v":"SEX"},{"$f":"IF(S7<>\"\",IFERROR(VLOOKUP(WEEKDAY(CONCATENATE(S7,$X$5,$AL$5)),Tabelas!$I:$J,2,0),\"\"),\"\")","v":"SAB"},{"$f":"IF(T7<>\"\",IFERROR(VLOOKUP(WEEKDAY(CONCATENATE(T7,$X$5,$AL$5)),Tabelas!$I:$J,2,0),\"\"),\"\")","v":"DOM"},{"$f":"IF(U7<>\"\",IFERROR(VLOOKUP(WEEKDAY(CONCATENATE(U7,$X$5,$AL$5)),Tabelas!$I:$J,2,0),\"\"),\"\")","v":"SEG"},{"$f":"IF(V7<>\"\",IFERROR(VLOOKUP(WEEKDAY(CONCATENATE(V7,$X$5,$AL$5)),Tabelas!$I:$J,2,0),\"\"),\"\")","v":"TER"},{"$f":"IF(W7<>\"\",IFERROR(VLOOKUP(WEEKDAY(CONCATENATE(W7,$X$5,$AL$5)),Tabelas!$I:$J,2,0),\"\"),\"\")","v":"QUA"},{"$f":"IF(X7<>\"\",IFERROR(VLOOKUP(WEEKDAY(CONCATENATE(X7,$X$5,$AL$5)),Tabelas!$I:$J,2,0),\"\"),\"\")","v":"QUI"},{"$f":"IF(Y7<>\"\",IFERROR(VLOOKUP(WEEKDAY(CONCATENATE(Y7,$X$5,$AL$5)),Tabelas!$I:$J,2,0),\"\"),\"\")","v":"SEX"},{"$f":"IF(Z7<>\"\",IFERROR(VLOOKUP(WEEKDAY(CONCATENATE(Z7,$X$5,$AL$5)),Tabelas!$I:$J,2,0),\"\"),\"\")","v":"SAB"},{"$f":"IF(AA7<>\"\",IFERROR(VLOOKUP(WEEKDAY(CONCATENATE(AA7,$X$5,$AL$5)),Tabelas!$I:$J,2,0),\"\"),\"\")","v":"DOM"},{"$f":"IF(AB7<>\"\",IFERROR(VLOOKUP(WEEKDAY(CONCATENATE(AB7,$X$5,$AL$5)),Tabelas!$I:$J,2,0),\"\"),\"\")","v":"SEG"},{"$f":"IF(AC7<>\"\",IFERROR(VLOOKUP(WEEKDAY(CONCATENATE(AC7,$X$5,$AL$5)),Tabelas!$I:$J,2,0),\"\"),\"\")","v":"TER"},{"$f":"IF(AD7<>\"\",IFERROR(VLOOKUP(WEEKDAY(CONCATENATE(AD7,$X$5,$AL$5)),Tabelas!$I:$J,2,0),\"\"),\"\")","v":"QUA"},{"$f":"IF(AE7<>\"\",IFERROR(VLOOKUP(WEEKDAY(CONCATENATE(AE7,$X$5,$AL$5)),Tabelas!$I:$J,2,0),\"\"),\"\")","v":"QUI"},{"$f":"IF(AF7<>\"\",IFERROR(VLOOKUP(WEEKDAY(CONCATENATE(AF7,$X$5,$AL$5)),Tabelas!$I:$J,2,0),\"\"),\"\")","v":"SEX"},{"$f":"IF(AG7<>\"\",IFERROR(VLOOKUP(WEEKDAY(CONCATENATE(AG7,$X$5,$AL$5)),Tabelas!$I:$J,2,0),\"\"),\"\")","v":"SAB"},{"$f":"IF(AH7<>\"\",IFERROR(VLOOKUP(WEEKDAY(CONCATENATE(AH7,$X$5,$AL$5)),Tabelas!$I:$J,2,0),\"\"),\"\")","v":"DOM"},{"$f":"IF(AI7<>\"\",IFERROR(VLOOKUP(WEEKDAY(CONCATENATE(AI7,$X$5,$AL$5)),Tabelas!$I:$J,2,0),\"\"),\"\")","v":"SEG"},{"$f":"IF(AJ7<>\"\",IFERROR(VLOOKUP(WEEKDAY(CONCATENATE(AJ7,$X$5,$AL$5)),Tabelas!$I:$J,2,0),\"\"),\"\")","v":"TER"},{"$f":"IF(AK7<>\"\",IFERROR(VLOOKUP(WEEKDAY(CONCATENATE(AK7,$X$5,$AL$5)),Tabelas!$I:$J,2,0),\"\"),\"\")","v":"QUA"},{"$f":"IF(AL7<>\"\",IFERROR(VLOOKUP(WEEKDAY(CONCATENATE(AL7,$X$5,$AL$5)),Tabelas!$I:$J,2,0),\"\"),\"\")","v":"QUI"},{"$f":"IF(AM7<>\"\",IFERROR(VLOOKUP(WEEKDAY(CONCATENATE(AM7,$X$5,$AL$5)),Tabelas!$I:$J,2,0),\"\"),\"\")","v":"SEX"},{"$f":"IF(AN7<>\"\",IFERROR(VLOOKUP(WEEKDAY(CONCATENATE(AN7,$X$5,$AL$5)),Tabelas!$I:$J,2,0),\"\"),\"\")","v":"SAB"},{"$f":"IF(AO7<>\"\",IFERROR(VLOOKUP(WEEKDAY(CONCATENATE(AO7,$X$5,$AL$5)),Tabelas!$I:$J,2,0),\"\"),\"\")","v":"DOM"},{"$f":"IF(AP7<>\"\",IFERROR(VLOOKUP(WEEKDAY(CONCATENATE(AP7,$X$5,$AL$5)),Tabelas!$I:$J,2,0),\"\"),\"\")","v":"SEG"},{"$f":"IF(AQ7<>\"\",IFERROR(VLOOKUP(WEEKDAY(CONCATENATE(AQ7,$X$5,$AL$5)),Tabelas!$I:$J,2,0),\"\"),\"\")","v":"TER"},1,2,3,4,5,6,7,8,9,10,11,12,13,14,15,16,17,18,19,20,21,22,23,24,25,26,27,28,29,30,31]
["ROTINA",null,null,null,null,null,null,null,null,null,null,null,null,null,null,null,null,null,null,null,null,null,null,null,null,null,null,null,null,null,null,null,null,null,null,null,null,null,null,null,null,null,null,{"$f":"IF(A9<>\"\",IFERROR(VLOOKUP(M9,Tabelas!B:D,3,0),0),\"\")","v":0},{"$f":"IF(A9<>\"\",IFERROR(VLOOKUP(N9,Tabelas!B:D,3,0),0),\"\")","v":0},{"$f":"IF(A9<>\"\",IFERROR(VLOOKUP(O9,Tabelas!B:D,3,0),0),\"\")","v":0},{"$f":"IF(A9<>\"\",IFERROR(VLOOKUP(P9,Tabelas!B:D,3,0),0),\"\")","v":0},{"$f":"IF(A9<>\"\",IFERROR(VLOOKUP(Q9,Tabelas!B:D,3,0),0),\"\")","v":0},{"$f":"IF(A9<>\"\",IFERROR(VLOOKUP(R9,Tabelas!B:D,3,0),0),\"\")","v":0},{"$f":"IF(A9<>\"\",IFERROR(VLOOKUP(S9,Tabelas!B:D,3,0),0),\"\")","v":0},{"$f":"IF(A9<>\"\",IFERROR(VLOOKUP(T9,Tabelas!B:D,3,0),0),\"\")","v":0},{"$f":"IF(A9<>\"\",IFERROR(VLOOKUP(U9,Tabelas!B:D,3,0),0),\"\")","v":0},{"$f":"IF(A9<>\"\",IFERROR(VLOOKUP(V9,Tabelas!B:D,3,0),0),\"\")","v":0},{"$f":"IF(A9<>\"\",IFERROR(VLOOKUP(W9,Tabelas!B:D,3,0),0),\"\")","v":0},{"$f":"IF(A9<>\"\",IFERROR(VLOOKUP(X9,Tabelas!B:D,3,0),0),\"\")","v":0},{"$f":"IF(A9<>\"\",IFERROR(VLOOKUP(Y9,Tabelas!B:D,3,0),0),\"\")","v":0},{"$f":"IF(A9<>\"\",IFERROR(VLOOKUP(Z9,Tabelas!B:D,3,0),0),\"\")","v":0},{"$f":"IF(A9<>\"\",IFERROR(VLOOKUP(AA9,Tabelas!B:D,3,0),0),\"\")","v":0},{"$f":"IF(A9<>\"\",IFERROR(VLOOKUP(AB9,Tabelas!B:D,3,0),0),\"\")","v":0},{"$f":"IF(A9<>\"\",IFERROR(VLOOKUP(AC9,Tabelas!B:D,3,0),0),\"\")","v":0},{"$f":"IF(A9<>\"\",IFERROR(VLOOKUP(AD9,Tabelas!B:D,3,0),0),\"\")","v":0},{"$f":"IF(A9<>\"\",IFERROR(VLOOKUP(AE9,Tabelas!B:D,3,0),0),\"\")","v":0},{"$f":"IF(A9<>\"\",IFERROR(VLOOKUP(AF9,Tabelas!B:D,3,0),0),\"\")","v":0},{"$f":"IF(A9<>\"\",IFERROR(VLOOKUP(AG9,Tabelas!B:D,3,0),0),\"\")","v":0},{"$f":"IF(A9<>\"\",IFERROR(VLOOKUP(AH9,Tabelas!B:D,3,0),0),\"\")","v":0},{"$f":"IF(A9<>\"\",IFERROR(VLOOKUP(AI9,Tabelas!B:D,3,0),0),\"\")","v":0},{"$f":"IF(A9<>\"\",IFERROR(VLOOKUP(AJ9,Tabelas!B:D,3,0),0),\"\")","v":0},{"$f":"IF(A9<>\"\",IFERROR(VLOOKUP(AK9,Tabelas!B:D,3,0),0),\"\")","v":0},{"$f":"IF(A9<>\"\",IFERROR(VLOOKUP(AL9,Tabelas!B:D,3,0),0),\"\")","v":0},{"$f":"IF(A9<>\"\",IFERROR(VLOOKUP(AM9,Tabelas!B:D,3,0),0),\"\")","v":0},{"$f":"IF(A9<>\"\",IFERROR(VLOOKUP(AN9,Tabelas!B:D,3,0),0),\"\")","v":0},{"$f":"IF(A9<>\"\",IFERROR(VLOOKUP(AO9,Tabelas!B:D,3,0),0),\"\")","v":0},{"$f":"IF(A9<>\"\",IFERROR(VLOOKUP(AP9,Tabelas!B:D,3,0),0),\"\")","v":0},{"$f":"IF(A9<>\"\",IFERROR(VLOOKUP(AQ9,Tabelas!B:D,3,0),0),\"\")","v":0},{"$f":"IF(AND(A9<>\"\",E9=\"Ebserh\"),SUM(AR9:BV9)+COUNTIF(M9:AQ9,\"N*\")+COUNTIF(M9:AQ9,\"DN*\"),IF(AND(A9<>\"\",E9<>\"Ebserh\"),SUM(AR9:BV9),\"\"))","v":0},{"$f":"IF(A9<>\"\",COUNTIF(M9:AQ9,\"LM\")+COUNTIF(M9:AQ9,\"L\")+COUNTIF(M9:AQ9,\"LP\"),\"\")","v":0},{"$f":"IF(A9<>\"\",COUNTIF(M9:AQ9,\"AB*\"),\"\")","v":0},{"$f":"IF(A9<>\"\",COUNTIF(M9:AQ9,\"FE\"),\"\")","v":0},{"$f":"IF(A9<>\"\",COUNTIF(M9:AQ9,\"LC\"),\"\")","v":0},{"$f":"IF(A9<>\"\",COUNTIF(M9:AQ9,\"CH*\"),\"\")","v":0},{"$f":"IF(A9<>\"\",COUNTIF(M9:AQ9,\"AF1\")+COUNTIF(M9:AQ9,\"AF2\")+COUNTIF(M9:AQ9,\"AF3\")+COUNTIF(M9:AQ9,\"AF4\")+COUNTIF(M9:AQ9,\"AF5\")+COUNTIF(M9:AQ9,\"AF6\")+COUNTIF(M9:AQ9,\"AF7\")+COUNTIF(M9:AQ9,\"AF8\")+COUNTIF(M9:AQ9,\"AF9\")+COUNTIF(M9:AQ9,\"AF10\")+COUNTIF(M9:AQ9,\"AF11\")+COUNTIF(M9:AQ9,\"AF12\")+COUNTIF(M9:AQ9,\"AF13\")+COUNTIF(M9:AQ9,\"AF14\"),\"\")","v":0},{"$f":"IF(A9<>\"\",COUNTIF(M9:AQ9,\"CH*\")+COUNTIF(M9:AQ9,\"L\")+COUNTIF(M9:AQ9,\"LM\")+COUNTIF(M9:AQ9,\"LP\")+COUNTIF(M9:AQ9,\"LC\")+COUNTIF(M9:AQ9,\"AB*\")+COUNTIF(M9:AQ9,\"AF1\")+COUNTIF(M9:AQ9,\"AF2\")+COUNTIF(M9:AQ9,\"AF3\")+COUNTIF(M9:AQ9,\"AF4\")+COUNTIF(M9:AQ9,\"AF5\")+COUNTIF(M9:AQ9,\"AF6\")+COUNTIF(M9:AQ9,\"AF7\")+COUNTIF(M9:AQ9,\"AF8\")+COUNTIF(M9:AQ9,\"AF9\")+COUNTIF(M9:AQ9,\"AF10\")+COUNTIF(M9:AQ9,\"AF11\")+COUNTIF(M9:AQ9,\"AF12\")+COUNTIF(M9:AQ9,\"AF13\")+COUNTIF(M9:AQ9,\"AF14\")+COUNTIF(M9:AQ9,\"RC\")+COUNTIF(M9:AQ9,\"FO\")+COUNTIF(M9:AQ9,\"FE\"),\"\")","v":0}]
["Alexandre Luciano Klein",2312539,null,"ME","RJU",30,null,null,null,null,null,null,null,"M17","M17","M17","M17","M17",null,null,"M17","M17","M17","M17","M17",null,null,"M17","M17","M17","M17","M17",null,null,null,"M17","M17","M17","M17",null,null,"M17","M17",{"$f":"IF(A10<>\"\",IFERROR(VLOOKUP(M10,Tabelas!B:D,3,0),0),\"\")","v":0},{"$f":"IF(A10<>\"\",IFERROR(VLOOKUP(N10,Tabelas!B:D,3,0),0),\"\")","v":6},{"$f":"IF(A10<>\"\",IFERROR(VLOOKUP(O10,Tabelas!B:D,3,0),0),\"\")","v":6},{"$f":"IF(A10<>\"\",IFERROR(VLOOKUP(P10,Tabelas!B:D,3,0),0),\"\")","v":6},{"$f":"IF(A10<>\"\",IFERROR(VLOOKUP(Q10,Tabelas!B:D,3,0),0),\"\")","v":6},{"$f":"IF(A10<>\"\",IFERROR(VLOOKUP(R10,Tabelas!B:D,3,0),0),\"\")","v":6},{"$f":"IF(A10<>\"\",IFERROR(VLOOKUP(S10,Tabelas!B:D,3,0),0),\"\")","v":0},{"$f":"IF(A10<>\"\",IFERROR(VLOOKUP(T10,Tabelas!B:D,3,0),0),\"\")","v":0},{"$f":"IF(A10<>\"\",IFERROR(VLOOKUP(U10,Tabelas!B:D,3,0),0),\"\")","v":6},{"$f":"IF(A10<>\"\",IFERROR(VLOOKUP(V10,Tabelas!B:D,3,0),0),\"\")","v":6},{"$f":"IF(A10<>\"\",IFERROR(VLOOKUP(W10,Tabelas!B:D,3,0),0),\"\")","v":6},{"$f":"IF(A10<>\"\",IFERROR(VLOOKUP(X10,Tabelas!B:D,3,0),0),\"\")","v":6},{"$f":"IF(A10<>\"\",IFERROR(VLOOKUP(Y10,Tabelas!B:D,3,0),0),\"\")","v":6},{"$f":"IF(A10<>\"\",IFERROR(VLOOKUP(Z10,Tabelas!B:D,3,0),0),\"\")","v":0},{"$f":"IF(A10<>\"\",IFERROR(VLOOKUP(AA10,Tabelas!B:D,3,0),0),\"\")","v":0},{"$f":"IF(A10<>\"\",IFERROR(VLOOKUP(AB10,Tabelas!B:D,3,0),0),\"\")","v":6},{"$f":"IF(A10<>\"\",IFERROR(VLOOKUP(AC10,Tabelas!B:D,3,0),0),\"\")","v":6},{"$f":"IF(A10<>\"\",IFERROR(VLOOKUP(AD10,Tabelas!B:D,3,0),0),\"\")","v":6},{"$f":"IF(A10<>\"\",IFERROR(VLOOKUP(AE10,Tabelas!B:D,3,0),0),\"\")","v":6},{"$f":"IF(A10<>\"\",IFERROR(VLOOKUP(AF10,Tabelas!B:D,3,0),0),\"\")","v":6},{"$f":"IF(A10<>\"\",IFERROR(VLOOKUP(AG10,Tabelas!B:D,3,0),0),\"\")","v":0},{"$f":"IF(A10<>\"\",IFERROR(VLOOKUP(AH10,Tabelas!B:D,3,0),0),\"\")","v":0},{"$f":"IF(A10<>\"\",IFERROR(VLOOKUP(AI10,Tabelas!B:D,3,0),0),\"\")","v":0},{"$f":"IF(A10<>\"\",IFERROR(VLOOKUP(AJ10,Tabelas!B:D,3,0),0),\"\")","v":6},{"$f":"IF(A10<>\"\",IFERROR(VLOOKUP(AK10,Tabelas!B:D,3,0),0),\"\")","v":6},{"$f":"IF(A10<>\"\",IFERROR(VLOOKUP(AL10,Tabelas!B:D,3,0),0),\"\")","v":6},{"$f":"IF(A10<>\"\",IFERROR(VLOOKUP(AM10,Tabelas!B:D,3,0),0),\"\")","v":6},{"$f":"IF(A10<>\"\",IFERROR(VLOOKUP(AN10,Tabelas!B:D,3,0),0),\"\")","v":0},{"$f":"IF(A10<>\"\",IFERROR(VLOOKUP(AO10,Tabelas!B:D,3,0),0),\"\")","v":0},{"$f":"IF(A10<>\"\",IFERROR(VLOOKUP(AP10,Tabelas!B:D,3,0),0),\"\")","v":6},{"$f":"IF(A10<>\"\",IFERROR(VLOOKUP(AQ10,Tabelas!B:D,3,0),0),\"\")","v":6},126,0,0,0,0,0,0,0]
["Alexandre Luciano Klein",3312539,null,"ME","RJU",20,null,null,null,null,null,null,null,"T17","T17","T17","T17",null,null,null,"T17","T17","T17","T17",null,null,null,"T17",null,"T17","T17",null,null,null,null,null,"T17","T17",null,null,null,"T17",null,{"$f":"IF(A11<>\"\",IFERROR(VLOOKUP(M11,Tabelas!B:D,3,0),0),\"\")","v":0},{"$f":"IF(A11<>\"\",IFERROR(VLOOKUP(N11,Tabelas!B:D,3,0),0),\"\")","v":6},{"$f":"IF(A11<>\"\",IFERROR(VLOOKUP(O11,Tabelas!B:D,3,0),0),\"\")","v":6},{"$f":"IF(A11<>\"\",IFERROR(VLOOKUP(P11,Tabelas!B:D,3,0),0),\"\")","v":6},{"$f":"IF(A11<>\"\",IFERROR(VLOOKUP(Q11,Tabelas!B:D,3,0),0),\"\")","v":6},{"$f":"IF(A11<>\"\",IFERROR(VLOOKUP(R11,Tabelas!B:D,3,0),0),\"\")","v":0},{"$f":"IF(A11<>\"\",IFERROR(VLOOKUP(S11,Tabelas!B:D,3,0),0),\"\")","v":0},{"$f":"IF(A11<>\"\",IFERROR(VLOOKUP(T11,Tabelas!B:D,3,0),0),\"\")","v":0},{"$f":"IF(A11<>\"\",IFERROR(VLOOKUP(U11,Tabelas!B:D,3,0),0),\"\")","v":6},{"$f":"IF(A11<>\"\",IFERROR(VLOOKUP(V11,Tabelas!B:D,3,0),0),\"\")","v":6},{"$f":"IF(A11<>\"\",IFERROR(VLOOKUP(W11,Tabelas!B:D,3,0),0),\"\")","v":6},{"$f":"IF(A11<>\"\",IFERROR(VLOOKUP(X11,Tabelas!B:D,3,0),0),\"\")","v":6},{"$f":"IF(A11<>\"\",IFERROR(VLOOKUP(Y11,Tabelas!B:D,3,0),0),\"\")","v":0},{"$f":"IF(A11<>\"\",IFERROR(VLOOKUP(Z11,Tabelas!B:D,3,0),0),\"\")","v":0},{"$f":"IF(A11<>\"\",IFERROR(VLOOKUP(AA11,Tabelas!B:D,3,0),0),\"\")","v":0},{"$f":"IF(A11<>\"\",IFERROR(VLOOKUP(AB11,Tabelas!B:D,3,0),0),\"\")","v":6},{"$f":"IF(A11<>\"\",IFERROR(VLOOKUP(AC11,Tabelas!B:D,3,0),0),\"\")","v":0},{"$f":"IF(A11<>\"\",IFERROR(VLOOKUP(AD11,Tabelas!B:D,3,0),0),\"\")","v":6},{"$f":"IF(A11<>\"\",IFERROR(VLOOKUP(AE11,Tabelas!B:D,3,0),0),\"\")","v":6},{"$f":"IF(A11<>\"\",IFERROR(VLOOKUP(AF11,Tabelas!B:D,3,0),0),\"\")","v":0},{"$f":"IF(A11<>\"\",IFERROR(VLOOKUP(AG11,Tabelas!B:D,3,0),0),\"\")","v":0},{"$f":"IF(A11<>\"\",IFERROR(VLOOKUP(AH11,Tabelas!B:D,3,0),0),\"\")","v":0},{"$f":"IF(A11<>\"\",IFERROR(VLOOKUP(AI11,Tabelas!B:D,3,0),0),\"\")","v":0},{"$f":"IF(A11<>\"\",IFERROR(VLOOKUP(AJ11,Tabelas!B:D,3,0),0),\"\")","v":0},{"$f":"IF(A11<>\"\",IFERROR(VLOOKUP(AK11,Tabelas!B:D,3,0),0),\"\")","v":6},{"$f":"IF(A11<>\"\",IFERROR(VLOOKUP(AL11,Tabelas!B:D,3,0),0),\"\")","v":6},{"$f":"IF(A11<>\"\",IFERROR(VLOOKUP(AM11,Tabelas!B:D,3,0),0),\"\")","v":0},{"$f":"IF(A11<>\"\",IFERROR(VLOOKUP(AN11,Tabelas!B:D,3,0),0),\"\")","v":0},{"$f":"IF(A11<>\"\",IFERROR(VLOOKUP(AO11,Tabelas!B:D,3,0),0),\"\")","v":0},{"$f":"IF(A11<>\"\",IFERROR(VLOOKUP(AP11,Tabelas!B:D,3,0),0),\"\")","v":6},{"$f":"IF(A11<>\"\",IFERROR(VLOOKUP(AQ11,Tabelas!B:D,3,0),0),\"\")","v":0},84,0,0,0,0,0,0,0]
["Alice Danielle Correa Mendes Pinto",1357071,null,"ME","RJU",30,null,null,null,null,null,null,null,"M17","T17","M17","M17","M17",null,null,"M17","M17","M17","M17","M17",null,null,"M17","T17","M17","T17","M17",null,null,null,"T17","M17","T17","M17",null,null,"M17","T17",{"$f":"IF(A12<>\"\",IFERROR(VLOOKUP(M12,Tabelas!B:D,3,0),0),\"\")","v":0},{"$f":"IF(A12<>\"\",IFERROR(VLOOKUP(N12,Tabelas!B:D,3,0),0),\"\")","v":6},{"$f":"IF(A12<>\"\",IFERROR(VLOOKUP(O12,Tabelas!B:D,3,0),0),\"\")","v":6},{"$f":"IF(A12<>\"\",IFERROR(VLOOKUP(P12,Tabelas!B:D,3,0),0),\"\")","v":6},{"$f":"IF(A12<>\"\",IFERROR(VLOOKUP(Q12,Tabelas!B:D,3,0),0),\"\")","v":6},{"$f":"IF(A12<>\"\",IFERROR(VLOOKUP(R12,Tabelas!B:D,3,0),0),\"\")","v":6},{"$f":"IF(A12<>\"\",IFERROR(VLOOKUP(S12,Tabelas!B:D,3,0),0),\"\")","v":0},{"$f":"IF(A12<>\"\",IFERROR(VLOOKUP(T12,Tabelas!B:D,3,0),0),\"\")","v":0},{"$f":"IF(A12<>\"\",IFERROR(VLOOKUP(U12,Tabelas!B:D,3,0),0),\"\")","v":6},{"$f":"IF(A12<>\"\",IFERROR(VLOOKUP(V12,Tabelas!B:D,3,0),0),\"\")","v":6},{"$f":"IF(A12<>\"\",IFERROR(VLOOKUP(W12,Tabelas!B:D,3,0),0),\"\")","v":6},{"$f":"IF(A12<>\"\",IFERROR(VLOOKUP(X12,Tabelas!B:D,3,0),0),\"\")","v":6},{"$f":"IF(A12<>\"\",IFERROR(VLOOKUP(Y12,Tabelas!B:D,3,0),0),\"\")","v":6},{"$f":"IF(A12<>\"\",IFERROR(VLOOKUP(Z12,Tabelas!B:D,3,0),0),\"\")","v":0},{"$f":"IF(A12<>\"\",IFERROR(VLOOKUP(AA12,Tabelas!B:D,3,0),0),\"\")","v":0},{"$f":"IF(A12<>\"\",IFERROR(VLOOKUP(AB12,Tabelas!B:D,3,0),0),\"\")","v":6},{"$f":"IF(A12<>\"\",IFERROR(VLOOKUP(AC12,Tabelas!B:D,3,0),0),\"\")","v":6},{"$f":"IF(A12<>\"\",IFERROR(VLOOKUP(AD12,Tabelas!B:D,3,0),0),\"\")","v":6},{"$f":"IF(A12<>\"\",IFERROR(VLOOKUP(AE12,Tabelas!B:D,3,0),0),\"\")","v":6},{"$f":"IF(A12<>\"\",IFERROR(VLOOKUP(AF12,Tabelas!B:D,3,0),0),\"\")","v":6},{"$f":"IF(A12<>\"\",IFERROR(VLOOKUP(AG12,Tabelas!B:D,3,0),0),\"\")","v":0},{"$f":"IF(A12<>\"\",IFERROR(VLOOKUP(AH12,Tabelas!B:D,3,0),0),\"\")","v":0},{"$f":"IF(A12<>\"\",IFERROR(VLOOKUP(AI12,Tabelas!B:D,3,0),0),\"\")","v":0},{"$f":"IF(A12<>\"\",IFERROR(VLOOKUP(AJ12,Tabelas!B:D,3,0),0),\"\")","v":6},{"$f":"IF(A12<>\"\",IFERROR(VLOOKUP(AK12,Tabelas!B:D,3,0),0),\"\")","v":6},{"$f":"IF(A12<>\"\",IFERROR(VLOOKUP(AL12,Tabelas!B:D,3,0),0),\"\")","v":6},{"$f":"IF(A12<>\"\",IFERROR(VLOOKUP(AM12,Tabelas!B:D,3,0),0),\"\")","v":6},{"$f":"IF(A12<>\"\",IFERROR(VLOOKUP(AN12,Tabelas!B:D,3,0),0),\"\")","v":0},{"$f":"IF(A12<>\"\",IFERROR(VLOOKUP(AO12,Tabelas!B:D,3,0),0),\"\")","v":0},{"$f":"IF(A12<>\"\",IFERROR(VLOOKUP(AP12,Tabelas!B:D,3,0),0),\"\")","v":6},{"$f":"IF(A12<>\"\",IFERROR(VLOOKUP(AQ12,Tabelas!B:D,3,0),0),\"\")","v":6},126,0,0,0,0,0,0,0]
["Christie Marie Schweitzer",2081333,null,"ME","RJU",20,null,null,null,null,null,null,null,"T17","T17","T17",null,"T17",null,null,"T17","T17","T17",null,null,null,null,"T17","T17","T17",null,null,null,null,null,"T17","T17",null,null,null,null,"T17","T17",{"$f":"IF(A13<>\"\",IFERROR(VLOOKUP(M13,Tabelas!B:D,3,0),0),\"\")","v":0},{"$f":"IF(A13<>\"\",IFERROR(VLOOKUP(N13,Tabelas!B:D,3,0),0),\"\")","v":6},{"$f":"IF(A13<>\"\",IFERROR(VLOOKUP(O13,Tabelas!B:D,3,0),0),\"\")","v":6},{"$f":"IF(A13<>\"\",IFERROR(VLOOKUP(P13,Tabelas!B:D,3,0),0),\"\")","v":6},{"$f":"IF(A13<>\"\",IFERROR(VLOOKUP(Q13,Tabelas!B:D,3,0),0),\"\")","v":0},{"$f":"IF(A13<>\"\",IFERROR(VLOOKUP(R13,Tabelas!B:D,3,0),0),\"\")","v":6},{"$f":"IF(A13<>\"\",IFERROR(VLOOKUP(S13,Tabelas!B:D,3,0),0),\"\")","v":0},{"$f":"IF(A13<>\"\",IFERROR(VLOOKUP(T13,Tabelas!B:D,3,0),0),\"\")","v":0},{"$f":"IF(A13<>\"\",IFERROR(VLOOKUP(U13,Tabelas!B:D,3,0),0),\"\")","v":6},{"$f":"IF(A13<>\"\",IFERROR(VLOOKUP(V13,Tabelas!B:D,3,0),0),\"\")","v":6},{"$f":"IF(A13<>\"\",IFERROR(VLOOKUP(W13,Tabelas!B:D,3,0),0),\"\")","v":6},{"$f":"IF(A13<>\"\",IFERROR(VLOOKUP(X13,Tabelas!B:D,3,0),0),\"\")","v":0},{"$f":"IF(A13<>\"\",IFERROR(VLOOKUP(Y13,Tabelas!B:D,3,0),0),\"\")","v":0},{"$f":"IF(A13<>\"\",IFERROR(VLOOKUP(Z13,Tabelas!B:D,3,0),0),\"\")","v":0},{"$f":"IF(A13<>\"\",IFERROR(VLOOKUP(AA13,Tabelas!B:D,3,0),0),\"\")","v":0},{"$f":"IF(A13<>\"\",IFERROR(VLOOKUP(AB13,Tabelas!B:D,3,0),0),\"\")","v":6},{"$f":"IF(A13<>\"\",IFERROR(VLOOKUP(AC13,Tabelas!B:D,3,0),0),\"\")","v":6},{"$f":"IF(A13<>\"\",IFERROR(VLOOKUP(AD13,Tabelas!B:D,3,0),0),\"\")","v":6},{"$f":"IF(A13<>\"\",IFERROR(VLOOKUP(AE13,Tabelas!B:D,3,0),0),\"\")","v":0},{"$f":"IF(A13<>\"\",IFERROR(VLOOKUP(AF13,Tabelas!B:D,3,0),0),\"\")","v":0},{"$f":"IF(A13<>\"\",IFERROR(VLOOKUP(AG13,Tabelas!B:D,3,0),0),\"\")","v":0},{"$f":"IF(A13<>\"\",IFERROR(VLOOKUP(AH13,Tabelas!B:D,3,0),0),\"\")","v":0},{"$f":"IF(A13<>\"\",IFERROR(VLOOKUP(AI13,Tabelas!B:D,3,0),0),\"\")","v":0},{"$f":"IF(A13<>\"\",IFERROR(VLOOKUP(AJ13,Tabelas!B:D,3,0),0),\"\")","v":6},{"$f":"IF(A13<>\"\",IFERROR(VLOOKUP(AK13,Tabelas!B:D,3,0),0),\"\")","v":6},{"$f":"IF(A13<>\"\",IFERROR(VLOOKUP(AL13,Tabelas!B:D,3,0),0),\"\")","v":0},{"$f":"IF(A13<>\"\",IFERROR(VLOOKUP(AM13,Tabelas!B:D,3,0),0),\"\")","v":0},{"$f":"IF(A13<>\"\",IFERROR(VLOOKUP(AN13,Tabelas!B:D,3,0),0),\"\")","v":0},{"$f":"IF(A13<>\"\",IFERROR(VLOOKUP(AO13,Tabelas!B:D,3,0),0),\"\")","v":0},{"$f":"IF(A13<>\"\",IFERROR(VLOOKUP(AP13,Tabelas!B:D,3,0),0),\"\")","v":6},{"$f":"IF(A13<>\"\",IFERROR(VLOOKUP(AQ13,Tabelas!B:D,3,0),0),\"\")","v":6},84,0,0,0,0,0,0,0]
["Gina Vieira Velho",1185798,null,"ME","RJU",20,null,null,null,null,null,null,null,"M17","M17","M17","M17",null,null,null,"M17",null,"M17","M17","M17",null,null,"M17",null,"M17","M17",null,null,null,null,null,"M17","M17",null,null,null,"M17",null,{"$f":"IF(A14<>\"\",IFERROR(VLOOKUP(M14,Tabelas!B:D,3,0),0),\"\")","v":0},{"$f":"IF(A14<>\"\",IFERROR(VLOOKUP(N14,Tabelas!B:D,3,0),0),\"\")","v":6},{"$f":"IF(A14<>\"\",IFERROR(VLOOKUP(O14,Tabelas!B:D,3,0),0),\"\")","v":6},{"$f":"IF(A14<>\"\",IFERROR(VLOOKUP(P14,Tabelas!B:D,3,0),0),\"\")","v":6},{"$f":"IF(A14<>\"\",IFERROR(VLOOKUP(Q14,Tabelas!B:D,3,0),0),\"\")","v":6},{"$f":"IF(A14<>\"\",IFERROR(VLOOKUP(R14,Tabelas!B:D,3,0),0),\"\")","v":0},{"$f":"IF(A14<>\"\",IFERROR(VLOOKUP(S14,Tabelas!B:D,3,0),0),\"\")","v":0},{"$f":"IF(A14<>\"\",IFERROR(VLOOKUP(T14,Tabelas!B:D,3,0),0),\"\")","v":0},{"$f":"IF(A14<>\"\",IFERROR(VLOOKUP(U14,Tabelas!B:D,3,0),0),\"\")","v":6},{"$f":"IF(A14<>\"\",IFERROR(VLOOKUP(Y14,Tabelas!B:D,3,0),0),\"\")","v":6},{"$f":"IF(A14<>\"\",IFERROR(VLOOKUP(W14,Tabelas!B:D,3,0),0),\"\")","v":6},{"$f":"IF(A14<>\"\",IFERROR(VLOOKUP(X14,Tabelas!B:D,3,0),0),\"\")","v":6},{"$f":"IF(A14<>\"\",IFERROR(VLOOKUP(#REF!,Tabelas!B:D,3,0),0),\"\")","v":0},{"$f":"IF(A14<>\"\",IFERROR(VLOOKUP(Z14,Tabelas!B:D,3,0),0),\"\")","v":0},{"$f":"IF(A14<>\"\",IFERROR(VLOOKUP(AA14,Tabelas!B:D,3,0),0),\"\")","v":0},{"$f":"IF(A14<>\"\",IFERROR(VLOOKUP(AB14,Tabelas!B:D,3,0),0),\"\")","v":6},{"$f":"IF(A14<>\"\",IFERROR(VLOOKUP(AC14,Tabelas!B:D,3,0),0),\"\")","v":0},{"$f":"IF(A14<>\"\",IFERROR(VLOOKUP(AD14,Tabelas!B:D,3,0),0),\"\")","v":6},{"$f":"IF(A14<>\"\",IFERROR(VLOOKUP(AE14,Tabelas!B:D,3,0),0),\"\")","v":6},{"$f":"IF(A14<>\"\",IFERROR(VLOOKUP(AF14,Tabelas!B:D,3,0),0),\"\")","v":0},{"$f":"IF(A14<>\"\",IFERROR(VLOOKUP(AG14,Tabelas!B:D,3,0),0),\"\")","v":0},{"$f":"IF(A14<>\"\",IFERROR(VLOOKUP(AH14,Tabelas!B:D,3,0),0),\"\")","v":0},{"$f":"IF(A14<>\"\",IFERROR(VLOOKUP(AI14,Tabelas!B:D,3,0),0),\"\")","v":0},{"$f":"IF(A14<>\"\",IFERROR(VLOOKUP(AJ14,Tabelas!B:D,3,0),0),\"\")","v":0},{"$f":"IF(A14<>\"\",IFERROR(VLOOKUP(AK14,Tabelas!B:D,3,0),0),\"\")","v":6},{"$f":"IF(A14<>\"\",IFERROR(VLOOKUP(AL14,Tabelas!B:D,3,0),0),\"\")","v":6},{"$f":"IF(A14<>\"\",IFERROR(VLOOKUP(AM14,Tabelas!B:D,3,0),0),\"\")","v":0},{"$f":"IF(A14<>\"\",IFERROR(VLOOKUP(AN14,Tabelas!B:D,3,0),0),\"\")","v":0},{"$f":"IF(A14<>\"\",IFERROR(VLOOKUP(AO14,Tabelas!B:D,3,0),0),\"\")","v":0},{"$f":"IF(A14<>\"\",IFERROR(VLOOKUP(AP14,Tabelas!B:D,3,0),0),\"\")","v":6},{"$f":"IF(A14<>\"\",IFERROR(VLOOKUP(AQ14,Tabelas!B:D,3,0),0),\"\")","v":0},84,0,0,0,0,0,0,0]
["Rafael Lisboa de Souza",2344070,null,"ME","RJU",30,null,null,null,null,null,null,null,"FE","FE","FE","FE","FE","FE","FE","FE","FE","FE","FE","FE","FE","FE","FE","M17","M17","M17","M17",null,null,null,"M17","M17","M17","M17",null,null,"M17","M17",{"$f":"IF(A15<>\"\",IFERROR(VLOOKUP(M15,Tabelas!B:D,3,0),0),\"\")","v":0},{"$f":"IF(A15<>\"\",IFERROR(VLOOKUP(N15,Tabelas!B:D,3,0),0),\"\")","v":0},{"$f":"IF(A15<>\"\",IFERROR(VLOOKUP(O15,Tabelas!B:D,3,0),0),\"\")","v":0},{"$f":"IF(A15<>\"\",IFERROR(VLOOKUP(P15,Tabelas!B:D,3,0),0),\"\")","v":0},{"$f":"IF(A15<>\"\",IFERROR(VLOOKUP(Q15,Tabelas!B:D,3,0),0),\"\")","v":0},{"$f":"IF(A15<>\"\",IFERROR(VLOOKUP(R15,Tabelas!B:D,3,0),0),\"\")","v":0},{"$f":"IF(A15<>\"\",IFERROR(VLOOKUP(S15,Tabelas!B:D,3,0),0),\"\")","v":0},{"$f":"IF(A15<>\"\",IFERROR(VLOOKUP(T15,Tabelas!B:D,3,0),0),\"\")","v":0},{"$f":"IF(A15<>\"\",IFERROR(VLOOKUP(U15,Tabelas!B:D,3,0),0),\"\")","v":0},{"$f":"IF(A15<>\"\",IFERROR(VLOOKUP(V15,Tabelas!B:D,3,0),0),\"\")","v":0},{"$f":"IF(A15<>\"\",IFERROR(VLOOKUP(W15,Tabelas!B:D,3,0),0),\"\")","v":0},{"$f":"IF(A15<>\"\",IFERROR(VLOOKUP(X15,Tabelas!B:D,3,0),0),\"\")","v":0},{"$f":"IF(A15<>\"\",IFERROR(VLOOKUP(Y15,Tabelas!B:D,3,0),0),\"\")","v":0},{"$f":"IF(A15<>\"\",IFERROR(VLOOKUP(Z15,Tabelas!B:D,3,0),0),\"\")","v":0},{"$f":"IF(A15<>\"\",IFERROR(VLOOKUP(AA15,Tabelas!B:D,3,0),0),\"\")","v":0},{"$f":"IF(A15<>\"\",IFERROR(VLOOKUP(AB15,Tabelas!B:D,3,0),0),\"\")","v":0},{"$f":"IF(A15<>\"\",IFERROR(VLOOKUP(AC15,Tabelas!B:D,3,0),0),\"\")","v":6},{"$f":"IF(A15<>\"\",IFERROR(VLOOKUP(AD15,Tabelas!B:D,3,0),0),\"\")","v":6},{"$f":"IF(A15<>\"\",IFERROR(VLOOKUP(AE15,Tabelas!B:D,3,0),0),\"\")","v":6},{"$f":"IF(A15<>\"\",IFERROR(VLOOKUP(AF15,Tabelas!B:D,3,0),0),\"\")","v":6},{"$f":"IF(A15<>\"\",IFERROR(VLOOKUP(AG15,Tabelas!B:D,3,0),0),\"\")","v":0},{"$f":"IF(A15<>\"\",IFERROR(VLOOKUP(AH15,Tabelas!B:D,3,0),0),\"\")","v":0},{"$f":"IF(A15<>\"\",IFERROR(VLOOKUP(AI15,Tabelas!B:D,3,0),0),\"\")","v":0},{"$f":"IF(A15<>\"\",IFERROR(VLOOKUP(AJ15,Tabelas!B:D,3,0),0),\"\")","v":6},{"$f":"IF(A15<>\"\",IFERROR(VLOOKUP(AK15,Tabelas!B:D,3,0),0),\"\")","v":6},{"$f":"IF(A15<>\"\",IFERROR(VLOOKUP(AL15,Tabelas!B:D,3,0),0),\"\")","v":6},{"$f":"IF(A15<>\"\",IFERROR(VLOOKUP(AM15,Tabelas!B:D,3,0),0),\"\")","v":6},{"$f":"IF(A15<>\"\",IFERROR(VLOOKUP(AN15,Tabelas!B:D,3,0),0),\"\")","v":0},{"$f":"IF(A15<>\"\",IFERROR(VLOOKUP(AO15,Tabelas!B:D,3,0),0),\"\")","v":0},{"$f":"IF(A15<>\"\",IFERROR(VLOOKUP(AP15,Tabelas!B:D,3,0),0),\"\")","v":6},{"$f":"IF(A15<>\"\",IFERROR(VLOOKUP(AQ15,Tabelas!B:D,3,0),0),\"\")","v":6},60,0,0,15,0,0,0,15]
["Karine Damiani Cabral (EMG)",null,null,"ME","RJU",12,null,null,null,null,null,null,null,"T17",null,"T17",null,null,null,null,"T17",null,"T17",null,null,null,null,"T17",null,"T17",null,null,null,null,null,null,"T17",null,null,null,null,"T17",null,{"$f":"IF(A16<>\"\",IFERROR(VLOOKUP(M16,Tabelas!B:D,3,0),0),\"\")","v":0},{"$f":"IF(A16<>\"\",IFERROR(VLOOKUP(N16,Tabelas!B:D,3,0),0),\"\")","v":6},{"$f":"IF(A16<>\"\",IFERROR(VLOOKUP(O16,Tabelas!B:D,3,0),0),\"\")","v":0},{"$f":"IF(A16<>\"\",IFERROR(VLOOKUP(P16,Tabelas!B:D,3,0),0),\"\")","v":6},{"$f":"IF(A16<>\"\",IFERROR(VLOOKUP(Q16,Tabelas!B:D,3,0),0),\"\")","v":0},{"$f":"IF(A16<>\"\",IFERROR(VLOOKUP(R16,Tabelas!B:D,3,0),0),\"\")","v":0},{"$f":"IF(A16<>\"\",IFERROR(VLOOKUP(S16,Tabelas!B:D,3,0),0),\"\")","v":0},{"$f":"IF(A16<>\"\",IFERROR(VLOOKUP(T16,Tabelas!B:D,3,0),0),\"\")","v":0},{"$f":"IF(A16<>\"\",IFERROR(VLOOKUP(U16,Tabelas!B:D,3,0),0),\"\")","v":6},{"$f":"IF(A16<>\"\",IFERROR(VLOOKUP(V16,Tabelas!B:D,3,0),0),\"\")","v":0},{"$f":"IF(A16<>\"\",IFERROR(VLOOKUP(W16,Tabelas!B:D,3,0),0),\"\")","v":6},{"$f":"IF(A16<>\"\",IFERROR(VLOOKUP(X16,Tabelas!B:D,3,0),0),\"\")","v":0},{"$f":"IF(A16<>\"\",IFERROR(VLOOKUP(Y16,Tabelas!B:D,3,0),0),\"\")","v":0},{"$f":"IF(A16<>\"\",IFERROR(VLOOKUP(Z16,Tabelas!B:D,3,0),0),\"\")","v":0},{"$f":"IF(A16<>\"\",IFERROR(VLOOKUP(AA16,Tabelas!B:D,3,0),0),\"\")","v":0},{"$f":"IF(A16<>\"\",IFERROR(VLOOKUP(AB16,Tabelas!B:D,3,0),0),\"\")","v":6},{"$f":"IF(A16<>\"\",IFERROR(VLOOKUP(AC16,Tabelas!B:D,3,0),0),\"\")","v":0},{"$f":"IF(A16<>\"\",IFERROR(VLOOKUP(AD16,Tabelas!B:D,3,0),0),\"\")","v":6},{"$f":"IF(A16<>\"\",IFERROR(VLOOKUP(AE16,Tabelas!B:D,3,0),0),\"\")","v":0},{"$f":"IF(A16<>\"\",IFERROR(VLOOKUP(AF16,Tabelas!B:D,3,0),0),\"\")","v":0},{"$f":"IF(A16<>\"\",IFERROR(VLOOKUP(AG16,Tabelas!B:D,3,0),0),\"\")","v":0},{"$f":"IF(A16<>\"\",IFERROR(VLOOKUP(AH16,Tabelas!B:D,3,0),0),\"\")","v":0},{"$f":"IF(A16<>\"\",IFERROR(VLOOKUP(AI16,Tabelas!B:D,3,0),0),\"\")","v":0},{"$f":"IF(A16<>\"\",IFERROR(VLOOKUP(AJ16,Tabelas!B:D,3,0),0),\"\")","v":0},{"$f":"IF(A16<>\"\",IFERROR(VLOOKUP(AK16,Tabelas!B:D,3,0),0),\"\")","v":6},{"$f":"IF(A16<>\"\",IFERROR(VLOOKUP(AL16,Tabelas!B:D,3,0),0),\"\")","v":0},{"$f":"IF(A16<>\"\",IFERROR(VLOOKUP(AM16,Tabelas!B:D,3,0),0),\"\")","v":0},{"$f":"IF(A16<>\"\",IFERROR(VLOOKUP(AN16,Tabelas!B:D,3,0),0),\"\")","v":0},{"$f":"IF(A16<>\"\",IFERROR(VLOOKUP(AO16,Tabelas!B:D,3,0),0),\"\")","v":0},{"$f":"IF(A16<>\"\",IFERROR(VLOOKUP(AP16,Tabelas!B:D,3,0),0),\"\")","v":6},{"$f":"IF(A16<>\"\",IFERROR(VLOOKUP(AQ16,Tabelas!B:D,3,0),0),\"\")","v":0},48,0,0,0,0,0,0,0]
["Vinícius D. Pedro (EMG)",null,null,"ME","RJU",12,null,null,null,null,null,null,null,null,"M17",null,null,"T17",null,null,null,"M17",null,null,"T17",null,null,null,"M17",null,null,"T17",null,null,null,"M17",null,null,"T17",null,null,null,"M17",{"$f":"IF(A17<>\"\",IFERROR(VLOOKUP(M17,Tabelas!B:D,3,0),0),\"\")","v":0},{"$f":"IF(A17<>\"\",IFERROR(VLOOKUP(N17,Tabelas!B:D,3,0),0),\"\")","v":0},{"$f":"IF(A17<>\"\",IFERROR(VLOOKUP(O17,Tabelas!B:D,3,0),0),\"\")","v":6},{"$f":"IF(A17<>\"\",IFERROR(VLOOKUP(P17,Tabelas!B:D,3,0),0),\"\")","v":0},{"$f":"IF(A17<>\"\",IFERROR(VLOOKUP(Q17,Tabelas!B:D,3,0),0),\"\")","v":0},{"$f":"IF(A17<>\"\",IFERROR(VLOOKUP(R17,Tabelas!B:D,3,0),0),\"\")","v":6},{"$f":"IF(A17<>\"\",IFERROR(VLOOKUP(S17,Tabelas!B:D,3,0),0),\"\")","v":0},{"$f":"IF(A17<>\"\",IFERROR(VLOOKUP(T17,Tabelas!B:D,3,0),0),\"\")","v":0},{"$f":"IF(A17<>\"\",IFERROR(VLOOKUP(U17,Tabelas!B:D,3,0),0),\"\")","v":0},{"$f":"IF(A17<>\"\",IFERROR(VLOOKUP(V17,Tabelas!B:D,3,0),0),\"\")","v":6},{"$f":"IF(A17<>\"\",IFERROR(VLOOKUP(W17,Tabelas!B:D,3,0),0),\"\")","v":0},{"$f":"IF(A17<>\"\",IFERROR(VLOOKUP(X17,Tabelas!B:D,3,0),0),\"\")","v":0},{"$f":"IF(A17<>\"\",IFERROR(VLOOKUP(Y17,Tabelas!B:D,3,0),0),\"\")","v":6},{"$f":"IF(A17<>\"\",IFERROR(VLOOKUP(Z17,Tabelas!B:D,3,0),0),\"\")","v":0},{"$f":"IF(A17<>\"\",IFERROR(VLOOKUP(AA17,Tabelas!B:D,3,0),0),\"\")","v":0},{"$f":"IF(A17<>\"\",IFERROR(VLOOKUP(AB17,Tabelas!B:D,3,0),0),\"\")","v":0},{"$f":"IF(A17<>\"\",IFERROR(VLOOKUP(AC17,Tabelas!B:D,3,0),0),\"\")","v":6},{"$f":"IF(A17<>\"\",IFERROR(VLOOKUP(AD17,Tabelas!B:D,3,0),0),\"\")","v":0},{"$f":"IF(A17<>\"\",IFERROR(VLOOKUP(AE17,Tabelas!B:D,3,0),0),\"\")","v":0},{"$f":"IF(A17<>\"\",IFERROR(VLOOKUP(AF17,Tabelas!B:D,3,0),0),\"\")","v":6},{"$f":"IF(A17<>\"\",IFERROR(VLOOKUP(AG17,Tabelas!B:D,3,0),0),\"\")","v":0},{"$f":"IF(A17<>\"\",IFERROR(VLOOKUP(AH17,Tabelas!B:D,3,0),0),\"\")","v":0},{"$f":"IF(A17<>\"\",IFERROR(VLOOKUP(AI17,Tabelas!B:D,3,0),0),\"\")","v":0},{"$f":"IF(A17<>\"\",IFERROR(VLOOKUP(AJ17,Tabelas!B:D,3,0),0),\"\")","v":6},{"$f":"IF(A17<>\"\",IFERROR(VLOOKUP(AK17,Tabelas!B:D,3,0),0),\"\")","v":0},{"$f":"IF(A17<>\"\",IFERROR(VLOOKUP(AL17,Tabelas!B:D,3,0),0),\"\")","v":0},{"$f":"IF(A17<>\"\",IFERROR(VLOOKUP(AM17,Tabelas!B:D,3,0),0),\"\")","v":6},{"$f":"IF(A17<>\"\",IFERROR(VLOOKUP(AN17,Tabelas!B:D,3,0),0),\"\")","v":0},{"$f":"IF(A17<>\"\",IFERROR(VLOOKUP(AO17,Tabelas!B:D,3,0),0),\"\")","v":0},{"$f":"IF(A17<>\"\",IFERROR(VLOOKUP(AP17,Tabelas!B:D,3,0),0),\"\")","v":0},{"$f":"IF(A17<>\"\",IFERROR(VLOOKUP(AQ17,Tabelas!B:D,3,0),0),\"\")","v":6},54,0,0,0,0,0,0,0]
["Vanessa Miné Geraldo",3055054,null,"ME","EBSERH",24,null,null,null,null,null,null,null,null,null,null,"T17","D8",null,null,null,"T17",null,"T17","D8",null,null,null,"T17",null,"T17","T17",null,null,null,"D8",null,null,"T17",null,null,null,"T17",{"$f":"IF(A18<>\"\",IFERROR(VLOOKUP(M18,Tabelas!B:D,3,0),0),\"\")","v":0},{"$f":"IF(A18<>\"\",IFERROR(VLOOKUP(N18,Tabelas!B:D,3,0),0),\"\")","v":0},{"$f":"IF(A18<>\"\",IFERROR(VLOOKUP(O18,Tabelas!B:D,3,0),0),\"\")","v":0},{"$f":"IF(A18<>\"\",IFERROR(VLOOKUP(P18,Tabelas!B:D,3,0),0),\"\")","v":0},{"$f":"IF(A18<>\"\",IFERROR(VLOOKUP(Q18,Tabelas!B:D,3,0),0),\"\")","v":6},{"$f":"IF(A18<>\"\",IFERROR(VLOOKUP(R18,Tabelas!B:D,3,0),0),\"\")","v":12},{"$f":"IF(A18<>\"\",IFERROR(VLOOKUP(S18,Tabelas!B:D,3,0),0),\"\")","v":0},{"$f":"IF(A18<>\"\",IFERROR(VLOOKUP(T18,Tabelas!B:D,3,0),0),\"\")","v":0},{"$f":"IF(A18<>\"\",IFERROR(VLOOKUP(U18,Tabelas!B:D,3,0),0),\"\")","v":0},{"$f":"IF(A18<>\"\",IFERROR(VLOOKUP(V18,Tabelas!B:D,3,0),0),\"\")","v":6},{"$f":"IF(A18<>\"\",IFERROR(VLOOKUP(W18,Tabelas!B:D,3,0),0),\"\")","v":0},{"$f":"IF(A18<>\"\",IFERROR(VLOOKUP(X18,Tabelas!B:D,3,0),0),\"\")","v":6},{"$f":"IF(A18<>\"\",IFERROR(VLOOKUP(Y18,Tabelas!B:D,3,0),0),\"\")","v":12},{"$f":"IF(A18<>\"\",IFERROR(VLOOKUP(Z18,Tabelas!B:D,3,0),0),\"\")","v":0},{"$f":"IF(A18<>\"\",IFERROR(VLOOKUP(AA18,Tabelas!B:D,3,0),0),\"\")","v":0},{"$f":"IF(A18<>\"\",IFERROR(VLOOKUP(AB18,Tabelas!B:D,3,0),0),\"\")","v":0},{"$f":"IF(A18<>\"\",IFERROR(VLOOKUP(AC18,Tabelas!B:D,3,0),0),\"\")","v":6},{"$f":"IF(A18<>\"\",IFERROR(VLOOKUP(AD18,Tabelas!B:D,3,0),0),\"\")","v":0},{"$f":"IF(A18<>\"\",IFERROR(VLOOKUP(AE18,Tabelas!B:D,3,0),0),\"\")","v":6},{"$f":"IF(A18<>\"\",IFERROR(VLOOKUP(AF18,Tabelas!B:D,3,0),0),\"\")","v":6},{"$f":"IF(A18<>\"\",IFERROR(VLOOKUP(AG18,Tabelas!B:D,3,0),0),\"\")","v":0},{"$f":"IF(A18<>\"\",IFERROR(VLOOKUP(AH18,Tabelas!B:D,3,0),0),\"\")","v":0},{"$f":"IF(A18<>\"\",IFERROR(VLOOKUP(AI18,Tabelas!B:D,3,0),0),\"\")","v":0},{"$f":"IF(A18<>\"\",IFERROR(VLOOKUP(AJ18,Tabelas!B:D,3,0),0),\"\")","v":12},{"$f":"IF(A18<>\"\",IFERROR(VLOOKUP(AK18,Tabelas!B:D,3,0),0),\"\")","v":0},{"$f":"IF(A18<>\"\",IFERROR(VLOOKUP(AL18,Tabelas!B:D,3,0),0),\"\")","v":0},{"$f":"IF(A18<>\"\",IFERROR(VLOOKUP(AM18,Tabelas!B:D,3,0),0),\"\")","v":6},{"$f":"IF(A18<>\"\",IFERROR(VLOOKUP(AN18,Tabelas!B:D,3,0),0),\"\")","v":0},{"$f":"IF(A18<>\"\",IFERROR(VLOOKUP(AO18,Tabelas!B:D,3,0),0),\"\")","v":0},{"$f":"IF(A18<>\"\",IFERROR(VLOOKUP(AP18,Tabelas!B:D,3,0),0),\"\")","v":0},{"$f":"IF(A18<>\"\",IFERROR(VLOOKUP(AQ18,Tabelas!B:D,3,0),0),\"\")","v":6},84,0,0,0,0,0,0,0]
[null,null,null,null,null,null,null,null,null,null,null,null,null,null,null,null,null,null,null,null,null,null,null,null,null,null,null,null,null,null,null,null,null,null,null,null,null,null,null,null,null,null,null,{"$f":"IF(A19<>\"\",IFERROR(VLOOKUP(M19,Tabelas!B:D,3,0),0),\"\")","v":""},{"$f":"IF(A19<>\"\",IFERROR(VLOOKUP(N19,Tabelas!B:D,3,0),0),\"\")","v":""},{"$f":"IF(A19<>\"\",IFERROR(VLOOKUP(O19,Tabelas!B:D,3,0),0),\"\")","v":""},{"$f":"IF(A19<>\"\",IFERROR(VLOOKUP(P19,Tabelas!B:D,3,0),0),\"\")","v":""},{"$f":"IF(A19<>\"\",IFERROR(VLOOKUP(Q19,Tabelas!B:D,3,0),0),\"\")","v":""},{"$f":"IF(A19<>\"\",IFERROR(VLOOKUP(R19,Tabelas!B:D,3,0),0),\"\")","v":""},{"$f":"IF(A19<>\"\",IFERROR(VLOOKUP(S19,Tabelas!B:D,3,0),0),\"\")","v":""},{"$f":"IF(A19<>\"\",IFERROR(VLOOKUP(T19,Tabelas!B:D,3,0),0),\"\")","v":""},{"$f":"IF(A19<>\"\",IFERROR(VLOOKUP(U19,Tabelas!B:D,3,0),0),\"\")","v":""},{"$f":"IF(A19<>\"\",IFERROR(VLOOKUP(V19,Tabelas!B:D,3,0),0),\"\")","v":""},{"$f":"IF(A19<>\"\",IFERROR(VLOOKUP(W19,Tabelas!B:D,3,0),0),\"\")","v":""},{"$f":"IF(A19<>\"\",IFERROR(VLOOKUP(X19,Tabelas!B:D,3,0),0),\"\")","v":""},{"$f":"IF(A19<>\"\",IFERROR(VLOOKUP(Y19,Tabelas!B:D,3,0),0),\"\")","v":""},{"$f":"IF(A19<>\"\",IFERROR(VLOOKUP(Z19,Tabelas!B:D,3,0),0),\"\")","v":""},{"$f":"IF(A19<>\"\",IFERROR(VLOOKUP(AA19,Tabelas!B:D,3,0),0),\"\")","v":""},{"$f":"IF(A19<>\"\",IFERROR(VLOOKUP(AB19,Tabelas!B:D,3,0),0),\"\")","v":""},{"$f":"IF(A19<>\"\",IFERROR(VLOOKUP(AC19,Tabelas!B:D,3,0),0),\"\")","v":""},{"$f":"IF(A19<>\"\",IFERROR(VLOOKUP(AD19,Tabelas!B:D,3,0),0),\"\")","v":""},{"$f":"IF(A19<>\"\",IFERROR(VLOOKUP(AE19,Tabelas!B:D,3,0),0),\"\")","v":""},{"$f":"IF(A19<>\"\",IFERROR(VLOOKUP(AF19,Tabelas!B:D,3,0),0),\"\")","v":""},{"$f":"IF(A19<>\"\",IFERROR(VLOOKUP(AG19,Tabelas!B:D,3,0),0),\"\")","v":""},{"$f":"IF(A19<>\"\",IFERROR(VLOOKUP(AH19,Tabelas!B:D,3,0),0),\"\")","v":""},{"$f":"IF(A19<>\"\",IFERROR(VLOOKUP(AI19,Tabelas!B:D,3,0),0),\"\")","v":""},{"$f":"IF(A19<>\"\",IFERROR(VLOOKUP(AJ19,Tabelas!B:D,3,0),0),\"\")","v":""},{"$f":"IF(A19<>\"\",IFERROR(VLOOKUP(AK19,Tabelas!B:D,3,0),0),\"\")","v":""},{"$f":"IF(A19<>\"\",IFERROR(VLOOKUP(AL19,Tabelas!B:D,3,0),0),\"\")","v":""},{"$f":"IF(A19<>\"\",IFERROR(VLOOKUP(AM19,Tabelas!B:D,3,0),0),\"\")","v":""},{"$f":"IF(A19<>\"\",IFERROR(VLOOKUP(AN19,Tabelas!B:D,3,0),0),\"\")","v":""},{"$f":"IF(A19<>\"\",IFERROR(VLOOKUP(AO19,Tabelas!B:D,3,0),0),\"\")","v":""},{"$f":"IF(A19<>\"\",IFERROR(VLOOKUP(AP19,Tabelas!B:D,3,0),0),\"\")","v":""},{"$f":"IF(A19<>\"\",IFERROR(VLOOKUP(AQ19,Tabelas!B:D,3,0),0),\"\")","v":""},"","","","","","","",""]
["PLANTÃO",null,null,null,null,null,null,null,null,null,null,null,null,null,null,null,null,null,null,null,null,null,null,null,null,null,null,null,null,null,null,null,null,null,null,null,null,null,null,null,null,null,null,{"$f":"IF(A20<>\"\",IFERROR(VLOOKUP(M20,Tabelas!B:D,3,0),0),\"\")","v":0},{"$f":"IF(A20<>\"\",IFERROR(VLOOKUP(N20,Tabelas!B:D,3,0),0),\"\")","v":0},{"$f":"IF(A20<>\"\",IFERROR(VLOOKUP(O20,Tabelas!B:D,3,0),0),\"\")","v":0},{"$f":"IF(A20<>\"\",IFERROR(VLOOKUP(P20,Tabelas!B:D,3,0),0),\"\")","v":0},{"$f":"IF(A20<>\"\",IFERROR(VLOOKUP(Q20,Tabelas!B:D,3,0),0),\"\")","v":0},{"$f":"IF(A20<>\"\",IFERROR(VLOOKUP(R20,Tabelas!B:D,3,0),0),\"\")","v":0},{"$f":"IF(A20<>\"\",IFERROR(VLOOKUP(S20,Tabelas!B:D,3,0),0),\"\")","v":0},{"$f":"IF(A20<>\"\",IFERROR(VLOOKUP(T20,Tabelas!B:D,3,0),0),\"\")","v":0},{"$f":"IF(A20<>\"\",IFERROR(VLOOKUP(U20,Tabelas!B:D,3,0),0),\"\")","v":0},{"$f":"IF(A20<>\"\",IFERROR(VLOOKUP(V20,Tabelas!B:D,3,0),0),\"\")","v":0},{"$f":"IF(A20<>\"\",IFERROR(VLOOKUP(W20,Tabelas!B:D,3,0),0),\"\")","v":0},{"$f":"IF(A20<>\"\",IFERROR(VLOOKUP(X20,Tabelas!B:D,3,0),0),\"\")","v":0},{"$f":"IF(A20<>\"\",IFERROR(VLOOKUP(Y20,Tabelas!B:D,3,0),0),\"\")","v":0},{"$f":"IF(A20<>\"\",IFERROR(VLOOKUP(Z20,Tabelas!B:D,3,0),0),\"\")","v":0},{"$f":"IF(A20<>\"\",IFERROR(VLOOKUP(AA20,Tabelas!B:D,3,0),0),\"\")","v":0},{"$f":"IF(A20<>\"\",IFERROR(VLOOKUP(AB20,Tabelas!B:D,3,0),0),\"\")","v":0},{"$f":"IF(A20<>\"\",IFERROR(VLOOKUP(AC20,Tabelas!B:D,3,0),0),\"\")","v":0},{"$f":"IF(A20<>\"\",IFERROR(VLOOKUP(AD20,Tabelas!B:D,3,0),0),\"\")","v":0},{"$f":"IF(A20<>\"\",IFERROR(VLOOKUP(AE20,Tabelas!B:D,3,0),0),\"\")","v":0},{"$f":"IF(A20<>\"\",IFERROR(VLOOKUP(AF20,Tabelas!B:D,3,0),0),\"\")","v":0},{"$f":"IF(A20<>\"\",IFERROR(VLOOKUP(AG20,Tabelas!B:D,3,0),0),\"\")","v":0},{"$f":"IF(A20<>\"\",IFERROR(VLOOKUP(AH20,Tabelas!B:D,3,0),0),\"\")","v":0},{"$f":"IF(A20<>\"\",IFERROR(VLOOKUP(AI20,Tabelas!B:D,3,0),0),\"\")","v":0},{"$f":"IF(A20<>\"\",IFERROR(VLOOKUP(AJ20,Tabelas!B:D,3,0),0),\"\")","v":0},{"$f":"IF(A20<>\"\",IFERROR(VLOOKUP(AK20,Tabelas!B:D,3,0),0),\"\")","v":0},{"$f":"IF(A20<>\"\",IFERROR(VLOOKUP(AL20,Tabelas!B:D,3,0),0),\"\")","v":0},{"$f":"IF(A20<>\"\",IFERROR(VLOOKUP(AM20,Tabelas!B:D,3,0),0),\"\")","v":0},{"$f":"IF(A20<>\"\",IFERROR(VLOOKUP(AN20,Tabelas!B:D,3,0),0),\"\")","v":0},{"$f":"IF(A20<>\"\",IFERROR(VLOOKUP(AO20,Tabelas!B:D,3,0),0),\"\")","v":0},{"$f":"IF(A20<>\"\",IFERROR(VLOOKUP(AP20,Tabelas!B:D,3,0),0),\"\")","v":0},{"$f":"IF(A20<>\"\",IFERROR(VLOOKUP(AQ20,Tabelas!B:D,3,0),0),\"\")","v":0},0,0,0,0,0,0,0,0]
["Air Luis Zambom",1824250,null,"ME","RJU",40,null,null,null,null,null,null,null,"N10",null,null,null,"N10",null,"N10",null,null,"N10",null,null,null,null,null,"N10",null,null,null,"N10",null,null,null,null,"N10",null,null,"D8",null,null,{"$f":"IF(A21<>\"\",IFERROR(VLOOKUP(M21,Tabelas!B:D,3,0),0),\"\")","v":0},{"$f":"IF(A21<>\"\",IFERROR(VLOOKUP(N21,Tabelas!B:D,3,0),0),\"\")","v":12},{"$f":"IF(A21<>\"\",IFERROR(VLOOKUP(O21,Tabelas!B:D,3,0),0),\"\")","v":0},{"$f":"IF(A21<>\"\",IFERROR(VLOOKUP(P21,Tabelas!B:D,3,0),0),\"\")","v":0},{"$f":"IF(A21<>\"\",IFERROR(VLOOKUP(Q21,Tabelas!B:D,3,0),0),\"\")","v":0},{"$f":"IF(A21<>\"\",IFERROR(VLOOKUP(R21,Tabelas!B:D,3,0),0),\"\")","v":12},{"$f":"IF(A21<>\"\",IFERROR(VLOOKUP(S21,Tabelas!B:D,3,0),0),\"\")","v":0},{"$f":"IF(A21<>\"\",IFERROR(VLOOKUP(T21,Tabelas!B:D,3,0),0),\"\")","v":12},{"$f":"IF(A21<>\"\",IFERROR(VLOOKUP(U21,Tabelas!B:D,3,0),0),\"\")","v":0},{"$f":"IF(A21<>\"\",IFERROR(VLOOKUP(V21,Tabelas!B:D,3,0),0),\"\")","v":0},{"$f":"IF(A21<>\"\",IFERROR(VLOOKUP(W21,Tabelas!B:D,3,0),0),\"\")","v":12},{"$f":"IF(A21<>\"\",IFERROR(VLOOKUP(X21,Tabelas!B:D,3,0),0),\"\")","v":0},{"$f":"IF(A21<>\"\",IFERROR(VLOOKUP(Y21,Tabelas!B:D,3,0),0),\"\")","v":0},{"$f":"IF(A21<>\"\",IFERROR(VLOOKUP(Z21,Tabelas!B:D,3,0),0),\"\")","v":0},{"$f":"IF(A21<>\"\",IFERROR(VLOOKUP(AA21,Tabelas!B:D,3,0),0),\"\")","v":0},{"$f":"IF(A21<>\"\",IFERROR(VLOOKUP(AB21,Tabelas!B:D,3,0),0),\"\")","v":0},{"$f":"IF(A21<>\"\",IFERROR(VLOOKUP(AC21,Tabelas!B:D,3,0),0),\"\")","v":12},{"$f":"IF(A21<>\"\",IFERROR(VLOOKUP(AD21,Tabelas!B:D,3,0),0),\"\")","v":0},{"$f":"IF(A21<>\"\",IFERROR(VLOOKUP(AE21,Tabelas!B:D,3,0),0),\"\")","v":0},{"$f":"IF(A21<>\"\",IFERROR(VLOOKUP(AF21,Tabelas!B:D,3,0),0),\"\")","v":0},{"$f":"IF(A21<>\"\",IFERROR(VLOOKUP(AG21,Tabelas!B:D,3,0),0),\"\")","v":12},{"$f":"IF(A21<>\"\",IFERROR(VLOOKUP(AH21,Tabelas!B:D,3,0),0),\"\")","v":0},{"$f":"IF(A21<>\"\",IFERROR(VLOOKUP(AI21,Tabelas!B:D,3,0),0),\"\")","v":0},{"$f":"IF(A21<>\"\",IFERROR(VLOOKUP(AJ21,Tabelas!B:D,3,0),0),\"\")","v":0},{"$f":"IF(A21<>\"\",IFERROR(VLOOKUP(AK21,Tabelas!B:D,3,0),0),\"\")","v":0},{"$f":"IF(A21<>\"\",IFERROR(VLOOKUP(AL21,Tabelas!B:D,3,0),0),\"\")","v":12},{"$f":"IF(A21<>\"\",IFERROR(VLOOKUP(AM21,Tabelas!B:D,3,0),0),\"\")","v":0},{"$f":"IF(A21<>\"\",IFERROR(VLOOKUP(AN21,Tabelas!B:D,3,0),0),\"\")","v":0},{"$f":"IF(A21<>\"\",IFERROR(VLOOKUP(AO21,Tabelas!B:D,3,0),0),\"\")","v":12},{"$f":"IF(A21<>\"\",IFERROR(VLOOKUP(AP21,Tabelas!B:D,3,0),0),\"\")","v":0},{"$f":"IF(A21<>\"\",IFERROR(VLOOKUP(AQ21,Tabelas!B:D,3,0),0),\"\")","v":0},96,0,0,0,0,0,0,0]
["Aline Varela Dias",1331684,null,"ME","RJU",20,null,null,null,null,null,null,null,null,null,null,"N10",null,"D8",null,null,null,null,null,null,"N10",null,"N10",null,"N10",null,null,null,"D8",null,null,"N10",null,null,null,"N10",null,null,{"$f":"IF(A22<>\"\",IFERROR(VLOOKUP(M22,Tabelas!B:D,3,0),0),\"\")","v":0},{"$f":"IF(A22<>\"\",IFERROR(VLOOKUP(N22,Tabelas!B:D,3,0),0),\"\")","v":0},{"$f":"IF(A22<>\"\",IFERROR(VLOOKUP(O22,Tabelas!B:D,3,0),0),\"\")","v":0},{"$f":"IF(A22<>\"\",IFERROR(VLOOKUP(P22,Tabelas!B:D,3,0),0),\"\")","v":0},{"$f":"IF(A22<>\"\",IFERROR(VLOOKUP(Q22,Tabelas!B:D,3,0),0),\"\")","v":12},{"$f":"IF(A22<>\"\",IFERROR(VLOOKUP(R22,Tabelas!B:D,3,0),0),\"\")","v":0},{"$f":"IF(A22<>\"\",IFERROR(VLOOKUP(S22,Tabelas!B:D,3,0),0),\"\")","v":12},{"$f":"IF(A22<>\"\",IFERROR(VLOOKUP(T22,Tabelas!B:D,3,0),0),\"\")","v":0},{"$f":"IF(A22<>\"\",IFERROR(VLOOKUP(U22,Tabelas!B:D,3,0),0),\"\")","v":0},{"$f":"IF(A22<>\"\",IFERROR(VLOOKUP(V22,Tabelas!B:D,3,0),0),\"\")","v":0},{"$f":"IF(A22<>\"\",IFERROR(VLOOKUP(W22,Tabelas!B:D,3,0),0),\"\")","v":0},{"$f":"IF(A22<>\"\",IFERROR(VLOOKUP(X22,Tabelas!B:D,3,0),0),\"\")","v":0},{"$f":"IF(A22<>\"\",IFERROR(VLOOKUP(Y22,Tabelas!B:D,3,0),0),\"\")","v":0},{"$f":"IF(A22<>\"\",IFERROR(VLOOKUP(Z22,Tabelas!B:D,3,0),0),\"\")","v":12},{"$f":"IF(A22<>\"\",IFERROR(VLOOKUP(AA22,Tabelas!B:D,3,0),0),\"\")","v":0},{"$f":"IF(A22<>\"\",IFERROR(VLOOKUP(AB22,Tabelas!B:D,3,0),0),\"\")","v":12},{"$f":"IF(A22<>\"\",IFERROR(VLOOKUP(AC22,Tabelas!B:D,3,0),0),\"\")","v":0},{"$f":"IF(A22<>\"\",IFERROR(VLOOKUP(AD22,Tabelas!B:D,3,0),0),\"\")","v":12},{"$f":"IF(A22<>\"\",IFERROR(VLOOKUP(AE22,Tabelas!B:D,3,0),0),\"\")","v":0},{"$f":"IF(A22<>\"\",IFERROR(VLOOKUP(AF22,Tabelas!B:D,3,0),0),\"\")","v":0},{"$f":"IF(A22<>\"\",IFERROR(VLOOKUP(AG22,Tabelas!B:D,3,0),0),\"\")","v":0},{"$f":"IF(A22<>\"\",IFERROR(VLOOKUP(AH22,Tabelas!B:D,3,0),0),\"\")","v":12},{"$f":"IF(A22<>\"\",IFERROR(VLOOKUP(AI22,Tabelas!B:D,3,0),0),\"\")","v":0},{"$f":"IF(A22<>\"\",IFERROR(VLOOKUP(AJ22,Tabelas!B:D,3,0),0),\"\")","v":0},{"$f":"IF(A22<>\"\",IFERROR(VLOOKUP(AK22,Tabelas!B:D,3,0),0),\"\")","v":12},{"$f":"IF(A22<>\"\",IFERROR(VLOOKUP(AL22,Tabelas!B:D,3,0),0),\"\")","v":0},{"$f":"IF(A22<>\"\",IFERROR(VLOOKUP(AM22,Tabelas!B:D,3,0),0),\"\")","v":0},{"$f":"IF(A22<>\"\",IFERROR(VLOOKUP(AN22,Tabelas!B:D,3,0),0),\"\")","v":0},{"$f":"IF(A22<>\"\",IFERROR(VLOOKUP(AO22,Tabelas!B:D,3,0),0),\"\")","v":12},{"$f":"IF(A22<>\"\",IFERROR(VLOOKUP(AP22,Tabelas!B:D,3,0),0),\"\")","v":0},{"$f":"IF(A22<>\"\",IFERROR(VLOOKUP(AQ22,Tabelas!B:D,3,0),0),\"\")","v":0},96,0,0,0,0,0,0,0]
["Anelise Schaeffer da Silveira",1919390,null,"ME","EBSERH",24,null,null,null,null,null,null,null,null,null,null,null,"N10",null,"D8",null,null,"N10",null,null,null,null,null,"CH-12",null,null,null,"N10",null,null,null,null,null,"N10","N10",null,"N10",null,{"$f":"IF(A23<>\"\",IFERROR(VLOOKUP(M23,Tabelas!B:D,3,0),0),\"\")","v":0},{"$f":"IF(A23<>\"\",IFERROR(VLOOKUP(N23,Tabelas!B:D,3,0),0),\"\")","v":0},{"$f":"IF(A23<>\"\",IFERROR(VLOOKUP(O23,Tabelas!B:D,3,0),0),\"\")","v":0},{"$f":"IF(A23<>\"\",IFERROR(VLOOKUP(P23,Tabelas!B:D,3,0),0),\"\")","v":0},{"$f":"IF(A23<>\"\",IFERROR(VLOOKUP(Q23,Tabelas!B:D,3,0),0),\"\")","v":0},{"$f":"IF(A23<>\"\",IFERROR(VLOOKUP(R23,Tabelas!B:D,3,0),0),\"\")","v":12},{"$f":"IF(A23<>\"\",IFERROR(VLOOKUP(S23,Tabelas!B:D,3,0),0),\"\")","v":0},{"$f":"IF(A23<>\"\",IFERROR(VLOOKUP(T23,Tabelas!B:D,3,0),0),\"\")","v":12},{"$f":"IF(A23<>\"\",IFERROR(VLOOKUP(U23,Tabelas!B:D,3,0),0),\"\")","v":0},{"$f":"IF(A23<>\"\",IFERROR(VLOOKUP(V23,Tabelas!B:D,3,0),0),\"\")","v":0},{"$f":"IF(A23<>\"\",IFERROR(VLOOKUP(W23,Tabelas!B:D,3,0),0),\"\")","v":12},{"$f":"IF(A23<>\"\",IFERROR(VLOOKUP(X23,Tabelas!B:D,3,0),0),\"\")","v":0},{"$f":"IF(A23<>\"\",IFERROR(VLOOKUP(Y23,Tabelas!B:D,3,0),0),\"\")","v":0},{"$f":"IF(A23<>\"\",IFERROR(VLOOKUP(Z23,Tabelas!B:D,3,0),0),\"\")","v":0},{"$f":"IF(A23<>\"\",IFERROR(VLOOKUP(AA23,Tabelas!B:D,3,0),0),\"\")","v":0},{"$f":"IF(A23<>\"\",IFERROR(VLOOKUP(AB23,Tabelas!B:D,3,0),0),\"\")","v":0},{"$f":"IF(A23<>\"\",IFERROR(VLOOKUP(AC23,Tabelas!B:D,3,0),0),\"\")","v":0},{"$f":"IF(A23<>\"\",IFERROR(VLOOKUP(AD23,Tabelas!B:D,3,0),0),\"\")","v":0},{"$f":"IF(A23<>\"\",IFERROR(VLOOKUP(AE23,Tabelas!B:D,3,0),0),\"\")","v":0},{"$f":"IF(A23<>\"\",IFERROR(VLOOKUP(AF23,Tabelas!B:D,3,0),0),\"\")","v":0},{"$f":"IF(A23<>\"\",IFERROR(VLOOKUP(AG23,Tabelas!B:D,3,0),0),\"\")","v":12},{"$f":"IF(A23<>\"\",IFERROR(VLOOKUP(AH23,Tabelas!B:D,3,0),0),\"\")","v":0},{"$f":"IF(A23<>\"\",IFERROR(VLOOKUP(AI23,Tabelas!B:D,3,0),0),\"\")","v":0},{"$f":"IF(A23<>\"\",IFERROR(VLOOKUP(AJ23,Tabelas!B:D,3,0),0),\"\")","v":0},{"$f":"IF(A23<>\"\",IFERROR(VLOOKUP(AK23,Tabelas!B:D,3,0),0),\"\")","v":0},{"$f":"IF(A23<>\"\",IFERROR(VLOOKUP(AL23,Tabelas!B:D,3,0),0),\"\")","v":0},{"$f":"IF(A23<>\"\",IFERROR(VLOOKUP(AM23,Tabelas!B:D,3,0),0),\"\")","v":12},{"$f":"IF(A23<>\"\",IFERROR(VLOOKUP(AN23,Tabelas!B:D,3,0),0),\"\")","v":12},{"$f":"IF(A23<>\"\",IFERROR(VLOOKUP(AO23,Tabelas!B:D,3,0),0),\"\")","v":0},{"$f":"IF(A23<>\"\",IFERROR(VLOOKUP(AP23,Tabelas!B:D,3,0),0),\"\")","v":12},{"$f":"IF(A23<>\"\",IFERROR(VLOOKUP(AQ23,Tabelas!B:D,3,0),0),\"\")","v":0},90,0,0,0,0,1,0,1]
["Duane José Milioli",1824201,null,"ME","RJU",20,null,null,null,null,null,null,null,null,null,null,null,null,null,"D8","N10",null,null,null,null,null,null,null,null,"N10",null,null,"D8","N10",null,null,null,null,"N10","N10",null,null,null,{"$f":"IF(A24<>\"\",IFERROR(VLOOKUP(M24,Tabelas!B:D,3,0),0),\"\")","v":0},{"$f":"IF(A24<>\"\",IFERROR(VLOOKUP(N24,Tabelas!B:D,3,0),0),\"\")","v":0},{"$f":"IF(A24<>\"\",IFERROR(VLOOKUP(O24,Tabelas!B:D,3,0),0),\"\")","v":0},{"$f":"IF(A24<>\"\",IFERROR(VLOOKUP(P24,Tabelas!B:D,3,0),0),\"\")","v":0},{"$f":"IF(A24<>\"\",IFERROR(VLOOKUP(Q24,Tabelas!B:D,3,0),0),\"\")","v":0},{"$f":"IF(A24<>\"\",IFERROR(VLOOKUP(R24,Tabelas!B:D,3,0),0),\"\")","v":0},{"$f":"IF(A24<>\"\",IFERROR(VLOOKUP(S24,Tabelas!B:D,3,0),0),\"\")","v":0},{"$f":"IF(A24<>\"\",IFERROR(VLOOKUP(T24,Tabelas!B:D,3,0),0),\"\")","v":12},{"$f":"IF(A24<>\"\",IFERROR(VLOOKUP(U24,Tabelas!B:D,3,0),0),\"\")","v":12},{"$f":"IF(A24<>\"\",IFERROR(VLOOKUP(V24,Tabelas!B:D,3,0),0),\"\")","v":0},{"$f":"IF(A24<>\"\",IFERROR(VLOOKUP(W24,Tabelas!B:D,3,0),0),\"\")","v":0},{"$f":"IF(A24<>\"\",IFERROR(VLOOKUP(X24,Tabelas!B:D,3,0),0),\"\")","v":0},{"$f":"IF(A24<>\"\",IFERROR(VLOOKUP(Y24,Tabelas!B:D,3,0),0),\"\")","v":0},{"$f":"IF(A24<>\"\",IFERROR(VLOOKUP(Z24,Tabelas!B:D,3,0),0),\"\")","v":0},{"$f":"IF(A24<>\"\",IFERROR(VLOOKUP(AA24,Tabelas!B:D,3,0),0),\"\")","v":0},{"$f":"IF(A24<>\"\",IFERROR(VLOOKUP(AB24,Tabelas!B:D,3,0),0),\"\")","v":0},{"$f":"IF(A24<>\"\",IFERROR(VLOOKUP(AC24,Tabelas!B:D,3,0),0),\"\")","v":0},{"$f":"IF(A24<>\"\",IFERROR(VLOOKUP(AD24,Tabelas!B:D,3,0),0),\"\")","v":12},{"$f":"IF(A24<>\"\",IFERROR(VLOOKUP(AE24,Tabelas!B:D,3,0),0),\"\")","v":0},{"$f":"IF(A24<>\"\",IFERROR(VLOOKUP(AF24,Tabelas!B:D,3,0),0),\"\")","v":0},{"$f":"IF(A24<>\"\",IFERROR(VLOOKUP(AG24,Tabelas!B:D,3,0),0),\"\")","v":12},{"$f":"IF(A24<>\"\",IFERROR(VLOOKUP(AH24,Tabelas!B:D,3,0),0),\"\")","v":12},{"$f":"IF(A24<>\"\",IFERROR(VLOOKUP(AI24,Tabelas!B:D,3,0),0),\"\")","v":0},{"$f":"IF(A24<>\"\",IFERROR(VLOOKUP(AJ24,Tabelas!B:D,3,0),0),\"\")","v":0},{"$f":"IF(A24<>\"\",IFERROR(VLOOKUP(AK24,Tabelas!B:D,3,0),0),\"\")","v":0},{"$f":"IF(A24<>\"\",IFERROR(VLOOKUP(AL24,Tabelas!B:D,3,0),0),\"\")","v":0},{"$f":"IF(A24<>\"\",IFERROR(VLOOKUP(AM24,Tabelas!B:D,3,0),0),\"\")","v":12},{"$f":"IF(A24<>\"\",IFERROR(VLOOKUP(AN24,Tabelas!B:D,3,0),0),\"\")","v":12},{"$f":"IF(A24<>\"\",IFERROR(VLOOKUP(AO24,Tabelas!B:D,3,0),0),\"\")","v":0},{"$f":"IF(A24<>\"\",IFERROR(VLOOKUP(AP24,Tabelas!B:D,3,0),0),\"\")","v":0},{"$f":"IF(A24<>\"\",IFERROR(VLOOKUP(AQ24,Tabelas!B:D,3,0),0),\"\")","v":0},84,0,0,0,0,0,0,0]
["Eduardo Jardim Berbigier",2604323,null,"ME","RJU",20,null,null,null,null,null,null,"N10",null,null,"N10",null,null,null,null,null,null,null,"N10",null,"DN6",null,null,null,null,null,null,null,null,"D8","N10",null,null,null,null,null,null,null,{"$f":"IF(A25<>\"\",IFERROR(VLOOKUP(M25,Tabelas!B:D,3,0),0),\"\")","v":12},{"$f":"IF(A25<>\"\",IFERROR(VLOOKUP(N25,Tabelas!B:D,3,0),0),\"\")","v":0},{"$f":"IF(A25<>\"\",IFERROR(VLOOKUP(O25,Tabelas!B:D,3,0),0),\"\")","v":0},{"$f":"IF(A25<>\"\",IFERROR(VLOOKUP(P25,Tabelas!B:D,3,0),0),\"\")","v":12},{"$f":"IF(A25<>\"\",IFERROR(VLOOKUP(Q25,Tabelas!B:D,3,0),0),\"\")","v":0},{"$f":"IF(A25<>\"\",IFERROR(VLOOKUP(R25,Tabelas!B:D,3,0),0),\"\")","v":0},{"$f":"IF(A25<>\"\",IFERROR(VLOOKUP(S25,Tabelas!B:D,3,0),0),\"\")","v":0},{"$f":"IF(A25<>\"\",IFERROR(VLOOKUP(T25,Tabelas!B:D,3,0),0),\"\")","v":0},{"$f":"IF(A25<>\"\",IFERROR(VLOOKUP(U25,Tabelas!B:D,3,0),0),\"\")","v":0},{"$f":"IF(A25<>\"\",IFERROR(VLOOKUP(V25,Tabelas!B:D,3,0),0),\"\")","v":0},{"$f":"IF(A25<>\"\",IFERROR(VLOOKUP(W25,Tabelas!B:D,3,0),0),\"\")","v":0},{"$f":"IF(A25<>\"\",IFERROR(VLOOKUP(X25,Tabelas!B:D,3,0),0),\"\")","v":12},{"$f":"IF(A25<>\"\",IFERROR(VLOOKUP(Y25,Tabelas!B:D,3,0),0),\"\")","v":0},{"$f":"IF(A25<>\"\",IFERROR(VLOOKUP(Z25,Tabelas!B:D,3,0),0),\"\")","v":24},{"$f":"IF(A25<>\"\",IFERROR(VLOOKUP(AA25,Tabelas!B:D,3,0),0),\"\")","v":0},{"$f":"IF(A25<>\"\",IFERROR(VLOOKUP(AB25,Tabelas!B:D,3,0),0),\"\")","v":0},{"$f":"IF(A25<>\"\",IFERROR(VLOOKUP(AC25,Tabelas!B:D,3,0),0),\"\")","v":0},{"$f":"IF(A25<>\"\",IFERROR(VLOOKUP(AD25,Tabelas!B:D,3,0),0),\"\")","v":0},{"$f":"IF(A25<>\"\",IFERROR(VLOOKUP(AE25,Tabelas!B:D,3,0),0),\"\")","v":0},{"$f":"IF(A25<>\"\",IFERROR(VLOOKUP(AF25,Tabelas!B:D,3,0),0),\"\")","v":0},{"$f":"IF(A25<>\"\",IFERROR(VLOOKUP(AG25,Tabelas!B:D,3,0),0),\"\")","v":0},{"$f":"IF(A25<>\"\",IFERROR(VLOOKUP(AH25,Tabelas!B:D,3,0),0),\"\")","v":0},{"$f":"IF(A25<>\"\",IFERROR(VLOOKUP(AI25,Tabelas!B:D,3,0),0),\"\")","v":12},{"$f":"IF(A25<>\"\",IFERROR(VLOOKUP(AJ25,Tabelas!B:D,3,0),0),\"\")","v":12},{"$f":"IF(A25<>\"\",IFERROR(VLOOKUP(AK25,Tabelas!B:D,3,0),0),\"\")","v":0},{"$f":"IF(A25<>\"\",IFERROR(VLOOKUP(AL25,Tabelas!B:D,3,0),0),\"\")","v":0},{"$f":"IF(A25<>\"\",IFERROR(VLOOKUP(AM25,Tabelas!B:D,3,0),0),\"\")","v":0},{"$f":"IF(A25<>\"\",IFERROR(VLOOKUP(AN25,Tabelas!B:D,3,0),0),\"\")","v":0},{"$f":"IF(A25<>\"\",IFERROR(VLOOKUP(AO25,Tabelas!B:D,3,0),0),\"\")","v":0},{"$f":"IF(A25<>\"\",IFERROR(VLOOKUP(AP25,Tabelas!B:D,3,0),0),\"\")","v":0},{"$f":"IF(A25<>\"\",IFERROR(VLOOKUP(AQ25,Tabelas!B:D,3,0),0),\"\")","v":0},84,0,0,0,0,0,0,0]
["Fernanda Goss Fontanella",1200689,null,"ME","EBSERH",24,null,null,null,null,null,null,null,null,"N10",null,null,null,"D8",null,"N10",null,null,null,null,null,"D8",null,null,null,"N10",null,null,null,"N10","N10",null,null,null,null,null,null,"N10",{"$f":"IF(A26<>\"\",IFERROR(VLOOKUP(M26,Tabelas!B:D,3,0),0),\"\")","v":0},{"$f":"IF(A26<>\"\",IFERROR(VLOOKUP(N26,Tabelas!B:D,3,0),0),\"\")","v":0},{"$f":"IF(A26<>\"\",IFERROR(VLOOKUP(O26,Tabelas!B:D,3,0),0),\"\")","v":12},{"$f":"IF(A26<>\"\",IFERROR(VLOOKUP(P26,Tabelas!B:D,3,0),0),\"\")","v":0},{"$f":"IF(A26<>\"\",IFERROR(VLOOKUP(Q26,Tabelas!B:D,3,0),0),\"\")","v":0},{"$f":"IF(A26<>\"\",IFERROR(VLOOKUP(R26,Tabelas!B:D,3,0),0),\"\")","v":0},{"$f":"IF(A26<>\"\",IFERROR(VLOOKUP(S26,Tabelas!B:D,3,0),0),\"\")","v":12},{"$f":"IF(A26<>\"\",IFERROR(VLOOKUP(T26,Tabelas!B:D,3,0),0),\"\")","v":0},{"$f":"IF(A26<>\"\",IFERROR(VLOOKUP(U26,Tabelas!B:D,3,0),0),\"\")","v":12},{"$f":"IF(A26<>\"\",IFERROR(VLOOKUP(V26,Tabelas!B:D,3,0),0),\"\")","v":0},{"$f":"IF(A26<>\"\",IFERROR(VLOOKUP(W26,Tabelas!B:D,3,0),0),\"\")","v":0},{"$f":"IF(A26<>\"\",IFERROR(VLOOKUP(X26,Tabelas!B:D,3,0),0),\"\")","v":0},{"$f":"IF(A26<>\"\",IFERROR(VLOOKUP(Y26,Tabelas!B:D,3,0),0),\"\")","v":0},{"$f":"IF(A26<>\"\",IFERROR(VLOOKUP(Z26,Tabelas!B:D,3,0),0),\"\")","v":0},{"$f":"IF(A26<>\"\",IFERROR(VLOOKUP(AA26,Tabelas!B:D,3,0),0),\"\")","v":12},{"$f":"IF(A26<>\"\",IFERROR(VLOOKUP(AB26,Tabelas!B:D,3,0),0),\"\")","v":0},{"$f":"IF(A26<>\"\",IFERROR(VLOOKUP(AC26,Tabelas!B:D,3,0),0),\"\")","v":0},{"$f":"IF(A26<>\"\",IFERROR(VLOOKUP(AD26,Tabelas!B:D,3,0),0),\"\")","v":0},{"$f":"IF(A26<>\"\",IFERROR(VLOOKUP(AE26,Tabelas!B:D,3,0),0),\"\")","v":12},{"$f":"IF(A26<>\"\",IFERROR(VLOOKUP(AF26,Tabelas!B:D,3,0),0),\"\")","v":0},{"$f":"IF(A26<>\"\",IFERROR(VLOOKUP(AG26,Tabelas!B:D,3,0),0),\"\")","v":0},{"$f":"IF(A26<>\"\",IFERROR(VLOOKUP(AH26,Tabelas!B:D,3,0),0),\"\")","v":0},{"$f":"IF(A26<>\"\",IFERROR(VLOOKUP(AI26,Tabelas!B:D,3,0),0),\"\")","v":12},{"$f":"IF(A26<>\"\",IFERROR(VLOOKUP(AJ26,Tabelas!B:D,3,0),0),\"\")","v":12},{"$f":"IF(A26<>\"\",IFERROR(VLOOKUP(AK26,Tabelas!B:D,3,0),0),\"\")","v":0},{"$f":"IF(A26<>\"\",IFERROR(VLOOKUP(AL26,Tabelas!B:D,3,0),0),\"\")","v":0},{"$f":"IF(A26<>\"\",IFERROR(VLOOKUP(AM26,Tabelas!B:D,3,0),0),\"\")","v":0},{"$f":"IF(A26<>\"\",IFERROR(VLOOKUP(AN26,Tabelas!B:D,3,0),0),\"\")","v":0},{"$f":"IF(A26<>\"\",IFERROR(VLOOKUP(AO26,Tabelas!B:D,3,0),0),\"\")","v":0},{"$f":"IF(A26<>\"\",IFERROR(VLOOKUP(AP26,Tabelas!B:D,3,0),0),\"\")","v":0},{"$f":"IF(A26<>\"\",IFERROR(VLOOKUP(AQ26,Tabelas!B:D,3,0),0),\"\")","v":12},102,0,0,0,0,0,0,0]
["Irácino José Miranda Júnior",1006032,null,"ME","EBSERH",24,null,null,null,null,null,null,"N10",null,"N10",null,null,null,null,null,null,null,null,"N10",null,null,"D8","N10",null,null,null,"N10",null,null,"D8",null,"N10",null,null,null,null,null,null,{"$f":"IF(A27<>\"\",IFERROR(VLOOKUP(M27,Tabelas!B:D,3,0),0),\"\")","v":12},{"$f":"IF(A27<>\"\",IFERROR(VLOOKUP(N27,Tabelas!B:D,3,0),0),\"\")","v":0},{"$f":"IF(A27<>\"\",IFERROR(VLOOKUP(O27,Tabelas!B:D,3,0),0),\"\")","v":12},{"$f":"IF(A27<>\"\",IFERROR(VLOOKUP(P27,Tabelas!B:D,3,0),0),\"\")","v":0},{"$f":"IF(A27<>\"\",IFERROR(VLOOKUP(Q27,Tabelas!B:D,3,0),0),\"\")","v":0},{"$f":"IF(A27<>\"\",IFERROR(VLOOKUP(R27,Tabelas!B:D,3,0),0),\"\")","v":0},{"$f":"IF(A27<>\"\",IFERROR(VLOOKUP(S27,Tabelas!B:D,3,0),0),\"\")","v":0},{"$f":"IF(A27<>\"\",IFERROR(VLOOKUP(T27,Tabelas!B:D,3,0),0),\"\")","v":0},{"$f":"IF(A27<>\"\",IFERROR(VLOOKUP(U27,Tabelas!B:D,3,0),0),\"\")","v":0},{"$f":"IF(A27<>\"\",IFERROR(VLOOKUP(V27,Tabelas!B:D,3,0),0),\"\")","v":0},{"$f":"IF(A27<>\"\",IFERROR(VLOOKUP(W27,Tabelas!B:D,3,0),0),\"\")","v":0},{"$f":"IF(A27<>\"\",IFERROR(VLOOKUP(X27,Tabelas!B:D,3,0),0),\"\")","v":12},{"$f":"IF(A27<>\"\",IFERROR(VLOOKUP(Y27,Tabelas!B:D,3,0),0),\"\")","v":0},{"$f":"IF(A27<>\"\",IFERROR(VLOOKUP(Z27,Tabelas!B:D,3,0),0),\"\")","v":0},{"$f":"IF(A27<>\"\",IFERROR(VLOOKUP(AA27,Tabelas!B:D,3,0),0),\"\")","v":12},{"$f":"IF(A27<>\"\",IFERROR(VLOOKUP(AB27,Tabelas!B:D,3,0),0),\"\")","v":12},{"$f":"IF(A27<>\"\",IFERROR(VLOOKUP(AC27,Tabelas!B:D,3,0),0),\"\")","v":0},{"$f":"IF(A27<>\"\",IFERROR(VLOOKUP(AD27,Tabelas!B:D,3,0),0),\"\")","v":0},{"$f":"IF(A27<>\"\",IFERROR(VLOOKUP(AE27,Tabelas!B:D,3,0),0),\"\")","v":0},{"$f":"IF(A27<>\"\",IFERROR(VLOOKUP(AF27,Tabelas!B:D,3,0),0),\"\")","v":12},{"$f":"IF(A27<>\"\",IFERROR(VLOOKUP(AG27,Tabelas!B:D,3,0),0),\"\")","v":0},{"$f":"IF(A27<>\"\",IFERROR(VLOOKUP(AH27,Tabelas!B:D,3,0),0),\"\")","v":0},{"$f":"IF(A27<>\"\",IFERROR(VLOOKUP(AI27,Tabelas!B:D,3,0),0),\"\")","v":12},{"$f":"IF(A27<>\"\",IFERROR(VLOOKUP(AJ27,Tabelas!B:D,3,0),0),\"\")","v":0},{"$f":"IF(A27<>\"\",IFERROR(VLOOKUP(AK27,Tabelas!B:D,3,0),0),\"\")","v":12},{"$f":"IF(A27<>\"\",IFERROR(VLOOKUP(AL27,Tabelas!B:D,3,0),0),\"\")","v":0},{"$f":"IF(A27<>\"\",IFERROR(VLOOKUP(AM27,Tabelas!B:D,3,0),0),\"\")","v":0},{"$f":"IF(A27<>\"\",IFERROR(VLOOKUP(AN27,Tabelas!B:D,3,0),0),\"\")","v":0},{"$f":"IF(A27<>\"\",IFERROR(VLOOKUP(AO27,Tabelas!B:D,3,0),0),\"\")","v":0},{"$f":"IF(A27<>\"\",IFERROR(VLOOKUP(AP27,Tabelas!B:D,3,0),0),\"\")","v":0},{"$f":"IF(A27<>\"\",IFERROR(VLOOKUP(AQ27,Tabelas!B:D,3,0),0),\"\")","v":0},102,0,0,0,0,0,0,0]
["João Luiz Henrique da Silveira",1704052,null,"ME","EBSERH",24,null,null,null,null,null,null,null,"N10",null,null,null,null,"N10",null,null,"N10",null,null,null,null,"N10",null,"N10",null,"N10",null,null,"D8",null,null,null,null,null,"D8",null,null,null,{"$f":"IF(A28<>\"\",IFERROR(VLOOKUP(M28,Tabelas!B:D,3,0),0),\"\")","v":0},{"$f":"IF(A28<>\"\",IFERROR(VLOOKUP(N28,Tabelas!B:D,3,0),0),\"\")","v":12},{"$f":"IF(A28<>\"\",IFERROR(VLOOKUP(O28,Tabelas!B:D,3,0),0),\"\")","v":0},{"$f":"IF(A28<>\"\",IFERROR(VLOOKUP(P28,Tabelas!B:D,3,0),0),\"\")","v":0},{"$f":"IF(A28<>\"\",IFERROR(VLOOKUP(Q28,Tabelas!B:D,3,0),0),\"\")","v":0},{"$f":"IF(A28<>\"\",IFERROR(VLOOKUP(R28,Tabelas!B:D,3,0),0),\"\")","v":0},{"$f":"IF(A28<>\"\",IFERROR(VLOOKUP(S28,Tabelas!B:D,3,0),0),\"\")","v":12},{"$f":"IF(A28<>\"\",IFERROR(VLOOKUP(T28,Tabelas!B:D,3,0),0),\"\")","v":0},{"$f":"IF(A28<>\"\",IFERROR(VLOOKUP(U28,Tabelas!B:D,3,0),0),\"\")","v":0},{"$f":"IF(A28<>\"\",IFERROR(VLOOKUP(V28,Tabelas!B:D,3,0),0),\"\")","v":12},{"$f":"IF(A28<>\"\",IFERROR(VLOOKUP(W28,Tabelas!B:D,3,0),0),\"\")","v":0},{"$f":"IF(A28<>\"\",IFERROR(VLOOKUP(X28,Tabelas!B:D,3,0),0),\"\")","v":0},{"$f":"IF(A28<>\"\",IFERROR(VLOOKUP(Y28,Tabelas!B:D,3,0),0),\"\")","v":0},{"$f":"IF(A28<>\"\",IFERROR(VLOOKUP(Z28,Tabelas!B:D,3,0),0),\"\")","v":0},{"$f":"IF(A28<>\"\",IFERROR(VLOOKUP(AA28,Tabelas!B:D,3,0),0),\"\")","v":12},{"$f":"IF(A28<>\"\",IFERROR(VLOOKUP(AB28,Tabelas!B:D,3,0),0),\"\")","v":0},{"$f":"IF(A28<>\"\",IFERROR(VLOOKUP(AC28,Tabelas!B:D,3,0),0),\"\")","v":12},{"$f":"IF(A28<>\"\",IFERROR(VLOOKUP(AD28,Tabelas!B:D,3,0),0),\"\")","v":0},{"$f":"IF(A28<>\"\",IFERROR(VLOOKUP(AE28,Tabelas!B:D,3,0),0),\"\")","v":12},{"$f":"IF(A28<>\"\",IFERROR(VLOOKUP(AF28,Tabelas!B:D,3,0),0),\"\")","v":0},{"$f":"IF(A28<>\"\",IFERROR(VLOOKUP(AG28,Tabelas!B:D,3,0),0),\"\")","v":0},{"$f":"IF(A28<>\"\",IFERROR(VLOOKUP(AH28,Tabelas!B:D,3,0),0),\"\")","v":12},{"$f":"IF(A28<>\"\",IFERROR(VLOOKUP(AI28,Tabelas!B:D,3,0),0),\"\")","v":0},{"$f":"IF(A28<>\"\",IFERROR(VLOOKUP(AJ28,Tabelas!B:D,3,0),0),\"\")","v":0},{"$f":"IF(A28<>\"\",IFERROR(VLOOKUP(AK28,Tabelas!B:D,3,0),0),\"\")","v":0},{"$f":"IF(A28<>\"\",IFERROR(VLOOKUP(AL28,Tabelas!B:D,3,0),0),\"\")","v":0},{"$f":"IF(A28<>\"\",IFERROR(VLOOKUP(AM28,Tabelas!B:D,3,0),0),\"\")","v":0},{"$f":"IF(A28<>\"\",IFERROR(VLOOKUP(AN28,Tabelas!B:D,3,0),0),\"\")","v":12},{"$f":"IF(A28<>\"\",IFERROR(VLOOKUP(AO28,Tabelas!B:D,3,0),0),\"\")","v":0},{"$f":"IF(A28<>\"\",IFERROR(VLOOKUP(AP28,Tabelas!B:D,3,0),0),\"\")","v":0},{"$f":"IF(A28<>\"\",IFERROR(VLOOKUP(AQ28,Tabelas!B:D,3,0),0),\"\")","v":0},102,0,0,0,0,0,0,0]
["Joel de Andrade",1160444,null,"ME","RJU",40,null,null,null,null,null,null,"D8",null,null,"N10",null,null,null,null,null,null,null,null,"N10",null,null,null,null,null,null,null,null,null,null,null,null,null,null,null,null,null,null,{"$f":"IF(A29<>\"\",IFERROR(VLOOKUP(M29,Tabelas!B:D,3,0),0),\"\")","v":12},{"$f":"IF(A29<>\"\",IFERROR(VLOOKUP(N29,Tabelas!B:D,3,0),0),\"\")","v":0},{"$f":"IF(A29<>\"\",IFERROR(VLOOKUP(O29,Tabelas!B:D,3,0),0),\"\")","v":0},{"$f":"IF(A29<>\"\",IFERROR(VLOOKUP(P29,Tabelas!B:D,3,0),0),\"\")","v":12},{"$f":"IF(A29<>\"\",IFERROR(VLOOKUP(Q29,Tabelas!B:D,3,0),0),\"\")","v":0},{"$f":"IF(A29<>\"\",IFERROR(VLOOKUP(R29,Tabelas!B:D,3,0),0),\"\")","v":0},{"$f":"IF(A29<>\"\",IFERROR(VLOOKUP(S29,Tabelas!B:D,3,0),0),\"\")","v":0},{"$f":"IF(A29<>\"\",IFERROR(VLOOKUP(T29,Tabelas!B:D,3,0),0),\"\")","v":0},{"$f":"IF(A29<>\"\",IFERROR(VLOOKUP(U29,Tabelas!B:D,3,0),0),\"\")","v":0},{"$f":"IF(A29<>\"\",IFERROR(VLOOKUP(V29,Tabelas!B:D,3,0),0),\"\")","v":0},{"$f":"IF(A29<>\"\",IFERROR(VLOOKUP(W29,Tabelas!B:D,3,0),0),\"\")","v":0},{"$f":"IF(A29<>\"\",IFERROR(VLOOKUP(X29,Tabelas!B:D,3,0),0),\"\")","v":0},{"$f":"IF(A29<>\"\",IFERROR(VLOOKUP(Y29,Tabelas!B:D,3,0),0),\"\")","v":12},{"$f":"IF(A29<>\"\",IFERROR(VLOOKUP(Z29,Tabelas!B:D,3,0),0),\"\")","v":0},{"$f":"IF(A29<>\"\",IFERROR(VLOOKUP(AA29,Tabelas!B:D,3,0),0),\"\")","v":0},{"$f":"IF(A29<>\"\",IFERROR(VLOOKUP(AB29,Tabelas!B:D,3,0),0),\"\")","v":0},{"$f":"IF(A29<>\"\",IFERROR(VLOOKUP(AC29,Tabelas!B:D,3,0),0),\"\")","v":0},{"$f":"IF(A29<>\"\",IFERROR(VLOOKUP(AD29,Tabelas!B:D,3,0),0),\"\")","v":0},{"$f":"IF(A29<>\"\",IFERROR(VLOOKUP(AE29,Tabelas!B:D,3,0),0),\"\")","v":0},{"$f":"IF(A29<>\"\",IFERROR(VLOOKUP(AF29,Tabelas!B:D,3,0),0),\"\")","v":0},{"$f":"IF(A29<>\"\",IFERROR(VLOOKUP(AG29,Tabelas!B:D,3,0),0),\"\")","v":0},{"$f":"IF(A29<>\"\",IFERROR(VLOOKUP(AH29,Tabelas!B:D,3,0),0),\"\")","v":0},{"$f":"IF(A29<>\"\",IFERROR(VLOOKUP(AI29,Tabelas!B:D,3,0),0),\"\")","v":0},{"$f":"IF(A29<>\"\",IFERROR(VLOOKUP(AJ29,Tabelas!B:D,3,0),0),\"\")","v":0},{"$f":"IF(A29<>\"\",IFERROR(VLOOKUP(AK29,Tabelas!B:D,3,0),0),\"\")","v":0},{"$f":"IF(A29<>\"\",IFERROR(VLOOKUP(AL29,Tabelas!B:D,3,0),0),\"\")","v":0},{"$f":"IF(A29<>\"\",IFERROR(VLOOKUP(AM29,Tabelas!B:D,3,0),0),\"\")","v":0},{"$f":"IF(A29<>\"\",IFERROR(VLOOKUP(AN29,Tabelas!B:D,3,0),0),\"\")","v":0},{"$f":"IF(A29<>\"\",IFERROR(VLOOKUP(AO29,Tabelas!B:D,3,0),0),\"\")","v":0},{"$f":"IF(A29<>\"\",IFERROR(VLOOKUP(AP29,Tabelas!B:D,3,0),0),\"\")","v":0},{"$f":"IF(A29<>\"\",IFERROR(VLOOKUP(AQ29,Tabelas!B:D,3,0),0),\"\")","v":0},36,0,0,0,0,0,0,0]
["Pedro Luz da Rosa",2606805,null,"ME","RJU",20,null,null,null,null,null,null,"D8",null,null,null,"N10",null,null,null,null,null,null,null,"N10","D8",null,null,null,null,null,null,null,"N10",null,null,"N10",null,null,null,"N10",null,null,{"$f":"IF(A30<>\"\",IFERROR(VLOOKUP(M30,Tabelas!B:D,3,0),0),\"\")","v":12},{"$f":"IF(A30<>\"\",IFERROR(VLOOKUP(N30,Tabelas!B:D,3,0),0),\"\")","v":0},{"$f":"IF(A30<>\"\",IFERROR(VLOOKUP(O30,Tabelas!B:D,3,0),0),\"\")","v":0},{"$f":"IF(A30<>\"\",IFERROR(VLOOKUP(P30,Tabelas!B:D,3,0),0),\"\")","v":0},{"$f":"IF(A30<>\"\",IFERROR(VLOOKUP(Q30,Tabelas!B:D,3,0),0),\"\")","v":12},{"$f":"IF(A30<>\"\",IFERROR(VLOOKUP(R30,Tabelas!B:D,3,0),0),\"\")","v":0},{"$f":"IF(A30<>\"\",IFERROR(VLOOKUP(S30,Tabelas!B:D,3,0),0),\"\")","v":0},{"$f":"IF(A30<>\"\",IFERROR(VLOOKUP(T30,Tabelas!B:D,3,0),0),\"\")","v":0},{"$f":"IF(A30<>\"\",IFERROR(VLOOKUP(U30,Tabelas!B:D,3,0),0),\"\")","v":0},{"$f":"IF(A30<>\"\",IFERROR(VLOOKUP(V30,Tabelas!B:D,3,0),0),\"\")","v":0},{"$f":"IF(A30<>\"\",IFERROR(VLOOKUP(W30,Tabelas!B:D,3,0),0),\"\")","v":0},{"$f":"IF(A30<>\"\",IFERROR(VLOOKUP(X30,Tabelas!B:D,3,0),0),\"\")","v":0},{"$f":"IF(A30<>\"\",IFERROR(VLOOKUP(Y30,Tabelas!B:D,3,0),0),\"\")","v":12},{"$f":"IF(A30<>\"\",IFERROR(VLOOKUP(Z30,Tabelas!B:D,3,0),0),\"\")","v":12},{"$f":"IF(A30<>\"\",IFERROR(VLOOKUP(AA30,Tabelas!B:D,3,0),0),\"\")","v":0},{"$f":"IF(A30<>\"\",IFERROR(VLOOKUP(AB30,Tabelas!B:D,3,0),0),\"\")","v":0},{"$f":"IF(A30<>\"\",IFERROR(VLOOKUP(AC30,Tabelas!B:D,3,0),0),\"\")","v":0},{"$f":"IF(A30<>\"\",IFERROR(VLOOKUP(AD30,Tabelas!B:D,3,0),0),\"\")","v":0},{"$f":"IF(A30<>\"\",IFERROR(VLOOKUP(AE30,Tabelas!B:D,3,0),0),\"\")","v":0},{"$f":"IF(A30<>\"\",IFERROR(VLOOKUP(AF30,Tabelas!B:D,3,0),0),\"\")","v":0},{"$f":"IF(A30<>\"\",IFERROR(VLOOKUP(AG30,Tabelas!B:D,3,0),0),\"\")","v":0},{"$f":"IF(A30<>\"\",IFERROR(VLOOKUP(AH30,Tabelas!B:D,3,0),0),\"\")","v":12},{"$f":"IF(A30<>\"\",IFERROR(VLOOKUP(AI30,Tabelas!B:D,3,0),0),\"\")","v":0},{"$f":"IF(A30<>\"\",IFERROR(VLOOKUP(AJ30,Tabelas!B:D,3,0),0),\"\")","v":0},{"$f":"IF(A30<>\"\",IFERROR(VLOOKUP(AK30,Tabelas!B:D,3,0),0),\"\")","v":12},{"$f":"IF(A30<>\"\",IFERROR(VLOOKUP(AL30,Tabelas!B:D,3,0),0),\"\")","v":0},{"$f":"IF(A30<>\"\",IFERROR(VLOOKUP(AM30,Tabelas!B:D,3,0),0),\"\")","v":0},{"$f":"IF(A30<>\"\",IFERROR(VLOOKUP(AN30,Tabelas!B:D,3,0),0),\"\")","v":0},{"$f":"IF(A30<>\"\",IFERROR(VLOOKUP(AO30,Tabelas!B:D,3,0),0),\"\")","v":12},{"$f":"IF(A30<>\"\",IFERROR(VLOOKUP(AP30,Tabelas!B:D,3,0),0),\"\")","v":0},{"$f":"IF(A30<>\"\",IFERROR(VLOOKUP(AQ30,Tabelas!B:D,3,0),0),\"\")","v":0},84,0,0,0,0,0,0,0]
["Robson Lima Ribeiro",3369679,null,"ME","RJU",20,null,null,null,null,null,null,null,null,null,null,null,null,null,null,null,null,null,null,null,null,null,null,null,null,null,"N10",null,null,"N10",null,null,null,null,null,"D8",null,"N10",{"$f":"IF(A31<>\"\",IFERROR(VLOOKUP(M31,Tabelas!B:D,3,0),0),\"\")","v":0},{"$f":"IF(A31<>\"\",IFERROR(VLOOKUP(N31,Tabelas!B:D,3,0),0),\"\")","v":0},{"$f":"IF(A31<>\"\",IFERROR(VLOOKUP(O31,Tabelas!B:D,3,0),0),\"\")","v":0},{"$f":"IF(A31<>\"\",IFERROR(VLOOKUP(P31,Tabelas!B:D,3,0),0),\"\")","v":0},{"$f":"IF(A31<>\"\",IFERROR(VLOOKUP(Q31,Tabelas!B:D,3,0),0),\"\")","v":0},{"$f":"IF(A31<>\"\",IFERROR(VLOOKUP(R31,Tabelas!B:D,3,0),0),\"\")","v":0},{"$f":"IF(A31<>\"\",IFERROR(VLOOKUP(S31,Tabelas!B:D,3,0),0),\"\")","v":0},{"$f":"IF(A31<>\"\",IFERROR(VLOOKUP(T31,Tabelas!B:D,3,0),0),\"\")","v":0},{"$f":"IF(A31<>\"\",IFERROR(VLOOKUP(U31,Tabelas!B:D,3,0),0),\"\")","v":0},{"$f":"IF(A31<>\"\",IFERROR(VLOOKUP(V31,Tabelas!B:D,3,0),0),\"\")","v":0},{"$f":"IF(A31<>\"\",IFERROR(VLOOKUP(W31,Tabelas!B:D,3,0),0),\"\")","v":0},{"$f":"IF(A31<>\"\",IFERROR(VLOOKUP(X31,Tabelas!B:D,3,0),0),\"\")","v":0},{"$f":"IF(A31<>\"\",IFERROR(VLOOKUP(Y31,Tabelas!B:D,3,0),0),\"\")","v":0},{"$f":"IF(A31<>\"\",IFERROR(VLOOKUP(Z31,Tabelas!B:D,3,0),0),\"\")","v":0},{"$f":"IF(A31<>\"\",IFERROR(VLOOKUP(AA31,Tabelas!B:D,3,0),0),\"\")","v":0},{"$f":"IF(A31<>\"\",IFERROR(VLOOKUP(AB31,Tabelas!B:D,3,0),0),\"\")","v":0},{"$f":"IF(A31<>\"\",IFERROR(VLOOKUP(AC31,Tabelas!B:D,3,0),0),\"\")","v":0},{"$f":"IF(A31<>\"\",IFERROR(VLOOKUP(AD31,Tabelas!B:D,3,0),0),\"\")","v":0},{"$f":"IF(A31<>\"\",IFERROR(VLOOKUP(AE31,Tabelas!B:D,3,0),0),\"\")","v":0},{"$f":"IF(A31<>\"\",IFERROR(VLOOKUP(AF31,Tabelas!B:D,3,0),0),\"\")","v":12},{"$f":"IF(A31<>\"\",IFERROR(VLOOKUP(AG31,Tabelas!B:D,3,0),0),\"\")","v":0},{"$f":"IF(A31<>\"\",IFERROR(VLOOKUP(AH31,Tabelas!B:D,3,0),0),\"\")","v":0},{"$f":"IF(A31<>\"\",IFERROR(VLOOKUP(AI31,Tabelas!B:D,3,0),0),\"\")","v":12},{"$f":"IF(A31<>\"\",IFERROR(VLOOKUP(AJ31,Tabelas!B:D,3,0),0),\"\")","v":0},{"$f":"IF(A31<>\"\",IFERROR(VLOOKUP(AK31,Tabelas!B:D,3,0),0),\"\")","v":0},{"$f":"IF(A31<>\"\",IFERROR(VLOOKUP(AL31,Tabelas!B:D,3,0),0),\"\")","v":0},{"$f":"IF(A31<>\"\",IFERROR(VLOOKUP(AM31,Tabelas!B:D,3,0),0),\"\")","v":0},{"$f":"IF(A31<>\"\",IFERROR(VLOOKUP(AN31,Tabelas!B:D,3,0),0),\"\")","v":0},{"$f":"IF(A31<>\"\",IFERROR(VLOOKUP(AO31,Tabelas!B:D,3,0),0),\"\")","v":12},{"$f":"IF(A31<>\"\",IFERROR(VLOOKUP(AP31,Tabelas!B:D,3,0),0),\"\")","v":0},{"$f":"IF(A31<>\"\",IFERROR(VLOOKUP(AQ31,Tabelas!B:D,3,0),0),\"\")","v":12},48,0,0,0,0,0,0,0]
["Thales Roberto Schott da Silva",1160552,null,"ME","RJU",20,null,null,null,null,null,null,null,null,null,null,null,null,"N10",null,null,"N10",null,null,null,null,"N10",null,null,"N10",null,null,"D8",null,null,null,null,null,null,"D8",null,"N10",null,{"$f":"IF(A32<>\"\",IFERROR(VLOOKUP(M32,Tabelas!B:D,3,0),0),\"\")","v":0},{"$f":"IF(A32<>\"\",IFERROR(VLOOKUP(N32,Tabelas!B:D,3,0),0),\"\")","v":0},{"$f":"IF(A32<>\"\",IFERROR(VLOOKUP(O32,Tabelas!B:D,3,0),0),\"\")","v":0},{"$f":"IF(A32<>\"\",IFERROR(VLOOKUP(P32,Tabelas!B:D,3,0),0),\"\")","v":0},{"$f":"IF(A32<>\"\",IFERROR(VLOOKUP(Q32,Tabelas!B:D,3,0),0),\"\")","v":0},{"$f":"IF(A32<>\"\",IFERROR(VLOOKUP(R32,Tabelas!B:D,3,0),0),\"\")","v":0},{"$f":"IF(A32<>\"\",IFERROR(VLOOKUP(S32,Tabelas!B:D,3,0),0),\"\")","v":12},{"$f":"IF(A32<>\"\",IFERROR(VLOOKUP(T32,Tabelas!B:D,3,0),0),\"\")","v":0},{"$f":"IF(A32<>\"\",IFERROR(VLOOKUP(U32,Tabelas!B:D,3,0),0),\"\")","v":0},{"$f":"IF(A32<>\"\",IFERROR(VLOOKUP(V32,Tabelas!B:D,3,0),0),\"\")","v":12},{"$f":"IF(A32<>\"\",IFERROR(VLOOKUP(W32,Tabelas!B:D,3,0),0),\"\")","v":0},{"$f":"IF(A32<>\"\",IFERROR(VLOOKUP(X32,Tabelas!B:D,3,0),0),\"\")","v":0},{"$f":"IF(A32<>\"\",IFERROR(VLOOKUP(Y32,Tabelas!B:D,3,0),0),\"\")","v":0},{"$f":"IF(A32<>\"\",IFERROR(VLOOKUP(Z32,Tabelas!B:D,3,0),0),\"\")","v":0},{"$f":"IF(A32<>\"\",IFERROR(VLOOKUP(AA32,Tabelas!B:D,3,0),0),\"\")","v":12},{"$f":"IF(A32<>\"\",IFERROR(VLOOKUP(AB32,Tabelas!B:D,3,0),0),\"\")","v":0},{"$f":"IF(A32<>\"\",IFERROR(VLOOKUP(AC32,Tabelas!B:D,3,0),0),\"\")","v":0},{"$f":"IF(A32<>\"\",IFERROR(VLOOKUP(AD32,Tabelas!B:D,3,0),0),\"\")","v":12},{"$f":"IF(A32<>\"\",IFERROR(VLOOKUP(AE32,Tabelas!B:D,3,0),0),\"\")","v":0},{"$f":"IF(A32<>\"\",IFERROR(VLOOKUP(AF32,Tabelas!B:D,3,0),0),\"\")","v":0},{"$f":"IF(A32<>\"\",IFERROR(VLOOKUP(AG32,Tabelas!B:D,3,0),0),\"\")","v":12},{"$f":"IF(A32<>\"\",IFERROR(VLOOKUP(AH32,Tabelas!B:D,3,0),0),\"\")","v":0},{"$f":"IF(A32<>\"\",IFERROR(VLOOKUP(AI32,Tabelas!B:D,3,0),0),\"\")","v":0},{"$f":"IF(A32<>\"\",IFERROR(VLOOKUP(AJ32,Tabelas!B:D,3,0),0),\"\")","v":0},{"$f":"IF(A32<>\"\",IFERROR(VLOOKUP(AK32,Tabelas!B:D,3,0),0),\"\")","v":0},{"$f":"IF(A32<>\"\",IFERROR(VLOOKUP(AL32,Tabelas!B:D,3,0),0),\"\")","v":0},{"$f":"IF(A32<>\"\",IFERROR(VLOOKUP(AM32,Tabelas!B:D,3,0),0),\"\")","v":0},{"$f":"IF(A32<>\"\",IFERROR(VLOOKUP(AN32,Tabelas!B:D,3,0),0),\"\")","v":12},{"$f":"IF(A32<>\"\",IFERROR(VLOOKUP(AO32,Tabelas!B:D,3,0),0),\"\")","v":0},{"$f":"IF(A32<>\"\",IFERROR(VLOOKUP(AP32,Tabelas!B:D,3,0),0),\"\")","v":12},{"$f":"IF(A32<>\"\",IFERROR(VLOOKUP(AQ32,Tabelas!B:D,3,0),0),\"\")","v":0},84,0,0,0,0,0,0,0]
["Vanessa Miné Geraldo",3055054,null,"ME","EBSERH",24,null,null,null,null,null,null,null,null,null,null,null,null,null,"N10",null,null,null,null,null,null,null,null,null,null,null,null,null,null,null,null,null,null,null,null,null,null,null,{"$f":"IF(A33<>\"\",IFERROR(VLOOKUP(M33,Tabelas!B:D,3,0),0),\"\")","v":0},{"$f":"IF(A33<>\"\",IFERROR(VLOOKUP(N33,Tabelas!B:D,3,0),0),\"\")","v":0},{"$f":"IF(A33<>\"\",IFERROR(VLOOKUP(O33,Tabelas!B:D,3,0),0),\"\")","v":0},{"$f":"IF(A33<>\"\",IFERROR(VLOOKUP(P33,Tabelas!B:D,3,0),0),\"\")","v":0},{"$f":"IF(A33<>\"\",IFERROR(VLOOKUP(Q33,Tabelas!B:D,3,0),0),\"\")","v":0},{"$f":"IF(A33<>\"\",IFERROR(VLOOKUP(R33,Tabelas!B:D,3,0),0),\"\")","v":0},{"$f":"IF(A33<>\"\",IFERROR(VLOOKUP(S33,Tabelas!B:D,3,0),0),\"\")","v":0},{"$f":"IF(A33<>\"\",IFERROR(VLOOKUP(T33,Tabelas!B:D,3,0),0),\"\")","v":12},{"$f":"IF(A33<>\"\",IFERROR(VLOOKUP(U33,Tabelas!B:D,3,0),0),\"\")","v":0},{"$f":"IF(A33<>\"\",IFERROR(VLOOKUP(V33,Tabelas!B:D,3,0),0),\"\")","v":0},{"$f":"IF(A33<>\"\",IFERROR(VLOOKUP(W33,Tabelas!B:D,3,0),0),\"\")","v":0},{"$f":"IF(A33<>\"\",IFERROR(VLOOKUP(X33,Tabelas!B:D,3,0),0),\"\")","v":0},{"$f":"IF(A33<>\"\",IFERROR(VLOOKUP(Y33,Tabelas!B:D,3,0),0),\"\")","v":0},{"$f":"IF(A33<>\"\",IFERROR(VLOOKUP(Z33,Tabelas!B:D,3,0),0),\"\")","v":0},{"$f":"IF(A33<>\"\",IFERROR(VLOOKUP(AA33,Tabelas!B:D,3,0),0),\"\")","v":0},{"$f":"IF(A33<>\"\",IFERROR(VLOOKUP(AB33,Tabelas!B:D,3,0),0),\"\")","v":0},{"$f":"IF(A33<>\"\",IFERROR(VLOOKUP(AC33,Tabelas!B:D,3,0),0),\"\")","v":0},{"$f":"IF(A33<>\"\",IFERROR(VLOOKUP(AD33,Tabelas!B:D,3,0),0),\"\")","v":0},{"$f":"IF(A33<>\"\",IFERROR(VLOOKUP(AE33,Tabelas!B:D,3,0),0),\"\")","v":0},{"$f":"IF(A33<>\"\",IFERROR(VLOOKUP(AF33,Tabelas!B:D,3,0),0),\"\")","v":0},{"$f":"IF(A33<>\"\",IFERROR(VLOOKUP(AG33,Tabelas!B:D,3,0),0),\"\")","v":0},{"$f":"IF(A33<>\"\",IFERROR(VLOOKUP(AH33,Tabelas!B:D,3,0),0),\"\")","v":0},{"$f":"IF(A33<>\"\",IFERROR(VLOOKUP(AI33,Tabelas!B:D,3,0),0),\"\")","v":0},{"$f":"IF(A33<>\"\",IFERROR(VLOOKUP(AJ33,Tabelas!B:D,3,0),0),\"\")","v":0},{"$f":"IF(A33<>\"\",IFERROR(VLOOKUP(AK33,Tabelas!B:D,3,0),0),\"\")","v":0},{"$f":"IF(A33<>\"\",IFERROR(VLOOKUP(AL33,Tabelas!B:D,3,0),0),\"\")","v":0},{"$f":"IF(A33<>\"\",IFERROR(VLOOKUP(AM33,Tabelas!B:D,3,0),0),\"\")","v":0},{"$f":"IF(A33<>\"\",IFERROR(VLOOKUP(AN33,Tabelas!B:D,3,0),0),\"\")","v":0},{"$f":"IF(A33<>\"\",IFERROR(VLOOKUP(AO33,Tabelas!B:D,3,0),0),\"\")","v":0},{"$f":"IF(A33<>\"\",IFERROR(VLOOKUP(AP33,Tabelas!B:D,3,0),0),\"\")","v":0},{"$f":"IF(A33<>\"\",IFERROR(VLOOKUP(AQ33,Tabelas!B:D,3,0),0),\"\")","v":0},13,0,0,0,0,0,0,0]
[null,null,null,null,null,null,null,null,null,null,null,null,null,null,null,null,null,null,null,null,null,null,null,null,null,null,null,null,null,null,null,null,null,null,null,null,null,null,null,null,null,null,null,{"$f":"IF(A34<>\"\",IFERROR(VLOOKUP(M34,Tabelas!B:D,3,0),0),\"\")","v":""},{"$f":"IF(A34<>\"\",IFERROR(VLOOKUP(N34,Tabelas!B:D,3,0),0),\"\")","v":""},{"$f":"IF(A34<>\"\",IFERROR(VLOOKUP(O34,Tabelas!B:D,3,0),0),\"\")","v":""},{"$f":"IF(A34<>\"\",IFERROR(VLOOKUP(P34,Tabelas!B:D,3,0),0),\"\")","v":""},{"$f":"IF(A34<>\"\",IFERROR(VLOOKUP(Q34,Tabelas!B:D,3,0),0),\"\")","v":""},{"$f":"IF(A34<>\"\",IFERROR(VLOOKUP(R34,Tabelas!B:D,3,0),0),\"\")","v":""},{"$f":"IF(A34<>\"\",IFERROR(VLOOKUP(S34,Tabelas!B:D,3,0),0),\"\")","v":""},{"$f":"IF(A34<>\"\",IFERROR(VLOOKUP(T34,Tabelas!B:D,3,0),0),\"\")","v":""},{"$f":"IF(A34<>\"\",IFERROR(VLOOKUP(U34,Tabelas!B:D,3,0),0),\"\")","v":""},{"$f":"IF(A34<>\"\",IFERROR(VLOOKUP(V34,Tabelas!B:D,3,0),0),\"\")","v":""},{"$f":"IF(A34<>\"\",IFERROR(VLOOKUP(W34,Tabelas!B:D,3,0),0),\"\")","v":""},{"$f":"IF(A34<>\"\",IFERROR(VLOOKUP(X34,Tabelas!B:D,3,0),0),\"\")","v":""},{"$f":"IF(A34<>\"\",IFERROR(VLOOKUP(Y34,Tabelas!B:D,3,0),0),\"\")","v":""},{"$f":"IF(A34<>\"\",IFERROR(VLOOKUP(Z34,Tabelas!B:D,3,0),0),\"\")","v":""},{"$f":"IF(A34<>\"\",IFERROR(VLOOKUP(AA34,Tabelas!B:D,3,0),0),\"\")","v":""},{"$f":"IF(A34<>\"\",IFERROR(VLOOKUP(AB34,Tabelas!B:D,3,0),0),\"\")","v":""},{"$f":"IF(A34<>\"\",IFERROR(VLOOKUP(AC34,Tabelas!B:D,3,0),0),\"\")","v":""},{"$f":"IF(A34<>\"\",IFERROR(VLOOKUP(AD34,Tabelas!B:D,3,0),0),\"\")","v":""},{"$f":"IF(A34<>\"\",IFERROR(VLOOKUP(AE34,Tabelas!B:D,3,0),0),\"\")","v":""},{"$f":"IF(A34<>\"\",IFERROR(VLOOKUP(AF34,Tabelas!B:D,3,0),0),\"\")","v":""},{"$f":"IF(A34<>\"\",IFERROR(VLOOKUP(AG34,Tabelas!B:D,3,0),0),\"\")","v":""},{"$f":"IF(A34<>\"\",IFERROR(VLOOKUP(AH34,Tabelas!B:D,3,0),0),\"\")","v":""},{"$f":"IF(A34<>\"\",IFERROR(VLOOKUP(AI34,Tabelas!B:D,3,0),0),\"\")","v":""},{"$f":"IF(A34<>\"\",IFERROR(VLOOKUP(AJ34,Tabelas!B:D,3,0),0),\"\")","v":""},{"$f":"IF(A34<>\"\",IFERROR(VLOOKUP(AK34,Tabelas!B:D,3,0),0),\"\")","v":""},{"$f":"IF(A34<>\"\",IFERROR(VLOOKUP(AL34,Tabelas!B:D,3,0),0),\"\")","v":""},{"$f":"IF(A34<>\"\",IFERROR(VLOOKUP(AM34,Tabelas!B:D,3,0),0),\"\")","v":""},{"$f":"IF(A34<>\"\",IFERROR(VLOOKUP(AN34,Tabelas!B:D,3,0),0),\"\")","v":""},{"$f":"IF(A34<>\"\",IFERROR(VLOOKUP(AO34,Tabelas!B:D,3,0),0),\"\")","v":""},{"$f":"IF(A34<>\"\",IFERROR(VLOOKUP(AP34,Tabelas!B:D,3,0),0),\"\")","v":""},{"$f":"IF(A34<>\"\",IFERROR(VLOOKUP(AQ34,Tabelas!B:D,3,0),0),\"\")","v":""},"","","","","","","",""]
["MÉDICA REFERÊNCIA",null,null,null,null,null,null,null,null,null,null,null,null,null,null,null,null,null,null,null,null,null,null,null,null,null,null,null,null,null,null,null,null,null,null,null,null,null,null,null,null,null,null,{"$f":"IF(A35<>\"\",IFERROR(VLOOKUP(M35,Tabelas!B:D,3,0),0),\"\")","v":0},{"$f":"IF(A35<>\"\",IFERROR(VLOOKUP(N35,Tabelas!B:D,3,0),0),\"\")","v":0},{"$f":"IF(A35<>\"\",IFERROR(VLOOKUP(O35,Tabelas!B:D,3,0),0),\"\")","v":0},{"$f":"IF(A35<>\"\",IFERROR(VLOOKUP(P35,Tabelas!B:D,3,0),0),\"\")","v":0},{"$f":"IF(A35<>\"\",IFERROR(VLOOKUP(Q35,Tabelas!B:D,3,0),0),\"\")","v":0},{"$f":"IF(A35<>\"\",IFERROR(VLOOKUP(R35,Tabelas!B:D,3,0),0),\"\")","v":0},{"$f":"IF(A35<>\"\",IFERROR(VLOOKUP(S35,Tabelas!B:D,3,0),0),\"\")","v":0},{"$f":"IF(A35<>\"\",IFERROR(VLOOKUP(T35,Tabelas!B:D,3,0),0),\"\")","v":0},{"$f":"IF(A35<>\"\",IFERROR(VLOOKUP(U35,Tabelas!B:D,3,0),0),\"\")","v":0},{"$f":"IF(A35<>\"\",IFERROR(VLOOKUP(V35,Tabelas!B:D,3,0),0),\"\")","v":0},{"$f":"IF(A35<>\"\",IFERROR(VLOOKUP(W35,Tabelas!B:D,3,0),0),\"\")","v":0},{"$f":"IF(A35<>\"\",IFERROR(VLOOKUP(X35,Tabelas!B:D,3,0),0),\"\")","v":0},{"$f":"IF(A35<>\"\",IFERROR(VLOOKUP(Y35,Tabelas!B:D,3,0),0),\"\")","v":0},{"$f":"IF(A35<>\"\",IFERROR(VLOOKUP(Z35,Tabelas!B:D,3,0),0),\"\")","v":0},{"$f":"IF(A35<>\"\",IFERROR(VLOOKUP(AA35,Tabelas!B:D,3,0),0),\"\")","v":0},{"$f":"IF(A35<>\"\",IFERROR(VLOOKUP(AB35,Tabelas!B:D,3,0),0),\"\")","v":0},{"$f":"IF(A35<>\"\",IFERROR(VLOOKUP(AC35,Tabelas!B:D,3,0),0),\"\")","v":0},{"$f":"IF(A35<>\"\",IFERROR(VLOOKUP(AD35,Tabelas!B:D,3,0),0),\"\")","v":0},{"$f":"IF(A35<>\"\",IFERROR(VLOOKUP(AE35,Tabelas!B:D,3,0),0),\"\")","v":0},{"$f":"IF(A35<>\"\",IFERROR(VLOOKUP(AF35,Tabelas!B:D,3,0),0),\"\")","v":0},{"$f":"IF(A35<>\"\",IFERROR(VLOOKUP(AG35,Tabelas!B:D,3,0),0),\"\")","v":0},{"$f":"IF(A35<>\"\",IFERROR(VLOOKUP(AH35,Tabelas!B:D,3,0),0),\"\")","v":0},{"$f":"IF(A35<>\"\",IFERROR(VLOOKUP(AI35,Tabelas!B:D,3,0),0),\"\")","v":0},{"$f":"IF(A35<>\"\",IFERROR(VLOOKUP(AJ35,Tabelas!B:D,3,0),0),\"\")","v":0},{"$f":"IF(A35<>\"\",IFERROR(VLOOKUP(AK35,Tabelas!B:D,3,0),0),\"\")","v":0},{"$f":"IF(A35<>\"\",IFERROR(VLOOKUP(AL35,Tabelas!B:D,3,0),0),\"\")","v":0},{"$f":"IF(A35<>\"\",IFERROR(VLOOKUP(AM35,Tabelas!B:D,3,0),0),\"\")","v":0},{"$f":"IF(A35<>\"\",IFERROR(VLOOKUP(AN35,Tabelas!B:D,3,0),0),\"\")","v":0},{"$f":"IF(A35<>\"\",IFERROR(VLOOKUP(AO35,Tabelas!B:D,3,0),0),\"\")","v":0},{"$f":"IF(A35<>\"\",IFERROR(VLOOKUP(AP35,Tabelas!B:D,3,0),0),\"\")","v":0},{"$f":"IF(A35<>\"\",IFERROR(VLOOKUP(AQ35,Tabelas!B:D,3,0),0),\"\")","v":0},0,0,0,0,0,0,0,0]
["Ingrid Catharine Costa de Sant Ana",1004451,null,"ME","EBSERH",24,null,null,null,null,null,null,null,"M17","M17",null,"M17","M17",null,null,"M17","M17",null,"M17","M17",null,null,"M17","M17",null,"M17","M17",null,null,null,"M17",null,"M17","M17",null,null,"M17","M17",{"$f":"IF(A36<>\"\",IFERROR(VLOOKUP(M36,Tabelas!B:D,3,0),0),\"\")","v":0},{"$f":"IF(A36<>\"\",IFERROR(VLOOKUP(N36,Tabelas!B:D,3,0),0),\"\")","v":6},{"$f":"IF(A36<>\"\",IFERROR(VLOOKUP(O36,Tabelas!B:D,3,0),0),\"\")","v":6},{"$f":"IF(A36<>\"\",IFERROR(VLOOKUP(P36,Tabelas!B:D,3,0),0),\"\")","v":0},{"$f":"IF(A36<>\"\",IFERROR(VLOOKUP(Q36,Tabelas!B:D,3,0),0),\"\")","v":6},{"$f":"IF(A36<>\"\",IFERROR(VLOOKUP(R36,Tabelas!B:D,3,0),0),\"\")","v":6},{"$f":"IF(A36<>\"\",IFERROR(VLOOKUP(S36,Tabelas!B:D,3,0),0),\"\")","v":0},{"$f":"IF(A36<>\"\",IFERROR(VLOOKUP(T36,Tabelas!B:D,3,0),0),\"\")","v":0},{"$f":"IF(A36<>\"\",IFERROR(VLOOKUP(U36,Tabelas!B:D,3,0),0),\"\")","v":6},{"$f":"IF(A36<>\"\",IFERROR(VLOOKUP(V36,Tabelas!B:D,3,0),0),\"\")","v":6},{"$f":"IF(A36<>\"\",IFERROR(VLOOKUP(W36,Tabelas!B:D,3,0),0),\"\")","v":0},{"$f":"IF(A36<>\"\",IFERROR(VLOOKUP(X36,Tabelas!B:D,3,0),0),\"\")","v":6},{"$f":"IF(A36<>\"\",IFERROR(VLOOKUP(Y36,Tabelas!B:D,3,0),0),\"\")","v":6},{"$f":"IF(A36<>\"\",IFERROR(VLOOKUP(Z36,Tabelas!B:D,3,0),0),\"\")","v":0},{"$f":"IF(A36<>\"\",IFERROR(VLOOKUP(AA36,Tabelas!B:D,3,0),0),\"\")","v":0},{"$f":"IF(A36<>\"\",IFERROR(VLOOKUP(AB36,Tabelas!B:D,3,0),0),\"\")","v":6},{"$f":"IF(A36<>\"\",IFERROR(VLOOKUP(AC36,Tabelas!B:D,3,0),0),\"\")","v":6},{"$f":"IF(A36<>\"\",IFERROR(VLOOKUP(AD36,Tabelas!B:D,3,0),0),\"\")","v":0},{"$f":"IF(A36<>\"\",IFERROR(VLOOKUP(AE36,Tabelas!B:D,3,0),0),\"\")","v":6},{"$f":"IF(A36<>\"\",IFERROR(VLOOKUP(AF36,Tabelas!B:D,3,0),0),\"\")","v":6},{"$f":"IF(A36<>\"\",IFERROR(VLOOKUP(AG36,Tabelas!B:D,3,0),0),\"\")","v":0},{"$f":"IF(A36<>\"\",IFERROR(VLOOKUP(AH36,Tabelas!B:D,3,0),0),\"\")","v":0},{"$f":"IF(A36<>\"\",IFERROR(VLOOKUP(AI36,Tabelas!B:D,3,0),0),\"\")","v":0},{"$f":"IF(A36<>\"\",IFERROR(VLOOKUP(AJ36,Tabelas!B:D,3,0),0),\"\")","v":6},{"$f":"IF(A36<>\"\",IFERROR(VLOOKUP(AK36,Tabelas!B:D,3,0),0),\"\")","v":0},{"$f":"IF(A36<>\"\",IFERROR(VLOOKUP(AL36,Tabelas!B:D,3,0),0),\"\")","v":6},{"$f":"IF(A36<>\"\",IFERROR(VLOOKUP(AM36,Tabelas!B:D,3,0),0),\"\")","v":6},{"$f":"IF(A36<>\"\",IFERROR(VLOOKUP(AN36,Tabelas!B:D,3,0),0),\"\")","v":0},{"$f":"IF(A36<>\"\",IFERROR(VLOOKUP(AO36,Tabelas!B:D,3,0),0),\"\")","v":0},{"$f":"IF(A36<>\"\",IFERROR(VLOOKUP(AP36,Tabelas!B:D,3,0),0),\"\")","v":6},{"$f":"IF(A36<>\"\",IFERROR(VLOOKUP(AQ36,Tabelas!B:D,3,0),0),\"\")","v":6},102,0,0,0,0,0,0,0]
[null,null,null,null,null,null,null,null,null,null,null,null,null,null,null,null,null,null,null,null,null,null,null,null,null,null,null,null,null,null,null,null,null,null,null,null,null,null,null,null,null,null,null,{"$f":"IF(A37<>\"\",IFERROR(VLOOKUP(M37,Tabelas!B:D,3,0),0),\"\")","v":""},{"$f":"IF(A37<>\"\",IFERROR(VLOOKUP(N37,Tabelas!B:D,3,0),0),\"\")","v":""},{"$f":"IF(A37<>\"\",IFERROR(VLOOKUP(O37,Tabelas!B:D,3,0),0),\"\")","v":""},{"$f":"IF(A37<>\"\",IFERROR(VLOOKUP(P37,Tabelas!B:D,3,0),0),\"\")","v":""},{"$f":"IF(A37<>\"\",IFERROR(VLOOKUP(Q37,Tabelas!B:D,3,0),0),\"\")","v":""},{"$f":"IF(A37<>\"\",IFERROR(VLOOKUP(R37,Tabelas!B:D,3,0),0),\"\")","v":""},{"$f":"IF(A37<>\"\",IFERROR(VLOOKUP(S37,Tabelas!B:D,3,0),0),\"\")","v":""},{"$f":"IF(A37<>\"\",IFERROR(VLOOKUP(T37,Tabelas!B:D,3,0),0),\"\")","v":""},{"$f":"IF(A37<>\"\",IFERROR(VLOOKUP(U37,Tabelas!B:D,3,0),0),\"\")","v":""},{"$f":"IF(A37<>\"\",IFERROR(VLOOKUP(V37,Tabelas!B:D,3,0),0),\"\")","v":""},{"$f":"IF(A37<>\"\",IFERROR(VLOOKUP(W37,Tabelas!B:D,3,0),0),\"\")","v":""},{"$f":"IF(A37<>\"\",IFERROR(VLOOKUP(X37,Tabelas!B:D,3,0),0),\"\")","v":""},{"$f":"IF(A37<>\"\",IFERROR(VLOOKUP(Y37,Tabelas!B:D,3,0),0),\"\")","v":""},{"$f":"IF(A37<>\"\",IFERROR(VLOOKUP(Z37,Tabelas!B:D,3,0),0),\"\")","v":""},{"$f":"IF(A37<>\"\",IFERROR(VLOOKUP(AA37,Tabelas!B:D,3,0),0),\"\")","v":""},{"$f":"IF(A37<>\"\",IFERROR(VLOOKUP(AB37,Tabelas!B:D,3,0),0),\"\")","v":""},{"$f":"IF(A37<>\"\",IFERROR(VLOOKUP(AC37,Tabelas!B:D,3,0),0),\"\")","v":""},{"$f":"IF(A37<>\"\",IFERROR(VLOOKUP(AD37,Tabelas!B:D,3,0),0),\"\")","v":""},{"$f":"IF(A37<>\"\",IFERROR(VLOOKUP(AE37,Tabelas!B:D,3,0),0),\"\")","v":""},{"$f":"IF(A37<>\"\",IFERROR(VLOOKUP(AF37,Tabelas!B:D,3,0),0),\"\")","v":""},{"$f":"IF(A37<>\"\",IFERROR(VLOOKUP(AG37,Tabelas!B:D,3,0),0),\"\")","v":""},{"$f":"IF(A37<>\"\",IFERROR(VLOOKUP(AH37,Tabelas!B:D,3,0),0),\"\")","v":""},{"$f":"IF(A37<>\"\",IFERROR(VLOOKUP(AI37,Tabelas!B:D,3,0),0),\"\")","v":""},{"$f":"IF(A37<>\"\",IFERROR(VLOOKUP(AJ37,Tabelas!B:D,3,0),0),\"\")","v":""},{"$f":"IF(A37<>\"\",IFERROR(VLOOKUP(AK37,Tabelas!B:D,3,0),0),\"\")","v":""},{"$f":"IF(A37<>\"\",IFERROR(VLOOKUP(AL37,Tabelas!B:D,3,0),0),\"\")","v":""},{"$f":"IF(A37<>\"\",IFERROR(VLOOKUP(AM37,Tabelas!B:D,3,0),0),\"\")","v":""},{"$f":"IF(A37<>\"\",IFERROR(VLOOKUP(AN37,Tabelas!B:D,3,0),0),\"\")","v":""},{"$f":"IF(A37<>\"\",IFERROR(VLOOKUP(AO37,Tabelas!B:D,3,0),0),\"\")","v":""},{"$f":"IF(A37<>\"\",IFERROR(VLOOKUP(AP37,Tabelas!B:D,3,0),0),\"\")","v":""},{"$f":"IF(A37<>\"\",IFERROR(VLOOKUP(AQ37,Tabelas!B:D,3,0),0),\"\")","v":""},"","","","","","","",""]
["Elizabeth Kristiane Buss Lunardelli",3760219,null,"ME","RJU",30,null,null,null,null,null,null,"LC","LC","LC","LC","LC","LC","LC","LC","LC","LC","LC","LC","LC","LC","LC","LC","LC","LC","LC",null,null,null,null,"FE","FE","FE","FE",null,null,null,null,{"$f":"IF(A38<>\"\",IFERROR(VLOOKUP(M38,Tabelas!B:D,3,0),0),\"\")","v":0},{"$f":"IF(A38<>\"\",IFERROR(VLOOKUP(N38,Tabelas!B:D,3,0),0),\"\")","v":0},{"$f":"IF(A38<>\"\",IFERROR(VLOOKUP(O38,Tabelas!B:D,3,0),0),\"\")","v":0},{"$f":"IF(A38<>\"\",IFERROR(VLOOKUP(P38,Tabelas!B:D,3,0),0),\"\")","v":0},{"$f":"IF(A38<>\"\",IFERROR(VLOOKUP(Q38,Tabelas!B:D,3,0),0),\"\")","v":0},{"$f":"IF(A38<>\"\",IFERROR(VLOOKUP(R38,Tabelas!B:D,3,0),0),\"\")","v":0},{"$f":"IF(A38<>\"\",IFERROR(VLOOKUP(S38,Tabelas!B:D,3,0),0),\"\")","v":0},{"$f":"IF(A38<>\"\",IFERROR(VLOOKUP(T38,Tabelas!B:D,3,0),0),\"\")","v":0},{"$f":"IF(A38<>\"\",IFERROR(VLOOKUP(U38,Tabelas!B:D,3,0),0),\"\")","v":0},{"$f":"IF(A38<>\"\",IFERROR(VLOOKUP(V38,Tabelas!B:D,3,0),0),\"\")","v":0},{"$f":"IF(A38<>\"\",IFERROR(VLOOKUP(W38,Tabelas!B:D,3,0),0),\"\")","v":0},{"$f":"IF(A38<>\"\",IFERROR(VLOOKUP(X38,Tabelas!B:D,3,0),0),\"\")","v":0},{"$f":"IF(A38<>\"\",IFERROR(VLOOKUP(Y38,Tabelas!B:D,3,0),0),\"\")","v":0},{"$f":"IF(A38<>\"\",IFERROR(VLOOKUP(Z38,Tabelas!B:D,3,0),0),\"\")","v":0},{"$f":"IF(A38<>\"\",IFERROR(VLOOKUP(AA38,Tabelas!B:D,3,0),0),\"\")","v":0},{"$f":"IF(A38<>\"\",IFERROR(VLOOKUP(AB38,Tabelas!B:D,3,0),0),\"\")","v":0},{"$f":"IF(A38<>\"\",IFERROR(VLOOKUP(AC38,Tabelas!B:D,3,0),0),\"\")","v":0},{"$f":"IF(A38<>\"\",IFERROR(VLOOKUP(AD38,Tabelas!B:D,3,0),0),\"\")","v":0},{"$f":"IF(A38<>\"\",IFERROR(VLOOKUP(AE38,Tabelas!B:D,3,0),0),\"\")","v":0},{"$f":"IF(A38<>\"\",IFERROR(VLOOKUP(AF38,Tabelas!B:D,3,0),0),\"\")","v":0},{"$f":"IF(A38<>\"\",IFERROR(VLOOKUP(AG38,Tabelas!B:D,3,0),0),\"\")","v":0},{"$f":"IF(A38<>\"\",IFERROR(VLOOKUP(AH38,Tabelas!B:D,3,0),0),\"\")","v":0},{"$f":"IF(A38<>\"\",IFERROR(VLOOKUP(AI38,Tabelas!B:D,3,0),0),\"\")","v":0},{"$f":"IF(A38<>\"\",IFERROR(VLOOKUP(AJ38,Tabelas!B:D,3,0),0),\"\")","v":0},{"$f":"IF(A38<>\"\",IFERROR(VLOOKUP(AK38,Tabelas!B:D,3,0),0),\"\")","v":0},{"$f":"IF(A38<>\"\",IFERROR(VLOOKUP(AL38,Tabelas!B:D,3,0),0),\"\")","v":0},{"$f":"IF(A38<>\"\",IFERROR(VLOOKUP(AM38,Tabelas!B:D,3,0),0),\"\")","v":0},{"$f":"IF(A38<>\"\",IFERROR(VLOOKUP(AN38,Tabelas!B:D,3,0),0),\"\")","v":0},{"$f":"IF(A38<>\"\",IFERROR(VLOOKUP(AO38,Tabelas!B:D,3,0),0),\"\")","v":0},{"$f":"IF(A38<>\"\",IFERROR(VLOOKUP(AP38,Tabelas!B:D,3,0),0),\"\")","v":0},{"$f":"IF(A38<>\"\",IFERROR(VLOOKUP(AQ38,Tabelas!B:D,3,0),0),\"\")","v":0},0,0,0,4,19,0,0,23]
["TOTAL PROFISSIONAIS MATUTINO",null,null,null,null,null,null,null,null,null,null,null,{"$f":"IF(COUNTIF(M9:M38,\"M*\")+ COUNTIF(M9:M38, \"D*\")-COUNTIF(M9:M38,\"DSR\")<>0,COUNTIF(M9:M38,\"M*\")+ COUNTIF(M9:M38, \"D*\")-COUNTIF(M9:M38,\"DSR\"),\"\")","v":2},4,4,3,4,4,2,2,4,4,3,4,5,2,2,4,4,4,4,4,2,2,2,5,4,4,4,2,2,5,4,null,null,null,null,null,null,null,null,null,null,null,null,null,null,null,null,null,null,null,null,null,null,null,null,null,null,null,null,null,null,null,{"$f":"SUM(BW9:BW38)","v":1873},0,0,19,19,1,0,39]
["TOTAL DE PROFISSIONAIS VESPERTINO",null,null,null,null,null,null,null,null,null,null,null,{"$f":"IF(COUNTIF(M9:M38,\"MT*\") + COUNTIF(M9:M38, \"D*\") + COUNTIF(M9:M38,\"T*\")-COUNTIF(M9:M38,\"DSR\")<>0,COUNTIF(M9:M38,\"MT*\") + COUNTIF(M9:M38, \"D*\") + COUNTIF(M9:M38,\"T*\")-COUNTIF(M9:M38,\"DSR\"),\"\")","v":2},3,3,3,2,3,2,2,3,3,3,2,2,2,2,3,3,3,3,2,2,2,2,3,3,2,2,2,2,3,3,{"$f":"IF(A40<>\"\",IFERROR(VLOOKUP(M40,Tabelas!B:D,3,0),0),\"\")","v":0},{"$f":"IF(A40<>\"\",IFERROR(VLOOKUP(N40,Tabelas!B:D,3,0),0),\"\")","v":0},{"$f":"IF(A40<>\"\",IFERROR(VLOOKUP(O40,Tabelas!B:D,3,0),0),\"\")","v":0},{"$f":"IF(A40<>\"\",IFERROR(VLOOKUP(P40,Tabelas!B:D,3,0),0),\"\")","v":0},{"$f":"IF(A40<>\"\",IFERROR(VLOOKUP(Q40,Tabelas!B:D,3,0),0),\"\")","v":0},{"$f":"IF(A40<>\"\",IFERROR(VLOOKUP(R40,Tabelas!B:D,3,0),0),\"\")","v":0},{"$f":"IF(A40<>\"\",IFERROR(VLOOKUP(S40,Tabelas!B:D,3,0),0),\"\")","v":0},{"$f":"IF(A40<>\"\",IFERROR(VLOOKUP(T40,Tabelas!B:D,3,0),0),\"\")","v":0},{"$f":"IF(A40<>\"\",IFERROR(VLOOKUP(U40,Tabelas!B:D,3,0),0),\"\")","v":0},{"$f":"IF(A40<>\"\",IFERROR(VLOOKUP(V40,Tabelas!B:D,3,0),0),\"\")","v":0},{"$f":"IF(A40<>\"\",IFERROR(VLOOKUP(W40,Tabelas!B:D,3,0),0),\"\")","v":0},{"$f":"IF(A40<>\"\",IFERROR(VLOOKUP(X40,Tabelas!B:D,3,0),0),\"\")","v":0},{"$f":"IF(A40<>\"\",IFERROR(VLOOKUP(Y40,Tabelas!B:D,3,0),0),\"\")","v":0},{"$f":"IF(A40<>\"\",IFERROR(VLOOKUP(Z40,Tabelas!B:D,3,0),0),\"\")","v":0},{"$f":"IF(A40<>\"\",IFERROR(VLOOKUP(AA40,Tabelas!B:D,3,0),0),\"\")","v":0},{"$f":"IF(A40<>\"\",IFERROR(VLOOKUP(AB40,Tabelas!B:D,3,0),0),\"\")","v":0},{"$f":"IF(A40<>\"\",IFERROR(VLOOKUP(AC40,Tabelas!B:D,3,0),0),\"\")","v":0},{"$f":"IF(A40<>\"\",IFERROR(VLOOKUP(AD40,Tabelas!B:D,3,0),0),\"\")","v":0},{"$f":"IF(A40<>\"\",IFERROR(VLOOKUP(AE40,Tabelas!B:D,3,0),0),\"\")","v":0},{"$f":"IF(A40<>\"\",IFERROR(VLOOKUP(AF40,Tabelas!B:D,3,0),0),\"\")","v":0},{"$f":"IF(A40<>\"\",IFERROR(VLOOKUP(AG40,Tabelas!B:D,3,0),0),\"\")","v":0},{"$f":"IF(A40<>\"\",IFERROR(VLOOKUP(AH40,Tabelas!B:D,3,0),0),\"\")","v":0},{"$f":"IF(A40<>\"\",IFERROR(VLOOKUP(AI40,Tabelas!B:D,3,0),0),\"\")","v":0},{"$f":"IF(A40<>\"\",IFERROR(VLOOKUP(AJ40,Tabelas!B:D,3,0),0),\"\")","v":0},{"$f":"IF(A40<>\"\",IFERROR(VLOOKUP(AK40,Tabelas!B:D,3,0),0),\"\")","v":0},{"$f":"IF(A40<>\"\",IFERROR(VLOOKUP(AL40,Tabelas!B:D,3,0),0),\"\")","v":0},{"$f":"IF(A40<>\"\",IFERROR(VLOOKUP(AM40,Tabelas!B:D,3,0),0),\"\")","v":0},{"$f":"IF(A40<>\"\",IFERROR(VLOOKUP(AN40,Tabelas!B:D,3,0),0),\"\")","v":0},{"$f":"IF(A40<>\"\",IFERROR(VLOOKUP(AO40,Tabelas!B:D,3,0),0),\"\")","v":0},{"$f":"IF(A40<>\"\",IFERROR(VLOOKUP(AP40,Tabelas!B:D,3,0),0),\"\")","v":0},{"$f":"IF(A40<>\"\",IFERROR(VLOOKUP(AQ40,Tabelas!B:D,3,0),0),\"\")","v":0}]
["TOTAL DE PROFISSIONAIS NOTURNO",null,null,null,null,null,null,null,null,null,null,null,{"$f":"IF(COUNTIF(M9:M40,\"N?*\") + COUNTIF(M9:M40, \"DN*\")<>0,COUNTIF(M9:M40,\"N?*\") + COUNTIF(M9:M40, \"DN*\"),\"\")","v":2},2,2,2,2,2,2,2,2,2,2,2,2,2,2,2,2,3,2,2,2,2,2,2,3,1,2,2,2,2,2,{"$f":"IF(A41<>\"\",IFERROR(VLOOKUP(M41,Tabelas!B:D,3,0),0),\"\")","v":0},{"$f":"IF(A41<>\"\",IFERROR(VLOOKUP(N41,Tabelas!B:D,3,0),0),\"\")","v":0},{"$f":"IF(A41<>\"\",IFERROR(VLOOKUP(O41,Tabelas!B:D,3,0),0),\"\")","v":0},{"$f":"IF(A41<>\"\",IFERROR(VLOOKUP(P41,Tabelas!B:D,3,0),0),\"\")","v":0},{"$f":"IF(A41<>\"\",IFERROR(VLOOKUP(Q41,Tabelas!B:D,3,0),0),\"\")","v":0},{"$f":"IF(A41<>\"\",IFERROR(VLOOKUP(R41,Tabelas!B:D,3,0),0),\"\")","v":0},{"$f":"IF(A41<>\"\",IFERROR(VLOOKUP(S41,Tabelas!B:D,3,0),0),\"\")","v":0},{"$f":"IF(A41<>\"\",IFERROR(VLOOKUP(T41,Tabelas!B:D,3,0),0),\"\")","v":0},{"$f":"IF(A41<>\"\",IFERROR(VLOOKUP(U41,Tabelas!B:D,3,0),0),\"\")","v":0},{"$f":"IF(A41<>\"\",IFERROR(VLOOKUP(V41,Tabelas!B:D,3,0),0),\"\")","v":0},{"$f":"IF(A41<>\"\",IFERROR(VLOOKUP(W41,Tabelas!B:D,3,0),0),\"\")","v":0},{"$f":"IF(A41<>\"\",IFERROR(VLOOKUP(X41,Tabelas!B:D,3,0),0),\"\")","v":0},{"$f":"IF(A41<>\"\",IFERROR(VLOOKUP(Y41,Tabelas!B:D,3,0),0),\"\")","v":0},{"$f":"IF(A41<>\"\",IFERROR(VLOOKUP(Z41,Tabelas!B:D,3,0),0),\"\")","v":0},{"$f":"IF(A41<>\"\",IFERROR(VLOOKUP(AA41,Tabelas!B:D,3,0),0),\"\")","v":0},{"$f":"IF(A41<>\"\",IFERROR(VLOOKUP(AB41,Tabelas!B:D,3,0),0),\"\")","v":0},{"$f":"IF(A41<>\"\",IFERROR(VLOOKUP(AC41,Tabelas!B:D,3,0),0),\"\")","v":0},{"$f":"IF(A41<>\"\",IFERROR(VLOOKUP(AD41,Tabelas!B:D,3,0),0),\"\")","v":0},{"$f":"IF(A41<>\"\",IFERROR(VLOOKUP(AE41,Tabelas!B:D,3,0),0),\"\")","v":0},{"$f":"IF(A41<>\"\",IFERROR(VLOOKUP(AF41,Tabelas!B:D,3,0),0),\"\")","v":0},{"$f":"IF(A41<>\"\",IFERROR(VLOOKUP(AG41,Tabelas!B:D,3,0),0),\"\")","v":0},{"$f":"IF(A41<>\"\",IFERROR(VLOOKUP(AH41,Tabelas!B:D,3,0),0),\"\")","v":0},{"$f":"IF(A41<>\"\",IFERROR(VLOOKUP(AI41,Tabelas!B:D,3,0),0),\"\")","v":0},{"$f":"IF(A41<>\"\",IFERROR(VLOOKUP(AJ41,Tabelas!B:D,3,0),0),\"\")","v":0},{"$f":"IF(A41<>\"\",IFERROR(VLOOKUP(AK41,Tabelas!B:D,3,0),0),\"\")","v":0},{"$f":"IF(A41<>\"\",IFERROR(VLOOKUP(AL41,Tabelas!B:D,3,0),0),\"\")","v":0},{"$f":"IF(A41<>\"\",IFERROR(VLOOKUP(AM41,Tabelas!B:D,3,0),0),\"\")","v":0},{"$f":"IF(A41<>\"\",IFERROR(VLOOKUP(AN41,Tabelas!B:D,3,0),0),\"\")","v":0},{"$f":"IF(A41<>\"\",IFERROR(VLOOKUP(AO41,Tabelas!B:D,3,0),0),\"\")","v":0},{"$f":"IF(A41<>\"\",IFERROR(VLOOKUP(AP41,Tabelas!B:D,3,0),0),\"\")","v":0},{"$f":"IF(A41<>\"\",IFERROR(VLOOKUP(AQ41,Tabelas!B:D,3,0),0),\"\")","v":0}]
[null,null,null,null,null,null,null,null,null,null,null,null,null,null,null,null,null,null,null,null,null,null,null,null,null,null,null,null,null,null,null,null,null,null,null,null,null,null,null,null,null,null,null,{"$f":"IF(A42<>\"\",IFERROR(VLOOKUP(M42,Tabelas!B:D,3,0),0),\"\")","v":""},{"$f":"IF(A42<>\"\",IFERROR(VLOOKUP(N42,Tabelas!B:D,3,0),0),\"\")","v":""},{"$f":"IF(A42<>\"\",IFERROR(VLOOKUP(O42,Tabelas!B:D,3,0),0),\"\")","v":""},{"$f":"IF(A42<>\"\",IFERROR(VLOOKUP(P42,Tabelas!B:D,3,0),0),\"\")","v":""},{"$f":"IF(A42<>\"\",IFERROR(VLOOKUP(Q42,Tabelas!B:D,3,0),0),\"\")","v":""},{"$f":"IF(A42<>\"\",IFERROR(VLOOKUP(R42,Tabelas!B:D,3,0),0),\"\")","v":""},{"$f":"IF(A42<>\"\",IFERROR(VLOOKUP(S42,Tabelas!B:D,3,0),0),\"\")","v":""},{"$f":"IF(A42<>\"\",IFERROR(VLOOKUP(T42,Tabelas!B:D,3,0),0),\"\")","v":""},{"$f":"IF(A42<>\"\",IFERROR(VLOOKUP(U42,Tabelas!B:D,3,0),0),\"\")","v":""},{"$f":"IF(A42<>\"\",IFERROR(VLOOKUP(V42,Tabelas!B:D,3,0),0),\"\")","v":""},{"$f":"IF(A42<>\"\",IFERROR(VLOOKUP(W42,Tabelas!B:D,3,0),0),\"\")","v":""},{"$f":"IF(A42<>\"\",IFERROR(VLOOKUP(X42,Tabelas!B:D,3,0),0),\"\")","v":""},{"$f":"IF(A42<>\"\",IFERROR(VLOOKUP(Y42,Tabelas!B:D,3,0),0),\"\")","v":""},{"$f":"IF(A42<>\"\",IFERROR(VLOOKUP(Z42,Tabelas!B:D,3,0),0),\"\")","v":""},{"$f":"IF(A42<>\"\",IFERROR(VLOOKUP(AA42,Tabelas!B:D,3,0),0),\"\")","v":""},{"$f":"IF(A42<>\"\",IFERROR(VLOOKUP(AB42,Tabelas!B:D,3,0),0),\"\")","v":""},{"$f":"IF(A42<>\"\",IFERROR(VLOOKUP(AC42,Tabelas!B:D,3,0),0),\"\")","v":""},{"$f":"IF(A42<>\"\",IFERROR(VLOOKUP(AD42,Tabelas!B:D,3,0),0),\"\")","v":""},{"$f":"IF(A42<>\"\",IFERROR(VLOOKUP(AE42,Tabelas!B:D,3,0),0),\"\")","v":""},{"$f":"IF(A42<>\"\",IFERROR(VLOOKUP(AF42,Tabelas!B:D,3,0),0),\"\")","v":""},{"$f":"IF(A42<>\"\",IFERROR(VLOOKUP(AG42,Tabelas!B:D,3,0),0),\"\")","v":""},{"$f":"IF(A42<>\"\",IFERROR(VLOOKUP(AH42,Tabelas!B:D,3,0),0),\"\")","v":""},{"$f":"IF(A42<>\"\",IFERROR(VLOOKUP(AI42,Tabelas!B:D,3,0),0),\"\")","v":""},{"$f":"IF(A42<>\"\",IFERROR(VLOOKUP(AJ42,Tabelas!B:D,3,0),0),\"\")","v":""},{"$f":"IF(A42<>\"\",IFERROR(VLOOKUP(AK42,Tabelas!B:D,3,0),0),\"\")","v":""},{"$f":"IF(A42<>\"\",IFERROR(VLOOKUP(AL42,Tabelas!B:D,3,0),0),\"\")","v":""},{"$f":"IF(A42<>\"\",IFERROR(VLOOKUP(AM42,Tabelas!B:D,3,0),0),\"\")","v":""},{"$f":"IF(A42<>\"\",IFERROR(VLOOKUP(AN42,Tabelas!B:D,3,0),0),\"\")","v":""},{"$f":"IF(A42<>\"\",IFERROR(VLOOKUP(AO42,Tabelas!B:D,3,0),0),\"\")","v":""},{"$f":"IF(A42<>\"\",IFERROR(VLOOKUP(AP42,Tabelas!B:D,3,0),0),\"\")","v":""},{"$f":"IF(A42<>\"\",IFERROR(VLOOKUP(AQ42,Tabelas!B:D,3,0),0),\"\")","v":""}]
["Legenda:"]
["Licença Maternidade","LM","Férias",null,null,null,null,null,null,"FE",null,"Ponto Facultativo",null,null,null,null,null,null,null,"PF","Manhã *",null,null,null,null,null,null,"M","Diurno (8 hrs) *",null,null,null,null,null,null,"MT"]
["Licença Paternidade","LP","Feriado",null,null,null,null,null,null,"FD",null,"Abono **",null,null,null,null,null,null,null,"AB","Tarde *",null,null,null,null,null,null,"T","Dia/ noite (24 hrs) *",null,null,null,null,null,null,"DN"]
["Licença Médica/Odontológica","L","Descanso Semanal Remunerado",null,null,null,null,null,null,"DSR",null,"Compensação de Horas***",null,null,null,null,null,null,null,"CH","Plantão Dia (12 hrs) *",null,null,null,null,null,null,"D"]
["Licença Capacitação","LC","Recesso",null,null,null,null,null,null,"RC",null,"Afastamento**",null,null,null,null,null,null,null,"AF","Plantão Noite (12 hrs) *",null,null,null,null,null,null,"N"]
[]
["OBSERVAÇÕES:"]
["* Para inserção das legendas referentes às jornadas de trabalho, verificar a Tabela 1 do Anexo do Memorando-Circular - SEI nº   25 /2018/CAP/DGP-EBSERH."]
["** Para inserção das legendas referentes aos Afastamentos previstos em lei e às Compensações de horas, verificar a Tabela 2 do Anexo do Memorando-Circular - SEI nº   25 /2018/CAP/DGP-EBSERH."]

{"sheet":"Abril","index":3,"n_rows":56,"n_cols":82,"rows_kept":56,"cut":false,"hidden":false,"merged":[[48,20,48,26],[49,2,49,8],[49,9,49,10],[49,11,49,18],[49,20,49,26],[48,2,48,8],[48,9,48,10],[50,20,50,26],[51,2,51,8],[51,9,51,10],[51,11,51,18],[51,20,51,26],[43,0,43,11],[44,0,44,11],[45,0,45,11],[50,2,50,8],[50,9,50,10],[50,11,50,18],[48,11,48,18],[1,0,1,42],[2,0,2,42],[3,0,3,42],[4,1,4,20],[4,23,4,34],[4,37,4,42],[5,6,5,11],[6,76,7,76],[6,77,7,77],[6,78,7,78],[6,79,7,79],[6,6,7,6],[6,7,7,7],[6,8,7,8],[6,11,7,11],[6,9,7,9],[6,10,7,10],[6,80,7,80],[6,81,7,81],[5,12,5,42],[5,43,5,73],[5,75,5,81],[5,74,7,74],[6,75,7,75],[43,79,45,79],[43,80,45,80],[43,81,45,81],[48,28,48,34],[49,28,49,34],[43,74,45,74],[43,75,45,75],[43,76,45,76],[43,77,45,77],[43,78,45,78]]}
[]
[]
["NOME DO HU"]
["ESCALA MENSAL DE TRABALHO"]
["DIVISÃO /SETOR/UNIDADE:","Unidade de Terapia Intensiva Adulto - MÉDICOS",null,null,null,null,null,null,null,null,null,null,null,null,null,null,null,null,null,null,null,"MÊS:",null,"Abril",null,null,null,null,null,null,null,null,null,null,null,"ANO:",null,2020]
["NOME COMPLETO","SIAPE","     Registro Conselho Classe","Cargo","Vínculo","    C.H Sem","INTERVALO",null,null,null,null,null,"DIAS DO MÊS",null,null,null,null,null,null,null,null,null,null,null,null,null,null,null,null,null,null,null,null,null,null,null,null,null,null,null,null,null,null,"CÁLCULO DAS HORAS",null,null,null,null,null,null,null,null,null,null,null,null,null,null,null,null,null,null,null,null,null,null,null,null,null,null,null,null,null,null,"CH Men.","Dias"]
[null,null,null,null,null,null,"15' M","15' T","15' N","1H D","1H N","2H",1,2,3,4,5,6,7,8,9,10,11,12,13,14,15,16,17,18,19,20,21,22,23,24,25,{"$f":"IF(DAY(DATE(AL5,VLOOKUP(X5,Tabelas!M:N,2,0)+1,1)-1)>=26,26,\"\")","v":26},{"$f":"IF(DAY(DATE(AL5,VLOOKUP(X5,Tabelas!M:N,2,0)+1,1)-1)>=27,27,\"\")","v":27},{"$f":"IF(DAY(DATE(AL5,VLOOKUP(X5,Tabelas!M:N,2,0)+1,1)-1)>=28,28,\"\")","v":28},{"$f":"IF(DAY(DATE(AL5,VLOOKUP(X5,Tabelas!M:N,2,0)+1,1)-1)>=29,29,\"\")","v":29},{"$f":"IF(DAY(DATE(AL5,VLOOKUP(X5,Tabelas!M:N,2,0)+1,1)-1)>=30,30,\"\")","v":30},{"$f":"IF(DAY(DATE(AL5,VLOOKUP(X5,Tabelas!M:N,2,0)+1,1)-1)>=31,31,\"\")","v":""},null,null,null,null,null,null,null,null,null,null,null,null,null,null,null,null,null,null,null,null,null,null,null,null,null,null,null,null,null,null,null,null,"LM/LP/L","AB","FE","LC","CH","AF  "," Total Afast."]
[null,null,null,null,null,null,null,null,null,null,null,null,{"$f":"IF(M7<>\"\",IFERROR(VLOOKUP(WEEKDAY(CONCATENATE(M7,$X$5,$AL$5)),Tabelas!$I:$J,2,0),\"\"),\"\")","v":"QUA"},{"$f":"IF(N7<>\"\",IFERROR(VLOOKUP(WEEKDAY(CONCATENATE(N7,$X$5,$AL$5)),Tabelas!$I:$J,2,0),\"\"),\"\")","v":"QUI"},{"$f":"IF(O7<>\"\",IFERROR(VLOOKUP(WEEKDAY(CONCATENATE(O7,$X$5,$AL$5)),Tabelas!$I:$J,2,0),\"\"),\"\")","v":"SEX"},{"$f":"IF(P7<>\"\",IFERROR(VLOOKUP(WEEKDAY(CONCATENATE(P7,$X$5,$AL$5)),Tabelas!$I:$J,2,0),\"\"),\"\")","v":"SAB"},{"$f":"IF(Q7<>\"\",IFERROR(VLOOKUP(WEEKDAY(CONCATENATE(Q7,$X$5,$AL$5)),Tabelas!$I:$J,2,0),\"\"),\"\")","v":"DOM"},{"$f":"IF(R7<>\"\",IFERROR(VLOOKUP(WEEKDAY(CONCATENATE(R7,$X$5,$AL$5)),Tabelas!$I:$J,2,0),\"\"),\"\")","v":"SEG"},{"$f":"IF(S7<>\"\",IFERROR(VLOOKUP(WEEKDAY(CONCATENATE(S7,$X$5,$AL$5)),Tabelas!$I:$J,2,0),\"\"),\"\")","v":"TER"},{"$f":"IF(T7<>\"\",IFERROR(VLOOKUP(WEEKDAY(CONCATENATE(T7,$X$5,$AL$5)),Tabelas!$I:$J,2,0),\"\"),\"\")","v":"QUA"},{"$f":"IF(U7<>\"\",IFERROR(VLOOKUP(WEEKDAY(CONCATENATE(U7,$X$5,$AL$5)),Tabelas!$I:$J,2,0),\"\"),\"\")","v":"QUI"},{"$f":"IF(V7<>\"\",IFERROR(VLOOKUP(WEEKDAY(CONCATENATE(V7,$X$5,$AL$5)),Tabelas!$I:$J,2,0),\"\"),\"\")","v":"SEX"},{"$f":"IF(W7<>\"\",IFERROR(VLOOKUP(WEEKDAY(CONCATENATE(W7,$X$5,$AL$5)),Tabelas!$I:$J,2,0),\"\"),\"\")","v":"SAB"},{"$f":"IF(X7<>\"\",IFERROR(VLOOKUP(WEEKDAY(CONCATENATE(X7,$X$5,$AL$5)),Tabelas!$I:$J,2,0),\"\"),\"\")","v":"DOM"},{"$f":"IF(Y7<>\"\",IFERROR(VLOOKUP(WEEKDAY(CONCATENATE(Y7,$X$5,$AL$5)),Tabelas!$I:$J,2,0),\"\"),\"\")","v":"SEG"},{"$f":"IF(Z7<>\"\",IFERROR(VLOOKUP(WEEKDAY(CONCATENATE(Z7,$X$5,$AL$5)),Tabelas!$I:$J,2,0),\"\"),\"\")","v":"TER"},{"$f":"IF(AA7<>\"\",IFERROR(VLOOKUP(WEEKDAY(CONCATENATE(AA7,$X$5,$AL$5)),Tabelas!$I:$J,2,0),\"\"),\"\")","v":"QUA"},{"$f":"IF(AB7<>\"\",IFERROR(VLOOKUP(WEEKDAY(CONCATENATE(AB7,$X$5,$AL$5)),Tabelas!$I:$J,2,0),\"\"),\"\")","v":"QUI"},{"$f":"IF(AC7<>\"\",IFERROR(VLOOKUP(WEEKDAY(CONCATENATE(AC7,$X$5,$AL$5)),Tabelas!$I:$J,2,0),\"\"),\"\")","v":"SEX"},{"$f":"IF(AD7<>\"\",IFERROR(VLOOKUP(WEEKDAY(CONCATENATE(AD7,$X$5,$AL$5)),Tabelas!$I:$J,2,0),\"\"),\"\")","v":"SAB"},{"$f":"IF(AE7<>\"\",IFERROR(VLOOKUP(WEEKDAY(CONCATENATE(AE7,$X$5,$AL$5)),Tabelas!$I:$J,2,0),\"\"),\"\")","v":"DOM"},{"$f":"IF(AF7<>\"\",IFERROR(VLOOKUP(WEEKDAY(CONCATENATE(AF7,$X$5,$AL$5)),Tabelas!$I:$J,2,0),\"\"),\"\")","v":"SEG"},{"$f":"IF(AG7<>\"\",IFERROR(VLOOKUP(WEEKDAY(CONCATENATE(AG7,$X$5,$AL$5)),Tabelas!$I:$J,2,0),\"\"),\"\")","v":"TER"},{"$f":"IF(AH7<>\"\",IFERROR(VLOOKUP(WEEKDAY(CONCATENATE(AH7,$X$5,$AL$5)),Tabelas!$I:$J,2,0),\"\"),\"\")","v":"QUA"},{"$f":"IF(AI7<>\"\",IFERROR(VLOOKUP(WEEKDAY(CONCATENATE(AI7,$X$5,$AL$5)),Tabelas!$I:$J,2,0),\"\"),\"\")","v":"QUI"},{"$f":"IF(AJ7<>\"\",IFERROR(VLOOKUP(WEEKDAY(CONCATENATE(AJ7,$X$5,$AL$5)),Tabelas!$I:$J,2,0),\"\"),\"\")","v":"SEX"},{"$f":"IF(AK7<>\"\",IFERROR(VLOOKUP(WEEKDAY(CONCATENATE(AK7,$X$5,$AL$5)),Tabelas!$I:$J,2,0),\"\"),\"\")","v":"SAB"},{"$f":"IF(AL7<>\"\",IFERROR(VLOOKUP(WEEKDAY(CONCATENATE(AL7,$X$5,$AL$5)),Tabelas!$I:$J,2,0),\"\"),\"\")","v":"DOM"},{"$f":"IF(AM7<>\"\",IFERROR(VLOOKUP(WEEKDAY(CONCATENATE(AM7,$X$5,$AL$5)),Tabelas!$I:$J,2,0),\"\"),\"\")","v":"SEG"},{"$f":"IF(AN7<>\"\",IFERROR(VLOOKUP(WEEKDAY(CONCATENATE(AN7,$X$5,$AL$5)),Tabelas!$I:$J,2,0),\"\"),\"\")","v":"TER"},{"$f":"IF(AO7<>\"\",IFERROR(VLOOKUP(WEEKDAY(CONCATENATE(AO7,$X$5,$AL$5)),Tabelas!$I:$J,2,0),\"\"),\"\")","v":"QUA"},{"$f":"IF(AP7<>\"\",IFERROR(VLOOKUP(WEEKDAY(CONCATENATE(AP7,$X$5,$AL$5)),Tabelas!$I:$J,2,0),\"\"),\"\")","v":"QUI"},{"$f":"IF(AQ7<>\"\",IFERROR(VLOOKUP(WEEKDAY(CONCATENATE(AQ7,$X$5,$AL$5)),Tabelas!$I:$J,2,0),\"\"),\"\")","v":""},1,2,3,4,5,6,7,8,9,10,11,12,13,14,15,16,17,18,19,20,21,22,23,24,25,26,27,28,29,30,31]
["ROTINA",null,null,null,null,null,null,null,null,null,null,null,null,null,null,null,null,null,null,null,null,null,null,null,null,null,null,null,null,null,null,null,null,null,null,null,null,null,null,null,null,null,null,{"$f":"IF(A9<>\"\",IFERROR(VLOOKUP(M9,Tabelas!B:D,3,0),0),\"\")","v":0},{"$f":"IF(A9<>\"\",IFERROR(VLOOKUP(N9,Tabelas!B:D,3,0),0),\"\")","v":0},{"$f":"IF(A9<>\"\",IFERROR(VLOOKUP(O9,Tabelas!B:D,3,0),0),\"\")","v":0},{"$f":"IF(A9<>\"\",IFERROR(VLOOKUP(P9,Tabelas!B:D,3,0),0),\"\")","v":0},{"$f":"IF(A9<>\"\",IFERROR(VLOOKUP(Q9,Tabelas!B:D,3,0),0),\"\")","v":0},{"$f":"IF(A9<>\"\",IFERROR(VLOOKUP(R9,Tabelas!B:D,3,0),0),\"\")","v":0},{"$f":"IF(A9<>\"\",IFERROR(VLOOKUP(S9,Tabelas!B:D,3,0),0),\"\")","v":0},{"$f":"IF(A9<>\"\",IFERROR(VLOOKUP(T9,Tabelas!B:D,3,0),0),\"\")","v":0},{"$f":"IF(A9<>\"\",IFERROR(VLOOKUP(U9,Tabelas!B:D,3,0),0),\"\")","v":0},{"$f":"IF(A9<>\"\",IFERROR(VLOOKUP(V9,Tabelas!B:D,3,0),0),\"\")","v":0},{"$f":"IF(A9<>\"\",IFERROR(VLOOKUP(W9,Tabelas!B:D,3,0),0),\"\")","v":0},{"$f":"IF(A9<>\"\",IFERROR(VLOOKUP(X9,Tabelas!B:D,3,0),0),\"\")","v":0},{"$f":"IF(A9<>\"\",IFERROR(VLOOKUP(Y9,Tabelas!B:D,3,0),0),\"\")","v":0},{"$f":"IF(A9<>\"\",IFERROR(VLOOKUP(Z9,Tabelas!B:D,3,0),0),\"\")","v":0},{"$f":"IF(A9<>\"\",IFERROR(VLOOKUP(AA9,Tabelas!B:D,3,0),0),\"\")","v":0},{"$f":"IF(A9<>\"\",IFERROR(VLOOKUP(AB9,Tabelas!B:D,3,0),0),\"\")","v":0},{"$f":"IF(A9<>\"\",IFERROR(VLOOKUP(AC9,Tabelas!B:D,3,0),0),\"\")","v":0},{"$f":"IF(A9<>\"\",IFERROR(VLOOKUP(AD9,Tabelas!B:D,3,0),0),\"\")","v":0},{"$f":"IF(A9<>\"\",IFERROR(VLOOKUP(AE9,Tabelas!B:D,3,0),0),\"\")","v":0},{"$f":"IF(A9<>\"\",IFERROR(VLOOKUP(AF9,Tabelas!B:D,3,0),0),\"\")","v":0},{"$f":"IF(A9<>\"\",IFERROR(VLOOKUP(AG9,Tabelas!B:D,3,0),0),\"\")","v":0},{"$f":"IF(A9<>\"\",IFERROR(VLOOKUP(AH9,Tabelas!B:D,3,0),0),\"\")","v":0},{"$f":"IF(A9<>\"\",IFERROR(VLOOKUP(AI9,Tabelas!B:D,3,0),0),\"\")","v":0},{"$f":"IF(A9<>\"\",IFERROR(VLOOKUP(AJ9,Tabelas!B:D,3,0),0),\"\")","v":0},{"$f":"IF(A9<>\"\",IFERROR(VLOOKUP(AK9,Tabelas!B:D,3,0),0),\"\")","v":0},{"$f":"IF(A9<>\"\",IFERROR(VLOOKUP(AL9,Tabelas!B:D,3,0),0),\"\")","v":0},{"$f":"IF(A9<>\"\",IFERROR(VLOOKUP(AM9,Tabelas!B:D,3,0),0),\"\")","v":0},{"$f":"IF(A9<>\"\",IFERROR(VLOOKUP(AN9,Tabelas!B:D,3,0),0),\"\")","v":0},{"$f":"IF(A9<>\"\",IFERROR(VLOOKUP(AO9,Tabelas!B:D,3,0),0),\"\")","v":0},{"$f":"IF(A9<>\"\",IFERROR(VLOOKUP(AP9,Tabelas!B:D,3,0),0),\"\")","v":0},{"$f":"IF(A9<>\"\",IFERROR(VLOOKUP(AQ9,Tabelas!B:D,3,0),0),\"\")","v":0},{"$f":"IF(AND(A9<>\"\",E9=\"Ebserh\"),SUM(AR9:BV9)+COUNTIF(M9:AQ9,\"N*\")+COUNTIF(M9:AQ9,\"DN*\"),IF(AND(A9<>\"\",E9<>\"Ebserh\"),SUM(AR9:BV9),\"\"))","v":0},{"$f":"IF(A9<>\"\",COUNTIF(M9:AQ9,\"LM\")+COUNTIF(M9:AQ9,\"L\")+COUNTIF(M9:AQ9,\"LP\"),\"\")","v":0},{"$f":"IF(A9<>\"\",COUNTIF(M9:AQ9,\"AB*\"),\"\")","v":0},{"$f":"IF(A9<>\"\",COUNTIF(M9:AQ9,\"FE\"),\"\")","v":0},{"$f":"IF(A9<>\"\",COUNTIF(M9:AQ9,\"LC\"),\"\")","v":0},{"$f":"IF(A9<>\"\",COUNTIF(M9:AQ9,\"CH*\"),\"\")","v":0},{"$f":"IF(A9<>\"\",COUNTIF(M9:AQ9,\"AF1\")+COUNTIF(M9:AQ9,\"AF2\")+COUNTIF(M9:AQ9,\"AF3\")+COUNTIF(M9:AQ9,\"AF4\")+COUNTIF(M9:AQ9,\"AF5\")+COUNTIF(M9:AQ9,\"AF6\")+COUNTIF(M9:AQ9,\"AF7\")+COUNTIF(M9:AQ9,\"AF8\")+COUNTIF(M9:AQ9,\"AF9\")+COUNTIF(M9:AQ9,\"AF10\")+COUNTIF(M9:AQ9,\"AF11\")+COUNTIF(M9:AQ9,\"AF12\")+COUNTIF(M9:AQ9,\"AF13\")+COUNTIF(M9:AQ9,\"AF14\"),\"\")","v":0},{"$f":"IF(A9<>\"\",COUNTIF(M9:AQ9,\"CH*\")+COUNTIF(M9:AQ9,\"L\")+COUNTIF(M9:AQ9,\"LM\")+COUNTIF(M9:AQ9,\"LP\")+COUNTIF(M9:AQ9,\"LC\")+COUNTIF(M9:AQ9,\"AB*\")+COUNTIF(M9:AQ9,\"AF1\")+COUNTIF(M9:AQ9,\"AF2\")+COUNTIF(M9:AQ9,\"AF3\")+COUNTIF(M9:AQ9,\"AF4\")+COUNTIF(M9:AQ9,\"AF5\")+COUNTIF(M9:AQ9,\"AF6\")+COUNTIF(M9:AQ9,\"AF7\")+COUNTIF(M9:AQ9,\"AF8\")+COUNTIF(M9:AQ9,\"AF9\")+COUNTIF(M9:AQ9,\"AF10\")+COUNTIF(M9:AQ9,\"AF11\")+COUNTIF(M9:AQ9,\"AF12\")+COUNTIF(M9:AQ9,\"AF13\")+COUNTIF(M9:AQ9,\"AF14\")+COUNTIF(M9:AQ9,\"RC\")+COUNTIF(M9:AQ9,\"FO\")+COUNTIF(M9:AQ9,\"FE\"),\"\")","v":0}]
["Alexandre Luciano Klein",2312539,null,"ME","RJU",30,null,null,null,null,null,null,"M17","M17","M17",null,null,"M17","M17","M17","M17",null,null,null,"M17","M17","M17","M17","M17",null,null,"M17",null,"M17","M17","M17",null,null,"M17","M17","M17","M17",null,{"$f":"IF(A10<>\"\",IFERROR(VLOOKUP(M10,Tabelas!B:D,3,0),0),\"\")","v":6},{"$f":"IF(A10<>\"\",IFERROR(VLOOKUP(N10,Tabelas!B:D,3,0),0),\"\")","v":6},{"$f":"IF(A10<>\"\",IFERROR(VLOOKUP(O10,Tabelas!B:D,3,0),0),\"\")","v":6},{"$f":"IF(A10<>\"\",IFERROR(VLOOKUP(P10,Tabelas!B:D,3,0),0),\"\")","v":0},{"$f":"IF(A10<>\"\",IFERROR(VLOOKUP(Q10,Tabelas!B:D,3,0),0),\"\")","v":0},{"$f":"IF(A10<>\"\",IFERROR(VLOOKUP(R10,Tabelas!B:D,3,0),0),\"\")","v":6},{"$f":"IF(A10<>\"\",IFERROR(VLOOKUP(S10,Tabelas!B:D,3,0),0),\"\")","v":6},{"$f":"IF(A10<>\"\",IFERROR(VLOOKUP(T10,Tabelas!B:D,3,0),0),\"\")","v":6},{"$f":"IF(A10<>\"\",IFERROR(VLOOKUP(U10,Tabelas!B:D,3,0),0),\"\")","v":6},{"$f":"IF(A10<>\"\",IFERROR(VLOOKUP(V10,Tabelas!B:D,3,0),0),\"\")","v":0},{"$f":"IF(A10<>\"\",IFERROR(VLOOKUP(W10,Tabelas!B:D,3,0),0),\"\")","v":0},{"$f":"IF(A10<>\"\",IFERROR(VLOOKUP(X10,Tabelas!B:D,3,0),0),\"\")","v":0},{"$f":"IF(A10<>\"\",IFERROR(VLOOKUP(Y10,Tabelas!B:D,3,0),0),\"\")","v":6},{"$f":"IF(A10<>\"\",IFERROR(VLOOKUP(Z10,Tabelas!B:D,3,0),0),\"\")","v":6},{"$f":"IF(A10<>\"\",IFERROR(VLOOKUP(AA10,Tabelas!B:D,3,0),0),\"\")","v":6},{"$f":"IF(A10<>\"\",IFERROR(VLOOKUP(AB10,Tabelas!B:D,3,0),0),\"\")","v":6},{"$f":"IF(A10<>\"\",IFERROR(VLOOKUP(AC10,Tabelas!B:D,3,0),0),\"\")","v":6},{"$f":"IF(A10<>\"\",IFERROR(VLOOKUP(AD10,Tabelas!B:D,3,0),0),\"\")","v":0},{"$f":"IF(A10<>\"\",IFERROR(VLOOKUP(AE10,Tabelas!B:D,3,0),0),\"\")","v":0},{"$f":"IF(A10<>\"\",IFERROR(VLOOKUP(AF10,Tabelas!B:D,3,0),0),\"\")","v":6},{"$f":"IF(A10<>\"\",IFERROR(VLOOKUP(AG10,Tabelas!B:D,3,0),0),\"\")","v":0},{"$f":"IF(A10<>\"\",IFERROR(VLOOKUP(AH10,Tabelas!B:D,3,0),0),\"\")","v":6},{"$f":"IF(A10<>\"\",IFERROR(VLOOKUP(AI10,Tabelas!B:D,3,0),0),\"\")","v":6},{"$f":"IF(A10<>\"\",IFERROR(VLOOKUP(AJ10,Tabelas!B:D,3,0),0),\"\")","v":6},{"$f":"IF(A10<>\"\",IFERROR(VLOOKUP(AK10,Tabelas!B:D,3,0),0),\"\")","v":0},{"$f":"IF(A10<>\"\",IFERROR(VLOOKUP(AL10,Tabelas!B:D,3,0),0),\"\")","v":0},{"$f":"IF(A10<>\"\",IFERROR(VLOOKUP(AM10,Tabelas!B:D,3,0),0),\"\")","v":6},{"$f":"IF(A10<>\"\",IFERROR(VLOOKUP(AN10,Tabelas!B:D,3,0),0),\"\")","v":6},{"$f":"IF(A10<>\"\",IFERROR(VLOOKUP(AO10,Tabelas!B:D,3,0),0),\"\")","v":6},{"$f":"IF(A10<>\"\",IFERROR(VLOOKUP(AP10,Tabelas!B:D,3,0),0),\"\")","v":6},{"$f":"IF(A10<>\"\",IFERROR(VLOOKUP(AQ10,Tabelas!B:D,3,0),0),\"\")","v":0},120,0,0,0,0,0,0,0]
["Alexandre Luciano Klein",3312539,null,"ME","RJU",20,null,null,null,null,null,null,"T17","T17",null,null,null,"T17",null,"T17",null,null,null,null,"T17",null,"T17","T17",null,null,null,"T17",null,"T17","T17",null,null,null,"T17",null,"T17","T17",null,{"$f":"IF(#REF!<>\"\",IFERROR(VLOOKUP(M11,Tabelas!B:D,3,0),0),\"\")","v":{"$error":"#REF!"}},{"$f":"IF(#REF!<>\"\",IFERROR(VLOOKUP(N11,Tabelas!B:D,3,0),0),\"\")","v":{"$error":"#REF!"}},{"$f":"IF(#REF!<>\"\",IFERROR(VLOOKUP(O11,Tabelas!B:D,3,0),0),\"\")","v":{"$error":"#REF!"}},{"$f":"IF(#REF!<>\"\",IFERROR(VLOOKUP(P11,Tabelas!B:D,3,0),0),\"\")","v":{"$error":"#REF!"}},{"$f":"IF(#REF!<>\"\",IFERROR(VLOOKUP(Q11,Tabelas!B:D,3,0),0),\"\")","v":{"$error":"#REF!"}},{"$f":"IF(#REF!<>\"\",IFERROR(VLOOKUP(R11,Tabelas!B:D,3,0),0),\"\")","v":{"$error":"#REF!"}},{"$f":"IF(#REF!<>\"\",IFERROR(VLOOKUP(S11,Tabelas!B:D,3,0),0),\"\")","v":{"$error":"#REF!"}},{"$f":"IF(#REF!<>\"\",IFERROR(VLOOKUP(T11,Tabelas!B:D,3,0),0),\"\")","v":{"$error":"#REF!"}},{"$f":"IF(#REF!<>\"\",IFERROR(VLOOKUP(U11,Tabelas!B:D,3,0),0),\"\")","v":{"$error":"#REF!"}},{"$f":"IF(#REF!<>\"\",IFERROR(VLOOKUP(V11,Tabelas!B:D,3,0),0),\"\")","v":{"$error":"#REF!"}},{"$f":"IF(#REF!<>\"\",IFERROR(VLOOKUP(W11,Tabelas!B:D,3,0),0),\"\")","v":{"$error":"#REF!"}},{"$f":"IF(#REF!<>\"\",IFERROR(VLOOKUP(X11,Tabelas!B:D,3,0),0),\"\")","v":{"$error":"#REF!"}},{"$f":"IF(#REF!<>\"\",IFERROR(VLOOKUP(Y11,Tabelas!B:D,3,0),0),\"\")","v":{"$error":"#REF!"}},{"$f":"IF(#REF!<>\"\",IFERROR(VLOOKUP(Z11,Tabelas!B:D,3,0),0),\"\")","v":{"$error":"#REF!"}},{"$f":"IF(#REF!<>\"\",IFERROR(VLOOKUP(AA11,Tabelas!B:D,3,0),0),\"\")","v":{"$error":"#REF!"}},{"$f":"IF(#REF!<>\"\",IFERROR(VLOOKUP(AB11,Tabelas!B:D,3,0),0),\"\")","v":{"$error":"#REF!"}},{"$f":"IF(#REF!<>\"\",IFERROR(VLOOKUP(AC11,Tabelas!B:D,3,0),0),\"\")","v":{"$error":"#REF!"}},{"$f":"IF(#REF!<>\"\",IFERROR(VLOOKUP(AD11,Tabelas!B:D,3,0),0),\"\")","v":{"$error":"#REF!"}},{"$f":"IF(#REF!<>\"\",IFERROR(VLOOKUP(AE11,Tabelas!B:D,3,0),0),\"\")","v":{"$error":"#REF!"}},{"$f":"IF(#REF!<>\"\",IFERROR(VLOOKUP(AF11,Tabelas!B:D,3,0),0),\"\")","v":{"$error":"#REF!"}},{"$f":"IF(#REF!<>\"\",IFERROR(VLOOKUP(AG11,Tabelas!B:D,3,0),0),\"\")","v":{"$error":"#REF!"}},{"$f":"IF(#REF!<>\"\",IFERROR(VLOOKUP(AH11,Tabelas!B:D,3,0),0),\"\")","v":{"$error":"#REF!"}},{"$f":"IF(#REF!<>\"\",IFERROR(VLOOKUP(AI11,Tabelas!B:D,3,0),0),\"\")","v":{"$error":"#REF!"}},{"$f":"IF(#REF!<>\"\",IFERROR(VLOOKUP(AJ11,Tabelas!B:D,3,0),0),\"\")","v":{"$error":"#REF!"}},{"$f":"IF(#REF!<>\"\",IFERROR(VLOOKUP(AK11,Tabelas!B:D,3,0),0),\"\")","v":{"$error":"#REF!"}},{"$f":"IF(#REF!<>\"\",IFERROR(VLOOKUP(AL11,Tabelas!B:D,3,0),0),\"\")","v":{"$error":"#REF!"}},{"$f":"IF(#REF!<>\"\",IFERROR(VLOOKUP(AM11,Tabelas!B:D,3,0),0),\"\")","v":{"$error":"#REF!"}},{"$f":"IF(#REF!<>\"\",IFERROR(VLOOKUP(AN11,Tabelas!B:D,3,0),0),\"\")","v":{"$error":"#REF!"}},{"$f":"IF(#REF!<>\"\",IFERROR(VLOOKUP(AO11,Tabelas!B:D,3,0),0),\"\")","v":{"$error":"#REF!"}},{"$f":"IF(#REF!<>\"\",IFERROR(VLOOKUP(AP11,Tabelas!B:D,3,0),0),\"\")","v":{"$error":"#REF!"}},{"$f":"IF(#REF!<>\"\",IFERROR(VLOOKUP(AQ11,Tabelas!B:D,3,0),0),\"\")","v":{"$error":"#REF!"}},{"$f":"IF(AND(#REF!<>\"\",#REF!=\"Ebserh\"),SUM(AR11:BV11)+COUNTIF(M11:AQ11,\"N*\")+COUNTIF(M11:AQ11,\"DN*\"),IF(AND(#REF!<>\"\",#REF!<>\"Ebserh\"),SUM(AR11:BV11),\"\"))","v":{"$error":"#REF!"}},{"$f":"IF(#REF!<>\"\",COUNTIF(M11:AQ11,\"LM\")+COUNTIF(M11:AQ11,\"L\")+COUNTIF(M11:AQ11,\"LP\"),\"\")","v":{"$error":"#REF!"}},{"$f":"IF(#REF!<>\"\",COUNTIF(M11:AQ11,\"AB*\"),\"\")","v":{"$error":"#REF!"}},{"$f":"IF(#REF!<>\"\",COUNTIF(M11:AQ11,\"FE\"),\"\")","v":{"$error":"#REF!"}},{"$f":"IF(#REF!<>\"\",COUNTIF(M11:AQ11,\"LC\"),\"\")","v":{"$error":"#REF!"}},{"$f":"IF(#REF!<>\"\",COUNTIF(M11:AQ11,\"CH*\"),\"\")","v":{"$error":"#REF!"}},{"$f":"IF(#REF!<>\"\",COUNTIF(M11:AQ11,\"AF1\")+COUNTIF(M11:AQ11,\"AF2\")+COUNTIF(M11:AQ11,\"AF3\")+COUNTIF(M11:AQ11,\"AF4\")+COUNTIF(M11:AQ11,\"AF5\")+COUNTIF(M11:AQ11,\"AF6\")+COUNTIF(M11:AQ11,\"AF7\")+COUNTIF(M11:AQ11,\"AF8\")+COUNTIF(M11:AQ11,\"AF9\")+COUNTIF(M11:AQ11,\"AF10\")+COUNTIF(M11:AQ11,\"AF11\")+COUNTIF(M11:AQ11,\"AF12\")+COUNTIF(M11:AQ11,\"AF13\")+COUNTIF(M11:AQ11,\"AF14\"),\"\")","v":{"$error":"#REF!"}},{"$f":"IF(#REF!<>\"\",COUNTIF(M11:AQ11,\"CH*\")+COUNTIF(M11:AQ11,\"L\")+COUNTIF(M11:AQ11,\"LM\")+COUNTIF(M11:AQ11,\"LP\")+COUNTIF(M11:AQ11,\"LC\")+COUNTIF(M11:AQ11,\"AB*\")+COUNTIF(M11:AQ11,\"AF1\")+COUNTIF(M11:AQ11,\"AF2\")+COUNTIF(M11:AQ11,\"AF3\")+COUNTIF(M11:AQ11,\"AF4\")+COUNTIF(M11:AQ11,\"AF5\")+COUNTIF(M11:AQ11,\"AF6\")+COUNTIF(M11:AQ11,\"AF7\")+COUNTIF(M11:AQ11,\"AF8\")+COUNTIF(M11:AQ11,\"AF9\")+COUNTIF(M11:AQ11,\"AF10\")+COUNTIF(M11:AQ11,\"AF11\")+COUNTIF(M11:AQ11,\"AF12\")+COUNTIF(M11:AQ11,\"AF13\")+COUNTIF(M11:AQ11,\"AF14\")+COUNTIF(M11:AQ11,\"RC\")+COUNTIF(M11:AQ11,\"FO\")+COUNTIF(M11:AQ11,\"FE\"),\"\")","v":{"$error":"#REF!"}}]
["Alice Danielle Correa Mendes Pinto",1357071,null,"ME","RJU",30,null,null,null,null,null,null,"M17","M17","M17",null,null,"M17","M17","M17","M17",null,null,null,null,"M17","M17","M17","M17",null,null,"M17",null,"M17","M17","M17",null,"M17","M17","M17","M17","M17",null,{"$f":"IF(A12<>\"\",IFERROR(VLOOKUP(M12,Tabelas!B:D,3,0),0),\"\")","v":6},{"$f":"IF(A12<>\"\",IFERROR(VLOOKUP(N12,Tabelas!B:D,3,0),0),\"\")","v":6},{"$f":"IF(A12<>\"\",IFERROR(VLOOKUP(O12,Tabelas!B:D,3,0),0),\"\")","v":6},{"$f":"IF(A12<>\"\",IFERROR(VLOOKUP(P12,Tabelas!B:D,3,0),0),\"\")","v":0},{"$f":"IF(A12<>\"\",IFERROR(VLOOKUP(Q12,Tabelas!B:D,3,0),0),\"\")","v":0},{"$f":"IF(A12<>\"\",IFERROR(VLOOKUP(R12,Tabelas!B:D,3,0),0),\"\")","v":6},{"$f":"IF(A12<>\"\",IFERROR(VLOOKUP(S12,Tabelas!B:D,3,0),0),\"\")","v":6},{"$f":"IF(A12<>\"\",IFERROR(VLOOKUP(T12,Tabelas!B:D,3,0),0),\"\")","v":6},{"$f":"IF(A12<>\"\",IFERROR(VLOOKUP(U12,Tabelas!B:D,3,0),0),\"\")","v":6},{"$f":"IF(A12<>\"\",IFERROR(VLOOKUP(V12,Tabelas!B:D,3,0),0),\"\")","v":0},{"$f":"IF(A12<>\"\",IFERROR(VLOOKUP(W12,Tabelas!B:D,3,0),0),\"\")","v":0},{"$f":"IF(A12<>\"\",IFERROR(VLOOKUP(X12,Tabelas!B:D,3,0),0),\"\")","v":0},{"$f":"IF(A12<>\"\",IFERROR(VLOOKUP(Y12,Tabelas!B:D,3,0),0),\"\")","v":0},{"$f":"IF(A12<>\"\",IFERROR(VLOOKUP(Z12,Tabelas!B:D,3,0),0),\"\")","v":6},{"$f":"IF(A12<>\"\",IFERROR(VLOOKUP(AA12,Tabelas!B:D,3,0),0),\"\")","v":6},{"$f":"IF(A12<>\"\",IFERROR(VLOOKUP(AB12,Tabelas!B:D,3,0),0),\"\")","v":6},{"$f":"IF(A12<>\"\",IFERROR(VLOOKUP(AC12,Tabelas!B:D,3,0),0),\"\")","v":6},{"$f":"IF(A12<>\"\",IFERROR(VLOOKUP(AD12,Tabelas!B:D,3,0),0),\"\")","v":0},{"$f":"IF(A12<>\"\",IFERROR(VLOOKUP(AE12,Tabelas!B:D,3,0),0),\"\")","v":0},{"$f":"IF(A12<>\"\",IFERROR(VLOOKUP(AF12,Tabelas!B:D,3,0),0),\"\")","v":6},{"$f":"IF(A12<>\"\",IFERROR(VLOOKUP(AG12,Tabelas!B:D,3,0),0),\"\")","v":0},{"$f":"IF(A12<>\"\",IFERROR(VLOOKUP(AH12,Tabelas!B:D,3,0),0),\"\")","v":6},{"$f":"IF(A12<>\"\",IFERROR(VLOOKUP(AI12,Tabelas!B:D,3,0),0),\"\")","v":6},{"$f":"IF(A12<>\"\",IFERROR(VLOOKUP(AJ12,Tabelas!B:D,3,0),0),\"\")","v":6},{"$f":"IF(A12<>\"\",IFERROR(VLOOKUP(AK12,Tabelas!B:D,3,0),0),\"\")","v":0},{"$f":"IF(A12<>\"\",IFERROR(VLOOKUP(AL12,Tabelas!B:D,3,0),0),\"\")","v":6},{"$f":"IF(A12<>\"\",IFERROR(VLOOKUP(AM12,Tabelas!B:D,3,0),0),\"\")","v":6},{"$f":"IF(A12<>\"\",IFERROR(VLOOKUP(AN12,Tabelas!B:D,3,0),0),\"\")","v":6},{"$f":"IF(A12<>\"\",IFERROR(VLOOKUP(AO12,Tabelas!B:D,3,0),0),\"\")","v":6},{"$f":"IF(A12<>\"\",IFERROR(VLOOKUP(AP12,Tabelas!B:D,3,0),0),\"\")","v":6},{"$f":"IF(A12<>\"\",IFERROR(VLOOKUP(AQ12,Tabelas!B:D,3,0),0),\"\")","v":0},{"$f":"IF(AND(A12<>\"\",E12=\"Ebserh\"),SUM(AR12:BV12)+COUNTIF(M12:AQ12,\"N*\")+COUNTIF(M12:AQ12,\"DN*\"),IF(AND(A12<>\"\",E12<>\"Ebserh\"),SUM(AR12:BV12),\"\"))","v":120},{"$f":"IF(A12<>\"\",COUNTIF(M12:AQ12,\"LM\")+COUNTIF(M12:AQ12,\"L\")+COUNTIF(M12:AQ12,\"LP\"),\"\")","v":0},{"$f":"IF(A12<>\"\",COUNTIF(M12:AQ12,\"AB*\"),\"\")","v":0},{"$f":"IF(A12<>\"\",COUNTIF(M12:AQ12,\"FE\"),\"\")","v":0},{"$f":"IF(A12<>\"\",COUNTIF(M12:AQ12,\"LC\"),\"\")","v":0},{"$f":"IF(A12<>\"\",COUNTIF(M12:AQ12,\"CH*\"),\"\")","v":0},{"$f":"IF(A12<>\"\",COUNTIF(M12:AQ12,\"AF1\")+COUNTIF(M12:AQ12,\"AF2\")+COUNTIF(M12:AQ12,\"AF3\")+COUNTIF(M12:AQ12,\"AF4\")+COUNTIF(M12:AQ12,\"AF5\")+COUNTIF(M12:AQ12,\"AF6\")+COUNTIF(M12:AQ12,\"AF7\")+COUNTIF(M12:AQ12,\"AF8\")+COUNTIF(M12:AQ12,\"AF9\")+COUNTIF(M12:AQ12,\"AF10\")+COUNTIF(M12:AQ12,\"AF11\")+COUNTIF(M12:AQ12,\"AF12\")+COUNTIF(M12:AQ12,\"AF13\")+COUNTIF(M12:AQ12,\"AF14\"),\"\")","v":0},{"$f":"IF(A12<>\"\",COUNTIF(M12:AQ12,\"CH*\")+COUNTIF(M12:AQ12,\"L\")+COUNTIF(M12:AQ12,\"LM\")+COUNTIF(M12:AQ12,\"LP\")+COUNTIF(M12:AQ12,\"LC\")+COUNTIF(M12:AQ12,\"AB*\")+COUNTIF(M12:AQ12,\"AF1\")+COUNTIF(M12:AQ12,\"AF2\")+COUNTIF(M12:AQ12,\"AF3\")+COUNTIF(M12:AQ12,\"AF4\")+COUNTIF(M12:AQ12,\"AF5\")+COUNTIF(M12:AQ12,\"AF6\")+COUNTIF(M12:AQ12,\"AF7\")+COUNTIF(M12:AQ12,\"AF8\")+COUNTIF(M12:AQ12,\"AF9\")+COUNTIF(M12:AQ12,\"AF10\")+COUNTIF(M12:AQ12,\"AF11\")+COUNTIF(M12:AQ12,\"AF12\")+COUNTIF(M12:AQ12,\"AF13\")+COUNTIF(M12:AQ12,\"AF14\")+COUNTIF(M12:AQ12,\"RC\")+COUNTIF(M12:AQ12,\"FO\")+COUNTIF(M12:AQ12,\"FE\"),\"\")","v":0}]
["Christie Marie Schweitzer",2081333,null,"ME","RJU",20,null,null,null,null,null,null,"T17",null,"T17",null,null,"T17","T17",null,null,null,null,null,"T17","T17","T17",null,null,"M17",null,null,null,null,null,null,null,null,"T17","T17","T17",null,null,{"$f":"IF(A13<>\"\",IFERROR(VLOOKUP(M13,Tabelas!B:D,3,0),0),\"\")","v":6},{"$f":"IF(A13<>\"\",IFERROR(VLOOKUP(N13,Tabelas!B:D,3,0),0),\"\")","v":0},{"$f":"IF(A13<>\"\",IFERROR(VLOOKUP(O13,Tabelas!B:D,3,0),0),\"\")","v":6},{"$f":"IF(A13<>\"\",IFERROR(VLOOKUP(P13,Tabelas!B:D,3,0),0),\"\")","v":0},{"$f":"IF(A13<>\"\",IFERROR(VLOOKUP(Q13,Tabelas!B:D,3,0),0),\"\")","v":0},{"$f":"IF(A13<>\"\",IFERROR(VLOOKUP(R13,Tabelas!B:D,3,0),0),\"\")","v":6},{"$f":"IF(A13<>\"\",IFERROR(VLOOKUP(S13,Tabelas!B:D,3,0),0),\"\")","v":6},{"$f":"IF(A13<>\"\",IFERROR(VLOOKUP(T13,Tabelas!B:D,3,0),0),\"\")","v":0},{"$f":"IF(A13<>\"\",IFERROR(VLOOKUP(U13,Tabelas!B:D,3,0),0),\"\")","v":0},{"$f":"IF(A13<>\"\",IFERROR(VLOOKUP(V13,Tabelas!B:D,3,0),0),\"\")","v":0},{"$f":"IF(A13<>\"\",IFERROR(VLOOKUP(W13,Tabelas!B:D,3,0),0),\"\")","v":0},{"$f":"IF(A13<>\"\",IFERROR(VLOOKUP(X13,Tabelas!B:D,3,0),0),\"\")","v":0},{"$f":"IF(A13<>\"\",IFERROR(VLOOKUP(Y13,Tabelas!B:D,3,0),0),\"\")","v":6},{"$f":"IF(A13<>\"\",IFERROR(VLOOKUP(Z13,Tabelas!B:D,3,0),0),\"\")","v":6},{"$f":"IF(A13<>\"\",IFERROR(VLOOKUP(AA13,Tabelas!B:D,3,0),0),\"\")","v":6},{"$f":"IF(A13<>\"\",IFERROR(VLOOKUP(AB13,Tabelas!B:D,3,0),0),\"\")","v":0},{"$f":"IF(A13<>\"\",IFERROR(VLOOKUP(AC13,Tabelas!B:D,3,0),0),\"\")","v":0},{"$f":"IF(A13<>\"\",IFERROR(VLOOKUP(AD13,Tabelas!B:D,3,0),0),\"\")","v":6},{"$f":"IF(A13<>\"\",IFERROR(VLOOKUP(AE13,Tabelas!B:D,3,0),0),\"\")","v":0},{"$f":"IF(A13<>\"\",IFERROR(VLOOKUP(AF13,Tabelas!B:D,3,0),0),\"\")","v":0},{"$f":"IF(A13<>\"\",IFERROR(VLOOKUP(AG13,Tabelas!B:D,3,0),0),\"\")","v":0},{"$f":"IF(A13<>\"\",IFERROR(VLOOKUP(AH13,Tabelas!B:D,3,0),0),\"\")","v":0},{"$f":"IF(A13<>\"\",IFERROR(VLOOKUP(AI13,Tabelas!B:D,3,0),0),\"\")","v":0},{"$f":"IF(A13<>\"\",IFERROR(VLOOKUP(AJ13,Tabelas!B:D,3,0),0),\"\")","v":0},{"$f":"IF(A13<>\"\",IFERROR(VLOOKUP(AK13,Tabelas!B:D,3,0),0),\"\")","v":0},{"$f":"IF(A13<>\"\",IFERROR(VLOOKUP(AL13,Tabelas!B:D,3,0),0),\"\")","v":0},{"$f":"IF(A13<>\"\",IFERROR(VLOOKUP(AM13,Tabelas!B:D,3,0),0),\"\")","v":6},{"$f":"IF(A13<>\"\",IFERROR(VLOOKUP(AN13,Tabelas!B:D,3,0),0),\"\")","v":6},{"$f":"IF(A13<>\"\",IFERROR(VLOOKUP(AO13,Tabelas!B:D,3,0),0),\"\")","v":6},{"$f":"IF(A13<>\"\",IFERROR(VLOOKUP(AP13,Tabelas!B:D,3,0),0),\"\")","v":0},{"$f":"IF(A13<>\"\",IFERROR(VLOOKUP(AQ13,Tabelas!B:D,3,0),0),\"\")","v":0},66,0,0,0,0,0,0,0]
["Gina Vieira Velho",1185798,null,"ME","RJU",20,null,null,null,null,null,null,"M17","M17",null,null,null,"M17",null,"M17","M17",null,null,null,"M17",null,"M17","M17",null,null,null,"M17",null,"M17","M17",null,null,null,"M17",null,"M17","M17",null,{"$f":"IF(A14<>\"\",IFERROR(VLOOKUP(M14,Tabelas!B:D,3,0),0),\"\")","v":6},{"$f":"IF(A14<>\"\",IFERROR(VLOOKUP(N14,Tabelas!B:D,3,0),0),\"\")","v":6},{"$f":"IF(A14<>\"\",IFERROR(VLOOKUP(O14,Tabelas!B:D,3,0),0),\"\")","v":0},{"$f":"IF(A14<>\"\",IFERROR(VLOOKUP(P14,Tabelas!B:D,3,0),0),\"\")","v":0},{"$f":"IF(A14<>\"\",IFERROR(VLOOKUP(Q14,Tabelas!B:D,3,0),0),\"\")","v":0},{"$f":"IF(A14<>\"\",IFERROR(VLOOKUP(R14,Tabelas!B:D,3,0),0),\"\")","v":6},{"$f":"IF(A14<>\"\",IFERROR(VLOOKUP(S14,Tabelas!B:D,3,0),0),\"\")","v":0},{"$f":"IF(A14<>\"\",IFERROR(VLOOKUP(T14,Tabelas!B:D,3,0),0),\"\")","v":6},{"$f":"IF(A14<>\"\",IFERROR(VLOOKUP(U14,Tabelas!B:D,3,0),0),\"\")","v":6},{"$f":"IF(A14<>\"\",IFERROR(VLOOKUP(V14,Tabelas!B:D,3,0),0),\"\")","v":0},{"$f":"IF(A14<>\"\",IFERROR(VLOOKUP(W14,Tabelas!B:D,3,0),0),\"\")","v":0},{"$f":"IF(A14<>\"\",IFERROR(VLOOKUP(X14,Tabelas!B:D,3,0),0),\"\")","v":0},{"$f":"IF(A14<>\"\",IFERROR(VLOOKUP(Y14,Tabelas!B:D,3,0),0),\"\")","v":6},{"$f":"IF(A14<>\"\",IFERROR(VLOOKUP(Z14,Tabelas!B:D,3,0),0),\"\")","v":0},{"$f":"IF(A14<>\"\",IFERROR(VLOOKUP(AA14,Tabelas!B:D,3,0),0),\"\")","v":6},{"$f":"IF(A14<>\"\",IFERROR(VLOOKUP(AB14,Tabelas!B:D,3,0),0),\"\")","v":6},{"$f":"IF(A14<>\"\",IFERROR(VLOOKUP(AC14,Tabelas!B:D,3,0),0),\"\")","v":0},{"$f":"IF(A14<>\"\",IFERROR(VLOOKUP(AD14,Tabelas!B:D,3,0),0),\"\")","v":0},{"$f":"IF(A14<>\"\",IFERROR(VLOOKUP(AE14,Tabelas!B:D,3,0),0),\"\")","v":0},{"$f":"IF(A14<>\"\",IFERROR(VLOOKUP(AF14,Tabelas!B:D,3,0),0),\"\")","v":6},{"$f":"IF(A14<>\"\",IFERROR(VLOOKUP(AG14,Tabelas!B:D,3,0),0),\"\")","v":0},{"$f":"IF(A14<>\"\",IFERROR(VLOOKUP(AH14,Tabelas!B:D,3,0),0),\"\")","v":6},{"$f":"IF(A14<>\"\",IFERROR(VLOOKUP(AI14,Tabelas!B:D,3,0),0),\"\")","v":6},{"$f":"IF(A14<>\"\",IFERROR(VLOOKUP(AJ14,Tabelas!B:D,3,0),0),\"\")","v":0},{"$f":"IF(A14<>\"\",IFERROR(VLOOKUP(AK14,Tabelas!B:D,3,0),0),\"\")","v":0},{"$f":"IF(A14<>\"\",IFERROR(VLOOKUP(AL14,Tabelas!B:D,3,0),0),\"\")","v":0},{"$f":"IF(A14<>\"\",IFERROR(VLOOKUP(AM14,Tabelas!B:D,3,0),0),\"\")","v":6},{"$f":"IF(A14<>\"\",IFERROR(VLOOKUP(AN14,Tabelas!B:D,3,0),0),\"\")","v":0},{"$f":"IF(A14<>\"\",IFERROR(VLOOKUP(AO14,Tabelas!B:D,3,0),0),\"\")","v":6},{"$f":"IF(A14<>\"\",IFERROR(VLOOKUP(AP14,Tabelas!B:D,3,0),0),\"\")","v":6},{"$f":"IF(A14<>\"\",IFERROR(VLOOKUP(AQ14,Tabelas!B:D,3,0),0),\"\")","v":0},84,0,0,0,0,0,0,0]
["Rafael Lisboa de Souza",2344070,null,"ME","RJU",30,null,null,null,null,null,null,"M17","M17","M17",null,"M17","M17","M17","M17","M17",null,null,null,"M17","M17","M17","M17","M17",null,null,"M17",null,"M17","M17","M17",null,null,"M17","M17","M17","M17",null,{"$f":"IF(A15<>\"\",IFERROR(VLOOKUP(M15,Tabelas!B:D,3,0),0),\"\")","v":6},{"$f":"IF(A15<>\"\",IFERROR(VLOOKUP(N15,Tabelas!B:D,3,0),0),\"\")","v":6},{"$f":"IF(A15<>\"\",IFERROR(VLOOKUP(O15,Tabelas!B:D,3,0),0),\"\")","v":6},{"$f":"IF(A15<>\"\",IFERROR(VLOOKUP(P15,Tabelas!B:D,3,0),0),\"\")","v":0},{"$f":"IF(A15<>\"\",IFERROR(VLOOKUP(Q15,Tabelas!B:D,3,0),0),\"\")","v":6},{"$f":"IF(A15<>\"\",IFERROR(VLOOKUP(R15,Tabelas!B:D,3,0),0),\"\")","v":6},{"$f":"IF(A15<>\"\",IFERROR(VLOOKUP(S15,Tabelas!B:D,3,0),0),\"\")","v":6},{"$f":"IF(A15<>\"\",IFERROR(VLOOKUP(T15,Tabelas!B:D,3,0),0),\"\")","v":6},{"$f":"IF(A15<>\"\",IFERROR(VLOOKUP(U15,Tabelas!B:D,3,0),0),\"\")","v":6},{"$f":"IF(A15<>\"\",IFERROR(VLOOKUP(V15,Tabelas!B:D,3,0),0),\"\")","v":0},{"$f":"IF(A15<>\"\",IFERROR(VLOOKUP(W15,Tabelas!B:D,3,0),0),\"\")","v":0},{"$f":"IF(A15<>\"\",IFERROR(VLOOKUP(X15,Tabelas!B:D,3,0),0),\"\")","v":0},{"$f":"IF(A15<>\"\",IFERROR(VLOOKUP(Y15,Tabelas!B:D,3,0),0),\"\")","v":6},{"$f":"IF(A15<>\"\",IFERROR(VLOOKUP(Z15,Tabelas!B:D,3,0),0),\"\")","v":6},{"$f":"IF(A15<>\"\",IFERROR(VLOOKUP(AA15,Tabelas!B:D,3,0),0),\"\")","v":6},{"$f":"IF(A15<>\"\",IFERROR(VLOOKUP(AB15,Tabelas!B:D,3,0),0),\"\")","v":6},{"$f":"IF(A15<>\"\",IFERROR(VLOOKUP(AC15,Tabelas!B:D,3,0),0),\"\")","v":6},{"$f":"IF(A15<>\"\",IFERROR(VLOOKUP(AD15,Tabelas!B:D,3,0),0),\"\")","v":0},{"$f":"IF(A15<>\"\",IFERROR(VLOOKUP(AE15,Tabelas!B:D,3,0),0),\"\")","v":0},{"$f":"IF(A15<>\"\",IFERROR(VLOOKUP(AF15,Tabelas!B:D,3,0),0),\"\")","v":6},{"$f":"IF(A15<>\"\",IFERROR(VLOOKUP(AG15,Tabelas!B:D,3,0),0),\"\")","v":0},{"$f":"IF(A15<>\"\",IFERROR(VLOOKUP(AH15,Tabelas!B:D,3,0),0),\"\")","v":6},{"$f":"IF(A15<>\"\",IFERROR(VLOOKUP(AI15,Tabelas!B:D,3,0),0),\"\")","v":6},{"$f":"IF(A15<>\"\",IFERROR(VLOOKUP(AJ15,Tabelas!B:D,3,0),0),\"\")","v":6},{"$f":"IF(A15<>\"\",IFERROR(VLOOKUP(AK15,Tabelas!B:D,3,0),0),\"\")","v":0},{"$f":"IF(A15<>\"\",IFERROR(VLOOKUP(AL15,Tabelas!B:D,3,0),0),\"\")","v":0},{"$f":"IF(A15<>\"\",IFERROR(VLOOKUP(AM15,Tabelas!B:D,3,0),0),\"\")","v":6},{"$f":"IF(A15<>\"\",IFERROR(VLOOKUP(AN15,Tabelas!B:D,3,0),0),\"\")","v":6},{"$f":"IF(A15<>\"\",IFERROR(VLOOKUP(AO15,Tabelas!B:D,3,0),0),\"\")","v":6},{"$f":"IF(A15<>\"\",IFERROR(VLOOKUP(AP15,Tabelas!B:D,3,0),0),\"\")","v":6},{"$f":"IF(A15<>\"\",IFERROR(VLOOKUP(AQ15,Tabelas!B:D,3,0),0),\"\")","v":0},126,0,0,0,0,0,0,0]
["Karine da Costa Damiani Cabral",2925603,null,"ME","RJU",30,null,null,null,null,null,null,"T17","T17","T17",null,null,"T17","D8","T17","T17","M17",null,null,"T17","D8",null,null,"T17",null,null,"T17",null,null,"T17","T17",null,null,"T17","D8",null,"T17",null,{"$f":"IF(#REF!<>\"\",IFERROR(VLOOKUP(M16,Tabelas!B:D,3,0),0),\"\")","v":{"$error":"#REF!"}},{"$f":"IF(#REF!<>\"\",IFERROR(VLOOKUP(N16,Tabelas!B:D,3,0),0),\"\")","v":{"$error":"#REF!"}},{"$f":"IF(#REF!<>\"\",IFERROR(VLOOKUP(O16,Tabelas!B:D,3,0),0),\"\")","v":{"$error":"#REF!"}},{"$f":"IF(#REF!<>\"\",IFERROR(VLOOKUP(P16,Tabelas!B:D,3,0),0),\"\")","v":{"$error":"#REF!"}},{"$f":"IF(#REF!<>\"\",IFERROR(VLOOKUP(Q16,Tabelas!B:D,3,0),0),\"\")","v":{"$error":"#REF!"}},{"$f":"IF(#REF!<>\"\",IFERROR(VLOOKUP(R16,Tabelas!B:D,3,0),0),\"\")","v":{"$error":"#REF!"}},{"$f":"IF(#REF!<>\"\",IFERROR(VLOOKUP(S16,Tabelas!B:D,3,0),0),\"\")","v":{"$error":"#REF!"}},{"$f":"IF(#REF!<>\"\",IFERROR(VLOOKUP(T16,Tabelas!B:D,3,0),0),\"\")","v":{"$error":"#REF!"}},{"$f":"IF(#REF!<>\"\",IFERROR(VLOOKUP(U16,Tabelas!B:D,3,0),0),\"\")","v":{"$error":"#REF!"}},{"$f":"IF(#REF!<>\"\",IFERROR(VLOOKUP(V16,Tabelas!B:D,3,0),0),\"\")","v":{"$error":"#REF!"}},{"$f":"IF(#REF!<>\"\",IFERROR(VLOOKUP(W16,Tabelas!B:D,3,0),0),\"\")","v":{"$error":"#REF!"}},{"$f":"IF(#REF!<>\"\",IFERROR(VLOOKUP(X16,Tabelas!B:D,3,0),0),\"\")","v":{"$error":"#REF!"}},{"$f":"IF(#REF!<>\"\",IFERROR(VLOOKUP(Y16,Tabelas!B:D,3,0),0),\"\")","v":{"$error":"#REF!"}},{"$f":"IF(#REF!<>\"\",IFERROR(VLOOKUP(Z16,Tabelas!B:D,3,0),0),\"\")","v":{"$error":"#REF!"}},{"$f":"IF(#REF!<>\"\",IFERROR(VLOOKUP(AA16,Tabelas!B:D,3,0),0),\"\")","v":{"$error":"#REF!"}},{"$f":"IF(#REF!<>\"\",IFERROR(VLOOKUP(AB16,Tabelas!B:D,3,0),0),\"\")","v":{"$error":"#REF!"}},{"$f":"IF(#REF!<>\"\",IFERROR(VLOOKUP(AC16,Tabelas!B:D,3,0),0),\"\")","v":{"$error":"#REF!"}},{"$f":"IF(#REF!<>\"\",IFERROR(VLOOKUP(AD16,Tabelas!B:D,3,0),0),\"\")","v":{"$error":"#REF!"}},{"$f":"IF(#REF!<>\"\",IFERROR(VLOOKUP(AE16,Tabelas!B:D,3,0),0),\"\")","v":{"$error":"#REF!"}},{"$f":"IF(#REF!<>\"\",IFERROR(VLOOKUP(AF16,Tabelas!B:D,3,0),0),\"\")","v":{"$error":"#REF!"}},{"$f":"IF(#REF!<>\"\",IFERROR(VLOOKUP(AG16,Tabelas!B:D,3,0),0),\"\")","v":{"$error":"#REF!"}},{"$f":"IF(#REF!<>\"\",IFERROR(VLOOKUP(AH16,Tabelas!B:D,3,0),0),\"\")","v":{"$error":"#REF!"}},{"$f":"IF(#REF!<>\"\",IFERROR(VLOOKUP(AI16,Tabelas!B:D,3,0),0),\"\")","v":{"$error":"#REF!"}},{"$f":"IF(#REF!<>\"\",IFERROR(VLOOKUP(AJ16,Tabelas!B:D,3,0),0),\"\")","v":{"$error":"#REF!"}},{"$f":"IF(#REF!<>\"\",IFERROR(VLOOKUP(AK16,Tabelas!B:D,3,0),0),\"\")","v":{"$error":"#REF!"}},{"$f":"IF(#REF!<>\"\",IFERROR(VLOOKUP(AL16,Tabelas!B:D,3,0),0),\"\")","v":{"$error":"#REF!"}},{"$f":"IF(#REF!<>\"\",IFERROR(VLOOKUP(AM16,Tabelas!B:D,3,0),0),\"\")","v":{"$error":"#REF!"}},{"$f":"IF(#REF!<>\"\",IFERROR(VLOOKUP(AN16,Tabelas!B:D,3,0),0),\"\")","v":{"$error":"#REF!"}},{"$f":"IF(#REF!<>\"\",IFERROR(VLOOKUP(AO16,Tabelas!B:D,3,0),0),\"\")","v":{"$error":"#REF!"}},{"$f":"IF(#REF!<>\"\",IFERROR(VLOOKUP(AP16,Tabelas!B:D,3,0),0),\"\")","v":{"$error":"#REF!"}},{"$f":"IF(#REF!<>\"\",IFERROR(VLOOKUP(AQ16,Tabelas!B:D,3,0),0),\"\")","v":{"$error":"#REF!"}},{"$f":"IF(AND(#REF!<>\"\",#REF!=\"Ebserh\"),SUM(AR16:BV16)+COUNTIF(M16:AQ16,\"N*\")+COUNTIF(M16:AQ16,\"DN*\"),IF(AND(#REF!<>\"\",#REF!<>\"Ebserh\"),SUM(AR16:BV16),\"\"))","v":{"$error":"#REF!"}},{"$f":"IF(#REF!<>\"\",COUNTIF(M16:AQ16,\"LM\")+COUNTIF(M16:AQ16,\"L\")+COUNTIF(M16:AQ16,\"LP\"),\"\")","v":{"$error":"#REF!"}},{"$f":"IF(#REF!<>\"\",COUNTIF(M16:AQ16,\"AB*\"),\"\")","v":{"$error":"#REF!"}},{"$f":"IF(#REF!<>\"\",COUNTIF(M16:AQ16,\"FE\"),\"\")","v":{"$error":"#REF!"}},{"$f":"IF(#REF!<>\"\",COUNTIF(M16:AQ16,\"LC\"),\"\")","v":{"$error":"#REF!"}},{"$f":"IF(#REF!<>\"\",COUNTIF(M16:AQ16,\"CH*\"),\"\")","v":{"$error":"#REF!"}},{"$f":"IF(#REF!<>\"\",COUNTIF(M16:AQ16,\"AF1\")+COUNTIF(M16:AQ16,\"AF2\")+COUNTIF(M16:AQ16,\"AF3\")+COUNTIF(M16:AQ16,\"AF4\")+COUNTIF(M16:AQ16,\"AF5\")+COUNTIF(M16:AQ16,\"AF6\")+COUNTIF(M16:AQ16,\"AF7\")+COUNTIF(M16:AQ16,\"AF8\")+COUNTIF(M16:AQ16,\"AF9\")+COUNTIF(M16:AQ16,\"AF10\")+COUNTIF(M16:AQ16,\"AF11\")+COUNTIF(M16:AQ16,\"AF12\")+COUNTIF(M16:AQ16,\"AF13\")+COUNTIF(M16:AQ16,\"AF14\"),\"\")","v":{"$error":"#REF!"}},{"$f":"IF(#REF!<>\"\",COUNTIF(M16:AQ16,\"CH*\")+COUNTIF(M16:AQ16,\"L\")+COUNTIF(M16:AQ16,\"LM\")+COUNTIF(M16:AQ16,\"LP\")+COUNTIF(M16:AQ16,\"LC\")+COUNTIF(M16:AQ16,\"AB*\")+COUNTIF(M16:AQ16,\"AF1\")+COUNTIF(M16:AQ16,\"AF2\")+COUNTIF(M16:AQ16,\"AF3\")+COUNTIF(M16:AQ16,\"AF4\")+COUNTIF(M16:AQ16,\"AF5\")+COUNTIF(M16:AQ16,\"AF6\")+COUNTIF(M16:AQ16,\"AF7\")+COUNTIF(M16:AQ16,\"AF8\")+COUNTIF(M16:AQ16,\"AF9\")+COUNTIF(M16:AQ16,\"AF10\")+COUNTIF(M16:AQ16,\"AF11\")+COUNTIF(M16:AQ16,\"AF12\")+COUNTIF(M16:AQ16,\"AF13\")+COUNTIF(M16:AQ16,\"AF14\")+COUNTIF(M16:AQ16,\"RC\")+COUNTIF(M16:AQ16,\"FO\")+COUNTIF(M16:AQ16,\"FE\"),\"\")","v":{"$error":"#REF!"}}]
["Vanessa Miné Geraldo",3055054,null,"ME","EBSERH",24,null,null,null,null,null,null,null,"T17",null,null,null,"T17","T17","T17","T17",null,null,null,"T17","T17","T17","T17","T17",null,null,"T17",null,"T17","T17","T17",null,null,null,"T17","T17","T17",null,{"$f":"IF(A17<>\"\",IFERROR(VLOOKUP(M17,Tabelas!B:D,3,0),0),\"\")","v":0},{"$f":"IF(A17<>\"\",IFERROR(VLOOKUP(N17,Tabelas!B:D,3,0),0),\"\")","v":6},{"$f":"IF(A17<>\"\",IFERROR(VLOOKUP(O17,Tabelas!B:D,3,0),0),\"\")","v":0},{"$f":"IF(A17<>\"\",IFERROR(VLOOKUP(P17,Tabelas!B:D,3,0),0),\"\")","v":0},{"$f":"IF(A17<>\"\",IFERROR(VLOOKUP(Q17,Tabelas!B:D,3,0),0),\"\")","v":0},{"$f":"IF(A17<>\"\",IFERROR(VLOOKUP(R17,Tabelas!B:D,3,0),0),\"\")","v":6},{"$f":"IF(A17<>\"\",IFERROR(VLOOKUP(S17,Tabelas!B:D,3,0),0),\"\")","v":6},{"$f":"IF(A17<>\"\",IFERROR(VLOOKUP(T17,Tabelas!B:D,3,0),0),\"\")","v":6},{"$f":"IF(A17<>\"\",IFERROR(VLOOKUP(U17,Tabelas!B:D,3,0),0),\"\")","v":6},{"$f":"IF(A17<>\"\",IFERROR(VLOOKUP(V17,Tabelas!B:D,3,0),0),\"\")","v":0},{"$f":"IF(A17<>\"\",IFERROR(VLOOKUP(W17,Tabelas!B:D,3,0),0),\"\")","v":0},{"$f":"IF(A17<>\"\",IFERROR(VLOOKUP(X17,Tabelas!B:D,3,0),0),\"\")","v":0},{"$f":"IF(A17<>\"\",IFERROR(VLOOKUP(Y17,Tabelas!B:D,3,0),0),\"\")","v":6},{"$f":"IF(A17<>\"\",IFERROR(VLOOKUP(Z17,Tabelas!B:D,3,0),0),\"\")","v":6},{"$f":"IF(A17<>\"\",IFERROR(VLOOKUP(AA17,Tabelas!B:D,3,0),0),\"\")","v":6},{"$f":"IF(A17<>\"\",IFERROR(VLOOKUP(AB17,Tabelas!B:D,3,0),0),\"\")","v":6},{"$f":"IF(A17<>\"\",IFERROR(VLOOKUP(AC17,Tabelas!B:D,3,0),0),\"\")","v":6},{"$f":"IF(A17<>\"\",IFERROR(VLOOKUP(AD17,Tabelas!B:D,3,0),0),\"\")","v":0},{"$f":"IF(A17<>\"\",IFERROR(VLOOKUP(AE17,Tabelas!B:D,3,0),0),\"\")","v":0},{"$f":"IF(A17<>\"\",IFERROR(VLOOKUP(AF17,Tabelas!B:D,3,0),0),\"\")","v":6},{"$f":"IF(A17<>\"\",IFERROR(VLOOKUP(AG17,Tabelas!B:D,3,0),0),\"\")","v":0},{"$f":"IF(A17<>\"\",IFERROR(VLOOKUP(AH17,Tabelas!B:D,3,0),0),\"\")","v":6},{"$f":"IF(A17<>\"\",IFERROR(VLOOKUP(AI17,Tabelas!B:D,3,0),0),\"\")","v":6},{"$f":"IF(A17<>\"\",IFERROR(VLOOKUP(AJ17,Tabelas!B:D,3,0),0),\"\")","v":6},{"$f":"IF(A17<>\"\",IFERROR(VLOOKUP(AK17,Tabelas!B:D,3,0),0),\"\")","v":0},{"$f":"IF(A17<>\"\",IFERROR(VLOOKUP(AL17,Tabelas!B:D,3,0),0),\"\")","v":0},{"$f":"IF(A17<>\"\",IFERROR(VLOOKUP(AM17,Tabelas!B:D,3,0),0),\"\")","v":0},{"$f":"IF(A17<>\"\",IFERROR(VLOOKUP(AN17,Tabelas!B:D,3,0),0),\"\")","v":6},{"$f":"IF(A17<>\"\",IFERROR(VLOOKUP(AO17,Tabelas!B:D,3,0),0),\"\")","v":6},{"$f":"IF(A17<>\"\",IFERROR(VLOOKUP(AP17,Tabelas!B:D,3,0),0),\"\")","v":6},{"$f":"IF(A17<>\"\",IFERROR(VLOOKUP(AQ17,Tabelas!B:D,3,0),0),\"\")","v":0},{"$f":"IF(AND(A17<>\"\",E17=\"Ebserh\"),SUM(AR17:BV17)+COUNTIF(M17:AQ17,\"N*\")+COUNTIF(M17:AQ17,\"DN*\"),IF(AND(A17<>\"\",E17<>\"Ebserh\"),SUM(AR17:BV17),\"\"))","v":102},{"$f":"IF(A17<>\"\",COUNTIF(M17:AQ17,\"LM\")+COUNTIF(M17:AQ17,\"L\")+COUNTIF(M17:AQ17,\"LP\"),\"\")","v":0},{"$f":"IF(A17<>\"\",COUNTIF(M17:AQ17,\"AB*\"),\"\")","v":0},{"$f":"IF(A17<>\"\",COUNTIF(M17:AQ17,\"FE\"),\"\")","v":0},{"$f":"IF(A17<>\"\",COUNTIF(M17:AQ17,\"LC\"),\"\")","v":0},{"$f":"IF(A17<>\"\",COUNTIF(M17:AQ17,\"CH*\"),\"\")","v":0},{"$f":"IF(A17<>\"\",COUNTIF(M17:AQ17,\"AF1\")+COUNTIF(M17:AQ17,\"AF2\")+COUNTIF(M17:AQ17,\"AF3\")+COUNTIF(M17:AQ17,\"AF4\")+COUNTIF(M17:AQ17,\"AF5\")+COUNTIF(M17:AQ17,\"AF6\")+COUNTIF(M17:AQ17,\"AF7\")+COUNTIF(M17:AQ17,\"AF8\")+COUNTIF(M17:AQ17,\"AF9\")+COUNTIF(M17:AQ17,\"AF10\")+COUNTIF(M17:AQ17,\"AF11\")+COUNTIF(M17:AQ17,\"AF12\")+COUNTIF(M17:AQ17,\"AF13\")+COUNTIF(M17:AQ17,\"AF14\"),\"\")","v":0},{"$f":"IF(A17<>\"\",COUNTIF(M17:AQ17,\"CH*\")+COUNTIF(M17:AQ17,\"L\")+COUNTIF(M17:AQ17,\"LM\")+COUNTIF(M17:AQ17,\"LP\")+COUNTIF(M17:AQ17,\"LC\")+COUNTIF(M17:AQ17,\"AB*\")+COUNTIF(M17:AQ17,\"AF1\")+COUNTIF(M17:AQ17,\"AF2\")+COUNTIF(M17:AQ17,\"AF3\")+COUNTIF(M17:AQ17,\"AF4\")+COUNTIF(M17:AQ17,\"AF5\")+COUNTIF(M17:AQ17,\"AF6\")+COUNTIF(M17:AQ17,\"AF7\")+COUNTIF(M17:AQ17,\"AF8\")+COUNTIF(M17:AQ17,\"AF9\")+COUNTIF(M17:AQ17,\"AF10\")+COUNTIF(M17:AQ17,\"AF11\")+COUNTIF(M17:AQ17,\"AF12\")+COUNTIF(M17:AQ17,\"AF13\")+COUNTIF(M17:AQ17,\"AF14\")+COUNTIF(M17:AQ17,\"RC\")+COUNTIF(M17:AQ17,\"FO\")+COUNTIF(M17:AQ17,\"FE\"),\"\")","v":0}]
["Vinícius D. Pedro",3841644,null,"ME","RJU",30,null,null,null,null,null,null,"T17","T17","D8",null,null,null,"T17","T17","T17",null,null,"M17",null,null,"T17","T17","D8",null,null,null,null,"T17","T17","D8",null,null,"T17","T17","T17","T17",null,{"$f":"IF(#REF!<>\"\",IFERROR(VLOOKUP(M18,Tabelas!B:D,3,0),0),\"\")","v":{"$error":"#REF!"}},{"$f":"IF(#REF!<>\"\",IFERROR(VLOOKUP(N18,Tabelas!B:D,3,0),0),\"\")","v":{"$error":"#REF!"}},{"$f":"IF(#REF!<>\"\",IFERROR(VLOOKUP(O18,Tabelas!B:D,3,0),0),\"\")","v":{"$error":"#REF!"}},{"$f":"IF(#REF!<>\"\",IFERROR(VLOOKUP(P18,Tabelas!B:D,3,0),0),\"\")","v":{"$error":"#REF!"}},{"$f":"IF(#REF!<>\"\",IFERROR(VLOOKUP(Q18,Tabelas!B:D,3,0),0),\"\")","v":{"$error":"#REF!"}},{"$f":"IF(#REF!<>\"\",IFERROR(VLOOKUP(R18,Tabelas!B:D,3,0),0),\"\")","v":{"$error":"#REF!"}},{"$f":"IF(#REF!<>\"\",IFERROR(VLOOKUP(S18,Tabelas!B:D,3,0),0),\"\")","v":{"$error":"#REF!"}},{"$f":"IF(#REF!<>\"\",IFERROR(VLOOKUP(T18,Tabelas!B:D,3,0),0),\"\")","v":{"$error":"#REF!"}},{"$f":"IF(#REF!<>\"\",IFERROR(VLOOKUP(U18,Tabelas!B:D,3,0),0),\"\")","v":{"$error":"#REF!"}},{"$f":"IF(#REF!<>\"\",IFERROR(VLOOKUP(V18,Tabelas!B:D,3,0),0),\"\")","v":{"$error":"#REF!"}},{"$f":"IF(#REF!<>\"\",IFERROR(VLOOKUP(W18,Tabelas!B:D,3,0),0),\"\")","v":{"$error":"#REF!"}},{"$f":"IF(#REF!<>\"\",IFERROR(VLOOKUP(X18,Tabelas!B:D,3,0),0),\"\")","v":{"$error":"#REF!"}},{"$f":"IF(#REF!<>\"\",IFERROR(VLOOKUP(Y18,Tabelas!B:D,3,0),0),\"\")","v":{"$error":"#REF!"}},{"$f":"IF(#REF!<>\"\",IFERROR(VLOOKUP(Z18,Tabelas!B:D,3,0),0),\"\")","v":{"$error":"#REF!"}},{"$f":"IF(#REF!<>\"\",IFERROR(VLOOKUP(AA18,Tabelas!B:D,3,0),0),\"\")","v":{"$error":"#REF!"}},{"$f":"IF(#REF!<>\"\",IFERROR(VLOOKUP(AB18,Tabelas!B:D,3,0),0),\"\")","v":{"$error":"#REF!"}},{"$f":"IF(#REF!<>\"\",IFERROR(VLOOKUP(AC18,Tabelas!B:D,3,0),0),\"\")","v":{"$error":"#REF!"}},{"$f":"IF(#REF!<>\"\",IFERROR(VLOOKUP(AD18,Tabelas!B:D,3,0),0),\"\")","v":{"$error":"#REF!"}},{"$f":"IF(#REF!<>\"\",IFERROR(VLOOKUP(AE18,Tabelas!B:D,3,0),0),\"\")","v":{"$error":"#REF!"}},{"$f":"IF(#REF!<>\"\",IFERROR(VLOOKUP(AF18,Tabelas!B:D,3,0),0),\"\")","v":{"$error":"#REF!"}},{"$f":"IF(#REF!<>\"\",IFERROR(VLOOKUP(AG18,Tabelas!B:D,3,0),0),\"\")","v":{"$error":"#REF!"}},{"$f":"IF(#REF!<>\"\",IFERROR(VLOOKUP(AH18,Tabelas!B:D,3,0),0),\"\")","v":{"$error":"#REF!"}},{"$f":"IF(#REF!<>\"\",IFERROR(VLOOKUP(AI18,Tabelas!B:D,3,0),0),\"\")","v":{"$error":"#REF!"}},{"$f":"IF(#REF!<>\"\",IFERROR(VLOOKUP(AJ18,Tabelas!B:D,3,0),0),\"\")","v":{"$error":"#REF!"}},{"$f":"IF(#REF!<>\"\",IFERROR(VLOOKUP(AK18,Tabelas!B:D,3,0),0),\"\")","v":{"$error":"#REF!"}},{"$f":"IF(#REF!<>\"\",IFERROR(VLOOKUP(AL18,Tabelas!B:D,3,0),0),\"\")","v":{"$error":"#REF!"}},{"$f":"IF(#REF!<>\"\",IFERROR(VLOOKUP(AM18,Tabelas!B:D,3,0),0),\"\")","v":{"$error":"#REF!"}},{"$f":"IF(#REF!<>\"\",IFERROR(VLOOKUP(AN18,Tabelas!B:D,3,0),0),\"\")","v":{"$error":"#REF!"}},{"$f":"IF(#REF!<>\"\",IFERROR(VLOOKUP(AO18,Tabelas!B:D,3,0),0),\"\")","v":{"$error":"#REF!"}},{"$f":"IF(#REF!<>\"\",IFERROR(VLOOKUP(AP18,Tabelas!B:D,3,0),0),\"\")","v":{"$error":"#REF!"}},{"$f":"IF(#REF!<>\"\",IFERROR(VLOOKUP(AQ18,Tabelas!B:D,3,0),0),\"\")","v":{"$error":"#REF!"}},{"$f":"IF(AND(#REF!<>\"\",#REF!=\"Ebserh\"),SUM(AR18:BV18)+COUNTIF(M18:AQ18,\"N*\")+COUNTIF(M18:AQ18,\"DN*\"),IF(AND(#REF!<>\"\",#REF!<>\"Ebserh\"),SUM(AR18:BV18),\"\"))","v":{"$error":"#REF!"}},{"$f":"IF(#REF!<>\"\",COUNTIF(M18:AQ18,\"LM\")+COUNTIF(M18:AQ18,\"L\")+COUNTIF(M18:AQ18,\"LP\"),\"\")","v":{"$error":"#REF!"}},{"$f":"IF(#REF!<>\"\",COUNTIF(M18:AQ18,\"AB*\"),\"\")","v":{"$error":"#REF!"}},{"$f":"IF(#REF!<>\"\",COUNTIF(M18:AQ18,\"FE\"),\"\")","v":{"$error":"#REF!"}},{"$f":"IF(#REF!<>\"\",COUNTIF(M18:AQ18,\"LC\"),\"\")","v":{"$error":"#REF!"}},{"$f":"IF(#REF!<>\"\",COUNTIF(M18:AQ18,\"CH*\"),\"\")","v":{"$error":"#REF!"}},{"$f":"IF(#REF!<>\"\",COUNTIF(M18:AQ18,\"AF1\")+COUNTIF(M18:AQ18,\"AF2\")+COUNTIF(M18:AQ18,\"AF3\")+COUNTIF(M18:AQ18,\"AF4\")+COUNTIF(M18:AQ18,\"AF5\")+COUNTIF(M18:AQ18,\"AF6\")+COUNTIF(M18:AQ18,\"AF7\")+COUNTIF(M18:AQ18,\"AF8\")+COUNTIF(M18:AQ18,\"AF9\")+COUNTIF(M18:AQ18,\"AF10\")+COUNTIF(M18:AQ18,\"AF11\")+COUNTIF(M18:AQ18,\"AF12\")+COUNTIF(M18:AQ18,\"AF13\")+COUNTIF(M18:AQ18,\"AF14\"),\"\")","v":{"$error":"#REF!"}},{"$f":"IF(#REF!<>\"\",COUNTIF(M18:AQ18,\"CH*\")+COUNTIF(M18:AQ18,\"L\")+COUNTIF(M18:AQ18,\"LM\")+COUNTIF(M18:AQ18,\"LP\")+COUNTIF(M18:AQ18,\"LC\")+COUNTIF(M18:AQ18,\"AB*\")+COUNTIF(M18:AQ18,\"AF1\")+COUNTIF(M18:AQ18,\"AF2\")+COUNTIF(M18:AQ18,\"AF3\")+COUNTIF(M18:AQ18,\"AF4\")+COUNTIF(M18:AQ18,\"AF5\")+COUNTIF(M18:AQ18,\"AF6\")+COUNTIF(M18:AQ18,\"AF7\")+COUNTIF(M18:AQ18,\"AF8\")+COUNTIF(M18:AQ18,\"AF9\")+COUNTIF(M18:AQ18,\"AF10\")+COUNTIF(M18:AQ18,\"AF11\")+COUNTIF(M18:AQ18,\"AF12\")+COUNTIF(M18:AQ18,\"AF13\")+COUNTIF(M18:AQ18,\"AF14\")+COUNTIF(M18:AQ18,\"RC\")+COUNTIF(M18:AQ18,\"FO\")+COUNTIF(M18:AQ18,\"FE\"),\"\")","v":{"$error":"#REF!"}}]
[null,null,null,null,null,null,null,null,null,null,null,null,null,null,null,null,null,null,null,null,null,null,null,null,null,null,null,null,null,null,null,null,null,null,null,null,null,null,null,null,null,null,null,{"$f":"IF(A19<>\"\",IFERROR(VLOOKUP(M19,Tabelas!B:D,3,0),0),\"\")","v":""},{"$f":"IF(A19<>\"\",IFERROR(VLOOKUP(N19,Tabelas!B:D,3,0),0),\"\")","v":""},{"$f":"IF(A19<>\"\",IFERROR(VLOOKUP(O19,Tabelas!B:D,3,0),0),\"\")","v":""},{"$f":"IF(A19<>\"\",IFERROR(VLOOKUP(P19,Tabelas!B:D,3,0),0),\"\")","v":""},{"$f":"IF(A19<>\"\",IFERROR(VLOOKUP(Q19,Tabelas!B:D,3,0),0),\"\")","v":""},{"$f":"IF(A19<>\"\",IFERROR(VLOOKUP(R19,Tabelas!B:D,3,0),0),\"\")","v":""},{"$f":"IF(A19<>\"\",IFERROR(VLOOKUP(S19,Tabelas!B:D,3,0),0),\"\")","v":""},{"$f":"IF(A19<>\"\",IFERROR(VLOOKUP(T19,Tabelas!B:D,3,0),0),\"\")","v":""},{"$f":"IF(A19<>\"\",IFERROR(VLOOKUP(U19,Tabelas!B:D,3,0),0),\"\")","v":""},{"$f":"IF(A19<>\"\",IFERROR(VLOOKUP(V19,Tabelas!B:D,3,0),0),\"\")","v":""},{"$f":"IF(A19<>\"\",IFERROR(VLOOKUP(W19,Tabelas!B:D,3,0),0),\"\")","v":""},{"$f":"IF(A19<>\"\",IFERROR(VLOOKUP(X19,Tabelas!B:D,3,0),0),\"\")","v":""},{"$f":"IF(A19<>\"\",IFERROR(VLOOKUP(Y19,Tabelas!B:D,3,0),0),\"\")","v":""},{"$f":"IF(A19<>\"\",IFERROR(VLOOKUP(Z19,Tabelas!B:D,3,0),0),\"\")","v":""},{"$f":"IF(A19<>\"\",IFERROR(VLOOKUP(AA19,Tabelas!B:D,3,0),0),\"\")","v":""},{"$f":"IF(A19<>\"\",IFERROR(VLOOKUP(AB19,Tabelas!B:D,3,0),0),\"\")","v":""},{"$f":"IF(A19<>\"\",IFERROR(VLOOKUP(AC19,Tabelas!B:D,3,0),0),\"\")","v":""},{"$f":"IF(A19<>\"\",IFERROR(VLOOKUP(AD19,Tabelas!B:D,3,0),0),\"\")","v":""},{"$f":"IF(A19<>\"\",IFERROR(VLOOKUP(AE19,Tabelas!B:D,3,0),0),\"\")","v":""},{"$f":"IF(A19<>\"\",IFERROR(VLOOKUP(AF19,Tabelas!B:D,3,0),0),\"\")","v":""},{"$f":"IF(A19<>\"\",IFERROR(VLOOKUP(AG19,Tabelas!B:D,3,0),0),\"\")","v":""},{"$f":"IF(A19<>\"\",IFERROR(VLOOKUP(AH19,Tabelas!B:D,3,0),0),\"\")","v":""},{"$f":"IF(A19<>\"\",IFERROR(VLOOKUP(AI19,Tabelas!B:D,3,0),0),\"\")","v":""},{"$f":"IF(A19<>\"\",IFERROR(VLOOKUP(AJ19,Tabelas!B:D,3,0),0),\"\")","v":""},{"$f":"IF(A19<>\"\",IFERROR(VLOOKUP(AK19,Tabelas!B:D,3,0),0),\"\")","v":""},{"$f":"IF(A19<>\"\",IFERROR(VLOOKUP(AL19,Tabelas!B:D,3,0),0),\"\")","v":""},{"$f":"IF(A19<>\"\",IFERROR(VLOOKUP(AM19,Tabelas!B:D,3,0),0),\"\")","v":""},{"$f":"IF(A19<>\"\",IFERROR(VLOOKUP(AN19,Tabelas!B:D,3,0),0),\"\")","v":""},{"$f":"IF(A19<>\"\",IFERROR(VLOOKUP(AO19,Tabelas!B:D,3,0),0),\"\")","v":""},{"$f":"IF(A19<>\"\",IFERROR(VLOOKUP(AP19,Tabelas!B:D,3,0),0),\"\")","v":""},{"$f":"IF(A19<>\"\",IFERROR(VLOOKUP(AQ19,Tabelas!B:D,3,0),0),\"\")","v":""},{"$f":"IF(AND(A19<>\"\",E19=\"Ebserh\"),SUM(AR19:BV19)+COUNTIF(M19:AQ19,\"N*\")+COUNTIF(M19:AQ19,\"DN*\"),IF(AND(A19<>\"\",E19<>\"Ebserh\"),SUM(AR19:BV19),\"\"))","v":""},{"$f":"IF(A19<>\"\",COUNTIF(M19:AQ19,\"LM\")+COUNTIF(M19:AQ19,\"L\")+COUNTIF(M19:AQ19,\"LP\"),\"\")","v":""},{"$f":"IF(A19<>\"\",COUNTIF(M19:AQ19,\"AB*\"),\"\")","v":""},{"$f":"IF(A19<>\"\",COUNTIF(M19:AQ19,\"FE\"),\"\")","v":""},{"$f":"IF(A19<>\"\",COUNTIF(M19:AQ19,\"LC\"),\"\")","v":""},{"$f":"IF(A19<>\"\",COUNTIF(M19:AQ19,\"CH*\"),\"\")","v":""},{"$f":"IF(A19<>\"\",COUNTIF(M19:AQ19,\"AF1\")+COUNTIF(M19:AQ19,\"AF2\")+COUNTIF(M19:AQ19,\"AF3\")+COUNTIF(M19:AQ19,\"AF4\")+COUNTIF(M19:AQ19,\"AF5\")+COUNTIF(M19:AQ19,\"AF6\")+COUNTIF(M19:AQ19,\"AF7\")+COUNTIF(M19:AQ19,\"AF8\")+COUNTIF(M19:AQ19,\"AF9\")+COUNTIF(M19:AQ19,\"AF10\")+COUNTIF(M19:AQ19,\"AF11\")+COUNTIF(M19:AQ19,\"AF12\")+COUNTIF(M19:AQ19,\"AF13\")+COUNTIF(M19:AQ19,\"AF14\"),\"\")","v":""},{"$f":"IF(A19<>\"\",COUNTIF(M19:AQ19,\"CH*\")+COUNTIF(M19:AQ19,\"L\")+COUNTIF(M19:AQ19,\"LM\")+COUNTIF(M19:AQ19,\"LP\")+COUNTIF(M19:AQ19,\"LC\")+COUNTIF(M19:AQ19,\"AB*\")+COUNTIF(M19:AQ19,\"AF1\")+COUNTIF(M19:AQ19,\"AF2\")+COUNTIF(M19:AQ19,\"AF3\")+COUNTIF(M19:AQ19,\"AF4\")+COUNTIF(M19:AQ19,\"AF5\")+COUNTIF(M19:AQ19,\"AF6\")+COUNTIF(M19:AQ19,\"AF7\")+COUNTIF(M19:AQ19,\"AF8\")+COUNTIF(M19:AQ19,\"AF9\")+COUNTIF(M19:AQ19,\"AF10\")+COUNTIF(M19:AQ19,\"AF11\")+COUNTIF(M19:AQ19,\"AF12\")+COUNTIF(M19:AQ19,\"AF13\")+COUNTIF(M19:AQ19,\"AF14\")+COUNTIF(M19:AQ19,\"RC\")+COUNTIF(M19:AQ19,\"FO\")+COUNTIF(M19:AQ19,\"FE\"),\"\")","v":""}]
[null,null,null,null,null,null,null,null,null,null,null,null,null,null,null,null,null,null,null,null,null,null,null,null,null,null,null,null,null,null,null,null,null,null,null,null,null,null,null,null,null,null,null,{"$f":"IF(A20<>\"\",IFERROR(VLOOKUP(M20,Tabelas!B:D,3,0),0),\"\")","v":""},{"$f":"IF(A20<>\"\",IFERROR(VLOOKUP(N20,Tabelas!B:D,3,0),0),\"\")","v":""},{"$f":"IF(A20<>\"\",IFERROR(VLOOKUP(O20,Tabelas!B:D,3,0),0),\"\")","v":""},{"$f":"IF(A20<>\"\",IFERROR(VLOOKUP(P20,Tabelas!B:D,3,0),0),\"\")","v":""},{"$f":"IF(A20<>\"\",IFERROR(VLOOKUP(Q20,Tabelas!B:D,3,0),0),\"\")","v":""},{"$f":"IF(A20<>\"\",IFERROR(VLOOKUP(R20,Tabelas!B:D,3,0),0),\"\")","v":""},{"$f":"IF(A20<>\"\",IFERROR(VLOOKUP(S20,Tabelas!B:D,3,0),0),\"\")","v":""},{"$f":"IF(A20<>\"\",IFERROR(VLOOKUP(T20,Tabelas!B:D,3,0),0),\"\")","v":""},{"$f":"IF(A20<>\"\",IFERROR(VLOOKUP(U20,Tabelas!B:D,3,0),0),\"\")","v":""},{"$f":"IF(A20<>\"\",IFERROR(VLOOKUP(V20,Tabelas!B:D,3,0),0),\"\")","v":""},{"$f":"IF(A20<>\"\",IFERROR(VLOOKUP(W20,Tabelas!B:D,3,0),0),\"\")","v":""},{"$f":"IF(A20<>\"\",IFERROR(VLOOKUP(X20,Tabelas!B:D,3,0),0),\"\")","v":""},{"$f":"IF(A20<>\"\",IFERROR(VLOOKUP(Y20,Tabelas!B:D,3,0),0),\"\")","v":""},{"$f":"IF(A20<>\"\",IFERROR(VLOOKUP(Z20,Tabelas!B:D,3,0),0),\"\")","v":""},{"$f":"IF(A20<>\"\",IFERROR(VLOOKUP(AA20,Tabelas!B:D,3,0),0),\"\")","v":""},{"$f":"IF(A20<>\"\",IFERROR(VLOOKUP(AB20,Tabelas!B:D,3,0),0),\"\")","v":""},{"$f":"IF(A20<>\"\",IFERROR(VLOOKUP(AC20,Tabelas!B:D,3,0),0),\"\")","v":""},{"$f":"IF(A20<>\"\",IFERROR(VLOOKUP(AD20,Tabelas!B:D,3,0),0),\"\")","v":""},{"$f":"IF(A20<>\"\",IFERROR(VLOOKUP(AE20,Tabelas!B:D,3,0),0),\"\")","v":""},{"$f":"IF(A20<>\"\",IFERROR(VLOOKUP(AF20,Tabelas!B:D,3,0),0),\"\")","v":""},{"$f":"IF(A20<>\"\",IFERROR(VLOOKUP(AG20,Tabelas!B:D,3,0),0),\"\")","v":""},{"$f":"IF(A20<>\"\",IFERROR(VLOOKUP(AH20,Tabelas!B:D,3,0),0),\"\")","v":""},{"$f":"IF(A20<>\"\",IFERROR(VLOOKUP(AI20,Tabelas!B:D,3,0),0),\"\")","v":""},{"$f":"IF(A20<>\"\",IFERROR(VLOOKUP(AJ20,Tabelas!B:D,3,0),0),\"\")","v":""},{"$f":"IF(A20<>\"\",IFERROR(VLOOKUP(AK20,Tabelas!B:D,3,0),0),\"\")","v":""},{"$f":"IF(A20<>\"\",IFERROR(VLOOKUP(AL20,Tabelas!B:D,3,0),0),\"\")","v":""},{"$f":"IF(A20<>\"\",IFERROR(VLOOKUP(AM20,Tabelas!B:D,3,0),0),\"\")","v":""},{"$f":"IF(A20<>\"\",IFERROR(VLOOKUP(AN20,Tabelas!B:D,3,0),0),\"\")","v":""},{"$f":"IF(A20<>\"\",IFERROR(VLOOKUP(AO20,Tabelas!B:D,3,0),0),\"\")","v":""},{"$f":"IF(A20<>\"\",IFERROR(VLOOKUP(AP20,Tabelas!B:D,3,0),0),\"\")","v":""},{"$f":"IF(A20<>\"\",IFERROR(VLOOKUP(AQ20,Tabelas!B:D,3,0),0),\"\")","v":""},"","","","","","","",""]
["PLANTÃO",null,null,null,null,null,null,null,null,null,null,null,null,null,null,null,null,null,null,null,null,null,null,null,null,null,null,null,null,null,null,null,null,null,null,null,null,null,null,null,null,null,null,{"$f":"IF(A21<>\"\",IFERROR(VLOOKUP(M21,Tabelas!B:D,3,0),0),\"\")","v":0},{"$f":"IF(A21<>\"\",IFERROR(VLOOKUP(N21,Tabelas!B:D,3,0),0),\"\")","v":0},{"$f":"IF(A21<>\"\",IFERROR(VLOOKUP(O21,Tabelas!B:D,3,0),0),\"\")","v":0},{"$f":"IF(A21<>\"\",IFERROR(VLOOKUP(P21,Tabelas!B:D,3,0),0),\"\")","v":0},{"$f":"IF(A21<>\"\",IFERROR(VLOOKUP(Q21,Tabelas!B:D,3,0),0),\"\")","v":0},{"$f":"IF(A21<>\"\",IFERROR(VLOOKUP(R21,Tabelas!B:D,3,0),0),\"\")","v":0},{"$f":"IF(A21<>\"\",IFERROR(VLOOKUP(S21,Tabelas!B:D,3,0),0),\"\")","v":0},{"$f":"IF(A21<>\"\",IFERROR(VLOOKUP(T21,Tabelas!B:D,3,0),0),\"\")","v":0},{"$f":"IF(A21<>\"\",IFERROR(VLOOKUP(U21,Tabelas!B:D,3,0),0),\"\")","v":0},{"$f":"IF(A21<>\"\",IFERROR(VLOOKUP(V21,Tabelas!B:D,3,0),0),\"\")","v":0},{"$f":"IF(A21<>\"\",IFERROR(VLOOKUP(W21,Tabelas!B:D,3,0),0),\"\")","v":0},{"$f":"IF(A21<>\"\",IFERROR(VLOOKUP(X21,Tabelas!B:D,3,0),0),\"\")","v":0},{"$f":"IF(A21<>\"\",IFERROR(VLOOKUP(Y21,Tabelas!B:D,3,0),0),\"\")","v":0},{"$f":"IF(A21<>\"\",IFERROR(VLOOKUP(Z21,Tabelas!B:D,3,0),0),\"\")","v":0},{"$f":"IF(A21<>\"\",IFERROR(VLOOKUP(AA21,Tabelas!B:D,3,0),0),\"\")","v":0},{"$f":"IF(A21<>\"\",IFERROR(VLOOKUP(AB21,Tabelas!B:D,3,0),0),\"\")","v":0},{"$f":"IF(A21<>\"\",IFERROR(VLOOKUP(AC21,Tabelas!B:D,3,0),0),\"\")","v":0},{"$f":"IF(A21<>\"\",IFERROR(VLOOKUP(AD21,Tabelas!B:D,3,0),0),\"\")","v":0},{"$f":"IF(A21<>\"\",IFERROR(VLOOKUP(AE21,Tabelas!B:D,3,0),0),\"\")","v":0},{"$f":"IF(A21<>\"\",IFERROR(VLOOKUP(AF21,Tabelas!B:D,3,0),0),\"\")","v":0},{"$f":"IF(A21<>\"\",IFERROR(VLOOKUP(AG21,Tabelas!B:D,3,0),0),\"\")","v":0},{"$f":"IF(A21<>\"\",IFERROR(VLOOKUP(AH21,Tabelas!B:D,3,0),0),\"\")","v":0},{"$f":"IF(A21<>\"\",IFERROR(VLOOKUP(AI21,Tabelas!B:D,3,0),0),\"\")","v":0},{"$f":"IF(A21<>\"\",IFERROR(VLOOKUP(AJ21,Tabelas!B:D,3,0),0),\"\")","v":0},{"$f":"IF(A21<>\"\",IFERROR(VLOOKUP(AK21,Tabelas!B:D,3,0),0),\"\")","v":0},{"$f":"IF(A21<>\"\",IFERROR(VLOOKUP(AL21,Tabelas!B:D,3,0),0),\"\")","v":0},{"$f":"IF(A21<>\"\",IFERROR(VLOOKUP(AM21,Tabelas!B:D,3,0),0),\"\")","v":0},{"$f":"IF(A21<>\"\",IFERROR(VLOOKUP(AN21,Tabelas!B:D,3,0),0),\"\")","v":0},{"$f":"IF(A21<>\"\",IFERROR(VLOOKUP(AO21,Tabelas!B:D,3,0),0),\"\")","v":0},{"$f":"IF(A21<>\"\",IFERROR(VLOOKUP(AP21,Tabelas!B:D,3,0),0),\"\")","v":0},{"$f":"IF(A21<>\"\",IFERROR(VLOOKUP(AQ21,Tabelas!B:D,3,0),0),\"\")","v":0},0,0,0,0,0,0,0,0]
["Air Luis Zambom",1824250,null,"ME","RJU",40,null,null,null,null,null,null,null,null,null,null,"D8","N10",null,null,null,"D8",null,null,null,null,"N10",null,null,"N10",null,null,null,null,null,null,"N10",null,"N10",null,null,null,null,{"$f":"IF(A22<>\"\",IFERROR(VLOOKUP(M22,Tabelas!B:D,3,0),0),\"\")","v":0},{"$f":"IF(A22<>\"\",IFERROR(VLOOKUP(N22,Tabelas!B:D,3,0),0),\"\")","v":0},{"$f":"IF(A22<>\"\",IFERROR(VLOOKUP(O22,Tabelas!B:D,3,0),0),\"\")","v":0},{"$f":"IF(A22<>\"\",IFERROR(VLOOKUP(P22,Tabelas!B:D,3,0),0),\"\")","v":0},{"$f":"IF(A22<>\"\",IFERROR(VLOOKUP(Q22,Tabelas!B:D,3,0),0),\"\")","v":12},{"$f":"IF(A22<>\"\",IFERROR(VLOOKUP(R22,Tabelas!B:D,3,0),0),\"\")","v":12},{"$f":"IF(A22<>\"\",IFERROR(VLOOKUP(S22,Tabelas!B:D,3,0),0),\"\")","v":0},{"$f":"IF(A22<>\"\",IFERROR(VLOOKUP(T22,Tabelas!B:D,3,0),0),\"\")","v":0},{"$f":"IF(A22<>\"\",IFERROR(VLOOKUP(U22,Tabelas!B:D,3,0),0),\"\")","v":0},{"$f":"IF(A22<>\"\",IFERROR(VLOOKUP(V22,Tabelas!B:D,3,0),0),\"\")","v":12},{"$f":"IF(A22<>\"\",IFERROR(VLOOKUP(W22,Tabelas!B:D,3,0),0),\"\")","v":0},{"$f":"IF(A22<>\"\",IFERROR(VLOOKUP(X22,Tabelas!B:D,3,0),0),\"\")","v":0},{"$f":"IF(A22<>\"\",IFERROR(VLOOKUP(Y22,Tabelas!B:D,3,0),0),\"\")","v":0},{"$f":"IF(A22<>\"\",IFERROR(VLOOKUP(Z22,Tabelas!B:D,3,0),0),\"\")","v":0},{"$f":"IF(A22<>\"\",IFERROR(VLOOKUP(AA22,Tabelas!B:D,3,0),0),\"\")","v":12},{"$f":"IF(A22<>\"\",IFERROR(VLOOKUP(AB22,Tabelas!B:D,3,0),0),\"\")","v":0},{"$f":"IF(A22<>\"\",IFERROR(VLOOKUP(AC22,Tabelas!B:D,3,0),0),\"\")","v":0},{"$f":"IF(A22<>\"\",IFERROR(VLOOKUP(AD22,Tabelas!B:D,3,0),0),\"\")","v":12},{"$f":"IF(A22<>\"\",IFERROR(VLOOKUP(AE22,Tabelas!B:D,3,0),0),\"\")","v":0},{"$f":"IF(A22<>\"\",IFERROR(VLOOKUP(AF22,Tabelas!B:D,3,0),0),\"\")","v":0},{"$f":"IF(A22<>\"\",IFERROR(VLOOKUP(AG22,Tabelas!B:D,3,0),0),\"\")","v":0},{"$f":"IF(A22<>\"\",IFERROR(VLOOKUP(AH22,Tabelas!B:D,3,0),0),\"\")","v":0},{"$f":"IF(A22<>\"\",IFERROR(VLOOKUP(AI22,Tabelas!B:D,3,0),0),\"\")","v":0},{"$f":"IF(A22<>\"\",IFERROR(VLOOKUP(AJ22,Tabelas!B:D,3,0),0),\"\")","v":0},{"$f":"IF(A22<>\"\",IFERROR(VLOOKUP(AK22,Tabelas!B:D,3,0),0),\"\")","v":12},{"$f":"IF(A22<>\"\",IFERROR(VLOOKUP(AL22,Tabelas!B:D,3,0),0),\"\")","v":0},{"$f":"IF(A22<>\"\",IFERROR(VLOOKUP(AM22,Tabelas!B:D,3,0),0),\"\")","v":12},{"$f":"IF(A22<>\"\",IFERROR(VLOOKUP(AN22,Tabelas!B:D,3,0),0),\"\")","v":0},{"$f":"IF(A22<>\"\",IFERROR(VLOOKUP(AO22,Tabelas!B:D,3,0),0),\"\")","v":0},{"$f":"IF(A22<>\"\",IFERROR(VLOOKUP(AP22,Tabelas!B:D,3,0),0),\"\")","v":0},{"$f":"IF(A22<>\"\",IFERROR(VLOOKUP(AQ22,Tabelas!B:D,3,0),0),\"\")","v":0},84,0,0,0,0,0,0,0]
["Aline Varela Dias",1331684,null,"ME","RJU",20,null,null,null,null,null,null,null,null,"N10",null,null,null,null,null,null,"N10",null,null,null,"N10",null,null,null,null,"D8",null,null,null,null,null,null,"DN6",null,null,"N10",null,null,{"$f":"IF(A23<>\"\",IFERROR(VLOOKUP(M23,Tabelas!B:D,3,0),0),\"\")","v":0},{"$f":"IF(A23<>\"\",IFERROR(VLOOKUP(N23,Tabelas!B:D,3,0),0),\"\")","v":0},{"$f":"IF(A23<>\"\",IFERROR(VLOOKUP(O23,Tabelas!B:D,3,0),0),\"\")","v":12},{"$f":"IF(A23<>\"\",IFERROR(VLOOKUP(P23,Tabelas!B:D,3,0),0),\"\")","v":0},{"$f":"IF(A23<>\"\",IFERROR(VLOOKUP(Q23,Tabelas!B:D,3,0),0),\"\")","v":0},{"$f":"IF(A23<>\"\",IFERROR(VLOOKUP(R23,Tabelas!B:D,3,0),0),\"\")","v":0},{"$f":"IF(A23<>\"\",IFERROR(VLOOKUP(S23,Tabelas!B:D,3,0),0),\"\")","v":0},{"$f":"IF(A23<>\"\",IFERROR(VLOOKUP(T23,Tabelas!B:D,3,0),0),\"\")","v":0},{"$f":"IF(A23<>\"\",IFERROR(VLOOKUP(U23,Tabelas!B:D,3,0),0),\"\")","v":0},{"$f":"IF(A23<>\"\",IFERROR(VLOOKUP(V23,Tabelas!B:D,3,0),0),\"\")","v":12},{"$f":"IF(A23<>\"\",IFERROR(VLOOKUP(W23,Tabelas!B:D,3,0),0),\"\")","v":0},{"$f":"IF(A23<>\"\",IFERROR(VLOOKUP(X23,Tabelas!B:D,3,0),0),\"\")","v":0},{"$f":"IF(A23<>\"\",IFERROR(VLOOKUP(Y23,Tabelas!B:D,3,0),0),\"\")","v":0},{"$f":"IF(A23<>\"\",IFERROR(VLOOKUP(Z23,Tabelas!B:D,3,0),0),\"\")","v":12},{"$f":"IF(A23<>\"\",IFERROR(VLOOKUP(AA23,Tabelas!B:D,3,0),0),\"\")","v":0},{"$f":"IF(A23<>\"\",IFERROR(VLOOKUP(AB23,Tabelas!B:D,3,0),0),\"\")","v":0},{"$f":"IF(A23<>\"\",IFERROR(VLOOKUP(AC23,Tabelas!B:D,3,0),0),\"\")","v":0},{"$f":"IF(A23<>\"\",IFERROR(VLOOKUP(AD23,Tabelas!B:D,3,0),0),\"\")","v":0},{"$f":"IF(A23<>\"\",IFERROR(VLOOKUP(AE23,Tabelas!B:D,3,0),0),\"\")","v":12},{"$f":"IF(A23<>\"\",IFERROR(VLOOKUP(AF23,Tabelas!B:D,3,0),0),\"\")","v":0},{"$f":"IF(A23<>\"\",IFERROR(VLOOKUP(AG23,Tabelas!B:D,3,0),0),\"\")","v":0},{"$f":"IF(A23<>\"\",IFERROR(VLOOKUP(AH23,Tabelas!B:D,3,0),0),\"\")","v":0},{"$f":"IF(A23<>\"\",IFERROR(VLOOKUP(AI23,Tabelas!B:D,3,0),0),\"\")","v":0},{"$f":"IF(A23<>\"\",IFERROR(VLOOKUP(AJ23,Tabelas!B:D,3,0),0),\"\")","v":0},{"$f":"IF(A23<>\"\",IFERROR(VLOOKUP(AK23,Tabelas!B:D,3,0),0),\"\")","v":0},{"$f":"IF(A23<>\"\",IFERROR(VLOOKUP(AL23,Tabelas!B:D,3,0),0),\"\")","v":24},{"$f":"IF(A23<>\"\",IFERROR(VLOOKUP(AM23,Tabelas!B:D,3,0),0),\"\")","v":0},{"$f":"IF(A23<>\"\",IFERROR(VLOOKUP(AN23,Tabelas!B:D,3,0),0),\"\")","v":0},{"$f":"IF(A23<>\"\",IFERROR(VLOOKUP(AO23,Tabelas!B:D,3,0),0),\"\")","v":12},{"$f":"IF(A23<>\"\",IFERROR(VLOOKUP(AP23,Tabelas!B:D,3,0),0),\"\")","v":0},{"$f":"IF(A23<>\"\",IFERROR(VLOOKUP(AQ23,Tabelas!B:D,3,0),0),\"\")","v":0},84,0,0,0,0,0,0,0]
["Anelise Schaeffer da Silveira",1919390,null,"ME","EBSERH",24,null,null,null,null,null,null,null,null,null,null,null,"N10",null,"N10",null,"DN6",null,null,null,null,null,"N10",null,"D8",null,null,null,null,null,null,"N10",null,"N10",null,null,null,null,{"$f":"IF(A24<>\"\",IFERROR(VLOOKUP(M24,Tabelas!B:D,3,0),0),\"\")","v":0},{"$f":"IF(A24<>\"\",IFERROR(VLOOKUP(N24,Tabelas!B:D,3,0),0),\"\")","v":0},{"$f":"IF(A24<>\"\",IFERROR(VLOOKUP(O24,Tabelas!B:D,3,0),0),\"\")","v":0},{"$f":"IF(A24<>\"\",IFERROR(VLOOKUP(P24,Tabelas!B:D,3,0),0),\"\")","v":0},{"$f":"IF(A24<>\"\",IFERROR(VLOOKUP(Q24,Tabelas!B:D,3,0),0),\"\")","v":0},{"$f":"IF(A24<>\"\",IFERROR(VLOOKUP(R24,Tabelas!B:D,3,0),0),\"\")","v":12},{"$f":"IF(A24<>\"\",IFERROR(VLOOKUP(S24,Tabelas!B:D,3,0),0),\"\")","v":0},{"$f":"IF(A24<>\"\",IFERROR(VLOOKUP(T24,Tabelas!B:D,3,0),0),\"\")","v":12},{"$f":"IF(A24<>\"\",IFERROR(VLOOKUP(U24,Tabelas!B:D,3,0),0),\"\")","v":0},{"$f":"IF(A24<>\"\",IFERROR(VLOOKUP(V24,Tabelas!B:D,3,0),0),\"\")","v":24},{"$f":"IF(A24<>\"\",IFERROR(VLOOKUP(W24,Tabelas!B:D,3,0),0),\"\")","v":0},{"$f":"IF(A24<>\"\",IFERROR(VLOOKUP(X24,Tabelas!B:D,3,0),0),\"\")","v":0},{"$f":"IF(A24<>\"\",IFERROR(VLOOKUP(Y24,Tabelas!B:D,3,0),0),\"\")","v":0},{"$f":"IF(A24<>\"\",IFERROR(VLOOKUP(Z24,Tabelas!B:D,3,0),0),\"\")","v":0},{"$f":"IF(A24<>\"\",IFERROR(VLOOKUP(AA24,Tabelas!B:D,3,0),0),\"\")","v":0},{"$f":"IF(A24<>\"\",IFERROR(VLOOKUP(AB24,Tabelas!B:D,3,0),0),\"\")","v":12},{"$f":"IF(A24<>\"\",IFERROR(VLOOKUP(AC24,Tabelas!B:D,3,0),0),\"\")","v":0},{"$f":"IF(A24<>\"\",IFERROR(VLOOKUP(AD24,Tabelas!B:D,3,0),0),\"\")","v":12},{"$f":"IF(A24<>\"\",IFERROR(VLOOKUP(AE24,Tabelas!B:D,3,0),0),\"\")","v":0},{"$f":"IF(A24<>\"\",IFERROR(VLOOKUP(AF24,Tabelas!B:D,3,0),0),\"\")","v":0},{"$f":"IF(A24<>\"\",IFERROR(VLOOKUP(AG24,Tabelas!B:D,3,0),0),\"\")","v":0},{"$f":"IF(A24<>\"\",IFERROR(VLOOKUP(AH24,Tabelas!B:D,3,0),0),\"\")","v":0},{"$f":"IF(A24<>\"\",IFERROR(VLOOKUP(AI24,Tabelas!B:D,3,0),0),\"\")","v":0},{"$f":"IF(A24<>\"\",IFERROR(VLOOKUP(AJ24,Tabelas!B:D,3,0),0),\"\")","v":0},{"$f":"IF(A24<>\"\",IFERROR(VLOOKUP(AK24,Tabelas!B:D,3,0),0),\"\")","v":12},{"$f":"IF(A24<>\"\",IFERROR(VLOOKUP(AL24,Tabelas!B:D,3,0),0),\"\")","v":0},{"$f":"IF(A24<>\"\",IFERROR(VLOOKUP(AM24,Tabelas!B:D,3,0),0),\"\")","v":12},{"$f":"IF(A24<>\"\",IFERROR(VLOOKUP(AN24,Tabelas!B:D,3,0),0),\"\")","v":0},{"$f":"IF(A24<>\"\",IFERROR(VLOOKUP(AO24,Tabelas!B:D,3,0),0),\"\")","v":0},{"$f":"IF(A24<>\"\",IFERROR(VLOOKUP(AP24,Tabelas!B:D,3,0),0),\"\")","v":0},{"$f":"IF(A24<>\"\",IFERROR(VLOOKUP(AQ24,Tabelas!B:D,3,0),0),\"\")","v":0},102,0,0,0,0,0,0,0]
["Christie Marie Schweitzer",2081333,null,"ME","RJU",20,null,null,null,null,null,null,null,null,"N10",null,null,null,null,null,null,null,null,null,null,null,null,null,null,null,null,null,null,null,null,null,null,null,null,null,null,null,null,{"$f":"IF(A25<>\"\",IFERROR(VLOOKUP(M25,Tabelas!B:D,3,0),0),\"\")","v":0},{"$f":"IF(A25<>\"\",IFERROR(VLOOKUP(N25,Tabelas!B:D,3,0),0),\"\")","v":0},{"$f":"IF(A25<>\"\",IFERROR(VLOOKUP(O25,Tabelas!B:D,3,0),0),\"\")","v":12},{"$f":"IF(A25<>\"\",IFERROR(VLOOKUP(P25,Tabelas!B:D,3,0),0),\"\")","v":0},{"$f":"IF(A25<>\"\",IFERROR(VLOOKUP(Q25,Tabelas!B:D,3,0),0),\"\")","v":0},{"$f":"IF(A25<>\"\",IFERROR(VLOOKUP(R25,Tabelas!B:D,3,0),0),\"\")","v":0},{"$f":"IF(A25<>\"\",IFERROR(VLOOKUP(S25,Tabelas!B:D,3,0),0),\"\")","v":0},{"$f":"IF(A25<>\"\",IFERROR(VLOOKUP(T25,Tabelas!B:D,3,0),0),\"\")","v":0},{"$f":"IF(A25<>\"\",IFERROR(VLOOKUP(U25,Tabelas!B:D,3,0),0),\"\")","v":0},{"$f":"IF(A25<>\"\",IFERROR(VLOOKUP(V25,Tabelas!B:D,3,0),0),\"\")","v":0},{"$f":"IF(A25<>\"\",IFERROR(VLOOKUP(W25,Tabelas!B:D,3,0),0),\"\")","v":0},{"$f":"IF(A25<>\"\",IFERROR(VLOOKUP(X25,Tabelas!B:D,3,0),0),\"\")","v":0},{"$f":"IF(A25<>\"\",IFERROR(VLOOKUP(Y25,Tabelas!B:D,3,0),0),\"\")","v":0},{"$f":"IF(A25<>\"\",IFERROR(VLOOKUP(Z25,Tabelas!B:D,3,0),0),\"\")","v":0},{"$f":"IF(A25<>\"\",IFERROR(VLOOKUP(AA25,Tabelas!B:D,3,0),0),\"\")","v":0},{"$f":"IF(A25<>\"\",IFERROR(VLOOKUP(AB25,Tabelas!B:D,3,0),0),\"\")","v":0},{"$f":"IF(A25<>\"\",IFERROR(VLOOKUP(AC25,Tabelas!B:D,3,0),0),\"\")","v":0},{"$f":"IF(A25<>\"\",IFERROR(VLOOKUP(AD25,Tabelas!B:D,3,0),0),\"\")","v":0},{"$f":"IF(A25<>\"\",IFERROR(VLOOKUP(AE25,Tabelas!B:D,3,0),0),\"\")","v":0},{"$f":"IF(A25<>\"\",IFERROR(VLOOKUP(AF25,Tabelas!B:D,3,0),0),\"\")","v":0},{"$f":"IF(A25<>\"\",IFERROR(VLOOKUP(AG25,Tabelas!B:D,3,0),0),\"\")","v":0},{"$f":"IF(A25<>\"\",IFERROR(VLOOKUP(AH25,Tabelas!B:D,3,0),0),\"\")","v":0},{"$f":"IF(A25<>\"\",IFERROR(VLOOKUP(AI25,Tabelas!B:D,3,0),0),\"\")","v":0},{"$f":"IF(A25<>\"\",IFERROR(VLOOKUP(AJ25,Tabelas!B:D,3,0),0),\"\")","v":0},{"$f":"IF(A25<>\"\",IFERROR(VLOOKUP(AK25,Tabelas!B:D,3,0),0),\"\")","v":0},{"$f":"IF(A25<>\"\",IFERROR(VLOOKUP(AL25,Tabelas!B:D,3,0),0),\"\")","v":0},{"$f":"IF(A25<>\"\",IFERROR(VLOOKUP(AM25,Tabelas!B:D,3,0),0),\"\")","v":0},{"$f":"IF(A25<>\"\",IFERROR(VLOOKUP(AN25,Tabelas!B:D,3,0),0),\"\")","v":0},{"$f":"IF(A25<>\"\",IFERROR(VLOOKUP(AO25,Tabelas!B:D,3,0),0),\"\")","v":0},{"$f":"IF(A25<>\"\",IFERROR(VLOOKUP(AP25,Tabelas!B:D,3,0),0),\"\")","v":0},{"$f":"IF(A25<>\"\",IFERROR(VLOOKUP(AQ25,Tabelas!B:D,3,0),0),\"\")","v":0},12,0,0,0,0,0,0,0]
["Duane José Milioli",1824201,null,"ME","RJU",20,null,null,null,null,null,null,null,null,null,null,"N10",null,"N10",null,null,null,null,null,null,null,"N10","N10",null,"D8",null,null,null,null,null,"N10","D8",null,null,null,null,null,null,{"$f":"IF(A26<>\"\",IFERROR(VLOOKUP(M26,Tabelas!B:D,3,0),0),\"\")","v":0},{"$f":"IF(A26<>\"\",IFERROR(VLOOKUP(N26,Tabelas!B:D,3,0),0),\"\")","v":0},{"$f":"IF(A26<>\"\",IFERROR(VLOOKUP(O26,Tabelas!B:D,3,0),0),\"\")","v":0},{"$f":"IF(A26<>\"\",IFERROR(VLOOKUP(P26,Tabelas!B:D,3,0),0),\"\")","v":0},{"$f":"IF(A26<>\"\",IFERROR(VLOOKUP(Q26,Tabelas!B:D,3,0),0),\"\")","v":12},{"$f":"IF(A26<>\"\",IFERROR(VLOOKUP(R26,Tabelas!B:D,3,0),0),\"\")","v":0},{"$f":"IF(A26<>\"\",IFERROR(VLOOKUP(S26,Tabelas!B:D,3,0),0),\"\")","v":12},{"$f":"IF(A26<>\"\",IFERROR(VLOOKUP(T26,Tabelas!B:D,3,0),0),\"\")","v":0},{"$f":"IF(A26<>\"\",IFERROR(VLOOKUP(U26,Tabelas!B:D,3,0),0),\"\")","v":0},{"$f":"IF(A26<>\"\",IFERROR(VLOOKUP(V26,Tabelas!B:D,3,0),0),\"\")","v":0},{"$f":"IF(A26<>\"\",IFERROR(VLOOKUP(W26,Tabelas!B:D,3,0),0),\"\")","v":0},{"$f":"IF(A26<>\"\",IFERROR(VLOOKUP(X26,Tabelas!B:D,3,0),0),\"\")","v":0},{"$f":"IF(A26<>\"\",IFERROR(VLOOKUP(Y26,Tabelas!B:D,3,0),0),\"\")","v":0},{"$f":"IF(A26<>\"\",IFERROR(VLOOKUP(Z26,Tabelas!B:D,3,0),0),\"\")","v":0},{"$f":"IF(A26<>\"\",IFERROR(VLOOKUP(AA26,Tabelas!B:D,3,0),0),\"\")","v":12},{"$f":"IF(A26<>\"\",IFERROR(VLOOKUP(AB26,Tabelas!B:D,3,0),0),\"\")","v":12},{"$f":"IF(A26<>\"\",IFERROR(VLOOKUP(AC26,Tabelas!B:D,3,0),0),\"\")","v":0},{"$f":"IF(A26<>\"\",IFERROR(VLOOKUP(AD26,Tabelas!B:D,3,0),0),\"\")","v":12},{"$f":"IF(A26<>\"\",IFERROR(VLOOKUP(AE26,Tabelas!B:D,3,0),0),\"\")","v":0},{"$f":"IF(A26<>\"\",IFERROR(VLOOKUP(AF26,Tabelas!B:D,3,0),0),\"\")","v":0},{"$f":"IF(A26<>\"\",IFERROR(VLOOKUP(AG26,Tabelas!B:D,3,0),0),\"\")","v":0},{"$f":"IF(A26<>\"\",IFERROR(VLOOKUP(AH26,Tabelas!B:D,3,0),0),\"\")","v":0},{"$f":"IF(A26<>\"\",IFERROR(VLOOKUP(AI26,Tabelas!B:D,3,0),0),\"\")","v":0},{"$f":"IF(A26<>\"\",IFERROR(VLOOKUP(AJ26,Tabelas!B:D,3,0),0),\"\")","v":12},{"$f":"IF(A26<>\"\",IFERROR(VLOOKUP(AK26,Tabelas!B:D,3,0),0),\"\")","v":12},{"$f":"IF(A26<>\"\",IFERROR(VLOOKUP(AL26,Tabelas!B:D,3,0),0),\"\")","v":0},{"$f":"IF(A26<>\"\",IFERROR(VLOOKUP(AM26,Tabelas!B:D,3,0),0),\"\")","v":0},{"$f":"IF(A26<>\"\",IFERROR(VLOOKUP(AN26,Tabelas!B:D,3,0),0),\"\")","v":0},{"$f":"IF(A26<>\"\",IFERROR(VLOOKUP(AO26,Tabelas!B:D,3,0),0),\"\")","v":0},{"$f":"IF(A26<>\"\",IFERROR(VLOOKUP(AP26,Tabelas!B:D,3,0),0),\"\")","v":0},{"$f":"IF(A26<>\"\",IFERROR(VLOOKUP(AQ26,Tabelas!B:D,3,0),0),\"\")","v":0},84,0,0,0,0,0,0,0]
["Eduardo Jardim Berbigier",2604323,null,"ME","RJU",20,null,null,null,null,null,null,"N10",null,null,"D8",null,null,null,null,null,null,"DN6",null,"N10",null,null,null,"N10",null,null,null,null,null,null,null,null,null,null,"N10",null,null,null,{"$f":"IF(A27<>\"\",IFERROR(VLOOKUP(M27,Tabelas!B:D,3,0),0),\"\")","v":12},{"$f":"IF(A27<>\"\",IFERROR(VLOOKUP(N27,Tabelas!B:D,3,0),0),\"\")","v":0},{"$f":"IF(A27<>\"\",IFERROR(VLOOKUP(O27,Tabelas!B:D,3,0),0),\"\")","v":0},{"$f":"IF(A27<>\"\",IFERROR(VLOOKUP(P27,Tabelas!B:D,3,0),0),\"\")","v":12},{"$f":"IF(A27<>\"\",IFERROR(VLOOKUP(Q27,Tabelas!B:D,3,0),0),\"\")","v":0},{"$f":"IF(A27<>\"\",IFERROR(VLOOKUP(R27,Tabelas!B:D,3,0),0),\"\")","v":0},{"$f":"IF(A27<>\"\",IFERROR(VLOOKUP(S27,Tabelas!B:D,3,0),0),\"\")","v":0},{"$f":"IF(A27<>\"\",IFERROR(VLOOKUP(T27,Tabelas!B:D,3,0),0),\"\")","v":0},{"$f":"IF(A27<>\"\",IFERROR(VLOOKUP(U27,Tabelas!B:D,3,0),0),\"\")","v":0},{"$f":"IF(A27<>\"\",IFERROR(VLOOKUP(V27,Tabelas!B:D,3,0),0),\"\")","v":0},{"$f":"IF(A27<>\"\",IFERROR(VLOOKUP(W27,Tabelas!B:D,3,0),0),\"\")","v":24},{"$f":"IF(A27<>\"\",IFERROR(VLOOKUP(X27,Tabelas!B:D,3,0),0),\"\")","v":0},{"$f":"IF(A27<>\"\",IFERROR(VLOOKUP(Y27,Tabelas!B:D,3,0),0),\"\")","v":12},{"$f":"IF(A27<>\"\",IFERROR(VLOOKUP(Z27,Tabelas!B:D,3,0),0),\"\")","v":0},{"$f":"IF(A27<>\"\",IFERROR(VLOOKUP(AA27,Tabelas!B:D,3,0),0),\"\")","v":0},{"$f":"IF(A27<>\"\",IFERROR(VLOOKUP(AB27,Tabelas!B:D,3,0),0),\"\")","v":0},{"$f":"IF(A27<>\"\",IFERROR(VLOOKUP(AC27,Tabelas!B:D,3,0),0),\"\")","v":12},{"$f":"IF(A27<>\"\",IFERROR(VLOOKUP(AD27,Tabelas!B:D,3,0),0),\"\")","v":0},{"$f":"IF(A27<>\"\",IFERROR(VLOOKUP(AE27,Tabelas!B:D,3,0),0),\"\")","v":0},{"$f":"IF(A27<>\"\",IFERROR(VLOOKUP(AF27,Tabelas!B:D,3,0),0),\"\")","v":0},{"$f":"IF(A27<>\"\",IFERROR(VLOOKUP(AG27,Tabelas!B:D,3,0),0),\"\")","v":0},{"$f":"IF(A27<>\"\",IFERROR(VLOOKUP(AH27,Tabelas!B:D,3,0),0),\"\")","v":0},{"$f":"IF(A27<>\"\",IFERROR(VLOOKUP(AI27,Tabelas!B:D,3,0),0),\"\")","v":0},{"$f":"IF(A27<>\"\",IFERROR(VLOOKUP(AJ27,Tabelas!B:D,3,0),0),\"\")","v":0},{"$f":"IF(A27<>\"\",IFERROR(VLOOKUP(AK27,Tabelas!B:D,3,0),0),\"\")","v":0},{"$f":"IF(A27<>\"\",IFERROR(VLOOKUP(AL27,Tabelas!B:D,3,0),0),\"\")","v":0},{"$f":"IF(A27<>\"\",IFERROR(VLOOKUP(AM27,Tabelas!B:D,3,0),0),\"\")","v":0},{"$f":"IF(A27<>\"\",IFERROR(VLOOKUP(AN27,Tabelas!B:D,3,0),0),\"\")","v":12},{"$f":"IF(A27<>\"\",IFERROR(VLOOKUP(AO27,Tabelas!B:D,3,0),0),\"\")","v":0},{"$f":"IF(A27<>\"\",IFERROR(VLOOKUP(AP27,Tabelas!B:D,3,0),0),\"\")","v":0},{"$f":"IF(A27<>\"\",IFERROR(VLOOKUP(AQ27,Tabelas!B:D,3,0),0),\"\")","v":0},84,0,0,0,0,0,0,0]
["Fernanda Goss Fontanella",1200689,null,"ME","EBSERH",24,null,null,null,null,null,null,null,null,null,"N10",null,null,null,null,"N10",null,null,"DN6",null,null,null,null,null,null,"D8","N10",null,"N10",null,null,null,null,null,null,null,"CH-12",null,{"$f":"IF(A28<>\"\",IFERROR(VLOOKUP(M28,Tabelas!B:D,3,0),0),\"\")","v":0},{"$f":"IF(A28<>\"\",IFERROR(VLOOKUP(N28,Tabelas!B:D,3,0),0),\"\")","v":0},{"$f":"IF(A28<>\"\",IFERROR(VLOOKUP(O28,Tabelas!B:D,3,0),0),\"\")","v":0},{"$f":"IF(A28<>\"\",IFERROR(VLOOKUP(P28,Tabelas!B:D,3,0),0),\"\")","v":12},{"$f":"IF(A28<>\"\",IFERROR(VLOOKUP(Q28,Tabelas!B:D,3,0),0),\"\")","v":0},{"$f":"IF(A28<>\"\",IFERROR(VLOOKUP(R28,Tabelas!B:D,3,0),0),\"\")","v":0},{"$f":"IF(A28<>\"\",IFERROR(VLOOKUP(S28,Tabelas!B:D,3,0),0),\"\")","v":0},{"$f":"IF(A28<>\"\",IFERROR(VLOOKUP(T28,Tabelas!B:D,3,0),0),\"\")","v":0},{"$f":"IF(A28<>\"\",IFERROR(VLOOKUP(U28,Tabelas!B:D,3,0),0),\"\")","v":12},{"$f":"IF(A28<>\"\",IFERROR(VLOOKUP(V28,Tabelas!B:D,3,0),0),\"\")","v":0},{"$f":"IF(A28<>\"\",IFERROR(VLOOKUP(W28,Tabelas!B:D,3,0),0),\"\")","v":0},{"$f":"IF(A28<>\"\",IFERROR(VLOOKUP(X28,Tabelas!B:D,3,0),0),\"\")","v":24},{"$f":"IF(A28<>\"\",IFERROR(VLOOKUP(Y28,Tabelas!B:D,3,0),0),\"\")","v":0},{"$f":"IF(A28<>\"\",IFERROR(VLOOKUP(Z28,Tabelas!B:D,3,0),0),\"\")","v":0},{"$f":"IF(A28<>\"\",IFERROR(VLOOKUP(AA28,Tabelas!B:D,3,0),0),\"\")","v":0},{"$f":"IF(A28<>\"\",IFERROR(VLOOKUP(AB28,Tabelas!B:D,3,0),0),\"\")","v":0},{"$f":"IF(A28<>\"\",IFERROR(VLOOKUP(AC28,Tabelas!B:D,3,0),0),\"\")","v":0},{"$f":"IF(A28<>\"\",IFERROR(VLOOKUP(AD28,Tabelas!B:D,3,0),0),\"\")","v":0},{"$f":"IF(A28<>\"\",IFERROR(VLOOKUP(AE28,Tabelas!B:D,3,0),0),\"\")","v":12},{"$f":"IF(A28<>\"\",IFERROR(VLOOKUP(AF28,Tabelas!B:D,3,0),0),\"\")","v":12},{"$f":"IF(A28<>\"\",IFERROR(VLOOKUP(AG28,Tabelas!B:D,3,0),0),\"\")","v":0},{"$f":"IF(A28<>\"\",IFERROR(VLOOKUP(AH28,Tabelas!B:D,3,0),0),\"\")","v":12},{"$f":"IF(A28<>\"\",IFERROR(VLOOKUP(AI28,Tabelas!B:D,3,0),0),\"\")","v":0},{"$f":"IF(A28<>\"\",IFERROR(VLOOKUP(AJ28,Tabelas!B:D,3,0),0),\"\")","v":0},{"$f":"IF(A28<>\"\",IFERROR(VLOOKUP(AK28,Tabelas!B:D,3,0),0),\"\")","v":0},{"$f":"IF(A28<>\"\",IFERROR(VLOOKUP(AL28,Tabelas!B:D,3,0),0),\"\")","v":0},{"$f":"IF(A28<>\"\",IFERROR(VLOOKUP(AM28,Tabelas!B:D,3,0),0),\"\")","v":0},{"$f":"IF(A28<>\"\",IFERROR(VLOOKUP(AN28,Tabelas!B:D,3,0),0),\"\")","v":0},{"$f":"IF(A28<>\"\",IFERROR(VLOOKUP(AO28,Tabelas!B:D,3,0),0),\"\")","v":0},{"$f":"IF(A28<>\"\",IFERROR(VLOOKUP(AP28,Tabelas!B:D,3,0),0),\"\")","v":0},{"$f":"IF(A28<>\"\",IFERROR(VLOOKUP(AQ28,Tabelas!B:D,3,0),0),\"\")","v":0},89,0,0,0,0,1,0,1]
["Fernanda Olivo Jakimiu",1200689,null,"ME","EBSERH",24,null,null,null,null,null,null,null,null,null,null,null,null,null,null,null,null,null,null,null,null,null,"T17",null,null,"D8",null,null,null,null,null,null,"N10",null,"N10",null,null,null,{"$f":"IF(A29<>\"\",IFERROR(VLOOKUP(M29,Tabelas!B:D,3,0),0),\"\")","v":0},{"$f":"IF(A29<>\"\",IFERROR(VLOOKUP(N29,Tabelas!B:D,3,0),0),\"\")","v":0},{"$f":"IF(A29<>\"\",IFERROR(VLOOKUP(O29,Tabelas!B:D,3,0),0),\"\")","v":0},{"$f":"IF(A29<>\"\",IFERROR(VLOOKUP(P29,Tabelas!B:D,3,0),0),\"\")","v":0},{"$f":"IF(A29<>\"\",IFERROR(VLOOKUP(Q29,Tabelas!B:D,3,0),0),\"\")","v":0},{"$f":"IF(A29<>\"\",IFERROR(VLOOKUP(R29,Tabelas!B:D,3,0),0),\"\")","v":0},{"$f":"IF(A29<>\"\",IFERROR(VLOOKUP(S29,Tabelas!B:D,3,0),0),\"\")","v":0},{"$f":"IF(A29<>\"\",IFERROR(VLOOKUP(T29,Tabelas!B:D,3,0),0),\"\")","v":0},{"$f":"IF(A29<>\"\",IFERROR(VLOOKUP(U29,Tabelas!B:D,3,0),0),\"\")","v":0},{"$f":"IF(A29<>\"\",IFERROR(VLOOKUP(V29,Tabelas!B:D,3,0),0),\"\")","v":0},{"$f":"IF(A29<>\"\",IFERROR(VLOOKUP(W29,Tabelas!B:D,3,0),0),\"\")","v":0},{"$f":"IF(A29<>\"\",IFERROR(VLOOKUP(X29,Tabelas!B:D,3,0),0),\"\")","v":0},{"$f":"IF(A29<>\"\",IFERROR(VLOOKUP(Y29,Tabelas!B:D,3,0),0),\"\")","v":0},{"$f":"IF(A29<>\"\",IFERROR(VLOOKUP(Z29,Tabelas!B:D,3,0),0),\"\")","v":0},{"$f":"IF(A29<>\"\",IFERROR(VLOOKUP(AA29,Tabelas!B:D,3,0),0),\"\")","v":0},{"$f":"IF(A29<>\"\",IFERROR(VLOOKUP(AB29,Tabelas!B:D,3,0),0),\"\")","v":6},{"$f":"IF(A29<>\"\",IFERROR(VLOOKUP(AC29,Tabelas!B:D,3,0),0),\"\")","v":0},{"$f":"IF(A29<>\"\",IFERROR(VLOOKUP(AD29,Tabelas!B:D,3,0),0),\"\")","v":0},{"$f":"IF(A29<>\"\",IFERROR(VLOOKUP(AE29,Tabelas!B:D,3,0),0),\"\")","v":12},{"$f":"IF(A29<>\"\",IFERROR(VLOOKUP(AF29,Tabelas!B:D,3,0),0),\"\")","v":0},{"$f":"IF(A29<>\"\",IFERROR(VLOOKUP(AG29,Tabelas!B:D,3,0),0),\"\")","v":0},{"$f":"IF(A29<>\"\",IFERROR(VLOOKUP(AH29,Tabelas!B:D,3,0),0),\"\")","v":0},{"$f":"IF(A29<>\"\",IFERROR(VLOOKUP(AI29,Tabelas!B:D,3,0),0),\"\")","v":0},{"$f":"IF(A29<>\"\",IFERROR(VLOOKUP(AJ29,Tabelas!B:D,3,0),0),\"\")","v":0},{"$f":"IF(A29<>\"\",IFERROR(VLOOKUP(AK29,Tabelas!B:D,3,0),0),\"\")","v":0},{"$f":"IF(A29<>\"\",IFERROR(VLOOKUP(AL29,Tabelas!B:D,3,0),0),\"\")","v":12},{"$f":"IF(A29<>\"\",IFERROR(VLOOKUP(AM29,Tabelas!B:D,3,0),0),\"\")","v":0},{"$f":"IF(A29<>\"\",IFERROR(VLOOKUP(AN29,Tabelas!B:D,3,0),0),\"\")","v":12},{"$f":"IF(A29<>\"\",IFERROR(VLOOKUP(AO29,Tabelas!B:D,3,0),0),\"\")","v":0},{"$f":"IF(A29<>\"\",IFERROR(VLOOKUP(AP29,Tabelas!B:D,3,0),0),\"\")","v":0},{"$f":"IF(A29<>\"\",IFERROR(VLOOKUP(AQ29,Tabelas!B:D,3,0),0),\"\")","v":0},44,0,0,0,0,0,0,0]
["Irácino José Miranda Júnior",1006032,null,"ME","EBSERH",24,null,null,null,null,null,null,"N10",null,null,"DN6",null,null,null,null,"N10",null,null,null,null,"N10",null,null,null,null,null,null,"D8","N10",null,"N10",null,null,null,null,null,null,null,{"$f":"IF(A30<>\"\",IFERROR(VLOOKUP(M30,Tabelas!B:D,3,0),0),\"\")","v":12},{"$f":"IF(A30<>\"\",IFERROR(VLOOKUP(N30,Tabelas!B:D,3,0),0),\"\")","v":0},{"$f":"IF(A30<>\"\",IFERROR(VLOOKUP(O30,Tabelas!B:D,3,0),0),\"\")","v":0},{"$f":"IF(A30<>\"\",IFERROR(VLOOKUP(P30,Tabelas!B:D,3,0),0),\"\")","v":24},{"$f":"IF(A30<>\"\",IFERROR(VLOOKUP(Q30,Tabelas!B:D,3,0),0),\"\")","v":0},{"$f":"IF(A30<>\"\",IFERROR(VLOOKUP(R30,Tabelas!B:D,3,0),0),\"\")","v":0},{"$f":"IF(A30<>\"\",IFERROR(VLOOKUP(S30,Tabelas!B:D,3,0),0),\"\")","v":0},{"$f":"IF(A30<>\"\",IFERROR(VLOOKUP(T30,Tabelas!B:D,3,0),0),\"\")","v":0},{"$f":"IF(A30<>\"\",IFERROR(VLOOKUP(U30,Tabelas!B:D,3,0),0),\"\")","v":12},{"$f":"IF(A30<>\"\",IFERROR(VLOOKUP(V30,Tabelas!B:D,3,0),0),\"\")","v":0},{"$f":"IF(A30<>\"\",IFERROR(VLOOKUP(W30,Tabelas!B:D,3,0),0),\"\")","v":0},{"$f":"IF(A30<>\"\",IFERROR(VLOOKUP(X30,Tabelas!B:D,3,0),0),\"\")","v":0},{"$f":"IF(A30<>\"\",IFERROR(VLOOKUP(Y30,Tabelas!B:D,3,0),0),\"\")","v":0},{"$f":"IF(A30<>\"\",IFERROR(VLOOKUP(Z30,Tabelas!B:D,3,0),0),\"\")","v":12},{"$f":"IF(A30<>\"\",IFERROR(VLOOKUP(AA30,Tabelas!B:D,3,0),0),\"\")","v":0},{"$f":"IF(A30<>\"\",IFERROR(VLOOKUP(AB30,Tabelas!B:D,3,0),0),\"\")","v":0},{"$f":"IF(A30<>\"\",IFERROR(VLOOKUP(AC30,Tabelas!B:D,3,0),0),\"\")","v":0},{"$f":"IF(A30<>\"\",IFERROR(VLOOKUP(AD30,Tabelas!B:D,3,0),0),\"\")","v":0},{"$f":"IF(A30<>\"\",IFERROR(VLOOKUP(AE30,Tabelas!B:D,3,0),0),\"\")","v":0},{"$f":"IF(A30<>\"\",IFERROR(VLOOKUP(AF30,Tabelas!B:D,3,0),0),\"\")","v":0},{"$f":"IF(A30<>\"\",IFERROR(VLOOKUP(AG30,Tabelas!B:D,3,0),0),\"\")","v":12},{"$f":"IF(A30<>\"\",IFERROR(VLOOKUP(AH30,Tabelas!B:D,3,0),0),\"\")","v":12},{"$f":"IF(A30<>\"\",IFERROR(VLOOKUP(AI30,Tabelas!B:D,3,0),0),\"\")","v":0},{"$f":"IF(A30<>\"\",IFERROR(VLOOKUP(AJ30,Tabelas!B:D,3,0),0),\"\")","v":12},{"$f":"IF(A30<>\"\",IFERROR(VLOOKUP(AK30,Tabelas!B:D,3,0),0),\"\")","v":0},{"$f":"IF(A30<>\"\",IFERROR(VLOOKUP(AL30,Tabelas!B:D,3,0),0),\"\")","v":0},{"$f":"IF(A30<>\"\",IFERROR(VLOOKUP(AM30,Tabelas!B:D,3,0),0),\"\")","v":0},{"$f":"IF(A30<>\"\",IFERROR(VLOOKUP(AN30,Tabelas!B:D,3,0),0),\"\")","v":0},{"$f":"IF(A30<>\"\",IFERROR(VLOOKUP(AO30,Tabelas!B:D,3,0),0),\"\")","v":0},{"$f":"IF(A30<>\"\",IFERROR(VLOOKUP(AP30,Tabelas!B:D,3,0),0),\"\")","v":0},{"$f":"IF(A30<>\"\",IFERROR(VLOOKUP(AQ30,Tabelas!B:D,3,0),0),\"\")","v":0},102,0,0,0,0,0,0,0]
["Jaqueline Flores Rohr",null,null,null,"EBSERH",24,null,null,null,null,null,null,null,null,null,null,null,null,null,null,null,null,null,null,null,null,null,"T17",null,null,null,null,null,"N10",null,null,null,"D8","N10"]
["João Luiz Henrique da Silveira",1704052,null,"ME","EBSERH",24,null,null,null,null,null,null,null,null,null,null,null,null,null,null,null,null,null,null,null,null,"N10",null,"CH-12",null,null,null,"DN6",null,null,null,"D8",null,"CH-12",null,"CH-12","N10",null,{"$f":"IF(A32<>\"\",IFERROR(VLOOKUP(M32,Tabelas!B:D,3,0),0),\"\")","v":0},{"$f":"IF(A32<>\"\",IFERROR(VLOOKUP(N32,Tabelas!B:D,3,0),0),\"\")","v":0},{"$f":"IF(A32<>\"\",IFERROR(VLOOKUP(O32,Tabelas!B:D,3,0),0),\"\")","v":0},{"$f":"IF(A32<>\"\",IFERROR(VLOOKUP(P32,Tabelas!B:D,3,0),0),\"\")","v":0},{"$f":"IF(A32<>\"\",IFERROR(VLOOKUP(Q32,Tabelas!B:D,3,0),0),\"\")","v":0},{"$f":"IF(A32<>\"\",IFERROR(VLOOKUP(R32,Tabelas!B:D,3,0),0),\"\")","v":0},{"$f":"IF(A32<>\"\",IFERROR(VLOOKUP(S32,Tabelas!B:D,3,0),0),\"\")","v":0},{"$f":"IF(A32<>\"\",IFERROR(VLOOKUP(T32,Tabelas!B:D,3,0),0),\"\")","v":0},{"$f":"IF(A32<>\"\",IFERROR(VLOOKUP(U32,Tabelas!B:D,3,0),0),\"\")","v":0},{"$f":"IF(A32<>\"\",IFERROR(VLOOKUP(V32,Tabelas!B:D,3,0),0),\"\")","v":0},{"$f":"IF(A32<>\"\",IFERROR(VLOOKUP(W32,Tabelas!B:D,3,0),0),\"\")","v":0},{"$f":"IF(A32<>\"\",IFERROR(VLOOKUP(X32,Tabelas!B:D,3,0),0),\"\")","v":0},{"$f":"IF(A32<>\"\",IFERROR(VLOOKUP(Y32,Tabelas!B:D,3,0),0),\"\")","v":0},{"$f":"IF(A32<>\"\",IFERROR(VLOOKUP(Z32,Tabelas!B:D,3,0),0),\"\")","v":0},{"$f":"IF(A32<>\"\",IFERROR(VLOOKUP(AA32,Tabelas!B:D,3,0),0),\"\")","v":12},{"$f":"IF(A32<>\"\",IFERROR(VLOOKUP(AB32,Tabelas!B:D,3,0),0),\"\")","v":0},{"$f":"IF(A32<>\"\",IFERROR(VLOOKUP(AC32,Tabelas!B:D,3,0),0),\"\")","v":0},{"$f":"IF(A32<>\"\",IFERROR(VLOOKUP(AD32,Tabelas!B:D,3,0),0),\"\")","v":0},{"$f":"IF(A32<>\"\",IFERROR(VLOOKUP(AE32,Tabelas!B:D,3,0),0),\"\")","v":0},{"$f":"IF(A32<>\"\",IFERROR(VLOOKUP(AF32,Tabelas!B:D,3,0),0),\"\")","v":0},{"$f":"IF(A32<>\"\",IFERROR(VLOOKUP(AG32,Tabelas!B:D,3,0),0),\"\")","v":24},{"$f":"IF(A32<>\"\",IFERROR(VLOOKUP(AH32,Tabelas!B:D,3,0),0),\"\")","v":0},{"$f":"IF(A32<>\"\",IFERROR(VLOOKUP(AI32,Tabelas!B:D,3,0),0),\"\")","v":0},{"$f":"IF(A32<>\"\",IFERROR(VLOOKUP(AJ32,Tabelas!B:D,3,0),0),\"\")","v":0},{"$f":"IF(A32<>\"\",IFERROR(VLOOKUP(AK32,Tabelas!B:D,3,0),0),\"\")","v":12},{"$f":"IF(A32<>\"\",IFERROR(VLOOKUP(AL32,Tabelas!B:D,3,0),0),\"\")","v":0},{"$f":"IF(A32<>\"\",IFERROR(VLOOKUP(AM32,Tabelas!B:D,3,0),0),\"\")","v":0},{"$f":"IF(A32<>\"\",IFERROR(VLOOKUP(AN32,Tabelas!B:D,3,0),0),\"\")","v":0},{"$f":"IF(A32<>\"\",IFERROR(VLOOKUP(AO32,Tabelas!B:D,3,0),0),\"\")","v":0},{"$f":"IF(A32<>\"\",IFERROR(VLOOKUP(AP32,Tabelas!B:D,3,0),0),\"\")","v":12},{"$f":"IF(A32<>\"\",IFERROR(VLOOKUP(AQ32,Tabelas!B:D,3,0),0),\"\")","v":0},{"$f":"IF(AND(A32<>\"\",E32=\"Ebserh\"),SUM(AR32:BV32)+COUNTIF(M32:AQ32,\"N*\")+COUNTIF(M32:AQ32,\"DN*\"),IF(AND(A32<>\"\",E32<>\"Ebserh\"),SUM(AR32:BV32),\"\"))","v":63},{"$f":"IF(A32<>\"\",COUNTIF(M32:AQ32,\"LM\")+COUNTIF(M32:AQ32,\"L\")+COUNTIF(M32:AQ32,\"LP\"),\"\")","v":0},{"$f":"IF(A32<>\"\",COUNTIF(M32:AQ32,\"AB*\"),\"\")","v":0},{"$f":"IF(A32<>\"\",COUNTIF(M32:AQ32,\"FE\"),\"\")","v":0},{"$f":"IF(A32<>\"\",COUNTIF(M32:AQ32,\"LC\"),\"\")","v":0},{"$f":"IF(A32<>\"\",COUNTIF(M32:AQ32,\"CH*\"),\"\")","v":3},{"$f":"IF(A32<>\"\",COUNTIF(M32:AQ32,\"AF1\")+COUNTIF(M32:AQ32,\"AF2\")+COUNTIF(M32:AQ32,\"AF3\")+COUNTIF(M32:AQ32,\"AF4\")+COUNTIF(M32:AQ32,\"AF5\")+COUNTIF(M32:AQ32,\"AF6\")+COUNTIF(M32:AQ32,\"AF7\")+COUNTIF(M32:AQ32,\"AF8\")+COUNTIF(M32:AQ32,\"AF9\")+COUNTIF(M32:AQ32,\"AF10\")+COUNTIF(M32:AQ32,\"AF11\")+COUNTIF(M32:AQ32,\"AF12\")+COUNTIF(M32:AQ32,\"AF13\")+COUNTIF(M32:AQ32,\"AF14\"),\"\")","v":0},{"$f":"IF(A32<>\"\",COUNTIF(M32:AQ32,\"CH*\")+COUNTIF(M32:AQ32,\"L\")+COUNTIF(M32:AQ32,\"LM\")+COUNTIF(M32:AQ32,\"LP\")+COUNTIF(M32:AQ32,\"LC\")+COUNTIF(M32:AQ32,\"AB*\")+COUNTIF(M32:AQ32,\"AF1\")+COUNTIF(M32:AQ32,\"AF2\")+COUNTIF(M32:AQ32,\"AF3\")+COUNTIF(M32:AQ32,\"AF4\")+COUNTIF(M32:AQ32,\"AF5\")+COUNTIF(M32:AQ32,\"AF6\")+COUNTIF(M32:AQ32,\"AF7\")+COUNTIF(M32:AQ32,\"AF8\")+COUNTIF(M32:AQ32,\"AF9\")+COUNTIF(M32:AQ32,\"AF10\")+COUNTIF(M32:AQ32,\"AF11\")+COUNTIF(M32:AQ32,\"AF12\")+COUNTIF(M32:AQ32,\"AF13\")+COUNTIF(M32:AQ32,\"AF14\")+COUNTIF(M32:AQ32,\"RC\")+COUNTIF(M32:AQ32,\"FO\")+COUNTIF(M32:AQ32,\"FE\"),\"\")","v":3}]
["Joel de Andrade",1160444,null,"ME","RJU",40,null,null,null,null,null,null,null,"N10",null,"D8",null,null,null,null,null,null,"D8",null,"N10",null,null,null,null,null,"N10",null,null,null,"N10",null,null,"N10",null,null,null,null,null,{"$f":"IF(A33<>\"\",IFERROR(VLOOKUP(M33,Tabelas!B:D,3,0),0),\"\")","v":0},{"$f":"IF(A33<>\"\",IFERROR(VLOOKUP(N33,Tabelas!B:D,3,0),0),\"\")","v":12},{"$f":"IF(A33<>\"\",IFERROR(VLOOKUP(O33,Tabelas!B:D,3,0),0),\"\")","v":0},{"$f":"IF(A33<>\"\",IFERROR(VLOOKUP(P33,Tabelas!B:D,3,0),0),\"\")","v":12},{"$f":"IF(A33<>\"\",IFERROR(VLOOKUP(Q33,Tabelas!B:D,3,0),0),\"\")","v":0},{"$f":"IF(A33<>\"\",IFERROR(VLOOKUP(R33,Tabelas!B:D,3,0),0),\"\")","v":0},{"$f":"IF(A33<>\"\",IFERROR(VLOOKUP(S33,Tabelas!B:D,3,0),0),\"\")","v":0},{"$f":"IF(A33<>\"\",IFERROR(VLOOKUP(T33,Tabelas!B:D,3,0),0),\"\")","v":0},{"$f":"IF(A33<>\"\",IFERROR(VLOOKUP(U33,Tabelas!B:D,3,0),0),\"\")","v":0},{"$f":"IF(A33<>\"\",IFERROR(VLOOKUP(V33,Tabelas!B:D,3,0),0),\"\")","v":0},{"$f":"IF(A33<>\"\",IFERROR(VLOOKUP(W33,Tabelas!B:D,3,0),0),\"\")","v":12},{"$f":"IF(A33<>\"\",IFERROR(VLOOKUP(X33,Tabelas!B:D,3,0),0),\"\")","v":0},{"$f":"IF(A33<>\"\",IFERROR(VLOOKUP(Y33,Tabelas!B:D,3,0),0),\"\")","v":12},{"$f":"IF(A33<>\"\",IFERROR(VLOOKUP(Z33,Tabelas!B:D,3,0),0),\"\")","v":0},{"$f":"IF(A33<>\"\",IFERROR(VLOOKUP(AA33,Tabelas!B:D,3,0),0),\"\")","v":0},{"$f":"IF(A33<>\"\",IFERROR(VLOOKUP(AB33,Tabelas!B:D,3,0),0),\"\")","v":0},{"$f":"IF(A33<>\"\",IFERROR(VLOOKUP(AC33,Tabelas!B:D,3,0),0),\"\")","v":0},{"$f":"IF(A33<>\"\",IFERROR(VLOOKUP(AD33,Tabelas!B:D,3,0),0),\"\")","v":0},{"$f":"IF(A33<>\"\",IFERROR(VLOOKUP(AE33,Tabelas!B:D,3,0),0),\"\")","v":12},{"$f":"IF(A33<>\"\",IFERROR(VLOOKUP(AF33,Tabelas!B:D,3,0),0),\"\")","v":0},{"$f":"IF(A33<>\"\",IFERROR(VLOOKUP(AG33,Tabelas!B:D,3,0),0),\"\")","v":0},{"$f":"IF(A33<>\"\",IFERROR(VLOOKUP(AH33,Tabelas!B:D,3,0),0),\"\")","v":0},{"$f":"IF(A33<>\"\",IFERROR(VLOOKUP(AI33,Tabelas!B:D,3,0),0),\"\")","v":12},{"$f":"IF(A33<>\"\",IFERROR(VLOOKUP(AJ33,Tabelas!B:D,3,0),0),\"\")","v":0},{"$f":"IF(A33<>\"\",IFERROR(VLOOKUP(AK33,Tabelas!B:D,3,0),0),\"\")","v":0},{"$f":"IF(A33<>\"\",IFERROR(VLOOKUP(AL33,Tabelas!B:D,3,0),0),\"\")","v":12},{"$f":"IF(A33<>\"\",IFERROR(VLOOKUP(AM33,Tabelas!B:D,3,0),0),\"\")","v":0},{"$f":"IF(A33<>\"\",IFERROR(VLOOKUP(AN33,Tabelas!B:D,3,0),0),\"\")","v":0},{"$f":"IF(A33<>\"\",IFERROR(VLOOKUP(AO33,Tabelas!B:D,3,0),0),\"\")","v":0},{"$f":"IF(A33<>\"\",IFERROR(VLOOKUP(AP33,Tabelas!B:D,3,0),0),\"\")","v":0},{"$f":"IF(A33<>\"\",IFERROR(VLOOKUP(AQ33,Tabelas!B:D,3,0),0),\"\")","v":0},84,0,0,0,0,0,0,0]
["Karine da Costa Damiani Cabral",2925603,null,"ME","EBSERH",24,null,null,null,null,null,null,null,null,null,null,null,null,null,null,null,null,null,null,null,null,null,"T17",null,"D8",null,"N10",null,null,null,null,null,null,null,null,"N10",null,null,{"$f":"IF(A34<>\"\",IFERROR(VLOOKUP(M34,Tabelas!B:D,3,0),0),\"\")","v":0},{"$f":"IF(A34<>\"\",IFERROR(VLOOKUP(N34,Tabelas!B:D,3,0),0),\"\")","v":0},{"$f":"IF(A34<>\"\",IFERROR(VLOOKUP(O34,Tabelas!B:D,3,0),0),\"\")","v":0},{"$f":"IF(A34<>\"\",IFERROR(VLOOKUP(P34,Tabelas!B:D,3,0),0),\"\")","v":0},{"$f":"IF(A34<>\"\",IFERROR(VLOOKUP(Q34,Tabelas!B:D,3,0),0),\"\")","v":0},{"$f":"IF(A34<>\"\",IFERROR(VLOOKUP(R34,Tabelas!B:D,3,0),0),\"\")","v":0},{"$f":"IF(A34<>\"\",IFERROR(VLOOKUP(S34,Tabelas!B:D,3,0),0),\"\")","v":0},{"$f":"IF(A34<>\"\",IFERROR(VLOOKUP(T34,Tabelas!B:D,3,0),0),\"\")","v":0},{"$f":"IF(A34<>\"\",IFERROR(VLOOKUP(U34,Tabelas!B:D,3,0),0),\"\")","v":0},{"$f":"IF(A34<>\"\",IFERROR(VLOOKUP(V34,Tabelas!B:D,3,0),0),\"\")","v":0},{"$f":"IF(A34<>\"\",IFERROR(VLOOKUP(W34,Tabelas!B:D,3,0),0),\"\")","v":0},{"$f":"IF(A34<>\"\",IFERROR(VLOOKUP(X34,Tabelas!B:D,3,0),0),\"\")","v":0},{"$f":"IF(A34<>\"\",IFERROR(VLOOKUP(Y34,Tabelas!B:D,3,0),0),\"\")","v":0},{"$f":"IF(A34<>\"\",IFERROR(VLOOKUP(Z34,Tabelas!B:D,3,0),0),\"\")","v":0},{"$f":"IF(A34<>\"\",IFERROR(VLOOKUP(AA34,Tabelas!B:D,3,0),0),\"\")","v":0},{"$f":"IF(A34<>\"\",IFERROR(VLOOKUP(AB34,Tabelas!B:D,3,0),0),\"\")","v":6},{"$f":"IF(A34<>\"\",IFERROR(VLOOKUP(AC34,Tabelas!B:D,3,0),0),\"\")","v":0},{"$f":"IF(A34<>\"\",IFERROR(VLOOKUP(AD34,Tabelas!B:D,3,0),0),\"\")","v":12},{"$f":"IF(A34<>\"\",IFERROR(VLOOKUP(AE34,Tabelas!B:D,3,0),0),\"\")","v":0},{"$f":"IF(A34<>\"\",IFERROR(VLOOKUP(AF34,Tabelas!B:D,3,0),0),\"\")","v":12},{"$f":"IF(A34<>\"\",IFERROR(VLOOKUP(AG34,Tabelas!B:D,3,0),0),\"\")","v":0},{"$f":"IF(A34<>\"\",IFERROR(VLOOKUP(AH34,Tabelas!B:D,3,0),0),\"\")","v":0},{"$f":"IF(A34<>\"\",IFERROR(VLOOKUP(AI34,Tabelas!B:D,3,0),0),\"\")","v":0},{"$f":"IF(A34<>\"\",IFERROR(VLOOKUP(AJ34,Tabelas!B:D,3,0),0),\"\")","v":0},{"$f":"IF(A34<>\"\",IFERROR(VLOOKUP(AK34,Tabelas!B:D,3,0),0),\"\")","v":0},{"$f":"IF(A34<>\"\",IFERROR(VLOOKUP(AL34,Tabelas!B:D,3,0),0),\"\")","v":0},{"$f":"IF(A34<>\"\",IFERROR(VLOOKUP(AM34,Tabelas!B:D,3,0),0),\"\")","v":0},{"$f":"IF(A34<>\"\",IFERROR(VLOOKUP(AN34,Tabelas!B:D,3,0),0),\"\")","v":0},{"$f":"IF(A34<>\"\",IFERROR(VLOOKUP(AO34,Tabelas!B:D,3,0),0),\"\")","v":12},{"$f":"IF(A34<>\"\",IFERROR(VLOOKUP(AP34,Tabelas!B:D,3,0),0),\"\")","v":0},{"$f":"IF(A34<>\"\",IFERROR(VLOOKUP(AQ34,Tabelas!B:D,3,0),0),\"\")","v":0},44,0,0,0,0,0,0,0]
["Pedro Luz da Rosa",2606805,null,"ME","RJU",20,null,null,null,null,null,null,null,"N10",null,null,null,null,null,null,null,null,"DN6",null,null,null,null,null,null,null,"DN6",null,null,null,"N10",null,null,null,null,null,null,"N10",null,{"$f":"IF(A35<>\"\",IFERROR(VLOOKUP(M35,Tabelas!B:D,3,0),0),\"\")","v":0},{"$f":"IF(A35<>\"\",IFERROR(VLOOKUP(N35,Tabelas!B:D,3,0),0),\"\")","v":12},{"$f":"IF(A35<>\"\",IFERROR(VLOOKUP(O35,Tabelas!B:D,3,0),0),\"\")","v":0},{"$f":"IF(A35<>\"\",IFERROR(VLOOKUP(P35,Tabelas!B:D,3,0),0),\"\")","v":0},{"$f":"IF(A35<>\"\",IFERROR(VLOOKUP(Q35,Tabelas!B:D,3,0),0),\"\")","v":0},{"$f":"IF(A35<>\"\",IFERROR(VLOOKUP(R35,Tabelas!B:D,3,0),0),\"\")","v":0},{"$f":"IF(A35<>\"\",IFERROR(VLOOKUP(S35,Tabelas!B:D,3,0),0),\"\")","v":0},{"$f":"IF(A35<>\"\",IFERROR(VLOOKUP(T35,Tabelas!B:D,3,0),0),\"\")","v":0},{"$f":"IF(A35<>\"\",IFERROR(VLOOKUP(U35,Tabelas!B:D,3,0),0),\"\")","v":0},{"$f":"IF(A35<>\"\",IFERROR(VLOOKUP(V35,Tabelas!B:D,3,0),0),\"\")","v":0},{"$f":"IF(A35<>\"\",IFERROR(VLOOKUP(W35,Tabelas!B:D,3,0),0),\"\")","v":24},{"$f":"IF(A35<>\"\",IFERROR(VLOOKUP(X35,Tabelas!B:D,3,0),0),\"\")","v":0},{"$f":"IF(A35<>\"\",IFERROR(VLOOKUP(Y35,Tabelas!B:D,3,0),0),\"\")","v":0},{"$f":"IF(A35<>\"\",IFERROR(VLOOKUP(Z35,Tabelas!B:D,3,0),0),\"\")","v":0},{"$f":"IF(A35<>\"\",IFERROR(VLOOKUP(AA35,Tabelas!B:D,3,0),0),\"\")","v":0},{"$f":"IF(A35<>\"\",IFERROR(VLOOKUP(AB35,Tabelas!B:D,3,0),0),\"\")","v":0},{"$f":"IF(A35<>\"\",IFERROR(VLOOKUP(AC35,Tabelas!B:D,3,0),0),\"\")","v":0},{"$f":"IF(A35<>\"\",IFERROR(VLOOKUP(AD35,Tabelas!B:D,3,0),0),\"\")","v":0},{"$f":"IF(A35<>\"\",IFERROR(VLOOKUP(AE35,Tabelas!B:D,3,0),0),\"\")","v":24},{"$f":"IF(A35<>\"\",IFERROR(VLOOKUP(AF35,Tabelas!B:D,3,0),0),\"\")","v":0},{"$f":"IF(A35<>\"\",IFERROR(VLOOKUP(AG35,Tabelas!B:D,3,0),0),\"\")","v":0},{"$f":"IF(A35<>\"\",IFERROR(VLOOKUP(AH35,Tabelas!B:D,3,0),0),\"\")","v":0},{"$f":"IF(A35<>\"\",IFERROR(VLOOKUP(AI35,Tabelas!B:D,3,0),0),\"\")","v":12},{"$f":"IF(A35<>\"\",IFERROR(VLOOKUP(AJ35,Tabelas!B:D,3,0),0),\"\")","v":0},{"$f":"IF(A35<>\"\",IFERROR(VLOOKUP(AK35,Tabelas!B:D,3,0),0),\"\")","v":0},{"$f":"IF(A35<>\"\",IFERROR(VLOOKUP(AL35,Tabelas!B:D,3,0),0),\"\")","v":0},{"$f":"IF(A35<>\"\",IFERROR(VLOOKUP(AM35,Tabelas!B:D,3,0),0),\"\")","v":0},{"$f":"IF(A35<>\"\",IFERROR(VLOOKUP(AN35,Tabelas!B:D,3,0),0),\"\")","v":0},{"$f":"IF(A35<>\"\",IFERROR(VLOOKUP(AO35,Tabelas!B:D,3,0),0),\"\")","v":0},{"$f":"IF(A35<>\"\",IFERROR(VLOOKUP(AP35,Tabelas!B:D,3,0),0),\"\")","v":12},{"$f":"IF(A35<>\"\",IFERROR(VLOOKUP(AQ35,Tabelas!B:D,3,0),0),\"\")","v":0},84,0,0,0,0,0,0,0]
["Robson Lima Ribeiro",3369679,null,"ME","RJU",20,null,null,null,null,null,null,null,null,null,null,"D8",null,null,"N10",null,null,null,"D8",null,null,null,null,null,"N10",null,"N10","N10",null,null,null,null,null,null,null,"N10",null,null,{"$f":"IF(A36<>\"\",IFERROR(VLOOKUP(M36,Tabelas!B:D,3,0),0),\"\")","v":0},{"$f":"IF(A36<>\"\",IFERROR(VLOOKUP(N36,Tabelas!B:D,3,0),0),\"\")","v":0},{"$f":"IF(A36<>\"\",IFERROR(VLOOKUP(O36,Tabelas!B:D,3,0),0),\"\")","v":0},{"$f":"IF(A36<>\"\",IFERROR(VLOOKUP(P36,Tabelas!B:D,3,0),0),\"\")","v":0},{"$f":"IF(A36<>\"\",IFERROR(VLOOKUP(Q36,Tabelas!B:D,3,0),0),\"\")","v":12},{"$f":"IF(A36<>\"\",IFERROR(VLOOKUP(R36,Tabelas!B:D,3,0),0),\"\")","v":0},{"$f":"IF(A36<>\"\",IFERROR(VLOOKUP(S36,Tabelas!B:D,3,0),0),\"\")","v":0},{"$f":"IF(A36<>\"\",IFERROR(VLOOKUP(T36,Tabelas!B:D,3,0),0),\"\")","v":12},{"$f":"IF(A36<>\"\",IFERROR(VLOOKUP(U36,Tabelas!B:D,3,0),0),\"\")","v":0},{"$f":"IF(A36<>\"\",IFERROR(VLOOKUP(V36,Tabelas!B:D,3,0),0),\"\")","v":0},{"$f":"IF(A36<>\"\",IFERROR(VLOOKUP(W36,Tabelas!B:D,3,0),0),\"\")","v":0},{"$f":"IF(A36<>\"\",IFERROR(VLOOKUP(X36,Tabelas!B:D,3,0),0),\"\")","v":12},{"$f":"IF(A36<>\"\",IFERROR(VLOOKUP(Y36,Tabelas!B:D,3,0),0),\"\")","v":0},{"$f":"IF(A36<>\"\",IFERROR(VLOOKUP(Z36,Tabelas!B:D,3,0),0),\"\")","v":0},{"$f":"IF(A36<>\"\",IFERROR(VLOOKUP(AA36,Tabelas!B:D,3,0),0),\"\")","v":0},{"$f":"IF(A36<>\"\",IFERROR(VLOOKUP(AB36,Tabelas!B:D,3,0),0),\"\")","v":0},{"$f":"IF(A36<>\"\",IFERROR(VLOOKUP(AC36,Tabelas!B:D,3,0),0),\"\")","v":0},{"$f":"IF(A36<>\"\",IFERROR(VLOOKUP(AD36,Tabelas!B:D,3,0),0),\"\")","v":12},{"$f":"IF(A36<>\"\",IFERROR(VLOOKUP(AE36,Tabelas!B:D,3,0),0),\"\")","v":0},{"$f":"IF(A36<>\"\",IFERROR(VLOOKUP(AF36,Tabelas!B:D,3,0),0),\"\")","v":12},{"$f":"IF(A36<>\"\",IFERROR(VLOOKUP(AG36,Tabelas!B:D,3,0),0),\"\")","v":12},{"$f":"IF(A36<>\"\",IFERROR(VLOOKUP(AH36,Tabelas!B:D,3,0),0),\"\")","v":0},{"$f":"IF(A36<>\"\",IFERROR(VLOOKUP(AI36,Tabelas!B:D,3,0),0),\"\")","v":0},{"$f":"IF(A36<>\"\",IFERROR(VLOOKUP(AJ36,Tabelas!B:D,3,0),0),\"\")","v":0},{"$f":"IF(A36<>\"\",IFERROR(VLOOKUP(AK36,Tabelas!B:D,3,0),0),\"\")","v":0},{"$f":"IF(A36<>\"\",IFERROR(VLOOKUP(AL36,Tabelas!B:D,3,0),0),\"\")","v":0},{"$f":"IF(A36<>\"\",IFERROR(VLOOKUP(AM36,Tabelas!B:D,3,0),0),\"\")","v":0},{"$f":"IF(A36<>\"\",IFERROR(VLOOKUP(AN36,Tabelas!B:D,3,0),0),\"\")","v":0},{"$f":"IF(A36<>\"\",IFERROR(VLOOKUP(AO36,Tabelas!B:D,3,0),0),\"\")","v":12},{"$f":"IF(A36<>\"\",IFERROR(VLOOKUP(AP36,Tabelas!B:D,3,0),0),\"\")","v":0},{"$f":"IF(A36<>\"\",IFERROR(VLOOKUP(AQ36,Tabelas!B:D,3,0),0),\"\")","v":0},84,0,0,0,0,0,0,0]
["Thales Roberto Schott da Silva",1160552,null,"ME","RJU",20,null,null,null,null,null,null,null,null,null,null,"N10",null,"N10",null,null,null,null,"N10",null,null,null,null,"N10",null,null,null,"D8",null,null,null,"D8",null,null,"N10",null,null,null,{"$f":"IF(A37<>\"\",IFERROR(VLOOKUP(M37,Tabelas!B:D,3,0),0),\"\")","v":0},{"$f":"IF(A37<>\"\",IFERROR(VLOOKUP(N37,Tabelas!B:D,3,0),0),\"\")","v":0},{"$f":"IF(A37<>\"\",IFERROR(VLOOKUP(O37,Tabelas!B:D,3,0),0),\"\")","v":0},{"$f":"IF(A37<>\"\",IFERROR(VLOOKUP(P37,Tabelas!B:D,3,0),0),\"\")","v":0},{"$f":"IF(A37<>\"\",IFERROR(VLOOKUP(Q37,Tabelas!B:D,3,0),0),\"\")","v":12},{"$f":"IF(A37<>\"\",IFERROR(VLOOKUP(R37,Tabelas!B:D,3,0),0),\"\")","v":0},{"$f":"IF(A37<>\"\",IFERROR(VLOOKUP(S37,Tabelas!B:D,3,0),0),\"\")","v":12},{"$f":"IF(A37<>\"\",IFERROR(VLOOKUP(T37,Tabelas!B:D,3,0),0),\"\")","v":0},{"$f":"IF(A37<>\"\",IFERROR(VLOOKUP(U37,Tabelas!B:D,3,0),0),\"\")","v":0},{"$f":"IF(A37<>\"\",IFERROR(VLOOKUP(V37,Tabelas!B:D,3,0),0),\"\")","v":0},{"$f":"IF(A37<>\"\",IFERROR(VLOOKUP(W37,Tabelas!B:D,3,0),0),\"\")","v":0},{"$f":"IF(A37<>\"\",IFERROR(VLOOKUP(X37,Tabelas!B:D,3,0),0),\"\")","v":12},{"$f":"IF(A37<>\"\",IFERROR(VLOOKUP(Y37,Tabelas!B:D,3,0),0),\"\")","v":0},{"$f":"IF(A37<>\"\",IFERROR(VLOOKUP(Z37,Tabelas!B:D,3,0),0),\"\")","v":0},{"$f":"IF(A37<>\"\",IFERROR(VLOOKUP(AA37,Tabelas!B:D,3,0),0),\"\")","v":0},{"$f":"IF(A37<>\"\",IFERROR(VLOOKUP(AB37,Tabelas!B:D,3,0),0),\"\")","v":0},{"$f":"IF(A37<>\"\",IFERROR(VLOOKUP(AC37,Tabelas!B:D,3,0),0),\"\")","v":12},{"$f":"IF(A37<>\"\",IFERROR(VLOOKUP(AD37,Tabelas!B:D,3,0),0),\"\")","v":0},{"$f":"IF(A37<>\"\",IFERROR(VLOOKUP(AE37,Tabelas!B:D,3,0),0),\"\")","v":0},{"$f":"IF(A37<>\"\",IFERROR(VLOOKUP(AF37,Tabelas!B:D,3,0),0),\"\")","v":0},{"$f":"IF(A37<>\"\",IFERROR(VLOOKUP(AG37,Tabelas!B:D,3,0),0),\"\")","v":12},{"$f":"IF(A37<>\"\",IFERROR(VLOOKUP(AH37,Tabelas!B:D,3,0),0),\"\")","v":0},{"$f":"IF(A37<>\"\",IFERROR(VLOOKUP(AI37,Tabelas!B:D,3,0),0),\"\")","v":0},{"$f":"IF(A37<>\"\",IFERROR(VLOOKUP(AJ37,Tabelas!B:D,3,0),0),\"\")","v":0},{"$f":"IF(A37<>\"\",IFERROR(VLOOKUP(AK37,Tabelas!B:D,3,0),0),\"\")","v":12},{"$f":"IF(A37<>\"\",IFERROR(VLOOKUP(AL37,Tabelas!B:D,3,0),0),\"\")","v":0},{"$f":"IF(A37<>\"\",IFERROR(VLOOKUP(AM37,Tabelas!B:D,3,0),0),\"\")","v":0},{"$f":"IF(A37<>\"\",IFERROR(VLOOKUP(AN37,Tabelas!B:D,3,0),0),\"\")","v":12},{"$f":"IF(A37<>\"\",IFERROR(VLOOKUP(AO37,Tabelas!B:D,3,0),0),\"\")","v":0},{"$f":"IF(A37<>\"\",IFERROR(VLOOKUP(AP37,Tabelas!B:D,3,0),0),\"\")","v":0},{"$f":"IF(A37<>\"\",IFERROR(VLOOKUP(AQ37,Tabelas!B:D,3,0),0),\"\")","v":0},84,0,0,0,0,0,0,0]
[null,null,null,null,null,null,null,null,null,null,null,null,null,null,null,null,null,null,null,null,null,null,null,null,null,null,null,null,null,null,null,null,null,null,null,null,null,null,null,null,null,null,null,{"$f":"IF(A38<>\"\",IFERROR(VLOOKUP(M38,Tabelas!B:D,3,0),0),\"\")","v":""},{"$f":"IF(A38<>\"\",IFERROR(VLOOKUP(N38,Tabelas!B:D,3,0),0),\"\")","v":""},{"$f":"IF(A38<>\"\",IFERROR(VLOOKUP(O38,Tabelas!B:D,3,0),0),\"\")","v":""},{"$f":"IF(A38<>\"\",IFERROR(VLOOKUP(P38,Tabelas!B:D,3,0),0),\"\")","v":""},{"$f":"IF(A38<>\"\",IFERROR(VLOOKUP(Q38,Tabelas!B:D,3,0),0),\"\")","v":""},{"$f":"IF(A38<>\"\",IFERROR(VLOOKUP(R38,Tabelas!B:D,3,0),0),\"\")","v":""},{"$f":"IF(A38<>\"\",IFERROR(VLOOKUP(S38,Tabelas!B:D,3,0),0),\"\")","v":""},{"$f":"IF(A38<>\"\",IFERROR(VLOOKUP(T38,Tabelas!B:D,3,0),0),\"\")","v":""},{"$f":"IF(A38<>\"\",IFERROR(VLOOKUP(U38,Tabelas!B:D,3,0),0),\"\")","v":""},{"$f":"IF(A38<>\"\",IFERROR(VLOOKUP(V38,Tabelas!B:D,3,0),0),\"\")","v":""},{"$f":"IF(A38<>\"\",IFERROR(VLOOKUP(W38,Tabelas!B:D,3,0),0),\"\")","v":""},{"$f":"IF(A38<>\"\",IFERROR(VLOOKUP(X38,Tabelas!B:D,3,0),0),\"\")","v":""},{"$f":"IF(A38<>\"\",IFERROR(VLOOKUP(Y38,Tabelas!B:D,3,0),0),\"\")","v":""},{"$f":"IF(A38<>\"\",IFERROR(VLOOKUP(Z38,Tabelas!B:D,3,0),0),\"\")","v":""},{"$f":"IF(A38<>\"\",IFERROR(VLOOKUP(AA38,Tabelas!B:D,3,0),0),\"\")","v":""},{"$f":"IF(A38<>\"\",IFERROR(VLOOKUP(AB38,Tabelas!B:D,3,0),0),\"\")","v":""},{"$f":"IF(A38<>\"\",IFERROR(VLOOKUP(AC38,Tabelas!B:D,3,0),0),\"\")","v":""},{"$f":"IF(A38<>\"\",IFERROR(VLOOKUP(AD38,Tabelas!B:D,3,0),0),\"\")","v":""},{"$f":"IF(A38<>\"\",IFERROR(VLOOKUP(AE38,Tabelas!B:D,3,0),0),\"\")","v":""},{"$f":"IF(A38<>\"\",IFERROR(VLOOKUP(AF38,Tabelas!B:D,3,0),0),\"\")","v":""},{"$f":"IF(A38<>\"\",IFERROR(VLOOKUP(AG38,Tabelas!B:D,3,0),0),\"\")","v":""},{"$f":"IF(A38<>\"\",IFERROR(VLOOKUP(AH38,Tabelas!B:D,3,0),0),\"\")","v":""},{"$f":"IF(A38<>\"\",IFERROR(VLOOKUP(AI38,Tabelas!B:D,3,0),0),\"\")","v":""},{"$f":"IF(A38<>\"\",IFERROR(VLOOKUP(AJ38,Tabelas!B:D,3,0),0),\"\")","v":""},{"$f":"IF(A38<>\"\",IFERROR(VLOOKUP(AK38,Tabelas!B:D,3,0),0),\"\")","v":""},{"$f":"IF(A38<>\"\",IFERROR(VLOOKUP(AL38,Tabelas!B:D,3,0),0),\"\")","v":""},{"$f":"IF(A38<>\"\",IFERROR(VLOOKUP(AM38,Tabelas!B:D,3,0),0),\"\")","v":""},{"$f":"IF(A38<>\"\",IFERROR(VLOOKUP(AN38,Tabelas!B:D,3,0),0),\"\")","v":""},{"$f":"IF(A38<>\"\",IFERROR(VLOOKUP(AO38,Tabelas!B:D,3,0),0),\"\")","v":""},{"$f":"IF(A38<>\"\",IFERROR(VLOOKUP(AP38,Tabelas!B:D,3,0),0),\"\")","v":""},{"$f":"IF(A38<>\"\",IFERROR(VLOOKUP(AQ38,Tabelas!B:D,3,0),0),\"\")","v":""},"","","","","","","",""]
["MÉDICO REFÊNCIA: "]
["Rafael Lisboa de Souza",2344070,null,"ME","RJU",30,null,null,null,null,null,null,null,null,null,null,null,null,null,null,null,null,null,null,null,null,null,null,null,null,null,null,null,null,null,null,null,null,null,null,null,null,null,{"$f":"IF(A40<>\"\",IFERROR(VLOOKUP(M40,Tabelas!B:D,3,0),0),\"\")","v":0},{"$f":"IF(A40<>\"\",IFERROR(VLOOKUP(N40,Tabelas!B:D,3,0),0),\"\")","v":0},{"$f":"IF(A40<>\"\",IFERROR(VLOOKUP(O40,Tabelas!B:D,3,0),0),\"\")","v":0},{"$f":"IF(A40<>\"\",IFERROR(VLOOKUP(P40,Tabelas!B:D,3,0),0),\"\")","v":0},{"$f":"IF(A40<>\"\",IFERROR(VLOOKUP(Q40,Tabelas!B:D,3,0),0),\"\")","v":0},{"$f":"IF(A40<>\"\",IFERROR(VLOOKUP(R40,Tabelas!B:D,3,0),0),\"\")","v":0},{"$f":"IF(A40<>\"\",IFERROR(VLOOKUP(S40,Tabelas!B:D,3,0),0),\"\")","v":0},{"$f":"IF(A40<>\"\",IFERROR(VLOOKUP(T40,Tabelas!B:D,3,0),0),\"\")","v":0},{"$f":"IF(A40<>\"\",IFERROR(VLOOKUP(U40,Tabelas!B:D,3,0),0),\"\")","v":0},{"$f":"IF(A40<>\"\",IFERROR(VLOOKUP(V40,Tabelas!B:D,3,0),0),\"\")","v":0},{"$f":"IF(A40<>\"\",IFERROR(VLOOKUP(W40,Tabelas!B:D,3,0),0),\"\")","v":0},{"$f":"IF(A40<>\"\",IFERROR(VLOOKUP(X40,Tabelas!B:D,3,0),0),\"\")","v":0},{"$f":"IF(A40<>\"\",IFERROR(VLOOKUP(Y40,Tabelas!B:D,3,0),0),\"\")","v":0},{"$f":"IF(A40<>\"\",IFERROR(VLOOKUP(Z40,Tabelas!B:D,3,0),0),\"\")","v":0},{"$f":"IF(A40<>\"\",IFERROR(VLOOKUP(AA40,Tabelas!B:D,3,0),0),\"\")","v":0},{"$f":"IF(A40<>\"\",IFERROR(VLOOKUP(AB40,Tabelas!B:D,3,0),0),\"\")","v":0},{"$f":"IF(A40<>\"\",IFERROR(VLOOKUP(AC40,Tabelas!B:D,3,0),0),\"\")","v":0},{"$f":"IF(A40<>\"\",IFERROR(VLOOKUP(AD40,Tabelas!B:D,3,0),0),\"\")","v":0},{"$f":"IF(A40<>\"\",IFERROR(VLOOKUP(AE40,Tabelas!B:D,3,0),0),\"\")","v":0},{"$f":"IF(A40<>\"\",IFERROR(VLOOKUP(AF40,Tabelas!B:D,3,0),0),\"\")","v":0},{"$f":"IF(A40<>\"\",IFERROR(VLOOKUP(AG40,Tabelas!B:D,3,0),0),\"\")","v":0},{"$f":"IF(A40<>\"\",IFERROR(VLOOKUP(AH40,Tabelas!B:D,3,0),0),\"\")","v":0},{"$f":"IF(A40<>\"\",IFERROR(VLOOKUP(AI40,Tabelas!B:D,3,0),0),\"\")","v":0},{"$f":"IF(A40<>\"\",IFERROR(VLOOKUP(AJ40,Tabelas!B:D,3,0),0),\"\")","v":0},{"$f":"IF(A40<>\"\",IFERROR(VLOOKUP(AK40,Tabelas!B:D,3,0),0),\"\")","v":0},{"$f":"IF(A40<>\"\",IFERROR(VLOOKUP(AL40,Tabelas!B:D,3,0),0),\"\")","v":0},{"$f":"IF(A40<>\"\",IFERROR(VLOOKUP(AM40,Tabelas!B:D,3,0),0),\"\")","v":0},{"$f":"IF(A40<>\"\",IFERROR(VLOOKUP(AN40,Tabelas!B:D,3,0),0),\"\")","v":0},{"$f":"IF(A40<>\"\",IFERROR(VLOOKUP(AO40,Tabelas!B:D,3,0),0),\"\")","v":0},{"$f":"IF(A40<>\"\",IFERROR(VLOOKUP(AP40,Tabelas!B:D,3,0),0),\"\")","v":0},{"$f":"IF(A40<>\"\",IFERROR(VLOOKUP(AQ40,Tabelas!B:D,3,0),0),\"\")","v":0},{"$f":"IF(AND(A40<>\"\",E40=\"Ebserh\"),SUM(AR40:BV40)+COUNTIF(M40:AQ40,\"N*\")+COUNTIF(M40:AQ40,\"DN*\"),IF(AND(A40<>\"\",E40<>\"Ebserh\"),SUM(AR40:BV40),\"\"))","v":0},{"$f":"IF(A40<>\"\",COUNTIF(M40:AQ40,\"LM\")+COUNTIF(M40:AQ40,\"L\")+COUNTIF(M40:AQ40,\"LP\"),\"\")","v":0},{"$f":"IF(A40<>\"\",COUNTIF(M40:AQ40,\"AB*\"),\"\")","v":0},{"$f":"IF(A40<>\"\",COUNTIF(M40:AQ40,\"FE\"),\"\")","v":0},{"$f":"IF(A40<>\"\",COUNTIF(M40:AQ40,\"LC\"),\"\")","v":0},{"$f":"IF(A40<>\"\",COUNTIF(M40:AQ40,\"CH*\"),\"\")","v":0},{"$f":"IF(A40<>\"\",COUNTIF(M40:AQ40,\"AF1\")+COUNTIF(M40:AQ40,\"AF2\")+COUNTIF(M40:AQ40,\"AF3\")+COUNTIF(M40:AQ40,\"AF4\")+COUNTIF(M40:AQ40,\"AF5\")+COUNTIF(M40:AQ40,\"AF6\")+COUNTIF(M40:AQ40,\"AF7\")+COUNTIF(M40:AQ40,\"AF8\")+COUNTIF(M40:AQ40,\"AF9\")+COUNTIF(M40:AQ40,\"AF10\")+COUNTIF(M40:AQ40,\"AF11\")+COUNTIF(M40:AQ40,\"AF12\")+COUNTIF(M40:AQ40,\"AF13\")+COUNTIF(M40:AQ40,\"AF14\"),\"\")","v":0},{"$f":"IF(A40<>\"\",COUNTIF(M40:AQ40,\"CH*\")+COUNTIF(M40:AQ40,\"L\")+COUNTIF(M40:AQ40,\"LM\")+COUNTIF(M40:AQ40,\"LP\")+COUNTIF(M40:AQ40,\"LC\")+COUNTIF(M40:AQ40,\"AB*\")+COUNTIF(M40:AQ40,\"AF1\")+COUNTIF(M40:AQ40,\"AF2\")+COUNTIF(M40:AQ40,\"AF3\")+COUNTIF(M40:AQ40,\"AF4\")+COUNTIF(M40:AQ40,\"AF5\")+COUNTIF(M40:AQ40,\"AF6\")+COUNTIF(M40:AQ40,\"AF7\")+COUNTIF(M40:AQ40,\"AF8\")+COUNTIF(M40:AQ40,\"AF9\")+COUNTIF(M40:AQ40,\"AF10\")+COUNTIF(M40:AQ40,\"AF11\")+COUNTIF(M40:AQ40,\"AF12\")+COUNTIF(M40:AQ40,\"AF13\")+COUNTIF(M40:AQ40,\"AF14\")+COUNTIF(M40:AQ40,\"RC\")+COUNTIF(M40:AQ40,\"FO\")+COUNTIF(M40:AQ40,\"FE\"),\"\")","v":0}]
[]
["Ingrid Catharine Costa de Sant Ana",1004451,null,"ME","EBSERH",24,null,null,null,null,null,null,null,"M17","M17",null,null,"M17","M17",null,"M17",null,null,null,"M17","M17",null,"M17","M17",null,null,"M17",null,null,"M17","M17",null,null,"M17","M17",null,"M17",null,{"$f":"IF(A42<>\"\",IFERROR(VLOOKUP(M42,Tabelas!B:D,3,0),0),\"\")","v":0},{"$f":"IF(A42<>\"\",IFERROR(VLOOKUP(Maio!M38,Tabelas!B:D,3,0),0),\"\")","v":0},{"$f":"IF(A42<>\"\",IFERROR(VLOOKUP(Maio!N38,Tabelas!B:D,3,0),0),\"\")","v":0},{"$f":"IF(A42<>\"\",IFERROR(VLOOKUP(Maio!O38,Tabelas!B:D,3,0),0),\"\")","v":0},{"$f":"IF(A42<>\"\",IFERROR(VLOOKUP(Maio!P38,Tabelas!B:D,3,0),0),\"\")","v":0},{"$f":"IF(A42<>\"\",IFERROR(VLOOKUP(Maio!Q38,Tabelas!B:D,3,0),0),\"\")","v":0},{"$f":"IF(A42<>\"\",IFERROR(VLOOKUP(Maio!R38,Tabelas!B:D,3,0),0),\"\")","v":0},{"$f":"IF(A42<>\"\",IFERROR(VLOOKUP(Maio!S38,Tabelas!B:D,3,0),0),\"\")","v":0},{"$f":"IF(A42<>\"\",IFERROR(VLOOKUP(Maio!T38,Tabelas!B:D,3,0),0),\"\")","v":0},{"$f":"IF(A42<>\"\",IFERROR(VLOOKUP(Maio!U38,Tabelas!B:D,3,0),0),\"\")","v":0},{"$f":"IF(A42<>\"\",IFERROR(VLOOKUP(Maio!V38,Tabelas!B:D,3,0),0),\"\")","v":0},{"$f":"IF(A42<>\"\",IFERROR(VLOOKUP(Maio!W38,Tabelas!B:D,3,0),0),\"\")","v":0},{"$f":"IF(A42<>\"\",IFERROR(VLOOKUP(Maio!X38,Tabelas!B:D,3,0),0),\"\")","v":0},{"$f":"IF(A42<>\"\",IFERROR(VLOOKUP(Maio!Y38,Tabelas!B:D,3,0),0),\"\")","v":0},{"$f":"IF(A42<>\"\",IFERROR(VLOOKUP(Maio!Z38,Tabelas!B:D,3,0),0),\"\")","v":0},{"$f":"IF(A42<>\"\",IFERROR(VLOOKUP(Maio!AA38,Tabelas!B:D,3,0),0),\"\")","v":0},{"$f":"IF(A42<>\"\",IFERROR(VLOOKUP(Maio!AB38,Tabelas!B:D,3,0),0),\"\")","v":0},{"$f":"IF(A42<>\"\",IFERROR(VLOOKUP(Maio!AC38,Tabelas!B:D,3,0),0),\"\")","v":0},{"$f":"IF(A42<>\"\",IFERROR(VLOOKUP(Maio!AD38,Tabelas!B:D,3,0),0),\"\")","v":0},{"$f":"IF(A42<>\"\",IFERROR(VLOOKUP(Maio!AE38,Tabelas!B:D,3,0),0),\"\")","v":0},{"$f":"IF(A42<>\"\",IFERROR(VLOOKUP(Maio!AF38,Tabelas!B:D,3,0),0),\"\")","v":0},{"$f":"IF(A42<>\"\",IFERROR(VLOOKUP(Maio!AG38,Tabelas!B:D,3,0),0),\"\")","v":0},{"$f":"IF(A42<>\"\",IFERROR(VLOOKUP(Maio!AH38,Tabelas!B:D,3,0),0),\"\")","v":0},{"$f":"IF(A42<>\"\",IFERROR(VLOOKUP(Maio!AI38,Tabelas!B:D,3,0),0),\"\")","v":0},{"$f":"IF(A42<>\"\",IFERROR(VLOOKUP(Maio!AJ38,Tabelas!B:D,3,0),0),\"\")","v":0},{"$f":"IF(A42<>\"\",IFERROR(VLOOKUP(Maio!AK38,Tabelas!B:D,3,0),0),\"\")","v":0},{"$f":"IF(A42<>\"\",IFERROR(VLOOKUP(Maio!AL38,Tabelas!B:D,3,0),0),\"\")","v":0},{"$f":"IF(A42<>\"\",IFERROR(VLOOKUP(Maio!AM38,Tabelas!B:D,3,0),0),\"\")","v":0},{"$f":"IF(A42<>\"\",IFERROR(VLOOKUP(Maio!AN38,Tabelas!B:D,3,0),0),\"\")","v":0},{"$f":"IF(A42<>\"\",IFERROR(VLOOKUP(Maio!AO38,Tabelas!B:D,3,0),0),\"\")","v":0},{"$f":"IF(A42<>\"\",IFERROR(VLOOKUP(AQ42,Tabelas!B:D,3,0),0),\"\")","v":0},{"$f":"IF(AND(A42<>\"\",E42=\"Ebserh\"),SUM(AR42:BV42)+COUNTIF(M42:AQ42,\"N*\")+COUNTIF(M42:AQ42,\"DN*\"),IF(AND(A42<>\"\",E42<>\"Ebserh\"),SUM(AR42:BV42),\"\"))","v":0},{"$f":"IF(A42<>\"\",COUNTIF(M42:AQ42,\"LM\")+COUNTIF(M42:AQ42,\"L\")+COUNTIF(M42:AQ42,\"LP\"),\"\")","v":0},{"$f":"IF(A42<>\"\",COUNTIF(M42:AQ42,\"AB*\"),\"\")","v":0},{"$f":"IF(A42<>\"\",COUNTIF(M42:AQ42,\"FE\"),\"\")","v":0},{"$f":"IF(A42<>\"\",COUNTIF(M42:AQ42,\"LC\"),\"\")","v":0},{"$f":"IF(A42<>\"\",COUNTIF(M42:AQ42,\"CH*\"),\"\")","v":0},{"$f":"IF(A42<>\"\",COUNTIF(M42:AQ42,\"AF1\")+COUNTIF(M42:AQ42,\"AF2\")+COUNTIF(M42:AQ42,\"AF3\")+COUNTIF(M42:AQ42,\"AF4\")+COUNTIF(M42:AQ42,\"AF5\")+COUNTIF(M42:AQ42,\"AF6\")+COUNTIF(M42:AQ42,\"AF7\")+COUNTIF(M42:AQ42,\"AF8\")+COUNTIF(M42:AQ42,\"AF9\")+COUNTIF(M42:AQ42,\"AF10\")+COUNTIF(M42:AQ42,\"AF11\")+COUNTIF(M42:AQ42,\"AF12\")+COUNTIF(M42:AQ42,\"AF13\")+COUNTIF(M42:AQ42,\"AF14\"),\"\")","v":0},{"$f":"IF(A42<>\"\",COUNTIF(M42:AQ42,\"CH*\")+COUNTIF(M42:AQ42,\"L\")+COUNTIF(M42:AQ42,\"LM\")+COUNTIF(M42:AQ42,\"LP\")+COUNTIF(M42:AQ42,\"LC\")+COUNTIF(M42:AQ42,\"AB*\")+COUNTIF(M42:AQ42,\"AF1\")+COUNTIF(M42:AQ42,\"AF2\")+COUNTIF(M42:AQ42,\"AF3\")+COUNTIF(M42:AQ42,\"AF4\")+COUNTIF(M42:AQ42,\"AF5\")+COUNTIF(M42:AQ42,\"AF6\")+COUNTIF(M42:AQ42,\"AF7\")+COUNTIF(M42:AQ42,\"AF8\")+COUNTIF(M42:AQ42,\"AF9\")+COUNTIF(M42:AQ42,\"AF10\")+COUNTIF(M42:AQ42,\"AF11\")+COUNTIF(M42:AQ42,\"AF12\")+COUNTIF(M42:AQ42,\"AF13\")+COUNTIF(M42:AQ42,\"AF14\")+COUNTIF(M42:AQ42,\"RC\")+COUNTIF(M42:AQ42,\"FO\")+COUNTIF(M42:AQ42,\"FE\"),\"\")","v":0}]
["Elizabeth Kristiane Buss Lunardelli",3760219,null,"ME","RJU",30,null,null,null,null,null,null,"FE","FE","FE","FE","FE","FE","FE","FE","FE","FE","FE","FE","FE","FE","FE","FE","FE","FE","FE","FE","FE","FE","FE","FE","FE","FE","FE","FE","FE","FE",null,{"$f":"IF(A18<>\"\",IFERROR(VLOOKUP(M43,Tabelas!B:D,3,0),0),\"\")","v":0},{"$f":"IF(A18<>\"\",IFERROR(VLOOKUP(N43,Tabelas!B:D,3,0),0),\"\")","v":0},{"$f":"IF(A18<>\"\",IFERROR(VLOOKUP(O43,Tabelas!B:D,3,0),0),\"\")","v":0},{"$f":"IF(A18<>\"\",IFERROR(VLOOKUP(P43,Tabelas!B:D,3,0),0),\"\")","v":0},{"$f":"IF(A18<>\"\",IFERROR(VLOOKUP(Q43,Tabelas!B:D,3,0),0),\"\")","v":0},{"$f":"IF(A18<>\"\",IFERROR(VLOOKUP(R43,Tabelas!B:D,3,0),0),\"\")","v":0},{"$f":"IF(A18<>\"\",IFERROR(VLOOKUP(S43,Tabelas!B:D,3,0),0),\"\")","v":0},{"$f":"IF(A18<>\"\",IFERROR(VLOOKUP(T43,Tabelas!B:D,3,0),0),\"\")","v":0},{"$f":"IF(A18<>\"\",IFERROR(VLOOKUP(U43,Tabelas!B:D,3,0),0),\"\")","v":0},{"$f":"IF(A18<>\"\",IFERROR(VLOOKUP(V43,Tabelas!B:D,3,0),0),\"\")","v":0},{"$f":"IF(A18<>\"\",IFERROR(VLOOKUP(W43,Tabelas!B:D,3,0),0),\"\")","v":0},{"$f":"IF(A18<>\"\",IFERROR(VLOOKUP(X43,Tabelas!B:D,3,0),0),\"\")","v":0},{"$f":"IF(A18<>\"\",IFERROR(VLOOKUP(Y43,Tabelas!B:D,3,0),0),\"\")","v":0},{"$f":"IF(A18<>\"\",IFERROR(VLOOKUP(Z43,Tabelas!B:D,3,0),0),\"\")","v":0},{"$f":"IF(A18<>\"\",IFERROR(VLOOKUP(AA43,Tabelas!B:D,3,0),0),\"\")","v":0},{"$f":"IF(A18<>\"\",IFERROR(VLOOKUP(AB43,Tabelas!B:D,3,0),0),\"\")","v":0},{"$f":"IF(A18<>\"\",IFERROR(VLOOKUP(AC43,Tabelas!B:D,3,0),0),\"\")","v":0},{"$f":"IF(A18<>\"\",IFERROR(VLOOKUP(AD43,Tabelas!B:D,3,0),0),\"\")","v":0},{"$f":"IF(A18<>\"\",IFERROR(VLOOKUP(AE43,Tabelas!B:D,3,0),0),\"\")","v":0},{"$f":"IF(A18<>\"\",IFERROR(VLOOKUP(AF43,Tabelas!B:D,3,0),0),\"\")","v":0},{"$f":"IF(A18<>\"\",IFERROR(VLOOKUP(AG43,Tabelas!B:D,3,0),0),\"\")","v":0},{"$f":"IF(A18<>\"\",IFERROR(VLOOKUP(AH43,Tabelas!B:D,3,0),0),\"\")","v":0},{"$f":"IF(A18<>\"\",IFERROR(VLOOKUP(AI43,Tabelas!B:D,3,0),0),\"\")","v":0},{"$f":"IF(A18<>\"\",IFERROR(VLOOKUP(AJ43,Tabelas!B:D,3,0),0),\"\")","v":0},{"$f":"IF(A18<>\"\",IFERROR(VLOOKUP(AK43,Tabelas!B:D,3,0),0),\"\")","v":0},{"$f":"IF(A18<>\"\",IFERROR(VLOOKUP(AL43,Tabelas!B:D,3,0),0),\"\")","v":0},{"$f":"IF(A18<>\"\",IFERROR(VLOOKUP(AM43,Tabelas!B:D,3,0),0),\"\")","v":0},{"$f":"IF(A18<>\"\",IFERROR(VLOOKUP(AN43,Tabelas!B:D,3,0),0),\"\")","v":0},{"$f":"IF(A18<>\"\",IFERROR(VLOOKUP(AO43,Tabelas!B:D,3,0),0),\"\")","v":0},{"$f":"IF(A18<>\"\",IFERROR(VLOOKUP(AP43,Tabelas!B:D,3,0),0),\"\")","v":0},{"$f":"IF(A18<>\"\",IFERROR(VLOOKUP(AQ43,Tabelas!B:D,3,0),0),\"\")","v":0},{"$f":"IF(AND(A18<>\"\",E18=\"Ebserh\"),SUM(AR43:BV43)+COUNTIF(M43:AQ43,\"N*\")+COUNTIF(M43:AQ43,\"DN*\"),IF(AND(A18<>\"\",E18<>\"Ebserh\"),SUM(AR43:BV43),\"\"))","v":0},{"$f":"IF(A18<>\"\",COUNTIF(M43:AQ43,\"LM\")+COUNTIF(M43:AQ43,\"L\")+COUNTIF(M43:AQ43,\"LP\"),\"\")","v":0},{"$f":"IF(A18<>\"\",COUNTIF(M43:AQ43,\"AB*\"),\"\")","v":0},{"$f":"IF(A18<>\"\",COUNTIF(M43:AQ43,\"FE\"),\"\")","v":30},{"$f":"IF(A18<>\"\",COUNTIF(M43:AQ43,\"LC\"),\"\")","v":0},{"$f":"IF(A18<>\"\",COUNTIF(M43:AQ43,\"CH*\"),\"\")","v":0},{"$f":"IF(A18<>\"\",COUNTIF(M43:AQ43,\"AF1\")+COUNTIF(M43:AQ43,\"AF2\")+COUNTIF(M43:AQ43,\"AF3\")+COUNTIF(M43:AQ43,\"AF4\")+COUNTIF(M43:AQ43,\"AF5\")+COUNTIF(M43:AQ43,\"AF6\")+COUNTIF(M43:AQ43,\"AF7\")+COUNTIF(M43:AQ43,\"AF8\")+COUNTIF(M43:AQ43,\"AF9\")+COUNTIF(M43:AQ43,\"AF10\")+COUNTIF(M43:AQ43,\"AF11\")+COUNTIF(M43:AQ43,\"AF12\")+COUNTIF(M43:AQ43,\"AF13\")+COUNTIF(M43:AQ43,\"AF14\"),\"\")","v":0},{"$f":"IF(A18<>\"\",COUNTIF(M43:AQ43,\"CH*\")+COUNTIF(M43:AQ43,\"L\")+COUNTIF(M43:AQ43,\"LM\")+COUNTIF(M43:AQ43,\"LP\")+COUNTIF(M43:AQ43,\"LC\")+COUNTIF(M43:AQ43,\"AB*\")+COUNTIF(M43:AQ43,\"AF1\")+COUNTIF(M43:AQ43,\"AF2\")+COUNTIF(M43:AQ43,\"AF3\")+COUNTIF(M43:AQ43,\"AF4\")+COUNTIF(M43:AQ43,\"AF5\")+COUNTIF(M43:AQ43,\"AF6\")+COUNTIF(M43:AQ43,\"AF7\")+COUNTIF(M43:AQ43,\"AF8\")+COUNTIF(M43:AQ43,\"AF9\")+COUNTIF(M43:AQ43,\"AF10\")+COUNTIF(M43:AQ43,\"AF11\")+COUNTIF(M43:AQ43,\"AF12\")+COUNTIF(M43:AQ43,\"AF13\")+COUNTIF(M43:AQ43,\"AF14\")+COUNTIF(M43:AQ43,\"RC\")+COUNTIF(M43:AQ43,\"FO\")+COUNTIF(M43:AQ43,\"FE\"),\"\")","v":30}]
["TOTAL PROFISSIONAIS MATUTINO",null,null,null,null,null,null,null,null,null,null,null,{"$f":"IF(COUNTIF(M9:M43,\"M*\")+ COUNTIF(M9:M43, \"D*\")-COUNTIF(M9:M43,\"DSR\")<>0,COUNTIF(M9:M43,\"M*\")+ COUNTIF(M9:M43, \"D*\")-COUNTIF(M9:M43,\"DSR\"),\"\")","v":4},5,5,3,3,5,5,4,5,3,3,3,4,5,4,5,5,4,4,5,3,4,5,5,3,3,5,5,4,5,"",null,null,null,null,null,null,null,null,null,null,null,null,null,null,null,null,null,null,null,null,null,null,null,null,null,null,null,null,null,null,null,{"$f":"SUM(BW9:BW43)","v":{"$error":"#REF!"}},{"$error":"#REF!"},{"$error":"#REF!"},{"$error":"#REF!"},{"$error":"#REF!"},{"$error":"#REF!"},{"$error":"#REF!"},{"$error":"#REF!"}]
["TOTAL DE PROFISSIONAIS VESPERTINO",null,null,null,null,null,null,null,null,null,null,null,{"$f":"IF(COUNTIF(M9:M43,\"MT*\") + COUNTIF(M9:M43, \"D*\") + COUNTIF(M9:M43,\"T*\")-COUNTIF(M9:M43,\"DSR\")<>0,COUNTIF(M9:M43,\"MT*\") + COUNTIF(M9:M43, \"D*\") + COUNTIF(M9:M43,\"T*\")-COUNTIF(M9:M43,\"DSR\"),\"\")","v":4},4,3,3,2,4,4,4,3,2,3,2,4,3,4,6,3,3,4,3,3,3,4,3,3,2,4,4,4,4,"",{"$f":"IF(A45<>\"\",IFERROR(VLOOKUP(M45,Tabelas!B:D,3,0),0),\"\")","v":0},{"$f":"IF(A45<>\"\",IFERROR(VLOOKUP(N45,Tabelas!B:D,3,0),0),\"\")","v":0},{"$f":"IF(A45<>\"\",IFERROR(VLOOKUP(O45,Tabelas!B:D,3,0),0),\"\")","v":0},{"$f":"IF(A45<>\"\",IFERROR(VLOOKUP(P45,Tabelas!B:D,3,0),0),\"\")","v":0},{"$f":"IF(A45<>\"\",IFERROR(VLOOKUP(Q45,Tabelas!B:D,3,0),0),\"\")","v":0},{"$f":"IF(A45<>\"\",IFERROR(VLOOKUP(R45,Tabelas!B:D,3,0),0),\"\")","v":0},{"$f":"IF(A45<>\"\",IFERROR(VLOOKUP(S45,Tabelas!B:D,3,0),0),\"\")","v":0},{"$f":"IF(A45<>\"\",IFERROR(VLOOKUP(T45,Tabelas!B:D,3,0),0),\"\")","v":0},{"$f":"IF(A45<>\"\",IFERROR(VLOOKUP(U45,Tabelas!B:D,3,0),0),\"\")","v":0},{"$f":"IF(A45<>\"\",IFERROR(VLOOKUP(V45,Tabelas!B:D,3,0),0),\"\")","v":0},{"$f":"IF(A45<>\"\",IFERROR(VLOOKUP(W45,Tabelas!B:D,3,0),0),\"\")","v":0},{"$f":"IF(A45<>\"\",IFERROR(VLOOKUP(X45,Tabelas!B:D,3,0),0),\"\")","v":0},{"$f":"IF(A45<>\"\",IFERROR(VLOOKUP(Y45,Tabelas!B:D,3,0),0),\"\")","v":0},{"$f":"IF(A45<>\"\",IFERROR(VLOOKUP(Z45,Tabelas!B:D,3,0),0),\"\")","v":0},{"$f":"IF(A45<>\"\",IFERROR(VLOOKUP(AA45,Tabelas!B:D,3,0),0),\"\")","v":0},{"$f":"IF(A45<>\"\",IFERROR(VLOOKUP(AB45,Tabelas!B:D,3,0),0),\"\")","v":0},{"$f":"IF(A45<>\"\",IFERROR(VLOOKUP(AC45,Tabelas!B:D,3,0),0),\"\")","v":0},{"$f":"IF(A45<>\"\",IFERROR(VLOOKUP(AD45,Tabelas!B:D,3,0),0),\"\")","v":0},{"$f":"IF(A45<>\"\",IFERROR(VLOOKUP(AE45,Tabelas!B:D,3,0),0),\"\")","v":0},{"$f":"IF(A45<>\"\",IFERROR(VLOOKUP(AF45,Tabelas!B:D,3,0),0),\"\")","v":0},{"$f":"IF(A45<>\"\",IFERROR(VLOOKUP(AG45,Tabelas!B:D,3,0),0),\"\")","v":0},{"$f":"IF(A45<>\"\",IFERROR(VLOOKUP(AH45,Tabelas!B:D,3,0),0),\"\")","v":0},{"$f":"IF(A45<>\"\",IFERROR(VLOOKUP(AI45,Tabelas!B:D,3,0),0),\"\")","v":0},{"$f":"IF(A45<>\"\",IFERROR(VLOOKUP(AJ45,Tabelas!B:D,3,0),0),\"\")","v":0},{"$f":"IF(A45<>\"\",IFERROR(VLOOKUP(AK45,Tabelas!B:D,3,0),0),\"\")","v":0},{"$f":"IF(A45<>\"\",IFERROR(VLOOKUP(AL45,Tabelas!B:D,3,0),0),\"\")","v":0},{"$f":"IF(A45<>\"\",IFERROR(VLOOKUP(AM45,Tabelas!B:D,3,0),0),\"\")","v":0},{"$f":"IF(A45<>\"\",IFERROR(VLOOKUP(AN45,Tabelas!B:D,3,0),0),\"\")","v":0},{"$f":"IF(A45<>\"\",IFERROR(VLOOKUP(AO45,Tabelas!B:D,3,0),0),\"\")","v":0},{"$f":"IF(A45<>\"\",IFERROR(VLOOKUP(AP45,Tabelas!B:D,3,0),0),\"\")","v":0},{"$f":"IF(A45<>\"\",IFERROR(VLOOKUP(AQ45,Tabelas!B:D,3,0),0),\"\")","v":0}]
["TOTAL DE PROFISSIONAIS NOTURNO",null,null,null,null,null,null,null,null,null,null,null,{"$f":"IF(COUNTIF(M9:M45,\"N?*\") + COUNTIF(M9:M45, \"DN*\")<>0,COUNTIF(M9:M45,\"N?*\") + COUNTIF(M9:M45, \"DN*\"),\"\")","v":2},2,2,2,2,2,2,2,2,2,2,2,2,2,3,2,2,2,2,3,2,3,2,2,2,3,3,3,3,2,"",{"$f":"IF(A46<>\"\",IFERROR(VLOOKUP(M46,Tabelas!B:D,3,0),0),\"\")","v":0},{"$f":"IF(A46<>\"\",IFERROR(VLOOKUP(N46,Tabelas!B:D,3,0),0),\"\")","v":0},{"$f":"IF(A46<>\"\",IFERROR(VLOOKUP(O46,Tabelas!B:D,3,0),0),\"\")","v":0},{"$f":"IF(A46<>\"\",IFERROR(VLOOKUP(P46,Tabelas!B:D,3,0),0),\"\")","v":0},{"$f":"IF(A46<>\"\",IFERROR(VLOOKUP(Q46,Tabelas!B:D,3,0),0),\"\")","v":0},{"$f":"IF(A46<>\"\",IFERROR(VLOOKUP(R46,Tabelas!B:D,3,0),0),\"\")","v":0},{"$f":"IF(A46<>\"\",IFERROR(VLOOKUP(S46,Tabelas!B:D,3,0),0),\"\")","v":0},{"$f":"IF(A46<>\"\",IFERROR(VLOOKUP(T46,Tabelas!B:D,3,0),0),\"\")","v":0},{"$f":"IF(A46<>\"\",IFERROR(VLOOKUP(U46,Tabelas!B:D,3,0),0),\"\")","v":0},{"$f":"IF(A46<>\"\",IFERROR(VLOOKUP(V46,Tabelas!B:D,3,0),0),\"\")","v":0},{"$f":"IF(A46<>\"\",IFERROR(VLOOKUP(W46,Tabelas!B:D,3,0),0),\"\")","v":0},{"$f":"IF(A46<>\"\",IFERROR(VLOOKUP(X46,Tabelas!B:D,3,0),0),\"\")","v":0},{"$f":"IF(A46<>\"\",IFERROR(VLOOKUP(Y46,Tabelas!B:D,3,0),0),\"\")","v":0},{"$f":"IF(A46<>\"\",IFERROR(VLOOKUP(Z46,Tabelas!B:D,3,0),0),\"\")","v":0},{"$f":"IF(A46<>\"\",IFERROR(VLOOKUP(AA46,Tabelas!B:D,3,0),0),\"\")","v":0},{"$f":"IF(A46<>\"\",IFERROR(VLOOKUP(AB46,Tabelas!B:D,3,0),0),\"\")","v":0},{"$f":"IF(A46<>\"\",IFERROR(VLOOKUP(AC46,Tabelas!B:D,3,0),0),\"\")","v":0},{"$f":"IF(A46<>\"\",IFERROR(VLOOKUP(AD46,Tabelas!B:D,3,0),0),\"\")","v":0},{"$f":"IF(A46<>\"\",IFERROR(VLOOKUP(AE46,Tabelas!B:D,3,0),0),\"\")","v":0},{"$f":"IF(A46<>\"\",IFERROR(VLOOKUP(AF46,Tabelas!B:D,3,0),0),\"\")","v":0},{"$f":"IF(A46<>\"\",IFERROR(VLOOKUP(AG46,Tabelas!B:D,3,0),0),\"\")","v":0},{"$f":"IF(A46<>\"\",IFERROR(VLOOKUP(AH46,Tabelas!B:D,3,0),0),\"\")","v":0},{"$f":"IF(A46<>\"\",IFERROR(VLOOKUP(AI46,Tabelas!B:D,3,0),0),\"\")","v":0},{"$f":"IF(A46<>\"\",IFERROR(VLOOKUP(AJ46,Tabelas!B:D,3,0),0),\"\")","v":0},{"$f":"IF(A46<>\"\",IFERROR(VLOOKUP(AK46,Tabelas!B:D,3,0),0),\"\")","v":0},{"$f":"IF(A46<>\"\",IFERROR(VLOOKUP(AL46,Tabelas!B:D,3,0),0),\"\")","v":0},{"$f":"IF(A46<>\"\",IFERROR(VLOOKUP(AM46,Tabelas!B:D,3,0),0),\"\")","v":0},{"$f":"IF(A46<>\"\",IFERROR(VLOOKUP(AN46,Tabelas!B:D,3,0),0),\"\")","v":0},{"$f":"IF(A46<>\"\",IFERROR(VLOOKUP(AO46,Tabelas!B:D,3,0),0),\"\")","v":0},{"$f":"IF(A46<>\"\",IFERROR(VLOOKUP(AP46,Tabelas!B:D,3,0),0),\"\")","v":0},{"$f":"IF(A46<>\"\",IFERROR(VLOOKUP(AQ46,Tabelas!B:D,3,0),0),\"\")","v":0}]
[null,null,null,null,null,null,null,null,null,null,null,null,null,null,null,null,null,null,null,null,null,null,null,null,null,null,null,null,null,null,null,null,null,null,null,null,null,null,null,null,null,null,null,{"$f":"IF(A47<>\"\",IFERROR(VLOOKUP(M47,Tabelas!B:D,3,0),0),\"\")","v":""},{"$f":"IF(A47<>\"\",IFERROR(VLOOKUP(N47,Tabelas!B:D,3,0),0),\"\")","v":""},{"$f":"IF(A47<>\"\",IFERROR(VLOOKUP(O47,Tabelas!B:D,3,0),0),\"\")","v":""},{"$f":"IF(A47<>\"\",IFERROR(VLOOKUP(P47,Tabelas!B:D,3,0),0),\"\")","v":""},{"$f":"IF(A47<>\"\",IFERROR(VLOOKUP(Q47,Tabelas!B:D,3,0),0),\"\")","v":""},{"$f":"IF(A47<>\"\",IFERROR(VLOOKUP(R47,Tabelas!B:D,3,0),0),\"\")","v":""},{"$f":"IF(A47<>\"\",IFERROR(VLOOKUP(S47,Tabelas!B:D,3,0),0),\"\")","v":""},{"$f":"IF(A47<>\"\",IFERROR(VLOOKUP(T47,Tabelas!B:D,3,0),0),\"\")","v":""},{"$f":"IF(A47<>\"\",IFERROR(VLOOKUP(U47,Tabelas!B:D,3,0),0),\"\")","v":""},{"$f":"IF(A47<>\"\",IFERROR(VLOOKUP(V47,Tabelas!B:D,3,0),0),\"\")","v":""},{"$f":"IF(A47<>\"\",IFERROR(VLOOKUP(W47,Tabelas!B:D,3,0),0),\"\")","v":""},{"$f":"IF(A47<>\"\",IFERROR(VLOOKUP(X47,Tabelas!B:D,3,0),0),\"\")","v":""},{"$f":"IF(A47<>\"\",IFERROR(VLOOKUP(Y47,Tabelas!B:D,3,0),0),\"\")","v":""},{"$f":"IF(A47<>\"\",IFERROR(VLOOKUP(Z47,Tabelas!B:D,3,0),0),\"\")","v":""},{"$f":"IF(A47<>\"\",IFERROR(VLOOKUP(AA47,Tabelas!B:D,3,0),0),\"\")","v":""},{"$f":"IF(A47<>\"\",IFERROR(VLOOKUP(AB47,Tabelas!B:D,3,0),0),\"\")","v":""},{"$f":"IF(A47<>\"\",IFERROR(VLOOKUP(AC47,Tabelas!B:D,3,0),0),\"\")","v":""},{"$f":"IF(A47<>\"\",IFERROR(VLOOKUP(AD47,Tabelas!B:D,3,0),0),\"\")","v":""},{"$f":"IF(A47<>\"\",IFERROR(VLOOKUP(AE47,Tabelas!B:D,3,0),0),\"\")","v":""},{"$f":"IF(A47<>\"\",IFERROR(VLOOKUP(AF47,Tabelas!B:D,3,0),0),\"\")","v":""},{"$f":"IF(A47<>\"\",IFERROR(VLOOKUP(AG47,Tabelas!B:D,3,0),0),\"\")","v":""},{"$f":"IF(A47<>\"\",IFERROR(VLOOKUP(AH47,Tabelas!B:D,3,0),0),\"\")","v":""},{"$f":"IF(A47<>\"\",IFERROR(VLOOKUP(AI47,Tabelas!B:D,3,0),0),\"\")","v":""},{"$f":"IF(A47<>\"\",IFERROR(VLOOKUP(AJ47,Tabelas!B:D,3,0),0),\"\")","v":""},{"$f":"IF(A47<>\"\",IFERROR(VLOOKUP(AK47,Tabelas!B:D,3,0),0),\"\")","v":""},{"$f":"IF(A47<>\"\",IFERROR(VLOOKUP(AL47,Tabelas!B:D,3,0),0),\"\")","v":""},{"$f":"IF(A47<>\"\",IFERROR(VLOOKUP(AM47,Tabelas!B:D,3,0),0),\"\")","v":""},{"$f":"IF(A47<>\"\",IFERROR(VLOOKUP(AN47,Tabelas!B:D,3,0),0),\"\")","v":""},{"$f":"IF(A47<>\"\",IFERROR(VLOOKUP(AO47,Tabelas!B:D,3,0),0),\"\")","v":""},{"$f":"IF(A47<>\"\",IFERROR(VLOOKUP(AP47,Tabelas!B:D,3,0),0),\"\")","v":""},{"$f":"IF(A47<>\"\",IFERROR(VLOOKUP(AQ47,Tabelas!B:D,3,0),0),\"\")","v":""}]
["Legenda:"]
["Licença Maternidade","LM","Férias",null,null,null,null,null,null,"FE",null,"Ponto Facultativo",null,null,null,null,null,null,null,"PF","Manhã *",null,null,null,null,null,null,"M","Diurno (8 hrs) *",null,null,null,null,null,null,"MT"]
["Licença Paternidade","LP","Feriado",null,null,null,null,null,null,"FD",null,"Abono **",null,null,null,null,null,null,null,"AB","Tarde *",null,null,null,null,null,null,"T","Dia/ noite (24 hrs) *",null,null,null,null,null,null,"DN"]
["Licença Médica/Odontológica","L","Descanso Semanal Remunerado",null,null,null,null,null,null,"DSR",null,"Compensação de Horas***",null,null,null,null,null,null,null,"CH","Plantão Dia (12 hrs) *",null,null,null,null,null,null,"D"]
["Licença Capacitação","LC","Recesso",null,null,null,null,null,null,"RC",null,"Afastamento**",null,null,null,null,null,null,null,"AF","Plantão Noite (12 hrs) *",null,null,null,null,null,null,"N"]
[]
["OBSERVAÇÕES:"]
["* Para inserção das legendas referentes às jornadas de trabalho, verificar a Tabela 1 do Anexo do Memorando-Circular - SEI nº   25 /2018/CAP/DGP-EBSERH."]
["** Para inserção das legendas referentes aos Afastamentos previstos em lei e às Compensações de horas, verificar a Tabela 2 do Anexo do Memorando-Circular - SEI nº   25 /2018/CAP/DGP-EBSERH."]

{"sheet":"Maio","index":4,"n_rows":56,"n_cols":82,"rows_kept":56,"cut":false,"hidden":false,"merged":[[48,20,48,26],[49,2,49,8],[49,9,49,10],[49,11,49,18],[49,20,49,26],[48,2,48,8],[48,9,48,10],[50,20,50,26],[51,2,51,8],[51,9,51,10],[51,11,51,18],[51,20,51,26],[43,0,43,11],[44,0,44,11],[45,0,45,11],[50,2,50,8],[50,9,50,10],[50,11,50,18],[48,11,48,18],[1,0,1,42],[2,0,2,42],[3,0,3,42],[4,1,4,20],[4,23,4,34],[4,37,4,42],[5,6,5,11],[6,76,7,76],[6,77,7,77],[6,78,7,78],[6,79,7,79],[6,6,7,6],[6,7,7,7],[6,8,7,8],[6,11,7,11],[6,9,7,9],[6,10,7,10],[6,80,7,80],[6,81,7,81],[5,12,5,42],[5,43,5,73],[5,75,5,81],[5,74,7,74],[6,75,7,75],[43,79,45,79],[43,80,45,80],[43,81,45,81],[48,28,48,34],[49,28,49,34],[43,74,45,74],[43,75,45,75],[43,76,45,76],[43,77,45,77],[43,78,45,78]]}
[]
[]
["NOME DO HU"]
["ESCALA MENSAL DE TRABALHO"]
["DIVISÃO /SETOR/UNIDADE:","Unidade de Terapia Intensiva Adulto - MÉDICOS",null,null,null,null,null,null,null,null,null,null,null,null,null,null,null,null,null,null,null,"MÊS:",null,"Maio",null,null,null,null,null,null,null,null,null,null,null,"ANO:",null,2020]
["NOME COMPLETO","SIAPE","     Registro Conselho Classe","Cargo","Vínculo","    C.H Sem","INTERVALO",null,null,null,null,null,"DIAS DO MÊS",null,null,null,null,null,null,null,null,null,null,null,null,null,null,null,null,null,null,null,null,null,null,null,null,null,null,null,null,null,null,"CÁLCULO DAS HORAS",null,null,null,null,null,null,null,null,null,null,null,null,null,null,null,null,null,null,null,null,null,null,null,null,null,null,null,null,null,null,"CH Men.","Dias"]
[null,null,null,null,null,null,"15' M","15' T","15' N","1H D","1H N","2H",1,2,3,4,5,6,7,8,9,10,11,12,13,14,15,16,17,18,19,20,21,22,23,24,25,{"$f":"IF(DAY(DATE(AL5,VLOOKUP(X5,Tabelas!M:N,2,0)+1,1)-1)>=26,26,\"\")","v":26},{"$f":"IF(DAY(DATE(AL5,VLOOKUP(X5,Tabelas!M:N,2,0)+1,1)-1)>=27,27,\"\")","v":27},{"$f":"IF(DAY(DATE(AL5,VLOOKUP(X5,Tabelas!M:N,2,0)+1,1)-1)>=28,28,\"\")","v":28},{"$f":"IF(DAY(DATE(AL5,VLOOKUP(X5,Tabelas!M:N,2,0)+1,1)-1)>=29,29,\"\")","v":29},{"$f":"IF(DAY(DATE(AL5,VLOOKUP(X5,Tabelas!M:N,2,0)+1,1)-1)>=30,30,\"\")","v":30},{"$f":"IF(DAY(DATE(AL5,VLOOKUP(X5,Tabelas!M:N,2,0)+1,1)-1)>=31,31,\"\")","v":31},null,null,null,null,null,null,null,null,null,null,null,null,null,null,null,null,null,null,null,null,null,null,null,null,null,null,null,null,null,null,null,null,"LM/LP/L","AB","FE","LC","CH","AF  "," Total Afast."]
[null,null,null,null,null,null,null,null,null,null,null,null,"SEX","SAB","DOM","SEG","TER","QUA","QUI","SEX","SAB","DOM","SEG","TER","QUA","QUI","SEX","SAB","DOM","SEG","TER","QUA","QUI","SEX","SAB","DOM","SEG","TER","QUA","QUI","SEX","SAB","DOM",1,2,3,4,5,6,7,8,9,10,11,12,13,14,15,16,17,18,19,20,21,22,23,24,25,26,27,28,29,30,31]
["ROTINA",null,null,null,null,null,null,null,null,null,null,null,null,null,null,null,null,null,null,null,null,null,null,null,null,null,null,null,null,null,null,null,null,null,null,null,null,null,null,null,null,null,null,{"$f":"IF(A9<>\"\",IFERROR(VLOOKUP(M9,Tabelas!B:D,3,0),0),\"\")","v":0},{"$f":"IF(A9<>\"\",IFERROR(VLOOKUP(N9,Tabelas!B:D,3,0),0),\"\")","v":0},{"$f":"IF(A9<>\"\",IFERROR(VLOOKUP(O9,Tabelas!B:D,3,0),0),\"\")","v":0},{"$f":"IF(A9<>\"\",IFERROR(VLOOKUP(P9,Tabelas!B:D,3,0),0),\"\")","v":0},{"$f":"IF(A9<>\"\",IFERROR(VLOOKUP(Q9,Tabelas!B:D,3,0),0),\"\")","v":0},{"$f":"IF(A9<>\"\",IFERROR(VLOOKUP(R9,Tabelas!B:D,3,0),0),\"\")","v":0},{"$f":"IF(A9<>\"\",IFERROR(VLOOKUP(S9,Tabelas!B:D,3,0),0),\"\")","v":0},{"$f":"IF(A9<>\"\",IFERROR(VLOOKUP(T9,Tabelas!B:D,3,0),0),\"\")","v":0},{"$f":"IF(A9<>\"\",IFERROR(VLOOKUP(U9,Tabelas!B:D,3,0),0),\"\")","v":0},{"$f":"IF(A9<>\"\",IFERROR(VLOOKUP(V9,Tabelas!B:D,3,0),0),\"\")","v":0},{"$f":"IF(A9<>\"\",IFERROR(VLOOKUP(W9,Tabelas!B:D,3,0),0),\"\")","v":0},{"$f":"IF(A9<>\"\",IFERROR(VLOOKUP(X9,Tabelas!B:D,3,0),0),\"\")","v":0},{"$f":"IF(A9<>\"\",IFERROR(VLOOKUP(Y9,Tabelas!B:D,3,0),0),\"\")","v":0},{"$f":"IF(A9<>\"\",IFERROR(VLOOKUP(Z9,Tabelas!B:D,3,0),0),\"\")","v":0},{"$f":"IF(A9<>\"\",IFERROR(VLOOKUP(AA9,Tabelas!B:D,3,0),0),\"\")","v":0},{"$f":"IF(A9<>\"\",IFERROR(VLOOKUP(AB9,Tabelas!B:D,3,0),0),\"\")","v":0},{"$f":"IF(A9<>\"\",IFERROR(VLOOKUP(AC9,Tabelas!B:D,3,0),0),\"\")","v":0},{"$f":"IF(A9<>\"\",IFERROR(VLOOKUP(AD9,Tabelas!B:D,3,0),0),\"\")","v":0},{"$f":"IF(A9<>\"\",IFERROR(VLOOKUP(AE9,Tabelas!B:D,3,0),0),\"\")","v":0},{"$f":"IF(A9<>\"\",IFERROR(VLOOKUP(AF9,Tabelas!B:D,3,0),0),\"\")","v":0},{"$f":"IF(A9<>\"\",IFERROR(VLOOKUP(AG9,Tabelas!B:D,3,0),0),\"\")","v":0},{"$f":"IF(A9<>\"\",IFERROR(VLOOKUP(AH9,Tabelas!B:D,3,0),0),\"\")","v":0},{"$f":"IF(A9<>\"\",IFERROR(VLOOKUP(AI9,Tabelas!B:D,3,0),0),\"\")","v":0},{"$f":"IF(A9<>\"\",IFERROR(VLOOKUP(AJ9,Tabelas!B:D,3,0),0),\"\")","v":0},{"$f":"IF(A9<>\"\",IFERROR(VLOOKUP(AK9,Tabelas!B:D,3,0),0),\"\")","v":0},{"$f":"IF(A9<>\"\",IFERROR(VLOOKUP(AL9,Tabelas!B:D,3,0),0),\"\")","v":0},{"$f":"IF(A9<>\"\",IFERROR(VLOOKUP(AM9,Tabelas!B:D,3,0),0),\"\")","v":0},{"$f":"IF(A9<>\"\",IFERROR(VLOOKUP(AN9,Tabelas!B:D,3,0),0),\"\")","v":0},{"$f":"IF(A9<>\"\",IFERROR(VLOOKUP(AO9,Tabelas!B:D,3,0),0),\"\")","v":0},{"$f":"IF(A9<>\"\",IFERROR(VLOOKUP(AP9,Tabelas!B:D,3,0),0),\"\")","v":0},{"$f":"IF(A9<>\"\",IFERROR(VLOOKUP(AQ9,Tabelas!B:D,3,0),0),\"\")","v":0},{"$f":"IF(AND(A9<>\"\",E9=\"Ebserh\"),SUM(AR9:BV9)+COUNTIF(M9:AQ9,\"N*\")+COUNTIF(M9:AQ9,\"DN*\"),IF(AND(A9<>\"\",E9<>\"Ebserh\"),SUM(AR9:BV9),\"\"))","v":0},{"$f":"IF(A9<>\"\",COUNTIF(M9:AQ9,\"LM\")+COUNTIF(M9:AQ9,\"L\")+COUNTIF(M9:AQ9,\"LP\"),\"\")","v":0},{"$f":"IF(A9<>\"\",COUNTIF(M9:AQ9,\"AB*\"),\"\")","v":0},{"$f":"IF(A9<>\"\",COUNTIF(M9:AQ9,\"FE\"),\"\")","v":0},{"$f":"IF(A9<>\"\",COUNTIF(M9:AQ9,\"LC\"),\"\")","v":0},{"$f":"IF(A9<>\"\",COUNTIF(M9:AQ9,\"CH*\"),\"\")","v":0},{"$f":"IF(A9<>\"\",COUNTIF(M9:AQ9,\"AF1\")+COUNTIF(M9:AQ9,\"AF2\")+COUNTIF(M9:AQ9,\"AF3\")+COUNTIF(M9:AQ9,\"AF4\")+COUNTIF(M9:AQ9,\"AF5\")+COUNTIF(M9:AQ9,\"AF6\")+COUNTIF(M9:AQ9,\"AF7\")+COUNTIF(M9:AQ9,\"AF8\")+COUNTIF(M9:AQ9,\"AF9\")+COUNTIF(M9:AQ9,\"AF10\")+COUNTIF(M9:AQ9,\"AF11\")+COUNTIF(M9:AQ9,\"AF12\")+COUNTIF(M9:AQ9,\"AF13\")+COUNTIF(M9:AQ9,\"AF14\"),\"\")","v":0},{"$f":"IF(A9<>\"\",COUNTIF(M9:AQ9,\"CH*\")+COUNTIF(M9:AQ9,\"L\")+COUNTIF(M9:AQ9,\"LM\")+COUNTIF(M9:AQ9,\"LP\")+COUNTIF(M9:AQ9,\"LC\")+COUNTIF(M9:AQ9,\"AB*\")+COUNTIF(M9:AQ9,\"AF1\")+COUNTIF(M9:AQ9,\"AF2\")+COUNTIF(M9:AQ9,\"AF3\")+COUNTIF(M9:AQ9,\"AF4\")+COUNTIF(M9:AQ9,\"AF5\")+COUNTIF(M9:AQ9,\"AF6\")+COUNTIF(M9:AQ9,\"AF7\")+COUNTIF(M9:AQ9,\"AF8\")+COUNTIF(M9:AQ9,\"AF9\")+COUNTIF(M9:AQ9,\"AF10\")+COUNTIF(M9:AQ9,\"AF11\")+COUNTIF(M9:AQ9,\"AF12\")+COUNTIF(M9:AQ9,\"AF13\")+COUNTIF(M9:AQ9,\"AF14\")+COUNTIF(M9:AQ9,\"RC\")+COUNTIF(M9:AQ9,\"FO\")+COUNTIF(M9:AQ9,\"FE\"),\"\")","v":0}]
["Alexandre Luciano Klein",2312539,null,"ME","RJU",30,null,null,null,null,null,null,null,null,null,"M17","M17","M17","M17","M17",null,null,"M17","M17","M17","M17","M17",null,null,"M17","M17","M17","M17","M17",null,null,"M17","M17","M17","M17","M17",null,null,{"$f":"IF(A10<>\"\",IFERROR(VLOOKUP(M10,Tabelas!B:D,3,0),0),\"\")","v":0},{"$f":"IF(A10<>\"\",IFERROR(VLOOKUP(N10,Tabelas!B:D,3,0),0),\"\")","v":0},{"$f":"IF(A10<>\"\",IFERROR(VLOOKUP(O10,Tabelas!B:D,3,0),0),\"\")","v":0},{"$f":"IF(A10<>\"\",IFERROR(VLOOKUP(P10,Tabelas!B:D,3,0),0),\"\")","v":6},{"$f":"IF(A10<>\"\",IFERROR(VLOOKUP(Q10,Tabelas!B:D,3,0),0),\"\")","v":6},{"$f":"IF(A10<>\"\",IFERROR(VLOOKUP(R10,Tabelas!B:D,3,0),0),\"\")","v":6},{"$f":"IF(A10<>\"\",IFERROR(VLOOKUP(S10,Tabelas!B:D,3,0),0),\"\")","v":6},{"$f":"IF(A10<>\"\",IFERROR(VLOOKUP(T10,Tabelas!B:D,3,0),0),\"\")","v":6},{"$f":"IF(A10<>\"\",IFERROR(VLOOKUP(U10,Tabelas!B:D,3,0),0),\"\")","v":0},{"$f":"IF(A10<>\"\",IFERROR(VLOOKUP(V10,Tabelas!B:D,3,0),0),\"\")","v":0},{"$f":"IF(A10<>\"\",IFERROR(VLOOKUP(W10,Tabelas!B:D,3,0),0),\"\")","v":6},{"$f":"IF(A10<>\"\",IFERROR(VLOOKUP(X10,Tabelas!B:D,3,0),0),\"\")","v":6},{"$f":"IF(A10<>\"\",IFERROR(VLOOKUP(Y10,Tabelas!B:D,3,0),0),\"\")","v":6},{"$f":"IF(A10<>\"\",IFERROR(VLOOKUP(Z10,Tabelas!B:D,3,0),0),\"\")","v":6},{"$f":"IF(A10<>\"\",IFERROR(VLOOKUP(AA10,Tabelas!B:D,3,0),0),\"\")","v":6},{"$f":"IF(A10<>\"\",IFERROR(VLOOKUP(AB10,Tabelas!B:D,3,0),0),\"\")","v":0},{"$f":"IF(A10<>\"\",IFERROR(VLOOKUP(AC10,Tabelas!B:D,3,0),0),\"\")","v":0},{"$f":"IF(A10<>\"\",IFERROR(VLOOKUP(AD10,Tabelas!B:D,3,0),0),\"\")","v":6},{"$f":"IF(A10<>\"\",IFERROR(VLOOKUP(AE10,Tabelas!B:D,3,0),0),\"\")","v":6},{"$f":"IF(A10<>\"\",IFERROR(VLOOKUP(AF10,Tabelas!B:D,3,0),0),\"\")","v":6},{"$f":"IF(A10<>\"\",IFERROR(VLOOKUP(AG10,Tabelas!B:D,3,0),0),\"\")","v":6},{"$f":"IF(A10<>\"\",IFERROR(VLOOKUP(AH10,Tabelas!B:D,3,0),0),\"\")","v":6},{"$f":"IF(A10<>\"\",IFERROR(VLOOKUP(AI10,Tabelas!B:D,3,0),0),\"\")","v":0},{"$f":"IF(A10<>\"\",IFERROR(VLOOKUP(AJ10,Tabelas!B:D,3,0),0),\"\")","v":0},{"$f":"IF(A10<>\"\",IFERROR(VLOOKUP(AK10,Tabelas!B:D,3,0),0),\"\")","v":6},{"$f":"IF(A10<>\"\",IFERROR(VLOOKUP(AL10,Tabelas!B:D,3,0),0),\"\")","v":6},{"$f":"IF(A10<>\"\",IFERROR(VLOOKUP(AM10,Tabelas!B:D,3,0),0),\"\")","v":6},{"$f":"IF(A10<>\"\",IFERROR(VLOOKUP(AN10,Tabelas!B:D,3,0),0),\"\")","v":6},{"$f":"IF(A10<>\"\",IFERROR(VLOOKUP(AO10,Tabelas!B:D,3,0),0),\"\")","v":6},{"$f":"IF(A10<>\"\",IFERROR(VLOOKUP(AP10,Tabelas!B:D,3,0),0),\"\")","v":0},{"$f":"IF(A10<>\"\",IFERROR(VLOOKUP(AQ10,Tabelas!B:D,3,0),0),\"\")","v":0},120,0,0,0,0,0,0,0]
["Alexandre Luciano Klein",3312539,null,"ME","RJU",20,null,null,null,null,null,null,null,null,null,"T17",null,"T17","T17",null,null,null,"T17",null,"T17","T17",null,"M17",null,"T17",null,"T17","T17",null,null,null,"T17",null,"T17","T17",null,null,null,{"$f":"IF(A11<>\"\",IFERROR(VLOOKUP(M11,Tabelas!B:D,3,0),0),\"\")","v":0},{"$f":"IF(A11<>\"\",IFERROR(VLOOKUP(N11,Tabelas!B:D,3,0),0),\"\")","v":0},{"$f":"IF(A11<>\"\",IFERROR(VLOOKUP(O11,Tabelas!B:D,3,0),0),\"\")","v":0},{"$f":"IF(A11<>\"\",IFERROR(VLOOKUP(P11,Tabelas!B:D,3,0),0),\"\")","v":6},{"$f":"IF(A11<>\"\",IFERROR(VLOOKUP(Q11,Tabelas!B:D,3,0),0),\"\")","v":0},{"$f":"IF(A11<>\"\",IFERROR(VLOOKUP(R11,Tabelas!B:D,3,0),0),\"\")","v":6},{"$f":"IF(A11<>\"\",IFERROR(VLOOKUP(S11,Tabelas!B:D,3,0),0),\"\")","v":6},{"$f":"IF(A11<>\"\",IFERROR(VLOOKUP(T11,Tabelas!B:D,3,0),0),\"\")","v":0},{"$f":"IF(A11<>\"\",IFERROR(VLOOKUP(U11,Tabelas!B:D,3,0),0),\"\")","v":0},{"$f":"IF(A11<>\"\",IFERROR(VLOOKUP(V11,Tabelas!B:D,3,0),0),\"\")","v":0},{"$f":"IF(A11<>\"\",IFERROR(VLOOKUP(W11,Tabelas!B:D,3,0),0),\"\")","v":6},{"$f":"IF(A11<>\"\",IFERROR(VLOOKUP(X11,Tabelas!B:D,3,0),0),\"\")","v":0},{"$f":"IF(A11<>\"\",IFERROR(VLOOKUP(Y11,Tabelas!B:D,3,0),0),\"\")","v":6},{"$f":"IF(A11<>\"\",IFERROR(VLOOKUP(Z11,Tabelas!B:D,3,0),0),\"\")","v":6},{"$f":"IF(A11<>\"\",IFERROR(VLOOKUP(AA11,Tabelas!B:D,3,0),0),\"\")","v":0},{"$f":"IF(A11<>\"\",IFERROR(VLOOKUP(AB11,Tabelas!B:D,3,0),0),\"\")","v":6},{"$f":"IF(A11<>\"\",IFERROR(VLOOKUP(AC11,Tabelas!B:D,3,0),0),\"\")","v":0},{"$f":"IF(A11<>\"\",IFERROR(VLOOKUP(AD11,Tabelas!B:D,3,0),0),\"\")","v":6},{"$f":"IF(A11<>\"\",IFERROR(VLOOKUP(AE11,Tabelas!B:D,3,0),0),\"\")","v":0},{"$f":"IF(A11<>\"\",IFERROR(VLOOKUP(AF11,Tabelas!B:D,3,0),0),\"\")","v":6},{"$f":"IF(A11<>\"\",IFERROR(VLOOKUP(AG11,Tabelas!B:D,3,0),0),\"\")","v":6},{"$f":"IF(A11<>\"\",IFERROR(VLOOKUP(AH11,Tabelas!B:D,3,0),0),\"\")","v":0},{"$f":"IF(A11<>\"\",IFERROR(VLOOKUP(AI11,Tabelas!B:D,3,0),0),\"\")","v":0},{"$f":"IF(A11<>\"\",IFERROR(VLOOKUP(AJ11,Tabelas!B:D,3,0),0),\"\")","v":0},{"$f":"IF(A11<>\"\",IFERROR(VLOOKUP(AK11,Tabelas!B:D,3,0),0),\"\")","v":6},{"$f":"IF(A11<>\"\",IFERROR(VLOOKUP(AL11,Tabelas!B:D,3,0),0),\"\")","v":0},{"$f":"IF(A11<>\"\",IFERROR(VLOOKUP(AM11,Tabelas!B:D,3,0),0),\"\")","v":6},{"$f":"IF(A11<>\"\",IFERROR(VLOOKUP(AN11,Tabelas!B:D,3,0),0),\"\")","v":6},{"$f":"IF(A11<>\"\",IFERROR(VLOOKUP(AO11,Tabelas!B:D,3,0),0),\"\")","v":0},{"$f":"IF(A11<>\"\",IFERROR(VLOOKUP(AP11,Tabelas!B:D,3,0),0),\"\")","v":0},{"$f":"IF(A11<>\"\",IFERROR(VLOOKUP(AQ11,Tabelas!B:D,3,0),0),\"\")","v":0},78,0,0,0,0,0,0,0]
["Alice Danielle Correa Mendes Pinto",1357071,null,"ME","RJU",30,null,null,null,null,null,null,null,null,null,"M17","M17","M17","M17","M17",null,null,"M17","M17",null,"M17","M17",null,null,"M17","M17","M17","M17","M17",null,"M17","M17","M17","M17","M17","M17",null,null,{"$f":"IF(A12<>\"\",IFERROR(VLOOKUP(M12,Tabelas!B:D,3,0),0),\"\")","v":0},{"$f":"IF(A12<>\"\",IFERROR(VLOOKUP(N12,Tabelas!B:D,3,0),0),\"\")","v":0},{"$f":"IF(A12<>\"\",IFERROR(VLOOKUP(O12,Tabelas!B:D,3,0),0),\"\")","v":0},{"$f":"IF(A12<>\"\",IFERROR(VLOOKUP(P12,Tabelas!B:D,3,0),0),\"\")","v":6},{"$f":"IF(A12<>\"\",IFERROR(VLOOKUP(Q12,Tabelas!B:D,3,0),0),\"\")","v":6},{"$f":"IF(A12<>\"\",IFERROR(VLOOKUP(R12,Tabelas!B:D,3,0),0),\"\")","v":6},{"$f":"IF(A12<>\"\",IFERROR(VLOOKUP(S12,Tabelas!B:D,3,0),0),\"\")","v":6},{"$f":"IF(A12<>\"\",IFERROR(VLOOKUP(T12,Tabelas!B:D,3,0),0),\"\")","v":6},{"$f":"IF(A12<>\"\",IFERROR(VLOOKUP(U12,Tabelas!B:D,3,0),0),\"\")","v":0},{"$f":"IF(A12<>\"\",IFERROR(VLOOKUP(V12,Tabelas!B:D,3,0),0),\"\")","v":0},{"$f":"IF(A12<>\"\",IFERROR(VLOOKUP(W12,Tabelas!B:D,3,0),0),\"\")","v":6},{"$f":"IF(A12<>\"\",IFERROR(VLOOKUP(X12,Tabelas!B:D,3,0),0),\"\")","v":6},{"$f":"IF(A12<>\"\",IFERROR(VLOOKUP(Y12,Tabelas!B:D,3,0),0),\"\")","v":0},{"$f":"IF(A12<>\"\",IFERROR(VLOOKUP(Z12,Tabelas!B:D,3,0),0),\"\")","v":6},{"$f":"IF(A12<>\"\",IFERROR(VLOOKUP(AA12,Tabelas!B:D,3,0),0),\"\")","v":6},{"$f":"IF(A12<>\"\",IFERROR(VLOOKUP(AB12,Tabelas!B:D,3,0),0),\"\")","v":0},{"$f":"IF(A12<>\"\",IFERROR(VLOOKUP(AC12,Tabelas!B:D,3,0),0),\"\")","v":0},{"$f":"IF(A12<>\"\",IFERROR(VLOOKUP(AD12,Tabelas!B:D,3,0),0),\"\")","v":6},{"$f":"IF(A12<>\"\",IFERROR(VLOOKUP(AE12,Tabelas!B:D,3,0),0),\"\")","v":6},{"$f":"IF(A12<>\"\",IFERROR(VLOOKUP(AF12,Tabelas!B:D,3,0),0),\"\")","v":6},{"$f":"IF(A12<>\"\",IFERROR(VLOOKUP(AG12,Tabelas!B:D,3,0),0),\"\")","v":6},{"$f":"IF(A12<>\"\",IFERROR(VLOOKUP(AH12,Tabelas!B:D,3,0),0),\"\")","v":6},{"$f":"IF(A12<>\"\",IFERROR(VLOOKUP(AI12,Tabelas!B:D,3,0),0),\"\")","v":0},{"$f":"IF(A12<>\"\",IFERROR(VLOOKUP(AJ12,Tabelas!B:D,3,0),0),\"\")","v":6},{"$f":"IF(A12<>\"\",IFERROR(VLOOKUP(AK12,Tabelas!B:D,3,0),0),\"\")","v":6},{"$f":"IF(A12<>\"\",IFERROR(VLOOKUP(AL12,Tabelas!B:D,3,0),0),\"\")","v":6},{"$f":"IF(A12<>\"\",IFERROR(VLOOKUP(AM12,Tabelas!B:D,3,0),0),\"\")","v":6},{"$f":"IF(A12<>\"\",IFERROR(VLOOKUP(AN12,Tabelas!B:D,3,0),0),\"\")","v":6},{"$f":"IF(A12<>\"\",IFERROR(VLOOKUP(AO12,Tabelas!B:D,3,0),0),\"\")","v":6},{"$f":"IF(A12<>\"\",IFERROR(VLOOKUP(AP12,Tabelas!B:D,3,0),0),\"\")","v":0},{"$f":"IF(A12<>\"\",IFERROR(VLOOKUP(AQ12,Tabelas!B:D,3,0),0),\"\")","v":0},120,0,0,0,0,0,0,0]
["Christie Marie Schweitzer",2081333,null,"ME","RJU",20,null,null,null,null,null,null,null,"M17",null,"T17","T17","T17",null,null,null,null,"T17","T17","T17",null,"T17",null,null,"T17","T17","T17",null,null,null,null,"T17","T17","T17",null,null,null,null,{"$f":"IF(A13<>\"\",IFERROR(VLOOKUP(M13,Tabelas!B:D,3,0),0),\"\")","v":0},{"$f":"IF(A13<>\"\",IFERROR(VLOOKUP(N13,Tabelas!B:D,3,0),0),\"\")","v":6},{"$f":"IF(A13<>\"\",IFERROR(VLOOKUP(O13,Tabelas!B:D,3,0),0),\"\")","v":0},{"$f":"IF(A13<>\"\",IFERROR(VLOOKUP(P13,Tabelas!B:D,3,0),0),\"\")","v":6},{"$f":"IF(A13<>\"\",IFERROR(VLOOKUP(Q13,Tabelas!B:D,3,0),0),\"\")","v":6},{"$f":"IF(A13<>\"\",IFERROR(VLOOKUP(R13,Tabelas!B:D,3,0),0),\"\")","v":6},{"$f":"IF(A13<>\"\",IFERROR(VLOOKUP(S13,Tabelas!B:D,3,0),0),\"\")","v":0},{"$f":"IF(A13<>\"\",IFERROR(VLOOKUP(T13,Tabelas!B:D,3,0),0),\"\")","v":0},{"$f":"IF(A13<>\"\",IFERROR(VLOOKUP(U13,Tabelas!B:D,3,0),0),\"\")","v":0},{"$f":"IF(A13<>\"\",IFERROR(VLOOKUP(V13,Tabelas!B:D,3,0),0),\"\")","v":0},{"$f":"IF(A13<>\"\",IFERROR(VLOOKUP(W13,Tabelas!B:D,3,0),0),\"\")","v":6},{"$f":"IF(A13<>\"\",IFERROR(VLOOKUP(X13,Tabelas!B:D,3,0),0),\"\")","v":6},{"$f":"IF(A13<>\"\",IFERROR(VLOOKUP(Y13,Tabelas!B:D,3,0),0),\"\")","v":6},{"$f":"IF(A13<>\"\",IFERROR(VLOOKUP(Z13,Tabelas!B:D,3,0),0),\"\")","v":0},{"$f":"IF(A13<>\"\",IFERROR(VLOOKUP(AA13,Tabelas!B:D,3,0),0),\"\")","v":6},{"$f":"IF(A13<>\"\",IFERROR(VLOOKUP(AB13,Tabelas!B:D,3,0),0),\"\")","v":0},{"$f":"IF(A13<>\"\",IFERROR(VLOOKUP(AC13,Tabelas!B:D,3,0),0),\"\")","v":0},{"$f":"IF(A13<>\"\",IFERROR(VLOOKUP(AD13,Tabelas!B:D,3,0),0),\"\")","v":6},{"$f":"IF(A13<>\"\",IFERROR(VLOOKUP(AE13,Tabelas!B:D,3,0),0),\"\")","v":6},{"$f":"IF(A13<>\"\",IFERROR(VLOOKUP(AF13,Tabelas!B:D,3,0),0),\"\")","v":6},{"$f":"IF(A13<>\"\",IFERROR(VLOOKUP(AG13,Tabelas!B:D,3,0),0),\"\")","v":0},{"$f":"IF(A13<>\"\",IFERROR(VLOOKUP(AH13,Tabelas!B:D,3,0),0),\"\")","v":0},{"$f":"IF(A13<>\"\",IFERROR(VLOOKUP(AI13,Tabelas!B:D,3,0),0),\"\")","v":0},{"$f":"IF(A13<>\"\",IFERROR(VLOOKUP(AJ13,Tabelas!B:D,3,0),0),\"\")","v":0},{"$f":"IF(A13<>\"\",IFERROR(VLOOKUP(AK13,Tabelas!B:D,3,0),0),\"\")","v":6},{"$f":"IF(A13<>\"\",IFERROR(VLOOKUP(AL13,Tabelas!B:D,3,0),0),\"\")","v":6},{"$f":"IF(A13<>\"\",IFERROR(VLOOKUP(AM13,Tabelas!B:D,3,0),0),\"\")","v":6},{"$f":"IF(A13<>\"\",IFERROR(VLOOKUP(AN13,Tabelas!B:D,3,0),0),\"\")","v":0},{"$f":"IF(A13<>\"\",IFERROR(VLOOKUP(AO13,Tabelas!B:D,3,0),0),\"\")","v":0},{"$f":"IF(A13<>\"\",IFERROR(VLOOKUP(AP13,Tabelas!B:D,3,0),0),\"\")","v":0},{"$f":"IF(A13<>\"\",IFERROR(VLOOKUP(AQ13,Tabelas!B:D,3,0),0),\"\")","v":0},84,0,0,0,0,0,0,0]
["Gina Vieira Velho",1185798,null,"ME","RJU",20,null,null,null,null,null,null,null,null,null,"M17","M17","M17","M17",null,"M17",null,"M17",null,"M17","M17",null,null,null,"M17",null,"M17","M17",null,null,null,"M17",null,"M17","M17",null,null,null,{"$f":"IF(A14<>\"\",IFERROR(VLOOKUP(M14,Tabelas!B:D,3,0),0),\"\")","v":0},{"$f":"IF(A14<>\"\",IFERROR(VLOOKUP(N14,Tabelas!B:D,3,0),0),\"\")","v":0},{"$f":"IF(A14<>\"\",IFERROR(VLOOKUP(O14,Tabelas!B:D,3,0),0),\"\")","v":0},{"$f":"IF(A14<>\"\",IFERROR(VLOOKUP(P14,Tabelas!B:D,3,0),0),\"\")","v":6},{"$f":"IF(A14<>\"\",IFERROR(VLOOKUP(Q14,Tabelas!B:D,3,0),0),\"\")","v":6},{"$f":"IF(A14<>\"\",IFERROR(VLOOKUP(R14,Tabelas!B:D,3,0),0),\"\")","v":6},{"$f":"IF(A14<>\"\",IFERROR(VLOOKUP(S14,Tabelas!B:D,3,0),0),\"\")","v":6},{"$f":"IF(A14<>\"\",IFERROR(VLOOKUP(T14,Tabelas!B:D,3,0),0),\"\")","v":0},{"$f":"IF(A14<>\"\",IFERROR(VLOOKUP(U14,Tabelas!B:D,3,0),0),\"\")","v":6},{"$f":"IF(A14<>\"\",IFERROR(VLOOKUP(V14,Tabelas!B:D,3,0),0),\"\")","v":0},{"$f":"IF(A14<>\"\",IFERROR(VLOOKUP(W14,Tabelas!B:D,3,0),0),\"\")","v":6},{"$f":"IF(A14<>\"\",IFERROR(VLOOKUP(X14,Tabelas!B:D,3,0),0),\"\")","v":0},{"$f":"IF(A14<>\"\",IFERROR(VLOOKUP(Y14,Tabelas!B:D,3,0),0),\"\")","v":6},{"$f":"IF(A14<>\"\",IFERROR(VLOOKUP(Z14,Tabelas!B:D,3,0),0),\"\")","v":6},{"$f":"IF(A14<>\"\",IFERROR(VLOOKUP(AA14,Tabelas!B:D,3,0),0),\"\")","v":0},{"$f":"IF(A14<>\"\",IFERROR(VLOOKUP(AB14,Tabelas!B:D,3,0),0),\"\")","v":0},{"$f":"IF(A14<>\"\",IFERROR(VLOOKUP(AC14,Tabelas!B:D,3,0),0),\"\")","v":0},{"$f":"IF(A14<>\"\",IFERROR(VLOOKUP(AD14,Tabelas!B:D,3,0),0),\"\")","v":6},{"$f":"IF(A14<>\"\",IFERROR(VLOOKUP(AE14,Tabelas!B:D,3,0),0),\"\")","v":0},{"$f":"IF(A14<>\"\",IFERROR(VLOOKUP(AF14,Tabelas!B:D,3,0),0),\"\")","v":6},{"$f":"IF(A14<>\"\",IFERROR(VLOOKUP(AG14,Tabelas!B:D,3,0),0),\"\")","v":6},{"$f":"IF(A14<>\"\",IFERROR(VLOOKUP(AH14,Tabelas!B:D,3,0),0),\"\")","v":0},{"$f":"IF(A14<>\"\",IFERROR(VLOOKUP(AI14,Tabelas!B:D,3,0),0),\"\")","v":0},{"$f":"IF(A14<>\"\",IFERROR(VLOOKUP(AJ14,Tabelas!B:D,3,0),0),\"\")","v":0},{"$f":"IF(A14<>\"\",IFERROR(VLOOKUP(AK14,Tabelas!B:D,3,0),0),\"\")","v":6},{"$f":"IF(A14<>\"\",IFERROR(VLOOKUP(AL14,Tabelas!B:D,3,0),0),\"\")","v":0},{"$f":"IF(A14<>\"\",IFERROR(VLOOKUP(AM14,Tabelas!B:D,3,0),0),\"\")","v":6},{"$f":"IF(A14<>\"\",IFERROR(VLOOKUP(AN14,Tabelas!B:D,3,0),0),\"\")","v":6},{"$f":"IF(A14<>\"\",IFERROR(VLOOKUP(AO14,Tabelas!B:D,3,0),0),\"\")","v":0},{"$f":"IF(A14<>\"\",IFERROR(VLOOKUP(AP14,Tabelas!B:D,3,0),0),\"\")","v":0},{"$f":"IF(A14<>\"\",IFERROR(VLOOKUP(AQ14,Tabelas!B:D,3,0),0),\"\")","v":0},84,0,0,0,0,0,0,0]
["Rafael Lisboa de Souza",2344070,null,"ME","RJU",30,null,null,null,null,null,null,null,null,null,"M17","M17","M17","M17","M17",null,null,"M17","M17","M17","M17","M17",null,null,"M17","M17","M17","M17","M17",null,null,"M17","M17","M17","M17","M17",null,null,{"$f":"IF(A15<>\"\",IFERROR(VLOOKUP(M15,Tabelas!B:D,3,0),0),\"\")","v":0},{"$f":"IF(A15<>\"\",IFERROR(VLOOKUP(N15,Tabelas!B:D,3,0),0),\"\")","v":0},{"$f":"IF(A15<>\"\",IFERROR(VLOOKUP(O15,Tabelas!B:D,3,0),0),\"\")","v":0},{"$f":"IF(A15<>\"\",IFERROR(VLOOKUP(P15,Tabelas!B:D,3,0),0),\"\")","v":6},{"$f":"IF(A15<>\"\",IFERROR(VLOOKUP(Q15,Tabelas!B:D,3,0),0),\"\")","v":6},{"$f":"IF(A15<>\"\",IFERROR(VLOOKUP(R15,Tabelas!B:D,3,0),0),\"\")","v":6},{"$f":"IF(A15<>\"\",IFERROR(VLOOKUP(S15,Tabelas!B:D,3,0),0),\"\")","v":6},{"$f":"IF(A15<>\"\",IFERROR(VLOOKUP(T15,Tabelas!B:D,3,0),0),\"\")","v":6},{"$f":"IF(A15<>\"\",IFERROR(VLOOKUP(U15,Tabelas!B:D,3,0),0),\"\")","v":0},{"$f":"IF(A15<>\"\",IFERROR(VLOOKUP(V15,Tabelas!B:D,3,0),0),\"\")","v":0},{"$f":"IF(A15<>\"\",IFERROR(VLOOKUP(W15,Tabelas!B:D,3,0),0),\"\")","v":6},{"$f":"IF(A15<>\"\",IFERROR(VLOOKUP(X15,Tabelas!B:D,3,0),0),\"\")","v":6},{"$f":"IF(A15<>\"\",IFERROR(VLOOKUP(Y15,Tabelas!B:D,3,0),0),\"\")","v":6},{"$f":"IF(A15<>\"\",IFERROR(VLOOKUP(Z15,Tabelas!B:D,3,0),0),\"\")","v":6},{"$f":"IF(A15<>\"\",IFERROR(VLOOKUP(AA15,Tabelas!B:D,3,0),0),\"\")","v":6},{"$f":"IF(A15<>\"\",IFERROR(VLOOKUP(AB15,Tabelas!B:D,3,0),0),\"\")","v":0},{"$f":"IF(A15<>\"\",IFERROR(VLOOKUP(AC15,Tabelas!B:D,3,0),0),\"\")","v":0},{"$f":"IF(A15<>\"\",IFERROR(VLOOKUP(AD15,Tabelas!B:D,3,0),0),\"\")","v":6},{"$f":"IF(A15<>\"\",IFERROR(VLOOKUP(AE15,Tabelas!B:D,3,0),0),\"\")","v":6},{"$f":"IF(A15<>\"\",IFERROR(VLOOKUP(AF15,Tabelas!B:D,3,0),0),\"\")","v":6},{"$f":"IF(A15<>\"\",IFERROR(VLOOKUP(AG15,Tabelas!B:D,3,0),0),\"\")","v":6},{"$f":"IF(A15<>\"\",IFERROR(VLOOKUP(AH15,Tabelas!B:D,3,0),0),\"\")","v":6},{"$f":"IF(A15<>\"\",IFERROR(VLOOKUP(AI15,Tabelas!B:D,3,0),0),\"\")","v":0},{"$f":"IF(A15<>\"\",IFERROR(VLOOKUP(AJ15,Tabelas!B:D,3,0),0),\"\")","v":0},{"$f":"IF(A15<>\"\",IFERROR(VLOOKUP(AK15,Tabelas!B:D,3,0),0),\"\")","v":6},{"$f":"IF(A15<>\"\",IFERROR(VLOOKUP(AL15,Tabelas!B:D,3,0),0),\"\")","v":6},{"$f":"IF(A15<>\"\",IFERROR(VLOOKUP(AM15,Tabelas!B:D,3,0),0),\"\")","v":6},{"$f":"IF(A15<>\"\",IFERROR(VLOOKUP(AN15,Tabelas!B:D,3,0),0),\"\")","v":6},{"$f":"IF(A15<>\"\",IFERROR(VLOOKUP(AO15,Tabelas!B:D,3,0),0),\"\")","v":6},{"$f":"IF(A15<>\"\",IFERROR(VLOOKUP(AP15,Tabelas!B:D,3,0),0),\"\")","v":0},{"$f":"IF(A15<>\"\",IFERROR(VLOOKUP(AQ15,Tabelas!B:D,3,0),0),\"\")","v":0},120,0,0,0,0,0,0,0]
["Karine Damiani Cabral ",null,null,"ME","RJU",30,null,null,null,null,null,null,null,null,null,"T17","D8",null,"T17","T17",null,null,"T17","D8",null,"T17","T17",null,null,"T17","D8",null,"T17","T17",null,null,"T17","D8",null,"T17","T17",null,null,{"$f":"IF(A16<>\"\",IFERROR(VLOOKUP(M16,Tabelas!B:D,3,0),0),\"\")","v":0},{"$f":"IF(A16<>\"\",IFERROR(VLOOKUP(N16,Tabelas!B:D,3,0),0),\"\")","v":0},{"$f":"IF(A16<>\"\",IFERROR(VLOOKUP(O16,Tabelas!B:D,3,0),0),\"\")","v":0},{"$f":"IF(A16<>\"\",IFERROR(VLOOKUP(P16,Tabelas!B:D,3,0),0),\"\")","v":6},{"$f":"IF(A16<>\"\",IFERROR(VLOOKUP(Q16,Tabelas!B:D,3,0),0),\"\")","v":12},{"$f":"IF(A16<>\"\",IFERROR(VLOOKUP(R16,Tabelas!B:D,3,0),0),\"\")","v":0},{"$f":"IF(A16<>\"\",IFERROR(VLOOKUP(S16,Tabelas!B:D,3,0),0),\"\")","v":6},{"$f":"IF(A16<>\"\",IFERROR(VLOOKUP(T16,Tabelas!B:D,3,0),0),\"\")","v":6},{"$f":"IF(A16<>\"\",IFERROR(VLOOKUP(U16,Tabelas!B:D,3,0),0),\"\")","v":0},{"$f":"IF(A16<>\"\",IFERROR(VLOOKUP(V16,Tabelas!B:D,3,0),0),\"\")","v":0},{"$f":"IF(A16<>\"\",IFERROR(VLOOKUP(W16,Tabelas!B:D,3,0),0),\"\")","v":6},{"$f":"IF(A16<>\"\",IFERROR(VLOOKUP(X16,Tabelas!B:D,3,0),0),\"\")","v":12},{"$f":"IF(A16<>\"\",IFERROR(VLOOKUP(Y16,Tabelas!B:D,3,0),0),\"\")","v":0},{"$f":"IF(A16<>\"\",IFERROR(VLOOKUP(Z16,Tabelas!B:D,3,0),0),\"\")","v":6},{"$f":"IF(A16<>\"\",IFERROR(VLOOKUP(AA16,Tabelas!B:D,3,0),0),\"\")","v":6},{"$f":"IF(A16<>\"\",IFERROR(VLOOKUP(AB16,Tabelas!B:D,3,0),0),\"\")","v":0},{"$f":"IF(A16<>\"\",IFERROR(VLOOKUP(AC16,Tabelas!B:D,3,0),0),\"\")","v":0},{"$f":"IF(A16<>\"\",IFERROR(VLOOKUP(AD16,Tabelas!B:D,3,0),0),\"\")","v":6},{"$f":"IF(A16<>\"\",IFERROR(VLOOKUP(AE16,Tabelas!B:D,3,0),0),\"\")","v":12},{"$f":"IF(A16<>\"\",IFERROR(VLOOKUP(AF16,Tabelas!B:D,3,0),0),\"\")","v":0},{"$f":"IF(A16<>\"\",IFERROR(VLOOKUP(AG16,Tabelas!B:D,3,0),0),\"\")","v":6},{"$f":"IF(A16<>\"\",IFERROR(VLOOKUP(AH16,Tabelas!B:D,3,0),0),\"\")","v":6},{"$f":"IF(A16<>\"\",IFERROR(VLOOKUP(AI16,Tabelas!B:D,3,0),0),\"\")","v":0},{"$f":"IF(A16<>\"\",IFERROR(VLOOKUP(AJ16,Tabelas!B:D,3,0),0),\"\")","v":0},{"$f":"IF(A16<>\"\",IFERROR(VLOOKUP(AK16,Tabelas!B:D,3,0),0),\"\")","v":6},{"$f":"IF(A16<>\"\",IFERROR(VLOOKUP(AL16,Tabelas!B:D,3,0),0),\"\")","v":12},{"$f":"IF(A16<>\"\",IFERROR(VLOOKUP(AM16,Tabelas!B:D,3,0),0),\"\")","v":0},{"$f":"IF(A16<>\"\",IFERROR(VLOOKUP(AN16,Tabelas!B:D,3,0),0),\"\")","v":6},{"$f":"IF(A16<>\"\",IFERROR(VLOOKUP(AO16,Tabelas!B:D,3,0),0),\"\")","v":6},{"$f":"IF(A16<>\"\",IFERROR(VLOOKUP(AP16,Tabelas!B:D,3,0),0),\"\")","v":0},{"$f":"IF(A16<>\"\",IFERROR(VLOOKUP(AQ16,Tabelas!B:D,3,0),0),\"\")","v":0},120,0,0,0,0,0,0,0]
["Vanessa Miné Geraldo",3055054,null,"ME","EBSERH",24,null,null,null,null,null,null,null,null,null,null,"T17","T17","T17","T17",null,null,null,"T17","T17","T17","T17",null,null,null,"T17","T17","T17","T17",null,null,null,"T17","T17","T17","T17",null,"M17",{"$f":"IF(A17<>\"\",IFERROR(VLOOKUP(M17,Tabelas!B:D,3,0),0),\"\")","v":0},{"$f":"IF(A17<>\"\",IFERROR(VLOOKUP(N17,Tabelas!B:D,3,0),0),\"\")","v":0},{"$f":"IF(A17<>\"\",IFERROR(VLOOKUP(O17,Tabelas!B:D,3,0),0),\"\")","v":0},{"$f":"IF(A17<>\"\",IFERROR(VLOOKUP(P17,Tabelas!B:D,3,0),0),\"\")","v":0},{"$f":"IF(A17<>\"\",IFERROR(VLOOKUP(Q17,Tabelas!B:D,3,0),0),\"\")","v":6},{"$f":"IF(A17<>\"\",IFERROR(VLOOKUP(R17,Tabelas!B:D,3,0),0),\"\")","v":6},{"$f":"IF(A17<>\"\",IFERROR(VLOOKUP(S17,Tabelas!B:D,3,0),0),\"\")","v":6},{"$f":"IF(A17<>\"\",IFERROR(VLOOKUP(T17,Tabelas!B:D,3,0),0),\"\")","v":6},{"$f":"IF(A17<>\"\",IFERROR(VLOOKUP(U17,Tabelas!B:D,3,0),0),\"\")","v":0},{"$f":"IF(A17<>\"\",IFERROR(VLOOKUP(V17,Tabelas!B:D,3,0),0),\"\")","v":0},{"$f":"IF(A17<>\"\",IFERROR(VLOOKUP(W17,Tabelas!B:D,3,0),0),\"\")","v":0},{"$f":"IF(A17<>\"\",IFERROR(VLOOKUP(X17,Tabelas!B:D,3,0),0),\"\")","v":6},{"$f":"IF(A17<>\"\",IFERROR(VLOOKUP(Y17,Tabelas!B:D,3,0),0),\"\")","v":6},{"$f":"IF(A17<>\"\",IFERROR(VLOOKUP(Z17,Tabelas!B:D,3,0),0),\"\")","v":6},{"$f":"IF(A17<>\"\",IFERROR(VLOOKUP(AA17,Tabelas!B:D,3,0),0),\"\")","v":6},{"$f":"IF(A17<>\"\",IFERROR(VLOOKUP(AB17,Tabelas!B:D,3,0),0),\"\")","v":0},{"$f":"IF(A17<>\"\",IFERROR(VLOOKUP(AC17,Tabelas!B:D,3,0),0),\"\")","v":0},{"$f":"IF(A17<>\"\",IFERROR(VLOOKUP(AD17,Tabelas!B:D,3,0),0),\"\")","v":0},{"$f":"IF(A17<>\"\",IFERROR(VLOOKUP(AE17,Tabelas!B:D,3,0),0),\"\")","v":6},{"$f":"IF(A17<>\"\",IFERROR(VLOOKUP(AF17,Tabelas!B:D,3,0),0),\"\")","v":6},{"$f":"IF(A17<>\"\",IFERROR(VLOOKUP(AG17,Tabelas!B:D,3,0),0),\"\")","v":6},{"$f":"IF(A17<>\"\",IFERROR(VLOOKUP(AH17,Tabelas!B:D,3,0),0),\"\")","v":6},{"$f":"IF(A17<>\"\",IFERROR(VLOOKUP(AI17,Tabelas!B:D,3,0),0),\"\")","v":0},{"$f":"IF(A17<>\"\",IFERROR(VLOOKUP(AJ17,Tabelas!B:D,3,0),0),\"\")","v":0},{"$f":"IF(A17<>\"\",IFERROR(VLOOKUP(AK17,Tabelas!B:D,3,0),0),\"\")","v":0},{"$f":"IF(A17<>\"\",IFERROR(VLOOKUP(AL17,Tabelas!B:D,3,0),0),\"\")","v":6},{"$f":"IF(A17<>\"\",IFERROR(VLOOKUP(AM17,Tabelas!B:D,3,0),0),\"\")","v":6},{"$f":"IF(A17<>\"\",IFERROR(VLOOKUP(AN17,Tabelas!B:D,3,0),0),\"\")","v":6},{"$f":"IF(A17<>\"\",IFERROR(VLOOKUP(AO17,Tabelas!B:D,3,0),0),\"\")","v":6},{"$f":"IF(A17<>\"\",IFERROR(VLOOKUP(AP17,Tabelas!B:D,3,0),0),\"\")","v":0},{"$f":"IF(A17<>\"\",IFERROR(VLOOKUP(AQ17,Tabelas!B:D,3,0),0),\"\")","v":6},102,0,0,0,0,0,0,0]
["Vinícius D. Pedro",null,null,"ME","RJU",30,null,null,null,null,null,null,null,null,null,null,"T17","T17","T17","D8",null,null,null,"T17","T17","T17","D8",null,null,null,"T17","T17","T17","D8",null,null,null,"T17","T17","T17","D8",null,null,{"$f":"IF(A18<>\"\",IFERROR(VLOOKUP(M18,Tabelas!B:D,3,0),0),\"\")","v":0},{"$f":"IF(A18<>\"\",IFERROR(VLOOKUP(N18,Tabelas!B:D,3,0),0),\"\")","v":0},{"$f":"IF(A18<>\"\",IFERROR(VLOOKUP(O18,Tabelas!B:D,3,0),0),\"\")","v":0},{"$f":"IF(A18<>\"\",IFERROR(VLOOKUP(P18,Tabelas!B:D,3,0),0),\"\")","v":0},{"$f":"IF(A18<>\"\",IFERROR(VLOOKUP(Q18,Tabelas!B:D,3,0),0),\"\")","v":6},{"$f":"IF(A18<>\"\",IFERROR(VLOOKUP(R18,Tabelas!B:D,3,0),0),\"\")","v":6},{"$f":"IF(A18<>\"\",IFERROR(VLOOKUP(S18,Tabelas!B:D,3,0),0),\"\")","v":6},{"$f":"IF(A18<>\"\",IFERROR(VLOOKUP(T18,Tabelas!B:D,3,0),0),\"\")","v":12},{"$f":"IF(A18<>\"\",IFERROR(VLOOKUP(U18,Tabelas!B:D,3,0),0),\"\")","v":0},{"$f":"IF(A18<>\"\",IFERROR(VLOOKUP(V18,Tabelas!B:D,3,0),0),\"\")","v":0},{"$f":"IF(A18<>\"\",IFERROR(VLOOKUP(W18,Tabelas!B:D,3,0),0),\"\")","v":0},{"$f":"IF(A18<>\"\",IFERROR(VLOOKUP(X18,Tabelas!B:D,3,0),0),\"\")","v":6},{"$f":"IF(A18<>\"\",IFERROR(VLOOKUP(Y18,Tabelas!B:D,3,0),0),\"\")","v":6},{"$f":"IF(A18<>\"\",IFERROR(VLOOKUP(Z18,Tabelas!B:D,3,0),0),\"\")","v":6},{"$f":"IF(A18<>\"\",IFERROR(VLOOKUP(AA18,Tabelas!B:D,3,0),0),\"\")","v":12},{"$f":"IF(A18<>\"\",IFERROR(VLOOKUP(AB18,Tabelas!B:D,3,0),0),\"\")","v":0},{"$f":"IF(A18<>\"\",IFERROR(VLOOKUP(AC18,Tabelas!B:D,3,0),0),\"\")","v":0},{"$f":"IF(A18<>\"\",IFERROR(VLOOKUP(AD18,Tabelas!B:D,3,0),0),\"\")","v":0},{"$f":"IF(A18<>\"\",IFERROR(VLOOKUP(AE18,Tabelas!B:D,3,0),0),\"\")","v":6},{"$f":"IF(A18<>\"\",IFERROR(VLOOKUP(AF18,Tabelas!B:D,3,0),0),\"\")","v":6},{"$f":"IF(A18<>\"\",IFERROR(VLOOKUP(AG18,Tabelas!B:D,3,0),0),\"\")","v":6},{"$f":"IF(A18<>\"\",IFERROR(VLOOKUP(AH18,Tabelas!B:D,3,0),0),\"\")","v":12},{"$f":"IF(A18<>\"\",IFERROR(VLOOKUP(AI18,Tabelas!B:D,3,0),0),\"\")","v":0},{"$f":"IF(A18<>\"\",IFERROR(VLOOKUP(AJ18,Tabelas!B:D,3,0),0),\"\")","v":0},{"$f":"IF(A18<>\"\",IFERROR(VLOOKUP(AK18,Tabelas!B:D,3,0),0),\"\")","v":0},{"$f":"IF(A18<>\"\",IFERROR(VLOOKUP(AL18,Tabelas!B:D,3,0),0),\"\")","v":6},{"$f":"IF(A18<>\"\",IFERROR(VLOOKUP(AM18,Tabelas!B:D,3,0),0),\"\")","v":6},{"$f":"IF(A18<>\"\",IFERROR(VLOOKUP(AN18,Tabelas!B:D,3,0),0),\"\")","v":6},{"$f":"IF(A18<>\"\",IFERROR(VLOOKUP(AO18,Tabelas!B:D,3,0),0),\"\")","v":12},{"$f":"IF(A18<>\"\",IFERROR(VLOOKUP(AP18,Tabelas!B:D,3,0),0),\"\")","v":0},{"$f":"IF(A18<>\"\",IFERROR(VLOOKUP(AQ18,Tabelas!B:D,3,0),0),\"\")","v":0},120,0,0,0,0,0,0,0]
[]
[]
[null,null,null,null,null,null,null,null,null,null,null,null,null,null,null,null,null,null,null,null,null,null,null,null,null,null,null,null,null,null,null,null,null,null,null,null,null,null,null,null,null,null,null,{"$f":"IF(A21<>\"\",IFERROR(VLOOKUP(M21,Tabelas!B:D,3,0),0),\"\")","v":""},{"$f":"IF(A21<>\"\",IFERROR(VLOOKUP(N21,Tabelas!B:D,3,0),0),\"\")","v":""},{"$f":"IF(A21<>\"\",IFERROR(VLOOKUP(O21,Tabelas!B:D,3,0),0),\"\")","v":""},{"$f":"IF(A21<>\"\",IFERROR(VLOOKUP(P21,Tabelas!B:D,3,0),0),\"\")","v":""},{"$f":"IF(A21<>\"\",IFERROR(VLOOKUP(Q21,Tabelas!B:D,3,0),0),\"\")","v":""},{"$f":"IF(A21<>\"\",IFERROR(VLOOKUP(R21,Tabelas!B:D,3,0),0),\"\")","v":""},{"$f":"IF(A21<>\"\",IFERROR(VLOOKUP(S21,Tabelas!B:D,3,0),0),\"\")","v":""},{"$f":"IF(A21<>\"\",IFERROR(VLOOKUP(T21,Tabelas!B:D,3,0),0),\"\")","v":""},{"$f":"IF(A21<>\"\",IFERROR(VLOOKUP(U21,Tabelas!B:D,3,0),0),\"\")","v":""},{"$f":"IF(A21<>\"\",IFERROR(VLOOKUP(V21,Tabelas!B:D,3,0),0),\"\")","v":""},{"$f":"IF(A21<>\"\",IFERROR(VLOOKUP(W21,Tabelas!B:D,3,0),0),\"\")","v":""},{"$f":"IF(A21<>\"\",IFERROR(VLOOKUP(X21,Tabelas!B:D,3,0),0),\"\")","v":""},{"$f":"IF(A21<>\"\",IFERROR(VLOOKUP(Y21,Tabelas!B:D,3,0),0),\"\")","v":""},{"$f":"IF(A21<>\"\",IFERROR(VLOOKUP(Z21,Tabelas!B:D,3,0),0),\"\")","v":""},{"$f":"IF(A21<>\"\",IFERROR(VLOOKUP(AA21,Tabelas!B:D,3,0),0),\"\")","v":""},{"$f":"IF(A21<>\"\",IFERROR(VLOOKUP(AB21,Tabelas!B:D,3,0),0),\"\")","v":""},{"$f":"IF(A21<>\"\",IFERROR(VLOOKUP(AC21,Tabelas!B:D,3,0),0),\"\")","v":""},{"$f":"IF(A21<>\"\",IFERROR(VLOOKUP(AD21,Tabelas!B:D,3,0),0),\"\")","v":""},{"$f":"IF(A21<>\"\",IFERROR(VLOOKUP(AE21,Tabelas!B:D,3,0),0),\"\")","v":""},{"$f":"IF(A21<>\"\",IFERROR(VLOOKUP(AF21,Tabelas!B:D,3,0),0),\"\")","v":""},{"$f":"IF(A21<>\"\",IFERROR(VLOOKUP(AG21,Tabelas!B:D,3,0),0),\"\")","v":""},{"$f":"IF(A21<>\"\",IFERROR(VLOOKUP(AH21,Tabelas!B:D,3,0),0),\"\")","v":""},{"$f":"IF(A21<>\"\",IFERROR(VLOOKUP(AI21,Tabelas!B:D,3,0),0),\"\")","v":""},{"$f":"IF(A21<>\"\",IFERROR(VLOOKUP(AJ21,Tabelas!B:D,3,0),0),\"\")","v":""},{"$f":"IF(A21<>\"\",IFERROR(VLOOKUP(AK21,Tabelas!B:D,3,0),0),\"\")","v":""},{"$f":"IF(A21<>\"\",IFERROR(VLOOKUP(AL21,Tabelas!B:D,3,0),0),\"\")","v":""},{"$f":"IF(A21<>\"\",IFERROR(VLOOKUP(AM21,Tabelas!B:D,3,0),0),\"\")","v":""},{"$f":"IF(A21<>\"\",IFERROR(VLOOKUP(AN21,Tabelas!B:D,3,0),0),\"\")","v":""},{"$f":"IF(A21<>\"\",IFERROR(VLOOKUP(AO21,Tabelas!B:D,3,0),0),\"\")","v":""},{"$f":"IF(A21<>\"\",IFERROR(VLOOKUP(AP21,Tabelas!B:D,3,0),0),\"\")","v":""},{"$f":"IF(A21<>\"\",IFERROR(VLOOKUP(AQ21,Tabelas!B:D,3,0),0),\"\")","v":""},{"$f":"IF(AND(A21<>\"\",E21=\"Ebserh\"),SUM(AR21:BV21)+COUNTIF(M21:AQ21,\"N*\")+COUNTIF(M21:AQ21,\"DN*\"),IF(AND(A21<>\"\",E21<>\"Ebserh\"),SUM(AR21:BV21),\"\"))","v":""},{"$f":"IF(A21<>\"\",COUNTIF(M21:AQ21,\"LM\")+COUNTIF(M21:AQ21,\"L\")+COUNTIF(M21:AQ21,\"LP\"),\"\")","v":""},{"$f":"IF(A21<>\"\",COUNTIF(M21:AQ21,\"AB*\"),\"\")","v":""},{"$f":"IF(A21<>\"\",COUNTIF(M21:AQ21,\"FE\"),\"\")","v":""},{"$f":"IF(A21<>\"\",COUNTIF(M21:AQ21,\"LC\"),\"\")","v":""},{"$f":"IF(A21<>\"\",COUNTIF(M21:AQ21,\"CH*\"),\"\")","v":""},{"$f":"IF(A21<>\"\",COUNTIF(M21:AQ21,\"AF1\")+COUNTIF(M21:AQ21,\"AF2\")+COUNTIF(M21:AQ21,\"AF3\")+COUNTIF(M21:AQ21,\"AF4\")+COUNTIF(M21:AQ21,\"AF5\")+COUNTIF(M21:AQ21,\"AF6\")+COUNTIF(M21:AQ21,\"AF7\")+COUNTIF(M21:AQ21,\"AF8\")+COUNTIF(M21:AQ21,\"AF9\")+COUNTIF(M21:AQ21,\"AF10\")+COUNTIF(M21:AQ21,\"AF11\")+COUNTIF(M21:AQ21,\"AF12\")+COUNTIF(M21:AQ21,\"AF13\")+COUNTIF(M21:AQ21,\"AF14\"),\"\")","v":""},{"$f":"IF(A21<>\"\",COUNTIF(M21:AQ21,\"CH*\")+COUNTIF(M21:AQ21,\"L\")+COUNTIF(M21:AQ21,\"LM\")+COUNTIF(M21:AQ21,\"LP\")+COUNTIF(M21:AQ21,\"LC\")+COUNTIF(M21:AQ21,\"AB*\")+COUNTIF(M21:AQ21,\"AF1\")+COUNTIF(M21:AQ21,\"AF2\")+COUNTIF(M21:AQ21,\"AF3\")+COUNTIF(M21:AQ21,\"AF4\")+COUNTIF(M21:AQ21,\"AF5\")+COUNTIF(M21:AQ21,\"AF6\")+COUNTIF(M21:AQ21,\"AF7\")+COUNTIF(M21:AQ21,\"AF8\")+COUNTIF(M21:AQ21,\"AF9\")+COUNTIF(M21:AQ21,\"AF10\")+COUNTIF(M21:AQ21,\"AF11\")+COUNTIF(M21:AQ21,\"AF12\")+COUNTIF(M21:AQ21,\"AF13\")+COUNTIF(M21:AQ21,\"AF14\")+COUNTIF(M21:AQ21,\"RC\")+COUNTIF(M21:AQ21,\"FO\")+COUNTIF(M21:AQ21,\"FE\"),\"\")","v":""}]
["PLANTÃO",null,null,null,null,null,null,null,null,null,null,null,null,null,null,null,null,null,null,null,null,null,null,null,null,null,null,null,null,null,null,null,null,null,null,null,null,null,null,null,null,null,null,{"$f":"IF(A22<>\"\",IFERROR(VLOOKUP(M22,Tabelas!B:D,3,0),0),\"\")","v":0},{"$f":"IF(A22<>\"\",IFERROR(VLOOKUP(N22,Tabelas!B:D,3,0),0),\"\")","v":0},{"$f":"IF(A22<>\"\",IFERROR(VLOOKUP(O22,Tabelas!B:D,3,0),0),\"\")","v":0},{"$f":"IF(A22<>\"\",IFERROR(VLOOKUP(P22,Tabelas!B:D,3,0),0),\"\")","v":0},{"$f":"IF(A22<>\"\",IFERROR(VLOOKUP(Q22,Tabelas!B:D,3,0),0),\"\")","v":0},{"$f":"IF(A22<>\"\",IFERROR(VLOOKUP(R22,Tabelas!B:D,3,0),0),\"\")","v":0},{"$f":"IF(A22<>\"\",IFERROR(VLOOKUP(S22,Tabelas!B:D,3,0),0),\"\")","v":0},{"$f":"IF(A22<>\"\",IFERROR(VLOOKUP(T22,Tabelas!B:D,3,0),0),\"\")","v":0},{"$f":"IF(A22<>\"\",IFERROR(VLOOKUP(U22,Tabelas!B:D,3,0),0),\"\")","v":0},{"$f":"IF(A22<>\"\",IFERROR(VLOOKUP(V22,Tabelas!B:D,3,0),0),\"\")","v":0},{"$f":"IF(A22<>\"\",IFERROR(VLOOKUP(W22,Tabelas!B:D,3,0),0),\"\")","v":0},{"$f":"IF(A22<>\"\",IFERROR(VLOOKUP(X22,Tabelas!B:D,3,0),0),\"\")","v":0},{"$f":"IF(A22<>\"\",IFERROR(VLOOKUP(Y22,Tabelas!B:D,3,0),0),\"\")","v":0},{"$f":"IF(A22<>\"\",IFERROR(VLOOKUP(Z22,Tabelas!B:D,3,0),0),\"\")","v":0},{"$f":"IF(A22<>\"\",IFERROR(VLOOKUP(AA22,Tabelas!B:D,3,0),0),\"\")","v":0},{"$f":"IF(A22<>\"\",IFERROR(VLOOKUP(AB22,Tabelas!B:D,3,0),0),\"\")","v":0},{"$f":"IF(A22<>\"\",IFERROR(VLOOKUP(AC22,Tabelas!B:D,3,0),0),\"\")","v":0},{"$f":"IF(A22<>\"\",IFERROR(VLOOKUP(AD22,Tabelas!B:D,3,0),0),\"\")","v":0},{"$f":"IF(A22<>\"\",IFERROR(VLOOKUP(AE22,Tabelas!B:D,3,0),0),\"\")","v":0},{"$f":"IF(A22<>\"\",IFERROR(VLOOKUP(AF22,Tabelas!B:D,3,0),0),\"\")","v":0},{"$f":"IF(A22<>\"\",IFERROR(VLOOKUP(AG22,Tabelas!B:D,3,0),0),\"\")","v":0},{"$f":"IF(A22<>\"\",IFERROR(VLOOKUP(AH22,Tabelas!B:D,3,0),0),\"\")","v":0},{"$f":"IF(A22<>\"\",IFERROR(VLOOKUP(AI22,Tabelas!B:D,3,0),0),\"\")","v":0},{"$f":"IF(A22<>\"\",IFERROR(VLOOKUP(AJ22,Tabelas!B:D,3,0),0),\"\")","v":0},{"$f":"IF(A22<>\"\",IFERROR(VLOOKUP(AK22,Tabelas!B:D,3,0),0),\"\")","v":0},{"$f":"IF(A22<>\"\",IFERROR(VLOOKUP(AL22,Tabelas!B:D,3,0),0),\"\")","v":0},{"$f":"IF(A22<>\"\",IFERROR(VLOOKUP(AM22,Tabelas!B:D,3,0),0),\"\")","v":0},{"$f":"IF(A22<>\"\",IFERROR(VLOOKUP(AN22,Tabelas!B:D,3,0),0),\"\")","v":0},{"$f":"IF(A22<>\"\",IFERROR(VLOOKUP(AO22,Tabelas!B:D,3,0),0),\"\")","v":0},{"$f":"IF(A22<>\"\",IFERROR(VLOOKUP(AP22,Tabelas!B:D,3,0),0),\"\")","v":0},{"$f":"IF(A22<>\"\",IFERROR(VLOOKUP(AQ22,Tabelas!B:D,3,0),0),\"\")","v":0},0,0,0,0,0,0,0,0]
["Air Luis Zambom",1824250,null,"ME","RJU",40,null,null,null,null,null,null,null,null,null,null,null,null,null,null,null,null,null,null,null,null,null,null,null,null,null,null,null,"N10",null,"D8",null,null,"N10",null,null,null,null,{"$f":"IF(A23<>\"\",IFERROR(VLOOKUP(M23,Tabelas!B:D,3,0),0),\"\")","v":0},{"$f":"IF(A23<>\"\",IFERROR(VLOOKUP(N23,Tabelas!B:D,3,0),0),\"\")","v":0},{"$f":"IF(A23<>\"\",IFERROR(VLOOKUP(O23,Tabelas!B:D,3,0),0),\"\")","v":0},{"$f":"IF(A23<>\"\",IFERROR(VLOOKUP(P23,Tabelas!B:D,3,0),0),\"\")","v":0},{"$f":"IF(A23<>\"\",IFERROR(VLOOKUP(Q23,Tabelas!B:D,3,0),0),\"\")","v":0},{"$f":"IF(A23<>\"\",IFERROR(VLOOKUP(R23,Tabelas!B:D,3,0),0),\"\")","v":0},{"$f":"IF(A23<>\"\",IFERROR(VLOOKUP(S23,Tabelas!B:D,3,0),0),\"\")","v":0},{"$f":"IF(A23<>\"\",IFERROR(VLOOKUP(T23,Tabelas!B:D,3,0),0),\"\")","v":0},{"$f":"IF(A23<>\"\",IFERROR(VLOOKUP(U23,Tabelas!B:D,3,0),0),\"\")","v":0},{"$f":"IF(A23<>\"\",IFERROR(VLOOKUP(V23,Tabelas!B:D,3,0),0),\"\")","v":0},{"$f":"IF(A23<>\"\",IFERROR(VLOOKUP(W23,Tabelas!B:D,3,0),0),\"\")","v":0},{"$f":"IF(A23<>\"\",IFERROR(VLOOKUP(X23,Tabelas!B:D,3,0),0),\"\")","v":0},{"$f":"IF(A23<>\"\",IFERROR(VLOOKUP(Y23,Tabelas!B:D,3,0),0),\"\")","v":0},{"$f":"IF(A23<>\"\",IFERROR(VLOOKUP(Z23,Tabelas!B:D,3,0),0),\"\")","v":0},{"$f":"IF(A23<>\"\",IFERROR(VLOOKUP(AA23,Tabelas!B:D,3,0),0),\"\")","v":0},{"$f":"IF(A23<>\"\",IFERROR(VLOOKUP(AB23,Tabelas!B:D,3,0),0),\"\")","v":0},{"$f":"IF(A23<>\"\",IFERROR(VLOOKUP(AC23,Tabelas!B:D,3,0),0),\"\")","v":0},{"$f":"IF(A23<>\"\",IFERROR(VLOOKUP(AD23,Tabelas!B:D,3,0),0),\"\")","v":0},{"$f":"IF(A23<>\"\",IFERROR(VLOOKUP(AE23,Tabelas!B:D,3,0),0),\"\")","v":0},{"$f":"IF(A23<>\"\",IFERROR(VLOOKUP(AF23,Tabelas!B:D,3,0),0),\"\")","v":0},{"$f":"IF(A23<>\"\",IFERROR(VLOOKUP(AG23,Tabelas!B:D,3,0),0),\"\")","v":0},{"$f":"IF(A23<>\"\",IFERROR(VLOOKUP(AH23,Tabelas!B:D,3,0),0),\"\")","v":12},{"$f":"IF(A23<>\"\",IFERROR(VLOOKUP(AI23,Tabelas!B:D,3,0),0),\"\")","v":0},{"$f":"IF(A23<>\"\",IFERROR(VLOOKUP(AJ23,Tabelas!B:D,3,0),0),\"\")","v":12},{"$f":"IF(A23<>\"\",IFERROR(VLOOKUP(AK23,Tabelas!B:D,3,0),0),\"\")","v":0},{"$f":"IF(A23<>\"\",IFERROR(VLOOKUP(AL23,Tabelas!B:D,3,0),0),\"\")","v":0},{"$f":"IF(A23<>\"\",IFERROR(VLOOKUP(AM23,Tabelas!B:D,3,0),0),\"\")","v":12},{"$f":"IF(A23<>\"\",IFERROR(VLOOKUP(AN23,Tabelas!B:D,3,0),0),\"\")","v":0},{"$f":"IF(A23<>\"\",IFERROR(VLOOKUP(AO23,Tabelas!B:D,3,0),0),\"\")","v":0},{"$f":"IF(A23<>\"\",IFERROR(VLOOKUP(AP23,Tabelas!B:D,3,0),0),\"\")","v":0},{"$f":"IF(A23<>\"\",IFERROR(VLOOKUP(AQ23,Tabelas!B:D,3,0),0),\"\")","v":0},36,0,0,0,0,0,0,0]
["Aline Varela Dias",1331684,null,"ME","RJU",20,null,null,null,null,null,null,null,null,"N10",null,null,null,null,null,"N10",null,null,null,"N10",null,null,"D8",null,null,null,null,"N10",null,null,"D8",null,null,null,null,"N10",null,null,{"$f":"IF(A24<>\"\",IFERROR(VLOOKUP(M24,Tabelas!B:D,3,0),0),\"\")","v":0},{"$f":"IF(A24<>\"\",IFERROR(VLOOKUP(N24,Tabelas!B:D,3,0),0),\"\")","v":0},{"$f":"IF(A24<>\"\",IFERROR(VLOOKUP(O24,Tabelas!B:D,3,0),0),\"\")","v":12},{"$f":"IF(A24<>\"\",IFERROR(VLOOKUP(P24,Tabelas!B:D,3,0),0),\"\")","v":0},{"$f":"IF(A24<>\"\",IFERROR(VLOOKUP(Q24,Tabelas!B:D,3,0),0),\"\")","v":0},{"$f":"IF(A24<>\"\",IFERROR(VLOOKUP(R24,Tabelas!B:D,3,0),0),\"\")","v":0},{"$f":"IF(A24<>\"\",IFERROR(VLOOKUP(S24,Tabelas!B:D,3,0),0),\"\")","v":0},{"$f":"IF(A24<>\"\",IFERROR(VLOOKUP(T24,Tabelas!B:D,3,0),0),\"\")","v":0},{"$f":"IF(A24<>\"\",IFERROR(VLOOKUP(U24,Tabelas!B:D,3,0),0),\"\")","v":12},{"$f":"IF(A24<>\"\",IFERROR(VLOOKUP(V24,Tabelas!B:D,3,0),0),\"\")","v":0},{"$f":"IF(A24<>\"\",IFERROR(VLOOKUP(W24,Tabelas!B:D,3,0),0),\"\")","v":0},{"$f":"IF(A24<>\"\",IFERROR(VLOOKUP(X24,Tabelas!B:D,3,0),0),\"\")","v":0},{"$f":"IF(A24<>\"\",IFERROR(VLOOKUP(Y24,Tabelas!B:D,3,0),0),\"\")","v":12},{"$f":"IF(A24<>\"\",IFERROR(VLOOKUP(Z24,Tabelas!B:D,3,0),0),\"\")","v":0},{"$f":"IF(A24<>\"\",IFERROR(VLOOKUP(AA24,Tabelas!B:D,3,0),0),\"\")","v":0},{"$f":"IF(A24<>\"\",IFERROR(VLOOKUP(AB24,Tabelas!B:D,3,0),0),\"\")","v":12},{"$f":"IF(A24<>\"\",IFERROR(VLOOKUP(AC24,Tabelas!B:D,3,0),0),\"\")","v":0},{"$f":"IF(A24<>\"\",IFERROR(VLOOKUP(AD24,Tabelas!B:D,3,0),0),\"\")","v":0},{"$f":"IF(A24<>\"\",IFERROR(VLOOKUP(AE24,Tabelas!B:D,3,0),0),\"\")","v":0},{"$f":"IF(A24<>\"\",IFERROR(VLOOKUP(AF24,Tabelas!B:D,3,0),0),\"\")","v":0},{"$f":"IF(A24<>\"\",IFERROR(VLOOKUP(AG24,Tabelas!B:D,3,0),0),\"\")","v":12},{"$f":"IF(A24<>\"\",IFERROR(VLOOKUP(AH24,Tabelas!B:D,3,0),0),\"\")","v":0},{"$f":"IF(A24<>\"\",IFERROR(VLOOKUP(AI24,Tabelas!B:D,3,0),0),\"\")","v":0},{"$f":"IF(A24<>\"\",IFERROR(VLOOKUP(AJ24,Tabelas!B:D,3,0),0),\"\")","v":12},{"$f":"IF(A24<>\"\",IFERROR(VLOOKUP(AK24,Tabelas!B:D,3,0),0),\"\")","v":0},{"$f":"IF(A24<>\"\",IFERROR(VLOOKUP(AL24,Tabelas!B:D,3,0),0),\"\")","v":0},{"$f":"IF(A24<>\"\",IFERROR(VLOOKUP(AM24,Tabelas!B:D,3,0),0),\"\")","v":0},{"$f":"IF(A24<>\"\",IFERROR(VLOOKUP(AN24,Tabelas!B:D,3,0),0),\"\")","v":0},{"$f":"IF(A24<>\"\",IFERROR(VLOOKUP(AO24,Tabelas!B:D,3,0),0),\"\")","v":12},{"$f":"IF(A24<>\"\",IFERROR(VLOOKUP(AP24,Tabelas!B:D,3,0),0),\"\")","v":0},{"$f":"IF(A24<>\"\",IFERROR(VLOOKUP(AQ24,Tabelas!B:D,3,0),0),\"\")","v":0},84,0,0,0,0,0,0,0]
["Anelise Schaeffer da Silveira",1919390,null,"ME","EBSERH",24,null,null,null,null,null,null,null,"N10",null,null,null,"N10",null,null,null,null,null,null,null,"N10",null,"D8",null,null,null,null,null,"N10",null,"N10",null,null,"N10",null,null,null,"N10",{"$f":"IF(A25<>\"\",IFERROR(VLOOKUP(M25,Tabelas!B:D,3,0),0),\"\")","v":0},{"$f":"IF(A25<>\"\",IFERROR(VLOOKUP(N25,Tabelas!B:D,3,0),0),\"\")","v":12},{"$f":"IF(A25<>\"\",IFERROR(VLOOKUP(O25,Tabelas!B:D,3,0),0),\"\")","v":0},{"$f":"IF(A25<>\"\",IFERROR(VLOOKUP(P25,Tabelas!B:D,3,0),0),\"\")","v":0},{"$f":"IF(A25<>\"\",IFERROR(VLOOKUP(Q25,Tabelas!B:D,3,0),0),\"\")","v":0},{"$f":"IF(A25<>\"\",IFERROR(VLOOKUP(R25,Tabelas!B:D,3,0),0),\"\")","v":12},{"$f":"IF(A25<>\"\",IFERROR(VLOOKUP(S25,Tabelas!B:D,3,0),0),\"\")","v":0},{"$f":"IF(A25<>\"\",IFERROR(VLOOKUP(T25,Tabelas!B:D,3,0),0),\"\")","v":0},{"$f":"IF(A25<>\"\",IFERROR(VLOOKUP(U25,Tabelas!B:D,3,0),0),\"\")","v":0},{"$f":"IF(A25<>\"\",IFERROR(VLOOKUP(V25,Tabelas!B:D,3,0),0),\"\")","v":0},{"$f":"IF(A25<>\"\",IFERROR(VLOOKUP(W25,Tabelas!B:D,3,0),0),\"\")","v":0},{"$f":"IF(A25<>\"\",IFERROR(VLOOKUP(X25,Tabelas!B:D,3,0),0),\"\")","v":0},{"$f":"IF(A25<>\"\",IFERROR(VLOOKUP(Y25,Tabelas!B:D,3,0),0),\"\")","v":0},{"$f":"IF(A25<>\"\",IFERROR(VLOOKUP(Z25,Tabelas!B:D,3,0),0),\"\")","v":12},{"$f":"IF(A25<>\"\",IFERROR(VLOOKUP(AA25,Tabelas!B:D,3,0),0),\"\")","v":0},{"$f":"IF(A25<>\"\",IFERROR(VLOOKUP(AB25,Tabelas!B:D,3,0),0),\"\")","v":12},{"$f":"IF(A25<>\"\",IFERROR(VLOOKUP(AC25,Tabelas!B:D,3,0),0),\"\")","v":0},{"$f":"IF(A25<>\"\",IFERROR(VLOOKUP(AD25,Tabelas!B:D,3,0),0),\"\")","v":0},{"$f":"IF(A25<>\"\",IFERROR(VLOOKUP(AE25,Tabelas!B:D,3,0),0),\"\")","v":0},{"$f":"IF(A25<>\"\",IFERROR(VLOOKUP(AF25,Tabelas!B:D,3,0),0),\"\")","v":0},{"$f":"IF(A25<>\"\",IFERROR(VLOOKUP(AG25,Tabelas!B:D,3,0),0),\"\")","v":0},{"$f":"IF(A25<>\"\",IFERROR(VLOOKUP(AH25,Tabelas!B:D,3,0),0),\"\")","v":12},{"$f":"IF(A25<>\"\",IFERROR(VLOOKUP(AI25,Tabelas!B:D,3,0),0),\"\")","v":0},{"$f":"IF(A25<>\"\",IFERROR(VLOOKUP(AJ25,Tabelas!B:D,3,0),0),\"\")","v":12},{"$f":"IF(A25<>\"\",IFERROR(VLOOKUP(AK25,Tabelas!B:D,3,0),0),\"\")","v":0},{"$f":"IF(A25<>\"\",IFERROR(VLOOKUP(AL25,Tabelas!B:D,3,0),0),\"\")","v":0},{"$f":"IF(A25<>\"\",IFERROR(VLOOKUP(AM25,Tabelas!B:D,3,0),0),\"\")","v":12},{"$f":"IF(A25<>\"\",IFERROR(VLOOKUP(AN25,Tabelas!B:D,3,0),0),\"\")","v":0},{"$f":"IF(A25<>\"\",IFERROR(VLOOKUP(AO25,Tabelas!B:D,3,0),0),\"\")","v":0},{"$f":"IF(A25<>\"\",IFERROR(VLOOKUP(AP25,Tabelas!B:D,3,0),0),\"\")","v":0},{"$f":"IF(A25<>\"\",IFERROR(VLOOKUP(AQ25,Tabelas!B:D,3,0),0),\"\")","v":12},103,0,0,0,0,0,0,0]
["Duane José Milioli",1824201,null,"ME","RJU",20,null,null,null,null,null,null,null,"N10","D8",null,null,null,"N10",null,null,null,null,null,null,null,"N10",null,null,null,null,null,null,null,"DN6",null,"N10",null,null,null,null,null,null,{"$f":"IF(A26<>\"\",IFERROR(VLOOKUP(M26,Tabelas!B:D,3,0),0),\"\")","v":0},{"$f":"IF(A26<>\"\",IFERROR(VLOOKUP(N26,Tabelas!B:D,3,0),0),\"\")","v":12},{"$f":"IF(A26<>\"\",IFERROR(VLOOKUP(O26,Tabelas!B:D,3,0),0),\"\")","v":12},{"$f":"IF(A26<>\"\",IFERROR(VLOOKUP(P26,Tabelas!B:D,3,0),0),\"\")","v":0},{"$f":"IF(A26<>\"\",IFERROR(VLOOKUP(Q26,Tabelas!B:D,3,0),0),\"\")","v":0},{"$f":"IF(A26<>\"\",IFERROR(VLOOKUP(R26,Tabelas!B:D,3,0),0),\"\")","v":0},{"$f":"IF(A26<>\"\",IFERROR(VLOOKUP(S26,Tabelas!B:D,3,0),0),\"\")","v":12},{"$f":"IF(A26<>\"\",IFERROR(VLOOKUP(T26,Tabelas!B:D,3,0),0),\"\")","v":0},{"$f":"IF(A26<>\"\",IFERROR(VLOOKUP(U26,Tabelas!B:D,3,0),0),\"\")","v":0},{"$f":"IF(A26<>\"\",IFERROR(VLOOKUP(V26,Tabelas!B:D,3,0),0),\"\")","v":0},{"$f":"IF(A26<>\"\",IFERROR(VLOOKUP(W26,Tabelas!B:D,3,0),0),\"\")","v":0},{"$f":"IF(A26<>\"\",IFERROR(VLOOKUP(X26,Tabelas!B:D,3,0),0),\"\")","v":0},{"$f":"IF(A26<>\"\",IFERROR(VLOOKUP(Y26,Tabelas!B:D,3,0),0),\"\")","v":0},{"$f":"IF(A26<>\"\",IFERROR(VLOOKUP(Z26,Tabelas!B:D,3,0),0),\"\")","v":0},{"$f":"IF(A26<>\"\",IFERROR(VLOOKUP(AA26,Tabelas!B:D,3,0),0),\"\")","v":12},{"$f":"IF(A26<>\"\",IFERROR(VLOOKUP(AB26,Tabelas!B:D,3,0),0),\"\")","v":0},{"$f":"IF(A26<>\"\",IFERROR(VLOOKUP(AC26,Tabelas!B:D,3,0),0),\"\")","v":0},{"$f":"IF(A26<>\"\",IFERROR(VLOOKUP(AD26,Tabelas!B:D,3,0),0),\"\")","v":0},{"$f":"IF(A26<>\"\",IFERROR(VLOOKUP(AE26,Tabelas!B:D,3,0),0),\"\")","v":0},{"$f":"IF(A26<>\"\",IFERROR(VLOOKUP(AF26,Tabelas!B:D,3,0),0),\"\")","v":0},{"$f":"IF(A26<>\"\",IFERROR(VLOOKUP(AG26,Tabelas!B:D,3,0),0),\"\")","v":0},{"$f":"IF(A26<>\"\",IFERROR(VLOOKUP(AH26,Tabelas!B:D,3,0),0),\"\")","v":0},{"$f":"IF(A26<>\"\",IFERROR(VLOOKUP(AI26,Tabelas!B:D,3,0),0),\"\")","v":24},{"$f":"IF(A26<>\"\",IFERROR(VLOOKUP(AJ26,Tabelas!B:D,3,0),0),\"\")","v":0},{"$f":"IF(A26<>\"\",IFERROR(VLOOKUP(AK26,Tabelas!B:D,3,0),0),\"\")","v":12},{"$f":"IF(A26<>\"\",IFERROR(VLOOKUP(AL26,Tabelas!B:D,3,0),0),\"\")","v":0},{"$f":"IF(A26<>\"\",IFERROR(VLOOKUP(AM26,Tabelas!B:D,3,0),0),\"\")","v":0},{"$f":"IF(A26<>\"\",IFERROR(VLOOKUP(AN26,Tabelas!B:D,3,0),0),\"\")","v":0},{"$f":"IF(A26<>\"\",IFERROR(VLOOKUP(AO26,Tabelas!B:D,3,0),0),\"\")","v":0},{"$f":"IF(A26<>\"\",IFERROR(VLOOKUP(AP26,Tabelas!B:D,3,0),0),\"\")","v":0},{"$f":"IF(A26<>\"\",IFERROR(VLOOKUP(AQ26,Tabelas!B:D,3,0),0),\"\")","v":0},84,0,0,0,0,0,0,0]
["Eduardo Jardim Berbigier",2604323,null,"ME","RJU",20,null,null,null,null,null,null,null,null,null,"N10",null,null,null,null,null,null,null,"N10",null,null,null,null,"DN6",null,null,"N10",null,null,null,null,null,null,null,null,null,"DN6",null,{"$f":"IF(A27<>\"\",IFERROR(VLOOKUP(M27,Tabelas!B:D,3,0),0),\"\")","v":0},{"$f":"IF(A27<>\"\",IFERROR(VLOOKUP(N27,Tabelas!B:D,3,0),0),\"\")","v":0},{"$f":"IF(A27<>\"\",IFERROR(VLOOKUP(O27,Tabelas!B:D,3,0),0),\"\")","v":0},{"$f":"IF(A27<>\"\",IFERROR(VLOOKUP(P27,Tabelas!B:D,3,0),0),\"\")","v":12},{"$f":"IF(A27<>\"\",IFERROR(VLOOKUP(Q27,Tabelas!B:D,3,0),0),\"\")","v":0},{"$f":"IF(A27<>\"\",IFERROR(VLOOKUP(R27,Tabelas!B:D,3,0),0),\"\")","v":0},{"$f":"IF(A27<>\"\",IFERROR(VLOOKUP(S27,Tabelas!B:D,3,0),0),\"\")","v":0},{"$f":"IF(A27<>\"\",IFERROR(VLOOKUP(T27,Tabelas!B:D,3,0),0),\"\")","v":0},{"$f":"IF(A27<>\"\",IFERROR(VLOOKUP(U27,Tabelas!B:D,3,0),0),\"\")","v":0},{"$f":"IF(A27<>\"\",IFERROR(VLOOKUP(V27,Tabelas!B:D,3,0),0),\"\")","v":0},{"$f":"IF(A27<>\"\",IFERROR(VLOOKUP(W27,Tabelas!B:D,3,0),0),\"\")","v":0},{"$f":"IF(A27<>\"\",IFERROR(VLOOKUP(X27,Tabelas!B:D,3,0),0),\"\")","v":12},{"$f":"IF(A27<>\"\",IFERROR(VLOOKUP(Y27,Tabelas!B:D,3,0),0),\"\")","v":0},{"$f":"IF(A27<>\"\",IFERROR(VLOOKUP(Z27,Tabelas!B:D,3,0),0),\"\")","v":0},{"$f":"IF(A27<>\"\",IFERROR(VLOOKUP(AA27,Tabelas!B:D,3,0),0),\"\")","v":0},{"$f":"IF(A27<>\"\",IFERROR(VLOOKUP(AB27,Tabelas!B:D,3,0),0),\"\")","v":0},{"$f":"IF(A27<>\"\",IFERROR(VLOOKUP(AC27,Tabelas!B:D,3,0),0),\"\")","v":24},{"$f":"IF(A27<>\"\",IFERROR(VLOOKUP(AD27,Tabelas!B:D,3,0),0),\"\")","v":0},{"$f":"IF(A27<>\"\",IFERROR(VLOOKUP(AE27,Tabelas!B:D,3,0),0),\"\")","v":0},{"$f":"IF(A27<>\"\",IFERROR(VLOOKUP(AF27,Tabelas!B:D,3,0),0),\"\")","v":12},{"$f":"IF(A27<>\"\",IFERROR(VLOOKUP(AG27,Tabelas!B:D,3,0),0),\"\")","v":0},{"$f":"IF(A27<>\"\",IFERROR(VLOOKUP(AH27,Tabelas!B:D,3,0),0),\"\")","v":0},{"$f":"IF(A27<>\"\",IFERROR(VLOOKUP(AI27,Tabelas!B:D,3,0),0),\"\")","v":0},{"$f":"IF(A27<>\"\",IFERROR(VLOOKUP(AJ27,Tabelas!B:D,3,0),0),\"\")","v":0},{"$f":"IF(A27<>\"\",IFERROR(VLOOKUP(AK27,Tabelas!B:D,3,0),0),\"\")","v":0},{"$f":"IF(A27<>\"\",IFERROR(VLOOKUP(AL27,Tabelas!B:D,3,0),0),\"\")","v":0},{"$f":"IF(A27<>\"\",IFERROR(VLOOKUP(AM27,Tabelas!B:D,3,0),0),\"\")","v":0},{"$f":"IF(A27<>\"\",IFERROR(VLOOKUP(AN27,Tabelas!B:D,3,0),0),\"\")","v":0},{"$f":"IF(A27<>\"\",IFERROR(VLOOKUP(AO27,Tabelas!B:D,3,0),0),\"\")","v":0},{"$f":"IF(A27<>\"\",IFERROR(VLOOKUP(AP27,Tabelas!B:D,3,0),0),\"\")","v":24},{"$f":"IF(A27<>\"\",IFERROR(VLOOKUP(AQ27,Tabelas!B:D,3,0),0),\"\")","v":0},84,0,0,0,0,0,0,0]
["Fernanda Goss Fontanella",1200689,null,"ME","EBSERH",24,null,null,null,null,null,null,"DN6",null,null,null,null,"N10",null,null,"DN6",null,null,null,null,null,null,null,null,"N10","N10",null,null,null,null,null,null,null,null,"N10",null,null,null,{"$f":"IF(A28<>\"\",IFERROR(VLOOKUP(M28,Tabelas!B:D,3,0),0),\"\")","v":24},{"$f":"IF(A28<>\"\",IFERROR(VLOOKUP(N28,Tabelas!B:D,3,0),0),\"\")","v":0},{"$f":"IF(A28<>\"\",IFERROR(VLOOKUP(O28,Tabelas!B:D,3,0),0),\"\")","v":0},{"$f":"IF(A28<>\"\",IFERROR(VLOOKUP(P28,Tabelas!B:D,3,0),0),\"\")","v":0},{"$f":"IF(A28<>\"\",IFERROR(VLOOKUP(Q28,Tabelas!B:D,3,0),0),\"\")","v":0},{"$f":"IF(A28<>\"\",IFERROR(VLOOKUP(R28,Tabelas!B:D,3,0),0),\"\")","v":12},{"$f":"IF(A28<>\"\",IFERROR(VLOOKUP(S28,Tabelas!B:D,3,0),0),\"\")","v":0},{"$f":"IF(A28<>\"\",IFERROR(VLOOKUP(T28,Tabelas!B:D,3,0),0),\"\")","v":0},{"$f":"IF(A28<>\"\",IFERROR(VLOOKUP(U28,Tabelas!B:D,3,0),0),\"\")","v":24},{"$f":"IF(A28<>\"\",IFERROR(VLOOKUP(V28,Tabelas!B:D,3,0),0),\"\")","v":0},{"$f":"IF(A28<>\"\",IFERROR(VLOOKUP(W28,Tabelas!B:D,3,0),0),\"\")","v":0},{"$f":"IF(A28<>\"\",IFERROR(VLOOKUP(X28,Tabelas!B:D,3,0),0),\"\")","v":0},{"$f":"IF(A28<>\"\",IFERROR(VLOOKUP(Y28,Tabelas!B:D,3,0),0),\"\")","v":0},{"$f":"IF(A28<>\"\",IFERROR(VLOOKUP(Z28,Tabelas!B:D,3,0),0),\"\")","v":0},{"$f":"IF(A28<>\"\",IFERROR(VLOOKUP(AA28,Tabelas!B:D,3,0),0),\"\")","v":0},{"$f":"IF(A28<>\"\",IFERROR(VLOOKUP(AB28,Tabelas!B:D,3,0),0),\"\")","v":0},{"$f":"IF(A28<>\"\",IFERROR(VLOOKUP(AC28,Tabelas!B:D,3,0),0),\"\")","v":0},{"$f":"IF(A28<>\"\",IFERROR(VLOOKUP(AD28,Tabelas!B:D,3,0),0),\"\")","v":12},{"$f":"IF(A28<>\"\",IFERROR(VLOOKUP(AE28,Tabelas!B:D,3,0),0),\"\")","v":12},{"$f":"IF(A28<>\"\",IFERROR(VLOOKUP(AF28,Tabelas!B:D,3,0),0),\"\")","v":0},{"$f":"IF(A28<>\"\",IFERROR(VLOOKUP(AG28,Tabelas!B:D,3,0),0),\"\")","v":0},{"$f":"IF(A28<>\"\",IFERROR(VLOOKUP(AH28,Tabelas!B:D,3,0),0),\"\")","v":0},{"$f":"IF(A28<>\"\",IFERROR(VLOOKUP(AI28,Tabelas!B:D,3,0),0),\"\")","v":0},{"$f":"IF(A28<>\"\",IFERROR(VLOOKUP(AJ28,Tabelas!B:D,3,0),0),\"\")","v":0},{"$f":"IF(A28<>\"\",IFERROR(VLOOKUP(AK28,Tabelas!B:D,3,0),0),\"\")","v":0},{"$f":"IF(A28<>\"\",IFERROR(VLOOKUP(AL28,Tabelas!B:D,3,0),0),\"\")","v":0},{"$f":"IF(A28<>\"\",IFERROR(VLOOKUP(AM28,Tabelas!B:D,3,0),0),\"\")","v":0},{"$f":"IF(A28<>\"\",IFERROR(VLOOKUP(AN28,Tabelas!B:D,3,0),0),\"\")","v":12},{"$f":"IF(A28<>\"\",IFERROR(VLOOKUP(AO28,Tabelas!B:D,3,0),0),\"\")","v":0},{"$f":"IF(A28<>\"\",IFERROR(VLOOKUP(AP28,Tabelas!B:D,3,0),0),\"\")","v":0},{"$f":"IF(A28<>\"\",IFERROR(VLOOKUP(AQ28,Tabelas!B:D,3,0),0),\"\")","v":0},102,0,0,0,0,0,0,0]
["Fernanda Olivo Jakimiu",null,null,"ME","EBSERH",24,null,null,null,null,null,null,"D8","N10",null,null,"N10",null,null,null,null,"D8",null,null,"N10",null,null,null,null,null,null,null,"N10",null,null,"N10",null,"N10",null,null,null,null,null,{"$f":"IF(A29<>\"\",IFERROR(VLOOKUP(M29,Tabelas!B:D,3,0),0),\"\")","v":12},{"$f":"IF(A29<>\"\",IFERROR(VLOOKUP(N29,Tabelas!B:D,3,0),0),\"\")","v":12},{"$f":"IF(A29<>\"\",IFERROR(VLOOKUP(O29,Tabelas!B:D,3,0),0),\"\")","v":0},{"$f":"IF(A29<>\"\",IFERROR(VLOOKUP(P29,Tabelas!B:D,3,0),0),\"\")","v":0},{"$f":"IF(A29<>\"\",IFERROR(VLOOKUP(Q29,Tabelas!B:D,3,0),0),\"\")","v":12},{"$f":"IF(A29<>\"\",IFERROR(VLOOKUP(R29,Tabelas!B:D,3,0),0),\"\")","v":0},{"$f":"IF(A29<>\"\",IFERROR(VLOOKUP(S29,Tabelas!B:D,3,0),0),\"\")","v":0},{"$f":"IF(A29<>\"\",IFERROR(VLOOKUP(T29,Tabelas!B:D,3,0),0),\"\")","v":0},{"$f":"IF(A29<>\"\",IFERROR(VLOOKUP(U29,Tabelas!B:D,3,0),0),\"\")","v":0},{"$f":"IF(A29<>\"\",IFERROR(VLOOKUP(V29,Tabelas!B:D,3,0),0),\"\")","v":12},{"$f":"IF(A29<>\"\",IFERROR(VLOOKUP(W29,Tabelas!B:D,3,0),0),\"\")","v":0},{"$f":"IF(A29<>\"\",IFERROR(VLOOKUP(X29,Tabelas!B:D,3,0),0),\"\")","v":0},{"$f":"IF(A29<>\"\",IFERROR(VLOOKUP(Y29,Tabelas!B:D,3,0),0),\"\")","v":12},{"$f":"IF(A29<>\"\",IFERROR(VLOOKUP(Z29,Tabelas!B:D,3,0),0),\"\")","v":0},{"$f":"IF(A29<>\"\",IFERROR(VLOOKUP(AA29,Tabelas!B:D,3,0),0),\"\")","v":0},{"$f":"IF(A29<>\"\",IFERROR(VLOOKUP(AB29,Tabelas!B:D,3,0),0),\"\")","v":0},{"$f":"IF(A29<>\"\",IFERROR(VLOOKUP(AC29,Tabelas!B:D,3,0),0),\"\")","v":0},{"$f":"IF(A29<>\"\",IFERROR(VLOOKUP(AD29,Tabelas!B:D,3,0),0),\"\")","v":0},{"$f":"IF(A29<>\"\",IFERROR(VLOOKUP(AE29,Tabelas!B:D,3,0),0),\"\")","v":0},{"$f":"IF(A29<>\"\",IFERROR(VLOOKUP(AF29,Tabelas!B:D,3,0),0),\"\")","v":0},{"$f":"IF(A29<>\"\",IFERROR(VLOOKUP(AG29,Tabelas!B:D,3,0),0),\"\")","v":12},{"$f":"IF(A29<>\"\",IFERROR(VLOOKUP(AH29,Tabelas!B:D,3,0),0),\"\")","v":0},{"$f":"IF(A29<>\"\",IFERROR(VLOOKUP(AI29,Tabelas!B:D,3,0),0),\"\")","v":0},{"$f":"IF(A29<>\"\",IFERROR(VLOOKUP(AJ29,Tabelas!B:D,3,0),0),\"\")","v":12},{"$f":"IF(A29<>\"\",IFERROR(VLOOKUP(AK29,Tabelas!B:D,3,0),0),\"\")","v":0},{"$f":"IF(A29<>\"\",IFERROR(VLOOKUP(AL29,Tabelas!B:D,3,0),0),\"\")","v":12},{"$f":"IF(A29<>\"\",IFERROR(VLOOKUP(AM29,Tabelas!B:D,3,0),0),\"\")","v":0},{"$f":"IF(A29<>\"\",IFERROR(VLOOKUP(AN29,Tabelas!B:D,3,0),0),\"\")","v":0},{"$f":"IF(A29<>\"\",IFERROR(VLOOKUP(AO29,Tabelas!B:D,3,0),0),\"\")","v":0},{"$f":"IF(A29<>\"\",IFERROR(VLOOKUP(AP29,Tabelas!B:D,3,0),0),\"\")","v":0},{"$f":"IF(A29<>\"\",IFERROR(VLOOKUP(AQ29,Tabelas!B:D,3,0),0),\"\")","v":0},102,0,0,0,0,0,0,0]
["Irácino José Miranda Júnior",1006032,null,"ME","EBSERH",24,null,null,null,null,null,null,"D8",null,null,null,"N10",null,null,null,"D8",null,"N10",null,null,null,null,null,"N10",null,"N10",null,null,null,null,null,null,null,null,"N10",null,"N10",null,{"$f":"IF(A30<>\"\",IFERROR(VLOOKUP(M30,Tabelas!B:D,3,0),0),\"\")","v":12},{"$f":"IF(A30<>\"\",IFERROR(VLOOKUP(N30,Tabelas!B:D,3,0),0),\"\")","v":0},{"$f":"IF(A30<>\"\",IFERROR(VLOOKUP(O30,Tabelas!B:D,3,0),0),\"\")","v":0},{"$f":"IF(A30<>\"\",IFERROR(VLOOKUP(P30,Tabelas!B:D,3,0),0),\"\")","v":0},{"$f":"IF(A30<>\"\",IFERROR(VLOOKUP(Q30,Tabelas!B:D,3,0),0),\"\")","v":12},{"$f":"IF(A30<>\"\",IFERROR(VLOOKUP(R30,Tabelas!B:D,3,0),0),\"\")","v":0},{"$f":"IF(A30<>\"\",IFERROR(VLOOKUP(S30,Tabelas!B:D,3,0),0),\"\")","v":0},{"$f":"IF(A30<>\"\",IFERROR(VLOOKUP(T30,Tabelas!B:D,3,0),0),\"\")","v":0},{"$f":"IF(A30<>\"\",IFERROR(VLOOKUP(U30,Tabelas!B:D,3,0),0),\"\")","v":12},{"$f":"IF(A30<>\"\",IFERROR(VLOOKUP(V30,Tabelas!B:D,3,0),0),\"\")","v":0},{"$f":"IF(A30<>\"\",IFERROR(VLOOKUP(W30,Tabelas!B:D,3,0),0),\"\")","v":12},{"$f":"IF(A30<>\"\",IFERROR(VLOOKUP(X30,Tabelas!B:D,3,0),0),\"\")","v":0},{"$f":"IF(A30<>\"\",IFERROR(VLOOKUP(Y30,Tabelas!B:D,3,0),0),\"\")","v":0},{"$f":"IF(A30<>\"\",IFERROR(VLOOKUP(Z30,Tabelas!B:D,3,0),0),\"\")","v":0},{"$f":"IF(A30<>\"\",IFERROR(VLOOKUP(AA30,Tabelas!B:D,3,0),0),\"\")","v":0},{"$f":"IF(A30<>\"\",IFERROR(VLOOKUP(AB30,Tabelas!B:D,3,0),0),\"\")","v":0},{"$f":"IF(A30<>\"\",IFERROR(VLOOKUP(AC30,Tabelas!B:D,3,0),0),\"\")","v":12},{"$f":"IF(A30<>\"\",IFERROR(VLOOKUP(AD30,Tabelas!B:D,3,0),0),\"\")","v":0},{"$f":"IF(A30<>\"\",IFERROR(VLOOKUP(AE30,Tabelas!B:D,3,0),0),\"\")","v":12},{"$f":"IF(A30<>\"\",IFERROR(VLOOKUP(AF30,Tabelas!B:D,3,0),0),\"\")","v":0},{"$f":"IF(A30<>\"\",IFERROR(VLOOKUP(AG30,Tabelas!B:D,3,0),0),\"\")","v":0},{"$f":"IF(A30<>\"\",IFERROR(VLOOKUP(AH30,Tabelas!B:D,3,0),0),\"\")","v":0},{"$f":"IF(A30<>\"\",IFERROR(VLOOKUP(AI30,Tabelas!B:D,3,0),0),\"\")","v":0},{"$f":"IF(A30<>\"\",IFERROR(VLOOKUP(AJ30,Tabelas!B:D,3,0),0),\"\")","v":0},{"$f":"IF(A30<>\"\",IFERROR(VLOOKUP(AK30,Tabelas!B:D,3,0),0),\"\")","v":0},{"$f":"IF(A30<>\"\",IFERROR(VLOOKUP(AL30,Tabelas!B:D,3,0),0),\"\")","v":0},{"$f":"IF(A30<>\"\",IFERROR(VLOOKUP(AM30,Tabelas!B:D,3,0),0),\"\")","v":0},{"$f":"IF(A30<>\"\",IFERROR(VLOOKUP(AN30,Tabelas!B:D,3,0),0),\"\")","v":12},{"$f":"IF(A30<>\"\",IFERROR(VLOOKUP(AO30,Tabelas!B:D,3,0),0),\"\")","v":0},{"$f":"IF(A30<>\"\",IFERROR(VLOOKUP(AP30,Tabelas!B:D,3,0),0),\"\")","v":12},{"$f":"IF(A30<>\"\",IFERROR(VLOOKUP(AQ30,Tabelas!B:D,3,0),0),\"\")","v":0},102,0,0,0,0,0,0,0]
["Jaqueline Flores Rohr",null,null,"ME","EBSERH",24,null,null,null,null,null,null,null,null,null,"N10",null,null,null,null,"N10",null,null,"N10",null,null,null,null,"D8",null,null,"N10",null,null,null,null,null,null,null,"N10",null,"D8","N10",{"$f":"IF(A31<>\"\",IFERROR(VLOOKUP(M31,Tabelas!B:D,3,0),0),\"\")","v":0},{"$f":"IF(A31<>\"\",IFERROR(VLOOKUP(N31,Tabelas!B:D,3,0),0),\"\")","v":0},{"$f":"IF(A31<>\"\",IFERROR(VLOOKUP(O31,Tabelas!B:D,3,0),0),\"\")","v":0},{"$f":"IF(A31<>\"\",IFERROR(VLOOKUP(P31,Tabelas!B:D,3,0),0),\"\")","v":12},{"$f":"IF(A31<>\"\",IFERROR(VLOOKUP(Q31,Tabelas!B:D,3,0),0),\"\")","v":0},{"$f":"IF(A31<>\"\",IFERROR(VLOOKUP(R31,Tabelas!B:D,3,0),0),\"\")","v":0},{"$f":"IF(A31<>\"\",IFERROR(VLOOKUP(S31,Tabelas!B:D,3,0),0),\"\")","v":0},{"$f":"IF(A31<>\"\",IFERROR(VLOOKUP(T31,Tabelas!B:D,3,0),0),\"\")","v":0},{"$f":"IF(A31<>\"\",IFERROR(VLOOKUP(U31,Tabelas!B:D,3,0),0),\"\")","v":12},{"$f":"IF(A31<>\"\",IFERROR(VLOOKUP(V31,Tabelas!B:D,3,0),0),\"\")","v":0},{"$f":"IF(A31<>\"\",IFERROR(VLOOKUP(W31,Tabelas!B:D,3,0),0),\"\")","v":0},{"$f":"IF(A31<>\"\",IFERROR(VLOOKUP(X31,Tabelas!B:D,3,0),0),\"\")","v":12},{"$f":"IF(A31<>\"\",IFERROR(VLOOKUP(Y31,Tabelas!B:D,3,0),0),\"\")","v":0},{"$f":"IF(A31<>\"\",IFERROR(VLOOKUP(Z31,Tabelas!B:D,3,0),0),\"\")","v":0},{"$f":"IF(A31<>\"\",IFERROR(VLOOKUP(AA31,Tabelas!B:D,3,0),0),\"\")","v":0},{"$f":"IF(A31<>\"\",IFERROR(VLOOKUP(AB31,Tabelas!B:D,3,0),0),\"\")","v":0},{"$f":"IF(A31<>\"\",IFERROR(VLOOKUP(AC31,Tabelas!B:D,3,0),0),\"\")","v":12},{"$f":"IF(A31<>\"\",IFERROR(VLOOKUP(AD31,Tabelas!B:D,3,0),0),\"\")","v":0},{"$f":"IF(A31<>\"\",IFERROR(VLOOKUP(AE31,Tabelas!B:D,3,0),0),\"\")","v":0},{"$f":"IF(A31<>\"\",IFERROR(VLOOKUP(AF31,Tabelas!B:D,3,0),0),\"\")","v":12},{"$f":"IF(A31<>\"\",IFERROR(VLOOKUP(AG31,Tabelas!B:D,3,0),0),\"\")","v":0},{"$f":"IF(A31<>\"\",IFERROR(VLOOKUP(AH31,Tabelas!B:D,3,0),0),\"\")","v":0},{"$f":"IF(A31<>\"\",IFERROR(VLOOKUP(AI31,Tabelas!B:D,3,0),0),\"\")","v":0},{"$f":"IF(A31<>\"\",IFERROR(VLOOKUP(AJ31,Tabelas!B:D,3,0),0),\"\")","v":0},{"$f":"IF(A31<>\"\",IFERROR(VLOOKUP(AK31,Tabelas!B:D,3,0),0),\"\")","v":0},{"$f":"IF(A31<>\"\",IFERROR(VLOOKUP(AL31,Tabelas!B:D,3,0),0),\"\")","v":0},{"$f":"IF(A31<>\"\",IFERROR(VLOOKUP(AM31,Tabelas!B:D,3,0),0),\"\")","v":0},{"$f":"IF(A31<>\"\",IFERROR(VLOOKUP(AN31,Tabelas!B:D,3,0),0),\"\")","v":12},{"$f":"IF(A31<>\"\",IFERROR(VLOOKUP(AO31,Tabelas!B:D,3,0),0),\"\")","v":0},{"$f":"IF(A31<>\"\",IFERROR(VLOOKUP(AP31,Tabelas!B:D,3,0),0),\"\")","v":12},{"$f":"IF(A31<>\"\",IFERROR(VLOOKUP(AQ31,Tabelas!B:D,3,0),0),\"\")","v":12},102,0,0,0,0,0,0,0]
["João Luiz Henrique da Silveira",1704052,null,"ME","EBSERH",24,null,null,null,null,null,null,null,"D8",null,null,null,null,null,"N10",null,"N10",null,null,"N10",null,null,null,null,"N10",null,null,null,null,null,null,null,"N10",null,null,null,null,"DN6",{"$f":"IF(A32<>\"\",IFERROR(VLOOKUP(M32,Tabelas!B:D,3,0),0),\"\")","v":0},{"$f":"IF(A32<>\"\",IFERROR(VLOOKUP(N32,Tabelas!B:D,3,0),0),\"\")","v":12},{"$f":"IF(A32<>\"\",IFERROR(VLOOKUP(O32,Tabelas!B:D,3,0),0),\"\")","v":0},{"$f":"IF(A32<>\"\",IFERROR(VLOOKUP(P32,Tabelas!B:D,3,0),0),\"\")","v":0},{"$f":"IF(A32<>\"\",IFERROR(VLOOKUP(Q32,Tabelas!B:D,3,0),0),\"\")","v":0},{"$f":"IF(A32<>\"\",IFERROR(VLOOKUP(R32,Tabelas!B:D,3,0),0),\"\")","v":0},{"$f":"IF(A32<>\"\",IFERROR(VLOOKUP(S32,Tabelas!B:D,3,0),0),\"\")","v":0},{"$f":"IF(A32<>\"\",IFERROR(VLOOKUP(T32,Tabelas!B:D,3,0),0),\"\")","v":12},{"$f":"IF(A32<>\"\",IFERROR(VLOOKUP(U32,Tabelas!B:D,3,0),0),\"\")","v":0},{"$f":"IF(A32<>\"\",IFERROR(VLOOKUP(V32,Tabelas!B:D,3,0),0),\"\")","v":12},{"$f":"IF(A32<>\"\",IFERROR(VLOOKUP(W32,Tabelas!B:D,3,0),0),\"\")","v":0},{"$f":"IF(A32<>\"\",IFERROR(VLOOKUP(X32,Tabelas!B:D,3,0),0),\"\")","v":0},{"$f":"IF(A32<>\"\",IFERROR(VLOOKUP(Y32,Tabelas!B:D,3,0),0),\"\")","v":12},{"$f":"IF(A32<>\"\",IFERROR(VLOOKUP(Z32,Tabelas!B:D,3,0),0),\"\")","v":0},{"$f":"IF(A32<>\"\",IFERROR(VLOOKUP(AA32,Tabelas!B:D,3,0),0),\"\")","v":0},{"$f":"IF(A32<>\"\",IFERROR(VLOOKUP(AB32,Tabelas!B:D,3,0),0),\"\")","v":0},{"$f":"IF(A32<>\"\",IFERROR(VLOOKUP(AC32,Tabelas!B:D,3,0),0),\"\")","v":0},{"$f":"IF(A32<>\"\",IFERROR(VLOOKUP(AD32,Tabelas!B:D,3,0),0),\"\")","v":12},{"$f":"IF(A32<>\"\",IFERROR(VLOOKUP(AE32,Tabelas!B:D,3,0),0),\"\")","v":0},{"$f":"IF(A32<>\"\",IFERROR(VLOOKUP(AF32,Tabelas!B:D,3,0),0),\"\")","v":0},{"$f":"IF(A32<>\"\",IFERROR(VLOOKUP(AG32,Tabelas!B:D,3,0),0),\"\")","v":0},{"$f":"IF(A32<>\"\",IFERROR(VLOOKUP(AH32,Tabelas!B:D,3,0),0),\"\")","v":0},{"$f":"IF(A32<>\"\",IFERROR(VLOOKUP(AI32,Tabelas!B:D,3,0),0),\"\")","v":0},{"$f":"IF(A32<>\"\",IFERROR(VLOOKUP(AJ32,Tabelas!B:D,3,0),0),\"\")","v":0},{"$f":"IF(A32<>\"\",IFERROR(VLOOKUP(AK32,Tabelas!B:D,3,0),0),\"\")","v":0},{"$f":"IF(A32<>\"\",IFERROR(VLOOKUP(AL32,Tabelas!B:D,3,0),0),\"\")","v":12},{"$f":"IF(A32<>\"\",IFERROR(VLOOKUP(AM32,Tabelas!B:D,3,0),0),\"\")","v":0},{"$f":"IF(A32<>\"\",IFERROR(VLOOKUP(AN32,Tabelas!B:D,3,0),0),\"\")","v":0},{"$f":"IF(A32<>\"\",IFERROR(VLOOKUP(AO32,Tabelas!B:D,3,0),0),\"\")","v":0},{"$f":"IF(A32<>\"\",IFERROR(VLOOKUP(AP32,Tabelas!B:D,3,0),0),\"\")","v":0},{"$f":"IF(A32<>\"\",IFERROR(VLOOKUP(AQ32,Tabelas!B:D,3,0),0),\"\")","v":24},102,0,0,0,0,0,0,0]
["Joel de Andrade",1160444,null,"ME","RJU",40,null,null,null,null,null,null,null,null,"D8","N10",null,null,null,null,null,"D8",null,"N10",null,null,null,"N10",null,null,null,"N10",null,null,null,"N10",null,null,null,null,null,null,null,{"$f":"IF(A33<>\"\",IFERROR(VLOOKUP(M33,Tabelas!B:D,3,0),0),\"\")","v":0},{"$f":"IF(A33<>\"\",IFERROR(VLOOKUP(N33,Tabelas!B:D,3,0),0),\"\")","v":0},{"$f":"IF(A33<>\"\",IFERROR(VLOOKUP(O33,Tabelas!B:D,3,0),0),\"\")","v":12},{"$f":"IF(A33<>\"\",IFERROR(VLOOKUP(P33,Tabelas!B:D,3,0),0),\"\")","v":12},{"$f":"IF(A33<>\"\",IFERROR(VLOOKUP(Q33,Tabelas!B:D,3,0),0),\"\")","v":0},{"$f":"IF(A33<>\"\",IFERROR(VLOOKUP(R33,Tabelas!B:D,3,0),0),\"\")","v":0},{"$f":"IF(A33<>\"\",IFERROR(VLOOKUP(S33,Tabelas!B:D,3,0),0),\"\")","v":0},{"$f":"IF(A33<>\"\",IFERROR(VLOOKUP(T33,Tabelas!B:D,3,0),0),\"\")","v":0},{"$f":"IF(A33<>\"\",IFERROR(VLOOKUP(U33,Tabelas!B:D,3,0),0),\"\")","v":0},{"$f":"IF(A33<>\"\",IFERROR(VLOOKUP(V33,Tabelas!B:D,3,0),0),\"\")","v":12},{"$f":"IF(A33<>\"\",IFERROR(VLOOKUP(W33,Tabelas!B:D,3,0),0),\"\")","v":0},{"$f":"IF(A33<>\"\",IFERROR(VLOOKUP(X33,Tabelas!B:D,3,0),0),\"\")","v":12},{"$f":"IF(A33<>\"\",IFERROR(VLOOKUP(Y33,Tabelas!B:D,3,0),0),\"\")","v":0},{"$f":"IF(A33<>\"\",IFERROR(VLOOKUP(Z33,Tabelas!B:D,3,0),0),\"\")","v":0},{"$f":"IF(A33<>\"\",IFERROR(VLOOKUP(AA33,Tabelas!B:D,3,0),0),\"\")","v":0},{"$f":"IF(A33<>\"\",IFERROR(VLOOKUP(AB33,Tabelas!B:D,3,0),0),\"\")","v":12},{"$f":"IF(A33<>\"\",IFERROR(VLOOKUP(AC33,Tabelas!B:D,3,0),0),\"\")","v":0},{"$f":"IF(A33<>\"\",IFERROR(VLOOKUP(AD33,Tabelas!B:D,3,0),0),\"\")","v":0},{"$f":"IF(A33<>\"\",IFERROR(VLOOKUP(AE33,Tabelas!B:D,3,0),0),\"\")","v":0},{"$f":"IF(A33<>\"\",IFERROR(VLOOKUP(AF33,Tabelas!B:D,3,0),0),\"\")","v":12},{"$f":"IF(A33<>\"\",IFERROR(VLOOKUP(AG33,Tabelas!B:D,3,0),0),\"\")","v":0},{"$f":"IF(A33<>\"\",IFERROR(VLOOKUP(AH33,Tabelas!B:D,3,0),0),\"\")","v":0},{"$f":"IF(A33<>\"\",IFERROR(VLOOKUP(AI33,Tabelas!B:D,3,0),0),\"\")","v":0},{"$f":"IF(A33<>\"\",IFERROR(VLOOKUP(AJ33,Tabelas!B:D,3,0),0),\"\")","v":12},{"$f":"IF(A33<>\"\",IFERROR(VLOOKUP(AK33,Tabelas!B:D,3,0),0),\"\")","v":0},{"$f":"IF(A33<>\"\",IFERROR(VLOOKUP(AL33,Tabelas!B:D,3,0),0),\"\")","v":0},{"$f":"IF(A33<>\"\",IFERROR(VLOOKUP(AM33,Tabelas!B:D,3,0),0),\"\")","v":0},{"$f":"IF(A33<>\"\",IFERROR(VLOOKUP(AN33,Tabelas!B:D,3,0),0),\"\")","v":0},{"$f":"IF(A33<>\"\",IFERROR(VLOOKUP(AO33,Tabelas!B:D,3,0),0),\"\")","v":0},{"$f":"IF(A33<>\"\",IFERROR(VLOOKUP(AP33,Tabelas!B:D,3,0),0),\"\")","v":0},{"$f":"IF(A33<>\"\",IFERROR(VLOOKUP(AQ33,Tabelas!B:D,3,0),0),\"\")","v":0},84,0,0,0,0,0,0,0]
["Karine Damiani Cabral ",null,null,"ME","EBSERH",24,null,null,null,null,null,null,null,null,null,null,null,"N10",null,null,null,"D8",null,null,null,"N10",null,null,"N10",null,"N10",null,null,null,"D8",null,"N10",null,null,null,null,"N10",null,{"$f":"IF(A34<>\"\",IFERROR(VLOOKUP(M34,Tabelas!B:D,3,0),0),\"\")","v":0},{"$f":"IF(A34<>\"\",IFERROR(VLOOKUP(N34,Tabelas!B:D,3,0),0),\"\")","v":0},{"$f":"IF(A34<>\"\",IFERROR(VLOOKUP(O34,Tabelas!B:D,3,0),0),\"\")","v":0},{"$f":"IF(A34<>\"\",IFERROR(VLOOKUP(P34,Tabelas!B:D,3,0),0),\"\")","v":0},{"$f":"IF(A34<>\"\",IFERROR(VLOOKUP(Q34,Tabelas!B:D,3,0),0),\"\")","v":0},{"$f":"IF(A34<>\"\",IFERROR(VLOOKUP(R34,Tabelas!B:D,3,0),0),\"\")","v":12},{"$f":"IF(A34<>\"\",IFERROR(VLOOKUP(S34,Tabelas!B:D,3,0),0),\"\")","v":0},{"$f":"IF(A34<>\"\",IFERROR(VLOOKUP(T34,Tabelas!B:D,3,0),0),\"\")","v":0},{"$f":"IF(A34<>\"\",IFERROR(VLOOKUP(U34,Tabelas!B:D,3,0),0),\"\")","v":0},{"$f":"IF(A34<>\"\",IFERROR(VLOOKUP(V34,Tabelas!B:D,3,0),0),\"\")","v":12},{"$f":"IF(A34<>\"\",IFERROR(VLOOKUP(W34,Tabelas!B:D,3,0),0),\"\")","v":0},{"$f":"IF(A34<>\"\",IFERROR(VLOOKUP(X34,Tabelas!B:D,3,0),0),\"\")","v":0},{"$f":"IF(A34<>\"\",IFERROR(VLOOKUP(Y34,Tabelas!B:D,3,0),0),\"\")","v":0},{"$f":"IF(A34<>\"\",IFERROR(VLOOKUP(Z34,Tabelas!B:D,3,0),0),\"\")","v":12},{"$f":"IF(A34<>\"\",IFERROR(VLOOKUP(AA34,Tabelas!B:D,3,0),0),\"\")","v":0},{"$f":"IF(A34<>\"\",IFERROR(VLOOKUP(AB34,Tabelas!B:D,3,0),0),\"\")","v":0},{"$f":"IF(A34<>\"\",IFERROR(VLOOKUP(AC34,Tabelas!B:D,3,0),0),\"\")","v":12},{"$f":"IF(A34<>\"\",IFERROR(VLOOKUP(AD34,Tabelas!B:D,3,0),0),\"\")","v":0},{"$f":"IF(A34<>\"\",IFERROR(VLOOKUP(AE34,Tabelas!B:D,3,0),0),\"\")","v":12},{"$f":"IF(A34<>\"\",IFERROR(VLOOKUP(AF34,Tabelas!B:D,3,0),0),\"\")","v":0},{"$f":"IF(A34<>\"\",IFERROR(VLOOKUP(AG34,Tabelas!B:D,3,0),0),\"\")","v":0},{"$f":"IF(A34<>\"\",IFERROR(VLOOKUP(AH34,Tabelas!B:D,3,0),0),\"\")","v":0},{"$f":"IF(A34<>\"\",IFERROR(VLOOKUP(AI34,Tabelas!B:D,3,0),0),\"\")","v":12},{"$f":"IF(A34<>\"\",IFERROR(VLOOKUP(AJ34,Tabelas!B:D,3,0),0),\"\")","v":0},{"$f":"IF(A34<>\"\",IFERROR(VLOOKUP(AK34,Tabelas!B:D,3,0),0),\"\")","v":12},{"$f":"IF(A34<>\"\",IFERROR(VLOOKUP(AL34,Tabelas!B:D,3,0),0),\"\")","v":0},{"$f":"IF(A34<>\"\",IFERROR(VLOOKUP(AM34,Tabelas!B:D,3,0),0),\"\")","v":0},{"$f":"IF(A34<>\"\",IFERROR(VLOOKUP(AN34,Tabelas!B:D,3,0),0),\"\")","v":0},{"$f":"IF(A34<>\"\",IFERROR(VLOOKUP(AO34,Tabelas!B:D,3,0),0),\"\")","v":0},{"$f":"IF(A34<>\"\",IFERROR(VLOOKUP(AP34,Tabelas!B:D,3,0),0),\"\")","v":12},{"$f":"IF(A34<>\"\",IFERROR(VLOOKUP(AQ34,Tabelas!B:D,3,0),0),\"\")","v":0},102,0,0,0,0,0,0,0]
["Pedro Luz da Rosa",2606805,null,"ME","RJU",20,null,null,null,null,null,null,null,null,"N10",null,"N10",null,null,null,null,null,null,null,null,null,null,"N10",null,null,null,null,"N10",null,"D8",null,null,null,null,null,"N10","D8",null,{"$f":"IF(A35<>\"\",IFERROR(VLOOKUP(M35,Tabelas!B:D,3,0),0),\"\")","v":0},{"$f":"IF(A35<>\"\",IFERROR(VLOOKUP(N35,Tabelas!B:D,3,0),0),\"\")","v":0},{"$f":"IF(A35<>\"\",IFERROR(VLOOKUP(O35,Tabelas!B:D,3,0),0),\"\")","v":12},{"$f":"IF(A35<>\"\",IFERROR(VLOOKUP(P35,Tabelas!B:D,3,0),0),\"\")","v":0},{"$f":"IF(A35<>\"\",IFERROR(VLOOKUP(Q35,Tabelas!B:D,3,0),0),\"\")","v":12},{"$f":"IF(A35<>\"\",IFERROR(VLOOKUP(R35,Tabelas!B:D,3,0),0),\"\")","v":0},{"$f":"IF(A35<>\"\",IFERROR(VLOOKUP(S35,Tabelas!B:D,3,0),0),\"\")","v":0},{"$f":"IF(A35<>\"\",IFERROR(VLOOKUP(T35,Tabelas!B:D,3,0),0),\"\")","v":0},{"$f":"IF(A35<>\"\",IFERROR(VLOOKUP(U35,Tabelas!B:D,3,0),0),\"\")","v":0},{"$f":"IF(A35<>\"\",IFERROR(VLOOKUP(V35,Tabelas!B:D,3,0),0),\"\")","v":0},{"$f":"IF(A35<>\"\",IFERROR(VLOOKUP(W35,Tabelas!B:D,3,0),0),\"\")","v":0},{"$f":"IF(A35<>\"\",IFERROR(VLOOKUP(X35,Tabelas!B:D,3,0),0),\"\")","v":0},{"$f":"IF(A35<>\"\",IFERROR(VLOOKUP(Y35,Tabelas!B:D,3,0),0),\"\")","v":0},{"$f":"IF(A35<>\"\",IFERROR(VLOOKUP(Z35,Tabelas!B:D,3,0),0),\"\")","v":0},{"$f":"IF(A35<>\"\",IFERROR(VLOOKUP(AA35,Tabelas!B:D,3,0),0),\"\")","v":0},{"$f":"IF(A35<>\"\",IFERROR(VLOOKUP(AB35,Tabelas!B:D,3,0),0),\"\")","v":12},{"$f":"IF(A35<>\"\",IFERROR(VLOOKUP(AC35,Tabelas!B:D,3,0),0),\"\")","v":0},{"$f":"IF(A35<>\"\",IFERROR(VLOOKUP(AD35,Tabelas!B:D,3,0),0),\"\")","v":0},{"$f":"IF(A35<>\"\",IFERROR(VLOOKUP(AE35,Tabelas!B:D,3,0),0),\"\")","v":0},{"$f":"IF(A35<>\"\",IFERROR(VLOOKUP(AF35,Tabelas!B:D,3,0),0),\"\")","v":0},{"$f":"IF(A35<>\"\",IFERROR(VLOOKUP(AG35,Tabelas!B:D,3,0),0),\"\")","v":12},{"$f":"IF(A35<>\"\",IFERROR(VLOOKUP(AH35,Tabelas!B:D,3,0),0),\"\")","v":0},{"$f":"IF(A35<>\"\",IFERROR(VLOOKUP(AI35,Tabelas!B:D,3,0),0),\"\")","v":12},{"$f":"IF(A35<>\"\",IFERROR(VLOOKUP(AJ35,Tabelas!B:D,3,0),0),\"\")","v":0},{"$f":"IF(A35<>\"\",IFERROR(VLOOKUP(AK35,Tabelas!B:D,3,0),0),\"\")","v":0},{"$f":"IF(A35<>\"\",IFERROR(VLOOKUP(AL35,Tabelas!B:D,3,0),0),\"\")","v":0},{"$f":"IF(A35<>\"\",IFERROR(VLOOKUP(AM35,Tabelas!B:D,3,0),0),\"\")","v":0},{"$f":"IF(A35<>\"\",IFERROR(VLOOKUP(AN35,Tabelas!B:D,3,0),0),\"\")","v":0},{"$f":"IF(A35<>\"\",IFERROR(VLOOKUP(AO35,Tabelas!B:D,3,0),0),\"\")","v":12},{"$f":"IF(A35<>\"\",IFERROR(VLOOKUP(AP35,Tabelas!B:D,3,0),0),\"\")","v":12},{"$f":"IF(A35<>\"\",IFERROR(VLOOKUP(AQ35,Tabelas!B:D,3,0),0),\"\")","v":0},84,0,0,0,0,0,0,0]
["Robson Lima Ribeiro",3369679,null,"ME","RJU",20,null,null,null,null,null,null,"N10",null,"D8",null,null,null,null,"N10",null,null,"N10",null,null,"N10",null,null,"D8",null,null,null,null,null,null,null,null,"N10",null,null,null,null,null,{"$f":"IF(A36<>\"\",IFERROR(VLOOKUP(M36,Tabelas!B:D,3,0),0),\"\")","v":12},{"$f":"IF(A36<>\"\",IFERROR(VLOOKUP(N36,Tabelas!B:D,3,0),0),\"\")","v":0},{"$f":"IF(A36<>\"\",IFERROR(VLOOKUP(O36,Tabelas!B:D,3,0),0),\"\")","v":12},{"$f":"IF(A36<>\"\",IFERROR(VLOOKUP(P36,Tabelas!B:D,3,0),0),\"\")","v":0},{"$f":"IF(A36<>\"\",IFERROR(VLOOKUP(Q36,Tabelas!B:D,3,0),0),\"\")","v":0},{"$f":"IF(A36<>\"\",IFERROR(VLOOKUP(R36,Tabelas!B:D,3,0),0),\"\")","v":0},{"$f":"IF(A36<>\"\",IFERROR(VLOOKUP(S36,Tabelas!B:D,3,0),0),\"\")","v":0},{"$f":"IF(A36<>\"\",IFERROR(VLOOKUP(T36,Tabelas!B:D,3,0),0),\"\")","v":12},{"$f":"IF(A36<>\"\",IFERROR(VLOOKUP(U36,Tabelas!B:D,3,0),0),\"\")","v":0},{"$f":"IF(A36<>\"\",IFERROR(VLOOKUP(V36,Tabelas!B:D,3,0),0),\"\")","v":0},{"$f":"IF(A36<>\"\",IFERROR(VLOOKUP(W36,Tabelas!B:D,3,0),0),\"\")","v":12},{"$f":"IF(A36<>\"\",IFERROR(VLOOKUP(X36,Tabelas!B:D,3,0),0),\"\")","v":0},{"$f":"IF(A36<>\"\",IFERROR(VLOOKUP(Y36,Tabelas!B:D,3,0),0),\"\")","v":0},{"$f":"IF(A36<>\"\",IFERROR(VLOOKUP(Z36,Tabelas!B:D,3,0),0),\"\")","v":12},{"$f":"IF(A36<>\"\",IFERROR(VLOOKUP(AA36,Tabelas!B:D,3,0),0),\"\")","v":0},{"$f":"IF(A36<>\"\",IFERROR(VLOOKUP(AB36,Tabelas!B:D,3,0),0),\"\")","v":0},{"$f":"IF(A36<>\"\",IFERROR(VLOOKUP(AC36,Tabelas!B:D,3,0),0),\"\")","v":12},{"$f":"IF(A36<>\"\",IFERROR(VLOOKUP(AD36,Tabelas!B:D,3,0),0),\"\")","v":0},{"$f":"IF(A36<>\"\",IFERROR(VLOOKUP(AE36,Tabelas!B:D,3,0),0),\"\")","v":0},{"$f":"IF(A36<>\"\",IFERROR(VLOOKUP(AF36,Tabelas!B:D,3,0),0),\"\")","v":0},{"$f":"IF(A36<>\"\",IFERROR(VLOOKUP(AG36,Tabelas!B:D,3,0),0),\"\")","v":0},{"$f":"IF(A36<>\"\",IFERROR(VLOOKUP(AH36,Tabelas!B:D,3,0),0),\"\")","v":0},{"$f":"IF(A36<>\"\",IFERROR(VLOOKUP(AI36,Tabelas!B:D,3,0),0),\"\")","v":0},{"$f":"IF(A36<>\"\",IFERROR(VLOOKUP(AJ36,Tabelas!B:D,3,0),0),\"\")","v":0},{"$f":"IF(A36<>\"\",IFERROR(VLOOKUP(AK36,Tabelas!B:D,3,0),0),\"\")","v":0},{"$f":"IF(A36<>\"\",IFERROR(VLOOKUP(AL36,Tabelas!B:D,3,0),0),\"\")","v":12},{"$f":"IF(A36<>\"\",IFERROR(VLOOKUP(AM36,Tabelas!B:D,3,0),0),\"\")","v":0},{"$f":"IF(A36<>\"\",IFERROR(VLOOKUP(AN36,Tabelas!B:D,3,0),0),\"\")","v":0},{"$f":"IF(A36<>\"\",IFERROR(VLOOKUP(AO36,Tabelas!B:D,3,0),0),\"\")","v":0},{"$f":"IF(A36<>\"\",IFERROR(VLOOKUP(AP36,Tabelas!B:D,3,0),0),\"\")","v":0},{"$f":"IF(A36<>\"\",IFERROR(VLOOKUP(AQ36,Tabelas!B:D,3,0),0),\"\")","v":0},84,0,0,0,0,0,0,0]
["Thales Roberto Schott da Silva",1160552,null,"ME","RJU",20,null,null,null,null,null,null,null,"D8",null,null,null,null,"N10",null,null,"N10",null,null,null,null,"N10",null,null,null,null,null,null,null,"N10",null,"N10",null,null,null,null,null,"D8",{"$f":"IF(A37<>\"\",IFERROR(VLOOKUP(M37,Tabelas!B:D,3,0),0),\"\")","v":0},{"$f":"IF(A37<>\"\",IFERROR(VLOOKUP(N37,Tabelas!B:D,3,0),0),\"\")","v":12},{"$f":"IF(A37<>\"\",IFERROR(VLOOKUP(O37,Tabelas!B:D,3,0),0),\"\")","v":0},{"$f":"IF(A37<>\"\",IFERROR(VLOOKUP(P37,Tabelas!B:D,3,0),0),\"\")","v":0},{"$f":"IF(A37<>\"\",IFERROR(VLOOKUP(Q37,Tabelas!B:D,3,0),0),\"\")","v":0},{"$f":"IF(A37<>\"\",IFERROR(VLOOKUP(R37,Tabelas!B:D,3,0),0),\"\")","v":0},{"$f":"IF(A37<>\"\",IFERROR(VLOOKUP(S37,Tabelas!B:D,3,0),0),\"\")","v":12},{"$f":"IF(A37<>\"\",IFERROR(VLOOKUP(T37,Tabelas!B:D,3,0),0),\"\")","v":0},{"$f":"IF(A37<>\"\",IFERROR(VLOOKUP(U37,Tabelas!B:D,3,0),0),\"\")","v":0},{"$f":"IF(A37<>\"\",IFERROR(VLOOKUP(V37,Tabelas!B:D,3,0),0),\"\")","v":12},{"$f":"IF(A37<>\"\",IFERROR(VLOOKUP(W37,Tabelas!B:D,3,0),0),\"\")","v":0},{"$f":"IF(A37<>\"\",IFERROR(VLOOKUP(X37,Tabelas!B:D,3,0),0),\"\")","v":0},{"$f":"IF(A37<>\"\",IFERROR(VLOOKUP(Y37,Tabelas!B:D,3,0),0),\"\")","v":0},{"$f":"IF(A37<>\"\",IFERROR(VLOOKUP(Z37,Tabelas!B:D,3,0),0),\"\")","v":0},{"$f":"IF(A37<>\"\",IFERROR(VLOOKUP(AA37,Tabelas!B:D,3,0),0),\"\")","v":12},{"$f":"IF(A37<>\"\",IFERROR(VLOOKUP(AB37,Tabelas!B:D,3,0),0),\"\")","v":0},{"$f":"IF(A37<>\"\",IFERROR(VLOOKUP(AC37,Tabelas!B:D,3,0),0),\"\")","v":0},{"$f":"IF(A37<>\"\",IFERROR(VLOOKUP(AD37,Tabelas!B:D,3,0),0),\"\")","v":0},{"$f":"IF(A37<>\"\",IFERROR(VLOOKUP(AE37,Tabelas!B:D,3,0),0),\"\")","v":0},{"$f":"IF(A37<>\"\",IFERROR(VLOOKUP(AF37,Tabelas!B:D,3,0),0),\"\")","v":0},{"$f":"IF(A37<>\"\",IFERROR(VLOOKUP(AG37,Tabelas!B:D,3,0),0),\"\")","v":0},{"$f":"IF(A37<>\"\",IFERROR(VLOOKUP(AH37,Tabelas!B:D,3,0),0),\"\")","v":0},{"$f":"IF(A37<>\"\",IFERROR(VLOOKUP(AI37,Tabelas!B:D,3,0),0),\"\")","v":12},{"$f":"IF(A37<>\"\",IFERROR(VLOOKUP(AJ37,Tabelas!B:D,3,0),0),\"\")","v":0},{"$f":"IF(A37<>\"\",IFERROR(VLOOKUP(AK37,Tabelas!B:D,3,0),0),\"\")","v":12},{"$f":"IF(A37<>\"\",IFERROR(VLOOKUP(AL37,Tabelas!B:D,3,0),0),\"\")","v":0},{"$f":"IF(A37<>\"\",IFERROR(VLOOKUP(AM37,Tabelas!B:D,3,0),0),\"\")","v":0},{"$f":"IF(A37<>\"\",IFERROR(VLOOKUP(AN37,Tabelas!B:D,3,0),0),\"\")","v":0},{"$f":"IF(A37<>\"\",IFERROR(VLOOKUP(AO37,Tabelas!B:D,3,0),0),\"\")","v":0},{"$f":"IF(A37<>\"\",IFERROR(VLOOKUP(AP37,Tabelas!B:D,3,0),0),\"\")","v":0},{"$f":"IF(A37<>\"\",IFERROR(VLOOKUP(AQ37,Tabelas!B:D,3,0),0),\"\")","v":12},84,0,0,0,0,0,0,0]
[]
["MÉDICO REFERÊNCIA: "]
["Rafael Lisboa de Souza",2344070,null,"ME","RJU",30,null,null,null,null,null,null,null,null,null,null,null,null,null,null,null,null,null,null,null,null,null,null,null,null,null,null,null,null,null,null,null,null,null,null,null,null,null,{"$f":"IF(A40<>\"\",IFERROR(VLOOKUP(M40,Tabelas!B:D,3,0),0),\"\")","v":0},{"$f":"IF(A40<>\"\",IFERROR(VLOOKUP(N40,Tabelas!B:D,3,0),0),\"\")","v":0},{"$f":"IF(A40<>\"\",IFERROR(VLOOKUP(O40,Tabelas!B:D,3,0),0),\"\")","v":0},{"$f":"IF(A40<>\"\",IFERROR(VLOOKUP(P40,Tabelas!B:D,3,0),0),\"\")","v":0},{"$f":"IF(A40<>\"\",IFERROR(VLOOKUP(Q40,Tabelas!B:D,3,0),0),\"\")","v":0},{"$f":"IF(A40<>\"\",IFERROR(VLOOKUP(R40,Tabelas!B:D,3,0),0),\"\")","v":0},{"$f":"IF(A40<>\"\",IFERROR(VLOOKUP(S40,Tabelas!B:D,3,0),0),\"\")","v":0},{"$f":"IF(A40<>\"\",IFERROR(VLOOKUP(T40,Tabelas!B:D,3,0),0),\"\")","v":0},{"$f":"IF(A40<>\"\",IFERROR(VLOOKUP(U40,Tabelas!B:D,3,0),0),\"\")","v":0},{"$f":"IF(A40<>\"\",IFERROR(VLOOKUP(V40,Tabelas!B:D,3,0),0),\"\")","v":0},{"$f":"IF(A40<>\"\",IFERROR(VLOOKUP(W40,Tabelas!B:D,3,0),0),\"\")","v":0},{"$f":"IF(A40<>\"\",IFERROR(VLOOKUP(X40,Tabelas!B:D,3,0),0),\"\")","v":0},{"$f":"IF(A40<>\"\",IFERROR(VLOOKUP(Y40,Tabelas!B:D,3,0),0),\"\")","v":0},{"$f":"IF(A40<>\"\",IFERROR(VLOOKUP(Z40,Tabelas!B:D,3,0),0),\"\")","v":0},{"$f":"IF(A40<>\"\",IFERROR(VLOOKUP(AA40,Tabelas!B:D,3,0),0),\"\")","v":0},{"$f":"IF(A40<>\"\",IFERROR(VLOOKUP(AB40,Tabelas!B:D,3,0),0),\"\")","v":0},{"$f":"IF(A40<>\"\",IFERROR(VLOOKUP(AC40,Tabelas!B:D,3,0),0),\"\")","v":0},{"$f":"IF(A40<>\"\",IFERROR(VLOOKUP(AD40,Tabelas!B:D,3,0),0),\"\")","v":0},{"$f":"IF(A40<>\"\",IFERROR(VLOOKUP(AE40,Tabelas!B:D,3,0),0),\"\")","v":0},{"$f":"IF(A40<>\"\",IFERROR(VLOOKUP(AF40,Tabelas!B:D,3,0),0),\"\")","v":0},{"$f":"IF(A40<>\"\",IFERROR(VLOOKUP(AG40,Tabelas!B:D,3,0),0),\"\")","v":0},{"$f":"IF(A40<>\"\",IFERROR(VLOOKUP(AH40,Tabelas!B:D,3,0),0),\"\")","v":0},{"$f":"IF(A40<>\"\",IFERROR(VLOOKUP(AI40,Tabelas!B:D,3,0),0),\"\")","v":0},{"$f":"IF(A40<>\"\",IFERROR(VLOOKUP(AJ40,Tabelas!B:D,3,0),0),\"\")","v":0},{"$f":"IF(A40<>\"\",IFERROR(VLOOKUP(AK40,Tabelas!B:D,3,0),0),\"\")","v":0},{"$f":"IF(A40<>\"\",IFERROR(VLOOKUP(AL40,Tabelas!B:D,3,0),0),\"\")","v":0},{"$f":"IF(A40<>\"\",IFERROR(VLOOKUP(AM40,Tabelas!B:D,3,0),0),\"\")","v":0},{"$f":"IF(A40<>\"\",IFERROR(VLOOKUP(AN40,Tabelas!B:D,3,0),0),\"\")","v":0},{"$f":"IF(A40<>\"\",IFERROR(VLOOKUP(AO40,Tabelas!B:D,3,0),0),\"\")","v":0},{"$f":"IF(A40<>\"\",IFERROR(VLOOKUP(AP40,Tabelas!B:D,3,0),0),\"\")","v":0},{"$f":"IF(A40<>\"\",IFERROR(VLOOKUP(AQ40,Tabelas!B:D,3,0),0),\"\")","v":0},{"$f":"IF(AND(A40<>\"\",E40=\"Ebserh\"),SUM(AR40:BV40)+COUNTIF(M40:AQ40,\"N*\")+COUNTIF(M40:AQ40,\"DN*\"),IF(AND(A40<>\"\",E40<>\"Ebserh\"),SUM(AR40:BV40),\"\"))","v":0},{"$f":"IF(A40<>\"\",COUNTIF(M40:AQ40,\"LM\")+COUNTIF(M40:AQ40,\"L\")+COUNTIF(M40:AQ40,\"LP\"),\"\")","v":0},{"$f":"IF(A40<>\"\",COUNTIF(M40:AQ40,\"AB*\"),\"\")","v":0},{"$f":"IF(A40<>\"\",COUNTIF(M40:AQ40,\"FE\"),\"\")","v":0},{"$f":"IF(A40<>\"\",COUNTIF(M40:AQ40,\"LC\"),\"\")","v":0},{"$f":"IF(A40<>\"\",COUNTIF(M40:AQ40,\"CH*\"),\"\")","v":0},{"$f":"IF(A40<>\"\",COUNTIF(M40:AQ40,\"AF1\")+COUNTIF(M40:AQ40,\"AF2\")+COUNTIF(M40:AQ40,\"AF3\")+COUNTIF(M40:AQ40,\"AF4\")+COUNTIF(M40:AQ40,\"AF5\")+COUNTIF(M40:AQ40,\"AF6\")+COUNTIF(M40:AQ40,\"AF7\")+COUNTIF(M40:AQ40,\"AF8\")+COUNTIF(M40:AQ40,\"AF9\")+COUNTIF(M40:AQ40,\"AF10\")+COUNTIF(M40:AQ40,\"AF11\")+COUNTIF(M40:AQ40,\"AF12\")+COUNTIF(M40:AQ40,\"AF13\")+COUNTIF(M40:AQ40,\"AF14\"),\"\")","v":0},{"$f":"IF(A40<>\"\",COUNTIF(M40:AQ40,\"CH*\")+COUNTIF(M40:AQ40,\"L\")+COUNTIF(M40:AQ40,\"LM\")+COUNTIF(M40:AQ40,\"LP\")+COUNTIF(M40:AQ40,\"LC\")+COUNTIF(M40:AQ40,\"AB*\")+COUNTIF(M40:AQ40,\"AF1\")+COUNTIF(M40:AQ40,\"AF2\")+COUNTIF(M40:AQ40,\"AF3\")+COUNTIF(M40:AQ40,\"AF4\")+COUNTIF(M40:AQ40,\"AF5\")+COUNTIF(M40:AQ40,\"AF6\")+COUNTIF(M40:AQ40,\"AF7\")+COUNTIF(M40:AQ40,\"AF8\")+COUNTIF(M40:AQ40,\"AF9\")+COUNTIF(M40:AQ40,\"AF10\")+COUNTIF(M40:AQ40,\"AF11\")+COUNTIF(M40:AQ40,\"AF12\")+COUNTIF(M40:AQ40,\"AF13\")+COUNTIF(M40:AQ40,\"AF14\")+COUNTIF(M40:AQ40,\"RC\")+COUNTIF(M40:AQ40,\"FO\")+COUNTIF(M40:AQ40,\"FE\"),\"\")","v":0}]
[]
["Ingrid Catharine Costa de Sant Ana",1004451,null,"ME","EBSERH",24,null,null,null,null,null,null,null,null,null,null,null,null,null,null,null,null,null,null,null,null,null,null,null,null,null,null,null,null,null,null,null,null,null,null,null,null,null,{"$f":"IF(A42<>\"\",IFERROR(VLOOKUP(M42,Tabelas!B:D,3,0),0),\"\")","v":0},{"$f":"IF(A42<>\"\",IFERROR(VLOOKUP(N42,Tabelas!B:D,3,0),0),\"\")","v":0},{"$f":"IF(A42<>\"\",IFERROR(VLOOKUP(O42,Tabelas!B:D,3,0),0),\"\")","v":0},{"$f":"IF(A42<>\"\",IFERROR(VLOOKUP(P42,Tabelas!B:D,3,0),0),\"\")","v":0},{"$f":"IF(A42<>\"\",IFERROR(VLOOKUP(Q42,Tabelas!B:D,3,0),0),\"\")","v":0},{"$f":"IF(A42<>\"\",IFERROR(VLOOKUP(R42,Tabelas!B:D,3,0),0),\"\")","v":0},{"$f":"IF(A42<>\"\",IFERROR(VLOOKUP(S42,Tabelas!B:D,3,0),0),\"\")","v":0},{"$f":"IF(A42<>\"\",IFERROR(VLOOKUP(T42,Tabelas!B:D,3,0),0),\"\")","v":0},{"$f":"IF(A42<>\"\",IFERROR(VLOOKUP(U42,Tabelas!B:D,3,0),0),\"\")","v":0},{"$f":"IF(A42<>\"\",IFERROR(VLOOKUP(V42,Tabelas!B:D,3,0),0),\"\")","v":0},{"$f":"IF(A42<>\"\",IFERROR(VLOOKUP(W42,Tabelas!B:D,3,0),0),\"\")","v":0},{"$f":"IF(A42<>\"\",IFERROR(VLOOKUP(X42,Tabelas!B:D,3,0),0),\"\")","v":0},{"$f":"IF(A42<>\"\",IFERROR(VLOOKUP(Y42,Tabelas!B:D,3,0),0),\"\")","v":0},{"$f":"IF(A42<>\"\",IFERROR(VLOOKUP(Z42,Tabelas!B:D,3,0),0),\"\")","v":0},{"$f":"IF(A42<>\"\",IFERROR(VLOOKUP(AA42,Tabelas!B:D,3,0),0),\"\")","v":0},{"$f":"IF(A42<>\"\",IFERROR(VLOOKUP(AB42,Tabelas!B:D,3,0),0),\"\")","v":0},{"$f":"IF(A42<>\"\",IFERROR(VLOOKUP(AC42,Tabelas!B:D,3,0),0),\"\")","v":0},{"$f":"IF(A42<>\"\",IFERROR(VLOOKUP(AD42,Tabelas!B:D,3,0),0),\"\")","v":0},{"$f":"IF(A42<>\"\",IFERROR(VLOOKUP(AE42,Tabelas!B:D,3,0),0),\"\")","v":0},{"$f":"IF(A42<>\"\",IFERROR(VLOOKUP(AF42,Tabelas!B:D,3,0),0),\"\")","v":0},{"$f":"IF(A42<>\"\",IFERROR(VLOOKUP(AG42,Tabelas!B:D,3,0),0),\"\")","v":0},{"$f":"IF(A42<>\"\",IFERROR(VLOOKUP(AH42,Tabelas!B:D,3,0),0),\"\")","v":0},{"$f":"IF(A42<>\"\",IFERROR(VLOOKUP(AI42,Tabelas!B:D,3,0),0),\"\")","v":0},{"$f":"IF(A42<>\"\",IFERROR(VLOOKUP(AJ42,Tabelas!B:D,3,0),0),\"\")","v":0},{"$f":"IF(A42<>\"\",IFERROR(VLOOKUP(AK42,Tabelas!B:D,3,0),0),\"\")","v":0},{"$f":"IF(A42<>\"\",IFERROR(VLOOKUP(AL42,Tabelas!B:D,3,0),0),\"\")","v":0},{"$f":"IF(A42<>\"\",IFERROR(VLOOKUP(AM42,Tabelas!B:D,3,0),0),\"\")","v":0},{"$f":"IF(A42<>\"\",IFERROR(VLOOKUP(AN42,Tabelas!B:D,3,0),0),\"\")","v":0},{"$f":"IF(A42<>\"\",IFERROR(VLOOKUP(AO42,Tabelas!B:D,3,0),0),\"\")","v":0},{"$f":"IF(A42<>\"\",IFERROR(VLOOKUP(AP42,Tabelas!B:D,3,0),0),\"\")","v":0},{"$f":"IF(A42<>\"\",IFERROR(VLOOKUP(AQ42,Tabelas!B:D,3,0),0),\"\")","v":0},{"$f":"IF(AND(A42<>\"\",E42=\"Ebserh\"),SUM(AR42:BV42)+COUNTIF(M42:AQ42,\"N*\")+COUNTIF(M42:AQ42,\"DN*\"),IF(AND(A42<>\"\",E42<>\"Ebserh\"),SUM(AR42:BV42),\"\"))","v":0},{"$f":"IF(A42<>\"\",COUNTIF(M42:AQ42,\"LM\")+COUNTIF(M42:AQ42,\"L\")+COUNTIF(M42:AQ42,\"LP\"),\"\")","v":0},{"$f":"IF(A42<>\"\",COUNTIF(M42:AQ42,\"AB*\"),\"\")","v":0},{"$f":"IF(A42<>\"\",COUNTIF(M42:AQ42,\"FE\"),\"\")","v":0},{"$f":"IF(A42<>\"\",COUNTIF(M42:AQ42,\"LC\"),\"\")","v":0},{"$f":"IF(A42<>\"\",COUNTIF(M42:AQ42,\"CH*\"),\"\")","v":0},{"$f":"IF(A42<>\"\",COUNTIF(M42:AQ42,\"AF1\")+COUNTIF(M42:AQ42,\"AF2\")+COUNTIF(M42:AQ42,\"AF3\")+COUNTIF(M42:AQ42,\"AF4\")+COUNTIF(M42:AQ42,\"AF5\")+COUNTIF(M42:AQ42,\"AF6\")+COUNTIF(M42:AQ42,\"AF7\")+COUNTIF(M42:AQ42,\"AF8\")+COUNTIF(M42:AQ42,\"AF9\")+COUNTIF(M42:AQ42,\"AF10\")+COUNTIF(M42:AQ42,\"AF11\")+COUNTIF(M42:AQ42,\"AF12\")+COUNTIF(M42:AQ42,\"AF13\")+COUNTIF(M42:AQ42,\"AF14\"),\"\")","v":0},{"$f":"IF(A42<>\"\",COUNTIF(M42:AQ42,\"CH*\")+COUNTIF(M42:AQ42,\"L\")+COUNTIF(M42:AQ42,\"LM\")+COUNTIF(M42:AQ42,\"LP\")+COUNTIF(M42:AQ42,\"LC\")+COUNTIF(M42:AQ42,\"AB*\")+COUNTIF(M42:AQ42,\"AF1\")+COUNTIF(M42:AQ42,\"AF2\")+COUNTIF(M42:AQ42,\"AF3\")+COUNTIF(M42:AQ42,\"AF4\")+COUNTIF(M42:AQ42,\"AF5\")+COUNTIF(M42:AQ42,\"AF6\")+COUNTIF(M42:AQ42,\"AF7\")+COUNTIF(M42:AQ42,\"AF8\")+COUNTIF(M42:AQ42,\"AF9\")+COUNTIF(M42:AQ42,\"AF10\")+COUNTIF(M42:AQ42,\"AF11\")+COUNTIF(M42:AQ42,\"AF12\")+COUNTIF(M42:AQ42,\"AF13\")+COUNTIF(M42:AQ42,\"AF14\")+COUNTIF(M42:AQ42,\"RC\")+COUNTIF(M42:AQ42,\"FO\")+COUNTIF(M42:AQ42,\"FE\"),\"\")","v":0}]
["Elizabeth Kristiane Buss Lunardelli",3760219,null,"ME","RJU",30,null,null,null,null,null,null,"FE",null,null,null,null,null,null,null,null,null,null,null,null,null,null,null,null,null,null,null,null,null,null,null,null,null,null,null,null,null,null,{"$f":"IF(A43<>\"\",IFERROR(VLOOKUP(M43,Tabelas!B:D,3,0),0),\"\")","v":0},{"$f":"IF(A43<>\"\",IFERROR(VLOOKUP(N43,Tabelas!B:D,3,0),0),\"\")","v":0},{"$f":"IF(A43<>\"\",IFERROR(VLOOKUP(O43,Tabelas!B:D,3,0),0),\"\")","v":0},{"$f":"IF(A43<>\"\",IFERROR(VLOOKUP(P43,Tabelas!B:D,3,0),0),\"\")","v":0},{"$f":"IF(A43<>\"\",IFERROR(VLOOKUP(Q43,Tabelas!B:D,3,0),0),\"\")","v":0},{"$f":"IF(A43<>\"\",IFERROR(VLOOKUP(R43,Tabelas!B:D,3,0),0),\"\")","v":0},{"$f":"IF(A43<>\"\",IFERROR(VLOOKUP(S43,Tabelas!B:D,3,0),0),\"\")","v":0},{"$f":"IF(A43<>\"\",IFERROR(VLOOKUP(T43,Tabelas!B:D,3,0),0),\"\")","v":0},{"$f":"IF(A43<>\"\",IFERROR(VLOOKUP(U43,Tabelas!B:D,3,0),0),\"\")","v":0},{"$f":"IF(A43<>\"\",IFERROR(VLOOKUP(V43,Tabelas!B:D,3,0),0),\"\")","v":0},{"$f":"IF(A43<>\"\",IFERROR(VLOOKUP(W43,Tabelas!B:D,3,0),0),\"\")","v":0},{"$f":"IF(A43<>\"\",IFERROR(VLOOKUP(X43,Tabelas!B:D,3,0),0),\"\")","v":0},{"$f":"IF(A43<>\"\",IFERROR(VLOOKUP(Y43,Tabelas!B:D,3,0),0),\"\")","v":0},{"$f":"IF(A43<>\"\",IFERROR(VLOOKUP(Z43,Tabelas!B:D,3,0),0),\"\")","v":0},{"$f":"IF(A43<>\"\",IFERROR(VLOOKUP(AA43,Tabelas!B:D,3,0),0),\"\")","v":0},{"$f":"IF(A43<>\"\",IFERROR(VLOOKUP(AB43,Tabelas!B:D,3,0),0),\"\")","v":0},{"$f":"IF(A43<>\"\",IFERROR(VLOOKUP(AC43,Tabelas!B:D,3,0),0),\"\")","v":0},{"$f":"IF(A43<>\"\",IFERROR(VLOOKUP(AD43,Tabelas!B:D,3,0),0),\"\")","v":0},{"$f":"IF(A43<>\"\",IFERROR(VLOOKUP(AE43,Tabelas!B:D,3,0),0),\"\")","v":0},{"$f":"IF(A43<>\"\",IFERROR(VLOOKUP(AF43,Tabelas!B:D,3,0),0),\"\")","v":0},{"$f":"IF(A43<>\"\",IFERROR(VLOOKUP(AG43,Tabelas!B:D,3,0),0),\"\")","v":0},{"$f":"IF(A43<>\"\",IFERROR(VLOOKUP(AH43,Tabelas!B:D,3,0),0),\"\")","v":0},{"$f":"IF(A43<>\"\",IFERROR(VLOOKUP(AI43,Tabelas!B:D,3,0),0),\"\")","v":0},{"$f":"IF(A43<>\"\",IFERROR(VLOOKUP(AJ43,Tabelas!B:D,3,0),0),\"\")","v":0},{"$f":"IF(A43<>\"\",IFERROR(VLOOKUP(AK43,Tabelas!B:D,3,0),0),\"\")","v":0},{"$f":"IF(A43<>\"\",IFERROR(VLOOKUP(AL43,Tabelas!B:D,3,0),0),\"\")","v":0},{"$f":"IF(A43<>\"\",IFERROR(VLOOKUP(AM43,Tabelas!B:D,3,0),0),\"\")","v":0},{"$f":"IF(A43<>\"\",IFERROR(VLOOKUP(AN43,Tabelas!B:D,3,0),0),\"\")","v":0},{"$f":"IF(A43<>\"\",IFERROR(VLOOKUP(AO43,Tabelas!B:D,3,0),0),\"\")","v":0},{"$f":"IF(A43<>\"\",IFERROR(VLOOKUP(AP43,Tabelas!B:D,3,0),0),\"\")","v":0},{"$f":"IF(A43<>\"\",IFERROR(VLOOKUP(AQ43,Tabelas!B:D,3,0),0),\"\")","v":0},0,0,0,1,0,0,0,1]
["TOTAL PROFISSIONAIS MATUTINO",null,null,null,null,null,null,null,null,null,null,null,{"$f":"IF(COUNTIF(M9:M43,\"M*\")+ COUNTIF(M9:M43, \"D*\")-COUNTIF(M9:M43,\"DSR\")<>0,COUNTIF(M9:M43,\"M*\")+ COUNTIF(M9:M43, \"D*\")-COUNTIF(M9:M43,\"DSR\"),\"\")","v":3},3,3,4,5,4,4,4,3,3,4,4,3,4,4,3,3,4,4,4,4,4,3,3,4,4,4,4,4,3,3,null,null,null,null,null,null,null,null,null,null,null,null,null,null,null,null,null,null,null,null,null,null,null,null,null,null,null,null,null,null,null,{"$f":"SUM(BW9:BW43)","v":2287},0,0,1,0,0,0,1]
["TOTAL DE PROFISSIONAIS VESPERTINO",null,null,null,null,null,null,null,null,null,null,null,{"$f":"IF(COUNTIF(M9:M43,\"MT*\") + COUNTIF(M9:M43, \"D*\") + COUNTIF(M9:M43,\"T*\")-COUNTIF(M9:M43,\"DSR\")<>0,COUNTIF(M9:M43,\"MT*\") + COUNTIF(M9:M43, \"D*\") + COUNTIF(M9:M43,\"T*\")-COUNTIF(M9:M43,\"DSR\"),\"\")","v":3},2,3,3,4,4,4,3,2,3,3,4,4,4,4,2,3,3,4,4,4,3,3,2,3,4,4,4,3,3,2,{"$f":"IF(A45<>\"\",IFERROR(VLOOKUP(M45,Tabelas!B:D,3,0),0),\"\")","v":0},{"$f":"IF(A45<>\"\",IFERROR(VLOOKUP(N45,Tabelas!B:D,3,0),0),\"\")","v":0},{"$f":"IF(A45<>\"\",IFERROR(VLOOKUP(O45,Tabelas!B:D,3,0),0),\"\")","v":0},{"$f":"IF(A45<>\"\",IFERROR(VLOOKUP(P45,Tabelas!B:D,3,0),0),\"\")","v":0},{"$f":"IF(A45<>\"\",IFERROR(VLOOKUP(Q45,Tabelas!B:D,3,0),0),\"\")","v":0},{"$f":"IF(A45<>\"\",IFERROR(VLOOKUP(R45,Tabelas!B:D,3,0),0),\"\")","v":0},{"$f":"IF(A45<>\"\",IFERROR(VLOOKUP(S45,Tabelas!B:D,3,0),0),\"\")","v":0},{"$f":"IF(A45<>\"\",IFERROR(VLOOKUP(T45,Tabelas!B:D,3,0),0),\"\")","v":0},{"$f":"IF(A45<>\"\",IFERROR(VLOOKUP(U45,Tabelas!B:D,3,0),0),\"\")","v":0},{"$f":"IF(A45<>\"\",IFERROR(VLOOKUP(V45,Tabelas!B:D,3,0),0),\"\")","v":0},{"$f":"IF(A45<>\"\",IFERROR(VLOOKUP(W45,Tabelas!B:D,3,0),0),\"\")","v":0},{"$f":"IF(A45<>\"\",IFERROR(VLOOKUP(X45,Tabelas!B:D,3,0),0),\"\")","v":0},{"$f":"IF(A45<>\"\",IFERROR(VLOOKUP(Y45,Tabelas!B:D,3,0),0),\"\")","v":0},{"$f":"IF(A45<>\"\",IFERROR(VLOOKUP(Z45,Tabelas!B:D,3,0),0),\"\")","v":0},{"$f":"IF(A45<>\"\",IFERROR(VLOOKUP(AA45,Tabelas!B:D,3,0),0),\"\")","v":0},{"$f":"IF(A45<>\"\",IFERROR(VLOOKUP(AB45,Tabelas!B:D,3,0),0),\"\")","v":0},{"$f":"IF(A45<>\"\",IFERROR(VLOOKUP(AC45,Tabelas!B:D,3,0),0),\"\")","v":0},{"$f":"IF(A45<>\"\",IFERROR(VLOOKUP(AD45,Tabelas!B:D,3,0),0),\"\")","v":0},{"$f":"IF(A45<>\"\",IFERROR(VLOOKUP(AE45,Tabelas!B:D,3,0),0),\"\")","v":0},{"$f":"IF(A45<>\"\",IFERROR(VLOOKUP(AF45,Tabelas!B:D,3,0),0),\"\")","v":0},{"$f":"IF(A45<>\"\",IFERROR(VLOOKUP(AG45,Tabelas!B:D,3,0),0),\"\")","v":0},{"$f":"IF(A45<>\"\",IFERROR(VLOOKUP(AH45,Tabelas!B:D,3,0),0),\"\")","v":0},{"$f":"IF(A45<>\"\",IFERROR(VLOOKUP(AI45,Tabelas!B:D,3,0),0),\"\")","v":0},{"$f":"IF(A45<>\"\",IFERROR(VLOOKUP(AJ45,Tabelas!B:D,3,0),0),\"\")","v":0},{"$f":"IF(A45<>\"\",IFERROR(VLOOKUP(AK45,Tabelas!B:D,3,0),0),\"\")","v":0},{"$f":"IF(A45<>\"\",IFERROR(VLOOKUP(AL45,Tabelas!B:D,3,0),0),\"\")","v":0},{"$f":"IF(A45<>\"\",IFERROR(VLOOKUP(AM45,Tabelas!B:D,3,0),0),\"\")","v":0},{"$f":"IF(A45<>\"\",IFERROR(VLOOKUP(AN45,Tabelas!B:D,3,0),0),\"\")","v":0},{"$f":"IF(A45<>\"\",IFERROR(VLOOKUP(AO45,Tabelas!B:D,3,0),0),\"\")","v":0},{"$f":"IF(A45<>\"\",IFERROR(VLOOKUP(AP45,Tabelas!B:D,3,0),0),\"\")","v":0},{"$f":"IF(A45<>\"\",IFERROR(VLOOKUP(AQ45,Tabelas!B:D,3,0),0),\"\")","v":0}]
["TOTAL DE PROFISSIONAIS NOTURNO",null,null,null,null,null,null,null,null,null,null,null,{"$f":"IF(COUNTIF(M9:M45,\"N?*\") + COUNTIF(M9:M45, \"DN*\")<>0,COUNTIF(M9:M45,\"N?*\") + COUNTIF(M9:M45, \"DN*\"),\"\")","v":2},3,2,3,3,3,2,2,3,2,2,3,3,3,2,2,3,2,3,3,3,2,2,3,3,3,2,3,2,3,3,{"$f":"IF(A46<>\"\",IFERROR(VLOOKUP(M46,Tabelas!B:D,3,0),0),\"\")","v":0},{"$f":"IF(A46<>\"\",IFERROR(VLOOKUP(N46,Tabelas!B:D,3,0),0),\"\")","v":0},{"$f":"IF(A46<>\"\",IFERROR(VLOOKUP(O46,Tabelas!B:D,3,0),0),\"\")","v":0},{"$f":"IF(A46<>\"\",IFERROR(VLOOKUP(P46,Tabelas!B:D,3,0),0),\"\")","v":0},{"$f":"IF(A46<>\"\",IFERROR(VLOOKUP(Q46,Tabelas!B:D,3,0),0),\"\")","v":0},{"$f":"IF(A46<>\"\",IFERROR(VLOOKUP(R46,Tabelas!B:D,3,0),0),\"\")","v":0},{"$f":"IF(A46<>\"\",IFERROR(VLOOKUP(S46,Tabelas!B:D,3,0),0),\"\")","v":0},{"$f":"IF(A46<>\"\",IFERROR(VLOOKUP(T46,Tabelas!B:D,3,0),0),\"\")","v":0},{"$f":"IF(A46<>\"\",IFERROR(VLOOKUP(U46,Tabelas!B:D,3,0),0),\"\")","v":0},{"$f":"IF(A46<>\"\",IFERROR(VLOOKUP(V46,Tabelas!B:D,3,0),0),\"\")","v":0},{"$f":"IF(A46<>\"\",IFERROR(VLOOKUP(W46,Tabelas!B:D,3,0),0),\"\")","v":0},{"$f":"IF(A46<>\"\",IFERROR(VLOOKUP(X46,Tabelas!B:D,3,0),0),\"\")","v":0},{"$f":"IF(A46<>\"\",IFERROR(VLOOKUP(Y46,Tabelas!B:D,3,0),0),\"\")","v":0},{"$f":"IF(A46<>\"\",IFERROR(VLOOKUP(Z46,Tabelas!B:D,3,0),0),\"\")","v":0},{"$f":"IF(A46<>\"\",IFERROR(VLOOKUP(AA46,Tabelas!B:D,3,0),0),\"\")","v":0},{"$f":"IF(A46<>\"\",IFERROR(VLOOKUP(AB46,Tabelas!B:D,3,0),0),\"\")","v":0},{"$f":"IF(A46<>\"\",IFERROR(VLOOKUP(AC46,Tabelas!B:D,3,0),0),\"\")","v":0},{"$f":"IF(A46<>\"\",IFERROR(VLOOKUP(AD46,Tabelas!B:D,3,0),0),\"\")","v":0},{"$f":"IF(A46<>\"\",IFERROR(VLOOKUP(AE46,Tabelas!B:D,3,0),0),\"\")","v":0},{"$f":"IF(A46<>\"\",IFERROR(VLOOKUP(AF46,Tabelas!B:D,3,0),0),\"\")","v":0},{"$f":"IF(A46<>\"\",IFERROR(VLOOKUP(AG46,Tabelas!B:D,3,0),0),\"\")","v":0},{"$f":"IF(A46<>\"\",IFERROR(VLOOKUP(AH46,Tabelas!B:D,3,0),0),\"\")","v":0},{"$f":"IF(A46<>\"\",IFERROR(VLOOKUP(AI46,Tabelas!B:D,3,0),0),\"\")","v":0},{"$f":"IF(A46<>\"\",IFERROR(VLOOKUP(AJ46,Tabelas!B:D,3,0),0),\"\")","v":0},{"$f":"IF(A46<>\"\",IFERROR(VLOOKUP(AK46,Tabelas!B:D,3,0),0),\"\")","v":0},{"$f":"IF(A46<>\"\",IFERROR(VLOOKUP(AL46,Tabelas!B:D,3,0),0),\"\")","v":0},{"$f":"IF(A46<>\"\",IFERROR(VLOOKUP(AM46,Tabelas!B:D,3,0),0),\"\")","v":0},{"$f":"IF(A46<>\"\",IFERROR(VLOOKUP(AN46,Tabelas!B:D,3,0),0),\"\")","v":0},{"$f":"IF(A46<>\"\",IFERROR(VLOOKUP(AO46,Tabelas!B:D,3,0),0),\"\")","v":0},{"$f":"IF(A46<>\"\",IFERROR(VLOOKUP(AP46,Tabelas!B:D,3,0),0),\"\")","v":0},{"$f":"IF(A46<>\"\",IFERROR(VLOOKUP(AQ46,Tabelas!B:D,3,0),0),\"\")","v":0}]
[null,null,null,null,null,null,null,null,null,null,null,null,null,null,null,null,null,null,null,null,null,null,null,null,null,null,null,null,null,null,null,null,null,null,null,null,null,null,null,null,null,null,null,{"$f":"IF(A47<>\"\",IFERROR(VLOOKUP(M47,Tabelas!B:D,3,0),0),\"\")","v":""},{"$f":"IF(A47<>\"\",IFERROR(VLOOKUP(N47,Tabelas!B:D,3,0),0),\"\")","v":""},{"$f":"IF(A47<>\"\",IFERROR(VLOOKUP(O47,Tabelas!B:D,3,0),0),\"\")","v":""},{"$f":"IF(A47<>\"\",IFERROR(VLOOKUP(P47,Tabelas!B:D,3,0),0),\"\")","v":""},{"$f":"IF(A47<>\"\",IFERROR(VLOOKUP(Q47,Tabelas!B:D,3,0),0),\"\")","v":""},{"$f":"IF(A47<>\"\",IFERROR(VLOOKUP(R47,Tabelas!B:D,3,0),0),\"\")","v":""},{"$f":"IF(A47<>\"\",IFERROR(VLOOKUP(S47,Tabelas!B:D,3,0),0),\"\")","v":""},{"$f":"IF(A47<>\"\",IFERROR(VLOOKUP(T47,Tabelas!B:D,3,0),0),\"\")","v":""},{"$f":"IF(A47<>\"\",IFERROR(VLOOKUP(U47,Tabelas!B:D,3,0),0),\"\")","v":""},{"$f":"IF(A47<>\"\",IFERROR(VLOOKUP(V47,Tabelas!B:D,3,0),0),\"\")","v":""},{"$f":"IF(A47<>\"\",IFERROR(VLOOKUP(W47,Tabelas!B:D,3,0),0),\"\")","v":""},{"$f":"IF(A47<>\"\",IFERROR(VLOOKUP(X47,Tabelas!B:D,3,0),0),\"\")","v":""},{"$f":"IF(A47<>\"\",IFERROR(VLOOKUP(Y47,Tabelas!B:D,3,0),0),\"\")","v":""},{"$f":"IF(A47<>\"\",IFERROR(VLOOKUP(Z47,Tabelas!B:D,3,0),0),\"\")","v":""},{"$f":"IF(A47<>\"\",IFERROR(VLOOKUP(AA47,Tabelas!B:D,3,0),0),\"\")","v":""},{"$f":"IF(A47<>\"\",IFERROR(VLOOKUP(AB47,Tabelas!B:D,3,0),0),\"\")","v":""},{"$f":"IF(A47<>\"\",IFERROR(VLOOKUP(AC47,Tabelas!B:D,3,0),0),\"\")","v":""},{"$f":"IF(A47<>\"\",IFERROR(VLOOKUP(AD47,Tabelas!B:D,3,0),0),\"\")","v":""},{"$f":"IF(A47<>\"\",IFERROR(VLOOKUP(AE47,Tabelas!B:D,3,0),0),\"\")","v":""},{"$f":"IF(A47<>\"\",IFERROR(VLOOKUP(AF47,Tabelas!B:D,3,0),0),\"\")","v":""},{"$f":"IF(A47<>\"\",IFERROR(VLOOKUP(AG47,Tabelas!B:D,3,0),0),\"\")","v":""},{"$f":"IF(A47<>\"\",IFERROR(VLOOKUP(AH47,Tabelas!B:D,3,0),0),\"\")","v":""},{"$f":"IF(A47<>\"\",IFERROR(VLOOKUP(AI47,Tabelas!B:D,3,0),0),\"\")","v":""},{"$f":"IF(A47<>\"\",IFERROR(VLOOKUP(AJ47,Tabelas!B:D,3,0),0),\"\")","v":""},{"$f":"IF(A47<>\"\",IFERROR(VLOOKUP(AK47,Tabelas!B:D,3,0),0),\"\")","v":""},{"$f":"IF(A47<>\"\",IFERROR(VLOOKUP(AL47,Tabelas!B:D,3,0),0),\"\")","v":""},{"$f":"IF(A47<>\"\",IFERROR(VLOOKUP(AM47,Tabelas!B:D,3,0),0),\"\")","v":""},{"$f":"IF(A47<>\"\",IFERROR(VLOOKUP(AN47,Tabelas!B:D,3,0),0),\"\")","v":""},{"$f":"IF(A47<>\"\",IFERROR(VLOOKUP(AO47,Tabelas!B:D,3,0),0),\"\")","v":""},{"$f":"IF(A47<>\"\",IFERROR(VLOOKUP(AP47,Tabelas!B:D,3,0),0),\"\")","v":""},{"$f":"IF(A47<>\"\",IFERROR(VLOOKUP(AQ47,Tabelas!B:D,3,0),0),\"\")","v":""}]
["Legenda:"]
["Licença Maternidade","LM","Férias",null,null,null,null,null,null,"FE",null,"Ponto Facultativo",null,null,null,null,null,null,null,"PF","Manhã *",null,null,null,null,null,null,"M","Diurno (8 hrs) *",null,null,null,null,null,null,"MT"]
["Licença Paternidade","LP","Feriado",null,null,null,null,null,null,"FD",null,"Abono **",null,null,null,null,null,null,null,"AB","Tarde *",null,null,null,null,null,null,"T","Dia/ noite (24 hrs) *",null,null,null,null,null,null,"DN"]
["Licença Médica/Odontológica","L","Descanso Semanal Remunerado",null,null,null,null,null,null,"DSR",null,"Compensação de Horas***",null,null,null,null,null,null,null,"CH","Plantão Dia (12 hrs) *",null,null,null,null,null,null,"D"]
["Licença Capacitação","LC","Recesso",null,null,null,null,null,null,"RC",null,"Afastamento**",null,null,null,null,null,null,null,"AF","Plantão Noite (12 hrs) *",null,null,null,null,null,null,"N"]
[]
["OBSERVAÇÕES:"]
["* Para inserção das legendas referentes às jornadas de trabalho, verificar a Tabela 1 do Anexo do Memorando-Circular - SEI nº   25 /2018/CAP/DGP-EBSERH."]
["** Para inserção das legendas referentes aos Afastamentos previstos em lei e às Compensações de horas, verificar a Tabela 2 do Anexo do Memorando-Circular - SEI nº   25 /2018/CAP/DGP-EBSERH."]

{"sheet":"Junho","index":5,"n_rows":56,"n_cols":82,"rows_kept":56,"cut":false,"hidden":false,"merged":[[48,20,48,26],[49,2,49,8],[49,9,49,10],[49,11,49,18],[49,20,49,26],[48,2,48,8],[48,9,48,10],[50,20,50,26],[51,2,51,8],[51,9,51,10],[51,11,51,18],[51,20,51,26],[43,0,43,11],[44,0,44,11],[45,0,45,11],[50,2,50,8],[50,9,50,10],[50,11,50,18],[48,11,48,18],[1,0,1,42],[2,0,2,42],[3,0,3,42],[4,1,4,20],[4,23,4,34],[4,37,4,42],[5,6,5,11],[6,76,7,76],[6,77,7,77],[6,78,7,78],[6,79,7,79],[6,6,7,6],[6,7,7,7],[6,8,7,8],[6,11,7,11],[6,9,7,9],[6,10,7,10],[6,80,7,80],[6,81,7,81],[5,12,5,42],[5,43,5,73],[5,75,5,81],[5,74,7,74],[6,75,7,75],[43,79,45,79],[43,80,45,80],[43,81,45,81],[48,28,48,34],[49,28,49,34],[43,74,45,74],[43,75,45,75],[43,76,45,76],[43,77,45,77],[43,78,45,78]]}
[" "]
[]
["NOME DO HU"]
["ESCALA MENSAL DE TRABALHO"]
["DIVISÃO /SETOR/UNIDADE:",null,null,null,null,null,null,null,null,null,null,null,null,null,null,null,null,null,null,null,null,"MÊS:",null,"Junho",null,null,null,null,null,null,null,null,null,null,null,"ANO:",null,2020]
["NOME COMPLETO","SIAPE","     Registro Conselho Classe","Cargo","Vínculo","    C.H Sem","INTERVALO",null,null,null,null,null,"DIAS DO MÊS",null,null,null,null,null,null,null,null,null,null,null,null,null,null,null,null,null,null,null,null,null,null,null,null,null,null,null,null,null,null,"CÁLCULO DAS HORAS",null,null,null,null,null,null,null,null,null,null,null,null,null,null,null,null,null,null,null,null,null,null,null,null,null,null,null,null,null,null,"CH Men.","Dias"]
[null,null,null,null,null,null,"15' M","15' T","15' N","1H D","1H N","2H",1,2,3,4,5,6,7,8,9,10,11,12,13,14,15,16,17,18,19,20,21,22,23,24,25,{"$f":"IF(DAY(DATE(AL5,VLOOKUP(X5,Tabelas!M:N,2,0)+1,1)-1)>=26,26,\"\")","v":26},{"$f":"IF(DAY(DATE(AL5,VLOOKUP(X5,Tabelas!M:N,2,0)+1,1)-1)>=27,27,\"\")","v":27},{"$f":"IF(DAY(DATE(AL5,VLOOKUP(X5,Tabelas!M:N,2,0)+1,1)-1)>=28,28,\"\")","v":28},{"$f":"IF(DAY(DATE(AL5,VLOOKUP(X5,Tabelas!M:N,2,0)+1,1)-1)>=29,29,\"\")","v":29},{"$f":"IF(DAY(DATE(AL5,VLOOKUP(X5,Tabelas!M:N,2,0)+1,1)-1)>=30,30,\"\")","v":30},{"$f":"IF(DAY(DATE(AL5,VLOOKUP(X5,Tabelas!M:N,2,0)+1,1)-1)>=31,31,\"\")","v":""},null,null,null,null,null,null,null,null,null,null,null,null,null,null,null,null,null,null,null,null,null,null,null,null,null,null,null,null,null,null,null,null,"LM/LP/L","AB","FE","LC","CH","AF  "," Total Afast."]
[null,null,null,null,null,null,null,null,null,null,null,null,{"$f":"IF(M7<>\"\",IFERROR(VLOOKUP(WEEKDAY(CONCATENATE(M7,$X$5,$AL$5)),Tabelas!$I:$J,2,0),\"\"),\"\")","v":"SEG"},{"$f":"IF(N7<>\"\",IFERROR(VLOOKUP(WEEKDAY(CONCATENATE(N7,$X$5,$AL$5)),Tabelas!$I:$J,2,0),\"\"),\"\")","v":"TER"},{"$f":"IF(O7<>\"\",IFERROR(VLOOKUP(WEEKDAY(CONCATENATE(O7,$X$5,$AL$5)),Tabelas!$I:$J,2,0),\"\"),\"\")","v":"QUA"},{"$f":"IF(P7<>\"\",IFERROR(VLOOKUP(WEEKDAY(CONCATENATE(P7,$X$5,$AL$5)),Tabelas!$I:$J,2,0),\"\"),\"\")","v":"QUI"},{"$f":"IF(Q7<>\"\",IFERROR(VLOOKUP(WEEKDAY(CONCATENATE(Q7,$X$5,$AL$5)),Tabelas!$I:$J,2,0),\"\"),\"\")","v":"SEX"},{"$f":"IF(R7<>\"\",IFERROR(VLOOKUP(WEEKDAY(CONCATENATE(R7,$X$5,$AL$5)),Tabelas!$I:$J,2,0),\"\"),\"\")","v":"SAB"},{"$f":"IF(S7<>\"\",IFERROR(VLOOKUP(WEEKDAY(CONCATENATE(S7,$X$5,$AL$5)),Tabelas!$I:$J,2,0),\"\"),\"\")","v":"DOM"},{"$f":"IF(T7<>\"\",IFERROR(VLOOKUP(WEEKDAY(CONCATENATE(T7,$X$5,$AL$5)),Tabelas!$I:$J,2,0),\"\"),\"\")","v":"SEG"},{"$f":"IF(U7<>\"\",IFERROR(VLOOKUP(WEEKDAY(CONCATENATE(U7,$X$5,$AL$5)),Tabelas!$I:$J,2,0),\"\"),\"\")","v":"TER"},{"$f":"IF(V7<>\"\",IFERROR(VLOOKUP(WEEKDAY(CONCATENATE(V7,$X$5,$AL$5)),Tabelas!$I:$J,2,0),\"\"),\"\")","v":"QUA"},{"$f":"IF(W7<>\"\",IFERROR(VLOOKUP(WEEKDAY(CONCATENATE(W7,$X$5,$AL$5)),Tabelas!$I:$J,2,0),\"\"),\"\")","v":"QUI"},{"$f":"IF(X7<>\"\",IFERROR(VLOOKUP(WEEKDAY(CONCATENATE(X7,$X$5,$AL$5)),Tabelas!$I:$J,2,0),\"\"),\"\")","v":"SEX"},{"$f":"IF(Y7<>\"\",IFERROR(VLOOKUP(WEEKDAY(CONCATENATE(Y7,$X$5,$AL$5)),Tabelas!$I:$J,2,0),\"\"),\"\")","v":"SAB"},{"$f":"IF(Z7<>\"\",IFERROR(VLOOKUP(WEEKDAY(CONCATENATE(Z7,$X$5,$AL$5)),Tabelas!$I:$J,2,0),\"\"),\"\")","v":"DOM"},{"$f":"IF(AA7<>\"\",IFERROR(VLOOKUP(WEEKDAY(CONCATENATE(AA7,$X$5,$AL$5)),Tabelas!$I:$J,2,0),\"\"),\"\")","v":"SEG"},{"$f":"IF(AB7<>\"\",IFERROR(VLOOKUP(WEEKDAY(CONCATENATE(AB7,$X$5,$AL$5)),Tabelas!$I:$J,2,0),\"\"),\"\")","v":"TER"},{"$f":"IF(AC7<>\"\",IFERROR(VLOOKUP(WEEKDAY(CONCATENATE(AC7,$X$5,$AL$5)),Tabelas!$I:$J,2,0),\"\"),\"\")","v":"QUA"},{"$f":"IF(AD7<>\"\",IFERROR(VLOOKUP(WEEKDAY(CONCATENATE(AD7,$X$5,$AL$5)),Tabelas!$I:$J,2,0),\"\"),\"\")","v":"QUI"},{"$f":"IF(AE7<>\"\",IFERROR(VLOOKUP(WEEKDAY(CONCATENATE(AE7,$X$5,$AL$5)),Tabelas!$I:$J,2,0),\"\"),\"\")","v":"SEX"},{"$f":"IF(AF7<>\"\",IFERROR(VLOOKUP(WEEKDAY(CONCATENATE(AF7,$X$5,$AL$5)),Tabelas!$I:$J,2,0),\"\"),\"\")","v":"SAB"},{"$f":"IF(AG7<>\"\",IFERROR(VLOOKUP(WEEKDAY(CONCATENATE(AG7,$X$5,$AL$5)),Tabelas!$I:$J,2,0),\"\"),\"\")","v":"DOM"},{"$f":"IF(AH7<>\"\",IFERROR(VLOOKUP(WEEKDAY(CONCATENATE(AH7,$X$5,$AL$5)),Tabelas!$I:$J,2,0),\"\"),\"\")","v":"SEG"},{"$f":"IF(AI7<>\"\",IFERROR(VLOOKUP(WEEKDAY(CONCATENATE(AI7,$X$5,$AL$5)),Tabelas!$I:$J,2,0),\"\"),\"\")","v":"TER"},{"$f":"IF(AJ7<>\"\",IFERROR(VLOOKUP(WEEKDAY(CONCATENATE(AJ7,$X$5,$AL$5)),Tabelas!$I:$J,2,0),\"\"),\"\")","v":"QUA"},{"$f":"IF(AK7<>\"\",IFERROR(VLOOKUP(WEEKDAY(CONCATENATE(AK7,$X$5,$AL$5)),Tabelas!$I:$J,2,0),\"\"),\"\")","v":"QUI"},{"$f":"IF(AL7<>\"\",IFERROR(VLOOKUP(WEEKDAY(CONCATENATE(AL7,$X$5,$AL$5)),Tabelas!$I:$J,2,0),\"\"),\"\")","v":"SEX"},{"$f":"IF(AM7<>\"\",IFERROR(VLOOKUP(WEEKDAY(CONCATENATE(AM7,$X$5,$AL$5)),Tabelas!$I:$J,2,0),\"\"),\"\")","v":"SAB"},{"$f":"IF(AN7<>\"\",IFERROR(VLOOKUP(WEEKDAY(CONCATENATE(AN7,$X$5,$AL$5)),Tabelas!$I:$J,2,0),\"\"),\"\")","v":"DOM"},{"$f":"IF(AO7<>\"\",IFERROR(VLOOKUP(WEEKDAY(CONCATENATE(AO7,$X$5,$AL$5)),Tabelas!$I:$J,2,0),\"\"),\"\")","v":"SEG"},{"$f":"IF(AP7<>\"\",IFERROR(VLOOKUP(WEEKDAY(CONCATENATE(AP7,$X$5,$AL$5)),Tabelas!$I:$J,2,0),\"\"),\"\")","v":"TER"},{"$f":"IF(AQ7<>\"\",IFERROR(VLOOKUP(WEEKDAY(CONCATENATE(AQ7,$X$5,$AL$5)),Tabelas!$I:$J,2,0),\"\"),\"\")","v":""},1,2,3,4,5,6,7,8,9,10,11,12,13,14,15,16,17,18,19,20,21,22,23,24,25,26,27,28,29,30,31]
["ROTINA",null,null,null,null,null,null,null,null,null,null,null,null,null,null,null,null,null,null,null,null,null,null,null,null,null,null,null,null,null,null,null,null,null,null,null,null,null,null,null,null,null,null,{"$f":"IF(A9<>\"\",IFERROR(VLOOKUP(M9,Tabelas!B:D,3,0),0),\"\")","v":0},{"$f":"IF(A9<>\"\",IFERROR(VLOOKUP(N9,Tabelas!B:D,3,0),0),\"\")","v":0},{"$f":"IF(A9<>\"\",IFERROR(VLOOKUP(O9,Tabelas!B:D,3,0),0),\"\")","v":0},{"$f":"IF(A9<>\"\",IFERROR(VLOOKUP(P9,Tabelas!B:D,3,0),0),\"\")","v":0},{"$f":"IF(A9<>\"\",IFERROR(VLOOKUP(Q9,Tabelas!B:D,3,0),0),\"\")","v":0},{"$f":"IF(A9<>\"\",IFERROR(VLOOKUP(R9,Tabelas!B:D,3,0),0),\"\")","v":0},{"$f":"IF(A9<>\"\",IFERROR(VLOOKUP(S9,Tabelas!B:D,3,0),0),\"\")","v":0},{"$f":"IF(A9<>\"\",IFERROR(VLOOKUP(T9,Tabelas!B:D,3,0),0),\"\")","v":0},{"$f":"IF(A9<>\"\",IFERROR(VLOOKUP(U9,Tabelas!B:D,3,0),0),\"\")","v":0},{"$f":"IF(A9<>\"\",IFERROR(VLOOKUP(V9,Tabelas!B:D,3,0),0),\"\")","v":0},{"$f":"IF(A9<>\"\",IFERROR(VLOOKUP(W9,Tabelas!B:D,3,0),0),\"\")","v":0},{"$f":"IF(A9<>\"\",IFERROR(VLOOKUP(X9,Tabelas!B:D,3,0),0),\"\")","v":0},{"$f":"IF(A9<>\"\",IFERROR(VLOOKUP(Y9,Tabelas!B:D,3,0),0),\"\")","v":0},{"$f":"IF(A9<>\"\",IFERROR(VLOOKUP(Z9,Tabelas!B:D,3,0),0),\"\")","v":0},{"$f":"IF(A9<>\"\",IFERROR(VLOOKUP(AA9,Tabelas!B:D,3,0),0),\"\")","v":0},{"$f":"IF(A9<>\"\",IFERROR(VLOOKUP(AB9,Tabelas!B:D,3,0),0),\"\")","v":0},{"$f":"IF(A9<>\"\",IFERROR(VLOOKUP(AC9,Tabelas!B:D,3,0),0),\"\")","v":0},{"$f":"IF(A9<>\"\",IFERROR(VLOOKUP(AD9,Tabelas!B:D,3,0),0),\"\")","v":0},{"$f":"IF(A9<>\"\",IFERROR(VLOOKUP(AE9,Tabelas!B:D,3,0),0),\"\")","v":0},{"$f":"IF(A9<>\"\",IFERROR(VLOOKUP(AF9,Tabelas!B:D,3,0),0),\"\")","v":0},{"$f":"IF(A9<>\"\",IFERROR(VLOOKUP(AG9,Tabelas!B:D,3,0),0),\"\")","v":0},{"$f":"IF(A9<>\"\",IFERROR(VLOOKUP(AH9,Tabelas!B:D,3,0),0),\"\")","v":0},{"$f":"IF(A9<>\"\",IFERROR(VLOOKUP(AI9,Tabelas!B:D,3,0),0),\"\")","v":0},{"$f":"IF(A9<>\"\",IFERROR(VLOOKUP(AJ9,Tabelas!B:D,3,0),0),\"\")","v":0},{"$f":"IF(A9<>\"\",IFERROR(VLOOKUP(AK9,Tabelas!B:D,3,0),0),\"\")","v":0},{"$f":"IF(A9<>\"\",IFERROR(VLOOKUP(AL9,Tabelas!B:D,3,0),0),\"\")","v":0},{"$f":"IF(A9<>\"\",IFERROR(VLOOKUP(AM9,Tabelas!B:D,3,0),0),\"\")","v":0},{"$f":"IF(A9<>\"\",IFERROR(VLOOKUP(AN9,Tabelas!B:D,3,0),0),\"\")","v":0},{"$f":"IF(A9<>\"\",IFERROR(VLOOKUP(AO9,Tabelas!B:D,3,0),0),\"\")","v":0},{"$f":"IF(A9<>\"\",IFERROR(VLOOKUP(AP9,Tabelas!B:D,3,0),0),\"\")","v":0},{"$f":"IF(A9<>\"\",IFERROR(VLOOKUP(AQ9,Tabelas!B:D,3,0),0),\"\")","v":0},{"$f":"IF(AND(A9<>\"\",E9=\"Ebserh\"),SUM(AR9:BV9)+COUNTIF(M9:AQ9,\"N*\")+COUNTIF(M9:AQ9,\"DN*\"),IF(AND(A9<>\"\",E9<>\"Ebserh\"),SUM(AR9:BV9),\"\"))","v":0},{"$f":"IF(A9<>\"\",COUNTIF(M9:AQ9,\"LM\")+COUNTIF(M9:AQ9,\"L\")+COUNTIF(M9:AQ9,\"LP\"),\"\")","v":0},{"$f":"IF(A9<>\"\",COUNTIF(M9:AQ9,\"AB*\"),\"\")","v":0},{"$f":"IF(A9<>\"\",COUNTIF(M9:AQ9,\"FE\"),\"\")","v":0},{"$f":"IF(A9<>\"\",COUNTIF(M9:AQ9,\"LC\"),\"\")","v":0},{"$f":"IF(A9<>\"\",COUNTIF(M9:AQ9,\"CH*\"),\"\")","v":0},{"$f":"IF(A9<>\"\",COUNTIF(M9:AQ9,\"AF1\")+COUNTIF(M9:AQ9,\"AF2\")+COUNTIF(M9:AQ9,\"AF3\")+COUNTIF(M9:AQ9,\"AF4\")+COUNTIF(M9:AQ9,\"AF5\")+COUNTIF(M9:AQ9,\"AF6\")+COUNTIF(M9:AQ9,\"AF7\")+COUNTIF(M9:AQ9,\"AF8\")+COUNTIF(M9:AQ9,\"AF9\")+COUNTIF(M9:AQ9,\"AF10\")+COUNTIF(M9:AQ9,\"AF11\")+COUNTIF(M9:AQ9,\"AF12\")+COUNTIF(M9:AQ9,\"AF13\")+COUNTIF(M9:AQ9,\"AF14\"),\"\")","v":0},{"$f":"IF(A9<>\"\",COUNTIF(M9:AQ9,\"CH*\")+COUNTIF(M9:AQ9,\"L\")+COUNTIF(M9:AQ9,\"LM\")+COUNTIF(M9:AQ9,\"LP\")+COUNTIF(M9:AQ9,\"LC\")+COUNTIF(M9:AQ9,\"AB*\")+COUNTIF(M9:AQ9,\"AF1\")+COUNTIF(M9:AQ9,\"AF2\")+COUNTIF(M9:AQ9,\"AF3\")+COUNTIF(M9:AQ9,\"AF4\")+COUNTIF(M9:AQ9,\"AF5\")+COUNTIF(M9:AQ9,\"AF6\")+COUNTIF(M9:AQ9,\"AF7\")+COUNTIF(M9:AQ9,\"AF8\")+COUNTIF(M9:AQ9,\"AF9\")+COUNTIF(M9:AQ9,\"AF10\")+COUNTIF(M9:AQ9,\"AF11\")+COUNTIF(M9:AQ9,\"AF12\")+COUNTIF(M9:AQ9,\"AF13\")+COUNTIF(M9:AQ9,\"AF14\")+COUNTIF(M9:AQ9,\"RC\")+COUNTIF(M9:AQ9,\"FO\")+COUNTIF(M9:AQ9,\"FE\"),\"\")","v":0}]
["Alexandre Luciano Klein",2312539,null,"ME","RJU",30,null,null,null,null,null,null,"FE","FE","FE","FE","FE","FE","FE","FE","FE","FE","FE","FE","FE","FE","FE","FE","FE","FE","FE","FE",null,"M17","M17","M17","M17","M17",null,null,"M17","M17",null,{"$f":"IF(A10<>\"\",IFERROR(VLOOKUP(M10,Tabelas!B:D,3,0),0),\"\")","v":0},{"$f":"IF(A10<>\"\",IFERROR(VLOOKUP(N10,Tabelas!B:D,3,0),0),\"\")","v":0},{"$f":"IF(A10<>\"\",IFERROR(VLOOKUP(O10,Tabelas!B:D,3,0),0),\"\")","v":0},{"$f":"IF(A10<>\"\",IFERROR(VLOOKUP(P10,Tabelas!B:D,3,0),0),\"\")","v":0},{"$f":"IF(A10<>\"\",IFERROR(VLOOKUP(Q10,Tabelas!B:D,3,0),0),\"\")","v":0},{"$f":"IF(A10<>\"\",IFERROR(VLOOKUP(R10,Tabelas!B:D,3,0),0),\"\")","v":0},{"$f":"IF(A10<>\"\",IFERROR(VLOOKUP(S10,Tabelas!B:D,3,0),0),\"\")","v":0},{"$f":"IF(A10<>\"\",IFERROR(VLOOKUP(T10,Tabelas!B:D,3,0),0),\"\")","v":0},{"$f":"IF(A10<>\"\",IFERROR(VLOOKUP(U10,Tabelas!B:D,3,0),0),\"\")","v":0},{"$f":"IF(A10<>\"\",IFERROR(VLOOKUP(V10,Tabelas!B:D,3,0),0),\"\")","v":0},{"$f":"IF(A10<>\"\",IFERROR(VLOOKUP(W10,Tabelas!B:D,3,0),0),\"\")","v":0},{"$f":"IF(A10<>\"\",IFERROR(VLOOKUP(X10,Tabelas!B:D,3,0),0),\"\")","v":0},{"$f":"IF(A10<>\"\",IFERROR(VLOOKUP(Y10,Tabelas!B:D,3,0),0),\"\")","v":0},{"$f":"IF(A10<>\"\",IFERROR(VLOOKUP(Z10,Tabelas!B:D,3,0),0),\"\")","v":0},{"$f":"IF(A10<>\"\",IFERROR(VLOOKUP(AA10,Tabelas!B:D,3,0),0),\"\")","v":0},{"$f":"IF(A10<>\"\",IFERROR(VLOOKUP(AB10,Tabelas!B:D,3,0),0),\"\")","v":0},{"$f":"IF(A10<>\"\",IFERROR(VLOOKUP(AC10,Tabelas!B:D,3,0),0),\"\")","v":0},{"$f":"IF(A10<>\"\",IFERROR(VLOOKUP(AD10,Tabelas!B:D,3,0),0),\"\")","v":0},{"$f":"IF(A10<>\"\",IFERROR(VLOOKUP(AE10,Tabelas!B:D,3,0),0),\"\")","v":0},{"$f":"IF(A10<>\"\",IFERROR(VLOOKUP(AF10,Tabelas!B:D,3,0),0),\"\")","v":0},{"$f":"IF(A10<>\"\",IFERROR(VLOOKUP(AG10,Tabelas!B:D,3,0),0),\"\")","v":0},{"$f":"IF(A10<>\"\",IFERROR(VLOOKUP(AH10,Tabelas!B:D,3,0),0),\"\")","v":6},{"$f":"IF(A10<>\"\",IFERROR(VLOOKUP(AI10,Tabelas!B:D,3,0),0),\"\")","v":6},{"$f":"IF(A10<>\"\",IFERROR(VLOOKUP(AJ10,Tabelas!B:D,3,0),0),\"\")","v":6},{"$f":"IF(A10<>\"\",IFERROR(VLOOKUP(AK10,Tabelas!B:D,3,0),0),\"\")","v":6},{"$f":"IF(A10<>\"\",IFERROR(VLOOKUP(AL10,Tabelas!B:D,3,0),0),\"\")","v":6},{"$f":"IF(A10<>\"\",IFERROR(VLOOKUP(AM10,Tabelas!B:D,3,0),0),\"\")","v":0},{"$f":"IF(A10<>\"\",IFERROR(VLOOKUP(AN10,Tabelas!B:D,3,0),0),\"\")","v":0},{"$f":"IF(A10<>\"\",IFERROR(VLOOKUP(AO10,Tabelas!B:D,3,0),0),\"\")","v":6},{"$f":"IF(A10<>\"\",IFERROR(VLOOKUP(AP10,Tabelas!B:D,3,0),0),\"\")","v":6},{"$f":"IF(A10<>\"\",IFERROR(VLOOKUP(AQ10,Tabelas!B:D,3,0),0),\"\")","v":0},42,0,0,20,0,0,0,20]
["Alexandre Luciano Klein",3312539,null,"ME","RJU",20,null,null,null,null,null,null,"FE","FE","FE","FE","FE","FE","FE","FE","FE","FE","FE","FE","FE","FE","FE","FE","FE","FE","FE","FE",null,"T17",null,"T17","T17",null,null,null,"T17",null,null,{"$f":"IF(A11<>\"\",IFERROR(VLOOKUP(M11,Tabelas!B:D,3,0),0),\"\")","v":0},{"$f":"IF(A11<>\"\",IFERROR(VLOOKUP(N11,Tabelas!B:D,3,0),0),\"\")","v":0},{"$f":"IF(A11<>\"\",IFERROR(VLOOKUP(O11,Tabelas!B:D,3,0),0),\"\")","v":0},{"$f":"IF(A11<>\"\",IFERROR(VLOOKUP(P11,Tabelas!B:D,3,0),0),\"\")","v":0},{"$f":"IF(A11<>\"\",IFERROR(VLOOKUP(Q11,Tabelas!B:D,3,0),0),\"\")","v":0},{"$f":"IF(A11<>\"\",IFERROR(VLOOKUP(R11,Tabelas!B:D,3,0),0),\"\")","v":0},{"$f":"IF(A11<>\"\",IFERROR(VLOOKUP(S11,Tabelas!B:D,3,0),0),\"\")","v":0},{"$f":"IF(A11<>\"\",IFERROR(VLOOKUP(T11,Tabelas!B:D,3,0),0),\"\")","v":0},{"$f":"IF(A11<>\"\",IFERROR(VLOOKUP(U11,Tabelas!B:D,3,0),0),\"\")","v":0},{"$f":"IF(A11<>\"\",IFERROR(VLOOKUP(V11,Tabelas!B:D,3,0),0),\"\")","v":0},{"$f":"IF(A11<>\"\",IFERROR(VLOOKUP(W11,Tabelas!B:D,3,0),0),\"\")","v":0},{"$f":"IF(A11<>\"\",IFERROR(VLOOKUP(X11,Tabelas!B:D,3,0),0),\"\")","v":0},{"$f":"IF(A11<>\"\",IFERROR(VLOOKUP(Y11,Tabelas!B:D,3,0),0),\"\")","v":0},{"$f":"IF(A11<>\"\",IFERROR(VLOOKUP(Z11,Tabelas!B:D,3,0),0),\"\")","v":0},{"$f":"IF(A11<>\"\",IFERROR(VLOOKUP(AA11,Tabelas!B:D,3,0),0),\"\")","v":0},{"$f":"IF(A11<>\"\",IFERROR(VLOOKUP(AB11,Tabelas!B:D,3,0),0),\"\")","v":0},{"$f":"IF(A11<>\"\",IFERROR(VLOOKUP(AC11,Tabelas!B:D,3,0),0),\"\")","v":0},{"$f":"IF(A11<>\"\",IFERROR(VLOOKUP(AD11,Tabelas!B:D,3,0),0),\"\")","v":0},{"$f":"IF(A11<>\"\",IFERROR(VLOOKUP(AE11,Tabelas!B:D,3,0),0),\"\")","v":0},{"$f":"IF(A11<>\"\",IFERROR(VLOOKUP(AF11,Tabelas!B:D,3,0),0),\"\")","v":0},{"$f":"IF(A11<>\"\",IFERROR(VLOOKUP(AG11,Tabelas!B:D,3,0),0),\"\")","v":0},{"$f":"IF(A11<>\"\",IFERROR(VLOOKUP(AH11,Tabelas!B:D,3,0),0),\"\")","v":6},{"$f":"IF(A11<>\"\",IFERROR(VLOOKUP(AI11,Tabelas!B:D,3,0),0),\"\")","v":0},{"$f":"IF(A11<>\"\",IFERROR(VLOOKUP(AJ11,Tabelas!B:D,3,0),0),\"\")","v":6},{"$f":"IF(A11<>\"\",IFERROR(VLOOKUP(AK11,Tabelas!B:D,3,0),0),\"\")","v":6},{"$f":"IF(A11<>\"\",IFERROR(VLOOKUP(AL11,Tabelas!B:D,3,0),0),\"\")","v":0},{"$f":"IF(A11<>\"\",IFERROR(VLOOKUP(AM11,Tabelas!B:D,3,0),0),\"\")","v":0},{"$f":"IF(A11<>\"\",IFERROR(VLOOKUP(AN11,Tabelas!B:D,3,0),0),\"\")","v":0},{"$f":"IF(A11<>\"\",IFERROR(VLOOKUP(AO11,Tabelas!B:D,3,0),0),\"\")","v":6},{"$f":"IF(A11<>\"\",IFERROR(VLOOKUP(AP11,Tabelas!B:D,3,0),0),\"\")","v":0},{"$f":"IF(A11<>\"\",IFERROR(VLOOKUP(AQ11,Tabelas!B:D,3,0),0),\"\")","v":0},24,0,0,20,0,0,0,20]
["Alice Danielle Correa Mendes Pinto",1357071,null,"ME","RJU",30,null,null,null,null,null,null,"M17","M17","M17","M17","M17",null,null,"M17","M17","M17",null,"M17",null,null,"M17","M17","M17","M17","M17",null,null,"M17","M17","M17","M17","M17",null,null,"M17","M17",null,{"$f":"IF(A12<>\"\",IFERROR(VLOOKUP(M12,Tabelas!B:D,3,0),0),\"\")","v":6},{"$f":"IF(A12<>\"\",IFERROR(VLOOKUP(N12,Tabelas!B:D,3,0),0),\"\")","v":6},{"$f":"IF(A12<>\"\",IFERROR(VLOOKUP(O12,Tabelas!B:D,3,0),0),\"\")","v":6},{"$f":"IF(A12<>\"\",IFERROR(VLOOKUP(P12,Tabelas!B:D,3,0),0),\"\")","v":6},{"$f":"IF(A12<>\"\",IFERROR(VLOOKUP(Q12,Tabelas!B:D,3,0),0),\"\")","v":6},{"$f":"IF(A12<>\"\",IFERROR(VLOOKUP(R12,Tabelas!B:D,3,0),0),\"\")","v":0},{"$f":"IF(A12<>\"\",IFERROR(VLOOKUP(S12,Tabelas!B:D,3,0),0),\"\")","v":0},{"$f":"IF(A12<>\"\",IFERROR(VLOOKUP(T12,Tabelas!B:D,3,0),0),\"\")","v":6},{"$f":"IF(A12<>\"\",IFERROR(VLOOKUP(U12,Tabelas!B:D,3,0),0),\"\")","v":6},{"$f":"IF(A12<>\"\",IFERROR(VLOOKUP(V12,Tabelas!B:D,3,0),0),\"\")","v":6},{"$f":"IF(A12<>\"\",IFERROR(VLOOKUP(W12,Tabelas!B:D,3,0),0),\"\")","v":0},{"$f":"IF(A12<>\"\",IFERROR(VLOOKUP(X12,Tabelas!B:D,3,0),0),\"\")","v":6},{"$f":"IF(A12<>\"\",IFERROR(VLOOKUP(Y12,Tabelas!B:D,3,0),0),\"\")","v":0},{"$f":"IF(A12<>\"\",IFERROR(VLOOKUP(Z12,Tabelas!B:D,3,0),0),\"\")","v":0},{"$f":"IF(A12<>\"\",IFERROR(VLOOKUP(AA12,Tabelas!B:D,3,0),0),\"\")","v":6},{"$f":"IF(A12<>\"\",IFERROR(VLOOKUP(AB12,Tabelas!B:D,3,0),0),\"\")","v":6},{"$f":"IF(A12<>\"\",IFERROR(VLOOKUP(AC12,Tabelas!B:D,3,0),0),\"\")","v":6},{"$f":"IF(A12<>\"\",IFERROR(VLOOKUP(AD12,Tabelas!B:D,3,0),0),\"\")","v":6},{"$f":"IF(A12<>\"\",IFERROR(VLOOKUP(AE12,Tabelas!B:D,3,0),0),\"\")","v":6},{"$f":"IF(A12<>\"\",IFERROR(VLOOKUP(AF12,Tabelas!B:D,3,0),0),\"\")","v":0},{"$f":"IF(A12<>\"\",IFERROR(VLOOKUP(AG12,Tabelas!B:D,3,0),0),\"\")","v":0},{"$f":"IF(A12<>\"\",IFERROR(VLOOKUP(AH12,Tabelas!B:D,3,0),0),\"\")","v":6},{"$f":"IF(A12<>\"\",IFERROR(VLOOKUP(AI12,Tabelas!B:D,3,0),0),\"\")","v":6},{"$f":"IF(A12<>\"\",IFERROR(VLOOKUP(AJ12,Tabelas!B:D,3,0),0),\"\")","v":6},{"$f":"IF(A12<>\"\",IFERROR(VLOOKUP(AK12,Tabelas!B:D,3,0),0),\"\")","v":6},{"$f":"IF(A12<>\"\",IFERROR(VLOOKUP(AL12,Tabelas!B:D,3,0),0),\"\")","v":6},{"$f":"IF(A12<>\"\",IFERROR(VLOOKUP(AM12,Tabelas!B:D,3,0),0),\"\")","v":0},{"$f":"IF(A12<>\"\",IFERROR(VLOOKUP(AN12,Tabelas!B:D,3,0),0),\"\")","v":0},{"$f":"IF(A12<>\"\",IFERROR(VLOOKUP(AO12,Tabelas!B:D,3,0),0),\"\")","v":6},{"$f":"IF(A12<>\"\",IFERROR(VLOOKUP(AP12,Tabelas!B:D,3,0),0),\"\")","v":6},{"$f":"IF(A12<>\"\",IFERROR(VLOOKUP(AQ12,Tabelas!B:D,3,0),0),\"\")","v":0},126,0,0,0,0,0,0,0]
["Christie Marie Schweitzer",2081333,null,"ME","RJU",20,null,null,null,null,null,null,"T17","T17",null,"T17","T17",null,null,"T17","T17","T17",null,null,null,null,"T17","T17",null,"T17",null,null,null,"T17","T17",null,"T17",null,null,null,"T17","T17",null,{"$f":"IF(A13<>\"\",IFERROR(VLOOKUP(M13,Tabelas!B:D,3,0),0),\"\")","v":6},{"$f":"IF(A13<>\"\",IFERROR(VLOOKUP(N13,Tabelas!B:D,3,0),0),\"\")","v":6},{"$f":"IF(A13<>\"\",IFERROR(VLOOKUP(O13,Tabelas!B:D,3,0),0),\"\")","v":0},{"$f":"IF(A13<>\"\",IFERROR(VLOOKUP(P13,Tabelas!B:D,3,0),0),\"\")","v":6},{"$f":"IF(A13<>\"\",IFERROR(VLOOKUP(Q13,Tabelas!B:D,3,0),0),\"\")","v":6},{"$f":"IF(A13<>\"\",IFERROR(VLOOKUP(R13,Tabelas!B:D,3,0),0),\"\")","v":0},{"$f":"IF(A13<>\"\",IFERROR(VLOOKUP(S13,Tabelas!B:D,3,0),0),\"\")","v":0},{"$f":"IF(A13<>\"\",IFERROR(VLOOKUP(T13,Tabelas!B:D,3,0),0),\"\")","v":6},{"$f":"IF(A13<>\"\",IFERROR(VLOOKUP(U13,Tabelas!B:D,3,0),0),\"\")","v":6},{"$f":"IF(A13<>\"\",IFERROR(VLOOKUP(V13,Tabelas!B:D,3,0),0),\"\")","v":6},{"$f":"IF(A13<>\"\",IFERROR(VLOOKUP(W13,Tabelas!B:D,3,0),0),\"\")","v":0},{"$f":"IF(A13<>\"\",IFERROR(VLOOKUP(X13,Tabelas!B:D,3,0),0),\"\")","v":0},{"$f":"IF(A13<>\"\",IFERROR(VLOOKUP(Y13,Tabelas!B:D,3,0),0),\"\")","v":0},{"$f":"IF(A13<>\"\",IFERROR(VLOOKUP(Z13,Tabelas!B:D,3,0),0),\"\")","v":0},{"$f":"IF(A13<>\"\",IFERROR(VLOOKUP(AA13,Tabelas!B:D,3,0),0),\"\")","v":6},{"$f":"IF(A13<>\"\",IFERROR(VLOOKUP(AB13,Tabelas!B:D,3,0),0),\"\")","v":6},{"$f":"IF(A13<>\"\",IFERROR(VLOOKUP(AC13,Tabelas!B:D,3,0),0),\"\")","v":0},{"$f":"IF(A13<>\"\",IFERROR(VLOOKUP(AD13,Tabelas!B:D,3,0),0),\"\")","v":6},{"$f":"IF(A13<>\"\",IFERROR(VLOOKUP(AE13,Tabelas!B:D,3,0),0),\"\")","v":0},{"$f":"IF(A13<>\"\",IFERROR(VLOOKUP(AF13,Tabelas!B:D,3,0),0),\"\")","v":0},{"$f":"IF(A13<>\"\",IFERROR(VLOOKUP(AG13,Tabelas!B:D,3,0),0),\"\")","v":0},{"$f":"IF(A13<>\"\",IFERROR(VLOOKUP(AH13,Tabelas!B:D,3,0),0),\"\")","v":6},{"$f":"IF(A13<>\"\",IFERROR(VLOOKUP(AI13,Tabelas!B:D,3,0),0),\"\")","v":6},{"$f":"IF(A13<>\"\",IFERROR(VLOOKUP(AJ13,Tabelas!B:D,3,0),0),\"\")","v":0},{"$f":"IF(A13<>\"\",IFERROR(VLOOKUP(AK13,Tabelas!B:D,3,0),0),\"\")","v":6},{"$f":"IF(A13<>\"\",IFERROR(VLOOKUP(AL13,Tabelas!B:D,3,0),0),\"\")","v":0},{"$f":"IF(A13<>\"\",IFERROR(VLOOKUP(AM13,Tabelas!B:D,3,0),0),\"\")","v":0},{"$f":"IF(A13<>\"\",IFERROR(VLOOKUP(AN13,Tabelas!B:D,3,0),0),\"\")","v":0},{"$f":"IF(A13<>\"\",IFERROR(VLOOKUP(AO13,Tabelas!B:D,3,0),0),\"\")","v":6},{"$f":"IF(A13<>\"\",IFERROR(VLOOKUP(AP13,Tabelas!B:D,3,0),0),\"\")","v":6},{"$f":"IF(A13<>\"\",IFERROR(VLOOKUP(AQ13,Tabelas!B:D,3,0),0),\"\")","v":0},90,0,0,0,0,0,0,0]
["Elizabeth Kristiane Buss Lunardelli",3760219,null,"ME","RJU",null,null,null,null,null,null,null,null,null,"M17",null,"M17",null,null,"T17",null,"M17",null,"M17",null,null,"M17","M17",null,null,"M17",null,null,null,null,null,null,null,null,null,"T17",null,null,{"$f":"IF(A14<>\"\",IFERROR(VLOOKUP(M14,Tabelas!B:D,3,0),0),\"\")","v":0},{"$f":"IF(A14<>\"\",IFERROR(VLOOKUP(N14,Tabelas!B:D,3,0),0),\"\")","v":0},{"$f":"IF(A14<>\"\",IFERROR(VLOOKUP(O14,Tabelas!B:D,3,0),0),\"\")","v":6},{"$f":"IF(A14<>\"\",IFERROR(VLOOKUP(P14,Tabelas!B:D,3,0),0),\"\")","v":0},{"$f":"IF(A14<>\"\",IFERROR(VLOOKUP(Q14,Tabelas!B:D,3,0),0),\"\")","v":6},{"$f":"IF(A14<>\"\",IFERROR(VLOOKUP(R14,Tabelas!B:D,3,0),0),\"\")","v":0},{"$f":"IF(A14<>\"\",IFERROR(VLOOKUP(S14,Tabelas!B:D,3,0),0),\"\")","v":0},{"$f":"IF(A14<>\"\",IFERROR(VLOOKUP(T14,Tabelas!B:D,3,0),0),\"\")","v":6},{"$f":"IF(A14<>\"\",IFERROR(VLOOKUP(U14,Tabelas!B:D,3,0),0),\"\")","v":0},{"$f":"IF(A14<>\"\",IFERROR(VLOOKUP(V14,Tabelas!B:D,3,0),0),\"\")","v":6},{"$f":"IF(A14<>\"\",IFERROR(VLOOKUP(W14,Tabelas!B:D,3,0),0),\"\")","v":0},{"$f":"IF(A14<>\"\",IFERROR(VLOOKUP(X14,Tabelas!B:D,3,0),0),\"\")","v":6},{"$f":"IF(A14<>\"\",IFERROR(VLOOKUP(Y14,Tabelas!B:D,3,0),0),\"\")","v":0},{"$f":"IF(A14<>\"\",IFERROR(VLOOKUP(Z14,Tabelas!B:D,3,0),0),\"\")","v":0},{"$f":"IF(A14<>\"\",IFERROR(VLOOKUP(AA14,Tabelas!B:D,3,0),0),\"\")","v":6},{"$f":"IF(A14<>\"\",IFERROR(VLOOKUP(AB14,Tabelas!B:D,3,0),0),\"\")","v":6},{"$f":"IF(A14<>\"\",IFERROR(VLOOKUP(AC14,Tabelas!B:D,3,0),0),\"\")","v":0},{"$f":"IF(A14<>\"\",IFERROR(VLOOKUP(AD14,Tabelas!B:D,3,0),0),\"\")","v":0},{"$f":"IF(A14<>\"\",IFERROR(VLOOKUP(AE14,Tabelas!B:D,3,0),0),\"\")","v":6},{"$f":"IF(A14<>\"\",IFERROR(VLOOKUP(AF14,Tabelas!B:D,3,0),0),\"\")","v":0},{"$f":"IF(A14<>\"\",IFERROR(VLOOKUP(AG14,Tabelas!B:D,3,0),0),\"\")","v":0},{"$f":"IF(A14<>\"\",IFERROR(VLOOKUP(AH14,Tabelas!B:D,3,0),0),\"\")","v":0},{"$f":"IF(A14<>\"\",IFERROR(VLOOKUP(AI14,Tabelas!B:D,3,0),0),\"\")","v":0},{"$f":"IF(A14<>\"\",IFERROR(VLOOKUP(AJ14,Tabelas!B:D,3,0),0),\"\")","v":0},{"$f":"IF(A14<>\"\",IFERROR(VLOOKUP(AK14,Tabelas!B:D,3,0),0),\"\")","v":0},{"$f":"IF(A14<>\"\",IFERROR(VLOOKUP(AL14,Tabelas!B:D,3,0),0),\"\")","v":0},{"$f":"IF(A14<>\"\",IFERROR(VLOOKUP(AM14,Tabelas!B:D,3,0),0),\"\")","v":0},{"$f":"IF(A14<>\"\",IFERROR(VLOOKUP(AN14,Tabelas!B:D,3,0),0),\"\")","v":0},{"$f":"IF(A14<>\"\",IFERROR(VLOOKUP(AO14,Tabelas!B:D,3,0),0),\"\")","v":6},{"$f":"IF(A14<>\"\",IFERROR(VLOOKUP(AP14,Tabelas!B:D,3,0),0),\"\")","v":0},{"$f":"IF(A14<>\"\",IFERROR(VLOOKUP(AQ14,Tabelas!B:D,3,0),0),\"\")","v":0},54,0,0,0,0,0,0,0]
["Gina Vieira Velho",1185798,null,"ME","RJU",20,null,null,null,null,null,null,"M17","M17","M17","M17",null,null,null,"M17","M17","M17",null,null,null,null,"M17",null,"M17","M17",null,null,null,"M17",null,"M17","M17",null,null,null,"M17",null,null,{"$f":"IF(A15<>\"\",IFERROR(VLOOKUP(M15,Tabelas!B:D,3,0),0),\"\")","v":6},{"$f":"IF(A15<>\"\",IFERROR(VLOOKUP(N15,Tabelas!B:D,3,0),0),\"\")","v":6},{"$f":"IF(A15<>\"\",IFERROR(VLOOKUP(O15,Tabelas!B:D,3,0),0),\"\")","v":6},{"$f":"IF(A15<>\"\",IFERROR(VLOOKUP(P15,Tabelas!B:D,3,0),0),\"\")","v":6},{"$f":"IF(A15<>\"\",IFERROR(VLOOKUP(Q15,Tabelas!B:D,3,0),0),\"\")","v":0},{"$f":"IF(A15<>\"\",IFERROR(VLOOKUP(R15,Tabelas!B:D,3,0),0),\"\")","v":0},{"$f":"IF(A15<>\"\",IFERROR(VLOOKUP(S15,Tabelas!B:D,3,0),0),\"\")","v":0},{"$f":"IF(A15<>\"\",IFERROR(VLOOKUP(T15,Tabelas!B:D,3,0),0),\"\")","v":6},{"$f":"IF(A15<>\"\",IFERROR(VLOOKUP(U15,Tabelas!B:D,3,0),0),\"\")","v":6},{"$f":"IF(A15<>\"\",IFERROR(VLOOKUP(V15,Tabelas!B:D,3,0),0),\"\")","v":6},{"$f":"IF(A15<>\"\",IFERROR(VLOOKUP(W15,Tabelas!B:D,3,0),0),\"\")","v":0},{"$f":"IF(A15<>\"\",IFERROR(VLOOKUP(X15,Tabelas!B:D,3,0),0),\"\")","v":0},{"$f":"IF(A15<>\"\",IFERROR(VLOOKUP(Y15,Tabelas!B:D,3,0),0),\"\")","v":0},{"$f":"IF(A15<>\"\",IFERROR(VLOOKUP(Z15,Tabelas!B:D,3,0),0),\"\")","v":0},{"$f":"IF(A15<>\"\",IFERROR(VLOOKUP(AA15,Tabelas!B:D,3,0),0),\"\")","v":6},{"$f":"IF(A15<>\"\",IFERROR(VLOOKUP(AB15,Tabelas!B:D,3,0),0),\"\")","v":0},{"$f":"IF(A15<>\"\",IFERROR(VLOOKUP(AC15,Tabelas!B:D,3,0),0),\"\")","v":6},{"$f":"IF(A15<>\"\",IFERROR(VLOOKUP(AD15,Tabelas!B:D,3,0),0),\"\")","v":6},{"$f":"IF(A15<>\"\",IFERROR(VLOOKUP(AE15,Tabelas!B:D,3,0),0),\"\")","v":0},{"$f":"IF(A15<>\"\",IFERROR(VLOOKUP(AF15,Tabelas!B:D,3,0),0),\"\")","v":0},{"$f":"IF(A15<>\"\",IFERROR(VLOOKUP(AG15,Tabelas!B:D,3,0),0),\"\")","v":0},{"$f":"IF(A15<>\"\",IFERROR(VLOOKUP(AH15,Tabelas!B:D,3,0),0),\"\")","v":6},{"$f":"IF(A15<>\"\",IFERROR(VLOOKUP(AI15,Tabelas!B:D,3,0),0),\"\")","v":0},{"$f":"IF(A15<>\"\",IFERROR(VLOOKUP(AJ15,Tabelas!B:D,3,0),0),\"\")","v":6},{"$f":"IF(A15<>\"\",IFERROR(VLOOKUP(AK15,Tabelas!B:D,3,0),0),\"\")","v":6},{"$f":"IF(A15<>\"\",IFERROR(VLOOKUP(AL15,Tabelas!B:D,3,0),0),\"\")","v":0},{"$f":"IF(A15<>\"\",IFERROR(VLOOKUP(AM15,Tabelas!B:D,3,0),0),\"\")","v":0},{"$f":"IF(A15<>\"\",IFERROR(VLOOKUP(AN15,Tabelas!B:D,3,0),0),\"\")","v":0},{"$f":"IF(A15<>\"\",IFERROR(VLOOKUP(AO15,Tabelas!B:D,3,0),0),\"\")","v":6},{"$f":"IF(A15<>\"\",IFERROR(VLOOKUP(AP15,Tabelas!B:D,3,0),0),\"\")","v":0},{"$f":"IF(A15<>\"\",IFERROR(VLOOKUP(AQ15,Tabelas!B:D,3,0),0),\"\")","v":0},84,0,0,0,0,0,0,0]
["Karine Damiani Cabral ",2925603,null,"ME","RJU",30,null,null,null,null,null,null,"T17","M17","T17",null,"T17",null,null,"T17","D8","T17",null,"T17",null,null,"T17","D8","T17",null,"T17",null,null,"T17","D8",null,null,"T17",null,null,"T17","D8",null,{"$f":"IF(A16<>\"\",IFERROR(VLOOKUP(M16,Tabelas!B:D,3,0),0),\"\")","v":6},{"$f":"IF(A16<>\"\",IFERROR(VLOOKUP(N16,Tabelas!B:D,3,0),0),\"\")","v":6},{"$f":"IF(A16<>\"\",IFERROR(VLOOKUP(O16,Tabelas!B:D,3,0),0),\"\")","v":6},{"$f":"IF(A16<>\"\",IFERROR(VLOOKUP(P16,Tabelas!B:D,3,0),0),\"\")","v":0},{"$f":"IF(A16<>\"\",IFERROR(VLOOKUP(Q16,Tabelas!B:D,3,0),0),\"\")","v":6},{"$f":"IF(A16<>\"\",IFERROR(VLOOKUP(R16,Tabelas!B:D,3,0),0),\"\")","v":0},{"$f":"IF(A16<>\"\",IFERROR(VLOOKUP(S16,Tabelas!B:D,3,0),0),\"\")","v":0},{"$f":"IF(A16<>\"\",IFERROR(VLOOKUP(T16,Tabelas!B:D,3,0),0),\"\")","v":6},{"$f":"IF(A16<>\"\",IFERROR(VLOOKUP(U16,Tabelas!B:D,3,0),0),\"\")","v":12},{"$f":"IF(A16<>\"\",IFERROR(VLOOKUP(V16,Tabelas!B:D,3,0),0),\"\")","v":6},{"$f":"IF(A16<>\"\",IFERROR(VLOOKUP(W16,Tabelas!B:D,3,0),0),\"\")","v":0},{"$f":"IF(A16<>\"\",IFERROR(VLOOKUP(X16,Tabelas!B:D,3,0),0),\"\")","v":6},{"$f":"IF(A16<>\"\",IFERROR(VLOOKUP(Y16,Tabelas!B:D,3,0),0),\"\")","v":0},{"$f":"IF(A16<>\"\",IFERROR(VLOOKUP(Z16,Tabelas!B:D,3,0),0),\"\")","v":0},{"$f":"IF(A16<>\"\",IFERROR(VLOOKUP(AA16,Tabelas!B:D,3,0),0),\"\")","v":6},{"$f":"IF(A16<>\"\",IFERROR(VLOOKUP(AB16,Tabelas!B:D,3,0),0),\"\")","v":12},{"$f":"IF(A16<>\"\",IFERROR(VLOOKUP(AC16,Tabelas!B:D,3,0),0),\"\")","v":6},{"$f":"IF(A16<>\"\",IFERROR(VLOOKUP(AD16,Tabelas!B:D,3,0),0),\"\")","v":0},{"$f":"IF(A16<>\"\",IFERROR(VLOOKUP(AE16,Tabelas!B:D,3,0),0),\"\")","v":6},{"$f":"IF(A16<>\"\",IFERROR(VLOOKUP(AF16,Tabelas!B:D,3,0),0),\"\")","v":0},{"$f":"IF(A16<>\"\",IFERROR(VLOOKUP(AG16,Tabelas!B:D,3,0),0),\"\")","v":0},{"$f":"IF(A16<>\"\",IFERROR(VLOOKUP(AH16,Tabelas!B:D,3,0),0),\"\")","v":6},{"$f":"IF(A16<>\"\",IFERROR(VLOOKUP(AI16,Tabelas!B:D,3,0),0),\"\")","v":12},{"$f":"IF(A16<>\"\",IFERROR(VLOOKUP(AJ16,Tabelas!B:D,3,0),0),\"\")","v":0},{"$f":"IF(A16<>\"\",IFERROR(VLOOKUP(AK16,Tabelas!B:D,3,0),0),\"\")","v":0},{"$f":"IF(A16<>\"\",IFERROR(VLOOKUP(AL16,Tabelas!B:D,3,0),0),\"\")","v":6},{"$f":"IF(A16<>\"\",IFERROR(VLOOKUP(AM16,Tabelas!B:D,3,0),0),\"\")","v":0},{"$f":"IF(A16<>\"\",IFERROR(VLOOKUP(AN16,Tabelas!B:D,3,0),0),\"\")","v":0},{"$f":"IF(A16<>\"\",IFERROR(VLOOKUP(AO16,Tabelas!B:D,3,0),0),\"\")","v":6},{"$f":"IF(A16<>\"\",IFERROR(VLOOKUP(AP16,Tabelas!B:D,3,0),0),\"\")","v":12},{"$f":"IF(A16<>\"\",IFERROR(VLOOKUP(AQ16,Tabelas!B:D,3,0),0),\"\")","v":0},126,0,0,0,0,0,0,0]
["Vanessa Miné Geraldo",3055054,null,"ME","EBSERH",24,null,null,null,null,null,null,"T17",null,"T17","T17","T17",null,null,"T17",null,"T17","M17","T17",null,null,"T17",null,"T17","T17","T17",null,null,null,"T17","T17","T17","T17",null,null,null,"T17",null,{"$f":"IF(A17<>\"\",IFERROR(VLOOKUP(M17,Tabelas!B:D,3,0),0),\"\")","v":6},{"$f":"IF(A17<>\"\",IFERROR(VLOOKUP(N17,Tabelas!B:D,3,0),0),\"\")","v":0},{"$f":"IF(A17<>\"\",IFERROR(VLOOKUP(O17,Tabelas!B:D,3,0),0),\"\")","v":6},{"$f":"IF(A17<>\"\",IFERROR(VLOOKUP(P17,Tabelas!B:D,3,0),0),\"\")","v":6},{"$f":"IF(A17<>\"\",IFERROR(VLOOKUP(Q17,Tabelas!B:D,3,0),0),\"\")","v":6},{"$f":"IF(A17<>\"\",IFERROR(VLOOKUP(R17,Tabelas!B:D,3,0),0),\"\")","v":0},{"$f":"IF(A17<>\"\",IFERROR(VLOOKUP(S17,Tabelas!B:D,3,0),0),\"\")","v":0},{"$f":"IF(A17<>\"\",IFERROR(VLOOKUP(T17,Tabelas!B:D,3,0),0),\"\")","v":6},{"$f":"IF(A17<>\"\",IFERROR(VLOOKUP(U17,Tabelas!B:D,3,0),0),\"\")","v":0},{"$f":"IF(A17<>\"\",IFERROR(VLOOKUP(V17,Tabelas!B:D,3,0),0),\"\")","v":6},{"$f":"IF(A17<>\"\",IFERROR(VLOOKUP(W17,Tabelas!B:D,3,0),0),\"\")","v":6},{"$f":"IF(A17<>\"\",IFERROR(VLOOKUP(X17,Tabelas!B:D,3,0),0),\"\")","v":6},{"$f":"IF(A17<>\"\",IFERROR(VLOOKUP(Y17,Tabelas!B:D,3,0),0),\"\")","v":0},{"$f":"IF(A17<>\"\",IFERROR(VLOOKUP(Z17,Tabelas!B:D,3,0),0),\"\")","v":0},{"$f":"IF(A17<>\"\",IFERROR(VLOOKUP(AA17,Tabelas!B:D,3,0),0),\"\")","v":6},{"$f":"IF(A17<>\"\",IFERROR(VLOOKUP(AB17,Tabelas!B:D,3,0),0),\"\")","v":0},{"$f":"IF(A17<>\"\",IFERROR(VLOOKUP(AC17,Tabelas!B:D,3,0),0),\"\")","v":6},{"$f":"IF(A17<>\"\",IFERROR(VLOOKUP(AD17,Tabelas!B:D,3,0),0),\"\")","v":6},{"$f":"IF(A17<>\"\",IFERROR(VLOOKUP(AE17,Tabelas!B:D,3,0),0),\"\")","v":6},{"$f":"IF(A17<>\"\",IFERROR(VLOOKUP(AF17,Tabelas!B:D,3,0),0),\"\")","v":0},{"$f":"IF(A17<>\"\",IFERROR(VLOOKUP(AG17,Tabelas!B:D,3,0),0),\"\")","v":0},{"$f":"IF(A17<>\"\",IFERROR(VLOOKUP(AH17,Tabelas!B:D,3,0),0),\"\")","v":0},{"$f":"IF(A17<>\"\",IFERROR(VLOOKUP(AI17,Tabelas!B:D,3,0),0),\"\")","v":6},{"$f":"IF(A17<>\"\",IFERROR(VLOOKUP(AJ17,Tabelas!B:D,3,0),0),\"\")","v":6},{"$f":"IF(A17<>\"\",IFERROR(VLOOKUP(AK17,Tabelas!B:D,3,0),0),\"\")","v":6},{"$f":"IF(A17<>\"\",IFERROR(VLOOKUP(AL17,Tabelas!B:D,3,0),0),\"\")","v":6},{"$f":"IF(A17<>\"\",IFERROR(VLOOKUP(AM17,Tabelas!B:D,3,0),0),\"\")","v":0},{"$f":"IF(A17<>\"\",IFERROR(VLOOKUP(AN17,Tabelas!B:D,3,0),0),\"\")","v":0},{"$f":"IF(A17<>\"\",IFERROR(VLOOKUP(AO17,Tabelas!B:D,3,0),0),\"\")","v":0},{"$f":"IF(A17<>\"\",IFERROR(VLOOKUP(AP17,Tabelas!B:D,3,0),0),\"\")","v":6},{"$f":"IF(A17<>\"\",IFERROR(VLOOKUP(AQ17,Tabelas!B:D,3,0),0),\"\")","v":0},102,0,0,0,0,0,0,0]
["Vinícius D. Pedro ",3841644,null,"ME","RJU",30,null,null,null,null,null,null,null,"T17","T17","T17","D8",null,null,null,"T17","T17",null,"D8",null,null,"T17","T17","T17","T17","D8",null,null,null,"T17","T17","T17","D8",null,null,null,"T17",null,{"$f":"IF(A18<>\"\",IFERROR(VLOOKUP(M18,Tabelas!B:D,3,0),0),\"\")","v":0},{"$f":"IF(A18<>\"\",IFERROR(VLOOKUP(N18,Tabelas!B:D,3,0),0),\"\")","v":6},{"$f":"IF(A18<>\"\",IFERROR(VLOOKUP(O18,Tabelas!B:D,3,0),0),\"\")","v":6},{"$f":"IF(A18<>\"\",IFERROR(VLOOKUP(P18,Tabelas!B:D,3,0),0),\"\")","v":6},{"$f":"IF(A18<>\"\",IFERROR(VLOOKUP(Q18,Tabelas!B:D,3,0),0),\"\")","v":12},{"$f":"IF(A18<>\"\",IFERROR(VLOOKUP(R18,Tabelas!B:D,3,0),0),\"\")","v":0},{"$f":"IF(A18<>\"\",IFERROR(VLOOKUP(S18,Tabelas!B:D,3,0),0),\"\")","v":0},{"$f":"IF(A18<>\"\",IFERROR(VLOOKUP(T18,Tabelas!B:D,3,0),0),\"\")","v":0},{"$f":"IF(A18<>\"\",IFERROR(VLOOKUP(U18,Tabelas!B:D,3,0),0),\"\")","v":6},{"$f":"IF(A18<>\"\",IFERROR(VLOOKUP(V18,Tabelas!B:D,3,0),0),\"\")","v":6},{"$f":"IF(A18<>\"\",IFERROR(VLOOKUP(W18,Tabelas!B:D,3,0),0),\"\")","v":0},{"$f":"IF(A18<>\"\",IFERROR(VLOOKUP(X18,Tabelas!B:D,3,0),0),\"\")","v":12},{"$f":"IF(A18<>\"\",IFERROR(VLOOKUP(Y18,Tabelas!B:D,3,0),0),\"\")","v":0},{"$f":"IF(A18<>\"\",IFERROR(VLOOKUP(Z18,Tabelas!B:D,3,0),0),\"\")","v":0},{"$f":"IF(A18<>\"\",IFERROR(VLOOKUP(AA18,Tabelas!B:D,3,0),0),\"\")","v":6},{"$f":"IF(A18<>\"\",IFERROR(VLOOKUP(AB18,Tabelas!B:D,3,0),0),\"\")","v":6},{"$f":"IF(A18<>\"\",IFERROR(VLOOKUP(AC18,Tabelas!B:D,3,0),0),\"\")","v":6},{"$f":"IF(A18<>\"\",IFERROR(VLOOKUP(AD18,Tabelas!B:D,3,0),0),\"\")","v":6},{"$f":"IF(A18<>\"\",IFERROR(VLOOKUP(AE18,Tabelas!B:D,3,0),0),\"\")","v":12},{"$f":"IF(A18<>\"\",IFERROR(VLOOKUP(AF18,Tabelas!B:D,3,0),0),\"\")","v":0},{"$f":"IF(A18<>\"\",IFERROR(VLOOKUP(AG18,Tabelas!B:D,3,0),0),\"\")","v":0},{"$f":"IF(A18<>\"\",IFERROR(VLOOKUP(AH18,Tabelas!B:D,3,0),0),\"\")","v":0},{"$f":"IF(A18<>\"\",IFERROR(VLOOKUP(AI18,Tabelas!B:D,3,0),0),\"\")","v":6},{"$f":"IF(A18<>\"\",IFERROR(VLOOKUP(AJ18,Tabelas!B:D,3,0),0),\"\")","v":6},{"$f":"IF(A18<>\"\",IFERROR(VLOOKUP(AK18,Tabelas!B:D,3,0),0),\"\")","v":6},{"$f":"IF(A18<>\"\",IFERROR(VLOOKUP(AL18,Tabelas!B:D,3,0),0),\"\")","v":12},{"$f":"IF(A18<>\"\",IFERROR(VLOOKUP(AM18,Tabelas!B:D,3,0),0),\"\")","v":0},{"$f":"IF(A18<>\"\",IFERROR(VLOOKUP(AN18,Tabelas!B:D,3,0),0),\"\")","v":0},{"$f":"IF(A18<>\"\",IFERROR(VLOOKUP(AO18,Tabelas!B:D,3,0),0),\"\")","v":0},{"$f":"IF(A18<>\"\",IFERROR(VLOOKUP(AP18,Tabelas!B:D,3,0),0),\"\")","v":6},{"$f":"IF(A18<>\"\",IFERROR(VLOOKUP(AQ18,Tabelas!B:D,3,0),0),\"\")","v":0},126,0,0,0,0,0,0,0]
["Rafael Lisboa de Souza",2344070,null,"ME","RJU",30,null,null,null,null,null,null,"M17","M17","M17","M17","M17",null,null,"M17","M17","M17",null,"M17",null,null,"M17","M17","M17","M17","M17",null,null,"M17","M17","M17","M17","M17",null,null,"M17","M17",null,{"$f":"IF(A19<>\"\",IFERROR(VLOOKUP(M19,Tabelas!B:D,3,0),0),\"\")","v":6},{"$f":"IF(A19<>\"\",IFERROR(VLOOKUP(N19,Tabelas!B:D,3,0),0),\"\")","v":6},{"$f":"IF(A19<>\"\",IFERROR(VLOOKUP(O19,Tabelas!B:D,3,0),0),\"\")","v":6},{"$f":"IF(A19<>\"\",IFERROR(VLOOKUP(P19,Tabelas!B:D,3,0),0),\"\")","v":6},{"$f":"IF(A19<>\"\",IFERROR(VLOOKUP(Q19,Tabelas!B:D,3,0),0),\"\")","v":6},{"$f":"IF(A19<>\"\",IFERROR(VLOOKUP(R19,Tabelas!B:D,3,0),0),\"\")","v":0},{"$f":"IF(A19<>\"\",IFERROR(VLOOKUP(S19,Tabelas!B:D,3,0),0),\"\")","v":0},{"$f":"IF(A19<>\"\",IFERROR(VLOOKUP(T19,Tabelas!B:D,3,0),0),\"\")","v":6},{"$f":"IF(A19<>\"\",IFERROR(VLOOKUP(U19,Tabelas!B:D,3,0),0),\"\")","v":6},{"$f":"IF(A19<>\"\",IFERROR(VLOOKUP(V19,Tabelas!B:D,3,0),0),\"\")","v":6},{"$f":"IF(A19<>\"\",IFERROR(VLOOKUP(W19,Tabelas!B:D,3,0),0),\"\")","v":0},{"$f":"IF(A19<>\"\",IFERROR(VLOOKUP(X19,Tabelas!B:D,3,0),0),\"\")","v":6},{"$f":"IF(A19<>\"\",IFERROR(VLOOKUP(Y19,Tabelas!B:D,3,0),0),\"\")","v":0},{"$f":"IF(A19<>\"\",IFERROR(VLOOKUP(Z19,Tabelas!B:D,3,0),0),\"\")","v":0},{"$f":"IF(A19<>\"\",IFERROR(VLOOKUP(AA19,Tabelas!B:D,3,0),0),\"\")","v":6},{"$f":"IF(A19<>\"\",IFERROR(VLOOKUP(AB19,Tabelas!B:D,3,0),0),\"\")","v":6},{"$f":"IF(A19<>\"\",IFERROR(VLOOKUP(AC19,Tabelas!B:D,3,0),0),\"\")","v":6},{"$f":"IF(A19<>\"\",IFERROR(VLOOKUP(AD19,Tabelas!B:D,3,0),0),\"\")","v":6},{"$f":"IF(A19<>\"\",IFERROR(VLOOKUP(AE19,Tabelas!B:D,3,0),0),\"\")","v":6},{"$f":"IF(A19<>\"\",IFERROR(VLOOKUP(AF19,Tabelas!B:D,3,0),0),\"\")","v":0},{"$f":"IF(A19<>\"\",IFERROR(VLOOKUP(AG19,Tabelas!B:D,3,0),0),\"\")","v":0},{"$f":"IF(A19<>\"\",IFERROR(VLOOKUP(AH19,Tabelas!B:D,3,0),0),\"\")","v":6},{"$f":"IF(A19<>\"\",IFERROR(VLOOKUP(AI19,Tabelas!B:D,3,0),0),\"\")","v":6},{"$f":"IF(A19<>\"\",IFERROR(VLOOKUP(AJ19,Tabelas!B:D,3,0),0),\"\")","v":6},{"$f":"IF(A19<>\"\",IFERROR(VLOOKUP(AK19,Tabelas!B:D,3,0),0),\"\")","v":6},{"$f":"IF(A19<>\"\",IFERROR(VLOOKUP(AL19,Tabelas!B:D,3,0),0),\"\")","v":6},{"$f":"IF(A19<>\"\",IFERROR(VLOOKUP(AM19,Tabelas!B:D,3,0),0),\"\")","v":0},{"$f":"IF(A19<>\"\",IFERROR(VLOOKUP(AN19,Tabelas!B:D,3,0),0),\"\")","v":0},{"$f":"IF(A19<>\"\",IFERROR(VLOOKUP(AO19,Tabelas!B:D,3,0),0),\"\")","v":6},{"$f":"IF(A19<>\"\",IFERROR(VLOOKUP(AP19,Tabelas!B:D,3,0),0),\"\")","v":6},{"$f":"IF(A19<>\"\",IFERROR(VLOOKUP(AQ19,Tabelas!B:D,3,0),0),\"\")","v":0},126,0,0,0,0,0,0,0]
[]
["PLANTÃO",null,null,null,null,null,null,null,null,null,null,null,null,null,null,null,null,null,null,null,null,null,null,null,null,null,null,null,null,null,null,null,null,null,null,null,null,null,null,null,null,null,null,{"$f":"IF(A21<>\"\",IFERROR(VLOOKUP(M21,Tabelas!B:D,3,0),0),\"\")","v":0},{"$f":"IF(A21<>\"\",IFERROR(VLOOKUP(N21,Tabelas!B:D,3,0),0),\"\")","v":0},{"$f":"IF(A21<>\"\",IFERROR(VLOOKUP(O21,Tabelas!B:D,3,0),0),\"\")","v":0},{"$f":"IF(A21<>\"\",IFERROR(VLOOKUP(P21,Tabelas!B:D,3,0),0),\"\")","v":0},{"$f":"IF(A21<>\"\",IFERROR(VLOOKUP(Q21,Tabelas!B:D,3,0),0),\"\")","v":0},{"$f":"IF(A21<>\"\",IFERROR(VLOOKUP(R21,Tabelas!B:D,3,0),0),\"\")","v":0},{"$f":"IF(A21<>\"\",IFERROR(VLOOKUP(S21,Tabelas!B:D,3,0),0),\"\")","v":0},{"$f":"IF(A21<>\"\",IFERROR(VLOOKUP(T21,Tabelas!B:D,3,0),0),\"\")","v":0},{"$f":"IF(A21<>\"\",IFERROR(VLOOKUP(U21,Tabelas!B:D,3,0),0),\"\")","v":0},{"$f":"IF(A21<>\"\",IFERROR(VLOOKUP(V21,Tabelas!B:D,3,0),0),\"\")","v":0},{"$f":"IF(A21<>\"\",IFERROR(VLOOKUP(W21,Tabelas!B:D,3,0),0),\"\")","v":0},{"$f":"IF(A21<>\"\",IFERROR(VLOOKUP(X21,Tabelas!B:D,3,0),0),\"\")","v":0},{"$f":"IF(A21<>\"\",IFERROR(VLOOKUP(Y21,Tabelas!B:D,3,0),0),\"\")","v":0},{"$f":"IF(A21<>\"\",IFERROR(VLOOKUP(Z21,Tabelas!B:D,3,0),0),\"\")","v":0},{"$f":"IF(A21<>\"\",IFERROR(VLOOKUP(AA21,Tabelas!B:D,3,0),0),\"\")","v":0},{"$f":"IF(A21<>\"\",IFERROR(VLOOKUP(AB21,Tabelas!B:D,3,0),0),\"\")","v":0},{"$f":"IF(A21<>\"\",IFERROR(VLOOKUP(AC21,Tabelas!B:D,3,0),0),\"\")","v":0},{"$f":"IF(A21<>\"\",IFERROR(VLOOKUP(AD21,Tabelas!B:D,3,0),0),\"\")","v":0},{"$f":"IF(A21<>\"\",IFERROR(VLOOKUP(AE21,Tabelas!B:D,3,0),0),\"\")","v":0},{"$f":"IF(A21<>\"\",IFERROR(VLOOKUP(AF21,Tabelas!B:D,3,0),0),\"\")","v":0},{"$f":"IF(A21<>\"\",IFERROR(VLOOKUP(AG21,Tabelas!B:D,3,0),0),\"\")","v":0},{"$f":"IF(A21<>\"\",IFERROR(VLOOKUP(AH21,Tabelas!B:D,3,0),0),\"\")","v":0},{"$f":"IF(A21<>\"\",IFERROR(VLOOKUP(AI21,Tabelas!B:D,3,0),0),\"\")","v":0},{"$f":"IF(A21<>\"\",IFERROR(VLOOKUP(AJ21,Tabelas!B:D,3,0),0),\"\")","v":0},{"$f":"IF(A21<>\"\",IFERROR(VLOOKUP(AK21,Tabelas!B:D,3,0),0),\"\")","v":0},{"$f":"IF(A21<>\"\",IFERROR(VLOOKUP(AL21,Tabelas!B:D,3,0),0),\"\")","v":0},{"$f":"IF(A21<>\"\",IFERROR(VLOOKUP(AM21,Tabelas!B:D,3,0),0),\"\")","v":0},{"$f":"IF(A21<>\"\",IFERROR(VLOOKUP(AN21,Tabelas!B:D,3,0),0),\"\")","v":0},{"$f":"IF(A21<>\"\",IFERROR(VLOOKUP(AO21,Tabelas!B:D,3,0),0),\"\")","v":0},{"$f":"IF(A21<>\"\",IFERROR(VLOOKUP(AP21,Tabelas!B:D,3,0),0),\"\")","v":0},{"$f":"IF(A21<>\"\",IFERROR(VLOOKUP(AQ21,Tabelas!B:D,3,0),0),\"\")","v":0},{"$f":"IF(AND(A21<>\"\",E21=\"Ebserh\"),SUM(AR21:BV21)+COUNTIF(M21:AQ21,\"N*\")+COUNTIF(M21:AQ21,\"DN*\"),IF(AND(A21<>\"\",E21<>\"Ebserh\"),SUM(AR21:BV21),\"\"))","v":0},{"$f":"IF(A21<>\"\",COUNTIF(M21:AQ21,\"LM\")+COUNTIF(M21:AQ21,\"L\")+COUNTIF(M21:AQ21,\"LP\"),\"\")","v":0},{"$f":"IF(A21<>\"\",COUNTIF(M21:AQ21,\"AB*\"),\"\")","v":0},{"$f":"IF(A21<>\"\",COUNTIF(M21:AQ21,\"FE\"),\"\")","v":0},{"$f":"IF(A21<>\"\",COUNTIF(M21:AQ21,\"LC\"),\"\")","v":0},{"$f":"IF(A21<>\"\",COUNTIF(M21:AQ21,\"CH*\"),\"\")","v":0},{"$f":"IF(A21<>\"\",COUNTIF(M21:AQ21,\"AF1\")+COUNTIF(M21:AQ21,\"AF2\")+COUNTIF(M21:AQ21,\"AF3\")+COUNTIF(M21:AQ21,\"AF4\")+COUNTIF(M21:AQ21,\"AF5\")+COUNTIF(M21:AQ21,\"AF6\")+COUNTIF(M21:AQ21,\"AF7\")+COUNTIF(M21:AQ21,\"AF8\")+COUNTIF(M21:AQ21,\"AF9\")+COUNTIF(M21:AQ21,\"AF10\")+COUNTIF(M21:AQ21,\"AF11\")+COUNTIF(M21:AQ21,\"AF12\")+COUNTIF(M21:AQ21,\"AF13\")+COUNTIF(M21:AQ21,\"AF14\"),\"\")","v":0},{"$f":"IF(A21<>\"\",COUNTIF(M21:AQ21,\"CH*\")+COUNTIF(M21:AQ21,\"L\")+COUNTIF(M21:AQ21,\"LM\")+COUNTIF(M21:AQ21,\"LP\")+COUNTIF(M21:AQ21,\"LC\")+COUNTIF(M21:AQ21,\"AB*\")+COUNTIF(M21:AQ21,\"AF1\")+COUNTIF(M21:AQ21,\"AF2\")+COUNTIF(M21:AQ21,\"AF3\")+COUNTIF(M21:AQ21,\"AF4\")+COUNTIF(M21:AQ21,\"AF5\")+COUNTIF(M21:AQ21,\"AF6\")+COUNTIF(M21:AQ21,\"AF7\")+COUNTIF(M21:AQ21,\"AF8\")+COUNTIF(M21:AQ21,\"AF9\")+COUNTIF(M21:AQ21,\"AF10\")+COUNTIF(M21:AQ21,\"AF11\")+COUNTIF(M21:AQ21,\"AF12\")+COUNTIF(M21:AQ21,\"AF13\")+COUNTIF(M21:AQ21,\"AF14\")+COUNTIF(M21:AQ21,\"RC\")+COUNTIF(M21:AQ21,\"FO\")+COUNTIF(M21:AQ21,\"FE\"),\"\")","v":0}]
["Air Luis Zambom",1824250,null,"ME","RJU",40,null,null,null,null,null,null,"N10",null,null,null,null,"D8",null,null,null,"N10",null,null,"N10",null,null,null,null,"N10",null,null,null,null,"N10",null,null,null,"N10",null,null,null,null,{"$f":"IF(A22<>\"\",IFERROR(VLOOKUP(M22,Tabelas!B:D,3,0),0),\"\")","v":12},{"$f":"IF(A22<>\"\",IFERROR(VLOOKUP(N22,Tabelas!B:D,3,0),0),\"\")","v":0},{"$f":"IF(A22<>\"\",IFERROR(VLOOKUP(O22,Tabelas!B:D,3,0),0),\"\")","v":0},{"$f":"IF(A22<>\"\",IFERROR(VLOOKUP(P22,Tabelas!B:D,3,0),0),\"\")","v":0},{"$f":"IF(A22<>\"\",IFERROR(VLOOKUP(Q22,Tabelas!B:D,3,0),0),\"\")","v":0},{"$f":"IF(A22<>\"\",IFERROR(VLOOKUP(R22,Tabelas!B:D,3,0),0),\"\")","v":12},{"$f":"IF(A22<>\"\",IFERROR(VLOOKUP(S22,Tabelas!B:D,3,0),0),\"\")","v":0},{"$f":"IF(A22<>\"\",IFERROR(VLOOKUP(T22,Tabelas!B:D,3,0),0),\"\")","v":0},{"$f":"IF(A22<>\"\",IFERROR(VLOOKUP(U22,Tabelas!B:D,3,0),0),\"\")","v":0},{"$f":"IF(A22<>\"\",IFERROR(VLOOKUP(V22,Tabelas!B:D,3,0),0),\"\")","v":12},{"$f":"IF(A22<>\"\",IFERROR(VLOOKUP(W22,Tabelas!B:D,3,0),0),\"\")","v":0},{"$f":"IF(A22<>\"\",IFERROR(VLOOKUP(X22,Tabelas!B:D,3,0),0),\"\")","v":0},{"$f":"IF(A22<>\"\",IFERROR(VLOOKUP(Y22,Tabelas!B:D,3,0),0),\"\")","v":12},{"$f":"IF(A22<>\"\",IFERROR(VLOOKUP(Z22,Tabelas!B:D,3,0),0),\"\")","v":0},{"$f":"IF(A22<>\"\",IFERROR(VLOOKUP(AA22,Tabelas!B:D,3,0),0),\"\")","v":0},{"$f":"IF(A22<>\"\",IFERROR(VLOOKUP(AB22,Tabelas!B:D,3,0),0),\"\")","v":0},{"$f":"IF(A22<>\"\",IFERROR(VLOOKUP(AC22,Tabelas!B:D,3,0),0),\"\")","v":0},{"$f":"IF(A22<>\"\",IFERROR(VLOOKUP(AD22,Tabelas!B:D,3,0),0),\"\")","v":12},{"$f":"IF(A22<>\"\",IFERROR(VLOOKUP(AE22,Tabelas!B:D,3,0),0),\"\")","v":0},{"$f":"IF(A22<>\"\",IFERROR(VLOOKUP(AF22,Tabelas!B:D,3,0),0),\"\")","v":0},{"$f":"IF(A22<>\"\",IFERROR(VLOOKUP(AG22,Tabelas!B:D,3,0),0),\"\")","v":0},{"$f":"IF(A22<>\"\",IFERROR(VLOOKUP(AH22,Tabelas!B:D,3,0),0),\"\")","v":0},{"$f":"IF(A22<>\"\",IFERROR(VLOOKUP(AI22,Tabelas!B:D,3,0),0),\"\")","v":12},{"$f":"IF(A22<>\"\",IFERROR(VLOOKUP(AJ22,Tabelas!B:D,3,0),0),\"\")","v":0},{"$f":"IF(A22<>\"\",IFERROR(VLOOKUP(AK22,Tabelas!B:D,3,0),0),\"\")","v":0},{"$f":"IF(A22<>\"\",IFERROR(VLOOKUP(AL22,Tabelas!B:D,3,0),0),\"\")","v":0},{"$f":"IF(A22<>\"\",IFERROR(VLOOKUP(AM22,Tabelas!B:D,3,0),0),\"\")","v":12},{"$f":"IF(A22<>\"\",IFERROR(VLOOKUP(AN22,Tabelas!B:D,3,0),0),\"\")","v":0},{"$f":"IF(A22<>\"\",IFERROR(VLOOKUP(AO22,Tabelas!B:D,3,0),0),\"\")","v":0},{"$f":"IF(A22<>\"\",IFERROR(VLOOKUP(AP22,Tabelas!B:D,3,0),0),\"\")","v":0},{"$f":"IF(A22<>\"\",IFERROR(VLOOKUP(AQ22,Tabelas!B:D,3,0),0),\"\")","v":0},84,0,0,0,0,0,0,0]
["Aline Varela Dias",1331684,null,"ME","RJU",20,null,null,null,null,null,null,"N10",null,null,null,null,"N10",null,null,null,"N10",null,null,null,"D8",null,null,null,"N10",null,null,null,"N10",null,null,null,null,null,"D8",null,null,null,{"$f":"IF(A23<>\"\",IFERROR(VLOOKUP(M23,Tabelas!B:D,3,0),0),\"\")","v":12},{"$f":"IF(A23<>\"\",IFERROR(VLOOKUP(N23,Tabelas!B:D,3,0),0),\"\")","v":0},{"$f":"IF(A23<>\"\",IFERROR(VLOOKUP(O23,Tabelas!B:D,3,0),0),\"\")","v":0},{"$f":"IF(A23<>\"\",IFERROR(VLOOKUP(P23,Tabelas!B:D,3,0),0),\"\")","v":0},{"$f":"IF(A23<>\"\",IFERROR(VLOOKUP(Q23,Tabelas!B:D,3,0),0),\"\")","v":0},{"$f":"IF(A23<>\"\",IFERROR(VLOOKUP(R23,Tabelas!B:D,3,0),0),\"\")","v":12},{"$f":"IF(A23<>\"\",IFERROR(VLOOKUP(S23,Tabelas!B:D,3,0),0),\"\")","v":0},{"$f":"IF(A23<>\"\",IFERROR(VLOOKUP(T23,Tabelas!B:D,3,0),0),\"\")","v":0},{"$f":"IF(A23<>\"\",IFERROR(VLOOKUP(U23,Tabelas!B:D,3,0),0),\"\")","v":0},{"$f":"IF(A23<>\"\",IFERROR(VLOOKUP(V23,Tabelas!B:D,3,0),0),\"\")","v":12},{"$f":"IF(A23<>\"\",IFERROR(VLOOKUP(W23,Tabelas!B:D,3,0),0),\"\")","v":0},{"$f":"IF(A23<>\"\",IFERROR(VLOOKUP(X23,Tabelas!B:D,3,0),0),\"\")","v":0},{"$f":"IF(A23<>\"\",IFERROR(VLOOKUP(Y23,Tabelas!B:D,3,0),0),\"\")","v":0},{"$f":"IF(A23<>\"\",IFERROR(VLOOKUP(Z23,Tabelas!B:D,3,0),0),\"\")","v":12},{"$f":"IF(A23<>\"\",IFERROR(VLOOKUP(AA23,Tabelas!B:D,3,0),0),\"\")","v":0},{"$f":"IF(A23<>\"\",IFERROR(VLOOKUP(AB23,Tabelas!B:D,3,0),0),\"\")","v":0},{"$f":"IF(A23<>\"\",IFERROR(VLOOKUP(AC23,Tabelas!B:D,3,0),0),\"\")","v":0},{"$f":"IF(A23<>\"\",IFERROR(VLOOKUP(AD23,Tabelas!B:D,3,0),0),\"\")","v":12},{"$f":"IF(A23<>\"\",IFERROR(VLOOKUP(AE23,Tabelas!B:D,3,0),0),\"\")","v":0},{"$f":"IF(A23<>\"\",IFERROR(VLOOKUP(AF23,Tabelas!B:D,3,0),0),\"\")","v":0},{"$f":"IF(A23<>\"\",IFERROR(VLOOKUP(AG23,Tabelas!B:D,3,0),0),\"\")","v":0},{"$f":"IF(A23<>\"\",IFERROR(VLOOKUP(AH23,Tabelas!B:D,3,0),0),\"\")","v":12},{"$f":"IF(A23<>\"\",IFERROR(VLOOKUP(AI23,Tabelas!B:D,3,0),0),\"\")","v":0},{"$f":"IF(A23<>\"\",IFERROR(VLOOKUP(AJ23,Tabelas!B:D,3,0),0),\"\")","v":0},{"$f":"IF(A23<>\"\",IFERROR(VLOOKUP(AK23,Tabelas!B:D,3,0),0),\"\")","v":0},{"$f":"IF(A23<>\"\",IFERROR(VLOOKUP(AL23,Tabelas!B:D,3,0),0),\"\")","v":0},{"$f":"IF(A23<>\"\",IFERROR(VLOOKUP(AM23,Tabelas!B:D,3,0),0),\"\")","v":0},{"$f":"IF(A23<>\"\",IFERROR(VLOOKUP(AN23,Tabelas!B:D,3,0),0),\"\")","v":12},{"$f":"IF(A23<>\"\",IFERROR(VLOOKUP(AO23,Tabelas!B:D,3,0),0),\"\")","v":0},{"$f":"IF(A23<>\"\",IFERROR(VLOOKUP(AP23,Tabelas!B:D,3,0),0),\"\")","v":0},{"$f":"IF(A23<>\"\",IFERROR(VLOOKUP(AQ23,Tabelas!B:D,3,0),0),\"\")","v":0},84,0,0,0,0,0,0,0]
["Anelise Schaeffer da Silveira",1919390,null,"ME","EBSERH",24,null,null,null,null,null,null,"M17","N10",null,null,null,"D8",null,null,"N10",null,null,"CH-12","N10",null,null,null,null,null,null,null,null,null,null,"N10",null,null,"D8",null,"N10",null,null,{"$f":"IF(A24<>\"\",IFERROR(VLOOKUP(M24,Tabelas!B:D,3,0),0),\"\")","v":6},{"$f":"IF(A24<>\"\",IFERROR(VLOOKUP(N24,Tabelas!B:D,3,0),0),\"\")","v":12},{"$f":"IF(A24<>\"\",IFERROR(VLOOKUP(O24,Tabelas!B:D,3,0),0),\"\")","v":0},{"$f":"IF(A24<>\"\",IFERROR(VLOOKUP(P24,Tabelas!B:D,3,0),0),\"\")","v":0},{"$f":"IF(A24<>\"\",IFERROR(VLOOKUP(Q24,Tabelas!B:D,3,0),0),\"\")","v":0},{"$f":"IF(A24<>\"\",IFERROR(VLOOKUP(R24,Tabelas!B:D,3,0),0),\"\")","v":12},{"$f":"IF(A24<>\"\",IFERROR(VLOOKUP(S24,Tabelas!B:D,3,0),0),\"\")","v":0},{"$f":"IF(A24<>\"\",IFERROR(VLOOKUP(T24,Tabelas!B:D,3,0),0),\"\")","v":0},{"$f":"IF(A24<>\"\",IFERROR(VLOOKUP(U24,Tabelas!B:D,3,0),0),\"\")","v":12},{"$f":"IF(A24<>\"\",IFERROR(VLOOKUP(V24,Tabelas!B:D,3,0),0),\"\")","v":0},{"$f":"IF(A24<>\"\",IFERROR(VLOOKUP(W24,Tabelas!B:D,3,0),0),\"\")","v":0},{"$f":"IF(A24<>\"\",IFERROR(VLOOKUP(X24,Tabelas!B:D,3,0),0),\"\")","v":0},{"$f":"IF(A24<>\"\",IFERROR(VLOOKUP(Y24,Tabelas!B:D,3,0),0),\"\")","v":12},{"$f":"IF(A24<>\"\",IFERROR(VLOOKUP(Z24,Tabelas!B:D,3,0),0),\"\")","v":0},{"$f":"IF(A24<>\"\",IFERROR(VLOOKUP(AA24,Tabelas!B:D,3,0),0),\"\")","v":0},{"$f":"IF(A24<>\"\",IFERROR(VLOOKUP(AB24,Tabelas!B:D,3,0),0),\"\")","v":0},{"$f":"IF(A24<>\"\",IFERROR(VLOOKUP(AC24,Tabelas!B:D,3,0),0),\"\")","v":0},{"$f":"IF(A24<>\"\",IFERROR(VLOOKUP(AD24,Tabelas!B:D,3,0),0),\"\")","v":0},{"$f":"IF(A24<>\"\",IFERROR(VLOOKUP(AE24,Tabelas!B:D,3,0),0),\"\")","v":0},{"$f":"IF(A24<>\"\",IFERROR(VLOOKUP(AF24,Tabelas!B:D,3,0),0),\"\")","v":0},{"$f":"IF(A24<>\"\",IFERROR(VLOOKUP(AG24,Tabelas!B:D,3,0),0),\"\")","v":0},{"$f":"IF(A24<>\"\",IFERROR(VLOOKUP(AH24,Tabelas!B:D,3,0),0),\"\")","v":0},{"$f":"IF(A24<>\"\",IFERROR(VLOOKUP(AI24,Tabelas!B:D,3,0),0),\"\")","v":0},{"$f":"IF(A24<>\"\",IFERROR(VLOOKUP(AJ24,Tabelas!B:D,3,0),0),\"\")","v":12},{"$f":"IF(A24<>\"\",IFERROR(VLOOKUP(AK24,Tabelas!B:D,3,0),0),\"\")","v":0},{"$f":"IF(A24<>\"\",IFERROR(VLOOKUP(AL24,Tabelas!B:D,3,0),0),\"\")","v":0},{"$f":"IF(A24<>\"\",IFERROR(VLOOKUP(AM24,Tabelas!B:D,3,0),0),\"\")","v":12},{"$f":"IF(A24<>\"\",IFERROR(VLOOKUP(AN24,Tabelas!B:D,3,0),0),\"\")","v":0},{"$f":"IF(A24<>\"\",IFERROR(VLOOKUP(AO24,Tabelas!B:D,3,0),0),\"\")","v":12},{"$f":"IF(A24<>\"\",IFERROR(VLOOKUP(AP24,Tabelas!B:D,3,0),0),\"\")","v":0},{"$f":"IF(A24<>\"\",IFERROR(VLOOKUP(AQ24,Tabelas!B:D,3,0),0),\"\")","v":0},95,0,0,0,0,1,0,1]
["Duane José Milioli",1824201,null,"ME","RJU",20,null,null,null,null,null,null,null,"N10",null,null,"N10",null,null,null,null,null,null,null,"D8",null,"N10",null,null,null,"N10","D8",null,null,null,"N10",null,null,null,null,null,null,null,{"$f":"IF(A25<>\"\",IFERROR(VLOOKUP(M25,Tabelas!B:D,3,0),0),\"\")","v":0},{"$f":"IF(A25<>\"\",IFERROR(VLOOKUP(N25,Tabelas!B:D,3,0),0),\"\")","v":12},{"$f":"IF(A25<>\"\",IFERROR(VLOOKUP(O25,Tabelas!B:D,3,0),0),\"\")","v":0},{"$f":"IF(A25<>\"\",IFERROR(VLOOKUP(P25,Tabelas!B:D,3,0),0),\"\")","v":0},{"$f":"IF(A25<>\"\",IFERROR(VLOOKUP(Q25,Tabelas!B:D,3,0),0),\"\")","v":12},{"$f":"IF(A25<>\"\",IFERROR(VLOOKUP(R25,Tabelas!B:D,3,0),0),\"\")","v":0},{"$f":"IF(A25<>\"\",IFERROR(VLOOKUP(S25,Tabelas!B:D,3,0),0),\"\")","v":0},{"$f":"IF(A25<>\"\",IFERROR(VLOOKUP(T25,Tabelas!B:D,3,0),0),\"\")","v":0},{"$f":"IF(A25<>\"\",IFERROR(VLOOKUP(U25,Tabelas!B:D,3,0),0),\"\")","v":0},{"$f":"IF(A25<>\"\",IFERROR(VLOOKUP(V25,Tabelas!B:D,3,0),0),\"\")","v":0},{"$f":"IF(A25<>\"\",IFERROR(VLOOKUP(W25,Tabelas!B:D,3,0),0),\"\")","v":0},{"$f":"IF(A25<>\"\",IFERROR(VLOOKUP(X25,Tabelas!B:D,3,0),0),\"\")","v":0},{"$f":"IF(A25<>\"\",IFERROR(VLOOKUP(Y25,Tabelas!B:D,3,0),0),\"\")","v":12},{"$f":"IF(A25<>\"\",IFERROR(VLOOKUP(Z25,Tabelas!B:D,3,0),0),\"\")","v":0},{"$f":"IF(A25<>\"\",IFERROR(VLOOKUP(AA25,Tabelas!B:D,3,0),0),\"\")","v":12},{"$f":"IF(A25<>\"\",IFERROR(VLOOKUP(AB25,Tabelas!B:D,3,0),0),\"\")","v":0},{"$f":"IF(A25<>\"\",IFERROR(VLOOKUP(AC25,Tabelas!B:D,3,0),0),\"\")","v":0},{"$f":"IF(A25<>\"\",IFERROR(VLOOKUP(AD25,Tabelas!B:D,3,0),0),\"\")","v":0},{"$f":"IF(A25<>\"\",IFERROR(VLOOKUP(AE25,Tabelas!B:D,3,0),0),\"\")","v":12},{"$f":"IF(A25<>\"\",IFERROR(VLOOKUP(AF25,Tabelas!B:D,3,0),0),\"\")","v":12},{"$f":"IF(A25<>\"\",IFERROR(VLOOKUP(AG25,Tabelas!B:D,3,0),0),\"\")","v":0},{"$f":"IF(A25<>\"\",IFERROR(VLOOKUP(AH25,Tabelas!B:D,3,0),0),\"\")","v":0},{"$f":"IF(A25<>\"\",IFERROR(VLOOKUP(AI25,Tabelas!B:D,3,0),0),\"\")","v":0},{"$f":"IF(A25<>\"\",IFERROR(VLOOKUP(AJ25,Tabelas!B:D,3,0),0),\"\")","v":12},{"$f":"IF(A25<>\"\",IFERROR(VLOOKUP(AK25,Tabelas!B:D,3,0),0),\"\")","v":0},{"$f":"IF(A25<>\"\",IFERROR(VLOOKUP(AL25,Tabelas!B:D,3,0),0),\"\")","v":0},{"$f":"IF(A25<>\"\",IFERROR(VLOOKUP(AM25,Tabelas!B:D,3,0),0),\"\")","v":0},{"$f":"IF(A25<>\"\",IFERROR(VLOOKUP(AN25,Tabelas!B:D,3,0),0),\"\")","v":0},{"$f":"IF(A25<>\"\",IFERROR(VLOOKUP(AO25,Tabelas!B:D,3,0),0),\"\")","v":0},{"$f":"IF(A25<>\"\",IFERROR(VLOOKUP(AP25,Tabelas!B:D,3,0),0),\"\")","v":0},{"$f":"IF(A25<>\"\",IFERROR(VLOOKUP(AQ25,Tabelas!B:D,3,0),0),\"\")","v":0},84,0,0,0,0,0,0,0]
["Eduardo Jardim Berbigier",2604323,null,"ME","RJU",20,null,null,null,null,null,null,null,null,"N10",null,null,"D8",null,"N10",null,null,null,null,null,null,null,null,null,null,"N10","D8","N10",null,null,null,null,null,null,null,null,"N10",null,{"$f":"IF(A26<>\"\",IFERROR(VLOOKUP(M26,Tabelas!B:D,3,0),0),\"\")","v":0},{"$f":"IF(A26<>\"\",IFERROR(VLOOKUP(N26,Tabelas!B:D,3,0),0),\"\")","v":0},{"$f":"IF(A26<>\"\",IFERROR(VLOOKUP(O26,Tabelas!B:D,3,0),0),\"\")","v":12},{"$f":"IF(A26<>\"\",IFERROR(VLOOKUP(P26,Tabelas!B:D,3,0),0),\"\")","v":0},{"$f":"IF(A26<>\"\",IFERROR(VLOOKUP(Q26,Tabelas!B:D,3,0),0),\"\")","v":0},{"$f":"IF(A26<>\"\",IFERROR(VLOOKUP(R26,Tabelas!B:D,3,0),0),\"\")","v":12},{"$f":"IF(A26<>\"\",IFERROR(VLOOKUP(S26,Tabelas!B:D,3,0),0),\"\")","v":0},{"$f":"IF(A26<>\"\",IFERROR(VLOOKUP(T26,Tabelas!B:D,3,0),0),\"\")","v":12},{"$f":"IF(A26<>\"\",IFERROR(VLOOKUP(U26,Tabelas!B:D,3,0),0),\"\")","v":0},{"$f":"IF(A26<>\"\",IFERROR(VLOOKUP(V26,Tabelas!B:D,3,0),0),\"\")","v":0},{"$f":"IF(A26<>\"\",IFERROR(VLOOKUP(W26,Tabelas!B:D,3,0),0),\"\")","v":0},{"$f":"IF(A26<>\"\",IFERROR(VLOOKUP(X26,Tabelas!B:D,3,0),0),\"\")","v":0},{"$f":"IF(A26<>\"\",IFERROR(VLOOKUP(Y26,Tabelas!B:D,3,0),0),\"\")","v":0},{"$f":"IF(A26<>\"\",IFERROR(VLOOKUP(Z26,Tabelas!B:D,3,0),0),\"\")","v":0},{"$f":"IF(A26<>\"\",IFERROR(VLOOKUP(AA26,Tabelas!B:D,3,0),0),\"\")","v":0},{"$f":"IF(A26<>\"\",IFERROR(VLOOKUP(AB26,Tabelas!B:D,3,0),0),\"\")","v":0},{"$f":"IF(A26<>\"\",IFERROR(VLOOKUP(AC26,Tabelas!B:D,3,0),0),\"\")","v":0},{"$f":"IF(A26<>\"\",IFERROR(VLOOKUP(AD26,Tabelas!B:D,3,0),0),\"\")","v":0},{"$f":"IF(A26<>\"\",IFERROR(VLOOKUP(AE26,Tabelas!B:D,3,0),0),\"\")","v":12},{"$f":"IF(A26<>\"\",IFERROR(VLOOKUP(AF26,Tabelas!B:D,3,0),0),\"\")","v":12},{"$f":"IF(A26<>\"\",IFERROR(VLOOKUP(AG26,Tabelas!B:D,3,0),0),\"\")","v":12},{"$f":"IF(A26<>\"\",IFERROR(VLOOKUP(AH26,Tabelas!B:D,3,0),0),\"\")","v":0},{"$f":"IF(A26<>\"\",IFERROR(VLOOKUP(AI26,Tabelas!B:D,3,0),0),\"\")","v":0},{"$f":"IF(A26<>\"\",IFERROR(VLOOKUP(AJ26,Tabelas!B:D,3,0),0),\"\")","v":0},{"$f":"IF(A26<>\"\",IFERROR(VLOOKUP(AK26,Tabelas!B:D,3,0),0),\"\")","v":0},{"$f":"IF(A26<>\"\",IFERROR(VLOOKUP(AL26,Tabelas!B:D,3,0),0),\"\")","v":0},{"$f":"IF(A26<>\"\",IFERROR(VLOOKUP(AM26,Tabelas!B:D,3,0),0),\"\")","v":0},{"$f":"IF(A26<>\"\",IFERROR(VLOOKUP(AN26,Tabelas!B:D,3,0),0),\"\")","v":0},{"$f":"IF(A26<>\"\",IFERROR(VLOOKUP(AO26,Tabelas!B:D,3,0),0),\"\")","v":0},{"$f":"IF(A26<>\"\",IFERROR(VLOOKUP(AP26,Tabelas!B:D,3,0),0),\"\")","v":12},{"$f":"IF(A26<>\"\",IFERROR(VLOOKUP(AQ26,Tabelas!B:D,3,0),0),\"\")","v":0},84,0,0,0,0,0,0,0]
["Elizabeth Kristiane Buss Lunardelli",3760219,null,"ME","RJU",null,null,null,null,null,null,null,null,null,null,null,null,null,null,null,null,null,null,null,"D8",null,null,null,null,"N10",null,null,null,null,null,null,null,null,null,null,null,null,null,{"$f":"IF(A27<>\"\",IFERROR(VLOOKUP(M27,Tabelas!B:D,3,0),0),\"\")","v":0},{"$f":"IF(A27<>\"\",IFERROR(VLOOKUP(N27,Tabelas!B:D,3,0),0),\"\")","v":0},{"$f":"IF(A27<>\"\",IFERROR(VLOOKUP(O27,Tabelas!B:D,3,0),0),\"\")","v":0},{"$f":"IF(A27<>\"\",IFERROR(VLOOKUP(P27,Tabelas!B:D,3,0),0),\"\")","v":0},{"$f":"IF(A27<>\"\",IFERROR(VLOOKUP(Q27,Tabelas!B:D,3,0),0),\"\")","v":0},{"$f":"IF(A27<>\"\",IFERROR(VLOOKUP(R27,Tabelas!B:D,3,0),0),\"\")","v":0},{"$f":"IF(A27<>\"\",IFERROR(VLOOKUP(S27,Tabelas!B:D,3,0),0),\"\")","v":0},{"$f":"IF(A27<>\"\",IFERROR(VLOOKUP(T27,Tabelas!B:D,3,0),0),\"\")","v":0},{"$f":"IF(A27<>\"\",IFERROR(VLOOKUP(U27,Tabelas!B:D,3,0),0),\"\")","v":0},{"$f":"IF(A27<>\"\",IFERROR(VLOOKUP(V27,Tabelas!B:D,3,0),0),\"\")","v":0},{"$f":"IF(A27<>\"\",IFERROR(VLOOKUP(W27,Tabelas!B:D,3,0),0),\"\")","v":0},{"$f":"IF(A27<>\"\",IFERROR(VLOOKUP(X27,Tabelas!B:D,3,0),0),\"\")","v":0},{"$f":"IF(A27<>\"\",IFERROR(VLOOKUP(Y27,Tabelas!B:D,3,0),0),\"\")","v":12},{"$f":"IF(A27<>\"\",IFERROR(VLOOKUP(Z27,Tabelas!B:D,3,0),0),\"\")","v":0},{"$f":"IF(A27<>\"\",IFERROR(VLOOKUP(AA27,Tabelas!B:D,3,0),0),\"\")","v":0},{"$f":"IF(A27<>\"\",IFERROR(VLOOKUP(AB27,Tabelas!B:D,3,0),0),\"\")","v":0},{"$f":"IF(A27<>\"\",IFERROR(VLOOKUP(AC27,Tabelas!B:D,3,0),0),\"\")","v":0},{"$f":"IF(A27<>\"\",IFERROR(VLOOKUP(AD27,Tabelas!B:D,3,0),0),\"\")","v":12},{"$f":"IF(A27<>\"\",IFERROR(VLOOKUP(AE27,Tabelas!B:D,3,0),0),\"\")","v":0},{"$f":"IF(A27<>\"\",IFERROR(VLOOKUP(AF27,Tabelas!B:D,3,0),0),\"\")","v":0},{"$f":"IF(A27<>\"\",IFERROR(VLOOKUP(AG27,Tabelas!B:D,3,0),0),\"\")","v":0},{"$f":"IF(A27<>\"\",IFERROR(VLOOKUP(AH27,Tabelas!B:D,3,0),0),\"\")","v":0},{"$f":"IF(A27<>\"\",IFERROR(VLOOKUP(AI27,Tabelas!B:D,3,0),0),\"\")","v":0},{"$f":"IF(A27<>\"\",IFERROR(VLOOKUP(AJ27,Tabelas!B:D,3,0),0),\"\")","v":0},{"$f":"IF(A27<>\"\",IFERROR(VLOOKUP(AK27,Tabelas!B:D,3,0),0),\"\")","v":0},{"$f":"IF(A27<>\"\",IFERROR(VLOOKUP(AL27,Tabelas!B:D,3,0),0),\"\")","v":0},{"$f":"IF(A27<>\"\",IFERROR(VLOOKUP(AM27,Tabelas!B:D,3,0),0),\"\")","v":0},{"$f":"IF(A27<>\"\",IFERROR(VLOOKUP(AN27,Tabelas!B:D,3,0),0),\"\")","v":0},{"$f":"IF(A27<>\"\",IFERROR(VLOOKUP(AO27,Tabelas!B:D,3,0),0),\"\")","v":0},{"$f":"IF(A27<>\"\",IFERROR(VLOOKUP(AP27,Tabelas!B:D,3,0),0),\"\")","v":0},{"$f":"IF(A27<>\"\",IFERROR(VLOOKUP(AQ27,Tabelas!B:D,3,0),0),\"\")","v":0},24,0,0,0,0,0,0,0]
["Fernanda Goss Fontanella",1200689,null,"ME","EBSERH",24,null,null,null,null,null,null,null,"T17",null,null,"N10",null,null,null,null,null,"D8",null,null,null,null,null,"N10",null,null,"N10",null,"N10",null,null,"CH-12",null,"D8",null,"N10",null,null,{"$f":"IF(A28<>\"\",IFERROR(VLOOKUP(M28,Tabelas!B:D,3,0),0),\"\")","v":0},{"$f":"IF(A28<>\"\",IFERROR(VLOOKUP(N28,Tabelas!B:D,3,0),0),\"\")","v":6},{"$f":"IF(A28<>\"\",IFERROR(VLOOKUP(O28,Tabelas!B:D,3,0),0),\"\")","v":0},{"$f":"IF(A28<>\"\",IFERROR(VLOOKUP(P28,Tabelas!B:D,3,0),0),\"\")","v":0},{"$f":"IF(A28<>\"\",IFERROR(VLOOKUP(Q28,Tabelas!B:D,3,0),0),\"\")","v":12},{"$f":"IF(A28<>\"\",IFERROR(VLOOKUP(R28,Tabelas!B:D,3,0),0),\"\")","v":0},{"$f":"IF(A28<>\"\",IFERROR(VLOOKUP(S28,Tabelas!B:D,3,0),0),\"\")","v":0},{"$f":"IF(A28<>\"\",IFERROR(VLOOKUP(T28,Tabelas!B:D,3,0),0),\"\")","v":0},{"$f":"IF(A28<>\"\",IFERROR(VLOOKUP(U28,Tabelas!B:D,3,0),0),\"\")","v":0},{"$f":"IF(A28<>\"\",IFERROR(VLOOKUP(V28,Tabelas!B:D,3,0),0),\"\")","v":0},{"$f":"IF(A28<>\"\",IFERROR(VLOOKUP(W28,Tabelas!B:D,3,0),0),\"\")","v":12},{"$f":"IF(A28<>\"\",IFERROR(VLOOKUP(X28,Tabelas!B:D,3,0),0),\"\")","v":0},{"$f":"IF(A28<>\"\",IFERROR(VLOOKUP(Y28,Tabelas!B:D,3,0),0),\"\")","v":0},{"$f":"IF(A28<>\"\",IFERROR(VLOOKUP(Z28,Tabelas!B:D,3,0),0),\"\")","v":0},{"$f":"IF(A28<>\"\",IFERROR(VLOOKUP(AA28,Tabelas!B:D,3,0),0),\"\")","v":0},{"$f":"IF(A28<>\"\",IFERROR(VLOOKUP(AB28,Tabelas!B:D,3,0),0),\"\")","v":0},{"$f":"IF(A28<>\"\",IFERROR(VLOOKUP(AC28,Tabelas!B:D,3,0),0),\"\")","v":12},{"$f":"IF(A28<>\"\",IFERROR(VLOOKUP(AD28,Tabelas!B:D,3,0),0),\"\")","v":0},{"$f":"IF(A28<>\"\",IFERROR(VLOOKUP(AE28,Tabelas!B:D,3,0),0),\"\")","v":0},{"$f":"IF(A28<>\"\",IFERROR(VLOOKUP(AF28,Tabelas!B:D,3,0),0),\"\")","v":12},{"$f":"IF(A28<>\"\",IFERROR(VLOOKUP(AG28,Tabelas!B:D,3,0),0),\"\")","v":0},{"$f":"IF(A28<>\"\",IFERROR(VLOOKUP(AH28,Tabelas!B:D,3,0),0),\"\")","v":12},{"$f":"IF(A28<>\"\",IFERROR(VLOOKUP(AI28,Tabelas!B:D,3,0),0),\"\")","v":0},{"$f":"IF(A28<>\"\",IFERROR(VLOOKUP(AJ28,Tabelas!B:D,3,0),0),\"\")","v":0},{"$f":"IF(A28<>\"\",IFERROR(VLOOKUP(AK28,Tabelas!B:D,3,0),0),\"\")","v":0},{"$f":"IF(A28<>\"\",IFERROR(VLOOKUP(AL28,Tabelas!B:D,3,0),0),\"\")","v":0},{"$f":"IF(A28<>\"\",IFERROR(VLOOKUP(AM28,Tabelas!B:D,3,0),0),\"\")","v":12},{"$f":"IF(A28<>\"\",IFERROR(VLOOKUP(AN28,Tabelas!B:D,3,0),0),\"\")","v":0},{"$f":"IF(A28<>\"\",IFERROR(VLOOKUP(AO28,Tabelas!B:D,3,0),0),\"\")","v":12},{"$f":"IF(A28<>\"\",IFERROR(VLOOKUP(AP28,Tabelas!B:D,3,0),0),\"\")","v":0},{"$f":"IF(A28<>\"\",IFERROR(VLOOKUP(AQ28,Tabelas!B:D,3,0),0),\"\")","v":0},95,0,0,0,0,1,0,1]
["Fernanda Olivo Jakimiu",1016540,null,"ME","EBSERH",24,null,null,null,null,null,null,null,null,null,null,null,null,"D8","N10",null,null,null,"N10",null,"D8","N10",null,"M17",null,null,null,null,null,null,null,"N10",null,"N10",null,null,"N10",null,{"$f":"IF(A29<>\"\",IFERROR(VLOOKUP(M29,Tabelas!B:D,3,0),0),\"\")","v":0},{"$f":"IF(A29<>\"\",IFERROR(VLOOKUP(N29,Tabelas!B:D,3,0),0),\"\")","v":0},{"$f":"IF(A29<>\"\",IFERROR(VLOOKUP(O29,Tabelas!B:D,3,0),0),\"\")","v":0},{"$f":"IF(A29<>\"\",IFERROR(VLOOKUP(P29,Tabelas!B:D,3,0),0),\"\")","v":0},{"$f":"IF(A29<>\"\",IFERROR(VLOOKUP(Q29,Tabelas!B:D,3,0),0),\"\")","v":0},{"$f":"IF(A29<>\"\",IFERROR(VLOOKUP(R29,Tabelas!B:D,3,0),0),\"\")","v":0},{"$f":"IF(A29<>\"\",IFERROR(VLOOKUP(S29,Tabelas!B:D,3,0),0),\"\")","v":12},{"$f":"IF(A29<>\"\",IFERROR(VLOOKUP(T29,Tabelas!B:D,3,0),0),\"\")","v":12},{"$f":"IF(A29<>\"\",IFERROR(VLOOKUP(U29,Tabelas!B:D,3,0),0),\"\")","v":0},{"$f":"IF(A29<>\"\",IFERROR(VLOOKUP(V29,Tabelas!B:D,3,0),0),\"\")","v":0},{"$f":"IF(A29<>\"\",IFERROR(VLOOKUP(W29,Tabelas!B:D,3,0),0),\"\")","v":0},{"$f":"IF(A29<>\"\",IFERROR(VLOOKUP(X29,Tabelas!B:D,3,0),0),\"\")","v":12},{"$f":"IF(A29<>\"\",IFERROR(VLOOKUP(Y29,Tabelas!B:D,3,0),0),\"\")","v":0},{"$f":"IF(A29<>\"\",IFERROR(VLOOKUP(Z29,Tabelas!B:D,3,0),0),\"\")","v":12},{"$f":"IF(A29<>\"\",IFERROR(VLOOKUP(AA29,Tabelas!B:D,3,0),0),\"\")","v":12},{"$f":"IF(A29<>\"\",IFERROR(VLOOKUP(AB29,Tabelas!B:D,3,0),0),\"\")","v":0},{"$f":"IF(A29<>\"\",IFERROR(VLOOKUP(AC29,Tabelas!B:D,3,0),0),\"\")","v":6},{"$f":"IF(A29<>\"\",IFERROR(VLOOKUP(AD29,Tabelas!B:D,3,0),0),\"\")","v":0},{"$f":"IF(A29<>\"\",IFERROR(VLOOKUP(AE29,Tabelas!B:D,3,0),0),\"\")","v":0},{"$f":"IF(A29<>\"\",IFERROR(VLOOKUP(AF29,Tabelas!B:D,3,0),0),\"\")","v":0},{"$f":"IF(A29<>\"\",IFERROR(VLOOKUP(AG29,Tabelas!B:D,3,0),0),\"\")","v":0},{"$f":"IF(A29<>\"\",IFERROR(VLOOKUP(AH29,Tabelas!B:D,3,0),0),\"\")","v":0},{"$f":"IF(A29<>\"\",IFERROR(VLOOKUP(AI29,Tabelas!B:D,3,0),0),\"\")","v":0},{"$f":"IF(A29<>\"\",IFERROR(VLOOKUP(AJ29,Tabelas!B:D,3,0),0),\"\")","v":0},{"$f":"IF(A29<>\"\",IFERROR(VLOOKUP(AK29,Tabelas!B:D,3,0),0),\"\")","v":12},{"$f":"IF(A29<>\"\",IFERROR(VLOOKUP(AL29,Tabelas!B:D,3,0),0),\"\")","v":0},{"$f":"IF(A29<>\"\",IFERROR(VLOOKUP(AM29,Tabelas!B:D,3,0),0),\"\")","v":12},{"$f":"IF(A29<>\"\",IFERROR(VLOOKUP(AN29,Tabelas!B:D,3,0),0),\"\")","v":0},{"$f":"IF(A29<>\"\",IFERROR(VLOOKUP(AO29,Tabelas!B:D,3,0),0),\"\")","v":0},{"$f":"IF(A29<>\"\",IFERROR(VLOOKUP(AP29,Tabelas!B:D,3,0),0),\"\")","v":12},{"$f":"IF(A29<>\"\",IFERROR(VLOOKUP(AQ29,Tabelas!B:D,3,0),0),\"\")","v":0},108,0,0,0,0,0,0,0]
["Irácino José Miranda Júnior",1006032,null,"ME","EBSERH",24,null,null,null,null,null,null,null,null,"N10",null,null,null,null,null,"N10",null,null,"N10",null,null,null,null,null,"CH-12",null,"D8",null,"T17",null,"N10",null,null,null,"DN6",null,null,null,{"$f":"IF(A30<>\"\",IFERROR(VLOOKUP(M30,Tabelas!B:D,3,0),0),\"\")","v":0},{"$f":"IF(A30<>\"\",IFERROR(VLOOKUP(N30,Tabelas!B:D,3,0),0),\"\")","v":0},{"$f":"IF(A30<>\"\",IFERROR(VLOOKUP(O30,Tabelas!B:D,3,0),0),\"\")","v":12},{"$f":"IF(A30<>\"\",IFERROR(VLOOKUP(P30,Tabelas!B:D,3,0),0),\"\")","v":0},{"$f":"IF(A30<>\"\",IFERROR(VLOOKUP(Q30,Tabelas!B:D,3,0),0),\"\")","v":0},{"$f":"IF(A30<>\"\",IFERROR(VLOOKUP(R30,Tabelas!B:D,3,0),0),\"\")","v":0},{"$f":"IF(A30<>\"\",IFERROR(VLOOKUP(S30,Tabelas!B:D,3,0),0),\"\")","v":0},{"$f":"IF(A30<>\"\",IFERROR(VLOOKUP(T30,Tabelas!B:D,3,0),0),\"\")","v":0},{"$f":"IF(A30<>\"\",IFERROR(VLOOKUP(U30,Tabelas!B:D,3,0),0),\"\")","v":12},{"$f":"IF(A30<>\"\",IFERROR(VLOOKUP(V30,Tabelas!B:D,3,0),0),\"\")","v":0},{"$f":"IF(A30<>\"\",IFERROR(VLOOKUP(W30,Tabelas!B:D,3,0),0),\"\")","v":0},{"$f":"IF(A30<>\"\",IFERROR(VLOOKUP(X30,Tabelas!B:D,3,0),0),\"\")","v":12},{"$f":"IF(A30<>\"\",IFERROR(VLOOKUP(Y30,Tabelas!B:D,3,0),0),\"\")","v":0},{"$f":"IF(A30<>\"\",IFERROR(VLOOKUP(Z30,Tabelas!B:D,3,0),0),\"\")","v":0},{"$f":"IF(A30<>\"\",IFERROR(VLOOKUP(AA30,Tabelas!B:D,3,0),0),\"\")","v":0},{"$f":"IF(A30<>\"\",IFERROR(VLOOKUP(AB30,Tabelas!B:D,3,0),0),\"\")","v":0},{"$f":"IF(A30<>\"\",IFERROR(VLOOKUP(AC30,Tabelas!B:D,3,0),0),\"\")","v":0},{"$f":"IF(A30<>\"\",IFERROR(VLOOKUP(AD30,Tabelas!B:D,3,0),0),\"\")","v":0},{"$f":"IF(A30<>\"\",IFERROR(VLOOKUP(AE30,Tabelas!B:D,3,0),0),\"\")","v":0},{"$f":"IF(A30<>\"\",IFERROR(VLOOKUP(AF30,Tabelas!B:D,3,0),0),\"\")","v":12},{"$f":"IF(A30<>\"\",IFERROR(VLOOKUP(AG30,Tabelas!B:D,3,0),0),\"\")","v":0},{"$f":"IF(A30<>\"\",IFERROR(VLOOKUP(AH30,Tabelas!B:D,3,0),0),\"\")","v":6},{"$f":"IF(A30<>\"\",IFERROR(VLOOKUP(AI30,Tabelas!B:D,3,0),0),\"\")","v":0},{"$f":"IF(A30<>\"\",IFERROR(VLOOKUP(AJ30,Tabelas!B:D,3,0),0),\"\")","v":12},{"$f":"IF(A30<>\"\",IFERROR(VLOOKUP(AK30,Tabelas!B:D,3,0),0),\"\")","v":0},{"$f":"IF(A30<>\"\",IFERROR(VLOOKUP(AL30,Tabelas!B:D,3,0),0),\"\")","v":0},{"$f":"IF(A30<>\"\",IFERROR(VLOOKUP(AM30,Tabelas!B:D,3,0),0),\"\")","v":0},{"$f":"IF(A30<>\"\",IFERROR(VLOOKUP(AN30,Tabelas!B:D,3,0),0),\"\")","v":24},{"$f":"IF(A30<>\"\",IFERROR(VLOOKUP(AO30,Tabelas!B:D,3,0),0),\"\")","v":0},{"$f":"IF(A30<>\"\",IFERROR(VLOOKUP(AP30,Tabelas!B:D,3,0),0),\"\")","v":0},{"$f":"IF(A30<>\"\",IFERROR(VLOOKUP(AQ30,Tabelas!B:D,3,0),0),\"\")","v":0},95,0,0,0,0,1,0,1]
["Jaqueline Flores Rohr",1841545,null,"ME","EBSERH",24,null,null,null,null,null,null,"T17",null,null,null,"N10",null,null,null,null,"N10",null,null,"D8",null,"N10",null,null,null,null,"N10",null,null,null,null,"N10",null,"D8",null,"N10",null,null,{"$f":"IF(A31<>\"\",IFERROR(VLOOKUP(M31,Tabelas!B:D,3,0),0),\"\")","v":6},{"$f":"IF(A31<>\"\",IFERROR(VLOOKUP(N31,Tabelas!B:D,3,0),0),\"\")","v":0},{"$f":"IF(A31<>\"\",IFERROR(VLOOKUP(O31,Tabelas!B:D,3,0),0),\"\")","v":0},{"$f":"IF(A31<>\"\",IFERROR(VLOOKUP(P31,Tabelas!B:D,3,0),0),\"\")","v":0},{"$f":"IF(A31<>\"\",IFERROR(VLOOKUP(Q31,Tabelas!B:D,3,0),0),\"\")","v":12},{"$f":"IF(A31<>\"\",IFERROR(VLOOKUP(R31,Tabelas!B:D,3,0),0),\"\")","v":0},{"$f":"IF(A31<>\"\",IFERROR(VLOOKUP(S31,Tabelas!B:D,3,0),0),\"\")","v":0},{"$f":"IF(A31<>\"\",IFERROR(VLOOKUP(T31,Tabelas!B:D,3,0),0),\"\")","v":0},{"$f":"IF(A31<>\"\",IFERROR(VLOOKUP(U31,Tabelas!B:D,3,0),0),\"\")","v":0},{"$f":"IF(A31<>\"\",IFERROR(VLOOKUP(V31,Tabelas!B:D,3,0),0),\"\")","v":12},{"$f":"IF(A31<>\"\",IFERROR(VLOOKUP(W31,Tabelas!B:D,3,0),0),\"\")","v":0},{"$f":"IF(A31<>\"\",IFERROR(VLOOKUP(X31,Tabelas!B:D,3,0),0),\"\")","v":0},{"$f":"IF(A31<>\"\",IFERROR(VLOOKUP(Y31,Tabelas!B:D,3,0),0),\"\")","v":12},{"$f":"IF(A31<>\"\",IFERROR(VLOOKUP(Z31,Tabelas!B:D,3,0),0),\"\")","v":0},{"$f":"IF(A31<>\"\",IFERROR(VLOOKUP(AA31,Tabelas!B:D,3,0),0),\"\")","v":12},{"$f":"IF(A31<>\"\",IFERROR(VLOOKUP(AB31,Tabelas!B:D,3,0),0),\"\")","v":0},{"$f":"IF(A31<>\"\",IFERROR(VLOOKUP(AC31,Tabelas!B:D,3,0),0),\"\")","v":0},{"$f":"IF(A31<>\"\",IFERROR(VLOOKUP(AD31,Tabelas!B:D,3,0),0),\"\")","v":0},{"$f":"IF(A31<>\"\",IFERROR(VLOOKUP(AE31,Tabelas!B:D,3,0),0),\"\")","v":0},{"$f":"IF(A31<>\"\",IFERROR(VLOOKUP(AF31,Tabelas!B:D,3,0),0),\"\")","v":12},{"$f":"IF(A31<>\"\",IFERROR(VLOOKUP(AG31,Tabelas!B:D,3,0),0),\"\")","v":0},{"$f":"IF(A31<>\"\",IFERROR(VLOOKUP(AH31,Tabelas!B:D,3,0),0),\"\")","v":0},{"$f":"IF(A31<>\"\",IFERROR(VLOOKUP(AI31,Tabelas!B:D,3,0),0),\"\")","v":0},{"$f":"IF(A31<>\"\",IFERROR(VLOOKUP(AJ31,Tabelas!B:D,3,0),0),\"\")","v":0},{"$f":"IF(A31<>\"\",IFERROR(VLOOKUP(AK31,Tabelas!B:D,3,0),0),\"\")","v":12},{"$f":"IF(A31<>\"\",IFERROR(VLOOKUP(AL31,Tabelas!B:D,3,0),0),\"\")","v":0},{"$f":"IF(A31<>\"\",IFERROR(VLOOKUP(AM31,Tabelas!B:D,3,0),0),\"\")","v":12},{"$f":"IF(A31<>\"\",IFERROR(VLOOKUP(AN31,Tabelas!B:D,3,0),0),\"\")","v":0},{"$f":"IF(A31<>\"\",IFERROR(VLOOKUP(AO31,Tabelas!B:D,3,0),0),\"\")","v":12},{"$f":"IF(A31<>\"\",IFERROR(VLOOKUP(AP31,Tabelas!B:D,3,0),0),\"\")","v":0},{"$f":"IF(A31<>\"\",IFERROR(VLOOKUP(AQ31,Tabelas!B:D,3,0),0),\"\")","v":0},108,0,0,0,0,0,0,0]
["João Luiz Henrique da Silveira",1704052,null,"ME","EBSERH",24,null,null,null,null,null,null,"FE","FE","FE","FE","FE","FE","FE","FE","FE","FE","FE","FE","FE","FE","FE","N10",null,null,null,null,"D8",null,null,null,"N10","T17",null,"N10",null,null,null,{"$f":"IF(A32<>\"\",IFERROR(VLOOKUP(M32,Tabelas!B:D,3,0),0),\"\")","v":0},{"$f":"IF(A32<>\"\",IFERROR(VLOOKUP(N32,Tabelas!B:D,3,0),0),\"\")","v":0},{"$f":"IF(A32<>\"\",IFERROR(VLOOKUP(O32,Tabelas!B:D,3,0),0),\"\")","v":0},{"$f":"IF(A32<>\"\",IFERROR(VLOOKUP(P32,Tabelas!B:D,3,0),0),\"\")","v":0},{"$f":"IF(A32<>\"\",IFERROR(VLOOKUP(Q32,Tabelas!B:D,3,0),0),\"\")","v":0},{"$f":"IF(A32<>\"\",IFERROR(VLOOKUP(R32,Tabelas!B:D,3,0),0),\"\")","v":0},{"$f":"IF(A32<>\"\",IFERROR(VLOOKUP(S32,Tabelas!B:D,3,0),0),\"\")","v":0},{"$f":"IF(A32<>\"\",IFERROR(VLOOKUP(T32,Tabelas!B:D,3,0),0),\"\")","v":0},{"$f":"IF(A32<>\"\",IFERROR(VLOOKUP(U32,Tabelas!B:D,3,0),0),\"\")","v":0},{"$f":"IF(A32<>\"\",IFERROR(VLOOKUP(V32,Tabelas!B:D,3,0),0),\"\")","v":0},{"$f":"IF(A32<>\"\",IFERROR(VLOOKUP(W32,Tabelas!B:D,3,0),0),\"\")","v":0},{"$f":"IF(A32<>\"\",IFERROR(VLOOKUP(X32,Tabelas!B:D,3,0),0),\"\")","v":0},{"$f":"IF(A32<>\"\",IFERROR(VLOOKUP(Y32,Tabelas!B:D,3,0),0),\"\")","v":0},{"$f":"IF(A32<>\"\",IFERROR(VLOOKUP(Z32,Tabelas!B:D,3,0),0),\"\")","v":0},{"$f":"IF(A32<>\"\",IFERROR(VLOOKUP(AA32,Tabelas!B:D,3,0),0),\"\")","v":0},{"$f":"IF(A32<>\"\",IFERROR(VLOOKUP(AB32,Tabelas!B:D,3,0),0),\"\")","v":12},{"$f":"IF(A32<>\"\",IFERROR(VLOOKUP(AC32,Tabelas!B:D,3,0),0),\"\")","v":0},{"$f":"IF(A32<>\"\",IFERROR(VLOOKUP(AD32,Tabelas!B:D,3,0),0),\"\")","v":0},{"$f":"IF(A32<>\"\",IFERROR(VLOOKUP(AE32,Tabelas!B:D,3,0),0),\"\")","v":0},{"$f":"IF(A32<>\"\",IFERROR(VLOOKUP(AF32,Tabelas!B:D,3,0),0),\"\")","v":0},{"$f":"IF(A32<>\"\",IFERROR(VLOOKUP(AG32,Tabelas!B:D,3,0),0),\"\")","v":12},{"$f":"IF(A32<>\"\",IFERROR(VLOOKUP(AH32,Tabelas!B:D,3,0),0),\"\")","v":0},{"$f":"IF(A32<>\"\",IFERROR(VLOOKUP(AI32,Tabelas!B:D,3,0),0),\"\")","v":0},{"$f":"IF(A32<>\"\",IFERROR(VLOOKUP(AJ32,Tabelas!B:D,3,0),0),\"\")","v":0},{"$f":"IF(A32<>\"\",IFERROR(VLOOKUP(AK32,Tabelas!B:D,3,0),0),\"\")","v":12},{"$f":"IF(A32<>\"\",IFERROR(VLOOKUP(AL32,Tabelas!B:D,3,0),0),\"\")","v":6},{"$f":"IF(A32<>\"\",IFERROR(VLOOKUP(AM32,Tabelas!B:D,3,0),0),\"\")","v":0},{"$f":"IF(A32<>\"\",IFERROR(VLOOKUP(AN32,Tabelas!B:D,3,0),0),\"\")","v":12},{"$f":"IF(A32<>\"\",IFERROR(VLOOKUP(AO32,Tabelas!B:D,3,0),0),\"\")","v":0},{"$f":"IF(A32<>\"\",IFERROR(VLOOKUP(AP32,Tabelas!B:D,3,0),0),\"\")","v":0},{"$f":"IF(A32<>\"\",IFERROR(VLOOKUP(AQ32,Tabelas!B:D,3,0),0),\"\")","v":0},57,0,0,15,0,0,0,15]
["Joel de Andrade",1160444,null,"ME","RJU",40,null,null,null,null,null,null,null,"N10",null,null,null,null,"D8","N10",null,null,null,null,null,"N10",null,null,null,null,"N10",null,null,null,"N10",null,null,null,null,"N10",null,null,null,{"$f":"IF(A33<>\"\",IFERROR(VLOOKUP(M33,Tabelas!B:D,3,0),0),\"\")","v":0},{"$f":"IF(A33<>\"\",IFERROR(VLOOKUP(N33,Tabelas!B:D,3,0),0),\"\")","v":12},{"$f":"IF(A33<>\"\",IFERROR(VLOOKUP(O33,Tabelas!B:D,3,0),0),\"\")","v":0},{"$f":"IF(A33<>\"\",IFERROR(VLOOKUP(P33,Tabelas!B:D,3,0),0),\"\")","v":0},{"$f":"IF(A33<>\"\",IFERROR(VLOOKUP(Q33,Tabelas!B:D,3,0),0),\"\")","v":0},{"$f":"IF(A33<>\"\",IFERROR(VLOOKUP(R33,Tabelas!B:D,3,0),0),\"\")","v":0},{"$f":"IF(A33<>\"\",IFERROR(VLOOKUP(S33,Tabelas!B:D,3,0),0),\"\")","v":12},{"$f":"IF(A33<>\"\",IFERROR(VLOOKUP(T33,Tabelas!B:D,3,0),0),\"\")","v":12},{"$f":"IF(A33<>\"\",IFERROR(VLOOKUP(U33,Tabelas!B:D,3,0),0),\"\")","v":0},{"$f":"IF(A33<>\"\",IFERROR(VLOOKUP(V33,Tabelas!B:D,3,0),0),\"\")","v":0},{"$f":"IF(A33<>\"\",IFERROR(VLOOKUP(W33,Tabelas!B:D,3,0),0),\"\")","v":0},{"$f":"IF(A33<>\"\",IFERROR(VLOOKUP(X33,Tabelas!B:D,3,0),0),\"\")","v":0},{"$f":"IF(A33<>\"\",IFERROR(VLOOKUP(Y33,Tabelas!B:D,3,0),0),\"\")","v":0},{"$f":"IF(A33<>\"\",IFERROR(VLOOKUP(Z33,Tabelas!B:D,3,0),0),\"\")","v":12},{"$f":"IF(A33<>\"\",IFERROR(VLOOKUP(AA33,Tabelas!B:D,3,0),0),\"\")","v":0},{"$f":"IF(A33<>\"\",IFERROR(VLOOKUP(AB33,Tabelas!B:D,3,0),0),\"\")","v":0},{"$f":"IF(A33<>\"\",IFERROR(VLOOKUP(AC33,Tabelas!B:D,3,0),0),\"\")","v":0},{"$f":"IF(A33<>\"\",IFERROR(VLOOKUP(AD33,Tabelas!B:D,3,0),0),\"\")","v":0},{"$f":"IF(A33<>\"\",IFERROR(VLOOKUP(AE33,Tabelas!B:D,3,0),0),\"\")","v":12},{"$f":"IF(A33<>\"\",IFERROR(VLOOKUP(AF33,Tabelas!B:D,3,0),0),\"\")","v":0},{"$f":"IF(A33<>\"\",IFERROR(VLOOKUP(AG33,Tabelas!B:D,3,0),0),\"\")","v":0},{"$f":"IF(A33<>\"\",IFERROR(VLOOKUP(AH33,Tabelas!B:D,3,0),0),\"\")","v":0},{"$f":"IF(A33<>\"\",IFERROR(VLOOKUP(AI33,Tabelas!B:D,3,0),0),\"\")","v":12},{"$f":"IF(A33<>\"\",IFERROR(VLOOKUP(AJ33,Tabelas!B:D,3,0),0),\"\")","v":0},{"$f":"IF(A33<>\"\",IFERROR(VLOOKUP(AK33,Tabelas!B:D,3,0),0),\"\")","v":0},{"$f":"IF(A33<>\"\",IFERROR(VLOOKUP(AL33,Tabelas!B:D,3,0),0),\"\")","v":0},{"$f":"IF(A33<>\"\",IFERROR(VLOOKUP(AM33,Tabelas!B:D,3,0),0),\"\")","v":0},{"$f":"IF(A33<>\"\",IFERROR(VLOOKUP(AN33,Tabelas!B:D,3,0),0),\"\")","v":12},{"$f":"IF(A33<>\"\",IFERROR(VLOOKUP(AO33,Tabelas!B:D,3,0),0),\"\")","v":0},{"$f":"IF(A33<>\"\",IFERROR(VLOOKUP(AP33,Tabelas!B:D,3,0),0),\"\")","v":0},{"$f":"IF(A33<>\"\",IFERROR(VLOOKUP(AQ33,Tabelas!B:D,3,0),0),\"\")","v":0},84,0,0,0,0,0,0,0]
["Karine Damiani Cabral ",1925603,null,"ME","EBSERH",24,null,null,null,null,null,null,"N10",null,null,"N10",null,null,"DN6",null,null,null,"N10",null,null,null,null,"N10",null,"M17",null,null,"D8",null,"N10",null,null,null,null,null,null,null,null,{"$f":"IF(A34<>\"\",IFERROR(VLOOKUP(M34,Tabelas!B:D,3,0),0),\"\")","v":12},{"$f":"IF(A34<>\"\",IFERROR(VLOOKUP(N34,Tabelas!B:D,3,0),0),\"\")","v":0},{"$f":"IF(A34<>\"\",IFERROR(VLOOKUP(O34,Tabelas!B:D,3,0),0),\"\")","v":0},{"$f":"IF(A34<>\"\",IFERROR(VLOOKUP(P34,Tabelas!B:D,3,0),0),\"\")","v":12},{"$f":"IF(A34<>\"\",IFERROR(VLOOKUP(Q34,Tabelas!B:D,3,0),0),\"\")","v":0},{"$f":"IF(A34<>\"\",IFERROR(VLOOKUP(R34,Tabelas!B:D,3,0),0),\"\")","v":0},{"$f":"IF(A34<>\"\",IFERROR(VLOOKUP(S34,Tabelas!B:D,3,0),0),\"\")","v":24},{"$f":"IF(A34<>\"\",IFERROR(VLOOKUP(T34,Tabelas!B:D,3,0),0),\"\")","v":0},{"$f":"IF(A34<>\"\",IFERROR(VLOOKUP(U34,Tabelas!B:D,3,0),0),\"\")","v":0},{"$f":"IF(A34<>\"\",IFERROR(VLOOKUP(V34,Tabelas!B:D,3,0),0),\"\")","v":0},{"$f":"IF(A34<>\"\",IFERROR(VLOOKUP(W34,Tabelas!B:D,3,0),0),\"\")","v":12},{"$f":"IF(A34<>\"\",IFERROR(VLOOKUP(X34,Tabelas!B:D,3,0),0),\"\")","v":0},{"$f":"IF(A34<>\"\",IFERROR(VLOOKUP(Y34,Tabelas!B:D,3,0),0),\"\")","v":0},{"$f":"IF(A34<>\"\",IFERROR(VLOOKUP(Z34,Tabelas!B:D,3,0),0),\"\")","v":0},{"$f":"IF(A34<>\"\",IFERROR(VLOOKUP(AA34,Tabelas!B:D,3,0),0),\"\")","v":0},{"$f":"IF(A34<>\"\",IFERROR(VLOOKUP(AB34,Tabelas!B:D,3,0),0),\"\")","v":12},{"$f":"IF(A34<>\"\",IFERROR(VLOOKUP(AC34,Tabelas!B:D,3,0),0),\"\")","v":0},{"$f":"IF(A34<>\"\",IFERROR(VLOOKUP(AD34,Tabelas!B:D,3,0),0),\"\")","v":6},{"$f":"IF(A34<>\"\",IFERROR(VLOOKUP(AE34,Tabelas!B:D,3,0),0),\"\")","v":0},{"$f":"IF(A34<>\"\",IFERROR(VLOOKUP(AF34,Tabelas!B:D,3,0),0),\"\")","v":0},{"$f":"IF(A34<>\"\",IFERROR(VLOOKUP(AG34,Tabelas!B:D,3,0),0),\"\")","v":12},{"$f":"IF(A34<>\"\",IFERROR(VLOOKUP(AH34,Tabelas!B:D,3,0),0),\"\")","v":0},{"$f":"IF(A34<>\"\",IFERROR(VLOOKUP(AI34,Tabelas!B:D,3,0),0),\"\")","v":12},{"$f":"IF(A34<>\"\",IFERROR(VLOOKUP(AJ34,Tabelas!B:D,3,0),0),\"\")","v":0},{"$f":"IF(A34<>\"\",IFERROR(VLOOKUP(AK34,Tabelas!B:D,3,0),0),\"\")","v":0},{"$f":"IF(A34<>\"\",IFERROR(VLOOKUP(AL34,Tabelas!B:D,3,0),0),\"\")","v":0},{"$f":"IF(A34<>\"\",IFERROR(VLOOKUP(AM34,Tabelas!B:D,3,0),0),\"\")","v":0},{"$f":"IF(A34<>\"\",IFERROR(VLOOKUP(AN34,Tabelas!B:D,3,0),0),\"\")","v":0},{"$f":"IF(A34<>\"\",IFERROR(VLOOKUP(AO34,Tabelas!B:D,3,0),0),\"\")","v":0},{"$f":"IF(A34<>\"\",IFERROR(VLOOKUP(AP34,Tabelas!B:D,3,0),0),\"\")","v":0},{"$f":"IF(A34<>\"\",IFERROR(VLOOKUP(AQ34,Tabelas!B:D,3,0),0),\"\")","v":0},108,0,0,0,0,0,0,0]
["Pedro Luz da Rosa",2606805,null,"ME","RJU",20,null,null,null,null,null,null,null,null,null,"N10",null,"N10",null,null,"N10",null,null,null,null,"N10",null,null,"N10",null,null,null,null,null,null,null,null,"N10",null,"D8",null,null,null,{"$f":"IF(A35<>\"\",IFERROR(VLOOKUP(M35,Tabelas!B:D,3,0),0),\"\")","v":0},{"$f":"IF(A35<>\"\",IFERROR(VLOOKUP(N35,Tabelas!B:D,3,0),0),\"\")","v":0},{"$f":"IF(A35<>\"\",IFERROR(VLOOKUP(O35,Tabelas!B:D,3,0),0),\"\")","v":0},{"$f":"IF(A35<>\"\",IFERROR(VLOOKUP(P35,Tabelas!B:D,3,0),0),\"\")","v":12},{"$f":"IF(A35<>\"\",IFERROR(VLOOKUP(Q35,Tabelas!B:D,3,0),0),\"\")","v":0},{"$f":"IF(A35<>\"\",IFERROR(VLOOKUP(R35,Tabelas!B:D,3,0),0),\"\")","v":12},{"$f":"IF(A35<>\"\",IFERROR(VLOOKUP(S35,Tabelas!B:D,3,0),0),\"\")","v":0},{"$f":"IF(A35<>\"\",IFERROR(VLOOKUP(T35,Tabelas!B:D,3,0),0),\"\")","v":0},{"$f":"IF(A35<>\"\",IFERROR(VLOOKUP(U35,Tabelas!B:D,3,0),0),\"\")","v":12},{"$f":"IF(A35<>\"\",IFERROR(VLOOKUP(V35,Tabelas!B:D,3,0),0),\"\")","v":0},{"$f":"IF(A35<>\"\",IFERROR(VLOOKUP(W35,Tabelas!B:D,3,0),0),\"\")","v":0},{"$f":"IF(A35<>\"\",IFERROR(VLOOKUP(X35,Tabelas!B:D,3,0),0),\"\")","v":0},{"$f":"IF(A35<>\"\",IFERROR(VLOOKUP(Y35,Tabelas!B:D,3,0),0),\"\")","v":0},{"$f":"IF(A35<>\"\",IFERROR(VLOOKUP(Z35,Tabelas!B:D,3,0),0),\"\")","v":12},{"$f":"IF(A35<>\"\",IFERROR(VLOOKUP(AA35,Tabelas!B:D,3,0),0),\"\")","v":0},{"$f":"IF(A35<>\"\",IFERROR(VLOOKUP(AB35,Tabelas!B:D,3,0),0),\"\")","v":0},{"$f":"IF(A35<>\"\",IFERROR(VLOOKUP(AC35,Tabelas!B:D,3,0),0),\"\")","v":12},{"$f":"IF(A35<>\"\",IFERROR(VLOOKUP(AD35,Tabelas!B:D,3,0),0),\"\")","v":0},{"$f":"IF(A35<>\"\",IFERROR(VLOOKUP(AE35,Tabelas!B:D,3,0),0),\"\")","v":0},{"$f":"IF(A35<>\"\",IFERROR(VLOOKUP(AF35,Tabelas!B:D,3,0),0),\"\")","v":0},{"$f":"IF(A35<>\"\",IFERROR(VLOOKUP(AG35,Tabelas!B:D,3,0),0),\"\")","v":0},{"$f":"IF(A35<>\"\",IFERROR(VLOOKUP(AH35,Tabelas!B:D,3,0),0),\"\")","v":0},{"$f":"IF(A35<>\"\",IFERROR(VLOOKUP(AI35,Tabelas!B:D,3,0),0),\"\")","v":0},{"$f":"IF(A35<>\"\",IFERROR(VLOOKUP(AJ35,Tabelas!B:D,3,0),0),\"\")","v":0},{"$f":"IF(A35<>\"\",IFERROR(VLOOKUP(AK35,Tabelas!B:D,3,0),0),\"\")","v":0},{"$f":"IF(A35<>\"\",IFERROR(VLOOKUP(AL35,Tabelas!B:D,3,0),0),\"\")","v":12},{"$f":"IF(A35<>\"\",IFERROR(VLOOKUP(AM35,Tabelas!B:D,3,0),0),\"\")","v":0},{"$f":"IF(A35<>\"\",IFERROR(VLOOKUP(AN35,Tabelas!B:D,3,0),0),\"\")","v":12},{"$f":"IF(A35<>\"\",IFERROR(VLOOKUP(AO35,Tabelas!B:D,3,0),0),\"\")","v":0},{"$f":"IF(A35<>\"\",IFERROR(VLOOKUP(AP35,Tabelas!B:D,3,0),0),\"\")","v":0},{"$f":"IF(A35<>\"\",IFERROR(VLOOKUP(AQ35,Tabelas!B:D,3,0),0),\"\")","v":0},84,0,0,0,0,0,0,0]
["Robson Lima Ribeiro",3369679,null,"ME","RJU",20,null,null,null,null,null,null,null,null,null,"N10",null,null,"N10",null,null,null,"D8",null,null,null,null,null,"N10",null,null,null,"D8","N10",null,null,null,"N10",null,null,null,null,null,{"$f":"IF(A36<>\"\",IFERROR(VLOOKUP(M36,Tabelas!B:D,3,0),0),\"\")","v":0},{"$f":"IF(A36<>\"\",IFERROR(VLOOKUP(N36,Tabelas!B:D,3,0),0),\"\")","v":0},{"$f":"IF(A36<>\"\",IFERROR(VLOOKUP(O36,Tabelas!B:D,3,0),0),\"\")","v":0},{"$f":"IF(A36<>\"\",IFERROR(VLOOKUP(P36,Tabelas!B:D,3,0),0),\"\")","v":12},{"$f":"IF(A36<>\"\",IFERROR(VLOOKUP(Q36,Tabelas!B:D,3,0),0),\"\")","v":0},{"$f":"IF(A36<>\"\",IFERROR(VLOOKUP(R36,Tabelas!B:D,3,0),0),\"\")","v":0},{"$f":"IF(A36<>\"\",IFERROR(VLOOKUP(S36,Tabelas!B:D,3,0),0),\"\")","v":12},{"$f":"IF(A36<>\"\",IFERROR(VLOOKUP(T36,Tabelas!B:D,3,0),0),\"\")","v":0},{"$f":"IF(A36<>\"\",IFERROR(VLOOKUP(U36,Tabelas!B:D,3,0),0),\"\")","v":0},{"$f":"IF(A36<>\"\",IFERROR(VLOOKUP(V36,Tabelas!B:D,3,0),0),\"\")","v":0},{"$f":"IF(A36<>\"\",IFERROR(VLOOKUP(W36,Tabelas!B:D,3,0),0),\"\")","v":12},{"$f":"IF(A36<>\"\",IFERROR(VLOOKUP(X36,Tabelas!B:D,3,0),0),\"\")","v":0},{"$f":"IF(A36<>\"\",IFERROR(VLOOKUP(Y36,Tabelas!B:D,3,0),0),\"\")","v":0},{"$f":"IF(A36<>\"\",IFERROR(VLOOKUP(Z36,Tabelas!B:D,3,0),0),\"\")","v":0},{"$f":"IF(A36<>\"\",IFERROR(VLOOKUP(AA36,Tabelas!B:D,3,0),0),\"\")","v":0},{"$f":"IF(A36<>\"\",IFERROR(VLOOKUP(AB36,Tabelas!B:D,3,0),0),\"\")","v":0},{"$f":"IF(A36<>\"\",IFERROR(VLOOKUP(AC36,Tabelas!B:D,3,0),0),\"\")","v":12},{"$f":"IF(A36<>\"\",IFERROR(VLOOKUP(AD36,Tabelas!B:D,3,0),0),\"\")","v":0},{"$f":"IF(A36<>\"\",IFERROR(VLOOKUP(AE36,Tabelas!B:D,3,0),0),\"\")","v":0},{"$f":"IF(A36<>\"\",IFERROR(VLOOKUP(AF36,Tabelas!B:D,3,0),0),\"\")","v":0},{"$f":"IF(A36<>\"\",IFERROR(VLOOKUP(AG36,Tabelas!B:D,3,0),0),\"\")","v":12},{"$f":"IF(A36<>\"\",IFERROR(VLOOKUP(AH36,Tabelas!B:D,3,0),0),\"\")","v":12},{"$f":"IF(A36<>\"\",IFERROR(VLOOKUP(AI36,Tabelas!B:D,3,0),0),\"\")","v":0},{"$f":"IF(A36<>\"\",IFERROR(VLOOKUP(AJ36,Tabelas!B:D,3,0),0),\"\")","v":0},{"$f":"IF(A36<>\"\",IFERROR(VLOOKUP(AK36,Tabelas!B:D,3,0),0),\"\")","v":0},{"$f":"IF(A36<>\"\",IFERROR(VLOOKUP(AL36,Tabelas!B:D,3,0),0),\"\")","v":12},{"$f":"IF(A36<>\"\",IFERROR(VLOOKUP(AM36,Tabelas!B:D,3,0),0),\"\")","v":0},{"$f":"IF(A36<>\"\",IFERROR(VLOOKUP(AN36,Tabelas!B:D,3,0),0),\"\")","v":0},{"$f":"IF(A36<>\"\",IFERROR(VLOOKUP(AO36,Tabelas!B:D,3,0),0),\"\")","v":0},{"$f":"IF(A36<>\"\",IFERROR(VLOOKUP(AP36,Tabelas!B:D,3,0),0),\"\")","v":0},{"$f":"IF(A36<>\"\",IFERROR(VLOOKUP(AQ36,Tabelas!B:D,3,0),0),\"\")","v":0},84,0,0,0,0,0,0,0]
["Thales Roberto Schott da Silva",1160552,null,"ME","RJU",20,null,null,null,null,null,null,null,null,"N10",null,null,null,null,null,null,null,"N10",null,null,"D8",null,"N10",null,null,null,null,"N10",null,null,null,null,"N10",null,null,null,"N10",null,{"$f":"IF(A37<>\"\",IFERROR(VLOOKUP(M37,Tabelas!B:D,3,0),0),\"\")","v":0},{"$f":"IF(A37<>\"\",IFERROR(VLOOKUP(N37,Tabelas!B:D,3,0),0),\"\")","v":0},{"$f":"IF(A37<>\"\",IFERROR(VLOOKUP(O37,Tabelas!B:D,3,0),0),\"\")","v":12},{"$f":"IF(A37<>\"\",IFERROR(VLOOKUP(P37,Tabelas!B:D,3,0),0),\"\")","v":0},{"$f":"IF(A37<>\"\",IFERROR(VLOOKUP(Q37,Tabelas!B:D,3,0),0),\"\")","v":0},{"$f":"IF(A37<>\"\",IFERROR(VLOOKUP(R37,Tabelas!B:D,3,0),0),\"\")","v":0},{"$f":"IF(A37<>\"\",IFERROR(VLOOKUP(S37,Tabelas!B:D,3,0),0),\"\")","v":0},{"$f":"IF(A37<>\"\",IFERROR(VLOOKUP(T37,Tabelas!B:D,3,0),0),\"\")","v":0},{"$f":"IF(A37<>\"\",IFERROR(VLOOKUP(U37,Tabelas!B:D,3,0),0),\"\")","v":0},{"$f":"IF(A37<>\"\",IFERROR(VLOOKUP(V37,Tabelas!B:D,3,0),0),\"\")","v":0},{"$f":"IF(A37<>\"\",IFERROR(VLOOKUP(W37,Tabelas!B:D,3,0),0),\"\")","v":12},{"$f":"IF(A37<>\"\",IFERROR(VLOOKUP(X37,Tabelas!B:D,3,0),0),\"\")","v":0},{"$f":"IF(A37<>\"\",IFERROR(VLOOKUP(Y37,Tabelas!B:D,3,0),0),\"\")","v":0},{"$f":"IF(A37<>\"\",IFERROR(VLOOKUP(Z37,Tabelas!B:D,3,0),0),\"\")","v":12},{"$f":"IF(A37<>\"\",IFERROR(VLOOKUP(AA37,Tabelas!B:D,3,0),0),\"\")","v":0},{"$f":"IF(A37<>\"\",IFERROR(VLOOKUP(AB37,Tabelas!B:D,3,0),0),\"\")","v":12},{"$f":"IF(A37<>\"\",IFERROR(VLOOKUP(AC37,Tabelas!B:D,3,0),0),\"\")","v":0},{"$f":"IF(A37<>\"\",IFERROR(VLOOKUP(AD37,Tabelas!B:D,3,0),0),\"\")","v":0},{"$f":"IF(A37<>\"\",IFERROR(VLOOKUP(AE37,Tabelas!B:D,3,0),0),\"\")","v":0},{"$f":"IF(A37<>\"\",IFERROR(VLOOKUP(AF37,Tabelas!B:D,3,0),0),\"\")","v":0},{"$f":"IF(A37<>\"\",IFERROR(VLOOKUP(AG37,Tabelas!B:D,3,0),0),\"\")","v":12},{"$f":"IF(A37<>\"\",IFERROR(VLOOKUP(AH37,Tabelas!B:D,3,0),0),\"\")","v":0},{"$f":"IF(A37<>\"\",IFERROR(VLOOKUP(AI37,Tabelas!B:D,3,0),0),\"\")","v":0},{"$f":"IF(A37<>\"\",IFERROR(VLOOKUP(AJ37,Tabelas!B:D,3,0),0),\"\")","v":0},{"$f":"IF(A37<>\"\",IFERROR(VLOOKUP(AK37,Tabelas!B:D,3,0),0),\"\")","v":0},{"$f":"IF(A37<>\"\",IFERROR(VLOOKUP(AL37,Tabelas!B:D,3,0),0),\"\")","v":12},{"$f":"IF(A37<>\"\",IFERROR(VLOOKUP(AM37,Tabelas!B:D,3,0),0),\"\")","v":0},{"$f":"IF(A37<>\"\",IFERROR(VLOOKUP(AN37,Tabelas!B:D,3,0),0),\"\")","v":0},{"$f":"IF(A37<>\"\",IFERROR(VLOOKUP(AO37,Tabelas!B:D,3,0),0),\"\")","v":0},{"$f":"IF(A37<>\"\",IFERROR(VLOOKUP(AP37,Tabelas!B:D,3,0),0),\"\")","v":12},{"$f":"IF(A37<>\"\",IFERROR(VLOOKUP(AQ37,Tabelas!B:D,3,0),0),\"\")","v":0},84,0,0,0,0,0,0,0]
["Ingrid Catharine Costa de Sant Ana",1004451,null,"ME","EBSERH",24,null,null,null,null,null,null,null,null,null,null,null,null,null,null,null,null,null,null,null,null,null,null,null,null,null,null,null,null,null,null,null,null,null,null,null,null,null,{"$f":"IF(A38<>\"\",IFERROR(VLOOKUP(M38,Tabelas!B:D,3,0),0),\"\")","v":0},{"$f":"IF(A38<>\"\",IFERROR(VLOOKUP(N38,Tabelas!B:D,3,0),0),\"\")","v":0},{"$f":"IF(A38<>\"\",IFERROR(VLOOKUP(O38,Tabelas!B:D,3,0),0),\"\")","v":0},{"$f":"IF(A38<>\"\",IFERROR(VLOOKUP(P38,Tabelas!B:D,3,0),0),\"\")","v":0},{"$f":"IF(A38<>\"\",IFERROR(VLOOKUP(Q38,Tabelas!B:D,3,0),0),\"\")","v":0},{"$f":"IF(A38<>\"\",IFERROR(VLOOKUP(R38,Tabelas!B:D,3,0),0),\"\")","v":0},{"$f":"IF(A38<>\"\",IFERROR(VLOOKUP(S38,Tabelas!B:D,3,0),0),\"\")","v":0},{"$f":"IF(A38<>\"\",IFERROR(VLOOKUP(T38,Tabelas!B:D,3,0),0),\"\")","v":0},{"$f":"IF(A38<>\"\",IFERROR(VLOOKUP(U38,Tabelas!B:D,3,0),0),\"\")","v":0},{"$f":"IF(A38<>\"\",IFERROR(VLOOKUP(V38,Tabelas!B:D,3,0),0),\"\")","v":0},{"$f":"IF(A38<>\"\",IFERROR(VLOOKUP(W38,Tabelas!B:D,3,0),0),\"\")","v":0},{"$f":"IF(A38<>\"\",IFERROR(VLOOKUP(X38,Tabelas!B:D,3,0),0),\"\")","v":0},{"$f":"IF(A38<>\"\",IFERROR(VLOOKUP(Y38,Tabelas!B:D,3,0),0),\"\")","v":0},{"$f":"IF(A38<>\"\",IFERROR(VLOOKUP(Z38,Tabelas!B:D,3,0),0),\"\")","v":0},{"$f":"IF(A38<>\"\",IFERROR(VLOOKUP(AA38,Tabelas!B:D,3,0),0),\"\")","v":0},{"$f":"IF(A38<>\"\",IFERROR(VLOOKUP(AB38,Tabelas!B:D,3,0),0),\"\")","v":0},{"$f":"IF(A38<>\"\",IFERROR(VLOOKUP(AC38,Tabelas!B:D,3,0),0),\"\")","v":0},{"$f":"IF(A38<>\"\",IFERROR(VLOOKUP(AD38,Tabelas!B:D,3,0),0),\"\")","v":0},{"$f":"IF(A38<>\"\",IFERROR(VLOOKUP(AE38,Tabelas!B:D,3,0),0),\"\")","v":0},{"$f":"IF(A38<>\"\",IFERROR(VLOOKUP(AF38,Tabelas!B:D,3,0),0),\"\")","v":0},{"$f":"IF(A38<>\"\",IFERROR(VLOOKUP(AG38,Tabelas!B:D,3,0),0),\"\")","v":0},{"$f":"IF(A38<>\"\",IFERROR(VLOOKUP(AH38,Tabelas!B:D,3,0),0),\"\")","v":0},{"$f":"IF(A38<>\"\",IFERROR(VLOOKUP(AI38,Tabelas!B:D,3,0),0),\"\")","v":0},{"$f":"IF(A38<>\"\",IFERROR(VLOOKUP(AJ38,Tabelas!B:D,3,0),0),\"\")","v":0},{"$f":"IF(A38<>\"\",IFERROR(VLOOKUP(AK38,Tabelas!B:D,3,0),0),\"\")","v":0},{"$f":"IF(A38<>\"\",IFERROR(VLOOKUP(AL38,Tabelas!B:D,3,0),0),\"\")","v":0},{"$f":"IF(A38<>\"\",IFERROR(VLOOKUP(AM38,Tabelas!B:D,3,0),0),\"\")","v":0},{"$f":"IF(A38<>\"\",IFERROR(VLOOKUP(AN38,Tabelas!B:D,3,0),0),\"\")","v":0},{"$f":"IF(A38<>\"\",IFERROR(VLOOKUP(AO38,Tabelas!B:D,3,0),0),\"\")","v":0},{"$f":"IF(A38<>\"\",IFERROR(VLOOKUP(AP38,Tabelas!B:D,3,0),0),\"\")","v":0},{"$f":"IF(A38<>\"\",IFERROR(VLOOKUP(AQ38,Tabelas!B:D,3,0),0),\"\")","v":0},0,0,0,0,0,0,0,0]
[]
["MÉDICO REFERÊNCIA: "]
["Rafael Lisboa de Souza",2344070,null,"ME","RJU",30,null,null,null,null,null,null,null,null,null,null,null,null,null,null,null,null,null,null,null,null,null,null,null,null,null,null,null,null,null,null,null,null,null,null,null,null,null,{"$f":"IF(A41<>\"\",IFERROR(VLOOKUP(M41,Tabelas!B:D,3,0),0),\"\")","v":0},{"$f":"IF(A41<>\"\",IFERROR(VLOOKUP(N41,Tabelas!B:D,3,0),0),\"\")","v":0},{"$f":"IF(A41<>\"\",IFERROR(VLOOKUP(O41,Tabelas!B:D,3,0),0),\"\")","v":0},{"$f":"IF(A41<>\"\",IFERROR(VLOOKUP(P41,Tabelas!B:D,3,0),0),\"\")","v":0},{"$f":"IF(A41<>\"\",IFERROR(VLOOKUP(Q41,Tabelas!B:D,3,0),0),\"\")","v":0},{"$f":"IF(A41<>\"\",IFERROR(VLOOKUP(R41,Tabelas!B:D,3,0),0),\"\")","v":0},{"$f":"IF(A41<>\"\",IFERROR(VLOOKUP(S41,Tabelas!B:D,3,0),0),\"\")","v":0},{"$f":"IF(A41<>\"\",IFERROR(VLOOKUP(T41,Tabelas!B:D,3,0),0),\"\")","v":0},{"$f":"IF(A41<>\"\",IFERROR(VLOOKUP(U41,Tabelas!B:D,3,0),0),\"\")","v":0},{"$f":"IF(A41<>\"\",IFERROR(VLOOKUP(V41,Tabelas!B:D,3,0),0),\"\")","v":0},{"$f":"IF(A41<>\"\",IFERROR(VLOOKUP(W41,Tabelas!B:D,3,0),0),\"\")","v":0},{"$f":"IF(A41<>\"\",IFERROR(VLOOKUP(X41,Tabelas!B:D,3,0),0),\"\")","v":0},{"$f":"IF(A41<>\"\",IFERROR(VLOOKUP(Y41,Tabelas!B:D,3,0),0),\"\")","v":0},{"$f":"IF(A41<>\"\",IFERROR(VLOOKUP(Z41,Tabelas!B:D,3,0),0),\"\")","v":0},{"$f":"IF(A41<>\"\",IFERROR(VLOOKUP(AA41,Tabelas!B:D,3,0),0),\"\")","v":0},{"$f":"IF(A41<>\"\",IFERROR(VLOOKUP(AB41,Tabelas!B:D,3,0),0),\"\")","v":0},{"$f":"IF(A41<>\"\",IFERROR(VLOOKUP(AC41,Tabelas!B:D,3,0),0),\"\")","v":0},{"$f":"IF(A41<>\"\",IFERROR(VLOOKUP(AD41,Tabelas!B:D,3,0),0),\"\")","v":0},{"$f":"IF(A41<>\"\",IFERROR(VLOOKUP(AE41,Tabelas!B:D,3,0),0),\"\")","v":0},{"$f":"IF(A41<>\"\",IFERROR(VLOOKUP(AF41,Tabelas!B:D,3,0),0),\"\")","v":0},{"$f":"IF(A41<>\"\",IFERROR(VLOOKUP(AG41,Tabelas!B:D,3,0),0),\"\")","v":0},{"$f":"IF(A41<>\"\",IFERROR(VLOOKUP(AH41,Tabelas!B:D,3,0),0),\"\")","v":0},{"$f":"IF(A41<>\"\",IFERROR(VLOOKUP(AI41,Tabelas!B:D,3,0),0),\"\")","v":0},{"$f":"IF(A41<>\"\",IFERROR(VLOOKUP(AJ41,Tabelas!B:D,3,0),0),\"\")","v":0},{"$f":"IF(A41<>\"\",IFERROR(VLOOKUP(AK41,Tabelas!B:D,3,0),0),\"\")","v":0},{"$f":"IF(A41<>\"\",IFERROR(VLOOKUP(AL41,Tabelas!B:D,3,0),0),\"\")","v":0},{"$f":"IF(A41<>\"\",IFERROR(VLOOKUP(AM41,Tabelas!B:D,3,0),0),\"\")","v":0},{"$f":"IF(A41<>\"\",IFERROR(VLOOKUP(AN41,Tabelas!B:D,3,0),0),\"\")","v":0},{"$f":"IF(A41<>\"\",IFERROR(VLOOKUP(AO41,Tabelas!B:D,3,0),0),\"\")","v":0},{"$f":"IF(A41<>\"\",IFERROR(VLOOKUP(AP41,Tabelas!B:D,3,0),0),\"\")","v":0},{"$f":"IF(A41<>\"\",IFERROR(VLOOKUP(AQ41,Tabelas!B:D,3,0),0),\"\")","v":0},{"$f":"IF(AND(A41<>\"\",E41=\"Ebserh\"),SUM(AR41:BV41)+COUNTIF(M41:AQ41,\"N*\")+COUNTIF(M41:AQ41,\"DN*\"),IF(AND(A41<>\"\",E41<>\"Ebserh\"),SUM(AR41:BV41),\"\"))","v":0},{"$f":"IF(A41<>\"\",COUNTIF(M41:AQ41,\"LM\")+COUNTIF(M41:AQ41,\"L\")+COUNTIF(M41:AQ41,\"LP\"),\"\")","v":0},{"$f":"IF(A41<>\"\",COUNTIF(M41:AQ41,\"AB*\"),\"\")","v":0},{"$f":"IF(A41<>\"\",COUNTIF(M41:AQ41,\"FE\"),\"\")","v":0},{"$f":"IF(A41<>\"\",COUNTIF(M41:AQ41,\"LC\"),\"\")","v":0},{"$f":"IF(A41<>\"\",COUNTIF(M41:AQ41,\"CH*\"),\"\")","v":0},{"$f":"IF(A41<>\"\",COUNTIF(M41:AQ41,\"AF1\")+COUNTIF(M41:AQ41,\"AF2\")+COUNTIF(M41:AQ41,\"AF3\")+COUNTIF(M41:AQ41,\"AF4\")+COUNTIF(M41:AQ41,\"AF5\")+COUNTIF(M41:AQ41,\"AF6\")+COUNTIF(M41:AQ41,\"AF7\")+COUNTIF(M41:AQ41,\"AF8\")+COUNTIF(M41:AQ41,\"AF9\")+COUNTIF(M41:AQ41,\"AF10\")+COUNTIF(M41:AQ41,\"AF11\")+COUNTIF(M41:AQ41,\"AF12\")+COUNTIF(M41:AQ41,\"AF13\")+COUNTIF(M41:AQ41,\"AF14\"),\"\")","v":0},{"$f":"IF(A41<>\"\",COUNTIF(M41:AQ41,\"CH*\")+COUNTIF(M41:AQ41,\"L\")+COUNTIF(M41:AQ41,\"LM\")+COUNTIF(M41:AQ41,\"LP\")+COUNTIF(M41:AQ41,\"LC\")+COUNTIF(M41:AQ41,\"AB*\")+COUNTIF(M41:AQ41,\"AF1\")+COUNTIF(M41:AQ41,\"AF2\")+COUNTIF(M41:AQ41,\"AF3\")+COUNTIF(M41:AQ41,\"AF4\")+COUNTIF(M41:AQ41,\"AF5\")+COUNTIF(M41:AQ41,\"AF6\")+COUNTIF(M41:AQ41,\"AF7\")+COUNTIF(M41:AQ41,\"AF8\")+COUNTIF(M41:AQ41,\"AF9\")+COUNTIF(M41:AQ41,\"AF10\")+COUNTIF(M41:AQ41,\"AF11\")+COUNTIF(M41:AQ41,\"AF12\")+COUNTIF(M41:AQ41,\"AF13\")+COUNTIF(M41:AQ41,\"AF14\")+COUNTIF(M41:AQ41,\"RC\")+COUNTIF(M41:AQ41,\"FO\")+COUNTIF(M41:AQ41,\"FE\"),\"\")","v":0}]
[]
[]
["TOTAL PROFISSIONAIS MATUTINO",null,null,null,null,null,null,null,null,null,null,null,{"$f":"IF(COUNTIF(M9:M37,\"M*\")+ COUNTIF(M9:M37, \"D*\")-COUNTIF(M9:M37,\"DSR\")<>0,COUNTIF(M9:M37,\"M*\")+ COUNTIF(M9:M37, \"D*\")-COUNTIF(M9:M37,\"DSR\"),\"\")","v":4},4,4,3,4,3,3,3,4,4,3,4,3,3,4,4,4,4,4,3,3,4,4,4,4,4,3,3,4,4,"",null,null,null,null,null,null,null,null,null,null,null,null,null,null,null,null,null,null,null,null,null,null,null,null,null,null,null,null,null,null,null,{"$f":"SUM(BW9:BW37)","v":2262},0,0,55,0,3,0,58]
["TOTAL DE PROFISSIONAIS VESPERTINO",null,null,null,null,null,null,null,null,null,null,null,{"$f":"IF(COUNTIF(M9:M37,\"MT*\") + COUNTIF(M9:M37, \"D*\") + COUNTIF(M9:M37,\"T*\")-COUNTIF(M9:M37,\"DSR\")<>0,COUNTIF(M9:M37,\"MT*\") + COUNTIF(M9:M37, \"D*\") + COUNTIF(M9:M37,\"T*\")-COUNTIF(M9:M37,\"DSR\"),\"\")","v":4},3,3,3,4,3,3,4,3,4,2,3,3,3,4,3,3,3,3,3,3,4,4,3,4,4,3,3,4,4,"",{"$f":"IF(A45<>\"\",IFERROR(VLOOKUP(M45,Tabelas!B:D,3,0),0),\"\")","v":0},{"$f":"IF(A45<>\"\",IFERROR(VLOOKUP(N45,Tabelas!B:D,3,0),0),\"\")","v":0},{"$f":"IF(A45<>\"\",IFERROR(VLOOKUP(O45,Tabelas!B:D,3,0),0),\"\")","v":0},{"$f":"IF(A45<>\"\",IFERROR(VLOOKUP(P45,Tabelas!B:D,3,0),0),\"\")","v":0},{"$f":"IF(A45<>\"\",IFERROR(VLOOKUP(Q45,Tabelas!B:D,3,0),0),\"\")","v":0},{"$f":"IF(A45<>\"\",IFERROR(VLOOKUP(R45,Tabelas!B:D,3,0),0),\"\")","v":0},{"$f":"IF(A45<>\"\",IFERROR(VLOOKUP(S45,Tabelas!B:D,3,0),0),\"\")","v":0},{"$f":"IF(A45<>\"\",IFERROR(VLOOKUP(T45,Tabelas!B:D,3,0),0),\"\")","v":0},{"$f":"IF(A45<>\"\",IFERROR(VLOOKUP(U45,Tabelas!B:D,3,0),0),\"\")","v":0},{"$f":"IF(A45<>\"\",IFERROR(VLOOKUP(V45,Tabelas!B:D,3,0),0),\"\")","v":0},{"$f":"IF(A45<>\"\",IFERROR(VLOOKUP(W45,Tabelas!B:D,3,0),0),\"\")","v":0},{"$f":"IF(A45<>\"\",IFERROR(VLOOKUP(X45,Tabelas!B:D,3,0),0),\"\")","v":0},{"$f":"IF(A45<>\"\",IFERROR(VLOOKUP(Y45,Tabelas!B:D,3,0),0),\"\")","v":0},{"$f":"IF(A45<>\"\",IFERROR(VLOOKUP(Z45,Tabelas!B:D,3,0),0),\"\")","v":0},{"$f":"IF(A45<>\"\",IFERROR(VLOOKUP(AA45,Tabelas!B:D,3,0),0),\"\")","v":0},{"$f":"IF(A45<>\"\",IFERROR(VLOOKUP(AB45,Tabelas!B:D,3,0),0),\"\")","v":0},{"$f":"IF(A45<>\"\",IFERROR(VLOOKUP(AC45,Tabelas!B:D,3,0),0),\"\")","v":0},{"$f":"IF(A45<>\"\",IFERROR(VLOOKUP(AD45,Tabelas!B:D,3,0),0),\"\")","v":0},{"$f":"IF(A45<>\"\",IFERROR(VLOOKUP(AE45,Tabelas!B:D,3,0),0),\"\")","v":0},{"$f":"IF(A45<>\"\",IFERROR(VLOOKUP(AF45,Tabelas!B:D,3,0),0),\"\")","v":0},{"$f":"IF(A45<>\"\",IFERROR(VLOOKUP(AG45,Tabelas!B:D,3,0),0),\"\")","v":0},{"$f":"IF(A45<>\"\",IFERROR(VLOOKUP(AH45,Tabelas!B:D,3,0),0),\"\")","v":0},{"$f":"IF(A45<>\"\",IFERROR(VLOOKUP(AI45,Tabelas!B:D,3,0),0),\"\")","v":0},{"$f":"IF(A45<>\"\",IFERROR(VLOOKUP(AJ45,Tabelas!B:D,3,0),0),\"\")","v":0},{"$f":"IF(A45<>\"\",IFERROR(VLOOKUP(AK45,Tabelas!B:D,3,0),0),\"\")","v":0},{"$f":"IF(A45<>\"\",IFERROR(VLOOKUP(AL45,Tabelas!B:D,3,0),0),\"\")","v":0},{"$f":"IF(A45<>\"\",IFERROR(VLOOKUP(AM45,Tabelas!B:D,3,0),0),\"\")","v":0},{"$f":"IF(A45<>\"\",IFERROR(VLOOKUP(AN45,Tabelas!B:D,3,0),0),\"\")","v":0},{"$f":"IF(A45<>\"\",IFERROR(VLOOKUP(AO45,Tabelas!B:D,3,0),0),\"\")","v":0},{"$f":"IF(A45<>\"\",IFERROR(VLOOKUP(AP45,Tabelas!B:D,3,0),0),\"\")","v":0},{"$f":"IF(A45<>\"\",IFERROR(VLOOKUP(AQ45,Tabelas!B:D,3,0),0),\"\")","v":0}]
["TOTAL DE PROFISSIONAIS NOTURNO",null,null,null,null,null,null,null,null,null,null,null,{"$f":"IF(COUNTIF(M9:M45,\"N?*\") + COUNTIF(M9:M45, \"DN*\")<>0,COUNTIF(M9:M45,\"N?*\") + COUNTIF(M9:M45, \"DN*\"),\"\")","v":3},3,3,3,3,2,2,3,3,3,2,2,2,2,3,3,3,3,3,2,2,3,3,3,3,3,2,3,3,3,"",{"$f":"IF(A46<>\"\",IFERROR(VLOOKUP(M46,Tabelas!B:D,3,0),0),\"\")","v":0},{"$f":"IF(A46<>\"\",IFERROR(VLOOKUP(N46,Tabelas!B:D,3,0),0),\"\")","v":0},{"$f":"IF(A46<>\"\",IFERROR(VLOOKUP(O46,Tabelas!B:D,3,0),0),\"\")","v":0},{"$f":"IF(A46<>\"\",IFERROR(VLOOKUP(P46,Tabelas!B:D,3,0),0),\"\")","v":0},{"$f":"IF(A46<>\"\",IFERROR(VLOOKUP(Q46,Tabelas!B:D,3,0),0),\"\")","v":0},{"$f":"IF(A46<>\"\",IFERROR(VLOOKUP(R46,Tabelas!B:D,3,0),0),\"\")","v":0},{"$f":"IF(A46<>\"\",IFERROR(VLOOKUP(S46,Tabelas!B:D,3,0),0),\"\")","v":0},{"$f":"IF(A46<>\"\",IFERROR(VLOOKUP(T46,Tabelas!B:D,3,0),0),\"\")","v":0},{"$f":"IF(A46<>\"\",IFERROR(VLOOKUP(U46,Tabelas!B:D,3,0),0),\"\")","v":0},{"$f":"IF(A46<>\"\",IFERROR(VLOOKUP(V46,Tabelas!B:D,3,0),0),\"\")","v":0},{"$f":"IF(A46<>\"\",IFERROR(VLOOKUP(W46,Tabelas!B:D,3,0),0),\"\")","v":0},{"$f":"IF(A46<>\"\",IFERROR(VLOOKUP(X46,Tabelas!B:D,3,0),0),\"\")","v":0},{"$f":"IF(A46<>\"\",IFERROR(VLOOKUP(Y46,Tabelas!B:D,3,0),0),\"\")","v":0},{"$f":"IF(A46<>\"\",IFERROR(VLOOKUP(Z46,Tabelas!B:D,3,0),0),\"\")","v":0},{"$f":"IF(A46<>\"\",IFERROR(VLOOKUP(AA46,Tabelas!B:D,3,0),0),\"\")","v":0},{"$f":"IF(A46<>\"\",IFERROR(VLOOKUP(AB46,Tabelas!B:D,3,0),0),\"\")","v":0},{"$f":"IF(A46<>\"\",IFERROR(VLOOKUP(AC46,Tabelas!B:D,3,0),0),\"\")","v":0},{"$f":"IF(A46<>\"\",IFERROR(VLOOKUP(AD46,Tabelas!B:D,3,0),0),\"\")","v":0},{"$f":"IF(A46<>\"\",IFERROR(VLOOKUP(AE46,Tabelas!B:D,3,0),0),\"\")","v":0},{"$f":"IF(A46<>\"\",IFERROR(VLOOKUP(AF46,Tabelas!B:D,3,0),0),\"\")","v":0},{"$f":"IF(A46<>\"\",IFERROR(VLOOKUP(AG46,Tabelas!B:D,3,0),0),\"\")","v":0},{"$f":"IF(A46<>\"\",IFERROR(VLOOKUP(AH46,Tabelas!B:D,3,0),0),\"\")","v":0},{"$f":"IF(A46<>\"\",IFERROR(VLOOKUP(AI46,Tabelas!B:D,3,0),0),\"\")","v":0},{"$f":"IF(A46<>\"\",IFERROR(VLOOKUP(AJ46,Tabelas!B:D,3,0),0),\"\")","v":0},{"$f":"IF(A46<>\"\",IFERROR(VLOOKUP(AK46,Tabelas!B:D,3,0),0),\"\")","v":0},{"$f":"IF(A46<>\"\",IFERROR(VLOOKUP(AL46,Tabelas!B:D,3,0),0),\"\")","v":0},{"$f":"IF(A46<>\"\",IFERROR(VLOOKUP(AM46,Tabelas!B:D,3,0),0),\"\")","v":0},{"$f":"IF(A46<>\"\",IFERROR(VLOOKUP(AN46,Tabelas!B:D,3,0),0),\"\")","v":0},{"$f":"IF(A46<>\"\",IFERROR(VLOOKUP(AO46,Tabelas!B:D,3,0),0),\"\")","v":0},{"$f":"IF(A46<>\"\",IFERROR(VLOOKUP(AP46,Tabelas!B:D,3,0),0),\"\")","v":0},{"$f":"IF(A46<>\"\",IFERROR(VLOOKUP(AQ46,Tabelas!B:D,3,0),0),\"\")","v":0}]
[null,null,null,null,null,null,null,null,null,null,null,null,null,null,null,null,null,null,null,null,null,null,null,null,null,null,null,null,null,null,null,null,null,null,null,null,null,null,null,null,null,null,null,{"$f":"IF(A47<>\"\",IFERROR(VLOOKUP(M47,Tabelas!B:D,3,0),0),\"\")","v":""},{"$f":"IF(A47<>\"\",IFERROR(VLOOKUP(N47,Tabelas!B:D,3,0),0),\"\")","v":""},{"$f":"IF(A47<>\"\",IFERROR(VLOOKUP(O47,Tabelas!B:D,3,0),0),\"\")","v":""},{"$f":"IF(A47<>\"\",IFERROR(VLOOKUP(P47,Tabelas!B:D,3,0),0),\"\")","v":""},{"$f":"IF(A47<>\"\",IFERROR(VLOOKUP(Q47,Tabelas!B:D,3,0),0),\"\")","v":""},{"$f":"IF(A47<>\"\",IFERROR(VLOOKUP(R47,Tabelas!B:D,3,0),0),\"\")","v":""},{"$f":"IF(A47<>\"\",IFERROR(VLOOKUP(S47,Tabelas!B:D,3,0),0),\"\")","v":""},{"$f":"IF(A47<>\"\",IFERROR(VLOOKUP(T47,Tabelas!B:D,3,0),0),\"\")","v":""},{"$f":"IF(A47<>\"\",IFERROR(VLOOKUP(U47,Tabelas!B:D,3,0),0),\"\")","v":""},{"$f":"IF(A47<>\"\",IFERROR(VLOOKUP(V47,Tabelas!B:D,3,0),0),\"\")","v":""},{"$f":"IF(A47<>\"\",IFERROR(VLOOKUP(W47,Tabelas!B:D,3,0),0),\"\")","v":""},{"$f":"IF(A47<>\"\",IFERROR(VLOOKUP(X47,Tabelas!B:D,3,0),0),\"\")","v":""},{"$f":"IF(A47<>\"\",IFERROR(VLOOKUP(Y47,Tabelas!B:D,3,0),0),\"\")","v":""},{"$f":"IF(A47<>\"\",IFERROR(VLOOKUP(Z47,Tabelas!B:D,3,0),0),\"\")","v":""},{"$f":"IF(A47<>\"\",IFERROR(VLOOKUP(AA47,Tabelas!B:D,3,0),0),\"\")","v":""},{"$f":"IF(A47<>\"\",IFERROR(VLOOKUP(AB47,Tabelas!B:D,3,0),0),\"\")","v":""},{"$f":"IF(A47<>\"\",IFERROR(VLOOKUP(AC47,Tabelas!B:D,3,0),0),\"\")","v":""},{"$f":"IF(A47<>\"\",IFERROR(VLOOKUP(AD47,Tabelas!B:D,3,0),0),\"\")","v":""},{"$f":"IF(A47<>\"\",IFERROR(VLOOKUP(AE47,Tabelas!B:D,3,0),0),\"\")","v":""},{"$f":"IF(A47<>\"\",IFERROR(VLOOKUP(AF47,Tabelas!B:D,3,0),0),\"\")","v":""},{"$f":"IF(A47<>\"\",IFERROR(VLOOKUP(AG47,Tabelas!B:D,3,0),0),\"\")","v":""},{"$f":"IF(A47<>\"\",IFERROR(VLOOKUP(AH47,Tabelas!B:D,3,0),0),\"\")","v":""},{"$f":"IF(A47<>\"\",IFERROR(VLOOKUP(AI47,Tabelas!B:D,3,0),0),\"\")","v":""},{"$f":"IF(A47<>\"\",IFERROR(VLOOKUP(AJ47,Tabelas!B:D,3,0),0),\"\")","v":""},{"$f":"IF(A47<>\"\",IFERROR(VLOOKUP(AK47,Tabelas!B:D,3,0),0),\"\")","v":""},{"$f":"IF(A47<>\"\",IFERROR(VLOOKUP(AL47,Tabelas!B:D,3,0),0),\"\")","v":""},{"$f":"IF(A47<>\"\",IFERROR(VLOOKUP(AM47,Tabelas!B:D,3,0),0),\"\")","v":""},{"$f":"IF(A47<>\"\",IFERROR(VLOOKUP(AN47,Tabelas!B:D,3,0),0),\"\")","v":""},{"$f":"IF(A47<>\"\",IFERROR(VLOOKUP(AO47,Tabelas!B:D,3,0),0),\"\")","v":""},{"$f":"IF(A47<>\"\",IFERROR(VLOOKUP(AP47,Tabelas!B:D,3,0),0),\"\")","v":""},{"$f":"IF(A47<>\"\",IFERROR(VLOOKUP(AQ47,Tabelas!B:D,3,0),0),\"\")","v":""}]
["Legenda:"]
["Licença Maternidade","LM","Férias",null,null,null,null,null,null,"FE",null,"Ponto Facultativo",null,null,null,null,null,null,null,"PF","Manhã *",null,null,null,null,null,null,"M","Diurno (8 hrs) *",null,null,null,null,null,null,"MT"]
["Licença Paternidade","LP","Feriado",null,null,null,null,null,null,"FD",null,"Abono **",null,null,null,null,null,null,null,"AB","Tarde *",null,null,null,null,null,null,"T","Dia/ noite (24 hrs) *",null,null,null,null,null,null,"DN"]
["Licença Médica/Odontológica","L","Descanso Semanal Remunerado",null,null,null,null,null,null,"DSR",null,"Compensação de Horas***",null,null,null,null,null,null,null,"CH","Plantão Dia (12 hrs) *",null,null,null,null,null,null,"D"]
["Licença Capacitação","LC","Recesso",null,null,null,null,null,null,"RC",null,"Afastamento**",null,null,null,null,null,null,null,"AF","Plantão Noite (12 hrs) *",null,null,null,null,null,null,"N"]
[]
["OBSERVAÇÕES:"]
["* Para inserção das legendas referentes às jornadas de trabalho, verificar a Tabela 1 do Anexo do Memorando-Circular - SEI nº   25 /2018/CAP/DGP-EBSERH."]
["** Para inserção das legendas referentes aos Afastamentos previstos em lei e às Compensações de horas, verificar a Tabela 2 do Anexo do Memorando-Circular - SEI nº   25 /2018/CAP/DGP-EBSERH."]

{"sheet":"Julho","index":6,"n_rows":58,"n_cols":82,"rows_kept":58,"cut":false,"hidden":false,"merged":[[50,20,50,26],[51,2,51,8],[51,9,51,10],[51,11,51,18],[51,20,51,26],[50,2,50,8],[50,9,50,10],[52,20,52,26],[53,2,53,8],[53,9,53,10],[53,11,53,18],[53,20,53,26],[45,0,45,11],[46,0,46,11],[47,0,47,11],[52,2,52,8],[52,9,52,10],[52,11,52,18],[50,11,50,18],[1,0,1,42],[2,0,2,42],[3,0,3,42],[4,1,4,20],[4,23,4,34],[4,37,4,42],[5,6,5,11],[6,76,7,76],[6,77,7,77],[6,78,7,78],[6,79,7,79],[6,6,7,6],[6,7,7,7],[6,8,7,8],[6,11,7,11],[6,9,7,9],[6,10,7,10],[6,80,7,80],[6,81,7,81],[5,12,5,42],[5,43,5,73],[5,75,5,81],[5,74,7,74],[6,75,7,75],[45,79,47,79],[45,80,47,80],[45,81,47,81],[50,28,50,34],[51,28,51,34],[45,74,47,74],[45,75,47,75],[45,76,47,76],[45,77,47,77],[45,78,47,78]]}
[]
[]
["HOSPITAL UNIVERSITÁRIO PROFESSOR POLYDORO ERNANI DE SÃO THIAGO"]
["ESCALA MENSAL DE TRABALHO"]
["DIVISÃO /SETOR/UNIDADE:",null,null,null,null,null,null,null,null,null,null,null,null,null,null,null,null,null,null,null,null,"MÊS:",null,"Julho",null,null,null,null,null,null,null,null,null,null,null,"ANO:",null,2020]
["NOME COMPLETO","SIAPE","     Registro Conselho Classe","Cargo","Vínculo","    C.H Sem","INTERVALO",null,null,null,null,null,"DIAS DO MÊS",null,null,null,null,null,null,null,null,null,null,null,null,null,null,null,null,null,null,null,null,null,null,null,null,null,null,null,null,null,null,"CÁLCULO DAS HORAS",null,null,null,null,null,null,null,null,null,null,null,null,null,null,null,null,null,null,null,null,null,null,null,null,null,null,null,null,null,null,"CH Men.","Dias"]
[null,null,null,null,null,null,"15' M","15' T","15' N","1H D","1H N","2H",1,2,3,4,5,6,7,8,9,10,11,12,13,14,15,16,17,18,19,20,21,22,23,24,25,{"$f":"IF(DAY(DATE(AL5,VLOOKUP(X5,Tabelas!M:N,2,0)+1,1)-1)>=26,26,\"\")","v":26},{"$f":"IF(DAY(DATE(AL5,VLOOKUP(X5,Tabelas!M:N,2,0)+1,1)-1)>=27,27,\"\")","v":27},{"$f":"IF(DAY(DATE(AL5,VLOOKUP(X5,Tabelas!M:N,2,0)+1,1)-1)>=28,28,\"\")","v":28},{"$f":"IF(DAY(DATE(AL5,VLOOKUP(X5,Tabelas!M:N,2,0)+1,1)-1)>=29,29,\"\")","v":29},{"$f":"IF(DAY(DATE(AL5,VLOOKUP(X5,Tabelas!M:N,2,0)+1,1)-1)>=30,30,\"\")","v":30},{"$f":"IF(DAY(DATE(AL5,VLOOKUP(X5,Tabelas!M:N,2,0)+1,1)-1)>=31,31,\"\")","v":31},null,null,null,null,null,null,null,null,null,null,null,null,null,null,null,null,null,null,null,null,null,null,null,null,null,null,null,null,null,null,null,null,"LM/LP/L","AB","FE","LC","CH","AF  "," Total Afast."]
[null,null,null,null,null,null,null,null,null,null,null,null,{"$f":"IF(M7<>\"\",IFERROR(VLOOKUP(WEEKDAY(CONCATENATE(M7,$X$5,$AL$5)),Tabelas!$I:$J,2,0),\"\"),\"\")","v":"QUA"},{"$f":"IF(N7<>\"\",IFERROR(VLOOKUP(WEEKDAY(CONCATENATE(N7,$X$5,$AL$5)),Tabelas!$I:$J,2,0),\"\"),\"\")","v":"QUI"},{"$f":"IF(O7<>\"\",IFERROR(VLOOKUP(WEEKDAY(CONCATENATE(O7,$X$5,$AL$5)),Tabelas!$I:$J,2,0),\"\"),\"\")","v":"SEX"},{"$f":"IF(P7<>\"\",IFERROR(VLOOKUP(WEEKDAY(CONCATENATE(P7,$X$5,$AL$5)),Tabelas!$I:$J,2,0),\"\"),\"\")","v":"SAB"},{"$f":"IF(Q7<>\"\",IFERROR(VLOOKUP(WEEKDAY(CONCATENATE(Q7,$X$5,$AL$5)),Tabelas!$I:$J,2,0),\"\"),\"\")","v":"DOM"},{"$f":"IF(R7<>\"\",IFERROR(VLOOKUP(WEEKDAY(CONCATENATE(R7,$X$5,$AL$5)),Tabelas!$I:$J,2,0),\"\"),\"\")","v":"SEG"},{"$f":"IF(S7<>\"\",IFERROR(VLOOKUP(WEEKDAY(CONCATENATE(S7,$X$5,$AL$5)),Tabelas!$I:$J,2,0),\"\"),\"\")","v":"TER"},{"$f":"IF(T7<>\"\",IFERROR(VLOOKUP(WEEKDAY(CONCATENATE(T7,$X$5,$AL$5)),Tabelas!$I:$J,2,0),\"\"),\"\")","v":"QUA"},{"$f":"IF(U7<>\"\",IFERROR(VLOOKUP(WEEKDAY(CONCATENATE(U7,$X$5,$AL$5)),Tabelas!$I:$J,2,0),\"\"),\"\")","v":"QUI"},{"$f":"IF(V7<>\"\",IFERROR(VLOOKUP(WEEKDAY(CONCATENATE(V7,$X$5,$AL$5)),Tabelas!$I:$J,2,0),\"\"),\"\")","v":"SEX"},{"$f":"IF(W7<>\"\",IFERROR(VLOOKUP(WEEKDAY(CONCATENATE(W7,$X$5,$AL$5)),Tabelas!$I:$J,2,0),\"\"),\"\")","v":"SAB"},{"$f":"IF(X7<>\"\",IFERROR(VLOOKUP(WEEKDAY(CONCATENATE(X7,$X$5,$AL$5)),Tabelas!$I:$J,2,0),\"\"),\"\")","v":"DOM"},{"$f":"IF(Y7<>\"\",IFERROR(VLOOKUP(WEEKDAY(CONCATENATE(Y7,$X$5,$AL$5)),Tabelas!$I:$J,2,0),\"\"),\"\")","v":"SEG"},{"$f":"IF(Z7<>\"\",IFERROR(VLOOKUP(WEEKDAY(CONCATENATE(Z7,$X$5,$AL$5)),Tabelas!$I:$J,2,0),\"\"),\"\")","v":"TER"},{"$f":"IF(AA7<>\"\",IFERROR(VLOOKUP(WEEKDAY(CONCATENATE(AA7,$X$5,$AL$5)),Tabelas!$I:$J,2,0),\"\"),\"\")","v":"QUA"},{"$f":"IF(AB7<>\"\",IFERROR(VLOOKUP(WEEKDAY(CONCATENATE(AB7,$X$5,$AL$5)),Tabelas!$I:$J,2,0),\"\"),\"\")","v":"QUI"},{"$f":"IF(AC7<>\"\",IFERROR(VLOOKUP(WEEKDAY(CONCATENATE(AC7,$X$5,$AL$5)),Tabelas!$I:$J,2,0),\"\"),\"\")","v":"SEX"},{"$f":"IF(AD7<>\"\",IFERROR(VLOOKUP(WEEKDAY(CONCATENATE(AD7,$X$5,$AL$5)),Tabelas!$I:$J,2,0),\"\"),\"\")","v":"SAB"},{"$f":"IF(AE7<>\"\",IFERROR(VLOOKUP(WEEKDAY(CONCATENATE(AE7,$X$5,$AL$5)),Tabelas!$I:$J,2,0),\"\"),\"\")","v":"DOM"},{"$f":"IF(AF7<>\"\",IFERROR(VLOOKUP(WEEKDAY(CONCATENATE(AF7,$X$5,$AL$5)),Tabelas!$I:$J,2,0),\"\"),\"\")","v":"SEG"},{"$f":"IF(AG7<>\"\",IFERROR(VLOOKUP(WEEKDAY(CONCATENATE(AG7,$X$5,$AL$5)),Tabelas!$I:$J,2,0),\"\"),\"\")","v":"TER"},{"$f":"IF(AH7<>\"\",IFERROR(VLOOKUP(WEEKDAY(CONCATENATE(AH7,$X$5,$AL$5)),Tabelas!$I:$J,2,0),\"\"),\"\")","v":"QUA"},{"$f":"IF(AI7<>\"\",IFERROR(VLOOKUP(WEEKDAY(CONCATENATE(AI7,$X$5,$AL$5)),Tabelas!$I:$J,2,0),\"\"),\"\")","v":"QUI"},{"$f":"IF(AJ7<>\"\",IFERROR(VLOOKUP(WEEKDAY(CONCATENATE(AJ7,$X$5,$AL$5)),Tabelas!$I:$J,2,0),\"\"),\"\")","v":"SEX"},{"$f":"IF(AK7<>\"\",IFERROR(VLOOKUP(WEEKDAY(CONCATENATE(AK7,$X$5,$AL$5)),Tabelas!$I:$J,2,0),\"\"),\"\")","v":"SAB"},{"$f":"IF(AL7<>\"\",IFERROR(VLOOKUP(WEEKDAY(CONCATENATE(AL7,$X$5,$AL$5)),Tabelas!$I:$J,2,0),\"\"),\"\")","v":"DOM"},{"$f":"IF(AM7<>\"\",IFERROR(VLOOKUP(WEEKDAY(CONCATENATE(AM7,$X$5,$AL$5)),Tabelas!$I:$J,2,0),\"\"),\"\")","v":"SEG"},{"$f":"IF(AN7<>\"\",IFERROR(VLOOKUP(WEEKDAY(CONCATENATE(AN7,$X$5,$AL$5)),Tabelas!$I:$J,2,0),\"\"),\"\")","v":"TER"},{"$f":"IF(AO7<>\"\",IFERROR(VLOOKUP(WEEKDAY(CONCATENATE(AO7,$X$5,$AL$5)),Tabelas!$I:$J,2,0),\"\"),\"\")","v":"QUA"},{"$f":"IF(AP7<>\"\",IFERROR(VLOOKUP(WEEKDAY(CONCATENATE(AP7,$X$5,$AL$5)),Tabelas!$I:$J,2,0),\"\"),\"\")","v":"QUI"},{"$f":"IF(AQ7<>\"\",IFERROR(VLOOKUP(WEEKDAY(CONCATENATE(AQ7,$X$5,$AL$5)),Tabelas!$I:$J,2,0),\"\"),\"\")","v":"SEX"},1,2,3,4,5,6,7,8,9,10,11,12,13,14,15,16,17,18,19,20,21,22,23,24,25,26,27,28,29,30,31]
["ROTINA",null,null,null,null,null,null,null,null,null,null,null,null,null,null,null,null,null,null,null,null,null,null,null,null,null,null,null,null,null,null,null,null,null,null,null,null,null,null,null,null,null,null,{"$f":"IF(A9<>\"\",IFERROR(VLOOKUP(M9,Tabelas!B:D,3,0),0),\"\")","v":0},{"$f":"IF(A9<>\"\",IFERROR(VLOOKUP(N9,Tabelas!B:D,3,0),0),\"\")","v":0},{"$f":"IF(A9<>\"\",IFERROR(VLOOKUP(O9,Tabelas!B:D,3,0),0),\"\")","v":0},{"$f":"IF(A9<>\"\",IFERROR(VLOOKUP(P9,Tabelas!B:D,3,0),0),\"\")","v":0},{"$f":"IF(A9<>\"\",IFERROR(VLOOKUP(Q9,Tabelas!B:D,3,0),0),\"\")","v":0},{"$f":"IF(A9<>\"\",IFERROR(VLOOKUP(R9,Tabelas!B:D,3,0),0),\"\")","v":0},{"$f":"IF(A9<>\"\",IFERROR(VLOOKUP(S9,Tabelas!B:D,3,0),0),\"\")","v":0},{"$f":"IF(A9<>\"\",IFERROR(VLOOKUP(T9,Tabelas!B:D,3,0),0),\"\")","v":0},{"$f":"IF(A9<>\"\",IFERROR(VLOOKUP(U9,Tabelas!B:D,3,0),0),\"\")","v":0},{"$f":"IF(A9<>\"\",IFERROR(VLOOKUP(V9,Tabelas!B:D,3,0),0),\"\")","v":0},{"$f":"IF(A9<>\"\",IFERROR(VLOOKUP(W9,Tabelas!B:D,3,0),0),\"\")","v":0},{"$f":"IF(A9<>\"\",IFERROR(VLOOKUP(X9,Tabelas!B:D,3,0),0),\"\")","v":0},{"$f":"IF(A9<>\"\",IFERROR(VLOOKUP(Y9,Tabelas!B:D,3,0),0),\"\")","v":0},{"$f":"IF(A9<>\"\",IFERROR(VLOOKUP(Z9,Tabelas!B:D,3,0),0),\"\")","v":0},{"$f":"IF(A9<>\"\",IFERROR(VLOOKUP(AA9,Tabelas!B:D,3,0),0),\"\")","v":0},{"$f":"IF(A9<>\"\",IFERROR(VLOOKUP(AB9,Tabelas!B:D,3,0),0),\"\")","v":0},{"$f":"IF(A9<>\"\",IFERROR(VLOOKUP(AC9,Tabelas!B:D,3,0),0),\"\")","v":0},{"$f":"IF(A9<>\"\",IFERROR(VLOOKUP(AD9,Tabelas!B:D,3,0),0),\"\")","v":0},{"$f":"IF(A9<>\"\",IFERROR(VLOOKUP(AE9,Tabelas!B:D,3,0),0),\"\")","v":0},{"$f":"IF(A9<>\"\",IFERROR(VLOOKUP(AF9,Tabelas!B:D,3,0),0),\"\")","v":0},{"$f":"IF(A9<>\"\",IFERROR(VLOOKUP(AG9,Tabelas!B:D,3,0),0),\"\")","v":0},{"$f":"IF(A9<>\"\",IFERROR(VLOOKUP(AH9,Tabelas!B:D,3,0),0),\"\")","v":0},{"$f":"IF(A9<>\"\",IFERROR(VLOOKUP(AI9,Tabelas!B:D,3,0),0),\"\")","v":0},{"$f":"IF(A9<>\"\",IFERROR(VLOOKUP(AJ9,Tabelas!B:D,3,0),0),\"\")","v":0},{"$f":"IF(A9<>\"\",IFERROR(VLOOKUP(AK9,Tabelas!B:D,3,0),0),\"\")","v":0},{"$f":"IF(A9<>\"\",IFERROR(VLOOKUP(AL9,Tabelas!B:D,3,0),0),\"\")","v":0},{"$f":"IF(A9<>\"\",IFERROR(VLOOKUP(AM9,Tabelas!B:D,3,0),0),\"\")","v":0},{"$f":"IF(A9<>\"\",IFERROR(VLOOKUP(AN9,Tabelas!B:D,3,0),0),\"\")","v":0},{"$f":"IF(A9<>\"\",IFERROR(VLOOKUP(AO9,Tabelas!B:D,3,0),0),\"\")","v":0},{"$f":"IF(A9<>\"\",IFERROR(VLOOKUP(AP9,Tabelas!B:D,3,0),0),\"\")","v":0},{"$f":"IF(A9<>\"\",IFERROR(VLOOKUP(AQ9,Tabelas!B:D,3,0),0),\"\")","v":0},{"$f":"IF(AND(A9<>\"\",E9=\"Ebserh\"),SUM(AR9:BV9)+COUNTIF(M9:AQ9,\"N*\")+COUNTIF(M9:AQ9,\"DN*\"),IF(AND(A9<>\"\",E9<>\"Ebserh\"),SUM(AR9:BV9),\"\"))","v":0},{"$f":"IF(A9<>\"\",COUNTIF(M9:AQ9,\"LM\")+COUNTIF(M9:AQ9,\"L\")+COUNTIF(M9:AQ9,\"LP\"),\"\")","v":0},{"$f":"IF(A9<>\"\",COUNTIF(M9:AQ9,\"AB*\"),\"\")","v":0},{"$f":"IF(A9<>\"\",COUNTIF(M9:AQ9,\"FE\"),\"\")","v":0},{"$f":"IF(A9<>\"\",COUNTIF(M9:AQ9,\"LC\"),\"\")","v":0},{"$f":"IF(A9<>\"\",COUNTIF(M9:AQ9,\"CH*\"),\"\")","v":0},{"$f":"IF(A9<>\"\",COUNTIF(M9:AQ9,\"AF1\")+COUNTIF(M9:AQ9,\"AF2\")+COUNTIF(M9:AQ9,\"AF3\")+COUNTIF(M9:AQ9,\"AF4\")+COUNTIF(M9:AQ9,\"AF5\")+COUNTIF(M9:AQ9,\"AF6\")+COUNTIF(M9:AQ9,\"AF7\")+COUNTIF(M9:AQ9,\"AF8\")+COUNTIF(M9:AQ9,\"AF9\")+COUNTIF(M9:AQ9,\"AF10\")+COUNTIF(M9:AQ9,\"AF11\")+COUNTIF(M9:AQ9,\"AF12\")+COUNTIF(M9:AQ9,\"AF13\")+COUNTIF(M9:AQ9,\"AF14\"),\"\")","v":0},{"$f":"IF(A9<>\"\",COUNTIF(M9:AQ9,\"CH*\")+COUNTIF(M9:AQ9,\"L\")+COUNTIF(M9:AQ9,\"LM\")+COUNTIF(M9:AQ9,\"LP\")+COUNTIF(M9:AQ9,\"LC\")+COUNTIF(M9:AQ9,\"AB*\")+COUNTIF(M9:AQ9,\"AF1\")+COUNTIF(M9:AQ9,\"AF2\")+COUNTIF(M9:AQ9,\"AF3\")+COUNTIF(M9:AQ9,\"AF4\")+COUNTIF(M9:AQ9,\"AF5\")+COUNTIF(M9:AQ9,\"AF6\")+COUNTIF(M9:AQ9,\"AF7\")+COUNTIF(M9:AQ9,\"AF8\")+COUNTIF(M9:AQ9,\"AF9\")+COUNTIF(M9:AQ9,\"AF10\")+COUNTIF(M9:AQ9,\"AF11\")+COUNTIF(M9:AQ9,\"AF12\")+COUNTIF(M9:AQ9,\"AF13\")+COUNTIF(M9:AQ9,\"AF14\")+COUNTIF(M9:AQ9,\"RC\")+COUNTIF(M9:AQ9,\"FO\")+COUNTIF(M9:AQ9,\"FE\"),\"\")","v":0}]
["Alexandre Luciano Klein",2312539,null,"ME","RJU",30,null,null,null,null,null,null,"M17","M17","M17",null,null,"M17","M17","M17","M17","M17",null,null,"M17","M17","M17","M17","M17",null,null,"M17","M17","M17","M17","M17",null,null,"M17","M17","M17","M17","M17",{"$f":"IF(A10<>\"\",IFERROR(VLOOKUP(M10,Tabelas!B:D,3,0),0),\"\")","v":6},{"$f":"IF(A10<>\"\",IFERROR(VLOOKUP(N10,Tabelas!B:D,3,0),0),\"\")","v":6},{"$f":"IF(A10<>\"\",IFERROR(VLOOKUP(O10,Tabelas!B:D,3,0),0),\"\")","v":6},{"$f":"IF(A10<>\"\",IFERROR(VLOOKUP(P10,Tabelas!B:D,3,0),0),\"\")","v":0},{"$f":"IF(A10<>\"\",IFERROR(VLOOKUP(Q10,Tabelas!B:D,3,0),0),\"\")","v":0},{"$f":"IF(A10<>\"\",IFERROR(VLOOKUP(R10,Tabelas!B:D,3,0),0),\"\")","v":6},{"$f":"IF(A10<>\"\",IFERROR(VLOOKUP(S10,Tabelas!B:D,3,0),0),\"\")","v":6},{"$f":"IF(A10<>\"\",IFERROR(VLOOKUP(T10,Tabelas!B:D,3,0),0),\"\")","v":6},{"$f":"IF(A10<>\"\",IFERROR(VLOOKUP(U10,Tabelas!B:D,3,0),0),\"\")","v":6},{"$f":"IF(A10<>\"\",IFERROR(VLOOKUP(V10,Tabelas!B:D,3,0),0),\"\")","v":6},{"$f":"IF(A10<>\"\",IFERROR(VLOOKUP(W10,Tabelas!B:D,3,0),0),\"\")","v":0},{"$f":"IF(A10<>\"\",IFERROR(VLOOKUP(X10,Tabelas!B:D,3,0),0),\"\")","v":0},{"$f":"IF(A10<>\"\",IFERROR(VLOOKUP(Y10,Tabelas!B:D,3,0),0),\"\")","v":6},{"$f":"IF(A10<>\"\",IFERROR(VLOOKUP(Z10,Tabelas!B:D,3,0),0),\"\")","v":6},{"$f":"IF(A10<>\"\",IFERROR(VLOOKUP(AA10,Tabelas!B:D,3,0),0),\"\")","v":6},{"$f":"IF(A10<>\"\",IFERROR(VLOOKUP(AB10,Tabelas!B:D,3,0),0),\"\")","v":6},{"$f":"IF(A10<>\"\",IFERROR(VLOOKUP(AC10,Tabelas!B:D,3,0),0),\"\")","v":6},{"$f":"IF(A10<>\"\",IFERROR(VLOOKUP(AD10,Tabelas!B:D,3,0),0),\"\")","v":0},{"$f":"IF(A10<>\"\",IFERROR(VLOOKUP(AE10,Tabelas!B:D,3,0),0),\"\")","v":0},{"$f":"IF(A10<>\"\",IFERROR(VLOOKUP(AF10,Tabelas!B:D,3,0),0),\"\")","v":6},{"$f":"IF(A10<>\"\",IFERROR(VLOOKUP(AG10,Tabelas!B:D,3,0),0),\"\")","v":6},{"$f":"IF(A10<>\"\",IFERROR(VLOOKUP(AH10,Tabelas!B:D,3,0),0),\"\")","v":6},{"$f":"IF(A10<>\"\",IFERROR(VLOOKUP(AI10,Tabelas!B:D,3,0),0),\"\")","v":6},{"$f":"IF(A10<>\"\",IFERROR(VLOOKUP(AJ10,Tabelas!B:D,3,0),0),\"\")","v":6},{"$f":"IF(A10<>\"\",IFERROR(VLOOKUP(AK10,Tabelas!B:D,3,0),0),\"\")","v":0},{"$f":"IF(A10<>\"\",IFERROR(VLOOKUP(AL10,Tabelas!B:D,3,0),0),\"\")","v":0},{"$f":"IF(A10<>\"\",IFERROR(VLOOKUP(AM10,Tabelas!B:D,3,0),0),\"\")","v":6},{"$f":"IF(A10<>\"\",IFERROR(VLOOKUP(AN10,Tabelas!B:D,3,0),0),\"\")","v":6},{"$f":"IF(A10<>\"\",IFERROR(VLOOKUP(AO10,Tabelas!B:D,3,0),0),\"\")","v":6},{"$f":"IF(A10<>\"\",IFERROR(VLOOKUP(AP10,Tabelas!B:D,3,0),0),\"\")","v":6},{"$f":"IF(A10<>\"\",IFERROR(VLOOKUP(AQ10,Tabelas!B:D,3,0),0),\"\")","v":6},138,0,0,0,0,0,0,0]
["Alexandre Luciano Klein",3312539,null,"ME","RJU",20,null,null,null,null,null,null,"T17","T17",null,null,null,"T17",null,"T17","T17",null,null,null,"T17",null,"T17","T17",null,null,null,"T17",null,"T17","T17",null,null,null,"T17",null,"T17","T17",null,{"$f":"IF(A11<>\"\",IFERROR(VLOOKUP(M11,Tabelas!B:D,3,0),0),\"\")","v":6},{"$f":"IF(A11<>\"\",IFERROR(VLOOKUP(N11,Tabelas!B:D,3,0),0),\"\")","v":6},{"$f":"IF(A11<>\"\",IFERROR(VLOOKUP(O11,Tabelas!B:D,3,0),0),\"\")","v":0},{"$f":"IF(A11<>\"\",IFERROR(VLOOKUP(P11,Tabelas!B:D,3,0),0),\"\")","v":0},{"$f":"IF(A11<>\"\",IFERROR(VLOOKUP(Q11,Tabelas!B:D,3,0),0),\"\")","v":0},{"$f":"IF(A11<>\"\",IFERROR(VLOOKUP(R11,Tabelas!B:D,3,0),0),\"\")","v":6},{"$f":"IF(A11<>\"\",IFERROR(VLOOKUP(S11,Tabelas!B:D,3,0),0),\"\")","v":0},{"$f":"IF(A11<>\"\",IFERROR(VLOOKUP(T11,Tabelas!B:D,3,0),0),\"\")","v":6},{"$f":"IF(A11<>\"\",IFERROR(VLOOKUP(U11,Tabelas!B:D,3,0),0),\"\")","v":6},{"$f":"IF(A11<>\"\",IFERROR(VLOOKUP(V11,Tabelas!B:D,3,0),0),\"\")","v":0},{"$f":"IF(A11<>\"\",IFERROR(VLOOKUP(W11,Tabelas!B:D,3,0),0),\"\")","v":0},{"$f":"IF(A11<>\"\",IFERROR(VLOOKUP(X11,Tabelas!B:D,3,0),0),\"\")","v":0},{"$f":"IF(A11<>\"\",IFERROR(VLOOKUP(Y11,Tabelas!B:D,3,0),0),\"\")","v":6},{"$f":"IF(A11<>\"\",IFERROR(VLOOKUP(Z11,Tabelas!B:D,3,0),0),\"\")","v":0},{"$f":"IF(A11<>\"\",IFERROR(VLOOKUP(AA11,Tabelas!B:D,3,0),0),\"\")","v":6},{"$f":"IF(A11<>\"\",IFERROR(VLOOKUP(AB11,Tabelas!B:D,3,0),0),\"\")","v":6},{"$f":"IF(A11<>\"\",IFERROR(VLOOKUP(AC11,Tabelas!B:D,3,0),0),\"\")","v":0},{"$f":"IF(A11<>\"\",IFERROR(VLOOKUP(AD11,Tabelas!B:D,3,0),0),\"\")","v":0},{"$f":"IF(A11<>\"\",IFERROR(VLOOKUP(AE11,Tabelas!B:D,3,0),0),\"\")","v":0},{"$f":"IF(A11<>\"\",IFERROR(VLOOKUP(AF11,Tabelas!B:D,3,0),0),\"\")","v":6},{"$f":"IF(A11<>\"\",IFERROR(VLOOKUP(AG11,Tabelas!B:D,3,0),0),\"\")","v":0},{"$f":"IF(A11<>\"\",IFERROR(VLOOKUP(AH11,Tabelas!B:D,3,0),0),\"\")","v":6},{"$f":"IF(A11<>\"\",IFERROR(VLOOKUP(AI11,Tabelas!B:D,3,0),0),\"\")","v":6},{"$f":"IF(A11<>\"\",IFERROR(VLOOKUP(AJ11,Tabelas!B:D,3,0),0),\"\")","v":0},{"$f":"IF(A11<>\"\",IFERROR(VLOOKUP(AK11,Tabelas!B:D,3,0),0),\"\")","v":0},{"$f":"IF(A11<>\"\",IFERROR(VLOOKUP(AL11,Tabelas!B:D,3,0),0),\"\")","v":0},{"$f":"IF(A11<>\"\",IFERROR(VLOOKUP(AM11,Tabelas!B:D,3,0),0),\"\")","v":6},{"$f":"IF(A11<>\"\",IFERROR(VLOOKUP(AN11,Tabelas!B:D,3,0),0),\"\")","v":0},{"$f":"IF(A11<>\"\",IFERROR(VLOOKUP(AO11,Tabelas!B:D,3,0),0),\"\")","v":6},{"$f":"IF(A11<>\"\",IFERROR(VLOOKUP(AP11,Tabelas!B:D,3,0),0),\"\")","v":6},{"$f":"IF(A11<>\"\",IFERROR(VLOOKUP(AQ11,Tabelas!B:D,3,0),0),\"\")","v":0},84,0,0,0,0,0,0,0]
["Alice Danielle Correa Mendes Pinto",1357071,null,"ME","RJU",30,null,null,null,null,null,null,"M17","M17","M17",null,null,"M17","M17","M17","M17","M17",null,null,"M17","M17","M17","M17","M17",null,null,"M17","M17","M17","M17","M17",null,null,"M17","M17","M17","M17","M17",{"$f":"IF(A12<>\"\",IFERROR(VLOOKUP(M12,Tabelas!B:D,3,0),0),\"\")","v":6},{"$f":"IF(A12<>\"\",IFERROR(VLOOKUP(N12,Tabelas!B:D,3,0),0),\"\")","v":6},{"$f":"IF(A12<>\"\",IFERROR(VLOOKUP(O12,Tabelas!B:D,3,0),0),\"\")","v":6},{"$f":"IF(A12<>\"\",IFERROR(VLOOKUP(P12,Tabelas!B:D,3,0),0),\"\")","v":0},{"$f":"IF(A12<>\"\",IFERROR(VLOOKUP(Q12,Tabelas!B:D,3,0),0),\"\")","v":0},{"$f":"IF(A12<>\"\",IFERROR(VLOOKUP(R12,Tabelas!B:D,3,0),0),\"\")","v":6},{"$f":"IF(A12<>\"\",IFERROR(VLOOKUP(S12,Tabelas!B:D,3,0),0),\"\")","v":6},{"$f":"IF(A12<>\"\",IFERROR(VLOOKUP(T12,Tabelas!B:D,3,0),0),\"\")","v":6},{"$f":"IF(A12<>\"\",IFERROR(VLOOKUP(U12,Tabelas!B:D,3,0),0),\"\")","v":6},{"$f":"IF(A12<>\"\",IFERROR(VLOOKUP(V12,Tabelas!B:D,3,0),0),\"\")","v":6},{"$f":"IF(A12<>\"\",IFERROR(VLOOKUP(W12,Tabelas!B:D,3,0),0),\"\")","v":0},{"$f":"IF(A12<>\"\",IFERROR(VLOOKUP(X12,Tabelas!B:D,3,0),0),\"\")","v":0},{"$f":"IF(A12<>\"\",IFERROR(VLOOKUP(Y12,Tabelas!B:D,3,0),0),\"\")","v":6},{"$f":"IF(A12<>\"\",IFERROR(VLOOKUP(Z12,Tabelas!B:D,3,0),0),\"\")","v":6},{"$f":"IF(A12<>\"\",IFERROR(VLOOKUP(AA12,Tabelas!B:D,3,0),0),\"\")","v":6},{"$f":"IF(A12<>\"\",IFERROR(VLOOKUP(AB12,Tabelas!B:D,3,0),0),\"\")","v":6},{"$f":"IF(A12<>\"\",IFERROR(VLOOKUP(AC12,Tabelas!B:D,3,0),0),\"\")","v":6},{"$f":"IF(A12<>\"\",IFERROR(VLOOKUP(AD12,Tabelas!B:D,3,0),0),\"\")","v":0},{"$f":"IF(A12<>\"\",IFERROR(VLOOKUP(AE12,Tabelas!B:D,3,0),0),\"\")","v":0},{"$f":"IF(A12<>\"\",IFERROR(VLOOKUP(AF12,Tabelas!B:D,3,0),0),\"\")","v":6},{"$f":"IF(A12<>\"\",IFERROR(VLOOKUP(AG12,Tabelas!B:D,3,0),0),\"\")","v":6},{"$f":"IF(A12<>\"\",IFERROR(VLOOKUP(AH12,Tabelas!B:D,3,0),0),\"\")","v":6},{"$f":"IF(A12<>\"\",IFERROR(VLOOKUP(AI12,Tabelas!B:D,3,0),0),\"\")","v":6},{"$f":"IF(A12<>\"\",IFERROR(VLOOKUP(AJ12,Tabelas!B:D,3,0),0),\"\")","v":6},{"$f":"IF(A12<>\"\",IFERROR(VLOOKUP(AK12,Tabelas!B:D,3,0),0),\"\")","v":0},{"$f":"IF(A12<>\"\",IFERROR(VLOOKUP(AL12,Tabelas!B:D,3,0),0),\"\")","v":0},{"$f":"IF(A12<>\"\",IFERROR(VLOOKUP(AM12,Tabelas!B:D,3,0),0),\"\")","v":6},{"$f":"IF(A12<>\"\",IFERROR(VLOOKUP(AN12,Tabelas!B:D,3,0),0),\"\")","v":6},{"$f":"IF(A12<>\"\",IFERROR(VLOOKUP(AO12,Tabelas!B:D,3,0),0),\"\")","v":6},{"$f":"IF(A12<>\"\",IFERROR(VLOOKUP(AP12,Tabelas!B:D,3,0),0),\"\")","v":6},{"$f":"IF(A12<>\"\",IFERROR(VLOOKUP(AQ12,Tabelas!B:D,3,0),0),\"\")","v":6},138,0,0,0,0,0,0,0]
["Christie Marie Schweitzer",2081333,null,"ME","RJU",20,null,null,null,null,null,null,null,"T17","T17",null,null,"T17",null,"T17","T17",null,null,null,"T17",null,"T17","T17",null,null,null,"T17",null,"T17","T17",null,null,"M17","T17",null,"T17","T17",null,{"$f":"IF(A13<>\"\",IFERROR(VLOOKUP(M13,Tabelas!B:D,3,0),0),\"\")","v":0},{"$f":"IF(A13<>\"\",IFERROR(VLOOKUP(N13,Tabelas!B:D,3,0),0),\"\")","v":6},{"$f":"IF(A13<>\"\",IFERROR(VLOOKUP(O13,Tabelas!B:D,3,0),0),\"\")","v":6},{"$f":"IF(A13<>\"\",IFERROR(VLOOKUP(P13,Tabelas!B:D,3,0),0),\"\")","v":0},{"$f":"IF(A13<>\"\",IFERROR(VLOOKUP(Q13,Tabelas!B:D,3,0),0),\"\")","v":0},{"$f":"IF(A13<>\"\",IFERROR(VLOOKUP(R13,Tabelas!B:D,3,0),0),\"\")","v":6},{"$f":"IF(A13<>\"\",IFERROR(VLOOKUP(S13,Tabelas!B:D,3,0),0),\"\")","v":0},{"$f":"IF(A13<>\"\",IFERROR(VLOOKUP(T13,Tabelas!B:D,3,0),0),\"\")","v":6},{"$f":"IF(A13<>\"\",IFERROR(VLOOKUP(U13,Tabelas!B:D,3,0),0),\"\")","v":6},{"$f":"IF(A13<>\"\",IFERROR(VLOOKUP(V13,Tabelas!B:D,3,0),0),\"\")","v":0},{"$f":"IF(A13<>\"\",IFERROR(VLOOKUP(W13,Tabelas!B:D,3,0),0),\"\")","v":0},{"$f":"IF(A13<>\"\",IFERROR(VLOOKUP(X13,Tabelas!B:D,3,0),0),\"\")","v":0},{"$f":"IF(A13<>\"\",IFERROR(VLOOKUP(Y13,Tabelas!B:D,3,0),0),\"\")","v":6},{"$f":"IF(A13<>\"\",IFERROR(VLOOKUP(Z13,Tabelas!B:D,3,0),0),\"\")","v":0},{"$f":"IF(A13<>\"\",IFERROR(VLOOKUP(AA13,Tabelas!B:D,3,0),0),\"\")","v":6},{"$f":"IF(A13<>\"\",IFERROR(VLOOKUP(AB13,Tabelas!B:D,3,0),0),\"\")","v":6},{"$f":"IF(A13<>\"\",IFERROR(VLOOKUP(AC13,Tabelas!B:D,3,0),0),\"\")","v":0},{"$f":"IF(A13<>\"\",IFERROR(VLOOKUP(AD13,Tabelas!B:D,3,0),0),\"\")","v":0},{"$f":"IF(A13<>\"\",IFERROR(VLOOKUP(AE13,Tabelas!B:D,3,0),0),\"\")","v":0},{"$f":"IF(A13<>\"\",IFERROR(VLOOKUP(AF13,Tabelas!B:D,3,0),0),\"\")","v":6},{"$f":"IF(A13<>\"\",IFERROR(VLOOKUP(AG13,Tabelas!B:D,3,0),0),\"\")","v":0},{"$f":"IF(A13<>\"\",IFERROR(VLOOKUP(AH13,Tabelas!B:D,3,0),0),\"\")","v":6},{"$f":"IF(A13<>\"\",IFERROR(VLOOKUP(AI13,Tabelas!B:D,3,0),0),\"\")","v":6},{"$f":"IF(A13<>\"\",IFERROR(VLOOKUP(AJ13,Tabelas!B:D,3,0),0),\"\")","v":0},{"$f":"IF(A13<>\"\",IFERROR(VLOOKUP(AK13,Tabelas!B:D,3,0),0),\"\")","v":0},{"$f":"IF(A13<>\"\",IFERROR(VLOOKUP(AL13,Tabelas!B:D,3,0),0),\"\")","v":6},{"$f":"IF(A13<>\"\",IFERROR(VLOOKUP(AM13,Tabelas!B:D,3,0),0),\"\")","v":6},{"$f":"IF(A13<>\"\",IFERROR(VLOOKUP(AN13,Tabelas!B:D,3,0),0),\"\")","v":0},{"$f":"IF(A13<>\"\",IFERROR(VLOOKUP(AO13,Tabelas!B:D,3,0),0),\"\")","v":6},{"$f":"IF(A13<>\"\",IFERROR(VLOOKUP(AP13,Tabelas!B:D,3,0),0),\"\")","v":6},{"$f":"IF(A13<>\"\",IFERROR(VLOOKUP(AQ13,Tabelas!B:D,3,0),0),\"\")","v":0},90,0,0,0,0,0,0,0]
["Elizabeth Kristiane Buss Lunardelli",3760219,null,"ME","RJU",null,null,null,null,null,null,null,null,null,"T17",null,null,"T17","T17",null,null,null,null,null,"T17","T17",null,null,"T17","T17",null,"T17","T17",null,null,"T17",null,null,"T17","T17",null,null,"T17"]
["Gina Vieira Velho",1185798,null,"ME","RJU",20,null,null,null,null,null,null,"M17","M17",null,null,null,"M17",null,"M17","M17",null,null,null,"M17",null,"M17","M17",null,null,null,"M17",null,"M17","M17",null,null,null,"M17",null,"M17","M17",null,{"$f":"IF(A15<>\"\",IFERROR(VLOOKUP(M15,Tabelas!B:D,3,0),0),\"\")","v":6},{"$f":"IF(A15<>\"\",IFERROR(VLOOKUP(N15,Tabelas!B:D,3,0),0),\"\")","v":6},{"$f":"IF(A15<>\"\",IFERROR(VLOOKUP(O15,Tabelas!B:D,3,0),0),\"\")","v":0},{"$f":"IF(A15<>\"\",IFERROR(VLOOKUP(P15,Tabelas!B:D,3,0),0),\"\")","v":0},{"$f":"IF(A15<>\"\",IFERROR(VLOOKUP(Q15,Tabelas!B:D,3,0),0),\"\")","v":0},{"$f":"IF(A15<>\"\",IFERROR(VLOOKUP(R15,Tabelas!B:D,3,0),0),\"\")","v":6},{"$f":"IF(A15<>\"\",IFERROR(VLOOKUP(S15,Tabelas!B:D,3,0),0),\"\")","v":0},{"$f":"IF(A15<>\"\",IFERROR(VLOOKUP(T15,Tabelas!B:D,3,0),0),\"\")","v":6},{"$f":"IF(A15<>\"\",IFERROR(VLOOKUP(U15,Tabelas!B:D,3,0),0),\"\")","v":6},{"$f":"IF(A15<>\"\",IFERROR(VLOOKUP(V15,Tabelas!B:D,3,0),0),\"\")","v":0},{"$f":"IF(A15<>\"\",IFERROR(VLOOKUP(W15,Tabelas!B:D,3,0),0),\"\")","v":0},{"$f":"IF(A15<>\"\",IFERROR(VLOOKUP(X15,Tabelas!B:D,3,0),0),\"\")","v":0},{"$f":"IF(A15<>\"\",IFERROR(VLOOKUP(Y15,Tabelas!B:D,3,0),0),\"\")","v":6},{"$f":"IF(A15<>\"\",IFERROR(VLOOKUP(Z15,Tabelas!B:D,3,0),0),\"\")","v":0},{"$f":"IF(A15<>\"\",IFERROR(VLOOKUP(AA15,Tabelas!B:D,3,0),0),\"\")","v":6},{"$f":"IF(A15<>\"\",IFERROR(VLOOKUP(AB15,Tabelas!B:D,3,0),0),\"\")","v":6},{"$f":"IF(A15<>\"\",IFERROR(VLOOKUP(AC15,Tabelas!B:D,3,0),0),\"\")","v":0},{"$f":"IF(A15<>\"\",IFERROR(VLOOKUP(AD15,Tabelas!B:D,3,0),0),\"\")","v":0},{"$f":"IF(A15<>\"\",IFERROR(VLOOKUP(AE15,Tabelas!B:D,3,0),0),\"\")","v":0},{"$f":"IF(A15<>\"\",IFERROR(VLOOKUP(AF15,Tabelas!B:D,3,0),0),\"\")","v":6},{"$f":"IF(A15<>\"\",IFERROR(VLOOKUP(AG15,Tabelas!B:D,3,0),0),\"\")","v":0},{"$f":"IF(A15<>\"\",IFERROR(VLOOKUP(AH15,Tabelas!B:D,3,0),0),\"\")","v":6},{"$f":"IF(A15<>\"\",IFERROR(VLOOKUP(AI15,Tabelas!B:D,3,0),0),\"\")","v":6},{"$f":"IF(A15<>\"\",IFERROR(VLOOKUP(AJ15,Tabelas!B:D,3,0),0),\"\")","v":0},{"$f":"IF(A15<>\"\",IFERROR(VLOOKUP(AK15,Tabelas!B:D,3,0),0),\"\")","v":0},{"$f":"IF(A15<>\"\",IFERROR(VLOOKUP(AL15,Tabelas!B:D,3,0),0),\"\")","v":0},{"$f":"IF(A15<>\"\",IFERROR(VLOOKUP(AM15,Tabelas!B:D,3,0),0),\"\")","v":6},{"$f":"IF(A15<>\"\",IFERROR(VLOOKUP(AN15,Tabelas!B:D,3,0),0),\"\")","v":0},{"$f":"IF(A15<>\"\",IFERROR(VLOOKUP(AO15,Tabelas!B:D,3,0),0),\"\")","v":6},{"$f":"IF(A15<>\"\",IFERROR(VLOOKUP(AP15,Tabelas!B:D,3,0),0),\"\")","v":6},{"$f":"IF(A15<>\"\",IFERROR(VLOOKUP(AQ15,Tabelas!B:D,3,0),0),\"\")","v":0},{"$f":"IF(AND(A15<>\"\",E15=\"Ebserh\"),SUM(AR15:BV15)+COUNTIF(M15:AQ15,\"N*\")+COUNTIF(M15:AQ15,\"DN*\"),IF(AND(A15<>\"\",E15<>\"Ebserh\"),SUM(AR15:BV15),\"\"))","v":84},{"$f":"IF(A15<>\"\",COUNTIF(M15:AQ15,\"LM\")+COUNTIF(M15:AQ15,\"L\")+COUNTIF(M15:AQ15,\"LP\"),\"\")","v":0},{"$f":"IF(A15<>\"\",COUNTIF(M15:AQ15,\"AB*\"),\"\")","v":0},{"$f":"IF(A15<>\"\",COUNTIF(M15:AQ15,\"FE\"),\"\")","v":0},{"$f":"IF(A15<>\"\",COUNTIF(M15:AQ15,\"LC\"),\"\")","v":0},{"$f":"IF(A15<>\"\",COUNTIF(M15:AQ15,\"CH*\"),\"\")","v":0},{"$f":"IF(A15<>\"\",COUNTIF(M15:AQ15,\"AF1\")+COUNTIF(M15:AQ15,\"AF2\")+COUNTIF(M15:AQ15,\"AF3\")+COUNTIF(M15:AQ15,\"AF4\")+COUNTIF(M15:AQ15,\"AF5\")+COUNTIF(M15:AQ15,\"AF6\")+COUNTIF(M15:AQ15,\"AF7\")+COUNTIF(M15:AQ15,\"AF8\")+COUNTIF(M15:AQ15,\"AF9\")+COUNTIF(M15:AQ15,\"AF10\")+COUNTIF(M15:AQ15,\"AF11\")+COUNTIF(M15:AQ15,\"AF12\")+COUNTIF(M15:AQ15,\"AF13\")+COUNTIF(M15:AQ15,\"AF14\"),\"\")","v":0},{"$f":"IF(A15<>\"\",COUNTIF(M15:AQ15,\"CH*\")+COUNTIF(M15:AQ15,\"L\")+COUNTIF(M15:AQ15,\"LM\")+COUNTIF(M15:AQ15,\"LP\")+COUNTIF(M15:AQ15,\"LC\")+COUNTIF(M15:AQ15,\"AB*\")+COUNTIF(M15:AQ15,\"AF1\")+COUNTIF(M15:AQ15,\"AF2\")+COUNTIF(M15:AQ15,\"AF3\")+COUNTIF(M15:AQ15,\"AF4\")+COUNTIF(M15:AQ15,\"AF5\")+COUNTIF(M15:AQ15,\"AF6\")+COUNTIF(M15:AQ15,\"AF7\")+COUNTIF(M15:AQ15,\"AF8\")+COUNTIF(M15:AQ15,\"AF9\")+COUNTIF(M15:AQ15,\"AF10\")+COUNTIF(M15:AQ15,\"AF11\")+COUNTIF(M15:AQ15,\"AF12\")+COUNTIF(M15:AQ15,\"AF13\")+COUNTIF(M15:AQ15,\"AF14\")+COUNTIF(M15:AQ15,\"RC\")+COUNTIF(M15:AQ15,\"FO\")+COUNTIF(M15:AQ15,\"FE\"),\"\")","v":0}]
["Rafael Lisboa de Souza",2344070,null,"ME","RJU",30,null,null,null,null,null,null,"M17","M17","M17",null,null,"M17","M17","M17","M17","M17",null,null,"M17","M17","M17","M17","M17",null,null,"M17","M17","M17","M17","M17",null,null,"M17","M17","M17","M17","M17",{"$f":"IF(A16<>\"\",IFERROR(VLOOKUP(M16,Tabelas!B:D,3,0),0),\"\")","v":6},{"$f":"IF(A16<>\"\",IFERROR(VLOOKUP(N16,Tabelas!B:D,3,0),0),\"\")","v":6},{"$f":"IF(A16<>\"\",IFERROR(VLOOKUP(O16,Tabelas!B:D,3,0),0),\"\")","v":6},{"$f":"IF(A16<>\"\",IFERROR(VLOOKUP(P16,Tabelas!B:D,3,0),0),\"\")","v":0},{"$f":"IF(A16<>\"\",IFERROR(VLOOKUP(Q16,Tabelas!B:D,3,0),0),\"\")","v":0},{"$f":"IF(A16<>\"\",IFERROR(VLOOKUP(R16,Tabelas!B:D,3,0),0),\"\")","v":6},{"$f":"IF(A16<>\"\",IFERROR(VLOOKUP(S16,Tabelas!B:D,3,0),0),\"\")","v":6},{"$f":"IF(A16<>\"\",IFERROR(VLOOKUP(T16,Tabelas!B:D,3,0),0),\"\")","v":6},{"$f":"IF(A16<>\"\",IFERROR(VLOOKUP(U16,Tabelas!B:D,3,0),0),\"\")","v":6},{"$f":"IF(A16<>\"\",IFERROR(VLOOKUP(V16,Tabelas!B:D,3,0),0),\"\")","v":6},{"$f":"IF(A16<>\"\",IFERROR(VLOOKUP(W16,Tabelas!B:D,3,0),0),\"\")","v":0},{"$f":"IF(A16<>\"\",IFERROR(VLOOKUP(X16,Tabelas!B:D,3,0),0),\"\")","v":0},{"$f":"IF(A16<>\"\",IFERROR(VLOOKUP(Y16,Tabelas!B:D,3,0),0),\"\")","v":6},{"$f":"IF(A16<>\"\",IFERROR(VLOOKUP(Z16,Tabelas!B:D,3,0),0),\"\")","v":6},{"$f":"IF(A16<>\"\",IFERROR(VLOOKUP(AA16,Tabelas!B:D,3,0),0),\"\")","v":6},{"$f":"IF(A16<>\"\",IFERROR(VLOOKUP(AB16,Tabelas!B:D,3,0),0),\"\")","v":6},{"$f":"IF(A16<>\"\",IFERROR(VLOOKUP(AC16,Tabelas!B:D,3,0),0),\"\")","v":6},{"$f":"IF(A16<>\"\",IFERROR(VLOOKUP(AD16,Tabelas!B:D,3,0),0),\"\")","v":0},{"$f":"IF(A16<>\"\",IFERROR(VLOOKUP(AE16,Tabelas!B:D,3,0),0),\"\")","v":0},{"$f":"IF(A16<>\"\",IFERROR(VLOOKUP(AF16,Tabelas!B:D,3,0),0),\"\")","v":6},{"$f":"IF(A16<>\"\",IFERROR(VLOOKUP(AG16,Tabelas!B:D,3,0),0),\"\")","v":6},{"$f":"IF(A16<>\"\",IFERROR(VLOOKUP(AH16,Tabelas!B:D,3,0),0),\"\")","v":6},{"$f":"IF(A16<>\"\",IFERROR(VLOOKUP(AI16,Tabelas!B:D,3,0),0),\"\")","v":6},{"$f":"IF(A16<>\"\",IFERROR(VLOOKUP(AJ16,Tabelas!B:D,3,0),0),\"\")","v":6},{"$f":"IF(A16<>\"\",IFERROR(VLOOKUP(AK16,Tabelas!B:D,3,0),0),\"\")","v":0},{"$f":"IF(A16<>\"\",IFERROR(VLOOKUP(AL16,Tabelas!B:D,3,0),0),\"\")","v":0},{"$f":"IF(A16<>\"\",IFERROR(VLOOKUP(AM16,Tabelas!B:D,3,0),0),\"\")","v":6},{"$f":"IF(A16<>\"\",IFERROR(VLOOKUP(AN16,Tabelas!B:D,3,0),0),\"\")","v":6},{"$f":"IF(A16<>\"\",IFERROR(VLOOKUP(AO16,Tabelas!B:D,3,0),0),\"\")","v":6},{"$f":"IF(A16<>\"\",IFERROR(VLOOKUP(AP16,Tabelas!B:D,3,0),0),\"\")","v":6},{"$f":"IF(A16<>\"\",IFERROR(VLOOKUP(AQ16,Tabelas!B:D,3,0),0),\"\")","v":6},138,0,0,0,0,0,0,0]
["Karine da Costa Damiani",2925603,null,"ME","RJU",30,null,null,null,null,null,null,"T17",null,"T17",null,"M17","T17","D8","T17",null,"T17",null,null,"T17","D8","T17",null,"T17",null,null,"T17","D8","T17",null,"T17",null,null,"T17","D8","T17",null,"T17",{"$f":"IF(A17<>\"\",IFERROR(VLOOKUP(M17,Tabelas!B:D,3,0),0),\"\")","v":6},{"$f":"IF(A17<>\"\",IFERROR(VLOOKUP(N17,Tabelas!B:D,3,0),0),\"\")","v":0},{"$f":"IF(A17<>\"\",IFERROR(VLOOKUP(O17,Tabelas!B:D,3,0),0),\"\")","v":6},{"$f":"IF(A17<>\"\",IFERROR(VLOOKUP(P17,Tabelas!B:D,3,0),0),\"\")","v":0},{"$f":"IF(A17<>\"\",IFERROR(VLOOKUP(Q17,Tabelas!B:D,3,0),0),\"\")","v":6},{"$f":"IF(A17<>\"\",IFERROR(VLOOKUP(R17,Tabelas!B:D,3,0),0),\"\")","v":6},{"$f":"IF(A17<>\"\",IFERROR(VLOOKUP(S17,Tabelas!B:D,3,0),0),\"\")","v":12},{"$f":"IF(A17<>\"\",IFERROR(VLOOKUP(T17,Tabelas!B:D,3,0),0),\"\")","v":6},{"$f":"IF(A17<>\"\",IFERROR(VLOOKUP(U17,Tabelas!B:D,3,0),0),\"\")","v":0},{"$f":"IF(A17<>\"\",IFERROR(VLOOKUP(V17,Tabelas!B:D,3,0),0),\"\")","v":6},{"$f":"IF(A17<>\"\",IFERROR(VLOOKUP(W17,Tabelas!B:D,3,0),0),\"\")","v":0},{"$f":"IF(A17<>\"\",IFERROR(VLOOKUP(X17,Tabelas!B:D,3,0),0),\"\")","v":0},{"$f":"IF(A17<>\"\",IFERROR(VLOOKUP(Y17,Tabelas!B:D,3,0),0),\"\")","v":6},{"$f":"IF(A17<>\"\",IFERROR(VLOOKUP(Z17,Tabelas!B:D,3,0),0),\"\")","v":12},{"$f":"IF(A17<>\"\",IFERROR(VLOOKUP(AA17,Tabelas!B:D,3,0),0),\"\")","v":6},{"$f":"IF(A17<>\"\",IFERROR(VLOOKUP(AB17,Tabelas!B:D,3,0),0),\"\")","v":0},{"$f":"IF(A17<>\"\",IFERROR(VLOOKUP(AC17,Tabelas!B:D,3,0),0),\"\")","v":6},{"$f":"IF(A17<>\"\",IFERROR(VLOOKUP(AD17,Tabelas!B:D,3,0),0),\"\")","v":0},{"$f":"IF(A17<>\"\",IFERROR(VLOOKUP(AE17,Tabelas!B:D,3,0),0),\"\")","v":0},{"$f":"IF(A17<>\"\",IFERROR(VLOOKUP(AF17,Tabelas!B:D,3,0),0),\"\")","v":6},{"$f":"IF(A17<>\"\",IFERROR(VLOOKUP(AG17,Tabelas!B:D,3,0),0),\"\")","v":12},{"$f":"IF(A17<>\"\",IFERROR(VLOOKUP(AH17,Tabelas!B:D,3,0),0),\"\")","v":6},{"$f":"IF(A17<>\"\",IFERROR(VLOOKUP(AI17,Tabelas!B:D,3,0),0),\"\")","v":0},{"$f":"IF(A17<>\"\",IFERROR(VLOOKUP(AJ17,Tabelas!B:D,3,0),0),\"\")","v":6},{"$f":"IF(A17<>\"\",IFERROR(VLOOKUP(AK17,Tabelas!B:D,3,0),0),\"\")","v":0},{"$f":"IF(A17<>\"\",IFERROR(VLOOKUP(AL17,Tabelas!B:D,3,0),0),\"\")","v":0},{"$f":"IF(A17<>\"\",IFERROR(VLOOKUP(AM17,Tabelas!B:D,3,0),0),\"\")","v":6},{"$f":"IF(A17<>\"\",IFERROR(VLOOKUP(AN17,Tabelas!B:D,3,0),0),\"\")","v":12},{"$f":"IF(A17<>\"\",IFERROR(VLOOKUP(AO17,Tabelas!B:D,3,0),0),\"\")","v":6},{"$f":"IF(A17<>\"\",IFERROR(VLOOKUP(AP17,Tabelas!B:D,3,0),0),\"\")","v":0},{"$f":"IF(A17<>\"\",IFERROR(VLOOKUP(AQ17,Tabelas!B:D,3,0),0),\"\")","v":6},138,0,0,0,0,0,0,0]
["Vanessa Miné Geraldo",3055054,null,"ME","EBSERH",24,null,null,null,null,null,null,"T17","T17",null,null,null,null,null,"T17","T17","T17",null,null,null,"T17","T17","T17",null,null,null,null,"T17","T17","T17","T17",null,"N10",null,"T17","T17","T17","T17",{"$f":"IF(A18<>\"\",IFERROR(VLOOKUP(M18,Tabelas!B:D,3,0),0),\"\")","v":6},{"$f":"IF(A18<>\"\",IFERROR(VLOOKUP(N18,Tabelas!B:D,3,0),0),\"\")","v":6},{"$f":"IF(A18<>\"\",IFERROR(VLOOKUP(O18,Tabelas!B:D,3,0),0),\"\")","v":0},{"$f":"IF(A18<>\"\",IFERROR(VLOOKUP(P18,Tabelas!B:D,3,0),0),\"\")","v":0},{"$f":"IF(A18<>\"\",IFERROR(VLOOKUP(Q18,Tabelas!B:D,3,0),0),\"\")","v":0},{"$f":"IF(A18<>\"\",IFERROR(VLOOKUP(R18,Tabelas!B:D,3,0),0),\"\")","v":0},{"$f":"IF(A18<>\"\",IFERROR(VLOOKUP(S18,Tabelas!B:D,3,0),0),\"\")","v":0},{"$f":"IF(A18<>\"\",IFERROR(VLOOKUP(T18,Tabelas!B:D,3,0),0),\"\")","v":6},{"$f":"IF(A18<>\"\",IFERROR(VLOOKUP(U18,Tabelas!B:D,3,0),0),\"\")","v":6},{"$f":"IF(A18<>\"\",IFERROR(VLOOKUP(V18,Tabelas!B:D,3,0),0),\"\")","v":6},{"$f":"IF(A18<>\"\",IFERROR(VLOOKUP(W18,Tabelas!B:D,3,0),0),\"\")","v":0},{"$f":"IF(A18<>\"\",IFERROR(VLOOKUP(X18,Tabelas!B:D,3,0),0),\"\")","v":0},{"$f":"IF(A18<>\"\",IFERROR(VLOOKUP(Y18,Tabelas!B:D,3,0),0),\"\")","v":0},{"$f":"IF(A18<>\"\",IFERROR(VLOOKUP(Z18,Tabelas!B:D,3,0),0),\"\")","v":6},{"$f":"IF(A18<>\"\",IFERROR(VLOOKUP(AA18,Tabelas!B:D,3,0),0),\"\")","v":6},{"$f":"IF(A18<>\"\",IFERROR(VLOOKUP(AB18,Tabelas!B:D,3,0),0),\"\")","v":6},{"$f":"IF(A18<>\"\",IFERROR(VLOOKUP(AC18,Tabelas!B:D,3,0),0),\"\")","v":0},{"$f":"IF(A18<>\"\",IFERROR(VLOOKUP(AD18,Tabelas!B:D,3,0),0),\"\")","v":0},{"$f":"IF(A18<>\"\",IFERROR(VLOOKUP(AE18,Tabelas!B:D,3,0),0),\"\")","v":0},{"$f":"IF(A18<>\"\",IFERROR(VLOOKUP(AF18,Tabelas!B:D,3,0),0),\"\")","v":0},{"$f":"IF(A18<>\"\",IFERROR(VLOOKUP(AG18,Tabelas!B:D,3,0),0),\"\")","v":6},{"$f":"IF(A18<>\"\",IFERROR(VLOOKUP(AH18,Tabelas!B:D,3,0),0),\"\")","v":6},{"$f":"IF(A18<>\"\",IFERROR(VLOOKUP(AI18,Tabelas!B:D,3,0),0),\"\")","v":6},{"$f":"IF(A18<>\"\",IFERROR(VLOOKUP(AJ18,Tabelas!B:D,3,0),0),\"\")","v":6},{"$f":"IF(A18<>\"\",IFERROR(VLOOKUP(AK18,Tabelas!B:D,3,0),0),\"\")","v":0},{"$f":"IF(A18<>\"\",IFERROR(VLOOKUP(AL18,Tabelas!B:D,3,0),0),\"\")","v":12},{"$f":"IF(A18<>\"\",IFERROR(VLOOKUP(AM18,Tabelas!B:D,3,0),0),\"\")","v":0},{"$f":"IF(A18<>\"\",IFERROR(VLOOKUP(AN18,Tabelas!B:D,3,0),0),\"\")","v":6},{"$f":"IF(A18<>\"\",IFERROR(VLOOKUP(AO18,Tabelas!B:D,3,0),0),\"\")","v":6},{"$f":"IF(A18<>\"\",IFERROR(VLOOKUP(AP18,Tabelas!B:D,3,0),0),\"\")","v":6},{"$f":"IF(A18<>\"\",IFERROR(VLOOKUP(AQ18,Tabelas!B:D,3,0),0),\"\")","v":6},109,0,0,0,0,0,0,0]
["Vinícius D. Pedro",3841644,null,"ME","RJU",30,null,null,null,null,null,null,"T17","T17","D8",null,null,null,"T17","T17","T17","D8",null,null,null,null,null,null,"D8",null,null,null,"T17","T17","T17","D8",null,null,null,"T17","T17","T17","D8",{"$f":"IF(A19<>\"\",IFERROR(VLOOKUP(M19,Tabelas!B:D,3,0),0),\"\")","v":6},{"$f":"IF(A19<>\"\",IFERROR(VLOOKUP(N19,Tabelas!B:D,3,0),0),\"\")","v":6},{"$f":"IF(A19<>\"\",IFERROR(VLOOKUP(O19,Tabelas!B:D,3,0),0),\"\")","v":12},{"$f":"IF(A19<>\"\",IFERROR(VLOOKUP(P19,Tabelas!B:D,3,0),0),\"\")","v":0},{"$f":"IF(A19<>\"\",IFERROR(VLOOKUP(Q19,Tabelas!B:D,3,0),0),\"\")","v":0},{"$f":"IF(A19<>\"\",IFERROR(VLOOKUP(R19,Tabelas!B:D,3,0),0),\"\")","v":0},{"$f":"IF(A19<>\"\",IFERROR(VLOOKUP(S19,Tabelas!B:D,3,0),0),\"\")","v":6},{"$f":"IF(A19<>\"\",IFERROR(VLOOKUP(T19,Tabelas!B:D,3,0),0),\"\")","v":6},{"$f":"IF(A19<>\"\",IFERROR(VLOOKUP(U19,Tabelas!B:D,3,0),0),\"\")","v":6},{"$f":"IF(A19<>\"\",IFERROR(VLOOKUP(V19,Tabelas!B:D,3,0),0),\"\")","v":12},{"$f":"IF(A19<>\"\",IFERROR(VLOOKUP(W19,Tabelas!B:D,3,0),0),\"\")","v":0},{"$f":"IF(A19<>\"\",IFERROR(VLOOKUP(X19,Tabelas!B:D,3,0),0),\"\")","v":0},{"$f":"IF(A19<>\"\",IFERROR(VLOOKUP(Y19,Tabelas!B:D,3,0),0),\"\")","v":0},{"$f":"IF(A19<>\"\",IFERROR(VLOOKUP(Z19,Tabelas!B:D,3,0),0),\"\")","v":0},{"$f":"IF(A19<>\"\",IFERROR(VLOOKUP(AA19,Tabelas!B:D,3,0),0),\"\")","v":0},{"$f":"IF(A19<>\"\",IFERROR(VLOOKUP(AB19,Tabelas!B:D,3,0),0),\"\")","v":0},{"$f":"IF(A19<>\"\",IFERROR(VLOOKUP(AC19,Tabelas!B:D,3,0),0),\"\")","v":12},{"$f":"IF(A19<>\"\",IFERROR(VLOOKUP(AD19,Tabelas!B:D,3,0),0),\"\")","v":0},{"$f":"IF(A19<>\"\",IFERROR(VLOOKUP(AE19,Tabelas!B:D,3,0),0),\"\")","v":0},{"$f":"IF(A19<>\"\",IFERROR(VLOOKUP(AF19,Tabelas!B:D,3,0),0),\"\")","v":0},{"$f":"IF(A19<>\"\",IFERROR(VLOOKUP(AG19,Tabelas!B:D,3,0),0),\"\")","v":6},{"$f":"IF(A19<>\"\",IFERROR(VLOOKUP(AH19,Tabelas!B:D,3,0),0),\"\")","v":6},{"$f":"IF(A19<>\"\",IFERROR(VLOOKUP(AI19,Tabelas!B:D,3,0),0),\"\")","v":6},{"$f":"IF(A19<>\"\",IFERROR(VLOOKUP(AJ19,Tabelas!B:D,3,0),0),\"\")","v":12},{"$f":"IF(A19<>\"\",IFERROR(VLOOKUP(AK19,Tabelas!B:D,3,0),0),\"\")","v":0},{"$f":"IF(A19<>\"\",IFERROR(VLOOKUP(AL19,Tabelas!B:D,3,0),0),\"\")","v":0},{"$f":"IF(A19<>\"\",IFERROR(VLOOKUP(AM19,Tabelas!B:D,3,0),0),\"\")","v":0},{"$f":"IF(A19<>\"\",IFERROR(VLOOKUP(AN19,Tabelas!B:D,3,0),0),\"\")","v":6},{"$f":"IF(A19<>\"\",IFERROR(VLOOKUP(AO19,Tabelas!B:D,3,0),0),\"\")","v":6},{"$f":"IF(A19<>\"\",IFERROR(VLOOKUP(AP19,Tabelas!B:D,3,0),0),\"\")","v":6},{"$f":"IF(A19<>\"\",IFERROR(VLOOKUP(AQ19,Tabelas!B:D,3,0),0),\"\")","v":12},126,0,0,0,0,0,0,0]
["Leonardo Jonck Staub",null,null,"ME","RJU",30,null,null,null,null,null,null,"M17","M17","M17",null,null,"M17","M17","M17","M17","M17",null,null,"M17","M17","M17","M17","M17",null,"M17","FE","FE","FE","FE","FE","FE","FE","FE","FE","M17","M17","M17",{"$f":"IF(A20<>\"\",IFERROR(VLOOKUP(M20,Tabelas!B:D,3,0),0),\"\")","v":6},{"$f":"IF(A20<>\"\",IFERROR(VLOOKUP(N20,Tabelas!B:D,3,0),0),\"\")","v":6},{"$f":"IF(A20<>\"\",IFERROR(VLOOKUP(O20,Tabelas!B:D,3,0),0),\"\")","v":6},{"$f":"IF(A20<>\"\",IFERROR(VLOOKUP(P20,Tabelas!B:D,3,0),0),\"\")","v":0},{"$f":"IF(A20<>\"\",IFERROR(VLOOKUP(Q20,Tabelas!B:D,3,0),0),\"\")","v":0},{"$f":"IF(A20<>\"\",IFERROR(VLOOKUP(R20,Tabelas!B:D,3,0),0),\"\")","v":6},{"$f":"IF(A20<>\"\",IFERROR(VLOOKUP(S20,Tabelas!B:D,3,0),0),\"\")","v":6},{"$f":"IF(A20<>\"\",IFERROR(VLOOKUP(T20,Tabelas!B:D,3,0),0),\"\")","v":6},{"$f":"IF(A20<>\"\",IFERROR(VLOOKUP(U20,Tabelas!B:D,3,0),0),\"\")","v":6},{"$f":"IF(A20<>\"\",IFERROR(VLOOKUP(V20,Tabelas!B:D,3,0),0),\"\")","v":6},{"$f":"IF(A20<>\"\",IFERROR(VLOOKUP(W20,Tabelas!B:D,3,0),0),\"\")","v":0},{"$f":"IF(A20<>\"\",IFERROR(VLOOKUP(X20,Tabelas!B:D,3,0),0),\"\")","v":0},{"$f":"IF(A20<>\"\",IFERROR(VLOOKUP(Y20,Tabelas!B:D,3,0),0),\"\")","v":6},{"$f":"IF(A20<>\"\",IFERROR(VLOOKUP(Z20,Tabelas!B:D,3,0),0),\"\")","v":6},{"$f":"IF(A20<>\"\",IFERROR(VLOOKUP(AA20,Tabelas!B:D,3,0),0),\"\")","v":6},{"$f":"IF(A20<>\"\",IFERROR(VLOOKUP(AB20,Tabelas!B:D,3,0),0),\"\")","v":6},{"$f":"IF(A20<>\"\",IFERROR(VLOOKUP(AC20,Tabelas!B:D,3,0),0),\"\")","v":6},{"$f":"IF(A20<>\"\",IFERROR(VLOOKUP(AD20,Tabelas!B:D,3,0),0),\"\")","v":0},{"$f":"IF(A20<>\"\",IFERROR(VLOOKUP(AE20,Tabelas!B:D,3,0),0),\"\")","v":6},{"$f":"IF(A20<>\"\",IFERROR(VLOOKUP(AF20,Tabelas!B:D,3,0),0),\"\")","v":0},{"$f":"IF(A20<>\"\",IFERROR(VLOOKUP(AG20,Tabelas!B:D,3,0),0),\"\")","v":0},{"$f":"IF(A20<>\"\",IFERROR(VLOOKUP(AH20,Tabelas!B:D,3,0),0),\"\")","v":0},{"$f":"IF(A20<>\"\",IFERROR(VLOOKUP(AI20,Tabelas!B:D,3,0),0),\"\")","v":0},{"$f":"IF(A20<>\"\",IFERROR(VLOOKUP(AJ20,Tabelas!B:D,3,0),0),\"\")","v":0},{"$f":"IF(A20<>\"\",IFERROR(VLOOKUP(AK20,Tabelas!B:D,3,0),0),\"\")","v":0},{"$f":"IF(A20<>\"\",IFERROR(VLOOKUP(AL20,Tabelas!B:D,3,0),0),\"\")","v":0},{"$f":"IF(A20<>\"\",IFERROR(VLOOKUP(AM20,Tabelas!B:D,3,0),0),\"\")","v":0},{"$f":"IF(A20<>\"\",IFERROR(VLOOKUP(AN20,Tabelas!B:D,3,0),0),\"\")","v":0},{"$f":"IF(A20<>\"\",IFERROR(VLOOKUP(AO20,Tabelas!B:D,3,0),0),\"\")","v":6},{"$f":"IF(A20<>\"\",IFERROR(VLOOKUP(AP20,Tabelas!B:D,3,0),0),\"\")","v":6},{"$f":"IF(A20<>\"\",IFERROR(VLOOKUP(AQ20,Tabelas!B:D,3,0),0),\"\")","v":6},102,0,0,9,0,0,0,9]
["Lara Patrícia Kretzer",null,null,"ME","RJU",null,null,null,null,null,null,null,null,null,null,null,null,"T17",null,null,null,"T17",null,"M17","T17",null,null,null,"T17",null,null,"T17",null,null,null,"T17",null,null,"T17",null,null,null,"T17"]
["Heda Mara Schmidt",null,null,"ME","RJU",null,null,null,null,null,null,null,null,null,null,null,null,null,null,"T17","T17",null,"M17",null,null,null,"T17","T17",null,null,null,null,null,"T17","T17",null,null,null,null,null,"T17","T17"]
[]
["PLANTÃO",null,null,null,null,null,null,null,null,null,null,null,null,null,null,null,null,null,null,null,null,null,null,null,null,null,null,null,null,null,null,null,null,null,null,null,null,null,null,null,null,null,null,{"$f":"IF(A24<>\"\",IFERROR(VLOOKUP(M24,Tabelas!B:D,3,0),0),\"\")","v":0},{"$f":"IF(A24<>\"\",IFERROR(VLOOKUP(N24,Tabelas!B:D,3,0),0),\"\")","v":0},{"$f":"IF(A24<>\"\",IFERROR(VLOOKUP(O24,Tabelas!B:D,3,0),0),\"\")","v":0},{"$f":"IF(A24<>\"\",IFERROR(VLOOKUP(P24,Tabelas!B:D,3,0),0),\"\")","v":0},{"$f":"IF(A24<>\"\",IFERROR(VLOOKUP(Q24,Tabelas!B:D,3,0),0),\"\")","v":0},{"$f":"IF(A24<>\"\",IFERROR(VLOOKUP(R24,Tabelas!B:D,3,0),0),\"\")","v":0},{"$f":"IF(A24<>\"\",IFERROR(VLOOKUP(S24,Tabelas!B:D,3,0),0),\"\")","v":0},{"$f":"IF(A24<>\"\",IFERROR(VLOOKUP(T24,Tabelas!B:D,3,0),0),\"\")","v":0},{"$f":"IF(A24<>\"\",IFERROR(VLOOKUP(U24,Tabelas!B:D,3,0),0),\"\")","v":0},{"$f":"IF(A24<>\"\",IFERROR(VLOOKUP(V24,Tabelas!B:D,3,0),0),\"\")","v":0},{"$f":"IF(A24<>\"\",IFERROR(VLOOKUP(W24,Tabelas!B:D,3,0),0),\"\")","v":0},{"$f":"IF(A24<>\"\",IFERROR(VLOOKUP(X24,Tabelas!B:D,3,0),0),\"\")","v":0},{"$f":"IF(A24<>\"\",IFERROR(VLOOKUP(Y24,Tabelas!B:D,3,0),0),\"\")","v":0},{"$f":"IF(A24<>\"\",IFERROR(VLOOKUP(Z24,Tabelas!B:D,3,0),0),\"\")","v":0},{"$f":"IF(A24<>\"\",IFERROR(VLOOKUP(AA24,Tabelas!B:D,3,0),0),\"\")","v":0},{"$f":"IF(A24<>\"\",IFERROR(VLOOKUP(AB24,Tabelas!B:D,3,0),0),\"\")","v":0},{"$f":"IF(A24<>\"\",IFERROR(VLOOKUP(AC24,Tabelas!B:D,3,0),0),\"\")","v":0},{"$f":"IF(A24<>\"\",IFERROR(VLOOKUP(AD24,Tabelas!B:D,3,0),0),\"\")","v":0},{"$f":"IF(A24<>\"\",IFERROR(VLOOKUP(AE24,Tabelas!B:D,3,0),0),\"\")","v":0},{"$f":"IF(A24<>\"\",IFERROR(VLOOKUP(AF24,Tabelas!B:D,3,0),0),\"\")","v":0},{"$f":"IF(A24<>\"\",IFERROR(VLOOKUP(AG24,Tabelas!B:D,3,0),0),\"\")","v":0},{"$f":"IF(A24<>\"\",IFERROR(VLOOKUP(AH24,Tabelas!B:D,3,0),0),\"\")","v":0},{"$f":"IF(A24<>\"\",IFERROR(VLOOKUP(AI24,Tabelas!B:D,3,0),0),\"\")","v":0},{"$f":"IF(A24<>\"\",IFERROR(VLOOKUP(AJ24,Tabelas!B:D,3,0),0),\"\")","v":0},{"$f":"IF(A24<>\"\",IFERROR(VLOOKUP(AK24,Tabelas!B:D,3,0),0),\"\")","v":0},{"$f":"IF(A24<>\"\",IFERROR(VLOOKUP(AL24,Tabelas!B:D,3,0),0),\"\")","v":0},{"$f":"IF(A24<>\"\",IFERROR(VLOOKUP(AM24,Tabelas!B:D,3,0),0),\"\")","v":0},{"$f":"IF(A24<>\"\",IFERROR(VLOOKUP(AN24,Tabelas!B:D,3,0),0),\"\")","v":0},{"$f":"IF(A24<>\"\",IFERROR(VLOOKUP(AO24,Tabelas!B:D,3,0),0),\"\")","v":0},{"$f":"IF(A24<>\"\",IFERROR(VLOOKUP(AP24,Tabelas!B:D,3,0),0),\"\")","v":0},{"$f":"IF(A24<>\"\",IFERROR(VLOOKUP(AQ24,Tabelas!B:D,3,0),0),\"\")","v":0},{"$f":"IF(AND(A24<>\"\",E24=\"Ebserh\"),SUM(AR24:BV24)+COUNTIF(M24:AQ24,\"N*\")+COUNTIF(M24:AQ24,\"DN*\"),IF(AND(A24<>\"\",E24<>\"Ebserh\"),SUM(AR24:BV24),\"\"))","v":0},{"$f":"IF(A24<>\"\",COUNTIF(M24:AQ24,\"LM\")+COUNTIF(M24:AQ24,\"L\")+COUNTIF(M24:AQ24,\"LP\"),\"\")","v":0},{"$f":"IF(A24<>\"\",COUNTIF(M24:AQ24,\"AB*\"),\"\")","v":0},{"$f":"IF(A24<>\"\",COUNTIF(M24:AQ24,\"FE\"),\"\")","v":0},{"$f":"IF(A24<>\"\",COUNTIF(M24:AQ24,\"LC\"),\"\")","v":0},{"$f":"IF(A24<>\"\",COUNTIF(M24:AQ24,\"CH*\"),\"\")","v":0},{"$f":"IF(A24<>\"\",COUNTIF(M24:AQ24,\"AF1\")+COUNTIF(M24:AQ24,\"AF2\")+COUNTIF(M24:AQ24,\"AF3\")+COUNTIF(M24:AQ24,\"AF4\")+COUNTIF(M24:AQ24,\"AF5\")+COUNTIF(M24:AQ24,\"AF6\")+COUNTIF(M24:AQ24,\"AF7\")+COUNTIF(M24:AQ24,\"AF8\")+COUNTIF(M24:AQ24,\"AF9\")+COUNTIF(M24:AQ24,\"AF10\")+COUNTIF(M24:AQ24,\"AF11\")+COUNTIF(M24:AQ24,\"AF12\")+COUNTIF(M24:AQ24,\"AF13\")+COUNTIF(M24:AQ24,\"AF14\"),\"\")","v":0},{"$f":"IF(A24<>\"\",COUNTIF(M24:AQ24,\"CH*\")+COUNTIF(M24:AQ24,\"L\")+COUNTIF(M24:AQ24,\"LM\")+COUNTIF(M24:AQ24,\"LP\")+COUNTIF(M24:AQ24,\"LC\")+COUNTIF(M24:AQ24,\"AB*\")+COUNTIF(M24:AQ24,\"AF1\")+COUNTIF(M24:AQ24,\"AF2\")+COUNTIF(M24:AQ24,\"AF3\")+COUNTIF(M24:AQ24,\"AF4\")+COUNTIF(M24:AQ24,\"AF5\")+COUNTIF(M24:AQ24,\"AF6\")+COUNTIF(M24:AQ24,\"AF7\")+COUNTIF(M24:AQ24,\"AF8\")+COUNTIF(M24:AQ24,\"AF9\")+COUNTIF(M24:AQ24,\"AF10\")+COUNTIF(M24:AQ24,\"AF11\")+COUNTIF(M24:AQ24,\"AF12\")+COUNTIF(M24:AQ24,\"AF13\")+COUNTIF(M24:AQ24,\"AF14\")+COUNTIF(M24:AQ24,\"RC\")+COUNTIF(M24:AQ24,\"FO\")+COUNTIF(M24:AQ24,\"FE\"),\"\")","v":0}]
["Air Luis Zambom",1824250,null,"ME","RJU",40,null,null,null,null,null,null,null,null,"N10",null,null,null,null,null,null,null,"D8",null,null,"N10",null,null,null,"N10",null,"N10",null,null,null,"N10","D8",null,null,"N10",null,null,null,{"$f":"IF(A25<>\"\",IFERROR(VLOOKUP(M25,Tabelas!B:D,3,0),0),\"\")","v":0},{"$f":"IF(A25<>\"\",IFERROR(VLOOKUP(N25,Tabelas!B:D,3,0),0),\"\")","v":0},{"$f":"IF(A25<>\"\",IFERROR(VLOOKUP(O25,Tabelas!B:D,3,0),0),\"\")","v":12},{"$f":"IF(A25<>\"\",IFERROR(VLOOKUP(P25,Tabelas!B:D,3,0),0),\"\")","v":0},{"$f":"IF(A25<>\"\",IFERROR(VLOOKUP(Q25,Tabelas!B:D,3,0),0),\"\")","v":0},{"$f":"IF(A25<>\"\",IFERROR(VLOOKUP(R25,Tabelas!B:D,3,0),0),\"\")","v":0},{"$f":"IF(A25<>\"\",IFERROR(VLOOKUP(S25,Tabelas!B:D,3,0),0),\"\")","v":0},{"$f":"IF(A25<>\"\",IFERROR(VLOOKUP(T25,Tabelas!B:D,3,0),0),\"\")","v":0},{"$f":"IF(A25<>\"\",IFERROR(VLOOKUP(U25,Tabelas!B:D,3,0),0),\"\")","v":0},{"$f":"IF(A25<>\"\",IFERROR(VLOOKUP(V25,Tabelas!B:D,3,0),0),\"\")","v":0},{"$f":"IF(A25<>\"\",IFERROR(VLOOKUP(W25,Tabelas!B:D,3,0),0),\"\")","v":12},{"$f":"IF(A25<>\"\",IFERROR(VLOOKUP(X25,Tabelas!B:D,3,0),0),\"\")","v":0},{"$f":"IF(A25<>\"\",IFERROR(VLOOKUP(Y25,Tabelas!B:D,3,0),0),\"\")","v":0},{"$f":"IF(A25<>\"\",IFERROR(VLOOKUP(Z25,Tabelas!B:D,3,0),0),\"\")","v":12},{"$f":"IF(A25<>\"\",IFERROR(VLOOKUP(AA25,Tabelas!B:D,3,0),0),\"\")","v":0},{"$f":"IF(A25<>\"\",IFERROR(VLOOKUP(AB25,Tabelas!B:D,3,0),0),\"\")","v":0},{"$f":"IF(A25<>\"\",IFERROR(VLOOKUP(AC25,Tabelas!B:D,3,0),0),\"\")","v":0},{"$f":"IF(A25<>\"\",IFERROR(VLOOKUP(AD25,Tabelas!B:D,3,0),0),\"\")","v":12},{"$f":"IF(A25<>\"\",IFERROR(VLOOKUP(AE25,Tabelas!B:D,3,0),0),\"\")","v":0},{"$f":"IF(A25<>\"\",IFERROR(VLOOKUP(AF25,Tabelas!B:D,3,0),0),\"\")","v":12},{"$f":"IF(A25<>\"\",IFERROR(VLOOKUP(AG25,Tabelas!B:D,3,0),0),\"\")","v":0},{"$f":"IF(A25<>\"\",IFERROR(VLOOKUP(AH25,Tabelas!B:D,3,0),0),\"\")","v":0},{"$f":"IF(A25<>\"\",IFERROR(VLOOKUP(AI25,Tabelas!B:D,3,0),0),\"\")","v":0},{"$f":"IF(A25<>\"\",IFERROR(VLOOKUP(AJ25,Tabelas!B:D,3,0),0),\"\")","v":12},{"$f":"IF(A25<>\"\",IFERROR(VLOOKUP(AK25,Tabelas!B:D,3,0),0),\"\")","v":12},{"$f":"IF(A25<>\"\",IFERROR(VLOOKUP(AL25,Tabelas!B:D,3,0),0),\"\")","v":0},{"$f":"IF(A25<>\"\",IFERROR(VLOOKUP(AM25,Tabelas!B:D,3,0),0),\"\")","v":0},{"$f":"IF(A25<>\"\",IFERROR(VLOOKUP(AN25,Tabelas!B:D,3,0),0),\"\")","v":12},{"$f":"IF(A25<>\"\",IFERROR(VLOOKUP(AO25,Tabelas!B:D,3,0),0),\"\")","v":0},{"$f":"IF(A25<>\"\",IFERROR(VLOOKUP(AP25,Tabelas!B:D,3,0),0),\"\")","v":0},{"$f":"IF(A25<>\"\",IFERROR(VLOOKUP(AQ25,Tabelas!B:D,3,0),0),\"\")","v":0},96,0,0,0,0,0,0,0]
["Aline Varela Dias",1331684,null,"ME","RJU",20,null,null,null,null,null,null,null,"N10",null,null,"D8",null,null,null,null,null,"N10",null,"N10",null,null,null,"FE","FE","FE","FE","FE","FE","FE","FE","FE","FE","FE","FE","FE","FE","FE",{"$f":"IF(A26<>\"\",IFERROR(VLOOKUP(M26,Tabelas!B:D,3,0),0),\"\")","v":0},{"$f":"IF(A26<>\"\",IFERROR(VLOOKUP(N26,Tabelas!B:D,3,0),0),\"\")","v":12},{"$f":"IF(A26<>\"\",IFERROR(VLOOKUP(O26,Tabelas!B:D,3,0),0),\"\")","v":0},{"$f":"IF(A26<>\"\",IFERROR(VLOOKUP(P26,Tabelas!B:D,3,0),0),\"\")","v":0},{"$f":"IF(A26<>\"\",IFERROR(VLOOKUP(Q26,Tabelas!B:D,3,0),0),\"\")","v":12},{"$f":"IF(A26<>\"\",IFERROR(VLOOKUP(R26,Tabelas!B:D,3,0),0),\"\")","v":0},{"$f":"IF(A26<>\"\",IFERROR(VLOOKUP(S26,Tabelas!B:D,3,0),0),\"\")","v":0},{"$f":"IF(A26<>\"\",IFERROR(VLOOKUP(T26,Tabelas!B:D,3,0),0),\"\")","v":0},{"$f":"IF(A26<>\"\",IFERROR(VLOOKUP(U26,Tabelas!B:D,3,0),0),\"\")","v":0},{"$f":"IF(A26<>\"\",IFERROR(VLOOKUP(V26,Tabelas!B:D,3,0),0),\"\")","v":0},{"$f":"IF(A26<>\"\",IFERROR(VLOOKUP(W26,Tabelas!B:D,3,0),0),\"\")","v":12},{"$f":"IF(A26<>\"\",IFERROR(VLOOKUP(X26,Tabelas!B:D,3,0),0),\"\")","v":0},{"$f":"IF(A26<>\"\",IFERROR(VLOOKUP(Y26,Tabelas!B:D,3,0),0),\"\")","v":12},{"$f":"IF(A26<>\"\",IFERROR(VLOOKUP(Z26,Tabelas!B:D,3,0),0),\"\")","v":0},{"$f":"IF(A26<>\"\",IFERROR(VLOOKUP(AA26,Tabelas!B:D,3,0),0),\"\")","v":0},{"$f":"IF(A26<>\"\",IFERROR(VLOOKUP(AB26,Tabelas!B:D,3,0),0),\"\")","v":0},{"$f":"IF(A26<>\"\",IFERROR(VLOOKUP(AC26,Tabelas!B:D,3,0),0),\"\")","v":0},{"$f":"IF(A26<>\"\",IFERROR(VLOOKUP(AD26,Tabelas!B:D,3,0),0),\"\")","v":0},{"$f":"IF(A26<>\"\",IFERROR(VLOOKUP(AE26,Tabelas!B:D,3,0),0),\"\")","v":0},{"$f":"IF(A26<>\"\",IFERROR(VLOOKUP(AF26,Tabelas!B:D,3,0),0),\"\")","v":0},{"$f":"IF(A26<>\"\",IFERROR(VLOOKUP(AG26,Tabelas!B:D,3,0),0),\"\")","v":0},{"$f":"IF(A26<>\"\",IFERROR(VLOOKUP(AH26,Tabelas!B:D,3,0),0),\"\")","v":0},{"$f":"IF(A26<>\"\",IFERROR(VLOOKUP(AI26,Tabelas!B:D,3,0),0),\"\")","v":0},{"$f":"IF(A26<>\"\",IFERROR(VLOOKUP(AJ26,Tabelas!B:D,3,0),0),\"\")","v":0},{"$f":"IF(A26<>\"\",IFERROR(VLOOKUP(AK26,Tabelas!B:D,3,0),0),\"\")","v":0},{"$f":"IF(A26<>\"\",IFERROR(VLOOKUP(AL26,Tabelas!B:D,3,0),0),\"\")","v":0},{"$f":"IF(A26<>\"\",IFERROR(VLOOKUP(AM26,Tabelas!B:D,3,0),0),\"\")","v":0},{"$f":"IF(A26<>\"\",IFERROR(VLOOKUP(AN26,Tabelas!B:D,3,0),0),\"\")","v":0},{"$f":"IF(A26<>\"\",IFERROR(VLOOKUP(AO26,Tabelas!B:D,3,0),0),\"\")","v":0},{"$f":"IF(A26<>\"\",IFERROR(VLOOKUP(AP26,Tabelas!B:D,3,0),0),\"\")","v":0},{"$f":"IF(A26<>\"\",IFERROR(VLOOKUP(AQ26,Tabelas!B:D,3,0),0),\"\")","v":0},48,0,0,15,0,0,0,15]
["Anelise Schaeffer da Silveira",1919390,null,"ME","EBSERH",24,null,null,null,null,null,null,"N10",null,null,"D8",null,null,"N10",null,null,null,"N10",null,null,null,null,"N10","N10",null,"N10",null,null,null,null,null,"D8",null,null,null,null,"N10",null,{"$f":"IF(A27<>\"\",IFERROR(VLOOKUP(M27,Tabelas!B:D,3,0),0),\"\")","v":12},{"$f":"IF(A27<>\"\",IFERROR(VLOOKUP(N27,Tabelas!B:D,3,0),0),\"\")","v":0},{"$f":"IF(A27<>\"\",IFERROR(VLOOKUP(O27,Tabelas!B:D,3,0),0),\"\")","v":0},{"$f":"IF(A27<>\"\",IFERROR(VLOOKUP(P27,Tabelas!B:D,3,0),0),\"\")","v":12},{"$f":"IF(A27<>\"\",IFERROR(VLOOKUP(Q27,Tabelas!B:D,3,0),0),\"\")","v":0},{"$f":"IF(A27<>\"\",IFERROR(VLOOKUP(R27,Tabelas!B:D,3,0),0),\"\")","v":0},{"$f":"IF(A27<>\"\",IFERROR(VLOOKUP(S27,Tabelas!B:D,3,0),0),\"\")","v":12},{"$f":"IF(A27<>\"\",IFERROR(VLOOKUP(T27,Tabelas!B:D,3,0),0),\"\")","v":0},{"$f":"IF(A27<>\"\",IFERROR(VLOOKUP(U27,Tabelas!B:D,3,0),0),\"\")","v":0},{"$f":"IF(A27<>\"\",IFERROR(VLOOKUP(V27,Tabelas!B:D,3,0),0),\"\")","v":0},{"$f":"IF(A27<>\"\",IFERROR(VLOOKUP(W27,Tabelas!B:D,3,0),0),\"\")","v":12},{"$f":"IF(A27<>\"\",IFERROR(VLOOKUP(X27,Tabelas!B:D,3,0),0),\"\")","v":0},{"$f":"IF(A27<>\"\",IFERROR(VLOOKUP(Y27,Tabelas!B:D,3,0),0),\"\")","v":0},{"$f":"IF(A27<>\"\",IFERROR(VLOOKUP(Z27,Tabelas!B:D,3,0),0),\"\")","v":0},{"$f":"IF(A27<>\"\",IFERROR(VLOOKUP(AA27,Tabelas!B:D,3,0),0),\"\")","v":0},{"$f":"IF(A27<>\"\",IFERROR(VLOOKUP(AB27,Tabelas!B:D,3,0),0),\"\")","v":12},{"$f":"IF(A27<>\"\",IFERROR(VLOOKUP(AC27,Tabelas!B:D,3,0),0),\"\")","v":12},{"$f":"IF(A27<>\"\",IFERROR(VLOOKUP(AD27,Tabelas!B:D,3,0),0),\"\")","v":0},{"$f":"IF(A27<>\"\",IFERROR(VLOOKUP(AE27,Tabelas!B:D,3,0),0),\"\")","v":12},{"$f":"IF(A27<>\"\",IFERROR(VLOOKUP(AF27,Tabelas!B:D,3,0),0),\"\")","v":0},{"$f":"IF(A27<>\"\",IFERROR(VLOOKUP(AG27,Tabelas!B:D,3,0),0),\"\")","v":0},{"$f":"IF(A27<>\"\",IFERROR(VLOOKUP(AH27,Tabelas!B:D,3,0),0),\"\")","v":0},{"$f":"IF(A27<>\"\",IFERROR(VLOOKUP(AI27,Tabelas!B:D,3,0),0),\"\")","v":0},{"$f":"IF(A27<>\"\",IFERROR(VLOOKUP(AJ27,Tabelas!B:D,3,0),0),\"\")","v":0},{"$f":"IF(A27<>\"\",IFERROR(VLOOKUP(AK27,Tabelas!B:D,3,0),0),\"\")","v":12},{"$f":"IF(A27<>\"\",IFERROR(VLOOKUP(AL27,Tabelas!B:D,3,0),0),\"\")","v":0},{"$f":"IF(A27<>\"\",IFERROR(VLOOKUP(AM27,Tabelas!B:D,3,0),0),\"\")","v":0},{"$f":"IF(A27<>\"\",IFERROR(VLOOKUP(AN27,Tabelas!B:D,3,0),0),\"\")","v":0},{"$f":"IF(A27<>\"\",IFERROR(VLOOKUP(AO27,Tabelas!B:D,3,0),0),\"\")","v":0},{"$f":"IF(A27<>\"\",IFERROR(VLOOKUP(AP27,Tabelas!B:D,3,0),0),\"\")","v":12},{"$f":"IF(A27<>\"\",IFERROR(VLOOKUP(AQ27,Tabelas!B:D,3,0),0),\"\")","v":0},115,0,0,0,0,0,0,0]
["Duane José Milioli",1824201,null,"ME","RJU",20,null,null,null,null,null,null,null,null,"N10",null,"DN6","N10",null,null,null,null,null,null,null,null,"N10","N10",null,null,"N10",null,null,null,null,null,null,null,null,null,null,"N10",null,{"$f":"IF(A28<>\"\",IFERROR(VLOOKUP(M28,Tabelas!B:D,3,0),0),\"\")","v":0},{"$f":"IF(A28<>\"\",IFERROR(VLOOKUP(N28,Tabelas!B:D,3,0),0),\"\")","v":0},{"$f":"IF(A28<>\"\",IFERROR(VLOOKUP(O28,Tabelas!B:D,3,0),0),\"\")","v":12},{"$f":"IF(A28<>\"\",IFERROR(VLOOKUP(P28,Tabelas!B:D,3,0),0),\"\")","v":0},{"$f":"IF(A28<>\"\",IFERROR(VLOOKUP(Q28,Tabelas!B:D,3,0),0),\"\")","v":24},{"$f":"IF(A28<>\"\",IFERROR(VLOOKUP(R28,Tabelas!B:D,3,0),0),\"\")","v":12},{"$f":"IF(A28<>\"\",IFERROR(VLOOKUP(S28,Tabelas!B:D,3,0),0),\"\")","v":0},{"$f":"IF(A28<>\"\",IFERROR(VLOOKUP(T28,Tabelas!B:D,3,0),0),\"\")","v":0},{"$f":"IF(A28<>\"\",IFERROR(VLOOKUP(U28,Tabelas!B:D,3,0),0),\"\")","v":0},{"$f":"IF(A28<>\"\",IFERROR(VLOOKUP(V28,Tabelas!B:D,3,0),0),\"\")","v":0},{"$f":"IF(A28<>\"\",IFERROR(VLOOKUP(W28,Tabelas!B:D,3,0),0),\"\")","v":0},{"$f":"IF(A28<>\"\",IFERROR(VLOOKUP(X28,Tabelas!B:D,3,0),0),\"\")","v":0},{"$f":"IF(A28<>\"\",IFERROR(VLOOKUP(Y28,Tabelas!B:D,3,0),0),\"\")","v":0},{"$f":"IF(A28<>\"\",IFERROR(VLOOKUP(Z28,Tabelas!B:D,3,0),0),\"\")","v":0},{"$f":"IF(A28<>\"\",IFERROR(VLOOKUP(AA28,Tabelas!B:D,3,0),0),\"\")","v":12},{"$f":"IF(A28<>\"\",IFERROR(VLOOKUP(AB28,Tabelas!B:D,3,0),0),\"\")","v":12},{"$f":"IF(A28<>\"\",IFERROR(VLOOKUP(AC28,Tabelas!B:D,3,0),0),\"\")","v":0},{"$f":"IF(A28<>\"\",IFERROR(VLOOKUP(AD28,Tabelas!B:D,3,0),0),\"\")","v":0},{"$f":"IF(A28<>\"\",IFERROR(VLOOKUP(AE28,Tabelas!B:D,3,0),0),\"\")","v":12},{"$f":"IF(A28<>\"\",IFERROR(VLOOKUP(AF28,Tabelas!B:D,3,0),0),\"\")","v":0},{"$f":"IF(A28<>\"\",IFERROR(VLOOKUP(AG28,Tabelas!B:D,3,0),0),\"\")","v":0},{"$f":"IF(A28<>\"\",IFERROR(VLOOKUP(AH28,Tabelas!B:D,3,0),0),\"\")","v":0},{"$f":"IF(A28<>\"\",IFERROR(VLOOKUP(AI28,Tabelas!B:D,3,0),0),\"\")","v":0},{"$f":"IF(A28<>\"\",IFERROR(VLOOKUP(AJ28,Tabelas!B:D,3,0),0),\"\")","v":0},{"$f":"IF(A28<>\"\",IFERROR(VLOOKUP(AK28,Tabelas!B:D,3,0),0),\"\")","v":0},{"$f":"IF(A28<>\"\",IFERROR(VLOOKUP(AL28,Tabelas!B:D,3,0),0),\"\")","v":0},{"$f":"IF(A28<>\"\",IFERROR(VLOOKUP(AM28,Tabelas!B:D,3,0),0),\"\")","v":0},{"$f":"IF(A28<>\"\",IFERROR(VLOOKUP(AN28,Tabelas!B:D,3,0),0),\"\")","v":0},{"$f":"IF(A28<>\"\",IFERROR(VLOOKUP(AO28,Tabelas!B:D,3,0),0),\"\")","v":0},{"$f":"IF(A28<>\"\",IFERROR(VLOOKUP(AP28,Tabelas!B:D,3,0),0),\"\")","v":12},{"$f":"IF(A28<>\"\",IFERROR(VLOOKUP(AQ28,Tabelas!B:D,3,0),0),\"\")","v":0},96,0,0,0,0,0,0,0]
["Eduardo Jardim Berbigier",2604323,null,"ME","RJU",20,null,null,null,null,null,null,null,null,null,"N10",null,null,null,null,null,"N10",null,"N10",null,null,"N10",null,null,null,null,null,"N10",null,null,null,null,"D8",null,null,"N10",null,"N10",{"$f":"IF(A29<>\"\",IFERROR(VLOOKUP(M29,Tabelas!B:D,3,0),0),\"\")","v":0},{"$f":"IF(A29<>\"\",IFERROR(VLOOKUP(N29,Tabelas!B:D,3,0),0),\"\")","v":0},{"$f":"IF(A29<>\"\",IFERROR(VLOOKUP(O29,Tabelas!B:D,3,0),0),\"\")","v":0},{"$f":"IF(A29<>\"\",IFERROR(VLOOKUP(P29,Tabelas!B:D,3,0),0),\"\")","v":12},{"$f":"IF(A29<>\"\",IFERROR(VLOOKUP(Q29,Tabelas!B:D,3,0),0),\"\")","v":0},{"$f":"IF(A29<>\"\",IFERROR(VLOOKUP(R29,Tabelas!B:D,3,0),0),\"\")","v":0},{"$f":"IF(A29<>\"\",IFERROR(VLOOKUP(S29,Tabelas!B:D,3,0),0),\"\")","v":0},{"$f":"IF(A29<>\"\",IFERROR(VLOOKUP(T29,Tabelas!B:D,3,0),0),\"\")","v":0},{"$f":"IF(A29<>\"\",IFERROR(VLOOKUP(U29,Tabelas!B:D,3,0),0),\"\")","v":0},{"$f":"IF(A29<>\"\",IFERROR(VLOOKUP(V29,Tabelas!B:D,3,0),0),\"\")","v":12},{"$f":"IF(A29<>\"\",IFERROR(VLOOKUP(W29,Tabelas!B:D,3,0),0),\"\")","v":0},{"$f":"IF(A29<>\"\",IFERROR(VLOOKUP(X29,Tabelas!B:D,3,0),0),\"\")","v":12},{"$f":"IF(A29<>\"\",IFERROR(VLOOKUP(Y29,Tabelas!B:D,3,0),0),\"\")","v":0},{"$f":"IF(A29<>\"\",IFERROR(VLOOKUP(Z29,Tabelas!B:D,3,0),0),\"\")","v":0},{"$f":"IF(A29<>\"\",IFERROR(VLOOKUP(AA29,Tabelas!B:D,3,0),0),\"\")","v":12},{"$f":"IF(A29<>\"\",IFERROR(VLOOKUP(AB29,Tabelas!B:D,3,0),0),\"\")","v":0},{"$f":"IF(A29<>\"\",IFERROR(VLOOKUP(AC29,Tabelas!B:D,3,0),0),\"\")","v":0},{"$f":"IF(A29<>\"\",IFERROR(VLOOKUP(AD29,Tabelas!B:D,3,0),0),\"\")","v":0},{"$f":"IF(A29<>\"\",IFERROR(VLOOKUP(AE29,Tabelas!B:D,3,0),0),\"\")","v":0},{"$f":"IF(A29<>\"\",IFERROR(VLOOKUP(AF29,Tabelas!B:D,3,0),0),\"\")","v":0},{"$f":"IF(A29<>\"\",IFERROR(VLOOKUP(AG29,Tabelas!B:D,3,0),0),\"\")","v":12},{"$f":"IF(A29<>\"\",IFERROR(VLOOKUP(AH29,Tabelas!B:D,3,0),0),\"\")","v":0},{"$f":"IF(A29<>\"\",IFERROR(VLOOKUP(AI29,Tabelas!B:D,3,0),0),\"\")","v":0},{"$f":"IF(A29<>\"\",IFERROR(VLOOKUP(AJ29,Tabelas!B:D,3,0),0),\"\")","v":0},{"$f":"IF(A29<>\"\",IFERROR(VLOOKUP(AK29,Tabelas!B:D,3,0),0),\"\")","v":0},{"$f":"IF(A29<>\"\",IFERROR(VLOOKUP(AL29,Tabelas!B:D,3,0),0),\"\")","v":12},{"$f":"IF(A29<>\"\",IFERROR(VLOOKUP(AM29,Tabelas!B:D,3,0),0),\"\")","v":0},{"$f":"IF(A29<>\"\",IFERROR(VLOOKUP(AN29,Tabelas!B:D,3,0),0),\"\")","v":0},{"$f":"IF(A29<>\"\",IFERROR(VLOOKUP(AO29,Tabelas!B:D,3,0),0),\"\")","v":12},{"$f":"IF(A29<>\"\",IFERROR(VLOOKUP(AP29,Tabelas!B:D,3,0),0),\"\")","v":0},{"$f":"IF(A29<>\"\",IFERROR(VLOOKUP(AQ29,Tabelas!B:D,3,0),0),\"\")","v":12},96,0,0,0,0,0,0,0]
["Elizabeth Kristiane Buss Lunardelli",3760219,null,"ME","RJU",null,null,null,null,null,null,null,null,null,null,null,null,null,null,null,null,null,null,null,null,null,null,null,null,"D8",null,null,"N10",null,null,null,null,null,null,null,null,null,null,{"$f":"IF(A30<>\"\",IFERROR(VLOOKUP(M30,Tabelas!B:D,3,0),0),\"\")","v":0},{"$f":"IF(A30<>\"\",IFERROR(VLOOKUP(N30,Tabelas!B:D,3,0),0),\"\")","v":0},{"$f":"IF(A30<>\"\",IFERROR(VLOOKUP(O30,Tabelas!B:D,3,0),0),\"\")","v":0},{"$f":"IF(A30<>\"\",IFERROR(VLOOKUP(P30,Tabelas!B:D,3,0),0),\"\")","v":0},{"$f":"IF(A30<>\"\",IFERROR(VLOOKUP(Q30,Tabelas!B:D,3,0),0),\"\")","v":0},{"$f":"IF(A30<>\"\",IFERROR(VLOOKUP(R30,Tabelas!B:D,3,0),0),\"\")","v":0},{"$f":"IF(A30<>\"\",IFERROR(VLOOKUP(S30,Tabelas!B:D,3,0),0),\"\")","v":0},{"$f":"IF(A30<>\"\",IFERROR(VLOOKUP(T30,Tabelas!B:D,3,0),0),\"\")","v":0},{"$f":"IF(A30<>\"\",IFERROR(VLOOKUP(U30,Tabelas!B:D,3,0),0),\"\")","v":0},{"$f":"IF(A30<>\"\",IFERROR(VLOOKUP(V30,Tabelas!B:D,3,0),0),\"\")","v":0},{"$f":"IF(A30<>\"\",IFERROR(VLOOKUP(W30,Tabelas!B:D,3,0),0),\"\")","v":0},{"$f":"IF(A30<>\"\",IFERROR(VLOOKUP(X30,Tabelas!B:D,3,0),0),\"\")","v":0},{"$f":"IF(A30<>\"\",IFERROR(VLOOKUP(Y30,Tabelas!B:D,3,0),0),\"\")","v":0},{"$f":"IF(A30<>\"\",IFERROR(VLOOKUP(Z30,Tabelas!B:D,3,0),0),\"\")","v":0},{"$f":"IF(A30<>\"\",IFERROR(VLOOKUP(AA30,Tabelas!B:D,3,0),0),\"\")","v":0},{"$f":"IF(A30<>\"\",IFERROR(VLOOKUP(AB30,Tabelas!B:D,3,0),0),\"\")","v":0},{"$f":"IF(A30<>\"\",IFERROR(VLOOKUP(AC30,Tabelas!B:D,3,0),0),\"\")","v":0},{"$f":"IF(A30<>\"\",IFERROR(VLOOKUP(AD30,Tabelas!B:D,3,0),0),\"\")","v":12},{"$f":"IF(A30<>\"\",IFERROR(VLOOKUP(AE30,Tabelas!B:D,3,0),0),\"\")","v":0},{"$f":"IF(A30<>\"\",IFERROR(VLOOKUP(AF30,Tabelas!B:D,3,0),0),\"\")","v":0},{"$f":"IF(A30<>\"\",IFERROR(VLOOKUP(AG30,Tabelas!B:D,3,0),0),\"\")","v":12},{"$f":"IF(A30<>\"\",IFERROR(VLOOKUP(AH30,Tabelas!B:D,3,0),0),\"\")","v":0},{"$f":"IF(A30<>\"\",IFERROR(VLOOKUP(AI30,Tabelas!B:D,3,0),0),\"\")","v":0},{"$f":"IF(A30<>\"\",IFERROR(VLOOKUP(AJ30,Tabelas!B:D,3,0),0),\"\")","v":0},{"$f":"IF(A30<>\"\",IFERROR(VLOOKUP(AK30,Tabelas!B:D,3,0),0),\"\")","v":0},{"$f":"IF(A30<>\"\",IFERROR(VLOOKUP(AL30,Tabelas!B:D,3,0),0),\"\")","v":0},{"$f":"IF(A30<>\"\",IFERROR(VLOOKUP(AM30,Tabelas!B:D,3,0),0),\"\")","v":0},{"$f":"IF(A30<>\"\",IFERROR(VLOOKUP(AN30,Tabelas!B:D,3,0),0),\"\")","v":0},{"$f":"IF(A30<>\"\",IFERROR(VLOOKUP(AO30,Tabelas!B:D,3,0),0),\"\")","v":0},{"$f":"IF(A30<>\"\",IFERROR(VLOOKUP(AP30,Tabelas!B:D,3,0),0),\"\")","v":0},{"$f":"IF(A30<>\"\",IFERROR(VLOOKUP(AQ30,Tabelas!B:D,3,0),0),\"\")","v":0},24,0,0,0,0,0,0,0]
["Fernanda Goss Fontanella",1200689,null,"ME","EBSERH",24,null,null,null,null,null,null,null,"N10",null,"N10",null,null,"T17",null,"N10",null,"D8",null,null,"N10",null,null,null,"D8",null,"N10",null,"T17",null,null,null,null,null,null,"N10",null,null,{"$f":"IF(A31<>\"\",IFERROR(VLOOKUP(M31,Tabelas!B:D,3,0),0),\"\")","v":0},{"$f":"IF(A31<>\"\",IFERROR(VLOOKUP(N31,Tabelas!B:D,3,0),0),\"\")","v":12},{"$f":"IF(A31<>\"\",IFERROR(VLOOKUP(O31,Tabelas!B:D,3,0),0),\"\")","v":0},{"$f":"IF(A31<>\"\",IFERROR(VLOOKUP(P31,Tabelas!B:D,3,0),0),\"\")","v":12},{"$f":"IF(A31<>\"\",IFERROR(VLOOKUP(Q31,Tabelas!B:D,3,0),0),\"\")","v":0},{"$f":"IF(A31<>\"\",IFERROR(VLOOKUP(R31,Tabelas!B:D,3,0),0),\"\")","v":0},{"$f":"IF(A31<>\"\",IFERROR(VLOOKUP(S31,Tabelas!B:D,3,0),0),\"\")","v":6},{"$f":"IF(A31<>\"\",IFERROR(VLOOKUP(T31,Tabelas!B:D,3,0),0),\"\")","v":0},{"$f":"IF(A31<>\"\",IFERROR(VLOOKUP(U31,Tabelas!B:D,3,0),0),\"\")","v":12},{"$f":"IF(A31<>\"\",IFERROR(VLOOKUP(V31,Tabelas!B:D,3,0),0),\"\")","v":0},{"$f":"IF(A31<>\"\",IFERROR(VLOOKUP(W31,Tabelas!B:D,3,0),0),\"\")","v":12},{"$f":"IF(A31<>\"\",IFERROR(VLOOKUP(X31,Tabelas!B:D,3,0),0),\"\")","v":0},{"$f":"IF(A31<>\"\",IFERROR(VLOOKUP(Y31,Tabelas!B:D,3,0),0),\"\")","v":0},{"$f":"IF(A31<>\"\",IFERROR(VLOOKUP(Z31,Tabelas!B:D,3,0),0),\"\")","v":12},{"$f":"IF(A31<>\"\",IFERROR(VLOOKUP(AA31,Tabelas!B:D,3,0),0),\"\")","v":0},{"$f":"IF(A31<>\"\",IFERROR(VLOOKUP(AB31,Tabelas!B:D,3,0),0),\"\")","v":0},{"$f":"IF(A31<>\"\",IFERROR(VLOOKUP(AC31,Tabelas!B:D,3,0),0),\"\")","v":0},{"$f":"IF(A31<>\"\",IFERROR(VLOOKUP(AD31,Tabelas!B:D,3,0),0),\"\")","v":12},{"$f":"IF(A31<>\"\",IFERROR(VLOOKUP(AE31,Tabelas!B:D,3,0),0),\"\")","v":0},{"$f":"IF(A31<>\"\",IFERROR(VLOOKUP(AF31,Tabelas!B:D,3,0),0),\"\")","v":12},{"$f":"IF(A31<>\"\",IFERROR(VLOOKUP(AG31,Tabelas!B:D,3,0),0),\"\")","v":0},{"$f":"IF(A31<>\"\",IFERROR(VLOOKUP(AH31,Tabelas!B:D,3,0),0),\"\")","v":6},{"$f":"IF(A31<>\"\",IFERROR(VLOOKUP(AI31,Tabelas!B:D,3,0),0),\"\")","v":0},{"$f":"IF(A31<>\"\",IFERROR(VLOOKUP(AJ31,Tabelas!B:D,3,0),0),\"\")","v":0},{"$f":"IF(A31<>\"\",IFERROR(VLOOKUP(AK31,Tabelas!B:D,3,0),0),\"\")","v":0},{"$f":"IF(A31<>\"\",IFERROR(VLOOKUP(AL31,Tabelas!B:D,3,0),0),\"\")","v":0},{"$f":"IF(A31<>\"\",IFERROR(VLOOKUP(AM31,Tabelas!B:D,3,0),0),\"\")","v":0},{"$f":"IF(A31<>\"\",IFERROR(VLOOKUP(AN31,Tabelas!B:D,3,0),0),\"\")","v":0},{"$f":"IF(A31<>\"\",IFERROR(VLOOKUP(AO31,Tabelas!B:D,3,0),0),\"\")","v":12},{"$f":"IF(A31<>\"\",IFERROR(VLOOKUP(AP31,Tabelas!B:D,3,0),0),\"\")","v":0},{"$f":"IF(A31<>\"\",IFERROR(VLOOKUP(AQ31,Tabelas!B:D,3,0),0),\"\")","v":0},114,0,0,0,0,0,0,0]
["Fernanda Olivo Jakimiu",1016540,null,"ME","EBSERH",24,null,null,null,null,null,null,null,null,"L",null,null,null,null,null,null,null,null,null,null,null,null,null,null,null,null,null,null,null,null,null,null,null,null,null,null,null,null,{"$f":"IF(A32<>\"\",IFERROR(VLOOKUP(M32,Tabelas!B:D,3,0),0),\"\")","v":0},{"$f":"IF(A32<>\"\",IFERROR(VLOOKUP(N32,Tabelas!B:D,3,0),0),\"\")","v":0},{"$f":"IF(A32<>\"\",IFERROR(VLOOKUP(O32,Tabelas!B:D,3,0),0),\"\")","v":0},{"$f":"IF(A32<>\"\",IFERROR(VLOOKUP(P32,Tabelas!B:D,3,0),0),\"\")","v":0},{"$f":"IF(A32<>\"\",IFERROR(VLOOKUP(Q32,Tabelas!B:D,3,0),0),\"\")","v":0},{"$f":"IF(A32<>\"\",IFERROR(VLOOKUP(R32,Tabelas!B:D,3,0),0),\"\")","v":0},{"$f":"IF(A32<>\"\",IFERROR(VLOOKUP(S32,Tabelas!B:D,3,0),0),\"\")","v":0},{"$f":"IF(A32<>\"\",IFERROR(VLOOKUP(T32,Tabelas!B:D,3,0),0),\"\")","v":0},{"$f":"IF(A32<>\"\",IFERROR(VLOOKUP(U32,Tabelas!B:D,3,0),0),\"\")","v":0},{"$f":"IF(A32<>\"\",IFERROR(VLOOKUP(V32,Tabelas!B:D,3,0),0),\"\")","v":0},{"$f":"IF(A32<>\"\",IFERROR(VLOOKUP(W32,Tabelas!B:D,3,0),0),\"\")","v":0},{"$f":"IF(A32<>\"\",IFERROR(VLOOKUP(X32,Tabelas!B:D,3,0),0),\"\")","v":0},{"$f":"IF(A32<>\"\",IFERROR(VLOOKUP(Y32,Tabelas!B:D,3,0),0),\"\")","v":0},{"$f":"IF(A32<>\"\",IFERROR(VLOOKUP(Z32,Tabelas!B:D,3,0),0),\"\")","v":0},{"$f":"IF(A32<>\"\",IFERROR(VLOOKUP(AA32,Tabelas!B:D,3,0),0),\"\")","v":0},{"$f":"IF(A32<>\"\",IFERROR(VLOOKUP(AB32,Tabelas!B:D,3,0),0),\"\")","v":0},{"$f":"IF(A32<>\"\",IFERROR(VLOOKUP(AC32,Tabelas!B:D,3,0),0),\"\")","v":0},{"$f":"IF(A32<>\"\",IFERROR(VLOOKUP(AD32,Tabelas!B:D,3,0),0),\"\")","v":0},{"$f":"IF(A32<>\"\",IFERROR(VLOOKUP(AE32,Tabelas!B:D,3,0),0),\"\")","v":0},{"$f":"IF(A32<>\"\",IFERROR(VLOOKUP(AF32,Tabelas!B:D,3,0),0),\"\")","v":0},{"$f":"IF(A32<>\"\",IFERROR(VLOOKUP(AG32,Tabelas!B:D,3,0),0),\"\")","v":0},{"$f":"IF(A32<>\"\",IFERROR(VLOOKUP(AH32,Tabelas!B:D,3,0),0),\"\")","v":0},{"$f":"IF(A32<>\"\",IFERROR(VLOOKUP(AI32,Tabelas!B:D,3,0),0),\"\")","v":0},{"$f":"IF(A32<>\"\",IFERROR(VLOOKUP(AJ32,Tabelas!B:D,3,0),0),\"\")","v":0},{"$f":"IF(A32<>\"\",IFERROR(VLOOKUP(AK32,Tabelas!B:D,3,0),0),\"\")","v":0},{"$f":"IF(A32<>\"\",IFERROR(VLOOKUP(AL32,Tabelas!B:D,3,0),0),\"\")","v":0},{"$f":"IF(A32<>\"\",IFERROR(VLOOKUP(AM32,Tabelas!B:D,3,0),0),\"\")","v":0},{"$f":"IF(A32<>\"\",IFERROR(VLOOKUP(AN32,Tabelas!B:D,3,0),0),\"\")","v":0},{"$f":"IF(A32<>\"\",IFERROR(VLOOKUP(AO32,Tabelas!B:D,3,0),0),\"\")","v":0},{"$f":"IF(A32<>\"\",IFERROR(VLOOKUP(AP32,Tabelas!B:D,3,0),0),\"\")","v":0},{"$f":"IF(A32<>\"\",IFERROR(VLOOKUP(AQ32,Tabelas!B:D,3,0),0),\"\")","v":0},0,1,0,0,0,0,0,1]
["Irácino José Miranda Júnior",1006032,null,"ME","EBSERH",24,null,null,null,null,null,null,null,null,null,"DN6",null,null,null,"N10",null,null,null,null,null,null,"N10",null,null,null,"N10",null,"N10",null,"N10",null,"D8",null,null,"N10",null,null,null,{"$f":"IF(A33<>\"\",IFERROR(VLOOKUP(M33,Tabelas!B:D,3,0),0),\"\")","v":0},{"$f":"IF(A33<>\"\",IFERROR(VLOOKUP(N33,Tabelas!B:D,3,0),0),\"\")","v":0},{"$f":"IF(A33<>\"\",IFERROR(VLOOKUP(O33,Tabelas!B:D,3,0),0),\"\")","v":0},{"$f":"IF(A33<>\"\",IFERROR(VLOOKUP(P33,Tabelas!B:D,3,0),0),\"\")","v":24},{"$f":"IF(A33<>\"\",IFERROR(VLOOKUP(Q33,Tabelas!B:D,3,0),0),\"\")","v":0},{"$f":"IF(A33<>\"\",IFERROR(VLOOKUP(R33,Tabelas!B:D,3,0),0),\"\")","v":0},{"$f":"IF(A33<>\"\",IFERROR(VLOOKUP(S33,Tabelas!B:D,3,0),0),\"\")","v":0},{"$f":"IF(A33<>\"\",IFERROR(VLOOKUP(T33,Tabelas!B:D,3,0),0),\"\")","v":12},{"$f":"IF(A33<>\"\",IFERROR(VLOOKUP(U33,Tabelas!B:D,3,0),0),\"\")","v":0},{"$f":"IF(A33<>\"\",IFERROR(VLOOKUP(V33,Tabelas!B:D,3,0),0),\"\")","v":0},{"$f":"IF(A33<>\"\",IFERROR(VLOOKUP(W33,Tabelas!B:D,3,0),0),\"\")","v":0},{"$f":"IF(A33<>\"\",IFERROR(VLOOKUP(X33,Tabelas!B:D,3,0),0),\"\")","v":0},{"$f":"IF(A33<>\"\",IFERROR(VLOOKUP(Y33,Tabelas!B:D,3,0),0),\"\")","v":0},{"$f":"IF(A33<>\"\",IFERROR(VLOOKUP(Z33,Tabelas!B:D,3,0),0),\"\")","v":0},{"$f":"IF(A33<>\"\",IFERROR(VLOOKUP(AA33,Tabelas!B:D,3,0),0),\"\")","v":12},{"$f":"IF(A33<>\"\",IFERROR(VLOOKUP(AB33,Tabelas!B:D,3,0),0),\"\")","v":0},{"$f":"IF(A33<>\"\",IFERROR(VLOOKUP(AC33,Tabelas!B:D,3,0),0),\"\")","v":0},{"$f":"IF(A33<>\"\",IFERROR(VLOOKUP(AD33,Tabelas!B:D,3,0),0),\"\")","v":0},{"$f":"IF(A33<>\"\",IFERROR(VLOOKUP(AE33,Tabelas!B:D,3,0),0),\"\")","v":12},{"$f":"IF(A33<>\"\",IFERROR(VLOOKUP(AF33,Tabelas!B:D,3,0),0),\"\")","v":0},{"$f":"IF(A33<>\"\",IFERROR(VLOOKUP(AG33,Tabelas!B:D,3,0),0),\"\")","v":12},{"$f":"IF(A33<>\"\",IFERROR(VLOOKUP(AH33,Tabelas!B:D,3,0),0),\"\")","v":0},{"$f":"IF(A33<>\"\",IFERROR(VLOOKUP(AI33,Tabelas!B:D,3,0),0),\"\")","v":12},{"$f":"IF(A33<>\"\",IFERROR(VLOOKUP(AJ33,Tabelas!B:D,3,0),0),\"\")","v":0},{"$f":"IF(A33<>\"\",IFERROR(VLOOKUP(AK33,Tabelas!B:D,3,0),0),\"\")","v":12},{"$f":"IF(A33<>\"\",IFERROR(VLOOKUP(AL33,Tabelas!B:D,3,0),0),\"\")","v":0},{"$f":"IF(A33<>\"\",IFERROR(VLOOKUP(AM33,Tabelas!B:D,3,0),0),\"\")","v":0},{"$f":"IF(A33<>\"\",IFERROR(VLOOKUP(AN33,Tabelas!B:D,3,0),0),\"\")","v":12},{"$f":"IF(A33<>\"\",IFERROR(VLOOKUP(AO33,Tabelas!B:D,3,0),0),\"\")","v":0},{"$f":"IF(A33<>\"\",IFERROR(VLOOKUP(AP33,Tabelas!B:D,3,0),0),\"\")","v":0},{"$f":"IF(A33<>\"\",IFERROR(VLOOKUP(AQ33,Tabelas!B:D,3,0),0),\"\")","v":0},115,0,0,0,0,0,0,0]
["Jaqueline Flores Rohr",1841545,null,"ME","EBSERH",24,null,null,null,null,null,null,null,null,null,"D8",null,null,null,null,"N10",null,null,"N10",null,null,null,null,null,"DN6",null,null,null,null,"N10","N10",null,"N10","N10",null,null,null,null,{"$f":"IF(A34<>\"\",IFERROR(VLOOKUP(M34,Tabelas!B:D,3,0),0),\"\")","v":0},{"$f":"IF(A34<>\"\",IFERROR(VLOOKUP(N34,Tabelas!B:D,3,0),0),\"\")","v":0},{"$f":"IF(A34<>\"\",IFERROR(VLOOKUP(O34,Tabelas!B:D,3,0),0),\"\")","v":0},{"$f":"IF(A34<>\"\",IFERROR(VLOOKUP(P34,Tabelas!B:D,3,0),0),\"\")","v":12},{"$f":"IF(A34<>\"\",IFERROR(VLOOKUP(Q34,Tabelas!B:D,3,0),0),\"\")","v":0},{"$f":"IF(A34<>\"\",IFERROR(VLOOKUP(R34,Tabelas!B:D,3,0),0),\"\")","v":0},{"$f":"IF(A34<>\"\",IFERROR(VLOOKUP(S34,Tabelas!B:D,3,0),0),\"\")","v":0},{"$f":"IF(A34<>\"\",IFERROR(VLOOKUP(T34,Tabelas!B:D,3,0),0),\"\")","v":0},{"$f":"IF(A34<>\"\",IFERROR(VLOOKUP(U34,Tabelas!B:D,3,0),0),\"\")","v":12},{"$f":"IF(A34<>\"\",IFERROR(VLOOKUP(V34,Tabelas!B:D,3,0),0),\"\")","v":0},{"$f":"IF(A34<>\"\",IFERROR(VLOOKUP(W34,Tabelas!B:D,3,0),0),\"\")","v":0},{"$f":"IF(A34<>\"\",IFERROR(VLOOKUP(X34,Tabelas!B:D,3,0),0),\"\")","v":12},{"$f":"IF(A34<>\"\",IFERROR(VLOOKUP(Y34,Tabelas!B:D,3,0),0),\"\")","v":0},{"$f":"IF(A34<>\"\",IFERROR(VLOOKUP(Z34,Tabelas!B:D,3,0),0),\"\")","v":0},{"$f":"IF(A34<>\"\",IFERROR(VLOOKUP(AA34,Tabelas!B:D,3,0),0),\"\")","v":0},{"$f":"IF(A34<>\"\",IFERROR(VLOOKUP(AB34,Tabelas!B:D,3,0),0),\"\")","v":0},{"$f":"IF(A34<>\"\",IFERROR(VLOOKUP(AC34,Tabelas!B:D,3,0),0),\"\")","v":0},{"$f":"IF(A34<>\"\",IFERROR(VLOOKUP(AD34,Tabelas!B:D,3,0),0),\"\")","v":24},{"$f":"IF(A34<>\"\",IFERROR(VLOOKUP(AE34,Tabelas!B:D,3,0),0),\"\")","v":0},{"$f":"IF(A34<>\"\",IFERROR(VLOOKUP(AF34,Tabelas!B:D,3,0),0),\"\")","v":0},{"$f":"IF(A34<>\"\",IFERROR(VLOOKUP(AG34,Tabelas!B:D,3,0),0),\"\")","v":0},{"$f":"IF(A34<>\"\",IFERROR(VLOOKUP(AH34,Tabelas!B:D,3,0),0),\"\")","v":0},{"$f":"IF(A34<>\"\",IFERROR(VLOOKUP(AI34,Tabelas!B:D,3,0),0),\"\")","v":12},{"$f":"IF(A34<>\"\",IFERROR(VLOOKUP(AJ34,Tabelas!B:D,3,0),0),\"\")","v":12},{"$f":"IF(A34<>\"\",IFERROR(VLOOKUP(AK34,Tabelas!B:D,3,0),0),\"\")","v":0},{"$f":"IF(A34<>\"\",IFERROR(VLOOKUP(AL34,Tabelas!B:D,3,0),0),\"\")","v":12},{"$f":"IF(A34<>\"\",IFERROR(VLOOKUP(AM34,Tabelas!B:D,3,0),0),\"\")","v":12},{"$f":"IF(A34<>\"\",IFERROR(VLOOKUP(AN34,Tabelas!B:D,3,0),0),\"\")","v":0},{"$f":"IF(A34<>\"\",IFERROR(VLOOKUP(AO34,Tabelas!B:D,3,0),0),\"\")","v":0},{"$f":"IF(A34<>\"\",IFERROR(VLOOKUP(AP34,Tabelas!B:D,3,0),0),\"\")","v":0},{"$f":"IF(A34<>\"\",IFERROR(VLOOKUP(AQ34,Tabelas!B:D,3,0),0),\"\")","v":0},115,0,0,0,0,0,0,0]
["João Luiz Henrique da Silveira",1704052,null,"ME","EBSERH",24,null,null,null,null,null,null,null,null,null,null,null,null,"N10",null,"N10",null,null,null,"N10",null,null,null,"N10",null,"D8",null,null,"N10",null,null,null,"DN6",null,null,null,"N10",null,{"$f":"IF(A35<>\"\",IFERROR(VLOOKUP(M35,Tabelas!B:D,3,0),0),\"\")","v":0},{"$f":"IF(A35<>\"\",IFERROR(VLOOKUP(N35,Tabelas!B:D,3,0),0),\"\")","v":0},{"$f":"IF(A35<>\"\",IFERROR(VLOOKUP(O35,Tabelas!B:D,3,0),0),\"\")","v":0},{"$f":"IF(A35<>\"\",IFERROR(VLOOKUP(P35,Tabelas!B:D,3,0),0),\"\")","v":0},{"$f":"IF(A35<>\"\",IFERROR(VLOOKUP(Q35,Tabelas!B:D,3,0),0),\"\")","v":0},{"$f":"IF(A35<>\"\",IFERROR(VLOOKUP(R35,Tabelas!B:D,3,0),0),\"\")","v":0},{"$f":"IF(A35<>\"\",IFERROR(VLOOKUP(S35,Tabelas!B:D,3,0),0),\"\")","v":12},{"$f":"IF(A35<>\"\",IFERROR(VLOOKUP(T35,Tabelas!B:D,3,0),0),\"\")","v":0},{"$f":"IF(A35<>\"\",IFERROR(VLOOKUP(U35,Tabelas!B:D,3,0),0),\"\")","v":12},{"$f":"IF(A35<>\"\",IFERROR(VLOOKUP(V35,Tabelas!B:D,3,0),0),\"\")","v":0},{"$f":"IF(A35<>\"\",IFERROR(VLOOKUP(W35,Tabelas!B:D,3,0),0),\"\")","v":0},{"$f":"IF(A35<>\"\",IFERROR(VLOOKUP(X35,Tabelas!B:D,3,0),0),\"\")","v":0},{"$f":"IF(A35<>\"\",IFERROR(VLOOKUP(Y35,Tabelas!B:D,3,0),0),\"\")","v":12},{"$f":"IF(A35<>\"\",IFERROR(VLOOKUP(Z35,Tabelas!B:D,3,0),0),\"\")","v":0},{"$f":"IF(A35<>\"\",IFERROR(VLOOKUP(AA35,Tabelas!B:D,3,0),0),\"\")","v":0},{"$f":"IF(A35<>\"\",IFERROR(VLOOKUP(AB35,Tabelas!B:D,3,0),0),\"\")","v":0},{"$f":"IF(A35<>\"\",IFERROR(VLOOKUP(AC35,Tabelas!B:D,3,0),0),\"\")","v":12},{"$f":"IF(A35<>\"\",IFERROR(VLOOKUP(AD35,Tabelas!B:D,3,0),0),\"\")","v":0},{"$f":"IF(A35<>\"\",IFERROR(VLOOKUP(AE35,Tabelas!B:D,3,0),0),\"\")","v":12},{"$f":"IF(A35<>\"\",IFERROR(VLOOKUP(AF35,Tabelas!B:D,3,0),0),\"\")","v":0},{"$f":"IF(A35<>\"\",IFERROR(VLOOKUP(AG35,Tabelas!B:D,3,0),0),\"\")","v":0},{"$f":"IF(A35<>\"\",IFERROR(VLOOKUP(AH35,Tabelas!B:D,3,0),0),\"\")","v":12},{"$f":"IF(A35<>\"\",IFERROR(VLOOKUP(AI35,Tabelas!B:D,3,0),0),\"\")","v":0},{"$f":"IF(A35<>\"\",IFERROR(VLOOKUP(AJ35,Tabelas!B:D,3,0),0),\"\")","v":0},{"$f":"IF(A35<>\"\",IFERROR(VLOOKUP(AK35,Tabelas!B:D,3,0),0),\"\")","v":0},{"$f":"IF(A35<>\"\",IFERROR(VLOOKUP(AL35,Tabelas!B:D,3,0),0),\"\")","v":24},{"$f":"IF(A35<>\"\",IFERROR(VLOOKUP(AM35,Tabelas!B:D,3,0),0),\"\")","v":0},{"$f":"IF(A35<>\"\",IFERROR(VLOOKUP(AN35,Tabelas!B:D,3,0),0),\"\")","v":0},{"$f":"IF(A35<>\"\",IFERROR(VLOOKUP(AO35,Tabelas!B:D,3,0),0),\"\")","v":0},{"$f":"IF(A35<>\"\",IFERROR(VLOOKUP(AP35,Tabelas!B:D,3,0),0),\"\")","v":12},{"$f":"IF(A35<>\"\",IFERROR(VLOOKUP(AQ35,Tabelas!B:D,3,0),0),\"\")","v":0},115,0,0,0,0,0,0,0]
["Joel de Andrade",1160444,null,"ME","RJU",40,null,null,null,null,null,null,"N10",null,"N10",null,"N10","N10",null,null,null,"N10",null,"D8",null,null,null,null,null,null,null,null,null,"N10",null,null,null,"D8",null,null,null,null,"N10",{"$f":"IF(A36<>\"\",IFERROR(VLOOKUP(M36,Tabelas!B:D,3,0),0),\"\")","v":12},{"$f":"IF(A36<>\"\",IFERROR(VLOOKUP(N36,Tabelas!B:D,3,0),0),\"\")","v":0},{"$f":"IF(A36<>\"\",IFERROR(VLOOKUP(O36,Tabelas!B:D,3,0),0),\"\")","v":12},{"$f":"IF(A36<>\"\",IFERROR(VLOOKUP(P36,Tabelas!B:D,3,0),0),\"\")","v":0},{"$f":"IF(A36<>\"\",IFERROR(VLOOKUP(Q36,Tabelas!B:D,3,0),0),\"\")","v":12},{"$f":"IF(A36<>\"\",IFERROR(VLOOKUP(R36,Tabelas!B:D,3,0),0),\"\")","v":12},{"$f":"IF(A36<>\"\",IFERROR(VLOOKUP(S36,Tabelas!B:D,3,0),0),\"\")","v":0},{"$f":"IF(A36<>\"\",IFERROR(VLOOKUP(T36,Tabelas!B:D,3,0),0),\"\")","v":0},{"$f":"IF(A36<>\"\",IFERROR(VLOOKUP(U36,Tabelas!B:D,3,0),0),\"\")","v":0},{"$f":"IF(A36<>\"\",IFERROR(VLOOKUP(V36,Tabelas!B:D,3,0),0),\"\")","v":12},{"$f":"IF(A36<>\"\",IFERROR(VLOOKUP(W36,Tabelas!B:D,3,0),0),\"\")","v":0},{"$f":"IF(A36<>\"\",IFERROR(VLOOKUP(X36,Tabelas!B:D,3,0),0),\"\")","v":12},{"$f":"IF(A36<>\"\",IFERROR(VLOOKUP(Y36,Tabelas!B:D,3,0),0),\"\")","v":0},{"$f":"IF(A36<>\"\",IFERROR(VLOOKUP(Z36,Tabelas!B:D,3,0),0),\"\")","v":0},{"$f":"IF(A36<>\"\",IFERROR(VLOOKUP(AA36,Tabelas!B:D,3,0),0),\"\")","v":0},{"$f":"IF(A36<>\"\",IFERROR(VLOOKUP(AB36,Tabelas!B:D,3,0),0),\"\")","v":0},{"$f":"IF(A36<>\"\",IFERROR(VLOOKUP(AC36,Tabelas!B:D,3,0),0),\"\")","v":0},{"$f":"IF(A36<>\"\",IFERROR(VLOOKUP(AD36,Tabelas!B:D,3,0),0),\"\")","v":0},{"$f":"IF(A36<>\"\",IFERROR(VLOOKUP(AE36,Tabelas!B:D,3,0),0),\"\")","v":0},{"$f":"IF(A36<>\"\",IFERROR(VLOOKUP(AF36,Tabelas!B:D,3,0),0),\"\")","v":0},{"$f":"IF(A36<>\"\",IFERROR(VLOOKUP(AG36,Tabelas!B:D,3,0),0),\"\")","v":0},{"$f":"IF(A36<>\"\",IFERROR(VLOOKUP(AH36,Tabelas!B:D,3,0),0),\"\")","v":12},{"$f":"IF(A36<>\"\",IFERROR(VLOOKUP(AI36,Tabelas!B:D,3,0),0),\"\")","v":0},{"$f":"IF(A36<>\"\",IFERROR(VLOOKUP(AJ36,Tabelas!B:D,3,0),0),\"\")","v":0},{"$f":"IF(A36<>\"\",IFERROR(VLOOKUP(AK36,Tabelas!B:D,3,0),0),\"\")","v":0},{"$f":"IF(A36<>\"\",IFERROR(VLOOKUP(AL36,Tabelas!B:D,3,0),0),\"\")","v":12},{"$f":"IF(A36<>\"\",IFERROR(VLOOKUP(AM36,Tabelas!B:D,3,0),0),\"\")","v":0},{"$f":"IF(A36<>\"\",IFERROR(VLOOKUP(AN36,Tabelas!B:D,3,0),0),\"\")","v":0},{"$f":"IF(A36<>\"\",IFERROR(VLOOKUP(AO36,Tabelas!B:D,3,0),0),\"\")","v":0},{"$f":"IF(A36<>\"\",IFERROR(VLOOKUP(AP36,Tabelas!B:D,3,0),0),\"\")","v":0},{"$f":"IF(A36<>\"\",IFERROR(VLOOKUP(AQ36,Tabelas!B:D,3,0),0),\"\")","v":12},108,0,0,0,0,0,0,0]
["Karine Damiani Cabral ",1925603,null,"ME","EBSERH",24,null,null,null,null,null,null,null,"N10",null,null,"N10",null,null,"N10",null,null,"DN6",null,null,"N10",null,null,null,null,null,null,null,null,"N10","N10",null,null,"N10",null,null,null,null,{"$f":"IF(A37<>\"\",IFERROR(VLOOKUP(M37,Tabelas!B:D,3,0),0),\"\")","v":0},{"$f":"IF(A37<>\"\",IFERROR(VLOOKUP(N37,Tabelas!B:D,3,0),0),\"\")","v":12},{"$f":"IF(A37<>\"\",IFERROR(VLOOKUP(O37,Tabelas!B:D,3,0),0),\"\")","v":0},{"$f":"IF(A37<>\"\",IFERROR(VLOOKUP(P37,Tabelas!B:D,3,0),0),\"\")","v":0},{"$f":"IF(A37<>\"\",IFERROR(VLOOKUP(Q37,Tabelas!B:D,3,0),0),\"\")","v":12},{"$f":"IF(A37<>\"\",IFERROR(VLOOKUP(R37,Tabelas!B:D,3,0),0),\"\")","v":0},{"$f":"IF(A37<>\"\",IFERROR(VLOOKUP(S37,Tabelas!B:D,3,0),0),\"\")","v":0},{"$f":"IF(A37<>\"\",IFERROR(VLOOKUP(T37,Tabelas!B:D,3,0),0),\"\")","v":12},{"$f":"IF(A37<>\"\",IFERROR(VLOOKUP(U37,Tabelas!B:D,3,0),0),\"\")","v":0},{"$f":"IF(A37<>\"\",IFERROR(VLOOKUP(V37,Tabelas!B:D,3,0),0),\"\")","v":0},{"$f":"IF(A37<>\"\",IFERROR(VLOOKUP(W37,Tabelas!B:D,3,0),0),\"\")","v":24},{"$f":"IF(A37<>\"\",IFERROR(VLOOKUP(X37,Tabelas!B:D,3,0),0),\"\")","v":0},{"$f":"IF(A37<>\"\",IFERROR(VLOOKUP(Y37,Tabelas!B:D,3,0),0),\"\")","v":0},{"$f":"IF(A37<>\"\",IFERROR(VLOOKUP(Z37,Tabelas!B:D,3,0),0),\"\")","v":12},{"$f":"IF(A37<>\"\",IFERROR(VLOOKUP(AA37,Tabelas!B:D,3,0),0),\"\")","v":0},{"$f":"IF(A37<>\"\",IFERROR(VLOOKUP(AB37,Tabelas!B:D,3,0),0),\"\")","v":0},{"$f":"IF(A37<>\"\",IFERROR(VLOOKUP(AC37,Tabelas!B:D,3,0),0),\"\")","v":0},{"$f":"IF(A37<>\"\",IFERROR(VLOOKUP(AD37,Tabelas!B:D,3,0),0),\"\")","v":0},{"$f":"IF(A37<>\"\",IFERROR(VLOOKUP(AE37,Tabelas!B:D,3,0),0),\"\")","v":0},{"$f":"IF(A37<>\"\",IFERROR(VLOOKUP(AF37,Tabelas!B:D,3,0),0),\"\")","v":0},{"$f":"IF(A37<>\"\",IFERROR(VLOOKUP(AG37,Tabelas!B:D,3,0),0),\"\")","v":0},{"$f":"IF(A37<>\"\",IFERROR(VLOOKUP(AH37,Tabelas!B:D,3,0),0),\"\")","v":0},{"$f":"IF(A37<>\"\",IFERROR(VLOOKUP(AI37,Tabelas!B:D,3,0),0),\"\")","v":12},{"$f":"IF(A37<>\"\",IFERROR(VLOOKUP(AJ37,Tabelas!B:D,3,0),0),\"\")","v":12},{"$f":"IF(A37<>\"\",IFERROR(VLOOKUP(AK37,Tabelas!B:D,3,0),0),\"\")","v":0},{"$f":"IF(A37<>\"\",IFERROR(VLOOKUP(AL37,Tabelas!B:D,3,0),0),\"\")","v":0},{"$f":"IF(A37<>\"\",IFERROR(VLOOKUP(AM37,Tabelas!B:D,3,0),0),\"\")","v":12},{"$f":"IF(A37<>\"\",IFERROR(VLOOKUP(AN37,Tabelas!B:D,3,0),0),\"\")","v":0},{"$f":"IF(A37<>\"\",IFERROR(VLOOKUP(AO37,Tabelas!B:D,3,0),0),\"\")","v":0},{"$f":"IF(A37<>\"\",IFERROR(VLOOKUP(AP37,Tabelas!B:D,3,0),0),\"\")","v":0},{"$f":"IF(A37<>\"\",IFERROR(VLOOKUP(AQ37,Tabelas!B:D,3,0),0),\"\")","v":0},116,0,0,0,0,0,0,0]
["Pedro Luz da Rosa",2606805,null,"ME","RJU",20,null,null,null,null,null,null,"N10",null,null,null,null,"N10",null,null,null,null,null,"DN6","N10",null,null,null,null,null,"D8",null,null,"N10",null,null,"N10",null,null,null,null,null,null,{"$f":"IF(A38<>\"\",IFERROR(VLOOKUP(M38,Tabelas!B:D,3,0),0),\"\")","v":12},{"$f":"IF(A38<>\"\",IFERROR(VLOOKUP(N38,Tabelas!B:D,3,0),0),\"\")","v":0},{"$f":"IF(A38<>\"\",IFERROR(VLOOKUP(O38,Tabelas!B:D,3,0),0),\"\")","v":0},{"$f":"IF(A38<>\"\",IFERROR(VLOOKUP(P38,Tabelas!B:D,3,0),0),\"\")","v":0},{"$f":"IF(A38<>\"\",IFERROR(VLOOKUP(Q38,Tabelas!B:D,3,0),0),\"\")","v":0},{"$f":"IF(A38<>\"\",IFERROR(VLOOKUP(R38,Tabelas!B:D,3,0),0),\"\")","v":12},{"$f":"IF(A38<>\"\",IFERROR(VLOOKUP(S38,Tabelas!B:D,3,0),0),\"\")","v":0},{"$f":"IF(A38<>\"\",IFERROR(VLOOKUP(T38,Tabelas!B:D,3,0),0),\"\")","v":0},{"$f":"IF(A38<>\"\",IFERROR(VLOOKUP(U38,Tabelas!B:D,3,0),0),\"\")","v":0},{"$f":"IF(A38<>\"\",IFERROR(VLOOKUP(V38,Tabelas!B:D,3,0),0),\"\")","v":0},{"$f":"IF(A38<>\"\",IFERROR(VLOOKUP(W38,Tabelas!B:D,3,0),0),\"\")","v":0},{"$f":"IF(A38<>\"\",IFERROR(VLOOKUP(X38,Tabelas!B:D,3,0),0),\"\")","v":24},{"$f":"IF(A38<>\"\",IFERROR(VLOOKUP(Y38,Tabelas!B:D,3,0),0),\"\")","v":12},{"$f":"IF(A38<>\"\",IFERROR(VLOOKUP(Z38,Tabelas!B:D,3,0),0),\"\")","v":0},{"$f":"IF(A38<>\"\",IFERROR(VLOOKUP(AA38,Tabelas!B:D,3,0),0),\"\")","v":0},{"$f":"IF(A38<>\"\",IFERROR(VLOOKUP(AB38,Tabelas!B:D,3,0),0),\"\")","v":0},{"$f":"IF(A38<>\"\",IFERROR(VLOOKUP(AC38,Tabelas!B:D,3,0),0),\"\")","v":0},{"$f":"IF(A38<>\"\",IFERROR(VLOOKUP(AD38,Tabelas!B:D,3,0),0),\"\")","v":0},{"$f":"IF(A38<>\"\",IFERROR(VLOOKUP(AE38,Tabelas!B:D,3,0),0),\"\")","v":12},{"$f":"IF(A38<>\"\",IFERROR(VLOOKUP(AF38,Tabelas!B:D,3,0),0),\"\")","v":0},{"$f":"IF(A38<>\"\",IFERROR(VLOOKUP(AG38,Tabelas!B:D,3,0),0),\"\")","v":0},{"$f":"IF(A38<>\"\",IFERROR(VLOOKUP(AH38,Tabelas!B:D,3,0),0),\"\")","v":12},{"$f":"IF(A38<>\"\",IFERROR(VLOOKUP(AI38,Tabelas!B:D,3,0),0),\"\")","v":0},{"$f":"IF(A38<>\"\",IFERROR(VLOOKUP(AJ38,Tabelas!B:D,3,0),0),\"\")","v":0},{"$f":"IF(A38<>\"\",IFERROR(VLOOKUP(AK38,Tabelas!B:D,3,0),0),\"\")","v":12},{"$f":"IF(A38<>\"\",IFERROR(VLOOKUP(AL38,Tabelas!B:D,3,0),0),\"\")","v":0},{"$f":"IF(A38<>\"\",IFERROR(VLOOKUP(AM38,Tabelas!B:D,3,0),0),\"\")","v":0},{"$f":"IF(A38<>\"\",IFERROR(VLOOKUP(AN38,Tabelas!B:D,3,0),0),\"\")","v":0},{"$f":"IF(A38<>\"\",IFERROR(VLOOKUP(AO38,Tabelas!B:D,3,0),0),\"\")","v":0},{"$f":"IF(A38<>\"\",IFERROR(VLOOKUP(AP38,Tabelas!B:D,3,0),0),\"\")","v":0},{"$f":"IF(A38<>\"\",IFERROR(VLOOKUP(AQ38,Tabelas!B:D,3,0),0),\"\")","v":0},96,0,0,0,0,0,0,0]
["Robson Lima Ribeiro",3369679,null,"ME","RJU",20,null,null,null,null,null,null,null,null,null,null,null,null,null,"N10",null,null,null,"D8",null,null,null,null,"N10","N10",null,"N10",null,null,null,null,"N10",null,"N10",null,"N10",null,null,{"$f":"IF(A39<>\"\",IFERROR(VLOOKUP(M39,Tabelas!B:D,3,0),0),\"\")","v":0},{"$f":"IF(A39<>\"\",IFERROR(VLOOKUP(N39,Tabelas!B:D,3,0),0),\"\")","v":0},{"$f":"IF(A39<>\"\",IFERROR(VLOOKUP(O39,Tabelas!B:D,3,0),0),\"\")","v":0},{"$f":"IF(A39<>\"\",IFERROR(VLOOKUP(P39,Tabelas!B:D,3,0),0),\"\")","v":0},{"$f":"IF(A39<>\"\",IFERROR(VLOOKUP(Q39,Tabelas!B:D,3,0),0),\"\")","v":0},{"$f":"IF(A39<>\"\",IFERROR(VLOOKUP(R39,Tabelas!B:D,3,0),0),\"\")","v":0},{"$f":"IF(A39<>\"\",IFERROR(VLOOKUP(S39,Tabelas!B:D,3,0),0),\"\")","v":0},{"$f":"IF(A39<>\"\",IFERROR(VLOOKUP(T39,Tabelas!B:D,3,0),0),\"\")","v":12},{"$f":"IF(A39<>\"\",IFERROR(VLOOKUP(U39,Tabelas!B:D,3,0),0),\"\")","v":0},{"$f":"IF(A39<>\"\",IFERROR(VLOOKUP(V39,Tabelas!B:D,3,0),0),\"\")","v":0},{"$f":"IF(A39<>\"\",IFERROR(VLOOKUP(W39,Tabelas!B:D,3,0),0),\"\")","v":0},{"$f":"IF(A39<>\"\",IFERROR(VLOOKUP(X39,Tabelas!B:D,3,0),0),\"\")","v":12},{"$f":"IF(A39<>\"\",IFERROR(VLOOKUP(Y39,Tabelas!B:D,3,0),0),\"\")","v":0},{"$f":"IF(A39<>\"\",IFERROR(VLOOKUP(Z39,Tabelas!B:D,3,0),0),\"\")","v":0},{"$f":"IF(A39<>\"\",IFERROR(VLOOKUP(AA39,Tabelas!B:D,3,0),0),\"\")","v":0},{"$f":"IF(A39<>\"\",IFERROR(VLOOKUP(AB39,Tabelas!B:D,3,0),0),\"\")","v":0},{"$f":"IF(A39<>\"\",IFERROR(VLOOKUP(AC39,Tabelas!B:D,3,0),0),\"\")","v":12},{"$f":"IF(A39<>\"\",IFERROR(VLOOKUP(AD39,Tabelas!B:D,3,0),0),\"\")","v":12},{"$f":"IF(A39<>\"\",IFERROR(VLOOKUP(AE39,Tabelas!B:D,3,0),0),\"\")","v":0},{"$f":"IF(A39<>\"\",IFERROR(VLOOKUP(AF39,Tabelas!B:D,3,0),0),\"\")","v":12},{"$f":"IF(A39<>\"\",IFERROR(VLOOKUP(AG39,Tabelas!B:D,3,0),0),\"\")","v":0},{"$f":"IF(A39<>\"\",IFERROR(VLOOKUP(AH39,Tabelas!B:D,3,0),0),\"\")","v":0},{"$f":"IF(A39<>\"\",IFERROR(VLOOKUP(AI39,Tabelas!B:D,3,0),0),\"\")","v":0},{"$f":"IF(A39<>\"\",IFERROR(VLOOKUP(AJ39,Tabelas!B:D,3,0),0),\"\")","v":0},{"$f":"IF(A39<>\"\",IFERROR(VLOOKUP(AK39,Tabelas!B:D,3,0),0),\"\")","v":12},{"$f":"IF(A39<>\"\",IFERROR(VLOOKUP(AL39,Tabelas!B:D,3,0),0),\"\")","v":0},{"$f":"IF(A39<>\"\",IFERROR(VLOOKUP(AM39,Tabelas!B:D,3,0),0),\"\")","v":12},{"$f":"IF(A39<>\"\",IFERROR(VLOOKUP(AN39,Tabelas!B:D,3,0),0),\"\")","v":0},{"$f":"IF(A39<>\"\",IFERROR(VLOOKUP(AO39,Tabelas!B:D,3,0),0),\"\")","v":12},{"$f":"IF(A39<>\"\",IFERROR(VLOOKUP(AP39,Tabelas!B:D,3,0),0),\"\")","v":0},{"$f":"IF(A39<>\"\",IFERROR(VLOOKUP(AQ39,Tabelas!B:D,3,0),0),\"\")","v":0},96,0,0,0,0,0,0,0]
["Thales Roberto Schott da Silva",1160552,null,"ME","RJU",20,null,null,null,null,null,null,null,null,null,null,"D8",null,"N10",null,null,"N10",null,null,null,null,null,"N10",null,null,"D8",null,null,null,null,null,"N10",null,null,"N10",null,null,"N10",{"$f":"IF(A40<>\"\",IFERROR(VLOOKUP(M40,Tabelas!B:D,3,0),0),\"\")","v":0},{"$f":"IF(A40<>\"\",IFERROR(VLOOKUP(N40,Tabelas!B:D,3,0),0),\"\")","v":0},{"$f":"IF(A40<>\"\",IFERROR(VLOOKUP(O40,Tabelas!B:D,3,0),0),\"\")","v":0},{"$f":"IF(A40<>\"\",IFERROR(VLOOKUP(P40,Tabelas!B:D,3,0),0),\"\")","v":0},{"$f":"IF(A40<>\"\",IFERROR(VLOOKUP(Q40,Tabelas!B:D,3,0),0),\"\")","v":12},{"$f":"IF(A40<>\"\",IFERROR(VLOOKUP(R40,Tabelas!B:D,3,0),0),\"\")","v":0},{"$f":"IF(A40<>\"\",IFERROR(VLOOKUP(S40,Tabelas!B:D,3,0),0),\"\")","v":12},{"$f":"IF(A40<>\"\",IFERROR(VLOOKUP(T40,Tabelas!B:D,3,0),0),\"\")","v":0},{"$f":"IF(A40<>\"\",IFERROR(VLOOKUP(U40,Tabelas!B:D,3,0),0),\"\")","v":0},{"$f":"IF(A40<>\"\",IFERROR(VLOOKUP(V40,Tabelas!B:D,3,0),0),\"\")","v":12},{"$f":"IF(A40<>\"\",IFERROR(VLOOKUP(W40,Tabelas!B:D,3,0),0),\"\")","v":0},{"$f":"IF(A40<>\"\",IFERROR(VLOOKUP(X40,Tabelas!B:D,3,0),0),\"\")","v":0},{"$f":"IF(A40<>\"\",IFERROR(VLOOKUP(Y40,Tabelas!B:D,3,0),0),\"\")","v":0},{"$f":"IF(A40<>\"\",IFERROR(VLOOKUP(Z40,Tabelas!B:D,3,0),0),\"\")","v":0},{"$f":"IF(A40<>\"\",IFERROR(VLOOKUP(AA40,Tabelas!B:D,3,0),0),\"\")","v":0},{"$f":"IF(A40<>\"\",IFERROR(VLOOKUP(AB40,Tabelas!B:D,3,0),0),\"\")","v":12},{"$f":"IF(A40<>\"\",IFERROR(VLOOKUP(AC40,Tabelas!B:D,3,0),0),\"\")","v":0},{"$f":"IF(A40<>\"\",IFERROR(VLOOKUP(AD40,Tabelas!B:D,3,0),0),\"\")","v":0},{"$f":"IF(A40<>\"\",IFERROR(VLOOKUP(AE40,Tabelas!B:D,3,0),0),\"\")","v":12},{"$f":"IF(A40<>\"\",IFERROR(VLOOKUP(AF40,Tabelas!B:D,3,0),0),\"\")","v":0},{"$f":"IF(A40<>\"\",IFERROR(VLOOKUP(AG40,Tabelas!B:D,3,0),0),\"\")","v":0},{"$f":"IF(A40<>\"\",IFERROR(VLOOKUP(AH40,Tabelas!B:D,3,0),0),\"\")","v":0},{"$f":"IF(A40<>\"\",IFERROR(VLOOKUP(AI40,Tabelas!B:D,3,0),0),\"\")","v":0},{"$f":"IF(A40<>\"\",IFERROR(VLOOKUP(AJ40,Tabelas!B:D,3,0),0),\"\")","v":0},{"$f":"IF(A40<>\"\",IFERROR(VLOOKUP(AK40,Tabelas!B:D,3,0),0),\"\")","v":12},{"$f":"IF(A40<>\"\",IFERROR(VLOOKUP(AL40,Tabelas!B:D,3,0),0),\"\")","v":0},{"$f":"IF(A40<>\"\",IFERROR(VLOOKUP(AM40,Tabelas!B:D,3,0),0),\"\")","v":0},{"$f":"IF(A40<>\"\",IFERROR(VLOOKUP(AN40,Tabelas!B:D,3,0),0),\"\")","v":12},{"$f":"IF(A40<>\"\",IFERROR(VLOOKUP(AO40,Tabelas!B:D,3,0),0),\"\")","v":0},{"$f":"IF(A40<>\"\",IFERROR(VLOOKUP(AP40,Tabelas!B:D,3,0),0),\"\")","v":0},{"$f":"IF(A40<>\"\",IFERROR(VLOOKUP(AQ40,Tabelas!B:D,3,0),0),\"\")","v":12},96,0,0,0,0,0,0,0]
[]
["MÉDICO REFERÊNCIA: "]
["Rafael Lisboa de Souza",2344070,null,"ME","RJU",30,null,null,null,null,null,null,null,null,null,null,null,null,null,null,null,null,null,null,null,null,null,null,null,null,null,null,null,null,null,null,null,null,null,null,null,null,null,{"$f":"IF(A43<>\"\",IFERROR(VLOOKUP(M43,Tabelas!B:D,3,0),0),\"\")","v":0},{"$f":"IF(A43<>\"\",IFERROR(VLOOKUP(N43,Tabelas!B:D,3,0),0),\"\")","v":0},{"$f":"IF(A43<>\"\",IFERROR(VLOOKUP(O43,Tabelas!B:D,3,0),0),\"\")","v":0},{"$f":"IF(A43<>\"\",IFERROR(VLOOKUP(P43,Tabelas!B:D,3,0),0),\"\")","v":0},{"$f":"IF(A43<>\"\",IFERROR(VLOOKUP(Q43,Tabelas!B:D,3,0),0),\"\")","v":0},{"$f":"IF(A43<>\"\",IFERROR(VLOOKUP(R43,Tabelas!B:D,3,0),0),\"\")","v":0},{"$f":"IF(A43<>\"\",IFERROR(VLOOKUP(S43,Tabelas!B:D,3,0),0),\"\")","v":0},{"$f":"IF(A43<>\"\",IFERROR(VLOOKUP(T43,Tabelas!B:D,3,0),0),\"\")","v":0},{"$f":"IF(A43<>\"\",IFERROR(VLOOKUP(U43,Tabelas!B:D,3,0),0),\"\")","v":0},{"$f":"IF(A43<>\"\",IFERROR(VLOOKUP(V43,Tabelas!B:D,3,0),0),\"\")","v":0},{"$f":"IF(A43<>\"\",IFERROR(VLOOKUP(W43,Tabelas!B:D,3,0),0),\"\")","v":0},{"$f":"IF(A43<>\"\",IFERROR(VLOOKUP(X43,Tabelas!B:D,3,0),0),\"\")","v":0},{"$f":"IF(A43<>\"\",IFERROR(VLOOKUP(Y43,Tabelas!B:D,3,0),0),\"\")","v":0},{"$f":"IF(A43<>\"\",IFERROR(VLOOKUP(Z43,Tabelas!B:D,3,0),0),\"\")","v":0},{"$f":"IF(A43<>\"\",IFERROR(VLOOKUP(AA43,Tabelas!B:D,3,0),0),\"\")","v":0},{"$f":"IF(A43<>\"\",IFERROR(VLOOKUP(AB43,Tabelas!B:D,3,0),0),\"\")","v":0},{"$f":"IF(A43<>\"\",IFERROR(VLOOKUP(AC43,Tabelas!B:D,3,0),0),\"\")","v":0},{"$f":"IF(A43<>\"\",IFERROR(VLOOKUP(AD43,Tabelas!B:D,3,0),0),\"\")","v":0},{"$f":"IF(A43<>\"\",IFERROR(VLOOKUP(AE43,Tabelas!B:D,3,0),0),\"\")","v":0},{"$f":"IF(A43<>\"\",IFERROR(VLOOKUP(AF43,Tabelas!B:D,3,0),0),\"\")","v":0},{"$f":"IF(A43<>\"\",IFERROR(VLOOKUP(AG43,Tabelas!B:D,3,0),0),\"\")","v":0},{"$f":"IF(A43<>\"\",IFERROR(VLOOKUP(AH43,Tabelas!B:D,3,0),0),\"\")","v":0},{"$f":"IF(A43<>\"\",IFERROR(VLOOKUP(AI43,Tabelas!B:D,3,0),0),\"\")","v":0},{"$f":"IF(A43<>\"\",IFERROR(VLOOKUP(AJ43,Tabelas!B:D,3,0),0),\"\")","v":0},{"$f":"IF(A43<>\"\",IFERROR(VLOOKUP(AK43,Tabelas!B:D,3,0),0),\"\")","v":0},{"$f":"IF(A43<>\"\",IFERROR(VLOOKUP(AL43,Tabelas!B:D,3,0),0),\"\")","v":0},{"$f":"IF(A43<>\"\",IFERROR(VLOOKUP(AM43,Tabelas!B:D,3,0),0),\"\")","v":0},{"$f":"IF(A43<>\"\",IFERROR(VLOOKUP(AN43,Tabelas!B:D,3,0),0),\"\")","v":0},{"$f":"IF(A43<>\"\",IFERROR(VLOOKUP(AO43,Tabelas!B:D,3,0),0),\"\")","v":0},{"$f":"IF(A43<>\"\",IFERROR(VLOOKUP(AP43,Tabelas!B:D,3,0),0),\"\")","v":0},{"$f":"IF(A43<>\"\",IFERROR(VLOOKUP(AQ43,Tabelas!B:D,3,0),0),\"\")","v":0},{"$f":"IF(AND(A43<>\"\",E43=\"Ebserh\"),SUM(AR43:BV43)+COUNTIF(M43:AQ43,\"N*\")+COUNTIF(M43:AQ43,\"DN*\"),IF(AND(A43<>\"\",E43<>\"Ebserh\"),SUM(AR43:BV43),\"\"))","v":0},{"$f":"IF(A43<>\"\",COUNTIF(M43:AQ43,\"LM\")+COUNTIF(M43:AQ43,\"L\")+COUNTIF(M43:AQ43,\"LP\"),\"\")","v":0},{"$f":"IF(A43<>\"\",COUNTIF(M43:AQ43,\"AB*\"),\"\")","v":0},{"$f":"IF(A43<>\"\",COUNTIF(M43:AQ43,\"FE\"),\"\")","v":0},{"$f":"IF(A43<>\"\",COUNTIF(M43:AQ43,\"LC\"),\"\")","v":0},{"$f":"IF(A43<>\"\",COUNTIF(M43:AQ43,\"CH*\"),\"\")","v":0},{"$f":"IF(A43<>\"\",COUNTIF(M43:AQ43,\"AF1\")+COUNTIF(M43:AQ43,\"AF2\")+COUNTIF(M43:AQ43,\"AF3\")+COUNTIF(M43:AQ43,\"AF4\")+COUNTIF(M43:AQ43,\"AF5\")+COUNTIF(M43:AQ43,\"AF6\")+COUNTIF(M43:AQ43,\"AF7\")+COUNTIF(M43:AQ43,\"AF8\")+COUNTIF(M43:AQ43,\"AF9\")+COUNTIF(M43:AQ43,\"AF10\")+COUNTIF(M43:AQ43,\"AF11\")+COUNTIF(M43:AQ43,\"AF12\")+COUNTIF(M43:AQ43,\"AF13\")+COUNTIF(M43:AQ43,\"AF14\"),\"\")","v":0},{"$f":"IF(A43<>\"\",COUNTIF(M43:AQ43,\"CH*\")+COUNTIF(M43:AQ43,\"L\")+COUNTIF(M43:AQ43,\"LM\")+COUNTIF(M43:AQ43,\"LP\")+COUNTIF(M43:AQ43,\"LC\")+COUNTIF(M43:AQ43,\"AB*\")+COUNTIF(M43:AQ43,\"AF1\")+COUNTIF(M43:AQ43,\"AF2\")+COUNTIF(M43:AQ43,\"AF3\")+COUNTIF(M43:AQ43,\"AF4\")+COUNTIF(M43:AQ43,\"AF5\")+COUNTIF(M43:AQ43,\"AF6\")+COUNTIF(M43:AQ43,\"AF7\")+COUNTIF(M43:AQ43,\"AF8\")+COUNTIF(M43:AQ43,\"AF9\")+COUNTIF(M43:AQ43,\"AF10\")+COUNTIF(M43:AQ43,\"AF11\")+COUNTIF(M43:AQ43,\"AF12\")+COUNTIF(M43:AQ43,\"AF13\")+COUNTIF(M43:AQ43,\"AF14\")+COUNTIF(M43:AQ43,\"RC\")+COUNTIF(M43:AQ43,\"FO\")+COUNTIF(M43:AQ43,\"FE\"),\"\")","v":0}]
[]
[]
["TOTAL PROFISSIONAIS MATUTINO",null,null,null,null,null,null,null,null,null,null,null,{"$f":"IF(COUNTIF(M9:M45,\"M*\")+ COUNTIF(M9:M45, \"D*\")-COUNTIF(M9:M45,\"DSR\")<>0,COUNTIF(M9:M45,\"M*\")+ COUNTIF(M9:M45, \"D*\")-COUNTIF(M9:M45,\"DSR\"),\"\")","v":5},5,5,3,4,5,5,5,5,5,4,4,5,5,5,5,5,3,4,4,4,4,4,4,3,4,4,4,5,5,5,null,null,null,null,null,null,null,null,null,null,null,null,null,null,null,null,null,null,null,null,null,null,null,null,null,null,null,null,null,null,null,{"$f":"SUM(BW9:BW45)","v":2593},1,0,24,0,0,0,25]
["TOTAL DE PROFISSIONAIS VESPERTINO",null,null,null,null,null,null,null,null,null,null,null,{"$f":"IF(COUNTIF(M9:M45,\"MT*\") + COUNTIF(M9:M45, \"D*\") + COUNTIF(M9:M45,\"T*\")-COUNTIF(M9:M45,\"DSR\")<>0,COUNTIF(M9:M45,\"MT*\") + COUNTIF(M9:M45, \"D*\") + COUNTIF(M9:M45,\"T*\")-COUNTIF(M9:M45,\"DSR\"),\"\")","v":4},4,4,3,3,5,4,6,5,4,3,3,5,3,5,4,4,4,3,5,4,7,5,5,3,3,5,4,6,5,5,{"$f":"IF(A47<>\"\",IFERROR(VLOOKUP(M47,Tabelas!B:D,3,0),0),\"\")","v":0},{"$f":"IF(A47<>\"\",IFERROR(VLOOKUP(N47,Tabelas!B:D,3,0),0),\"\")","v":0},{"$f":"IF(A47<>\"\",IFERROR(VLOOKUP(O47,Tabelas!B:D,3,0),0),\"\")","v":0},{"$f":"IF(A47<>\"\",IFERROR(VLOOKUP(P47,Tabelas!B:D,3,0),0),\"\")","v":0},{"$f":"IF(A47<>\"\",IFERROR(VLOOKUP(Q47,Tabelas!B:D,3,0),0),\"\")","v":0},{"$f":"IF(A47<>\"\",IFERROR(VLOOKUP(R47,Tabelas!B:D,3,0),0),\"\")","v":0},{"$f":"IF(A47<>\"\",IFERROR(VLOOKUP(S47,Tabelas!B:D,3,0),0),\"\")","v":0},{"$f":"IF(A47<>\"\",IFERROR(VLOOKUP(T47,Tabelas!B:D,3,0),0),\"\")","v":0},{"$f":"IF(A47<>\"\",IFERROR(VLOOKUP(U47,Tabelas!B:D,3,0),0),\"\")","v":0},{"$f":"IF(A47<>\"\",IFERROR(VLOOKUP(V47,Tabelas!B:D,3,0),0),\"\")","v":0},{"$f":"IF(A47<>\"\",IFERROR(VLOOKUP(W47,Tabelas!B:D,3,0),0),\"\")","v":0},{"$f":"IF(A47<>\"\",IFERROR(VLOOKUP(X47,Tabelas!B:D,3,0),0),\"\")","v":0},{"$f":"IF(A47<>\"\",IFERROR(VLOOKUP(Y47,Tabelas!B:D,3,0),0),\"\")","v":0},{"$f":"IF(A47<>\"\",IFERROR(VLOOKUP(Z47,Tabelas!B:D,3,0),0),\"\")","v":0},{"$f":"IF(A47<>\"\",IFERROR(VLOOKUP(AA47,Tabelas!B:D,3,0),0),\"\")","v":0},{"$f":"IF(A47<>\"\",IFERROR(VLOOKUP(AB47,Tabelas!B:D,3,0),0),\"\")","v":0},{"$f":"IF(A47<>\"\",IFERROR(VLOOKUP(AC47,Tabelas!B:D,3,0),0),\"\")","v":0},{"$f":"IF(A47<>\"\",IFERROR(VLOOKUP(AD47,Tabelas!B:D,3,0),0),\"\")","v":0},{"$f":"IF(A47<>\"\",IFERROR(VLOOKUP(AE47,Tabelas!B:D,3,0),0),\"\")","v":0},{"$f":"IF(A47<>\"\",IFERROR(VLOOKUP(AF47,Tabelas!B:D,3,0),0),\"\")","v":0},{"$f":"IF(A47<>\"\",IFERROR(VLOOKUP(AG47,Tabelas!B:D,3,0),0),\"\")","v":0},{"$f":"IF(A47<>\"\",IFERROR(VLOOKUP(AH47,Tabelas!B:D,3,0),0),\"\")","v":0},{"$f":"IF(A47<>\"\",IFERROR(VLOOKUP(AI47,Tabelas!B:D,3,0),0),\"\")","v":0},{"$f":"IF(A47<>\"\",IFERROR(VLOOKUP(AJ47,Tabelas!B:D,3,0),0),\"\")","v":0},{"$f":"IF(A47<>\"\",IFERROR(VLOOKUP(AK47,Tabelas!B:D,3,0),0),\"\")","v":0},{"$f":"IF(A47<>\"\",IFERROR(VLOOKUP(AL47,Tabelas!B:D,3,0),0),\"\")","v":0},{"$f":"IF(A47<>\"\",IFERROR(VLOOKUP(AM47,Tabelas!B:D,3,0),0),\"\")","v":0},{"$f":"IF(A47<>\"\",IFERROR(VLOOKUP(AN47,Tabelas!B:D,3,0),0),\"\")","v":0},{"$f":"IF(A47<>\"\",IFERROR(VLOOKUP(AO47,Tabelas!B:D,3,0),0),\"\")","v":0},{"$f":"IF(A47<>\"\",IFERROR(VLOOKUP(AP47,Tabelas!B:D,3,0),0),\"\")","v":0},{"$f":"IF(A47<>\"\",IFERROR(VLOOKUP(AQ47,Tabelas!B:D,3,0),0),\"\")","v":0}]
["TOTAL DE PROFISSIONAIS NOTURNO",null,null,null,null,null,null,null,null,null,null,null,{"$f":"IF(COUNTIF(M9:M47,\"N?*\") + COUNTIF(M9:M47, \"DN*\")<>0,COUNTIF(M9:M47,\"N?*\") + COUNTIF(M9:M47, \"DN*\"),\"\")","v":3},3,3,3,3,3,3,3,3,3,3,3,3,3,3,3,3,3,3,3,3,3,3,3,3,3,3,3,3,3,3,{"$f":"IF(A48<>\"\",IFERROR(VLOOKUP(M48,Tabelas!B:D,3,0),0),\"\")","v":0},{"$f":"IF(A48<>\"\",IFERROR(VLOOKUP(N48,Tabelas!B:D,3,0),0),\"\")","v":0},{"$f":"IF(A48<>\"\",IFERROR(VLOOKUP(O48,Tabelas!B:D,3,0),0),\"\")","v":0},{"$f":"IF(A48<>\"\",IFERROR(VLOOKUP(P48,Tabelas!B:D,3,0),0),\"\")","v":0},{"$f":"IF(A48<>\"\",IFERROR(VLOOKUP(Q48,Tabelas!B:D,3,0),0),\"\")","v":0},{"$f":"IF(A48<>\"\",IFERROR(VLOOKUP(R48,Tabelas!B:D,3,0),0),\"\")","v":0},{"$f":"IF(A48<>\"\",IFERROR(VLOOKUP(S48,Tabelas!B:D,3,0),0),\"\")","v":0},{"$f":"IF(A48<>\"\",IFERROR(VLOOKUP(T48,Tabelas!B:D,3,0),0),\"\")","v":0},{"$f":"IF(A48<>\"\",IFERROR(VLOOKUP(U48,Tabelas!B:D,3,0),0),\"\")","v":0},{"$f":"IF(A48<>\"\",IFERROR(VLOOKUP(V48,Tabelas!B:D,3,0),0),\"\")","v":0},{"$f":"IF(A48<>\"\",IFERROR(VLOOKUP(W48,Tabelas!B:D,3,0),0),\"\")","v":0},{"$f":"IF(A48<>\"\",IFERROR(VLOOKUP(X48,Tabelas!B:D,3,0),0),\"\")","v":0},{"$f":"IF(A48<>\"\",IFERROR(VLOOKUP(Y48,Tabelas!B:D,3,0),0),\"\")","v":0},{"$f":"IF(A48<>\"\",IFERROR(VLOOKUP(Z48,Tabelas!B:D,3,0),0),\"\")","v":0},{"$f":"IF(A48<>\"\",IFERROR(VLOOKUP(AA48,Tabelas!B:D,3,0),0),\"\")","v":0},{"$f":"IF(A48<>\"\",IFERROR(VLOOKUP(AB48,Tabelas!B:D,3,0),0),\"\")","v":0},{"$f":"IF(A48<>\"\",IFERROR(VLOOKUP(AC48,Tabelas!B:D,3,0),0),\"\")","v":0},{"$f":"IF(A48<>\"\",IFERROR(VLOOKUP(AD48,Tabelas!B:D,3,0),0),\"\")","v":0},{"$f":"IF(A48<>\"\",IFERROR(VLOOKUP(AE48,Tabelas!B:D,3,0),0),\"\")","v":0},{"$f":"IF(A48<>\"\",IFERROR(VLOOKUP(AF48,Tabelas!B:D,3,0),0),\"\")","v":0},{"$f":"IF(A48<>\"\",IFERROR(VLOOKUP(AG48,Tabelas!B:D,3,0),0),\"\")","v":0},{"$f":"IF(A48<>\"\",IFERROR(VLOOKUP(AH48,Tabelas!B:D,3,0),0),\"\")","v":0},{"$f":"IF(A48<>\"\",IFERROR(VLOOKUP(AI48,Tabelas!B:D,3,0),0),\"\")","v":0},{"$f":"IF(A48<>\"\",IFERROR(VLOOKUP(AJ48,Tabelas!B:D,3,0),0),\"\")","v":0},{"$f":"IF(A48<>\"\",IFERROR(VLOOKUP(AK48,Tabelas!B:D,3,0),0),\"\")","v":0},{"$f":"IF(A48<>\"\",IFERROR(VLOOKUP(AL48,Tabelas!B:D,3,0),0),\"\")","v":0},{"$f":"IF(A48<>\"\",IFERROR(VLOOKUP(AM48,Tabelas!B:D,3,0),0),\"\")","v":0},{"$f":"IF(A48<>\"\",IFERROR(VLOOKUP(AN48,Tabelas!B:D,3,0),0),\"\")","v":0},{"$f":"IF(A48<>\"\",IFERROR(VLOOKUP(AO48,Tabelas!B:D,3,0),0),\"\")","v":0},{"$f":"IF(A48<>\"\",IFERROR(VLOOKUP(AP48,Tabelas!B:D,3,0),0),\"\")","v":0},{"$f":"IF(A48<>\"\",IFERROR(VLOOKUP(AQ48,Tabelas!B:D,3,0),0),\"\")","v":0}]
[null,null,null,null,null,null,null,null,null,null,null,null,null,null,null,null,null,null,null,null,null,null,null,null,null,null,null,null,null,null,null,null,null,null,null,null,null,null,null,null,null,null,null,{"$f":"IF(A49<>\"\",IFERROR(VLOOKUP(M49,Tabelas!B:D,3,0),0),\"\")","v":""},{"$f":"IF(A49<>\"\",IFERROR(VLOOKUP(N49,Tabelas!B:D,3,0),0),\"\")","v":""},{"$f":"IF(A49<>\"\",IFERROR(VLOOKUP(O49,Tabelas!B:D,3,0),0),\"\")","v":""},{"$f":"IF(A49<>\"\",IFERROR(VLOOKUP(P49,Tabelas!B:D,3,0),0),\"\")","v":""},{"$f":"IF(A49<>\"\",IFERROR(VLOOKUP(Q49,Tabelas!B:D,3,0),0),\"\")","v":""},{"$f":"IF(A49<>\"\",IFERROR(VLOOKUP(R49,Tabelas!B:D,3,0),0),\"\")","v":""},{"$f":"IF(A49<>\"\",IFERROR(VLOOKUP(S49,Tabelas!B:D,3,0),0),\"\")","v":""},{"$f":"IF(A49<>\"\",IFERROR(VLOOKUP(T49,Tabelas!B:D,3,0),0),\"\")","v":""},{"$f":"IF(A49<>\"\",IFERROR(VLOOKUP(U49,Tabelas!B:D,3,0),0),\"\")","v":""},{"$f":"IF(A49<>\"\",IFERROR(VLOOKUP(V49,Tabelas!B:D,3,0),0),\"\")","v":""},{"$f":"IF(A49<>\"\",IFERROR(VLOOKUP(W49,Tabelas!B:D,3,0),0),\"\")","v":""},{"$f":"IF(A49<>\"\",IFERROR(VLOOKUP(X49,Tabelas!B:D,3,0),0),\"\")","v":""},{"$f":"IF(A49<>\"\",IFERROR(VLOOKUP(Y49,Tabelas!B:D,3,0),0),\"\")","v":""},{"$f":"IF(A49<>\"\",IFERROR(VLOOKUP(Z49,Tabelas!B:D,3,0),0),\"\")","v":""},{"$f":"IF(A49<>\"\",IFERROR(VLOOKUP(AA49,Tabelas!B:D,3,0),0),\"\")","v":""},{"$f":"IF(A49<>\"\",IFERROR(VLOOKUP(AB49,Tabelas!B:D,3,0),0),\"\")","v":""},{"$f":"IF(A49<>\"\",IFERROR(VLOOKUP(AC49,Tabelas!B:D,3,0),0),\"\")","v":""},{"$f":"IF(A49<>\"\",IFERROR(VLOOKUP(AD49,Tabelas!B:D,3,0),0),\"\")","v":""},{"$f":"IF(A49<>\"\",IFERROR(VLOOKUP(AE49,Tabelas!B:D,3,0),0),\"\")","v":""},{"$f":"IF(A49<>\"\",IFERROR(VLOOKUP(AF49,Tabelas!B:D,3,0),0),\"\")","v":""},{"$f":"IF(A49<>\"\",IFERROR(VLOOKUP(AG49,Tabelas!B:D,3,0),0),\"\")","v":""},{"$f":"IF(A49<>\"\",IFERROR(VLOOKUP(AH49,Tabelas!B:D,3,0),0),\"\")","v":""},{"$f":"IF(A49<>\"\",IFERROR(VLOOKUP(AI49,Tabelas!B:D,3,0),0),\"\")","v":""},{"$f":"IF(A49<>\"\",IFERROR(VLOOKUP(AJ49,Tabelas!B:D,3,0),0),\"\")","v":""},{"$f":"IF(A49<>\"\",IFERROR(VLOOKUP(AK49,Tabelas!B:D,3,0),0),\"\")","v":""},{"$f":"IF(A49<>\"\",IFERROR(VLOOKUP(AL49,Tabelas!B:D,3,0),0),\"\")","v":""},{"$f":"IF(A49<>\"\",IFERROR(VLOOKUP(AM49,Tabelas!B:D,3,0),0),\"\")","v":""},{"$f":"IF(A49<>\"\",IFERROR(VLOOKUP(AN49,Tabelas!B:D,3,0),0),\"\")","v":""},{"$f":"IF(A49<>\"\",IFERROR(VLOOKUP(AO49,Tabelas!B:D,3,0),0),\"\")","v":""},{"$f":"IF(A49<>\"\",IFERROR(VLOOKUP(AP49,Tabelas!B:D,3,0),0),\"\")","v":""},{"$f":"IF(A49<>\"\",IFERROR(VLOOKUP(AQ49,Tabelas!B:D,3,0),0),\"\")","v":""}]
["Legenda:"]
["Licença Maternidade","LM","Férias",null,null,null,null,null,null,"FE",null,"Ponto Facultativo",null,null,null,null,null,null,null,"PF","Manhã *",null,null,null,null,null,null,"M","Diurno (8 hrs) *",null,null,null,null,null,null,"MT"]
["Licença Paternidade","LP","Feriado",null,null,null,null,null,null,"FD",null,"Abono **",null,null,null,null,null,null,null,"AB","Tarde *",null,null,null,null,null,null,"T","Dia/ noite (24 hrs) *",null,null,null,null,null,null,"DN"]
["Licença Médica/Odontológica","L","Descanso Semanal Remunerado",null,null,null,null,null,null,"DSR",null,"Compensação de Horas***",null,null,null,null,null,null,null,"CH","Plantão Dia (12 hrs) *",null,null,null,null,null,null,"D"]
["Licença Capacitação","LC","Recesso",null,null,null,null,null,null,"RC",null,"Afastamento**",null,null,null,null,null,null,null,"AF","Plantão Noite (12 hrs) *",null,null,null,null,null,null,"N"]
[]
["OBSERVAÇÕES:"]
["* Para inserção das legendas referentes às jornadas de trabalho, verificar a Tabela 1 do Anexo do Memorando-Circular - SEI nº   25 /2018/CAP/DGP-EBSERH."]
["** Para inserção das legendas referentes aos Afastamentos previstos em lei e às Compensações de horas, verificar a Tabela 2 do Anexo do Memorando-Circular - SEI nº   25 /2018/CAP/DGP-EBSERH."]

{"sheet":"Agosto","index":7,"n_rows":56,"n_cols":82,"rows_kept":56,"cut":false,"hidden":false,"merged":[[48,20,48,26],[49,2,49,8],[49,9,49,10],[49,11,49,18],[49,20,49,26],[48,2,48,8],[48,9,48,10],[50,20,50,26],[51,2,51,8],[51,9,51,10],[51,11,51,18],[51,20,51,26],[43,0,43,11],[44,0,44,11],[45,0,45,11],[50,2,50,8],[50,9,50,10],[50,11,50,18],[48,11,48,18],[1,0,1,42],[2,0,2,42],[3,0,3,42],[4,1,4,20],[4,23,4,34],[4,37,4,42],[5,6,5,11],[6,76,7,76],[6,77,7,77],[6,78,7,78],[6,79,7,79],[6,6,7,6],[6,7,7,7],[6,8,7,8],[6,11,7,11],[6,9,7,9],[6,10,7,10],[6,80,7,80],[6,81,7,81],[5,12,5,42],[5,43,5,73],[5,75,5,81],[5,74,7,74],[6,75,7,75],[43,79,45,79],[43,80,45,80],[43,81,45,81],[48,28,48,34],[49,28,49,34],[43,74,45,74],[43,75,45,75],[43,76,45,76],[43,77,45,77],[43,78,45,78]]}
[]
[]
["HOSPITAL UNIVERSITÁRIO PROFESSOR POLYDORO ERNANI DE SÃO THIAGO"]
["ESCALA MENSAL DE TRABALHO"]
["DIVISÃO /SETOR/UNIDADE:",null,null,null,null,null,null,null,null,null,null,null,null,null,null,null,null,null,null,null,null,"MÊS:",null,"Agosto",null,null,null,null,null,null,null,null,null,null,null,"ANO:",null,2020]
["NOME COMPLETO","SIAPE","     Registro Conselho Classe","Cargo","Vínculo","    C.H Sem","INTERVALO",null,null,null,null,null,"DIAS DO MÊS",null,null,null,null,null,null,null,null,null,null,null,null,null,null,null,null,null,null,null,null,null,null,null,null,null,null,null,null,null,null,"CÁLCULO DAS HORAS",null,null,null,null,null,null,null,null,null,null,null,null,null,null,null,null,null,null,null,null,null,null,null,null,null,null,null,null,null,null,"CH Men.","Dias"]
[null,null,null,null,null,null,"15' M","15' T","15' N","1H D","1H N","2H",1,2,3,4,5,6,7,8,9,10,11,12,13,14,15,16,17,18,19,20,21,22,23,24,25,{"$f":"IF(DAY(DATE(AL5,VLOOKUP(X5,Tabelas!M:N,2,0)+1,1)-1)>=26,26,\"\")","v":26},{"$f":"IF(DAY(DATE(AL5,VLOOKUP(X5,Tabelas!M:N,2,0)+1,1)-1)>=27,27,\"\")","v":27},{"$f":"IF(DAY(DATE(AL5,VLOOKUP(X5,Tabelas!M:N,2,0)+1,1)-1)>=28,28,\"\")","v":28},{"$f":"IF(DAY(DATE(AL5,VLOOKUP(X5,Tabelas!M:N,2,0)+1,1)-1)>=29,29,\"\")","v":29},{"$f":"IF(DAY(DATE(AL5,VLOOKUP(X5,Tabelas!M:N,2,0)+1,1)-1)>=30,30,\"\")","v":30},{"$f":"IF(DAY(DATE(AL5,VLOOKUP(X5,Tabelas!M:N,2,0)+1,1)-1)>=31,31,\"\")","v":31},null,null,null,null,null,null,null,null,null,null,null,null,null,null,null,null,null,null,null,null,null,null,null,null,null,null,null,null,null,null,null,null,"LM/LP/L","AB","FE","LC","CH","AF  "," Total Afast."]
[null,null,null,null,null,null,null,null,null,null,null,null,{"$f":"IF(M7<>\"\",IFERROR(VLOOKUP(WEEKDAY(CONCATENATE(M7,$X$5,$AL$5)),Tabelas!$I:$J,2,0),\"\"),\"\")","v":"SAB"},{"$f":"IF(N7<>\"\",IFERROR(VLOOKUP(WEEKDAY(CONCATENATE(N7,$X$5,$AL$5)),Tabelas!$I:$J,2,0),\"\"),\"\")","v":"DOM"},{"$f":"IF(O7<>\"\",IFERROR(VLOOKUP(WEEKDAY(CONCATENATE(O7,$X$5,$AL$5)),Tabelas!$I:$J,2,0),\"\"),\"\")","v":"SEG"},{"$f":"IF(P7<>\"\",IFERROR(VLOOKUP(WEEKDAY(CONCATENATE(P7,$X$5,$AL$5)),Tabelas!$I:$J,2,0),\"\"),\"\")","v":"TER"},{"$f":"IF(Q7<>\"\",IFERROR(VLOOKUP(WEEKDAY(CONCATENATE(Q7,$X$5,$AL$5)),Tabelas!$I:$J,2,0),\"\"),\"\")","v":"QUA"},{"$f":"IF(R7<>\"\",IFERROR(VLOOKUP(WEEKDAY(CONCATENATE(R7,$X$5,$AL$5)),Tabelas!$I:$J,2,0),\"\"),\"\")","v":"QUI"},{"$f":"IF(S7<>\"\",IFERROR(VLOOKUP(WEEKDAY(CONCATENATE(S7,$X$5,$AL$5)),Tabelas!$I:$J,2,0),\"\"),\"\")","v":"SEX"},{"$f":"IF(T7<>\"\",IFERROR(VLOOKUP(WEEKDAY(CONCATENATE(T7,$X$5,$AL$5)),Tabelas!$I:$J,2,0),\"\"),\"\")","v":"SAB"},{"$f":"IF(U7<>\"\",IFERROR(VLOOKUP(WEEKDAY(CONCATENATE(U7,$X$5,$AL$5)),Tabelas!$I:$J,2,0),\"\"),\"\")","v":"DOM"},{"$f":"IF(V7<>\"\",IFERROR(VLOOKUP(WEEKDAY(CONCATENATE(V7,$X$5,$AL$5)),Tabelas!$I:$J,2,0),\"\"),\"\")","v":"SEG"},{"$f":"IF(W7<>\"\",IFERROR(VLOOKUP(WEEKDAY(CONCATENATE(W7,$X$5,$AL$5)),Tabelas!$I:$J,2,0),\"\"),\"\")","v":"TER"},{"$f":"IF(X7<>\"\",IFERROR(VLOOKUP(WEEKDAY(CONCATENATE(X7,$X$5,$AL$5)),Tabelas!$I:$J,2,0),\"\"),\"\")","v":"QUA"},{"$f":"IF(Y7<>\"\",IFERROR(VLOOKUP(WEEKDAY(CONCATENATE(Y7,$X$5,$AL$5)),Tabelas!$I:$J,2,0),\"\"),\"\")","v":"QUI"},{"$f":"IF(Z7<>\"\",IFERROR(VLOOKUP(WEEKDAY(CONCATENATE(Z7,$X$5,$AL$5)),Tabelas!$I:$J,2,0),\"\"),\"\")","v":"SEX"},{"$f":"IF(AA7<>\"\",IFERROR(VLOOKUP(WEEKDAY(CONCATENATE(AA7,$X$5,$AL$5)),Tabelas!$I:$J,2,0),\"\"),\"\")","v":"SAB"},{"$f":"IF(AB7<>\"\",IFERROR(VLOOKUP(WEEKDAY(CONCATENATE(AB7,$X$5,$AL$5)),Tabelas!$I:$J,2,0),\"\"),\"\")","v":"DOM"},{"$f":"IF(AC7<>\"\",IFERROR(VLOOKUP(WEEKDAY(CONCATENATE(AC7,$X$5,$AL$5)),Tabelas!$I:$J,2,0),\"\"),\"\")","v":"SEG"},{"$f":"IF(AD7<>\"\",IFERROR(VLOOKUP(WEEKDAY(CONCATENATE(AD7,$X$5,$AL$5)),Tabelas!$I:$J,2,0),\"\"),\"\")","v":"TER"},{"$f":"IF(AE7<>\"\",IFERROR(VLOOKUP(WEEKDAY(CONCATENATE(AE7,$X$5,$AL$5)),Tabelas!$I:$J,2,0),\"\"),\"\")","v":"QUA"},{"$f":"IF(AF7<>\"\",IFERROR(VLOOKUP(WEEKDAY(CONCATENATE(AF7,$X$5,$AL$5)),Tabelas!$I:$J,2,0),\"\"),\"\")","v":"QUI"},{"$f":"IF(AG7<>\"\",IFERROR(VLOOKUP(WEEKDAY(CONCATENATE(AG7,$X$5,$AL$5)),Tabelas!$I:$J,2,0),\"\"),\"\")","v":"SEX"},{"$f":"IF(AH7<>\"\",IFERROR(VLOOKUP(WEEKDAY(CONCATENATE(AH7,$X$5,$AL$5)),Tabelas!$I:$J,2,0),\"\"),\"\")","v":"SAB"},{"$f":"IF(AI7<>\"\",IFERROR(VLOOKUP(WEEKDAY(CONCATENATE(AI7,$X$5,$AL$5)),Tabelas!$I:$J,2,0),\"\"),\"\")","v":"DOM"},{"$f":"IF(AJ7<>\"\",IFERROR(VLOOKUP(WEEKDAY(CONCATENATE(AJ7,$X$5,$AL$5)),Tabelas!$I:$J,2,0),\"\"),\"\")","v":"SEG"},{"$f":"IF(AK7<>\"\",IFERROR(VLOOKUP(WEEKDAY(CONCATENATE(AK7,$X$5,$AL$5)),Tabelas!$I:$J,2,0),\"\"),\"\")","v":"TER"},{"$f":"IF(AL7<>\"\",IFERROR(VLOOKUP(WEEKDAY(CONCATENATE(AL7,$X$5,$AL$5)),Tabelas!$I:$J,2,0),\"\"),\"\")","v":"QUA"},{"$f":"IF(AM7<>\"\",IFERROR(VLOOKUP(WEEKDAY(CONCATENATE(AM7,$X$5,$AL$5)),Tabelas!$I:$J,2,0),\"\"),\"\")","v":"QUI"},{"$f":"IF(AN7<>\"\",IFERROR(VLOOKUP(WEEKDAY(CONCATENATE(AN7,$X$5,$AL$5)),Tabelas!$I:$J,2,0),\"\"),\"\")","v":"SEX"},{"$f":"IF(AO7<>\"\",IFERROR(VLOOKUP(WEEKDAY(CONCATENATE(AO7,$X$5,$AL$5)),Tabelas!$I:$J,2,0),\"\"),\"\")","v":"SAB"},{"$f":"IF(AP7<>\"\",IFERROR(VLOOKUP(WEEKDAY(CONCATENATE(AP7,$X$5,$AL$5)),Tabelas!$I:$J,2,0),\"\"),\"\")","v":"DOM"},{"$f":"IF(AQ7<>\"\",IFERROR(VLOOKUP(WEEKDAY(CONCATENATE(AQ7,$X$5,$AL$5)),Tabelas!$I:$J,2,0),\"\"),\"\")","v":"SEG"},1,2,3,4,5,6,7,8,9,10,11,12,13,14,15,16,17,18,19,20,21,22,23,24,25,26,27,28,29,30,31]
["ROTINA",null,null,null,null,null,null,null,null,null,null,null,null,null,null,null,null,null,null,null,null,null,null,null,null,null,null,null,null,null,null,null,null,null,null,null,null,null,null,null,null,null,null,{"$f":"IF(A9<>\"\",IFERROR(VLOOKUP(M9,Tabelas!B:D,3,0),0),\"\")","v":0},{"$f":"IF(A9<>\"\",IFERROR(VLOOKUP(N9,Tabelas!B:D,3,0),0),\"\")","v":0},{"$f":"IF(A9<>\"\",IFERROR(VLOOKUP(O9,Tabelas!B:D,3,0),0),\"\")","v":0},{"$f":"IF(A9<>\"\",IFERROR(VLOOKUP(P9,Tabelas!B:D,3,0),0),\"\")","v":0},{"$f":"IF(A9<>\"\",IFERROR(VLOOKUP(Q9,Tabelas!B:D,3,0),0),\"\")","v":0},{"$f":"IF(A9<>\"\",IFERROR(VLOOKUP(R9,Tabelas!B:D,3,0),0),\"\")","v":0},{"$f":"IF(A9<>\"\",IFERROR(VLOOKUP(S9,Tabelas!B:D,3,0),0),\"\")","v":0},{"$f":"IF(A9<>\"\",IFERROR(VLOOKUP(T9,Tabelas!B:D,3,0),0),\"\")","v":0},{"$f":"IF(A9<>\"\",IFERROR(VLOOKUP(U9,Tabelas!B:D,3,0),0),\"\")","v":0},{"$f":"IF(A9<>\"\",IFERROR(VLOOKUP(V9,Tabelas!B:D,3,0),0),\"\")","v":0},{"$f":"IF(A9<>\"\",IFERROR(VLOOKUP(W9,Tabelas!B:D,3,0),0),\"\")","v":0},{"$f":"IF(A9<>\"\",IFERROR(VLOOKUP(X9,Tabelas!B:D,3,0),0),\"\")","v":0},{"$f":"IF(A9<>\"\",IFERROR(VLOOKUP(Y9,Tabelas!B:D,3,0),0),\"\")","v":0},{"$f":"IF(A9<>\"\",IFERROR(VLOOKUP(Z9,Tabelas!B:D,3,0),0),\"\")","v":0},{"$f":"IF(A9<>\"\",IFERROR(VLOOKUP(AA9,Tabelas!B:D,3,0),0),\"\")","v":0},{"$f":"IF(A9<>\"\",IFERROR(VLOOKUP(AB9,Tabelas!B:D,3,0),0),\"\")","v":0},{"$f":"IF(A9<>\"\",IFERROR(VLOOKUP(AC9,Tabelas!B:D,3,0),0),\"\")","v":0},{"$f":"IF(A9<>\"\",IFERROR(VLOOKUP(AD9,Tabelas!B:D,3,0),0),\"\")","v":0},{"$f":"IF(A9<>\"\",IFERROR(VLOOKUP(AE9,Tabelas!B:D,3,0),0),\"\")","v":0},{"$f":"IF(A9<>\"\",IFERROR(VLOOKUP(AF9,Tabelas!B:D,3,0),0),\"\")","v":0},{"$f":"IF(A9<>\"\",IFERROR(VLOOKUP(AG9,Tabelas!B:D,3,0),0),\"\")","v":0},{"$f":"IF(A9<>\"\",IFERROR(VLOOKUP(AH9,Tabelas!B:D,3,0),0),\"\")","v":0},{"$f":"IF(A9<>\"\",IFERROR(VLOOKUP(AI9,Tabelas!B:D,3,0),0),\"\")","v":0},{"$f":"IF(A9<>\"\",IFERROR(VLOOKUP(AJ9,Tabelas!B:D,3,0),0),\"\")","v":0},{"$f":"IF(A9<>\"\",IFERROR(VLOOKUP(AK9,Tabelas!B:D,3,0),0),\"\")","v":0},{"$f":"IF(A9<>\"\",IFERROR(VLOOKUP(AL9,Tabelas!B:D,3,0),0),\"\")","v":0},{"$f":"IF(A9<>\"\",IFERROR(VLOOKUP(AM9,Tabelas!B:D,3,0),0),\"\")","v":0},{"$f":"IF(A9<>\"\",IFERROR(VLOOKUP(AN9,Tabelas!B:D,3,0),0),\"\")","v":0},{"$f":"IF(A9<>\"\",IFERROR(VLOOKUP(AO9,Tabelas!B:D,3,0),0),\"\")","v":0},{"$f":"IF(A9<>\"\",IFERROR(VLOOKUP(AP9,Tabelas!B:D,3,0),0),\"\")","v":0},{"$f":"IF(A9<>\"\",IFERROR(VLOOKUP(AQ9,Tabelas!B:D,3,0),0),\"\")","v":0},{"$f":"IF(AND(A9<>\"\",E9=\"Ebserh\"),SUM(AR9:BV9)+COUNTIF(M9:AQ9,\"N*\")+COUNTIF(M9:AQ9,\"DN*\"),IF(AND(A9<>\"\",E9<>\"Ebserh\"),SUM(AR9:BV9),\"\"))","v":0},{"$f":"IF(A9<>\"\",COUNTIF(M9:AQ9,\"LM\")+COUNTIF(M9:AQ9,\"L\")+COUNTIF(M9:AQ9,\"LP\"),\"\")","v":0},{"$f":"IF(A9<>\"\",COUNTIF(M9:AQ9,\"AB*\"),\"\")","v":0},{"$f":"IF(A9<>\"\",COUNTIF(M9:AQ9,\"FE\"),\"\")","v":0},{"$f":"IF(A9<>\"\",COUNTIF(M9:AQ9,\"LC\"),\"\")","v":0},{"$f":"IF(A9<>\"\",COUNTIF(M9:AQ9,\"CH*\"),\"\")","v":0},{"$f":"IF(A9<>\"\",COUNTIF(M9:AQ9,\"AF1\")+COUNTIF(M9:AQ9,\"AF2\")+COUNTIF(M9:AQ9,\"AF3\")+COUNTIF(M9:AQ9,\"AF4\")+COUNTIF(M9:AQ9,\"AF5\")+COUNTIF(M9:AQ9,\"AF6\")+COUNTIF(M9:AQ9,\"AF7\")+COUNTIF(M9:AQ9,\"AF8\")+COUNTIF(M9:AQ9,\"AF9\")+COUNTIF(M9:AQ9,\"AF10\")+COUNTIF(M9:AQ9,\"AF11\")+COUNTIF(M9:AQ9,\"AF12\")+COUNTIF(M9:AQ9,\"AF13\")+COUNTIF(M9:AQ9,\"AF14\"),\"\")","v":0},{"$f":"IF(A9<>\"\",COUNTIF(M9:AQ9,\"CH*\")+COUNTIF(M9:AQ9,\"L\")+COUNTIF(M9:AQ9,\"LM\")+COUNTIF(M9:AQ9,\"LP\")+COUNTIF(M9:AQ9,\"LC\")+COUNTIF(M9:AQ9,\"AB*\")+COUNTIF(M9:AQ9,\"AF1\")+COUNTIF(M9:AQ9,\"AF2\")+COUNTIF(M9:AQ9,\"AF3\")+COUNTIF(M9:AQ9,\"AF4\")+COUNTIF(M9:AQ9,\"AF5\")+COUNTIF(M9:AQ9,\"AF6\")+COUNTIF(M9:AQ9,\"AF7\")+COUNTIF(M9:AQ9,\"AF8\")+COUNTIF(M9:AQ9,\"AF9\")+COUNTIF(M9:AQ9,\"AF10\")+COUNTIF(M9:AQ9,\"AF11\")+COUNTIF(M9:AQ9,\"AF12\")+COUNTIF(M9:AQ9,\"AF13\")+COUNTIF(M9:AQ9,\"AF14\")+COUNTIF(M9:AQ9,\"RC\")+COUNTIF(M9:AQ9,\"FO\")+COUNTIF(M9:AQ9,\"FE\"),\"\")","v":0}]
["Alexandre Luciano Klein",2312539,null,"ME","RJU",30,null,null,null,null,null,null,"D8",null,"M17","M17","M17","M17","M17",null,null,"M17","M17","M17","M17","M17",null,null,"M17","M17","M17","M17","M17",null,null,"M17","M17","M17","M17","M17",null,null,"M17",{"$f":"IF(A10<>\"\",IFERROR(VLOOKUP(M10,Tabelas!B:D,3,0),0),\"\")","v":12},{"$f":"IF(A10<>\"\",IFERROR(VLOOKUP(N10,Tabelas!B:D,3,0),0),\"\")","v":0},{"$f":"IF(A10<>\"\",IFERROR(VLOOKUP(O10,Tabelas!B:D,3,0),0),\"\")","v":6},{"$f":"IF(A10<>\"\",IFERROR(VLOOKUP(P10,Tabelas!B:D,3,0),0),\"\")","v":6},{"$f":"IF(A10<>\"\",IFERROR(VLOOKUP(Q10,Tabelas!B:D,3,0),0),\"\")","v":6},{"$f":"IF(A10<>\"\",IFERROR(VLOOKUP(R10,Tabelas!B:D,3,0),0),\"\")","v":6},{"$f":"IF(A10<>\"\",IFERROR(VLOOKUP(S10,Tabelas!B:D,3,0),0),\"\")","v":6},{"$f":"IF(A10<>\"\",IFERROR(VLOOKUP(T10,Tabelas!B:D,3,0),0),\"\")","v":0},{"$f":"IF(A10<>\"\",IFERROR(VLOOKUP(U10,Tabelas!B:D,3,0),0),\"\")","v":0},{"$f":"IF(A10<>\"\",IFERROR(VLOOKUP(V10,Tabelas!B:D,3,0),0),\"\")","v":6},{"$f":"IF(A10<>\"\",IFERROR(VLOOKUP(W10,Tabelas!B:D,3,0),0),\"\")","v":6},{"$f":"IF(A10<>\"\",IFERROR(VLOOKUP(X10,Tabelas!B:D,3,0),0),\"\")","v":6},{"$f":"IF(A10<>\"\",IFERROR(VLOOKUP(Y10,Tabelas!B:D,3,0),0),\"\")","v":6},{"$f":"IF(A10<>\"\",IFERROR(VLOOKUP(Z10,Tabelas!B:D,3,0),0),\"\")","v":6},{"$f":"IF(A10<>\"\",IFERROR(VLOOKUP(AA10,Tabelas!B:D,3,0),0),\"\")","v":0},{"$f":"IF(A10<>\"\",IFERROR(VLOOKUP(AB10,Tabelas!B:D,3,0),0),\"\")","v":0},{"$f":"IF(A10<>\"\",IFERROR(VLOOKUP(AC10,Tabelas!B:D,3,0),0),\"\")","v":6},{"$f":"IF(A10<>\"\",IFERROR(VLOOKUP(AD10,Tabelas!B:D,3,0),0),\"\")","v":6},{"$f":"IF(A10<>\"\",IFERROR(VLOOKUP(AE10,Tabelas!B:D,3,0),0),\"\")","v":6},{"$f":"IF(A10<>\"\",IFERROR(VLOOKUP(AF10,Tabelas!B:D,3,0),0),\"\")","v":6},{"$f":"IF(A10<>\"\",IFERROR(VLOOKUP(AG10,Tabelas!B:D,3,0),0),\"\")","v":6},{"$f":"IF(A10<>\"\",IFERROR(VLOOKUP(AH10,Tabelas!B:D,3,0),0),\"\")","v":0},{"$f":"IF(A10<>\"\",IFERROR(VLOOKUP(AI10,Tabelas!B:D,3,0),0),\"\")","v":0},{"$f":"IF(A10<>\"\",IFERROR(VLOOKUP(AJ10,Tabelas!B:D,3,0),0),\"\")","v":6},{"$f":"IF(A10<>\"\",IFERROR(VLOOKUP(AK10,Tabelas!B:D,3,0),0),\"\")","v":6},{"$f":"IF(A10<>\"\",IFERROR(VLOOKUP(AL10,Tabelas!B:D,3,0),0),\"\")","v":6},{"$f":"IF(A10<>\"\",IFERROR(VLOOKUP(AM10,Tabelas!B:D,3,0),0),\"\")","v":6},{"$f":"IF(A10<>\"\",IFERROR(VLOOKUP(AN10,Tabelas!B:D,3,0),0),\"\")","v":6},{"$f":"IF(A10<>\"\",IFERROR(VLOOKUP(AO10,Tabelas!B:D,3,0),0),\"\")","v":0},{"$f":"IF(A10<>\"\",IFERROR(VLOOKUP(AP10,Tabelas!B:D,3,0),0),\"\")","v":0},{"$f":"IF(A10<>\"\",IFERROR(VLOOKUP(AQ10,Tabelas!B:D,3,0),0),\"\")","v":6},138,0,0,0,0,0,0,0]
["Alexandre Luciano Klein",3312539,null,"ME","RJU",20,null,null,null,null,null,null,null,null,"T17",null,"T17","T17",null,null,null,"T17",null,"T17","T17",null,null,null,"T17",null,"T17","T17",null,null,null,"T17",null,"T17","T17",null,null,null,"T17",{"$f":"IF(A11<>\"\",IFERROR(VLOOKUP(M11,Tabelas!B:D,3,0),0),\"\")","v":0},{"$f":"IF(A11<>\"\",IFERROR(VLOOKUP(N11,Tabelas!B:D,3,0),0),\"\")","v":0},{"$f":"IF(A11<>\"\",IFERROR(VLOOKUP(O11,Tabelas!B:D,3,0),0),\"\")","v":6},{"$f":"IF(A11<>\"\",IFERROR(VLOOKUP(P11,Tabelas!B:D,3,0),0),\"\")","v":0},{"$f":"IF(A11<>\"\",IFERROR(VLOOKUP(Q11,Tabelas!B:D,3,0),0),\"\")","v":6},{"$f":"IF(A11<>\"\",IFERROR(VLOOKUP(R11,Tabelas!B:D,3,0),0),\"\")","v":6},{"$f":"IF(A11<>\"\",IFERROR(VLOOKUP(S11,Tabelas!B:D,3,0),0),\"\")","v":0},{"$f":"IF(A11<>\"\",IFERROR(VLOOKUP(T11,Tabelas!B:D,3,0),0),\"\")","v":0},{"$f":"IF(A11<>\"\",IFERROR(VLOOKUP(U11,Tabelas!B:D,3,0),0),\"\")","v":0},{"$f":"IF(A11<>\"\",IFERROR(VLOOKUP(V11,Tabelas!B:D,3,0),0),\"\")","v":6},{"$f":"IF(A11<>\"\",IFERROR(VLOOKUP(W11,Tabelas!B:D,3,0),0),\"\")","v":0},{"$f":"IF(A11<>\"\",IFERROR(VLOOKUP(X11,Tabelas!B:D,3,0),0),\"\")","v":6},{"$f":"IF(A11<>\"\",IFERROR(VLOOKUP(Y11,Tabelas!B:D,3,0),0),\"\")","v":6},{"$f":"IF(A11<>\"\",IFERROR(VLOOKUP(Z11,Tabelas!B:D,3,0),0),\"\")","v":0},{"$f":"IF(A11<>\"\",IFERROR(VLOOKUP(AA11,Tabelas!B:D,3,0),0),\"\")","v":0},{"$f":"IF(A11<>\"\",IFERROR(VLOOKUP(AB11,Tabelas!B:D,3,0),0),\"\")","v":0},{"$f":"IF(A11<>\"\",IFERROR(VLOOKUP(AC11,Tabelas!B:D,3,0),0),\"\")","v":6},{"$f":"IF(A11<>\"\",IFERROR(VLOOKUP(AD11,Tabelas!B:D,3,0),0),\"\")","v":0},{"$f":"IF(A11<>\"\",IFERROR(VLOOKUP(AE11,Tabelas!B:D,3,0),0),\"\")","v":6},{"$f":"IF(A11<>\"\",IFERROR(VLOOKUP(AF11,Tabelas!B:D,3,0),0),\"\")","v":6},{"$f":"IF(A11<>\"\",IFERROR(VLOOKUP(AG11,Tabelas!B:D,3,0),0),\"\")","v":0},{"$f":"IF(A11<>\"\",IFERROR(VLOOKUP(AH11,Tabelas!B:D,3,0),0),\"\")","v":0},{"$f":"IF(A11<>\"\",IFERROR(VLOOKUP(AI11,Tabelas!B:D,3,0),0),\"\")","v":0},{"$f":"IF(A11<>\"\",IFERROR(VLOOKUP(AJ11,Tabelas!B:D,3,0),0),\"\")","v":6},{"$f":"IF(A11<>\"\",IFERROR(VLOOKUP(AK11,Tabelas!B:D,3,0),0),\"\")","v":0},{"$f":"IF(A11<>\"\",IFERROR(VLOOKUP(AL11,Tabelas!B:D,3,0),0),\"\")","v":6},{"$f":"IF(A11<>\"\",IFERROR(VLOOKUP(AM11,Tabelas!B:D,3,0),0),\"\")","v":6},{"$f":"IF(A11<>\"\",IFERROR(VLOOKUP(AN11,Tabelas!B:D,3,0),0),\"\")","v":0},{"$f":"IF(A11<>\"\",IFERROR(VLOOKUP(AO11,Tabelas!B:D,3,0),0),\"\")","v":0},{"$f":"IF(A11<>\"\",IFERROR(VLOOKUP(AP11,Tabelas!B:D,3,0),0),\"\")","v":0},{"$f":"IF(A11<>\"\",IFERROR(VLOOKUP(AQ11,Tabelas!B:D,3,0),0),\"\")","v":6},78,0,0,0,0,0,0,0]
["Alice Danielle Correa Mendes Pinto",1357071,null,"ME","RJU",30,null,null,null,null,null,null,null,null,"T17","T17","T17","M17","M17",null,null,"M17",null,"M17","M17","M17",null,null,"M17","M17","M17","M17","M17","D8",null,"M17",null,"M17","M17","M17",null,null,"M17",{"$f":"IF(A12<>\"\",IFERROR(VLOOKUP(M12,Tabelas!B:D,3,0),0),\"\")","v":0},{"$f":"IF(A12<>\"\",IFERROR(VLOOKUP(N12,Tabelas!B:D,3,0),0),\"\")","v":0},{"$f":"IF(A12<>\"\",IFERROR(VLOOKUP(O12,Tabelas!B:D,3,0),0),\"\")","v":6},{"$f":"IF(A12<>\"\",IFERROR(VLOOKUP(P12,Tabelas!B:D,3,0),0),\"\")","v":6},{"$f":"IF(A12<>\"\",IFERROR(VLOOKUP(Q12,Tabelas!B:D,3,0),0),\"\")","v":6},{"$f":"IF(A12<>\"\",IFERROR(VLOOKUP(R12,Tabelas!B:D,3,0),0),\"\")","v":6},{"$f":"IF(A12<>\"\",IFERROR(VLOOKUP(S12,Tabelas!B:D,3,0),0),\"\")","v":6},{"$f":"IF(A12<>\"\",IFERROR(VLOOKUP(T12,Tabelas!B:D,3,0),0),\"\")","v":0},{"$f":"IF(A12<>\"\",IFERROR(VLOOKUP(U12,Tabelas!B:D,3,0),0),\"\")","v":0},{"$f":"IF(A12<>\"\",IFERROR(VLOOKUP(V12,Tabelas!B:D,3,0),0),\"\")","v":6},{"$f":"IF(A12<>\"\",IFERROR(VLOOKUP(W12,Tabelas!B:D,3,0),0),\"\")","v":0},{"$f":"IF(A12<>\"\",IFERROR(VLOOKUP(X12,Tabelas!B:D,3,0),0),\"\")","v":6},{"$f":"IF(A12<>\"\",IFERROR(VLOOKUP(Y12,Tabelas!B:D,3,0),0),\"\")","v":6},{"$f":"IF(A12<>\"\",IFERROR(VLOOKUP(Z12,Tabelas!B:D,3,0),0),\"\")","v":6},{"$f":"IF(A12<>\"\",IFERROR(VLOOKUP(AA12,Tabelas!B:D,3,0),0),\"\")","v":0},{"$f":"IF(A12<>\"\",IFERROR(VLOOKUP(AB12,Tabelas!B:D,3,0),0),\"\")","v":0},{"$f":"IF(A12<>\"\",IFERROR(VLOOKUP(AC12,Tabelas!B:D,3,0),0),\"\")","v":6},{"$f":"IF(A12<>\"\",IFERROR(VLOOKUP(AD12,Tabelas!B:D,3,0),0),\"\")","v":6},{"$f":"IF(A12<>\"\",IFERROR(VLOOKUP(AE12,Tabelas!B:D,3,0),0),\"\")","v":6},{"$f":"IF(A12<>\"\",IFERROR(VLOOKUP(AF12,Tabelas!B:D,3,0),0),\"\")","v":6},{"$f":"IF(A12<>\"\",IFERROR(VLOOKUP(AG12,Tabelas!B:D,3,0),0),\"\")","v":6},{"$f":"IF(A12<>\"\",IFERROR(VLOOKUP(AH12,Tabelas!B:D,3,0),0),\"\")","v":12},{"$f":"IF(A12<>\"\",IFERROR(VLOOKUP(AI12,Tabelas!B:D,3,0),0),\"\")","v":0},{"$f":"IF(A12<>\"\",IFERROR(VLOOKUP(AJ12,Tabelas!B:D,3,0),0),\"\")","v":6},{"$f":"IF(A12<>\"\",IFERROR(VLOOKUP(AK12,Tabelas!B:D,3,0),0),\"\")","v":0},{"$f":"IF(A12<>\"\",IFERROR(VLOOKUP(AL12,Tabelas!B:D,3,0),0),\"\")","v":6},{"$f":"IF(A12<>\"\",IFERROR(VLOOKUP(AM12,Tabelas!B:D,3,0),0),\"\")","v":6},{"$f":"IF(A12<>\"\",IFERROR(VLOOKUP(AN12,Tabelas!B:D,3,0),0),\"\")","v":6},{"$f":"IF(A12<>\"\",IFERROR(VLOOKUP(AO12,Tabelas!B:D,3,0),0),\"\")","v":0},{"$f":"IF(A12<>\"\",IFERROR(VLOOKUP(AP12,Tabelas!B:D,3,0),0),\"\")","v":0},{"$f":"IF(A12<>\"\",IFERROR(VLOOKUP(AQ12,Tabelas!B:D,3,0),0),\"\")","v":6},126,0,0,0,0,0,0,0]
["Christie Marie Schweitzer",2081333,null,"ME","RJU",20,null,null,null,null,null,null,null,null,null,"T17",null,"T17",null,null,null,"T17","T17",null,"T17","T17",null,null,null,"T17",null,"T17",null,null,null,"T17",null,"T17","T17",null,"D8",null,"T17",{"$f":"IF(A13<>\"\",IFERROR(VLOOKUP(M13,Tabelas!B:D,3,0),0),\"\")","v":0},{"$f":"IF(A13<>\"\",IFERROR(VLOOKUP(N13,Tabelas!B:D,3,0),0),\"\")","v":0},{"$f":"IF(A13<>\"\",IFERROR(VLOOKUP(O13,Tabelas!B:D,3,0),0),\"\")","v":0},{"$f":"IF(A13<>\"\",IFERROR(VLOOKUP(P13,Tabelas!B:D,3,0),0),\"\")","v":6},{"$f":"IF(A13<>\"\",IFERROR(VLOOKUP(Q13,Tabelas!B:D,3,0),0),\"\")","v":0},{"$f":"IF(A13<>\"\",IFERROR(VLOOKUP(R13,Tabelas!B:D,3,0),0),\"\")","v":6},{"$f":"IF(A13<>\"\",IFERROR(VLOOKUP(S13,Tabelas!B:D,3,0),0),\"\")","v":0},{"$f":"IF(A13<>\"\",IFERROR(VLOOKUP(T13,Tabelas!B:D,3,0),0),\"\")","v":0},{"$f":"IF(A13<>\"\",IFERROR(VLOOKUP(U13,Tabelas!B:D,3,0),0),\"\")","v":0},{"$f":"IF(A13<>\"\",IFERROR(VLOOKUP(V13,Tabelas!B:D,3,0),0),\"\")","v":6},{"$f":"IF(A13<>\"\",IFERROR(VLOOKUP(W13,Tabelas!B:D,3,0),0),\"\")","v":6},{"$f":"IF(A13<>\"\",IFERROR(VLOOKUP(X13,Tabelas!B:D,3,0),0),\"\")","v":0},{"$f":"IF(A13<>\"\",IFERROR(VLOOKUP(Y13,Tabelas!B:D,3,0),0),\"\")","v":6},{"$f":"IF(A13<>\"\",IFERROR(VLOOKUP(Z13,Tabelas!B:D,3,0),0),\"\")","v":6},{"$f":"IF(A13<>\"\",IFERROR(VLOOKUP(AA13,Tabelas!B:D,3,0),0),\"\")","v":0},{"$f":"IF(A13<>\"\",IFERROR(VLOOKUP(AB13,Tabelas!B:D,3,0),0),\"\")","v":0},{"$f":"IF(A13<>\"\",IFERROR(VLOOKUP(AC13,Tabelas!B:D,3,0),0),\"\")","v":0},{"$f":"IF(A13<>\"\",IFERROR(VLOOKUP(AD13,Tabelas!B:D,3,0),0),\"\")","v":6},{"$f":"IF(A13<>\"\",IFERROR(VLOOKUP(AE13,Tabelas!B:D,3,0),0),\"\")","v":0},{"$f":"IF(A13<>\"\",IFERROR(VLOOKUP(AF13,Tabelas!B:D,3,0),0),\"\")","v":6},{"$f":"IF(A13<>\"\",IFERROR(VLOOKUP(AG13,Tabelas!B:D,3,0),0),\"\")","v":0},{"$f":"IF(A13<>\"\",IFERROR(VLOOKUP(AH13,Tabelas!B:D,3,0),0),\"\")","v":0},{"$f":"IF(A13<>\"\",IFERROR(VLOOKUP(AI13,Tabelas!B:D,3,0),0),\"\")","v":0},{"$f":"IF(A13<>\"\",IFERROR(VLOOKUP(AJ13,Tabelas!B:D,3,0),0),\"\")","v":6},{"$f":"IF(A13<>\"\",IFERROR(VLOOKUP(AK13,Tabelas!B:D,3,0),0),\"\")","v":0},{"$f":"IF(A13<>\"\",IFERROR(VLOOKUP(AL13,Tabelas!B:D,3,0),0),\"\")","v":6},{"$f":"IF(A13<>\"\",IFERROR(VLOOKUP(AM13,Tabelas!B:D,3,0),0),\"\")","v":6},{"$f":"IF(A13<>\"\",IFERROR(VLOOKUP(AN13,Tabelas!B:D,3,0),0),\"\")","v":0},{"$f":"IF(A13<>\"\",IFERROR(VLOOKUP(AO13,Tabelas!B:D,3,0),0),\"\")","v":12},{"$f":"IF(A13<>\"\",IFERROR(VLOOKUP(AP13,Tabelas!B:D,3,0),0),\"\")","v":0},{"$f":"IF(A13<>\"\",IFERROR(VLOOKUP(AQ13,Tabelas!B:D,3,0),0),\"\")","v":6},84,0,0,0,0,0,0,0]
["Elizabeth Kristiane Buss Lunardelli",3760219,null,"ME","RJU",30,null,null,null,null,53,null,null,null,"M17","M17",null,null,null,null,null,null,"T17",null,null,"T17",null,"N10","T17","T17","N10",null,"T17",null,null,"T17","T17",null,null,"T17",null,null,"T17",{"$f":"IF(A14<>\"\",IFERROR(VLOOKUP(M14,Tabelas!B:D,3,0),0),\"\")","v":0},{"$f":"IF(A14<>\"\",IFERROR(VLOOKUP(N14,Tabelas!B:D,3,0),0),\"\")","v":0},{"$f":"IF(A14<>\"\",IFERROR(VLOOKUP(O14,Tabelas!B:D,3,0),0),\"\")","v":6},{"$f":"IF(A14<>\"\",IFERROR(VLOOKUP(P14,Tabelas!B:D,3,0),0),\"\")","v":6},{"$f":"IF(A14<>\"\",IFERROR(VLOOKUP(Q14,Tabelas!B:D,3,0),0),\"\")","v":0},{"$f":"IF(A14<>\"\",IFERROR(VLOOKUP(R14,Tabelas!B:D,3,0),0),\"\")","v":0},{"$f":"IF(A14<>\"\",IFERROR(VLOOKUP(S14,Tabelas!B:D,3,0),0),\"\")","v":0},{"$f":"IF(A14<>\"\",IFERROR(VLOOKUP(T14,Tabelas!B:D,3,0),0),\"\")","v":0},{"$f":"IF(A14<>\"\",IFERROR(VLOOKUP(U14,Tabelas!B:D,3,0),0),\"\")","v":0},{"$f":"IF(A14<>\"\",IFERROR(VLOOKUP(V14,Tabelas!B:D,3,0),0),\"\")","v":0},{"$f":"IF(A14<>\"\",IFERROR(VLOOKUP(W14,Tabelas!B:D,3,0),0),\"\")","v":6},{"$f":"IF(A14<>\"\",IFERROR(VLOOKUP(X14,Tabelas!B:D,3,0),0),\"\")","v":0},{"$f":"IF(A14<>\"\",IFERROR(VLOOKUP(Y14,Tabelas!B:D,3,0),0),\"\")","v":0},{"$f":"IF(A14<>\"\",IFERROR(VLOOKUP(Z14,Tabelas!B:D,3,0),0),\"\")","v":6},{"$f":"IF(A14<>\"\",IFERROR(VLOOKUP(AA14,Tabelas!B:D,3,0),0),\"\")","v":0},{"$f":"IF(A14<>\"\",IFERROR(VLOOKUP(AB14,Tabelas!B:D,3,0),0),\"\")","v":12},{"$f":"IF(A14<>\"\",IFERROR(VLOOKUP(AC14,Tabelas!B:D,3,0),0),\"\")","v":6},{"$f":"IF(A14<>\"\",IFERROR(VLOOKUP(AD14,Tabelas!B:D,3,0),0),\"\")","v":6},{"$f":"IF(A14<>\"\",IFERROR(VLOOKUP(AE14,Tabelas!B:D,3,0),0),\"\")","v":12},{"$f":"IF(A14<>\"\",IFERROR(VLOOKUP(AF14,Tabelas!B:D,3,0),0),\"\")","v":0},{"$f":"IF(A14<>\"\",IFERROR(VLOOKUP(AG14,Tabelas!B:D,3,0),0),\"\")","v":6},{"$f":"IF(A14<>\"\",IFERROR(VLOOKUP(AH14,Tabelas!B:D,3,0),0),\"\")","v":0},{"$f":"IF(A14<>\"\",IFERROR(VLOOKUP(AI14,Tabelas!B:D,3,0),0),\"\")","v":0},{"$f":"IF(A14<>\"\",IFERROR(VLOOKUP(AJ14,Tabelas!B:D,3,0),0),\"\")","v":6},{"$f":"IF(A14<>\"\",IFERROR(VLOOKUP(AK14,Tabelas!B:D,3,0),0),\"\")","v":6},{"$f":"IF(A14<>\"\",IFERROR(VLOOKUP(AL14,Tabelas!B:D,3,0),0),\"\")","v":0},{"$f":"IF(A14<>\"\",IFERROR(VLOOKUP(AM14,Tabelas!B:D,3,0),0),\"\")","v":0},{"$f":"IF(A14<>\"\",IFERROR(VLOOKUP(AN14,Tabelas!B:D,3,0),0),\"\")","v":6},{"$f":"IF(A14<>\"\",IFERROR(VLOOKUP(AO14,Tabelas!B:D,3,0),0),\"\")","v":0},{"$f":"IF(A14<>\"\",IFERROR(VLOOKUP(AP14,Tabelas!B:D,3,0),0),\"\")","v":0},{"$f":"IF(A14<>\"\",IFERROR(VLOOKUP(AQ14,Tabelas!B:D,3,0),0),\"\")","v":6},90,0,0,0,0,0,0,0]
["Gina Vieira Velho",1185798,null,"ME","RJU",20,null,null,null,null,null,null,null,null,"M8","M8","M8","M8","M8",null,null,"M8","M8","M8","M8","M8",null,"D8","M8","M8","M8","M8","M8",null,null,"M8","M8","M8","M8","M8",null,null,"M8",{"$f":"IF(A15<>\"\",IFERROR(VLOOKUP(M15,Tabelas!B:D,3,0),0),\"\")","v":0},{"$f":"IF(A15<>\"\",IFERROR(VLOOKUP(N15,Tabelas!B:D,3,0),0),\"\")","v":0},{"$f":"IF(A15<>\"\",IFERROR(VLOOKUP(O15,Tabelas!B:D,3,0),0),\"\")","v":4},{"$f":"IF(A15<>\"\",IFERROR(VLOOKUP(P15,Tabelas!B:D,3,0),0),\"\")","v":4},{"$f":"IF(A15<>\"\",IFERROR(VLOOKUP(Q15,Tabelas!B:D,3,0),0),\"\")","v":4},{"$f":"IF(A15<>\"\",IFERROR(VLOOKUP(R15,Tabelas!B:D,3,0),0),\"\")","v":4},{"$f":"IF(A15<>\"\",IFERROR(VLOOKUP(S15,Tabelas!B:D,3,0),0),\"\")","v":4},{"$f":"IF(A15<>\"\",IFERROR(VLOOKUP(T15,Tabelas!B:D,3,0),0),\"\")","v":0},{"$f":"IF(A15<>\"\",IFERROR(VLOOKUP(U15,Tabelas!B:D,3,0),0),\"\")","v":0},{"$f":"IF(A15<>\"\",IFERROR(VLOOKUP(V15,Tabelas!B:D,3,0),0),\"\")","v":4},{"$f":"IF(A15<>\"\",IFERROR(VLOOKUP(W15,Tabelas!B:D,3,0),0),\"\")","v":4},{"$f":"IF(A15<>\"\",IFERROR(VLOOKUP(X15,Tabelas!B:D,3,0),0),\"\")","v":4},{"$f":"IF(A15<>\"\",IFERROR(VLOOKUP(Y15,Tabelas!B:D,3,0),0),\"\")","v":4},{"$f":"IF(A15<>\"\",IFERROR(VLOOKUP(Z15,Tabelas!B:D,3,0),0),\"\")","v":4},{"$f":"IF(A15<>\"\",IFERROR(VLOOKUP(AA15,Tabelas!B:D,3,0),0),\"\")","v":0},{"$f":"IF(A15<>\"\",IFERROR(VLOOKUP(AB15,Tabelas!B:D,3,0),0),\"\")","v":12},{"$f":"IF(A15<>\"\",IFERROR(VLOOKUP(AC15,Tabelas!B:D,3,0),0),\"\")","v":4},{"$f":"IF(A15<>\"\",IFERROR(VLOOKUP(AD15,Tabelas!B:D,3,0),0),\"\")","v":4},{"$f":"IF(A15<>\"\",IFERROR(VLOOKUP(AE15,Tabelas!B:D,3,0),0),\"\")","v":4},{"$f":"IF(A15<>\"\",IFERROR(VLOOKUP(AF15,Tabelas!B:D,3,0),0),\"\")","v":4},{"$f":"IF(A15<>\"\",IFERROR(VLOOKUP(AG15,Tabelas!B:D,3,0),0),\"\")","v":4},{"$f":"IF(A15<>\"\",IFERROR(VLOOKUP(AH15,Tabelas!B:D,3,0),0),\"\")","v":0},{"$f":"IF(A15<>\"\",IFERROR(VLOOKUP(AI15,Tabelas!B:D,3,0),0),\"\")","v":0},{"$f":"IF(A15<>\"\",IFERROR(VLOOKUP(AJ15,Tabelas!B:D,3,0),0),\"\")","v":4},{"$f":"IF(A15<>\"\",IFERROR(VLOOKUP(AK15,Tabelas!B:D,3,0),0),\"\")","v":4},{"$f":"IF(A15<>\"\",IFERROR(VLOOKUP(AL15,Tabelas!B:D,3,0),0),\"\")","v":4},{"$f":"IF(A15<>\"\",IFERROR(VLOOKUP(AM15,Tabelas!B:D,3,0),0),\"\")","v":4},{"$f":"IF(A15<>\"\",IFERROR(VLOOKUP(AN15,Tabelas!B:D,3,0),0),\"\")","v":4},{"$f":"IF(A15<>\"\",IFERROR(VLOOKUP(AO15,Tabelas!B:D,3,0),0),\"\")","v":0},{"$f":"IF(A15<>\"\",IFERROR(VLOOKUP(AP15,Tabelas!B:D,3,0),0),\"\")","v":0},{"$f":"IF(A15<>\"\",IFERROR(VLOOKUP(AQ15,Tabelas!B:D,3,0),0),\"\")","v":4},96,0,0,0,0,0,0,0]
["Rafael Lisboa de Souza",2344070,null,"ME","RJU",30,null,null,null,null,null,null,"N10",null,"M17","M17","M17","M17","M17",null,null,"M17","M17","M17","M17","M17",null,null,"M17","M17","M17","M17","M17",null,null,"M17","M17","M17","M17","M17",null,null,"M17",{"$f":"IF(A16<>\"\",IFERROR(VLOOKUP(M16,Tabelas!B:D,3,0),0),\"\")","v":12},{"$f":"IF(A16<>\"\",IFERROR(VLOOKUP(N16,Tabelas!B:D,3,0),0),\"\")","v":0},{"$f":"IF(A16<>\"\",IFERROR(VLOOKUP(O16,Tabelas!B:D,3,0),0),\"\")","v":6},{"$f":"IF(A16<>\"\",IFERROR(VLOOKUP(P16,Tabelas!B:D,3,0),0),\"\")","v":6},{"$f":"IF(A16<>\"\",IFERROR(VLOOKUP(Q16,Tabelas!B:D,3,0),0),\"\")","v":6},{"$f":"IF(A16<>\"\",IFERROR(VLOOKUP(R16,Tabelas!B:D,3,0),0),\"\")","v":6},{"$f":"IF(A16<>\"\",IFERROR(VLOOKUP(S16,Tabelas!B:D,3,0),0),\"\")","v":6},{"$f":"IF(A16<>\"\",IFERROR(VLOOKUP(T16,Tabelas!B:D,3,0),0),\"\")","v":0},{"$f":"IF(A16<>\"\",IFERROR(VLOOKUP(U16,Tabelas!B:D,3,0),0),\"\")","v":0},{"$f":"IF(A16<>\"\",IFERROR(VLOOKUP(V16,Tabelas!B:D,3,0),0),\"\")","v":6},{"$f":"IF(A16<>\"\",IFERROR(VLOOKUP(W16,Tabelas!B:D,3,0),0),\"\")","v":6},{"$f":"IF(A16<>\"\",IFERROR(VLOOKUP(X16,Tabelas!B:D,3,0),0),\"\")","v":6},{"$f":"IF(A16<>\"\",IFERROR(VLOOKUP(Y16,Tabelas!B:D,3,0),0),\"\")","v":6},{"$f":"IF(A16<>\"\",IFERROR(VLOOKUP(Z16,Tabelas!B:D,3,0),0),\"\")","v":6},{"$f":"IF(A16<>\"\",IFERROR(VLOOKUP(AA16,Tabelas!B:D,3,0),0),\"\")","v":0},{"$f":"IF(A16<>\"\",IFERROR(VLOOKUP(AB16,Tabelas!B:D,3,0),0),\"\")","v":0},{"$f":"IF(A16<>\"\",IFERROR(VLOOKUP(AC16,Tabelas!B:D,3,0),0),\"\")","v":6},{"$f":"IF(A16<>\"\",IFERROR(VLOOKUP(AD16,Tabelas!B:D,3,0),0),\"\")","v":6},{"$f":"IF(A16<>\"\",IFERROR(VLOOKUP(AE16,Tabelas!B:D,3,0),0),\"\")","v":6},{"$f":"IF(A16<>\"\",IFERROR(VLOOKUP(AF16,Tabelas!B:D,3,0),0),\"\")","v":6},{"$f":"IF(A16<>\"\",IFERROR(VLOOKUP(AG16,Tabelas!B:D,3,0),0),\"\")","v":6},{"$f":"IF(A16<>\"\",IFERROR(VLOOKUP(AH16,Tabelas!B:D,3,0),0),\"\")","v":0},{"$f":"IF(A16<>\"\",IFERROR(VLOOKUP(AI16,Tabelas!B:D,3,0),0),\"\")","v":0},{"$f":"IF(A16<>\"\",IFERROR(VLOOKUP(AJ16,Tabelas!B:D,3,0),0),\"\")","v":6},{"$f":"IF(A16<>\"\",IFERROR(VLOOKUP(AK16,Tabelas!B:D,3,0),0),\"\")","v":6},{"$f":"IF(A16<>\"\",IFERROR(VLOOKUP(AL16,Tabelas!B:D,3,0),0),\"\")","v":6},{"$f":"IF(A16<>\"\",IFERROR(VLOOKUP(AM16,Tabelas!B:D,3,0),0),\"\")","v":6},{"$f":"IF(A16<>\"\",IFERROR(VLOOKUP(AN16,Tabelas!B:D,3,0),0),\"\")","v":6},{"$f":"IF(A16<>\"\",IFERROR(VLOOKUP(AO16,Tabelas!B:D,3,0),0),\"\")","v":0},{"$f":"IF(A16<>\"\",IFERROR(VLOOKUP(AP16,Tabelas!B:D,3,0),0),\"\")","v":0},{"$f":"IF(A16<>\"\",IFERROR(VLOOKUP(AQ16,Tabelas!B:D,3,0),0),\"\")","v":6},138,0,0,0,0,0,0,0]
["Karine Damiani Cabral ",null,null,"ME","RJU",30,null,null,null,null,null,null,null,null,"T17","T17","T17",null,"T17",null,null,"T17","D8","T17",null,"T17","D8",null,"T17","D8","T17",null,"T17",null,null,"T17","D8","T17",null,"T17",null,null,null,{"$f":"IF(A17<>\"\",IFERROR(VLOOKUP(M17,Tabelas!B:D,3,0),0),\"\")","v":0},{"$f":"IF(A17<>\"\",IFERROR(VLOOKUP(N17,Tabelas!B:D,3,0),0),\"\")","v":0},{"$f":"IF(A17<>\"\",IFERROR(VLOOKUP(O17,Tabelas!B:D,3,0),0),\"\")","v":6},{"$f":"IF(A17<>\"\",IFERROR(VLOOKUP(P17,Tabelas!B:D,3,0),0),\"\")","v":6},{"$f":"IF(A17<>\"\",IFERROR(VLOOKUP(Q17,Tabelas!B:D,3,0),0),\"\")","v":6},{"$f":"IF(A17<>\"\",IFERROR(VLOOKUP(R17,Tabelas!B:D,3,0),0),\"\")","v":0},{"$f":"IF(A17<>\"\",IFERROR(VLOOKUP(S17,Tabelas!B:D,3,0),0),\"\")","v":6},{"$f":"IF(A17<>\"\",IFERROR(VLOOKUP(T17,Tabelas!B:D,3,0),0),\"\")","v":0},{"$f":"IF(A17<>\"\",IFERROR(VLOOKUP(U17,Tabelas!B:D,3,0),0),\"\")","v":0},{"$f":"IF(A17<>\"\",IFERROR(VLOOKUP(V17,Tabelas!B:D,3,0),0),\"\")","v":6},{"$f":"IF(A17<>\"\",IFERROR(VLOOKUP(W17,Tabelas!B:D,3,0),0),\"\")","v":12},{"$f":"IF(A17<>\"\",IFERROR(VLOOKUP(X17,Tabelas!B:D,3,0),0),\"\")","v":6},{"$f":"IF(A17<>\"\",IFERROR(VLOOKUP(Y17,Tabelas!B:D,3,0),0),\"\")","v":0},{"$f":"IF(A17<>\"\",IFERROR(VLOOKUP(Z17,Tabelas!B:D,3,0),0),\"\")","v":6},{"$f":"IF(A17<>\"\",IFERROR(VLOOKUP(AA17,Tabelas!B:D,3,0),0),\"\")","v":12},{"$f":"IF(A17<>\"\",IFERROR(VLOOKUP(AB17,Tabelas!B:D,3,0),0),\"\")","v":0},{"$f":"IF(A17<>\"\",IFERROR(VLOOKUP(AC17,Tabelas!B:D,3,0),0),\"\")","v":6},{"$f":"IF(A17<>\"\",IFERROR(VLOOKUP(AD17,Tabelas!B:D,3,0),0),\"\")","v":12},{"$f":"IF(A17<>\"\",IFERROR(VLOOKUP(AE17,Tabelas!B:D,3,0),0),\"\")","v":6},{"$f":"IF(A17<>\"\",IFERROR(VLOOKUP(AF17,Tabelas!B:D,3,0),0),\"\")","v":0},{"$f":"IF(A17<>\"\",IFERROR(VLOOKUP(AG17,Tabelas!B:D,3,0),0),\"\")","v":6},{"$f":"IF(A17<>\"\",IFERROR(VLOOKUP(AH17,Tabelas!B:D,3,0),0),\"\")","v":0},{"$f":"IF(A17<>\"\",IFERROR(VLOOKUP(AI17,Tabelas!B:D,3,0),0),\"\")","v":0},{"$f":"IF(A17<>\"\",IFERROR(VLOOKUP(AJ17,Tabelas!B:D,3,0),0),\"\")","v":6},{"$f":"IF(A17<>\"\",IFERROR(VLOOKUP(AK17,Tabelas!B:D,3,0),0),\"\")","v":12},{"$f":"IF(A17<>\"\",IFERROR(VLOOKUP(AL17,Tabelas!B:D,3,0),0),\"\")","v":6},{"$f":"IF(A17<>\"\",IFERROR(VLOOKUP(AM17,Tabelas!B:D,3,0),0),\"\")","v":0},{"$f":"IF(A17<>\"\",IFERROR(VLOOKUP(AN17,Tabelas!B:D,3,0),0),\"\")","v":6},{"$f":"IF(A17<>\"\",IFERROR(VLOOKUP(AO17,Tabelas!B:D,3,0),0),\"\")","v":0},{"$f":"IF(A17<>\"\",IFERROR(VLOOKUP(AP17,Tabelas!B:D,3,0),0),\"\")","v":0},{"$f":"IF(A17<>\"\",IFERROR(VLOOKUP(AQ17,Tabelas!B:D,3,0),0),\"\")","v":0},126,0,0,0,0,0,0,0]
["Vanessa Miné Geraldo",3055054,null,"ME","EBSERH",24,null,null,null,null,null,null,null,null,null,"T17","M17","T17","T17",null,null,null,"T17","T17","T17",null,null,null,null,"T17","T17","T17","T17",null,"N10",null,"T17","T17","T17","T17",null,null,null,{"$f":"IF(A18<>\"\",IFERROR(VLOOKUP(M18,Tabelas!B:D,3,0),0),\"\")","v":0},{"$f":"IF(A18<>\"\",IFERROR(VLOOKUP(N18,Tabelas!B:D,3,0),0),\"\")","v":0},{"$f":"IF(A18<>\"\",IFERROR(VLOOKUP(O18,Tabelas!B:D,3,0),0),\"\")","v":0},{"$f":"IF(A18<>\"\",IFERROR(VLOOKUP(P18,Tabelas!B:D,3,0),0),\"\")","v":6},{"$f":"IF(A18<>\"\",IFERROR(VLOOKUP(Q18,Tabelas!B:D,3,0),0),\"\")","v":6},{"$f":"IF(A18<>\"\",IFERROR(VLOOKUP(R18,Tabelas!B:D,3,0),0),\"\")","v":6},{"$f":"IF(A18<>\"\",IFERROR(VLOOKUP(S18,Tabelas!B:D,3,0),0),\"\")","v":6},{"$f":"IF(A18<>\"\",IFERROR(VLOOKUP(T18,Tabelas!B:D,3,0),0),\"\")","v":0},{"$f":"IF(A18<>\"\",IFERROR(VLOOKUP(U18,Tabelas!B:D,3,0),0),\"\")","v":0},{"$f":"IF(A18<>\"\",IFERROR(VLOOKUP(V18,Tabelas!B:D,3,0),0),\"\")","v":0},{"$f":"IF(A18<>\"\",IFERROR(VLOOKUP(W18,Tabelas!B:D,3,0),0),\"\")","v":6},{"$f":"IF(A18<>\"\",IFERROR(VLOOKUP(X18,Tabelas!B:D,3,0),0),\"\")","v":6},{"$f":"IF(A18<>\"\",IFERROR(VLOOKUP(Y18,Tabelas!B:D,3,0),0),\"\")","v":6},{"$f":"IF(A18<>\"\",IFERROR(VLOOKUP(Z18,Tabelas!B:D,3,0),0),\"\")","v":0},{"$f":"IF(A18<>\"\",IFERROR(VLOOKUP(AA18,Tabelas!B:D,3,0),0),\"\")","v":0},{"$f":"IF(A18<>\"\",IFERROR(VLOOKUP(AB18,Tabelas!B:D,3,0),0),\"\")","v":0},{"$f":"IF(A18<>\"\",IFERROR(VLOOKUP(AC18,Tabelas!B:D,3,0),0),\"\")","v":0},{"$f":"IF(A18<>\"\",IFERROR(VLOOKUP(AD18,Tabelas!B:D,3,0),0),\"\")","v":6},{"$f":"IF(A18<>\"\",IFERROR(VLOOKUP(AE18,Tabelas!B:D,3,0),0),\"\")","v":6},{"$f":"IF(A18<>\"\",IFERROR(VLOOKUP(AF18,Tabelas!B:D,3,0),0),\"\")","v":6},{"$f":"IF(A18<>\"\",IFERROR(VLOOKUP(AG18,Tabelas!B:D,3,0),0),\"\")","v":6},{"$f":"IF(A18<>\"\",IFERROR(VLOOKUP(AH18,Tabelas!B:D,3,0),0),\"\")","v":0},{"$f":"IF(A18<>\"\",IFERROR(VLOOKUP(AI18,Tabelas!B:D,3,0),0),\"\")","v":12},{"$f":"IF(A18<>\"\",IFERROR(VLOOKUP(AJ18,Tabelas!B:D,3,0),0),\"\")","v":0},{"$f":"IF(A18<>\"\",IFERROR(VLOOKUP(AK18,Tabelas!B:D,3,0),0),\"\")","v":6},{"$f":"IF(A18<>\"\",IFERROR(VLOOKUP(AL18,Tabelas!B:D,3,0),0),\"\")","v":6},{"$f":"IF(A18<>\"\",IFERROR(VLOOKUP(AM18,Tabelas!B:D,3,0),0),\"\")","v":6},{"$f":"IF(A18<>\"\",IFERROR(VLOOKUP(AN18,Tabelas!B:D,3,0),0),\"\")","v":6},{"$f":"IF(A18<>\"\",IFERROR(VLOOKUP(AO18,Tabelas!B:D,3,0),0),\"\")","v":0},{"$f":"IF(A18<>\"\",IFERROR(VLOOKUP(AP18,Tabelas!B:D,3,0),0),\"\")","v":0},{"$f":"IF(A18<>\"\",IFERROR(VLOOKUP(AQ18,Tabelas!B:D,3,0),0),\"\")","v":0},103,0,0,0,0,0,0,0]
["Vinícius D. Pedro ",null,null,"ME","RJU",30,null,null,null,null,null,null,null,null,"T17","T17","T17","T17","D8",null,null,null,"FE","FE","FE","FE","FE","FE","FE","FE","FE","FE","FE","FE","FE","FE","FE","FE","FE","FE",null,"D8",null,{"$f":"IF(A19<>\"\",IFERROR(VLOOKUP(M19,Tabelas!B:D,3,0),0),\"\")","v":0},{"$f":"IF(A19<>\"\",IFERROR(VLOOKUP(N19,Tabelas!B:D,3,0),0),\"\")","v":0},{"$f":"IF(A19<>\"\",IFERROR(VLOOKUP(O19,Tabelas!B:D,3,0),0),\"\")","v":6},{"$f":"IF(A19<>\"\",IFERROR(VLOOKUP(P19,Tabelas!B:D,3,0),0),\"\")","v":6},{"$f":"IF(A19<>\"\",IFERROR(VLOOKUP(Q19,Tabelas!B:D,3,0),0),\"\")","v":6},{"$f":"IF(A19<>\"\",IFERROR(VLOOKUP(R19,Tabelas!B:D,3,0),0),\"\")","v":6},{"$f":"IF(A19<>\"\",IFERROR(VLOOKUP(S19,Tabelas!B:D,3,0),0),\"\")","v":12},{"$f":"IF(A19<>\"\",IFERROR(VLOOKUP(T19,Tabelas!B:D,3,0),0),\"\")","v":0},{"$f":"IF(A19<>\"\",IFERROR(VLOOKUP(U19,Tabelas!B:D,3,0),0),\"\")","v":0},{"$f":"IF(A19<>\"\",IFERROR(VLOOKUP(V19,Tabelas!B:D,3,0),0),\"\")","v":0},{"$f":"IF(A19<>\"\",IFERROR(VLOOKUP(W19,Tabelas!B:D,3,0),0),\"\")","v":0},{"$f":"IF(A19<>\"\",IFERROR(VLOOKUP(X19,Tabelas!B:D,3,0),0),\"\")","v":0},{"$f":"IF(A19<>\"\",IFERROR(VLOOKUP(Y19,Tabelas!B:D,3,0),0),\"\")","v":0},{"$f":"IF(A19<>\"\",IFERROR(VLOOKUP(Z19,Tabelas!B:D,3,0),0),\"\")","v":0},{"$f":"IF(A19<>\"\",IFERROR(VLOOKUP(AA19,Tabelas!B:D,3,0),0),\"\")","v":0},{"$f":"IF(A19<>\"\",IFERROR(VLOOKUP(AB19,Tabelas!B:D,3,0),0),\"\")","v":0},{"$f":"IF(A19<>\"\",IFERROR(VLOOKUP(AC19,Tabelas!B:D,3,0),0),\"\")","v":0},{"$f":"IF(A19<>\"\",IFERROR(VLOOKUP(AD19,Tabelas!B:D,3,0),0),\"\")","v":0},{"$f":"IF(A19<>\"\",IFERROR(VLOOKUP(AE19,Tabelas!B:D,3,0),0),\"\")","v":0},{"$f":"IF(A19<>\"\",IFERROR(VLOOKUP(AF19,Tabelas!B:D,3,0),0),\"\")","v":0},{"$f":"IF(A19<>\"\",IFERROR(VLOOKUP(AG19,Tabelas!B:D,3,0),0),\"\")","v":0},{"$f":"IF(A19<>\"\",IFERROR(VLOOKUP(AH19,Tabelas!B:D,3,0),0),\"\")","v":0},{"$f":"IF(A19<>\"\",IFERROR(VLOOKUP(AI19,Tabelas!B:D,3,0),0),\"\")","v":0},{"$f":"IF(A19<>\"\",IFERROR(VLOOKUP(AJ19,Tabelas!B:D,3,0),0),\"\")","v":0},{"$f":"IF(A19<>\"\",IFERROR(VLOOKUP(AK19,Tabelas!B:D,3,0),0),\"\")","v":0},{"$f":"IF(A19<>\"\",IFERROR(VLOOKUP(AL19,Tabelas!B:D,3,0),0),\"\")","v":0},{"$f":"IF(A19<>\"\",IFERROR(VLOOKUP(AM19,Tabelas!B:D,3,0),0),\"\")","v":0},{"$f":"IF(A19<>\"\",IFERROR(VLOOKUP(AN19,Tabelas!B:D,3,0),0),\"\")","v":0},{"$f":"IF(A19<>\"\",IFERROR(VLOOKUP(AO19,Tabelas!B:D,3,0),0),\"\")","v":0},{"$f":"IF(A19<>\"\",IFERROR(VLOOKUP(AP19,Tabelas!B:D,3,0),0),\"\")","v":12},{"$f":"IF(A19<>\"\",IFERROR(VLOOKUP(AQ19,Tabelas!B:D,3,0),0),\"\")","v":0},48,0,0,18,0,0,0,18]
["Leonardo Jonck Staub",null,null,"ME","RJU",30,null,null,null,null,null,null,null,null,"M17","M17","M17","M17","M17",null,null,"M17","M17","M17","M17","M17",null,null,"M17","M17","M17","M17","M17",null,null,"M17","M17","M17","M17","M17",null,null,"M17",{"$f":"IF(A20<>\"\",IFERROR(VLOOKUP(M20,Tabelas!B:D,3,0),0),\"\")","v":0},{"$f":"IF(A20<>\"\",IFERROR(VLOOKUP(N20,Tabelas!B:D,3,0),0),\"\")","v":0},{"$f":"IF(A20<>\"\",IFERROR(VLOOKUP(O20,Tabelas!B:D,3,0),0),\"\")","v":6},{"$f":"IF(A20<>\"\",IFERROR(VLOOKUP(P20,Tabelas!B:D,3,0),0),\"\")","v":6},{"$f":"IF(A20<>\"\",IFERROR(VLOOKUP(Q20,Tabelas!B:D,3,0),0),\"\")","v":6},{"$f":"IF(A20<>\"\",IFERROR(VLOOKUP(R20,Tabelas!B:D,3,0),0),\"\")","v":6},{"$f":"IF(A20<>\"\",IFERROR(VLOOKUP(S20,Tabelas!B:D,3,0),0),\"\")","v":6},{"$f":"IF(A20<>\"\",IFERROR(VLOOKUP(T20,Tabelas!B:D,3,0),0),\"\")","v":0},{"$f":"IF(A20<>\"\",IFERROR(VLOOKUP(U20,Tabelas!B:D,3,0),0),\"\")","v":0},{"$f":"IF(A20<>\"\",IFERROR(VLOOKUP(V20,Tabelas!B:D,3,0),0),\"\")","v":6},{"$f":"IF(A20<>\"\",IFERROR(VLOOKUP(W20,Tabelas!B:D,3,0),0),\"\")","v":6},{"$f":"IF(A20<>\"\",IFERROR(VLOOKUP(X20,Tabelas!B:D,3,0),0),\"\")","v":6},{"$f":"IF(A20<>\"\",IFERROR(VLOOKUP(Y20,Tabelas!B:D,3,0),0),\"\")","v":6},{"$f":"IF(A20<>\"\",IFERROR(VLOOKUP(Z20,Tabelas!B:D,3,0),0),\"\")","v":6},{"$f":"IF(A20<>\"\",IFERROR(VLOOKUP(AA20,Tabelas!B:D,3,0),0),\"\")","v":0},{"$f":"IF(A20<>\"\",IFERROR(VLOOKUP(AB20,Tabelas!B:D,3,0),0),\"\")","v":0},{"$f":"IF(A20<>\"\",IFERROR(VLOOKUP(AC20,Tabelas!B:D,3,0),0),\"\")","v":6},{"$f":"IF(A20<>\"\",IFERROR(VLOOKUP(AD20,Tabelas!B:D,3,0),0),\"\")","v":6},{"$f":"IF(A20<>\"\",IFERROR(VLOOKUP(AE20,Tabelas!B:D,3,0),0),\"\")","v":6},{"$f":"IF(A20<>\"\",IFERROR(VLOOKUP(AF20,Tabelas!B:D,3,0),0),\"\")","v":6},{"$f":"IF(A20<>\"\",IFERROR(VLOOKUP(AG20,Tabelas!B:D,3,0),0),\"\")","v":6},{"$f":"IF(A20<>\"\",IFERROR(VLOOKUP(AH20,Tabelas!B:D,3,0),0),\"\")","v":0},{"$f":"IF(A20<>\"\",IFERROR(VLOOKUP(AI20,Tabelas!B:D,3,0),0),\"\")","v":0},{"$f":"IF(A20<>\"\",IFERROR(VLOOKUP(AJ20,Tabelas!B:D,3,0),0),\"\")","v":6},{"$f":"IF(A20<>\"\",IFERROR(VLOOKUP(AK20,Tabelas!B:D,3,0),0),\"\")","v":6},{"$f":"IF(A20<>\"\",IFERROR(VLOOKUP(AL20,Tabelas!B:D,3,0),0),\"\")","v":6},{"$f":"IF(A20<>\"\",IFERROR(VLOOKUP(AM20,Tabelas!B:D,3,0),0),\"\")","v":6},{"$f":"IF(A20<>\"\",IFERROR(VLOOKUP(AN20,Tabelas!B:D,3,0),0),\"\")","v":6},{"$f":"IF(A20<>\"\",IFERROR(VLOOKUP(AO20,Tabelas!B:D,3,0),0),\"\")","v":0},{"$f":"IF(A20<>\"\",IFERROR(VLOOKUP(AP20,Tabelas!B:D,3,0),0),\"\")","v":0},{"$f":"IF(A20<>\"\",IFERROR(VLOOKUP(AQ20,Tabelas!B:D,3,0),0),\"\")","v":6},126,0,0,0,0,0,0,0]
["Lara Patrícia Kretzer",null,null,"ME","RJU",12,null,null,null,null,null,null,null,null,"T17",null,null,null,"T17",null,null,"T17",null,null,null,"T17",null,null,"T17",null,null,null,"T17",null,null,"T17",null,null,null,"T17",null,null,"T17"]
["Heda Mara Schmidt",null,null,"ME","RJU",12,null,null,null,null,null,null,null,null,null,null,"T17","T17",null,null,null,null,null,"T17","T17",null,null,null,null,null,"T17","T17",null,null,null,null,null,"T17","T17"]
[null,null,null,null,null,null,null,null,null,null,null,null,null,null,null,null,null,null,null,null,null,null,null,null,null,null,null,null,null,null,null,null,null,null,null,null,null,null,null,null,null,null,null,{"$f":"IF(A23<>\"\",IFERROR(VLOOKUP(M23,Tabelas!B:D,3,0),0),\"\")","v":""},{"$f":"IF(A23<>\"\",IFERROR(VLOOKUP(N23,Tabelas!B:D,3,0),0),\"\")","v":""},{"$f":"IF(A23<>\"\",IFERROR(VLOOKUP(O23,Tabelas!B:D,3,0),0),\"\")","v":""},{"$f":"IF(A23<>\"\",IFERROR(VLOOKUP(P23,Tabelas!B:D,3,0),0),\"\")","v":""},{"$f":"IF(A23<>\"\",IFERROR(VLOOKUP(Q23,Tabelas!B:D,3,0),0),\"\")","v":""},{"$f":"IF(A23<>\"\",IFERROR(VLOOKUP(R23,Tabelas!B:D,3,0),0),\"\")","v":""},{"$f":"IF(A23<>\"\",IFERROR(VLOOKUP(S23,Tabelas!B:D,3,0),0),\"\")","v":""},{"$f":"IF(A23<>\"\",IFERROR(VLOOKUP(T23,Tabelas!B:D,3,0),0),\"\")","v":""},{"$f":"IF(A23<>\"\",IFERROR(VLOOKUP(U23,Tabelas!B:D,3,0),0),\"\")","v":""},{"$f":"IF(A23<>\"\",IFERROR(VLOOKUP(V23,Tabelas!B:D,3,0),0),\"\")","v":""},{"$f":"IF(A23<>\"\",IFERROR(VLOOKUP(W23,Tabelas!B:D,3,0),0),\"\")","v":""},{"$f":"IF(A23<>\"\",IFERROR(VLOOKUP(X23,Tabelas!B:D,3,0),0),\"\")","v":""},{"$f":"IF(A23<>\"\",IFERROR(VLOOKUP(Y23,Tabelas!B:D,3,0),0),\"\")","v":""},{"$f":"IF(A23<>\"\",IFERROR(VLOOKUP(Z23,Tabelas!B:D,3,0),0),\"\")","v":""},{"$f":"IF(A23<>\"\",IFERROR(VLOOKUP(AA23,Tabelas!B:D,3,0),0),\"\")","v":""},{"$f":"IF(A23<>\"\",IFERROR(VLOOKUP(AB23,Tabelas!B:D,3,0),0),\"\")","v":""},{"$f":"IF(A23<>\"\",IFERROR(VLOOKUP(AC23,Tabelas!B:D,3,0),0),\"\")","v":""},{"$f":"IF(A23<>\"\",IFERROR(VLOOKUP(AD23,Tabelas!B:D,3,0),0),\"\")","v":""},{"$f":"IF(A23<>\"\",IFERROR(VLOOKUP(AE23,Tabelas!B:D,3,0),0),\"\")","v":""},{"$f":"IF(A23<>\"\",IFERROR(VLOOKUP(AF23,Tabelas!B:D,3,0),0),\"\")","v":""},{"$f":"IF(A23<>\"\",IFERROR(VLOOKUP(AG23,Tabelas!B:D,3,0),0),\"\")","v":""},{"$f":"IF(A23<>\"\",IFERROR(VLOOKUP(AH23,Tabelas!B:D,3,0),0),\"\")","v":""},{"$f":"IF(A23<>\"\",IFERROR(VLOOKUP(AI23,Tabelas!B:D,3,0),0),\"\")","v":""},{"$f":"IF(A23<>\"\",IFERROR(VLOOKUP(AJ23,Tabelas!B:D,3,0),0),\"\")","v":""},{"$f":"IF(A23<>\"\",IFERROR(VLOOKUP(AK23,Tabelas!B:D,3,0),0),\"\")","v":""},{"$f":"IF(A23<>\"\",IFERROR(VLOOKUP(AL23,Tabelas!B:D,3,0),0),\"\")","v":""},{"$f":"IF(A23<>\"\",IFERROR(VLOOKUP(AM23,Tabelas!B:D,3,0),0),\"\")","v":""},{"$f":"IF(A23<>\"\",IFERROR(VLOOKUP(AN23,Tabelas!B:D,3,0),0),\"\")","v":""},{"$f":"IF(A23<>\"\",IFERROR(VLOOKUP(AO23,Tabelas!B:D,3,0),0),\"\")","v":""},{"$f":"IF(A23<>\"\",IFERROR(VLOOKUP(AP23,Tabelas!B:D,3,0),0),\"\")","v":""},{"$f":"IF(A23<>\"\",IFERROR(VLOOKUP(AQ23,Tabelas!B:D,3,0),0),\"\")","v":""},{"$f":"IF(AND(A23<>\"\",E23=\"Ebserh\"),SUM(AR23:BV23)+COUNTIF(M23:AQ23,\"N*\")+COUNTIF(M23:AQ23,\"DN*\"),IF(AND(A23<>\"\",E23<>\"Ebserh\"),SUM(AR23:BV23),\"\"))","v":""},{"$f":"IF(A23<>\"\",COUNTIF(M23:AQ23,\"LM\")+COUNTIF(M23:AQ23,\"L\")+COUNTIF(M23:AQ23,\"LP\"),\"\")","v":""},{"$f":"IF(A23<>\"\",COUNTIF(M23:AQ23,\"AB*\"),\"\")","v":""},{"$f":"IF(A23<>\"\",COUNTIF(M23:AQ23,\"FE\"),\"\")","v":""},{"$f":"IF(A23<>\"\",COUNTIF(M23:AQ23,\"LC\"),\"\")","v":""},{"$f":"IF(A23<>\"\",COUNTIF(M23:AQ23,\"CH*\"),\"\")","v":""},{"$f":"IF(A23<>\"\",COUNTIF(M23:AQ23,\"AF1\")+COUNTIF(M23:AQ23,\"AF2\")+COUNTIF(M23:AQ23,\"AF3\")+COUNTIF(M23:AQ23,\"AF4\")+COUNTIF(M23:AQ23,\"AF5\")+COUNTIF(M23:AQ23,\"AF6\")+COUNTIF(M23:AQ23,\"AF7\")+COUNTIF(M23:AQ23,\"AF8\")+COUNTIF(M23:AQ23,\"AF9\")+COUNTIF(M23:AQ23,\"AF10\")+COUNTIF(M23:AQ23,\"AF11\")+COUNTIF(M23:AQ23,\"AF12\")+COUNTIF(M23:AQ23,\"AF13\")+COUNTIF(M23:AQ23,\"AF14\"),\"\")","v":""},{"$f":"IF(A23<>\"\",COUNTIF(M23:AQ23,\"CH*\")+COUNTIF(M23:AQ23,\"L\")+COUNTIF(M23:AQ23,\"LM\")+COUNTIF(M23:AQ23,\"LP\")+COUNTIF(M23:AQ23,\"LC\")+COUNTIF(M23:AQ23,\"AB*\")+COUNTIF(M23:AQ23,\"AF1\")+COUNTIF(M23:AQ23,\"AF2\")+COUNTIF(M23:AQ23,\"AF3\")+COUNTIF(M23:AQ23,\"AF4\")+COUNTIF(M23:AQ23,\"AF5\")+COUNTIF(M23:AQ23,\"AF6\")+COUNTIF(M23:AQ23,\"AF7\")+COUNTIF(M23:AQ23,\"AF8\")+COUNTIF(M23:AQ23,\"AF9\")+COUNTIF(M23:AQ23,\"AF10\")+COUNTIF(M23:AQ23,\"AF11\")+COUNTIF(M23:AQ23,\"AF12\")+COUNTIF(M23:AQ23,\"AF13\")+COUNTIF(M23:AQ23,\"AF14\")+COUNTIF(M23:AQ23,\"RC\")+COUNTIF(M23:AQ23,\"FO\")+COUNTIF(M23:AQ23,\"FE\"),\"\")","v":""}]
["PLANTÃO",null,null,null,null,null,null,null,null,null,null,null,null,null,null,null,null,null,null,null,null,null,null,null,null,null,null,null,null,null,null,null,null,null,null,null,null,null,null,null,null,null,null,{"$f":"IF(A24<>\"\",IFERROR(VLOOKUP(M24,Tabelas!B:D,3,0),0),\"\")","v":0},{"$f":"IF(A24<>\"\",IFERROR(VLOOKUP(N24,Tabelas!B:D,3,0),0),\"\")","v":0},{"$f":"IF(A24<>\"\",IFERROR(VLOOKUP(O24,Tabelas!B:D,3,0),0),\"\")","v":0},{"$f":"IF(A24<>\"\",IFERROR(VLOOKUP(P24,Tabelas!B:D,3,0),0),\"\")","v":0},{"$f":"IF(A24<>\"\",IFERROR(VLOOKUP(Q24,Tabelas!B:D,3,0),0),\"\")","v":0},{"$f":"IF(A24<>\"\",IFERROR(VLOOKUP(R24,Tabelas!B:D,3,0),0),\"\")","v":0},{"$f":"IF(A24<>\"\",IFERROR(VLOOKUP(S24,Tabelas!B:D,3,0),0),\"\")","v":0},{"$f":"IF(A24<>\"\",IFERROR(VLOOKUP(T24,Tabelas!B:D,3,0),0),\"\")","v":0},{"$f":"IF(A24<>\"\",IFERROR(VLOOKUP(U24,Tabelas!B:D,3,0),0),\"\")","v":0},{"$f":"IF(A24<>\"\",IFERROR(VLOOKUP(V24,Tabelas!B:D,3,0),0),\"\")","v":0},{"$f":"IF(A24<>\"\",IFERROR(VLOOKUP(W24,Tabelas!B:D,3,0),0),\"\")","v":0},{"$f":"IF(A24<>\"\",IFERROR(VLOOKUP(X24,Tabelas!B:D,3,0),0),\"\")","v":0},{"$f":"IF(A24<>\"\",IFERROR(VLOOKUP(Y24,Tabelas!B:D,3,0),0),\"\")","v":0},{"$f":"IF(A24<>\"\",IFERROR(VLOOKUP(Z24,Tabelas!B:D,3,0),0),\"\")","v":0},{"$f":"IF(A24<>\"\",IFERROR(VLOOKUP(AA24,Tabelas!B:D,3,0),0),\"\")","v":0},{"$f":"IF(A24<>\"\",IFERROR(VLOOKUP(AB24,Tabelas!B:D,3,0),0),\"\")","v":0},{"$f":"IF(A24<>\"\",IFERROR(VLOOKUP(AC24,Tabelas!B:D,3,0),0),\"\")","v":0},{"$f":"IF(A24<>\"\",IFERROR(VLOOKUP(AD24,Tabelas!B:D,3,0),0),\"\")","v":0},{"$f":"IF(A24<>\"\",IFERROR(VLOOKUP(AE24,Tabelas!B:D,3,0),0),\"\")","v":0},{"$f":"IF(A24<>\"\",IFERROR(VLOOKUP(AF24,Tabelas!B:D,3,0),0),\"\")","v":0},{"$f":"IF(A24<>\"\",IFERROR(VLOOKUP(AG24,Tabelas!B:D,3,0),0),\"\")","v":0},{"$f":"IF(A24<>\"\",IFERROR(VLOOKUP(AH24,Tabelas!B:D,3,0),0),\"\")","v":0},{"$f":"IF(A24<>\"\",IFERROR(VLOOKUP(AI24,Tabelas!B:D,3,0),0),\"\")","v":0},{"$f":"IF(A24<>\"\",IFERROR(VLOOKUP(AJ24,Tabelas!B:D,3,0),0),\"\")","v":0},{"$f":"IF(A24<>\"\",IFERROR(VLOOKUP(AK24,Tabelas!B:D,3,0),0),\"\")","v":0},{"$f":"IF(A24<>\"\",IFERROR(VLOOKUP(AL24,Tabelas!B:D,3,0),0),\"\")","v":0},{"$f":"IF(A24<>\"\",IFERROR(VLOOKUP(AM24,Tabelas!B:D,3,0),0),\"\")","v":0},{"$f":"IF(A24<>\"\",IFERROR(VLOOKUP(AN24,Tabelas!B:D,3,0),0),\"\")","v":0},{"$f":"IF(A24<>\"\",IFERROR(VLOOKUP(AO24,Tabelas!B:D,3,0),0),\"\")","v":0},{"$f":"IF(A24<>\"\",IFERROR(VLOOKUP(AP24,Tabelas!B:D,3,0),0),\"\")","v":0},{"$f":"IF(A24<>\"\",IFERROR(VLOOKUP(AQ24,Tabelas!B:D,3,0),0),\"\")","v":0},0,0,0,0,0,0,0,0]
["Air Luis Zambom",1824250,null,"ME","RJU",40,null,null,null,null,null,null,null,"N10",null,null,"N10",null,null,"N10",null,null,null,null,null,null,null,"N10",null,null,null,"N10",null,null,null,null,"N10",null,null,null,null,"D8","N10",{"$f":"IF(A25<>\"\",IFERROR(VLOOKUP(M25,Tabelas!B:D,3,0),0),\"\")","v":0},{"$f":"IF(A25<>\"\",IFERROR(VLOOKUP(N25,Tabelas!B:D,3,0),0),\"\")","v":12},{"$f":"IF(A25<>\"\",IFERROR(VLOOKUP(O25,Tabelas!B:D,3,0),0),\"\")","v":0},{"$f":"IF(A25<>\"\",IFERROR(VLOOKUP(P25,Tabelas!B:D,3,0),0),\"\")","v":0},{"$f":"IF(A25<>\"\",IFERROR(VLOOKUP(Q25,Tabelas!B:D,3,0),0),\"\")","v":12},{"$f":"IF(A25<>\"\",IFERROR(VLOOKUP(R25,Tabelas!B:D,3,0),0),\"\")","v":0},{"$f":"IF(A25<>\"\",IFERROR(VLOOKUP(S25,Tabelas!B:D,3,0),0),\"\")","v":0},{"$f":"IF(A25<>\"\",IFERROR(VLOOKUP(T25,Tabelas!B:D,3,0),0),\"\")","v":12},{"$f":"IF(A25<>\"\",IFERROR(VLOOKUP(U25,Tabelas!B:D,3,0),0),\"\")","v":0},{"$f":"IF(A25<>\"\",IFERROR(VLOOKUP(V25,Tabelas!B:D,3,0),0),\"\")","v":0},{"$f":"IF(A25<>\"\",IFERROR(VLOOKUP(W25,Tabelas!B:D,3,0),0),\"\")","v":0},{"$f":"IF(A25<>\"\",IFERROR(VLOOKUP(X25,Tabelas!B:D,3,0),0),\"\")","v":0},{"$f":"IF(A25<>\"\",IFERROR(VLOOKUP(Y25,Tabelas!B:D,3,0),0),\"\")","v":0},{"$f":"IF(A25<>\"\",IFERROR(VLOOKUP(Z25,Tabelas!B:D,3,0),0),\"\")","v":0},{"$f":"IF(A25<>\"\",IFERROR(VLOOKUP(AA25,Tabelas!B:D,3,0),0),\"\")","v":0},{"$f":"IF(A25<>\"\",IFERROR(VLOOKUP(AB25,Tabelas!B:D,3,0),0),\"\")","v":12},{"$f":"IF(A25<>\"\",IFERROR(VLOOKUP(AC25,Tabelas!B:D,3,0),0),\"\")","v":0},{"$f":"IF(A25<>\"\",IFERROR(VLOOKUP(AD25,Tabelas!B:D,3,0),0),\"\")","v":0},{"$f":"IF(A25<>\"\",IFERROR(VLOOKUP(AE25,Tabelas!B:D,3,0),0),\"\")","v":0},{"$f":"IF(A25<>\"\",IFERROR(VLOOKUP(AF25,Tabelas!B:D,3,0),0),\"\")","v":12},{"$f":"IF(A25<>\"\",IFERROR(VLOOKUP(AG25,Tabelas!B:D,3,0),0),\"\")","v":0},{"$f":"IF(A25<>\"\",IFERROR(VLOOKUP(AH25,Tabelas!B:D,3,0),0),\"\")","v":0},{"$f":"IF(A25<>\"\",IFERROR(VLOOKUP(AI25,Tabelas!B:D,3,0),0),\"\")","v":0},{"$f":"IF(A25<>\"\",IFERROR(VLOOKUP(AJ25,Tabelas!B:D,3,0),0),\"\")","v":0},{"$f":"IF(A25<>\"\",IFERROR(VLOOKUP(AK25,Tabelas!B:D,3,0),0),\"\")","v":12},{"$f":"IF(A25<>\"\",IFERROR(VLOOKUP(AL25,Tabelas!B:D,3,0),0),\"\")","v":0},{"$f":"IF(A25<>\"\",IFERROR(VLOOKUP(AM25,Tabelas!B:D,3,0),0),\"\")","v":0},{"$f":"IF(A25<>\"\",IFERROR(VLOOKUP(AN25,Tabelas!B:D,3,0),0),\"\")","v":0},{"$f":"IF(A25<>\"\",IFERROR(VLOOKUP(AO25,Tabelas!B:D,3,0),0),\"\")","v":0},{"$f":"IF(A25<>\"\",IFERROR(VLOOKUP(AP25,Tabelas!B:D,3,0),0),\"\")","v":12},{"$f":"IF(A25<>\"\",IFERROR(VLOOKUP(AQ25,Tabelas!B:D,3,0),0),\"\")","v":12},96,0,0,0,0,0,0,0]
["Aline Varela Dias",1331684,null,"ME","RJU",20,null,null,null,null,null,null,null,null,"N10",null,null,null,null,null,"D8",null,null,null,"N10",null,null,null,null,"N10",null,null,null,"D8",null,"N10",null,null,null,null,null,"N10",null,{"$f":"IF(A26<>\"\",IFERROR(VLOOKUP(M26,Tabelas!B:D,3,0),0),\"\")","v":0},{"$f":"IF(A26<>\"\",IFERROR(VLOOKUP(N26,Tabelas!B:D,3,0),0),\"\")","v":0},{"$f":"IF(A26<>\"\",IFERROR(VLOOKUP(O26,Tabelas!B:D,3,0),0),\"\")","v":12},{"$f":"IF(A26<>\"\",IFERROR(VLOOKUP(P26,Tabelas!B:D,3,0),0),\"\")","v":0},{"$f":"IF(A26<>\"\",IFERROR(VLOOKUP(Q26,Tabelas!B:D,3,0),0),\"\")","v":0},{"$f":"IF(A26<>\"\",IFERROR(VLOOKUP(R26,Tabelas!B:D,3,0),0),\"\")","v":0},{"$f":"IF(A26<>\"\",IFERROR(VLOOKUP(S26,Tabelas!B:D,3,0),0),\"\")","v":0},{"$f":"IF(A26<>\"\",IFERROR(VLOOKUP(T26,Tabelas!B:D,3,0),0),\"\")","v":0},{"$f":"IF(A26<>\"\",IFERROR(VLOOKUP(U26,Tabelas!B:D,3,0),0),\"\")","v":12},{"$f":"IF(A26<>\"\",IFERROR(VLOOKUP(V26,Tabelas!B:D,3,0),0),\"\")","v":0},{"$f":"IF(A26<>\"\",IFERROR(VLOOKUP(W26,Tabelas!B:D,3,0),0),\"\")","v":0},{"$f":"IF(A26<>\"\",IFERROR(VLOOKUP(X26,Tabelas!B:D,3,0),0),\"\")","v":0},{"$f":"IF(A26<>\"\",IFERROR(VLOOKUP(Y26,Tabelas!B:D,3,0),0),\"\")","v":12},{"$f":"IF(A26<>\"\",IFERROR(VLOOKUP(Z26,Tabelas!B:D,3,0),0),\"\")","v":0},{"$f":"IF(A26<>\"\",IFERROR(VLOOKUP(AA26,Tabelas!B:D,3,0),0),\"\")","v":0},{"$f":"IF(A26<>\"\",IFERROR(VLOOKUP(AB26,Tabelas!B:D,3,0),0),\"\")","v":0},{"$f":"IF(A26<>\"\",IFERROR(VLOOKUP(AC26,Tabelas!B:D,3,0),0),\"\")","v":0},{"$f":"IF(A26<>\"\",IFERROR(VLOOKUP(AD26,Tabelas!B:D,3,0),0),\"\")","v":12},{"$f":"IF(A26<>\"\",IFERROR(VLOOKUP(AE26,Tabelas!B:D,3,0),0),\"\")","v":0},{"$f":"IF(A26<>\"\",IFERROR(VLOOKUP(AF26,Tabelas!B:D,3,0),0),\"\")","v":0},{"$f":"IF(A26<>\"\",IFERROR(VLOOKUP(AG26,Tabelas!B:D,3,0),0),\"\")","v":0},{"$f":"IF(A26<>\"\",IFERROR(VLOOKUP(AH26,Tabelas!B:D,3,0),0),\"\")","v":12},{"$f":"IF(A26<>\"\",IFERROR(VLOOKUP(AI26,Tabelas!B:D,3,0),0),\"\")","v":0},{"$f":"IF(A26<>\"\",IFERROR(VLOOKUP(AJ26,Tabelas!B:D,3,0),0),\"\")","v":12},{"$f":"IF(A26<>\"\",IFERROR(VLOOKUP(AK26,Tabelas!B:D,3,0),0),\"\")","v":0},{"$f":"IF(A26<>\"\",IFERROR(VLOOKUP(AL26,Tabelas!B:D,3,0),0),\"\")","v":0},{"$f":"IF(A26<>\"\",IFERROR(VLOOKUP(AM26,Tabelas!B:D,3,0),0),\"\")","v":0},{"$f":"IF(A26<>\"\",IFERROR(VLOOKUP(AN26,Tabelas!B:D,3,0),0),\"\")","v":0},{"$f":"IF(A26<>\"\",IFERROR(VLOOKUP(AO26,Tabelas!B:D,3,0),0),\"\")","v":0},{"$f":"IF(A26<>\"\",IFERROR(VLOOKUP(AP26,Tabelas!B:D,3,0),0),\"\")","v":12},{"$f":"IF(A26<>\"\",IFERROR(VLOOKUP(AQ26,Tabelas!B:D,3,0),0),\"\")","v":0},84,0,0,0,0,0,0,0]
["Anelise Schaeffer da Silveira",1919390,null,"ME","EBSERH",24,null,null,null,null,null,null,null,null,null,null,null,null,null,null,null,null,null,null,null,null,null,null,null,null,null,null,null,null,null,null,null,null,null,null,null,null,null,{"$f":"IF(A27<>\"\",IFERROR(VLOOKUP(M27,Tabelas!B:D,3,0),0),\"\")","v":0},{"$f":"IF(A27<>\"\",IFERROR(VLOOKUP(N27,Tabelas!B:D,3,0),0),\"\")","v":0},{"$f":"IF(A27<>\"\",IFERROR(VLOOKUP(O27,Tabelas!B:D,3,0),0),\"\")","v":0},{"$f":"IF(A27<>\"\",IFERROR(VLOOKUP(P27,Tabelas!B:D,3,0),0),\"\")","v":0},{"$f":"IF(A27<>\"\",IFERROR(VLOOKUP(Q27,Tabelas!B:D,3,0),0),\"\")","v":0},{"$f":"IF(A27<>\"\",IFERROR(VLOOKUP(R27,Tabelas!B:D,3,0),0),\"\")","v":0},{"$f":"IF(A27<>\"\",IFERROR(VLOOKUP(S27,Tabelas!B:D,3,0),0),\"\")","v":0},{"$f":"IF(A27<>\"\",IFERROR(VLOOKUP(T27,Tabelas!B:D,3,0),0),\"\")","v":0},{"$f":"IF(A27<>\"\",IFERROR(VLOOKUP(U27,Tabelas!B:D,3,0),0),\"\")","v":0},{"$f":"IF(A27<>\"\",IFERROR(VLOOKUP(V27,Tabelas!B:D,3,0),0),\"\")","v":0},{"$f":"IF(A27<>\"\",IFERROR(VLOOKUP(W27,Tabelas!B:D,3,0),0),\"\")","v":0},{"$f":"IF(A27<>\"\",IFERROR(VLOOKUP(X27,Tabelas!B:D,3,0),0),\"\")","v":0},{"$f":"IF(A27<>\"\",IFERROR(VLOOKUP(Y27,Tabelas!B:D,3,0),0),\"\")","v":0},{"$f":"IF(A27<>\"\",IFERROR(VLOOKUP(Z27,Tabelas!B:D,3,0),0),\"\")","v":0},{"$f":"IF(A27<>\"\",IFERROR(VLOOKUP(AA27,Tabelas!B:D,3,0),0),\"\")","v":0},{"$f":"IF(A27<>\"\",IFERROR(VLOOKUP(AB27,Tabelas!B:D,3,0),0),\"\")","v":0},{"$f":"IF(A27<>\"\",IFERROR(VLOOKUP(AC27,Tabelas!B:D,3,0),0),\"\")","v":0},{"$f":"IF(A27<>\"\",IFERROR(VLOOKUP(AD27,Tabelas!B:D,3,0),0),\"\")","v":0},{"$f":"IF(A27<>\"\",IFERROR(VLOOKUP(AE27,Tabelas!B:D,3,0),0),\"\")","v":0},{"$f":"IF(A27<>\"\",IFERROR(VLOOKUP(AF27,Tabelas!B:D,3,0),0),\"\")","v":0},{"$f":"IF(A27<>\"\",IFERROR(VLOOKUP(AG27,Tabelas!B:D,3,0),0),\"\")","v":0},{"$f":"IF(A27<>\"\",IFERROR(VLOOKUP(AH27,Tabelas!B:D,3,0),0),\"\")","v":0},{"$f":"IF(A27<>\"\",IFERROR(VLOOKUP(AI27,Tabelas!B:D,3,0),0),\"\")","v":0},{"$f":"IF(A27<>\"\",IFERROR(VLOOKUP(AJ27,Tabelas!B:D,3,0),0),\"\")","v":0},{"$f":"IF(A27<>\"\",IFERROR(VLOOKUP(AK27,Tabelas!B:D,3,0),0),\"\")","v":0},{"$f":"IF(A27<>\"\",IFERROR(VLOOKUP(AL27,Tabelas!B:D,3,0),0),\"\")","v":0},{"$f":"IF(A27<>\"\",IFERROR(VLOOKUP(AM27,Tabelas!B:D,3,0),0),\"\")","v":0},{"$f":"IF(A27<>\"\",IFERROR(VLOOKUP(AN27,Tabelas!B:D,3,0),0),\"\")","v":0},{"$f":"IF(A27<>\"\",IFERROR(VLOOKUP(AO27,Tabelas!B:D,3,0),0),\"\")","v":0},{"$f":"IF(A27<>\"\",IFERROR(VLOOKUP(AP27,Tabelas!B:D,3,0),0),\"\")","v":0},{"$f":"IF(A27<>\"\",IFERROR(VLOOKUP(AQ27,Tabelas!B:D,3,0),0),\"\")","v":0},0,0,0,0,0,0,0,0]
["Duane José Milioli",1824201,null,"ME","RJU",20,null,null,null,null,null,null,null,"D8",null,null,"N10",null,null,null,null,null,null,null,null,"N10",null,"D8","N10",null,null,null,null,null,null,null,null,"N10",null,null,"N10",null,null,{"$f":"IF(A28<>\"\",IFERROR(VLOOKUP(M28,Tabelas!B:D,3,0),0),\"\")","v":0},{"$f":"IF(A28<>\"\",IFERROR(VLOOKUP(N28,Tabelas!B:D,3,0),0),\"\")","v":12},{"$f":"IF(A28<>\"\",IFERROR(VLOOKUP(O28,Tabelas!B:D,3,0),0),\"\")","v":0},{"$f":"IF(A28<>\"\",IFERROR(VLOOKUP(P28,Tabelas!B:D,3,0),0),\"\")","v":0},{"$f":"IF(A28<>\"\",IFERROR(VLOOKUP(Q28,Tabelas!B:D,3,0),0),\"\")","v":12},{"$f":"IF(A28<>\"\",IFERROR(VLOOKUP(R28,Tabelas!B:D,3,0),0),\"\")","v":0},{"$f":"IF(A28<>\"\",IFERROR(VLOOKUP(S28,Tabelas!B:D,3,0),0),\"\")","v":0},{"$f":"IF(A28<>\"\",IFERROR(VLOOKUP(T28,Tabelas!B:D,3,0),0),\"\")","v":0},{"$f":"IF(A28<>\"\",IFERROR(VLOOKUP(U28,Tabelas!B:D,3,0),0),\"\")","v":0},{"$f":"IF(A28<>\"\",IFERROR(VLOOKUP(V28,Tabelas!B:D,3,0),0),\"\")","v":0},{"$f":"IF(A28<>\"\",IFERROR(VLOOKUP(W28,Tabelas!B:D,3,0),0),\"\")","v":0},{"$f":"IF(A28<>\"\",IFERROR(VLOOKUP(X28,Tabelas!B:D,3,0),0),\"\")","v":0},{"$f":"IF(A28<>\"\",IFERROR(VLOOKUP(Y28,Tabelas!B:D,3,0),0),\"\")","v":0},{"$f":"IF(A28<>\"\",IFERROR(VLOOKUP(Z28,Tabelas!B:D,3,0),0),\"\")","v":12},{"$f":"IF(A28<>\"\",IFERROR(VLOOKUP(AA28,Tabelas!B:D,3,0),0),\"\")","v":0},{"$f":"IF(A28<>\"\",IFERROR(VLOOKUP(AB28,Tabelas!B:D,3,0),0),\"\")","v":12},{"$f":"IF(A28<>\"\",IFERROR(VLOOKUP(AC28,Tabelas!B:D,3,0),0),\"\")","v":12},{"$f":"IF(A28<>\"\",IFERROR(VLOOKUP(AD28,Tabelas!B:D,3,0),0),\"\")","v":0},{"$f":"IF(A28<>\"\",IFERROR(VLOOKUP(AE28,Tabelas!B:D,3,0),0),\"\")","v":0},{"$f":"IF(A28<>\"\",IFERROR(VLOOKUP(AF28,Tabelas!B:D,3,0),0),\"\")","v":0},{"$f":"IF(A28<>\"\",IFERROR(VLOOKUP(AG28,Tabelas!B:D,3,0),0),\"\")","v":0},{"$f":"IF(A28<>\"\",IFERROR(VLOOKUP(AH28,Tabelas!B:D,3,0),0),\"\")","v":0},{"$f":"IF(A28<>\"\",IFERROR(VLOOKUP(AI28,Tabelas!B:D,3,0),0),\"\")","v":0},{"$f":"IF(A28<>\"\",IFERROR(VLOOKUP(AJ28,Tabelas!B:D,3,0),0),\"\")","v":0},{"$f":"IF(A28<>\"\",IFERROR(VLOOKUP(AK28,Tabelas!B:D,3,0),0),\"\")","v":0},{"$f":"IF(A28<>\"\",IFERROR(VLOOKUP(AL28,Tabelas!B:D,3,0),0),\"\")","v":12},{"$f":"IF(A28<>\"\",IFERROR(VLOOKUP(AM28,Tabelas!B:D,3,0),0),\"\")","v":0},{"$f":"IF(A28<>\"\",IFERROR(VLOOKUP(AN28,Tabelas!B:D,3,0),0),\"\")","v":0},{"$f":"IF(A28<>\"\",IFERROR(VLOOKUP(AO28,Tabelas!B:D,3,0),0),\"\")","v":12},{"$f":"IF(A28<>\"\",IFERROR(VLOOKUP(AP28,Tabelas!B:D,3,0),0),\"\")","v":0},{"$f":"IF(A28<>\"\",IFERROR(VLOOKUP(AQ28,Tabelas!B:D,3,0),0),\"\")","v":0},84,0,0,0,0,0,0,0]
["Eduardo Jardim Berbigier",2604323,null,"ME","RJU",20,null,null,null,null,null,null,null,null,null,"AF12",null,null,null,"AF12",null,"N10",null,null,null,null,"N10",null,null,null,null,null,"N10","N10",null,null,null,null,"N10",null,"N10",null,null,{"$f":"IF(A29<>\"\",IFERROR(VLOOKUP(M29,Tabelas!B:D,3,0),0),\"\")","v":0},{"$f":"IF(A29<>\"\",IFERROR(VLOOKUP(N29,Tabelas!B:D,3,0),0),\"\")","v":0},{"$f":"IF(A29<>\"\",IFERROR(VLOOKUP(O29,Tabelas!B:D,3,0),0),\"\")","v":0},{"$f":"IF(A29<>\"\",IFERROR(VLOOKUP(P29,Tabelas!B:D,3,0),0),\"\")","v":0},{"$f":"IF(A29<>\"\",IFERROR(VLOOKUP(Q29,Tabelas!B:D,3,0),0),\"\")","v":0},{"$f":"IF(A29<>\"\",IFERROR(VLOOKUP(R29,Tabelas!B:D,3,0),0),\"\")","v":0},{"$f":"IF(A29<>\"\",IFERROR(VLOOKUP(S29,Tabelas!B:D,3,0),0),\"\")","v":0},{"$f":"IF(A29<>\"\",IFERROR(VLOOKUP(T29,Tabelas!B:D,3,0),0),\"\")","v":0},{"$f":"IF(A29<>\"\",IFERROR(VLOOKUP(U29,Tabelas!B:D,3,0),0),\"\")","v":0},{"$f":"IF(A29<>\"\",IFERROR(VLOOKUP(V29,Tabelas!B:D,3,0),0),\"\")","v":12},{"$f":"IF(A29<>\"\",IFERROR(VLOOKUP(W29,Tabelas!B:D,3,0),0),\"\")","v":0},{"$f":"IF(A29<>\"\",IFERROR(VLOOKUP(X29,Tabelas!B:D,3,0),0),\"\")","v":0},{"$f":"IF(A29<>\"\",IFERROR(VLOOKUP(Y29,Tabelas!B:D,3,0),0),\"\")","v":0},{"$f":"IF(A29<>\"\",IFERROR(VLOOKUP(Z29,Tabelas!B:D,3,0),0),\"\")","v":0},{"$f":"IF(A29<>\"\",IFERROR(VLOOKUP(AA29,Tabelas!B:D,3,0),0),\"\")","v":12},{"$f":"IF(A29<>\"\",IFERROR(VLOOKUP(AB29,Tabelas!B:D,3,0),0),\"\")","v":0},{"$f":"IF(A29<>\"\",IFERROR(VLOOKUP(AC29,Tabelas!B:D,3,0),0),\"\")","v":0},{"$f":"IF(A29<>\"\",IFERROR(VLOOKUP(AD29,Tabelas!B:D,3,0),0),\"\")","v":0},{"$f":"IF(A29<>\"\",IFERROR(VLOOKUP(AE29,Tabelas!B:D,3,0),0),\"\")","v":0},{"$f":"IF(A29<>\"\",IFERROR(VLOOKUP(AF29,Tabelas!B:D,3,0),0),\"\")","v":0},{"$f":"IF(A29<>\"\",IFERROR(VLOOKUP(AG29,Tabelas!B:D,3,0),0),\"\")","v":12},{"$f":"IF(A29<>\"\",IFERROR(VLOOKUP(AH29,Tabelas!B:D,3,0),0),\"\")","v":12},{"$f":"IF(A29<>\"\",IFERROR(VLOOKUP(AI29,Tabelas!B:D,3,0),0),\"\")","v":0},{"$f":"IF(A29<>\"\",IFERROR(VLOOKUP(AJ29,Tabelas!B:D,3,0),0),\"\")","v":0},{"$f":"IF(A29<>\"\",IFERROR(VLOOKUP(AK29,Tabelas!B:D,3,0),0),\"\")","v":0},{"$f":"IF(A29<>\"\",IFERROR(VLOOKUP(AL29,Tabelas!B:D,3,0),0),\"\")","v":0},{"$f":"IF(A29<>\"\",IFERROR(VLOOKUP(AM29,Tabelas!B:D,3,0),0),\"\")","v":12},{"$f":"IF(A29<>\"\",IFERROR(VLOOKUP(AN29,Tabelas!B:D,3,0),0),\"\")","v":0},{"$f":"IF(A29<>\"\",IFERROR(VLOOKUP(AO29,Tabelas!B:D,3,0),0),\"\")","v":12},{"$f":"IF(A29<>\"\",IFERROR(VLOOKUP(AP29,Tabelas!B:D,3,0),0),\"\")","v":0},{"$f":"IF(A29<>\"\",IFERROR(VLOOKUP(AQ29,Tabelas!B:D,3,0),0),\"\")","v":0},72,0,0,0,0,0,2,2]
["Fernanda Goss Fontanella",1200689,null,"ME","EBSERH",24,null,null,null,null,null,null,"D8",null,null,null,null,"N10",null,"N10",null,null,"N10",null,null,null,null,"D8",null,null,null,"N10",null,null,"N10",null,null,null,null,"N10",null,null,"N10",{"$f":"IF(A30<>\"\",IFERROR(VLOOKUP(M30,Tabelas!B:D,3,0),0),\"\")","v":12},{"$f":"IF(A30<>\"\",IFERROR(VLOOKUP(N30,Tabelas!B:D,3,0),0),\"\")","v":0},{"$f":"IF(A30<>\"\",IFERROR(VLOOKUP(O30,Tabelas!B:D,3,0),0),\"\")","v":0},{"$f":"IF(A30<>\"\",IFERROR(VLOOKUP(P30,Tabelas!B:D,3,0),0),\"\")","v":0},{"$f":"IF(A30<>\"\",IFERROR(VLOOKUP(Q30,Tabelas!B:D,3,0),0),\"\")","v":0},{"$f":"IF(A30<>\"\",IFERROR(VLOOKUP(R30,Tabelas!B:D,3,0),0),\"\")","v":12},{"$f":"IF(A30<>\"\",IFERROR(VLOOKUP(S30,Tabelas!B:D,3,0),0),\"\")","v":0},{"$f":"IF(A30<>\"\",IFERROR(VLOOKUP(T30,Tabelas!B:D,3,0),0),\"\")","v":12},{"$f":"IF(A30<>\"\",IFERROR(VLOOKUP(U30,Tabelas!B:D,3,0),0),\"\")","v":0},{"$f":"IF(A30<>\"\",IFERROR(VLOOKUP(V30,Tabelas!B:D,3,0),0),\"\")","v":0},{"$f":"IF(A30<>\"\",IFERROR(VLOOKUP(W30,Tabelas!B:D,3,0),0),\"\")","v":12},{"$f":"IF(A30<>\"\",IFERROR(VLOOKUP(X30,Tabelas!B:D,3,0),0),\"\")","v":0},{"$f":"IF(A30<>\"\",IFERROR(VLOOKUP(Y30,Tabelas!B:D,3,0),0),\"\")","v":0},{"$f":"IF(A30<>\"\",IFERROR(VLOOKUP(Z30,Tabelas!B:D,3,0),0),\"\")","v":0},{"$f":"IF(A30<>\"\",IFERROR(VLOOKUP(AA30,Tabelas!B:D,3,0),0),\"\")","v":0},{"$f":"IF(A30<>\"\",IFERROR(VLOOKUP(AB30,Tabelas!B:D,3,0),0),\"\")","v":12},{"$f":"IF(A30<>\"\",IFERROR(VLOOKUP(AC30,Tabelas!B:D,3,0),0),\"\")","v":0},{"$f":"IF(A30<>\"\",IFERROR(VLOOKUP(AD30,Tabelas!B:D,3,0),0),\"\")","v":0},{"$f":"IF(A30<>\"\",IFERROR(VLOOKUP(AE30,Tabelas!B:D,3,0),0),\"\")","v":0},{"$f":"IF(A30<>\"\",IFERROR(VLOOKUP(AF30,Tabelas!B:D,3,0),0),\"\")","v":12},{"$f":"IF(A30<>\"\",IFERROR(VLOOKUP(AG30,Tabelas!B:D,3,0),0),\"\")","v":0},{"$f":"IF(A30<>\"\",IFERROR(VLOOKUP(AH30,Tabelas!B:D,3,0),0),\"\")","v":0},{"$f":"IF(A30<>\"\",IFERROR(VLOOKUP(AI30,Tabelas!B:D,3,0),0),\"\")","v":12},{"$f":"IF(A30<>\"\",IFERROR(VLOOKUP(AJ30,Tabelas!B:D,3,0),0),\"\")","v":0},{"$f":"IF(A30<>\"\",IFERROR(VLOOKUP(AK30,Tabelas!B:D,3,0),0),\"\")","v":0},{"$f":"IF(A30<>\"\",IFERROR(VLOOKUP(AL30,Tabelas!B:D,3,0),0),\"\")","v":0},{"$f":"IF(A30<>\"\",IFERROR(VLOOKUP(AM30,Tabelas!B:D,3,0),0),\"\")","v":0},{"$f":"IF(A30<>\"\",IFERROR(VLOOKUP(AN30,Tabelas!B:D,3,0),0),\"\")","v":12},{"$f":"IF(A30<>\"\",IFERROR(VLOOKUP(AO30,Tabelas!B:D,3,0),0),\"\")","v":0},{"$f":"IF(A30<>\"\",IFERROR(VLOOKUP(AP30,Tabelas!B:D,3,0),0),\"\")","v":0},{"$f":"IF(A30<>\"\",IFERROR(VLOOKUP(AQ30,Tabelas!B:D,3,0),0),\"\")","v":12},115,0,0,0,0,0,0,0]
["Irácino José Miranda Júnior",1006032,null,"ME","EBSERH",24,null,null,null,null,null,null,null,"N10",null,null,"N10",null,null,null,"D8","N10",null,null,null,"N10",null,null,null,null,null,"N10",null,null,"D8",null,"N10",null,null,null,"N10",null,null,{"$f":"IF(A31<>\"\",IFERROR(VLOOKUP(M31,Tabelas!B:D,3,0),0),\"\")","v":0},{"$f":"IF(A31<>\"\",IFERROR(VLOOKUP(N31,Tabelas!B:D,3,0),0),\"\")","v":12},{"$f":"IF(A31<>\"\",IFERROR(VLOOKUP(O31,Tabelas!B:D,3,0),0),\"\")","v":0},{"$f":"IF(A31<>\"\",IFERROR(VLOOKUP(P31,Tabelas!B:D,3,0),0),\"\")","v":0},{"$f":"IF(A31<>\"\",IFERROR(VLOOKUP(Q31,Tabelas!B:D,3,0),0),\"\")","v":12},{"$f":"IF(A31<>\"\",IFERROR(VLOOKUP(R31,Tabelas!B:D,3,0),0),\"\")","v":0},{"$f":"IF(A31<>\"\",IFERROR(VLOOKUP(S31,Tabelas!B:D,3,0),0),\"\")","v":0},{"$f":"IF(A31<>\"\",IFERROR(VLOOKUP(T31,Tabelas!B:D,3,0),0),\"\")","v":0},{"$f":"IF(A31<>\"\",IFERROR(VLOOKUP(U31,Tabelas!B:D,3,0),0),\"\")","v":12},{"$f":"IF(A31<>\"\",IFERROR(VLOOKUP(V31,Tabelas!B:D,3,0),0),\"\")","v":12},{"$f":"IF(A31<>\"\",IFERROR(VLOOKUP(W31,Tabelas!B:D,3,0),0),\"\")","v":0},{"$f":"IF(A31<>\"\",IFERROR(VLOOKUP(X31,Tabelas!B:D,3,0),0),\"\")","v":0},{"$f":"IF(A31<>\"\",IFERROR(VLOOKUP(Y31,Tabelas!B:D,3,0),0),\"\")","v":0},{"$f":"IF(A31<>\"\",IFERROR(VLOOKUP(Z31,Tabelas!B:D,3,0),0),\"\")","v":12},{"$f":"IF(A31<>\"\",IFERROR(VLOOKUP(AA31,Tabelas!B:D,3,0),0),\"\")","v":0},{"$f":"IF(A31<>\"\",IFERROR(VLOOKUP(AB31,Tabelas!B:D,3,0),0),\"\")","v":0},{"$f":"IF(A31<>\"\",IFERROR(VLOOKUP(AC31,Tabelas!B:D,3,0),0),\"\")","v":0},{"$f":"IF(A31<>\"\",IFERROR(VLOOKUP(AD31,Tabelas!B:D,3,0),0),\"\")","v":0},{"$f":"IF(A31<>\"\",IFERROR(VLOOKUP(AE31,Tabelas!B:D,3,0),0),\"\")","v":0},{"$f":"IF(A31<>\"\",IFERROR(VLOOKUP(AF31,Tabelas!B:D,3,0),0),\"\")","v":12},{"$f":"IF(A31<>\"\",IFERROR(VLOOKUP(AG31,Tabelas!B:D,3,0),0),\"\")","v":0},{"$f":"IF(A31<>\"\",IFERROR(VLOOKUP(AH31,Tabelas!B:D,3,0),0),\"\")","v":0},{"$f":"IF(A31<>\"\",IFERROR(VLOOKUP(AI31,Tabelas!B:D,3,0),0),\"\")","v":12},{"$f":"IF(A31<>\"\",IFERROR(VLOOKUP(AJ31,Tabelas!B:D,3,0),0),\"\")","v":0},{"$f":"IF(A31<>\"\",IFERROR(VLOOKUP(AK31,Tabelas!B:D,3,0),0),\"\")","v":12},{"$f":"IF(A31<>\"\",IFERROR(VLOOKUP(AL31,Tabelas!B:D,3,0),0),\"\")","v":0},{"$f":"IF(A31<>\"\",IFERROR(VLOOKUP(AM31,Tabelas!B:D,3,0),0),\"\")","v":0},{"$f":"IF(A31<>\"\",IFERROR(VLOOKUP(AN31,Tabelas!B:D,3,0),0),\"\")","v":0},{"$f":"IF(A31<>\"\",IFERROR(VLOOKUP(AO31,Tabelas!B:D,3,0),0),\"\")","v":12},{"$f":"IF(A31<>\"\",IFERROR(VLOOKUP(AP31,Tabelas!B:D,3,0),0),\"\")","v":0},{"$f":"IF(A31<>\"\",IFERROR(VLOOKUP(AQ31,Tabelas!B:D,3,0),0),\"\")","v":0},115,0,0,0,0,0,0,0]
["Jaqueline Flores Rohr",1841545,null,"ME","EBSERH",24,null,null,null,null,null,null,null,"N10",null,null,null,null,"N10",null,"N10",null,"N10",null,null,null,null,null,"N10",null,null,null,"N10",null,"D8",null,null,"N10",null,null,null,null,"N10",{"$f":"IF(A32<>\"\",IFERROR(VLOOKUP(M32,Tabelas!B:D,3,0),0),\"\")","v":0},{"$f":"IF(A32<>\"\",IFERROR(VLOOKUP(N32,Tabelas!B:D,3,0),0),\"\")","v":12},{"$f":"IF(A32<>\"\",IFERROR(VLOOKUP(O32,Tabelas!B:D,3,0),0),\"\")","v":0},{"$f":"IF(A32<>\"\",IFERROR(VLOOKUP(P32,Tabelas!B:D,3,0),0),\"\")","v":0},{"$f":"IF(A32<>\"\",IFERROR(VLOOKUP(Q32,Tabelas!B:D,3,0),0),\"\")","v":0},{"$f":"IF(A32<>\"\",IFERROR(VLOOKUP(R32,Tabelas!B:D,3,0),0),\"\")","v":0},{"$f":"IF(A32<>\"\",IFERROR(VLOOKUP(S32,Tabelas!B:D,3,0),0),\"\")","v":12},{"$f":"IF(A32<>\"\",IFERROR(VLOOKUP(T32,Tabelas!B:D,3,0),0),\"\")","v":0},{"$f":"IF(A32<>\"\",IFERROR(VLOOKUP(U32,Tabelas!B:D,3,0),0),\"\")","v":12},{"$f":"IF(A32<>\"\",IFERROR(VLOOKUP(V32,Tabelas!B:D,3,0),0),\"\")","v":0},{"$f":"IF(A32<>\"\",IFERROR(VLOOKUP(W32,Tabelas!B:D,3,0),0),\"\")","v":12},{"$f":"IF(A32<>\"\",IFERROR(VLOOKUP(X32,Tabelas!B:D,3,0),0),\"\")","v":0},{"$f":"IF(A32<>\"\",IFERROR(VLOOKUP(Y32,Tabelas!B:D,3,0),0),\"\")","v":0},{"$f":"IF(A32<>\"\",IFERROR(VLOOKUP(Z32,Tabelas!B:D,3,0),0),\"\")","v":0},{"$f":"IF(A32<>\"\",IFERROR(VLOOKUP(AA32,Tabelas!B:D,3,0),0),\"\")","v":0},{"$f":"IF(A32<>\"\",IFERROR(VLOOKUP(AB32,Tabelas!B:D,3,0),0),\"\")","v":0},{"$f":"IF(A32<>\"\",IFERROR(VLOOKUP(AC32,Tabelas!B:D,3,0),0),\"\")","v":12},{"$f":"IF(A32<>\"\",IFERROR(VLOOKUP(AD32,Tabelas!B:D,3,0),0),\"\")","v":0},{"$f":"IF(A32<>\"\",IFERROR(VLOOKUP(AE32,Tabelas!B:D,3,0),0),\"\")","v":0},{"$f":"IF(A32<>\"\",IFERROR(VLOOKUP(AF32,Tabelas!B:D,3,0),0),\"\")","v":0},{"$f":"IF(A32<>\"\",IFERROR(VLOOKUP(AG32,Tabelas!B:D,3,0),0),\"\")","v":12},{"$f":"IF(A32<>\"\",IFERROR(VLOOKUP(AH32,Tabelas!B:D,3,0),0),\"\")","v":0},{"$f":"IF(A32<>\"\",IFERROR(VLOOKUP(AI32,Tabelas!B:D,3,0),0),\"\")","v":12},{"$f":"IF(A32<>\"\",IFERROR(VLOOKUP(AJ32,Tabelas!B:D,3,0),0),\"\")","v":0},{"$f":"IF(A32<>\"\",IFERROR(VLOOKUP(AK32,Tabelas!B:D,3,0),0),\"\")","v":0},{"$f":"IF(A32<>\"\",IFERROR(VLOOKUP(AL32,Tabelas!B:D,3,0),0),\"\")","v":12},{"$f":"IF(A32<>\"\",IFERROR(VLOOKUP(AM32,Tabelas!B:D,3,0),0),\"\")","v":0},{"$f":"IF(A32<>\"\",IFERROR(VLOOKUP(AN32,Tabelas!B:D,3,0),0),\"\")","v":0},{"$f":"IF(A32<>\"\",IFERROR(VLOOKUP(AO32,Tabelas!B:D,3,0),0),\"\")","v":0},{"$f":"IF(A32<>\"\",IFERROR(VLOOKUP(AP32,Tabelas!B:D,3,0),0),\"\")","v":0},{"$f":"IF(A32<>\"\",IFERROR(VLOOKUP(AQ32,Tabelas!B:D,3,0),0),\"\")","v":12},116,0,0,0,0,0,0,0]
["João Luiz Henrique da Silveira",1704052,null,"ME","EBSERH",24,null,null,null,null,null,null,"N10",null,"N10","N10",null,null,"N10",null,"N10",null,null,null,"N10",null,"D8",null,null,"N10",null,null,null,null,null,"N10",null,null,null,null,"D8",null,null,{"$f":"IF(A33<>\"\",IFERROR(VLOOKUP(M33,Tabelas!B:D,3,0),0),\"\")","v":12},{"$f":"IF(A33<>\"\",IFERROR(VLOOKUP(N33,Tabelas!B:D,3,0),0),\"\")","v":0},{"$f":"IF(A33<>\"\",IFERROR(VLOOKUP(O33,Tabelas!B:D,3,0),0),\"\")","v":12},{"$f":"IF(A33<>\"\",IFERROR(VLOOKUP(P33,Tabelas!B:D,3,0),0),\"\")","v":12},{"$f":"IF(A33<>\"\",IFERROR(VLOOKUP(Q33,Tabelas!B:D,3,0),0),\"\")","v":0},{"$f":"IF(A33<>\"\",IFERROR(VLOOKUP(R33,Tabelas!B:D,3,0),0),\"\")","v":0},{"$f":"IF(A33<>\"\",IFERROR(VLOOKUP(S33,Tabelas!B:D,3,0),0),\"\")","v":12},{"$f":"IF(A33<>\"\",IFERROR(VLOOKUP(T33,Tabelas!B:D,3,0),0),\"\")","v":0},{"$f":"IF(A33<>\"\",IFERROR(VLOOKUP(U33,Tabelas!B:D,3,0),0),\"\")","v":12},{"$f":"IF(A33<>\"\",IFERROR(VLOOKUP(V33,Tabelas!B:D,3,0),0),\"\")","v":0},{"$f":"IF(A33<>\"\",IFERROR(VLOOKUP(W33,Tabelas!B:D,3,0),0),\"\")","v":0},{"$f":"IF(A33<>\"\",IFERROR(VLOOKUP(X33,Tabelas!B:D,3,0),0),\"\")","v":0},{"$f":"IF(A33<>\"\",IFERROR(VLOOKUP(Y33,Tabelas!B:D,3,0),0),\"\")","v":12},{"$f":"IF(A33<>\"\",IFERROR(VLOOKUP(Z33,Tabelas!B:D,3,0),0),\"\")","v":0},{"$f":"IF(A33<>\"\",IFERROR(VLOOKUP(AA33,Tabelas!B:D,3,0),0),\"\")","v":12},{"$f":"IF(A33<>\"\",IFERROR(VLOOKUP(AB33,Tabelas!B:D,3,0),0),\"\")","v":0},{"$f":"IF(A33<>\"\",IFERROR(VLOOKUP(AC33,Tabelas!B:D,3,0),0),\"\")","v":0},{"$f":"IF(A33<>\"\",IFERROR(VLOOKUP(AD33,Tabelas!B:D,3,0),0),\"\")","v":12},{"$f":"IF(A33<>\"\",IFERROR(VLOOKUP(AE33,Tabelas!B:D,3,0),0),\"\")","v":0},{"$f":"IF(A33<>\"\",IFERROR(VLOOKUP(AF33,Tabelas!B:D,3,0),0),\"\")","v":0},{"$f":"IF(A33<>\"\",IFERROR(VLOOKUP(AG33,Tabelas!B:D,3,0),0),\"\")","v":0},{"$f":"IF(A33<>\"\",IFERROR(VLOOKUP(AH33,Tabelas!B:D,3,0),0),\"\")","v":0},{"$f":"IF(A33<>\"\",IFERROR(VLOOKUP(AI33,Tabelas!B:D,3,0),0),\"\")","v":0},{"$f":"IF(A33<>\"\",IFERROR(VLOOKUP(AJ33,Tabelas!B:D,3,0),0),\"\")","v":12},{"$f":"IF(A33<>\"\",IFERROR(VLOOKUP(AK33,Tabelas!B:D,3,0),0),\"\")","v":0},{"$f":"IF(A33<>\"\",IFERROR(VLOOKUP(AL33,Tabelas!B:D,3,0),0),\"\")","v":0},{"$f":"IF(A33<>\"\",IFERROR(VLOOKUP(AM33,Tabelas!B:D,3,0),0),\"\")","v":0},{"$f":"IF(A33<>\"\",IFERROR(VLOOKUP(AN33,Tabelas!B:D,3,0),0),\"\")","v":0},{"$f":"IF(A33<>\"\",IFERROR(VLOOKUP(AO33,Tabelas!B:D,3,0),0),\"\")","v":12},{"$f":"IF(A33<>\"\",IFERROR(VLOOKUP(AP33,Tabelas!B:D,3,0),0),\"\")","v":0},{"$f":"IF(A33<>\"\",IFERROR(VLOOKUP(AQ33,Tabelas!B:D,3,0),0),\"\")","v":0},128,0,0,0,0,0,0,0]
["Joel de Andrade",1160444,null,"ME","RJU",40,null,null,null,null,null,null,null,"D8",null,"N10",null,null,null,null,"N10",null,null,"N10",null,null,null,null,"N10",null,null,null,"N10","N10",null,null,null,null,null,null,null,"N10",null,{"$f":"IF(A34<>\"\",IFERROR(VLOOKUP(M34,Tabelas!B:D,3,0),0),\"\")","v":0},{"$f":"IF(A34<>\"\",IFERROR(VLOOKUP(N34,Tabelas!B:D,3,0),0),\"\")","v":12},{"$f":"IF(A34<>\"\",IFERROR(VLOOKUP(O34,Tabelas!B:D,3,0),0),\"\")","v":0},{"$f":"IF(A34<>\"\",IFERROR(VLOOKUP(P34,Tabelas!B:D,3,0),0),\"\")","v":12},{"$f":"IF(A34<>\"\",IFERROR(VLOOKUP(Q34,Tabelas!B:D,3,0),0),\"\")","v":0},{"$f":"IF(A34<>\"\",IFERROR(VLOOKUP(R34,Tabelas!B:D,3,0),0),\"\")","v":0},{"$f":"IF(A34<>\"\",IFERROR(VLOOKUP(S34,Tabelas!B:D,3,0),0),\"\")","v":0},{"$f":"IF(A34<>\"\",IFERROR(VLOOKUP(T34,Tabelas!B:D,3,0),0),\"\")","v":0},{"$f":"IF(A34<>\"\",IFERROR(VLOOKUP(U34,Tabelas!B:D,3,0),0),\"\")","v":12},{"$f":"IF(A34<>\"\",IFERROR(VLOOKUP(V34,Tabelas!B:D,3,0),0),\"\")","v":0},{"$f":"IF(A34<>\"\",IFERROR(VLOOKUP(W34,Tabelas!B:D,3,0),0),\"\")","v":0},{"$f":"IF(A34<>\"\",IFERROR(VLOOKUP(X34,Tabelas!B:D,3,0),0),\"\")","v":12},{"$f":"IF(A34<>\"\",IFERROR(VLOOKUP(Y34,Tabelas!B:D,3,0),0),\"\")","v":0},{"$f":"IF(A34<>\"\",IFERROR(VLOOKUP(Z34,Tabelas!B:D,3,0),0),\"\")","v":0},{"$f":"IF(A34<>\"\",IFERROR(VLOOKUP(AA34,Tabelas!B:D,3,0),0),\"\")","v":0},{"$f":"IF(A34<>\"\",IFERROR(VLOOKUP(AB34,Tabelas!B:D,3,0),0),\"\")","v":0},{"$f":"IF(A34<>\"\",IFERROR(VLOOKUP(AC34,Tabelas!B:D,3,0),0),\"\")","v":12},{"$f":"IF(A34<>\"\",IFERROR(VLOOKUP(AD34,Tabelas!B:D,3,0),0),\"\")","v":0},{"$f":"IF(A34<>\"\",IFERROR(VLOOKUP(AE34,Tabelas!B:D,3,0),0),\"\")","v":0},{"$f":"IF(A34<>\"\",IFERROR(VLOOKUP(AF34,Tabelas!B:D,3,0),0),\"\")","v":0},{"$f":"IF(A34<>\"\",IFERROR(VLOOKUP(AG34,Tabelas!B:D,3,0),0),\"\")","v":12},{"$f":"IF(A34<>\"\",IFERROR(VLOOKUP(AH34,Tabelas!B:D,3,0),0),\"\")","v":12},{"$f":"IF(A34<>\"\",IFERROR(VLOOKUP(AI34,Tabelas!B:D,3,0),0),\"\")","v":0},{"$f":"IF(A34<>\"\",IFERROR(VLOOKUP(AJ34,Tabelas!B:D,3,0),0),\"\")","v":0},{"$f":"IF(A34<>\"\",IFERROR(VLOOKUP(AK34,Tabelas!B:D,3,0),0),\"\")","v":0},{"$f":"IF(A34<>\"\",IFERROR(VLOOKUP(AL34,Tabelas!B:D,3,0),0),\"\")","v":0},{"$f":"IF(A34<>\"\",IFERROR(VLOOKUP(AM34,Tabelas!B:D,3,0),0),\"\")","v":0},{"$f":"IF(A34<>\"\",IFERROR(VLOOKUP(AN34,Tabelas!B:D,3,0),0),\"\")","v":0},{"$f":"IF(A34<>\"\",IFERROR(VLOOKUP(AO34,Tabelas!B:D,3,0),0),\"\")","v":0},{"$f":"IF(A34<>\"\",IFERROR(VLOOKUP(AP34,Tabelas!B:D,3,0),0),\"\")","v":12},{"$f":"IF(A34<>\"\",IFERROR(VLOOKUP(AQ34,Tabelas!B:D,3,0),0),\"\")","v":0},96,0,0,0,0,0,0,0]
["Karine Damiani Cabral ",1925603,null,"ME","EBSERH",24,null,null,null,null,null,null,null,null,null,"N10",null,null,null,"D8",null,"N10",null,null,"N10",null,null,"N10",null,null,"N10",null,null,null,null,null,"N10",null,null,null,null,"DN6",null,{"$f":"IF(A35<>\"\",IFERROR(VLOOKUP(M35,Tabelas!B:D,3,0),0),\"\")","v":0},{"$f":"IF(A35<>\"\",IFERROR(VLOOKUP(N35,Tabelas!B:D,3,0),0),\"\")","v":0},{"$f":"IF(A35<>\"\",IFERROR(VLOOKUP(O35,Tabelas!B:D,3,0),0),\"\")","v":0},{"$f":"IF(A35<>\"\",IFERROR(VLOOKUP(P35,Tabelas!B:D,3,0),0),\"\")","v":12},{"$f":"IF(A35<>\"\",IFERROR(VLOOKUP(Q35,Tabelas!B:D,3,0),0),\"\")","v":0},{"$f":"IF(A35<>\"\",IFERROR(VLOOKUP(R35,Tabelas!B:D,3,0),0),\"\")","v":0},{"$f":"IF(A35<>\"\",IFERROR(VLOOKUP(S35,Tabelas!B:D,3,0),0),\"\")","v":0},{"$f":"IF(A35<>\"\",IFERROR(VLOOKUP(T35,Tabelas!B:D,3,0),0),\"\")","v":12},{"$f":"IF(A35<>\"\",IFERROR(VLOOKUP(U35,Tabelas!B:D,3,0),0),\"\")","v":0},{"$f":"IF(A35<>\"\",IFERROR(VLOOKUP(V35,Tabelas!B:D,3,0),0),\"\")","v":12},{"$f":"IF(A35<>\"\",IFERROR(VLOOKUP(W35,Tabelas!B:D,3,0),0),\"\")","v":0},{"$f":"IF(A35<>\"\",IFERROR(VLOOKUP(X35,Tabelas!B:D,3,0),0),\"\")","v":0},{"$f":"IF(A35<>\"\",IFERROR(VLOOKUP(Y35,Tabelas!B:D,3,0),0),\"\")","v":12},{"$f":"IF(A35<>\"\",IFERROR(VLOOKUP(Z35,Tabelas!B:D,3,0),0),\"\")","v":0},{"$f":"IF(A35<>\"\",IFERROR(VLOOKUP(AA35,Tabelas!B:D,3,0),0),\"\")","v":0},{"$f":"IF(A35<>\"\",IFERROR(VLOOKUP(AB35,Tabelas!B:D,3,0),0),\"\")","v":12},{"$f":"IF(A35<>\"\",IFERROR(VLOOKUP(AC35,Tabelas!B:D,3,0),0),\"\")","v":0},{"$f":"IF(A35<>\"\",IFERROR(VLOOKUP(AD35,Tabelas!B:D,3,0),0),\"\")","v":0},{"$f":"IF(A35<>\"\",IFERROR(VLOOKUP(AE35,Tabelas!B:D,3,0),0),\"\")","v":12},{"$f":"IF(A35<>\"\",IFERROR(VLOOKUP(AF35,Tabelas!B:D,3,0),0),\"\")","v":0},{"$f":"IF(A35<>\"\",IFERROR(VLOOKUP(AG35,Tabelas!B:D,3,0),0),\"\")","v":0},{"$f":"IF(A35<>\"\",IFERROR(VLOOKUP(AH35,Tabelas!B:D,3,0),0),\"\")","v":0},{"$f":"IF(A35<>\"\",IFERROR(VLOOKUP(AI35,Tabelas!B:D,3,0),0),\"\")","v":0},{"$f":"IF(A35<>\"\",IFERROR(VLOOKUP(AJ35,Tabelas!B:D,3,0),0),\"\")","v":0},{"$f":"IF(A35<>\"\",IFERROR(VLOOKUP(AK35,Tabelas!B:D,3,0),0),\"\")","v":12},{"$f":"IF(A35<>\"\",IFERROR(VLOOKUP(AL35,Tabelas!B:D,3,0),0),\"\")","v":0},{"$f":"IF(A35<>\"\",IFERROR(VLOOKUP(AM35,Tabelas!B:D,3,0),0),\"\")","v":0},{"$f":"IF(A35<>\"\",IFERROR(VLOOKUP(AN35,Tabelas!B:D,3,0),0),\"\")","v":0},{"$f":"IF(A35<>\"\",IFERROR(VLOOKUP(AO35,Tabelas!B:D,3,0),0),\"\")","v":0},{"$f":"IF(A35<>\"\",IFERROR(VLOOKUP(AP35,Tabelas!B:D,3,0),0),\"\")","v":24},{"$f":"IF(A35<>\"\",IFERROR(VLOOKUP(AQ35,Tabelas!B:D,3,0),0),\"\")","v":0},115,0,0,0,0,0,0,0]
["Pedro Luz da Rosa",2606805,null,"ME","RJU",20,null,null,null,null,null,null,null,null,"N10",null,null,null,null,"N10",null,null,null,"N10",null,null,"N10",null,null,null,null,null,null,"DN6",null,"N10",null,null,null,"N10",null,null,null,{"$f":"IF(A36<>\"\",IFERROR(VLOOKUP(M36,Tabelas!B:D,3,0),0),\"\")","v":0},{"$f":"IF(A36<>\"\",IFERROR(VLOOKUP(N36,Tabelas!B:D,3,0),0),\"\")","v":0},{"$f":"IF(A36<>\"\",IFERROR(VLOOKUP(O36,Tabelas!B:D,3,0),0),\"\")","v":12},{"$f":"IF(A36<>\"\",IFERROR(VLOOKUP(P36,Tabelas!B:D,3,0),0),\"\")","v":0},{"$f":"IF(A36<>\"\",IFERROR(VLOOKUP(Q36,Tabelas!B:D,3,0),0),\"\")","v":0},{"$f":"IF(A36<>\"\",IFERROR(VLOOKUP(R36,Tabelas!B:D,3,0),0),\"\")","v":0},{"$f":"IF(A36<>\"\",IFERROR(VLOOKUP(S36,Tabelas!B:D,3,0),0),\"\")","v":0},{"$f":"IF(A36<>\"\",IFERROR(VLOOKUP(T36,Tabelas!B:D,3,0),0),\"\")","v":12},{"$f":"IF(A36<>\"\",IFERROR(VLOOKUP(U36,Tabelas!B:D,3,0),0),\"\")","v":0},{"$f":"IF(A36<>\"\",IFERROR(VLOOKUP(V36,Tabelas!B:D,3,0),0),\"\")","v":0},{"$f":"IF(A36<>\"\",IFERROR(VLOOKUP(W36,Tabelas!B:D,3,0),0),\"\")","v":0},{"$f":"IF(A36<>\"\",IFERROR(VLOOKUP(X36,Tabelas!B:D,3,0),0),\"\")","v":12},{"$f":"IF(A36<>\"\",IFERROR(VLOOKUP(Y36,Tabelas!B:D,3,0),0),\"\")","v":0},{"$f":"IF(A36<>\"\",IFERROR(VLOOKUP(Z36,Tabelas!B:D,3,0),0),\"\")","v":0},{"$f":"IF(A36<>\"\",IFERROR(VLOOKUP(AA36,Tabelas!B:D,3,0),0),\"\")","v":12},{"$f":"IF(A36<>\"\",IFERROR(VLOOKUP(AB36,Tabelas!B:D,3,0),0),\"\")","v":0},{"$f":"IF(A36<>\"\",IFERROR(VLOOKUP(AC36,Tabelas!B:D,3,0),0),\"\")","v":0},{"$f":"IF(A36<>\"\",IFERROR(VLOOKUP(AD36,Tabelas!B:D,3,0),0),\"\")","v":0},{"$f":"IF(A36<>\"\",IFERROR(VLOOKUP(AE36,Tabelas!B:D,3,0),0),\"\")","v":0},{"$f":"IF(A36<>\"\",IFERROR(VLOOKUP(AF36,Tabelas!B:D,3,0),0),\"\")","v":0},{"$f":"IF(A36<>\"\",IFERROR(VLOOKUP(AG36,Tabelas!B:D,3,0),0),\"\")","v":0},{"$f":"IF(A36<>\"\",IFERROR(VLOOKUP(AH36,Tabelas!B:D,3,0),0),\"\")","v":24},{"$f":"IF(A36<>\"\",IFERROR(VLOOKUP(AI36,Tabelas!B:D,3,0),0),\"\")","v":0},{"$f":"IF(A36<>\"\",IFERROR(VLOOKUP(AJ36,Tabelas!B:D,3,0),0),\"\")","v":12},{"$f":"IF(A36<>\"\",IFERROR(VLOOKUP(AK36,Tabelas!B:D,3,0),0),\"\")","v":0},{"$f":"IF(A36<>\"\",IFERROR(VLOOKUP(AL36,Tabelas!B:D,3,0),0),\"\")","v":0},{"$f":"IF(A36<>\"\",IFERROR(VLOOKUP(AM36,Tabelas!B:D,3,0),0),\"\")","v":0},{"$f":"IF(A36<>\"\",IFERROR(VLOOKUP(AN36,Tabelas!B:D,3,0),0),\"\")","v":12},{"$f":"IF(A36<>\"\",IFERROR(VLOOKUP(AO36,Tabelas!B:D,3,0),0),\"\")","v":0},{"$f":"IF(A36<>\"\",IFERROR(VLOOKUP(AP36,Tabelas!B:D,3,0),0),\"\")","v":0},{"$f":"IF(A36<>\"\",IFERROR(VLOOKUP(AQ36,Tabelas!B:D,3,0),0),\"\")","v":0},96,0,0,0,0,0,0,0]
["Robson Lima Ribeiro",3369679,null,"ME","RJU",20,null,null,null,null,null,null,"D8",null,null,null,null,"N10",null,null,null,null,null,"N10",null,null,"D8",null,null,null,"N10",null,null,null,"N10",null,null,null,null,"N10",null,null,null,{"$f":"IF(A37<>\"\",IFERROR(VLOOKUP(M37,Tabelas!B:D,3,0),0),\"\")","v":12},{"$f":"IF(A37<>\"\",IFERROR(VLOOKUP(N37,Tabelas!B:D,3,0),0),\"\")","v":0},{"$f":"IF(A37<>\"\",IFERROR(VLOOKUP(O37,Tabelas!B:D,3,0),0),\"\")","v":0},{"$f":"IF(A37<>\"\",IFERROR(VLOOKUP(P37,Tabelas!B:D,3,0),0),\"\")","v":0},{"$f":"IF(A37<>\"\",IFERROR(VLOOKUP(Q37,Tabelas!B:D,3,0),0),\"\")","v":0},{"$f":"IF(A37<>\"\",IFERROR(VLOOKUP(R37,Tabelas!B:D,3,0),0),\"\")","v":12},{"$f":"IF(A37<>\"\",IFERROR(VLOOKUP(S37,Tabelas!B:D,3,0),0),\"\")","v":0},{"$f":"IF(A37<>\"\",IFERROR(VLOOKUP(T37,Tabelas!B:D,3,0),0),\"\")","v":0},{"$f":"IF(A37<>\"\",IFERROR(VLOOKUP(U37,Tabelas!B:D,3,0),0),\"\")","v":0},{"$f":"IF(A37<>\"\",IFERROR(VLOOKUP(V37,Tabelas!B:D,3,0),0),\"\")","v":0},{"$f":"IF(A37<>\"\",IFERROR(VLOOKUP(W37,Tabelas!B:D,3,0),0),\"\")","v":0},{"$f":"IF(A37<>\"\",IFERROR(VLOOKUP(X37,Tabelas!B:D,3,0),0),\"\")","v":12},{"$f":"IF(A37<>\"\",IFERROR(VLOOKUP(Y37,Tabelas!B:D,3,0),0),\"\")","v":0},{"$f":"IF(A37<>\"\",IFERROR(VLOOKUP(Z37,Tabelas!B:D,3,0),0),\"\")","v":0},{"$f":"IF(A37<>\"\",IFERROR(VLOOKUP(AA37,Tabelas!B:D,3,0),0),\"\")","v":12},{"$f":"IF(A37<>\"\",IFERROR(VLOOKUP(AB37,Tabelas!B:D,3,0),0),\"\")","v":0},{"$f":"IF(A37<>\"\",IFERROR(VLOOKUP(AC37,Tabelas!B:D,3,0),0),\"\")","v":0},{"$f":"IF(A37<>\"\",IFERROR(VLOOKUP(AD37,Tabelas!B:D,3,0),0),\"\")","v":0},{"$f":"IF(A37<>\"\",IFERROR(VLOOKUP(AE37,Tabelas!B:D,3,0),0),\"\")","v":12},{"$f":"IF(A37<>\"\",IFERROR(VLOOKUP(AF37,Tabelas!B:D,3,0),0),\"\")","v":0},{"$f":"IF(A37<>\"\",IFERROR(VLOOKUP(AG37,Tabelas!B:D,3,0),0),\"\")","v":0},{"$f":"IF(A37<>\"\",IFERROR(VLOOKUP(AH37,Tabelas!B:D,3,0),0),\"\")","v":0},{"$f":"IF(A37<>\"\",IFERROR(VLOOKUP(AI37,Tabelas!B:D,3,0),0),\"\")","v":12},{"$f":"IF(A37<>\"\",IFERROR(VLOOKUP(AJ37,Tabelas!B:D,3,0),0),\"\")","v":0},{"$f":"IF(A37<>\"\",IFERROR(VLOOKUP(AK37,Tabelas!B:D,3,0),0),\"\")","v":0},{"$f":"IF(A37<>\"\",IFERROR(VLOOKUP(AL37,Tabelas!B:D,3,0),0),\"\")","v":0},{"$f":"IF(A37<>\"\",IFERROR(VLOOKUP(AM37,Tabelas!B:D,3,0),0),\"\")","v":0},{"$f":"IF(A37<>\"\",IFERROR(VLOOKUP(AN37,Tabelas!B:D,3,0),0),\"\")","v":12},{"$f":"IF(A37<>\"\",IFERROR(VLOOKUP(AO37,Tabelas!B:D,3,0),0),\"\")","v":0},{"$f":"IF(A37<>\"\",IFERROR(VLOOKUP(AP37,Tabelas!B:D,3,0),0),\"\")","v":0},{"$f":"IF(A37<>\"\",IFERROR(VLOOKUP(AQ37,Tabelas!B:D,3,0),0),\"\")","v":0},84,0,0,0,0,0,0,0]
["Rodrigo Lebarbenchon",1160132,null,"ME","RJU",20,null,null,null,null,null,null,null,null,null,null,null,null,null,null,null,null,null,null,null,null,null,null,null,null,null,null,null,null,null,null,null,null,null,null,null,null,null,{"$f":"IF(A38<>\"\",IFERROR(VLOOKUP(M38,Tabelas!B:D,3,0),0),\"\")","v":0},{"$f":"IF(A38<>\"\",IFERROR(VLOOKUP(N38,Tabelas!B:D,3,0),0),\"\")","v":0},{"$f":"IF(A38<>\"\",IFERROR(VLOOKUP(O38,Tabelas!B:D,3,0),0),\"\")","v":0},{"$f":"IF(A38<>\"\",IFERROR(VLOOKUP(P38,Tabelas!B:D,3,0),0),\"\")","v":0},{"$f":"IF(A38<>\"\",IFERROR(VLOOKUP(Q38,Tabelas!B:D,3,0),0),\"\")","v":0},{"$f":"IF(A38<>\"\",IFERROR(VLOOKUP(R38,Tabelas!B:D,3,0),0),\"\")","v":0},{"$f":"IF(A38<>\"\",IFERROR(VLOOKUP(S38,Tabelas!B:D,3,0),0),\"\")","v":0},{"$f":"IF(A38<>\"\",IFERROR(VLOOKUP(T38,Tabelas!B:D,3,0),0),\"\")","v":0},{"$f":"IF(A38<>\"\",IFERROR(VLOOKUP(U38,Tabelas!B:D,3,0),0),\"\")","v":0},{"$f":"IF(A38<>\"\",IFERROR(VLOOKUP(V38,Tabelas!B:D,3,0),0),\"\")","v":0},{"$f":"IF(A38<>\"\",IFERROR(VLOOKUP(W38,Tabelas!B:D,3,0),0),\"\")","v":0},{"$f":"IF(A38<>\"\",IFERROR(VLOOKUP(X38,Tabelas!B:D,3,0),0),\"\")","v":0},{"$f":"IF(A38<>\"\",IFERROR(VLOOKUP(Y38,Tabelas!B:D,3,0),0),\"\")","v":0},{"$f":"IF(A38<>\"\",IFERROR(VLOOKUP(Z38,Tabelas!B:D,3,0),0),\"\")","v":0},{"$f":"IF(A38<>\"\",IFERROR(VLOOKUP(AA38,Tabelas!B:D,3,0),0),\"\")","v":0},{"$f":"IF(A38<>\"\",IFERROR(VLOOKUP(AB38,Tabelas!B:D,3,0),0),\"\")","v":0},{"$f":"IF(A38<>\"\",IFERROR(VLOOKUP(AC38,Tabelas!B:D,3,0),0),\"\")","v":0},{"$f":"IF(A38<>\"\",IFERROR(VLOOKUP(AD38,Tabelas!B:D,3,0),0),\"\")","v":0},{"$f":"IF(A38<>\"\",IFERROR(VLOOKUP(AE38,Tabelas!B:D,3,0),0),\"\")","v":0},{"$f":"IF(A38<>\"\",IFERROR(VLOOKUP(AF38,Tabelas!B:D,3,0),0),\"\")","v":0},{"$f":"IF(A38<>\"\",IFERROR(VLOOKUP(AG38,Tabelas!B:D,3,0),0),\"\")","v":0},{"$f":"IF(A38<>\"\",IFERROR(VLOOKUP(AH38,Tabelas!B:D,3,0),0),\"\")","v":0},{"$f":"IF(A38<>\"\",IFERROR(VLOOKUP(AI38,Tabelas!B:D,3,0),0),\"\")","v":0},{"$f":"IF(A38<>\"\",IFERROR(VLOOKUP(AJ38,Tabelas!B:D,3,0),0),\"\")","v":0},{"$f":"IF(A38<>\"\",IFERROR(VLOOKUP(AK38,Tabelas!B:D,3,0),0),\"\")","v":0},{"$f":"IF(A38<>\"\",IFERROR(VLOOKUP(AL38,Tabelas!B:D,3,0),0),\"\")","v":0},{"$f":"IF(A38<>\"\",IFERROR(VLOOKUP(AM38,Tabelas!B:D,3,0),0),\"\")","v":0},{"$f":"IF(A38<>\"\",IFERROR(VLOOKUP(AN38,Tabelas!B:D,3,0),0),\"\")","v":0},{"$f":"IF(A38<>\"\",IFERROR(VLOOKUP(AO38,Tabelas!B:D,3,0),0),\"\")","v":0},{"$f":"IF(A38<>\"\",IFERROR(VLOOKUP(AP38,Tabelas!B:D,3,0),0),\"\")","v":0},{"$f":"IF(A38<>\"\",IFERROR(VLOOKUP(AQ38,Tabelas!B:D,3,0),0),\"\")","v":0},0,0,0,0,0,0,0,0]
["Thales Roberto Schott da Silva",1160552,null,"ME","RJU",20,null,null,null,null,null,null,"N10",null,null,null,null,"N10",null,null,null,null,"N10",null,null,null,"N10",null,null,"N10",null,null,null,null,null,null,null,null,"N10",null,"D8",null,null,{"$f":"IF(A39<>\"\",IFERROR(VLOOKUP(M39,Tabelas!B:D,3,0),0),\"\")","v":12},{"$f":"IF(A39<>\"\",IFERROR(VLOOKUP(N39,Tabelas!B:D,3,0),0),\"\")","v":0},{"$f":"IF(A39<>\"\",IFERROR(VLOOKUP(O39,Tabelas!B:D,3,0),0),\"\")","v":0},{"$f":"IF(A39<>\"\",IFERROR(VLOOKUP(P39,Tabelas!B:D,3,0),0),\"\")","v":0},{"$f":"IF(A39<>\"\",IFERROR(VLOOKUP(Q39,Tabelas!B:D,3,0),0),\"\")","v":0},{"$f":"IF(A39<>\"\",IFERROR(VLOOKUP(R39,Tabelas!B:D,3,0),0),\"\")","v":12},{"$f":"IF(A39<>\"\",IFERROR(VLOOKUP(S39,Tabelas!B:D,3,0),0),\"\")","v":0},{"$f":"IF(A39<>\"\",IFERROR(VLOOKUP(T39,Tabelas!B:D,3,0),0),\"\")","v":0},{"$f":"IF(A39<>\"\",IFERROR(VLOOKUP(U39,Tabelas!B:D,3,0),0),\"\")","v":0},{"$f":"IF(A39<>\"\",IFERROR(VLOOKUP(V39,Tabelas!B:D,3,0),0),\"\")","v":0},{"$f":"IF(A39<>\"\",IFERROR(VLOOKUP(W39,Tabelas!B:D,3,0),0),\"\")","v":12},{"$f":"IF(A39<>\"\",IFERROR(VLOOKUP(X39,Tabelas!B:D,3,0),0),\"\")","v":0},{"$f":"IF(A39<>\"\",IFERROR(VLOOKUP(Y39,Tabelas!B:D,3,0),0),\"\")","v":0},{"$f":"IF(A39<>\"\",IFERROR(VLOOKUP(Z39,Tabelas!B:D,3,0),0),\"\")","v":0},{"$f":"IF(A39<>\"\",IFERROR(VLOOKUP(AA39,Tabelas!B:D,3,0),0),\"\")","v":12},{"$f":"IF(A39<>\"\",IFERROR(VLOOKUP(AB39,Tabelas!B:D,3,0),0),\"\")","v":0},{"$f":"IF(A39<>\"\",IFERROR(VLOOKUP(AC39,Tabelas!B:D,3,0),0),\"\")","v":0},{"$f":"IF(A39<>\"\",IFERROR(VLOOKUP(AD39,Tabelas!B:D,3,0),0),\"\")","v":12},{"$f":"IF(A39<>\"\",IFERROR(VLOOKUP(AE39,Tabelas!B:D,3,0),0),\"\")","v":0},{"$f":"IF(A39<>\"\",IFERROR(VLOOKUP(AF39,Tabelas!B:D,3,0),0),\"\")","v":0},{"$f":"IF(A39<>\"\",IFERROR(VLOOKUP(AG39,Tabelas!B:D,3,0),0),\"\")","v":0},{"$f":"IF(A39<>\"\",IFERROR(VLOOKUP(AH39,Tabelas!B:D,3,0),0),\"\")","v":0},{"$f":"IF(A39<>\"\",IFERROR(VLOOKUP(AI39,Tabelas!B:D,3,0),0),\"\")","v":0},{"$f":"IF(A39<>\"\",IFERROR(VLOOKUP(AJ39,Tabelas!B:D,3,0),0),\"\")","v":0},{"$f":"IF(A39<>\"\",IFERROR(VLOOKUP(AK39,Tabelas!B:D,3,0),0),\"\")","v":0},{"$f":"IF(A39<>\"\",IFERROR(VLOOKUP(AL39,Tabelas!B:D,3,0),0),\"\")","v":0},{"$f":"IF(A39<>\"\",IFERROR(VLOOKUP(AM39,Tabelas!B:D,3,0),0),\"\")","v":12},{"$f":"IF(A39<>\"\",IFERROR(VLOOKUP(AN39,Tabelas!B:D,3,0),0),\"\")","v":0},{"$f":"IF(A39<>\"\",IFERROR(VLOOKUP(AO39,Tabelas!B:D,3,0),0),\"\")","v":12},{"$f":"IF(A39<>\"\",IFERROR(VLOOKUP(AP39,Tabelas!B:D,3,0),0),\"\")","v":0},{"$f":"IF(A39<>\"\",IFERROR(VLOOKUP(AQ39,Tabelas!B:D,3,0),0),\"\")","v":0},84,0,0,0,0,0,0,0]
[]
[null,null,null,null,null,null,null,null,null,null,null,null,null,null,null,null,null,null,null,null,null,null,null,null,null,null,null,null,null,null,null,null,null,null,null,null,null,null,null,null,null,null,null,{"$f":"IF(A41<>\"\",IFERROR(VLOOKUP(M41,Tabelas!B:D,3,0),0),\"\")","v":""},{"$f":"IF(A41<>\"\",IFERROR(VLOOKUP(N41,Tabelas!B:D,3,0),0),\"\")","v":""},{"$f":"IF(A41<>\"\",IFERROR(VLOOKUP(O41,Tabelas!B:D,3,0),0),\"\")","v":""},{"$f":"IF(A41<>\"\",IFERROR(VLOOKUP(P41,Tabelas!B:D,3,0),0),\"\")","v":""},{"$f":"IF(A41<>\"\",IFERROR(VLOOKUP(Q41,Tabelas!B:D,3,0),0),\"\")","v":""},{"$f":"IF(A41<>\"\",IFERROR(VLOOKUP(R41,Tabelas!B:D,3,0),0),\"\")","v":""},{"$f":"IF(A41<>\"\",IFERROR(VLOOKUP(S41,Tabelas!B:D,3,0),0),\"\")","v":""},{"$f":"IF(A41<>\"\",IFERROR(VLOOKUP(T41,Tabelas!B:D,3,0),0),\"\")","v":""},{"$f":"IF(A41<>\"\",IFERROR(VLOOKUP(U41,Tabelas!B:D,3,0),0),\"\")","v":""},{"$f":"IF(A41<>\"\",IFERROR(VLOOKUP(V41,Tabelas!B:D,3,0),0),\"\")","v":""},{"$f":"IF(A41<>\"\",IFERROR(VLOOKUP(W41,Tabelas!B:D,3,0),0),\"\")","v":""},{"$f":"IF(A41<>\"\",IFERROR(VLOOKUP(X41,Tabelas!B:D,3,0),0),\"\")","v":""},{"$f":"IF(A41<>\"\",IFERROR(VLOOKUP(Y41,Tabelas!B:D,3,0),0),\"\")","v":""},{"$f":"IF(A41<>\"\",IFERROR(VLOOKUP(Z41,Tabelas!B:D,3,0),0),\"\")","v":""},{"$f":"IF(A41<>\"\",IFERROR(VLOOKUP(AA41,Tabelas!B:D,3,0),0),\"\")","v":""},{"$f":"IF(A41<>\"\",IFERROR(VLOOKUP(AB41,Tabelas!B:D,3,0),0),\"\")","v":""},{"$f":"IF(A41<>\"\",IFERROR(VLOOKUP(AC41,Tabelas!B:D,3,0),0),\"\")","v":""},{"$f":"IF(A41<>\"\",IFERROR(VLOOKUP(AD41,Tabelas!B:D,3,0),0),\"\")","v":""},{"$f":"IF(A41<>\"\",IFERROR(VLOOKUP(AE41,Tabelas!B:D,3,0),0),\"\")","v":""},{"$f":"IF(A41<>\"\",IFERROR(VLOOKUP(AF41,Tabelas!B:D,3,0),0),\"\")","v":""},{"$f":"IF(A41<>\"\",IFERROR(VLOOKUP(AG41,Tabelas!B:D,3,0),0),\"\")","v":""},{"$f":"IF(A41<>\"\",IFERROR(VLOOKUP(AH41,Tabelas!B:D,3,0),0),\"\")","v":""},{"$f":"IF(A41<>\"\",IFERROR(VLOOKUP(AI41,Tabelas!B:D,3,0),0),\"\")","v":""},{"$f":"IF(A41<>\"\",IFERROR(VLOOKUP(AJ41,Tabelas!B:D,3,0),0),\"\")","v":""},{"$f":"IF(A41<>\"\",IFERROR(VLOOKUP(AK41,Tabelas!B:D,3,0),0),\"\")","v":""},{"$f":"IF(A41<>\"\",IFERROR(VLOOKUP(AL41,Tabelas!B:D,3,0),0),\"\")","v":""},{"$f":"IF(A41<>\"\",IFERROR(VLOOKUP(AM41,Tabelas!B:D,3,0),0),\"\")","v":""},{"$f":"IF(A41<>\"\",IFERROR(VLOOKUP(AN41,Tabelas!B:D,3,0),0),\"\")","v":""},{"$f":"IF(A41<>\"\",IFERROR(VLOOKUP(AO41,Tabelas!B:D,3,0),0),\"\")","v":""},{"$f":"IF(A41<>\"\",IFERROR(VLOOKUP(AP41,Tabelas!B:D,3,0),0),\"\")","v":""},{"$f":"IF(A41<>\"\",IFERROR(VLOOKUP(AQ41,Tabelas!B:D,3,0),0),\"\")","v":""},{"$f":"IF(AND(A41<>\"\",E41=\"Ebserh\"),SUM(AR41:BV41)+COUNTIF(M41:AQ41,\"N*\")+COUNTIF(M41:AQ41,\"DN*\"),IF(AND(A41<>\"\",E41<>\"Ebserh\"),SUM(AR41:BV41),\"\"))","v":""},{"$f":"IF(A41<>\"\",COUNTIF(M41:AQ41,\"LM\")+COUNTIF(M41:AQ41,\"L\")+COUNTIF(M41:AQ41,\"LP\"),\"\")","v":""},{"$f":"IF(A41<>\"\",COUNTIF(M41:AQ41,\"AB*\"),\"\")","v":""},{"$f":"IF(A41<>\"\",COUNTIF(M41:AQ41,\"FE\"),\"\")","v":""},{"$f":"IF(A41<>\"\",COUNTIF(M41:AQ41,\"LC\"),\"\")","v":""},{"$f":"IF(A41<>\"\",COUNTIF(M41:AQ41,\"CH*\"),\"\")","v":""},{"$f":"IF(A41<>\"\",COUNTIF(M41:AQ41,\"AF1\")+COUNTIF(M41:AQ41,\"AF2\")+COUNTIF(M41:AQ41,\"AF3\")+COUNTIF(M41:AQ41,\"AF4\")+COUNTIF(M41:AQ41,\"AF5\")+COUNTIF(M41:AQ41,\"AF6\")+COUNTIF(M41:AQ41,\"AF7\")+COUNTIF(M41:AQ41,\"AF8\")+COUNTIF(M41:AQ41,\"AF9\")+COUNTIF(M41:AQ41,\"AF10\")+COUNTIF(M41:AQ41,\"AF11\")+COUNTIF(M41:AQ41,\"AF12\")+COUNTIF(M41:AQ41,\"AF13\")+COUNTIF(M41:AQ41,\"AF14\"),\"\")","v":""},{"$f":"IF(A41<>\"\",COUNTIF(M41:AQ41,\"CH*\")+COUNTIF(M41:AQ41,\"L\")+COUNTIF(M41:AQ41,\"LM\")+COUNTIF(M41:AQ41,\"LP\")+COUNTIF(M41:AQ41,\"LC\")+COUNTIF(M41:AQ41,\"AB*\")+COUNTIF(M41:AQ41,\"AF1\")+COUNTIF(M41:AQ41,\"AF2\")+COUNTIF(M41:AQ41,\"AF3\")+COUNTIF(M41:AQ41,\"AF4\")+COUNTIF(M41:AQ41,\"AF5\")+COUNTIF(M41:AQ41,\"AF6\")+COUNTIF(M41:AQ41,\"AF7\")+COUNTIF(M41:AQ41,\"AF8\")+COUNTIF(M41:AQ41,\"AF9\")+COUNTIF(M41:AQ41,\"AF10\")+COUNTIF(M41:AQ41,\"AF11\")+COUNTIF(M41:AQ41,\"AF12\")+COUNTIF(M41:AQ41,\"AF13\")+COUNTIF(M41:AQ41,\"AF14\")+COUNTIF(M41:AQ41,\"RC\")+COUNTIF(M41:AQ41,\"FO\")+COUNTIF(M41:AQ41,\"FE\"),\"\")","v":""}]
["Ingrid Catharine Costa de Sant Ana",1004451,null,"ME","EBSERH",24,null,null,null,null,null,null,null,null,null,null,null,null,null,null,null,null,null,null,null,null,null,null,null,null,null,null,null,null,null,null,null,null,null,null,null,null,null,{"$f":"IF(A42<>\"\",IFERROR(VLOOKUP(M42,Tabelas!B:D,3,0),0),\"\")","v":0},{"$f":"IF(A42<>\"\",IFERROR(VLOOKUP(N42,Tabelas!B:D,3,0),0),\"\")","v":0},{"$f":"IF(A42<>\"\",IFERROR(VLOOKUP(O42,Tabelas!B:D,3,0),0),\"\")","v":0},{"$f":"IF(A42<>\"\",IFERROR(VLOOKUP(P42,Tabelas!B:D,3,0),0),\"\")","v":0},{"$f":"IF(A42<>\"\",IFERROR(VLOOKUP(Q42,Tabelas!B:D,3,0),0),\"\")","v":0},{"$f":"IF(A42<>\"\",IFERROR(VLOOKUP(R42,Tabelas!B:D,3,0),0),\"\")","v":0},{"$f":"IF(A42<>\"\",IFERROR(VLOOKUP(S42,Tabelas!B:D,3,0),0),\"\")","v":0},{"$f":"IF(A42<>\"\",IFERROR(VLOOKUP(T42,Tabelas!B:D,3,0),0),\"\")","v":0},{"$f":"IF(A42<>\"\",IFERROR(VLOOKUP(U42,Tabelas!B:D,3,0),0),\"\")","v":0},{"$f":"IF(A42<>\"\",IFERROR(VLOOKUP(V42,Tabelas!B:D,3,0),0),\"\")","v":0},{"$f":"IF(A42<>\"\",IFERROR(VLOOKUP(W42,Tabelas!B:D,3,0),0),\"\")","v":0},{"$f":"IF(A42<>\"\",IFERROR(VLOOKUP(X42,Tabelas!B:D,3,0),0),\"\")","v":0},{"$f":"IF(A42<>\"\",IFERROR(VLOOKUP(Y42,Tabelas!B:D,3,0),0),\"\")","v":0},{"$f":"IF(A42<>\"\",IFERROR(VLOOKUP(Z42,Tabelas!B:D,3,0),0),\"\")","v":0},{"$f":"IF(A42<>\"\",IFERROR(VLOOKUP(AA42,Tabelas!B:D,3,0),0),\"\")","v":0},{"$f":"IF(A42<>\"\",IFERROR(VLOOKUP(AB42,Tabelas!B:D,3,0),0),\"\")","v":0},{"$f":"IF(A42<>\"\",IFERROR(VLOOKUP(AC42,Tabelas!B:D,3,0),0),\"\")","v":0},{"$f":"IF(A42<>\"\",IFERROR(VLOOKUP(AD42,Tabelas!B:D,3,0),0),\"\")","v":0},{"$f":"IF(A42<>\"\",IFERROR(VLOOKUP(AE42,Tabelas!B:D,3,0),0),\"\")","v":0},{"$f":"IF(A42<>\"\",IFERROR(VLOOKUP(AF42,Tabelas!B:D,3,0),0),\"\")","v":0},{"$f":"IF(A42<>\"\",IFERROR(VLOOKUP(AG42,Tabelas!B:D,3,0),0),\"\")","v":0},{"$f":"IF(A42<>\"\",IFERROR(VLOOKUP(AH42,Tabelas!B:D,3,0),0),\"\")","v":0},{"$f":"IF(A42<>\"\",IFERROR(VLOOKUP(AI42,Tabelas!B:D,3,0),0),\"\")","v":0},{"$f":"IF(A42<>\"\",IFERROR(VLOOKUP(AJ42,Tabelas!B:D,3,0),0),\"\")","v":0},{"$f":"IF(A42<>\"\",IFERROR(VLOOKUP(AK42,Tabelas!B:D,3,0),0),\"\")","v":0},{"$f":"IF(A42<>\"\",IFERROR(VLOOKUP(AL42,Tabelas!B:D,3,0),0),\"\")","v":0},{"$f":"IF(A42<>\"\",IFERROR(VLOOKUP(AM42,Tabelas!B:D,3,0),0),\"\")","v":0},{"$f":"IF(A42<>\"\",IFERROR(VLOOKUP(AN42,Tabelas!B:D,3,0),0),\"\")","v":0},{"$f":"IF(A42<>\"\",IFERROR(VLOOKUP(AO42,Tabelas!B:D,3,0),0),\"\")","v":0},{"$f":"IF(A42<>\"\",IFERROR(VLOOKUP(AP42,Tabelas!B:D,3,0),0),\"\")","v":0},{"$f":"IF(A42<>\"\",IFERROR(VLOOKUP(AQ42,Tabelas!B:D,3,0),0),\"\")","v":0},0,0,0,0,0,0,0,0]
["Elizabeth Kristiane Buss Lunardelli",3760219,null,"ME","RJU",30,null,null,null,null,null,null,null,null,null,null,null,null,null,null,null,null,null,null,null,null,null,null,null,null,null,null,null,null,null,null,null,null,null,null,null,null,null,{"$f":"IF(A43<>\"\",IFERROR(VLOOKUP(M43,Tabelas!B:D,3,0),0),\"\")","v":0},{"$f":"IF(A43<>\"\",IFERROR(VLOOKUP(N43,Tabelas!B:D,3,0),0),\"\")","v":0},{"$f":"IF(A43<>\"\",IFERROR(VLOOKUP(O43,Tabelas!B:D,3,0),0),\"\")","v":0},{"$f":"IF(A43<>\"\",IFERROR(VLOOKUP(P43,Tabelas!B:D,3,0),0),\"\")","v":0},{"$f":"IF(A43<>\"\",IFERROR(VLOOKUP(Q43,Tabelas!B:D,3,0),0),\"\")","v":0},{"$f":"IF(A43<>\"\",IFERROR(VLOOKUP(R43,Tabelas!B:D,3,0),0),\"\")","v":0},{"$f":"IF(A43<>\"\",IFERROR(VLOOKUP(S43,Tabelas!B:D,3,0),0),\"\")","v":0},{"$f":"IF(A43<>\"\",IFERROR(VLOOKUP(T43,Tabelas!B:D,3,0),0),\"\")","v":0},{"$f":"IF(A43<>\"\",IFERROR(VLOOKUP(U43,Tabelas!B:D,3,0),0),\"\")","v":0},{"$f":"IF(A43<>\"\",IFERROR(VLOOKUP(V43,Tabelas!B:D,3,0),0),\"\")","v":0},{"$f":"IF(A43<>\"\",IFERROR(VLOOKUP(W43,Tabelas!B:D,3,0),0),\"\")","v":0},{"$f":"IF(A43<>\"\",IFERROR(VLOOKUP(X43,Tabelas!B:D,3,0),0),\"\")","v":0},{"$f":"IF(A43<>\"\",IFERROR(VLOOKUP(Y43,Tabelas!B:D,3,0),0),\"\")","v":0},{"$f":"IF(A43<>\"\",IFERROR(VLOOKUP(Z43,Tabelas!B:D,3,0),0),\"\")","v":0},{"$f":"IF(A43<>\"\",IFERROR(VLOOKUP(AA43,Tabelas!B:D,3,0),0),\"\")","v":0},{"$f":"IF(A43<>\"\",IFERROR(VLOOKUP(AB43,Tabelas!B:D,3,0),0),\"\")","v":0},{"$f":"IF(A43<>\"\",IFERROR(VLOOKUP(AC43,Tabelas!B:D,3,0),0),\"\")","v":0},{"$f":"IF(A43<>\"\",IFERROR(VLOOKUP(AD43,Tabelas!B:D,3,0),0),\"\")","v":0},{"$f":"IF(A43<>\"\",IFERROR(VLOOKUP(AE43,Tabelas!B:D,3,0),0),\"\")","v":0},{"$f":"IF(A43<>\"\",IFERROR(VLOOKUP(AF43,Tabelas!B:D,3,0),0),\"\")","v":0},{"$f":"IF(A43<>\"\",IFERROR(VLOOKUP(AG43,Tabelas!B:D,3,0),0),\"\")","v":0},{"$f":"IF(A43<>\"\",IFERROR(VLOOKUP(AH43,Tabelas!B:D,3,0),0),\"\")","v":0},{"$f":"IF(A43<>\"\",IFERROR(VLOOKUP(AI43,Tabelas!B:D,3,0),0),\"\")","v":0},{"$f":"IF(A43<>\"\",IFERROR(VLOOKUP(AJ43,Tabelas!B:D,3,0),0),\"\")","v":0},{"$f":"IF(A43<>\"\",IFERROR(VLOOKUP(AK43,Tabelas!B:D,3,0),0),\"\")","v":0},{"$f":"IF(A43<>\"\",IFERROR(VLOOKUP(AL43,Tabelas!B:D,3,0),0),\"\")","v":0},{"$f":"IF(A43<>\"\",IFERROR(VLOOKUP(AM43,Tabelas!B:D,3,0),0),\"\")","v":0},{"$f":"IF(A43<>\"\",IFERROR(VLOOKUP(AN43,Tabelas!B:D,3,0),0),\"\")","v":0},{"$f":"IF(A43<>\"\",IFERROR(VLOOKUP(AO43,Tabelas!B:D,3,0),0),\"\")","v":0},{"$f":"IF(A43<>\"\",IFERROR(VLOOKUP(AP43,Tabelas!B:D,3,0),0),\"\")","v":0},{"$f":"IF(A43<>\"\",IFERROR(VLOOKUP(AQ43,Tabelas!B:D,3,0),0),\"\")","v":0},0,0,0,0,0,0,0,0]
["TOTAL PROFISSIONAIS MATUTINO",null,null,null,null,null,null,null,null,null,null,null,{"$f":"IF(COUNTIF(M9:M43,\"M*\")+ COUNTIF(M9:M43, \"D*\")-COUNTIF(M9:M43,\"DSR\")<>0,COUNTIF(M9:M43,\"M*\")+ COUNTIF(M9:M43, \"D*\")-COUNTIF(M9:M43,\"DSR\"),\"\")","v":3},2,5,5,5,5,6,1,2,5,5,5,5,5,3,3,5,6,5,5,5,3,2,5,5,5,5,5,3,3,5,null,null,null,null,null,null,null,null,null,null,null,null,null,null,null,null,null,null,null,null,null,null,null,null,null,null,null,null,null,null,null,{"$f":"SUM(BW9:BW43)","v":2438},0,0,18,0,0,2,20]
["TOTAL DE PROFISSIONAIS VESPERTINO",null,null,null,null,null,null,null,null,null,null,null,{"$f":"IF(COUNTIF(M9:M43,\"MT*\") + COUNTIF(M9:M43, \"D*\") + COUNTIF(M9:M43,\"T*\")-COUNTIF(M9:M43,\"DSR\")<>0,COUNTIF(M9:M43,\"MT*\") + COUNTIF(M9:M43, \"D*\") + COUNTIF(M9:M43,\"T*\")-COUNTIF(M9:M43,\"DSR\"),\"\")","v":3},2,5,5,5,5,4,1,2,4,4,4,4,4,3,3,4,4,4,4,4,3,2,5,3,5,4,4,3,3,4,{"$f":"IF(A45<>\"\",IFERROR(VLOOKUP(M45,Tabelas!B:D,3,0),0),\"\")","v":0},{"$f":"IF(A45<>\"\",IFERROR(VLOOKUP(N45,Tabelas!B:D,3,0),0),\"\")","v":0},{"$f":"IF(A45<>\"\",IFERROR(VLOOKUP(O45,Tabelas!B:D,3,0),0),\"\")","v":0},{"$f":"IF(A45<>\"\",IFERROR(VLOOKUP(P45,Tabelas!B:D,3,0),0),\"\")","v":0},{"$f":"IF(A45<>\"\",IFERROR(VLOOKUP(Q45,Tabelas!B:D,3,0),0),\"\")","v":0},{"$f":"IF(A45<>\"\",IFERROR(VLOOKUP(R45,Tabelas!B:D,3,0),0),\"\")","v":0},{"$f":"IF(A45<>\"\",IFERROR(VLOOKUP(S45,Tabelas!B:D,3,0),0),\"\")","v":0},{"$f":"IF(A45<>\"\",IFERROR(VLOOKUP(T45,Tabelas!B:D,3,0),0),\"\")","v":0},{"$f":"IF(A45<>\"\",IFERROR(VLOOKUP(U45,Tabelas!B:D,3,0),0),\"\")","v":0},{"$f":"IF(A45<>\"\",IFERROR(VLOOKUP(V45,Tabelas!B:D,3,0),0),\"\")","v":0},{"$f":"IF(A45<>\"\",IFERROR(VLOOKUP(W45,Tabelas!B:D,3,0),0),\"\")","v":0},{"$f":"IF(A45<>\"\",IFERROR(VLOOKUP(X45,Tabelas!B:D,3,0),0),\"\")","v":0},{"$f":"IF(A45<>\"\",IFERROR(VLOOKUP(Y45,Tabelas!B:D,3,0),0),\"\")","v":0},{"$f":"IF(A45<>\"\",IFERROR(VLOOKUP(Z45,Tabelas!B:D,3,0),0),\"\")","v":0},{"$f":"IF(A45<>\"\",IFERROR(VLOOKUP(AA45,Tabelas!B:D,3,0),0),\"\")","v":0},{"$f":"IF(A45<>\"\",IFERROR(VLOOKUP(AB45,Tabelas!B:D,3,0),0),\"\")","v":0},{"$f":"IF(A45<>\"\",IFERROR(VLOOKUP(AC45,Tabelas!B:D,3,0),0),\"\")","v":0},{"$f":"IF(A45<>\"\",IFERROR(VLOOKUP(AD45,Tabelas!B:D,3,0),0),\"\")","v":0},{"$f":"IF(A45<>\"\",IFERROR(VLOOKUP(AE45,Tabelas!B:D,3,0),0),\"\")","v":0},{"$f":"IF(A45<>\"\",IFERROR(VLOOKUP(AF45,Tabelas!B:D,3,0),0),\"\")","v":0},{"$f":"IF(A45<>\"\",IFERROR(VLOOKUP(AG45,Tabelas!B:D,3,0),0),\"\")","v":0},{"$f":"IF(A45<>\"\",IFERROR(VLOOKUP(AH45,Tabelas!B:D,3,0),0),\"\")","v":0},{"$f":"IF(A45<>\"\",IFERROR(VLOOKUP(AI45,Tabelas!B:D,3,0),0),\"\")","v":0},{"$f":"IF(A45<>\"\",IFERROR(VLOOKUP(AJ45,Tabelas!B:D,3,0),0),\"\")","v":0},{"$f":"IF(A45<>\"\",IFERROR(VLOOKUP(AK45,Tabelas!B:D,3,0),0),\"\")","v":0},{"$f":"IF(A45<>\"\",IFERROR(VLOOKUP(AL45,Tabelas!B:D,3,0),0),\"\")","v":0},{"$f":"IF(A45<>\"\",IFERROR(VLOOKUP(AM45,Tabelas!B:D,3,0),0),\"\")","v":0},{"$f":"IF(A45<>\"\",IFERROR(VLOOKUP(AN45,Tabelas!B:D,3,0),0),\"\")","v":0},{"$f":"IF(A45<>\"\",IFERROR(VLOOKUP(AO45,Tabelas!B:D,3,0),0),\"\")","v":0},{"$f":"IF(A45<>\"\",IFERROR(VLOOKUP(AP45,Tabelas!B:D,3,0),0),\"\")","v":0},{"$f":"IF(A45<>\"\",IFERROR(VLOOKUP(AQ45,Tabelas!B:D,3,0),0),\"\")","v":0}]
["TOTAL DE PROFISSIONAIS NOTURNO",null,null,null,null,null,null,null,null,null,null,null,{"$f":"IF(COUNTIF(M9:M45,\"N?*\") + COUNTIF(M9:M45, \"DN*\")<>0,COUNTIF(M9:M45,\"N?*\") + COUNTIF(M9:M45, \"DN*\"),\"\")","v":3},3,3,3,3,3,2,3,3,3,3,3,3,2,3,3,3,3,3,3,3,3,3,3,3,2,2,3,3,3,3,{"$f":"IF(A46<>\"\",IFERROR(VLOOKUP(M46,Tabelas!B:D,3,0),0),\"\")","v":0},{"$f":"IF(A46<>\"\",IFERROR(VLOOKUP(N46,Tabelas!B:D,3,0),0),\"\")","v":0},{"$f":"IF(A46<>\"\",IFERROR(VLOOKUP(O46,Tabelas!B:D,3,0),0),\"\")","v":0},{"$f":"IF(A46<>\"\",IFERROR(VLOOKUP(P46,Tabelas!B:D,3,0),0),\"\")","v":0},{"$f":"IF(A46<>\"\",IFERROR(VLOOKUP(Q46,Tabelas!B:D,3,0),0),\"\")","v":0},{"$f":"IF(A46<>\"\",IFERROR(VLOOKUP(R46,Tabelas!B:D,3,0),0),\"\")","v":0},{"$f":"IF(A46<>\"\",IFERROR(VLOOKUP(S46,Tabelas!B:D,3,0),0),\"\")","v":0},{"$f":"IF(A46<>\"\",IFERROR(VLOOKUP(T46,Tabelas!B:D,3,0),0),\"\")","v":0},{"$f":"IF(A46<>\"\",IFERROR(VLOOKUP(U46,Tabelas!B:D,3,0),0),\"\")","v":0},{"$f":"IF(A46<>\"\",IFERROR(VLOOKUP(V46,Tabelas!B:D,3,0),0),\"\")","v":0},{"$f":"IF(A46<>\"\",IFERROR(VLOOKUP(W46,Tabelas!B:D,3,0),0),\"\")","v":0},{"$f":"IF(A46<>\"\",IFERROR(VLOOKUP(X46,Tabelas!B:D,3,0),0),\"\")","v":0},{"$f":"IF(A46<>\"\",IFERROR(VLOOKUP(Y46,Tabelas!B:D,3,0),0),\"\")","v":0},{"$f":"IF(A46<>\"\",IFERROR(VLOOKUP(Z46,Tabelas!B:D,3,0),0),\"\")","v":0},{"$f":"IF(A46<>\"\",IFERROR(VLOOKUP(AA46,Tabelas!B:D,3,0),0),\"\")","v":0},{"$f":"IF(A46<>\"\",IFERROR(VLOOKUP(AB46,Tabelas!B:D,3,0),0),\"\")","v":0},{"$f":"IF(A46<>\"\",IFERROR(VLOOKUP(AC46,Tabelas!B:D,3,0),0),\"\")","v":0},{"$f":"IF(A46<>\"\",IFERROR(VLOOKUP(AD46,Tabelas!B:D,3,0),0),\"\")","v":0},{"$f":"IF(A46<>\"\",IFERROR(VLOOKUP(AE46,Tabelas!B:D,3,0),0),\"\")","v":0},{"$f":"IF(A46<>\"\",IFERROR(VLOOKUP(AF46,Tabelas!B:D,3,0),0),\"\")","v":0},{"$f":"IF(A46<>\"\",IFERROR(VLOOKUP(AG46,Tabelas!B:D,3,0),0),\"\")","v":0},{"$f":"IF(A46<>\"\",IFERROR(VLOOKUP(AH46,Tabelas!B:D,3,0),0),\"\")","v":0},{"$f":"IF(A46<>\"\",IFERROR(VLOOKUP(AI46,Tabelas!B:D,3,0),0),\"\")","v":0},{"$f":"IF(A46<>\"\",IFERROR(VLOOKUP(AJ46,Tabelas!B:D,3,0),0),\"\")","v":0},{"$f":"IF(A46<>\"\",IFERROR(VLOOKUP(AK46,Tabelas!B:D,3,0),0),\"\")","v":0},{"$f":"IF(A46<>\"\",IFERROR(VLOOKUP(AL46,Tabelas!B:D,3,0),0),\"\")","v":0},{"$f":"IF(A46<>\"\",IFERROR(VLOOKUP(AM46,Tabelas!B:D,3,0),0),\"\")","v":0},{"$f":"IF(A46<>\"\",IFERROR(VLOOKUP(AN46,Tabelas!B:D,3,0),0),\"\")","v":0},{"$f":"IF(A46<>\"\",IFERROR(VLOOKUP(AO46,Tabelas!B:D,3,0),0),\"\")","v":0},{"$f":"IF(A46<>\"\",IFERROR(VLOOKUP(AP46,Tabelas!B:D,3,0),0),\"\")","v":0},{"$f":"IF(A46<>\"\",IFERROR(VLOOKUP(AQ46,Tabelas!B:D,3,0),0),\"\")","v":0}]
[null,null,null,null,null,null,null,null,null,null,null,null,null,null,null,null,null,null,null,null,null,null,null,null,null,null,null,null,null,null,null,null,null,null,null,null,null,null,null,null,null,null,null,{"$f":"IF(A47<>\"\",IFERROR(VLOOKUP(M47,Tabelas!B:D,3,0),0),\"\")","v":""},{"$f":"IF(A47<>\"\",IFERROR(VLOOKUP(N47,Tabelas!B:D,3,0),0),\"\")","v":""},{"$f":"IF(A47<>\"\",IFERROR(VLOOKUP(O47,Tabelas!B:D,3,0),0),\"\")","v":""},{"$f":"IF(A47<>\"\",IFERROR(VLOOKUP(P47,Tabelas!B:D,3,0),0),\"\")","v":""},{"$f":"IF(A47<>\"\",IFERROR(VLOOKUP(Q47,Tabelas!B:D,3,0),0),\"\")","v":""},{"$f":"IF(A47<>\"\",IFERROR(VLOOKUP(R47,Tabelas!B:D,3,0),0),\"\")","v":""},{"$f":"IF(A47<>\"\",IFERROR(VLOOKUP(S47,Tabelas!B:D,3,0),0),\"\")","v":""},{"$f":"IF(A47<>\"\",IFERROR(VLOOKUP(T47,Tabelas!B:D,3,0),0),\"\")","v":""},{"$f":"IF(A47<>\"\",IFERROR(VLOOKUP(U47,Tabelas!B:D,3,0),0),\"\")","v":""},{"$f":"IF(A47<>\"\",IFERROR(VLOOKUP(V47,Tabelas!B:D,3,0),0),\"\")","v":""},{"$f":"IF(A47<>\"\",IFERROR(VLOOKUP(W47,Tabelas!B:D,3,0),0),\"\")","v":""},{"$f":"IF(A47<>\"\",IFERROR(VLOOKUP(X47,Tabelas!B:D,3,0),0),\"\")","v":""},{"$f":"IF(A47<>\"\",IFERROR(VLOOKUP(Y47,Tabelas!B:D,3,0),0),\"\")","v":""},{"$f":"IF(A47<>\"\",IFERROR(VLOOKUP(Z47,Tabelas!B:D,3,0),0),\"\")","v":""},{"$f":"IF(A47<>\"\",IFERROR(VLOOKUP(AA47,Tabelas!B:D,3,0),0),\"\")","v":""},{"$f":"IF(A47<>\"\",IFERROR(VLOOKUP(AB47,Tabelas!B:D,3,0),0),\"\")","v":""},{"$f":"IF(A47<>\"\",IFERROR(VLOOKUP(AC47,Tabelas!B:D,3,0),0),\"\")","v":""},{"$f":"IF(A47<>\"\",IFERROR(VLOOKUP(AD47,Tabelas!B:D,3,0),0),\"\")","v":""},{"$f":"IF(A47<>\"\",IFERROR(VLOOKUP(AE47,Tabelas!B:D,3,0),0),\"\")","v":""},{"$f":"IF(A47<>\"\",IFERROR(VLOOKUP(AF47,Tabelas!B:D,3,0),0),\"\")","v":""},{"$f":"IF(A47<>\"\",IFERROR(VLOOKUP(AG47,Tabelas!B:D,3,0),0),\"\")","v":""},{"$f":"IF(A47<>\"\",IFERROR(VLOOKUP(AH47,Tabelas!B:D,3,0),0),\"\")","v":""},{"$f":"IF(A47<>\"\",IFERROR(VLOOKUP(AI47,Tabelas!B:D,3,0),0),\"\")","v":""},{"$f":"IF(A47<>\"\",IFERROR(VLOOKUP(AJ47,Tabelas!B:D,3,0),0),\"\")","v":""},{"$f":"IF(A47<>\"\",IFERROR(VLOOKUP(AK47,Tabelas!B:D,3,0),0),\"\")","v":""},{"$f":"IF(A47<>\"\",IFERROR(VLOOKUP(AL47,Tabelas!B:D,3,0),0),\"\")","v":""},{"$f":"IF(A47<>\"\",IFERROR(VLOOKUP(AM47,Tabelas!B:D,3,0),0),\"\")","v":""},{"$f":"IF(A47<>\"\",IFERROR(VLOOKUP(AN47,Tabelas!B:D,3,0),0),\"\")","v":""},{"$f":"IF(A47<>\"\",IFERROR(VLOOKUP(AO47,Tabelas!B:D,3,0),0),\"\")","v":""},{"$f":"IF(A47<>\"\",IFERROR(VLOOKUP(AP47,Tabelas!B:D,3,0),0),\"\")","v":""},{"$f":"IF(A47<>\"\",IFERROR(VLOOKUP(AQ47,Tabelas!B:D,3,0),0),\"\")","v":""}]
["Legenda:"]
["Licença Maternidade","LM","Férias",null,null,null,null,null,null,"FE",null,"Ponto Facultativo",null,null,null,null,null,null,null,"PF","Manhã *",null,null,null,null,null,null,"M","Diurno (8 hrs) *",null,null,null,null,null,null,"MT"]
["Licença Paternidade","LP","Feriado",null,null,null,null,null,null,"FD",null,"Abono **",null,null,null,null,null,null,null,"AB","Tarde *",null,null,null,null,null,null,"T","Dia/ noite (24 hrs) *",null,null,null,null,null,null,"DN"]
["Licença Médica/Odontológica","L","Descanso Semanal Remunerado",null,null,null,null,null,null,"DSR",null,"Compensação de Horas***",null,null,null,null,null,null,null,"CH","Plantão Dia (12 hrs) *",null,null,null,null,null,null,"D"]
["Licença Capacitação","LC","Recesso",null,null,null,null,null,null,"RC",null,"Afastamento**",null,null,null,null,null,null,null,"AF","Plantão Noite (12 hrs) *",null,null,null,null,null,null,"N"]
[]
["OBSERVAÇÕES:"]
["* Para inserção das legendas referentes às jornadas de trabalho, verificar a Tabela 1 do Anexo do Memorando-Circular - SEI nº   25 /2018/CAP/DGP-EBSERH."]
["** Para inserção das legendas referentes aos Afastamentos previstos em lei e às Compensações de horas, verificar a Tabela 2 do Anexo do Memorando-Circular - SEI nº   25 /2018/CAP/DGP-EBSERH."]

{"sheet":"Setembro","index":8,"n_rows":56,"n_cols":82,"rows_kept":56,"cut":false,"hidden":false,"merged":[[48,20,48,26],[49,2,49,8],[49,9,49,10],[49,11,49,18],[49,20,49,26],[48,2,48,8],[48,9,48,10],[50,20,50,26],[51,2,51,8],[51,9,51,10],[51,11,51,18],[51,20,51,26],[43,0,43,11],[44,0,44,11],[45,0,45,11],[50,2,50,8],[50,9,50,10],[50,11,50,18],[48,11,48,18],[1,0,1,42],[2,0,2,42],[3,0,3,42],[4,1,4,20],[4,23,4,34],[4,37,4,42],[5,6,5,11],[6,76,7,76],[6,77,7,77],[6,78,7,78],[6,79,7,79],[6,6,7,6],[6,7,7,7],[6,8,7,8],[6,11,7,11],[6,9,7,9],[6,10,7,10],[6,80,7,80],[6,81,7,81],[5,12,5,42],[5,43,5,73],[5,75,5,81],[5,74,7,74],[6,75,7,75],[43,79,45,79],[43,80,45,80],[43,81,45,81],[48,28,48,34],[49,28,49,34],[43,74,45,74],[43,75,45,75],[43,76,45,76],[43,77,45,77],[43,78,45,78]]}
[]
[]
["NOME DO HU"]
["ESCALA MENSAL DE TRABALHO"]
["DIVISÃO /SETOR/UNIDADE:",null,null,null,null,null,null,null,null,null,null,null,null,null,null,null,null,null,null,null,null,"MÊS:",null,"Setembro",null,null,null,null,null,null,null,null,null,null,null,"ANO:",null,2020]
["NOME COMPLETO","SIAPE","     Registro Conselho Classe","Cargo","Vínculo","    C.H Sem","INTERVALO",null,null,null,null,null,"DIAS DO MÊS",null,null,null,null,null,null,null,null,null,null,null,null,null,null,null,null,null,null,null,null,null,null,null,null,null,null,null,null,null,null,"CÁLCULO DAS HORAS",null,null,null,null,null,null,null,null,null,null,null,null,null,null,null,null,null,null,null,null,null,null,null,null,null,null,null,null,null,null,"CH Men.","Dias"]
[null,null,null,null,null,null,"15' M","15' T","15' N","1H D","1H N","2H",1,2,3,4,5,6,7,8,9,10,11,12,13,14,15,16,17,18,19,20,21,22,23,24,25,{"$f":"IF(DAY(DATE(AL5,VLOOKUP(X5,Tabelas!M:N,2,0)+1,1)-1)>=26,26,\"\")","v":26},{"$f":"IF(DAY(DATE(AL5,VLOOKUP(X5,Tabelas!M:N,2,0)+1,1)-1)>=27,27,\"\")","v":27},{"$f":"IF(DAY(DATE(AL5,VLOOKUP(X5,Tabelas!M:N,2,0)+1,1)-1)>=28,28,\"\")","v":28},{"$f":"IF(DAY(DATE(AL5,VLOOKUP(X5,Tabelas!M:N,2,0)+1,1)-1)>=29,29,\"\")","v":29},{"$f":"IF(DAY(DATE(AL5,VLOOKUP(X5,Tabelas!M:N,2,0)+1,1)-1)>=30,30,\"\")","v":30},{"$f":"IF(DAY(DATE(AL5,VLOOKUP(X5,Tabelas!M:N,2,0)+1,1)-1)>=31,31,\"\")","v":""},null,null,null,null,null,null,null,null,null,null,null,null,null,null,null,null,null,null,null,null,null,null,null,null,null,null,null,null,null,null,null,null,"LM/LP/L","AB","FE","LC","CH","AF  "," Total Afast."]
[null,null,null,null,null,null,null,null,null,null,null,null,{"$f":"IF(M7<>\"\",IFERROR(VLOOKUP(WEEKDAY(CONCATENATE(M7,$X$5,$AL$5)),Tabelas!$I:$J,2,0),\"\"),\"\")","v":"TER"},{"$f":"IF(N7<>\"\",IFERROR(VLOOKUP(WEEKDAY(CONCATENATE(N7,$X$5,$AL$5)),Tabelas!$I:$J,2,0),\"\"),\"\")","v":"QUA"},{"$f":"IF(O7<>\"\",IFERROR(VLOOKUP(WEEKDAY(CONCATENATE(O7,$X$5,$AL$5)),Tabelas!$I:$J,2,0),\"\"),\"\")","v":"QUI"},{"$f":"IF(P7<>\"\",IFERROR(VLOOKUP(WEEKDAY(CONCATENATE(P7,$X$5,$AL$5)),Tabelas!$I:$J,2,0),\"\"),\"\")","v":"SEX"},{"$f":"IF(Q7<>\"\",IFERROR(VLOOKUP(WEEKDAY(CONCATENATE(Q7,$X$5,$AL$5)),Tabelas!$I:$J,2,0),\"\"),\"\")","v":"SAB"},{"$f":"IF(R7<>\"\",IFERROR(VLOOKUP(WEEKDAY(CONCATENATE(R7,$X$5,$AL$5)),Tabelas!$I:$J,2,0),\"\"),\"\")","v":"DOM"},{"$f":"IF(S7<>\"\",IFERROR(VLOOKUP(WEEKDAY(CONCATENATE(S7,$X$5,$AL$5)),Tabelas!$I:$J,2,0),\"\"),\"\")","v":"SEG"},{"$f":"IF(T7<>\"\",IFERROR(VLOOKUP(WEEKDAY(CONCATENATE(T7,$X$5,$AL$5)),Tabelas!$I:$J,2,0),\"\"),\"\")","v":"TER"},{"$f":"IF(U7<>\"\",IFERROR(VLOOKUP(WEEKDAY(CONCATENATE(U7,$X$5,$AL$5)),Tabelas!$I:$J,2,0),\"\"),\"\")","v":"QUA"},{"$f":"IF(V7<>\"\",IFERROR(VLOOKUP(WEEKDAY(CONCATENATE(V7,$X$5,$AL$5)),Tabelas!$I:$J,2,0),\"\"),\"\")","v":"QUI"},{"$f":"IF(W7<>\"\",IFERROR(VLOOKUP(WEEKDAY(CONCATENATE(W7,$X$5,$AL$5)),Tabelas!$I:$J,2,0),\"\"),\"\")","v":"SEX"},{"$f":"IF(X7<>\"\",IFERROR(VLOOKUP(WEEKDAY(CONCATENATE(X7,$X$5,$AL$5)),Tabelas!$I:$J,2,0),\"\"),\"\")","v":"SAB"},{"$f":"IF(Y7<>\"\",IFERROR(VLOOKUP(WEEKDAY(CONCATENATE(Y7,$X$5,$AL$5)),Tabelas!$I:$J,2,0),\"\"),\"\")","v":"DOM"},{"$f":"IF(Z7<>\"\",IFERROR(VLOOKUP(WEEKDAY(CONCATENATE(Z7,$X$5,$AL$5)),Tabelas!$I:$J,2,0),\"\"),\"\")","v":"SEG"},{"$f":"IF(AA7<>\"\",IFERROR(VLOOKUP(WEEKDAY(CONCATENATE(AA7,$X$5,$AL$5)),Tabelas!$I:$J,2,0),\"\"),\"\")","v":"TER"},{"$f":"IF(AB7<>\"\",IFERROR(VLOOKUP(WEEKDAY(CONCATENATE(AB7,$X$5,$AL$5)),Tabelas!$I:$J,2,0),\"\"),\"\")","v":"QUA"},{"$f":"IF(AC7<>\"\",IFERROR(VLOOKUP(WEEKDAY(CONCATENATE(AC7,$X$5,$AL$5)),Tabelas!$I:$J,2,0),\"\"),\"\")","v":"QUI"},{"$f":"IF(AD7<>\"\",IFERROR(VLOOKUP(WEEKDAY(CONCATENATE(AD7,$X$5,$AL$5)),Tabelas!$I:$J,2,0),\"\"),\"\")","v":"SEX"},{"$f":"IF(AE7<>\"\",IFERROR(VLOOKUP(WEEKDAY(CONCATENATE(AE7,$X$5,$AL$5)),Tabelas!$I:$J,2,0),\"\"),\"\")","v":"SAB"},{"$f":"IF(AF7<>\"\",IFERROR(VLOOKUP(WEEKDAY(CONCATENATE(AF7,$X$5,$AL$5)),Tabelas!$I:$J,2,0),\"\"),\"\")","v":"DOM"},{"$f":"IF(AG7<>\"\",IFERROR(VLOOKUP(WEEKDAY(CONCATENATE(AG7,$X$5,$AL$5)),Tabelas!$I:$J,2,0),\"\"),\"\")","v":"SEG"},{"$f":"IF(AH7<>\"\",IFERROR(VLOOKUP(WEEKDAY(CONCATENATE(AH7,$X$5,$AL$5)),Tabelas!$I:$J,2,0),\"\"),\"\")","v":"TER"},{"$f":"IF(AI7<>\"\",IFERROR(VLOOKUP(WEEKDAY(CONCATENATE(AI7,$X$5,$AL$5)),Tabelas!$I:$J,2,0),\"\"),\"\")","v":"QUA"},{"$f":"IF(AJ7<>\"\",IFERROR(VLOOKUP(WEEKDAY(CONCATENATE(AJ7,$X$5,$AL$5)),Tabelas!$I:$J,2,0),\"\"),\"\")","v":"QUI"},{"$f":"IF(AK7<>\"\",IFERROR(VLOOKUP(WEEKDAY(CONCATENATE(AK7,$X$5,$AL$5)),Tabelas!$I:$J,2,0),\"\"),\"\")","v":"SEX"},{"$f":"IF(AL7<>\"\",IFERROR(VLOOKUP(WEEKDAY(CONCATENATE(AL7,$X$5,$AL$5)),Tabelas!$I:$J,2,0),\"\"),\"\")","v":"SAB"},{"$f":"IF(AM7<>\"\",IFERROR(VLOOKUP(WEEKDAY(CONCATENATE(AM7,$X$5,$AL$5)),Tabelas!$I:$J,2,0),\"\"),\"\")","v":"DOM"},{"$f":"IF(AN7<>\"\",IFERROR(VLOOKUP(WEEKDAY(CONCATENATE(AN7,$X$5,$AL$5)),Tabelas!$I:$J,2,0),\"\"),\"\")","v":"SEG"},{"$f":"IF(AO7<>\"\",IFERROR(VLOOKUP(WEEKDAY(CONCATENATE(AO7,$X$5,$AL$5)),Tabelas!$I:$J,2,0),\"\"),\"\")","v":"TER"},{"$f":"IF(AP7<>\"\",IFERROR(VLOOKUP(WEEKDAY(CONCATENATE(AP7,$X$5,$AL$5)),Tabelas!$I:$J,2,0),\"\"),\"\")","v":"QUA"},{"$f":"IF(AQ7<>\"\",IFERROR(VLOOKUP(WEEKDAY(CONCATENATE(AQ7,$X$5,$AL$5)),Tabelas!$I:$J,2,0),\"\"),\"\")","v":""},1,2,3,4,5,6,7,8,9,10,11,12,13,14,15,16,17,18,19,20,21,22,23,24,25,26,27,28,29,30,31]
["ROTINA",null,null,null,null,null,null,null,null,null,null,null,null,null,null,null,null,null,null,null,null,null,null,null,null,null,null,null,null,null,null,null,null,null,null,null,null,null,null,null,null,null,null,{"$f":"IF(A9<>\"\",IFERROR(VLOOKUP(M9,Tabelas!B:D,3,0),0),\"\")","v":0},{"$f":"IF(A9<>\"\",IFERROR(VLOOKUP(N9,Tabelas!B:D,3,0),0),\"\")","v":0},{"$f":"IF(A9<>\"\",IFERROR(VLOOKUP(O9,Tabelas!B:D,3,0),0),\"\")","v":0},{"$f":"IF(A9<>\"\",IFERROR(VLOOKUP(P9,Tabelas!B:D,3,0),0),\"\")","v":0},{"$f":"IF(A9<>\"\",IFERROR(VLOOKUP(Q9,Tabelas!B:D,3,0),0),\"\")","v":0},{"$f":"IF(A9<>\"\",IFERROR(VLOOKUP(R9,Tabelas!B:D,3,0),0),\"\")","v":0},{"$f":"IF(A9<>\"\",IFERROR(VLOOKUP(S9,Tabelas!B:D,3,0),0),\"\")","v":0},{"$f":"IF(A9<>\"\",IFERROR(VLOOKUP(T9,Tabelas!B:D,3,0),0),\"\")","v":0},{"$f":"IF(A9<>\"\",IFERROR(VLOOKUP(U9,Tabelas!B:D,3,0),0),\"\")","v":0},{"$f":"IF(A9<>\"\",IFERROR(VLOOKUP(V9,Tabelas!B:D,3,0),0),\"\")","v":0},{"$f":"IF(A9<>\"\",IFERROR(VLOOKUP(W9,Tabelas!B:D,3,0),0),\"\")","v":0},{"$f":"IF(A9<>\"\",IFERROR(VLOOKUP(X9,Tabelas!B:D,3,0),0),\"\")","v":0},{"$f":"IF(A9<>\"\",IFERROR(VLOOKUP(Y9,Tabelas!B:D,3,0),0),\"\")","v":0},{"$f":"IF(A9<>\"\",IFERROR(VLOOKUP(Z9,Tabelas!B:D,3,0),0),\"\")","v":0},{"$f":"IF(A9<>\"\",IFERROR(VLOOKUP(AA9,Tabelas!B:D,3,0),0),\"\")","v":0},{"$f":"IF(A9<>\"\",IFERROR(VLOOKUP(AB9,Tabelas!B:D,3,0),0),\"\")","v":0},{"$f":"IF(A9<>\"\",IFERROR(VLOOKUP(AC9,Tabelas!B:D,3,0),0),\"\")","v":0},{"$f":"IF(A9<>\"\",IFERROR(VLOOKUP(AD9,Tabelas!B:D,3,0),0),\"\")","v":0},{"$f":"IF(A9<>\"\",IFERROR(VLOOKUP(AE9,Tabelas!B:D,3,0),0),\"\")","v":0},{"$f":"IF(A9<>\"\",IFERROR(VLOOKUP(AF9,Tabelas!B:D,3,0),0),\"\")","v":0},{"$f":"IF(A9<>\"\",IFERROR(VLOOKUP(AG9,Tabelas!B:D,3,0),0),\"\")","v":0},{"$f":"IF(A9<>\"\",IFERROR(VLOOKUP(AH9,Tabelas!B:D,3,0),0),\"\")","v":0},{"$f":"IF(A9<>\"\",IFERROR(VLOOKUP(AI9,Tabelas!B:D,3,0),0),\"\")","v":0},{"$f":"IF(A9<>\"\",IFERROR(VLOOKUP(AJ9,Tabelas!B:D,3,0),0),\"\")","v":0},{"$f":"IF(A9<>\"\",IFERROR(VLOOKUP(AK9,Tabelas!B:D,3,0),0),\"\")","v":0},{"$f":"IF(A9<>\"\",IFERROR(VLOOKUP(AL9,Tabelas!B:D,3,0),0),\"\")","v":0},{"$f":"IF(A9<>\"\",IFERROR(VLOOKUP(AM9,Tabelas!B:D,3,0),0),\"\")","v":0},{"$f":"IF(A9<>\"\",IFERROR(VLOOKUP(AN9,Tabelas!B:D,3,0),0),\"\")","v":0},{"$f":"IF(A9<>\"\",IFERROR(VLOOKUP(AO9,Tabelas!B:D,3,0),0),\"\")","v":0},{"$f":"IF(A9<>\"\",IFERROR(VLOOKUP(AP9,Tabelas!B:D,3,0),0),\"\")","v":0},{"$f":"IF(A9<>\"\",IFERROR(VLOOKUP(AQ9,Tabelas!B:D,3,0),0),\"\")","v":0},{"$f":"IF(AND(A9<>\"\",E9=\"Ebserh\"),SUM(AR9:BV9)+COUNTIF(M9:AQ9,\"N*\")+COUNTIF(M9:AQ9,\"DN*\"),IF(AND(A9<>\"\",E9<>\"Ebserh\"),SUM(AR9:BV9),\"\"))","v":0},{"$f":"IF(A9<>\"\",COUNTIF(M9:AQ9,\"LM\")+COUNTIF(M9:AQ9,\"L\")+COUNTIF(M9:AQ9,\"LP\"),\"\")","v":0},{"$f":"IF(A9<>\"\",COUNTIF(M9:AQ9,\"AB*\"),\"\")","v":0},{"$f":"IF(A9<>\"\",COUNTIF(M9:AQ9,\"FE\"),\"\")","v":0},{"$f":"IF(A9<>\"\",COUNTIF(M9:AQ9,\"LC\"),\"\")","v":0},{"$f":"IF(A9<>\"\",COUNTIF(M9:AQ9,\"CH*\"),\"\")","v":0},{"$f":"IF(A9<>\"\",COUNTIF(M9:AQ9,\"AF1\")+COUNTIF(M9:AQ9,\"AF2\")+COUNTIF(M9:AQ9,\"AF3\")+COUNTIF(M9:AQ9,\"AF4\")+COUNTIF(M9:AQ9,\"AF5\")+COUNTIF(M9:AQ9,\"AF6\")+COUNTIF(M9:AQ9,\"AF7\")+COUNTIF(M9:AQ9,\"AF8\")+COUNTIF(M9:AQ9,\"AF9\")+COUNTIF(M9:AQ9,\"AF10\")+COUNTIF(M9:AQ9,\"AF11\")+COUNTIF(M9:AQ9,\"AF12\")+COUNTIF(M9:AQ9,\"AF13\")+COUNTIF(M9:AQ9,\"AF14\"),\"\")","v":0},{"$f":"IF(A9<>\"\",COUNTIF(M9:AQ9,\"CH*\")+COUNTIF(M9:AQ9,\"L\")+COUNTIF(M9:AQ9,\"LM\")+COUNTIF(M9:AQ9,\"LP\")+COUNTIF(M9:AQ9,\"LC\")+COUNTIF(M9:AQ9,\"AB*\")+COUNTIF(M9:AQ9,\"AF1\")+COUNTIF(M9:AQ9,\"AF2\")+COUNTIF(M9:AQ9,\"AF3\")+COUNTIF(M9:AQ9,\"AF4\")+COUNTIF(M9:AQ9,\"AF5\")+COUNTIF(M9:AQ9,\"AF6\")+COUNTIF(M9:AQ9,\"AF7\")+COUNTIF(M9:AQ9,\"AF8\")+COUNTIF(M9:AQ9,\"AF9\")+COUNTIF(M9:AQ9,\"AF10\")+COUNTIF(M9:AQ9,\"AF11\")+COUNTIF(M9:AQ9,\"AF12\")+COUNTIF(M9:AQ9,\"AF13\")+COUNTIF(M9:AQ9,\"AF14\")+COUNTIF(M9:AQ9,\"RC\")+COUNTIF(M9:AQ9,\"FO\")+COUNTIF(M9:AQ9,\"FE\"),\"\")","v":0}]
["Alexandre Luciano Klein",2312539,null,"ME","RJU",30,null,null,null,null,null,null,"M17","M17","M17","M17",null,null,null,"FE","FE","FE","FE","FE","FE","FE","FE","FE","FE","M17",null,null,"M17","M17","M17","M17","M17",null,null,"M17","M17","M17",null,{"$f":"IF(A10<>\"\",IFERROR(VLOOKUP(M10,Tabelas!B:D,3,0),0),\"\")","v":6},{"$f":"IF(A10<>\"\",IFERROR(VLOOKUP(N10,Tabelas!B:D,3,0),0),\"\")","v":6},{"$f":"IF(A10<>\"\",IFERROR(VLOOKUP(O10,Tabelas!B:D,3,0),0),\"\")","v":6},{"$f":"IF(A10<>\"\",IFERROR(VLOOKUP(P10,Tabelas!B:D,3,0),0),\"\")","v":6},{"$f":"IF(A10<>\"\",IFERROR(VLOOKUP(Q10,Tabelas!B:D,3,0),0),\"\")","v":0},{"$f":"IF(A10<>\"\",IFERROR(VLOOKUP(R10,Tabelas!B:D,3,0),0),\"\")","v":0},{"$f":"IF(A10<>\"\",IFERROR(VLOOKUP(S10,Tabelas!B:D,3,0),0),\"\")","v":0},{"$f":"IF(A10<>\"\",IFERROR(VLOOKUP(T10,Tabelas!B:D,3,0),0),\"\")","v":0},{"$f":"IF(A10<>\"\",IFERROR(VLOOKUP(U10,Tabelas!B:D,3,0),0),\"\")","v":0},{"$f":"IF(A10<>\"\",IFERROR(VLOOKUP(V10,Tabelas!B:D,3,0),0),\"\")","v":0},{"$f":"IF(A10<>\"\",IFERROR(VLOOKUP(W10,Tabelas!B:D,3,0),0),\"\")","v":0},{"$f":"IF(A10<>\"\",IFERROR(VLOOKUP(X10,Tabelas!B:D,3,0),0),\"\")","v":0},{"$f":"IF(A10<>\"\",IFERROR(VLOOKUP(Y10,Tabelas!B:D,3,0),0),\"\")","v":0},{"$f":"IF(A10<>\"\",IFERROR(VLOOKUP(Z10,Tabelas!B:D,3,0),0),\"\")","v":0},{"$f":"IF(A10<>\"\",IFERROR(VLOOKUP(AA10,Tabelas!B:D,3,0),0),\"\")","v":0},{"$f":"IF(A10<>\"\",IFERROR(VLOOKUP(AB10,Tabelas!B:D,3,0),0),\"\")","v":0},{"$f":"IF(A10<>\"\",IFERROR(VLOOKUP(AC10,Tabelas!B:D,3,0),0),\"\")","v":0},{"$f":"IF(A10<>\"\",IFERROR(VLOOKUP(AD10,Tabelas!B:D,3,0),0),\"\")","v":6},{"$f":"IF(A10<>\"\",IFERROR(VLOOKUP(AE10,Tabelas!B:D,3,0),0),\"\")","v":0},{"$f":"IF(A10<>\"\",IFERROR(VLOOKUP(AF10,Tabelas!B:D,3,0),0),\"\")","v":0},{"$f":"IF(A10<>\"\",IFERROR(VLOOKUP(AG10,Tabelas!B:D,3,0),0),\"\")","v":6},{"$f":"IF(A10<>\"\",IFERROR(VLOOKUP(AH10,Tabelas!B:D,3,0),0),\"\")","v":6},{"$f":"IF(A10<>\"\",IFERROR(VLOOKUP(AI10,Tabelas!B:D,3,0),0),\"\")","v":6},{"$f":"IF(A10<>\"\",IFERROR(VLOOKUP(AJ10,Tabelas!B:D,3,0),0),\"\")","v":6},{"$f":"IF(A10<>\"\",IFERROR(VLOOKUP(AK10,Tabelas!B:D,3,0),0),\"\")","v":6},{"$f":"IF(A10<>\"\",IFERROR(VLOOKUP(AL10,Tabelas!B:D,3,0),0),\"\")","v":0},{"$f":"IF(A10<>\"\",IFERROR(VLOOKUP(AM10,Tabelas!B:D,3,0),0),\"\")","v":0},{"$f":"IF(A10<>\"\",IFERROR(VLOOKUP(AN10,Tabelas!B:D,3,0),0),\"\")","v":6},{"$f":"IF(A10<>\"\",IFERROR(VLOOKUP(AO10,Tabelas!B:D,3,0),0),\"\")","v":6},{"$f":"IF(A10<>\"\",IFERROR(VLOOKUP(AP10,Tabelas!B:D,3,0),0),\"\")","v":6},{"$f":"IF(A10<>\"\",IFERROR(VLOOKUP(AQ10,Tabelas!B:D,3,0),0),\"\")","v":0},78,0,0,10,0,0,0,10]
["Alexandre Luciano Klein",3312539,null,"ME","RJU",20,null,null,null,null,null,null,null,"T17","T17",null,null,null,null,null,null,null,null,null,null,null,null,null,null,null,null,null,"T17",null,"T17","T17",null,null,null,"T17",null,"T17",null,{"$f":"IF(A11<>\"\",IFERROR(VLOOKUP(M11,Tabelas!B:D,3,0),0),\"\")","v":0},{"$f":"IF(A11<>\"\",IFERROR(VLOOKUP(N11,Tabelas!B:D,3,0),0),\"\")","v":6},{"$f":"IF(A11<>\"\",IFERROR(VLOOKUP(O11,Tabelas!B:D,3,0),0),\"\")","v":6},{"$f":"IF(A11<>\"\",IFERROR(VLOOKUP(P11,Tabelas!B:D,3,0),0),\"\")","v":0},{"$f":"IF(A11<>\"\",IFERROR(VLOOKUP(Q11,Tabelas!B:D,3,0),0),\"\")","v":0},{"$f":"IF(A11<>\"\",IFERROR(VLOOKUP(R11,Tabelas!B:D,3,0),0),\"\")","v":0},{"$f":"IF(A11<>\"\",IFERROR(VLOOKUP(S11,Tabelas!B:D,3,0),0),\"\")","v":0},{"$f":"IF(A11<>\"\",IFERROR(VLOOKUP(T11,Tabelas!B:D,3,0),0),\"\")","v":0},{"$f":"IF(A11<>\"\",IFERROR(VLOOKUP(U11,Tabelas!B:D,3,0),0),\"\")","v":0},{"$f":"IF(A11<>\"\",IFERROR(VLOOKUP(V11,Tabelas!B:D,3,0),0),\"\")","v":0},{"$f":"IF(A11<>\"\",IFERROR(VLOOKUP(W11,Tabelas!B:D,3,0),0),\"\")","v":0},{"$f":"IF(A11<>\"\",IFERROR(VLOOKUP(X11,Tabelas!B:D,3,0),0),\"\")","v":0},{"$f":"IF(A11<>\"\",IFERROR(VLOOKUP(Y11,Tabelas!B:D,3,0),0),\"\")","v":0},{"$f":"IF(A11<>\"\",IFERROR(VLOOKUP(Z11,Tabelas!B:D,3,0),0),\"\")","v":0},{"$f":"IF(A11<>\"\",IFERROR(VLOOKUP(AA11,Tabelas!B:D,3,0),0),\"\")","v":0},{"$f":"IF(A11<>\"\",IFERROR(VLOOKUP(AB11,Tabelas!B:D,3,0),0),\"\")","v":0},{"$f":"IF(A11<>\"\",IFERROR(VLOOKUP(AC11,Tabelas!B:D,3,0),0),\"\")","v":0},{"$f":"IF(A11<>\"\",IFERROR(VLOOKUP(AD11,Tabelas!B:D,3,0),0),\"\")","v":0},{"$f":"IF(A11<>\"\",IFERROR(VLOOKUP(AE11,Tabelas!B:D,3,0),0),\"\")","v":0},{"$f":"IF(A11<>\"\",IFERROR(VLOOKUP(AF11,Tabelas!B:D,3,0),0),\"\")","v":0},{"$f":"IF(A11<>\"\",IFERROR(VLOOKUP(AG11,Tabelas!B:D,3,0),0),\"\")","v":6},{"$f":"IF(A11<>\"\",IFERROR(VLOOKUP(AH11,Tabelas!B:D,3,0),0),\"\")","v":0},{"$f":"IF(A11<>\"\",IFERROR(VLOOKUP(AI11,Tabelas!B:D,3,0),0),\"\")","v":6},{"$f":"IF(A11<>\"\",IFERROR(VLOOKUP(AJ11,Tabelas!B:D,3,0),0),\"\")","v":6},{"$f":"IF(A11<>\"\",IFERROR(VLOOKUP(AK11,Tabelas!B:D,3,0),0),\"\")","v":0},{"$f":"IF(A11<>\"\",IFERROR(VLOOKUP(AL11,Tabelas!B:D,3,0),0),\"\")","v":0},{"$f":"IF(A11<>\"\",IFERROR(VLOOKUP(AM11,Tabelas!B:D,3,0),0),\"\")","v":0},{"$f":"IF(A11<>\"\",IFERROR(VLOOKUP(AN11,Tabelas!B:D,3,0),0),\"\")","v":6},{"$f":"IF(A11<>\"\",IFERROR(VLOOKUP(AO11,Tabelas!B:D,3,0),0),\"\")","v":0},{"$f":"IF(A11<>\"\",IFERROR(VLOOKUP(AP11,Tabelas!B:D,3,0),0),\"\")","v":6},{"$f":"IF(A11<>\"\",IFERROR(VLOOKUP(AQ11,Tabelas!B:D,3,0),0),\"\")","v":0},42,0,0,0,0,0,0,0]
["Alice Danielle Correa Mendes Pinto",1357071,null,"ME","RJU",30,null,null,null,null,null,null,"M17","M17","M17","M17",null,null,null,"M17","M17","M17","M17",null,null,"FE","FE","FE","FE","FE","FE","FE","FE","FE","FE","FE","FE","FE","FE","FE","FE","FE",null,{"$f":"IF(A12<>\"\",IFERROR(VLOOKUP(M12,Tabelas!B:D,3,0),0),\"\")","v":6},{"$f":"IF(A12<>\"\",IFERROR(VLOOKUP(N12,Tabelas!B:D,3,0),0),\"\")","v":6},{"$f":"IF(A12<>\"\",IFERROR(VLOOKUP(O12,Tabelas!B:D,3,0),0),\"\")","v":6},{"$f":"IF(A12<>\"\",IFERROR(VLOOKUP(P12,Tabelas!B:D,3,0),0),\"\")","v":6},{"$f":"IF(A12<>\"\",IFERROR(VLOOKUP(Q12,Tabelas!B:D,3,0),0),\"\")","v":0},{"$f":"IF(A12<>\"\",IFERROR(VLOOKUP(R12,Tabelas!B:D,3,0),0),\"\")","v":0},{"$f":"IF(A12<>\"\",IFERROR(VLOOKUP(S12,Tabelas!B:D,3,0),0),\"\")","v":0},{"$f":"IF(A12<>\"\",IFERROR(VLOOKUP(T12,Tabelas!B:D,3,0),0),\"\")","v":6},{"$f":"IF(A12<>\"\",IFERROR(VLOOKUP(U12,Tabelas!B:D,3,0),0),\"\")","v":6},{"$f":"IF(A12<>\"\",IFERROR(VLOOKUP(V12,Tabelas!B:D,3,0),0),\"\")","v":6},{"$f":"IF(A12<>\"\",IFERROR(VLOOKUP(W12,Tabelas!B:D,3,0),0),\"\")","v":6},{"$f":"IF(A12<>\"\",IFERROR(VLOOKUP(X12,Tabelas!B:D,3,0),0),\"\")","v":0},{"$f":"IF(A12<>\"\",IFERROR(VLOOKUP(Y12,Tabelas!B:D,3,0),0),\"\")","v":0},{"$f":"IF(A12<>\"\",IFERROR(VLOOKUP(Z12,Tabelas!B:D,3,0),0),\"\")","v":0},{"$f":"IF(A12<>\"\",IFERROR(VLOOKUP(AA12,Tabelas!B:D,3,0),0),\"\")","v":0},{"$f":"IF(A12<>\"\",IFERROR(VLOOKUP(AB12,Tabelas!B:D,3,0),0),\"\")","v":0},{"$f":"IF(A12<>\"\",IFERROR(VLOOKUP(AC12,Tabelas!B:D,3,0),0),\"\")","v":0},{"$f":"IF(A12<>\"\",IFERROR(VLOOKUP(AD12,Tabelas!B:D,3,0),0),\"\")","v":0},{"$f":"IF(A12<>\"\",IFERROR(VLOOKUP(AE12,Tabelas!B:D,3,0),0),\"\")","v":0},{"$f":"IF(A12<>\"\",IFERROR(VLOOKUP(AF12,Tabelas!B:D,3,0),0),\"\")","v":0},{"$f":"IF(A12<>\"\",IFERROR(VLOOKUP(AG12,Tabelas!B:D,3,0),0),\"\")","v":0},{"$f":"IF(A12<>\"\",IFERROR(VLOOKUP(AH12,Tabelas!B:D,3,0),0),\"\")","v":0},{"$f":"IF(A12<>\"\",IFERROR(VLOOKUP(AI12,Tabelas!B:D,3,0),0),\"\")","v":0},{"$f":"IF(A12<>\"\",IFERROR(VLOOKUP(AJ12,Tabelas!B:D,3,0),0),\"\")","v":0},{"$f":"IF(A12<>\"\",IFERROR(VLOOKUP(AK12,Tabelas!B:D,3,0),0),\"\")","v":0},{"$f":"IF(A12<>\"\",IFERROR(VLOOKUP(AL12,Tabelas!B:D,3,0),0),\"\")","v":0},{"$f":"IF(A12<>\"\",IFERROR(VLOOKUP(AM12,Tabelas!B:D,3,0),0),\"\")","v":0},{"$f":"IF(A12<>\"\",IFERROR(VLOOKUP(AN12,Tabelas!B:D,3,0),0),\"\")","v":0},{"$f":"IF(A12<>\"\",IFERROR(VLOOKUP(AO12,Tabelas!B:D,3,0),0),\"\")","v":0},{"$f":"IF(A12<>\"\",IFERROR(VLOOKUP(AP12,Tabelas!B:D,3,0),0),\"\")","v":0},{"$f":"IF(A12<>\"\",IFERROR(VLOOKUP(AQ12,Tabelas!B:D,3,0),0),\"\")","v":0},48,0,0,17,0,0,0,17]
["Christie Marie Schweitzer",2081333,null,"ME","RJU",20,null,null,null,null,null,null,"T17",null,"T17",null,null,null,null,"T17",null,"T17",null,null,null,"T17","T17",null,"T17","T17",null,null,"T17","T17",null,"T17","T17",null,null,"T17","T17",null,null,{"$f":"IF(A13<>\"\",IFERROR(VLOOKUP(M13,Tabelas!B:D,3,0),0),\"\")","v":6},{"$f":"IF(A13<>\"\",IFERROR(VLOOKUP(N13,Tabelas!B:D,3,0),0),\"\")","v":0},{"$f":"IF(A13<>\"\",IFERROR(VLOOKUP(O13,Tabelas!B:D,3,0),0),\"\")","v":6},{"$f":"IF(A13<>\"\",IFERROR(VLOOKUP(P13,Tabelas!B:D,3,0),0),\"\")","v":0},{"$f":"IF(A13<>\"\",IFERROR(VLOOKUP(Q13,Tabelas!B:D,3,0),0),\"\")","v":0},{"$f":"IF(A13<>\"\",IFERROR(VLOOKUP(R13,Tabelas!B:D,3,0),0),\"\")","v":0},{"$f":"IF(A13<>\"\",IFERROR(VLOOKUP(S13,Tabelas!B:D,3,0),0),\"\")","v":0},{"$f":"IF(A13<>\"\",IFERROR(VLOOKUP(T13,Tabelas!B:D,3,0),0),\"\")","v":6},{"$f":"IF(A13<>\"\",IFERROR(VLOOKUP(U13,Tabelas!B:D,3,0),0),\"\")","v":0},{"$f":"IF(A13<>\"\",IFERROR(VLOOKUP(V13,Tabelas!B:D,3,0),0),\"\")","v":6},{"$f":"IF(A13<>\"\",IFERROR(VLOOKUP(W13,Tabelas!B:D,3,0),0),\"\")","v":0},{"$f":"IF(A13<>\"\",IFERROR(VLOOKUP(X13,Tabelas!B:D,3,0),0),\"\")","v":0},{"$f":"IF(A13<>\"\",IFERROR(VLOOKUP(Y13,Tabelas!B:D,3,0),0),\"\")","v":0},{"$f":"IF(A13<>\"\",IFERROR(VLOOKUP(Z13,Tabelas!B:D,3,0),0),\"\")","v":6},{"$f":"IF(A13<>\"\",IFERROR(VLOOKUP(AA13,Tabelas!B:D,3,0),0),\"\")","v":6},{"$f":"IF(A13<>\"\",IFERROR(VLOOKUP(AB13,Tabelas!B:D,3,0),0),\"\")","v":0},{"$f":"IF(A13<>\"\",IFERROR(VLOOKUP(AC13,Tabelas!B:D,3,0),0),\"\")","v":6},{"$f":"IF(A13<>\"\",IFERROR(VLOOKUP(AD13,Tabelas!B:D,3,0),0),\"\")","v":6},{"$f":"IF(A13<>\"\",IFERROR(VLOOKUP(AE13,Tabelas!B:D,3,0),0),\"\")","v":0},{"$f":"IF(A13<>\"\",IFERROR(VLOOKUP(AF13,Tabelas!B:D,3,0),0),\"\")","v":0},{"$f":"IF(A13<>\"\",IFERROR(VLOOKUP(AG13,Tabelas!B:D,3,0),0),\"\")","v":6},{"$f":"IF(A13<>\"\",IFERROR(VLOOKUP(AH13,Tabelas!B:D,3,0),0),\"\")","v":6},{"$f":"IF(A13<>\"\",IFERROR(VLOOKUP(AI13,Tabelas!B:D,3,0),0),\"\")","v":0},{"$f":"IF(A13<>\"\",IFERROR(VLOOKUP(AJ13,Tabelas!B:D,3,0),0),\"\")","v":6},{"$f":"IF(A13<>\"\",IFERROR(VLOOKUP(AK13,Tabelas!B:D,3,0),0),\"\")","v":6},{"$f":"IF(A13<>\"\",IFERROR(VLOOKUP(AL13,Tabelas!B:D,3,0),0),\"\")","v":0},{"$f":"IF(A13<>\"\",IFERROR(VLOOKUP(AM13,Tabelas!B:D,3,0),0),\"\")","v":0},{"$f":"IF(A13<>\"\",IFERROR(VLOOKUP(AN13,Tabelas!B:D,3,0),0),\"\")","v":6},{"$f":"IF(A13<>\"\",IFERROR(VLOOKUP(AO13,Tabelas!B:D,3,0),0),\"\")","v":6},{"$f":"IF(A13<>\"\",IFERROR(VLOOKUP(AP13,Tabelas!B:D,3,0),0),\"\")","v":0},{"$f":"IF(A13<>\"\",IFERROR(VLOOKUP(AQ13,Tabelas!B:D,3,0),0),\"\")","v":0},84,0,0,0,0,0,0,0]
["Elizabeth Kristiane Buss Lunardelli",3760219,null,"ME","RJU",20,null,null,null,null,null,null,"T17",null,null,"T17",null,null,null,"T17",null,null,"T17",null,null,null,null,null,null,null,null,null,null,null,null,null,null,null,null,null,null,null,null,{"$f":"IF(A14<>\"\",IFERROR(VLOOKUP(M14,Tabelas!B:D,3,0),0),\"\")","v":6},{"$f":"IF(A14<>\"\",IFERROR(VLOOKUP(N14,Tabelas!B:D,3,0),0),\"\")","v":0},{"$f":"IF(A14<>\"\",IFERROR(VLOOKUP(O14,Tabelas!B:D,3,0),0),\"\")","v":0},{"$f":"IF(A14<>\"\",IFERROR(VLOOKUP(P14,Tabelas!B:D,3,0),0),\"\")","v":6},{"$f":"IF(A14<>\"\",IFERROR(VLOOKUP(Q14,Tabelas!B:D,3,0),0),\"\")","v":0},{"$f":"IF(A14<>\"\",IFERROR(VLOOKUP(R14,Tabelas!B:D,3,0),0),\"\")","v":0},{"$f":"IF(A14<>\"\",IFERROR(VLOOKUP(S14,Tabelas!B:D,3,0),0),\"\")","v":0},{"$f":"IF(A14<>\"\",IFERROR(VLOOKUP(T14,Tabelas!B:D,3,0),0),\"\")","v":6},{"$f":"IF(A14<>\"\",IFERROR(VLOOKUP(U14,Tabelas!B:D,3,0),0),\"\")","v":0},{"$f":"IF(A14<>\"\",IFERROR(VLOOKUP(V14,Tabelas!B:D,3,0),0),\"\")","v":0},{"$f":"IF(A14<>\"\",IFERROR(VLOOKUP(W14,Tabelas!B:D,3,0),0),\"\")","v":6},{"$f":"IF(A14<>\"\",IFERROR(VLOOKUP(X14,Tabelas!B:D,3,0),0),\"\")","v":0},{"$f":"IF(A14<>\"\",IFERROR(VLOOKUP(Y14,Tabelas!B:D,3,0),0),\"\")","v":0},{"$f":"IF(A14<>\"\",IFERROR(VLOOKUP(Z14,Tabelas!B:D,3,0),0),\"\")","v":0},{"$f":"IF(A14<>\"\",IFERROR(VLOOKUP(AA14,Tabelas!B:D,3,0),0),\"\")","v":0},{"$f":"IF(A14<>\"\",IFERROR(VLOOKUP(AB14,Tabelas!B:D,3,0),0),\"\")","v":0},{"$f":"IF(A14<>\"\",IFERROR(VLOOKUP(AC14,Tabelas!B:D,3,0),0),\"\")","v":0},{"$f":"IF(A14<>\"\",IFERROR(VLOOKUP(AD14,Tabelas!B:D,3,0),0),\"\")","v":0},{"$f":"IF(A14<>\"\",IFERROR(VLOOKUP(AE14,Tabelas!B:D,3,0),0),\"\")","v":0},{"$f":"IF(A14<>\"\",IFERROR(VLOOKUP(AF14,Tabelas!B:D,3,0),0),\"\")","v":0},{"$f":"IF(A14<>\"\",IFERROR(VLOOKUP(AG14,Tabelas!B:D,3,0),0),\"\")","v":0},{"$f":"IF(A14<>\"\",IFERROR(VLOOKUP(AH14,Tabelas!B:D,3,0),0),\"\")","v":0},{"$f":"IF(A14<>\"\",IFERROR(VLOOKUP(AI14,Tabelas!B:D,3,0),0),\"\")","v":0},{"$f":"IF(A14<>\"\",IFERROR(VLOOKUP(AJ14,Tabelas!B:D,3,0),0),\"\")","v":0},{"$f":"IF(A14<>\"\",IFERROR(VLOOKUP(AK14,Tabelas!B:D,3,0),0),\"\")","v":0},{"$f":"IF(A14<>\"\",IFERROR(VLOOKUP(AL14,Tabelas!B:D,3,0),0),\"\")","v":0},{"$f":"IF(A14<>\"\",IFERROR(VLOOKUP(AM14,Tabelas!B:D,3,0),0),\"\")","v":0},{"$f":"IF(A14<>\"\",IFERROR(VLOOKUP(AN14,Tabelas!B:D,3,0),0),\"\")","v":0},{"$f":"IF(A14<>\"\",IFERROR(VLOOKUP(AO14,Tabelas!B:D,3,0),0),\"\")","v":0},{"$f":"IF(A14<>\"\",IFERROR(VLOOKUP(AP14,Tabelas!B:D,3,0),0),\"\")","v":0},{"$f":"IF(A14<>\"\",IFERROR(VLOOKUP(AQ14,Tabelas!B:D,3,0),0),\"\")","v":0},24,0,0,0,0,0,0,0]
["Gina Vieira Velho",1185798,null,"ME","RJU",20,null,null,null,null,null,null,"M8","M8","M8","M8",null,null,null,"M8","M8","M8","M8",null,null,"M8","M8","M8","M8","M8",null,null,"M8","M8","M8","M8","M8",null,null,"M8","M8","M8",null,{"$f":"IF(A15<>\"\",IFERROR(VLOOKUP(M15,Tabelas!B:D,3,0),0),\"\")","v":4},{"$f":"IF(A15<>\"\",IFERROR(VLOOKUP(N15,Tabelas!B:D,3,0),0),\"\")","v":4},{"$f":"IF(A15<>\"\",IFERROR(VLOOKUP(O15,Tabelas!B:D,3,0),0),\"\")","v":4},{"$f":"IF(A15<>\"\",IFERROR(VLOOKUP(P15,Tabelas!B:D,3,0),0),\"\")","v":4},{"$f":"IF(A15<>\"\",IFERROR(VLOOKUP(Q15,Tabelas!B:D,3,0),0),\"\")","v":0},{"$f":"IF(A15<>\"\",IFERROR(VLOOKUP(R15,Tabelas!B:D,3,0),0),\"\")","v":0},{"$f":"IF(A15<>\"\",IFERROR(VLOOKUP(S15,Tabelas!B:D,3,0),0),\"\")","v":0},{"$f":"IF(A15<>\"\",IFERROR(VLOOKUP(T15,Tabelas!B:D,3,0),0),\"\")","v":4},{"$f":"IF(A15<>\"\",IFERROR(VLOOKUP(U15,Tabelas!B:D,3,0),0),\"\")","v":4},{"$f":"IF(A15<>\"\",IFERROR(VLOOKUP(V15,Tabelas!B:D,3,0),0),\"\")","v":4},{"$f":"IF(A15<>\"\",IFERROR(VLOOKUP(W15,Tabelas!B:D,3,0),0),\"\")","v":4},{"$f":"IF(A15<>\"\",IFERROR(VLOOKUP(X15,Tabelas!B:D,3,0),0),\"\")","v":0},{"$f":"IF(A15<>\"\",IFERROR(VLOOKUP(Y15,Tabelas!B:D,3,0),0),\"\")","v":0},{"$f":"IF(A15<>\"\",IFERROR(VLOOKUP(Z15,Tabelas!B:D,3,0),0),\"\")","v":4},{"$f":"IF(A15<>\"\",IFERROR(VLOOKUP(AA15,Tabelas!B:D,3,0),0),\"\")","v":4},{"$f":"IF(A15<>\"\",IFERROR(VLOOKUP(AB15,Tabelas!B:D,3,0),0),\"\")","v":4},{"$f":"IF(A15<>\"\",IFERROR(VLOOKUP(AC15,Tabelas!B:D,3,0),0),\"\")","v":4},{"$f":"IF(A15<>\"\",IFERROR(VLOOKUP(AD15,Tabelas!B:D,3,0),0),\"\")","v":4},{"$f":"IF(A15<>\"\",IFERROR(VLOOKUP(AE15,Tabelas!B:D,3,0),0),\"\")","v":0},{"$f":"IF(A15<>\"\",IFERROR(VLOOKUP(AF15,Tabelas!B:D,3,0),0),\"\")","v":0},{"$f":"IF(A15<>\"\",IFERROR(VLOOKUP(AG15,Tabelas!B:D,3,0),0),\"\")","v":4},{"$f":"IF(A15<>\"\",IFERROR(VLOOKUP(AH15,Tabelas!B:D,3,0),0),\"\")","v":4},{"$f":"IF(A15<>\"\",IFERROR(VLOOKUP(AI15,Tabelas!B:D,3,0),0),\"\")","v":4},{"$f":"IF(A15<>\"\",IFERROR(VLOOKUP(AJ15,Tabelas!B:D,3,0),0),\"\")","v":4},{"$f":"IF(A15<>\"\",IFERROR(VLOOKUP(AK15,Tabelas!B:D,3,0),0),\"\")","v":4},{"$f":"IF(A15<>\"\",IFERROR(VLOOKUP(AL15,Tabelas!B:D,3,0),0),\"\")","v":0},{"$f":"IF(A15<>\"\",IFERROR(VLOOKUP(AM15,Tabelas!B:D,3,0),0),\"\")","v":0},{"$f":"IF(A15<>\"\",IFERROR(VLOOKUP(AN15,Tabelas!B:D,3,0),0),\"\")","v":4},{"$f":"IF(A15<>\"\",IFERROR(VLOOKUP(AO15,Tabelas!B:D,3,0),0),\"\")","v":4},{"$f":"IF(A15<>\"\",IFERROR(VLOOKUP(AP15,Tabelas!B:D,3,0),0),\"\")","v":4},{"$f":"IF(A15<>\"\",IFERROR(VLOOKUP(AQ15,Tabelas!B:D,3,0),0),\"\")","v":0},84,0,0,0,0,0,0,0]
["Rafael Lisboa de Souza",2344070,null,"ME","RJU",30,null,null,null,null,null,null,"M17","M17","M17","M17",null,null,null,"M17","M17","M17","M17",null,null,"M17","M17","M17","M17","FE","FE","FE","FE","FE","FE","FE","FE","FE","FE","FE","FE","FE",null,{"$f":"IF(A16<>\"\",IFERROR(VLOOKUP(M16,Tabelas!B:D,3,0),0),\"\")","v":6},{"$f":"IF(A16<>\"\",IFERROR(VLOOKUP(N16,Tabelas!B:D,3,0),0),\"\")","v":6},{"$f":"IF(A16<>\"\",IFERROR(VLOOKUP(O16,Tabelas!B:D,3,0),0),\"\")","v":6},{"$f":"IF(A16<>\"\",IFERROR(VLOOKUP(P16,Tabelas!B:D,3,0),0),\"\")","v":6},{"$f":"IF(A16<>\"\",IFERROR(VLOOKUP(Q16,Tabelas!B:D,3,0),0),\"\")","v":0},{"$f":"IF(A16<>\"\",IFERROR(VLOOKUP(R16,Tabelas!B:D,3,0),0),\"\")","v":0},{"$f":"IF(A16<>\"\",IFERROR(VLOOKUP(S16,Tabelas!B:D,3,0),0),\"\")","v":0},{"$f":"IF(A16<>\"\",IFERROR(VLOOKUP(T16,Tabelas!B:D,3,0),0),\"\")","v":6},{"$f":"IF(A16<>\"\",IFERROR(VLOOKUP(U16,Tabelas!B:D,3,0),0),\"\")","v":6},{"$f":"IF(A16<>\"\",IFERROR(VLOOKUP(V16,Tabelas!B:D,3,0),0),\"\")","v":6},{"$f":"IF(A16<>\"\",IFERROR(VLOOKUP(W16,Tabelas!B:D,3,0),0),\"\")","v":6},{"$f":"IF(A16<>\"\",IFERROR(VLOOKUP(X16,Tabelas!B:D,3,0),0),\"\")","v":0},{"$f":"IF(A16<>\"\",IFERROR(VLOOKUP(Y16,Tabelas!B:D,3,0),0),\"\")","v":0},{"$f":"IF(A16<>\"\",IFERROR(VLOOKUP(Z16,Tabelas!B:D,3,0),0),\"\")","v":6},{"$f":"IF(A16<>\"\",IFERROR(VLOOKUP(AA16,Tabelas!B:D,3,0),0),\"\")","v":6},{"$f":"IF(A16<>\"\",IFERROR(VLOOKUP(AB16,Tabelas!B:D,3,0),0),\"\")","v":6},{"$f":"IF(A16<>\"\",IFERROR(VLOOKUP(AC16,Tabelas!B:D,3,0),0),\"\")","v":6},{"$f":"IF(A16<>\"\",IFERROR(VLOOKUP(AD16,Tabelas!B:D,3,0),0),\"\")","v":0},{"$f":"IF(A16<>\"\",IFERROR(VLOOKUP(AE16,Tabelas!B:D,3,0),0),\"\")","v":0},{"$f":"IF(A16<>\"\",IFERROR(VLOOKUP(AF16,Tabelas!B:D,3,0),0),\"\")","v":0},{"$f":"IF(A16<>\"\",IFERROR(VLOOKUP(AG16,Tabelas!B:D,3,0),0),\"\")","v":0},{"$f":"IF(A16<>\"\",IFERROR(VLOOKUP(AH16,Tabelas!B:D,3,0),0),\"\")","v":0},{"$f":"IF(A16<>\"\",IFERROR(VLOOKUP(AI16,Tabelas!B:D,3,0),0),\"\")","v":0},{"$f":"IF(A16<>\"\",IFERROR(VLOOKUP(AJ16,Tabelas!B:D,3,0),0),\"\")","v":0},{"$f":"IF(A16<>\"\",IFERROR(VLOOKUP(AK16,Tabelas!B:D,3,0),0),\"\")","v":0},{"$f":"IF(A16<>\"\",IFERROR(VLOOKUP(AL16,Tabelas!B:D,3,0),0),\"\")","v":0},{"$f":"IF(A16<>\"\",IFERROR(VLOOKUP(AM16,Tabelas!B:D,3,0),0),\"\")","v":0},{"$f":"IF(A16<>\"\",IFERROR(VLOOKUP(AN16,Tabelas!B:D,3,0),0),\"\")","v":0},{"$f":"IF(A16<>\"\",IFERROR(VLOOKUP(AO16,Tabelas!B:D,3,0),0),\"\")","v":0},{"$f":"IF(A16<>\"\",IFERROR(VLOOKUP(AP16,Tabelas!B:D,3,0),0),\"\")","v":0},{"$f":"IF(A16<>\"\",IFERROR(VLOOKUP(AQ16,Tabelas!B:D,3,0),0),\"\")","v":0},72,0,0,13,0,0,0,13]
["Karine da Costa Damiani",2925603,null,"ME","RJU",30,null,null,null,null,null,null,null,"T17",null,null,null,null,null,"D8","T17","M17","T17",null,null,"T17","D8","D8",null,"T17",null,null,"T17","T17","T17","M17","T17",null,null,"D8","T17","M17",null,{"$f":"IF(A17<>\"\",IFERROR(VLOOKUP(M17,Tabelas!B:D,3,0),0),\"\")","v":0},{"$f":"IF(A17<>\"\",IFERROR(VLOOKUP(N17,Tabelas!B:D,3,0),0),\"\")","v":6},{"$f":"IF(A17<>\"\",IFERROR(VLOOKUP(O17,Tabelas!B:D,3,0),0),\"\")","v":0},{"$f":"IF(A17<>\"\",IFERROR(VLOOKUP(P17,Tabelas!B:D,3,0),0),\"\")","v":0},{"$f":"IF(A17<>\"\",IFERROR(VLOOKUP(Q17,Tabelas!B:D,3,0),0),\"\")","v":0},{"$f":"IF(A17<>\"\",IFERROR(VLOOKUP(R17,Tabelas!B:D,3,0),0),\"\")","v":0},{"$f":"IF(A17<>\"\",IFERROR(VLOOKUP(S17,Tabelas!B:D,3,0),0),\"\")","v":0},{"$f":"IF(A17<>\"\",IFERROR(VLOOKUP(T17,Tabelas!B:D,3,0),0),\"\")","v":12},{"$f":"IF(A17<>\"\",IFERROR(VLOOKUP(U17,Tabelas!B:D,3,0),0),\"\")","v":6},{"$f":"IF(A17<>\"\",IFERROR(VLOOKUP(V17,Tabelas!B:D,3,0),0),\"\")","v":6},{"$f":"IF(A17<>\"\",IFERROR(VLOOKUP(W17,Tabelas!B:D,3,0),0),\"\")","v":6},{"$f":"IF(A17<>\"\",IFERROR(VLOOKUP(X17,Tabelas!B:D,3,0),0),\"\")","v":0},{"$f":"IF(A17<>\"\",IFERROR(VLOOKUP(Y17,Tabelas!B:D,3,0),0),\"\")","v":0},{"$f":"IF(A17<>\"\",IFERROR(VLOOKUP(Z17,Tabelas!B:D,3,0),0),\"\")","v":6},{"$f":"IF(A17<>\"\",IFERROR(VLOOKUP(AA17,Tabelas!B:D,3,0),0),\"\")","v":12},{"$f":"IF(A17<>\"\",IFERROR(VLOOKUP(AB17,Tabelas!B:D,3,0),0),\"\")","v":12},{"$f":"IF(A17<>\"\",IFERROR(VLOOKUP(AC17,Tabelas!B:D,3,0),0),\"\")","v":0},{"$f":"IF(A17<>\"\",IFERROR(VLOOKUP(AD17,Tabelas!B:D,3,0),0),\"\")","v":6},{"$f":"IF(A17<>\"\",IFERROR(VLOOKUP(AE17,Tabelas!B:D,3,0),0),\"\")","v":0},{"$f":"IF(A17<>\"\",IFERROR(VLOOKUP(AF17,Tabelas!B:D,3,0),0),\"\")","v":0},{"$f":"IF(A17<>\"\",IFERROR(VLOOKUP(AG17,Tabelas!B:D,3,0),0),\"\")","v":6},{"$f":"IF(A17<>\"\",IFERROR(VLOOKUP(AH17,Tabelas!B:D,3,0),0),\"\")","v":6},{"$f":"IF(A17<>\"\",IFERROR(VLOOKUP(AI17,Tabelas!B:D,3,0),0),\"\")","v":6},{"$f":"IF(A17<>\"\",IFERROR(VLOOKUP(AJ17,Tabelas!B:D,3,0),0),\"\")","v":6},{"$f":"IF(A17<>\"\",IFERROR(VLOOKUP(AK17,Tabelas!B:D,3,0),0),\"\")","v":6},{"$f":"IF(A17<>\"\",IFERROR(VLOOKUP(AL17,Tabelas!B:D,3,0),0),\"\")","v":0},{"$f":"IF(A17<>\"\",IFERROR(VLOOKUP(AM17,Tabelas!B:D,3,0),0),\"\")","v":0},{"$f":"IF(A17<>\"\",IFERROR(VLOOKUP(AN17,Tabelas!B:D,3,0),0),\"\")","v":12},{"$f":"IF(A17<>\"\",IFERROR(VLOOKUP(AO17,Tabelas!B:D,3,0),0),\"\")","v":6},{"$f":"IF(A17<>\"\",IFERROR(VLOOKUP(AP17,Tabelas!B:D,3,0),0),\"\")","v":6},{"$f":"IF(A17<>\"\",IFERROR(VLOOKUP(AQ17,Tabelas!B:D,3,0),0),\"\")","v":0},126,0,0,0,0,0,0,0]
["Vanessa Miné Geraldo",3055054,null,"ME","EBSERH",24,null,null,null,null,null,null,"T17","T17","T17","T17",null,null,null,"T17","T17","T17",null,null,null,"M17","T17","T17","T17","T17",null,null,null,"D8","M17",null,null,null,null,null,null,"D8",null,{"$f":"IF(A18<>\"\",IFERROR(VLOOKUP(M18,Tabelas!B:D,3,0),0),\"\")","v":6},{"$f":"IF(A18<>\"\",IFERROR(VLOOKUP(N18,Tabelas!B:D,3,0),0),\"\")","v":6},{"$f":"IF(A18<>\"\",IFERROR(VLOOKUP(O18,Tabelas!B:D,3,0),0),\"\")","v":6},{"$f":"IF(A18<>\"\",IFERROR(VLOOKUP(P18,Tabelas!B:D,3,0),0),\"\")","v":6},{"$f":"IF(A18<>\"\",IFERROR(VLOOKUP(Q18,Tabelas!B:D,3,0),0),\"\")","v":0},{"$f":"IF(A18<>\"\",IFERROR(VLOOKUP(R18,Tabelas!B:D,3,0),0),\"\")","v":0},{"$f":"IF(A18<>\"\",IFERROR(VLOOKUP(S18,Tabelas!B:D,3,0),0),\"\")","v":0},{"$f":"IF(A18<>\"\",IFERROR(VLOOKUP(T18,Tabelas!B:D,3,0),0),\"\")","v":6},{"$f":"IF(A18<>\"\",IFERROR(VLOOKUP(U18,Tabelas!B:D,3,0),0),\"\")","v":6},{"$f":"IF(A18<>\"\",IFERROR(VLOOKUP(V18,Tabelas!B:D,3,0),0),\"\")","v":6},{"$f":"IF(A18<>\"\",IFERROR(VLOOKUP(W18,Tabelas!B:D,3,0),0),\"\")","v":0},{"$f":"IF(A18<>\"\",IFERROR(VLOOKUP(X18,Tabelas!B:D,3,0),0),\"\")","v":0},{"$f":"IF(A18<>\"\",IFERROR(VLOOKUP(Y18,Tabelas!B:D,3,0),0),\"\")","v":0},{"$f":"IF(A18<>\"\",IFERROR(VLOOKUP(Z18,Tabelas!B:D,3,0),0),\"\")","v":6},{"$f":"IF(A18<>\"\",IFERROR(VLOOKUP(AA18,Tabelas!B:D,3,0),0),\"\")","v":6},{"$f":"IF(A18<>\"\",IFERROR(VLOOKUP(AB18,Tabelas!B:D,3,0),0),\"\")","v":6},{"$f":"IF(A18<>\"\",IFERROR(VLOOKUP(AC18,Tabelas!B:D,3,0),0),\"\")","v":6},{"$f":"IF(A18<>\"\",IFERROR(VLOOKUP(AD18,Tabelas!B:D,3,0),0),\"\")","v":6},{"$f":"IF(A18<>\"\",IFERROR(VLOOKUP(AE18,Tabelas!B:D,3,0),0),\"\")","v":0},{"$f":"IF(A18<>\"\",IFERROR(VLOOKUP(AF18,Tabelas!B:D,3,0),0),\"\")","v":0},{"$f":"IF(A18<>\"\",IFERROR(VLOOKUP(AG18,Tabelas!B:D,3,0),0),\"\")","v":0},{"$f":"IF(A18<>\"\",IFERROR(VLOOKUP(AH18,Tabelas!B:D,3,0),0),\"\")","v":12},{"$f":"IF(A18<>\"\",IFERROR(VLOOKUP(AI18,Tabelas!B:D,3,0),0),\"\")","v":6},{"$f":"IF(A18<>\"\",IFERROR(VLOOKUP(AJ18,Tabelas!B:D,3,0),0),\"\")","v":0},{"$f":"IF(A18<>\"\",IFERROR(VLOOKUP(AK18,Tabelas!B:D,3,0),0),\"\")","v":0},{"$f":"IF(A18<>\"\",IFERROR(VLOOKUP(AL18,Tabelas!B:D,3,0),0),\"\")","v":0},{"$f":"IF(A18<>\"\",IFERROR(VLOOKUP(AM18,Tabelas!B:D,3,0),0),\"\")","v":0},{"$f":"IF(A18<>\"\",IFERROR(VLOOKUP(AN18,Tabelas!B:D,3,0),0),\"\")","v":0},{"$f":"IF(A18<>\"\",IFERROR(VLOOKUP(AO18,Tabelas!B:D,3,0),0),\"\")","v":0},{"$f":"IF(A18<>\"\",IFERROR(VLOOKUP(AP18,Tabelas!B:D,3,0),0),\"\")","v":12},{"$f":"IF(A18<>\"\",IFERROR(VLOOKUP(AQ18,Tabelas!B:D,3,0),0),\"\")","v":0},102,0,0,0,0,0,0,0]
["Vinícius Dallagasperina Pedro",3841644,null,"ME","RJU",30,null,null,null,null,null,null,"T17",null,null,"T17",null,null,null,null,"D8","T17","D8",null,null,"T17","T17","T17","D8",null,null,null,"M17","T17","T17","T17","D8",null,null,null,"D8","T17",null,{"$f":"IF(A19<>\"\",IFERROR(VLOOKUP(M19,Tabelas!B:D,3,0),0),\"\")","v":6},{"$f":"IF(A19<>\"\",IFERROR(VLOOKUP(N19,Tabelas!B:D,3,0),0),\"\")","v":0},{"$f":"IF(A19<>\"\",IFERROR(VLOOKUP(O19,Tabelas!B:D,3,0),0),\"\")","v":0},{"$f":"IF(A19<>\"\",IFERROR(VLOOKUP(P19,Tabelas!B:D,3,0),0),\"\")","v":6},{"$f":"IF(A19<>\"\",IFERROR(VLOOKUP(Q19,Tabelas!B:D,3,0),0),\"\")","v":0},{"$f":"IF(A19<>\"\",IFERROR(VLOOKUP(R19,Tabelas!B:D,3,0),0),\"\")","v":0},{"$f":"IF(A19<>\"\",IFERROR(VLOOKUP(S19,Tabelas!B:D,3,0),0),\"\")","v":0},{"$f":"IF(A19<>\"\",IFERROR(VLOOKUP(T19,Tabelas!B:D,3,0),0),\"\")","v":0},{"$f":"IF(A19<>\"\",IFERROR(VLOOKUP(U19,Tabelas!B:D,3,0),0),\"\")","v":12},{"$f":"IF(A19<>\"\",IFERROR(VLOOKUP(V19,Tabelas!B:D,3,0),0),\"\")","v":6},{"$f":"IF(A19<>\"\",IFERROR(VLOOKUP(W19,Tabelas!B:D,3,0),0),\"\")","v":12},{"$f":"IF(A19<>\"\",IFERROR(VLOOKUP(X19,Tabelas!B:D,3,0),0),\"\")","v":0},{"$f":"IF(A19<>\"\",IFERROR(VLOOKUP(Y19,Tabelas!B:D,3,0),0),\"\")","v":0},{"$f":"IF(A19<>\"\",IFERROR(VLOOKUP(Z19,Tabelas!B:D,3,0),0),\"\")","v":6},{"$f":"IF(A19<>\"\",IFERROR(VLOOKUP(AA19,Tabelas!B:D,3,0),0),\"\")","v":6},{"$f":"IF(A19<>\"\",IFERROR(VLOOKUP(AB19,Tabelas!B:D,3,0),0),\"\")","v":6},{"$f":"IF(A19<>\"\",IFERROR(VLOOKUP(AC19,Tabelas!B:D,3,0),0),\"\")","v":12},{"$f":"IF(A19<>\"\",IFERROR(VLOOKUP(AD19,Tabelas!B:D,3,0),0),\"\")","v":0},{"$f":"IF(A19<>\"\",IFERROR(VLOOKUP(AE19,Tabelas!B:D,3,0),0),\"\")","v":0},{"$f":"IF(A19<>\"\",IFERROR(VLOOKUP(AF19,Tabelas!B:D,3,0),0),\"\")","v":0},{"$f":"IF(A19<>\"\",IFERROR(VLOOKUP(AG19,Tabelas!B:D,3,0),0),\"\")","v":6},{"$f":"IF(A19<>\"\",IFERROR(VLOOKUP(AH19,Tabelas!B:D,3,0),0),\"\")","v":6},{"$f":"IF(A19<>\"\",IFERROR(VLOOKUP(AI19,Tabelas!B:D,3,0),0),\"\")","v":6},{"$f":"IF(A19<>\"\",IFERROR(VLOOKUP(AJ19,Tabelas!B:D,3,0),0),\"\")","v":6},{"$f":"IF(A19<>\"\",IFERROR(VLOOKUP(AK19,Tabelas!B:D,3,0),0),\"\")","v":12},{"$f":"IF(A19<>\"\",IFERROR(VLOOKUP(AL19,Tabelas!B:D,3,0),0),\"\")","v":0},{"$f":"IF(A19<>\"\",IFERROR(VLOOKUP(AM19,Tabelas!B:D,3,0),0),\"\")","v":0},{"$f":"IF(A19<>\"\",IFERROR(VLOOKUP(AN19,Tabelas!B:D,3,0),0),\"\")","v":0},{"$f":"IF(A19<>\"\",IFERROR(VLOOKUP(AO19,Tabelas!B:D,3,0),0),\"\")","v":12},{"$f":"IF(A19<>\"\",IFERROR(VLOOKUP(AP19,Tabelas!B:D,3,0),0),\"\")","v":6},{"$f":"IF(A19<>\"\",IFERROR(VLOOKUP(AQ19,Tabelas!B:D,3,0),0),\"\")","v":0},126,0,0,0,0,0,0,0]
["Leonardo Jonck Staub",null,null,"ME","RJU",30,null,null,null,null,null,null,"M17","M17","M17","M17",null,null,null,"M17","M17","M17","M17",null,null,"M17","M17","M17","M17","M17",null,null,null,null,null,null,null,null,null,null,null,null,null,{"$f":"IF(A20<>\"\",IFERROR(VLOOKUP(M20,Tabelas!B:D,3,0),0),\"\")","v":6},{"$f":"IF(A20<>\"\",IFERROR(VLOOKUP(N20,Tabelas!B:D,3,0),0),\"\")","v":6},{"$f":"IF(A20<>\"\",IFERROR(VLOOKUP(O20,Tabelas!B:D,3,0),0),\"\")","v":6},{"$f":"IF(A20<>\"\",IFERROR(VLOOKUP(P20,Tabelas!B:D,3,0),0),\"\")","v":6},{"$f":"IF(A20<>\"\",IFERROR(VLOOKUP(Q20,Tabelas!B:D,3,0),0),\"\")","v":0},{"$f":"IF(A20<>\"\",IFERROR(VLOOKUP(R20,Tabelas!B:D,3,0),0),\"\")","v":0},{"$f":"IF(A20<>\"\",IFERROR(VLOOKUP(S20,Tabelas!B:D,3,0),0),\"\")","v":0},{"$f":"IF(A20<>\"\",IFERROR(VLOOKUP(T20,Tabelas!B:D,3,0),0),\"\")","v":6},{"$f":"IF(A20<>\"\",IFERROR(VLOOKUP(U20,Tabelas!B:D,3,0),0),\"\")","v":6},{"$f":"IF(A20<>\"\",IFERROR(VLOOKUP(V20,Tabelas!B:D,3,0),0),\"\")","v":6},{"$f":"IF(A20<>\"\",IFERROR(VLOOKUP(W20,Tabelas!B:D,3,0),0),\"\")","v":6},{"$f":"IF(A20<>\"\",IFERROR(VLOOKUP(X20,Tabelas!B:D,3,0),0),\"\")","v":0},{"$f":"IF(A20<>\"\",IFERROR(VLOOKUP(Y20,Tabelas!B:D,3,0),0),\"\")","v":0},{"$f":"IF(A20<>\"\",IFERROR(VLOOKUP(Z20,Tabelas!B:D,3,0),0),\"\")","v":6},{"$f":"IF(A20<>\"\",IFERROR(VLOOKUP(AA20,Tabelas!B:D,3,0),0),\"\")","v":6},{"$f":"IF(A20<>\"\",IFERROR(VLOOKUP(AB20,Tabelas!B:D,3,0),0),\"\")","v":6},{"$f":"IF(A20<>\"\",IFERROR(VLOOKUP(AC20,Tabelas!B:D,3,0),0),\"\")","v":6},{"$f":"IF(A20<>\"\",IFERROR(VLOOKUP(AD20,Tabelas!B:D,3,0),0),\"\")","v":6},{"$f":"IF(A20<>\"\",IFERROR(VLOOKUP(AE20,Tabelas!B:D,3,0),0),\"\")","v":0},{"$f":"IF(A20<>\"\",IFERROR(VLOOKUP(AF20,Tabelas!B:D,3,0),0),\"\")","v":0},{"$f":"IF(A20<>\"\",IFERROR(VLOOKUP(AG20,Tabelas!B:D,3,0),0),\"\")","v":0},{"$f":"IF(A20<>\"\",IFERROR(VLOOKUP(AH20,Tabelas!B:D,3,0),0),\"\")","v":0},{"$f":"IF(A20<>\"\",IFERROR(VLOOKUP(AI20,Tabelas!B:D,3,0),0),\"\")","v":0},{"$f":"IF(A20<>\"\",IFERROR(VLOOKUP(AJ20,Tabelas!B:D,3,0),0),\"\")","v":0},{"$f":"IF(A20<>\"\",IFERROR(VLOOKUP(AK20,Tabelas!B:D,3,0),0),\"\")","v":0},{"$f":"IF(A20<>\"\",IFERROR(VLOOKUP(AL20,Tabelas!B:D,3,0),0),\"\")","v":0},{"$f":"IF(A20<>\"\",IFERROR(VLOOKUP(AM20,Tabelas!B:D,3,0),0),\"\")","v":0},{"$f":"IF(A20<>\"\",IFERROR(VLOOKUP(AN20,Tabelas!B:D,3,0),0),\"\")","v":0},{"$f":"IF(A20<>\"\",IFERROR(VLOOKUP(AO20,Tabelas!B:D,3,0),0),\"\")","v":0},{"$f":"IF(A20<>\"\",IFERROR(VLOOKUP(AP20,Tabelas!B:D,3,0),0),\"\")","v":0},{"$f":"IF(A20<>\"\",IFERROR(VLOOKUP(AQ20,Tabelas!B:D,3,0),0),\"\")","v":0},78,0,0,0,0,0,0,0]
["Lara Patrícia Kretzer",null,null,"ME","RJU",12,null,null,null,null,null,null,null,null,null,"T17",null,null,null,null,null,null,"T17",null,null,"T17",null,null,null,"T17",null,null,"T17",null,null,null,"T17",null,null,"T17",null,null,null,{"$f":"IF(A21<>\"\",IFERROR(VLOOKUP(M21,Tabelas!B:D,3,0),0),\"\")","v":0},{"$f":"IF(A21<>\"\",IFERROR(VLOOKUP(N21,Tabelas!B:D,3,0),0),\"\")","v":0},{"$f":"IF(A21<>\"\",IFERROR(VLOOKUP(O21,Tabelas!B:D,3,0),0),\"\")","v":0},{"$f":"IF(A21<>\"\",IFERROR(VLOOKUP(P21,Tabelas!B:D,3,0),0),\"\")","v":6},{"$f":"IF(A21<>\"\",IFERROR(VLOOKUP(Q21,Tabelas!B:D,3,0),0),\"\")","v":0},{"$f":"IF(A21<>\"\",IFERROR(VLOOKUP(R21,Tabelas!B:D,3,0),0),\"\")","v":0},{"$f":"IF(A21<>\"\",IFERROR(VLOOKUP(S21,Tabelas!B:D,3,0),0),\"\")","v":0},{"$f":"IF(A21<>\"\",IFERROR(VLOOKUP(T21,Tabelas!B:D,3,0),0),\"\")","v":0},{"$f":"IF(A21<>\"\",IFERROR(VLOOKUP(U21,Tabelas!B:D,3,0),0),\"\")","v":0},{"$f":"IF(A21<>\"\",IFERROR(VLOOKUP(V21,Tabelas!B:D,3,0),0),\"\")","v":0},{"$f":"IF(A21<>\"\",IFERROR(VLOOKUP(W21,Tabelas!B:D,3,0),0),\"\")","v":6},{"$f":"IF(A21<>\"\",IFERROR(VLOOKUP(X21,Tabelas!B:D,3,0),0),\"\")","v":0},{"$f":"IF(A21<>\"\",IFERROR(VLOOKUP(Y21,Tabelas!B:D,3,0),0),\"\")","v":0},{"$f":"IF(A21<>\"\",IFERROR(VLOOKUP(Z21,Tabelas!B:D,3,0),0),\"\")","v":6},{"$f":"IF(A21<>\"\",IFERROR(VLOOKUP(AA21,Tabelas!B:D,3,0),0),\"\")","v":0},{"$f":"IF(A21<>\"\",IFERROR(VLOOKUP(AB21,Tabelas!B:D,3,0),0),\"\")","v":0},{"$f":"IF(A21<>\"\",IFERROR(VLOOKUP(AC21,Tabelas!B:D,3,0),0),\"\")","v":0},{"$f":"IF(A21<>\"\",IFERROR(VLOOKUP(AD21,Tabelas!B:D,3,0),0),\"\")","v":6},{"$f":"IF(A21<>\"\",IFERROR(VLOOKUP(AE21,Tabelas!B:D,3,0),0),\"\")","v":0},{"$f":"IF(A21<>\"\",IFERROR(VLOOKUP(AF21,Tabelas!B:D,3,0),0),\"\")","v":0},{"$f":"IF(A21<>\"\",IFERROR(VLOOKUP(AG21,Tabelas!B:D,3,0),0),\"\")","v":6},{"$f":"IF(A21<>\"\",IFERROR(VLOOKUP(AH21,Tabelas!B:D,3,0),0),\"\")","v":0},{"$f":"IF(A21<>\"\",IFERROR(VLOOKUP(AI21,Tabelas!B:D,3,0),0),\"\")","v":0},{"$f":"IF(A21<>\"\",IFERROR(VLOOKUP(AJ21,Tabelas!B:D,3,0),0),\"\")","v":0},{"$f":"IF(A21<>\"\",IFERROR(VLOOKUP(AK21,Tabelas!B:D,3,0),0),\"\")","v":6},{"$f":"IF(A21<>\"\",IFERROR(VLOOKUP(AL21,Tabelas!B:D,3,0),0),\"\")","v":0},{"$f":"IF(A21<>\"\",IFERROR(VLOOKUP(AM21,Tabelas!B:D,3,0),0),\"\")","v":0},{"$f":"IF(A21<>\"\",IFERROR(VLOOKUP(AN21,Tabelas!B:D,3,0),0),\"\")","v":6},{"$f":"IF(A21<>\"\",IFERROR(VLOOKUP(AO21,Tabelas!B:D,3,0),0),\"\")","v":0},{"$f":"IF(A21<>\"\",IFERROR(VLOOKUP(AP21,Tabelas!B:D,3,0),0),\"\")","v":0},{"$f":"IF(A21<>\"\",IFERROR(VLOOKUP(AQ21,Tabelas!B:D,3,0),0),\"\")","v":0},42,0,0,0,0,0,0,0]
["Heda Mara Schmidt",null,null,"ME","RJU",12,null,null,null,null,null,null,null,"T17","T17",null,null,null,null,null,"T17","T17",null,null,null,null,null,"T17","T17",null,null,null,null,null,"T17","T17",null,null,null,null,null,"T17",null,{"$f":"IF(A22<>\"\",IFERROR(VLOOKUP(M22,Tabelas!B:D,3,0),0),\"\")","v":0},{"$f":"IF(A22<>\"\",IFERROR(VLOOKUP(N22,Tabelas!B:D,3,0),0),\"\")","v":6},{"$f":"IF(A22<>\"\",IFERROR(VLOOKUP(O22,Tabelas!B:D,3,0),0),\"\")","v":6},{"$f":"IF(A22<>\"\",IFERROR(VLOOKUP(P22,Tabelas!B:D,3,0),0),\"\")","v":0},{"$f":"IF(A22<>\"\",IFERROR(VLOOKUP(Q22,Tabelas!B:D,3,0),0),\"\")","v":0},{"$f":"IF(A22<>\"\",IFERROR(VLOOKUP(R22,Tabelas!B:D,3,0),0),\"\")","v":0},{"$f":"IF(A22<>\"\",IFERROR(VLOOKUP(S22,Tabelas!B:D,3,0),0),\"\")","v":0},{"$f":"IF(A22<>\"\",IFERROR(VLOOKUP(T22,Tabelas!B:D,3,0),0),\"\")","v":0},{"$f":"IF(A22<>\"\",IFERROR(VLOOKUP(U22,Tabelas!B:D,3,0),0),\"\")","v":6},{"$f":"IF(A22<>\"\",IFERROR(VLOOKUP(V22,Tabelas!B:D,3,0),0),\"\")","v":6},{"$f":"IF(A22<>\"\",IFERROR(VLOOKUP(W22,Tabelas!B:D,3,0),0),\"\")","v":0},{"$f":"IF(A22<>\"\",IFERROR(VLOOKUP(X22,Tabelas!B:D,3,0),0),\"\")","v":0},{"$f":"IF(A22<>\"\",IFERROR(VLOOKUP(Y22,Tabelas!B:D,3,0),0),\"\")","v":0},{"$f":"IF(A22<>\"\",IFERROR(VLOOKUP(Z22,Tabelas!B:D,3,0),0),\"\")","v":0},{"$f":"IF(A22<>\"\",IFERROR(VLOOKUP(AA22,Tabelas!B:D,3,0),0),\"\")","v":0},{"$f":"IF(A22<>\"\",IFERROR(VLOOKUP(AB22,Tabelas!B:D,3,0),0),\"\")","v":6},{"$f":"IF(A22<>\"\",IFERROR(VLOOKUP(AC22,Tabelas!B:D,3,0),0),\"\")","v":6},{"$f":"IF(A22<>\"\",IFERROR(VLOOKUP(AD22,Tabelas!B:D,3,0),0),\"\")","v":0},{"$f":"IF(A22<>\"\",IFERROR(VLOOKUP(AE22,Tabelas!B:D,3,0),0),\"\")","v":0},{"$f":"IF(A22<>\"\",IFERROR(VLOOKUP(AF22,Tabelas!B:D,3,0),0),\"\")","v":0},{"$f":"IF(A22<>\"\",IFERROR(VLOOKUP(AG22,Tabelas!B:D,3,0),0),\"\")","v":0},{"$f":"IF(A22<>\"\",IFERROR(VLOOKUP(AH22,Tabelas!B:D,3,0),0),\"\")","v":0},{"$f":"IF(A22<>\"\",IFERROR(VLOOKUP(AI22,Tabelas!B:D,3,0),0),\"\")","v":6},{"$f":"IF(A22<>\"\",IFERROR(VLOOKUP(AJ22,Tabelas!B:D,3,0),0),\"\")","v":6},{"$f":"IF(A22<>\"\",IFERROR(VLOOKUP(AK22,Tabelas!B:D,3,0),0),\"\")","v":0},{"$f":"IF(A22<>\"\",IFERROR(VLOOKUP(AL22,Tabelas!B:D,3,0),0),\"\")","v":0},{"$f":"IF(A22<>\"\",IFERROR(VLOOKUP(AM22,Tabelas!B:D,3,0),0),\"\")","v":0},{"$f":"IF(A22<>\"\",IFERROR(VLOOKUP(AN22,Tabelas!B:D,3,0),0),\"\")","v":0},{"$f":"IF(A22<>\"\",IFERROR(VLOOKUP(AO22,Tabelas!B:D,3,0),0),\"\")","v":0},{"$f":"IF(A22<>\"\",IFERROR(VLOOKUP(AP22,Tabelas!B:D,3,0),0),\"\")","v":6},{"$f":"IF(A22<>\"\",IFERROR(VLOOKUP(AQ22,Tabelas!B:D,3,0),0),\"\")","v":0},54,0,0,0,0,0,0,0]
[null,null,null,null,null,null,null,null,null,null,null,null,null,null,null,null,null,null,null,null,null,null,null,null,null,null,null,null,null,null,null,null,null,null,null,null,null,null,null,null,null,null,null,{"$f":"IF(A23<>\"\",IFERROR(VLOOKUP(M23,Tabelas!B:D,3,0),0),\"\")","v":""},{"$f":"IF(A23<>\"\",IFERROR(VLOOKUP(N23,Tabelas!B:D,3,0),0),\"\")","v":""},{"$f":"IF(A23<>\"\",IFERROR(VLOOKUP(O23,Tabelas!B:D,3,0),0),\"\")","v":""},{"$f":"IF(A23<>\"\",IFERROR(VLOOKUP(P23,Tabelas!B:D,3,0),0),\"\")","v":""},{"$f":"IF(A23<>\"\",IFERROR(VLOOKUP(Q23,Tabelas!B:D,3,0),0),\"\")","v":""},{"$f":"IF(A23<>\"\",IFERROR(VLOOKUP(R23,Tabelas!B:D,3,0),0),\"\")","v":""},{"$f":"IF(A23<>\"\",IFERROR(VLOOKUP(S23,Tabelas!B:D,3,0),0),\"\")","v":""},{"$f":"IF(A23<>\"\",IFERROR(VLOOKUP(T23,Tabelas!B:D,3,0),0),\"\")","v":""},{"$f":"IF(A23<>\"\",IFERROR(VLOOKUP(U23,Tabelas!B:D,3,0),0),\"\")","v":""},{"$f":"IF(A23<>\"\",IFERROR(VLOOKUP(V23,Tabelas!B:D,3,0),0),\"\")","v":""},{"$f":"IF(A23<>\"\",IFERROR(VLOOKUP(W23,Tabelas!B:D,3,0),0),\"\")","v":""},{"$f":"IF(A23<>\"\",IFERROR(VLOOKUP(X23,Tabelas!B:D,3,0),0),\"\")","v":""},{"$f":"IF(A23<>\"\",IFERROR(VLOOKUP(Y23,Tabelas!B:D,3,0),0),\"\")","v":""},{"$f":"IF(A23<>\"\",IFERROR(VLOOKUP(Z23,Tabelas!B:D,3,0),0),\"\")","v":""},{"$f":"IF(A23<>\"\",IFERROR(VLOOKUP(AA23,Tabelas!B:D,3,0),0),\"\")","v":""},{"$f":"IF(A23<>\"\",IFERROR(VLOOKUP(AB23,Tabelas!B:D,3,0),0),\"\")","v":""},{"$f":"IF(A23<>\"\",IFERROR(VLOOKUP(AC23,Tabelas!B:D,3,0),0),\"\")","v":""},{"$f":"IF(A23<>\"\",IFERROR(VLOOKUP(AD23,Tabelas!B:D,3,0),0),\"\")","v":""},{"$f":"IF(A23<>\"\",IFERROR(VLOOKUP(AE23,Tabelas!B:D,3,0),0),\"\")","v":""},{"$f":"IF(A23<>\"\",IFERROR(VLOOKUP(AF23,Tabelas!B:D,3,0),0),\"\")","v":""},{"$f":"IF(A23<>\"\",IFERROR(VLOOKUP(AG23,Tabelas!B:D,3,0),0),\"\")","v":""},{"$f":"IF(A23<>\"\",IFERROR(VLOOKUP(AH23,Tabelas!B:D,3,0),0),\"\")","v":""},{"$f":"IF(A23<>\"\",IFERROR(VLOOKUP(AI23,Tabelas!B:D,3,0),0),\"\")","v":""},{"$f":"IF(A23<>\"\",IFERROR(VLOOKUP(AJ23,Tabelas!B:D,3,0),0),\"\")","v":""},{"$f":"IF(A23<>\"\",IFERROR(VLOOKUP(AK23,Tabelas!B:D,3,0),0),\"\")","v":""},{"$f":"IF(A23<>\"\",IFERROR(VLOOKUP(AL23,Tabelas!B:D,3,0),0),\"\")","v":""},{"$f":"IF(A23<>\"\",IFERROR(VLOOKUP(AM23,Tabelas!B:D,3,0),0),\"\")","v":""},{"$f":"IF(A23<>\"\",IFERROR(VLOOKUP(AN23,Tabelas!B:D,3,0),0),\"\")","v":""},{"$f":"IF(A23<>\"\",IFERROR(VLOOKUP(AO23,Tabelas!B:D,3,0),0),\"\")","v":""},{"$f":"IF(A23<>\"\",IFERROR(VLOOKUP(AP23,Tabelas!B:D,3,0),0),\"\")","v":""},{"$f":"IF(A23<>\"\",IFERROR(VLOOKUP(AQ23,Tabelas!B:D,3,0),0),\"\")","v":""},"","","","","","","",""]
["PLANTÃO",null,null,null,null,null,null,null,null,null,null,null,null,null,null,null,null,null,null,null,null,null,null,null,null,null,null,null,null,null,null,null,null,null,null,null,null,null,null,null,null,null,null,{"$f":"IF(A24<>\"\",IFERROR(VLOOKUP(M24,Tabelas!B:D,3,0),0),\"\")","v":0},{"$f":"IF(A24<>\"\",IFERROR(VLOOKUP(N24,Tabelas!B:D,3,0),0),\"\")","v":0},{"$f":"IF(A24<>\"\",IFERROR(VLOOKUP(O24,Tabelas!B:D,3,0),0),\"\")","v":0},{"$f":"IF(A24<>\"\",IFERROR(VLOOKUP(P24,Tabelas!B:D,3,0),0),\"\")","v":0},{"$f":"IF(A24<>\"\",IFERROR(VLOOKUP(Q24,Tabelas!B:D,3,0),0),\"\")","v":0},{"$f":"IF(A24<>\"\",IFERROR(VLOOKUP(R24,Tabelas!B:D,3,0),0),\"\")","v":0},{"$f":"IF(A24<>\"\",IFERROR(VLOOKUP(S24,Tabelas!B:D,3,0),0),\"\")","v":0},{"$f":"IF(A24<>\"\",IFERROR(VLOOKUP(T24,Tabelas!B:D,3,0),0),\"\")","v":0},{"$f":"IF(A24<>\"\",IFERROR(VLOOKUP(U24,Tabelas!B:D,3,0),0),\"\")","v":0},{"$f":"IF(A24<>\"\",IFERROR(VLOOKUP(V24,Tabelas!B:D,3,0),0),\"\")","v":0},{"$f":"IF(A24<>\"\",IFERROR(VLOOKUP(W24,Tabelas!B:D,3,0),0),\"\")","v":0},{"$f":"IF(A24<>\"\",IFERROR(VLOOKUP(X24,Tabelas!B:D,3,0),0),\"\")","v":0},{"$f":"IF(A24<>\"\",IFERROR(VLOOKUP(Y24,Tabelas!B:D,3,0),0),\"\")","v":0},{"$f":"IF(A24<>\"\",IFERROR(VLOOKUP(Z24,Tabelas!B:D,3,0),0),\"\")","v":0},{"$f":"IF(A24<>\"\",IFERROR(VLOOKUP(AA24,Tabelas!B:D,3,0),0),\"\")","v":0},{"$f":"IF(A24<>\"\",IFERROR(VLOOKUP(AB24,Tabelas!B:D,3,0),0),\"\")","v":0},{"$f":"IF(A24<>\"\",IFERROR(VLOOKUP(AC24,Tabelas!B:D,3,0),0),\"\")","v":0},{"$f":"IF(A24<>\"\",IFERROR(VLOOKUP(AD24,Tabelas!B:D,3,0),0),\"\")","v":0},{"$f":"IF(A24<>\"\",IFERROR(VLOOKUP(AE24,Tabelas!B:D,3,0),0),\"\")","v":0},{"$f":"IF(A24<>\"\",IFERROR(VLOOKUP(AF24,Tabelas!B:D,3,0),0),\"\")","v":0},{"$f":"IF(A24<>\"\",IFERROR(VLOOKUP(AG24,Tabelas!B:D,3,0),0),\"\")","v":0},{"$f":"IF(A24<>\"\",IFERROR(VLOOKUP(AH24,Tabelas!B:D,3,0),0),\"\")","v":0},{"$f":"IF(A24<>\"\",IFERROR(VLOOKUP(AI24,Tabelas!B:D,3,0),0),\"\")","v":0},{"$f":"IF(A24<>\"\",IFERROR(VLOOKUP(AJ24,Tabelas!B:D,3,0),0),\"\")","v":0},{"$f":"IF(A24<>\"\",IFERROR(VLOOKUP(AK24,Tabelas!B:D,3,0),0),\"\")","v":0},{"$f":"IF(A24<>\"\",IFERROR(VLOOKUP(AL24,Tabelas!B:D,3,0),0),\"\")","v":0},{"$f":"IF(A24<>\"\",IFERROR(VLOOKUP(AM24,Tabelas!B:D,3,0),0),\"\")","v":0},{"$f":"IF(A24<>\"\",IFERROR(VLOOKUP(AN24,Tabelas!B:D,3,0),0),\"\")","v":0},{"$f":"IF(A24<>\"\",IFERROR(VLOOKUP(AO24,Tabelas!B:D,3,0),0),\"\")","v":0},{"$f":"IF(A24<>\"\",IFERROR(VLOOKUP(AP24,Tabelas!B:D,3,0),0),\"\")","v":0},{"$f":"IF(A24<>\"\",IFERROR(VLOOKUP(AQ24,Tabelas!B:D,3,0),0),\"\")","v":0},0,0,0,0,0,0,0,0]
["Air Luis Zambom",1824250,null,"ME","RJU",40,null,null,null,null,null,null,"FE","FE","FE","FE","FE","FE","FE","FE","FE","FE","FE","FE","FE","FE","FE",null,null,null,null,"N10",null,null,null,null,null,null,null,"N10",null,null,null,{"$f":"IF(A25<>\"\",IFERROR(VLOOKUP(M25,Tabelas!B:D,3,0),0),\"\")","v":0},{"$f":"IF(A25<>\"\",IFERROR(VLOOKUP(N25,Tabelas!B:D,3,0),0),\"\")","v":0},{"$f":"IF(A25<>\"\",IFERROR(VLOOKUP(O25,Tabelas!B:D,3,0),0),\"\")","v":0},{"$f":"IF(A25<>\"\",IFERROR(VLOOKUP(P25,Tabelas!B:D,3,0),0),\"\")","v":0},{"$f":"IF(A25<>\"\",IFERROR(VLOOKUP(Q25,Tabelas!B:D,3,0),0),\"\")","v":0},{"$f":"IF(A25<>\"\",IFERROR(VLOOKUP(R25,Tabelas!B:D,3,0),0),\"\")","v":0},{"$f":"IF(A25<>\"\",IFERROR(VLOOKUP(S25,Tabelas!B:D,3,0),0),\"\")","v":0},{"$f":"IF(A25<>\"\",IFERROR(VLOOKUP(T25,Tabelas!B:D,3,0),0),\"\")","v":0},{"$f":"IF(A25<>\"\",IFERROR(VLOOKUP(U25,Tabelas!B:D,3,0),0),\"\")","v":0},{"$f":"IF(A25<>\"\",IFERROR(VLOOKUP(V25,Tabelas!B:D,3,0),0),\"\")","v":0},{"$f":"IF(A25<>\"\",IFERROR(VLOOKUP(W25,Tabelas!B:D,3,0),0),\"\")","v":0},{"$f":"IF(A25<>\"\",IFERROR(VLOOKUP(X25,Tabelas!B:D,3,0),0),\"\")","v":0},{"$f":"IF(A25<>\"\",IFERROR(VLOOKUP(Y25,Tabelas!B:D,3,0),0),\"\")","v":0},{"$f":"IF(A25<>\"\",IFERROR(VLOOKUP(Z25,Tabelas!B:D,3,0),0),\"\")","v":0},{"$f":"IF(A25<>\"\",IFERROR(VLOOKUP(AA25,Tabelas!B:D,3,0),0),\"\")","v":0},{"$f":"IF(A25<>\"\",IFERROR(VLOOKUP(AB25,Tabelas!B:D,3,0),0),\"\")","v":0},{"$f":"IF(A25<>\"\",IFERROR(VLOOKUP(AC25,Tabelas!B:D,3,0),0),\"\")","v":0},{"$f":"IF(A25<>\"\",IFERROR(VLOOKUP(AD25,Tabelas!B:D,3,0),0),\"\")","v":0},{"$f":"IF(A25<>\"\",IFERROR(VLOOKUP(AE25,Tabelas!B:D,3,0),0),\"\")","v":0},{"$f":"IF(A25<>\"\",IFERROR(VLOOKUP(AF25,Tabelas!B:D,3,0),0),\"\")","v":12},{"$f":"IF(A25<>\"\",IFERROR(VLOOKUP(AG25,Tabelas!B:D,3,0),0),\"\")","v":0},{"$f":"IF(A25<>\"\",IFERROR(VLOOKUP(AH25,Tabelas!B:D,3,0),0),\"\")","v":0},{"$f":"IF(A25<>\"\",IFERROR(VLOOKUP(AI25,Tabelas!B:D,3,0),0),\"\")","v":0},{"$f":"IF(A25<>\"\",IFERROR(VLOOKUP(AJ25,Tabelas!B:D,3,0),0),\"\")","v":0},{"$f":"IF(A25<>\"\",IFERROR(VLOOKUP(AK25,Tabelas!B:D,3,0),0),\"\")","v":0},{"$f":"IF(A25<>\"\",IFERROR(VLOOKUP(AL25,Tabelas!B:D,3,0),0),\"\")","v":0},{"$f":"IF(A25<>\"\",IFERROR(VLOOKUP(AM25,Tabelas!B:D,3,0),0),\"\")","v":0},{"$f":"IF(A25<>\"\",IFERROR(VLOOKUP(AN25,Tabelas!B:D,3,0),0),\"\")","v":12},{"$f":"IF(A25<>\"\",IFERROR(VLOOKUP(AO25,Tabelas!B:D,3,0),0),\"\")","v":0},{"$f":"IF(A25<>\"\",IFERROR(VLOOKUP(AP25,Tabelas!B:D,3,0),0),\"\")","v":0},{"$f":"IF(A25<>\"\",IFERROR(VLOOKUP(AQ25,Tabelas!B:D,3,0),0),\"\")","v":0},24,0,0,15,0,0,0,15]
["Aline Varela Dias",1331684,null,"ME","RJU",20,null,null,null,null,null,null,null,null,"N10",null,null,"N10",null,null,null,null,null,"N10",null,null,"N10",null,null,null,null,null,null,null,null,null,"N10","D8",null,null,null,"N10",null,{"$f":"IF(A26<>\"\",IFERROR(VLOOKUP(M26,Tabelas!B:D,3,0),0),\"\")","v":0},{"$f":"IF(A26<>\"\",IFERROR(VLOOKUP(N26,Tabelas!B:D,3,0),0),\"\")","v":0},{"$f":"IF(A26<>\"\",IFERROR(VLOOKUP(O26,Tabelas!B:D,3,0),0),\"\")","v":12},{"$f":"IF(A26<>\"\",IFERROR(VLOOKUP(P26,Tabelas!B:D,3,0),0),\"\")","v":0},{"$f":"IF(A26<>\"\",IFERROR(VLOOKUP(Q26,Tabelas!B:D,3,0),0),\"\")","v":0},{"$f":"IF(A26<>\"\",IFERROR(VLOOKUP(R26,Tabelas!B:D,3,0),0),\"\")","v":12},{"$f":"IF(A26<>\"\",IFERROR(VLOOKUP(S26,Tabelas!B:D,3,0),0),\"\")","v":0},{"$f":"IF(A26<>\"\",IFERROR(VLOOKUP(T26,Tabelas!B:D,3,0),0),\"\")","v":0},{"$f":"IF(A26<>\"\",IFERROR(VLOOKUP(U26,Tabelas!B:D,3,0),0),\"\")","v":0},{"$f":"IF(A26<>\"\",IFERROR(VLOOKUP(V26,Tabelas!B:D,3,0),0),\"\")","v":0},{"$f":"IF(A26<>\"\",IFERROR(VLOOKUP(W26,Tabelas!B:D,3,0),0),\"\")","v":0},{"$f":"IF(A26<>\"\",IFERROR(VLOOKUP(X26,Tabelas!B:D,3,0),0),\"\")","v":12},{"$f":"IF(A26<>\"\",IFERROR(VLOOKUP(Y26,Tabelas!B:D,3,0),0),\"\")","v":0},{"$f":"IF(A26<>\"\",IFERROR(VLOOKUP(Z26,Tabelas!B:D,3,0),0),\"\")","v":0},{"$f":"IF(A26<>\"\",IFERROR(VLOOKUP(AA26,Tabelas!B:D,3,0),0),\"\")","v":12},{"$f":"IF(A26<>\"\",IFERROR(VLOOKUP(AB26,Tabelas!B:D,3,0),0),\"\")","v":0},{"$f":"IF(A26<>\"\",IFERROR(VLOOKUP(AC26,Tabelas!B:D,3,0),0),\"\")","v":0},{"$f":"IF(A26<>\"\",IFERROR(VLOOKUP(AD26,Tabelas!B:D,3,0),0),\"\")","v":0},{"$f":"IF(A26<>\"\",IFERROR(VLOOKUP(AE26,Tabelas!B:D,3,0),0),\"\")","v":0},{"$f":"IF(A26<>\"\",IFERROR(VLOOKUP(AF26,Tabelas!B:D,3,0),0),\"\")","v":0},{"$f":"IF(A26<>\"\",IFERROR(VLOOKUP(AG26,Tabelas!B:D,3,0),0),\"\")","v":0},{"$f":"IF(A26<>\"\",IFERROR(VLOOKUP(AH26,Tabelas!B:D,3,0),0),\"\")","v":0},{"$f":"IF(A26<>\"\",IFERROR(VLOOKUP(AI26,Tabelas!B:D,3,0),0),\"\")","v":0},{"$f":"IF(A26<>\"\",IFERROR(VLOOKUP(AJ26,Tabelas!B:D,3,0),0),\"\")","v":0},{"$f":"IF(A26<>\"\",IFERROR(VLOOKUP(AK26,Tabelas!B:D,3,0),0),\"\")","v":12},{"$f":"IF(A26<>\"\",IFERROR(VLOOKUP(AL26,Tabelas!B:D,3,0),0),\"\")","v":12},{"$f":"IF(A26<>\"\",IFERROR(VLOOKUP(AM26,Tabelas!B:D,3,0),0),\"\")","v":0},{"$f":"IF(A26<>\"\",IFERROR(VLOOKUP(AN26,Tabelas!B:D,3,0),0),\"\")","v":0},{"$f":"IF(A26<>\"\",IFERROR(VLOOKUP(AO26,Tabelas!B:D,3,0),0),\"\")","v":0},{"$f":"IF(A26<>\"\",IFERROR(VLOOKUP(AP26,Tabelas!B:D,3,0),0),\"\")","v":12},{"$f":"IF(A26<>\"\",IFERROR(VLOOKUP(AQ26,Tabelas!B:D,3,0),0),\"\")","v":0},84,0,0,0,0,0,0,0]
["Anelise Schaeffer da Silveira",1919390,null,"ME","EBSERH",24,null,null,null,null,null,null,null,null,null,null,null,null,null,null,null,null,null,null,null,null,null,null,null,null,null,null,null,null,null,null,null,null,null,null,null,null,null,{"$f":"IF(A27<>\"\",IFERROR(VLOOKUP(M27,Tabelas!B:D,3,0),0),\"\")","v":0},{"$f":"IF(A27<>\"\",IFERROR(VLOOKUP(N27,Tabelas!B:D,3,0),0),\"\")","v":0},{"$f":"IF(A27<>\"\",IFERROR(VLOOKUP(O27,Tabelas!B:D,3,0),0),\"\")","v":0},{"$f":"IF(A27<>\"\",IFERROR(VLOOKUP(P27,Tabelas!B:D,3,0),0),\"\")","v":0},{"$f":"IF(A27<>\"\",IFERROR(VLOOKUP(Q27,Tabelas!B:D,3,0),0),\"\")","v":0},{"$f":"IF(A27<>\"\",IFERROR(VLOOKUP(R27,Tabelas!B:D,3,0),0),\"\")","v":0},{"$f":"IF(A27<>\"\",IFERROR(VLOOKUP(S27,Tabelas!B:D,3,0),0),\"\")","v":0},{"$f":"IF(A27<>\"\",IFERROR(VLOOKUP(T27,Tabelas!B:D,3,0),0),\"\")","v":0},{"$f":"IF(A27<>\"\",IFERROR(VLOOKUP(U27,Tabelas!B:D,3,0),0),\"\")","v":0},{"$f":"IF(A27<>\"\",IFERROR(VLOOKUP(V27,Tabelas!B:D,3,0),0),\"\")","v":0},{"$f":"IF(A27<>\"\",IFERROR(VLOOKUP(W27,Tabelas!B:D,3,0),0),\"\")","v":0},{"$f":"IF(A27<>\"\",IFERROR(VLOOKUP(X27,Tabelas!B:D,3,0),0),\"\")","v":0},{"$f":"IF(A27<>\"\",IFERROR(VLOOKUP(Y27,Tabelas!B:D,3,0),0),\"\")","v":0},{"$f":"IF(A27<>\"\",IFERROR(VLOOKUP(Z27,Tabelas!B:D,3,0),0),\"\")","v":0},{"$f":"IF(A27<>\"\",IFERROR(VLOOKUP(AA27,Tabelas!B:D,3,0),0),\"\")","v":0},{"$f":"IF(A27<>\"\",IFERROR(VLOOKUP(AB27,Tabelas!B:D,3,0),0),\"\")","v":0},{"$f":"IF(A27<>\"\",IFERROR(VLOOKUP(AC27,Tabelas!B:D,3,0),0),\"\")","v":0},{"$f":"IF(A27<>\"\",IFERROR(VLOOKUP(AD27,Tabelas!B:D,3,0),0),\"\")","v":0},{"$f":"IF(A27<>\"\",IFERROR(VLOOKUP(AE27,Tabelas!B:D,3,0),0),\"\")","v":0},{"$f":"IF(A27<>\"\",IFERROR(VLOOKUP(AF27,Tabelas!B:D,3,0),0),\"\")","v":0},{"$f":"IF(A27<>\"\",IFERROR(VLOOKUP(AG27,Tabelas!B:D,3,0),0),\"\")","v":0},{"$f":"IF(A27<>\"\",IFERROR(VLOOKUP(AH27,Tabelas!B:D,3,0),0),\"\")","v":0},{"$f":"IF(A27<>\"\",IFERROR(VLOOKUP(AI27,Tabelas!B:D,3,0),0),\"\")","v":0},{"$f":"IF(A27<>\"\",IFERROR(VLOOKUP(AJ27,Tabelas!B:D,3,0),0),\"\")","v":0},{"$f":"IF(A27<>\"\",IFERROR(VLOOKUP(AK27,Tabelas!B:D,3,0),0),\"\")","v":0},{"$f":"IF(A27<>\"\",IFERROR(VLOOKUP(AL27,Tabelas!B:D,3,0),0),\"\")","v":0},{"$f":"IF(A27<>\"\",IFERROR(VLOOKUP(AM27,Tabelas!B:D,3,0),0),\"\")","v":0},{"$f":"IF(A27<>\"\",IFERROR(VLOOKUP(AN27,Tabelas!B:D,3,0),0),\"\")","v":0},{"$f":"IF(A27<>\"\",IFERROR(VLOOKUP(AO27,Tabelas!B:D,3,0),0),\"\")","v":0},{"$f":"IF(A27<>\"\",IFERROR(VLOOKUP(AP27,Tabelas!B:D,3,0),0),\"\")","v":0},{"$f":"IF(A27<>\"\",IFERROR(VLOOKUP(AQ27,Tabelas!B:D,3,0),0),\"\")","v":0},0,0,0,0,0,0,0,0]
["Carolina Alcoforado de Abreu ",3201834,null,"ME","EBSERH",24,null,null,null,null,null,null,null,null,null,"N10",null,null,"D8","N10",null,null,null,null,null,null,null,null,null,"N10",null,"D8",null,null,null,null,null,null,"DN6",null,null,"N10",null,null,null,null,null,null,null,null,null,null,null,null,null,null,null,null,null,null,null,null,null,null,null,null,null,null,null,null,null,null,null,null,{"$f":"IF(AND(A32<>\"\",E32=\"Ebserh\"),SUM(AR32:BV32)+COUNTIF(M32:AQ32,\"N*\")+COUNTIF(M32:AQ32,\"DN*\"),IF(AND(A32<>\"\",E32<>\"Ebserh\"),SUM(AR32:BV32),\"\"))","v":102}]
["Duane José Milioli",1824201,null,"ME","RJU",20,null,null,null,null,null,null,null,null,null,null,null,null,"N10","N10",null,null,null,null,null,null,null,null,"N10",null,null,"DN6",null,null,null,null,"N10",null,null,"N10",null,null,null,{"$f":"IF(A29<>\"\",IFERROR(VLOOKUP(M29,Tabelas!B:D,3,0),0),\"\")","v":0},{"$f":"IF(A29<>\"\",IFERROR(VLOOKUP(N29,Tabelas!B:D,3,0),0),\"\")","v":0},{"$f":"IF(A29<>\"\",IFERROR(VLOOKUP(O29,Tabelas!B:D,3,0),0),\"\")","v":0},{"$f":"IF(A29<>\"\",IFERROR(VLOOKUP(P29,Tabelas!B:D,3,0),0),\"\")","v":0},{"$f":"IF(A29<>\"\",IFERROR(VLOOKUP(Q29,Tabelas!B:D,3,0),0),\"\")","v":0},{"$f":"IF(A29<>\"\",IFERROR(VLOOKUP(R29,Tabelas!B:D,3,0),0),\"\")","v":0},{"$f":"IF(A29<>\"\",IFERROR(VLOOKUP(S29,Tabelas!B:D,3,0),0),\"\")","v":12},{"$f":"IF(A29<>\"\",IFERROR(VLOOKUP(T29,Tabelas!B:D,3,0),0),\"\")","v":12},{"$f":"IF(A29<>\"\",IFERROR(VLOOKUP(U29,Tabelas!B:D,3,0),0),\"\")","v":0},{"$f":"IF(A29<>\"\",IFERROR(VLOOKUP(V29,Tabelas!B:D,3,0),0),\"\")","v":0},{"$f":"IF(A29<>\"\",IFERROR(VLOOKUP(W29,Tabelas!B:D,3,0),0),\"\")","v":0},{"$f":"IF(A29<>\"\",IFERROR(VLOOKUP(X29,Tabelas!B:D,3,0),0),\"\")","v":0},{"$f":"IF(A29<>\"\",IFERROR(VLOOKUP(Y29,Tabelas!B:D,3,0),0),\"\")","v":0},{"$f":"IF(A29<>\"\",IFERROR(VLOOKUP(Z29,Tabelas!B:D,3,0),0),\"\")","v":0},{"$f":"IF(A29<>\"\",IFERROR(VLOOKUP(AA29,Tabelas!B:D,3,0),0),\"\")","v":0},{"$f":"IF(A29<>\"\",IFERROR(VLOOKUP(AB29,Tabelas!B:D,3,0),0),\"\")","v":0},{"$f":"IF(A29<>\"\",IFERROR(VLOOKUP(AC29,Tabelas!B:D,3,0),0),\"\")","v":12},{"$f":"IF(A29<>\"\",IFERROR(VLOOKUP(AD29,Tabelas!B:D,3,0),0),\"\")","v":0},{"$f":"IF(A29<>\"\",IFERROR(VLOOKUP(AE29,Tabelas!B:D,3,0),0),\"\")","v":0},{"$f":"IF(A29<>\"\",IFERROR(VLOOKUP(AF29,Tabelas!B:D,3,0),0),\"\")","v":24},{"$f":"IF(A29<>\"\",IFERROR(VLOOKUP(AG29,Tabelas!B:D,3,0),0),\"\")","v":0},{"$f":"IF(A29<>\"\",IFERROR(VLOOKUP(AH29,Tabelas!B:D,3,0),0),\"\")","v":0},{"$f":"IF(A29<>\"\",IFERROR(VLOOKUP(AI29,Tabelas!B:D,3,0),0),\"\")","v":0},{"$f":"IF(A29<>\"\",IFERROR(VLOOKUP(AJ29,Tabelas!B:D,3,0),0),\"\")","v":0},{"$f":"IF(A29<>\"\",IFERROR(VLOOKUP(AK29,Tabelas!B:D,3,0),0),\"\")","v":12},{"$f":"IF(A29<>\"\",IFERROR(VLOOKUP(AL29,Tabelas!B:D,3,0),0),\"\")","v":0},{"$f":"IF(A29<>\"\",IFERROR(VLOOKUP(AM29,Tabelas!B:D,3,0),0),\"\")","v":0},{"$f":"IF(A29<>\"\",IFERROR(VLOOKUP(AN29,Tabelas!B:D,3,0),0),\"\")","v":12},{"$f":"IF(A29<>\"\",IFERROR(VLOOKUP(AO29,Tabelas!B:D,3,0),0),\"\")","v":0},{"$f":"IF(A29<>\"\",IFERROR(VLOOKUP(AP29,Tabelas!B:D,3,0),0),\"\")","v":0},{"$f":"IF(A29<>\"\",IFERROR(VLOOKUP(AQ29,Tabelas!B:D,3,0),0),\"\")","v":0},{"$f":"IF(AND(A29<>\"\",E29=\"Ebserh\"),SUM(AR29:BV29)+COUNTIF(M29:AQ29,\"N*\")+COUNTIF(M29:AQ29,\"DN*\"),IF(AND(A29<>\"\",E29<>\"Ebserh\"),SUM(AR29:BV29),\"\"))","v":84},{"$f":"IF(A29<>\"\",COUNTIF(M29:AQ29,\"LM\")+COUNTIF(M29:AQ29,\"L\")+COUNTIF(M29:AQ29,\"LP\"),\"\")","v":0},{"$f":"IF(A29<>\"\",COUNTIF(M29:AQ29,\"AB*\"),\"\")","v":0},{"$f":"IF(A29<>\"\",COUNTIF(M29:AQ29,\"FE\"),\"\")","v":0},{"$f":"IF(A29<>\"\",COUNTIF(M29:AQ29,\"LC\"),\"\")","v":0},{"$f":"IF(A29<>\"\",COUNTIF(M29:AQ29,\"CH*\"),\"\")","v":0},{"$f":"IF(A29<>\"\",COUNTIF(M29:AQ29,\"AF1\")+COUNTIF(M29:AQ29,\"AF2\")+COUNTIF(M29:AQ29,\"AF3\")+COUNTIF(M29:AQ29,\"AF4\")+COUNTIF(M29:AQ29,\"AF5\")+COUNTIF(M29:AQ29,\"AF6\")+COUNTIF(M29:AQ29,\"AF7\")+COUNTIF(M29:AQ29,\"AF8\")+COUNTIF(M29:AQ29,\"AF9\")+COUNTIF(M29:AQ29,\"AF10\")+COUNTIF(M29:AQ29,\"AF11\")+COUNTIF(M29:AQ29,\"AF12\")+COUNTIF(M29:AQ29,\"AF13\")+COUNTIF(M29:AQ29,\"AF14\"),\"\")","v":0},{"$f":"IF(A29<>\"\",COUNTIF(M29:AQ29,\"CH*\")+COUNTIF(M29:AQ29,\"L\")+COUNTIF(M29:AQ29,\"LM\")+COUNTIF(M29:AQ29,\"LP\")+COUNTIF(M29:AQ29,\"LC\")+COUNTIF(M29:AQ29,\"AB*\")+COUNTIF(M29:AQ29,\"AF1\")+COUNTIF(M29:AQ29,\"AF2\")+COUNTIF(M29:AQ29,\"AF3\")+COUNTIF(M29:AQ29,\"AF4\")+COUNTIF(M29:AQ29,\"AF5\")+COUNTIF(M29:AQ29,\"AF6\")+COUNTIF(M29:AQ29,\"AF7\")+COUNTIF(M29:AQ29,\"AF8\")+COUNTIF(M29:AQ29,\"AF9\")+COUNTIF(M29:AQ29,\"AF10\")+COUNTIF(M29:AQ29,\"AF11\")+COUNTIF(M29:AQ29,\"AF12\")+COUNTIF(M29:AQ29,\"AF13\")+COUNTIF(M29:AQ29,\"AF14\")+COUNTIF(M29:AQ29,\"RC\")+COUNTIF(M29:AQ29,\"FO\")+COUNTIF(M29:AQ29,\"FE\"),\"\")","v":0}]
["Eduardo Jardim Berbigier",2604323,null,"ME","RJU",20,null,null,null,null,null,null,null,null,null,null,"N10",null,null,null,null,null,"N10",null,"D8","N10",null,null,null,null,null,null,null,null,"N10",null,null,null,"D8",null,null,null,null,{"$f":"IF(A30<>\"\",IFERROR(VLOOKUP(M30,Tabelas!B:D,3,0),0),\"\")","v":0},{"$f":"IF(A30<>\"\",IFERROR(VLOOKUP(N30,Tabelas!B:D,3,0),0),\"\")","v":0},{"$f":"IF(A30<>\"\",IFERROR(VLOOKUP(O30,Tabelas!B:D,3,0),0),\"\")","v":0},{"$f":"IF(A30<>\"\",IFERROR(VLOOKUP(P30,Tabelas!B:D,3,0),0),\"\")","v":0},{"$f":"IF(A30<>\"\",IFERROR(VLOOKUP(Q30,Tabelas!B:D,3,0),0),\"\")","v":12},{"$f":"IF(A30<>\"\",IFERROR(VLOOKUP(R30,Tabelas!B:D,3,0),0),\"\")","v":0},{"$f":"IF(A30<>\"\",IFERROR(VLOOKUP(S30,Tabelas!B:D,3,0),0),\"\")","v":0},{"$f":"IF(A30<>\"\",IFERROR(VLOOKUP(T30,Tabelas!B:D,3,0),0),\"\")","v":0},{"$f":"IF(A30<>\"\",IFERROR(VLOOKUP(U30,Tabelas!B:D,3,0),0),\"\")","v":0},{"$f":"IF(A30<>\"\",IFERROR(VLOOKUP(V30,Tabelas!B:D,3,0),0),\"\")","v":0},{"$f":"IF(A30<>\"\",IFERROR(VLOOKUP(W30,Tabelas!B:D,3,0),0),\"\")","v":12},{"$f":"IF(A30<>\"\",IFERROR(VLOOKUP(X30,Tabelas!B:D,3,0),0),\"\")","v":0},{"$f":"IF(A30<>\"\",IFERROR(VLOOKUP(Y30,Tabelas!B:D,3,0),0),\"\")","v":12},{"$f":"IF(A30<>\"\",IFERROR(VLOOKUP(Z30,Tabelas!B:D,3,0),0),\"\")","v":12},{"$f":"IF(A30<>\"\",IFERROR(VLOOKUP(AA30,Tabelas!B:D,3,0),0),\"\")","v":0},{"$f":"IF(A30<>\"\",IFERROR(VLOOKUP(AB30,Tabelas!B:D,3,0),0),\"\")","v":0},{"$f":"IF(A30<>\"\",IFERROR(VLOOKUP(AC30,Tabelas!B:D,3,0),0),\"\")","v":0},{"$f":"IF(A30<>\"\",IFERROR(VLOOKUP(AD30,Tabelas!B:D,3,0),0),\"\")","v":0},{"$f":"IF(A30<>\"\",IFERROR(VLOOKUP(AE30,Tabelas!B:D,3,0),0),\"\")","v":0},{"$f":"IF(A30<>\"\",IFERROR(VLOOKUP(AF30,Tabelas!B:D,3,0),0),\"\")","v":0},{"$f":"IF(A30<>\"\",IFERROR(VLOOKUP(AG30,Tabelas!B:D,3,0),0),\"\")","v":0},{"$f":"IF(A30<>\"\",IFERROR(VLOOKUP(AH30,Tabelas!B:D,3,0),0),\"\")","v":0},{"$f":"IF(A30<>\"\",IFERROR(VLOOKUP(AI30,Tabelas!B:D,3,0),0),\"\")","v":12},{"$f":"IF(A30<>\"\",IFERROR(VLOOKUP(AJ30,Tabelas!B:D,3,0),0),\"\")","v":0},{"$f":"IF(A30<>\"\",IFERROR(VLOOKUP(AK30,Tabelas!B:D,3,0),0),\"\")","v":0},{"$f":"IF(A30<>\"\",IFERROR(VLOOKUP(AL30,Tabelas!B:D,3,0),0),\"\")","v":0},{"$f":"IF(A30<>\"\",IFERROR(VLOOKUP(AM30,Tabelas!B:D,3,0),0),\"\")","v":12},{"$f":"IF(A30<>\"\",IFERROR(VLOOKUP(AN30,Tabelas!B:D,3,0),0),\"\")","v":0},{"$f":"IF(A30<>\"\",IFERROR(VLOOKUP(AO30,Tabelas!B:D,3,0),0),\"\")","v":0},{"$f":"IF(A30<>\"\",IFERROR(VLOOKUP(AP30,Tabelas!B:D,3,0),0),\"\")","v":0},{"$f":"IF(A30<>\"\",IFERROR(VLOOKUP(AQ30,Tabelas!B:D,3,0),0),\"\")","v":0},72,0,0,0,0,0,0,0]
["Fernanda Goss Fontanella",1200689,null,"ME","EBSERH",24,null,null,null,null,null,null,null,"N10",null,null,null,"D8",null,null,null,"N10",null,null,null,"N10",null,null,null,null,"DN6",null,null,null,null,"N10",null,null,"N10",null,null,null,null,{"$f":"IF(A31<>\"\",IFERROR(VLOOKUP(M31,Tabelas!B:D,3,0),0),\"\")","v":0},{"$f":"IF(A31<>\"\",IFERROR(VLOOKUP(N31,Tabelas!B:D,3,0),0),\"\")","v":12},{"$f":"IF(A31<>\"\",IFERROR(VLOOKUP(O31,Tabelas!B:D,3,0),0),\"\")","v":0},{"$f":"IF(A31<>\"\",IFERROR(VLOOKUP(P31,Tabelas!B:D,3,0),0),\"\")","v":0},{"$f":"IF(A31<>\"\",IFERROR(VLOOKUP(Q31,Tabelas!B:D,3,0),0),\"\")","v":0},{"$f":"IF(A31<>\"\",IFERROR(VLOOKUP(R31,Tabelas!B:D,3,0),0),\"\")","v":12},{"$f":"IF(A31<>\"\",IFERROR(VLOOKUP(S31,Tabelas!B:D,3,0),0),\"\")","v":0},{"$f":"IF(A31<>\"\",IFERROR(VLOOKUP(T31,Tabelas!B:D,3,0),0),\"\")","v":0},{"$f":"IF(A31<>\"\",IFERROR(VLOOKUP(U31,Tabelas!B:D,3,0),0),\"\")","v":0},{"$f":"IF(A31<>\"\",IFERROR(VLOOKUP(V31,Tabelas!B:D,3,0),0),\"\")","v":12},{"$f":"IF(A31<>\"\",IFERROR(VLOOKUP(W31,Tabelas!B:D,3,0),0),\"\")","v":0},{"$f":"IF(A31<>\"\",IFERROR(VLOOKUP(X31,Tabelas!B:D,3,0),0),\"\")","v":0},{"$f":"IF(A31<>\"\",IFERROR(VLOOKUP(Y31,Tabelas!B:D,3,0),0),\"\")","v":0},{"$f":"IF(A31<>\"\",IFERROR(VLOOKUP(Z31,Tabelas!B:D,3,0),0),\"\")","v":12},{"$f":"IF(A31<>\"\",IFERROR(VLOOKUP(AA31,Tabelas!B:D,3,0),0),\"\")","v":0},{"$f":"IF(A31<>\"\",IFERROR(VLOOKUP(AB31,Tabelas!B:D,3,0),0),\"\")","v":0},{"$f":"IF(A31<>\"\",IFERROR(VLOOKUP(AC31,Tabelas!B:D,3,0),0),\"\")","v":0},{"$f":"IF(A31<>\"\",IFERROR(VLOOKUP(AD31,Tabelas!B:D,3,0),0),\"\")","v":0},{"$f":"IF(A31<>\"\",IFERROR(VLOOKUP(AE31,Tabelas!B:D,3,0),0),\"\")","v":24},{"$f":"IF(A31<>\"\",IFERROR(VLOOKUP(AF31,Tabelas!B:D,3,0),0),\"\")","v":0},{"$f":"IF(A31<>\"\",IFERROR(VLOOKUP(AG31,Tabelas!B:D,3,0),0),\"\")","v":0},{"$f":"IF(A31<>\"\",IFERROR(VLOOKUP(AH31,Tabelas!B:D,3,0),0),\"\")","v":0},{"$f":"IF(A31<>\"\",IFERROR(VLOOKUP(AI31,Tabelas!B:D,3,0),0),\"\")","v":0},{"$f":"IF(A31<>\"\",IFERROR(VLOOKUP(AJ31,Tabelas!B:D,3,0),0),\"\")","v":12},{"$f":"IF(A31<>\"\",IFERROR(VLOOKUP(AK31,Tabelas!B:D,3,0),0),\"\")","v":0},{"$f":"IF(A31<>\"\",IFERROR(VLOOKUP(AL31,Tabelas!B:D,3,0),0),\"\")","v":0},{"$f":"IF(A31<>\"\",IFERROR(VLOOKUP(AM31,Tabelas!B:D,3,0),0),\"\")","v":12},{"$f":"IF(A31<>\"\",IFERROR(VLOOKUP(AN31,Tabelas!B:D,3,0),0),\"\")","v":0},{"$f":"IF(A31<>\"\",IFERROR(VLOOKUP(AO31,Tabelas!B:D,3,0),0),\"\")","v":0},{"$f":"IF(A31<>\"\",IFERROR(VLOOKUP(AP31,Tabelas!B:D,3,0),0),\"\")","v":0},{"$f":"IF(A31<>\"\",IFERROR(VLOOKUP(AQ31,Tabelas!B:D,3,0),0),\"\")","v":0},102,0,0,0,0,0,0,0]
["Irácino José Miranda Júnior",1006032,null,"ME","EBSERH",24,null,null,null,null,null,null,"N10",null,null,null,"N10",null,null,null,"N10",null,null,null,"DN6",null,null,null,"N10",null,null,null,null,"N10",null,null,null,null,"D8",null,null,null,null,{"$f":"IF(A32<>\"\",IFERROR(VLOOKUP(M32,Tabelas!B:D,3,0),0),\"\")","v":12},{"$f":"IF(A32<>\"\",IFERROR(VLOOKUP(N32,Tabelas!B:D,3,0),0),\"\")","v":0},{"$f":"IF(A32<>\"\",IFERROR(VLOOKUP(O32,Tabelas!B:D,3,0),0),\"\")","v":0},{"$f":"IF(A32<>\"\",IFERROR(VLOOKUP(P32,Tabelas!B:D,3,0),0),\"\")","v":0},{"$f":"IF(A32<>\"\",IFERROR(VLOOKUP(Q32,Tabelas!B:D,3,0),0),\"\")","v":12},{"$f":"IF(A32<>\"\",IFERROR(VLOOKUP(R32,Tabelas!B:D,3,0),0),\"\")","v":0},{"$f":"IF(A32<>\"\",IFERROR(VLOOKUP(S32,Tabelas!B:D,3,0),0),\"\")","v":0},{"$f":"IF(A32<>\"\",IFERROR(VLOOKUP(T32,Tabelas!B:D,3,0),0),\"\")","v":0},{"$f":"IF(A32<>\"\",IFERROR(VLOOKUP(U32,Tabelas!B:D,3,0),0),\"\")","v":12},{"$f":"IF(A32<>\"\",IFERROR(VLOOKUP(V32,Tabelas!B:D,3,0),0),\"\")","v":0},{"$f":"IF(A32<>\"\",IFERROR(VLOOKUP(W32,Tabelas!B:D,3,0),0),\"\")","v":0},{"$f":"IF(A32<>\"\",IFERROR(VLOOKUP(X32,Tabelas!B:D,3,0),0),\"\")","v":0},{"$f":"IF(A32<>\"\",IFERROR(VLOOKUP(Y32,Tabelas!B:D,3,0),0),\"\")","v":24},{"$f":"IF(A32<>\"\",IFERROR(VLOOKUP(Z32,Tabelas!B:D,3,0),0),\"\")","v":0},{"$f":"IF(A32<>\"\",IFERROR(VLOOKUP(AA32,Tabelas!B:D,3,0),0),\"\")","v":0},{"$f":"IF(A32<>\"\",IFERROR(VLOOKUP(AB32,Tabelas!B:D,3,0),0),\"\")","v":0},{"$f":"IF(A32<>\"\",IFERROR(VLOOKUP(AC32,Tabelas!B:D,3,0),0),\"\")","v":12},{"$f":"IF(A32<>\"\",IFERROR(VLOOKUP(AD32,Tabelas!B:D,3,0),0),\"\")","v":0},{"$f":"IF(A32<>\"\",IFERROR(VLOOKUP(AE32,Tabelas!B:D,3,0),0),\"\")","v":0},{"$f":"IF(A32<>\"\",IFERROR(VLOOKUP(AF32,Tabelas!B:D,3,0),0),\"\")","v":0},{"$f":"IF(A32<>\"\",IFERROR(VLOOKUP(AG32,Tabelas!B:D,3,0),0),\"\")","v":0},{"$f":"IF(A32<>\"\",IFERROR(VLOOKUP(AH32,Tabelas!B:D,3,0),0),\"\")","v":12},{"$f":"IF(A32<>\"\",IFERROR(VLOOKUP(AI32,Tabelas!B:D,3,0),0),\"\")","v":0},{"$f":"IF(A32<>\"\",IFERROR(VLOOKUP(AJ32,Tabelas!B:D,3,0),0),\"\")","v":0},{"$f":"IF(A32<>\"\",IFERROR(VLOOKUP(AK32,Tabelas!B:D,3,0),0),\"\")","v":0},{"$f":"IF(A32<>\"\",IFERROR(VLOOKUP(AL32,Tabelas!B:D,3,0),0),\"\")","v":0},{"$f":"IF(A32<>\"\",IFERROR(VLOOKUP(AM32,Tabelas!B:D,3,0),0),\"\")","v":12},{"$f":"IF(A32<>\"\",IFERROR(VLOOKUP(AN32,Tabelas!B:D,3,0),0),\"\")","v":0},{"$f":"IF(A32<>\"\",IFERROR(VLOOKUP(AO32,Tabelas!B:D,3,0),0),\"\")","v":0},{"$f":"IF(A32<>\"\",IFERROR(VLOOKUP(AP32,Tabelas!B:D,3,0),0),\"\")","v":0},{"$f":"IF(A32<>\"\",IFERROR(VLOOKUP(AQ32,Tabelas!B:D,3,0),0),\"\")","v":0},102,0,0,0,0,0,0,0]
["Jaqueline Flores Rohr",1841545,null,"ME","EBSERH",24,null,null,null,null,null,null,"N10",null,null,null,null,"D8",null,null,null,null,null,null,"N10",null,null,"N10",null,null,"DN6",null,null,null,"N10",null,null,null,null,null,"N10",null,null,{"$f":"IF(A33<>\"\",IFERROR(VLOOKUP(M33,Tabelas!B:D,3,0),0),\"\")","v":12},{"$f":"IF(A33<>\"\",IFERROR(VLOOKUP(N33,Tabelas!B:D,3,0),0),\"\")","v":0},{"$f":"IF(A33<>\"\",IFERROR(VLOOKUP(O33,Tabelas!B:D,3,0),0),\"\")","v":0},{"$f":"IF(A33<>\"\",IFERROR(VLOOKUP(P33,Tabelas!B:D,3,0),0),\"\")","v":0},{"$f":"IF(A33<>\"\",IFERROR(VLOOKUP(Q33,Tabelas!B:D,3,0),0),\"\")","v":0},{"$f":"IF(A33<>\"\",IFERROR(VLOOKUP(R33,Tabelas!B:D,3,0),0),\"\")","v":12},{"$f":"IF(A33<>\"\",IFERROR(VLOOKUP(S33,Tabelas!B:D,3,0),0),\"\")","v":0},{"$f":"IF(A33<>\"\",IFERROR(VLOOKUP(T33,Tabelas!B:D,3,0),0),\"\")","v":0},{"$f":"IF(A33<>\"\",IFERROR(VLOOKUP(U33,Tabelas!B:D,3,0),0),\"\")","v":0},{"$f":"IF(A33<>\"\",IFERROR(VLOOKUP(V33,Tabelas!B:D,3,0),0),\"\")","v":0},{"$f":"IF(A33<>\"\",IFERROR(VLOOKUP(W33,Tabelas!B:D,3,0),0),\"\")","v":0},{"$f":"IF(A33<>\"\",IFERROR(VLOOKUP(X33,Tabelas!B:D,3,0),0),\"\")","v":0},{"$f":"IF(A33<>\"\",IFERROR(VLOOKUP(Y33,Tabelas!B:D,3,0),0),\"\")","v":12},{"$f":"IF(A33<>\"\",IFERROR(VLOOKUP(Z33,Tabelas!B:D,3,0),0),\"\")","v":0},{"$f":"IF(A33<>\"\",IFERROR(VLOOKUP(AA33,Tabelas!B:D,3,0),0),\"\")","v":0},{"$f":"IF(A33<>\"\",IFERROR(VLOOKUP(AB33,Tabelas!B:D,3,0),0),\"\")","v":12},{"$f":"IF(A33<>\"\",IFERROR(VLOOKUP(AC33,Tabelas!B:D,3,0),0),\"\")","v":0},{"$f":"IF(A33<>\"\",IFERROR(VLOOKUP(AD33,Tabelas!B:D,3,0),0),\"\")","v":0},{"$f":"IF(A33<>\"\",IFERROR(VLOOKUP(AE33,Tabelas!B:D,3,0),0),\"\")","v":24},{"$f":"IF(A33<>\"\",IFERROR(VLOOKUP(AF33,Tabelas!B:D,3,0),0),\"\")","v":0},{"$f":"IF(A33<>\"\",IFERROR(VLOOKUP(AG33,Tabelas!B:D,3,0),0),\"\")","v":0},{"$f":"IF(A33<>\"\",IFERROR(VLOOKUP(AH33,Tabelas!B:D,3,0),0),\"\")","v":0},{"$f":"IF(A33<>\"\",IFERROR(VLOOKUP(AI33,Tabelas!B:D,3,0),0),\"\")","v":12},{"$f":"IF(A33<>\"\",IFERROR(VLOOKUP(AJ33,Tabelas!B:D,3,0),0),\"\")","v":0},{"$f":"IF(A33<>\"\",IFERROR(VLOOKUP(AK33,Tabelas!B:D,3,0),0),\"\")","v":0},{"$f":"IF(A33<>\"\",IFERROR(VLOOKUP(AL33,Tabelas!B:D,3,0),0),\"\")","v":0},{"$f":"IF(A33<>\"\",IFERROR(VLOOKUP(AM33,Tabelas!B:D,3,0),0),\"\")","v":0},{"$f":"IF(A33<>\"\",IFERROR(VLOOKUP(AN33,Tabelas!B:D,3,0),0),\"\")","v":0},{"$f":"IF(A33<>\"\",IFERROR(VLOOKUP(AO33,Tabelas!B:D,3,0),0),\"\")","v":12},{"$f":"IF(A33<>\"\",IFERROR(VLOOKUP(AP33,Tabelas!B:D,3,0),0),\"\")","v":0},{"$f":"IF(A33<>\"\",IFERROR(VLOOKUP(AQ33,Tabelas!B:D,3,0),0),\"\")","v":0},102,0,0,0,0,0,0,0]
["João Luiz Henrique da Silveira",1704052,null,"ME","EBSERH",24,null,null,null,null,null,null,null,null,null,"CH-12",null,"N10",null,null,"N10",null,null,"D8",null,null,null,"FE","FE","FE","FE","FE","FE","FE","FE","FE","FE","FE","FE","FE","FE","FE",null,{"$f":"IF(A34<>\"\",IFERROR(VLOOKUP(M34,Tabelas!B:D,3,0),0),\"\")","v":0},{"$f":"IF(A34<>\"\",IFERROR(VLOOKUP(N34,Tabelas!B:D,3,0),0),\"\")","v":0},{"$f":"IF(A34<>\"\",IFERROR(VLOOKUP(O34,Tabelas!B:D,3,0),0),\"\")","v":0},{"$f":"IF(A34<>\"\",IFERROR(VLOOKUP(P34,Tabelas!B:D,3,0),0),\"\")","v":0},{"$f":"IF(A34<>\"\",IFERROR(VLOOKUP(Q34,Tabelas!B:D,3,0),0),\"\")","v":0},{"$f":"IF(A34<>\"\",IFERROR(VLOOKUP(R34,Tabelas!B:D,3,0),0),\"\")","v":12},{"$f":"IF(A34<>\"\",IFERROR(VLOOKUP(S34,Tabelas!B:D,3,0),0),\"\")","v":0},{"$f":"IF(A34<>\"\",IFERROR(VLOOKUP(T34,Tabelas!B:D,3,0),0),\"\")","v":0},{"$f":"IF(A34<>\"\",IFERROR(VLOOKUP(U34,Tabelas!B:D,3,0),0),\"\")","v":12},{"$f":"IF(A34<>\"\",IFERROR(VLOOKUP(V34,Tabelas!B:D,3,0),0),\"\")","v":0},{"$f":"IF(A34<>\"\",IFERROR(VLOOKUP(W34,Tabelas!B:D,3,0),0),\"\")","v":0},{"$f":"IF(A34<>\"\",IFERROR(VLOOKUP(X34,Tabelas!B:D,3,0),0),\"\")","v":12},{"$f":"IF(A34<>\"\",IFERROR(VLOOKUP(Y34,Tabelas!B:D,3,0),0),\"\")","v":0},{"$f":"IF(A34<>\"\",IFERROR(VLOOKUP(Z34,Tabelas!B:D,3,0),0),\"\")","v":0},{"$f":"IF(A34<>\"\",IFERROR(VLOOKUP(AA34,Tabelas!B:D,3,0),0),\"\")","v":0},{"$f":"IF(A34<>\"\",IFERROR(VLOOKUP(AB34,Tabelas!B:D,3,0),0),\"\")","v":0},{"$f":"IF(A34<>\"\",IFERROR(VLOOKUP(AC34,Tabelas!B:D,3,0),0),\"\")","v":0},{"$f":"IF(A34<>\"\",IFERROR(VLOOKUP(AD34,Tabelas!B:D,3,0),0),\"\")","v":0},{"$f":"IF(A34<>\"\",IFERROR(VLOOKUP(AE34,Tabelas!B:D,3,0),0),\"\")","v":0},{"$f":"IF(A34<>\"\",IFERROR(VLOOKUP(AF34,Tabelas!B:D,3,0),0),\"\")","v":0},{"$f":"IF(A34<>\"\",IFERROR(VLOOKUP(AG34,Tabelas!B:D,3,0),0),\"\")","v":0},{"$f":"IF(A34<>\"\",IFERROR(VLOOKUP(AH34,Tabelas!B:D,3,0),0),\"\")","v":0},{"$f":"IF(A34<>\"\",IFERROR(VLOOKUP(AI34,Tabelas!B:D,3,0),0),\"\")","v":0},{"$f":"IF(A34<>\"\",IFERROR(VLOOKUP(AJ34,Tabelas!B:D,3,0),0),\"\")","v":0},{"$f":"IF(A34<>\"\",IFERROR(VLOOKUP(AK34,Tabelas!B:D,3,0),0),\"\")","v":0},{"$f":"IF(A34<>\"\",IFERROR(VLOOKUP(AL34,Tabelas!B:D,3,0),0),\"\")","v":0},{"$f":"IF(A34<>\"\",IFERROR(VLOOKUP(AM34,Tabelas!B:D,3,0),0),\"\")","v":0},{"$f":"IF(A34<>\"\",IFERROR(VLOOKUP(AN34,Tabelas!B:D,3,0),0),\"\")","v":0},{"$f":"IF(A34<>\"\",IFERROR(VLOOKUP(AO34,Tabelas!B:D,3,0),0),\"\")","v":0},{"$f":"IF(A34<>\"\",IFERROR(VLOOKUP(AP34,Tabelas!B:D,3,0),0),\"\")","v":0},{"$f":"IF(A34<>\"\",IFERROR(VLOOKUP(AQ34,Tabelas!B:D,3,0),0),\"\")","v":0},38,0,0,15,0,1,0,16]
["Joel de Andrade",1160444,null,"ME","RJU",40,null,null,null,null,null,null,null,"N10",null,null,"D8",null,null,null,null,null,"N10",null,"D8",null,null,null,null,null,null,null,null,null,null,"N10",null,"N10",null,null,null,null,null,{"$f":"IF(A35<>\"\",IFERROR(VLOOKUP(M35,Tabelas!B:D,3,0),0),\"\")","v":0},{"$f":"IF(A35<>\"\",IFERROR(VLOOKUP(N35,Tabelas!B:D,3,0),0),\"\")","v":12},{"$f":"IF(A35<>\"\",IFERROR(VLOOKUP(O35,Tabelas!B:D,3,0),0),\"\")","v":0},{"$f":"IF(A35<>\"\",IFERROR(VLOOKUP(P35,Tabelas!B:D,3,0),0),\"\")","v":0},{"$f":"IF(A35<>\"\",IFERROR(VLOOKUP(Q35,Tabelas!B:D,3,0),0),\"\")","v":12},{"$f":"IF(A35<>\"\",IFERROR(VLOOKUP(R35,Tabelas!B:D,3,0),0),\"\")","v":0},{"$f":"IF(A35<>\"\",IFERROR(VLOOKUP(S35,Tabelas!B:D,3,0),0),\"\")","v":0},{"$f":"IF(A35<>\"\",IFERROR(VLOOKUP(T35,Tabelas!B:D,3,0),0),\"\")","v":0},{"$f":"IF(A35<>\"\",IFERROR(VLOOKUP(U35,Tabelas!B:D,3,0),0),\"\")","v":0},{"$f":"IF(A35<>\"\",IFERROR(VLOOKUP(V35,Tabelas!B:D,3,0),0),\"\")","v":0},{"$f":"IF(A35<>\"\",IFERROR(VLOOKUP(W35,Tabelas!B:D,3,0),0),\"\")","v":12},{"$f":"IF(A35<>\"\",IFERROR(VLOOKUP(X35,Tabelas!B:D,3,0),0),\"\")","v":0},{"$f":"IF(A35<>\"\",IFERROR(VLOOKUP(Y35,Tabelas!B:D,3,0),0),\"\")","v":12},{"$f":"IF(A35<>\"\",IFERROR(VLOOKUP(Z35,Tabelas!B:D,3,0),0),\"\")","v":0},{"$f":"IF(A35<>\"\",IFERROR(VLOOKUP(AA35,Tabelas!B:D,3,0),0),\"\")","v":0},{"$f":"IF(A35<>\"\",IFERROR(VLOOKUP(AB35,Tabelas!B:D,3,0),0),\"\")","v":0},{"$f":"IF(A35<>\"\",IFERROR(VLOOKUP(AC35,Tabelas!B:D,3,0),0),\"\")","v":0},{"$f":"IF(A35<>\"\",IFERROR(VLOOKUP(AD35,Tabelas!B:D,3,0),0),\"\")","v":0},{"$f":"IF(A35<>\"\",IFERROR(VLOOKUP(AE35,Tabelas!B:D,3,0),0),\"\")","v":0},{"$f":"IF(A35<>\"\",IFERROR(VLOOKUP(AF35,Tabelas!B:D,3,0),0),\"\")","v":0},{"$f":"IF(A35<>\"\",IFERROR(VLOOKUP(AG35,Tabelas!B:D,3,0),0),\"\")","v":0},{"$f":"IF(A35<>\"\",IFERROR(VLOOKUP(AH35,Tabelas!B:D,3,0),0),\"\")","v":0},{"$f":"IF(A35<>\"\",IFERROR(VLOOKUP(AI35,Tabelas!B:D,3,0),0),\"\")","v":0},{"$f":"IF(A35<>\"\",IFERROR(VLOOKUP(AJ35,Tabelas!B:D,3,0),0),\"\")","v":12},{"$f":"IF(A35<>\"\",IFERROR(VLOOKUP(AK35,Tabelas!B:D,3,0),0),\"\")","v":0},{"$f":"IF(A35<>\"\",IFERROR(VLOOKUP(AL35,Tabelas!B:D,3,0),0),\"\")","v":12},{"$f":"IF(A35<>\"\",IFERROR(VLOOKUP(AM35,Tabelas!B:D,3,0),0),\"\")","v":0},{"$f":"IF(A35<>\"\",IFERROR(VLOOKUP(AN35,Tabelas!B:D,3,0),0),\"\")","v":0},{"$f":"IF(A35<>\"\",IFERROR(VLOOKUP(AO35,Tabelas!B:D,3,0),0),\"\")","v":0},{"$f":"IF(A35<>\"\",IFERROR(VLOOKUP(AP35,Tabelas!B:D,3,0),0),\"\")","v":0},{"$f":"IF(A35<>\"\",IFERROR(VLOOKUP(AQ35,Tabelas!B:D,3,0),0),\"\")","v":0},72,0,0,0,0,0,0,0]
["Karine Damiani Cabral ",1925603,null,"ME","EBSERH",24,null,null,null,null,null,null,null,null,"N10",null,null,null,"N10",null,null,null,null,"DN6",null,null,null,"N10",null,null,null,null,"N10",null,null,null,null,"D8",null,null,"N10",null,null,{"$f":"IF(A36<>\"\",IFERROR(VLOOKUP(M36,Tabelas!B:D,3,0),0),\"\")","v":0},{"$f":"IF(A36<>\"\",IFERROR(VLOOKUP(N36,Tabelas!B:D,3,0),0),\"\")","v":0},{"$f":"IF(A36<>\"\",IFERROR(VLOOKUP(O36,Tabelas!B:D,3,0),0),\"\")","v":12},{"$f":"IF(A36<>\"\",IFERROR(VLOOKUP(P36,Tabelas!B:D,3,0),0),\"\")","v":0},{"$f":"IF(A36<>\"\",IFERROR(VLOOKUP(Q36,Tabelas!B:D,3,0),0),\"\")","v":0},{"$f":"IF(A36<>\"\",IFERROR(VLOOKUP(R36,Tabelas!B:D,3,0),0),\"\")","v":0},{"$f":"IF(A36<>\"\",IFERROR(VLOOKUP(S36,Tabelas!B:D,3,0),0),\"\")","v":12},{"$f":"IF(A36<>\"\",IFERROR(VLOOKUP(T36,Tabelas!B:D,3,0),0),\"\")","v":0},{"$f":"IF(A36<>\"\",IFERROR(VLOOKUP(U36,Tabelas!B:D,3,0),0),\"\")","v":0},{"$f":"IF(A36<>\"\",IFERROR(VLOOKUP(V36,Tabelas!B:D,3,0),0),\"\")","v":0},{"$f":"IF(A36<>\"\",IFERROR(VLOOKUP(W36,Tabelas!B:D,3,0),0),\"\")","v":0},{"$f":"IF(A36<>\"\",IFERROR(VLOOKUP(X36,Tabelas!B:D,3,0),0),\"\")","v":24},{"$f":"IF(A36<>\"\",IFERROR(VLOOKUP(Y36,Tabelas!B:D,3,0),0),\"\")","v":0},{"$f":"IF(A36<>\"\",IFERROR(VLOOKUP(Z36,Tabelas!B:D,3,0),0),\"\")","v":0},{"$f":"IF(A36<>\"\",IFERROR(VLOOKUP(AA36,Tabelas!B:D,3,0),0),\"\")","v":0},{"$f":"IF(A36<>\"\",IFERROR(VLOOKUP(AB36,Tabelas!B:D,3,0),0),\"\")","v":12},{"$f":"IF(A36<>\"\",IFERROR(VLOOKUP(AC36,Tabelas!B:D,3,0),0),\"\")","v":0},{"$f":"IF(A36<>\"\",IFERROR(VLOOKUP(AD36,Tabelas!B:D,3,0),0),\"\")","v":0},{"$f":"IF(A36<>\"\",IFERROR(VLOOKUP(AE36,Tabelas!B:D,3,0),0),\"\")","v":0},{"$f":"IF(A36<>\"\",IFERROR(VLOOKUP(AF36,Tabelas!B:D,3,0),0),\"\")","v":0},{"$f":"IF(A36<>\"\",IFERROR(VLOOKUP(AG36,Tabelas!B:D,3,0),0),\"\")","v":12},{"$f":"IF(A36<>\"\",IFERROR(VLOOKUP(AH36,Tabelas!B:D,3,0),0),\"\")","v":0},{"$f":"IF(A36<>\"\",IFERROR(VLOOKUP(AI36,Tabelas!B:D,3,0),0),\"\")","v":0},{"$f":"IF(A36<>\"\",IFERROR(VLOOKUP(AJ36,Tabelas!B:D,3,0),0),\"\")","v":0},{"$f":"IF(A36<>\"\",IFERROR(VLOOKUP(AK36,Tabelas!B:D,3,0),0),\"\")","v":0},{"$f":"IF(A36<>\"\",IFERROR(VLOOKUP(AL36,Tabelas!B:D,3,0),0),\"\")","v":12},{"$f":"IF(A36<>\"\",IFERROR(VLOOKUP(AM36,Tabelas!B:D,3,0),0),\"\")","v":0},{"$f":"IF(A36<>\"\",IFERROR(VLOOKUP(AN36,Tabelas!B:D,3,0),0),\"\")","v":0},{"$f":"IF(A36<>\"\",IFERROR(VLOOKUP(AO36,Tabelas!B:D,3,0),0),\"\")","v":12},{"$f":"IF(A36<>\"\",IFERROR(VLOOKUP(AP36,Tabelas!B:D,3,0),0),\"\")","v":0},{"$f":"IF(A36<>\"\",IFERROR(VLOOKUP(AQ36,Tabelas!B:D,3,0),0),\"\")","v":0},102,0,0,0,0,0,0,0]
["Pedro Luz da Rosa",2606805,null,"ME","RJU",20,null,null,null,null,null,null,null,"N10",null,null,"D8",null,null,null,null,null,null,null,null,null,"N10",null,null,null,"D8",null,null,null,null,"N10",null,"N10",null,null,null,null,null,{"$f":"IF(A37<>\"\",IFERROR(VLOOKUP(M37,Tabelas!B:D,3,0),0),\"\")","v":0},{"$f":"IF(A37<>\"\",IFERROR(VLOOKUP(N37,Tabelas!B:D,3,0),0),\"\")","v":12},{"$f":"IF(A37<>\"\",IFERROR(VLOOKUP(O37,Tabelas!B:D,3,0),0),\"\")","v":0},{"$f":"IF(A37<>\"\",IFERROR(VLOOKUP(P37,Tabelas!B:D,3,0),0),\"\")","v":0},{"$f":"IF(A37<>\"\",IFERROR(VLOOKUP(Q37,Tabelas!B:D,3,0),0),\"\")","v":12},{"$f":"IF(A37<>\"\",IFERROR(VLOOKUP(R37,Tabelas!B:D,3,0),0),\"\")","v":0},{"$f":"IF(A37<>\"\",IFERROR(VLOOKUP(S37,Tabelas!B:D,3,0),0),\"\")","v":0},{"$f":"IF(A37<>\"\",IFERROR(VLOOKUP(T37,Tabelas!B:D,3,0),0),\"\")","v":0},{"$f":"IF(A37<>\"\",IFERROR(VLOOKUP(U37,Tabelas!B:D,3,0),0),\"\")","v":0},{"$f":"IF(A37<>\"\",IFERROR(VLOOKUP(V37,Tabelas!B:D,3,0),0),\"\")","v":0},{"$f":"IF(A37<>\"\",IFERROR(VLOOKUP(W37,Tabelas!B:D,3,0),0),\"\")","v":0},{"$f":"IF(A37<>\"\",IFERROR(VLOOKUP(X37,Tabelas!B:D,3,0),0),\"\")","v":0},{"$f":"IF(A37<>\"\",IFERROR(VLOOKUP(Y37,Tabelas!B:D,3,0),0),\"\")","v":0},{"$f":"IF(A37<>\"\",IFERROR(VLOOKUP(Z37,Tabelas!B:D,3,0),0),\"\")","v":0},{"$f":"IF(A37<>\"\",IFERROR(VLOOKUP(AA37,Tabelas!B:D,3,0),0),\"\")","v":12},{"$f":"IF(A37<>\"\",IFERROR(VLOOKUP(AB37,Tabelas!B:D,3,0),0),\"\")","v":0},{"$f":"IF(A37<>\"\",IFERROR(VLOOKUP(AC37,Tabelas!B:D,3,0),0),\"\")","v":0},{"$f":"IF(A37<>\"\",IFERROR(VLOOKUP(AD37,Tabelas!B:D,3,0),0),\"\")","v":0},{"$f":"IF(A37<>\"\",IFERROR(VLOOKUP(AE37,Tabelas!B:D,3,0),0),\"\")","v":12},{"$f":"IF(A37<>\"\",IFERROR(VLOOKUP(AF37,Tabelas!B:D,3,0),0),\"\")","v":0},{"$f":"IF(A37<>\"\",IFERROR(VLOOKUP(AG37,Tabelas!B:D,3,0),0),\"\")","v":0},{"$f":"IF(A37<>\"\",IFERROR(VLOOKUP(AH37,Tabelas!B:D,3,0),0),\"\")","v":0},{"$f":"IF(A37<>\"\",IFERROR(VLOOKUP(AI37,Tabelas!B:D,3,0),0),\"\")","v":0},{"$f":"IF(A37<>\"\",IFERROR(VLOOKUP(AJ37,Tabelas!B:D,3,0),0),\"\")","v":12},{"$f":"IF(A37<>\"\",IFERROR(VLOOKUP(AK37,Tabelas!B:D,3,0),0),\"\")","v":0},{"$f":"IF(A37<>\"\",IFERROR(VLOOKUP(AL37,Tabelas!B:D,3,0),0),\"\")","v":12},{"$f":"IF(A37<>\"\",IFERROR(VLOOKUP(AM37,Tabelas!B:D,3,0),0),\"\")","v":0},{"$f":"IF(A37<>\"\",IFERROR(VLOOKUP(AN37,Tabelas!B:D,3,0),0),\"\")","v":0},{"$f":"IF(A37<>\"\",IFERROR(VLOOKUP(AO37,Tabelas!B:D,3,0),0),\"\")","v":0},{"$f":"IF(A37<>\"\",IFERROR(VLOOKUP(AP37,Tabelas!B:D,3,0),0),\"\")","v":0},{"$f":"IF(A37<>\"\",IFERROR(VLOOKUP(AQ37,Tabelas!B:D,3,0),0),\"\")","v":0},72,0,0,0,0,0,0,0]
["Robson Lima Ribeiro",3369679,null,"ME","RJU",20,null,null,null,null,null,null,"FE","FE","FE","FE","FE","FE","FE","FE","FE","FE","FE","FE","FE","FE","FE",null,null,null,null,"D8","N10",null,null,null,null,null,null,null,"N10",null,null,{"$f":"IF(A38<>\"\",IFERROR(VLOOKUP(M38,Tabelas!B:D,3,0),0),\"\")","v":0},{"$f":"IF(A38<>\"\",IFERROR(VLOOKUP(N38,Tabelas!B:D,3,0),0),\"\")","v":0},{"$f":"IF(A38<>\"\",IFERROR(VLOOKUP(O38,Tabelas!B:D,3,0),0),\"\")","v":0},{"$f":"IF(A38<>\"\",IFERROR(VLOOKUP(P38,Tabelas!B:D,3,0),0),\"\")","v":0},{"$f":"IF(A38<>\"\",IFERROR(VLOOKUP(Q38,Tabelas!B:D,3,0),0),\"\")","v":0},{"$f":"IF(A38<>\"\",IFERROR(VLOOKUP(R38,Tabelas!B:D,3,0),0),\"\")","v":0},{"$f":"IF(A38<>\"\",IFERROR(VLOOKUP(S38,Tabelas!B:D,3,0),0),\"\")","v":0},{"$f":"IF(A38<>\"\",IFERROR(VLOOKUP(T38,Tabelas!B:D,3,0),0),\"\")","v":0},{"$f":"IF(A38<>\"\",IFERROR(VLOOKUP(U38,Tabelas!B:D,3,0),0),\"\")","v":0},{"$f":"IF(A38<>\"\",IFERROR(VLOOKUP(V38,Tabelas!B:D,3,0),0),\"\")","v":0},{"$f":"IF(A38<>\"\",IFERROR(VLOOKUP(W38,Tabelas!B:D,3,0),0),\"\")","v":0},{"$f":"IF(A38<>\"\",IFERROR(VLOOKUP(X38,Tabelas!B:D,3,0),0),\"\")","v":0},{"$f":"IF(A38<>\"\",IFERROR(VLOOKUP(Y38,Tabelas!B:D,3,0),0),\"\")","v":0},{"$f":"IF(A38<>\"\",IFERROR(VLOOKUP(Z38,Tabelas!B:D,3,0),0),\"\")","v":0},{"$f":"IF(A38<>\"\",IFERROR(VLOOKUP(AA38,Tabelas!B:D,3,0),0),\"\")","v":0},{"$f":"IF(A38<>\"\",IFERROR(VLOOKUP(AB38,Tabelas!B:D,3,0),0),\"\")","v":0},{"$f":"IF(A38<>\"\",IFERROR(VLOOKUP(AC38,Tabelas!B:D,3,0),0),\"\")","v":0},{"$f":"IF(A38<>\"\",IFERROR(VLOOKUP(AD38,Tabelas!B:D,3,0),0),\"\")","v":0},{"$f":"IF(A38<>\"\",IFERROR(VLOOKUP(AE38,Tabelas!B:D,3,0),0),\"\")","v":0},{"$f":"IF(A38<>\"\",IFERROR(VLOOKUP(AF38,Tabelas!B:D,3,0),0),\"\")","v":12},{"$f":"IF(A38<>\"\",IFERROR(VLOOKUP(AG38,Tabelas!B:D,3,0),0),\"\")","v":12},{"$f":"IF(A38<>\"\",IFERROR(VLOOKUP(AH38,Tabelas!B:D,3,0),0),\"\")","v":0},{"$f":"IF(A38<>\"\",IFERROR(VLOOKUP(AI38,Tabelas!B:D,3,0),0),\"\")","v":0},{"$f":"IF(A38<>\"\",IFERROR(VLOOKUP(AJ38,Tabelas!B:D,3,0),0),\"\")","v":0},{"$f":"IF(A38<>\"\",IFERROR(VLOOKUP(AK38,Tabelas!B:D,3,0),0),\"\")","v":0},{"$f":"IF(A38<>\"\",IFERROR(VLOOKUP(AL38,Tabelas!B:D,3,0),0),\"\")","v":0},{"$f":"IF(A38<>\"\",IFERROR(VLOOKUP(AM38,Tabelas!B:D,3,0),0),\"\")","v":0},{"$f":"IF(A38<>\"\",IFERROR(VLOOKUP(AN38,Tabelas!B:D,3,0),0),\"\")","v":0},{"$f":"IF(A38<>\"\",IFERROR(VLOOKUP(AO38,Tabelas!B:D,3,0),0),\"\")","v":12},{"$f":"IF(A38<>\"\",IFERROR(VLOOKUP(AP38,Tabelas!B:D,3,0),0),\"\")","v":0},{"$f":"IF(A38<>\"\",IFERROR(VLOOKUP(AQ38,Tabelas!B:D,3,0),0),\"\")","v":0},36,0,0,15,0,0,0,15]
["Thales Roberto Schott da Silva",1160552,null,"ME","RJU",20,null,null,null,null,null,null,null,null,null,"N10",null,null,"D8",null,null,"N10",null,"D8",null,null,null,null,null,"N10",null,null,null,"N10",null,null,null,null,null,null,null,"N10",null,{"$f":"IF(A39<>\"\",IFERROR(VLOOKUP(M39,Tabelas!B:D,3,0),0),\"\")","v":0},{"$f":"IF(A39<>\"\",IFERROR(VLOOKUP(N39,Tabelas!B:D,3,0),0),\"\")","v":0},{"$f":"IF(A39<>\"\",IFERROR(VLOOKUP(O39,Tabelas!B:D,3,0),0),\"\")","v":0},{"$f":"IF(A39<>\"\",IFERROR(VLOOKUP(P39,Tabelas!B:D,3,0),0),\"\")","v":12},{"$f":"IF(A39<>\"\",IFERROR(VLOOKUP(Q39,Tabelas!B:D,3,0),0),\"\")","v":0},{"$f":"IF(A39<>\"\",IFERROR(VLOOKUP(R39,Tabelas!B:D,3,0),0),\"\")","v":0},{"$f":"IF(A39<>\"\",IFERROR(VLOOKUP(S39,Tabelas!B:D,3,0),0),\"\")","v":12},{"$f":"IF(A39<>\"\",IFERROR(VLOOKUP(T39,Tabelas!B:D,3,0),0),\"\")","v":0},{"$f":"IF(A39<>\"\",IFERROR(VLOOKUP(U39,Tabelas!B:D,3,0),0),\"\")","v":0},{"$f":"IF(A39<>\"\",IFERROR(VLOOKUP(V39,Tabelas!B:D,3,0),0),\"\")","v":12},{"$f":"IF(A39<>\"\",IFERROR(VLOOKUP(W39,Tabelas!B:D,3,0),0),\"\")","v":0},{"$f":"IF(A39<>\"\",IFERROR(VLOOKUP(X39,Tabelas!B:D,3,0),0),\"\")","v":12},{"$f":"IF(A39<>\"\",IFERROR(VLOOKUP(Y39,Tabelas!B:D,3,0),0),\"\")","v":0},{"$f":"IF(A39<>\"\",IFERROR(VLOOKUP(Z39,Tabelas!B:D,3,0),0),\"\")","v":0},{"$f":"IF(A39<>\"\",IFERROR(VLOOKUP(AA39,Tabelas!B:D,3,0),0),\"\")","v":0},{"$f":"IF(A39<>\"\",IFERROR(VLOOKUP(AB39,Tabelas!B:D,3,0),0),\"\")","v":0},{"$f":"IF(A39<>\"\",IFERROR(VLOOKUP(AC39,Tabelas!B:D,3,0),0),\"\")","v":0},{"$f":"IF(A39<>\"\",IFERROR(VLOOKUP(AD39,Tabelas!B:D,3,0),0),\"\")","v":12},{"$f":"IF(A39<>\"\",IFERROR(VLOOKUP(AE39,Tabelas!B:D,3,0),0),\"\")","v":0},{"$f":"IF(A39<>\"\",IFERROR(VLOOKUP(AF39,Tabelas!B:D,3,0),0),\"\")","v":0},{"$f":"IF(A39<>\"\",IFERROR(VLOOKUP(AG39,Tabelas!B:D,3,0),0),\"\")","v":0},{"$f":"IF(A39<>\"\",IFERROR(VLOOKUP(AH39,Tabelas!B:D,3,0),0),\"\")","v":12},{"$f":"IF(A39<>\"\",IFERROR(VLOOKUP(AI39,Tabelas!B:D,3,0),0),\"\")","v":0},{"$f":"IF(A39<>\"\",IFERROR(VLOOKUP(AJ39,Tabelas!B:D,3,0),0),\"\")","v":0},{"$f":"IF(A39<>\"\",IFERROR(VLOOKUP(AK39,Tabelas!B:D,3,0),0),\"\")","v":0},{"$f":"IF(A39<>\"\",IFERROR(VLOOKUP(AL39,Tabelas!B:D,3,0),0),\"\")","v":0},{"$f":"IF(A39<>\"\",IFERROR(VLOOKUP(AM39,Tabelas!B:D,3,0),0),\"\")","v":0},{"$f":"IF(A39<>\"\",IFERROR(VLOOKUP(AN39,Tabelas!B:D,3,0),0),\"\")","v":0},{"$f":"IF(A39<>\"\",IFERROR(VLOOKUP(AO39,Tabelas!B:D,3,0),0),\"\")","v":0},{"$f":"IF(A39<>\"\",IFERROR(VLOOKUP(AP39,Tabelas!B:D,3,0),0),\"\")","v":12},{"$f":"IF(A39<>\"\",IFERROR(VLOOKUP(AQ39,Tabelas!B:D,3,0),0),\"\")","v":0},84,0,0,0,0,0,0,0]
[]
[null,null,null,null,null,null,null,null,null,null,null,null,null,null,null,null,null,null,null,null,null,null,null,null,null,null,null,null,null,null,null,null,null,null,null,null,null,null,null,null,null,null,null,{"$f":"IF(#REF!<>\"\",IFERROR(VLOOKUP(M41,Tabelas!B:D,3,0),0),\"\")","v":{"$error":"#REF!"}},{"$f":"IF(#REF!<>\"\",IFERROR(VLOOKUP(N41,Tabelas!B:D,3,0),0),\"\")","v":{"$error":"#REF!"}},{"$f":"IF(#REF!<>\"\",IFERROR(VLOOKUP(O41,Tabelas!B:D,3,0),0),\"\")","v":{"$error":"#REF!"}},{"$f":"IF(#REF!<>\"\",IFERROR(VLOOKUP(P41,Tabelas!B:D,3,0),0),\"\")","v":{"$error":"#REF!"}},{"$f":"IF(#REF!<>\"\",IFERROR(VLOOKUP(Q41,Tabelas!B:D,3,0),0),\"\")","v":{"$error":"#REF!"}},{"$f":"IF(#REF!<>\"\",IFERROR(VLOOKUP(R41,Tabelas!B:D,3,0),0),\"\")","v":{"$error":"#REF!"}},{"$f":"IF(#REF!<>\"\",IFERROR(VLOOKUP(S41,Tabelas!B:D,3,0),0),\"\")","v":{"$error":"#REF!"}},{"$f":"IF(#REF!<>\"\",IFERROR(VLOOKUP(T41,Tabelas!B:D,3,0),0),\"\")","v":{"$error":"#REF!"}},{"$f":"IF(#REF!<>\"\",IFERROR(VLOOKUP(U41,Tabelas!B:D,3,0),0),\"\")","v":{"$error":"#REF!"}},{"$f":"IF(#REF!<>\"\",IFERROR(VLOOKUP(V41,Tabelas!B:D,3,0),0),\"\")","v":{"$error":"#REF!"}},{"$f":"IF(#REF!<>\"\",IFERROR(VLOOKUP(W41,Tabelas!B:D,3,0),0),\"\")","v":{"$error":"#REF!"}},{"$f":"IF(#REF!<>\"\",IFERROR(VLOOKUP(X41,Tabelas!B:D,3,0),0),\"\")","v":{"$error":"#REF!"}},{"$f":"IF(#REF!<>\"\",IFERROR(VLOOKUP(Y41,Tabelas!B:D,3,0),0),\"\")","v":{"$error":"#REF!"}},{"$f":"IF(#REF!<>\"\",IFERROR(VLOOKUP(Z41,Tabelas!B:D,3,0),0),\"\")","v":{"$error":"#REF!"}},{"$f":"IF(#REF!<>\"\",IFERROR(VLOOKUP(AA41,Tabelas!B:D,3,0),0),\"\")","v":{"$error":"#REF!"}},{"$f":"IF(#REF!<>\"\",IFERROR(VLOOKUP(AB41,Tabelas!B:D,3,0),0),\"\")","v":{"$error":"#REF!"}},{"$f":"IF(#REF!<>\"\",IFERROR(VLOOKUP(AC41,Tabelas!B:D,3,0),0),\"\")","v":{"$error":"#REF!"}},{"$f":"IF(#REF!<>\"\",IFERROR(VLOOKUP(AD41,Tabelas!B:D,3,0),0),\"\")","v":{"$error":"#REF!"}},{"$f":"IF(#REF!<>\"\",IFERROR(VLOOKUP(AE41,Tabelas!B:D,3,0),0),\"\")","v":{"$error":"#REF!"}},{"$f":"IF(#REF!<>\"\",IFERROR(VLOOKUP(AF41,Tabelas!B:D,3,0),0),\"\")","v":{"$error":"#REF!"}},{"$f":"IF(#REF!<>\"\",IFERROR(VLOOKUP(AG41,Tabelas!B:D,3,0),0),\"\")","v":{"$error":"#REF!"}},{"$f":"IF(#REF!<>\"\",IFERROR(VLOOKUP(AH41,Tabelas!B:D,3,0),0),\"\")","v":{"$error":"#REF!"}},{"$f":"IF(#REF!<>\"\",IFERROR(VLOOKUP(AI41,Tabelas!B:D,3,0),0),\"\")","v":{"$error":"#REF!"}},{"$f":"IF(#REF!<>\"\",IFERROR(VLOOKUP(AJ41,Tabelas!B:D,3,0),0),\"\")","v":{"$error":"#REF!"}},{"$f":"IF(#REF!<>\"\",IFERROR(VLOOKUP(AK41,Tabelas!B:D,3,0),0),\"\")","v":{"$error":"#REF!"}},{"$f":"IF(#REF!<>\"\",IFERROR(VLOOKUP(AL41,Tabelas!B:D,3,0),0),\"\")","v":{"$error":"#REF!"}},{"$f":"IF(#REF!<>\"\",IFERROR(VLOOKUP(AM41,Tabelas!B:D,3,0),0),\"\")","v":{"$error":"#REF!"}},{"$f":"IF(#REF!<>\"\",IFERROR(VLOOKUP(AN41,Tabelas!B:D,3,0),0),\"\")","v":{"$error":"#REF!"}},{"$f":"IF(#REF!<>\"\",IFERROR(VLOOKUP(AO41,Tabelas!B:D,3,0),0),\"\")","v":{"$error":"#REF!"}},{"$f":"IF(#REF!<>\"\",IFERROR(VLOOKUP(AP41,Tabelas!B:D,3,0),0),\"\")","v":{"$error":"#REF!"}},{"$f":"IF(#REF!<>\"\",IFERROR(VLOOKUP(AQ41,Tabelas!B:D,3,0),0),\"\")","v":{"$error":"#REF!"}},{"$f":"IF(AND(#REF!<>\"\",#REF!=\"Ebserh\"),SUM(AR41:BV41)+COUNTIF(M41:AQ41,\"N*\")+COUNTIF(M41:AQ41,\"DN*\"),IF(AND(#REF!<>\"\",#REF!<>\"Ebserh\"),SUM(AR41:BV41),\"\"))","v":{"$error":"#REF!"}},{"$f":"IF(#REF!<>\"\",COUNTIF(M41:AQ41,\"LM\")+COUNTIF(M41:AQ41,\"L\")+COUNTIF(M41:AQ41,\"LP\"),\"\")","v":{"$error":"#REF!"}},{"$f":"IF(#REF!<>\"\",COUNTIF(M41:AQ41,\"AB*\"),\"\")","v":{"$error":"#REF!"}},{"$f":"IF(#REF!<>\"\",COUNTIF(M41:AQ41,\"FE\"),\"\")","v":{"$error":"#REF!"}},{"$f":"IF(#REF!<>\"\",COUNTIF(M41:AQ41,\"LC\"),\"\")","v":{"$error":"#REF!"}},{"$f":"IF(#REF!<>\"\",COUNTIF(M41:AQ41,\"CH*\"),\"\")","v":{"$error":"#REF!"}},{"$f":"IF(#REF!<>\"\",COUNTIF(M41:AQ41,\"AF1\")+COUNTIF(M41:AQ41,\"AF2\")+COUNTIF(M41:AQ41,\"AF3\")+COUNTIF(M41:AQ41,\"AF4\")+COUNTIF(M41:AQ41,\"AF5\")+COUNTIF(M41:AQ41,\"AF6\")+COUNTIF(M41:AQ41,\"AF7\")+COUNTIF(M41:AQ41,\"AF8\")+COUNTIF(M41:AQ41,\"AF9\")+COUNTIF(M41:AQ41,\"AF10\")+COUNTIF(M41:AQ41,\"AF11\")+COUNTIF(M41:AQ41,\"AF12\")+COUNTIF(M41:AQ41,\"AF13\")+COUNTIF(M41:AQ41,\"AF14\"),\"\")","v":{"$error":"#REF!"}},{"$f":"IF(#REF!<>\"\",COUNTIF(M41:AQ41,\"CH*\")+COUNTIF(M41:AQ41,\"L\")+COUNTIF(M41:AQ41,\"LM\")+COUNTIF(M41:AQ41,\"LP\")+COUNTIF(M41:AQ41,\"LC\")+COUNTIF(M41:AQ41,\"AB*\")+COUNTIF(M41:AQ41,\"AF1\")+COUNTIF(M41:AQ41,\"AF2\")+COUNTIF(M41:AQ41,\"AF3\")+COUNTIF(M41:AQ41,\"AF4\")+COUNTIF(M41:AQ41,\"AF5\")+COUNTIF(M41:AQ41,\"AF6\")+COUNTIF(M41:AQ41,\"AF7\")+COUNTIF(M41:AQ41,\"AF8\")+COUNTIF(M41:AQ41,\"AF9\")+COUNTIF(M41:AQ41,\"AF10\")+COUNTIF(M41:AQ41,\"AF11\")+COUNTIF(M41:AQ41,\"AF12\")+COUNTIF(M41:AQ41,\"AF13\")+COUNTIF(M41:AQ41,\"AF14\")+COUNTIF(M41:AQ41,\"RC\")+COUNTIF(M41:AQ41,\"FO\")+COUNTIF(M41:AQ41,\"FE\"),\"\")","v":{"$error":"#REF!"}}]
["Ingrid Catharine Costa de Sant Ana",1004451,null,"ME","EBSERH",24,null,null,null,null,null,null,null,null,null,null,null,null,null,null,null,null,null,null,null,null,null,null,null,null,null,null,null,null,null,null,null,null,null,null,null,null,null,{"$f":"IF(A42<>\"\",IFERROR(VLOOKUP(M42,Tabelas!B:D,3,0),0),\"\")","v":0},{"$f":"IF(A42<>\"\",IFERROR(VLOOKUP(N42,Tabelas!B:D,3,0),0),\"\")","v":0},{"$f":"IF(A42<>\"\",IFERROR(VLOOKUP(O42,Tabelas!B:D,3,0),0),\"\")","v":0},{"$f":"IF(A42<>\"\",IFERROR(VLOOKUP(P42,Tabelas!B:D,3,0),0),\"\")","v":0},{"$f":"IF(A42<>\"\",IFERROR(VLOOKUP(Q42,Tabelas!B:D,3,0),0),\"\")","v":0},{"$f":"IF(A42<>\"\",IFERROR(VLOOKUP(R42,Tabelas!B:D,3,0),0),\"\")","v":0},{"$f":"IF(A42<>\"\",IFERROR(VLOOKUP(S42,Tabelas!B:D,3,0),0),\"\")","v":0},{"$f":"IF(A42<>\"\",IFERROR(VLOOKUP(T42,Tabelas!B:D,3,0),0),\"\")","v":0},{"$f":"IF(A42<>\"\",IFERROR(VLOOKUP(U42,Tabelas!B:D,3,0),0),\"\")","v":0},{"$f":"IF(A42<>\"\",IFERROR(VLOOKUP(V42,Tabelas!B:D,3,0),0),\"\")","v":0},{"$f":"IF(A42<>\"\",IFERROR(VLOOKUP(W42,Tabelas!B:D,3,0),0),\"\")","v":0},{"$f":"IF(A42<>\"\",IFERROR(VLOOKUP(X42,Tabelas!B:D,3,0),0),\"\")","v":0},{"$f":"IF(A42<>\"\",IFERROR(VLOOKUP(Y42,Tabelas!B:D,3,0),0),\"\")","v":0},{"$f":"IF(A42<>\"\",IFERROR(VLOOKUP(Z42,Tabelas!B:D,3,0),0),\"\")","v":0},{"$f":"IF(A42<>\"\",IFERROR(VLOOKUP(AA42,Tabelas!B:D,3,0),0),\"\")","v":0},{"$f":"IF(A42<>\"\",IFERROR(VLOOKUP(AB42,Tabelas!B:D,3,0),0),\"\")","v":0},{"$f":"IF(A42<>\"\",IFERROR(VLOOKUP(AC42,Tabelas!B:D,3,0),0),\"\")","v":0},{"$f":"IF(A42<>\"\",IFERROR(VLOOKUP(AD42,Tabelas!B:D,3,0),0),\"\")","v":0},{"$f":"IF(A42<>\"\",IFERROR(VLOOKUP(AE42,Tabelas!B:D,3,0),0),\"\")","v":0},{"$f":"IF(A42<>\"\",IFERROR(VLOOKUP(AF42,Tabelas!B:D,3,0),0),\"\")","v":0},{"$f":"IF(A42<>\"\",IFERROR(VLOOKUP(AG42,Tabelas!B:D,3,0),0),\"\")","v":0},{"$f":"IF(A42<>\"\",IFERROR(VLOOKUP(AH42,Tabelas!B:D,3,0),0),\"\")","v":0},{"$f":"IF(A42<>\"\",IFERROR(VLOOKUP(AI42,Tabelas!B:D,3,0),0),\"\")","v":0},{"$f":"IF(A42<>\"\",IFERROR(VLOOKUP(AJ42,Tabelas!B:D,3,0),0),\"\")","v":0},{"$f":"IF(A42<>\"\",IFERROR(VLOOKUP(AK42,Tabelas!B:D,3,0),0),\"\")","v":0},{"$f":"IF(A42<>\"\",IFERROR(VLOOKUP(AL42,Tabelas!B:D,3,0),0),\"\")","v":0},{"$f":"IF(A42<>\"\",IFERROR(VLOOKUP(AM42,Tabelas!B:D,3,0),0),\"\")","v":0},{"$f":"IF(A42<>\"\",IFERROR(VLOOKUP(AN42,Tabelas!B:D,3,0),0),\"\")","v":0},{"$f":"IF(A42<>\"\",IFERROR(VLOOKUP(AO42,Tabelas!B:D,3,0),0),\"\")","v":0},{"$f":"IF(A42<>\"\",IFERROR(VLOOKUP(AP42,Tabelas!B:D,3,0),0),\"\")","v":0},{"$f":"IF(A42<>\"\",IFERROR(VLOOKUP(AQ42,Tabelas!B:D,3,0),0),\"\")","v":0},{"$f":"IF(AND(A42<>\"\",E42=\"Ebserh\"),SUM(AR42:BV42)+COUNTIF(M42:AQ42,\"N*\")+COUNTIF(M42:AQ42,\"DN*\"),IF(AND(A42<>\"\",E42<>\"Ebserh\"),SUM(AR42:BV42),\"\"))","v":0},{"$f":"IF(A42<>\"\",COUNTIF(M42:AQ42,\"LM\")+COUNTIF(M42:AQ42,\"L\")+COUNTIF(M42:AQ42,\"LP\"),\"\")","v":0},{"$f":"IF(A42<>\"\",COUNTIF(M42:AQ42,\"AB*\"),\"\")","v":0},{"$f":"IF(A42<>\"\",COUNTIF(M42:AQ42,\"FE\"),\"\")","v":0},{"$f":"IF(A42<>\"\",COUNTIF(M42:AQ42,\"LC\"),\"\")","v":0},{"$f":"IF(A42<>\"\",COUNTIF(M42:AQ42,\"CH*\"),\"\")","v":0},{"$f":"IF(A42<>\"\",COUNTIF(M42:AQ42,\"AF1\")+COUNTIF(M42:AQ42,\"AF2\")+COUNTIF(M42:AQ42,\"AF3\")+COUNTIF(M42:AQ42,\"AF4\")+COUNTIF(M42:AQ42,\"AF5\")+COUNTIF(M42:AQ42,\"AF6\")+COUNTIF(M42:AQ42,\"AF7\")+COUNTIF(M42:AQ42,\"AF8\")+COUNTIF(M42:AQ42,\"AF9\")+COUNTIF(M42:AQ42,\"AF10\")+COUNTIF(M42:AQ42,\"AF11\")+COUNTIF(M42:AQ42,\"AF12\")+COUNTIF(M42:AQ42,\"AF13\")+COUNTIF(M42:AQ42,\"AF14\"),\"\")","v":0},{"$f":"IF(A42<>\"\",COUNTIF(M42:AQ42,\"CH*\")+COUNTIF(M42:AQ42,\"L\")+COUNTIF(M42:AQ42,\"LM\")+COUNTIF(M42:AQ42,\"LP\")+COUNTIF(M42:AQ42,\"LC\")+COUNTIF(M42:AQ42,\"AB*\")+COUNTIF(M42:AQ42,\"AF1\")+COUNTIF(M42:AQ42,\"AF2\")+COUNTIF(M42:AQ42,\"AF3\")+COUNTIF(M42:AQ42,\"AF4\")+COUNTIF(M42:AQ42,\"AF5\")+COUNTIF(M42:AQ42,\"AF6\")+COUNTIF(M42:AQ42,\"AF7\")+COUNTIF(M42:AQ42,\"AF8\")+COUNTIF(M42:AQ42,\"AF9\")+COUNTIF(M42:AQ42,\"AF10\")+COUNTIF(M42:AQ42,\"AF11\")+COUNTIF(M42:AQ42,\"AF12\")+COUNTIF(M42:AQ42,\"AF13\")+COUNTIF(M42:AQ42,\"AF14\")+COUNTIF(M42:AQ42,\"RC\")+COUNTIF(M42:AQ42,\"FO\")+COUNTIF(M42:AQ42,\"FE\"),\"\")","v":0}]
["Elizabeth Kristiane Buss Lunardelli",3760219,null,"ME","RJU",30,null,null,null,null,null,null,null,null,null,null,null,null,null,null,null,null,null,null,null,null,null,null,null,null,null,null,null,null,null,null,null,null,null,null,null,null,null,{"$f":"IF(A41<>\"\",IFERROR(VLOOKUP(M43,Tabelas!B:D,3,0),0),\"\")","v":""},{"$f":"IF(A41<>\"\",IFERROR(VLOOKUP(N43,Tabelas!B:D,3,0),0),\"\")","v":""},{"$f":"IF(A41<>\"\",IFERROR(VLOOKUP(O43,Tabelas!B:D,3,0),0),\"\")","v":""},{"$f":"IF(A41<>\"\",IFERROR(VLOOKUP(P43,Tabelas!B:D,3,0),0),\"\")","v":""},{"$f":"IF(A41<>\"\",IFERROR(VLOOKUP(Q43,Tabelas!B:D,3,0),0),\"\")","v":""},{"$f":"IF(A41<>\"\",IFERROR(VLOOKUP(R43,Tabelas!B:D,3,0),0),\"\")","v":""},{"$f":"IF(A41<>\"\",IFERROR(VLOOKUP(S43,Tabelas!B:D,3,0),0),\"\")","v":""},{"$f":"IF(A41<>\"\",IFERROR(VLOOKUP(T43,Tabelas!B:D,3,0),0),\"\")","v":""},{"$f":"IF(A41<>\"\",IFERROR(VLOOKUP(U43,Tabelas!B:D,3,0),0),\"\")","v":""},{"$f":"IF(A41<>\"\",IFERROR(VLOOKUP(V43,Tabelas!B:D,3,0),0),\"\")","v":""},{"$f":"IF(A41<>\"\",IFERROR(VLOOKUP(W43,Tabelas!B:D,3,0),0),\"\")","v":""},{"$f":"IF(A41<>\"\",IFERROR(VLOOKUP(X43,Tabelas!B:D,3,0),0),\"\")","v":""},{"$f":"IF(A41<>\"\",IFERROR(VLOOKUP(Y43,Tabelas!B:D,3,0),0),\"\")","v":""},{"$f":"IF(A41<>\"\",IFERROR(VLOOKUP(Z43,Tabelas!B:D,3,0),0),\"\")","v":""},{"$f":"IF(A41<>\"\",IFERROR(VLOOKUP(AA43,Tabelas!B:D,3,0),0),\"\")","v":""},{"$f":"IF(A41<>\"\",IFERROR(VLOOKUP(AB43,Tabelas!B:D,3,0),0),\"\")","v":""},{"$f":"IF(A41<>\"\",IFERROR(VLOOKUP(AC43,Tabelas!B:D,3,0),0),\"\")","v":""},{"$f":"IF(A41<>\"\",IFERROR(VLOOKUP(AD43,Tabelas!B:D,3,0),0),\"\")","v":""},{"$f":"IF(A41<>\"\",IFERROR(VLOOKUP(AE43,Tabelas!B:D,3,0),0),\"\")","v":""},{"$f":"IF(A41<>\"\",IFERROR(VLOOKUP(AF43,Tabelas!B:D,3,0),0),\"\")","v":""},{"$f":"IF(A41<>\"\",IFERROR(VLOOKUP(AG43,Tabelas!B:D,3,0),0),\"\")","v":""},{"$f":"IF(A41<>\"\",IFERROR(VLOOKUP(AH43,Tabelas!B:D,3,0),0),\"\")","v":""},{"$f":"IF(A41<>\"\",IFERROR(VLOOKUP(AI43,Tabelas!B:D,3,0),0),\"\")","v":""},{"$f":"IF(A41<>\"\",IFERROR(VLOOKUP(AJ43,Tabelas!B:D,3,0),0),\"\")","v":""},{"$f":"IF(A41<>\"\",IFERROR(VLOOKUP(AK43,Tabelas!B:D,3,0),0),\"\")","v":""},{"$f":"IF(A41<>\"\",IFERROR(VLOOKUP(AL43,Tabelas!B:D,3,0),0),\"\")","v":""},{"$f":"IF(A41<>\"\",IFERROR(VLOOKUP(AM43,Tabelas!B:D,3,0),0),\"\")","v":""},{"$f":"IF(A41<>\"\",IFERROR(VLOOKUP(AN43,Tabelas!B:D,3,0),0),\"\")","v":""},{"$f":"IF(A41<>\"\",IFERROR(VLOOKUP(AO43,Tabelas!B:D,3,0),0),\"\")","v":""},{"$f":"IF(A41<>\"\",IFERROR(VLOOKUP(AP43,Tabelas!B:D,3,0),0),\"\")","v":""},{"$f":"IF(A41<>\"\",IFERROR(VLOOKUP(AQ43,Tabelas!B:D,3,0),0),\"\")","v":""},{"$f":"IF(AND(A41<>\"\",E41=\"Ebserh\"),SUM(AR43:BV43)+COUNTIF(M43:AQ43,\"N*\")+COUNTIF(M43:AQ43,\"DN*\"),IF(AND(A41<>\"\",E41<>\"Ebserh\"),SUM(AR43:BV43),\"\"))","v":""},{"$f":"IF(A41<>\"\",COUNTIF(M43:AQ43,\"LM\")+COUNTIF(M43:AQ43,\"L\")+COUNTIF(M43:AQ43,\"LP\"),\"\")","v":""},{"$f":"IF(A41<>\"\",COUNTIF(M43:AQ43,\"AB*\"),\"\")","v":""},{"$f":"IF(A41<>\"\",COUNTIF(M43:AQ43,\"FE\"),\"\")","v":""},{"$f":"IF(A41<>\"\",COUNTIF(M43:AQ43,\"LC\"),\"\")","v":""},{"$f":"IF(A41<>\"\",COUNTIF(M43:AQ43,\"CH*\"),\"\")","v":""},{"$f":"IF(A41<>\"\",COUNTIF(M43:AQ43,\"AF1\")+COUNTIF(M43:AQ43,\"AF2\")+COUNTIF(M43:AQ43,\"AF3\")+COUNTIF(M43:AQ43,\"AF4\")+COUNTIF(M43:AQ43,\"AF5\")+COUNTIF(M43:AQ43,\"AF6\")+COUNTIF(M43:AQ43,\"AF7\")+COUNTIF(M43:AQ43,\"AF8\")+COUNTIF(M43:AQ43,\"AF9\")+COUNTIF(M43:AQ43,\"AF10\")+COUNTIF(M43:AQ43,\"AF11\")+COUNTIF(M43:AQ43,\"AF12\")+COUNTIF(M43:AQ43,\"AF13\")+COUNTIF(M43:AQ43,\"AF14\"),\"\")","v":""},{"$f":"IF(A41<>\"\",COUNTIF(M43:AQ43,\"CH*\")+COUNTIF(M43:AQ43,\"L\")+COUNTIF(M43:AQ43,\"LM\")+COUNTIF(M43:AQ43,\"LP\")+COUNTIF(M43:AQ43,\"LC\")+COUNTIF(M43:AQ43,\"AB*\")+COUNTIF(M43:AQ43,\"AF1\")+COUNTIF(M43:AQ43,\"AF2\")+COUNTIF(M43:AQ43,\"AF3\")+COUNTIF(M43:AQ43,\"AF4\")+COUNTIF(M43:AQ43,\"AF5\")+COUNTIF(M43:AQ43,\"AF6\")+COUNTIF(M43:AQ43,\"AF7\")+COUNTIF(M43:AQ43,\"AF8\")+COUNTIF(M43:AQ43,\"AF9\")+COUNTIF(M43:AQ43,\"AF10\")+COUNTIF(M43:AQ43,\"AF11\")+COUNTIF(M43:AQ43,\"AF12\")+COUNTIF(M43:AQ43,\"AF13\")+COUNTIF(M43:AQ43,\"AF14\")+COUNTIF(M43:AQ43,\"RC\")+COUNTIF(M43:AQ43,\"FO\")+COUNTIF(M43:AQ43,\"FE\"),\"\")","v":""}]
["TOTAL PROFISSIONAIS MATUTINO",null,null,null,null,null,null,null,null,null,null,null,{"$f":"IF(COUNTIF(M9:M43,\"M*\")+ COUNTIF(M9:M43, \"D*\")-COUNTIF(M9:M43,\"DSR\")<>0,COUNTIF(M9:M43,\"M*\")+ COUNTIF(M9:M43, \"D*\")-COUNTIF(M9:M43,\"DSR\"),\"\")","v":5},5,5,5,2,2,2,5,5,5,5,3,3,4,4,4,4,3,3,3,3,3,3,3,3,2,3,3,3,4,"",null,null,null,null,null,null,null,null,null,null,null,null,null,null,null,null,null,null,null,null,null,null,null,null,null,null,null,null,null,null,null,{"$f":"SUM(BW9:BW43)","v":{"$error":"#REF!"}},{"$error":"#REF!"},{"$error":"#REF!"},{"$error":"#REF!"},{"$error":"#REF!"},{"$error":"#REF!"},{"$error":"#REF!"},{"$error":"#REF!"}]
["TOTAL DE PROFISSIONAIS VESPERTINO",null,null,null,null,null,null,null,null,null,null,null,{"$f":"IF(COUNTIF(M9:M43,\"MT*\") + COUNTIF(M9:M43, \"D*\") + COUNTIF(M9:M43,\"T*\")-COUNTIF(M9:M43,\"DSR\")<>0,COUNTIF(M9:M43,\"MT*\") + COUNTIF(M9:M43, \"D*\") + COUNTIF(M9:M43,\"T*\")-COUNTIF(M9:M43,\"DSR\"),\"\")","v":4},4,4,4,2,2,2,4,4,4,4,3,3,4,4,4,4,4,3,3,4,4,4,4,4,2,3,4,3,4,"",{"$f":"IF(A45<>\"\",IFERROR(VLOOKUP(M45,Tabelas!B:D,3,0),0),\"\")","v":0},{"$f":"IF(A45<>\"\",IFERROR(VLOOKUP(N45,Tabelas!B:D,3,0),0),\"\")","v":0},{"$f":"IF(A45<>\"\",IFERROR(VLOOKUP(O45,Tabelas!B:D,3,0),0),\"\")","v":0},{"$f":"IF(A45<>\"\",IFERROR(VLOOKUP(P45,Tabelas!B:D,3,0),0),\"\")","v":0},{"$f":"IF(A45<>\"\",IFERROR(VLOOKUP(Q45,Tabelas!B:D,3,0),0),\"\")","v":0},{"$f":"IF(A45<>\"\",IFERROR(VLOOKUP(R45,Tabelas!B:D,3,0),0),\"\")","v":0},{"$f":"IF(A45<>\"\",IFERROR(VLOOKUP(S45,Tabelas!B:D,3,0),0),\"\")","v":0},{"$f":"IF(A45<>\"\",IFERROR(VLOOKUP(T45,Tabelas!B:D,3,0),0),\"\")","v":0},{"$f":"IF(A45<>\"\",IFERROR(VLOOKUP(U45,Tabelas!B:D,3,0),0),\"\")","v":0},{"$f":"IF(A45<>\"\",IFERROR(VLOOKUP(V45,Tabelas!B:D,3,0),0),\"\")","v":0},{"$f":"IF(A45<>\"\",IFERROR(VLOOKUP(W45,Tabelas!B:D,3,0),0),\"\")","v":0},{"$f":"IF(A45<>\"\",IFERROR(VLOOKUP(X45,Tabelas!B:D,3,0),0),\"\")","v":0},{"$f":"IF(A45<>\"\",IFERROR(VLOOKUP(Y45,Tabelas!B:D,3,0),0),\"\")","v":0},{"$f":"IF(A45<>\"\",IFERROR(VLOOKUP(Z45,Tabelas!B:D,3,0),0),\"\")","v":0},{"$f":"IF(A45<>\"\",IFERROR(VLOOKUP(AA45,Tabelas!B:D,3,0),0),\"\")","v":0},{"$f":"IF(A45<>\"\",IFERROR(VLOOKUP(AB45,Tabelas!B:D,3,0),0),\"\")","v":0},{"$f":"IF(A45<>\"\",IFERROR(VLOOKUP(AC45,Tabelas!B:D,3,0),0),\"\")","v":0},{"$f":"IF(A45<>\"\",IFERROR(VLOOKUP(AD45,Tabelas!B:D,3,0),0),\"\")","v":0},{"$f":"IF(A45<>\"\",IFERROR(VLOOKUP(AE45,Tabelas!B:D,3,0),0),\"\")","v":0},{"$f":"IF(A45<>\"\",IFERROR(VLOOKUP(AF45,Tabelas!B:D,3,0),0),\"\")","v":0},{"$f":"IF(A45<>\"\",IFERROR(VLOOKUP(AG45,Tabelas!B:D,3,0),0),\"\")","v":0},{"$f":"IF(A45<>\"\",IFERROR(VLOOKUP(AH45,Tabelas!B:D,3,0),0),\"\")","v":0},{"$f":"IF(A45<>\"\",IFERROR(VLOOKUP(AI45,Tabelas!B:D,3,0),0),\"\")","v":0},{"$f":"IF(A45<>\"\",IFERROR(VLOOKUP(AJ45,Tabelas!B:D,3,0),0),\"\")","v":0},{"$f":"IF(A45<>\"\",IFERROR(VLOOKUP(AK45,Tabelas!B:D,3,0),0),\"\")","v":0},{"$f":"IF(A45<>\"\",IFERROR(VLOOKUP(AL45,Tabelas!B:D,3,0),0),\"\")","v":0},{"$f":"IF(A45<>\"\",IFERROR(VLOOKUP(AM45,Tabelas!B:D,3,0),0),\"\")","v":0},{"$f":"IF(A45<>\"\",IFERROR(VLOOKUP(AN45,Tabelas!B:D,3,0),0),\"\")","v":0},{"$f":"IF(A45<>\"\",IFERROR(VLOOKUP(AO45,Tabelas!B:D,3,0),0),\"\")","v":0},{"$f":"IF(A45<>\"\",IFERROR(VLOOKUP(AP45,Tabelas!B:D,3,0),0),\"\")","v":0},{"$f":"IF(A45<>\"\",IFERROR(VLOOKUP(AQ45,Tabelas!B:D,3,0),0),\"\")","v":0}]
["TOTAL DE PROFISSIONAIS NOTURNO",null,null,null,null,null,null,null,null,null,null,null,{"$f":"IF(COUNTIF(M9:M45,\"N?*\") + COUNTIF(M9:M45, \"DN*\")<>0,COUNTIF(M9:M45,\"N?*\") + COUNTIF(M9:M45, \"DN*\"),\"\")","v":2},3,2,2,2,2,2,2,2,2,2,2,2,2,2,2,2,2,2,2,2,2,2,3,2,2,2,2,3,3,"",{"$f":"IF(A46<>\"\",IFERROR(VLOOKUP(M46,Tabelas!B:D,3,0),0),\"\")","v":0},{"$f":"IF(A46<>\"\",IFERROR(VLOOKUP(N46,Tabelas!B:D,3,0),0),\"\")","v":0},{"$f":"IF(A46<>\"\",IFERROR(VLOOKUP(O46,Tabelas!B:D,3,0),0),\"\")","v":0},{"$f":"IF(A46<>\"\",IFERROR(VLOOKUP(P46,Tabelas!B:D,3,0),0),\"\")","v":0},{"$f":"IF(A46<>\"\",IFERROR(VLOOKUP(Q46,Tabelas!B:D,3,0),0),\"\")","v":0},{"$f":"IF(A46<>\"\",IFERROR(VLOOKUP(R46,Tabelas!B:D,3,0),0),\"\")","v":0},{"$f":"IF(A46<>\"\",IFERROR(VLOOKUP(S46,Tabelas!B:D,3,0),0),\"\")","v":0},{"$f":"IF(A46<>\"\",IFERROR(VLOOKUP(T46,Tabelas!B:D,3,0),0),\"\")","v":0},{"$f":"IF(A46<>\"\",IFERROR(VLOOKUP(U46,Tabelas!B:D,3,0),0),\"\")","v":0},{"$f":"IF(A46<>\"\",IFERROR(VLOOKUP(V46,Tabelas!B:D,3,0),0),\"\")","v":0},{"$f":"IF(A46<>\"\",IFERROR(VLOOKUP(W46,Tabelas!B:D,3,0),0),\"\")","v":0},{"$f":"IF(A46<>\"\",IFERROR(VLOOKUP(X46,Tabelas!B:D,3,0),0),\"\")","v":0},{"$f":"IF(A46<>\"\",IFERROR(VLOOKUP(Y46,Tabelas!B:D,3,0),0),\"\")","v":0},{"$f":"IF(A46<>\"\",IFERROR(VLOOKUP(Z46,Tabelas!B:D,3,0),0),\"\")","v":0},{"$f":"IF(A46<>\"\",IFERROR(VLOOKUP(AA46,Tabelas!B:D,3,0),0),\"\")","v":0},{"$f":"IF(A46<>\"\",IFERROR(VLOOKUP(AB46,Tabelas!B:D,3,0),0),\"\")","v":0},{"$f":"IF(A46<>\"\",IFERROR(VLOOKUP(AC46,Tabelas!B:D,3,0),0),\"\")","v":0},{"$f":"IF(A46<>\"\",IFERROR(VLOOKUP(AD46,Tabelas!B:D,3,0),0),\"\")","v":0},{"$f":"IF(A46<>\"\",IFERROR(VLOOKUP(AE46,Tabelas!B:D,3,0),0),\"\")","v":0},{"$f":"IF(A46<>\"\",IFERROR(VLOOKUP(AF46,Tabelas!B:D,3,0),0),\"\")","v":0},{"$f":"IF(A46<>\"\",IFERROR(VLOOKUP(AG46,Tabelas!B:D,3,0),0),\"\")","v":0},{"$f":"IF(A46<>\"\",IFERROR(VLOOKUP(AH46,Tabelas!B:D,3,0),0),\"\")","v":0},{"$f":"IF(A46<>\"\",IFERROR(VLOOKUP(AI46,Tabelas!B:D,3,0),0),\"\")","v":0},{"$f":"IF(A46<>\"\",IFERROR(VLOOKUP(AJ46,Tabelas!B:D,3,0),0),\"\")","v":0},{"$f":"IF(A46<>\"\",IFERROR(VLOOKUP(AK46,Tabelas!B:D,3,0),0),\"\")","v":0},{"$f":"IF(A46<>\"\",IFERROR(VLOOKUP(AL46,Tabelas!B:D,3,0),0),\"\")","v":0},{"$f":"IF(A46<>\"\",IFERROR(VLOOKUP(AM46,Tabelas!B:D,3,0),0),\"\")","v":0},{"$f":"IF(A46<>\"\",IFERROR(VLOOKUP(AN46,Tabelas!B:D,3,0),0),\"\")","v":0},{"$f":"IF(A46<>\"\",IFERROR(VLOOKUP(AO46,Tabelas!B:D,3,0),0),\"\")","v":0},{"$f":"IF(A46<>\"\",IFERROR(VLOOKUP(AP46,Tabelas!B:D,3,0),0),\"\")","v":0},{"$f":"IF(A46<>\"\",IFERROR(VLOOKUP(AQ46,Tabelas!B:D,3,0),0),\"\")","v":0}]
[null,null,null,null,null,null,null,null,null,null,null,null,null,null,null,null,null,null,null,null,null,null,null,null,null,null,null,null,null,null,null,null,null,null,null,null,null,null,null,null,null,null,null,{"$f":"IF(A47<>\"\",IFERROR(VLOOKUP(M47,Tabelas!B:D,3,0),0),\"\")","v":""},{"$f":"IF(A47<>\"\",IFERROR(VLOOKUP(N47,Tabelas!B:D,3,0),0),\"\")","v":""},{"$f":"IF(A47<>\"\",IFERROR(VLOOKUP(O47,Tabelas!B:D,3,0),0),\"\")","v":""},{"$f":"IF(A47<>\"\",IFERROR(VLOOKUP(P47,Tabelas!B:D,3,0),0),\"\")","v":""},{"$f":"IF(A47<>\"\",IFERROR(VLOOKUP(Q47,Tabelas!B:D,3,0),0),\"\")","v":""},{"$f":"IF(A47<>\"\",IFERROR(VLOOKUP(R47,Tabelas!B:D,3,0),0),\"\")","v":""},{"$f":"IF(A47<>\"\",IFERROR(VLOOKUP(S47,Tabelas!B:D,3,0),0),\"\")","v":""},{"$f":"IF(A47<>\"\",IFERROR(VLOOKUP(T47,Tabelas!B:D,3,0),0),\"\")","v":""},{"$f":"IF(A47<>\"\",IFERROR(VLOOKUP(U47,Tabelas!B:D,3,0),0),\"\")","v":""},{"$f":"IF(A47<>\"\",IFERROR(VLOOKUP(V47,Tabelas!B:D,3,0),0),\"\")","v":""},{"$f":"IF(A47<>\"\",IFERROR(VLOOKUP(W47,Tabelas!B:D,3,0),0),\"\")","v":""},{"$f":"IF(A47<>\"\",IFERROR(VLOOKUP(X47,Tabelas!B:D,3,0),0),\"\")","v":""},{"$f":"IF(A47<>\"\",IFERROR(VLOOKUP(Y47,Tabelas!B:D,3,0),0),\"\")","v":""},{"$f":"IF(A47<>\"\",IFERROR(VLOOKUP(Z47,Tabelas!B:D,3,0),0),\"\")","v":""},{"$f":"IF(A47<>\"\",IFERROR(VLOOKUP(AA47,Tabelas!B:D,3,0),0),\"\")","v":""},{"$f":"IF(A47<>\"\",IFERROR(VLOOKUP(AB47,Tabelas!B:D,3,0),0),\"\")","v":""},{"$f":"IF(A47<>\"\",IFERROR(VLOOKUP(AC47,Tabelas!B:D,3,0),0),\"\")","v":""},{"$f":"IF(A47<>\"\",IFERROR(VLOOKUP(AD47,Tabelas!B:D,3,0),0),\"\")","v":""},{"$f":"IF(A47<>\"\",IFERROR(VLOOKUP(AE47,Tabelas!B:D,3,0),0),\"\")","v":""},{"$f":"IF(A47<>\"\",IFERROR(VLOOKUP(AF47,Tabelas!B:D,3,0),0),\"\")","v":""},{"$f":"IF(A47<>\"\",IFERROR(VLOOKUP(AG47,Tabelas!B:D,3,0),0),\"\")","v":""},{"$f":"IF(A47<>\"\",IFERROR(VLOOKUP(AH47,Tabelas!B:D,3,0),0),\"\")","v":""},{"$f":"IF(A47<>\"\",IFERROR(VLOOKUP(AI47,Tabelas!B:D,3,0),0),\"\")","v":""},{"$f":"IF(A47<>\"\",IFERROR(VLOOKUP(AJ47,Tabelas!B:D,3,0),0),\"\")","v":""},{"$f":"IF(A47<>\"\",IFERROR(VLOOKUP(AK47,Tabelas!B:D,3,0),0),\"\")","v":""},{"$f":"IF(A47<>\"\",IFERROR(VLOOKUP(AL47,Tabelas!B:D,3,0),0),\"\")","v":""},{"$f":"IF(A47<>\"\",IFERROR(VLOOKUP(AM47,Tabelas!B:D,3,0),0),\"\")","v":""},{"$f":"IF(A47<>\"\",IFERROR(VLOOKUP(AN47,Tabelas!B:D,3,0),0),\"\")","v":""},{"$f":"IF(A47<>\"\",IFERROR(VLOOKUP(AO47,Tabelas!B:D,3,0),0),\"\")","v":""},{"$f":"IF(A47<>\"\",IFERROR(VLOOKUP(AP47,Tabelas!B:D,3,0),0),\"\")","v":""},{"$f":"IF(A47<>\"\",IFERROR(VLOOKUP(AQ47,Tabelas!B:D,3,0),0),\"\")","v":""}]
["Legenda:"]
["Licença Maternidade","LM","Férias",null,null,null,null,null,null,"FE",null,"Ponto Facultativo",null,null,null,null,null,null,null,"PF","Manhã *",null,null,null,null,null,null,"M","Diurno (8 hrs) *",null,null,null,null,null,null,"MT"]
["Licença Paternidade","LP","Feriado",null,null,null,null,null,null,"FD",null,"Abono **",null,null,null,null,null,null,null,"AB","Tarde *",null,null,null,null,null,null,"T","Dia/ noite (24 hrs) *",null,null,null,null,null,null,"DN"]
["Licença Médica/Odontológica","L","Descanso Semanal Remunerado",null,null,null,null,null,null,"DSR",null,"Compensação de Horas***",null,null,null,null,null,null,null,"CH","Plantão Dia (12 hrs) *",null,null,null,null,null,null,"D"]
["Licença Capacitação","LC","Recesso",null,null,null,null,null,null,"RC",null,"Afastamento**",null,null,null,null,null,null,null,"AF","Plantão Noite (12 hrs) *",null,null,null,null,null,null,"N"]
[]
["OBSERVAÇÕES:"]
["* Para inserção das legendas referentes às jornadas de trabalho, verificar a Tabela 1 do Anexo do Memorando-Circular - SEI nº   25 /2018/CAP/DGP-EBSERH."]
["** Para inserção das legendas referentes aos Afastamentos previstos em lei e às Compensações de horas, verificar a Tabela 2 do Anexo do Memorando-Circular - SEI nº   25 /2018/CAP/DGP-EBSERH."]

{"sheet":"Outubro","index":9,"n_rows":51,"n_cols":82,"rows_kept":51,"cut":false,"hidden":false,"merged":[[43,20,43,26],[44,2,44,8],[44,9,44,10],[44,11,44,18],[44,20,44,26],[43,2,43,8],[43,9,43,10],[45,20,45,26],[46,2,46,8],[46,9,46,10],[46,11,46,18],[46,20,46,26],[38,0,38,11],[39,0,39,11],[40,0,40,11],[45,2,45,8],[45,9,45,10],[45,11,45,18],[43,11,43,18],[1,0,1,42],[2,0,2,42],[3,0,3,42],[4,1,4,20],[4,23,4,34],[4,37,4,42],[5,6,5,11],[6,76,7,76],[6,77,7,77],[6,78,7,78],[6,79,7,79],[6,6,7,6],[6,7,7,7],[6,8,7,8],[6,11,7,11],[6,9,7,9],[6,10,7,10],[6,80,7,80],[6,81,7,81],[5,12,5,42],[5,43,5,73],[5,75,5,81],[5,74,7,74],[6,75,7,75],[38,79,40,79],[38,80,40,80],[38,81,40,81],[43,28,43,34],[44,28,44,34],[38,74,40,74],[38,75,40,75],[38,76,40,76],[38,77,40,77],[38,78,40,78]]}
[]
[]
["NOME DO HU"]
["ESCALA MENSAL DE TRABALHO"]
["DIVISÃO /SETOR/UNIDADE: UTI",null,null,null,null,null,null,null,null,null,null,null,null,null,null,null,null,null,null,null,null,"MÊS:",null,"Outubro",null,null,null,null,null,null,null,null,null,null,null,"ANO:",null,2020]
["NOME COMPLETO","SIAPE","     Registro Conselho Classe","Cargo","Vínculo","    C.H Sem","INTERVALO",null,null,null,null,null,"DIAS DO MÊS",null,null,null,null,null,null,null,null,null,null,null,null,null,null,null,null,null,null,null,null,null,null,null,null,null,null,null,null,null,null,"CÁLCULO DAS HORAS",null,null,null,null,null,null,null,null,null,null,null,null,null,null,null,null,null,null,null,null,null,null,null,null,null,null,null,null,null,null,"CH Men.","Dias"]
[null,null,null,null,null,null,"15' M","15' T","15' N","1H D","1H N","2H",1,2,3,4,5,6,7,8,9,10,11,12,13,14,15,16,17,18,19,20,21,22,23,24,25,{"$f":"IF(DAY(DATE(AL5,VLOOKUP(X5,Tabelas!M:N,2,0)+1,1)-1)>=26,26,\"\")","v":26},{"$f":"IF(DAY(DATE(AL5,VLOOKUP(X5,Tabelas!M:N,2,0)+1,1)-1)>=27,27,\"\")","v":27},{"$f":"IF(DAY(DATE(AL5,VLOOKUP(X5,Tabelas!M:N,2,0)+1,1)-1)>=28,28,\"\")","v":28},{"$f":"IF(DAY(DATE(AL5,VLOOKUP(X5,Tabelas!M:N,2,0)+1,1)-1)>=29,29,\"\")","v":29},{"$f":"IF(DAY(DATE(AL5,VLOOKUP(X5,Tabelas!M:N,2,0)+1,1)-1)>=30,30,\"\")","v":30},{"$f":"IF(DAY(DATE(AL5,VLOOKUP(X5,Tabelas!M:N,2,0)+1,1)-1)>=31,31,\"\")","v":31},null,null,null,null,null,null,null,null,null,null,null,null,null,null,null,null,null,null,null,null,null,null,null,null,null,null,null,null,null,null,null,null,"LM/LP/L","AB","FE","LC","CH","AF  "," Total Afast."]
[null,null,null,null,null,null,null,null,null,null,null,null,{"$f":"IF(M7<>\"\",IFERROR(VLOOKUP(WEEKDAY(CONCATENATE(M7,$X$5,$AL$5)),Tabelas!$I:$J,2,0),\"\"),\"\")","v":"QUI"},{"$f":"IF(N7<>\"\",IFERROR(VLOOKUP(WEEKDAY(CONCATENATE(N7,$X$5,$AL$5)),Tabelas!$I:$J,2,0),\"\"),\"\")","v":"SEX"},{"$f":"IF(O7<>\"\",IFERROR(VLOOKUP(WEEKDAY(CONCATENATE(O7,$X$5,$AL$5)),Tabelas!$I:$J,2,0),\"\"),\"\")","v":"SAB"},{"$f":"IF(P7<>\"\",IFERROR(VLOOKUP(WEEKDAY(CONCATENATE(P7,$X$5,$AL$5)),Tabelas!$I:$J,2,0),\"\"),\"\")","v":"DOM"},{"$f":"IF(Q7<>\"\",IFERROR(VLOOKUP(WEEKDAY(CONCATENATE(Q7,$X$5,$AL$5)),Tabelas!$I:$J,2,0),\"\"),\"\")","v":"SEG"},{"$f":"IF(R7<>\"\",IFERROR(VLOOKUP(WEEKDAY(CONCATENATE(R7,$X$5,$AL$5)),Tabelas!$I:$J,2,0),\"\"),\"\")","v":"TER"},{"$f":"IF(S7<>\"\",IFERROR(VLOOKUP(WEEKDAY(CONCATENATE(S7,$X$5,$AL$5)),Tabelas!$I:$J,2,0),\"\"),\"\")","v":"QUA"},{"$f":"IF(T7<>\"\",IFERROR(VLOOKUP(WEEKDAY(CONCATENATE(T7,$X$5,$AL$5)),Tabelas!$I:$J,2,0),\"\"),\"\")","v":"QUI"},{"$f":"IF(U7<>\"\",IFERROR(VLOOKUP(WEEKDAY(CONCATENATE(U7,$X$5,$AL$5)),Tabelas!$I:$J,2,0),\"\"),\"\")","v":"SEX"},{"$f":"IF(V7<>\"\",IFERROR(VLOOKUP(WEEKDAY(CONCATENATE(V7,$X$5,$AL$5)),Tabelas!$I:$J,2,0),\"\"),\"\")","v":"SAB"},{"$f":"IF(W7<>\"\",IFERROR(VLOOKUP(WEEKDAY(CONCATENATE(W7,$X$5,$AL$5)),Tabelas!$I:$J,2,0),\"\"),\"\")","v":"DOM"},{"$f":"IF(X7<>\"\",IFERROR(VLOOKUP(WEEKDAY(CONCATENATE(X7,$X$5,$AL$5)),Tabelas!$I:$J,2,0),\"\"),\"\")","v":"SEG"},{"$f":"IF(Y7<>\"\",IFERROR(VLOOKUP(WEEKDAY(CONCATENATE(Y7,$X$5,$AL$5)),Tabelas!$I:$J,2,0),\"\"),\"\")","v":"TER"},{"$f":"IF(Z7<>\"\",IFERROR(VLOOKUP(WEEKDAY(CONCATENATE(Z7,$X$5,$AL$5)),Tabelas!$I:$J,2,0),\"\"),\"\")","v":"QUA"},{"$f":"IF(AA7<>\"\",IFERROR(VLOOKUP(WEEKDAY(CONCATENATE(AA7,$X$5,$AL$5)),Tabelas!$I:$J,2,0),\"\"),\"\")","v":"QUI"},{"$f":"IF(AB7<>\"\",IFERROR(VLOOKUP(WEEKDAY(CONCATENATE(AB7,$X$5,$AL$5)),Tabelas!$I:$J,2,0),\"\"),\"\")","v":"SEX"},{"$f":"IF(AC7<>\"\",IFERROR(VLOOKUP(WEEKDAY(CONCATENATE(AC7,$X$5,$AL$5)),Tabelas!$I:$J,2,0),\"\"),\"\")","v":"SAB"},{"$f":"IF(AD7<>\"\",IFERROR(VLOOKUP(WEEKDAY(CONCATENATE(AD7,$X$5,$AL$5)),Tabelas!$I:$J,2,0),\"\"),\"\")","v":"DOM"},{"$f":"IF(AE7<>\"\",IFERROR(VLOOKUP(WEEKDAY(CONCATENATE(AE7,$X$5,$AL$5)),Tabelas!$I:$J,2,0),\"\"),\"\")","v":"SEG"},{"$f":"IF(AF7<>\"\",IFERROR(VLOOKUP(WEEKDAY(CONCATENATE(AF7,$X$5,$AL$5)),Tabelas!$I:$J,2,0),\"\"),\"\")","v":"TER"},{"$f":"IF(AG7<>\"\",IFERROR(VLOOKUP(WEEKDAY(CONCATENATE(AG7,$X$5,$AL$5)),Tabelas!$I:$J,2,0),\"\"),\"\")","v":"QUA"},{"$f":"IF(AH7<>\"\",IFERROR(VLOOKUP(WEEKDAY(CONCATENATE(AH7,$X$5,$AL$5)),Tabelas!$I:$J,2,0),\"\"),\"\")","v":"QUI"},{"$f":"IF(AI7<>\"\",IFERROR(VLOOKUP(WEEKDAY(CONCATENATE(AI7,$X$5,$AL$5)),Tabelas!$I:$J,2,0),\"\"),\"\")","v":"SEX"},{"$f":"IF(AJ7<>\"\",IFERROR(VLOOKUP(WEEKDAY(CONCATENATE(AJ7,$X$5,$AL$5)),Tabelas!$I:$J,2,0),\"\"),\"\")","v":"SAB"},{"$f":"IF(AK7<>\"\",IFERROR(VLOOKUP(WEEKDAY(CONCATENATE(AK7,$X$5,$AL$5)),Tabelas!$I:$J,2,0),\"\"),\"\")","v":"DOM"},{"$f":"IF(AL7<>\"\",IFERROR(VLOOKUP(WEEKDAY(CONCATENATE(AL7,$X$5,$AL$5)),Tabelas!$I:$J,2,0),\"\"),\"\")","v":"SEG"},{"$f":"IF(AM7<>\"\",IFERROR(VLOOKUP(WEEKDAY(CONCATENATE(AM7,$X$5,$AL$5)),Tabelas!$I:$J,2,0),\"\"),\"\")","v":"TER"},{"$f":"IF(AN7<>\"\",IFERROR(VLOOKUP(WEEKDAY(CONCATENATE(AN7,$X$5,$AL$5)),Tabelas!$I:$J,2,0),\"\"),\"\")","v":"QUA"},{"$f":"IF(AO7<>\"\",IFERROR(VLOOKUP(WEEKDAY(CONCATENATE(AO7,$X$5,$AL$5)),Tabelas!$I:$J,2,0),\"\"),\"\")","v":"QUI"},{"$f":"IF(AP7<>\"\",IFERROR(VLOOKUP(WEEKDAY(CONCATENATE(AP7,$X$5,$AL$5)),Tabelas!$I:$J,2,0),\"\"),\"\")","v":"SEX"},{"$f":"IF(AQ7<>\"\",IFERROR(VLOOKUP(WEEKDAY(CONCATENATE(AQ7,$X$5,$AL$5)),Tabelas!$I:$J,2,0),\"\"),\"\")","v":"SAB"},1,2,3,4,5,6,7,8,9,10,11,12,13,14,15,16,17,18,19,20,21,22,23,24,25,26,27,28,29,30,31]
["ROTINA",null,null,null,null,null,null,null,null,null,null,null,null,null,null,null,null,null,null,null,null,null,null,null,null,null,null,null,null,null,null,null,null,null,null,null,null,null,null,null,null,null,null,{"$f":"IF(A9<>\"\",IFERROR(VLOOKUP(M9,Tabelas!B:D,3,0),0),\"\")","v":0},{"$f":"IF(A9<>\"\",IFERROR(VLOOKUP(N9,Tabelas!B:D,3,0),0),\"\")","v":0},{"$f":"IF(A9<>\"\",IFERROR(VLOOKUP(O9,Tabelas!B:D,3,0),0),\"\")","v":0},{"$f":"IF(A9<>\"\",IFERROR(VLOOKUP(P9,Tabelas!B:D,3,0),0),\"\")","v":0},{"$f":"IF(A9<>\"\",IFERROR(VLOOKUP(Q9,Tabelas!B:D,3,0),0),\"\")","v":0},{"$f":"IF(A9<>\"\",IFERROR(VLOOKUP(R9,Tabelas!B:D,3,0),0),\"\")","v":0},{"$f":"IF(A9<>\"\",IFERROR(VLOOKUP(S9,Tabelas!B:D,3,0),0),\"\")","v":0},{"$f":"IF(A9<>\"\",IFERROR(VLOOKUP(T9,Tabelas!B:D,3,0),0),\"\")","v":0},{"$f":"IF(A9<>\"\",IFERROR(VLOOKUP(U9,Tabelas!B:D,3,0),0),\"\")","v":0},{"$f":"IF(A9<>\"\",IFERROR(VLOOKUP(V9,Tabelas!B:D,3,0),0),\"\")","v":0},{"$f":"IF(A9<>\"\",IFERROR(VLOOKUP(W9,Tabelas!B:D,3,0),0),\"\")","v":0},{"$f":"IF(A9<>\"\",IFERROR(VLOOKUP(X9,Tabelas!B:D,3,0),0),\"\")","v":0},{"$f":"IF(A9<>\"\",IFERROR(VLOOKUP(Y9,Tabelas!B:D,3,0),0),\"\")","v":0},{"$f":"IF(A9<>\"\",IFERROR(VLOOKUP(Z9,Tabelas!B:D,3,0),0),\"\")","v":0},{"$f":"IF(A9<>\"\",IFERROR(VLOOKUP(AA9,Tabelas!B:D,3,0),0),\"\")","v":0},{"$f":"IF(A9<>\"\",IFERROR(VLOOKUP(AB9,Tabelas!B:D,3,0),0),\"\")","v":0},{"$f":"IF(A9<>\"\",IFERROR(VLOOKUP(AC9,Tabelas!B:D,3,0),0),\"\")","v":0},{"$f":"IF(A9<>\"\",IFERROR(VLOOKUP(AD9,Tabelas!B:D,3,0),0),\"\")","v":0},{"$f":"IF(A9<>\"\",IFERROR(VLOOKUP(AE9,Tabelas!B:D,3,0),0),\"\")","v":0},{"$f":"IF(A9<>\"\",IFERROR(VLOOKUP(AF9,Tabelas!B:D,3,0),0),\"\")","v":0},{"$f":"IF(A9<>\"\",IFERROR(VLOOKUP(AG9,Tabelas!B:D,3,0),0),\"\")","v":0},{"$f":"IF(A9<>\"\",IFERROR(VLOOKUP(AH9,Tabelas!B:D,3,0),0),\"\")","v":0},{"$f":"IF(A9<>\"\",IFERROR(VLOOKUP(AI9,Tabelas!B:D,3,0),0),\"\")","v":0},{"$f":"IF(A9<>\"\",IFERROR(VLOOKUP(AJ9,Tabelas!B:D,3,0),0),\"\")","v":0},{"$f":"IF(A9<>\"\",IFERROR(VLOOKUP(AK9,Tabelas!B:D,3,0),0),\"\")","v":0},{"$f":"IF(A9<>\"\",IFERROR(VLOOKUP(AL9,Tabelas!B:D,3,0),0),\"\")","v":0},{"$f":"IF(A9<>\"\",IFERROR(VLOOKUP(AM9,Tabelas!B:D,3,0),0),\"\")","v":0},{"$f":"IF(A9<>\"\",IFERROR(VLOOKUP(AN9,Tabelas!B:D,3,0),0),\"\")","v":0},{"$f":"IF(A9<>\"\",IFERROR(VLOOKUP(AO9,Tabelas!B:D,3,0),0),\"\")","v":0},{"$f":"IF(A9<>\"\",IFERROR(VLOOKUP(AP9,Tabelas!B:D,3,0),0),\"\")","v":0},{"$f":"IF(A9<>\"\",IFERROR(VLOOKUP(AQ9,Tabelas!B:D,3,0),0),\"\")","v":0},{"$f":"IF(AND(A9<>\"\",E9=\"Ebserh\"),SUM(AR9:BV9)+COUNTIF(M9:AQ9,\"N*\")+COUNTIF(M9:AQ9,\"DN*\"),IF(AND(A9<>\"\",E9<>\"Ebserh\"),SUM(AR9:BV9),\"\"))","v":0},{"$f":"IF(A9<>\"\",COUNTIF(M9:AQ9,\"LM\")+COUNTIF(M9:AQ9,\"L\")+COUNTIF(M9:AQ9,\"LP\"),\"\")","v":0},{"$f":"IF(A9<>\"\",COUNTIF(M9:AQ9,\"AB*\"),\"\")","v":0},{"$f":"IF(A9<>\"\",COUNTIF(M9:AQ9,\"FE\"),\"\")","v":0},{"$f":"IF(A9<>\"\",COUNTIF(M9:AQ9,\"LC\"),\"\")","v":0},{"$f":"IF(A9<>\"\",COUNTIF(M9:AQ9,\"CH*\"),\"\")","v":0},{"$f":"IF(A9<>\"\",COUNTIF(M9:AQ9,\"AF1\")+COUNTIF(M9:AQ9,\"AF2\")+COUNTIF(M9:AQ9,\"AF3\")+COUNTIF(M9:AQ9,\"AF4\")+COUNTIF(M9:AQ9,\"AF5\")+COUNTIF(M9:AQ9,\"AF6\")+COUNTIF(M9:AQ9,\"AF7\")+COUNTIF(M9:AQ9,\"AF8\")+COUNTIF(M9:AQ9,\"AF9\")+COUNTIF(M9:AQ9,\"AF10\")+COUNTIF(M9:AQ9,\"AF11\")+COUNTIF(M9:AQ9,\"AF12\")+COUNTIF(M9:AQ9,\"AF13\")+COUNTIF(M9:AQ9,\"AF14\"),\"\")","v":0},{"$f":"IF(A9<>\"\",COUNTIF(M9:AQ9,\"CH*\")+COUNTIF(M9:AQ9,\"L\")+COUNTIF(M9:AQ9,\"LM\")+COUNTIF(M9:AQ9,\"LP\")+COUNTIF(M9:AQ9,\"LC\")+COUNTIF(M9:AQ9,\"AB*\")+COUNTIF(M9:AQ9,\"AF1\")+COUNTIF(M9:AQ9,\"AF2\")+COUNTIF(M9:AQ9,\"AF3\")+COUNTIF(M9:AQ9,\"AF4\")+COUNTIF(M9:AQ9,\"AF5\")+COUNTIF(M9:AQ9,\"AF6\")+COUNTIF(M9:AQ9,\"AF7\")+COUNTIF(M9:AQ9,\"AF8\")+COUNTIF(M9:AQ9,\"AF9\")+COUNTIF(M9:AQ9,\"AF10\")+COUNTIF(M9:AQ9,\"AF11\")+COUNTIF(M9:AQ9,\"AF12\")+COUNTIF(M9:AQ9,\"AF13\")+COUNTIF(M9:AQ9,\"AF14\")+COUNTIF(M9:AQ9,\"RC\")+COUNTIF(M9:AQ9,\"FO\")+COUNTIF(M9:AQ9,\"FE\"),\"\")","v":0}]
["Alexandre Luciano Klein",2312539,null,"ME","RJU",30,null,null,null,null,null,null,"M17","M17",null,null,"M17","M17","M17","M17","M17",null,null,null,"M17","M17","M17","M17",null,null,"M17","M17","M17","M17","M17",null,null,"M17","M17",null,"M17","M17",null,{"$f":"IF(A10<>\"\",IFERROR(VLOOKUP(M10,Tabelas!B:D,3,0),0),\"\")","v":6},{"$f":"IF(A10<>\"\",IFERROR(VLOOKUP(N10,Tabelas!B:D,3,0),0),\"\")","v":6},{"$f":"IF(A10<>\"\",IFERROR(VLOOKUP(O10,Tabelas!B:D,3,0),0),\"\")","v":0},{"$f":"IF(A10<>\"\",IFERROR(VLOOKUP(P10,Tabelas!B:D,3,0),0),\"\")","v":0},{"$f":"IF(A10<>\"\",IFERROR(VLOOKUP(Q10,Tabelas!B:D,3,0),0),\"\")","v":6},{"$f":"IF(A10<>\"\",IFERROR(VLOOKUP(R10,Tabelas!B:D,3,0),0),\"\")","v":6},{"$f":"IF(A10<>\"\",IFERROR(VLOOKUP(S10,Tabelas!B:D,3,0),0),\"\")","v":6},{"$f":"IF(A10<>\"\",IFERROR(VLOOKUP(T10,Tabelas!B:D,3,0),0),\"\")","v":6},{"$f":"IF(A10<>\"\",IFERROR(VLOOKUP(U10,Tabelas!B:D,3,0),0),\"\")","v":6},{"$f":"IF(A10<>\"\",IFERROR(VLOOKUP(V10,Tabelas!B:D,3,0),0),\"\")","v":0},{"$f":"IF(A10<>\"\",IFERROR(VLOOKUP(W10,Tabelas!B:D,3,0),0),\"\")","v":0},{"$f":"IF(A10<>\"\",IFERROR(VLOOKUP(X10,Tabelas!B:D,3,0),0),\"\")","v":0},{"$f":"IF(A10<>\"\",IFERROR(VLOOKUP(Y10,Tabelas!B:D,3,0),0),\"\")","v":6},{"$f":"IF(A10<>\"\",IFERROR(VLOOKUP(Z10,Tabelas!B:D,3,0),0),\"\")","v":6},{"$f":"IF(A10<>\"\",IFERROR(VLOOKUP(AA10,Tabelas!B:D,3,0),0),\"\")","v":6},{"$f":"IF(A10<>\"\",IFERROR(VLOOKUP(AB10,Tabelas!B:D,3,0),0),\"\")","v":6},{"$f":"IF(A10<>\"\",IFERROR(VLOOKUP(AC10,Tabelas!B:D,3,0),0),\"\")","v":0},{"$f":"IF(A10<>\"\",IFERROR(VLOOKUP(AD10,Tabelas!B:D,3,0),0),\"\")","v":0},{"$f":"IF(A10<>\"\",IFERROR(VLOOKUP(AE10,Tabelas!B:D,3,0),0),\"\")","v":6},{"$f":"IF(A10<>\"\",IFERROR(VLOOKUP(AF10,Tabelas!B:D,3,0),0),\"\")","v":6},{"$f":"IF(A10<>\"\",IFERROR(VLOOKUP(AG10,Tabelas!B:D,3,0),0),\"\")","v":6},{"$f":"IF(A10<>\"\",IFERROR(VLOOKUP(AH10,Tabelas!B:D,3,0),0),\"\")","v":6},{"$f":"IF(A10<>\"\",IFERROR(VLOOKUP(AI10,Tabelas!B:D,3,0),0),\"\")","v":6},{"$f":"IF(A10<>\"\",IFERROR(VLOOKUP(AJ10,Tabelas!B:D,3,0),0),\"\")","v":0},{"$f":"IF(A10<>\"\",IFERROR(VLOOKUP(AK10,Tabelas!B:D,3,0),0),\"\")","v":0},{"$f":"IF(A10<>\"\",IFERROR(VLOOKUP(AL10,Tabelas!B:D,3,0),0),\"\")","v":6},{"$f":"IF(A10<>\"\",IFERROR(VLOOKUP(AM10,Tabelas!B:D,3,0),0),\"\")","v":6},{"$f":"IF(A10<>\"\",IFERROR(VLOOKUP(AN10,Tabelas!B:D,3,0),0),\"\")","v":0},{"$f":"IF(A10<>\"\",IFERROR(VLOOKUP(AO10,Tabelas!B:D,3,0),0),\"\")","v":6},{"$f":"IF(A10<>\"\",IFERROR(VLOOKUP(AP10,Tabelas!B:D,3,0),0),\"\")","v":6},{"$f":"IF(A10<>\"\",IFERROR(VLOOKUP(AQ10,Tabelas!B:D,3,0),0),\"\")","v":0},120,0,0,0,0,0,0,0]
["Alexandre Luciano Klein",3312539,null,"ME","RJU",20,null,null,null,null,null,null,"T17",null,null,null,"T17",null,"T17","T17",null,null,null,null,"T17","T17","T17",null,null,null,"T17",null,"T17","T17",null,null,null,"T17","T17",null,"T17",null,null,{"$f":"IF(A11<>\"\",IFERROR(VLOOKUP(M11,Tabelas!B:D,3,0),0),\"\")","v":6},{"$f":"IF(A11<>\"\",IFERROR(VLOOKUP(N11,Tabelas!B:D,3,0),0),\"\")","v":0},{"$f":"IF(A11<>\"\",IFERROR(VLOOKUP(O11,Tabelas!B:D,3,0),0),\"\")","v":0},{"$f":"IF(A11<>\"\",IFERROR(VLOOKUP(P11,Tabelas!B:D,3,0),0),\"\")","v":0},{"$f":"IF(A11<>\"\",IFERROR(VLOOKUP(Q11,Tabelas!B:D,3,0),0),\"\")","v":6},{"$f":"IF(A11<>\"\",IFERROR(VLOOKUP(R11,Tabelas!B:D,3,0),0),\"\")","v":0},{"$f":"IF(A11<>\"\",IFERROR(VLOOKUP(S11,Tabelas!B:D,3,0),0),\"\")","v":6},{"$f":"IF(A11<>\"\",IFERROR(VLOOKUP(T11,Tabelas!B:D,3,0),0),\"\")","v":6},{"$f":"IF(A11<>\"\",IFERROR(VLOOKUP(U11,Tabelas!B:D,3,0),0),\"\")","v":0},{"$f":"IF(A11<>\"\",IFERROR(VLOOKUP(V11,Tabelas!B:D,3,0),0),\"\")","v":0},{"$f":"IF(A11<>\"\",IFERROR(VLOOKUP(W11,Tabelas!B:D,3,0),0),\"\")","v":0},{"$f":"IF(A11<>\"\",IFERROR(VLOOKUP(X11,Tabelas!B:D,3,0),0),\"\")","v":0},{"$f":"IF(A11<>\"\",IFERROR(VLOOKUP(Y11,Tabelas!B:D,3,0),0),\"\")","v":6},{"$f":"IF(A11<>\"\",IFERROR(VLOOKUP(Z11,Tabelas!B:D,3,0),0),\"\")","v":6},{"$f":"IF(A11<>\"\",IFERROR(VLOOKUP(AA11,Tabelas!B:D,3,0),0),\"\")","v":6},{"$f":"IF(A11<>\"\",IFERROR(VLOOKUP(AB11,Tabelas!B:D,3,0),0),\"\")","v":0},{"$f":"IF(A11<>\"\",IFERROR(VLOOKUP(AC11,Tabelas!B:D,3,0),0),\"\")","v":0},{"$f":"IF(A11<>\"\",IFERROR(VLOOKUP(AD11,Tabelas!B:D,3,0),0),\"\")","v":0},{"$f":"IF(A11<>\"\",IFERROR(VLOOKUP(AE11,Tabelas!B:D,3,0),0),\"\")","v":6},{"$f":"IF(A11<>\"\",IFERROR(VLOOKUP(AF11,Tabelas!B:D,3,0),0),\"\")","v":0},{"$f":"IF(A11<>\"\",IFERROR(VLOOKUP(AG11,Tabelas!B:D,3,0),0),\"\")","v":6},{"$f":"IF(A11<>\"\",IFERROR(VLOOKUP(AH11,Tabelas!B:D,3,0),0),\"\")","v":6},{"$f":"IF(A11<>\"\",IFERROR(VLOOKUP(AI11,Tabelas!B:D,3,0),0),\"\")","v":0},{"$f":"IF(A11<>\"\",IFERROR(VLOOKUP(AJ11,Tabelas!B:D,3,0),0),\"\")","v":0},{"$f":"IF(A11<>\"\",IFERROR(VLOOKUP(AK11,Tabelas!B:D,3,0),0),\"\")","v":0},{"$f":"IF(A11<>\"\",IFERROR(VLOOKUP(AL11,Tabelas!B:D,3,0),0),\"\")","v":6},{"$f":"IF(A11<>\"\",IFERROR(VLOOKUP(AM11,Tabelas!B:D,3,0),0),\"\")","v":6},{"$f":"IF(A11<>\"\",IFERROR(VLOOKUP(AN11,Tabelas!B:D,3,0),0),\"\")","v":0},{"$f":"IF(A11<>\"\",IFERROR(VLOOKUP(AO11,Tabelas!B:D,3,0),0),\"\")","v":6},{"$f":"IF(A11<>\"\",IFERROR(VLOOKUP(AP11,Tabelas!B:D,3,0),0),\"\")","v":0},{"$f":"IF(A11<>\"\",IFERROR(VLOOKUP(AQ11,Tabelas!B:D,3,0),0),\"\")","v":0},78,0,0,0,0,0,0,0]
["Alice Danielle Correa Mendes Pinto",1357071,null,"ME","RJU",30,null,null,null,null,null,null,"FE","FE",null,null,"M17","M17","M17","M17","M17",null,null,null,"M17","M17","M17","M17",null,null,"M17","D8","T17","T17",null,null,null,"M17","M17",null,"M17","M17",null,{"$f":"IF(A12<>\"\",IFERROR(VLOOKUP(M12,Tabelas!B:D,3,0),0),\"\")","v":0},{"$f":"IF(A12<>\"\",IFERROR(VLOOKUP(N12,Tabelas!B:D,3,0),0),\"\")","v":0},{"$f":"IF(A12<>\"\",IFERROR(VLOOKUP(O12,Tabelas!B:D,3,0),0),\"\")","v":0},{"$f":"IF(A12<>\"\",IFERROR(VLOOKUP(P12,Tabelas!B:D,3,0),0),\"\")","v":0},{"$f":"IF(A12<>\"\",IFERROR(VLOOKUP(Q12,Tabelas!B:D,3,0),0),\"\")","v":6},{"$f":"IF(A12<>\"\",IFERROR(VLOOKUP(R12,Tabelas!B:D,3,0),0),\"\")","v":6},{"$f":"IF(A12<>\"\",IFERROR(VLOOKUP(S12,Tabelas!B:D,3,0),0),\"\")","v":6},{"$f":"IF(A12<>\"\",IFERROR(VLOOKUP(T12,Tabelas!B:D,3,0),0),\"\")","v":6},{"$f":"IF(A12<>\"\",IFERROR(VLOOKUP(U12,Tabelas!B:D,3,0),0),\"\")","v":6},{"$f":"IF(A12<>\"\",IFERROR(VLOOKUP(V12,Tabelas!B:D,3,0),0),\"\")","v":0},{"$f":"IF(A12<>\"\",IFERROR(VLOOKUP(W12,Tabelas!B:D,3,0),0),\"\")","v":0},{"$f":"IF(A12<>\"\",IFERROR(VLOOKUP(X12,Tabelas!B:D,3,0),0),\"\")","v":0},{"$f":"IF(A12<>\"\",IFERROR(VLOOKUP(Y12,Tabelas!B:D,3,0),0),\"\")","v":6},{"$f":"IF(A12<>\"\",IFERROR(VLOOKUP(Z12,Tabelas!B:D,3,0),0),\"\")","v":6},{"$f":"IF(A12<>\"\",IFERROR(VLOOKUP(AA12,Tabelas!B:D,3,0),0),\"\")","v":6},{"$f":"IF(A12<>\"\",IFERROR(VLOOKUP(AB12,Tabelas!B:D,3,0),0),\"\")","v":6},{"$f":"IF(A12<>\"\",IFERROR(VLOOKUP(AC12,Tabelas!B:D,3,0),0),\"\")","v":0},{"$f":"IF(A12<>\"\",IFERROR(VLOOKUP(AD12,Tabelas!B:D,3,0),0),\"\")","v":0},{"$f":"IF(A12<>\"\",IFERROR(VLOOKUP(AE12,Tabelas!B:D,3,0),0),\"\")","v":6},{"$f":"IF(A12<>\"\",IFERROR(VLOOKUP(AF12,Tabelas!B:D,3,0),0),\"\")","v":12},{"$f":"IF(A12<>\"\",IFERROR(VLOOKUP(AG12,Tabelas!B:D,3,0),0),\"\")","v":6},{"$f":"IF(A12<>\"\",IFERROR(VLOOKUP(AH12,Tabelas!B:D,3,0),0),\"\")","v":6},{"$f":"IF(A12<>\"\",IFERROR(VLOOKUP(AI12,Tabelas!B:D,3,0),0),\"\")","v":0},{"$f":"IF(A12<>\"\",IFERROR(VLOOKUP(AJ12,Tabelas!B:D,3,0),0),\"\")","v":0},{"$f":"IF(A12<>\"\",IFERROR(VLOOKUP(AK12,Tabelas!B:D,3,0),0),\"\")","v":0},{"$f":"IF(A12<>\"\",IFERROR(VLOOKUP(AL12,Tabelas!B:D,3,0),0),\"\")","v":6},{"$f":"IF(A12<>\"\",IFERROR(VLOOKUP(AM12,Tabelas!B:D,3,0),0),\"\")","v":6},{"$f":"IF(A12<>\"\",IFERROR(VLOOKUP(AN12,Tabelas!B:D,3,0),0),\"\")","v":0},{"$f":"IF(A12<>\"\",IFERROR(VLOOKUP(AO12,Tabelas!B:D,3,0),0),\"\")","v":6},{"$f":"IF(A12<>\"\",IFERROR(VLOOKUP(AP12,Tabelas!B:D,3,0),0),\"\")","v":6},{"$f":"IF(A12<>\"\",IFERROR(VLOOKUP(AQ12,Tabelas!B:D,3,0),0),\"\")","v":0},108,0,0,2,0,0,0,2]
["Gina Vieira Velho",1185798,null,"ME","RJU",20,null,null,null,null,null,null,"M17",null,null,null,"FE","FE","FE","FE","FE","FE","FE","FE","FE","FE","FE","FE","FE","FE","FE",null,"M17","M17",null,null,null,"T17",null,null,"M17",null,null,{"$f":"IF(A13<>\"\",IFERROR(VLOOKUP(M13,Tabelas!B:D,3,0),0),\"\")","v":6},{"$f":"IF(A13<>\"\",IFERROR(VLOOKUP(N13,Tabelas!B:D,3,0),0),\"\")","v":0},{"$f":"IF(A13<>\"\",IFERROR(VLOOKUP(O13,Tabelas!B:D,3,0),0),\"\")","v":0},{"$f":"IF(A13<>\"\",IFERROR(VLOOKUP(P13,Tabelas!B:D,3,0),0),\"\")","v":0},{"$f":"IF(A13<>\"\",IFERROR(VLOOKUP(Q13,Tabelas!B:D,3,0),0),\"\")","v":0},{"$f":"IF(A13<>\"\",IFERROR(VLOOKUP(R13,Tabelas!B:D,3,0),0),\"\")","v":0},{"$f":"IF(A13<>\"\",IFERROR(VLOOKUP(S13,Tabelas!B:D,3,0),0),\"\")","v":0},{"$f":"IF(A13<>\"\",IFERROR(VLOOKUP(T13,Tabelas!B:D,3,0),0),\"\")","v":0},{"$f":"IF(A13<>\"\",IFERROR(VLOOKUP(U13,Tabelas!B:D,3,0),0),\"\")","v":0},{"$f":"IF(A13<>\"\",IFERROR(VLOOKUP(V13,Tabelas!B:D,3,0),0),\"\")","v":0},{"$f":"IF(A13<>\"\",IFERROR(VLOOKUP(W13,Tabelas!B:D,3,0),0),\"\")","v":0},{"$f":"IF(A13<>\"\",IFERROR(VLOOKUP(X13,Tabelas!B:D,3,0),0),\"\")","v":0},{"$f":"IF(A13<>\"\",IFERROR(VLOOKUP(Y13,Tabelas!B:D,3,0),0),\"\")","v":0},{"$f":"IF(A13<>\"\",IFERROR(VLOOKUP(Z13,Tabelas!B:D,3,0),0),\"\")","v":0},{"$f":"IF(A13<>\"\",IFERROR(VLOOKUP(AA13,Tabelas!B:D,3,0),0),\"\")","v":0},{"$f":"IF(A13<>\"\",IFERROR(VLOOKUP(AB13,Tabelas!B:D,3,0),0),\"\")","v":0},{"$f":"IF(A13<>\"\",IFERROR(VLOOKUP(AC13,Tabelas!B:D,3,0),0),\"\")","v":0},{"$f":"IF(A13<>\"\",IFERROR(VLOOKUP(AD13,Tabelas!B:D,3,0),0),\"\")","v":0},{"$f":"IF(A13<>\"\",IFERROR(VLOOKUP(AE13,Tabelas!B:D,3,0),0),\"\")","v":0},{"$f":"IF(A13<>\"\",IFERROR(VLOOKUP(AF13,Tabelas!B:D,3,0),0),\"\")","v":0},{"$f":"IF(A13<>\"\",IFERROR(VLOOKUP(AG13,Tabelas!B:D,3,0),0),\"\")","v":6},{"$f":"IF(A13<>\"\",IFERROR(VLOOKUP(AH13,Tabelas!B:D,3,0),0),\"\")","v":6},{"$f":"IF(A13<>\"\",IFERROR(VLOOKUP(AI13,Tabelas!B:D,3,0),0),\"\")","v":0},{"$f":"IF(A13<>\"\",IFERROR(VLOOKUP(AJ13,Tabelas!B:D,3,0),0),\"\")","v":0},{"$f":"IF(A13<>\"\",IFERROR(VLOOKUP(AK13,Tabelas!B:D,3,0),0),\"\")","v":0},{"$f":"IF(A13<>\"\",IFERROR(VLOOKUP(AL13,Tabelas!B:D,3,0),0),\"\")","v":6},{"$f":"IF(A13<>\"\",IFERROR(VLOOKUP(AM13,Tabelas!B:D,3,0),0),\"\")","v":0},{"$f":"IF(A13<>\"\",IFERROR(VLOOKUP(AN13,Tabelas!B:D,3,0),0),\"\")","v":0},{"$f":"IF(A13<>\"\",IFERROR(VLOOKUP(AO13,Tabelas!B:D,3,0),0),\"\")","v":6},{"$f":"IF(A13<>\"\",IFERROR(VLOOKUP(AP13,Tabelas!B:D,3,0),0),\"\")","v":0},{"$f":"IF(A13<>\"\",IFERROR(VLOOKUP(AQ13,Tabelas!B:D,3,0),0),\"\")","v":0},30,0,0,15,0,0,0,15]
["Rafael Lisboa de Souza",2344070,null,"ME","RJU",30,null,null,null,null,null,null,"FE","FE",null,null,"M17","M17","M17","M17","M17",null,null,null,"M17","M17","M17","M17",null,null,"M17","M17","M17","M17","M17",null,null,"M17","M17",null,"M17","M17",null,{"$f":"IF(A14<>\"\",IFERROR(VLOOKUP(M14,Tabelas!B:D,3,0),0),\"\")","v":0},{"$f":"IF(A14<>\"\",IFERROR(VLOOKUP(N14,Tabelas!B:D,3,0),0),\"\")","v":0},{"$f":"IF(A14<>\"\",IFERROR(VLOOKUP(O14,Tabelas!B:D,3,0),0),\"\")","v":0},{"$f":"IF(A14<>\"\",IFERROR(VLOOKUP(P14,Tabelas!B:D,3,0),0),\"\")","v":0},{"$f":"IF(A14<>\"\",IFERROR(VLOOKUP(Q14,Tabelas!B:D,3,0),0),\"\")","v":6},{"$f":"IF(A14<>\"\",IFERROR(VLOOKUP(R14,Tabelas!B:D,3,0),0),\"\")","v":6},{"$f":"IF(A14<>\"\",IFERROR(VLOOKUP(S14,Tabelas!B:D,3,0),0),\"\")","v":6},{"$f":"IF(A14<>\"\",IFERROR(VLOOKUP(T14,Tabelas!B:D,3,0),0),\"\")","v":6},{"$f":"IF(A14<>\"\",IFERROR(VLOOKUP(U14,Tabelas!B:D,3,0),0),\"\")","v":6},{"$f":"IF(A14<>\"\",IFERROR(VLOOKUP(V14,Tabelas!B:D,3,0),0),\"\")","v":0},{"$f":"IF(A14<>\"\",IFERROR(VLOOKUP(W14,Tabelas!B:D,3,0),0),\"\")","v":0},{"$f":"IF(A14<>\"\",IFERROR(VLOOKUP(X14,Tabelas!B:D,3,0),0),\"\")","v":0},{"$f":"IF(A14<>\"\",IFERROR(VLOOKUP(Y14,Tabelas!B:D,3,0),0),\"\")","v":6},{"$f":"IF(A14<>\"\",IFERROR(VLOOKUP(Z14,Tabelas!B:D,3,0),0),\"\")","v":6},{"$f":"IF(A14<>\"\",IFERROR(VLOOKUP(AA14,Tabelas!B:D,3,0),0),\"\")","v":6},{"$f":"IF(A14<>\"\",IFERROR(VLOOKUP(AB14,Tabelas!B:D,3,0),0),\"\")","v":6},{"$f":"IF(A14<>\"\",IFERROR(VLOOKUP(AC14,Tabelas!B:D,3,0),0),\"\")","v":0},{"$f":"IF(A14<>\"\",IFERROR(VLOOKUP(AD14,Tabelas!B:D,3,0),0),\"\")","v":0},{"$f":"IF(A14<>\"\",IFERROR(VLOOKUP(AE14,Tabelas!B:D,3,0),0),\"\")","v":6},{"$f":"IF(A14<>\"\",IFERROR(VLOOKUP(AF14,Tabelas!B:D,3,0),0),\"\")","v":6},{"$f":"IF(A14<>\"\",IFERROR(VLOOKUP(AG14,Tabelas!B:D,3,0),0),\"\")","v":6},{"$f":"IF(A14<>\"\",IFERROR(VLOOKUP(AH14,Tabelas!B:D,3,0),0),\"\")","v":6},{"$f":"IF(A14<>\"\",IFERROR(VLOOKUP(AI14,Tabelas!B:D,3,0),0),\"\")","v":6},{"$f":"IF(A14<>\"\",IFERROR(VLOOKUP(AJ14,Tabelas!B:D,3,0),0),\"\")","v":0},{"$f":"IF(A14<>\"\",IFERROR(VLOOKUP(AK14,Tabelas!B:D,3,0),0),\"\")","v":0},{"$f":"IF(A14<>\"\",IFERROR(VLOOKUP(AL14,Tabelas!B:D,3,0),0),\"\")","v":6},{"$f":"IF(A14<>\"\",IFERROR(VLOOKUP(AM14,Tabelas!B:D,3,0),0),\"\")","v":6},{"$f":"IF(A14<>\"\",IFERROR(VLOOKUP(AN14,Tabelas!B:D,3,0),0),\"\")","v":0},{"$f":"IF(A14<>\"\",IFERROR(VLOOKUP(AO14,Tabelas!B:D,3,0),0),\"\")","v":6},{"$f":"IF(A14<>\"\",IFERROR(VLOOKUP(AP14,Tabelas!B:D,3,0),0),\"\")","v":6},{"$f":"IF(A14<>\"\",IFERROR(VLOOKUP(AQ14,Tabelas!B:D,3,0),0),\"\")","v":0},108,0,0,2,0,0,0,2]
["Karine da Costa Damiani Cabral",2925603,null,"ME","RJU",30,null,null,null,null,null,null,"M17","D8",null,null,"D8","D8","T17",null,"T17",null,null,null,"M17","M17",null,null,null,null,"FE","FE","FE","FE","FE","FE","FE","FE","FE","FE","FE","FE","FE",{"$f":"IF(A15<>\"\",IFERROR(VLOOKUP(M15,Tabelas!B:D,3,0),0),\"\")","v":6},{"$f":"IF(A15<>\"\",IFERROR(VLOOKUP(N15,Tabelas!B:D,3,0),0),\"\")","v":12},{"$f":"IF(A15<>\"\",IFERROR(VLOOKUP(O15,Tabelas!B:D,3,0),0),\"\")","v":0},{"$f":"IF(A15<>\"\",IFERROR(VLOOKUP(P15,Tabelas!B:D,3,0),0),\"\")","v":0},{"$f":"IF(A15<>\"\",IFERROR(VLOOKUP(Q15,Tabelas!B:D,3,0),0),\"\")","v":12},{"$f":"IF(A15<>\"\",IFERROR(VLOOKUP(R15,Tabelas!B:D,3,0),0),\"\")","v":12},{"$f":"IF(A15<>\"\",IFERROR(VLOOKUP(S15,Tabelas!B:D,3,0),0),\"\")","v":6},{"$f":"IF(A15<>\"\",IFERROR(VLOOKUP(T15,Tabelas!B:D,3,0),0),\"\")","v":0},{"$f":"IF(A15<>\"\",IFERROR(VLOOKUP(U15,Tabelas!B:D,3,0),0),\"\")","v":6},{"$f":"IF(A15<>\"\",IFERROR(VLOOKUP(V15,Tabelas!B:D,3,0),0),\"\")","v":0},{"$f":"IF(A15<>\"\",IFERROR(VLOOKUP(W15,Tabelas!B:D,3,0),0),\"\")","v":0},{"$f":"IF(A15<>\"\",IFERROR(VLOOKUP(X15,Tabelas!B:D,3,0),0),\"\")","v":0},{"$f":"IF(A15<>\"\",IFERROR(VLOOKUP(Y15,Tabelas!B:D,3,0),0),\"\")","v":6},{"$f":"IF(A15<>\"\",IFERROR(VLOOKUP(Z15,Tabelas!B:D,3,0),0),\"\")","v":6},{"$f":"IF(A15<>\"\",IFERROR(VLOOKUP(AA15,Tabelas!B:D,3,0),0),\"\")","v":0},{"$f":"IF(A15<>\"\",IFERROR(VLOOKUP(AB15,Tabelas!B:D,3,0),0),\"\")","v":0},{"$f":"IF(A15<>\"\",IFERROR(VLOOKUP(AC15,Tabelas!B:D,3,0),0),\"\")","v":0},{"$f":"IF(A15<>\"\",IFERROR(VLOOKUP(AD15,Tabelas!B:D,3,0),0),\"\")","v":0},{"$f":"IF(A15<>\"\",IFERROR(VLOOKUP(AE15,Tabelas!B:D,3,0),0),\"\")","v":0},{"$f":"IF(A15<>\"\",IFERROR(VLOOKUP(AF15,Tabelas!B:D,3,0),0),\"\")","v":0},{"$f":"IF(A15<>\"\",IFERROR(VLOOKUP(AG15,Tabelas!B:D,3,0),0),\"\")","v":0},{"$f":"IF(A15<>\"\",IFERROR(VLOOKUP(AH15,Tabelas!B:D,3,0),0),\"\")","v":0},{"$f":"IF(A15<>\"\",IFERROR(VLOOKUP(AI15,Tabelas!B:D,3,0),0),\"\")","v":0},{"$f":"IF(A15<>\"\",IFERROR(VLOOKUP(AJ15,Tabelas!B:D,3,0),0),\"\")","v":0},{"$f":"IF(A15<>\"\",IFERROR(VLOOKUP(AK15,Tabelas!B:D,3,0),0),\"\")","v":0},{"$f":"IF(A15<>\"\",IFERROR(VLOOKUP(AL15,Tabelas!B:D,3,0),0),\"\")","v":0},{"$f":"IF(A15<>\"\",IFERROR(VLOOKUP(AM15,Tabelas!B:D,3,0),0),\"\")","v":0},{"$f":"IF(A15<>\"\",IFERROR(VLOOKUP(AN15,Tabelas!B:D,3,0),0),\"\")","v":0},{"$f":"IF(A15<>\"\",IFERROR(VLOOKUP(AO15,Tabelas!B:D,3,0),0),\"\")","v":0},{"$f":"IF(A15<>\"\",IFERROR(VLOOKUP(AP15,Tabelas!B:D,3,0),0),\"\")","v":0},{"$f":"IF(A15<>\"\",IFERROR(VLOOKUP(AQ15,Tabelas!B:D,3,0),0),\"\")","v":0},66,0,0,13,0,0,0,13]
["Vanessa Miné Geraldo",3055054,null,"ME","EBSERH",24,null,null,null,null,null,null,"D8",null,null,null,null,"T17","T17","T17","T17",null,null,null,"T17","T17","T17","T17",null,null,null,"T17",null,null,"T17",null,null,null,"T17","D8","T17","T17",null,{"$f":"IF(A16<>\"\",IFERROR(VLOOKUP(M16,Tabelas!B:D,3,0),0),\"\")","v":12},{"$f":"IF(A16<>\"\",IFERROR(VLOOKUP(N16,Tabelas!B:D,3,0),0),\"\")","v":0},{"$f":"IF(A16<>\"\",IFERROR(VLOOKUP(O16,Tabelas!B:D,3,0),0),\"\")","v":0},{"$f":"IF(A16<>\"\",IFERROR(VLOOKUP(P16,Tabelas!B:D,3,0),0),\"\")","v":0},{"$f":"IF(A16<>\"\",IFERROR(VLOOKUP(Q16,Tabelas!B:D,3,0),0),\"\")","v":0},{"$f":"IF(A16<>\"\",IFERROR(VLOOKUP(R16,Tabelas!B:D,3,0),0),\"\")","v":6},{"$f":"IF(A16<>\"\",IFERROR(VLOOKUP(S16,Tabelas!B:D,3,0),0),\"\")","v":6},{"$f":"IF(A16<>\"\",IFERROR(VLOOKUP(T16,Tabelas!B:D,3,0),0),\"\")","v":6},{"$f":"IF(A16<>\"\",IFERROR(VLOOKUP(U16,Tabelas!B:D,3,0),0),\"\")","v":6},{"$f":"IF(A16<>\"\",IFERROR(VLOOKUP(V16,Tabelas!B:D,3,0),0),\"\")","v":0},{"$f":"IF(A16<>\"\",IFERROR(VLOOKUP(W16,Tabelas!B:D,3,0),0),\"\")","v":0},{"$f":"IF(A16<>\"\",IFERROR(VLOOKUP(X16,Tabelas!B:D,3,0),0),\"\")","v":0},{"$f":"IF(A16<>\"\",IFERROR(VLOOKUP(Y16,Tabelas!B:D,3,0),0),\"\")","v":6},{"$f":"IF(A16<>\"\",IFERROR(VLOOKUP(Z16,Tabelas!B:D,3,0),0),\"\")","v":6},{"$f":"IF(A16<>\"\",IFERROR(VLOOKUP(AA16,Tabelas!B:D,3,0),0),\"\")","v":6},{"$f":"IF(A16<>\"\",IFERROR(VLOOKUP(AB16,Tabelas!B:D,3,0),0),\"\")","v":6},{"$f":"IF(A16<>\"\",IFERROR(VLOOKUP(AC16,Tabelas!B:D,3,0),0),\"\")","v":0},{"$f":"IF(A16<>\"\",IFERROR(VLOOKUP(AD16,Tabelas!B:D,3,0),0),\"\")","v":0},{"$f":"IF(A16<>\"\",IFERROR(VLOOKUP(AE16,Tabelas!B:D,3,0),0),\"\")","v":0},{"$f":"IF(A16<>\"\",IFERROR(VLOOKUP(AF16,Tabelas!B:D,3,0),0),\"\")","v":6},{"$f":"IF(A16<>\"\",IFERROR(VLOOKUP(AG16,Tabelas!B:D,3,0),0),\"\")","v":0},{"$f":"IF(A16<>\"\",IFERROR(VLOOKUP(AH16,Tabelas!B:D,3,0),0),\"\")","v":0},{"$f":"IF(A16<>\"\",IFERROR(VLOOKUP(AI16,Tabelas!B:D,3,0),0),\"\")","v":6},{"$f":"IF(A16<>\"\",IFERROR(VLOOKUP(AJ16,Tabelas!B:D,3,0),0),\"\")","v":0},{"$f":"IF(A16<>\"\",IFERROR(VLOOKUP(AK16,Tabelas!B:D,3,0),0),\"\")","v":0},{"$f":"IF(A16<>\"\",IFERROR(VLOOKUP(AL16,Tabelas!B:D,3,0),0),\"\")","v":0},{"$f":"IF(A16<>\"\",IFERROR(VLOOKUP(AM16,Tabelas!B:D,3,0),0),\"\")","v":6},{"$f":"IF(A16<>\"\",IFERROR(VLOOKUP(AN16,Tabelas!B:D,3,0),0),\"\")","v":12},{"$f":"IF(A16<>\"\",IFERROR(VLOOKUP(AO16,Tabelas!B:D,3,0),0),\"\")","v":6},{"$f":"IF(A16<>\"\",IFERROR(VLOOKUP(AP16,Tabelas!B:D,3,0),0),\"\")","v":6},{"$f":"IF(A16<>\"\",IFERROR(VLOOKUP(AQ16,Tabelas!B:D,3,0),0),\"\")","v":0},102,0,0,0,0,0,0,0]
["Vinícius Dallagasperina Pedro",3841644,null,"ME","RJU",30,null,null,null,null,null,null,"T17","M17",null,null,null,"T17",null,"T17","T17",null,null,null,"T17","T17","T17","D8",null,null,"T17","T17","T17","T17","D8",null,null,null,"T17",null,"T17","D8",null,{"$f":"IF(A17<>\"\",IFERROR(VLOOKUP(M17,Tabelas!B:D,3,0),0),\"\")","v":6},{"$f":"IF(A17<>\"\",IFERROR(VLOOKUP(N17,Tabelas!B:D,3,0),0),\"\")","v":6},{"$f":"IF(A17<>\"\",IFERROR(VLOOKUP(O17,Tabelas!B:D,3,0),0),\"\")","v":0},{"$f":"IF(A17<>\"\",IFERROR(VLOOKUP(P17,Tabelas!B:D,3,0),0),\"\")","v":0},{"$f":"IF(A17<>\"\",IFERROR(VLOOKUP(Q17,Tabelas!B:D,3,0),0),\"\")","v":0},{"$f":"IF(A17<>\"\",IFERROR(VLOOKUP(R17,Tabelas!B:D,3,0),0),\"\")","v":6},{"$f":"IF(A17<>\"\",IFERROR(VLOOKUP(S17,Tabelas!B:D,3,0),0),\"\")","v":0},{"$f":"IF(A17<>\"\",IFERROR(VLOOKUP(T17,Tabelas!B:D,3,0),0),\"\")","v":6},{"$f":"IF(A17<>\"\",IFERROR(VLOOKUP(U17,Tabelas!B:D,3,0),0),\"\")","v":6},{"$f":"IF(A17<>\"\",IFERROR(VLOOKUP(V17,Tabelas!B:D,3,0),0),\"\")","v":0},{"$f":"IF(A17<>\"\",IFERROR(VLOOKUP(W17,Tabelas!B:D,3,0),0),\"\")","v":0},{"$f":"IF(A17<>\"\",IFERROR(VLOOKUP(X17,Tabelas!B:D,3,0),0),\"\")","v":0},{"$f":"IF(A17<>\"\",IFERROR(VLOOKUP(Y17,Tabelas!B:D,3,0),0),\"\")","v":6},{"$f":"IF(A17<>\"\",IFERROR(VLOOKUP(Z17,Tabelas!B:D,3,0),0),\"\")","v":6},{"$f":"IF(A17<>\"\",IFERROR(VLOOKUP(AA17,Tabelas!B:D,3,0),0),\"\")","v":6},{"$f":"IF(A17<>\"\",IFERROR(VLOOKUP(AB17,Tabelas!B:D,3,0),0),\"\")","v":12},{"$f":"IF(A17<>\"\",IFERROR(VLOOKUP(AC17,Tabelas!B:D,3,0),0),\"\")","v":0},{"$f":"IF(A17<>\"\",IFERROR(VLOOKUP(AD17,Tabelas!B:D,3,0),0),\"\")","v":0},{"$f":"IF(A17<>\"\",IFERROR(VLOOKUP(AE17,Tabelas!B:D,3,0),0),\"\")","v":6},{"$f":"IF(A17<>\"\",IFERROR(VLOOKUP(AF17,Tabelas!B:D,3,0),0),\"\")","v":6},{"$f":"IF(A17<>\"\",IFERROR(VLOOKUP(AG17,Tabelas!B:D,3,0),0),\"\")","v":6},{"$f":"IF(A17<>\"\",IFERROR(VLOOKUP(AH17,Tabelas!B:D,3,0),0),\"\")","v":6},{"$f":"IF(A17<>\"\",IFERROR(VLOOKUP(AI17,Tabelas!B:D,3,0),0),\"\")","v":12},{"$f":"IF(A17<>\"\",IFERROR(VLOOKUP(AJ17,Tabelas!B:D,3,0),0),\"\")","v":0},{"$f":"IF(A17<>\"\",IFERROR(VLOOKUP(AK17,Tabelas!B:D,3,0),0),\"\")","v":0},{"$f":"IF(A17<>\"\",IFERROR(VLOOKUP(AL17,Tabelas!B:D,3,0),0),\"\")","v":0},{"$f":"IF(A17<>\"\",IFERROR(VLOOKUP(AM17,Tabelas!B:D,3,0),0),\"\")","v":6},{"$f":"IF(A17<>\"\",IFERROR(VLOOKUP(AN17,Tabelas!B:D,3,0),0),\"\")","v":0},{"$f":"IF(A17<>\"\",IFERROR(VLOOKUP(AO17,Tabelas!B:D,3,0),0),\"\")","v":6},{"$f":"IF(A17<>\"\",IFERROR(VLOOKUP(AP17,Tabelas!B:D,3,0),0),\"\")","v":12},{"$f":"IF(A17<>\"\",IFERROR(VLOOKUP(AQ17,Tabelas!B:D,3,0),0),\"\")","v":0},120,0,0,0,0,0,0,0]
["Lara Patrícia Kretzer",null,null,"ME","RJU",12,null,null,null,null,null,null,null,null,null,null,"T17",null,null,null,null,null,null,null,null,null,null,"T17",null,null,"T17",null,null,null,"T17",null,null,"T17",null,null,null,"T17",null,{"$f":"IF(A18<>\"\",IFERROR(VLOOKUP(M18,Tabelas!B:D,3,0),0),\"\")","v":0},{"$f":"IF(A18<>\"\",IFERROR(VLOOKUP(N18,Tabelas!B:D,3,0),0),\"\")","v":0},{"$f":"IF(A18<>\"\",IFERROR(VLOOKUP(O18,Tabelas!B:D,3,0),0),\"\")","v":0},{"$f":"IF(A18<>\"\",IFERROR(VLOOKUP(P18,Tabelas!B:D,3,0),0),\"\")","v":0},{"$f":"IF(A18<>\"\",IFERROR(VLOOKUP(Q18,Tabelas!B:D,3,0),0),\"\")","v":6},{"$f":"IF(A18<>\"\",IFERROR(VLOOKUP(R18,Tabelas!B:D,3,0),0),\"\")","v":0},{"$f":"IF(A18<>\"\",IFERROR(VLOOKUP(S18,Tabelas!B:D,3,0),0),\"\")","v":0},{"$f":"IF(A18<>\"\",IFERROR(VLOOKUP(T18,Tabelas!B:D,3,0),0),\"\")","v":0},{"$f":"IF(A18<>\"\",IFERROR(VLOOKUP(U18,Tabelas!B:D,3,0),0),\"\")","v":0},{"$f":"IF(A18<>\"\",IFERROR(VLOOKUP(V18,Tabelas!B:D,3,0),0),\"\")","v":0},{"$f":"IF(A18<>\"\",IFERROR(VLOOKUP(W18,Tabelas!B:D,3,0),0),\"\")","v":0},{"$f":"IF(A18<>\"\",IFERROR(VLOOKUP(X18,Tabelas!B:D,3,0),0),\"\")","v":0},{"$f":"IF(A18<>\"\",IFERROR(VLOOKUP(Y18,Tabelas!B:D,3,0),0),\"\")","v":0},{"$f":"IF(A18<>\"\",IFERROR(VLOOKUP(Z18,Tabelas!B:D,3,0),0),\"\")","v":0},{"$f":"IF(A18<>\"\",IFERROR(VLOOKUP(AA18,Tabelas!B:D,3,0),0),\"\")","v":0},{"$f":"IF(A18<>\"\",IFERROR(VLOOKUP(AB18,Tabelas!B:D,3,0),0),\"\")","v":6},{"$f":"IF(A18<>\"\",IFERROR(VLOOKUP(AC18,Tabelas!B:D,3,0),0),\"\")","v":0},{"$f":"IF(A18<>\"\",IFERROR(VLOOKUP(AD18,Tabelas!B:D,3,0),0),\"\")","v":0},{"$f":"IF(A18<>\"\",IFERROR(VLOOKUP(AE18,Tabelas!B:D,3,0),0),\"\")","v":6},{"$f":"IF(A18<>\"\",IFERROR(VLOOKUP(AF18,Tabelas!B:D,3,0),0),\"\")","v":0},{"$f":"IF(A18<>\"\",IFERROR(VLOOKUP(AG18,Tabelas!B:D,3,0),0),\"\")","v":0},{"$f":"IF(A18<>\"\",IFERROR(VLOOKUP(AH18,Tabelas!B:D,3,0),0),\"\")","v":0},{"$f":"IF(A18<>\"\",IFERROR(VLOOKUP(AI18,Tabelas!B:D,3,0),0),\"\")","v":6},{"$f":"IF(A18<>\"\",IFERROR(VLOOKUP(AJ18,Tabelas!B:D,3,0),0),\"\")","v":0},{"$f":"IF(A18<>\"\",IFERROR(VLOOKUP(AK18,Tabelas!B:D,3,0),0),\"\")","v":0},{"$f":"IF(A18<>\"\",IFERROR(VLOOKUP(AL18,Tabelas!B:D,3,0),0),\"\")","v":6},{"$f":"IF(A18<>\"\",IFERROR(VLOOKUP(AM18,Tabelas!B:D,3,0),0),\"\")","v":0},{"$f":"IF(A18<>\"\",IFERROR(VLOOKUP(AN18,Tabelas!B:D,3,0),0),\"\")","v":0},{"$f":"IF(A18<>\"\",IFERROR(VLOOKUP(AO18,Tabelas!B:D,3,0),0),\"\")","v":0},{"$f":"IF(A18<>\"\",IFERROR(VLOOKUP(AP18,Tabelas!B:D,3,0),0),\"\")","v":6},{"$f":"IF(A18<>\"\",IFERROR(VLOOKUP(AQ18,Tabelas!B:D,3,0),0),\"\")","v":0},36,0,0,0,0,0,0,0]
[null,null,null,null,null,null,null,null,null,null,null,null,null,null,null,null,null,null,null,null,null,null,null,null,null,null,null,null,null,null,null,null,null,null,null,null,null,null,null,null,null,null,null,{"$f":"IF(A19<>\"\",IFERROR(VLOOKUP(M19,Tabelas!B:D,3,0),0),\"\")","v":""},{"$f":"IF(A19<>\"\",IFERROR(VLOOKUP(N19,Tabelas!B:D,3,0),0),\"\")","v":""},{"$f":"IF(A19<>\"\",IFERROR(VLOOKUP(O19,Tabelas!B:D,3,0),0),\"\")","v":""},{"$f":"IF(A19<>\"\",IFERROR(VLOOKUP(P19,Tabelas!B:D,3,0),0),\"\")","v":""},{"$f":"IF(A19<>\"\",IFERROR(VLOOKUP(Q19,Tabelas!B:D,3,0),0),\"\")","v":""},{"$f":"IF(A19<>\"\",IFERROR(VLOOKUP(R19,Tabelas!B:D,3,0),0),\"\")","v":""},{"$f":"IF(A19<>\"\",IFERROR(VLOOKUP(S19,Tabelas!B:D,3,0),0),\"\")","v":""},{"$f":"IF(A19<>\"\",IFERROR(VLOOKUP(T19,Tabelas!B:D,3,0),0),\"\")","v":""},{"$f":"IF(A19<>\"\",IFERROR(VLOOKUP(U19,Tabelas!B:D,3,0),0),\"\")","v":""},{"$f":"IF(A19<>\"\",IFERROR(VLOOKUP(V19,Tabelas!B:D,3,0),0),\"\")","v":""},{"$f":"IF(A19<>\"\",IFERROR(VLOOKUP(W19,Tabelas!B:D,3,0),0),\"\")","v":""},{"$f":"IF(A19<>\"\",IFERROR(VLOOKUP(X19,Tabelas!B:D,3,0),0),\"\")","v":""},{"$f":"IF(A19<>\"\",IFERROR(VLOOKUP(Y19,Tabelas!B:D,3,0),0),\"\")","v":""},{"$f":"IF(A19<>\"\",IFERROR(VLOOKUP(Z19,Tabelas!B:D,3,0),0),\"\")","v":""},{"$f":"IF(A19<>\"\",IFERROR(VLOOKUP(AA19,Tabelas!B:D,3,0),0),\"\")","v":""},{"$f":"IF(A19<>\"\",IFERROR(VLOOKUP(AB19,Tabelas!B:D,3,0),0),\"\")","v":""},{"$f":"IF(A19<>\"\",IFERROR(VLOOKUP(AC19,Tabelas!B:D,3,0),0),\"\")","v":""},{"$f":"IF(A19<>\"\",IFERROR(VLOOKUP(AD19,Tabelas!B:D,3,0),0),\"\")","v":""},{"$f":"IF(A19<>\"\",IFERROR(VLOOKUP(AE19,Tabelas!B:D,3,0),0),\"\")","v":""},{"$f":"IF(A19<>\"\",IFERROR(VLOOKUP(AF19,Tabelas!B:D,3,0),0),\"\")","v":""},{"$f":"IF(A19<>\"\",IFERROR(VLOOKUP(AG19,Tabelas!B:D,3,0),0),\"\")","v":""},{"$f":"IF(A19<>\"\",IFERROR(VLOOKUP(AH19,Tabelas!B:D,3,0),0),\"\")","v":""},{"$f":"IF(A19<>\"\",IFERROR(VLOOKUP(AI19,Tabelas!B:D,3,0),0),\"\")","v":""},{"$f":"IF(A19<>\"\",IFERROR(VLOOKUP(AJ19,Tabelas!B:D,3,0),0),\"\")","v":""},{"$f":"IF(A19<>\"\",IFERROR(VLOOKUP(AK19,Tabelas!B:D,3,0),0),\"\")","v":""},{"$f":"IF(A19<>\"\",IFERROR(VLOOKUP(AL19,Tabelas!B:D,3,0),0),\"\")","v":""},{"$f":"IF(A19<>\"\",IFERROR(VLOOKUP(AM19,Tabelas!B:D,3,0),0),\"\")","v":""},{"$f":"IF(A19<>\"\",IFERROR(VLOOKUP(AN19,Tabelas!B:D,3,0),0),\"\")","v":""},{"$f":"IF(A19<>\"\",IFERROR(VLOOKUP(AO19,Tabelas!B:D,3,0),0),\"\")","v":""},{"$f":"IF(A19<>\"\",IFERROR(VLOOKUP(AP19,Tabelas!B:D,3,0),0),\"\")","v":""},{"$f":"IF(A19<>\"\",IFERROR(VLOOKUP(AQ19,Tabelas!B:D,3,0),0),\"\")","v":""},"","","","","","","",""]
["PLANTÃO",null,null,null,null,null,null,null,null,null,null,null,null,null,null,null,null,null,null,null,null,null,null,null,null,null,null,null,null,null,null,null,null,null,null,null,null,null,null,null,null,null,null,{"$f":"IF(A20<>\"\",IFERROR(VLOOKUP(M20,Tabelas!B:D,3,0),0),\"\")","v":0},{"$f":"IF(A20<>\"\",IFERROR(VLOOKUP(N20,Tabelas!B:D,3,0),0),\"\")","v":0},{"$f":"IF(A20<>\"\",IFERROR(VLOOKUP(O20,Tabelas!B:D,3,0),0),\"\")","v":0},{"$f":"IF(A20<>\"\",IFERROR(VLOOKUP(P20,Tabelas!B:D,3,0),0),\"\")","v":0},{"$f":"IF(A20<>\"\",IFERROR(VLOOKUP(Q20,Tabelas!B:D,3,0),0),\"\")","v":0},{"$f":"IF(A20<>\"\",IFERROR(VLOOKUP(R20,Tabelas!B:D,3,0),0),\"\")","v":0},{"$f":"IF(A20<>\"\",IFERROR(VLOOKUP(S20,Tabelas!B:D,3,0),0),\"\")","v":0},{"$f":"IF(A20<>\"\",IFERROR(VLOOKUP(T20,Tabelas!B:D,3,0),0),\"\")","v":0},{"$f":"IF(A20<>\"\",IFERROR(VLOOKUP(U20,Tabelas!B:D,3,0),0),\"\")","v":0},{"$f":"IF(A20<>\"\",IFERROR(VLOOKUP(V20,Tabelas!B:D,3,0),0),\"\")","v":0},{"$f":"IF(A20<>\"\",IFERROR(VLOOKUP(W20,Tabelas!B:D,3,0),0),\"\")","v":0},{"$f":"IF(A20<>\"\",IFERROR(VLOOKUP(X20,Tabelas!B:D,3,0),0),\"\")","v":0},{"$f":"IF(A20<>\"\",IFERROR(VLOOKUP(Y20,Tabelas!B:D,3,0),0),\"\")","v":0},{"$f":"IF(A20<>\"\",IFERROR(VLOOKUP(Z20,Tabelas!B:D,3,0),0),\"\")","v":0},{"$f":"IF(A20<>\"\",IFERROR(VLOOKUP(AA20,Tabelas!B:D,3,0),0),\"\")","v":0},{"$f":"IF(A20<>\"\",IFERROR(VLOOKUP(AB20,Tabelas!B:D,3,0),0),\"\")","v":0},{"$f":"IF(A20<>\"\",IFERROR(VLOOKUP(AC20,Tabelas!B:D,3,0),0),\"\")","v":0},{"$f":"IF(A20<>\"\",IFERROR(VLOOKUP(AD20,Tabelas!B:D,3,0),0),\"\")","v":0},{"$f":"IF(A20<>\"\",IFERROR(VLOOKUP(AE20,Tabelas!B:D,3,0),0),\"\")","v":0},{"$f":"IF(A20<>\"\",IFERROR(VLOOKUP(AF20,Tabelas!B:D,3,0),0),\"\")","v":0},{"$f":"IF(A20<>\"\",IFERROR(VLOOKUP(AG20,Tabelas!B:D,3,0),0),\"\")","v":0},{"$f":"IF(A20<>\"\",IFERROR(VLOOKUP(AH20,Tabelas!B:D,3,0),0),\"\")","v":0},{"$f":"IF(A20<>\"\",IFERROR(VLOOKUP(AI20,Tabelas!B:D,3,0),0),\"\")","v":0},{"$f":"IF(A20<>\"\",IFERROR(VLOOKUP(AJ20,Tabelas!B:D,3,0),0),\"\")","v":0},{"$f":"IF(A20<>\"\",IFERROR(VLOOKUP(AK20,Tabelas!B:D,3,0),0),\"\")","v":0},{"$f":"IF(A20<>\"\",IFERROR(VLOOKUP(AL20,Tabelas!B:D,3,0),0),\"\")","v":0},{"$f":"IF(A20<>\"\",IFERROR(VLOOKUP(AM20,Tabelas!B:D,3,0),0),\"\")","v":0},{"$f":"IF(A20<>\"\",IFERROR(VLOOKUP(AN20,Tabelas!B:D,3,0),0),\"\")","v":0},{"$f":"IF(A20<>\"\",IFERROR(VLOOKUP(AO20,Tabelas!B:D,3,0),0),\"\")","v":0},{"$f":"IF(A20<>\"\",IFERROR(VLOOKUP(AP20,Tabelas!B:D,3,0),0),\"\")","v":0},{"$f":"IF(A20<>\"\",IFERROR(VLOOKUP(AQ20,Tabelas!B:D,3,0),0),\"\")","v":0},0,0,0,0,0,0,0,0]
["Air Luis Zambom",1824250,null,"ME","RJU",40,null,null,null,null,null,null,null,null,null,null,null,null,"N10",null,null,null,null,null,"N10",null,null,null,"D8",null,null,"N10",null,null,null,"D8",null,null,null,"N10",null,"N10",null,{"$f":"IF(A21<>\"\",IFERROR(VLOOKUP(M21,Tabelas!B:D,3,0),0),\"\")","v":0},{"$f":"IF(A21<>\"\",IFERROR(VLOOKUP(N21,Tabelas!B:D,3,0),0),\"\")","v":0},{"$f":"IF(A21<>\"\",IFERROR(VLOOKUP(O21,Tabelas!B:D,3,0),0),\"\")","v":0},{"$f":"IF(A21<>\"\",IFERROR(VLOOKUP(P21,Tabelas!B:D,3,0),0),\"\")","v":0},{"$f":"IF(A21<>\"\",IFERROR(VLOOKUP(Q21,Tabelas!B:D,3,0),0),\"\")","v":0},{"$f":"IF(A21<>\"\",IFERROR(VLOOKUP(R21,Tabelas!B:D,3,0),0),\"\")","v":0},{"$f":"IF(A21<>\"\",IFERROR(VLOOKUP(S21,Tabelas!B:D,3,0),0),\"\")","v":12},{"$f":"IF(A21<>\"\",IFERROR(VLOOKUP(T21,Tabelas!B:D,3,0),0),\"\")","v":0},{"$f":"IF(A21<>\"\",IFERROR(VLOOKUP(U21,Tabelas!B:D,3,0),0),\"\")","v":0},{"$f":"IF(A21<>\"\",IFERROR(VLOOKUP(V21,Tabelas!B:D,3,0),0),\"\")","v":0},{"$f":"IF(A21<>\"\",IFERROR(VLOOKUP(W21,Tabelas!B:D,3,0),0),\"\")","v":0},{"$f":"IF(A21<>\"\",IFERROR(VLOOKUP(X21,Tabelas!B:D,3,0),0),\"\")","v":0},{"$f":"IF(A21<>\"\",IFERROR(VLOOKUP(Y21,Tabelas!B:D,3,0),0),\"\")","v":12},{"$f":"IF(A21<>\"\",IFERROR(VLOOKUP(Z21,Tabelas!B:D,3,0),0),\"\")","v":0},{"$f":"IF(A21<>\"\",IFERROR(VLOOKUP(AA21,Tabelas!B:D,3,0),0),\"\")","v":0},{"$f":"IF(A21<>\"\",IFERROR(VLOOKUP(AB21,Tabelas!B:D,3,0),0),\"\")","v":0},{"$f":"IF(A21<>\"\",IFERROR(VLOOKUP(AC21,Tabelas!B:D,3,0),0),\"\")","v":12},{"$f":"IF(A21<>\"\",IFERROR(VLOOKUP(AD21,Tabelas!B:D,3,0),0),\"\")","v":0},{"$f":"IF(A21<>\"\",IFERROR(VLOOKUP(AE21,Tabelas!B:D,3,0),0),\"\")","v":0},{"$f":"IF(A21<>\"\",IFERROR(VLOOKUP(AF21,Tabelas!B:D,3,0),0),\"\")","v":12},{"$f":"IF(A21<>\"\",IFERROR(VLOOKUP(AG21,Tabelas!B:D,3,0),0),\"\")","v":0},{"$f":"IF(A21<>\"\",IFERROR(VLOOKUP(AH21,Tabelas!B:D,3,0),0),\"\")","v":0},{"$f":"IF(A21<>\"\",IFERROR(VLOOKUP(AI21,Tabelas!B:D,3,0),0),\"\")","v":0},{"$f":"IF(A21<>\"\",IFERROR(VLOOKUP(AJ21,Tabelas!B:D,3,0),0),\"\")","v":12},{"$f":"IF(A21<>\"\",IFERROR(VLOOKUP(AK21,Tabelas!B:D,3,0),0),\"\")","v":0},{"$f":"IF(A21<>\"\",IFERROR(VLOOKUP(AL21,Tabelas!B:D,3,0),0),\"\")","v":0},{"$f":"IF(A21<>\"\",IFERROR(VLOOKUP(AM21,Tabelas!B:D,3,0),0),\"\")","v":0},{"$f":"IF(A21<>\"\",IFERROR(VLOOKUP(AN21,Tabelas!B:D,3,0),0),\"\")","v":12},{"$f":"IF(A21<>\"\",IFERROR(VLOOKUP(AO21,Tabelas!B:D,3,0),0),\"\")","v":0},{"$f":"IF(A21<>\"\",IFERROR(VLOOKUP(AP21,Tabelas!B:D,3,0),0),\"\")","v":12},{"$f":"IF(A21<>\"\",IFERROR(VLOOKUP(AQ21,Tabelas!B:D,3,0),0),\"\")","v":0},84,0,0,0,0,0,0,0]
["Aline Varela Dias",1331684,null,"ME","RJU",20,null,null,null,null,null,null,null,null,null,"N10",null,"N10",null,null,null,"DN6",null,null,null,null,null,null,"N10",null,"N10",null,null,null,"N10",null,null,null,null,null,"N10",null,null,{"$f":"IF(A22<>\"\",IFERROR(VLOOKUP(M22,Tabelas!B:D,3,0),0),\"\")","v":0},{"$f":"IF(A22<>\"\",IFERROR(VLOOKUP(N22,Tabelas!B:D,3,0),0),\"\")","v":0},{"$f":"IF(A22<>\"\",IFERROR(VLOOKUP(O22,Tabelas!B:D,3,0),0),\"\")","v":0},{"$f":"IF(A22<>\"\",IFERROR(VLOOKUP(P22,Tabelas!B:D,3,0),0),\"\")","v":12},{"$f":"IF(A22<>\"\",IFERROR(VLOOKUP(Q22,Tabelas!B:D,3,0),0),\"\")","v":0},{"$f":"IF(A22<>\"\",IFERROR(VLOOKUP(R22,Tabelas!B:D,3,0),0),\"\")","v":12},{"$f":"IF(A22<>\"\",IFERROR(VLOOKUP(S22,Tabelas!B:D,3,0),0),\"\")","v":0},{"$f":"IF(A22<>\"\",IFERROR(VLOOKUP(T22,Tabelas!B:D,3,0),0),\"\")","v":0},{"$f":"IF(A22<>\"\",IFERROR(VLOOKUP(U22,Tabelas!B:D,3,0),0),\"\")","v":0},{"$f":"IF(A22<>\"\",IFERROR(VLOOKUP(V22,Tabelas!B:D,3,0),0),\"\")","v":24},{"$f":"IF(A22<>\"\",IFERROR(VLOOKUP(W22,Tabelas!B:D,3,0),0),\"\")","v":0},{"$f":"IF(A22<>\"\",IFERROR(VLOOKUP(X22,Tabelas!B:D,3,0),0),\"\")","v":0},{"$f":"IF(A22<>\"\",IFERROR(VLOOKUP(Y22,Tabelas!B:D,3,0),0),\"\")","v":0},{"$f":"IF(A22<>\"\",IFERROR(VLOOKUP(Z22,Tabelas!B:D,3,0),0),\"\")","v":0},{"$f":"IF(A22<>\"\",IFERROR(VLOOKUP(AA22,Tabelas!B:D,3,0),0),\"\")","v":0},{"$f":"IF(A22<>\"\",IFERROR(VLOOKUP(AB22,Tabelas!B:D,3,0),0),\"\")","v":0},{"$f":"IF(A22<>\"\",IFERROR(VLOOKUP(AC22,Tabelas!B:D,3,0),0),\"\")","v":12},{"$f":"IF(A22<>\"\",IFERROR(VLOOKUP(AD22,Tabelas!B:D,3,0),0),\"\")","v":0},{"$f":"IF(A22<>\"\",IFERROR(VLOOKUP(AE22,Tabelas!B:D,3,0),0),\"\")","v":12},{"$f":"IF(A22<>\"\",IFERROR(VLOOKUP(AF22,Tabelas!B:D,3,0),0),\"\")","v":0},{"$f":"IF(A22<>\"\",IFERROR(VLOOKUP(AG22,Tabelas!B:D,3,0),0),\"\")","v":0},{"$f":"IF(A22<>\"\",IFERROR(VLOOKUP(AH22,Tabelas!B:D,3,0),0),\"\")","v":0},{"$f":"IF(A22<>\"\",IFERROR(VLOOKUP(AI22,Tabelas!B:D,3,0),0),\"\")","v":12},{"$f":"IF(A22<>\"\",IFERROR(VLOOKUP(AJ22,Tabelas!B:D,3,0),0),\"\")","v":0},{"$f":"IF(A22<>\"\",IFERROR(VLOOKUP(AK22,Tabelas!B:D,3,0),0),\"\")","v":0},{"$f":"IF(A22<>\"\",IFERROR(VLOOKUP(AL22,Tabelas!B:D,3,0),0),\"\")","v":0},{"$f":"IF(A22<>\"\",IFERROR(VLOOKUP(AM22,Tabelas!B:D,3,0),0),\"\")","v":0},{"$f":"IF(A22<>\"\",IFERROR(VLOOKUP(AN22,Tabelas!B:D,3,0),0),\"\")","v":0},{"$f":"IF(A22<>\"\",IFERROR(VLOOKUP(AO22,Tabelas!B:D,3,0),0),\"\")","v":12},{"$f":"IF(A22<>\"\",IFERROR(VLOOKUP(AP22,Tabelas!B:D,3,0),0),\"\")","v":0},{"$f":"IF(A22<>\"\",IFERROR(VLOOKUP(AQ22,Tabelas!B:D,3,0),0),\"\")","v":0},96,0,0,0,0,0,0,0]
["Anelise Schaeffer da Silveira",1919390,null,"ME","EBSERH",24,null,null,null,null,null,null,null,null,null,null,null,null,null,null,null,null,null,null,null,null,null,null,null,null,null,null,null,null,null,null,null,null,null,null,null,null,null,{"$f":"IF(A23<>\"\",IFERROR(VLOOKUP(M23,Tabelas!B:D,3,0),0),\"\")","v":0},{"$f":"IF(A23<>\"\",IFERROR(VLOOKUP(N23,Tabelas!B:D,3,0),0),\"\")","v":0},{"$f":"IF(A23<>\"\",IFERROR(VLOOKUP(O23,Tabelas!B:D,3,0),0),\"\")","v":0},{"$f":"IF(A23<>\"\",IFERROR(VLOOKUP(P23,Tabelas!B:D,3,0),0),\"\")","v":0},{"$f":"IF(A23<>\"\",IFERROR(VLOOKUP(Q23,Tabelas!B:D,3,0),0),\"\")","v":0},{"$f":"IF(A23<>\"\",IFERROR(VLOOKUP(R23,Tabelas!B:D,3,0),0),\"\")","v":0},{"$f":"IF(A23<>\"\",IFERROR(VLOOKUP(S23,Tabelas!B:D,3,0),0),\"\")","v":0},{"$f":"IF(A23<>\"\",IFERROR(VLOOKUP(T23,Tabelas!B:D,3,0),0),\"\")","v":0},{"$f":"IF(A23<>\"\",IFERROR(VLOOKUP(U23,Tabelas!B:D,3,0),0),\"\")","v":0},{"$f":"IF(A23<>\"\",IFERROR(VLOOKUP(V23,Tabelas!B:D,3,0),0),\"\")","v":0},{"$f":"IF(A23<>\"\",IFERROR(VLOOKUP(W23,Tabelas!B:D,3,0),0),\"\")","v":0},{"$f":"IF(A23<>\"\",IFERROR(VLOOKUP(X23,Tabelas!B:D,3,0),0),\"\")","v":0},{"$f":"IF(A23<>\"\",IFERROR(VLOOKUP(Y23,Tabelas!B:D,3,0),0),\"\")","v":0},{"$f":"IF(A23<>\"\",IFERROR(VLOOKUP(Z23,Tabelas!B:D,3,0),0),\"\")","v":0},{"$f":"IF(A23<>\"\",IFERROR(VLOOKUP(AA23,Tabelas!B:D,3,0),0),\"\")","v":0},{"$f":"IF(A23<>\"\",IFERROR(VLOOKUP(AB23,Tabelas!B:D,3,0),0),\"\")","v":0},{"$f":"IF(A23<>\"\",IFERROR(VLOOKUP(AC23,Tabelas!B:D,3,0),0),\"\")","v":0},{"$f":"IF(A23<>\"\",IFERROR(VLOOKUP(AD23,Tabelas!B:D,3,0),0),\"\")","v":0},{"$f":"IF(A23<>\"\",IFERROR(VLOOKUP(AE23,Tabelas!B:D,3,0),0),\"\")","v":0},{"$f":"IF(A23<>\"\",IFERROR(VLOOKUP(AF23,Tabelas!B:D,3,0),0),\"\")","v":0},{"$f":"IF(A23<>\"\",IFERROR(VLOOKUP(AG23,Tabelas!B:D,3,0),0),\"\")","v":0},{"$f":"IF(A23<>\"\",IFERROR(VLOOKUP(AH23,Tabelas!B:D,3,0),0),\"\")","v":0},{"$f":"IF(A23<>\"\",IFERROR(VLOOKUP(AI23,Tabelas!B:D,3,0),0),\"\")","v":0},{"$f":"IF(A23<>\"\",IFERROR(VLOOKUP(AJ23,Tabelas!B:D,3,0),0),\"\")","v":0},{"$f":"IF(A23<>\"\",IFERROR(VLOOKUP(AK23,Tabelas!B:D,3,0),0),\"\")","v":0},{"$f":"IF(A23<>\"\",IFERROR(VLOOKUP(AL23,Tabelas!B:D,3,0),0),\"\")","v":0},{"$f":"IF(A23<>\"\",IFERROR(VLOOKUP(AM23,Tabelas!B:D,3,0),0),\"\")","v":0},{"$f":"IF(A23<>\"\",IFERROR(VLOOKUP(AN23,Tabelas!B:D,3,0),0),\"\")","v":0},{"$f":"IF(A23<>\"\",IFERROR(VLOOKUP(AO23,Tabelas!B:D,3,0),0),\"\")","v":0},{"$f":"IF(A23<>\"\",IFERROR(VLOOKUP(AP23,Tabelas!B:D,3,0),0),\"\")","v":0},{"$f":"IF(A23<>\"\",IFERROR(VLOOKUP(AQ23,Tabelas!B:D,3,0),0),\"\")","v":0},0,0,0,0,0,0,0,0]
["Carolina Alcoforado de Abreu ",3201834,null,"ME","EBSERH",24,null,null,null,null,null,null,null,null,"N10",null,"N10",null,null,null,"N10",null,null,null,null,null,null,null,"DN6",null,null,null,"N10",null,null,null,"D8","N10",null,null,null,"N10"]
["Duane José Milioli",1824201,null,"ME","RJU",20,null,null,null,null,null,null,null,null,null,null,null,null,null,"N10",null,null,null,"N10",null,"N10",null,null,null,"D8","N10",null,null,null,null,null,"N10",null,null,null,"N10",null,null,{"$f":"IF(A25<>\"\",IFERROR(VLOOKUP(M25,Tabelas!B:D,3,0),0),\"\")","v":0},{"$f":"IF(A25<>\"\",IFERROR(VLOOKUP(N25,Tabelas!B:D,3,0),0),\"\")","v":0},{"$f":"IF(A25<>\"\",IFERROR(VLOOKUP(O25,Tabelas!B:D,3,0),0),\"\")","v":0},{"$f":"IF(A25<>\"\",IFERROR(VLOOKUP(P25,Tabelas!B:D,3,0),0),\"\")","v":0},{"$f":"IF(A25<>\"\",IFERROR(VLOOKUP(Q25,Tabelas!B:D,3,0),0),\"\")","v":0},{"$f":"IF(A25<>\"\",IFERROR(VLOOKUP(R25,Tabelas!B:D,3,0),0),\"\")","v":0},{"$f":"IF(A25<>\"\",IFERROR(VLOOKUP(S25,Tabelas!B:D,3,0),0),\"\")","v":0},{"$f":"IF(A25<>\"\",IFERROR(VLOOKUP(T25,Tabelas!B:D,3,0),0),\"\")","v":12},{"$f":"IF(A25<>\"\",IFERROR(VLOOKUP(U25,Tabelas!B:D,3,0),0),\"\")","v":0},{"$f":"IF(A25<>\"\",IFERROR(VLOOKUP(V25,Tabelas!B:D,3,0),0),\"\")","v":0},{"$f":"IF(A25<>\"\",IFERROR(VLOOKUP(W25,Tabelas!B:D,3,0),0),\"\")","v":0},{"$f":"IF(A25<>\"\",IFERROR(VLOOKUP(X25,Tabelas!B:D,3,0),0),\"\")","v":12},{"$f":"IF(A25<>\"\",IFERROR(VLOOKUP(Y25,Tabelas!B:D,3,0),0),\"\")","v":0},{"$f":"IF(A25<>\"\",IFERROR(VLOOKUP(Z25,Tabelas!B:D,3,0),0),\"\")","v":12},{"$f":"IF(A25<>\"\",IFERROR(VLOOKUP(AA25,Tabelas!B:D,3,0),0),\"\")","v":0},{"$f":"IF(A25<>\"\",IFERROR(VLOOKUP(AB25,Tabelas!B:D,3,0),0),\"\")","v":0},{"$f":"IF(A25<>\"\",IFERROR(VLOOKUP(AC25,Tabelas!B:D,3,0),0),\"\")","v":0},{"$f":"IF(A25<>\"\",IFERROR(VLOOKUP(AD25,Tabelas!B:D,3,0),0),\"\")","v":12},{"$f":"IF(A25<>\"\",IFERROR(VLOOKUP(AE25,Tabelas!B:D,3,0),0),\"\")","v":12},{"$f":"IF(A25<>\"\",IFERROR(VLOOKUP(AF25,Tabelas!B:D,3,0),0),\"\")","v":0},{"$f":"IF(A25<>\"\",IFERROR(VLOOKUP(AG25,Tabelas!B:D,3,0),0),\"\")","v":0},{"$f":"IF(A25<>\"\",IFERROR(VLOOKUP(AH25,Tabelas!B:D,3,0),0),\"\")","v":0},{"$f":"IF(A25<>\"\",IFERROR(VLOOKUP(AI25,Tabelas!B:D,3,0),0),\"\")","v":0},{"$f":"IF(A25<>\"\",IFERROR(VLOOKUP(AJ25,Tabelas!B:D,3,0),0),\"\")","v":0},{"$f":"IF(A25<>\"\",IFERROR(VLOOKUP(AK25,Tabelas!B:D,3,0),0),\"\")","v":12},{"$f":"IF(A25<>\"\",IFERROR(VLOOKUP(AL25,Tabelas!B:D,3,0),0),\"\")","v":0},{"$f":"IF(A25<>\"\",IFERROR(VLOOKUP(AM25,Tabelas!B:D,3,0),0),\"\")","v":0},{"$f":"IF(A25<>\"\",IFERROR(VLOOKUP(AN25,Tabelas!B:D,3,0),0),\"\")","v":0},{"$f":"IF(A25<>\"\",IFERROR(VLOOKUP(AO25,Tabelas!B:D,3,0),0),\"\")","v":12},{"$f":"IF(A25<>\"\",IFERROR(VLOOKUP(AP25,Tabelas!B:D,3,0),0),\"\")","v":0},{"$f":"IF(A25<>\"\",IFERROR(VLOOKUP(AQ25,Tabelas!B:D,3,0),0),\"\")","v":0},{"$f":"IF(AND(A25<>\"\",E25=\"Ebserh\"),SUM(AR25:BV25)+COUNTIF(M25:AQ25,\"N*\")+COUNTIF(M25:AQ25,\"DN*\"),IF(AND(A25<>\"\",E25<>\"Ebserh\"),SUM(AR25:BV25),\"\"))","v":84},{"$f":"IF(A25<>\"\",COUNTIF(M25:AQ25,\"LM\")+COUNTIF(M25:AQ25,\"L\")+COUNTIF(M25:AQ25,\"LP\"),\"\")","v":0},{"$f":"IF(A25<>\"\",COUNTIF(M25:AQ25,\"AB*\"),\"\")","v":0},{"$f":"IF(A25<>\"\",COUNTIF(M25:AQ25,\"FE\"),\"\")","v":0},{"$f":"IF(A25<>\"\",COUNTIF(M25:AQ25,\"LC\"),\"\")","v":0},{"$f":"IF(A25<>\"\",COUNTIF(M25:AQ25,\"CH*\"),\"\")","v":0},{"$f":"IF(A25<>\"\",COUNTIF(M25:AQ25,\"AF1\")+COUNTIF(M25:AQ25,\"AF2\")+COUNTIF(M25:AQ25,\"AF3\")+COUNTIF(M25:AQ25,\"AF4\")+COUNTIF(M25:AQ25,\"AF5\")+COUNTIF(M25:AQ25,\"AF6\")+COUNTIF(M25:AQ25,\"AF7\")+COUNTIF(M25:AQ25,\"AF8\")+COUNTIF(M25:AQ25,\"AF9\")+COUNTIF(M25:AQ25,\"AF10\")+COUNTIF(M25:AQ25,\"AF11\")+COUNTIF(M25:AQ25,\"AF12\")+COUNTIF(M25:AQ25,\"AF13\")+COUNTIF(M25:AQ25,\"AF14\"),\"\")","v":0},{"$f":"IF(A25<>\"\",COUNTIF(M25:AQ25,\"CH*\")+COUNTIF(M25:AQ25,\"L\")+COUNTIF(M25:AQ25,\"LM\")+COUNTIF(M25:AQ25,\"LP\")+COUNTIF(M25:AQ25,\"LC\")+COUNTIF(M25:AQ25,\"AB*\")+COUNTIF(M25:AQ25,\"AF1\")+COUNTIF(M25:AQ25,\"AF2\")+COUNTIF(M25:AQ25,\"AF3\")+COUNTIF(M25:AQ25,\"AF4\")+COUNTIF(M25:AQ25,\"AF5\")+COUNTIF(M25:AQ25,\"AF6\")+COUNTIF(M25:AQ25,\"AF7\")+COUNTIF(M25:AQ25,\"AF8\")+COUNTIF(M25:AQ25,\"AF9\")+COUNTIF(M25:AQ25,\"AF10\")+COUNTIF(M25:AQ25,\"AF11\")+COUNTIF(M25:AQ25,\"AF12\")+COUNTIF(M25:AQ25,\"AF13\")+COUNTIF(M25:AQ25,\"AF14\")+COUNTIF(M25:AQ25,\"RC\")+COUNTIF(M25:AQ25,\"FO\")+COUNTIF(M25:AQ25,\"FE\"),\"\")","v":0}]
["Eduardo Jardim Berbigier",2604323,null,"ME","RJU",20,null,null,null,null,null,null,null,null,null,null,"N10",null,null,null,null,"N10",null,null,null,null,"N10",null,null,"N10",null,null,"N10",null,null,null,null,null,"N10",null,null,null,"D8",{"$f":"IF(A26<>\"\",IFERROR(VLOOKUP(M26,Tabelas!B:D,3,0),0),\"\")","v":0},{"$f":"IF(A26<>\"\",IFERROR(VLOOKUP(N26,Tabelas!B:D,3,0),0),\"\")","v":0},{"$f":"IF(A26<>\"\",IFERROR(VLOOKUP(O26,Tabelas!B:D,3,0),0),\"\")","v":0},{"$f":"IF(A26<>\"\",IFERROR(VLOOKUP(P26,Tabelas!B:D,3,0),0),\"\")","v":0},{"$f":"IF(A26<>\"\",IFERROR(VLOOKUP(Q26,Tabelas!B:D,3,0),0),\"\")","v":12},{"$f":"IF(A26<>\"\",IFERROR(VLOOKUP(R26,Tabelas!B:D,3,0),0),\"\")","v":0},{"$f":"IF(A26<>\"\",IFERROR(VLOOKUP(S26,Tabelas!B:D,3,0),0),\"\")","v":0},{"$f":"IF(A26<>\"\",IFERROR(VLOOKUP(T26,Tabelas!B:D,3,0),0),\"\")","v":0},{"$f":"IF(A26<>\"\",IFERROR(VLOOKUP(U26,Tabelas!B:D,3,0),0),\"\")","v":0},{"$f":"IF(A26<>\"\",IFERROR(VLOOKUP(V26,Tabelas!B:D,3,0),0),\"\")","v":12},{"$f":"IF(A26<>\"\",IFERROR(VLOOKUP(W26,Tabelas!B:D,3,0),0),\"\")","v":0},{"$f":"IF(A26<>\"\",IFERROR(VLOOKUP(X26,Tabelas!B:D,3,0),0),\"\")","v":0},{"$f":"IF(A26<>\"\",IFERROR(VLOOKUP(Y26,Tabelas!B:D,3,0),0),\"\")","v":0},{"$f":"IF(A26<>\"\",IFERROR(VLOOKUP(Z26,Tabelas!B:D,3,0),0),\"\")","v":0},{"$f":"IF(A26<>\"\",IFERROR(VLOOKUP(AA26,Tabelas!B:D,3,0),0),\"\")","v":12},{"$f":"IF(A26<>\"\",IFERROR(VLOOKUP(AB26,Tabelas!B:D,3,0),0),\"\")","v":0},{"$f":"IF(A26<>\"\",IFERROR(VLOOKUP(AC26,Tabelas!B:D,3,0),0),\"\")","v":0},{"$f":"IF(A26<>\"\",IFERROR(VLOOKUP(AD26,Tabelas!B:D,3,0),0),\"\")","v":12},{"$f":"IF(A26<>\"\",IFERROR(VLOOKUP(AE26,Tabelas!B:D,3,0),0),\"\")","v":0},{"$f":"IF(A26<>\"\",IFERROR(VLOOKUP(AF26,Tabelas!B:D,3,0),0),\"\")","v":0},{"$f":"IF(A26<>\"\",IFERROR(VLOOKUP(AG26,Tabelas!B:D,3,0),0),\"\")","v":12},{"$f":"IF(A26<>\"\",IFERROR(VLOOKUP(AH26,Tabelas!B:D,3,0),0),\"\")","v":0},{"$f":"IF(A26<>\"\",IFERROR(VLOOKUP(AI26,Tabelas!B:D,3,0),0),\"\")","v":0},{"$f":"IF(A26<>\"\",IFERROR(VLOOKUP(AJ26,Tabelas!B:D,3,0),0),\"\")","v":0},{"$f":"IF(A26<>\"\",IFERROR(VLOOKUP(AK26,Tabelas!B:D,3,0),0),\"\")","v":0},{"$f":"IF(A26<>\"\",IFERROR(VLOOKUP(AL26,Tabelas!B:D,3,0),0),\"\")","v":0},{"$f":"IF(A26<>\"\",IFERROR(VLOOKUP(AM26,Tabelas!B:D,3,0),0),\"\")","v":12},{"$f":"IF(A26<>\"\",IFERROR(VLOOKUP(AN26,Tabelas!B:D,3,0),0),\"\")","v":0},{"$f":"IF(A26<>\"\",IFERROR(VLOOKUP(AO26,Tabelas!B:D,3,0),0),\"\")","v":0},{"$f":"IF(A26<>\"\",IFERROR(VLOOKUP(AP26,Tabelas!B:D,3,0),0),\"\")","v":0},{"$f":"IF(A26<>\"\",IFERROR(VLOOKUP(AQ26,Tabelas!B:D,3,0),0),\"\")","v":12},84,0,0,0,0,0,0,0]
["Fernanda Goss Fontanella",1200689,null,"ME","EBSERH",24,null,null,null,null,null,null,"N10",null,null,"D8",null,null,null,null,null,null,"N10",null,null,"N10",null,null,null,null,null,null,null,null,null,null,null,null,null,null,null,null,null,{"$f":"IF(A27<>\"\",IFERROR(VLOOKUP(M27,Tabelas!B:D,3,0),0),\"\")","v":12},{"$f":"IF(A27<>\"\",IFERROR(VLOOKUP(N27,Tabelas!B:D,3,0),0),\"\")","v":0},{"$f":"IF(A27<>\"\",IFERROR(VLOOKUP(O27,Tabelas!B:D,3,0),0),\"\")","v":0},{"$f":"IF(A27<>\"\",IFERROR(VLOOKUP(P27,Tabelas!B:D,3,0),0),\"\")","v":12},{"$f":"IF(A27<>\"\",IFERROR(VLOOKUP(Q27,Tabelas!B:D,3,0),0),\"\")","v":0},{"$f":"IF(A27<>\"\",IFERROR(VLOOKUP(R27,Tabelas!B:D,3,0),0),\"\")","v":0},{"$f":"IF(A27<>\"\",IFERROR(VLOOKUP(S27,Tabelas!B:D,3,0),0),\"\")","v":0},{"$f":"IF(A27<>\"\",IFERROR(VLOOKUP(T27,Tabelas!B:D,3,0),0),\"\")","v":0},{"$f":"IF(A27<>\"\",IFERROR(VLOOKUP(U27,Tabelas!B:D,3,0),0),\"\")","v":0},{"$f":"IF(A27<>\"\",IFERROR(VLOOKUP(V27,Tabelas!B:D,3,0),0),\"\")","v":0},{"$f":"IF(A27<>\"\",IFERROR(VLOOKUP(W27,Tabelas!B:D,3,0),0),\"\")","v":12},{"$f":"IF(A27<>\"\",IFERROR(VLOOKUP(X27,Tabelas!B:D,3,0),0),\"\")","v":0},{"$f":"IF(A27<>\"\",IFERROR(VLOOKUP(Y27,Tabelas!B:D,3,0),0),\"\")","v":0},{"$f":"IF(A27<>\"\",IFERROR(VLOOKUP(Z27,Tabelas!B:D,3,0),0),\"\")","v":12},{"$f":"IF(A27<>\"\",IFERROR(VLOOKUP(AA27,Tabelas!B:D,3,0),0),\"\")","v":0},{"$f":"IF(A27<>\"\",IFERROR(VLOOKUP(AB27,Tabelas!B:D,3,0),0),\"\")","v":0},{"$f":"IF(A27<>\"\",IFERROR(VLOOKUP(AC27,Tabelas!B:D,3,0),0),\"\")","v":0},{"$f":"IF(A27<>\"\",IFERROR(VLOOKUP(AD27,Tabelas!B:D,3,0),0),\"\")","v":0},{"$f":"IF(A27<>\"\",IFERROR(VLOOKUP(AE27,Tabelas!B:D,3,0),0),\"\")","v":0},{"$f":"IF(A27<>\"\",IFERROR(VLOOKUP(AF27,Tabelas!B:D,3,0),0),\"\")","v":0},{"$f":"IF(A27<>\"\",IFERROR(VLOOKUP(AG27,Tabelas!B:D,3,0),0),\"\")","v":0},{"$f":"IF(A27<>\"\",IFERROR(VLOOKUP(AH27,Tabelas!B:D,3,0),0),\"\")","v":0},{"$f":"IF(A27<>\"\",IFERROR(VLOOKUP(AI27,Tabelas!B:D,3,0),0),\"\")","v":0},{"$f":"IF(A27<>\"\",IFERROR(VLOOKUP(AJ27,Tabelas!B:D,3,0),0),\"\")","v":0},{"$f":"IF(A27<>\"\",IFERROR(VLOOKUP(AK27,Tabelas!B:D,3,0),0),\"\")","v":0},{"$f":"IF(A27<>\"\",IFERROR(VLOOKUP(AL27,Tabelas!B:D,3,0),0),\"\")","v":0},{"$f":"IF(A27<>\"\",IFERROR(VLOOKUP(AM27,Tabelas!B:D,3,0),0),\"\")","v":0},{"$f":"IF(A27<>\"\",IFERROR(VLOOKUP(AN27,Tabelas!B:D,3,0),0),\"\")","v":0},{"$f":"IF(A27<>\"\",IFERROR(VLOOKUP(AO27,Tabelas!B:D,3,0),0),\"\")","v":0},{"$f":"IF(A27<>\"\",IFERROR(VLOOKUP(AP27,Tabelas!B:D,3,0),0),\"\")","v":0},{"$f":"IF(A27<>\"\",IFERROR(VLOOKUP(AQ27,Tabelas!B:D,3,0),0),\"\")","v":0},51,0,0,0,0,0,0,0]
["Jaqueline Flores Rohr",1841545,null,"ME","EBSERH",24,null,null,null,null,null,null,null,"N10",null,null,null,null,null,null,null,null,"D8",null,null,"N10",null,null,null,null,null,null,null,null,null,"N10",null,"N10",null,"D8",null,null,"N10",{"$f":"IF(A28<>\"\",IFERROR(VLOOKUP(M28,Tabelas!B:D,3,0),0),\"\")","v":0},{"$f":"IF(A28<>\"\",IFERROR(VLOOKUP(N28,Tabelas!B:D,3,0),0),\"\")","v":12},{"$f":"IF(A28<>\"\",IFERROR(VLOOKUP(O28,Tabelas!B:D,3,0),0),\"\")","v":0},{"$f":"IF(A28<>\"\",IFERROR(VLOOKUP(P28,Tabelas!B:D,3,0),0),\"\")","v":0},{"$f":"IF(A28<>\"\",IFERROR(VLOOKUP(Q28,Tabelas!B:D,3,0),0),\"\")","v":0},{"$f":"IF(A28<>\"\",IFERROR(VLOOKUP(R28,Tabelas!B:D,3,0),0),\"\")","v":0},{"$f":"IF(A28<>\"\",IFERROR(VLOOKUP(S28,Tabelas!B:D,3,0),0),\"\")","v":0},{"$f":"IF(A28<>\"\",IFERROR(VLOOKUP(T28,Tabelas!B:D,3,0),0),\"\")","v":0},{"$f":"IF(A28<>\"\",IFERROR(VLOOKUP(U28,Tabelas!B:D,3,0),0),\"\")","v":0},{"$f":"IF(A28<>\"\",IFERROR(VLOOKUP(V28,Tabelas!B:D,3,0),0),\"\")","v":0},{"$f":"IF(A28<>\"\",IFERROR(VLOOKUP(W28,Tabelas!B:D,3,0),0),\"\")","v":12},{"$f":"IF(A28<>\"\",IFERROR(VLOOKUP(X28,Tabelas!B:D,3,0),0),\"\")","v":0},{"$f":"IF(A28<>\"\",IFERROR(VLOOKUP(Y28,Tabelas!B:D,3,0),0),\"\")","v":0},{"$f":"IF(A28<>\"\",IFERROR(VLOOKUP(Z28,Tabelas!B:D,3,0),0),\"\")","v":12},{"$f":"IF(A28<>\"\",IFERROR(VLOOKUP(AA28,Tabelas!B:D,3,0),0),\"\")","v":0},{"$f":"IF(A28<>\"\",IFERROR(VLOOKUP(AB28,Tabelas!B:D,3,0),0),\"\")","v":0},{"$f":"IF(A28<>\"\",IFERROR(VLOOKUP(AC28,Tabelas!B:D,3,0),0),\"\")","v":0},{"$f":"IF(A28<>\"\",IFERROR(VLOOKUP(AD28,Tabelas!B:D,3,0),0),\"\")","v":0},{"$f":"IF(A28<>\"\",IFERROR(VLOOKUP(AE28,Tabelas!B:D,3,0),0),\"\")","v":0},{"$f":"IF(A28<>\"\",IFERROR(VLOOKUP(AF28,Tabelas!B:D,3,0),0),\"\")","v":0},{"$f":"IF(A28<>\"\",IFERROR(VLOOKUP(AG28,Tabelas!B:D,3,0),0),\"\")","v":0},{"$f":"IF(A28<>\"\",IFERROR(VLOOKUP(AH28,Tabelas!B:D,3,0),0),\"\")","v":0},{"$f":"IF(A28<>\"\",IFERROR(VLOOKUP(AI28,Tabelas!B:D,3,0),0),\"\")","v":0},{"$f":"IF(A28<>\"\",IFERROR(VLOOKUP(AJ28,Tabelas!B:D,3,0),0),\"\")","v":12},{"$f":"IF(A28<>\"\",IFERROR(VLOOKUP(AK28,Tabelas!B:D,3,0),0),\"\")","v":0},{"$f":"IF(A28<>\"\",IFERROR(VLOOKUP(AL28,Tabelas!B:D,3,0),0),\"\")","v":12},{"$f":"IF(A28<>\"\",IFERROR(VLOOKUP(AM28,Tabelas!B:D,3,0),0),\"\")","v":0},{"$f":"IF(A28<>\"\",IFERROR(VLOOKUP(AN28,Tabelas!B:D,3,0),0),\"\")","v":12},{"$f":"IF(A28<>\"\",IFERROR(VLOOKUP(AO28,Tabelas!B:D,3,0),0),\"\")","v":0},{"$f":"IF(A28<>\"\",IFERROR(VLOOKUP(AP28,Tabelas!B:D,3,0),0),\"\")","v":0},{"$f":"IF(A28<>\"\",IFERROR(VLOOKUP(AQ28,Tabelas!B:D,3,0),0),\"\")","v":12},89,0,0,0,0,0,0,0]
["Irácino José Miranda Júnior",1006032,null,"ME","EBSERH",24,null,null,null,null,null,null,null,"N10",null,null,null,null,null,null,null,null,"D8",null,null,null,"N10",null,null,"N10",null,"N10",null,null,null,"D8",null,"N10",null,null,null,null,"N10",{"$f":"IF(A29<>\"\",IFERROR(VLOOKUP(M29,Tabelas!B:D,3,0),0),\"\")","v":0},{"$f":"IF(A29<>\"\",IFERROR(VLOOKUP(N29,Tabelas!B:D,3,0),0),\"\")","v":12},{"$f":"IF(A29<>\"\",IFERROR(VLOOKUP(O29,Tabelas!B:D,3,0),0),\"\")","v":0},{"$f":"IF(A29<>\"\",IFERROR(VLOOKUP(P29,Tabelas!B:D,3,0),0),\"\")","v":0},{"$f":"IF(A29<>\"\",IFERROR(VLOOKUP(Q29,Tabelas!B:D,3,0),0),\"\")","v":0},{"$f":"IF(A29<>\"\",IFERROR(VLOOKUP(R29,Tabelas!B:D,3,0),0),\"\")","v":0},{"$f":"IF(A29<>\"\",IFERROR(VLOOKUP(S29,Tabelas!B:D,3,0),0),\"\")","v":0},{"$f":"IF(A29<>\"\",IFERROR(VLOOKUP(T29,Tabelas!B:D,3,0),0),\"\")","v":0},{"$f":"IF(A29<>\"\",IFERROR(VLOOKUP(U29,Tabelas!B:D,3,0),0),\"\")","v":0},{"$f":"IF(A29<>\"\",IFERROR(VLOOKUP(V29,Tabelas!B:D,3,0),0),\"\")","v":0},{"$f":"IF(A29<>\"\",IFERROR(VLOOKUP(W29,Tabelas!B:D,3,0),0),\"\")","v":12},{"$f":"IF(A29<>\"\",IFERROR(VLOOKUP(X29,Tabelas!B:D,3,0),0),\"\")","v":0},{"$f":"IF(A29<>\"\",IFERROR(VLOOKUP(Y29,Tabelas!B:D,3,0),0),\"\")","v":0},{"$f":"IF(A29<>\"\",IFERROR(VLOOKUP(Z29,Tabelas!B:D,3,0),0),\"\")","v":0},{"$f":"IF(A29<>\"\",IFERROR(VLOOKUP(AA29,Tabelas!B:D,3,0),0),\"\")","v":12},{"$f":"IF(A29<>\"\",IFERROR(VLOOKUP(AB29,Tabelas!B:D,3,0),0),\"\")","v":0},{"$f":"IF(A29<>\"\",IFERROR(VLOOKUP(AC29,Tabelas!B:D,3,0),0),\"\")","v":0},{"$f":"IF(A29<>\"\",IFERROR(VLOOKUP(AD29,Tabelas!B:D,3,0),0),\"\")","v":12},{"$f":"IF(A29<>\"\",IFERROR(VLOOKUP(AE29,Tabelas!B:D,3,0),0),\"\")","v":0},{"$f":"IF(A29<>\"\",IFERROR(VLOOKUP(AF29,Tabelas!B:D,3,0),0),\"\")","v":12},{"$f":"IF(A29<>\"\",IFERROR(VLOOKUP(AG29,Tabelas!B:D,3,0),0),\"\")","v":0},{"$f":"IF(A29<>\"\",IFERROR(VLOOKUP(AH29,Tabelas!B:D,3,0),0),\"\")","v":0},{"$f":"IF(A29<>\"\",IFERROR(VLOOKUP(AI29,Tabelas!B:D,3,0),0),\"\")","v":0},{"$f":"IF(A29<>\"\",IFERROR(VLOOKUP(AJ29,Tabelas!B:D,3,0),0),\"\")","v":12},{"$f":"IF(A29<>\"\",IFERROR(VLOOKUP(AK29,Tabelas!B:D,3,0),0),\"\")","v":0},{"$f":"IF(A29<>\"\",IFERROR(VLOOKUP(AL29,Tabelas!B:D,3,0),0),\"\")","v":12},{"$f":"IF(A29<>\"\",IFERROR(VLOOKUP(AM29,Tabelas!B:D,3,0),0),\"\")","v":0},{"$f":"IF(A29<>\"\",IFERROR(VLOOKUP(AN29,Tabelas!B:D,3,0),0),\"\")","v":0},{"$f":"IF(A29<>\"\",IFERROR(VLOOKUP(AO29,Tabelas!B:D,3,0),0),\"\")","v":0},{"$f":"IF(A29<>\"\",IFERROR(VLOOKUP(AP29,Tabelas!B:D,3,0),0),\"\")","v":0},{"$f":"IF(A29<>\"\",IFERROR(VLOOKUP(AQ29,Tabelas!B:D,3,0),0),\"\")","v":12},102,0,0,0,0,0,0,0]
["João Luiz Henrique da Silveira",1704052,null,"ME","EBSERH",24,null,null,null,null,null,null,null,null,"AF12",null,null,null,null,null,null,null,null,"D8",null,null,null,"N10",null,null,null,null,null,"N10",null,null,"N10",null,null,"N10",null,null,null,{"$f":"IF(A30<>\"\",IFERROR(VLOOKUP(M30,Tabelas!B:D,3,0),0),\"\")","v":0},{"$f":"IF(A30<>\"\",IFERROR(VLOOKUP(N30,Tabelas!B:D,3,0),0),\"\")","v":0},{"$f":"IF(A30<>\"\",IFERROR(VLOOKUP(O30,Tabelas!B:D,3,0),0),\"\")","v":0},{"$f":"IF(A30<>\"\",IFERROR(VLOOKUP(P30,Tabelas!B:D,3,0),0),\"\")","v":0},{"$f":"IF(A30<>\"\",IFERROR(VLOOKUP(Q30,Tabelas!B:D,3,0),0),\"\")","v":0},{"$f":"IF(A30<>\"\",IFERROR(VLOOKUP(R30,Tabelas!B:D,3,0),0),\"\")","v":0},{"$f":"IF(A30<>\"\",IFERROR(VLOOKUP(S30,Tabelas!B:D,3,0),0),\"\")","v":0},{"$f":"IF(A30<>\"\",IFERROR(VLOOKUP(T30,Tabelas!B:D,3,0),0),\"\")","v":0},{"$f":"IF(A30<>\"\",IFERROR(VLOOKUP(U30,Tabelas!B:D,3,0),0),\"\")","v":0},{"$f":"IF(A30<>\"\",IFERROR(VLOOKUP(V30,Tabelas!B:D,3,0),0),\"\")","v":0},{"$f":"IF(A30<>\"\",IFERROR(VLOOKUP(W30,Tabelas!B:D,3,0),0),\"\")","v":0},{"$f":"IF(A30<>\"\",IFERROR(VLOOKUP(X30,Tabelas!B:D,3,0),0),\"\")","v":12},{"$f":"IF(A30<>\"\",IFERROR(VLOOKUP(Y30,Tabelas!B:D,3,0),0),\"\")","v":0},{"$f":"IF(A30<>\"\",IFERROR(VLOOKUP(Z30,Tabelas!B:D,3,0),0),\"\")","v":0},{"$f":"IF(A30<>\"\",IFERROR(VLOOKUP(AA30,Tabelas!B:D,3,0),0),\"\")","v":0},{"$f":"IF(A30<>\"\",IFERROR(VLOOKUP(AB30,Tabelas!B:D,3,0),0),\"\")","v":12},{"$f":"IF(A30<>\"\",IFERROR(VLOOKUP(AC30,Tabelas!B:D,3,0),0),\"\")","v":0},{"$f":"IF(A30<>\"\",IFERROR(VLOOKUP(AD30,Tabelas!B:D,3,0),0),\"\")","v":0},{"$f":"IF(A30<>\"\",IFERROR(VLOOKUP(AE30,Tabelas!B:D,3,0),0),\"\")","v":0},{"$f":"IF(A30<>\"\",IFERROR(VLOOKUP(AF30,Tabelas!B:D,3,0),0),\"\")","v":0},{"$f":"IF(A30<>\"\",IFERROR(VLOOKUP(AG30,Tabelas!B:D,3,0),0),\"\")","v":0},{"$f":"IF(A30<>\"\",IFERROR(VLOOKUP(AH30,Tabelas!B:D,3,0),0),\"\")","v":12},{"$f":"IF(A30<>\"\",IFERROR(VLOOKUP(AI30,Tabelas!B:D,3,0),0),\"\")","v":0},{"$f":"IF(A30<>\"\",IFERROR(VLOOKUP(AJ30,Tabelas!B:D,3,0),0),\"\")","v":0},{"$f":"IF(A30<>\"\",IFERROR(VLOOKUP(AK30,Tabelas!B:D,3,0),0),\"\")","v":12},{"$f":"IF(A30<>\"\",IFERROR(VLOOKUP(AL30,Tabelas!B:D,3,0),0),\"\")","v":0},{"$f":"IF(A30<>\"\",IFERROR(VLOOKUP(AM30,Tabelas!B:D,3,0),0),\"\")","v":0},{"$f":"IF(A30<>\"\",IFERROR(VLOOKUP(AN30,Tabelas!B:D,3,0),0),\"\")","v":12},{"$f":"IF(A30<>\"\",IFERROR(VLOOKUP(AO30,Tabelas!B:D,3,0),0),\"\")","v":0},{"$f":"IF(A30<>\"\",IFERROR(VLOOKUP(AP30,Tabelas!B:D,3,0),0),\"\")","v":0},{"$f":"IF(A30<>\"\",IFERROR(VLOOKUP(AQ30,Tabelas!B:D,3,0),0),\"\")","v":0},64,0,0,0,0,0,1,1]
["Joel de Andrade",1160444,null,"ME","RJU",40,null,null,null,null,null,null,null,null,null,null,"N10",null,null,"N10",null,"N10",null,null,null,null,null,"N10",null,"D8",null,null,null,null,null,null,null,null,"N10",null,null,null,"D8",{"$f":"IF(A31<>\"\",IFERROR(VLOOKUP(M31,Tabelas!B:D,3,0),0),\"\")","v":0},{"$f":"IF(A31<>\"\",IFERROR(VLOOKUP(N31,Tabelas!B:D,3,0),0),\"\")","v":0},{"$f":"IF(A31<>\"\",IFERROR(VLOOKUP(O31,Tabelas!B:D,3,0),0),\"\")","v":0},{"$f":"IF(A31<>\"\",IFERROR(VLOOKUP(P31,Tabelas!B:D,3,0),0),\"\")","v":0},{"$f":"IF(A31<>\"\",IFERROR(VLOOKUP(Q31,Tabelas!B:D,3,0),0),\"\")","v":12},{"$f":"IF(A31<>\"\",IFERROR(VLOOKUP(R31,Tabelas!B:D,3,0),0),\"\")","v":0},{"$f":"IF(A31<>\"\",IFERROR(VLOOKUP(S31,Tabelas!B:D,3,0),0),\"\")","v":0},{"$f":"IF(A31<>\"\",IFERROR(VLOOKUP(T31,Tabelas!B:D,3,0),0),\"\")","v":12},{"$f":"IF(A31<>\"\",IFERROR(VLOOKUP(U31,Tabelas!B:D,3,0),0),\"\")","v":0},{"$f":"IF(A31<>\"\",IFERROR(VLOOKUP(V31,Tabelas!B:D,3,0),0),\"\")","v":12},{"$f":"IF(A31<>\"\",IFERROR(VLOOKUP(W31,Tabelas!B:D,3,0),0),\"\")","v":0},{"$f":"IF(A31<>\"\",IFERROR(VLOOKUP(X31,Tabelas!B:D,3,0),0),\"\")","v":0},{"$f":"IF(A31<>\"\",IFERROR(VLOOKUP(Y31,Tabelas!B:D,3,0),0),\"\")","v":0},{"$f":"IF(A31<>\"\",IFERROR(VLOOKUP(Z31,Tabelas!B:D,3,0),0),\"\")","v":0},{"$f":"IF(A31<>\"\",IFERROR(VLOOKUP(AA31,Tabelas!B:D,3,0),0),\"\")","v":0},{"$f":"IF(A31<>\"\",IFERROR(VLOOKUP(AB31,Tabelas!B:D,3,0),0),\"\")","v":12},{"$f":"IF(A31<>\"\",IFERROR(VLOOKUP(AC31,Tabelas!B:D,3,0),0),\"\")","v":0},{"$f":"IF(A31<>\"\",IFERROR(VLOOKUP(AD31,Tabelas!B:D,3,0),0),\"\")","v":12},{"$f":"IF(A31<>\"\",IFERROR(VLOOKUP(AE31,Tabelas!B:D,3,0),0),\"\")","v":0},{"$f":"IF(A31<>\"\",IFERROR(VLOOKUP(AF31,Tabelas!B:D,3,0),0),\"\")","v":0},{"$f":"IF(A31<>\"\",IFERROR(VLOOKUP(AG31,Tabelas!B:D,3,0),0),\"\")","v":0},{"$f":"IF(A31<>\"\",IFERROR(VLOOKUP(AH31,Tabelas!B:D,3,0),0),\"\")","v":0},{"$f":"IF(A31<>\"\",IFERROR(VLOOKUP(AI31,Tabelas!B:D,3,0),0),\"\")","v":0},{"$f":"IF(A31<>\"\",IFERROR(VLOOKUP(AJ31,Tabelas!B:D,3,0),0),\"\")","v":0},{"$f":"IF(A31<>\"\",IFERROR(VLOOKUP(AK31,Tabelas!B:D,3,0),0),\"\")","v":0},{"$f":"IF(A31<>\"\",IFERROR(VLOOKUP(AL31,Tabelas!B:D,3,0),0),\"\")","v":0},{"$f":"IF(A31<>\"\",IFERROR(VLOOKUP(AM31,Tabelas!B:D,3,0),0),\"\")","v":12},{"$f":"IF(A31<>\"\",IFERROR(VLOOKUP(AN31,Tabelas!B:D,3,0),0),\"\")","v":0},{"$f":"IF(A31<>\"\",IFERROR(VLOOKUP(AO31,Tabelas!B:D,3,0),0),\"\")","v":0},{"$f":"IF(A31<>\"\",IFERROR(VLOOKUP(AP31,Tabelas!B:D,3,0),0),\"\")","v":0},{"$f":"IF(A31<>\"\",IFERROR(VLOOKUP(AQ31,Tabelas!B:D,3,0),0),\"\")","v":12},84,0,0,0,0,0,0,0]
["Karine Damiani Cabral ",1925603,null,"ME","EBSERH",24,null,null,null,null,null,null,"N10",null,null,"DN6",null,null,"N10",null,null,"D8",null,"N10",null,null,null,null,null,null,null,null,null,null,null,null,null,null,null,null,null,null,null,{"$f":"IF(A32<>\"\",IFERROR(VLOOKUP(M32,Tabelas!B:D,3,0),0),\"\")","v":12},{"$f":"IF(A32<>\"\",IFERROR(VLOOKUP(N32,Tabelas!B:D,3,0),0),\"\")","v":0},{"$f":"IF(A32<>\"\",IFERROR(VLOOKUP(O32,Tabelas!B:D,3,0),0),\"\")","v":0},{"$f":"IF(A32<>\"\",IFERROR(VLOOKUP(P32,Tabelas!B:D,3,0),0),\"\")","v":24},{"$f":"IF(A32<>\"\",IFERROR(VLOOKUP(Q32,Tabelas!B:D,3,0),0),\"\")","v":0},{"$f":"IF(A32<>\"\",IFERROR(VLOOKUP(R32,Tabelas!B:D,3,0),0),\"\")","v":0},{"$f":"IF(A32<>\"\",IFERROR(VLOOKUP(S32,Tabelas!B:D,3,0),0),\"\")","v":12},{"$f":"IF(A32<>\"\",IFERROR(VLOOKUP(T32,Tabelas!B:D,3,0),0),\"\")","v":0},{"$f":"IF(A32<>\"\",IFERROR(VLOOKUP(U32,Tabelas!B:D,3,0),0),\"\")","v":0},{"$f":"IF(A32<>\"\",IFERROR(VLOOKUP(V32,Tabelas!B:D,3,0),0),\"\")","v":12},{"$f":"IF(A32<>\"\",IFERROR(VLOOKUP(W32,Tabelas!B:D,3,0),0),\"\")","v":0},{"$f":"IF(A32<>\"\",IFERROR(VLOOKUP(X32,Tabelas!B:D,3,0),0),\"\")","v":12},{"$f":"IF(A32<>\"\",IFERROR(VLOOKUP(Y32,Tabelas!B:D,3,0),0),\"\")","v":0},{"$f":"IF(A32<>\"\",IFERROR(VLOOKUP(Z32,Tabelas!B:D,3,0),0),\"\")","v":0},{"$f":"IF(A32<>\"\",IFERROR(VLOOKUP(AA32,Tabelas!B:D,3,0),0),\"\")","v":0},{"$f":"IF(A32<>\"\",IFERROR(VLOOKUP(AB32,Tabelas!B:D,3,0),0),\"\")","v":0},{"$f":"IF(A32<>\"\",IFERROR(VLOOKUP(AC32,Tabelas!B:D,3,0),0),\"\")","v":0},{"$f":"IF(A32<>\"\",IFERROR(VLOOKUP(AD32,Tabelas!B:D,3,0),0),\"\")","v":0},{"$f":"IF(A32<>\"\",IFERROR(VLOOKUP(AE32,Tabelas!B:D,3,0),0),\"\")","v":0},{"$f":"IF(A32<>\"\",IFERROR(VLOOKUP(AF32,Tabelas!B:D,3,0),0),\"\")","v":0},{"$f":"IF(A32<>\"\",IFERROR(VLOOKUP(AG32,Tabelas!B:D,3,0),0),\"\")","v":0},{"$f":"IF(A32<>\"\",IFERROR(VLOOKUP(AH32,Tabelas!B:D,3,0),0),\"\")","v":0},{"$f":"IF(A32<>\"\",IFERROR(VLOOKUP(AI32,Tabelas!B:D,3,0),0),\"\")","v":0},{"$f":"IF(A32<>\"\",IFERROR(VLOOKUP(AJ32,Tabelas!B:D,3,0),0),\"\")","v":0},{"$f":"IF(A32<>\"\",IFERROR(VLOOKUP(AK32,Tabelas!B:D,3,0),0),\"\")","v":0},{"$f":"IF(A32<>\"\",IFERROR(VLOOKUP(AL32,Tabelas!B:D,3,0),0),\"\")","v":0},{"$f":"IF(A32<>\"\",IFERROR(VLOOKUP(AM32,Tabelas!B:D,3,0),0),\"\")","v":0},{"$f":"IF(A32<>\"\",IFERROR(VLOOKUP(AN32,Tabelas!B:D,3,0),0),\"\")","v":0},{"$f":"IF(A32<>\"\",IFERROR(VLOOKUP(AO32,Tabelas!B:D,3,0),0),\"\")","v":0},{"$f":"IF(A32<>\"\",IFERROR(VLOOKUP(AP32,Tabelas!B:D,3,0),0),\"\")","v":0},{"$f":"IF(A32<>\"\",IFERROR(VLOOKUP(AQ32,Tabelas!B:D,3,0),0),\"\")","v":0},76,0,0,0,0,0,0,0]
["Pedro Luz da Rosa",2606805,null,"ME","RJU",20,null,null,null,null,null,null,null,null,null,null,null,null,null,null,null,null,null,null,null,null,null,null,null,null,null,null,null,null,null,null,null,null,null,null,null,null,null,{"$f":"IF(A33<>\"\",IFERROR(VLOOKUP(M33,Tabelas!B:D,3,0),0),\"\")","v":0},{"$f":"IF(A33<>\"\",IFERROR(VLOOKUP(N33,Tabelas!B:D,3,0),0),\"\")","v":0},{"$f":"IF(A33<>\"\",IFERROR(VLOOKUP(O33,Tabelas!B:D,3,0),0),\"\")","v":0},{"$f":"IF(A33<>\"\",IFERROR(VLOOKUP(P33,Tabelas!B:D,3,0),0),\"\")","v":0},{"$f":"IF(A33<>\"\",IFERROR(VLOOKUP(Q33,Tabelas!B:D,3,0),0),\"\")","v":0},{"$f":"IF(A33<>\"\",IFERROR(VLOOKUP(R33,Tabelas!B:D,3,0),0),\"\")","v":0},{"$f":"IF(A33<>\"\",IFERROR(VLOOKUP(S33,Tabelas!B:D,3,0),0),\"\")","v":0},{"$f":"IF(A33<>\"\",IFERROR(VLOOKUP(T33,Tabelas!B:D,3,0),0),\"\")","v":0},{"$f":"IF(A33<>\"\",IFERROR(VLOOKUP(U33,Tabelas!B:D,3,0),0),\"\")","v":0},{"$f":"IF(A33<>\"\",IFERROR(VLOOKUP(V33,Tabelas!B:D,3,0),0),\"\")","v":0},{"$f":"IF(A33<>\"\",IFERROR(VLOOKUP(W33,Tabelas!B:D,3,0),0),\"\")","v":0},{"$f":"IF(A33<>\"\",IFERROR(VLOOKUP(X33,Tabelas!B:D,3,0),0),\"\")","v":0},{"$f":"IF(A33<>\"\",IFERROR(VLOOKUP(Y33,Tabelas!B:D,3,0),0),\"\")","v":0},{"$f":"IF(A33<>\"\",IFERROR(VLOOKUP(Z33,Tabelas!B:D,3,0),0),\"\")","v":0},{"$f":"IF(A33<>\"\",IFERROR(VLOOKUP(AA33,Tabelas!B:D,3,0),0),\"\")","v":0},{"$f":"IF(A33<>\"\",IFERROR(VLOOKUP(AB33,Tabelas!B:D,3,0),0),\"\")","v":0},{"$f":"IF(A33<>\"\",IFERROR(VLOOKUP(AC33,Tabelas!B:D,3,0),0),\"\")","v":0},{"$f":"IF(A33<>\"\",IFERROR(VLOOKUP(AD33,Tabelas!B:D,3,0),0),\"\")","v":0},{"$f":"IF(A33<>\"\",IFERROR(VLOOKUP(AE33,Tabelas!B:D,3,0),0),\"\")","v":0},{"$f":"IF(A33<>\"\",IFERROR(VLOOKUP(AF33,Tabelas!B:D,3,0),0),\"\")","v":0},{"$f":"IF(A33<>\"\",IFERROR(VLOOKUP(AG33,Tabelas!B:D,3,0),0),\"\")","v":0},{"$f":"IF(A33<>\"\",IFERROR(VLOOKUP(AH33,Tabelas!B:D,3,0),0),\"\")","v":0},{"$f":"IF(A33<>\"\",IFERROR(VLOOKUP(AI33,Tabelas!B:D,3,0),0),\"\")","v":0},{"$f":"IF(A33<>\"\",IFERROR(VLOOKUP(AJ33,Tabelas!B:D,3,0),0),\"\")","v":0},{"$f":"IF(A33<>\"\",IFERROR(VLOOKUP(AK33,Tabelas!B:D,3,0),0),\"\")","v":0},{"$f":"IF(A33<>\"\",IFERROR(VLOOKUP(AL33,Tabelas!B:D,3,0),0),\"\")","v":0},{"$f":"IF(A33<>\"\",IFERROR(VLOOKUP(AM33,Tabelas!B:D,3,0),0),\"\")","v":0},{"$f":"IF(A33<>\"\",IFERROR(VLOOKUP(AN33,Tabelas!B:D,3,0),0),\"\")","v":0},{"$f":"IF(A33<>\"\",IFERROR(VLOOKUP(AO33,Tabelas!B:D,3,0),0),\"\")","v":0},{"$f":"IF(A33<>\"\",IFERROR(VLOOKUP(AP33,Tabelas!B:D,3,0),0),\"\")","v":0},{"$f":"IF(A33<>\"\",IFERROR(VLOOKUP(AQ33,Tabelas!B:D,3,0),0),\"\")","v":0},0,0,0,0,0,0,0,0]
["Robson Lima Ribeiro",3369679,null,"ME","RJU",20,null,null,null,null,null,null,"N10",null,"D8",null,null,"N10",null,null,null,null,"N10",null,"N10",null,null,null,null,null,null,null,null,null,"N10","N10",null,null,null,null,null,null,null,{"$f":"IF(A34<>\"\",IFERROR(VLOOKUP(M34,Tabelas!B:D,3,0),0),\"\")","v":12},{"$f":"IF(A34<>\"\",IFERROR(VLOOKUP(N34,Tabelas!B:D,3,0),0),\"\")","v":0},{"$f":"IF(A34<>\"\",IFERROR(VLOOKUP(O34,Tabelas!B:D,3,0),0),\"\")","v":12},{"$f":"IF(A34<>\"\",IFERROR(VLOOKUP(P34,Tabelas!B:D,3,0),0),\"\")","v":0},{"$f":"IF(A34<>\"\",IFERROR(VLOOKUP(Q34,Tabelas!B:D,3,0),0),\"\")","v":0},{"$f":"IF(A34<>\"\",IFERROR(VLOOKUP(R34,Tabelas!B:D,3,0),0),\"\")","v":12},{"$f":"IF(A34<>\"\",IFERROR(VLOOKUP(S34,Tabelas!B:D,3,0),0),\"\")","v":0},{"$f":"IF(A34<>\"\",IFERROR(VLOOKUP(T34,Tabelas!B:D,3,0),0),\"\")","v":0},{"$f":"IF(A34<>\"\",IFERROR(VLOOKUP(U34,Tabelas!B:D,3,0),0),\"\")","v":0},{"$f":"IF(A34<>\"\",IFERROR(VLOOKUP(V34,Tabelas!B:D,3,0),0),\"\")","v":0},{"$f":"IF(A34<>\"\",IFERROR(VLOOKUP(W34,Tabelas!B:D,3,0),0),\"\")","v":12},{"$f":"IF(A34<>\"\",IFERROR(VLOOKUP(X34,Tabelas!B:D,3,0),0),\"\")","v":0},{"$f":"IF(A34<>\"\",IFERROR(VLOOKUP(Y34,Tabelas!B:D,3,0),0),\"\")","v":12},{"$f":"IF(A34<>\"\",IFERROR(VLOOKUP(Z34,Tabelas!B:D,3,0),0),\"\")","v":0},{"$f":"IF(A34<>\"\",IFERROR(VLOOKUP(AA34,Tabelas!B:D,3,0),0),\"\")","v":0},{"$f":"IF(A34<>\"\",IFERROR(VLOOKUP(AB34,Tabelas!B:D,3,0),0),\"\")","v":0},{"$f":"IF(A34<>\"\",IFERROR(VLOOKUP(AC34,Tabelas!B:D,3,0),0),\"\")","v":0},{"$f":"IF(A34<>\"\",IFERROR(VLOOKUP(AD34,Tabelas!B:D,3,0),0),\"\")","v":0},{"$f":"IF(A34<>\"\",IFERROR(VLOOKUP(AE34,Tabelas!B:D,3,0),0),\"\")","v":0},{"$f":"IF(A34<>\"\",IFERROR(VLOOKUP(AF34,Tabelas!B:D,3,0),0),\"\")","v":0},{"$f":"IF(A34<>\"\",IFERROR(VLOOKUP(AG34,Tabelas!B:D,3,0),0),\"\")","v":0},{"$f":"IF(A34<>\"\",IFERROR(VLOOKUP(AH34,Tabelas!B:D,3,0),0),\"\")","v":0},{"$f":"IF(A34<>\"\",IFERROR(VLOOKUP(AI34,Tabelas!B:D,3,0),0),\"\")","v":12},{"$f":"IF(A34<>\"\",IFERROR(VLOOKUP(AJ34,Tabelas!B:D,3,0),0),\"\")","v":12},{"$f":"IF(A34<>\"\",IFERROR(VLOOKUP(AK34,Tabelas!B:D,3,0),0),\"\")","v":0},{"$f":"IF(A34<>\"\",IFERROR(VLOOKUP(AL34,Tabelas!B:D,3,0),0),\"\")","v":0},{"$f":"IF(A34<>\"\",IFERROR(VLOOKUP(AM34,Tabelas!B:D,3,0),0),\"\")","v":0},{"$f":"IF(A34<>\"\",IFERROR(VLOOKUP(AN34,Tabelas!B:D,3,0),0),\"\")","v":0},{"$f":"IF(A34<>\"\",IFERROR(VLOOKUP(AO34,Tabelas!B:D,3,0),0),\"\")","v":0},{"$f":"IF(A34<>\"\",IFERROR(VLOOKUP(AP34,Tabelas!B:D,3,0),0),\"\")","v":0},{"$f":"IF(A34<>\"\",IFERROR(VLOOKUP(AQ34,Tabelas!B:D,3,0),0),\"\")","v":0},84,0,0,0,0,0,0,0]
["Thales Roberto Schott da Silva",1160552,null,"ME","RJU",20,null,null,null,null,null,null,null,null,"N10",null,null,null,null,null,"N10",null,null,"D8",null,null,null,null,null,null,"N10",null,null,"N10",null,null,"D8",null,null,null,"N10",null,null,{"$f":"IF(A35<>\"\",IFERROR(VLOOKUP(M35,Tabelas!B:D,3,0),0),\"\")","v":0},{"$f":"IF(A35<>\"\",IFERROR(VLOOKUP(N35,Tabelas!B:D,3,0),0),\"\")","v":0},{"$f":"IF(A35<>\"\",IFERROR(VLOOKUP(O35,Tabelas!B:D,3,0),0),\"\")","v":12},{"$f":"IF(A35<>\"\",IFERROR(VLOOKUP(P35,Tabelas!B:D,3,0),0),\"\")","v":0},{"$f":"IF(A35<>\"\",IFERROR(VLOOKUP(Q35,Tabelas!B:D,3,0),0),\"\")","v":0},{"$f":"IF(A35<>\"\",IFERROR(VLOOKUP(R35,Tabelas!B:D,3,0),0),\"\")","v":0},{"$f":"IF(A35<>\"\",IFERROR(VLOOKUP(S35,Tabelas!B:D,3,0),0),\"\")","v":0},{"$f":"IF(A35<>\"\",IFERROR(VLOOKUP(T35,Tabelas!B:D,3,0),0),\"\")","v":0},{"$f":"IF(A35<>\"\",IFERROR(VLOOKUP(U35,Tabelas!B:D,3,0),0),\"\")","v":12},{"$f":"IF(A35<>\"\",IFERROR(VLOOKUP(V35,Tabelas!B:D,3,0),0),\"\")","v":0},{"$f":"IF(A35<>\"\",IFERROR(VLOOKUP(W35,Tabelas!B:D,3,0),0),\"\")","v":0},{"$f":"IF(A35<>\"\",IFERROR(VLOOKUP(X35,Tabelas!B:D,3,0),0),\"\")","v":12},{"$f":"IF(A35<>\"\",IFERROR(VLOOKUP(Y35,Tabelas!B:D,3,0),0),\"\")","v":0},{"$f":"IF(A35<>\"\",IFERROR(VLOOKUP(Z35,Tabelas!B:D,3,0),0),\"\")","v":0},{"$f":"IF(A35<>\"\",IFERROR(VLOOKUP(AA35,Tabelas!B:D,3,0),0),\"\")","v":0},{"$f":"IF(A35<>\"\",IFERROR(VLOOKUP(AB35,Tabelas!B:D,3,0),0),\"\")","v":0},{"$f":"IF(A35<>\"\",IFERROR(VLOOKUP(AC35,Tabelas!B:D,3,0),0),\"\")","v":0},{"$f":"IF(A35<>\"\",IFERROR(VLOOKUP(AD35,Tabelas!B:D,3,0),0),\"\")","v":0},{"$f":"IF(A35<>\"\",IFERROR(VLOOKUP(AE35,Tabelas!B:D,3,0),0),\"\")","v":12},{"$f":"IF(A35<>\"\",IFERROR(VLOOKUP(AF35,Tabelas!B:D,3,0),0),\"\")","v":0},{"$f":"IF(A35<>\"\",IFERROR(VLOOKUP(AG35,Tabelas!B:D,3,0),0),\"\")","v":0},{"$f":"IF(A35<>\"\",IFERROR(VLOOKUP(AH35,Tabelas!B:D,3,0),0),\"\")","v":12},{"$f":"IF(A35<>\"\",IFERROR(VLOOKUP(AI35,Tabelas!B:D,3,0),0),\"\")","v":0},{"$f":"IF(A35<>\"\",IFERROR(VLOOKUP(AJ35,Tabelas!B:D,3,0),0),\"\")","v":0},{"$f":"IF(A35<>\"\",IFERROR(VLOOKUP(AK35,Tabelas!B:D,3,0),0),\"\")","v":12},{"$f":"IF(A35<>\"\",IFERROR(VLOOKUP(AL35,Tabelas!B:D,3,0),0),\"\")","v":0},{"$f":"IF(A35<>\"\",IFERROR(VLOOKUP(AM35,Tabelas!B:D,3,0),0),\"\")","v":0},{"$f":"IF(A35<>\"\",IFERROR(VLOOKUP(AN35,Tabelas!B:D,3,0),0),\"\")","v":0},{"$f":"IF(A35<>\"\",IFERROR(VLOOKUP(AO35,Tabelas!B:D,3,0),0),\"\")","v":12},{"$f":"IF(A35<>\"\",IFERROR(VLOOKUP(AP35,Tabelas!B:D,3,0),0),\"\")","v":0},{"$f":"IF(A35<>\"\",IFERROR(VLOOKUP(AQ35,Tabelas!B:D,3,0),0),\"\")","v":0},84,0,0,0,0,0,0,0]
[]
[null,null,null,null,null,null,null,null,null,null,null,null,null,null,null,null,null,null,null,null,null,null,null,null,null,null,null,null,null,null,null,null,null,null,null,null,null,null,null,null,null,null,null,{"$f":"IF(A37<>\"\",IFERROR(VLOOKUP(M37,Tabelas!B:D,3,0),0),\"\")","v":""},{"$f":"IF(A37<>\"\",IFERROR(VLOOKUP(N37,Tabelas!B:D,3,0),0),\"\")","v":""},{"$f":"IF(A37<>\"\",IFERROR(VLOOKUP(O37,Tabelas!B:D,3,0),0),\"\")","v":""},{"$f":"IF(A37<>\"\",IFERROR(VLOOKUP(P37,Tabelas!B:D,3,0),0),\"\")","v":""},{"$f":"IF(A37<>\"\",IFERROR(VLOOKUP(Q37,Tabelas!B:D,3,0),0),\"\")","v":""},{"$f":"IF(A37<>\"\",IFERROR(VLOOKUP(R37,Tabelas!B:D,3,0),0),\"\")","v":""},{"$f":"IF(A37<>\"\",IFERROR(VLOOKUP(S37,Tabelas!B:D,3,0),0),\"\")","v":""},{"$f":"IF(A37<>\"\",IFERROR(VLOOKUP(T37,Tabelas!B:D,3,0),0),\"\")","v":""},{"$f":"IF(A37<>\"\",IFERROR(VLOOKUP(U37,Tabelas!B:D,3,0),0),\"\")","v":""},{"$f":"IF(A37<>\"\",IFERROR(VLOOKUP(V37,Tabelas!B:D,3,0),0),\"\")","v":""},{"$f":"IF(A37<>\"\",IFERROR(VLOOKUP(W37,Tabelas!B:D,3,0),0),\"\")","v":""},{"$f":"IF(A37<>\"\",IFERROR(VLOOKUP(X37,Tabelas!B:D,3,0),0),\"\")","v":""},{"$f":"IF(A37<>\"\",IFERROR(VLOOKUP(Y37,Tabelas!B:D,3,0),0),\"\")","v":""},{"$f":"IF(A37<>\"\",IFERROR(VLOOKUP(Z37,Tabelas!B:D,3,0),0),\"\")","v":""},{"$f":"IF(A37<>\"\",IFERROR(VLOOKUP(AA37,Tabelas!B:D,3,0),0),\"\")","v":""},{"$f":"IF(A37<>\"\",IFERROR(VLOOKUP(AB37,Tabelas!B:D,3,0),0),\"\")","v":""},{"$f":"IF(A37<>\"\",IFERROR(VLOOKUP(AC37,Tabelas!B:D,3,0),0),\"\")","v":""},{"$f":"IF(A37<>\"\",IFERROR(VLOOKUP(AD37,Tabelas!B:D,3,0),0),\"\")","v":""},{"$f":"IF(A37<>\"\",IFERROR(VLOOKUP(AE37,Tabelas!B:D,3,0),0),\"\")","v":""},{"$f":"IF(A37<>\"\",IFERROR(VLOOKUP(AF37,Tabelas!B:D,3,0),0),\"\")","v":""},{"$f":"IF(A37<>\"\",IFERROR(VLOOKUP(AG37,Tabelas!B:D,3,0),0),\"\")","v":""},{"$f":"IF(A37<>\"\",IFERROR(VLOOKUP(AH37,Tabelas!B:D,3,0),0),\"\")","v":""},{"$f":"IF(A37<>\"\",IFERROR(VLOOKUP(AI37,Tabelas!B:D,3,0),0),\"\")","v":""},{"$f":"IF(A37<>\"\",IFERROR(VLOOKUP(AJ37,Tabelas!B:D,3,0),0),\"\")","v":""},{"$f":"IF(A37<>\"\",IFERROR(VLOOKUP(AK37,Tabelas!B:D,3,0),0),\"\")","v":""},{"$f":"IF(A37<>\"\",IFERROR(VLOOKUP(AL37,Tabelas!B:D,3,0),0),\"\")","v":""},{"$f":"IF(A37<>\"\",IFERROR(VLOOKUP(AM37,Tabelas!B:D,3,0),0),\"\")","v":""},{"$f":"IF(A37<>\"\",IFERROR(VLOOKUP(AN37,Tabelas!B:D,3,0),0),\"\")","v":""},{"$f":"IF(A37<>\"\",IFERROR(VLOOKUP(AO37,Tabelas!B:D,3,0),0),\"\")","v":""},{"$f":"IF(A37<>\"\",IFERROR(VLOOKUP(AP37,Tabelas!B:D,3,0),0),\"\")","v":""},{"$f":"IF(A37<>\"\",IFERROR(VLOOKUP(AQ37,Tabelas!B:D,3,0),0),\"\")","v":""},{"$f":"IF(AND(A37<>\"\",E37=\"Ebserh\"),SUM(AR37:BV37)+COUNTIF(M37:AQ37,\"N*\")+COUNTIF(M37:AQ37,\"DN*\"),IF(AND(A37<>\"\",E37<>\"Ebserh\"),SUM(AR37:BV37),\"\"))","v":""},{"$f":"IF(A37<>\"\",COUNTIF(M37:AQ37,\"LM\")+COUNTIF(M37:AQ37,\"L\")+COUNTIF(M37:AQ37,\"LP\"),\"\")","v":""},{"$f":"IF(A37<>\"\",COUNTIF(M37:AQ37,\"AB*\"),\"\")","v":""},{"$f":"IF(A37<>\"\",COUNTIF(M37:AQ37,\"FE\"),\"\")","v":""},{"$f":"IF(A37<>\"\",COUNTIF(M37:AQ37,\"LC\"),\"\")","v":""},{"$f":"IF(A37<>\"\",COUNTIF(M37:AQ37,\"CH*\"),\"\")","v":""},{"$f":"IF(A37<>\"\",COUNTIF(M37:AQ37,\"AF1\")+COUNTIF(M37:AQ37,\"AF2\")+COUNTIF(M37:AQ37,\"AF3\")+COUNTIF(M37:AQ37,\"AF4\")+COUNTIF(M37:AQ37,\"AF5\")+COUNTIF(M37:AQ37,\"AF6\")+COUNTIF(M37:AQ37,\"AF7\")+COUNTIF(M37:AQ37,\"AF8\")+COUNTIF(M37:AQ37,\"AF9\")+COUNTIF(M37:AQ37,\"AF10\")+COUNTIF(M37:AQ37,\"AF11\")+COUNTIF(M37:AQ37,\"AF12\")+COUNTIF(M37:AQ37,\"AF13\")+COUNTIF(M37:AQ37,\"AF14\"),\"\")","v":""},{"$f":"IF(A37<>\"\",COUNTIF(M37:AQ37,\"CH*\")+COUNTIF(M37:AQ37,\"L\")+COUNTIF(M37:AQ37,\"LM\")+COUNTIF(M37:AQ37,\"LP\")+COUNTIF(M37:AQ37,\"LC\")+COUNTIF(M37:AQ37,\"AB*\")+COUNTIF(M37:AQ37,\"AF1\")+COUNTIF(M37:AQ37,\"AF2\")+COUNTIF(M37:AQ37,\"AF3\")+COUNTIF(M37:AQ37,\"AF4\")+COUNTIF(M37:AQ37,\"AF5\")+COUNTIF(M37:AQ37,\"AF6\")+COUNTIF(M37:AQ37,\"AF7\")+COUNTIF(M37:AQ37,\"AF8\")+COUNTIF(M37:AQ37,\"AF9\")+COUNTIF(M37:AQ37,\"AF10\")+COUNTIF(M37:AQ37,\"AF11\")+COUNTIF(M37:AQ37,\"AF12\")+COUNTIF(M37:AQ37,\"AF13\")+COUNTIF(M37:AQ37,\"AF14\")+COUNTIF(M37:AQ37,\"RC\")+COUNTIF(M37:AQ37,\"FO\")+COUNTIF(M37:AQ37,\"FE\"),\"\")","v":""}]
["Ingrid Catharine Costa de Sant Ana",1004451,null,"ME","EBSERH",24,null,null,null,null,null,null,null,null,null,null,null,null,null,null,null,null,null,null,null,null,null,null,null,null,null,null,null,null,null,null,null,null,null,null,null,null,null,{"$f":"IF(A38<>\"\",IFERROR(VLOOKUP(M38,Tabelas!B:D,3,0),0),\"\")","v":0},{"$f":"IF(A38<>\"\",IFERROR(VLOOKUP(N38,Tabelas!B:D,3,0),0),\"\")","v":0},{"$f":"IF(A38<>\"\",IFERROR(VLOOKUP(O38,Tabelas!B:D,3,0),0),\"\")","v":0},{"$f":"IF(A38<>\"\",IFERROR(VLOOKUP(P38,Tabelas!B:D,3,0),0),\"\")","v":0},{"$f":"IF(A38<>\"\",IFERROR(VLOOKUP(Q38,Tabelas!B:D,3,0),0),\"\")","v":0},{"$f":"IF(A38<>\"\",IFERROR(VLOOKUP(R38,Tabelas!B:D,3,0),0),\"\")","v":0},{"$f":"IF(A38<>\"\",IFERROR(VLOOKUP(S38,Tabelas!B:D,3,0),0),\"\")","v":0},{"$f":"IF(A38<>\"\",IFERROR(VLOOKUP(T38,Tabelas!B:D,3,0),0),\"\")","v":0},{"$f":"IF(A38<>\"\",IFERROR(VLOOKUP(U38,Tabelas!B:D,3,0),0),\"\")","v":0},{"$f":"IF(A38<>\"\",IFERROR(VLOOKUP(V38,Tabelas!B:D,3,0),0),\"\")","v":0},{"$f":"IF(A38<>\"\",IFERROR(VLOOKUP(W38,Tabelas!B:D,3,0),0),\"\")","v":0},{"$f":"IF(A38<>\"\",IFERROR(VLOOKUP(X38,Tabelas!B:D,3,0),0),\"\")","v":0},{"$f":"IF(A38<>\"\",IFERROR(VLOOKUP(Y38,Tabelas!B:D,3,0),0),\"\")","v":0},{"$f":"IF(A38<>\"\",IFERROR(VLOOKUP(Z38,Tabelas!B:D,3,0),0),\"\")","v":0},{"$f":"IF(A38<>\"\",IFERROR(VLOOKUP(AA38,Tabelas!B:D,3,0),0),\"\")","v":0},{"$f":"IF(A38<>\"\",IFERROR(VLOOKUP(AB38,Tabelas!B:D,3,0),0),\"\")","v":0},{"$f":"IF(A38<>\"\",IFERROR(VLOOKUP(AC38,Tabelas!B:D,3,0),0),\"\")","v":0},{"$f":"IF(A38<>\"\",IFERROR(VLOOKUP(AD38,Tabelas!B:D,3,0),0),\"\")","v":0},{"$f":"IF(A38<>\"\",IFERROR(VLOOKUP(AE38,Tabelas!B:D,3,0),0),\"\")","v":0},{"$f":"IF(A38<>\"\",IFERROR(VLOOKUP(AF38,Tabelas!B:D,3,0),0),\"\")","v":0},{"$f":"IF(A38<>\"\",IFERROR(VLOOKUP(AG38,Tabelas!B:D,3,0),0),\"\")","v":0},{"$f":"IF(A38<>\"\",IFERROR(VLOOKUP(AH38,Tabelas!B:D,3,0),0),\"\")","v":0},{"$f":"IF(A38<>\"\",IFERROR(VLOOKUP(AI38,Tabelas!B:D,3,0),0),\"\")","v":0},{"$f":"IF(A38<>\"\",IFERROR(VLOOKUP(AJ38,Tabelas!B:D,3,0),0),\"\")","v":0},{"$f":"IF(A38<>\"\",IFERROR(VLOOKUP(AK38,Tabelas!B:D,3,0),0),\"\")","v":0},{"$f":"IF(A38<>\"\",IFERROR(VLOOKUP(AL38,Tabelas!B:D,3,0),0),\"\")","v":0},{"$f":"IF(A38<>\"\",IFERROR(VLOOKUP(AM38,Tabelas!B:D,3,0),0),\"\")","v":0},{"$f":"IF(A38<>\"\",IFERROR(VLOOKUP(AN38,Tabelas!B:D,3,0),0),\"\")","v":0},{"$f":"IF(A38<>\"\",IFERROR(VLOOKUP(AO38,Tabelas!B:D,3,0),0),\"\")","v":0},{"$f":"IF(A38<>\"\",IFERROR(VLOOKUP(AP38,Tabelas!B:D,3,0),0),\"\")","v":0},{"$f":"IF(A38<>\"\",IFERROR(VLOOKUP(AQ38,Tabelas!B:D,3,0),0),\"\")","v":0},0,0,0,0,0,0,0,0]
["TOTAL PROFISSIONAIS MATUTINO",null,null,null,null,null,null,null,null,null,null,null,{"$f":"IF(COUNTIF(M9:M38,\"M*\")+ COUNTIF(M9:M38, \"D*\")-COUNTIF(M9:M38,\"DSR\")<>0,COUNTIF(M9:M38,\"M*\")+ COUNTIF(M9:M38, \"D*\")-COUNTIF(M9:M38,\"DSR\"),\"\")","v":4},3,1,2,4,4,3,3,3,2,2,2,4,4,3,4,2,2,3,3,3,3,3,2,2,3,3,2,4,4,2,null,null,null,null,null,null,null,null,null,null,null,null,null,null,null,null,null,null,null,null,null,null,null,null,null,null,null,null,null,null,null,{"$f":"SUM(BW9:BW38)","v":1750},0,0,32,0,0,1,33]
["TOTAL DE PROFISSIONAIS VESPERTINO",null,null,null,null,null,null,null,null,null,null,null,{"$f":"IF(COUNTIF(M9:M38,\"MT*\") + COUNTIF(M9:M38, \"D*\") + COUNTIF(M9:M38,\"T*\")-COUNTIF(M9:M38,\"DSR\")<>0,COUNTIF(M9:M38,\"MT*\") + COUNTIF(M9:M38, \"D*\") + COUNTIF(M9:M38,\"T*\")-COUNTIF(M9:M38,\"DSR\"),\"\")","v":3},1,1,2,3,3,3,3,3,2,2,2,3,3,3,3,2,2,3,3,3,3,3,2,2,3,3,2,3,3,2,{"$f":"IF(A40<>\"\",IFERROR(VLOOKUP(M40,Tabelas!B:D,3,0),0),\"\")","v":0},{"$f":"IF(A40<>\"\",IFERROR(VLOOKUP(N40,Tabelas!B:D,3,0),0),\"\")","v":0},{"$f":"IF(A40<>\"\",IFERROR(VLOOKUP(O40,Tabelas!B:D,3,0),0),\"\")","v":0},{"$f":"IF(A40<>\"\",IFERROR(VLOOKUP(P40,Tabelas!B:D,3,0),0),\"\")","v":0},{"$f":"IF(A40<>\"\",IFERROR(VLOOKUP(Q40,Tabelas!B:D,3,0),0),\"\")","v":0},{"$f":"IF(A40<>\"\",IFERROR(VLOOKUP(R40,Tabelas!B:D,3,0),0),\"\")","v":0},{"$f":"IF(A40<>\"\",IFERROR(VLOOKUP(S40,Tabelas!B:D,3,0),0),\"\")","v":0},{"$f":"IF(A40<>\"\",IFERROR(VLOOKUP(T40,Tabelas!B:D,3,0),0),\"\")","v":0},{"$f":"IF(A40<>\"\",IFERROR(VLOOKUP(U40,Tabelas!B:D,3,0),0),\"\")","v":0},{"$f":"IF(A40<>\"\",IFERROR(VLOOKUP(V40,Tabelas!B:D,3,0),0),\"\")","v":0},{"$f":"IF(A40<>\"\",IFERROR(VLOOKUP(W40,Tabelas!B:D,3,0),0),\"\")","v":0},{"$f":"IF(A40<>\"\",IFERROR(VLOOKUP(X40,Tabelas!B:D,3,0),0),\"\")","v":0},{"$f":"IF(A40<>\"\",IFERROR(VLOOKUP(Y40,Tabelas!B:D,3,0),0),\"\")","v":0},{"$f":"IF(A40<>\"\",IFERROR(VLOOKUP(Z40,Tabelas!B:D,3,0),0),\"\")","v":0},{"$f":"IF(A40<>\"\",IFERROR(VLOOKUP(AA40,Tabelas!B:D,3,0),0),\"\")","v":0},{"$f":"IF(A40<>\"\",IFERROR(VLOOKUP(AB40,Tabelas!B:D,3,0),0),\"\")","v":0},{"$f":"IF(A40<>\"\",IFERROR(VLOOKUP(AC40,Tabelas!B:D,3,0),0),\"\")","v":0},{"$f":"IF(A40<>\"\",IFERROR(VLOOKUP(AD40,Tabelas!B:D,3,0),0),\"\")","v":0},{"$f":"IF(A40<>\"\",IFERROR(VLOOKUP(AE40,Tabelas!B:D,3,0),0),\"\")","v":0},{"$f":"IF(A40<>\"\",IFERROR(VLOOKUP(AF40,Tabelas!B:D,3,0),0),\"\")","v":0},{"$f":"IF(A40<>\"\",IFERROR(VLOOKUP(AG40,Tabelas!B:D,3,0),0),\"\")","v":0},{"$f":"IF(A40<>\"\",IFERROR(VLOOKUP(AH40,Tabelas!B:D,3,0),0),\"\")","v":0},{"$f":"IF(A40<>\"\",IFERROR(VLOOKUP(AI40,Tabelas!B:D,3,0),0),\"\")","v":0},{"$f":"IF(A40<>\"\",IFERROR(VLOOKUP(AJ40,Tabelas!B:D,3,0),0),\"\")","v":0},{"$f":"IF(A40<>\"\",IFERROR(VLOOKUP(AK40,Tabelas!B:D,3,0),0),\"\")","v":0},{"$f":"IF(A40<>\"\",IFERROR(VLOOKUP(AL40,Tabelas!B:D,3,0),0),\"\")","v":0},{"$f":"IF(A40<>\"\",IFERROR(VLOOKUP(AM40,Tabelas!B:D,3,0),0),\"\")","v":0},{"$f":"IF(A40<>\"\",IFERROR(VLOOKUP(AN40,Tabelas!B:D,3,0),0),\"\")","v":0},{"$f":"IF(A40<>\"\",IFERROR(VLOOKUP(AO40,Tabelas!B:D,3,0),0),\"\")","v":0},{"$f":"IF(A40<>\"\",IFERROR(VLOOKUP(AP40,Tabelas!B:D,3,0),0),\"\")","v":0},{"$f":"IF(A40<>\"\",IFERROR(VLOOKUP(AQ40,Tabelas!B:D,3,0),0),\"\")","v":0}]
["TOTAL DE PROFISSIONAIS NOTURNO",null,null,null,null,null,null,null,null,null,null,null,{"$f":"IF(COUNTIF(M9:M40,\"N?*\") + COUNTIF(M9:M40, \"DN*\")<>0,COUNTIF(M9:M40,\"N?*\") + COUNTIF(M9:M40, \"DN*\"),\"\")","v":3},2,2,2,3,2,2,2,2,3,2,2,2,3,2,2,2,2,3,2,2,2,2,2,2,3,2,2,3,2,2,{"$f":"IF(A41<>\"\",IFERROR(VLOOKUP(M41,Tabelas!B:D,3,0),0),\"\")","v":0},{"$f":"IF(A41<>\"\",IFERROR(VLOOKUP(N41,Tabelas!B:D,3,0),0),\"\")","v":0},{"$f":"IF(A41<>\"\",IFERROR(VLOOKUP(O41,Tabelas!B:D,3,0),0),\"\")","v":0},{"$f":"IF(A41<>\"\",IFERROR(VLOOKUP(P41,Tabelas!B:D,3,0),0),\"\")","v":0},{"$f":"IF(A41<>\"\",IFERROR(VLOOKUP(Q41,Tabelas!B:D,3,0),0),\"\")","v":0},{"$f":"IF(A41<>\"\",IFERROR(VLOOKUP(R41,Tabelas!B:D,3,0),0),\"\")","v":0},{"$f":"IF(A41<>\"\",IFERROR(VLOOKUP(S41,Tabelas!B:D,3,0),0),\"\")","v":0},{"$f":"IF(A41<>\"\",IFERROR(VLOOKUP(T41,Tabelas!B:D,3,0),0),\"\")","v":0},{"$f":"IF(A41<>\"\",IFERROR(VLOOKUP(U41,Tabelas!B:D,3,0),0),\"\")","v":0},{"$f":"IF(A41<>\"\",IFERROR(VLOOKUP(V41,Tabelas!B:D,3,0),0),\"\")","v":0},{"$f":"IF(A41<>\"\",IFERROR(VLOOKUP(W41,Tabelas!B:D,3,0),0),\"\")","v":0},{"$f":"IF(A41<>\"\",IFERROR(VLOOKUP(X41,Tabelas!B:D,3,0),0),\"\")","v":0},{"$f":"IF(A41<>\"\",IFERROR(VLOOKUP(Y41,Tabelas!B:D,3,0),0),\"\")","v":0},{"$f":"IF(A41<>\"\",IFERROR(VLOOKUP(Z41,Tabelas!B:D,3,0),0),\"\")","v":0},{"$f":"IF(A41<>\"\",IFERROR(VLOOKUP(AA41,Tabelas!B:D,3,0),0),\"\")","v":0},{"$f":"IF(A41<>\"\",IFERROR(VLOOKUP(AB41,Tabelas!B:D,3,0),0),\"\")","v":0},{"$f":"IF(A41<>\"\",IFERROR(VLOOKUP(AC41,Tabelas!B:D,3,0),0),\"\")","v":0},{"$f":"IF(A41<>\"\",IFERROR(VLOOKUP(AD41,Tabelas!B:D,3,0),0),\"\")","v":0},{"$f":"IF(A41<>\"\",IFERROR(VLOOKUP(AE41,Tabelas!B:D,3,0),0),\"\")","v":0},{"$f":"IF(A41<>\"\",IFERROR(VLOOKUP(AF41,Tabelas!B:D,3,0),0),\"\")","v":0},{"$f":"IF(A41<>\"\",IFERROR(VLOOKUP(AG41,Tabelas!B:D,3,0),0),\"\")","v":0},{"$f":"IF(A41<>\"\",IFERROR(VLOOKUP(AH41,Tabelas!B:D,3,0),0),\"\")","v":0},{"$f":"IF(A41<>\"\",IFERROR(VLOOKUP(AI41,Tabelas!B:D,3,0),0),\"\")","v":0},{"$f":"IF(A41<>\"\",IFERROR(VLOOKUP(AJ41,Tabelas!B:D,3,0),0),\"\")","v":0},{"$f":"IF(A41<>\"\",IFERROR(VLOOKUP(AK41,Tabelas!B:D,3,0),0),\"\")","v":0},{"$f":"IF(A41<>\"\",IFERROR(VLOOKUP(AL41,Tabelas!B:D,3,0),0),\"\")","v":0},{"$f":"IF(A41<>\"\",IFERROR(VLOOKUP(AM41,Tabelas!B:D,3,0),0),\"\")","v":0},{"$f":"IF(A41<>\"\",IFERROR(VLOOKUP(AN41,Tabelas!B:D,3,0),0),\"\")","v":0},{"$f":"IF(A41<>\"\",IFERROR(VLOOKUP(AO41,Tabelas!B:D,3,0),0),\"\")","v":0},{"$f":"IF(A41<>\"\",IFERROR(VLOOKUP(AP41,Tabelas!B:D,3,0),0),\"\")","v":0},{"$f":"IF(A41<>\"\",IFERROR(VLOOKUP(AQ41,Tabelas!B:D,3,0),0),\"\")","v":0}]
[null,null,null,null,null,null,null,null,null,null,null,null,null,null,null,null,null,null,null,null,null,null,null,null,null,null,null,null,null,null,null,null,null,null,null,null,null,null,null,null,null,null,null,{"$f":"IF(A42<>\"\",IFERROR(VLOOKUP(M42,Tabelas!B:D,3,0),0),\"\")","v":""},{"$f":"IF(A42<>\"\",IFERROR(VLOOKUP(N42,Tabelas!B:D,3,0),0),\"\")","v":""},{"$f":"IF(A42<>\"\",IFERROR(VLOOKUP(O42,Tabelas!B:D,3,0),0),\"\")","v":""},{"$f":"IF(A42<>\"\",IFERROR(VLOOKUP(P42,Tabelas!B:D,3,0),0),\"\")","v":""},{"$f":"IF(A42<>\"\",IFERROR(VLOOKUP(Q42,Tabelas!B:D,3,0),0),\"\")","v":""},{"$f":"IF(A42<>\"\",IFERROR(VLOOKUP(R42,Tabelas!B:D,3,0),0),\"\")","v":""},{"$f":"IF(A42<>\"\",IFERROR(VLOOKUP(S42,Tabelas!B:D,3,0),0),\"\")","v":""},{"$f":"IF(A42<>\"\",IFERROR(VLOOKUP(T42,Tabelas!B:D,3,0),0),\"\")","v":""},{"$f":"IF(A42<>\"\",IFERROR(VLOOKUP(U42,Tabelas!B:D,3,0),0),\"\")","v":""},{"$f":"IF(A42<>\"\",IFERROR(VLOOKUP(V42,Tabelas!B:D,3,0),0),\"\")","v":""},{"$f":"IF(A42<>\"\",IFERROR(VLOOKUP(W42,Tabelas!B:D,3,0),0),\"\")","v":""},{"$f":"IF(A42<>\"\",IFERROR(VLOOKUP(X42,Tabelas!B:D,3,0),0),\"\")","v":""},{"$f":"IF(A42<>\"\",IFERROR(VLOOKUP(Y42,Tabelas!B:D,3,0),0),\"\")","v":""},{"$f":"IF(A42<>\"\",IFERROR(VLOOKUP(Z42,Tabelas!B:D,3,0),0),\"\")","v":""},{"$f":"IF(A42<>\"\",IFERROR(VLOOKUP(AA42,Tabelas!B:D,3,0),0),\"\")","v":""},{"$f":"IF(A42<>\"\",IFERROR(VLOOKUP(AB42,Tabelas!B:D,3,0),0),\"\")","v":""},{"$f":"IF(A42<>\"\",IFERROR(VLOOKUP(AC42,Tabelas!B:D,3,0),0),\"\")","v":""},{"$f":"IF(A42<>\"\",IFERROR(VLOOKUP(AD42,Tabelas!B:D,3,0),0),\"\")","v":""},{"$f":"IF(A42<>\"\",IFERROR(VLOOKUP(AE42,Tabelas!B:D,3,0),0),\"\")","v":""},{"$f":"IF(A42<>\"\",IFERROR(VLOOKUP(AF42,Tabelas!B:D,3,0),0),\"\")","v":""},{"$f":"IF(A42<>\"\",IFERROR(VLOOKUP(AG42,Tabelas!B:D,3,0),0),\"\")","v":""},{"$f":"IF(A42<>\"\",IFERROR(VLOOKUP(AH42,Tabelas!B:D,3,0),0),\"\")","v":""},{"$f":"IF(A42<>\"\",IFERROR(VLOOKUP(AI42,Tabelas!B:D,3,0),0),\"\")","v":""},{"$f":"IF(A42<>\"\",IFERROR(VLOOKUP(AJ42,Tabelas!B:D,3,0),0),\"\")","v":""},{"$f":"IF(A42<>\"\",IFERROR(VLOOKUP(AK42,Tabelas!B:D,3,0),0),\"\")","v":""},{"$f":"IF(A42<>\"\",IFERROR(VLOOKUP(AL42,Tabelas!B:D,3,0),0),\"\")","v":""},{"$f":"IF(A42<>\"\",IFERROR(VLOOKUP(AM42,Tabelas!B:D,3,0),0),\"\")","v":""},{"$f":"IF(A42<>\"\",IFERROR(VLOOKUP(AN42,Tabelas!B:D,3,0),0),\"\")","v":""},{"$f":"IF(A42<>\"\",IFERROR(VLOOKUP(AO42,Tabelas!B:D,3,0),0),\"\")","v":""},{"$f":"IF(A42<>\"\",IFERROR(VLOOKUP(AP42,Tabelas!B:D,3,0),0),\"\")","v":""},{"$f":"IF(A42<>\"\",IFERROR(VLOOKUP(AQ42,Tabelas!B:D,3,0),0),\"\")","v":""}]
["Legenda:"]
["Licença Maternidade","LM","Férias",null,null,null,null,null,null,"FE",null,"Ponto Facultativo",null,null,null,null,null,null,null,"PF","Manhã *",null,null,null,null,null,null,"M","Diurno (8 hrs) *",null,null,null,null,null,null,"MT"]
["Licença Paternidade","LP","Feriado",null,null,null,null,null,null,"FD",null,"Abono **",null,null,null,null,null,null,null,"AB","Tarde *",null,null,null,null,null,null,"T","Dia/ noite (24 hrs) *",null,null,null,null,null,null,"DN"]
["Licença Médica/Odontológica","L","Descanso Semanal Remunerado",null,null,null,null,null,null,"DSR",null,"Compensação de Horas***",null,null,null,null,null,null,null,"CH","Plantão Dia (12 hrs) *",null,null,null,null,null,null,"D"]
["Licença Capacitação","LC","Recesso",null,null,null,null,null,null,"RC",null,"Afastamento**",null,null,null,null,null,null,null,"AF","Plantão Noite (12 hrs) *",null,null,null,null,null,null,"N"]
[]
["OBSERVAÇÕES:"]
["* Para inserção das legendas referentes às jornadas de trabalho, verificar a Tabela 1 do Anexo do Memorando-Circular - SEI nº   25 /2018/CAP/DGP-EBSERH."]
["** Para inserção das legendas referentes aos Afastamentos previstos em lei e às Compensações de horas, verificar a Tabela 2 do Anexo do Memorando-Circular - SEI nº   25 /2018/CAP/DGP-EBSERH."]

{"sheet":"Novembro","index":10,"n_rows":53,"n_cols":82,"rows_kept":53,"cut":false,"hidden":false,"merged":[[45,20,45,26],[46,2,46,8],[46,9,46,10],[46,11,46,18],[46,20,46,26],[45,2,45,8],[45,9,45,10],[47,20,47,26],[48,2,48,8],[48,9,48,10],[48,11,48,18],[48,20,48,26],[40,0,40,11],[41,0,41,11],[42,0,42,11],[47,2,47,8],[47,9,47,10],[47,11,47,18],[45,11,45,18],[1,0,1,42],[2,0,2,42],[3,0,3,42],[4,1,4,20],[4,23,4,34],[4,37,4,42],[5,6,5,11],[6,76,7,76],[6,77,7,77],[6,78,7,78],[6,79,7,79],[6,6,7,6],[6,7,7,7],[6,8,7,8],[6,11,7,11],[6,9,7,9],[6,10,7,10],[6,80,7,80],[6,81,7,81],[5,12,5,42],[5,43,5,73],[5,75,5,81],[5,74,7,74],[6,75,7,75],[40,79,42,79],[40,80,42,80],[40,81,42,81],[45,28,45,34],[46,28,46,34],[40,74,42,74],[40,75,42,75],[40,76,42,76],[40,77,42,77],[40,78,42,78]]}
[]
[]
["NOME DO HU"]
["ESCALA MENSAL DE TRABALHO"]
["DIVISÃO /SETOR/UNIDADE:","Unidade de Cuidados Intensivos e Semi-Intensivos Adulto",null,null,null,null,null,null,null,null,null,null,null,null,null,null,null,null,null,null,null,"MÊS:",null,"Novembro",null,null,null,null,null,null,null,null,null,null,null,"ANO:",null,2020]
["NOME COMPLETO","SIAPE","     Registro Conselho Classe","Cargo","Vínculo","    C.H Sem","INTERVALO",null,null,null,null,null,"DIAS DO MÊS",null,null,null,null,null,null,null,null,null,null,null,null,null,null,null,null,null,null,null,null,null,null,null,null,null,null,null,null,null,null,"CÁLCULO DAS HORAS",null,null,null,null,null,null,null,null,null,null,null,null,null,null,null,null,null,null,null,null,null,null,null,null,null,null,null,null,null,null,"CH Men.","Dias"]
[null,null,null,null,null,null,"15' M","15' T","15' N","1H D","1H N","2H",1,2,3,4,5,6,7,8,9,10,11,12,13,14,15,16,17,18,19,20,21,22,23,24,25,{"$f":"IF(DAY(DATE(AL5,VLOOKUP(X5,Tabelas!M:N,2,0)+1,1)-1)>=26,26,\"\")","v":26},{"$f":"IF(DAY(DATE(AL5,VLOOKUP(X5,Tabelas!M:N,2,0)+1,1)-1)>=27,27,\"\")","v":27},{"$f":"IF(DAY(DATE(AL5,VLOOKUP(X5,Tabelas!M:N,2,0)+1,1)-1)>=28,28,\"\")","v":28},{"$f":"IF(DAY(DATE(AL5,VLOOKUP(X5,Tabelas!M:N,2,0)+1,1)-1)>=29,29,\"\")","v":29},{"$f":"IF(DAY(DATE(AL5,VLOOKUP(X5,Tabelas!M:N,2,0)+1,1)-1)>=30,30,\"\")","v":30},{"$f":"IF(DAY(DATE(AL5,VLOOKUP(X5,Tabelas!M:N,2,0)+1,1)-1)>=31,31,\"\")","v":""},null,null,null,null,null,null,null,null,null,null,null,null,null,null,null,null,null,null,null,null,null,null,null,null,null,null,null,null,null,null,null,null,"LM/LP/L","AB","FE","LC","CH","AF  "," Total Afast."]
[null,null,null,null,null,null,null,null,null,null,null,null,{"$f":"IF(M7<>\"\",IFERROR(VLOOKUP(WEEKDAY(CONCATENATE(M7,$X$5,$AL$5)),Tabelas!$I:$J,2,0),\"\"),\"\")","v":"DOM"},{"$f":"IF(N7<>\"\",IFERROR(VLOOKUP(WEEKDAY(CONCATENATE(N7,$X$5,$AL$5)),Tabelas!$I:$J,2,0),\"\"),\"\")","v":"SEG"},{"$f":"IF(O7<>\"\",IFERROR(VLOOKUP(WEEKDAY(CONCATENATE(O7,$X$5,$AL$5)),Tabelas!$I:$J,2,0),\"\"),\"\")","v":"TER"},{"$f":"IF(P7<>\"\",IFERROR(VLOOKUP(WEEKDAY(CONCATENATE(P7,$X$5,$AL$5)),Tabelas!$I:$J,2,0),\"\"),\"\")","v":"QUA"},{"$f":"IF(Q7<>\"\",IFERROR(VLOOKUP(WEEKDAY(CONCATENATE(Q7,$X$5,$AL$5)),Tabelas!$I:$J,2,0),\"\"),\"\")","v":"QUI"},{"$f":"IF(R7<>\"\",IFERROR(VLOOKUP(WEEKDAY(CONCATENATE(R7,$X$5,$AL$5)),Tabelas!$I:$J,2,0),\"\"),\"\")","v":"SEX"},{"$f":"IF(S7<>\"\",IFERROR(VLOOKUP(WEEKDAY(CONCATENATE(S7,$X$5,$AL$5)),Tabelas!$I:$J,2,0),\"\"),\"\")","v":"SAB"},{"$f":"IF(T7<>\"\",IFERROR(VLOOKUP(WEEKDAY(CONCATENATE(T7,$X$5,$AL$5)),Tabelas!$I:$J,2,0),\"\"),\"\")","v":"DOM"},{"$f":"IF(U7<>\"\",IFERROR(VLOOKUP(WEEKDAY(CONCATENATE(U7,$X$5,$AL$5)),Tabelas!$I:$J,2,0),\"\"),\"\")","v":"SEG"},{"$f":"IF(V7<>\"\",IFERROR(VLOOKUP(WEEKDAY(CONCATENATE(V7,$X$5,$AL$5)),Tabelas!$I:$J,2,0),\"\"),\"\")","v":"TER"},{"$f":"IF(W7<>\"\",IFERROR(VLOOKUP(WEEKDAY(CONCATENATE(W7,$X$5,$AL$5)),Tabelas!$I:$J,2,0),\"\"),\"\")","v":"QUA"},{"$f":"IF(X7<>\"\",IFERROR(VLOOKUP(WEEKDAY(CONCATENATE(X7,$X$5,$AL$5)),Tabelas!$I:$J,2,0),\"\"),\"\")","v":"QUI"},{"$f":"IF(Y7<>\"\",IFERROR(VLOOKUP(WEEKDAY(CONCATENATE(Y7,$X$5,$AL$5)),Tabelas!$I:$J,2,0),\"\"),\"\")","v":"SEX"},{"$f":"IF(Z7<>\"\",IFERROR(VLOOKUP(WEEKDAY(CONCATENATE(Z7,$X$5,$AL$5)),Tabelas!$I:$J,2,0),\"\"),\"\")","v":"SAB"},{"$f":"IF(AA7<>\"\",IFERROR(VLOOKUP(WEEKDAY(CONCATENATE(AA7,$X$5,$AL$5)),Tabelas!$I:$J,2,0),\"\"),\"\")","v":"DOM"},{"$f":"IF(AB7<>\"\",IFERROR(VLOOKUP(WEEKDAY(CONCATENATE(AB7,$X$5,$AL$5)),Tabelas!$I:$J,2,0),\"\"),\"\")","v":"SEG"},{"$f":"IF(AC7<>\"\",IFERROR(VLOOKUP(WEEKDAY(CONCATENATE(AC7,$X$5,$AL$5)),Tabelas!$I:$J,2,0),\"\"),\"\")","v":"TER"},{"$f":"IF(AD7<>\"\",IFERROR(VLOOKUP(WEEKDAY(CONCATENATE(AD7,$X$5,$AL$5)),Tabelas!$I:$J,2,0),\"\"),\"\")","v":"QUA"},{"$f":"IF(AE7<>\"\",IFERROR(VLOOKUP(WEEKDAY(CONCATENATE(AE7,$X$5,$AL$5)),Tabelas!$I:$J,2,0),\"\"),\"\")","v":"QUI"},{"$f":"IF(AF7<>\"\",IFERROR(VLOOKUP(WEEKDAY(CONCATENATE(AF7,$X$5,$AL$5)),Tabelas!$I:$J,2,0),\"\"),\"\")","v":"SEX"},{"$f":"IF(AG7<>\"\",IFERROR(VLOOKUP(WEEKDAY(CONCATENATE(AG7,$X$5,$AL$5)),Tabelas!$I:$J,2,0),\"\"),\"\")","v":"SAB"},{"$f":"IF(AH7<>\"\",IFERROR(VLOOKUP(WEEKDAY(CONCATENATE(AH7,$X$5,$AL$5)),Tabelas!$I:$J,2,0),\"\"),\"\")","v":"DOM"},{"$f":"IF(AI7<>\"\",IFERROR(VLOOKUP(WEEKDAY(CONCATENATE(AI7,$X$5,$AL$5)),Tabelas!$I:$J,2,0),\"\"),\"\")","v":"SEG"},{"$f":"IF(AJ7<>\"\",IFERROR(VLOOKUP(WEEKDAY(CONCATENATE(AJ7,$X$5,$AL$5)),Tabelas!$I:$J,2,0),\"\"),\"\")","v":"TER"},{"$f":"IF(AK7<>\"\",IFERROR(VLOOKUP(WEEKDAY(CONCATENATE(AK7,$X$5,$AL$5)),Tabelas!$I:$J,2,0),\"\"),\"\")","v":"QUA"},{"$f":"IF(AL7<>\"\",IFERROR(VLOOKUP(WEEKDAY(CONCATENATE(AL7,$X$5,$AL$5)),Tabelas!$I:$J,2,0),\"\"),\"\")","v":"QUI"},{"$f":"IF(AM7<>\"\",IFERROR(VLOOKUP(WEEKDAY(CONCATENATE(AM7,$X$5,$AL$5)),Tabelas!$I:$J,2,0),\"\"),\"\")","v":"SEX"},{"$f":"IF(AN7<>\"\",IFERROR(VLOOKUP(WEEKDAY(CONCATENATE(AN7,$X$5,$AL$5)),Tabelas!$I:$J,2,0),\"\"),\"\")","v":"SAB"},{"$f":"IF(AO7<>\"\",IFERROR(VLOOKUP(WEEKDAY(CONCATENATE(AO7,$X$5,$AL$5)),Tabelas!$I:$J,2,0),\"\"),\"\")","v":"DOM"},{"$f":"IF(AP7<>\"\",IFERROR(VLOOKUP(WEEKDAY(CONCATENATE(AP7,$X$5,$AL$5)),Tabelas!$I:$J,2,0),\"\"),\"\")","v":"SEG"},{"$f":"IF(AQ7<>\"\",IFERROR(VLOOKUP(WEEKDAY(CONCATENATE(AQ7,$X$5,$AL$5)),Tabelas!$I:$J,2,0),\"\"),\"\")","v":""},1,2,3,4,5,6,7,8,9,10,11,12,13,14,15,16,17,18,19,20,21,22,23,24,25,26,27,28,29,30,31]
["ROTINA",null,null,null,null,null,null,null,null,null,null,null,null,null,null,null,null,null,null,null,null,null,null,null,null,null,null,null,null,null,null,null,null,null,null,null,null,null,null,null,null,null,null,{"$f":"IF(A9<>\"\",IFERROR(VLOOKUP(M9,Tabelas!B:D,3,0),0),\"\")","v":0},{"$f":"IF(A9<>\"\",IFERROR(VLOOKUP(N9,Tabelas!B:D,3,0),0),\"\")","v":0},{"$f":"IF(A9<>\"\",IFERROR(VLOOKUP(O9,Tabelas!B:D,3,0),0),\"\")","v":0},{"$f":"IF(A9<>\"\",IFERROR(VLOOKUP(P9,Tabelas!B:D,3,0),0),\"\")","v":0},{"$f":"IF(A9<>\"\",IFERROR(VLOOKUP(Q9,Tabelas!B:D,3,0),0),\"\")","v":0},{"$f":"IF(A9<>\"\",IFERROR(VLOOKUP(R9,Tabelas!B:D,3,0),0),\"\")","v":0},{"$f":"IF(A9<>\"\",IFERROR(VLOOKUP(S9,Tabelas!B:D,3,0),0),\"\")","v":0},{"$f":"IF(A9<>\"\",IFERROR(VLOOKUP(T9,Tabelas!B:D,3,0),0),\"\")","v":0},{"$f":"IF(A9<>\"\",IFERROR(VLOOKUP(U9,Tabelas!B:D,3,0),0),\"\")","v":0},{"$f":"IF(A9<>\"\",IFERROR(VLOOKUP(V9,Tabelas!B:D,3,0),0),\"\")","v":0},{"$f":"IF(A9<>\"\",IFERROR(VLOOKUP(W9,Tabelas!B:D,3,0),0),\"\")","v":0},{"$f":"IF(A9<>\"\",IFERROR(VLOOKUP(X9,Tabelas!B:D,3,0),0),\"\")","v":0},{"$f":"IF(A9<>\"\",IFERROR(VLOOKUP(Y9,Tabelas!B:D,3,0),0),\"\")","v":0},{"$f":"IF(A9<>\"\",IFERROR(VLOOKUP(Z9,Tabelas!B:D,3,0),0),\"\")","v":0},{"$f":"IF(A9<>\"\",IFERROR(VLOOKUP(AA9,Tabelas!B:D,3,0),0),\"\")","v":0},{"$f":"IF(A9<>\"\",IFERROR(VLOOKUP(AB9,Tabelas!B:D,3,0),0),\"\")","v":0},{"$f":"IF(A9<>\"\",IFERROR(VLOOKUP(AC9,Tabelas!B:D,3,0),0),\"\")","v":0},{"$f":"IF(A9<>\"\",IFERROR(VLOOKUP(AD9,Tabelas!B:D,3,0),0),\"\")","v":0},{"$f":"IF(A9<>\"\",IFERROR(VLOOKUP(AE9,Tabelas!B:D,3,0),0),\"\")","v":0},{"$f":"IF(A9<>\"\",IFERROR(VLOOKUP(AF9,Tabelas!B:D,3,0),0),\"\")","v":0},{"$f":"IF(A9<>\"\",IFERROR(VLOOKUP(AG9,Tabelas!B:D,3,0),0),\"\")","v":0},{"$f":"IF(A9<>\"\",IFERROR(VLOOKUP(AH9,Tabelas!B:D,3,0),0),\"\")","v":0},{"$f":"IF(A9<>\"\",IFERROR(VLOOKUP(AI9,Tabelas!B:D,3,0),0),\"\")","v":0},{"$f":"IF(A9<>\"\",IFERROR(VLOOKUP(AJ9,Tabelas!B:D,3,0),0),\"\")","v":0},{"$f":"IF(A9<>\"\",IFERROR(VLOOKUP(AK9,Tabelas!B:D,3,0),0),\"\")","v":0},{"$f":"IF(A9<>\"\",IFERROR(VLOOKUP(AL9,Tabelas!B:D,3,0),0),\"\")","v":0},{"$f":"IF(A9<>\"\",IFERROR(VLOOKUP(AM9,Tabelas!B:D,3,0),0),\"\")","v":0},{"$f":"IF(A9<>\"\",IFERROR(VLOOKUP(AN9,Tabelas!B:D,3,0),0),\"\")","v":0},{"$f":"IF(A9<>\"\",IFERROR(VLOOKUP(AO9,Tabelas!B:D,3,0),0),\"\")","v":0},{"$f":"IF(A9<>\"\",IFERROR(VLOOKUP(AP9,Tabelas!B:D,3,0),0),\"\")","v":0},{"$f":"IF(A9<>\"\",IFERROR(VLOOKUP(AQ9,Tabelas!B:D,3,0),0),\"\")","v":0},{"$f":"IF(AND(A9<>\"\",E9=\"Ebserh\"),SUM(AR9:BV9)+COUNTIF(M9:AQ9,\"N*\")+COUNTIF(M9:AQ9,\"DN*\"),IF(AND(A9<>\"\",E9<>\"Ebserh\"),SUM(AR9:BV9),\"\"))","v":0},{"$f":"IF(A9<>\"\",COUNTIF(M9:AQ9,\"LM\")+COUNTIF(M9:AQ9,\"L\")+COUNTIF(M9:AQ9,\"LP\"),\"\")","v":0},{"$f":"IF(A9<>\"\",COUNTIF(M9:AQ9,\"AB*\"),\"\")","v":0},{"$f":"IF(A9<>\"\",COUNTIF(M9:AQ9,\"FE\"),\"\")","v":0},{"$f":"IF(A9<>\"\",COUNTIF(M9:AQ9,\"LC\"),\"\")","v":0},{"$f":"IF(A9<>\"\",COUNTIF(M9:AQ9,\"CH*\"),\"\")","v":0},{"$f":"IF(A9<>\"\",COUNTIF(M9:AQ9,\"AF1\")+COUNTIF(M9:AQ9,\"AF2\")+COUNTIF(M9:AQ9,\"AF3\")+COUNTIF(M9:AQ9,\"AF4\")+COUNTIF(M9:AQ9,\"AF5\")+COUNTIF(M9:AQ9,\"AF6\")+COUNTIF(M9:AQ9,\"AF7\")+COUNTIF(M9:AQ9,\"AF8\")+COUNTIF(M9:AQ9,\"AF9\")+COUNTIF(M9:AQ9,\"AF10\")+COUNTIF(M9:AQ9,\"AF11\")+COUNTIF(M9:AQ9,\"AF12\")+COUNTIF(M9:AQ9,\"AF13\")+COUNTIF(M9:AQ9,\"AF14\"),\"\")","v":0},{"$f":"IF(A9<>\"\",COUNTIF(M9:AQ9,\"CH*\")+COUNTIF(M9:AQ9,\"L\")+COUNTIF(M9:AQ9,\"LM\")+COUNTIF(M9:AQ9,\"LP\")+COUNTIF(M9:AQ9,\"LC\")+COUNTIF(M9:AQ9,\"AB*\")+COUNTIF(M9:AQ9,\"AF1\")+COUNTIF(M9:AQ9,\"AF2\")+COUNTIF(M9:AQ9,\"AF3\")+COUNTIF(M9:AQ9,\"AF4\")+COUNTIF(M9:AQ9,\"AF5\")+COUNTIF(M9:AQ9,\"AF6\")+COUNTIF(M9:AQ9,\"AF7\")+COUNTIF(M9:AQ9,\"AF8\")+COUNTIF(M9:AQ9,\"AF9\")+COUNTIF(M9:AQ9,\"AF10\")+COUNTIF(M9:AQ9,\"AF11\")+COUNTIF(M9:AQ9,\"AF12\")+COUNTIF(M9:AQ9,\"AF13\")+COUNTIF(M9:AQ9,\"AF14\")+COUNTIF(M9:AQ9,\"RC\")+COUNTIF(M9:AQ9,\"FO\")+COUNTIF(M9:AQ9,\"FE\"),\"\")","v":0}]
["Alexandre Luciano Klein",2312539,null,"ME","RJU",30,null,null,null,null,null,null,null,null,"M17","M17","M17","M17",null,null,"M17","M17","M17","M20","M17",null,null,"M17","M17","M17","M17","M17",null,null,"M17","M17","M17","M17","M17",null,null,"M17",null,{"$f":"IF(A10<>\"\",IFERROR(VLOOKUP(M10,Tabelas!B:D,3,0),0),\"\")","v":0},{"$f":"IF(A10<>\"\",IFERROR(VLOOKUP(N10,Tabelas!B:D,3,0),0),\"\")","v":0},{"$f":"IF(A10<>\"\",IFERROR(VLOOKUP(O10,Tabelas!B:D,3,0),0),\"\")","v":6},{"$f":"IF(A10<>\"\",IFERROR(VLOOKUP(P10,Tabelas!B:D,3,0),0),\"\")","v":6},{"$f":"IF(A10<>\"\",IFERROR(VLOOKUP(Q10,Tabelas!B:D,3,0),0),\"\")","v":6},{"$f":"IF(A10<>\"\",IFERROR(VLOOKUP(R10,Tabelas!B:D,3,0),0),\"\")","v":6},{"$f":"IF(A10<>\"\",IFERROR(VLOOKUP(S10,Tabelas!B:D,3,0),0),\"\")","v":0},{"$f":"IF(A10<>\"\",IFERROR(VLOOKUP(T10,Tabelas!B:D,3,0),0),\"\")","v":0},{"$f":"IF(A10<>\"\",IFERROR(VLOOKUP(U10,Tabelas!B:D,3,0),0),\"\")","v":6},{"$f":"IF(A10<>\"\",IFERROR(VLOOKUP(V10,Tabelas!B:D,3,0),0),\"\")","v":6},{"$f":"IF(A10<>\"\",IFERROR(VLOOKUP(W10,Tabelas!B:D,3,0),0),\"\")","v":6},{"$f":"IF(A10<>\"\",IFERROR(VLOOKUP(X10,Tabelas!B:D,3,0),0),\"\")","v":0},{"$f":"IF(A10<>\"\",IFERROR(VLOOKUP(Y10,Tabelas!B:D,3,0),0),\"\")","v":6},{"$f":"IF(A10<>\"\",IFERROR(VLOOKUP(Z10,Tabelas!B:D,3,0),0),\"\")","v":0},{"$f":"IF(A10<>\"\",IFERROR(VLOOKUP(AA10,Tabelas!B:D,3,0),0),\"\")","v":0},{"$f":"IF(A10<>\"\",IFERROR(VLOOKUP(AB10,Tabelas!B:D,3,0),0),\"\")","v":6},{"$f":"IF(A10<>\"\",IFERROR(VLOOKUP(AC10,Tabelas!B:D,3,0),0),\"\")","v":6},{"$f":"IF(A10<>\"\",IFERROR(VLOOKUP(AD10,Tabelas!B:D,3,0),0),\"\")","v":6},{"$f":"IF(A10<>\"\",IFERROR(VLOOKUP(AE10,Tabelas!B:D,3,0),0),\"\")","v":6},{"$f":"IF(A10<>\"\",IFERROR(VLOOKUP(AF10,Tabelas!B:D,3,0),0),\"\")","v":6},{"$f":"IF(A10<>\"\",IFERROR(VLOOKUP(AG10,Tabelas!B:D,3,0),0),\"\")","v":0},{"$f":"IF(A10<>\"\",IFERROR(VLOOKUP(AH10,Tabelas!B:D,3,0),0),\"\")","v":0},{"$f":"IF(A10<>\"\",IFERROR(VLOOKUP(AI10,Tabelas!B:D,3,0),0),\"\")","v":6},{"$f":"IF(A10<>\"\",IFERROR(VLOOKUP(AJ10,Tabelas!B:D,3,0),0),\"\")","v":6},{"$f":"IF(A10<>\"\",IFERROR(VLOOKUP(AK10,Tabelas!B:D,3,0),0),\"\")","v":6},{"$f":"IF(A10<>\"\",IFERROR(VLOOKUP(AL10,Tabelas!B:D,3,0),0),\"\")","v":6},{"$f":"IF(A10<>\"\",IFERROR(VLOOKUP(AM10,Tabelas!B:D,3,0),0),\"\")","v":6},{"$f":"IF(A10<>\"\",IFERROR(VLOOKUP(AN10,Tabelas!B:D,3,0),0),\"\")","v":0},{"$f":"IF(A10<>\"\",IFERROR(VLOOKUP(AO10,Tabelas!B:D,3,0),0),\"\")","v":0},{"$f":"IF(A10<>\"\",IFERROR(VLOOKUP(AP10,Tabelas!B:D,3,0),0),\"\")","v":6},{"$f":"IF(A10<>\"\",IFERROR(VLOOKUP(AQ10,Tabelas!B:D,3,0),0),\"\")","v":0},114,0,0,0,0,0,0,0]
["Alexandre Luciano Klein",3312539,null,"ME","RJU",20,null,null,null,null,null,null,null,null,"T17","T17","T17",null,null,null,"T17",null,"T17","T17",null,null,null,"T17","T17","T17","T17",null,null,null,"T17",null,"T17","T17",null,null,null,"T17",null,{"$f":"IF(A11<>\"\",IFERROR(VLOOKUP(M11,Tabelas!B:D,3,0),0),\"\")","v":0},{"$f":"IF(A11<>\"\",IFERROR(VLOOKUP(N11,Tabelas!B:D,3,0),0),\"\")","v":0},{"$f":"IF(A11<>\"\",IFERROR(VLOOKUP(O11,Tabelas!B:D,3,0),0),\"\")","v":6},{"$f":"IF(A11<>\"\",IFERROR(VLOOKUP(P11,Tabelas!B:D,3,0),0),\"\")","v":6},{"$f":"IF(A11<>\"\",IFERROR(VLOOKUP(Q11,Tabelas!B:D,3,0),0),\"\")","v":6},{"$f":"IF(A11<>\"\",IFERROR(VLOOKUP(R11,Tabelas!B:D,3,0),0),\"\")","v":0},{"$f":"IF(A11<>\"\",IFERROR(VLOOKUP(S11,Tabelas!B:D,3,0),0),\"\")","v":0},{"$f":"IF(A11<>\"\",IFERROR(VLOOKUP(T11,Tabelas!B:D,3,0),0),\"\")","v":0},{"$f":"IF(A11<>\"\",IFERROR(VLOOKUP(U11,Tabelas!B:D,3,0),0),\"\")","v":6},{"$f":"IF(A11<>\"\",IFERROR(VLOOKUP(V11,Tabelas!B:D,3,0),0),\"\")","v":0},{"$f":"IF(A11<>\"\",IFERROR(VLOOKUP(W11,Tabelas!B:D,3,0),0),\"\")","v":6},{"$f":"IF(A11<>\"\",IFERROR(VLOOKUP(X11,Tabelas!B:D,3,0),0),\"\")","v":6},{"$f":"IF(A11<>\"\",IFERROR(VLOOKUP(Y11,Tabelas!B:D,3,0),0),\"\")","v":0},{"$f":"IF(A11<>\"\",IFERROR(VLOOKUP(Z11,Tabelas!B:D,3,0),0),\"\")","v":0},{"$f":"IF(A11<>\"\",IFERROR(VLOOKUP(AA11,Tabelas!B:D,3,0),0),\"\")","v":0},{"$f":"IF(A11<>\"\",IFERROR(VLOOKUP(AB11,Tabelas!B:D,3,0),0),\"\")","v":6},{"$f":"IF(A11<>\"\",IFERROR(VLOOKUP(AC11,Tabelas!B:D,3,0),0),\"\")","v":6},{"$f":"IF(A11<>\"\",IFERROR(VLOOKUP(AD11,Tabelas!B:D,3,0),0),\"\")","v":6},{"$f":"IF(A11<>\"\",IFERROR(VLOOKUP(AE11,Tabelas!B:D,3,0),0),\"\")","v":6},{"$f":"IF(A11<>\"\",IFERROR(VLOOKUP(AF11,Tabelas!B:D,3,0),0),\"\")","v":0},{"$f":"IF(A11<>\"\",IFERROR(VLOOKUP(AG11,Tabelas!B:D,3,0),0),\"\")","v":0},{"$f":"IF(A11<>\"\",IFERROR(VLOOKUP(AH11,Tabelas!B:D,3,0),0),\"\")","v":0},{"$f":"IF(A11<>\"\",IFERROR(VLOOKUP(AI11,Tabelas!B:D,3,0),0),\"\")","v":6},{"$f":"IF(A11<>\"\",IFERROR(VLOOKUP(AJ11,Tabelas!B:D,3,0),0),\"\")","v":0},{"$f":"IF(A11<>\"\",IFERROR(VLOOKUP(AK11,Tabelas!B:D,3,0),0),\"\")","v":6},{"$f":"IF(A11<>\"\",IFERROR(VLOOKUP(AL11,Tabelas!B:D,3,0),0),\"\")","v":6},{"$f":"IF(A11<>\"\",IFERROR(VLOOKUP(AM11,Tabelas!B:D,3,0),0),\"\")","v":0},{"$f":"IF(A11<>\"\",IFERROR(VLOOKUP(AN11,Tabelas!B:D,3,0),0),\"\")","v":0},{"$f":"IF(A11<>\"\",IFERROR(VLOOKUP(AO11,Tabelas!B:D,3,0),0),\"\")","v":0},{"$f":"IF(A11<>\"\",IFERROR(VLOOKUP(AP11,Tabelas!B:D,3,0),0),\"\")","v":6},{"$f":"IF(A11<>\"\",IFERROR(VLOOKUP(AQ11,Tabelas!B:D,3,0),0),\"\")","v":0},84,0,0,0,0,0,0,0]
["Alice Danielle Correa Mendes Pinto",1357071,null,"ME","RJU",30,null,null,null,null,null,null,null,null,"M17","M17","M17","M17",null,null,"M17","M17","FE","FE","FE","FE","FE","FE","FE","FE","FE","FE",null,null,"M17","M17","M17","M17","M17",null,null,"M17",null,{"$f":"IF(A12<>\"\",IFERROR(VLOOKUP(M12,Tabelas!B:D,3,0),0),\"\")","v":0},{"$f":"IF(A12<>\"\",IFERROR(VLOOKUP(N12,Tabelas!B:D,3,0),0),\"\")","v":0},{"$f":"IF(A12<>\"\",IFERROR(VLOOKUP(O12,Tabelas!B:D,3,0),0),\"\")","v":6},{"$f":"IF(A12<>\"\",IFERROR(VLOOKUP(P12,Tabelas!B:D,3,0),0),\"\")","v":6},{"$f":"IF(A12<>\"\",IFERROR(VLOOKUP(Q12,Tabelas!B:D,3,0),0),\"\")","v":6},{"$f":"IF(A12<>\"\",IFERROR(VLOOKUP(R12,Tabelas!B:D,3,0),0),\"\")","v":6},{"$f":"IF(A12<>\"\",IFERROR(VLOOKUP(S12,Tabelas!B:D,3,0),0),\"\")","v":0},{"$f":"IF(A12<>\"\",IFERROR(VLOOKUP(T12,Tabelas!B:D,3,0),0),\"\")","v":0},{"$f":"IF(A12<>\"\",IFERROR(VLOOKUP(U12,Tabelas!B:D,3,0),0),\"\")","v":6},{"$f":"IF(A12<>\"\",IFERROR(VLOOKUP(V12,Tabelas!B:D,3,0),0),\"\")","v":6},{"$f":"IF(A12<>\"\",IFERROR(VLOOKUP(W12,Tabelas!B:D,3,0),0),\"\")","v":0},{"$f":"IF(A12<>\"\",IFERROR(VLOOKUP(X12,Tabelas!B:D,3,0),0),\"\")","v":0},{"$f":"IF(A12<>\"\",IFERROR(VLOOKUP(Y12,Tabelas!B:D,3,0),0),\"\")","v":0},{"$f":"IF(A12<>\"\",IFERROR(VLOOKUP(Z12,Tabelas!B:D,3,0),0),\"\")","v":0},{"$f":"IF(A12<>\"\",IFERROR(VLOOKUP(AA12,Tabelas!B:D,3,0),0),\"\")","v":0},{"$f":"IF(A12<>\"\",IFERROR(VLOOKUP(AB12,Tabelas!B:D,3,0),0),\"\")","v":0},{"$f":"IF(A12<>\"\",IFERROR(VLOOKUP(AC12,Tabelas!B:D,3,0),0),\"\")","v":0},{"$f":"IF(A12<>\"\",IFERROR(VLOOKUP(AD12,Tabelas!B:D,3,0),0),\"\")","v":0},{"$f":"IF(A12<>\"\",IFERROR(VLOOKUP(AE12,Tabelas!B:D,3,0),0),\"\")","v":0},{"$f":"IF(A12<>\"\",IFERROR(VLOOKUP(AF12,Tabelas!B:D,3,0),0),\"\")","v":0},{"$f":"IF(A12<>\"\",IFERROR(VLOOKUP(AG12,Tabelas!B:D,3,0),0),\"\")","v":0},{"$f":"IF(A12<>\"\",IFERROR(VLOOKUP(AH12,Tabelas!B:D,3,0),0),\"\")","v":0},{"$f":"IF(A12<>\"\",IFERROR(VLOOKUP(AI12,Tabelas!B:D,3,0),0),\"\")","v":6},{"$f":"IF(A12<>\"\",IFERROR(VLOOKUP(AJ12,Tabelas!B:D,3,0),0),\"\")","v":6},{"$f":"IF(A12<>\"\",IFERROR(VLOOKUP(AK12,Tabelas!B:D,3,0),0),\"\")","v":6},{"$f":"IF(A12<>\"\",IFERROR(VLOOKUP(AL12,Tabelas!B:D,3,0),0),\"\")","v":6},{"$f":"IF(A12<>\"\",IFERROR(VLOOKUP(AM12,Tabelas!B:D,3,0),0),\"\")","v":6},{"$f":"IF(A12<>\"\",IFERROR(VLOOKUP(AN12,Tabelas!B:D,3,0),0),\"\")","v":0},{"$f":"IF(A12<>\"\",IFERROR(VLOOKUP(AO12,Tabelas!B:D,3,0),0),\"\")","v":0},{"$f":"IF(A12<>\"\",IFERROR(VLOOKUP(AP12,Tabelas!B:D,3,0),0),\"\")","v":6},{"$f":"IF(A12<>\"\",IFERROR(VLOOKUP(AQ12,Tabelas!B:D,3,0),0),\"\")","v":0},72,0,0,10,0,0,0,10]
["Gina Vieira Velho",1185798,null,"ME","RJU",20,null,null,null,null,null,null,null,null,"M17","M17","M17","M17",null,null,"M17","M17","M17","M17","M17",null,null,"M17","M17","M17","M17","M17",null,null,"M17","M17","M17","M17","M17",null,null,"M17",null,{"$f":"IF(A13<>\"\",IFERROR(VLOOKUP(M13,Tabelas!B:D,3,0),0),\"\")","v":0},{"$f":"IF(A13<>\"\",IFERROR(VLOOKUP(N13,Tabelas!B:D,3,0),0),\"\")","v":0},{"$f":"IF(A13<>\"\",IFERROR(VLOOKUP(O13,Tabelas!B:D,3,0),0),\"\")","v":6},{"$f":"IF(A13<>\"\",IFERROR(VLOOKUP(P13,Tabelas!B:D,3,0),0),\"\")","v":6},{"$f":"IF(A13<>\"\",IFERROR(VLOOKUP(Q13,Tabelas!B:D,3,0),0),\"\")","v":6},{"$f":"IF(A13<>\"\",IFERROR(VLOOKUP(R13,Tabelas!B:D,3,0),0),\"\")","v":6},{"$f":"IF(A13<>\"\",IFERROR(VLOOKUP(S13,Tabelas!B:D,3,0),0),\"\")","v":0},{"$f":"IF(A13<>\"\",IFERROR(VLOOKUP(T13,Tabelas!B:D,3,0),0),\"\")","v":0},{"$f":"IF(A13<>\"\",IFERROR(VLOOKUP(U13,Tabelas!B:D,3,0),0),\"\")","v":6},{"$f":"IF(A13<>\"\",IFERROR(VLOOKUP(V13,Tabelas!B:D,3,0),0),\"\")","v":6},{"$f":"IF(A13<>\"\",IFERROR(VLOOKUP(W13,Tabelas!B:D,3,0),0),\"\")","v":6},{"$f":"IF(A13<>\"\",IFERROR(VLOOKUP(X13,Tabelas!B:D,3,0),0),\"\")","v":6},{"$f":"IF(A13<>\"\",IFERROR(VLOOKUP(Y13,Tabelas!B:D,3,0),0),\"\")","v":6},{"$f":"IF(A13<>\"\",IFERROR(VLOOKUP(Z13,Tabelas!B:D,3,0),0),\"\")","v":0},{"$f":"IF(A13<>\"\",IFERROR(VLOOKUP(AA13,Tabelas!B:D,3,0),0),\"\")","v":0},{"$f":"IF(A13<>\"\",IFERROR(VLOOKUP(AB13,Tabelas!B:D,3,0),0),\"\")","v":6},{"$f":"IF(A13<>\"\",IFERROR(VLOOKUP(AC13,Tabelas!B:D,3,0),0),\"\")","v":6},{"$f":"IF(A13<>\"\",IFERROR(VLOOKUP(AD13,Tabelas!B:D,3,0),0),\"\")","v":6},{"$f":"IF(A13<>\"\",IFERROR(VLOOKUP(AE13,Tabelas!B:D,3,0),0),\"\")","v":6},{"$f":"IF(A13<>\"\",IFERROR(VLOOKUP(AF13,Tabelas!B:D,3,0),0),\"\")","v":6},{"$f":"IF(A13<>\"\",IFERROR(VLOOKUP(AG13,Tabelas!B:D,3,0),0),\"\")","v":0},{"$f":"IF(A13<>\"\",IFERROR(VLOOKUP(AH13,Tabelas!B:D,3,0),0),\"\")","v":0},{"$f":"IF(A13<>\"\",IFERROR(VLOOKUP(AI13,Tabelas!B:D,3,0),0),\"\")","v":6},{"$f":"IF(A13<>\"\",IFERROR(VLOOKUP(AJ13,Tabelas!B:D,3,0),0),\"\")","v":6},{"$f":"IF(A13<>\"\",IFERROR(VLOOKUP(AK13,Tabelas!B:D,3,0),0),\"\")","v":6},{"$f":"IF(A13<>\"\",IFERROR(VLOOKUP(AL13,Tabelas!B:D,3,0),0),\"\")","v":6},{"$f":"IF(A13<>\"\",IFERROR(VLOOKUP(AM13,Tabelas!B:D,3,0),0),\"\")","v":6},{"$f":"IF(A13<>\"\",IFERROR(VLOOKUP(AN13,Tabelas!B:D,3,0),0),\"\")","v":0},{"$f":"IF(A13<>\"\",IFERROR(VLOOKUP(AO13,Tabelas!B:D,3,0),0),\"\")","v":0},{"$f":"IF(A13<>\"\",IFERROR(VLOOKUP(AP13,Tabelas!B:D,3,0),0),\"\")","v":6},{"$f":"IF(A13<>\"\",IFERROR(VLOOKUP(AQ13,Tabelas!B:D,3,0),0),\"\")","v":0},120,0,0,0,0,0,0,0]
["Rafael Lisboa de Souza",2344070,null,"ME","RJU",30,null,null,null,null,null,null,null,null,"M17","M17","M17","M17",null,null,"M17","M17","M17","M17","M17",null,null,"M17","M17","M17","M17","M17",null,null,"M17","M17","M17","M17","M17",null,null,"M17",null,{"$f":"IF(A14<>\"\",IFERROR(VLOOKUP(M14,Tabelas!B:D,3,0),0),\"\")","v":0},{"$f":"IF(A14<>\"\",IFERROR(VLOOKUP(N14,Tabelas!B:D,3,0),0),\"\")","v":0},{"$f":"IF(A14<>\"\",IFERROR(VLOOKUP(O14,Tabelas!B:D,3,0),0),\"\")","v":6},{"$f":"IF(A14<>\"\",IFERROR(VLOOKUP(P14,Tabelas!B:D,3,0),0),\"\")","v":6},{"$f":"IF(A14<>\"\",IFERROR(VLOOKUP(Q14,Tabelas!B:D,3,0),0),\"\")","v":6},{"$f":"IF(A14<>\"\",IFERROR(VLOOKUP(R14,Tabelas!B:D,3,0),0),\"\")","v":6},{"$f":"IF(A14<>\"\",IFERROR(VLOOKUP(S14,Tabelas!B:D,3,0),0),\"\")","v":0},{"$f":"IF(A14<>\"\",IFERROR(VLOOKUP(T14,Tabelas!B:D,3,0),0),\"\")","v":0},{"$f":"IF(A14<>\"\",IFERROR(VLOOKUP(U14,Tabelas!B:D,3,0),0),\"\")","v":6},{"$f":"IF(A14<>\"\",IFERROR(VLOOKUP(V14,Tabelas!B:D,3,0),0),\"\")","v":6},{"$f":"IF(A14<>\"\",IFERROR(VLOOKUP(W14,Tabelas!B:D,3,0),0),\"\")","v":6},{"$f":"IF(A14<>\"\",IFERROR(VLOOKUP(X14,Tabelas!B:D,3,0),0),\"\")","v":6},{"$f":"IF(A14<>\"\",IFERROR(VLOOKUP(Y14,Tabelas!B:D,3,0),0),\"\")","v":6},{"$f":"IF(A14<>\"\",IFERROR(VLOOKUP(Z14,Tabelas!B:D,3,0),0),\"\")","v":0},{"$f":"IF(A14<>\"\",IFERROR(VLOOKUP(AA14,Tabelas!B:D,3,0),0),\"\")","v":0},{"$f":"IF(A14<>\"\",IFERROR(VLOOKUP(AB14,Tabelas!B:D,3,0),0),\"\")","v":6},{"$f":"IF(A14<>\"\",IFERROR(VLOOKUP(AC14,Tabelas!B:D,3,0),0),\"\")","v":6},{"$f":"IF(A14<>\"\",IFERROR(VLOOKUP(AD14,Tabelas!B:D,3,0),0),\"\")","v":6},{"$f":"IF(A14<>\"\",IFERROR(VLOOKUP(AE14,Tabelas!B:D,3,0),0),\"\")","v":6},{"$f":"IF(A14<>\"\",IFERROR(VLOOKUP(AF14,Tabelas!B:D,3,0),0),\"\")","v":6},{"$f":"IF(A14<>\"\",IFERROR(VLOOKUP(AG14,Tabelas!B:D,3,0),0),\"\")","v":0},{"$f":"IF(A14<>\"\",IFERROR(VLOOKUP(AH14,Tabelas!B:D,3,0),0),\"\")","v":0},{"$f":"IF(A14<>\"\",IFERROR(VLOOKUP(AI14,Tabelas!B:D,3,0),0),\"\")","v":6},{"$f":"IF(A14<>\"\",IFERROR(VLOOKUP(AJ14,Tabelas!B:D,3,0),0),\"\")","v":6},{"$f":"IF(A14<>\"\",IFERROR(VLOOKUP(AK14,Tabelas!B:D,3,0),0),\"\")","v":6},{"$f":"IF(A14<>\"\",IFERROR(VLOOKUP(AL14,Tabelas!B:D,3,0),0),\"\")","v":6},{"$f":"IF(A14<>\"\",IFERROR(VLOOKUP(AM14,Tabelas!B:D,3,0),0),\"\")","v":6},{"$f":"IF(A14<>\"\",IFERROR(VLOOKUP(AN14,Tabelas!B:D,3,0),0),\"\")","v":0},{"$f":"IF(A14<>\"\",IFERROR(VLOOKUP(AO14,Tabelas!B:D,3,0),0),\"\")","v":0},{"$f":"IF(A14<>\"\",IFERROR(VLOOKUP(AP14,Tabelas!B:D,3,0),0),\"\")","v":6},{"$f":"IF(A14<>\"\",IFERROR(VLOOKUP(AQ14,Tabelas!B:D,3,0),0),\"\")","v":0},120,0,0,0,0,0,0,0]
["Karine Damiani Cabral (EMG)",null,null,"ME","RJU",12,null,null,null,null,null,null,"FE","FE","FE","FE","FE","FE","FE","FE","FE","FE","FE","FE","FE","FE","FE","FE","FE","T17","T17","T17",null,null,"T17","T17","T17","T17","T17",null,null,"T17",null,{"$f":"IF(A15<>\"\",IFERROR(VLOOKUP(M15,Tabelas!B:D,3,0),0),\"\")","v":0},{"$f":"IF(A15<>\"\",IFERROR(VLOOKUP(N15,Tabelas!B:D,3,0),0),\"\")","v":0},{"$f":"IF(A15<>\"\",IFERROR(VLOOKUP(O15,Tabelas!B:D,3,0),0),\"\")","v":0},{"$f":"IF(A15<>\"\",IFERROR(VLOOKUP(P15,Tabelas!B:D,3,0),0),\"\")","v":0},{"$f":"IF(A15<>\"\",IFERROR(VLOOKUP(Q15,Tabelas!B:D,3,0),0),\"\")","v":0},{"$f":"IF(A15<>\"\",IFERROR(VLOOKUP(R15,Tabelas!B:D,3,0),0),\"\")","v":0},{"$f":"IF(A15<>\"\",IFERROR(VLOOKUP(S15,Tabelas!B:D,3,0),0),\"\")","v":0},{"$f":"IF(A15<>\"\",IFERROR(VLOOKUP(T15,Tabelas!B:D,3,0),0),\"\")","v":0},{"$f":"IF(A15<>\"\",IFERROR(VLOOKUP(U15,Tabelas!B:D,3,0),0),\"\")","v":0},{"$f":"IF(A15<>\"\",IFERROR(VLOOKUP(V15,Tabelas!B:D,3,0),0),\"\")","v":0},{"$f":"IF(A15<>\"\",IFERROR(VLOOKUP(W15,Tabelas!B:D,3,0),0),\"\")","v":0},{"$f":"IF(A15<>\"\",IFERROR(VLOOKUP(X15,Tabelas!B:D,3,0),0),\"\")","v":0},{"$f":"IF(A15<>\"\",IFERROR(VLOOKUP(Y15,Tabelas!B:D,3,0),0),\"\")","v":0},{"$f":"IF(A15<>\"\",IFERROR(VLOOKUP(Z15,Tabelas!B:D,3,0),0),\"\")","v":0},{"$f":"IF(A15<>\"\",IFERROR(VLOOKUP(AA15,Tabelas!B:D,3,0),0),\"\")","v":0},{"$f":"IF(A15<>\"\",IFERROR(VLOOKUP(AB15,Tabelas!B:D,3,0),0),\"\")","v":0},{"$f":"IF(A15<>\"\",IFERROR(VLOOKUP(AC15,Tabelas!B:D,3,0),0),\"\")","v":0},{"$f":"IF(A15<>\"\",IFERROR(VLOOKUP(AD15,Tabelas!B:D,3,0),0),\"\")","v":6},{"$f":"IF(A15<>\"\",IFERROR(VLOOKUP(AE15,Tabelas!B:D,3,0),0),\"\")","v":6},{"$f":"IF(A15<>\"\",IFERROR(VLOOKUP(AF15,Tabelas!B:D,3,0),0),\"\")","v":6},{"$f":"IF(A15<>\"\",IFERROR(VLOOKUP(AG15,Tabelas!B:D,3,0),0),\"\")","v":0},{"$f":"IF(A15<>\"\",IFERROR(VLOOKUP(AH15,Tabelas!B:D,3,0),0),\"\")","v":0},{"$f":"IF(A15<>\"\",IFERROR(VLOOKUP(AI15,Tabelas!B:D,3,0),0),\"\")","v":6},{"$f":"IF(A15<>\"\",IFERROR(VLOOKUP(AJ15,Tabelas!B:D,3,0),0),\"\")","v":6},{"$f":"IF(A15<>\"\",IFERROR(VLOOKUP(AK15,Tabelas!B:D,3,0),0),\"\")","v":6},{"$f":"IF(A15<>\"\",IFERROR(VLOOKUP(AL15,Tabelas!B:D,3,0),0),\"\")","v":6},{"$f":"IF(A15<>\"\",IFERROR(VLOOKUP(AM15,Tabelas!B:D,3,0),0),\"\")","v":6},{"$f":"IF(A15<>\"\",IFERROR(VLOOKUP(AN15,Tabelas!B:D,3,0),0),\"\")","v":0},{"$f":"IF(A15<>\"\",IFERROR(VLOOKUP(AO15,Tabelas!B:D,3,0),0),\"\")","v":0},{"$f":"IF(A15<>\"\",IFERROR(VLOOKUP(AP15,Tabelas!B:D,3,0),0),\"\")","v":6},{"$f":"IF(A15<>\"\",IFERROR(VLOOKUP(AQ15,Tabelas!B:D,3,0),0),\"\")","v":0},54,0,0,17,0,0,0,17]
["Vanessa Miné Geraldo",3055054,null,"ME","EBSERH",24,null,null,null,null,null,null,"L","L","L","L","L","L","L",null,null,"T17","T17","T17","T17",null,null,null,"T17","T17","T17","T17",null,null,null,"T17","T17","T17","T17",null,null,null,null,{"$f":"IF(A16<>\"\",IFERROR(VLOOKUP(M16,Tabelas!B:D,3,0),0),\"\")","v":0},{"$f":"IF(A16<>\"\",IFERROR(VLOOKUP(N16,Tabelas!B:D,3,0),0),\"\")","v":0},{"$f":"IF(A16<>\"\",IFERROR(VLOOKUP(O16,Tabelas!B:D,3,0),0),\"\")","v":0},{"$f":"IF(A16<>\"\",IFERROR(VLOOKUP(P16,Tabelas!B:D,3,0),0),\"\")","v":0},{"$f":"IF(A16<>\"\",IFERROR(VLOOKUP(Q16,Tabelas!B:D,3,0),0),\"\")","v":0},{"$f":"IF(A16<>\"\",IFERROR(VLOOKUP(R16,Tabelas!B:D,3,0),0),\"\")","v":0},{"$f":"IF(A16<>\"\",IFERROR(VLOOKUP(S16,Tabelas!B:D,3,0),0),\"\")","v":0},{"$f":"IF(A16<>\"\",IFERROR(VLOOKUP(T16,Tabelas!B:D,3,0),0),\"\")","v":0},{"$f":"IF(A16<>\"\",IFERROR(VLOOKUP(U16,Tabelas!B:D,3,0),0),\"\")","v":0},{"$f":"IF(A16<>\"\",IFERROR(VLOOKUP(V16,Tabelas!B:D,3,0),0),\"\")","v":6},{"$f":"IF(A16<>\"\",IFERROR(VLOOKUP(W16,Tabelas!B:D,3,0),0),\"\")","v":6},{"$f":"IF(A16<>\"\",IFERROR(VLOOKUP(X16,Tabelas!B:D,3,0),0),\"\")","v":6},{"$f":"IF(A16<>\"\",IFERROR(VLOOKUP(Y16,Tabelas!B:D,3,0),0),\"\")","v":6},{"$f":"IF(A16<>\"\",IFERROR(VLOOKUP(Z16,Tabelas!B:D,3,0),0),\"\")","v":0},{"$f":"IF(A16<>\"\",IFERROR(VLOOKUP(AA16,Tabelas!B:D,3,0),0),\"\")","v":0},{"$f":"IF(A16<>\"\",IFERROR(VLOOKUP(AB16,Tabelas!B:D,3,0),0),\"\")","v":0},{"$f":"IF(A16<>\"\",IFERROR(VLOOKUP(AC16,Tabelas!B:D,3,0),0),\"\")","v":6},{"$f":"IF(A16<>\"\",IFERROR(VLOOKUP(AD16,Tabelas!B:D,3,0),0),\"\")","v":6},{"$f":"IF(A16<>\"\",IFERROR(VLOOKUP(AE16,Tabelas!B:D,3,0),0),\"\")","v":6},{"$f":"IF(A16<>\"\",IFERROR(VLOOKUP(AF16,Tabelas!B:D,3,0),0),\"\")","v":6},{"$f":"IF(A16<>\"\",IFERROR(VLOOKUP(AG16,Tabelas!B:D,3,0),0),\"\")","v":0},{"$f":"IF(A16<>\"\",IFERROR(VLOOKUP(AH16,Tabelas!B:D,3,0),0),\"\")","v":0},{"$f":"IF(A16<>\"\",IFERROR(VLOOKUP(AI16,Tabelas!B:D,3,0),0),\"\")","v":0},{"$f":"IF(A16<>\"\",IFERROR(VLOOKUP(AJ16,Tabelas!B:D,3,0),0),\"\")","v":6},{"$f":"IF(A16<>\"\",IFERROR(VLOOKUP(AK16,Tabelas!B:D,3,0),0),\"\")","v":6},{"$f":"IF(A16<>\"\",IFERROR(VLOOKUP(AL16,Tabelas!B:D,3,0),0),\"\")","v":6},{"$f":"IF(A16<>\"\",IFERROR(VLOOKUP(AM16,Tabelas!B:D,3,0),0),\"\")","v":6},{"$f":"IF(A16<>\"\",IFERROR(VLOOKUP(AN16,Tabelas!B:D,3,0),0),\"\")","v":0},{"$f":"IF(A16<>\"\",IFERROR(VLOOKUP(AO16,Tabelas!B:D,3,0),0),\"\")","v":0},{"$f":"IF(A16<>\"\",IFERROR(VLOOKUP(AP16,Tabelas!B:D,3,0),0),\"\")","v":0},{"$f":"IF(A16<>\"\",IFERROR(VLOOKUP(AQ16,Tabelas!B:D,3,0),0),\"\")","v":0},72,7,0,0,0,0,0,7]
["Vinícius D. Pedro (EMG)",null,null,"ME","RJU",12,null,null,null,null,null,null,null,null,"T17","T17","T17","T17",null,null,"T17","T17","T17","T17","T17",null,null,"T17","T17","T17","T17","T17",null,null,"T17","T17","T17","T17","T17",null,null,"T17",null,{"$f":"IF(A17<>\"\",IFERROR(VLOOKUP(M17,Tabelas!B:D,3,0),0),\"\")","v":0},{"$f":"IF(A17<>\"\",IFERROR(VLOOKUP(N17,Tabelas!B:D,3,0),0),\"\")","v":0},{"$f":"IF(A17<>\"\",IFERROR(VLOOKUP(O17,Tabelas!B:D,3,0),0),\"\")","v":6},{"$f":"IF(A17<>\"\",IFERROR(VLOOKUP(P17,Tabelas!B:D,3,0),0),\"\")","v":6},{"$f":"IF(A17<>\"\",IFERROR(VLOOKUP(Q17,Tabelas!B:D,3,0),0),\"\")","v":6},{"$f":"IF(A17<>\"\",IFERROR(VLOOKUP(R17,Tabelas!B:D,3,0),0),\"\")","v":6},{"$f":"IF(A17<>\"\",IFERROR(VLOOKUP(S17,Tabelas!B:D,3,0),0),\"\")","v":0},{"$f":"IF(A17<>\"\",IFERROR(VLOOKUP(T17,Tabelas!B:D,3,0),0),\"\")","v":0},{"$f":"IF(A17<>\"\",IFERROR(VLOOKUP(U17,Tabelas!B:D,3,0),0),\"\")","v":6},{"$f":"IF(A17<>\"\",IFERROR(VLOOKUP(V17,Tabelas!B:D,3,0),0),\"\")","v":6},{"$f":"IF(A17<>\"\",IFERROR(VLOOKUP(W17,Tabelas!B:D,3,0),0),\"\")","v":6},{"$f":"IF(A17<>\"\",IFERROR(VLOOKUP(X17,Tabelas!B:D,3,0),0),\"\")","v":6},{"$f":"IF(A17<>\"\",IFERROR(VLOOKUP(Y17,Tabelas!B:D,3,0),0),\"\")","v":6},{"$f":"IF(A17<>\"\",IFERROR(VLOOKUP(Z17,Tabelas!B:D,3,0),0),\"\")","v":0},{"$f":"IF(A17<>\"\",IFERROR(VLOOKUP(AA17,Tabelas!B:D,3,0),0),\"\")","v":0},{"$f":"IF(A17<>\"\",IFERROR(VLOOKUP(AB17,Tabelas!B:D,3,0),0),\"\")","v":6},{"$f":"IF(A17<>\"\",IFERROR(VLOOKUP(AC17,Tabelas!B:D,3,0),0),\"\")","v":6},{"$f":"IF(A17<>\"\",IFERROR(VLOOKUP(AD17,Tabelas!B:D,3,0),0),\"\")","v":6},{"$f":"IF(A17<>\"\",IFERROR(VLOOKUP(AE17,Tabelas!B:D,3,0),0),\"\")","v":6},{"$f":"IF(A17<>\"\",IFERROR(VLOOKUP(AF17,Tabelas!B:D,3,0),0),\"\")","v":6},{"$f":"IF(A17<>\"\",IFERROR(VLOOKUP(AG17,Tabelas!B:D,3,0),0),\"\")","v":0},{"$f":"IF(A17<>\"\",IFERROR(VLOOKUP(AH17,Tabelas!B:D,3,0),0),\"\")","v":0},{"$f":"IF(A17<>\"\",IFERROR(VLOOKUP(AI17,Tabelas!B:D,3,0),0),\"\")","v":6},{"$f":"IF(A17<>\"\",IFERROR(VLOOKUP(AJ17,Tabelas!B:D,3,0),0),\"\")","v":6},{"$f":"IF(A17<>\"\",IFERROR(VLOOKUP(AK17,Tabelas!B:D,3,0),0),\"\")","v":6},{"$f":"IF(A17<>\"\",IFERROR(VLOOKUP(AL17,Tabelas!B:D,3,0),0),\"\")","v":6},{"$f":"IF(A17<>\"\",IFERROR(VLOOKUP(AM17,Tabelas!B:D,3,0),0),\"\")","v":6},{"$f":"IF(A17<>\"\",IFERROR(VLOOKUP(AN17,Tabelas!B:D,3,0),0),\"\")","v":0},{"$f":"IF(A17<>\"\",IFERROR(VLOOKUP(AO17,Tabelas!B:D,3,0),0),\"\")","v":0},{"$f":"IF(A17<>\"\",IFERROR(VLOOKUP(AP17,Tabelas!B:D,3,0),0),\"\")","v":6},{"$f":"IF(A17<>\"\",IFERROR(VLOOKUP(AQ17,Tabelas!B:D,3,0),0),\"\")","v":0},120,0,0,0,0,0,0,0]
[null,null,null,null,null,null,null,null,null,null,null,null,null,null,null,null,null,null,null,null,null,null,null,null,null,null,null,null,null,null,null,null,null,null,null,null,null,null,null,null,null,null,null,{"$f":"IF(A18<>\"\",IFERROR(VLOOKUP(M18,Tabelas!B:D,3,0),0),\"\")","v":""},{"$f":"IF(A18<>\"\",IFERROR(VLOOKUP(N18,Tabelas!B:D,3,0),0),\"\")","v":""},{"$f":"IF(A18<>\"\",IFERROR(VLOOKUP(O18,Tabelas!B:D,3,0),0),\"\")","v":""},{"$f":"IF(A18<>\"\",IFERROR(VLOOKUP(P18,Tabelas!B:D,3,0),0),\"\")","v":""},{"$f":"IF(A18<>\"\",IFERROR(VLOOKUP(Q18,Tabelas!B:D,3,0),0),\"\")","v":""},{"$f":"IF(A18<>\"\",IFERROR(VLOOKUP(R18,Tabelas!B:D,3,0),0),\"\")","v":""},{"$f":"IF(A18<>\"\",IFERROR(VLOOKUP(S18,Tabelas!B:D,3,0),0),\"\")","v":""},{"$f":"IF(A18<>\"\",IFERROR(VLOOKUP(T18,Tabelas!B:D,3,0),0),\"\")","v":""},{"$f":"IF(A18<>\"\",IFERROR(VLOOKUP(U18,Tabelas!B:D,3,0),0),\"\")","v":""},{"$f":"IF(A18<>\"\",IFERROR(VLOOKUP(V18,Tabelas!B:D,3,0),0),\"\")","v":""},{"$f":"IF(A18<>\"\",IFERROR(VLOOKUP(W18,Tabelas!B:D,3,0),0),\"\")","v":""},{"$f":"IF(A18<>\"\",IFERROR(VLOOKUP(X18,Tabelas!B:D,3,0),0),\"\")","v":""},{"$f":"IF(A18<>\"\",IFERROR(VLOOKUP(Y18,Tabelas!B:D,3,0),0),\"\")","v":""},{"$f":"IF(A18<>\"\",IFERROR(VLOOKUP(Z18,Tabelas!B:D,3,0),0),\"\")","v":""},{"$f":"IF(A18<>\"\",IFERROR(VLOOKUP(AA18,Tabelas!B:D,3,0),0),\"\")","v":""},{"$f":"IF(A18<>\"\",IFERROR(VLOOKUP(AB18,Tabelas!B:D,3,0),0),\"\")","v":""},{"$f":"IF(A18<>\"\",IFERROR(VLOOKUP(AC18,Tabelas!B:D,3,0),0),\"\")","v":""},{"$f":"IF(A18<>\"\",IFERROR(VLOOKUP(AD18,Tabelas!B:D,3,0),0),\"\")","v":""},{"$f":"IF(A18<>\"\",IFERROR(VLOOKUP(AE18,Tabelas!B:D,3,0),0),\"\")","v":""},{"$f":"IF(A18<>\"\",IFERROR(VLOOKUP(AF18,Tabelas!B:D,3,0),0),\"\")","v":""},{"$f":"IF(A18<>\"\",IFERROR(VLOOKUP(AG18,Tabelas!B:D,3,0),0),\"\")","v":""},{"$f":"IF(A18<>\"\",IFERROR(VLOOKUP(AH18,Tabelas!B:D,3,0),0),\"\")","v":""},{"$f":"IF(A18<>\"\",IFERROR(VLOOKUP(AI18,Tabelas!B:D,3,0),0),\"\")","v":""},{"$f":"IF(A18<>\"\",IFERROR(VLOOKUP(AJ18,Tabelas!B:D,3,0),0),\"\")","v":""},{"$f":"IF(A18<>\"\",IFERROR(VLOOKUP(AK18,Tabelas!B:D,3,0),0),\"\")","v":""},{"$f":"IF(A18<>\"\",IFERROR(VLOOKUP(AL18,Tabelas!B:D,3,0),0),\"\")","v":""},{"$f":"IF(A18<>\"\",IFERROR(VLOOKUP(AM18,Tabelas!B:D,3,0),0),\"\")","v":""},{"$f":"IF(A18<>\"\",IFERROR(VLOOKUP(AN18,Tabelas!B:D,3,0),0),\"\")","v":""},{"$f":"IF(A18<>\"\",IFERROR(VLOOKUP(AO18,Tabelas!B:D,3,0),0),\"\")","v":""},{"$f":"IF(A18<>\"\",IFERROR(VLOOKUP(AP18,Tabelas!B:D,3,0),0),\"\")","v":""},{"$f":"IF(A18<>\"\",IFERROR(VLOOKUP(AQ18,Tabelas!B:D,3,0),0),\"\")","v":""},"","","","","","","",""]
[null,null,null,null,null,null,null,null,null,null,null,null,null,null,null,null,null,null,null,null,null,null,null,null,null,null,null,null,null,null,null,null,null,null,null,null,null,null,null,null,null,null,null,{"$f":"IF(A19<>\"\",IFERROR(VLOOKUP(M19,Tabelas!B:D,3,0),0),\"\")","v":""},{"$f":"IF(A19<>\"\",IFERROR(VLOOKUP(N19,Tabelas!B:D,3,0),0),\"\")","v":""},{"$f":"IF(A19<>\"\",IFERROR(VLOOKUP(O19,Tabelas!B:D,3,0),0),\"\")","v":""},{"$f":"IF(A19<>\"\",IFERROR(VLOOKUP(P19,Tabelas!B:D,3,0),0),\"\")","v":""},{"$f":"IF(A19<>\"\",IFERROR(VLOOKUP(Q19,Tabelas!B:D,3,0),0),\"\")","v":""},{"$f":"IF(A19<>\"\",IFERROR(VLOOKUP(R19,Tabelas!B:D,3,0),0),\"\")","v":""},{"$f":"IF(A19<>\"\",IFERROR(VLOOKUP(S19,Tabelas!B:D,3,0),0),\"\")","v":""},{"$f":"IF(A19<>\"\",IFERROR(VLOOKUP(T19,Tabelas!B:D,3,0),0),\"\")","v":""},{"$f":"IF(A19<>\"\",IFERROR(VLOOKUP(U19,Tabelas!B:D,3,0),0),\"\")","v":""},{"$f":"IF(A19<>\"\",IFERROR(VLOOKUP(V19,Tabelas!B:D,3,0),0),\"\")","v":""},{"$f":"IF(A19<>\"\",IFERROR(VLOOKUP(W19,Tabelas!B:D,3,0),0),\"\")","v":""},{"$f":"IF(A19<>\"\",IFERROR(VLOOKUP(X19,Tabelas!B:D,3,0),0),\"\")","v":""},{"$f":"IF(A19<>\"\",IFERROR(VLOOKUP(Y19,Tabelas!B:D,3,0),0),\"\")","v":""},{"$f":"IF(A19<>\"\",IFERROR(VLOOKUP(Z19,Tabelas!B:D,3,0),0),\"\")","v":""},{"$f":"IF(A19<>\"\",IFERROR(VLOOKUP(AA19,Tabelas!B:D,3,0),0),\"\")","v":""},{"$f":"IF(A19<>\"\",IFERROR(VLOOKUP(AB19,Tabelas!B:D,3,0),0),\"\")","v":""},{"$f":"IF(A19<>\"\",IFERROR(VLOOKUP(AC19,Tabelas!B:D,3,0),0),\"\")","v":""},{"$f":"IF(A19<>\"\",IFERROR(VLOOKUP(AD19,Tabelas!B:D,3,0),0),\"\")","v":""},{"$f":"IF(A19<>\"\",IFERROR(VLOOKUP(AE19,Tabelas!B:D,3,0),0),\"\")","v":""},{"$f":"IF(A19<>\"\",IFERROR(VLOOKUP(AF19,Tabelas!B:D,3,0),0),\"\")","v":""},{"$f":"IF(A19<>\"\",IFERROR(VLOOKUP(AG19,Tabelas!B:D,3,0),0),\"\")","v":""},{"$f":"IF(A19<>\"\",IFERROR(VLOOKUP(AH19,Tabelas!B:D,3,0),0),\"\")","v":""},{"$f":"IF(A19<>\"\",IFERROR(VLOOKUP(AI19,Tabelas!B:D,3,0),0),\"\")","v":""},{"$f":"IF(A19<>\"\",IFERROR(VLOOKUP(AJ19,Tabelas!B:D,3,0),0),\"\")","v":""},{"$f":"IF(A19<>\"\",IFERROR(VLOOKUP(AK19,Tabelas!B:D,3,0),0),\"\")","v":""},{"$f":"IF(A19<>\"\",IFERROR(VLOOKUP(AL19,Tabelas!B:D,3,0),0),\"\")","v":""},{"$f":"IF(A19<>\"\",IFERROR(VLOOKUP(AM19,Tabelas!B:D,3,0),0),\"\")","v":""},{"$f":"IF(A19<>\"\",IFERROR(VLOOKUP(AN19,Tabelas!B:D,3,0),0),\"\")","v":""},{"$f":"IF(A19<>\"\",IFERROR(VLOOKUP(AO19,Tabelas!B:D,3,0),0),\"\")","v":""},{"$f":"IF(A19<>\"\",IFERROR(VLOOKUP(AP19,Tabelas!B:D,3,0),0),\"\")","v":""},{"$f":"IF(A19<>\"\",IFERROR(VLOOKUP(AQ19,Tabelas!B:D,3,0),0),\"\")","v":""},"","","","","","","",""]
["PLANTÃO",null,null,null,null,null,null,null,null,null,null,null,null,null,null,null,null,null,null,null,null,null,null,null,null,null,null,null,null,null,null,null,null,null,null,null,null,null,null,null,null,null,null,{"$f":"IF(A20<>\"\",IFERROR(VLOOKUP(M20,Tabelas!B:D,3,0),0),\"\")","v":0},{"$f":"IF(A20<>\"\",IFERROR(VLOOKUP(N20,Tabelas!B:D,3,0),0),\"\")","v":0},{"$f":"IF(A20<>\"\",IFERROR(VLOOKUP(O20,Tabelas!B:D,3,0),0),\"\")","v":0},{"$f":"IF(A20<>\"\",IFERROR(VLOOKUP(P20,Tabelas!B:D,3,0),0),\"\")","v":0},{"$f":"IF(A20<>\"\",IFERROR(VLOOKUP(Q20,Tabelas!B:D,3,0),0),\"\")","v":0},{"$f":"IF(A20<>\"\",IFERROR(VLOOKUP(R20,Tabelas!B:D,3,0),0),\"\")","v":0},{"$f":"IF(A20<>\"\",IFERROR(VLOOKUP(S20,Tabelas!B:D,3,0),0),\"\")","v":0},{"$f":"IF(A20<>\"\",IFERROR(VLOOKUP(T20,Tabelas!B:D,3,0),0),\"\")","v":0},{"$f":"IF(A20<>\"\",IFERROR(VLOOKUP(U20,Tabelas!B:D,3,0),0),\"\")","v":0},{"$f":"IF(A20<>\"\",IFERROR(VLOOKUP(V20,Tabelas!B:D,3,0),0),\"\")","v":0},{"$f":"IF(A20<>\"\",IFERROR(VLOOKUP(W20,Tabelas!B:D,3,0),0),\"\")","v":0},{"$f":"IF(A20<>\"\",IFERROR(VLOOKUP(X20,Tabelas!B:D,3,0),0),\"\")","v":0},{"$f":"IF(A20<>\"\",IFERROR(VLOOKUP(Y20,Tabelas!B:D,3,0),0),\"\")","v":0},{"$f":"IF(A20<>\"\",IFERROR(VLOOKUP(Z20,Tabelas!B:D,3,0),0),\"\")","v":0},{"$f":"IF(A20<>\"\",IFERROR(VLOOKUP(AA20,Tabelas!B:D,3,0),0),\"\")","v":0},{"$f":"IF(A20<>\"\",IFERROR(VLOOKUP(AB20,Tabelas!B:D,3,0),0),\"\")","v":0},{"$f":"IF(A20<>\"\",IFERROR(VLOOKUP(AC20,Tabelas!B:D,3,0),0),\"\")","v":0},{"$f":"IF(A20<>\"\",IFERROR(VLOOKUP(AD20,Tabelas!B:D,3,0),0),\"\")","v":0},{"$f":"IF(A20<>\"\",IFERROR(VLOOKUP(AE20,Tabelas!B:D,3,0),0),\"\")","v":0},{"$f":"IF(A20<>\"\",IFERROR(VLOOKUP(AF20,Tabelas!B:D,3,0),0),\"\")","v":0},{"$f":"IF(A20<>\"\",IFERROR(VLOOKUP(AG20,Tabelas!B:D,3,0),0),\"\")","v":0},{"$f":"IF(A20<>\"\",IFERROR(VLOOKUP(AH20,Tabelas!B:D,3,0),0),\"\")","v":0},{"$f":"IF(A20<>\"\",IFERROR(VLOOKUP(AI20,Tabelas!B:D,3,0),0),\"\")","v":0},{"$f":"IF(A20<>\"\",IFERROR(VLOOKUP(AJ20,Tabelas!B:D,3,0),0),\"\")","v":0},{"$f":"IF(A20<>\"\",IFERROR(VLOOKUP(AK20,Tabelas!B:D,3,0),0),\"\")","v":0},{"$f":"IF(A20<>\"\",IFERROR(VLOOKUP(AL20,Tabelas!B:D,3,0),0),\"\")","v":0},{"$f":"IF(A20<>\"\",IFERROR(VLOOKUP(AM20,Tabelas!B:D,3,0),0),\"\")","v":0},{"$f":"IF(A20<>\"\",IFERROR(VLOOKUP(AN20,Tabelas!B:D,3,0),0),\"\")","v":0},{"$f":"IF(A20<>\"\",IFERROR(VLOOKUP(AO20,Tabelas!B:D,3,0),0),\"\")","v":0},{"$f":"IF(A20<>\"\",IFERROR(VLOOKUP(AP20,Tabelas!B:D,3,0),0),\"\")","v":0},{"$f":"IF(A20<>\"\",IFERROR(VLOOKUP(AQ20,Tabelas!B:D,3,0),0),\"\")","v":0},0,0,0,0,0,0,0,0]
["Air Luis Zambom",1824250,null,"ME","RJU",40,null,null,null,null,null,null,null,"N10",null,null,null,"N10",null,null,null,null,"N10",null,null,"N10",null,null,null,null,"N10",null,null,null,null,null,null,null,null,"D8",null,"N10",null,{"$f":"IF(A21<>\"\",IFERROR(VLOOKUP(M21,Tabelas!B:D,3,0),0),\"\")","v":0},{"$f":"IF(A21<>\"\",IFERROR(VLOOKUP(N21,Tabelas!B:D,3,0),0),\"\")","v":12},{"$f":"IF(A21<>\"\",IFERROR(VLOOKUP(O21,Tabelas!B:D,3,0),0),\"\")","v":0},{"$f":"IF(A21<>\"\",IFERROR(VLOOKUP(P21,Tabelas!B:D,3,0),0),\"\")","v":0},{"$f":"IF(A21<>\"\",IFERROR(VLOOKUP(Q21,Tabelas!B:D,3,0),0),\"\")","v":0},{"$f":"IF(A21<>\"\",IFERROR(VLOOKUP(R21,Tabelas!B:D,3,0),0),\"\")","v":12},{"$f":"IF(A21<>\"\",IFERROR(VLOOKUP(S21,Tabelas!B:D,3,0),0),\"\")","v":0},{"$f":"IF(A21<>\"\",IFERROR(VLOOKUP(T21,Tabelas!B:D,3,0),0),\"\")","v":0},{"$f":"IF(A21<>\"\",IFERROR(VLOOKUP(U21,Tabelas!B:D,3,0),0),\"\")","v":0},{"$f":"IF(A21<>\"\",IFERROR(VLOOKUP(V21,Tabelas!B:D,3,0),0),\"\")","v":0},{"$f":"IF(A21<>\"\",IFERROR(VLOOKUP(W21,Tabelas!B:D,3,0),0),\"\")","v":12},{"$f":"IF(A21<>\"\",IFERROR(VLOOKUP(X21,Tabelas!B:D,3,0),0),\"\")","v":0},{"$f":"IF(A21<>\"\",IFERROR(VLOOKUP(Y21,Tabelas!B:D,3,0),0),\"\")","v":0},{"$f":"IF(A21<>\"\",IFERROR(VLOOKUP(Z21,Tabelas!B:D,3,0),0),\"\")","v":12},{"$f":"IF(A21<>\"\",IFERROR(VLOOKUP(AA21,Tabelas!B:D,3,0),0),\"\")","v":0},{"$f":"IF(A21<>\"\",IFERROR(VLOOKUP(AB21,Tabelas!B:D,3,0),0),\"\")","v":0},{"$f":"IF(A21<>\"\",IFERROR(VLOOKUP(AC21,Tabelas!B:D,3,0),0),\"\")","v":0},{"$f":"IF(A21<>\"\",IFERROR(VLOOKUP(AD21,Tabelas!B:D,3,0),0),\"\")","v":0},{"$f":"IF(A21<>\"\",IFERROR(VLOOKUP(AE21,Tabelas!B:D,3,0),0),\"\")","v":12},{"$f":"IF(A21<>\"\",IFERROR(VLOOKUP(AF21,Tabelas!B:D,3,0),0),\"\")","v":0},{"$f":"IF(A21<>\"\",IFERROR(VLOOKUP(AG21,Tabelas!B:D,3,0),0),\"\")","v":0},{"$f":"IF(A21<>\"\",IFERROR(VLOOKUP(AH21,Tabelas!B:D,3,0),0),\"\")","v":0},{"$f":"IF(A21<>\"\",IFERROR(VLOOKUP(AI21,Tabelas!B:D,3,0),0),\"\")","v":0},{"$f":"IF(A21<>\"\",IFERROR(VLOOKUP(AJ21,Tabelas!B:D,3,0),0),\"\")","v":0},{"$f":"IF(A21<>\"\",IFERROR(VLOOKUP(AK21,Tabelas!B:D,3,0),0),\"\")","v":0},{"$f":"IF(A21<>\"\",IFERROR(VLOOKUP(AL21,Tabelas!B:D,3,0),0),\"\")","v":0},{"$f":"IF(A21<>\"\",IFERROR(VLOOKUP(AM21,Tabelas!B:D,3,0),0),\"\")","v":0},{"$f":"IF(A21<>\"\",IFERROR(VLOOKUP(AN21,Tabelas!B:D,3,0),0),\"\")","v":12},{"$f":"IF(A21<>\"\",IFERROR(VLOOKUP(AO21,Tabelas!B:D,3,0),0),\"\")","v":0},{"$f":"IF(A21<>\"\",IFERROR(VLOOKUP(AP21,Tabelas!B:D,3,0),0),\"\")","v":12},{"$f":"IF(A21<>\"\",IFERROR(VLOOKUP(AQ21,Tabelas!B:D,3,0),0),\"\")","v":0},84,0,0,0,0,0,0,0]
["Aline Varela Dias",1331684,null,"ME","RJU",20,null,null,null,null,null,null,null,null,null,null,null,null,"D8",null,null,"N10",null,null,null,null,"D8",null,null,null,null,null,null,null,null,null,null,null,null,null,null,null,null,{"$f":"IF(A22<>\"\",IFERROR(VLOOKUP(M22,Tabelas!B:D,3,0),0),\"\")","v":0},{"$f":"IF(A22<>\"\",IFERROR(VLOOKUP(N22,Tabelas!B:D,3,0),0),\"\")","v":0},{"$f":"IF(A22<>\"\",IFERROR(VLOOKUP(O22,Tabelas!B:D,3,0),0),\"\")","v":0},{"$f":"IF(A22<>\"\",IFERROR(VLOOKUP(P22,Tabelas!B:D,3,0),0),\"\")","v":0},{"$f":"IF(A22<>\"\",IFERROR(VLOOKUP(Q22,Tabelas!B:D,3,0),0),\"\")","v":0},{"$f":"IF(A22<>\"\",IFERROR(VLOOKUP(R22,Tabelas!B:D,3,0),0),\"\")","v":0},{"$f":"IF(A22<>\"\",IFERROR(VLOOKUP(S22,Tabelas!B:D,3,0),0),\"\")","v":12},{"$f":"IF(A22<>\"\",IFERROR(VLOOKUP(T22,Tabelas!B:D,3,0),0),\"\")","v":0},{"$f":"IF(A22<>\"\",IFERROR(VLOOKUP(U22,Tabelas!B:D,3,0),0),\"\")","v":0},{"$f":"IF(A22<>\"\",IFERROR(VLOOKUP(V22,Tabelas!B:D,3,0),0),\"\")","v":12},{"$f":"IF(A22<>\"\",IFERROR(VLOOKUP(W22,Tabelas!B:D,3,0),0),\"\")","v":0},{"$f":"IF(A22<>\"\",IFERROR(VLOOKUP(X22,Tabelas!B:D,3,0),0),\"\")","v":0},{"$f":"IF(A22<>\"\",IFERROR(VLOOKUP(Y22,Tabelas!B:D,3,0),0),\"\")","v":0},{"$f":"IF(A22<>\"\",IFERROR(VLOOKUP(Z22,Tabelas!B:D,3,0),0),\"\")","v":0},{"$f":"IF(A22<>\"\",IFERROR(VLOOKUP(AA22,Tabelas!B:D,3,0),0),\"\")","v":12},{"$f":"IF(A22<>\"\",IFERROR(VLOOKUP(AB22,Tabelas!B:D,3,0),0),\"\")","v":0},{"$f":"IF(A22<>\"\",IFERROR(VLOOKUP(AC22,Tabelas!B:D,3,0),0),\"\")","v":0},{"$f":"IF(A22<>\"\",IFERROR(VLOOKUP(AD22,Tabelas!B:D,3,0),0),\"\")","v":0},{"$f":"IF(A22<>\"\",IFERROR(VLOOKUP(AE22,Tabelas!B:D,3,0),0),\"\")","v":0},{"$f":"IF(A22<>\"\",IFERROR(VLOOKUP(AF22,Tabelas!B:D,3,0),0),\"\")","v":0},{"$f":"IF(A22<>\"\",IFERROR(VLOOKUP(AG22,Tabelas!B:D,3,0),0),\"\")","v":0},{"$f":"IF(A22<>\"\",IFERROR(VLOOKUP(AH22,Tabelas!B:D,3,0),0),\"\")","v":0},{"$f":"IF(A22<>\"\",IFERROR(VLOOKUP(AI22,Tabelas!B:D,3,0),0),\"\")","v":0},{"$f":"IF(A22<>\"\",IFERROR(VLOOKUP(AJ22,Tabelas!B:D,3,0),0),\"\")","v":0},{"$f":"IF(A22<>\"\",IFERROR(VLOOKUP(AK22,Tabelas!B:D,3,0),0),\"\")","v":0},{"$f":"IF(A22<>\"\",IFERROR(VLOOKUP(AL22,Tabelas!B:D,3,0),0),\"\")","v":0},{"$f":"IF(A22<>\"\",IFERROR(VLOOKUP(AM22,Tabelas!B:D,3,0),0),\"\")","v":0},{"$f":"IF(A22<>\"\",IFERROR(VLOOKUP(AN22,Tabelas!B:D,3,0),0),\"\")","v":0},{"$f":"IF(A22<>\"\",IFERROR(VLOOKUP(AO22,Tabelas!B:D,3,0),0),\"\")","v":0},{"$f":"IF(A22<>\"\",IFERROR(VLOOKUP(AP22,Tabelas!B:D,3,0),0),\"\")","v":0},{"$f":"IF(A22<>\"\",IFERROR(VLOOKUP(AQ22,Tabelas!B:D,3,0),0),\"\")","v":0},36,0,0,0,0,0,0,0]
["Anelise Schaeffer da Silveira",1919390,null,"ME","EBSERH",24,null,null,null,null,null,null,null,null,null,null,null,null,null,null,null,null,null,null,null,null,null,null,null,null,null,null,null,null,null,null,null,null,null,null,null,null,null,{"$f":"IF(A23<>\"\",IFERROR(VLOOKUP(M23,Tabelas!B:D,3,0),0),\"\")","v":0},{"$f":"IF(A23<>\"\",IFERROR(VLOOKUP(N23,Tabelas!B:D,3,0),0),\"\")","v":0},{"$f":"IF(A23<>\"\",IFERROR(VLOOKUP(O23,Tabelas!B:D,3,0),0),\"\")","v":0},{"$f":"IF(A23<>\"\",IFERROR(VLOOKUP(P23,Tabelas!B:D,3,0),0),\"\")","v":0},{"$f":"IF(A23<>\"\",IFERROR(VLOOKUP(Q23,Tabelas!B:D,3,0),0),\"\")","v":0},{"$f":"IF(A23<>\"\",IFERROR(VLOOKUP(R23,Tabelas!B:D,3,0),0),\"\")","v":0},{"$f":"IF(A23<>\"\",IFERROR(VLOOKUP(S23,Tabelas!B:D,3,0),0),\"\")","v":0},{"$f":"IF(A23<>\"\",IFERROR(VLOOKUP(T23,Tabelas!B:D,3,0),0),\"\")","v":0},{"$f":"IF(A23<>\"\",IFERROR(VLOOKUP(U23,Tabelas!B:D,3,0),0),\"\")","v":0},{"$f":"IF(A23<>\"\",IFERROR(VLOOKUP(V23,Tabelas!B:D,3,0),0),\"\")","v":0},{"$f":"IF(A23<>\"\",IFERROR(VLOOKUP(W23,Tabelas!B:D,3,0),0),\"\")","v":0},{"$f":"IF(A23<>\"\",IFERROR(VLOOKUP(X23,Tabelas!B:D,3,0),0),\"\")","v":0},{"$f":"IF(A23<>\"\",IFERROR(VLOOKUP(Y23,Tabelas!B:D,3,0),0),\"\")","v":0},{"$f":"IF(A23<>\"\",IFERROR(VLOOKUP(Z23,Tabelas!B:D,3,0),0),\"\")","v":0},{"$f":"IF(A23<>\"\",IFERROR(VLOOKUP(AA23,Tabelas!B:D,3,0),0),\"\")","v":0},{"$f":"IF(A23<>\"\",IFERROR(VLOOKUP(AB23,Tabelas!B:D,3,0),0),\"\")","v":0},{"$f":"IF(A23<>\"\",IFERROR(VLOOKUP(AC23,Tabelas!B:D,3,0),0),\"\")","v":0},{"$f":"IF(A23<>\"\",IFERROR(VLOOKUP(AD23,Tabelas!B:D,3,0),0),\"\")","v":0},{"$f":"IF(A23<>\"\",IFERROR(VLOOKUP(AE23,Tabelas!B:D,3,0),0),\"\")","v":0},{"$f":"IF(A23<>\"\",IFERROR(VLOOKUP(AF23,Tabelas!B:D,3,0),0),\"\")","v":0},{"$f":"IF(A23<>\"\",IFERROR(VLOOKUP(AG23,Tabelas!B:D,3,0),0),\"\")","v":0},{"$f":"IF(A23<>\"\",IFERROR(VLOOKUP(AH23,Tabelas!B:D,3,0),0),\"\")","v":0},{"$f":"IF(A23<>\"\",IFERROR(VLOOKUP(AI23,Tabelas!B:D,3,0),0),\"\")","v":0},{"$f":"IF(A23<>\"\",IFERROR(VLOOKUP(AJ23,Tabelas!B:D,3,0),0),\"\")","v":0},{"$f":"IF(A23<>\"\",IFERROR(VLOOKUP(AK23,Tabelas!B:D,3,0),0),\"\")","v":0},{"$f":"IF(A23<>\"\",IFERROR(VLOOKUP(AL23,Tabelas!B:D,3,0),0),\"\")","v":0},{"$f":"IF(A23<>\"\",IFERROR(VLOOKUP(AM23,Tabelas!B:D,3,0),0),\"\")","v":0},{"$f":"IF(A23<>\"\",IFERROR(VLOOKUP(AN23,Tabelas!B:D,3,0),0),\"\")","v":0},{"$f":"IF(A23<>\"\",IFERROR(VLOOKUP(AO23,Tabelas!B:D,3,0),0),\"\")","v":0},{"$f":"IF(A23<>\"\",IFERROR(VLOOKUP(AP23,Tabelas!B:D,3,0),0),\"\")","v":0},{"$f":"IF(A23<>\"\",IFERROR(VLOOKUP(AQ23,Tabelas!B:D,3,0),0),\"\")","v":0},0,0,0,0,0,0,0,0]
["Carolina Alcoforado De Abreu",3201834,null,"ME","EBSERH",24,null,null,null,null,null,null,null,null,"N10",null,null,null,"N10",null,null,null,null,"N10",null,"D8",null,null,null,null,null,"N10",null,"N10",null,null,null,null,"N10",null,"D8"]
["Duane José Milioli",1824201,null,"ME","RJU",20,null,null,null,null,null,null,null,"D8","N10",null,null,null,null,null,null,null,"N10",null,null,"N10",null,null,null,null,null,"N10",null,"N10",null,null,null,null,null,null,null,"N10",null,{"$f":"IF(A25<>\"\",IFERROR(VLOOKUP(M25,Tabelas!B:D,3,0),0),\"\")","v":0},{"$f":"IF(A25<>\"\",IFERROR(VLOOKUP(N25,Tabelas!B:D,3,0),0),\"\")","v":12},{"$f":"IF(A25<>\"\",IFERROR(VLOOKUP(O25,Tabelas!B:D,3,0),0),\"\")","v":12},{"$f":"IF(A25<>\"\",IFERROR(VLOOKUP(P25,Tabelas!B:D,3,0),0),\"\")","v":0},{"$f":"IF(A25<>\"\",IFERROR(VLOOKUP(Q25,Tabelas!B:D,3,0),0),\"\")","v":0},{"$f":"IF(A25<>\"\",IFERROR(VLOOKUP(R25,Tabelas!B:D,3,0),0),\"\")","v":0},{"$f":"IF(A25<>\"\",IFERROR(VLOOKUP(S25,Tabelas!B:D,3,0),0),\"\")","v":0},{"$f":"IF(A25<>\"\",IFERROR(VLOOKUP(T25,Tabelas!B:D,3,0),0),\"\")","v":0},{"$f":"IF(A25<>\"\",IFERROR(VLOOKUP(U25,Tabelas!B:D,3,0),0),\"\")","v":0},{"$f":"IF(A25<>\"\",IFERROR(VLOOKUP(V25,Tabelas!B:D,3,0),0),\"\")","v":0},{"$f":"IF(A25<>\"\",IFERROR(VLOOKUP(W25,Tabelas!B:D,3,0),0),\"\")","v":12},{"$f":"IF(A25<>\"\",IFERROR(VLOOKUP(X25,Tabelas!B:D,3,0),0),\"\")","v":0},{"$f":"IF(A25<>\"\",IFERROR(VLOOKUP(Y25,Tabelas!B:D,3,0),0),\"\")","v":0},{"$f":"IF(A25<>\"\",IFERROR(VLOOKUP(Z25,Tabelas!B:D,3,0),0),\"\")","v":12},{"$f":"IF(A25<>\"\",IFERROR(VLOOKUP(AA25,Tabelas!B:D,3,0),0),\"\")","v":0},{"$f":"IF(A25<>\"\",IFERROR(VLOOKUP(AB25,Tabelas!B:D,3,0),0),\"\")","v":0},{"$f":"IF(A25<>\"\",IFERROR(VLOOKUP(AC25,Tabelas!B:D,3,0),0),\"\")","v":0},{"$f":"IF(A25<>\"\",IFERROR(VLOOKUP(AD25,Tabelas!B:D,3,0),0),\"\")","v":0},{"$f":"IF(A25<>\"\",IFERROR(VLOOKUP(AE25,Tabelas!B:D,3,0),0),\"\")","v":0},{"$f":"IF(A25<>\"\",IFERROR(VLOOKUP(AF25,Tabelas!B:D,3,0),0),\"\")","v":12},{"$f":"IF(A25<>\"\",IFERROR(VLOOKUP(AG25,Tabelas!B:D,3,0),0),\"\")","v":0},{"$f":"IF(A25<>\"\",IFERROR(VLOOKUP(AH25,Tabelas!B:D,3,0),0),\"\")","v":12},{"$f":"IF(A25<>\"\",IFERROR(VLOOKUP(AI25,Tabelas!B:D,3,0),0),\"\")","v":0},{"$f":"IF(A25<>\"\",IFERROR(VLOOKUP(AJ25,Tabelas!B:D,3,0),0),\"\")","v":0},{"$f":"IF(A25<>\"\",IFERROR(VLOOKUP(AK25,Tabelas!B:D,3,0),0),\"\")","v":0},{"$f":"IF(A25<>\"\",IFERROR(VLOOKUP(AL25,Tabelas!B:D,3,0),0),\"\")","v":0},{"$f":"IF(A25<>\"\",IFERROR(VLOOKUP(AM25,Tabelas!B:D,3,0),0),\"\")","v":0},{"$f":"IF(A25<>\"\",IFERROR(VLOOKUP(AN25,Tabelas!B:D,3,0),0),\"\")","v":0},{"$f":"IF(A25<>\"\",IFERROR(VLOOKUP(AO25,Tabelas!B:D,3,0),0),\"\")","v":0},{"$f":"IF(A25<>\"\",IFERROR(VLOOKUP(AP25,Tabelas!B:D,3,0),0),\"\")","v":12},{"$f":"IF(A25<>\"\",IFERROR(VLOOKUP(AQ25,Tabelas!B:D,3,0),0),\"\")","v":0},84,0,0,0,0,0,0,0]
["Eduardo Jardim Berbigier",2604323,null,"ME","RJU",20,null,null,null,null,null,null,null,"D8",null,"N10",null,null,null,null,"N10",null,null,null,null,null,"N10",null,"N10",null,null,null,null,null,null,null,null,null,"N10","N10","N10",null,null,{"$f":"IF(A26<>\"\",IFERROR(VLOOKUP(M26,Tabelas!B:D,3,0),0),\"\")","v":0},{"$f":"IF(A26<>\"\",IFERROR(VLOOKUP(N26,Tabelas!B:D,3,0),0),\"\")","v":12},{"$f":"IF(A26<>\"\",IFERROR(VLOOKUP(O26,Tabelas!B:D,3,0),0),\"\")","v":0},{"$f":"IF(A26<>\"\",IFERROR(VLOOKUP(P26,Tabelas!B:D,3,0),0),\"\")","v":12},{"$f":"IF(A26<>\"\",IFERROR(VLOOKUP(Q26,Tabelas!B:D,3,0),0),\"\")","v":0},{"$f":"IF(A26<>\"\",IFERROR(VLOOKUP(R26,Tabelas!B:D,3,0),0),\"\")","v":0},{"$f":"IF(A26<>\"\",IFERROR(VLOOKUP(S26,Tabelas!B:D,3,0),0),\"\")","v":0},{"$f":"IF(A26<>\"\",IFERROR(VLOOKUP(T26,Tabelas!B:D,3,0),0),\"\")","v":0},{"$f":"IF(A26<>\"\",IFERROR(VLOOKUP(U26,Tabelas!B:D,3,0),0),\"\")","v":12},{"$f":"IF(A26<>\"\",IFERROR(VLOOKUP(V26,Tabelas!B:D,3,0),0),\"\")","v":0},{"$f":"IF(A26<>\"\",IFERROR(VLOOKUP(W26,Tabelas!B:D,3,0),0),\"\")","v":0},{"$f":"IF(A26<>\"\",IFERROR(VLOOKUP(X26,Tabelas!B:D,3,0),0),\"\")","v":0},{"$f":"IF(A26<>\"\",IFERROR(VLOOKUP(Y26,Tabelas!B:D,3,0),0),\"\")","v":0},{"$f":"IF(A26<>\"\",IFERROR(VLOOKUP(Z26,Tabelas!B:D,3,0),0),\"\")","v":0},{"$f":"IF(A26<>\"\",IFERROR(VLOOKUP(AA26,Tabelas!B:D,3,0),0),\"\")","v":12},{"$f":"IF(A26<>\"\",IFERROR(VLOOKUP(AB26,Tabelas!B:D,3,0),0),\"\")","v":0},{"$f":"IF(A26<>\"\",IFERROR(VLOOKUP(AC26,Tabelas!B:D,3,0),0),\"\")","v":12},{"$f":"IF(A26<>\"\",IFERROR(VLOOKUP(AD26,Tabelas!B:D,3,0),0),\"\")","v":0},{"$f":"IF(A26<>\"\",IFERROR(VLOOKUP(AE26,Tabelas!B:D,3,0),0),\"\")","v":0},{"$f":"IF(A26<>\"\",IFERROR(VLOOKUP(AF26,Tabelas!B:D,3,0),0),\"\")","v":0},{"$f":"IF(A26<>\"\",IFERROR(VLOOKUP(AG26,Tabelas!B:D,3,0),0),\"\")","v":0},{"$f":"IF(A26<>\"\",IFERROR(VLOOKUP(AH26,Tabelas!B:D,3,0),0),\"\")","v":0},{"$f":"IF(A26<>\"\",IFERROR(VLOOKUP(AI26,Tabelas!B:D,3,0),0),\"\")","v":0},{"$f":"IF(A26<>\"\",IFERROR(VLOOKUP(AJ26,Tabelas!B:D,3,0),0),\"\")","v":0},{"$f":"IF(A26<>\"\",IFERROR(VLOOKUP(AK26,Tabelas!B:D,3,0),0),\"\")","v":0},{"$f":"IF(A26<>\"\",IFERROR(VLOOKUP(AL26,Tabelas!B:D,3,0),0),\"\")","v":0},{"$f":"IF(A26<>\"\",IFERROR(VLOOKUP(AM26,Tabelas!B:D,3,0),0),\"\")","v":12},{"$f":"IF(A26<>\"\",IFERROR(VLOOKUP(AN26,Tabelas!B:D,3,0),0),\"\")","v":12},{"$f":"IF(A26<>\"\",IFERROR(VLOOKUP(AO26,Tabelas!B:D,3,0),0),\"\")","v":12},{"$f":"IF(A26<>\"\",IFERROR(VLOOKUP(AP26,Tabelas!B:D,3,0),0),\"\")","v":0},{"$f":"IF(A26<>\"\",IFERROR(VLOOKUP(AQ26,Tabelas!B:D,3,0),0),\"\")","v":0},96,0,0,0,0,0,0,0]
["Fernanda Goss Fontanella",1200689,null,"ME","EBSERH",24,null,null,null,null,null,null,null,null,null,null,"N10",null,null,"D8","N10",null,null,null,null,null,null,"N10",null,null,null,null,"N10",null,null,"N10",null,null,null,"D8",null,null,null,{"$f":"IF(A27<>\"\",IFERROR(VLOOKUP(M27,Tabelas!B:D,3,0),0),\"\")","v":0},{"$f":"IF(A27<>\"\",IFERROR(VLOOKUP(N27,Tabelas!B:D,3,0),0),\"\")","v":0},{"$f":"IF(A27<>\"\",IFERROR(VLOOKUP(O27,Tabelas!B:D,3,0),0),\"\")","v":0},{"$f":"IF(A27<>\"\",IFERROR(VLOOKUP(P27,Tabelas!B:D,3,0),0),\"\")","v":0},{"$f":"IF(A27<>\"\",IFERROR(VLOOKUP(Q27,Tabelas!B:D,3,0),0),\"\")","v":12},{"$f":"IF(A27<>\"\",IFERROR(VLOOKUP(R27,Tabelas!B:D,3,0),0),\"\")","v":0},{"$f":"IF(A27<>\"\",IFERROR(VLOOKUP(S27,Tabelas!B:D,3,0),0),\"\")","v":0},{"$f":"IF(A27<>\"\",IFERROR(VLOOKUP(T27,Tabelas!B:D,3,0),0),\"\")","v":12},{"$f":"IF(A27<>\"\",IFERROR(VLOOKUP(U27,Tabelas!B:D,3,0),0),\"\")","v":12},{"$f":"IF(A27<>\"\",IFERROR(VLOOKUP(V27,Tabelas!B:D,3,0),0),\"\")","v":0},{"$f":"IF(A27<>\"\",IFERROR(VLOOKUP(W27,Tabelas!B:D,3,0),0),\"\")","v":0},{"$f":"IF(A27<>\"\",IFERROR(VLOOKUP(X27,Tabelas!B:D,3,0),0),\"\")","v":0},{"$f":"IF(A27<>\"\",IFERROR(VLOOKUP(Y27,Tabelas!B:D,3,0),0),\"\")","v":0},{"$f":"IF(A27<>\"\",IFERROR(VLOOKUP(Z27,Tabelas!B:D,3,0),0),\"\")","v":0},{"$f":"IF(A27<>\"\",IFERROR(VLOOKUP(AA27,Tabelas!B:D,3,0),0),\"\")","v":0},{"$f":"IF(A27<>\"\",IFERROR(VLOOKUP(AB27,Tabelas!B:D,3,0),0),\"\")","v":12},{"$f":"IF(A27<>\"\",IFERROR(VLOOKUP(AC27,Tabelas!B:D,3,0),0),\"\")","v":0},{"$f":"IF(A27<>\"\",IFERROR(VLOOKUP(AD27,Tabelas!B:D,3,0),0),\"\")","v":0},{"$f":"IF(A27<>\"\",IFERROR(VLOOKUP(AE27,Tabelas!B:D,3,0),0),\"\")","v":0},{"$f":"IF(A27<>\"\",IFERROR(VLOOKUP(AF27,Tabelas!B:D,3,0),0),\"\")","v":0},{"$f":"IF(A27<>\"\",IFERROR(VLOOKUP(AG27,Tabelas!B:D,3,0),0),\"\")","v":12},{"$f":"IF(A27<>\"\",IFERROR(VLOOKUP(AH27,Tabelas!B:D,3,0),0),\"\")","v":0},{"$f":"IF(A27<>\"\",IFERROR(VLOOKUP(AI27,Tabelas!B:D,3,0),0),\"\")","v":0},{"$f":"IF(A27<>\"\",IFERROR(VLOOKUP(AJ27,Tabelas!B:D,3,0),0),\"\")","v":12},{"$f":"IF(A27<>\"\",IFERROR(VLOOKUP(AK27,Tabelas!B:D,3,0),0),\"\")","v":0},{"$f":"IF(A27<>\"\",IFERROR(VLOOKUP(AL27,Tabelas!B:D,3,0),0),\"\")","v":0},{"$f":"IF(A27<>\"\",IFERROR(VLOOKUP(AM27,Tabelas!B:D,3,0),0),\"\")","v":0},{"$f":"IF(A27<>\"\",IFERROR(VLOOKUP(AN27,Tabelas!B:D,3,0),0),\"\")","v":12},{"$f":"IF(A27<>\"\",IFERROR(VLOOKUP(AO27,Tabelas!B:D,3,0),0),\"\")","v":0},{"$f":"IF(A27<>\"\",IFERROR(VLOOKUP(AP27,Tabelas!B:D,3,0),0),\"\")","v":0},{"$f":"IF(A27<>\"\",IFERROR(VLOOKUP(AQ27,Tabelas!B:D,3,0),0),\"\")","v":0},89,0,0,0,0,0,0,0]
["Irácino José Miranda Júnior",1006032,null,"ME","EBSERH",24,null,null,null,null,null,null,null,null,null,null,null,null,null,null,null,null,null,null,null,null,null,null,null,null,"N10",null,"D8",null,null,null,"N10",null,null,null,"D8",null,null,{"$f":"IF(A28<>\"\",IFERROR(VLOOKUP(M28,Tabelas!B:D,3,0),0),\"\")","v":0},{"$f":"IF(A28<>\"\",IFERROR(VLOOKUP(N28,Tabelas!B:D,3,0),0),\"\")","v":0},{"$f":"IF(A28<>\"\",IFERROR(VLOOKUP(O28,Tabelas!B:D,3,0),0),\"\")","v":0},{"$f":"IF(A28<>\"\",IFERROR(VLOOKUP(P28,Tabelas!B:D,3,0),0),\"\")","v":0},{"$f":"IF(A28<>\"\",IFERROR(VLOOKUP(Q28,Tabelas!B:D,3,0),0),\"\")","v":0},{"$f":"IF(A28<>\"\",IFERROR(VLOOKUP(R28,Tabelas!B:D,3,0),0),\"\")","v":0},{"$f":"IF(A28<>\"\",IFERROR(VLOOKUP(S28,Tabelas!B:D,3,0),0),\"\")","v":0},{"$f":"IF(A28<>\"\",IFERROR(VLOOKUP(T28,Tabelas!B:D,3,0),0),\"\")","v":0},{"$f":"IF(A28<>\"\",IFERROR(VLOOKUP(U28,Tabelas!B:D,3,0),0),\"\")","v":0},{"$f":"IF(A28<>\"\",IFERROR(VLOOKUP(V28,Tabelas!B:D,3,0),0),\"\")","v":0},{"$f":"IF(A28<>\"\",IFERROR(VLOOKUP(W28,Tabelas!B:D,3,0),0),\"\")","v":0},{"$f":"IF(A28<>\"\",IFERROR(VLOOKUP(X28,Tabelas!B:D,3,0),0),\"\")","v":0},{"$f":"IF(A28<>\"\",IFERROR(VLOOKUP(Y28,Tabelas!B:D,3,0),0),\"\")","v":0},{"$f":"IF(A28<>\"\",IFERROR(VLOOKUP(Z28,Tabelas!B:D,3,0),0),\"\")","v":0},{"$f":"IF(A28<>\"\",IFERROR(VLOOKUP(AA28,Tabelas!B:D,3,0),0),\"\")","v":0},{"$f":"IF(A28<>\"\",IFERROR(VLOOKUP(AB28,Tabelas!B:D,3,0),0),\"\")","v":0},{"$f":"IF(A28<>\"\",IFERROR(VLOOKUP(AC28,Tabelas!B:D,3,0),0),\"\")","v":0},{"$f":"IF(A28<>\"\",IFERROR(VLOOKUP(AD28,Tabelas!B:D,3,0),0),\"\")","v":0},{"$f":"IF(A28<>\"\",IFERROR(VLOOKUP(AE28,Tabelas!B:D,3,0),0),\"\")","v":12},{"$f":"IF(A28<>\"\",IFERROR(VLOOKUP(AF28,Tabelas!B:D,3,0),0),\"\")","v":0},{"$f":"IF(A28<>\"\",IFERROR(VLOOKUP(AG28,Tabelas!B:D,3,0),0),\"\")","v":12},{"$f":"IF(A28<>\"\",IFERROR(VLOOKUP(AH28,Tabelas!B:D,3,0),0),\"\")","v":0},{"$f":"IF(A28<>\"\",IFERROR(VLOOKUP(AI28,Tabelas!B:D,3,0),0),\"\")","v":0},{"$f":"IF(A28<>\"\",IFERROR(VLOOKUP(AJ28,Tabelas!B:D,3,0),0),\"\")","v":0},{"$f":"IF(A28<>\"\",IFERROR(VLOOKUP(AK28,Tabelas!B:D,3,0),0),\"\")","v":12},{"$f":"IF(A28<>\"\",IFERROR(VLOOKUP(AL28,Tabelas!B:D,3,0),0),\"\")","v":0},{"$f":"IF(A28<>\"\",IFERROR(VLOOKUP(AM28,Tabelas!B:D,3,0),0),\"\")","v":0},{"$f":"IF(A28<>\"\",IFERROR(VLOOKUP(AN28,Tabelas!B:D,3,0),0),\"\")","v":0},{"$f":"IF(A28<>\"\",IFERROR(VLOOKUP(AO28,Tabelas!B:D,3,0),0),\"\")","v":12},{"$f":"IF(A28<>\"\",IFERROR(VLOOKUP(AP28,Tabelas!B:D,3,0),0),\"\")","v":0},{"$f":"IF(A28<>\"\",IFERROR(VLOOKUP(AQ28,Tabelas!B:D,3,0),0),\"\")","v":0},50,0,0,0,0,0,0,0]
["Jaqueline Flores Rohr",2841545,null,"ME","EBSERH",24,null,null,null,null,null,null,null,"N10",null,null,null,"N10",null,"D8",null,"N10",null,null,null,null,null,"N10",null,null,null,null,"DN6",null,null,null,"N10",null,null,"N10",null,null,null,null,null,null,null,null,null,null,null,null,null,null,null,null,null,null,null,null,null,null,null,null,null,null,null,null,null,null,null,null,null,null,null,0,0,0,0,0,0,0]
["João Luiz Henrique da Silveira",1704052,null,"ME","EBSERH",24,null,null,null,null,null,null,"N10",null,null,null,null,null,null,"N10",null,null,null,null,"N10",null,"D8",null,null,null,null,null,null,"D8","N10",null,null,"N10",null,null,null,null,null,{"$f":"IF(A30<>\"\",IFERROR(VLOOKUP(M30,Tabelas!B:D,3,0),0),\"\")","v":12},{"$f":"IF(A30<>\"\",IFERROR(VLOOKUP(N30,Tabelas!B:D,3,0),0),\"\")","v":0},{"$f":"IF(A30<>\"\",IFERROR(VLOOKUP(O30,Tabelas!B:D,3,0),0),\"\")","v":0},{"$f":"IF(A30<>\"\",IFERROR(VLOOKUP(P30,Tabelas!B:D,3,0),0),\"\")","v":0},{"$f":"IF(A30<>\"\",IFERROR(VLOOKUP(Q30,Tabelas!B:D,3,0),0),\"\")","v":0},{"$f":"IF(A30<>\"\",IFERROR(VLOOKUP(R30,Tabelas!B:D,3,0),0),\"\")","v":0},{"$f":"IF(A30<>\"\",IFERROR(VLOOKUP(S30,Tabelas!B:D,3,0),0),\"\")","v":0},{"$f":"IF(A30<>\"\",IFERROR(VLOOKUP(T30,Tabelas!B:D,3,0),0),\"\")","v":12},{"$f":"IF(A30<>\"\",IFERROR(VLOOKUP(U30,Tabelas!B:D,3,0),0),\"\")","v":0},{"$f":"IF(A30<>\"\",IFERROR(VLOOKUP(V30,Tabelas!B:D,3,0),0),\"\")","v":0},{"$f":"IF(A30<>\"\",IFERROR(VLOOKUP(W30,Tabelas!B:D,3,0),0),\"\")","v":0},{"$f":"IF(A30<>\"\",IFERROR(VLOOKUP(X30,Tabelas!B:D,3,0),0),\"\")","v":0},{"$f":"IF(A30<>\"\",IFERROR(VLOOKUP(Y30,Tabelas!B:D,3,0),0),\"\")","v":12},{"$f":"IF(A30<>\"\",IFERROR(VLOOKUP(Z30,Tabelas!B:D,3,0),0),\"\")","v":0},{"$f":"IF(A30<>\"\",IFERROR(VLOOKUP(AA30,Tabelas!B:D,3,0),0),\"\")","v":12},{"$f":"IF(A30<>\"\",IFERROR(VLOOKUP(AB30,Tabelas!B:D,3,0),0),\"\")","v":0},{"$f":"IF(A30<>\"\",IFERROR(VLOOKUP(AC30,Tabelas!B:D,3,0),0),\"\")","v":0},{"$f":"IF(A30<>\"\",IFERROR(VLOOKUP(AD30,Tabelas!B:D,3,0),0),\"\")","v":0},{"$f":"IF(A30<>\"\",IFERROR(VLOOKUP(AE30,Tabelas!B:D,3,0),0),\"\")","v":0},{"$f":"IF(A30<>\"\",IFERROR(VLOOKUP(AF30,Tabelas!B:D,3,0),0),\"\")","v":0},{"$f":"IF(A30<>\"\",IFERROR(VLOOKUP(AG30,Tabelas!B:D,3,0),0),\"\")","v":0},{"$f":"IF(A30<>\"\",IFERROR(VLOOKUP(AH30,Tabelas!B:D,3,0),0),\"\")","v":12},{"$f":"IF(A30<>\"\",IFERROR(VLOOKUP(AI30,Tabelas!B:D,3,0),0),\"\")","v":12},{"$f":"IF(A30<>\"\",IFERROR(VLOOKUP(AJ30,Tabelas!B:D,3,0),0),\"\")","v":0},{"$f":"IF(A30<>\"\",IFERROR(VLOOKUP(AK30,Tabelas!B:D,3,0),0),\"\")","v":0},{"$f":"IF(A30<>\"\",IFERROR(VLOOKUP(AL30,Tabelas!B:D,3,0),0),\"\")","v":12},{"$f":"IF(A30<>\"\",IFERROR(VLOOKUP(AM30,Tabelas!B:D,3,0),0),\"\")","v":0},{"$f":"IF(A30<>\"\",IFERROR(VLOOKUP(AN30,Tabelas!B:D,3,0),0),\"\")","v":0},{"$f":"IF(A30<>\"\",IFERROR(VLOOKUP(AO30,Tabelas!B:D,3,0),0),\"\")","v":0},{"$f":"IF(A30<>\"\",IFERROR(VLOOKUP(AP30,Tabelas!B:D,3,0),0),\"\")","v":0},{"$f":"IF(A30<>\"\",IFERROR(VLOOKUP(AQ30,Tabelas!B:D,3,0),0),\"\")","v":0},89,0,0,0,0,0,0,0]
["Joel de Andrade",1160444,null,"ME","RJU",40,null,null,null,null,null,null,null,null,null,null,null,null,null,null,null,null,null,null,null,null,null,null,null,null,null,null,null,null,null,null,null,null,null,null,null,null,null,{"$f":"IF(A31<>\"\",IFERROR(VLOOKUP(M31,Tabelas!B:D,3,0),0),\"\")","v":0},{"$f":"IF(A31<>\"\",IFERROR(VLOOKUP(N31,Tabelas!B:D,3,0),0),\"\")","v":0},{"$f":"IF(A31<>\"\",IFERROR(VLOOKUP(O31,Tabelas!B:D,3,0),0),\"\")","v":0},{"$f":"IF(A31<>\"\",IFERROR(VLOOKUP(P31,Tabelas!B:D,3,0),0),\"\")","v":0},{"$f":"IF(A31<>\"\",IFERROR(VLOOKUP(Q31,Tabelas!B:D,3,0),0),\"\")","v":0},{"$f":"IF(A31<>\"\",IFERROR(VLOOKUP(R31,Tabelas!B:D,3,0),0),\"\")","v":0},{"$f":"IF(A31<>\"\",IFERROR(VLOOKUP(S31,Tabelas!B:D,3,0),0),\"\")","v":0},{"$f":"IF(A31<>\"\",IFERROR(VLOOKUP(T31,Tabelas!B:D,3,0),0),\"\")","v":0},{"$f":"IF(A31<>\"\",IFERROR(VLOOKUP(U31,Tabelas!B:D,3,0),0),\"\")","v":0},{"$f":"IF(A31<>\"\",IFERROR(VLOOKUP(V31,Tabelas!B:D,3,0),0),\"\")","v":0},{"$f":"IF(A31<>\"\",IFERROR(VLOOKUP(W31,Tabelas!B:D,3,0),0),\"\")","v":0},{"$f":"IF(A31<>\"\",IFERROR(VLOOKUP(X31,Tabelas!B:D,3,0),0),\"\")","v":0},{"$f":"IF(A31<>\"\",IFERROR(VLOOKUP(Y31,Tabelas!B:D,3,0),0),\"\")","v":0},{"$f":"IF(A31<>\"\",IFERROR(VLOOKUP(Z31,Tabelas!B:D,3,0),0),\"\")","v":0},{"$f":"IF(A31<>\"\",IFERROR(VLOOKUP(AA31,Tabelas!B:D,3,0),0),\"\")","v":0},{"$f":"IF(A31<>\"\",IFERROR(VLOOKUP(AB31,Tabelas!B:D,3,0),0),\"\")","v":0},{"$f":"IF(A31<>\"\",IFERROR(VLOOKUP(AC31,Tabelas!B:D,3,0),0),\"\")","v":0},{"$f":"IF(A31<>\"\",IFERROR(VLOOKUP(AD31,Tabelas!B:D,3,0),0),\"\")","v":0},{"$f":"IF(A31<>\"\",IFERROR(VLOOKUP(AE31,Tabelas!B:D,3,0),0),\"\")","v":0},{"$f":"IF(A31<>\"\",IFERROR(VLOOKUP(AF31,Tabelas!B:D,3,0),0),\"\")","v":0},{"$f":"IF(A31<>\"\",IFERROR(VLOOKUP(AG31,Tabelas!B:D,3,0),0),\"\")","v":0},{"$f":"IF(A31<>\"\",IFERROR(VLOOKUP(AH31,Tabelas!B:D,3,0),0),\"\")","v":0},{"$f":"IF(A31<>\"\",IFERROR(VLOOKUP(AI31,Tabelas!B:D,3,0),0),\"\")","v":0},{"$f":"IF(A31<>\"\",IFERROR(VLOOKUP(AJ31,Tabelas!B:D,3,0),0),\"\")","v":0},{"$f":"IF(A31<>\"\",IFERROR(VLOOKUP(AK31,Tabelas!B:D,3,0),0),\"\")","v":0},{"$f":"IF(A31<>\"\",IFERROR(VLOOKUP(AL31,Tabelas!B:D,3,0),0),\"\")","v":0},{"$f":"IF(A31<>\"\",IFERROR(VLOOKUP(AM31,Tabelas!B:D,3,0),0),\"\")","v":0},{"$f":"IF(A31<>\"\",IFERROR(VLOOKUP(AN31,Tabelas!B:D,3,0),0),\"\")","v":0},{"$f":"IF(A31<>\"\",IFERROR(VLOOKUP(AO31,Tabelas!B:D,3,0),0),\"\")","v":0},{"$f":"IF(A31<>\"\",IFERROR(VLOOKUP(AP31,Tabelas!B:D,3,0),0),\"\")","v":0},{"$f":"IF(A31<>\"\",IFERROR(VLOOKUP(AQ31,Tabelas!B:D,3,0),0),\"\")","v":0},0,0,0,0,0,0,0,0]
["Karine da Costa Damiani Cabral",2925603,null,"ME","RJU",30,null,null,null,null,null,null,null,null,null,null,null,null,null,null,null,"N10"]
["Pedro Luz da Rosa",2606805,null,"ME","RJU",20,null,null,null,null,null,null,"D8",null,null,null,null,"N10","D8",null,"N10",null,null,null,null,null,null,null,null,"N10",null,null,null,null,null,null,null,"N10",null,"N10",null,null,null,{"$f":"IF(A33<>\"\",IFERROR(VLOOKUP(M33,Tabelas!B:D,3,0),0),\"\")","v":12},{"$f":"IF(A33<>\"\",IFERROR(VLOOKUP(N33,Tabelas!B:D,3,0),0),\"\")","v":0},{"$f":"IF(A33<>\"\",IFERROR(VLOOKUP(O33,Tabelas!B:D,3,0),0),\"\")","v":0},{"$f":"IF(A33<>\"\",IFERROR(VLOOKUP(P33,Tabelas!B:D,3,0),0),\"\")","v":0},{"$f":"IF(A33<>\"\",IFERROR(VLOOKUP(Q33,Tabelas!B:D,3,0),0),\"\")","v":0},{"$f":"IF(A33<>\"\",IFERROR(VLOOKUP(R33,Tabelas!B:D,3,0),0),\"\")","v":12},{"$f":"IF(A33<>\"\",IFERROR(VLOOKUP(S33,Tabelas!B:D,3,0),0),\"\")","v":12},{"$f":"IF(A33<>\"\",IFERROR(VLOOKUP(T33,Tabelas!B:D,3,0),0),\"\")","v":0},{"$f":"IF(A33<>\"\",IFERROR(VLOOKUP(U33,Tabelas!B:D,3,0),0),\"\")","v":12},{"$f":"IF(A33<>\"\",IFERROR(VLOOKUP(V33,Tabelas!B:D,3,0),0),\"\")","v":0},{"$f":"IF(A33<>\"\",IFERROR(VLOOKUP(W33,Tabelas!B:D,3,0),0),\"\")","v":0},{"$f":"IF(A33<>\"\",IFERROR(VLOOKUP(X33,Tabelas!B:D,3,0),0),\"\")","v":0},{"$f":"IF(A33<>\"\",IFERROR(VLOOKUP(Y33,Tabelas!B:D,3,0),0),\"\")","v":0},{"$f":"IF(A33<>\"\",IFERROR(VLOOKUP(Z33,Tabelas!B:D,3,0),0),\"\")","v":0},{"$f":"IF(A33<>\"\",IFERROR(VLOOKUP(AA33,Tabelas!B:D,3,0),0),\"\")","v":0},{"$f":"IF(A33<>\"\",IFERROR(VLOOKUP(AB33,Tabelas!B:D,3,0),0),\"\")","v":0},{"$f":"IF(A33<>\"\",IFERROR(VLOOKUP(AC33,Tabelas!B:D,3,0),0),\"\")","v":0},{"$f":"IF(A33<>\"\",IFERROR(VLOOKUP(AD33,Tabelas!B:D,3,0),0),\"\")","v":12},{"$f":"IF(A33<>\"\",IFERROR(VLOOKUP(AE33,Tabelas!B:D,3,0),0),\"\")","v":0},{"$f":"IF(A33<>\"\",IFERROR(VLOOKUP(AF33,Tabelas!B:D,3,0),0),\"\")","v":0},{"$f":"IF(A33<>\"\",IFERROR(VLOOKUP(AG33,Tabelas!B:D,3,0),0),\"\")","v":0},{"$f":"IF(A33<>\"\",IFERROR(VLOOKUP(AH33,Tabelas!B:D,3,0),0),\"\")","v":0},{"$f":"IF(A33<>\"\",IFERROR(VLOOKUP(AI33,Tabelas!B:D,3,0),0),\"\")","v":0},{"$f":"IF(A33<>\"\",IFERROR(VLOOKUP(AJ33,Tabelas!B:D,3,0),0),\"\")","v":0},{"$f":"IF(A33<>\"\",IFERROR(VLOOKUP(AK33,Tabelas!B:D,3,0),0),\"\")","v":0},{"$f":"IF(A33<>\"\",IFERROR(VLOOKUP(AL33,Tabelas!B:D,3,0),0),\"\")","v":12},{"$f":"IF(A33<>\"\",IFERROR(VLOOKUP(AM33,Tabelas!B:D,3,0),0),\"\")","v":0},{"$f":"IF(A33<>\"\",IFERROR(VLOOKUP(AN33,Tabelas!B:D,3,0),0),\"\")","v":12},{"$f":"IF(A33<>\"\",IFERROR(VLOOKUP(AO33,Tabelas!B:D,3,0),0),\"\")","v":0},{"$f":"IF(A33<>\"\",IFERROR(VLOOKUP(AP33,Tabelas!B:D,3,0),0),\"\")","v":0},{"$f":"IF(A33<>\"\",IFERROR(VLOOKUP(AQ33,Tabelas!B:D,3,0),0),\"\")","v":0},84,0,0,0,0,0,0,0]
["Robson Lima Ribeiro",3369679,null,"ME","RJU",20,null,null,null,null,null,null,"D8",null,null,null,"N10",null,null,"N10",null,null,null,null,"N10",null,null,null,null,"N10",null,null,"N10",null,null,"N10",null,null,null,null,null,null,null,{"$f":"IF(A34<>\"\",IFERROR(VLOOKUP(M34,Tabelas!B:D,3,0),0),\"\")","v":12},{"$f":"IF(A34<>\"\",IFERROR(VLOOKUP(N34,Tabelas!B:D,3,0),0),\"\")","v":0},{"$f":"IF(A34<>\"\",IFERROR(VLOOKUP(O34,Tabelas!B:D,3,0),0),\"\")","v":0},{"$f":"IF(A34<>\"\",IFERROR(VLOOKUP(P34,Tabelas!B:D,3,0),0),\"\")","v":0},{"$f":"IF(A34<>\"\",IFERROR(VLOOKUP(Q34,Tabelas!B:D,3,0),0),\"\")","v":12},{"$f":"IF(A34<>\"\",IFERROR(VLOOKUP(R34,Tabelas!B:D,3,0),0),\"\")","v":0},{"$f":"IF(A34<>\"\",IFERROR(VLOOKUP(S34,Tabelas!B:D,3,0),0),\"\")","v":0},{"$f":"IF(A34<>\"\",IFERROR(VLOOKUP(T34,Tabelas!B:D,3,0),0),\"\")","v":12},{"$f":"IF(A34<>\"\",IFERROR(VLOOKUP(U34,Tabelas!B:D,3,0),0),\"\")","v":0},{"$f":"IF(A34<>\"\",IFERROR(VLOOKUP(V34,Tabelas!B:D,3,0),0),\"\")","v":0},{"$f":"IF(A34<>\"\",IFERROR(VLOOKUP(W34,Tabelas!B:D,3,0),0),\"\")","v":0},{"$f":"IF(A34<>\"\",IFERROR(VLOOKUP(X34,Tabelas!B:D,3,0),0),\"\")","v":0},{"$f":"IF(A34<>\"\",IFERROR(VLOOKUP(Y34,Tabelas!B:D,3,0),0),\"\")","v":12},{"$f":"IF(A34<>\"\",IFERROR(VLOOKUP(Z34,Tabelas!B:D,3,0),0),\"\")","v":0},{"$f":"IF(A34<>\"\",IFERROR(VLOOKUP(AA34,Tabelas!B:D,3,0),0),\"\")","v":0},{"$f":"IF(A34<>\"\",IFERROR(VLOOKUP(AB34,Tabelas!B:D,3,0),0),\"\")","v":0},{"$f":"IF(A34<>\"\",IFERROR(VLOOKUP(AC34,Tabelas!B:D,3,0),0),\"\")","v":0},{"$f":"IF(A34<>\"\",IFERROR(VLOOKUP(AD34,Tabelas!B:D,3,0),0),\"\")","v":12},{"$f":"IF(A34<>\"\",IFERROR(VLOOKUP(AE34,Tabelas!B:D,3,0),0),\"\")","v":0},{"$f":"IF(A34<>\"\",IFERROR(VLOOKUP(AF34,Tabelas!B:D,3,0),0),\"\")","v":0},{"$f":"IF(A34<>\"\",IFERROR(VLOOKUP(AG34,Tabelas!B:D,3,0),0),\"\")","v":12},{"$f":"IF(A34<>\"\",IFERROR(VLOOKUP(AH34,Tabelas!B:D,3,0),0),\"\")","v":0},{"$f":"IF(A34<>\"\",IFERROR(VLOOKUP(AI34,Tabelas!B:D,3,0),0),\"\")","v":0},{"$f":"IF(A34<>\"\",IFERROR(VLOOKUP(AJ34,Tabelas!B:D,3,0),0),\"\")","v":12},{"$f":"IF(A34<>\"\",IFERROR(VLOOKUP(AK34,Tabelas!B:D,3,0),0),\"\")","v":0},{"$f":"IF(A34<>\"\",IFERROR(VLOOKUP(AL34,Tabelas!B:D,3,0),0),\"\")","v":0},{"$f":"IF(A34<>\"\",IFERROR(VLOOKUP(AM34,Tabelas!B:D,3,0),0),\"\")","v":0},{"$f":"IF(A34<>\"\",IFERROR(VLOOKUP(AN34,Tabelas!B:D,3,0),0),\"\")","v":0},{"$f":"IF(A34<>\"\",IFERROR(VLOOKUP(AO34,Tabelas!B:D,3,0),0),\"\")","v":0},{"$f":"IF(A34<>\"\",IFERROR(VLOOKUP(AP34,Tabelas!B:D,3,0),0),\"\")","v":0},{"$f":"IF(A34<>\"\",IFERROR(VLOOKUP(AQ34,Tabelas!B:D,3,0),0),\"\")","v":0},84,0,0,0,0,0,0,0]
["Rodrigo Lebarbenchon",1160132,null,"ME","RJU",20,null,null,null,null,null,null,null,null,null,null,null,null,null,null,null,null,null,null,null,null,null,null,null,null,null,null,null,null,null,null,null,null,null,null,null,null,null,{"$f":"IF(A35<>\"\",IFERROR(VLOOKUP(M35,Tabelas!B:D,3,0),0),\"\")","v":0},{"$f":"IF(A35<>\"\",IFERROR(VLOOKUP(N35,Tabelas!B:D,3,0),0),\"\")","v":0},{"$f":"IF(A35<>\"\",IFERROR(VLOOKUP(O35,Tabelas!B:D,3,0),0),\"\")","v":0},{"$f":"IF(A35<>\"\",IFERROR(VLOOKUP(P35,Tabelas!B:D,3,0),0),\"\")","v":0},{"$f":"IF(A35<>\"\",IFERROR(VLOOKUP(Q35,Tabelas!B:D,3,0),0),\"\")","v":0},{"$f":"IF(A35<>\"\",IFERROR(VLOOKUP(R35,Tabelas!B:D,3,0),0),\"\")","v":0},{"$f":"IF(A35<>\"\",IFERROR(VLOOKUP(S35,Tabelas!B:D,3,0),0),\"\")","v":0},{"$f":"IF(A35<>\"\",IFERROR(VLOOKUP(T35,Tabelas!B:D,3,0),0),\"\")","v":0},{"$f":"IF(A35<>\"\",IFERROR(VLOOKUP(U35,Tabelas!B:D,3,0),0),\"\")","v":0},{"$f":"IF(A35<>\"\",IFERROR(VLOOKUP(V35,Tabelas!B:D,3,0),0),\"\")","v":0},{"$f":"IF(A35<>\"\",IFERROR(VLOOKUP(W35,Tabelas!B:D,3,0),0),\"\")","v":0},{"$f":"IF(A35<>\"\",IFERROR(VLOOKUP(X35,Tabelas!B:D,3,0),0),\"\")","v":0},{"$f":"IF(A35<>\"\",IFERROR(VLOOKUP(Y35,Tabelas!B:D,3,0),0),\"\")","v":0},{"$f":"IF(A35<>\"\",IFERROR(VLOOKUP(Z35,Tabelas!B:D,3,0),0),\"\")","v":0},{"$f":"IF(A35<>\"\",IFERROR(VLOOKUP(AA35,Tabelas!B:D,3,0),0),\"\")","v":0},{"$f":"IF(A35<>\"\",IFERROR(VLOOKUP(AB35,Tabelas!B:D,3,0),0),\"\")","v":0},{"$f":"IF(A35<>\"\",IFERROR(VLOOKUP(AC35,Tabelas!B:D,3,0),0),\"\")","v":0},{"$f":"IF(A35<>\"\",IFERROR(VLOOKUP(AD35,Tabelas!B:D,3,0),0),\"\")","v":0},{"$f":"IF(A35<>\"\",IFERROR(VLOOKUP(AE35,Tabelas!B:D,3,0),0),\"\")","v":0},{"$f":"IF(A35<>\"\",IFERROR(VLOOKUP(AF35,Tabelas!B:D,3,0),0),\"\")","v":0},{"$f":"IF(A35<>\"\",IFERROR(VLOOKUP(AG35,Tabelas!B:D,3,0),0),\"\")","v":0},{"$f":"IF(A35<>\"\",IFERROR(VLOOKUP(AH35,Tabelas!B:D,3,0),0),\"\")","v":0},{"$f":"IF(A35<>\"\",IFERROR(VLOOKUP(AI35,Tabelas!B:D,3,0),0),\"\")","v":0},{"$f":"IF(A35<>\"\",IFERROR(VLOOKUP(AJ35,Tabelas!B:D,3,0),0),\"\")","v":0},{"$f":"IF(A35<>\"\",IFERROR(VLOOKUP(AK35,Tabelas!B:D,3,0),0),\"\")","v":0},{"$f":"IF(A35<>\"\",IFERROR(VLOOKUP(AL35,Tabelas!B:D,3,0),0),\"\")","v":0},{"$f":"IF(A35<>\"\",IFERROR(VLOOKUP(AM35,Tabelas!B:D,3,0),0),\"\")","v":0},{"$f":"IF(A35<>\"\",IFERROR(VLOOKUP(AN35,Tabelas!B:D,3,0),0),\"\")","v":0},{"$f":"IF(A35<>\"\",IFERROR(VLOOKUP(AO35,Tabelas!B:D,3,0),0),\"\")","v":0},{"$f":"IF(A35<>\"\",IFERROR(VLOOKUP(AP35,Tabelas!B:D,3,0),0),\"\")","v":0},{"$f":"IF(A35<>\"\",IFERROR(VLOOKUP(AQ35,Tabelas!B:D,3,0),0),\"\")","v":0},0,0,0,0,0,0,0,0]
["Thales Roberto Schott da Silva",1160552,null,"ME","RJU",20,null,null,null,null,null,null,"N10",null,null,"N10",null,null,null,null,null,null,null,"N10",null,"D8",null,null,"N10",null,null,null,null,"D8","N10",null,null,null,null,null,null,null,null,{"$f":"IF(A36<>\"\",IFERROR(VLOOKUP(M36,Tabelas!B:D,3,0),0),\"\")","v":12},{"$f":"IF(A36<>\"\",IFERROR(VLOOKUP(N36,Tabelas!B:D,3,0),0),\"\")","v":0},{"$f":"IF(A36<>\"\",IFERROR(VLOOKUP(O36,Tabelas!B:D,3,0),0),\"\")","v":0},{"$f":"IF(A36<>\"\",IFERROR(VLOOKUP(P36,Tabelas!B:D,3,0),0),\"\")","v":12},{"$f":"IF(A36<>\"\",IFERROR(VLOOKUP(Q36,Tabelas!B:D,3,0),0),\"\")","v":0},{"$f":"IF(A36<>\"\",IFERROR(VLOOKUP(R36,Tabelas!B:D,3,0),0),\"\")","v":0},{"$f":"IF(A36<>\"\",IFERROR(VLOOKUP(S36,Tabelas!B:D,3,0),0),\"\")","v":0},{"$f":"IF(A36<>\"\",IFERROR(VLOOKUP(T36,Tabelas!B:D,3,0),0),\"\")","v":0},{"$f":"IF(A36<>\"\",IFERROR(VLOOKUP(U36,Tabelas!B:D,3,0),0),\"\")","v":0},{"$f":"IF(A36<>\"\",IFERROR(VLOOKUP(V36,Tabelas!B:D,3,0),0),\"\")","v":0},{"$f":"IF(A36<>\"\",IFERROR(VLOOKUP(W36,Tabelas!B:D,3,0),0),\"\")","v":0},{"$f":"IF(A36<>\"\",IFERROR(VLOOKUP(X36,Tabelas!B:D,3,0),0),\"\")","v":12},{"$f":"IF(A36<>\"\",IFERROR(VLOOKUP(Y36,Tabelas!B:D,3,0),0),\"\")","v":0},{"$f":"IF(A36<>\"\",IFERROR(VLOOKUP(Z36,Tabelas!B:D,3,0),0),\"\")","v":12},{"$f":"IF(A36<>\"\",IFERROR(VLOOKUP(AA36,Tabelas!B:D,3,0),0),\"\")","v":0},{"$f":"IF(A36<>\"\",IFERROR(VLOOKUP(AB36,Tabelas!B:D,3,0),0),\"\")","v":0},{"$f":"IF(A36<>\"\",IFERROR(VLOOKUP(AC36,Tabelas!B:D,3,0),0),\"\")","v":12},{"$f":"IF(A36<>\"\",IFERROR(VLOOKUP(AD36,Tabelas!B:D,3,0),0),\"\")","v":0},{"$f":"IF(A36<>\"\",IFERROR(VLOOKUP(AE36,Tabelas!B:D,3,0),0),\"\")","v":0},{"$f":"IF(A36<>\"\",IFERROR(VLOOKUP(AF36,Tabelas!B:D,3,0),0),\"\")","v":0},{"$f":"IF(A36<>\"\",IFERROR(VLOOKUP(AG36,Tabelas!B:D,3,0),0),\"\")","v":0},{"$f":"IF(A36<>\"\",IFERROR(VLOOKUP(AH36,Tabelas!B:D,3,0),0),\"\")","v":12},{"$f":"IF(A36<>\"\",IFERROR(VLOOKUP(AI36,Tabelas!B:D,3,0),0),\"\")","v":12},{"$f":"IF(A36<>\"\",IFERROR(VLOOKUP(AJ36,Tabelas!B:D,3,0),0),\"\")","v":0},{"$f":"IF(A36<>\"\",IFERROR(VLOOKUP(AK36,Tabelas!B:D,3,0),0),\"\")","v":0},{"$f":"IF(A36<>\"\",IFERROR(VLOOKUP(AL36,Tabelas!B:D,3,0),0),\"\")","v":0},{"$f":"IF(A36<>\"\",IFERROR(VLOOKUP(AM36,Tabelas!B:D,3,0),0),\"\")","v":0},{"$f":"IF(A36<>\"\",IFERROR(VLOOKUP(AN36,Tabelas!B:D,3,0),0),\"\")","v":0},{"$f":"IF(A36<>\"\",IFERROR(VLOOKUP(AO36,Tabelas!B:D,3,0),0),\"\")","v":0},{"$f":"IF(A36<>\"\",IFERROR(VLOOKUP(AP36,Tabelas!B:D,3,0),0),\"\")","v":0},{"$f":"IF(A36<>\"\",IFERROR(VLOOKUP(AQ36,Tabelas!B:D,3,0),0),\"\")","v":0},84,0,0,0,0,0,0,0]
[]
[null,null,null,null,null,null,null,null,null,null,null,null,null,null,null,null,null,null,null,null,null,null,null,null,null,null,null,null,null,null,null,null,null,null,null,null,null,null,null,null,null,null,null,{"$f":"IF(A38<>\"\",IFERROR(VLOOKUP(M38,Tabelas!B:D,3,0),0),\"\")","v":""},{"$f":"IF(A38<>\"\",IFERROR(VLOOKUP(N38,Tabelas!B:D,3,0),0),\"\")","v":""},{"$f":"IF(A38<>\"\",IFERROR(VLOOKUP(O38,Tabelas!B:D,3,0),0),\"\")","v":""},{"$f":"IF(A38<>\"\",IFERROR(VLOOKUP(P38,Tabelas!B:D,3,0),0),\"\")","v":""},{"$f":"IF(A38<>\"\",IFERROR(VLOOKUP(Q38,Tabelas!B:D,3,0),0),\"\")","v":""},{"$f":"IF(A38<>\"\",IFERROR(VLOOKUP(R38,Tabelas!B:D,3,0),0),\"\")","v":""},{"$f":"IF(A38<>\"\",IFERROR(VLOOKUP(S38,Tabelas!B:D,3,0),0),\"\")","v":""},{"$f":"IF(A38<>\"\",IFERROR(VLOOKUP(T38,Tabelas!B:D,3,0),0),\"\")","v":""},{"$f":"IF(A38<>\"\",IFERROR(VLOOKUP(U38,Tabelas!B:D,3,0),0),\"\")","v":""},{"$f":"IF(A38<>\"\",IFERROR(VLOOKUP(V38,Tabelas!B:D,3,0),0),\"\")","v":""},{"$f":"IF(A38<>\"\",IFERROR(VLOOKUP(W38,Tabelas!B:D,3,0),0),\"\")","v":""},{"$f":"IF(A38<>\"\",IFERROR(VLOOKUP(X38,Tabelas!B:D,3,0),0),\"\")","v":""},{"$f":"IF(A38<>\"\",IFERROR(VLOOKUP(Y38,Tabelas!B:D,3,0),0),\"\")","v":""},{"$f":"IF(A38<>\"\",IFERROR(VLOOKUP(Z38,Tabelas!B:D,3,0),0),\"\")","v":""},{"$f":"IF(A38<>\"\",IFERROR(VLOOKUP(AA38,Tabelas!B:D,3,0),0),\"\")","v":""},{"$f":"IF(A38<>\"\",IFERROR(VLOOKUP(AB38,Tabelas!B:D,3,0),0),\"\")","v":""},{"$f":"IF(A38<>\"\",IFERROR(VLOOKUP(AC38,Tabelas!B:D,3,0),0),\"\")","v":""},{"$f":"IF(A38<>\"\",IFERROR(VLOOKUP(AD38,Tabelas!B:D,3,0),0),\"\")","v":""},{"$f":"IF(A38<>\"\",IFERROR(VLOOKUP(AE38,Tabelas!B:D,3,0),0),\"\")","v":""},{"$f":"IF(A38<>\"\",IFERROR(VLOOKUP(AF38,Tabelas!B:D,3,0),0),\"\")","v":""},{"$f":"IF(A38<>\"\",IFERROR(VLOOKUP(AG38,Tabelas!B:D,3,0),0),\"\")","v":""},{"$f":"IF(A38<>\"\",IFERROR(VLOOKUP(AH38,Tabelas!B:D,3,0),0),\"\")","v":""},{"$f":"IF(A38<>\"\",IFERROR(VLOOKUP(AI38,Tabelas!B:D,3,0),0),\"\")","v":""},{"$f":"IF(A38<>\"\",IFERROR(VLOOKUP(AJ38,Tabelas!B:D,3,0),0),\"\")","v":""},{"$f":"IF(A38<>\"\",IFERROR(VLOOKUP(AK38,Tabelas!B:D,3,0),0),\"\")","v":""},{"$f":"IF(A38<>\"\",IFERROR(VLOOKUP(AL38,Tabelas!B:D,3,0),0),\"\")","v":""},{"$f":"IF(A38<>\"\",IFERROR(VLOOKUP(AM38,Tabelas!B:D,3,0),0),\"\")","v":""},{"$f":"IF(A38<>\"\",IFERROR(VLOOKUP(AN38,Tabelas!B:D,3,0),0),\"\")","v":""},{"$f":"IF(A38<>\"\",IFERROR(VLOOKUP(AO38,Tabelas!B:D,3,0),0),\"\")","v":""},{"$f":"IF(A38<>\"\",IFERROR(VLOOKUP(AP38,Tabelas!B:D,3,0),0),\"\")","v":""},{"$f":"IF(A38<>\"\",IFERROR(VLOOKUP(AQ38,Tabelas!B:D,3,0),0),\"\")","v":""},{"$f":"IF(AND(A38<>\"\",E38=\"Ebserh\"),SUM(AR38:BV38)+COUNTIF(M38:AQ38,\"N*\")+COUNTIF(M38:AQ38,\"DN*\"),IF(AND(A38<>\"\",E38<>\"Ebserh\"),SUM(AR38:BV38),\"\"))","v":""},{"$f":"IF(A38<>\"\",COUNTIF(M38:AQ38,\"LM\")+COUNTIF(M38:AQ38,\"L\")+COUNTIF(M38:AQ38,\"LP\"),\"\")","v":""},{"$f":"IF(A38<>\"\",COUNTIF(M38:AQ38,\"AB*\"),\"\")","v":""},{"$f":"IF(A38<>\"\",COUNTIF(M38:AQ38,\"FE\"),\"\")","v":""},{"$f":"IF(A38<>\"\",COUNTIF(M38:AQ38,\"LC\"),\"\")","v":""},{"$f":"IF(A38<>\"\",COUNTIF(M38:AQ38,\"CH*\"),\"\")","v":""},{"$f":"IF(A38<>\"\",COUNTIF(M38:AQ38,\"AF1\")+COUNTIF(M38:AQ38,\"AF2\")+COUNTIF(M38:AQ38,\"AF3\")+COUNTIF(M38:AQ38,\"AF4\")+COUNTIF(M38:AQ38,\"AF5\")+COUNTIF(M38:AQ38,\"AF6\")+COUNTIF(M38:AQ38,\"AF7\")+COUNTIF(M38:AQ38,\"AF8\")+COUNTIF(M38:AQ38,\"AF9\")+COUNTIF(M38:AQ38,\"AF10\")+COUNTIF(M38:AQ38,\"AF11\")+COUNTIF(M38:AQ38,\"AF12\")+COUNTIF(M38:AQ38,\"AF13\")+COUNTIF(M38:AQ38,\"AF14\"),\"\")","v":""},{"$f":"IF(A38<>\"\",COUNTIF(M38:AQ38,\"CH*\")+COUNTIF(M38:AQ38,\"L\")+COUNTIF(M38:AQ38,\"LM\")+COUNTIF(M38:AQ38,\"LP\")+COUNTIF(M38:AQ38,\"LC\")+COUNTIF(M38:AQ38,\"AB*\")+COUNTIF(M38:AQ38,\"AF1\")+COUNTIF(M38:AQ38,\"AF2\")+COUNTIF(M38:AQ38,\"AF3\")+COUNTIF(M38:AQ38,\"AF4\")+COUNTIF(M38:AQ38,\"AF5\")+COUNTIF(M38:AQ38,\"AF6\")+COUNTIF(M38:AQ38,\"AF7\")+COUNTIF(M38:AQ38,\"AF8\")+COUNTIF(M38:AQ38,\"AF9\")+COUNTIF(M38:AQ38,\"AF10\")+COUNTIF(M38:AQ38,\"AF11\")+COUNTIF(M38:AQ38,\"AF12\")+COUNTIF(M38:AQ38,\"AF13\")+COUNTIF(M38:AQ38,\"AF14\")+COUNTIF(M38:AQ38,\"RC\")+COUNTIF(M38:AQ38,\"FO\")+COUNTIF(M38:AQ38,\"FE\"),\"\")","v":""}]
["Ingrid Catharine Costa de Sant Ana",1004451,null,"ME","EBSERH",24,null,null,null,null,null,null,"LM","LM","LM","LM","LM","LM","LM","LM","LM","LM","LM","LM","LM","LM","LM","LM","LM","LM","LM","LM","LM","LM","LM","LM","LM","LM","LM","LM","LM","LM",null,{"$f":"IF(A39<>\"\",IFERROR(VLOOKUP(M39,Tabelas!B:D,3,0),0),\"\")","v":0},{"$f":"IF(A39<>\"\",IFERROR(VLOOKUP(N39,Tabelas!B:D,3,0),0),\"\")","v":0},{"$f":"IF(A39<>\"\",IFERROR(VLOOKUP(O39,Tabelas!B:D,3,0),0),\"\")","v":0},{"$f":"IF(A39<>\"\",IFERROR(VLOOKUP(P39,Tabelas!B:D,3,0),0),\"\")","v":0},{"$f":"IF(A39<>\"\",IFERROR(VLOOKUP(Q39,Tabelas!B:D,3,0),0),\"\")","v":0},{"$f":"IF(A39<>\"\",IFERROR(VLOOKUP(R39,Tabelas!B:D,3,0),0),\"\")","v":0},{"$f":"IF(A39<>\"\",IFERROR(VLOOKUP(S39,Tabelas!B:D,3,0),0),\"\")","v":0},{"$f":"IF(A39<>\"\",IFERROR(VLOOKUP(T39,Tabelas!B:D,3,0),0),\"\")","v":0},{"$f":"IF(A39<>\"\",IFERROR(VLOOKUP(U39,Tabelas!B:D,3,0),0),\"\")","v":0},{"$f":"IF(A39<>\"\",IFERROR(VLOOKUP(V39,Tabelas!B:D,3,0),0),\"\")","v":0},{"$f":"IF(A39<>\"\",IFERROR(VLOOKUP(W39,Tabelas!B:D,3,0),0),\"\")","v":0},{"$f":"IF(A39<>\"\",IFERROR(VLOOKUP(X39,Tabelas!B:D,3,0),0),\"\")","v":0},{"$f":"IF(A39<>\"\",IFERROR(VLOOKUP(Y39,Tabelas!B:D,3,0),0),\"\")","v":0},{"$f":"IF(A39<>\"\",IFERROR(VLOOKUP(Z39,Tabelas!B:D,3,0),0),\"\")","v":0},{"$f":"IF(A39<>\"\",IFERROR(VLOOKUP(AA39,Tabelas!B:D,3,0),0),\"\")","v":0},{"$f":"IF(A39<>\"\",IFERROR(VLOOKUP(AB39,Tabelas!B:D,3,0),0),\"\")","v":0},{"$f":"IF(A39<>\"\",IFERROR(VLOOKUP(AC39,Tabelas!B:D,3,0),0),\"\")","v":0},{"$f":"IF(A39<>\"\",IFERROR(VLOOKUP(AD39,Tabelas!B:D,3,0),0),\"\")","v":0},{"$f":"IF(A39<>\"\",IFERROR(VLOOKUP(AE39,Tabelas!B:D,3,0),0),\"\")","v":0},{"$f":"IF(A39<>\"\",IFERROR(VLOOKUP(AF39,Tabelas!B:D,3,0),0),\"\")","v":0},{"$f":"IF(A39<>\"\",IFERROR(VLOOKUP(AG39,Tabelas!B:D,3,0),0),\"\")","v":0},{"$f":"IF(A39<>\"\",IFERROR(VLOOKUP(AH39,Tabelas!B:D,3,0),0),\"\")","v":0},{"$f":"IF(A39<>\"\",IFERROR(VLOOKUP(AI39,Tabelas!B:D,3,0),0),\"\")","v":0},{"$f":"IF(A39<>\"\",IFERROR(VLOOKUP(AJ39,Tabelas!B:D,3,0),0),\"\")","v":0},{"$f":"IF(A39<>\"\",IFERROR(VLOOKUP(AK39,Tabelas!B:D,3,0),0),\"\")","v":0},{"$f":"IF(A39<>\"\",IFERROR(VLOOKUP(AL39,Tabelas!B:D,3,0),0),\"\")","v":0},{"$f":"IF(A39<>\"\",IFERROR(VLOOKUP(AM39,Tabelas!B:D,3,0),0),\"\")","v":0},{"$f":"IF(A39<>\"\",IFERROR(VLOOKUP(AN39,Tabelas!B:D,3,0),0),\"\")","v":0},{"$f":"IF(A39<>\"\",IFERROR(VLOOKUP(AO39,Tabelas!B:D,3,0),0),\"\")","v":0},{"$f":"IF(A39<>\"\",IFERROR(VLOOKUP(AP39,Tabelas!B:D,3,0),0),\"\")","v":0},{"$f":"IF(A39<>\"\",IFERROR(VLOOKUP(AQ39,Tabelas!B:D,3,0),0),\"\")","v":0},0,30,0,0,0,0,0,30]
[null,3760219,null,"ME","RJU",30,null,null,null,null,null,null,null,null,null,null,null,null,null,null,null,null,null,null,null,null,null,null,null,null,null,null,null,null,null,null,null,null,null,null,null,null,null,{"$f":"IF(A40<>\"\",IFERROR(VLOOKUP(M40,Tabelas!B:D,3,0),0),\"\")","v":""},{"$f":"IF(A40<>\"\",IFERROR(VLOOKUP(N40,Tabelas!B:D,3,0),0),\"\")","v":""},{"$f":"IF(A40<>\"\",IFERROR(VLOOKUP(O40,Tabelas!B:D,3,0),0),\"\")","v":""},{"$f":"IF(A40<>\"\",IFERROR(VLOOKUP(P40,Tabelas!B:D,3,0),0),\"\")","v":""},{"$f":"IF(A40<>\"\",IFERROR(VLOOKUP(Q40,Tabelas!B:D,3,0),0),\"\")","v":""},{"$f":"IF(A40<>\"\",IFERROR(VLOOKUP(R40,Tabelas!B:D,3,0),0),\"\")","v":""},{"$f":"IF(A40<>\"\",IFERROR(VLOOKUP(S40,Tabelas!B:D,3,0),0),\"\")","v":""},{"$f":"IF(A40<>\"\",IFERROR(VLOOKUP(T40,Tabelas!B:D,3,0),0),\"\")","v":""},{"$f":"IF(A40<>\"\",IFERROR(VLOOKUP(U40,Tabelas!B:D,3,0),0),\"\")","v":""},{"$f":"IF(A40<>\"\",IFERROR(VLOOKUP(V40,Tabelas!B:D,3,0),0),\"\")","v":""},{"$f":"IF(A40<>\"\",IFERROR(VLOOKUP(W40,Tabelas!B:D,3,0),0),\"\")","v":""},{"$f":"IF(A40<>\"\",IFERROR(VLOOKUP(X40,Tabelas!B:D,3,0),0),\"\")","v":""},{"$f":"IF(A40<>\"\",IFERROR(VLOOKUP(Y40,Tabelas!B:D,3,0),0),\"\")","v":""},{"$f":"IF(A40<>\"\",IFERROR(VLOOKUP(Z40,Tabelas!B:D,3,0),0),\"\")","v":""},{"$f":"IF(A40<>\"\",IFERROR(VLOOKUP(AA40,Tabelas!B:D,3,0),0),\"\")","v":""},{"$f":"IF(A40<>\"\",IFERROR(VLOOKUP(AB40,Tabelas!B:D,3,0),0),\"\")","v":""},{"$f":"IF(A40<>\"\",IFERROR(VLOOKUP(AC40,Tabelas!B:D,3,0),0),\"\")","v":""},{"$f":"IF(A40<>\"\",IFERROR(VLOOKUP(AD40,Tabelas!B:D,3,0),0),\"\")","v":""},{"$f":"IF(A40<>\"\",IFERROR(VLOOKUP(AE40,Tabelas!B:D,3,0),0),\"\")","v":""},{"$f":"IF(A40<>\"\",IFERROR(VLOOKUP(AF40,Tabelas!B:D,3,0),0),\"\")","v":""},{"$f":"IF(A40<>\"\",IFERROR(VLOOKUP(AG40,Tabelas!B:D,3,0),0),\"\")","v":""},{"$f":"IF(A40<>\"\",IFERROR(VLOOKUP(AH40,Tabelas!B:D,3,0),0),\"\")","v":""},{"$f":"IF(A40<>\"\",IFERROR(VLOOKUP(AI40,Tabelas!B:D,3,0),0),\"\")","v":""},{"$f":"IF(A40<>\"\",IFERROR(VLOOKUP(AJ40,Tabelas!B:D,3,0),0),\"\")","v":""},{"$f":"IF(A40<>\"\",IFERROR(VLOOKUP(AK40,Tabelas!B:D,3,0),0),\"\")","v":""},{"$f":"IF(A40<>\"\",IFERROR(VLOOKUP(AL40,Tabelas!B:D,3,0),0),\"\")","v":""},{"$f":"IF(A40<>\"\",IFERROR(VLOOKUP(AM40,Tabelas!B:D,3,0),0),\"\")","v":""},{"$f":"IF(A40<>\"\",IFERROR(VLOOKUP(AN40,Tabelas!B:D,3,0),0),\"\")","v":""},{"$f":"IF(A40<>\"\",IFERROR(VLOOKUP(AO40,Tabelas!B:D,3,0),0),\"\")","v":""},{"$f":"IF(A40<>\"\",IFERROR(VLOOKUP(AP40,Tabelas!B:D,3,0),0),\"\")","v":""},{"$f":"IF(A40<>\"\",IFERROR(VLOOKUP(AQ40,Tabelas!B:D,3,0),0),\"\")","v":""},"","","","","","","",""]
["TOTAL PROFISSIONAIS MATUTINO",null,null,null,null,null,null,null,null,null,null,null,{"$f":"IF(COUNTIF(M9:M40,\"M*\")+ COUNTIF(M9:M40, \"D*\")-COUNTIF(M9:M40,\"DSR\")<>0,COUNTIF(M9:M40,\"M*\")+ COUNTIF(M9:M40, \"D*\")-COUNTIF(M9:M40,\"DSR\"),\"\")","v":2},2,4,4,4,4,2,2,4,4,3,3,3,2,2,3,3,3,3,3,2,2,4,4,4,4,4,2,2,4,"",null,null,null,null,null,null,null,null,null,null,null,null,null,null,null,null,null,null,null,null,null,null,null,null,null,null,null,null,null,null,null,{"$f":"SUM(BW9:BW40)","v":1536},37,0,27,0,0,0,64]
["TOTAL DE PROFISSIONAIS VESPERTINO",null,null,null,null,null,null,null,null,null,null,null,{"$f":"IF(COUNTIF(M9:M40,\"MT*\") + COUNTIF(M9:M40, \"D*\") + COUNTIF(M9:M40,\"T*\")-COUNTIF(M9:M40,\"DSR\")<>0,COUNTIF(M9:M40,\"MT*\") + COUNTIF(M9:M40, \"D*\") + COUNTIF(M9:M40,\"T*\")-COUNTIF(M9:M40,\"DSR\"),\"\")","v":2},2,2,2,2,1,2,2,2,2,3,3,2,2,2,2,3,4,4,3,2,2,3,3,4,4,3,2,2,3,"",{"$f":"IF(A42<>\"\",IFERROR(VLOOKUP(M42,Tabelas!B:D,3,0),0),\"\")","v":0},{"$f":"IF(A42<>\"\",IFERROR(VLOOKUP(N42,Tabelas!B:D,3,0),0),\"\")","v":0},{"$f":"IF(A42<>\"\",IFERROR(VLOOKUP(O42,Tabelas!B:D,3,0),0),\"\")","v":0},{"$f":"IF(A42<>\"\",IFERROR(VLOOKUP(P42,Tabelas!B:D,3,0),0),\"\")","v":0},{"$f":"IF(A42<>\"\",IFERROR(VLOOKUP(Q42,Tabelas!B:D,3,0),0),\"\")","v":0},{"$f":"IF(A42<>\"\",IFERROR(VLOOKUP(R42,Tabelas!B:D,3,0),0),\"\")","v":0},{"$f":"IF(A42<>\"\",IFERROR(VLOOKUP(S42,Tabelas!B:D,3,0),0),\"\")","v":0},{"$f":"IF(A42<>\"\",IFERROR(VLOOKUP(T42,Tabelas!B:D,3,0),0),\"\")","v":0},{"$f":"IF(A42<>\"\",IFERROR(VLOOKUP(U42,Tabelas!B:D,3,0),0),\"\")","v":0},{"$f":"IF(A42<>\"\",IFERROR(VLOOKUP(V42,Tabelas!B:D,3,0),0),\"\")","v":0},{"$f":"IF(A42<>\"\",IFERROR(VLOOKUP(W42,Tabelas!B:D,3,0),0),\"\")","v":0},{"$f":"IF(A42<>\"\",IFERROR(VLOOKUP(X42,Tabelas!B:D,3,0),0),\"\")","v":0},{"$f":"IF(A42<>\"\",IFERROR(VLOOKUP(Y42,Tabelas!B:D,3,0),0),\"\")","v":0},{"$f":"IF(A42<>\"\",IFERROR(VLOOKUP(Z42,Tabelas!B:D,3,0),0),\"\")","v":0},{"$f":"IF(A42<>\"\",IFERROR(VLOOKUP(AA42,Tabelas!B:D,3,0),0),\"\")","v":0},{"$f":"IF(A42<>\"\",IFERROR(VLOOKUP(AB42,Tabelas!B:D,3,0),0),\"\")","v":0},{"$f":"IF(A42<>\"\",IFERROR(VLOOKUP(AC42,Tabelas!B:D,3,0),0),\"\")","v":0},{"$f":"IF(A42<>\"\",IFERROR(VLOOKUP(AD42,Tabelas!B:D,3,0),0),\"\")","v":0},{"$f":"IF(A42<>\"\",IFERROR(VLOOKUP(AE42,Tabelas!B:D,3,0),0),\"\")","v":0},{"$f":"IF(A42<>\"\",IFERROR(VLOOKUP(AF42,Tabelas!B:D,3,0),0),\"\")","v":0},{"$f":"IF(A42<>\"\",IFERROR(VLOOKUP(AG42,Tabelas!B:D,3,0),0),\"\")","v":0},{"$f":"IF(A42<>\"\",IFERROR(VLOOKUP(AH42,Tabelas!B:D,3,0),0),\"\")","v":0},{"$f":"IF(A42<>\"\",IFERROR(VLOOKUP(AI42,Tabelas!B:D,3,0),0),\"\")","v":0},{"$f":"IF(A42<>\"\",IFERROR(VLOOKUP(AJ42,Tabelas!B:D,3,0),0),\"\")","v":0},{"$f":"IF(A42<>\"\",IFERROR(VLOOKUP(AK42,Tabelas!B:D,3,0),0),\"\")","v":0},{"$f":"IF(A42<>\"\",IFERROR(VLOOKUP(AL42,Tabelas!B:D,3,0),0),\"\")","v":0},{"$f":"IF(A42<>\"\",IFERROR(VLOOKUP(AM42,Tabelas!B:D,3,0),0),\"\")","v":0},{"$f":"IF(A42<>\"\",IFERROR(VLOOKUP(AN42,Tabelas!B:D,3,0),0),\"\")","v":0},{"$f":"IF(A42<>\"\",IFERROR(VLOOKUP(AO42,Tabelas!B:D,3,0),0),\"\")","v":0},{"$f":"IF(A42<>\"\",IFERROR(VLOOKUP(AP42,Tabelas!B:D,3,0),0),\"\")","v":0},{"$f":"IF(A42<>\"\",IFERROR(VLOOKUP(AQ42,Tabelas!B:D,3,0),0),\"\")","v":0}]
["TOTAL DE PROFISSIONAIS NOTURNO",null,null,null,null,null,null,null,null,null,null,null,{"$f":"IF(COUNTIF(M9:M42,\"N?*\") + COUNTIF(M9:M42, \"DN*\")<>0,COUNTIF(M9:M42,\"N?*\") + COUNTIF(M9:M42, \"DN*\"),\"\")","v":2},2,2,2,2,3,1,2,3,3,2,2,2,2,1,2,2,2,2,2,3,2,2,2,2,2,2,3,1,2,"",{"$f":"IF(A43<>\"\",IFERROR(VLOOKUP(M43,Tabelas!B:D,3,0),0),\"\")","v":0},{"$f":"IF(A43<>\"\",IFERROR(VLOOKUP(N43,Tabelas!B:D,3,0),0),\"\")","v":0},{"$f":"IF(A43<>\"\",IFERROR(VLOOKUP(O43,Tabelas!B:D,3,0),0),\"\")","v":0},{"$f":"IF(A43<>\"\",IFERROR(VLOOKUP(P43,Tabelas!B:D,3,0),0),\"\")","v":0},{"$f":"IF(A43<>\"\",IFERROR(VLOOKUP(Q43,Tabelas!B:D,3,0),0),\"\")","v":0},{"$f":"IF(A43<>\"\",IFERROR(VLOOKUP(R43,Tabelas!B:D,3,0),0),\"\")","v":0},{"$f":"IF(A43<>\"\",IFERROR(VLOOKUP(S43,Tabelas!B:D,3,0),0),\"\")","v":0},{"$f":"IF(A43<>\"\",IFERROR(VLOOKUP(T43,Tabelas!B:D,3,0),0),\"\")","v":0},{"$f":"IF(A43<>\"\",IFERROR(VLOOKUP(U43,Tabelas!B:D,3,0),0),\"\")","v":0},{"$f":"IF(A43<>\"\",IFERROR(VLOOKUP(V43,Tabelas!B:D,3,0),0),\"\")","v":0},{"$f":"IF(A43<>\"\",IFERROR(VLOOKUP(W43,Tabelas!B:D,3,0),0),\"\")","v":0},{"$f":"IF(A43<>\"\",IFERROR(VLOOKUP(X43,Tabelas!B:D,3,0),0),\"\")","v":0},{"$f":"IF(A43<>\"\",IFERROR(VLOOKUP(Y43,Tabelas!B:D,3,0),0),\"\")","v":0},{"$f":"IF(A43<>\"\",IFERROR(VLOOKUP(Z43,Tabelas!B:D,3,0),0),\"\")","v":0},{"$f":"IF(A43<>\"\",IFERROR(VLOOKUP(AA43,Tabelas!B:D,3,0),0),\"\")","v":0},{"$f":"IF(A43<>\"\",IFERROR(VLOOKUP(AB43,Tabelas!B:D,3,0),0),\"\")","v":0},{"$f":"IF(A43<>\"\",IFERROR(VLOOKUP(AC43,Tabelas!B:D,3,0),0),\"\")","v":0},{"$f":"IF(A43<>\"\",IFERROR(VLOOKUP(AD43,Tabelas!B:D,3,0),0),\"\")","v":0},{"$f":"IF(A43<>\"\",IFERROR(VLOOKUP(AE43,Tabelas!B:D,3,0),0),\"\")","v":0},{"$f":"IF(A43<>\"\",IFERROR(VLOOKUP(AF43,Tabelas!B:D,3,0),0),\"\")","v":0},{"$f":"IF(A43<>\"\",IFERROR(VLOOKUP(AG43,Tabelas!B:D,3,0),0),\"\")","v":0},{"$f":"IF(A43<>\"\",IFERROR(VLOOKUP(AH43,Tabelas!B:D,3,0),0),\"\")","v":0},{"$f":"IF(A43<>\"\",IFERROR(VLOOKUP(AI43,Tabelas!B:D,3,0),0),\"\")","v":0},{"$f":"IF(A43<>\"\",IFERROR(VLOOKUP(AJ43,Tabelas!B:D,3,0),0),\"\")","v":0},{"$f":"IF(A43<>\"\",IFERROR(VLOOKUP(AK43,Tabelas!B:D,3,0),0),\"\")","v":0},{"$f":"IF(A43<>\"\",IFERROR(VLOOKUP(AL43,Tabelas!B:D,3,0),0),\"\")","v":0},{"$f":"IF(A43<>\"\",IFERROR(VLOOKUP(AM43,Tabelas!B:D,3,0),0),\"\")","v":0},{"$f":"IF(A43<>\"\",IFERROR(VLOOKUP(AN43,Tabelas!B:D,3,0),0),\"\")","v":0},{"$f":"IF(A43<>\"\",IFERROR(VLOOKUP(AO43,Tabelas!B:D,3,0),0),\"\")","v":0},{"$f":"IF(A43<>\"\",IFERROR(VLOOKUP(AP43,Tabelas!B:D,3,0),0),\"\")","v":0},{"$f":"IF(A43<>\"\",IFERROR(VLOOKUP(AQ43,Tabelas!B:D,3,0),0),\"\")","v":0}]
[null,null,null,null,null,null,null,null,null,null,null,null,null,null,null,null,null,null,null,null,null,null,null,null,null,null,null,null,null,null,null,null,null,null,null,null,null,null,null,null,null,null,null,{"$f":"IF(A44<>\"\",IFERROR(VLOOKUP(M44,Tabelas!B:D,3,0),0),\"\")","v":""},{"$f":"IF(A44<>\"\",IFERROR(VLOOKUP(N44,Tabelas!B:D,3,0),0),\"\")","v":""},{"$f":"IF(A44<>\"\",IFERROR(VLOOKUP(O44,Tabelas!B:D,3,0),0),\"\")","v":""},{"$f":"IF(A44<>\"\",IFERROR(VLOOKUP(P44,Tabelas!B:D,3,0),0),\"\")","v":""},{"$f":"IF(A44<>\"\",IFERROR(VLOOKUP(Q44,Tabelas!B:D,3,0),0),\"\")","v":""},{"$f":"IF(A44<>\"\",IFERROR(VLOOKUP(R44,Tabelas!B:D,3,0),0),\"\")","v":""},{"$f":"IF(A44<>\"\",IFERROR(VLOOKUP(S44,Tabelas!B:D,3,0),0),\"\")","v":""},{"$f":"IF(A44<>\"\",IFERROR(VLOOKUP(T44,Tabelas!B:D,3,0),0),\"\")","v":""},{"$f":"IF(A44<>\"\",IFERROR(VLOOKUP(U44,Tabelas!B:D,3,0),0),\"\")","v":""},{"$f":"IF(A44<>\"\",IFERROR(VLOOKUP(V44,Tabelas!B:D,3,0),0),\"\")","v":""},{"$f":"IF(A44<>\"\",IFERROR(VLOOKUP(W44,Tabelas!B:D,3,0),0),\"\")","v":""},{"$f":"IF(A44<>\"\",IFERROR(VLOOKUP(X44,Tabelas!B:D,3,0),0),\"\")","v":""},{"$f":"IF(A44<>\"\",IFERROR(VLOOKUP(Y44,Tabelas!B:D,3,0),0),\"\")","v":""},{"$f":"IF(A44<>\"\",IFERROR(VLOOKUP(Z44,Tabelas!B:D,3,0),0),\"\")","v":""},{"$f":"IF(A44<>\"\",IFERROR(VLOOKUP(AA44,Tabelas!B:D,3,0),0),\"\")","v":""},{"$f":"IF(A44<>\"\",IFERROR(VLOOKUP(AB44,Tabelas!B:D,3,0),0),\"\")","v":""},{"$f":"IF(A44<>\"\",IFERROR(VLOOKUP(AC44,Tabelas!B:D,3,0),0),\"\")","v":""},{"$f":"IF(A44<>\"\",IFERROR(VLOOKUP(AD44,Tabelas!B:D,3,0),0),\"\")","v":""},{"$f":"IF(A44<>\"\",IFERROR(VLOOKUP(AE44,Tabelas!B:D,3,0),0),\"\")","v":""},{"$f":"IF(A44<>\"\",IFERROR(VLOOKUP(AF44,Tabelas!B:D,3,0),0),\"\")","v":""},{"$f":"IF(A44<>\"\",IFERROR(VLOOKUP(AG44,Tabelas!B:D,3,0),0),\"\")","v":""},{"$f":"IF(A44<>\"\",IFERROR(VLOOKUP(AH44,Tabelas!B:D,3,0),0),\"\")","v":""},{"$f":"IF(A44<>\"\",IFERROR(VLOOKUP(AI44,Tabelas!B:D,3,0),0),\"\")","v":""},{"$f":"IF(A44<>\"\",IFERROR(VLOOKUP(AJ44,Tabelas!B:D,3,0),0),\"\")","v":""},{"$f":"IF(A44<>\"\",IFERROR(VLOOKUP(AK44,Tabelas!B:D,3,0),0),\"\")","v":""},{"$f":"IF(A44<>\"\",IFERROR(VLOOKUP(AL44,Tabelas!B:D,3,0),0),\"\")","v":""},{"$f":"IF(A44<>\"\",IFERROR(VLOOKUP(AM44,Tabelas!B:D,3,0),0),\"\")","v":""},{"$f":"IF(A44<>\"\",IFERROR(VLOOKUP(AN44,Tabelas!B:D,3,0),0),\"\")","v":""},{"$f":"IF(A44<>\"\",IFERROR(VLOOKUP(AO44,Tabelas!B:D,3,0),0),\"\")","v":""},{"$f":"IF(A44<>\"\",IFERROR(VLOOKUP(AP44,Tabelas!B:D,3,0),0),\"\")","v":""},{"$f":"IF(A44<>\"\",IFERROR(VLOOKUP(AQ44,Tabelas!B:D,3,0),0),\"\")","v":""}]
["Legenda:"]
["Licença Maternidade","LM","Férias",null,null,null,null,null,null,"FE",null,"Ponto Facultativo",null,null,null,null,null,null,null,"PF","Manhã *",null,null,null,null,null,null,"M","Diurno (8 hrs) *",null,null,null,null,null,null,"MT"]
["Licença Paternidade","LP","Feriado",null,null,null,null,null,null,"FD",null,"Abono **",null,null,null,null,null,null,null,"AB","Tarde *",null,null,null,null,null,null,"T","Dia/ noite (24 hrs) *",null,null,null,null,null,null,"DN"]
["Licença Médica/Odontológica","L","Descanso Semanal Remunerado",null,null,null,null,null,null,"DSR",null,"Compensação de Horas***",null,null,null,null,null,null,null,"CH","Plantão Dia (12 hrs) *",null,null,null,null,null,null,"D"]
["Licença Capacitação","LC","Recesso",null,null,null,null,null,null,"RC",null,"Afastamento**",null,null,null,null,null,null,null,"AF","Plantão Noite (12 hrs) *",null,null,null,null,null,null,"N"]
[]
["OBSERVAÇÕES:"]
["* Para inserção das legendas referentes às jornadas de trabalho, verificar a Tabela 1 do Anexo do Memorando-Circular - SEI nº   25 /2018/CAP/DGP-EBSERH."]
["** Para inserção das legendas referentes aos Afastamentos previstos em lei e às Compensações de horas, verificar a Tabela 2 do Anexo do Memorando-Circular - SEI nº   25 /2018/CAP/DGP-EBSERH."]

{"sheet":"Dezembro","index":11,"n_rows":53,"n_cols":82,"rows_kept":53,"cut":false,"hidden":false,"merged":[[45,11,45,18],[45,20,45,26],[46,2,46,8],[46,9,46,10],[46,11,46,18],[46,20,46,26],[45,2,45,8],[45,9,45,10],[47,2,47,8],[47,9,47,10],[47,11,47,18],[47,20,47,26],[48,2,48,8],[48,9,48,10],[48,11,48,18],[48,20,48,26],[1,0,1,42],[2,0,2,42],[3,0,3,42],[4,1,4,20],[4,23,4,34],[4,37,4,42],[5,6,5,11],[6,76,7,76],[6,77,7,77],[6,78,7,78],[6,79,7,79],[6,6,7,6],[6,7,7,7],[6,8,7,8],[6,11,7,11],[6,9,7,9],[6,10,7,10],[6,80,7,80],[6,81,7,81],[5,12,5,42],[5,43,5,73],[5,75,5,81],[5,74,7,74],[6,75,7,75],[40,81,42,81],[45,28,45,34],[46,28,46,34],[40,74,42,74],[40,75,42,75],[40,76,42,76],[40,77,42,77],[40,78,42,78],[42,0,42,11],[41,0,41,11],[40,0,40,11],[40,79,42,79],[40,80,42,80]]}
[]
[]
["NOME DO HU"]
["ESCALA MENSAL DE TRABALHO"]
["DIVISÃO /SETOR/UNIDADE:",null,null,null,null,null,null,null,null,null,null,null,null,null,null,null,null,null,null,null,null,"MÊS:",null,"Dezembro",null,null,null,null,null,null,null,null,null,null,null,"ANO:",null,2020]
["NOME COMPLETO","SIAPE","Registro Conselho Classe","Cargo","Vínculo","C.H Sem","INTERVALO",null,null,null,null,null,"DIAS DO MÊS",null,null,null,null,null,null,null,null,null,null,null,null,null,null,null,null,null,null,null,null,null,null,null,null,null,null,null,null,null,null,"CÁLCULO DAS HORAS",null,null,null,null,null,null,null,null,null,null,null,null,null,null,null,null,null,null,null,null,null,null,null,null,null,null,null,null,null,null,"CH Men.","Dias"]
[null,null,null,null,null,null,"15' M","15' T","15' N","1H D","1H N","2H",1,2,3,4,5,6,7,8,9,10,11,12,13,14,15,16,17,18,19,20,21,22,23,24,25,{"$f":"IF(DAY(DATE(AL5,VLOOKUP(X5,Tabelas!M:N,2,0)+1,1)-1)>=26,26,\"\")","v":26},{"$f":"IF(DAY(DATE(AL5,VLOOKUP(X5,Tabelas!M:N,2,0)+1,1)-1)>=27,27,\"\")","v":27},{"$f":"IF(DAY(DATE(AL5,VLOOKUP(X5,Tabelas!M:N,2,0)+1,1)-1)>=28,28,\"\")","v":28},{"$f":"IF(DAY(DATE(AL5,VLOOKUP(X5,Tabelas!M:N,2,0)+1,1)-1)>=29,29,\"\")","v":29},{"$f":"IF(DAY(DATE(AL5,VLOOKUP(X5,Tabelas!M:N,2,0)+1,1)-1)>=30,30,\"\")","v":30},{"$f":"IF(DAY(DATE(AL5,VLOOKUP(X5,Tabelas!M:N,2,0)+1,1)-1)>=31,31,\"\")","v":31},null,null,null,null,null,null,null,null,null,null,null,null,null,null,null,null,null,null,null,null,null,null,null,null,null,null,null,null,null,null,null,null,"LM/LP/L","AB","FE","LC","CH","AF  "," Total Afast."]
[null,null,null,null,null,null,null,null,null,null,null,null,{"$f":"IF(M7<>\"\",IFERROR(VLOOKUP(WEEKDAY(CONCATENATE(M7,$X$5,$AL$5)),Tabelas!$I:$J,2,0),\"\"),\"\")","v":"TER"},{"$f":"IF(N7<>\"\",IFERROR(VLOOKUP(WEEKDAY(CONCATENATE(N7,$X$5,$AL$5)),Tabelas!$I:$J,2,0),\"\"),\"\")","v":"QUA"},{"$f":"IF(O7<>\"\",IFERROR(VLOOKUP(WEEKDAY(CONCATENATE(O7,$X$5,$AL$5)),Tabelas!$I:$J,2,0),\"\"),\"\")","v":"QUI"},{"$f":"IF(P7<>\"\",IFERROR(VLOOKUP(WEEKDAY(CONCATENATE(P7,$X$5,$AL$5)),Tabelas!$I:$J,2,0),\"\"),\"\")","v":"SEX"},{"$f":"IF(Q7<>\"\",IFERROR(VLOOKUP(WEEKDAY(CONCATENATE(Q7,$X$5,$AL$5)),Tabelas!$I:$J,2,0),\"\"),\"\")","v":"SAB"},{"$f":"IF(R7<>\"\",IFERROR(VLOOKUP(WEEKDAY(CONCATENATE(R7,$X$5,$AL$5)),Tabelas!$I:$J,2,0),\"\"),\"\")","v":"DOM"},{"$f":"IF(S7<>\"\",IFERROR(VLOOKUP(WEEKDAY(CONCATENATE(S7,$X$5,$AL$5)),Tabelas!$I:$J,2,0),\"\"),\"\")","v":"SEG"},{"$f":"IF(T7<>\"\",IFERROR(VLOOKUP(WEEKDAY(CONCATENATE(T7,$X$5,$AL$5)),Tabelas!$I:$J,2,0),\"\"),\"\")","v":"TER"},{"$f":"IF(U7<>\"\",IFERROR(VLOOKUP(WEEKDAY(CONCATENATE(U7,$X$5,$AL$5)),Tabelas!$I:$J,2,0),\"\"),\"\")","v":"QUA"},{"$f":"IF(V7<>\"\",IFERROR(VLOOKUP(WEEKDAY(CONCATENATE(V7,$X$5,$AL$5)),Tabelas!$I:$J,2,0),\"\"),\"\")","v":"QUI"},{"$f":"IF(W7<>\"\",IFERROR(VLOOKUP(WEEKDAY(CONCATENATE(W7,$X$5,$AL$5)),Tabelas!$I:$J,2,0),\"\"),\"\")","v":"SEX"},{"$f":"IF(X7<>\"\",IFERROR(VLOOKUP(WEEKDAY(CONCATENATE(X7,$X$5,$AL$5)),Tabelas!$I:$J,2,0),\"\"),\"\")","v":"SAB"},{"$f":"IF(Y7<>\"\",IFERROR(VLOOKUP(WEEKDAY(CONCATENATE(Y7,$X$5,$AL$5)),Tabelas!$I:$J,2,0),\"\"),\"\")","v":"DOM"},{"$f":"IF(Z7<>\"\",IFERROR(VLOOKUP(WEEKDAY(CONCATENATE(Z7,$X$5,$AL$5)),Tabelas!$I:$J,2,0),\"\"),\"\")","v":"SEG"},{"$f":"IF(AA7<>\"\",IFERROR(VLOOKUP(WEEKDAY(CONCATENATE(AA7,$X$5,$AL$5)),Tabelas!$I:$J,2,0),\"\"),\"\")","v":"TER"},{"$f":"IF(AB7<>\"\",IFERROR(VLOOKUP(WEEKDAY(CONCATENATE(AB7,$X$5,$AL$5)),Tabelas!$I:$J,2,0),\"\"),\"\")","v":"QUA"},{"$f":"IF(AC7<>\"\",IFERROR(VLOOKUP(WEEKDAY(CONCATENATE(AC7,$X$5,$AL$5)),Tabelas!$I:$J,2,0),\"\"),\"\")","v":"QUI"},{"$f":"IF(AD7<>\"\",IFERROR(VLOOKUP(WEEKDAY(CONCATENATE(AD7,$X$5,$AL$5)),Tabelas!$I:$J,2,0),\"\"),\"\")","v":"SEX"},{"$f":"IF(AE7<>\"\",IFERROR(VLOOKUP(WEEKDAY(CONCATENATE(AE7,$X$5,$AL$5)),Tabelas!$I:$J,2,0),\"\"),\"\")","v":"SAB"},{"$f":"IF(AF7<>\"\",IFERROR(VLOOKUP(WEEKDAY(CONCATENATE(AF7,$X$5,$AL$5)),Tabelas!$I:$J,2,0),\"\"),\"\")","v":"DOM"},{"$f":"IF(AG7<>\"\",IFERROR(VLOOKUP(WEEKDAY(CONCATENATE(AG7,$X$5,$AL$5)),Tabelas!$I:$J,2,0),\"\"),\"\")","v":"SEG"},{"$f":"IF(AH7<>\"\",IFERROR(VLOOKUP(WEEKDAY(CONCATENATE(AH7,$X$5,$AL$5)),Tabelas!$I:$J,2,0),\"\"),\"\")","v":"TER"},{"$f":"IF(AI7<>\"\",IFERROR(VLOOKUP(WEEKDAY(CONCATENATE(AI7,$X$5,$AL$5)),Tabelas!$I:$J,2,0),\"\"),\"\")","v":"QUA"},{"$f":"IF(AJ7<>\"\",IFERROR(VLOOKUP(WEEKDAY(CONCATENATE(AJ7,$X$5,$AL$5)),Tabelas!$I:$J,2,0),\"\"),\"\")","v":"QUI"},{"$f":"IF(AK7<>\"\",IFERROR(VLOOKUP(WEEKDAY(CONCATENATE(AK7,$X$5,$AL$5)),Tabelas!$I:$J,2,0),\"\"),\"\")","v":"SEX"},{"$f":"IF(AL7<>\"\",IFERROR(VLOOKUP(WEEKDAY(CONCATENATE(AL7,$X$5,$AL$5)),Tabelas!$I:$J,2,0),\"\"),\"\")","v":"SAB"},{"$f":"IF(AM7<>\"\",IFERROR(VLOOKUP(WEEKDAY(CONCATENATE(AM7,$X$5,$AL$5)),Tabelas!$I:$J,2,0),\"\"),\"\")","v":"DOM"},{"$f":"IF(AN7<>\"\",IFERROR(VLOOKUP(WEEKDAY(CONCATENATE(AN7,$X$5,$AL$5)),Tabelas!$I:$J,2,0),\"\"),\"\")","v":"SEG"},{"$f":"IF(AO7<>\"\",IFERROR(VLOOKUP(WEEKDAY(CONCATENATE(AO7,$X$5,$AL$5)),Tabelas!$I:$J,2,0),\"\"),\"\")","v":"TER"},{"$f":"IF(AP7<>\"\",IFERROR(VLOOKUP(WEEKDAY(CONCATENATE(AP7,$X$5,$AL$5)),Tabelas!$I:$J,2,0),\"\"),\"\")","v":"QUA"},{"$f":"IF(AQ7<>\"\",IFERROR(VLOOKUP(WEEKDAY(CONCATENATE(AQ7,$X$5,$AL$5)),Tabelas!$I:$J,2,0),\"\"),\"\")","v":"QUI"},1,2,3,4,5,6,7,8,9,10,11,12,13,14,15,16,17,18,19,20,21,22,23,24,25,26,27,28,29,30,31]
["ROTINA",null,null,null,null,null,null,null,null,null,null,null,null,null,null,null,null,null,null,null,null,null,null,null,null,null,null,null,null,null,null,null,null,null,null,null,null,null,null,null,null,null,null,{"$f":"IF(A9<>\"\",IFERROR(VLOOKUP(M9,Tabelas!B:D,3,0),0),\"\")","v":0},{"$f":"IF(A9<>\"\",IFERROR(VLOOKUP(N9,Tabelas!B:D,3,0),0),\"\")","v":0},{"$f":"IF(A9<>\"\",IFERROR(VLOOKUP(O9,Tabelas!B:D,3,0),0),\"\")","v":0},{"$f":"IF(A9<>\"\",IFERROR(VLOOKUP(P9,Tabelas!B:D,3,0),0),\"\")","v":0},{"$f":"IF(A9<>\"\",IFERROR(VLOOKUP(Q9,Tabelas!B:D,3,0),0),\"\")","v":0},{"$f":"IF(A9<>\"\",IFERROR(VLOOKUP(R9,Tabelas!B:D,3,0),0),\"\")","v":0},{"$f":"IF(A9<>\"\",IFERROR(VLOOKUP(S9,Tabelas!B:D,3,0),0),\"\")","v":0},{"$f":"IF(A9<>\"\",IFERROR(VLOOKUP(T9,Tabelas!B:D,3,0),0),\"\")","v":0},{"$f":"IF(A9<>\"\",IFERROR(VLOOKUP(U9,Tabelas!B:D,3,0),0),\"\")","v":0},{"$f":"IF(A9<>\"\",IFERROR(VLOOKUP(V9,Tabelas!B:D,3,0),0),\"\")","v":0},{"$f":"IF(A9<>\"\",IFERROR(VLOOKUP(W9,Tabelas!B:D,3,0),0),\"\")","v":0},{"$f":"IF(A9<>\"\",IFERROR(VLOOKUP(X9,Tabelas!B:D,3,0),0),\"\")","v":0},{"$f":"IF(A9<>\"\",IFERROR(VLOOKUP(Y9,Tabelas!B:D,3,0),0),\"\")","v":0},{"$f":"IF(A9<>\"\",IFERROR(VLOOKUP(Z9,Tabelas!B:D,3,0),0),\"\")","v":0},{"$f":"IF(A9<>\"\",IFERROR(VLOOKUP(AA9,Tabelas!B:D,3,0),0),\"\")","v":0},{"$f":"IF(A9<>\"\",IFERROR(VLOOKUP(AB9,Tabelas!B:D,3,0),0),\"\")","v":0},{"$f":"IF(A9<>\"\",IFERROR(VLOOKUP(AC9,Tabelas!B:D,3,0),0),\"\")","v":0},{"$f":"IF(A9<>\"\",IFERROR(VLOOKUP(AD9,Tabelas!B:D,3,0),0),\"\")","v":0},{"$f":"IF(A9<>\"\",IFERROR(VLOOKUP(AE9,Tabelas!B:D,3,0),0),\"\")","v":0},{"$f":"IF(A9<>\"\",IFERROR(VLOOKUP(AF9,Tabelas!B:D,3,0),0),\"\")","v":0},{"$f":"IF(A9<>\"\",IFERROR(VLOOKUP(AG9,Tabelas!B:D,3,0),0),\"\")","v":0},{"$f":"IF(A9<>\"\",IFERROR(VLOOKUP(AH9,Tabelas!B:D,3,0),0),\"\")","v":0},{"$f":"IF(A9<>\"\",IFERROR(VLOOKUP(AI9,Tabelas!B:D,3,0),0),\"\")","v":0},{"$f":"IF(A9<>\"\",IFERROR(VLOOKUP(AJ9,Tabelas!B:D,3,0),0),\"\")","v":0},{"$f":"IF(A9<>\"\",IFERROR(VLOOKUP(AK9,Tabelas!B:D,3,0),0),\"\")","v":0},{"$f":"IF(A9<>\"\",IFERROR(VLOOKUP(AL9,Tabelas!B:D,3,0),0),\"\")","v":0},{"$f":"IF(A9<>\"\",IFERROR(VLOOKUP(AM9,Tabelas!B:D,3,0),0),\"\")","v":0},{"$f":"IF(A9<>\"\",IFERROR(VLOOKUP(AN9,Tabelas!B:D,3,0),0),\"\")","v":0},{"$f":"IF(A9<>\"\",IFERROR(VLOOKUP(AO9,Tabelas!B:D,3,0),0),\"\")","v":0},{"$f":"IF(A9<>\"\",IFERROR(VLOOKUP(AP9,Tabelas!B:D,3,0),0),\"\")","v":0},{"$f":"IF(A9<>\"\",IFERROR(VLOOKUP(AQ9,Tabelas!B:D,3,0),0),\"\")","v":0},{"$f":"IF(AND(A9<>\"\",E9=\"Ebserh\"),SUM(AR9:BV9)+COUNTIF(M9:AQ9,\"N*\")+COUNTIF(M9:AQ9,\"DN*\"),IF(AND(A9<>\"\",E9<>\"Ebserh\"),SUM(AR9:BV9),\"\"))","v":0},{"$f":"IF(A9<>\"\",COUNTIF(M9:AQ9,\"LM\")+COUNTIF(M9:AQ9,\"L\")+COUNTIF(M9:AQ9,\"LP\"),\"\")","v":0},{"$f":"IF(A9<>\"\",COUNTIF(M9:AQ9,\"AB*\"),\"\")","v":0},{"$f":"IF(A9<>\"\",COUNTIF(M9:AQ9,\"FE\"),\"\")","v":0},{"$f":"IF(A9<>\"\",COUNTIF(M9:AQ9,\"LC\"),\"\")","v":0},{"$f":"IF(A9<>\"\",COUNTIF(M9:AQ9,\"CH*\"),\"\")","v":0},{"$f":"IF(A9<>\"\",COUNTIF(M9:AQ9,\"AF1\")+COUNTIF(M9:AQ9,\"AF2\")+COUNTIF(M9:AQ9,\"AF3\")+COUNTIF(M9:AQ9,\"AF4\")+COUNTIF(M9:AQ9,\"AF5\")+COUNTIF(M9:AQ9,\"AF6\")+COUNTIF(M9:AQ9,\"AF7\")+COUNTIF(M9:AQ9,\"AF8\")+COUNTIF(M9:AQ9,\"AF9\")+COUNTIF(M9:AQ9,\"AF10\")+COUNTIF(M9:AQ9,\"AF11\")+COUNTIF(M9:AQ9,\"AF12\")+COUNTIF(M9:AQ9,\"AF13\")+COUNTIF(M9:AQ9,\"AF14\"),\"\")","v":0},{"$f":"IF(A9<>\"\",COUNTIF(M9:AQ9,\"CH*\")+COUNTIF(M9:AQ9,\"L\")+COUNTIF(M9:AQ9,\"LM\")+COUNTIF(M9:AQ9,\"LP\")+COUNTIF(M9:AQ9,\"LC\")+COUNTIF(M9:AQ9,\"AB*\")+COUNTIF(M9:AQ9,\"AF1\")+COUNTIF(M9:AQ9,\"AF2\")+COUNTIF(M9:AQ9,\"AF3\")+COUNTIF(M9:AQ9,\"AF4\")+COUNTIF(M9:AQ9,\"AF5\")+COUNTIF(M9:AQ9,\"AF6\")+COUNTIF(M9:AQ9,\"AF7\")+COUNTIF(M9:AQ9,\"AF8\")+COUNTIF(M9:AQ9,\"AF9\")+COUNTIF(M9:AQ9,\"AF10\")+COUNTIF(M9:AQ9,\"AF11\")+COUNTIF(M9:AQ9,\"AF12\")+COUNTIF(M9:AQ9,\"AF13\")+COUNTIF(M9:AQ9,\"AF14\")+COUNTIF(M9:AQ9,\"RC\")+COUNTIF(M9:AQ9,\"FO\")+COUNTIF(M9:AQ9,\"FE\"),\"\")","v":0}]
["Alexandre Luciano Klein",2312539,null,"ME","RJU",30,null,null,null,null,null,null,"M17","M17","M17","M17",null,null,"M17","M17","M17","M17","M17",null,null,"M17","M17","M17","M17","M17",null,null,"M17","M17","M17",null,null,"M17",null,"M17","M17","M17","M17",{"$f":"IF(A10<>\"\",IFERROR(VLOOKUP(M10,Tabelas!B:D,3,0),0),\"\")","v":6},{"$f":"IF(A10<>\"\",IFERROR(VLOOKUP(N10,Tabelas!B:D,3,0),0),\"\")","v":6},{"$f":"IF(A10<>\"\",IFERROR(VLOOKUP(O10,Tabelas!B:D,3,0),0),\"\")","v":6},{"$f":"IF(A10<>\"\",IFERROR(VLOOKUP(P10,Tabelas!B:D,3,0),0),\"\")","v":6},{"$f":"IF(A10<>\"\",IFERROR(VLOOKUP(Q10,Tabelas!B:D,3,0),0),\"\")","v":0},{"$f":"IF(A10<>\"\",IFERROR(VLOOKUP(R10,Tabelas!B:D,3,0),0),\"\")","v":0},{"$f":"IF(A10<>\"\",IFERROR(VLOOKUP(S10,Tabelas!B:D,3,0),0),\"\")","v":6},{"$f":"IF(A10<>\"\",IFERROR(VLOOKUP(T10,Tabelas!B:D,3,0),0),\"\")","v":6},{"$f":"IF(A10<>\"\",IFERROR(VLOOKUP(U10,Tabelas!B:D,3,0),0),\"\")","v":6},{"$f":"IF(A10<>\"\",IFERROR(VLOOKUP(V10,Tabelas!B:D,3,0),0),\"\")","v":6},{"$f":"IF(A10<>\"\",IFERROR(VLOOKUP(W10,Tabelas!B:D,3,0),0),\"\")","v":6},{"$f":"IF(A10<>\"\",IFERROR(VLOOKUP(X10,Tabelas!B:D,3,0),0),\"\")","v":0},{"$f":"IF(A10<>\"\",IFERROR(VLOOKUP(Y10,Tabelas!B:D,3,0),0),\"\")","v":0},{"$f":"IF(A10<>\"\",IFERROR(VLOOKUP(Z10,Tabelas!B:D,3,0),0),\"\")","v":6},{"$f":"IF(A10<>\"\",IFERROR(VLOOKUP(AA10,Tabelas!B:D,3,0),0),\"\")","v":6},{"$f":"IF(A10<>\"\",IFERROR(VLOOKUP(AB10,Tabelas!B:D,3,0),0),\"\")","v":6},{"$f":"IF(A10<>\"\",IFERROR(VLOOKUP(AC10,Tabelas!B:D,3,0),0),\"\")","v":6},{"$f":"IF(A10<>\"\",IFERROR(VLOOKUP(AD10,Tabelas!B:D,3,0),0),\"\")","v":6},{"$f":"IF(A10<>\"\",IFERROR(VLOOKUP(AE10,Tabelas!B:D,3,0),0),\"\")","v":0},{"$f":"IF(A10<>\"\",IFERROR(VLOOKUP(AF10,Tabelas!B:D,3,0),0),\"\")","v":0},{"$f":"IF(A10<>\"\",IFERROR(VLOOKUP(AG10,Tabelas!B:D,3,0),0),\"\")","v":6},{"$f":"IF(A10<>\"\",IFERROR(VLOOKUP(AH10,Tabelas!B:D,3,0),0),\"\")","v":6},{"$f":"IF(A10<>\"\",IFERROR(VLOOKUP(AI10,Tabelas!B:D,3,0),0),\"\")","v":6},{"$f":"IF(A10<>\"\",IFERROR(VLOOKUP(AJ10,Tabelas!B:D,3,0),0),\"\")","v":0},{"$f":"IF(A10<>\"\",IFERROR(VLOOKUP(AK10,Tabelas!B:D,3,0),0),\"\")","v":0},{"$f":"IF(A10<>\"\",IFERROR(VLOOKUP(AL10,Tabelas!B:D,3,0),0),\"\")","v":6},{"$f":"IF(A10<>\"\",IFERROR(VLOOKUP(AM10,Tabelas!B:D,3,0),0),\"\")","v":0},{"$f":"IF(A10<>\"\",IFERROR(VLOOKUP(AN10,Tabelas!B:D,3,0),0),\"\")","v":6},{"$f":"IF(A10<>\"\",IFERROR(VLOOKUP(AO10,Tabelas!B:D,3,0),0),\"\")","v":6},{"$f":"IF(A10<>\"\",IFERROR(VLOOKUP(AP10,Tabelas!B:D,3,0),0),\"\")","v":6},{"$f":"IF(A10<>\"\",IFERROR(VLOOKUP(AQ10,Tabelas!B:D,3,0),0),\"\")","v":6},132,0,0,0,0,0,0,0]
["Alexandre Luciano Klein",3312539,null,"ME","RJU",20,null,null,null,null,null,null,null,"T17","T17",null,null,null,"T17",null,"T17","T17",null,null,null,"T17",null,"T17","T17",null,null,null,"T17",null,"T17",null,null,null,null,"T17",null,"T17","T17",{"$f":"IF(A11<>\"\",IFERROR(VLOOKUP(M11,Tabelas!B:D,3,0),0),\"\")","v":0},{"$f":"IF(A11<>\"\",IFERROR(VLOOKUP(N11,Tabelas!B:D,3,0),0),\"\")","v":6},{"$f":"IF(A11<>\"\",IFERROR(VLOOKUP(O11,Tabelas!B:D,3,0),0),\"\")","v":6},{"$f":"IF(A11<>\"\",IFERROR(VLOOKUP(P11,Tabelas!B:D,3,0),0),\"\")","v":0},{"$f":"IF(A11<>\"\",IFERROR(VLOOKUP(Q11,Tabelas!B:D,3,0),0),\"\")","v":0},{"$f":"IF(A11<>\"\",IFERROR(VLOOKUP(R11,Tabelas!B:D,3,0),0),\"\")","v":0},{"$f":"IF(A11<>\"\",IFERROR(VLOOKUP(S11,Tabelas!B:D,3,0),0),\"\")","v":6},{"$f":"IF(A11<>\"\",IFERROR(VLOOKUP(T11,Tabelas!B:D,3,0),0),\"\")","v":0},{"$f":"IF(A11<>\"\",IFERROR(VLOOKUP(U11,Tabelas!B:D,3,0),0),\"\")","v":6},{"$f":"IF(A11<>\"\",IFERROR(VLOOKUP(V11,Tabelas!B:D,3,0),0),\"\")","v":6},{"$f":"IF(A11<>\"\",IFERROR(VLOOKUP(W11,Tabelas!B:D,3,0),0),\"\")","v":0},{"$f":"IF(A11<>\"\",IFERROR(VLOOKUP(X11,Tabelas!B:D,3,0),0),\"\")","v":0},{"$f":"IF(A11<>\"\",IFERROR(VLOOKUP(Y11,Tabelas!B:D,3,0),0),\"\")","v":0},{"$f":"IF(A11<>\"\",IFERROR(VLOOKUP(Z11,Tabelas!B:D,3,0),0),\"\")","v":6},{"$f":"IF(A11<>\"\",IFERROR(VLOOKUP(AA11,Tabelas!B:D,3,0),0),\"\")","v":0},{"$f":"IF(A11<>\"\",IFERROR(VLOOKUP(AB11,Tabelas!B:D,3,0),0),\"\")","v":6},{"$f":"IF(A11<>\"\",IFERROR(VLOOKUP(AC11,Tabelas!B:D,3,0),0),\"\")","v":6},{"$f":"IF(A11<>\"\",IFERROR(VLOOKUP(AD11,Tabelas!B:D,3,0),0),\"\")","v":0},{"$f":"IF(A11<>\"\",IFERROR(VLOOKUP(AE11,Tabelas!B:D,3,0),0),\"\")","v":0},{"$f":"IF(A11<>\"\",IFERROR(VLOOKUP(AF11,Tabelas!B:D,3,0),0),\"\")","v":0},{"$f":"IF(A11<>\"\",IFERROR(VLOOKUP(AG11,Tabelas!B:D,3,0),0),\"\")","v":6},{"$f":"IF(A11<>\"\",IFERROR(VLOOKUP(AH11,Tabelas!B:D,3,0),0),\"\")","v":0},{"$f":"IF(A11<>\"\",IFERROR(VLOOKUP(AI11,Tabelas!B:D,3,0),0),\"\")","v":6},{"$f":"IF(A11<>\"\",IFERROR(VLOOKUP(AJ11,Tabelas!B:D,3,0),0),\"\")","v":0},{"$f":"IF(A11<>\"\",IFERROR(VLOOKUP(AK11,Tabelas!B:D,3,0),0),\"\")","v":0},{"$f":"IF(A11<>\"\",IFERROR(VLOOKUP(AL11,Tabelas!B:D,3,0),0),\"\")","v":0},{"$f":"IF(A11<>\"\",IFERROR(VLOOKUP(AM11,Tabelas!B:D,3,0),0),\"\")","v":0},{"$f":"IF(A11<>\"\",IFERROR(VLOOKUP(AN11,Tabelas!B:D,3,0),0),\"\")","v":6},{"$f":"IF(A11<>\"\",IFERROR(VLOOKUP(AO11,Tabelas!B:D,3,0),0),\"\")","v":0},{"$f":"IF(A11<>\"\",IFERROR(VLOOKUP(AP11,Tabelas!B:D,3,0),0),\"\")","v":6},{"$f":"IF(A11<>\"\",IFERROR(VLOOKUP(AQ11,Tabelas!B:D,3,0),0),\"\")","v":6},78,0,0,0,0,0,0,0]
["Alice Danielle Correa Mendes Pinto",1357071,null,"ME","RJU",30,null,null,null,null,null,null,"M17","M17","M17","M17",null,null,"M17","M17","M17","M17","M17",null,null,"M17","M17","M17","M17","M17",null,null,"M17","M17","M17","M17",null,null,null,"M17","M17","M17",null,{"$f":"IF(A12<>\"\",IFERROR(VLOOKUP(M12,Tabelas!B:D,3,0),0),\"\")","v":6},{"$f":"IF(A12<>\"\",IFERROR(VLOOKUP(N12,Tabelas!B:D,3,0),0),\"\")","v":6},{"$f":"IF(A12<>\"\",IFERROR(VLOOKUP(O12,Tabelas!B:D,3,0),0),\"\")","v":6},{"$f":"IF(A12<>\"\",IFERROR(VLOOKUP(P12,Tabelas!B:D,3,0),0),\"\")","v":6},{"$f":"IF(A12<>\"\",IFERROR(VLOOKUP(Q12,Tabelas!B:D,3,0),0),\"\")","v":0},{"$f":"IF(A12<>\"\",IFERROR(VLOOKUP(R12,Tabelas!B:D,3,0),0),\"\")","v":0},{"$f":"IF(A12<>\"\",IFERROR(VLOOKUP(S12,Tabelas!B:D,3,0),0),\"\")","v":6},{"$f":"IF(A12<>\"\",IFERROR(VLOOKUP(T12,Tabelas!B:D,3,0),0),\"\")","v":6},{"$f":"IF(A12<>\"\",IFERROR(VLOOKUP(U12,Tabelas!B:D,3,0),0),\"\")","v":6},{"$f":"IF(A12<>\"\",IFERROR(VLOOKUP(V12,Tabelas!B:D,3,0),0),\"\")","v":6},{"$f":"IF(A12<>\"\",IFERROR(VLOOKUP(W12,Tabelas!B:D,3,0),0),\"\")","v":6},{"$f":"IF(A12<>\"\",IFERROR(VLOOKUP(X12,Tabelas!B:D,3,0),0),\"\")","v":0},{"$f":"IF(A12<>\"\",IFERROR(VLOOKUP(Y12,Tabelas!B:D,3,0),0),\"\")","v":0},{"$f":"IF(A12<>\"\",IFERROR(VLOOKUP(Z12,Tabelas!B:D,3,0),0),\"\")","v":6},{"$f":"IF(A12<>\"\",IFERROR(VLOOKUP(AA12,Tabelas!B:D,3,0),0),\"\")","v":6},{"$f":"IF(A12<>\"\",IFERROR(VLOOKUP(AB12,Tabelas!B:D,3,0),0),\"\")","v":6},{"$f":"IF(A12<>\"\",IFERROR(VLOOKUP(AC12,Tabelas!B:D,3,0),0),\"\")","v":6},{"$f":"IF(A12<>\"\",IFERROR(VLOOKUP(AD12,Tabelas!B:D,3,0),0),\"\")","v":6},{"$f":"IF(A12<>\"\",IFERROR(VLOOKUP(AE12,Tabelas!B:D,3,0),0),\"\")","v":0},{"$f":"IF(A12<>\"\",IFERROR(VLOOKUP(AF12,Tabelas!B:D,3,0),0),\"\")","v":0},{"$f":"IF(A12<>\"\",IFERROR(VLOOKUP(AG12,Tabelas!B:D,3,0),0),\"\")","v":6},{"$f":"IF(A12<>\"\",IFERROR(VLOOKUP(AH12,Tabelas!B:D,3,0),0),\"\")","v":6},{"$f":"IF(A12<>\"\",IFERROR(VLOOKUP(AI12,Tabelas!B:D,3,0),0),\"\")","v":6},{"$f":"IF(A12<>\"\",IFERROR(VLOOKUP(AJ12,Tabelas!B:D,3,0),0),\"\")","v":6},{"$f":"IF(A12<>\"\",IFERROR(VLOOKUP(AK12,Tabelas!B:D,3,0),0),\"\")","v":0},{"$f":"IF(A12<>\"\",IFERROR(VLOOKUP(AL12,Tabelas!B:D,3,0),0),\"\")","v":0},{"$f":"IF(A12<>\"\",IFERROR(VLOOKUP(AM12,Tabelas!B:D,3,0),0),\"\")","v":0},{"$f":"IF(A12<>\"\",IFERROR(VLOOKUP(AN12,Tabelas!B:D,3,0),0),\"\")","v":6},{"$f":"IF(A12<>\"\",IFERROR(VLOOKUP(AO12,Tabelas!B:D,3,0),0),\"\")","v":6},{"$f":"IF(A12<>\"\",IFERROR(VLOOKUP(AP12,Tabelas!B:D,3,0),0),\"\")","v":6},{"$f":"IF(A12<>\"\",IFERROR(VLOOKUP(AQ12,Tabelas!B:D,3,0),0),\"\")","v":0},126,0,0,0,0,0,0,0]
["Gina Vieira Velho",1185798,null,"ME","RJU",20,null,null,null,null,null,null,null,"M17","M17",null,null,null,"M17",null,"M17","M17",null,null,null,"M17",null,"M17","M17",null,null,null,"M17",null,"M17",null,null,null,null,"M17",null,"M17","M17","M17","M17","M17","M17","M17","M17","M17","M17","M17","M17","M17","M17","M17","M17","M17","M17","M17","M17","M17","M17","M17","M17","M17","M17","M17","M17","M17","M17","M17","M17","M17",0,0,0,0,0,0,0,0]
["Rafael Lisboa de Souza",2344070,null,"ME","RJU",30,null,null,null,null,null,null,"M17","M17","M17","M17",null,null,"M17","M17","M17","M17","M17",null,null,"M17","M17","M17","M17","M17",null,null,"M17","M17","M17","M17",null,null,null,"M17","M17","M17",null,{"$f":"IF(A14<>\"\",IFERROR(VLOOKUP(M14,Tabelas!B:D,3,0),0),\"\")","v":6},{"$f":"IF(A14<>\"\",IFERROR(VLOOKUP(N14,Tabelas!B:D,3,0),0),\"\")","v":6},{"$f":"IF(A14<>\"\",IFERROR(VLOOKUP(O14,Tabelas!B:D,3,0),0),\"\")","v":6},{"$f":"IF(A14<>\"\",IFERROR(VLOOKUP(P14,Tabelas!B:D,3,0),0),\"\")","v":6},{"$f":"IF(A14<>\"\",IFERROR(VLOOKUP(Q14,Tabelas!B:D,3,0),0),\"\")","v":0},{"$f":"IF(A14<>\"\",IFERROR(VLOOKUP(R14,Tabelas!B:D,3,0),0),\"\")","v":0},{"$f":"IF(A14<>\"\",IFERROR(VLOOKUP(S14,Tabelas!B:D,3,0),0),\"\")","v":6},{"$f":"IF(A14<>\"\",IFERROR(VLOOKUP(T14,Tabelas!B:D,3,0),0),\"\")","v":6},{"$f":"IF(A14<>\"\",IFERROR(VLOOKUP(U14,Tabelas!B:D,3,0),0),\"\")","v":6},{"$f":"IF(A14<>\"\",IFERROR(VLOOKUP(V14,Tabelas!B:D,3,0),0),\"\")","v":6},{"$f":"IF(A14<>\"\",IFERROR(VLOOKUP(W14,Tabelas!B:D,3,0),0),\"\")","v":6},{"$f":"IF(A14<>\"\",IFERROR(VLOOKUP(X14,Tabelas!B:D,3,0),0),\"\")","v":0},{"$f":"IF(A14<>\"\",IFERROR(VLOOKUP(Y14,Tabelas!B:D,3,0),0),\"\")","v":0},{"$f":"IF(A14<>\"\",IFERROR(VLOOKUP(Z14,Tabelas!B:D,3,0),0),\"\")","v":6},{"$f":"IF(A14<>\"\",IFERROR(VLOOKUP(AA14,Tabelas!B:D,3,0),0),\"\")","v":6},{"$f":"IF(A14<>\"\",IFERROR(VLOOKUP(AB14,Tabelas!B:D,3,0),0),\"\")","v":6},{"$f":"IF(A14<>\"\",IFERROR(VLOOKUP(AC14,Tabelas!B:D,3,0),0),\"\")","v":6},{"$f":"IF(A14<>\"\",IFERROR(VLOOKUP(AD14,Tabelas!B:D,3,0),0),\"\")","v":6},{"$f":"IF(A14<>\"\",IFERROR(VLOOKUP(AE14,Tabelas!B:D,3,0),0),\"\")","v":0},{"$f":"IF(A14<>\"\",IFERROR(VLOOKUP(AF14,Tabelas!B:D,3,0),0),\"\")","v":0},{"$f":"IF(A14<>\"\",IFERROR(VLOOKUP(AG14,Tabelas!B:D,3,0),0),\"\")","v":6},{"$f":"IF(A14<>\"\",IFERROR(VLOOKUP(AH14,Tabelas!B:D,3,0),0),\"\")","v":6},{"$f":"IF(A14<>\"\",IFERROR(VLOOKUP(AI14,Tabelas!B:D,3,0),0),\"\")","v":6},{"$f":"IF(A14<>\"\",IFERROR(VLOOKUP(AJ14,Tabelas!B:D,3,0),0),\"\")","v":6},{"$f":"IF(A14<>\"\",IFERROR(VLOOKUP(AK14,Tabelas!B:D,3,0),0),\"\")","v":0},{"$f":"IF(A14<>\"\",IFERROR(VLOOKUP(AL14,Tabelas!B:D,3,0),0),\"\")","v":0},{"$f":"IF(A14<>\"\",IFERROR(VLOOKUP(AM14,Tabelas!B:D,3,0),0),\"\")","v":0},{"$f":"IF(A14<>\"\",IFERROR(VLOOKUP(AN14,Tabelas!B:D,3,0),0),\"\")","v":6},{"$f":"IF(A14<>\"\",IFERROR(VLOOKUP(AO14,Tabelas!B:D,3,0),0),\"\")","v":6},{"$f":"IF(A14<>\"\",IFERROR(VLOOKUP(AP14,Tabelas!B:D,3,0),0),\"\")","v":6},{"$f":"IF(A14<>\"\",IFERROR(VLOOKUP(AQ14,Tabelas!B:D,3,0),0),\"\")","v":0},126,0,0,0,0,0,0,0]
["Karine Damiani Cabral (EMG)",2925603,null,"ME","RJU",12,null,null,null,null,null,null,"D8","T17",null,"T17",null,null,"T17","D8","T17",null,"T17",null,null,"T17","T17","T17",null,"T17",null,null,null,"D8","T17",null,null,null,null,"T17","T17",null,"D8",{"$f":"IF(A15<>\"\",IFERROR(VLOOKUP(M15,Tabelas!B:D,3,0),0),\"\")","v":12},{"$f":"IF(A15<>\"\",IFERROR(VLOOKUP(N15,Tabelas!B:D,3,0),0),\"\")","v":6},{"$f":"IF(A15<>\"\",IFERROR(VLOOKUP(O15,Tabelas!B:D,3,0),0),\"\")","v":0},{"$f":"IF(A15<>\"\",IFERROR(VLOOKUP(P15,Tabelas!B:D,3,0),0),\"\")","v":6},{"$f":"IF(A15<>\"\",IFERROR(VLOOKUP(Q15,Tabelas!B:D,3,0),0),\"\")","v":0},{"$f":"IF(A15<>\"\",IFERROR(VLOOKUP(R15,Tabelas!B:D,3,0),0),\"\")","v":0},{"$f":"IF(A15<>\"\",IFERROR(VLOOKUP(S15,Tabelas!B:D,3,0),0),\"\")","v":6},{"$f":"IF(A15<>\"\",IFERROR(VLOOKUP(T15,Tabelas!B:D,3,0),0),\"\")","v":12},{"$f":"IF(A15<>\"\",IFERROR(VLOOKUP(U15,Tabelas!B:D,3,0),0),\"\")","v":6},{"$f":"IF(A15<>\"\",IFERROR(VLOOKUP(V15,Tabelas!B:D,3,0),0),\"\")","v":0},{"$f":"IF(A15<>\"\",IFERROR(VLOOKUP(W15,Tabelas!B:D,3,0),0),\"\")","v":6},{"$f":"IF(A15<>\"\",IFERROR(VLOOKUP(X15,Tabelas!B:D,3,0),0),\"\")","v":0},{"$f":"IF(A15<>\"\",IFERROR(VLOOKUP(Y15,Tabelas!B:D,3,0),0),\"\")","v":0},{"$f":"IF(A15<>\"\",IFERROR(VLOOKUP(Z15,Tabelas!B:D,3,0),0),\"\")","v":6},{"$f":"IF(A15<>\"\",IFERROR(VLOOKUP(AA15,Tabelas!B:D,3,0),0),\"\")","v":6},{"$f":"IF(A15<>\"\",IFERROR(VLOOKUP(AB15,Tabelas!B:D,3,0),0),\"\")","v":6},{"$f":"IF(A15<>\"\",IFERROR(VLOOKUP(AC15,Tabelas!B:D,3,0),0),\"\")","v":0},{"$f":"IF(A15<>\"\",IFERROR(VLOOKUP(AD15,Tabelas!B:D,3,0),0),\"\")","v":6},{"$f":"IF(A15<>\"\",IFERROR(VLOOKUP(AE15,Tabelas!B:D,3,0),0),\"\")","v":0},{"$f":"IF(A15<>\"\",IFERROR(VLOOKUP(AF15,Tabelas!B:D,3,0),0),\"\")","v":0},{"$f":"IF(A15<>\"\",IFERROR(VLOOKUP(AG15,Tabelas!B:D,3,0),0),\"\")","v":0},{"$f":"IF(A15<>\"\",IFERROR(VLOOKUP(AH15,Tabelas!B:D,3,0),0),\"\")","v":12},{"$f":"IF(A15<>\"\",IFERROR(VLOOKUP(AI15,Tabelas!B:D,3,0),0),\"\")","v":6},{"$f":"IF(A15<>\"\",IFERROR(VLOOKUP(AJ15,Tabelas!B:D,3,0),0),\"\")","v":0},{"$f":"IF(A15<>\"\",IFERROR(VLOOKUP(AK15,Tabelas!B:D,3,0),0),\"\")","v":0},{"$f":"IF(A15<>\"\",IFERROR(VLOOKUP(AL15,Tabelas!B:D,3,0),0),\"\")","v":0},{"$f":"IF(A15<>\"\",IFERROR(VLOOKUP(AM15,Tabelas!B:D,3,0),0),\"\")","v":0},{"$f":"IF(A15<>\"\",IFERROR(VLOOKUP(AN15,Tabelas!B:D,3,0),0),\"\")","v":6},{"$f":"IF(A15<>\"\",IFERROR(VLOOKUP(AO15,Tabelas!B:D,3,0),0),\"\")","v":6},{"$f":"IF(A15<>\"\",IFERROR(VLOOKUP(AP15,Tabelas!B:D,3,0),0),\"\")","v":0},{"$f":"IF(A15<>\"\",IFERROR(VLOOKUP(AQ15,Tabelas!B:D,3,0),0),\"\")","v":12},120,0,0,0,0,0,0,0]
["Vanessa Miné Geraldo",3055054,null,"ME","EBSERH",24,null,null,null,null,null,null,"FE","FE","FE","FE","FE","FE","FE","FE","FE","FE","FE","FE","FE","FE","FE","T17","T17","T17",null,null,null,"T17","T17","T17",null,null,null,null,"T17",null,null,{"$f":"IF(A16<>\"\",IFERROR(VLOOKUP(M16,Tabelas!B:D,3,0),0),\"\")","v":0},{"$f":"IF(A16<>\"\",IFERROR(VLOOKUP(N16,Tabelas!B:D,3,0),0),\"\")","v":0},{"$f":"IF(A16<>\"\",IFERROR(VLOOKUP(O16,Tabelas!B:D,3,0),0),\"\")","v":0},{"$f":"IF(A16<>\"\",IFERROR(VLOOKUP(P16,Tabelas!B:D,3,0),0),\"\")","v":0},{"$f":"IF(A16<>\"\",IFERROR(VLOOKUP(Q16,Tabelas!B:D,3,0),0),\"\")","v":0},{"$f":"IF(A16<>\"\",IFERROR(VLOOKUP(R16,Tabelas!B:D,3,0),0),\"\")","v":0},{"$f":"IF(A16<>\"\",IFERROR(VLOOKUP(S16,Tabelas!B:D,3,0),0),\"\")","v":0},{"$f":"IF(A16<>\"\",IFERROR(VLOOKUP(T16,Tabelas!B:D,3,0),0),\"\")","v":0},{"$f":"IF(A16<>\"\",IFERROR(VLOOKUP(U16,Tabelas!B:D,3,0),0),\"\")","v":0},{"$f":"IF(A16<>\"\",IFERROR(VLOOKUP(V16,Tabelas!B:D,3,0),0),\"\")","v":0},{"$f":"IF(A16<>\"\",IFERROR(VLOOKUP(W16,Tabelas!B:D,3,0),0),\"\")","v":0},{"$f":"IF(A16<>\"\",IFERROR(VLOOKUP(X16,Tabelas!B:D,3,0),0),\"\")","v":0},{"$f":"IF(A16<>\"\",IFERROR(VLOOKUP(Y16,Tabelas!B:D,3,0),0),\"\")","v":0},{"$f":"IF(A16<>\"\",IFERROR(VLOOKUP(Z16,Tabelas!B:D,3,0),0),\"\")","v":0},{"$f":"IF(A16<>\"\",IFERROR(VLOOKUP(AA16,Tabelas!B:D,3,0),0),\"\")","v":0},{"$f":"IF(A16<>\"\",IFERROR(VLOOKUP(AB16,Tabelas!B:D,3,0),0),\"\")","v":6},{"$f":"IF(A16<>\"\",IFERROR(VLOOKUP(AC16,Tabelas!B:D,3,0),0),\"\")","v":6},{"$f":"IF(A16<>\"\",IFERROR(VLOOKUP(AD16,Tabelas!B:D,3,0),0),\"\")","v":6},{"$f":"IF(A16<>\"\",IFERROR(VLOOKUP(AE16,Tabelas!B:D,3,0),0),\"\")","v":0},{"$f":"IF(A16<>\"\",IFERROR(VLOOKUP(AF16,Tabelas!B:D,3,0),0),\"\")","v":0},{"$f":"IF(A16<>\"\",IFERROR(VLOOKUP(AG16,Tabelas!B:D,3,0),0),\"\")","v":0},{"$f":"IF(A16<>\"\",IFERROR(VLOOKUP(AH16,Tabelas!B:D,3,0),0),\"\")","v":6},{"$f":"IF(A16<>\"\",IFERROR(VLOOKUP(AI16,Tabelas!B:D,3,0),0),\"\")","v":6},{"$f":"IF(A16<>\"\",IFERROR(VLOOKUP(AJ16,Tabelas!B:D,3,0),0),\"\")","v":6},{"$f":"IF(A16<>\"\",IFERROR(VLOOKUP(AK16,Tabelas!B:D,3,0),0),\"\")","v":0},{"$f":"IF(A16<>\"\",IFERROR(VLOOKUP(AL16,Tabelas!B:D,3,0),0),\"\")","v":0},{"$f":"IF(A16<>\"\",IFERROR(VLOOKUP(AM16,Tabelas!B:D,3,0),0),\"\")","v":0},{"$f":"IF(A16<>\"\",IFERROR(VLOOKUP(AN16,Tabelas!B:D,3,0),0),\"\")","v":0},{"$f":"IF(A16<>\"\",IFERROR(VLOOKUP(AO16,Tabelas!B:D,3,0),0),\"\")","v":6},{"$f":"IF(A16<>\"\",IFERROR(VLOOKUP(AP16,Tabelas!B:D,3,0),0),\"\")","v":0},{"$f":"IF(A16<>\"\",IFERROR(VLOOKUP(AQ16,Tabelas!B:D,3,0),0),\"\")","v":0},42,0,0,15,0,0,0,15]
["Vinícius D. Pedro (EMG)",null,null,"ME","RJU",12,null,null,null,null,null,null,"T17","T17","T17","T17",null,null,"T17","T17","T17","T17","M17",null,null,"FE","FE","FE","FE","FE","FE","FE","FE","FE","FE","FE",null,null,null,null,null,null,"T17",{"$f":"IF(A17<>\"\",IFERROR(VLOOKUP(M17,Tabelas!B:D,3,0),0),\"\")","v":6},{"$f":"IF(A17<>\"\",IFERROR(VLOOKUP(N17,Tabelas!B:D,3,0),0),\"\")","v":6},{"$f":"IF(A17<>\"\",IFERROR(VLOOKUP(O17,Tabelas!B:D,3,0),0),\"\")","v":6},{"$f":"IF(A17<>\"\",IFERROR(VLOOKUP(P17,Tabelas!B:D,3,0),0),\"\")","v":6},{"$f":"IF(A17<>\"\",IFERROR(VLOOKUP(Q17,Tabelas!B:D,3,0),0),\"\")","v":0},{"$f":"IF(A17<>\"\",IFERROR(VLOOKUP(R17,Tabelas!B:D,3,0),0),\"\")","v":0},{"$f":"IF(A17<>\"\",IFERROR(VLOOKUP(S17,Tabelas!B:D,3,0),0),\"\")","v":6},{"$f":"IF(A17<>\"\",IFERROR(VLOOKUP(T17,Tabelas!B:D,3,0),0),\"\")","v":6},{"$f":"IF(A17<>\"\",IFERROR(VLOOKUP(U17,Tabelas!B:D,3,0),0),\"\")","v":6},{"$f":"IF(A17<>\"\",IFERROR(VLOOKUP(V17,Tabelas!B:D,3,0),0),\"\")","v":6},{"$f":"IF(A17<>\"\",IFERROR(VLOOKUP(W17,Tabelas!B:D,3,0),0),\"\")","v":6},{"$f":"IF(A17<>\"\",IFERROR(VLOOKUP(X17,Tabelas!B:D,3,0),0),\"\")","v":0},{"$f":"IF(A17<>\"\",IFERROR(VLOOKUP(Y17,Tabelas!B:D,3,0),0),\"\")","v":0},{"$f":"IF(A17<>\"\",IFERROR(VLOOKUP(Z17,Tabelas!B:D,3,0),0),\"\")","v":0},{"$f":"IF(A17<>\"\",IFERROR(VLOOKUP(AA17,Tabelas!B:D,3,0),0),\"\")","v":0},{"$f":"IF(A17<>\"\",IFERROR(VLOOKUP(AB17,Tabelas!B:D,3,0),0),\"\")","v":0},{"$f":"IF(A17<>\"\",IFERROR(VLOOKUP(AC17,Tabelas!B:D,3,0),0),\"\")","v":0},{"$f":"IF(A17<>\"\",IFERROR(VLOOKUP(AD17,Tabelas!B:D,3,0),0),\"\")","v":0},{"$f":"IF(A17<>\"\",IFERROR(VLOOKUP(AE17,Tabelas!B:D,3,0),0),\"\")","v":0},{"$f":"IF(A17<>\"\",IFERROR(VLOOKUP(AF17,Tabelas!B:D,3,0),0),\"\")","v":0},{"$f":"IF(A17<>\"\",IFERROR(VLOOKUP(AG17,Tabelas!B:D,3,0),0),\"\")","v":0},{"$f":"IF(A17<>\"\",IFERROR(VLOOKUP(AH17,Tabelas!B:D,3,0),0),\"\")","v":0},{"$f":"IF(A17<>\"\",IFERROR(VLOOKUP(AI17,Tabelas!B:D,3,0),0),\"\")","v":0},{"$f":"IF(A17<>\"\",IFERROR(VLOOKUP(AJ17,Tabelas!B:D,3,0),0),\"\")","v":0},{"$f":"IF(A17<>\"\",IFERROR(VLOOKUP(AK17,Tabelas!B:D,3,0),0),\"\")","v":0},{"$f":"IF(A17<>\"\",IFERROR(VLOOKUP(AL17,Tabelas!B:D,3,0),0),\"\")","v":0},{"$f":"IF(A17<>\"\",IFERROR(VLOOKUP(AM17,Tabelas!B:D,3,0),0),\"\")","v":0},{"$f":"IF(A17<>\"\",IFERROR(VLOOKUP(AN17,Tabelas!B:D,3,0),0),\"\")","v":0},{"$f":"IF(A17<>\"\",IFERROR(VLOOKUP(AO17,Tabelas!B:D,3,0),0),\"\")","v":0},{"$f":"IF(A17<>\"\",IFERROR(VLOOKUP(AP17,Tabelas!B:D,3,0),0),\"\")","v":0},{"$f":"IF(A17<>\"\",IFERROR(VLOOKUP(AQ17,Tabelas!B:D,3,0),0),\"\")","v":6},60,0,0,11,0,0,0,11]
[null,null,null,null,null,null,null,null,null,null,null,null,null,null,null,null,null,null,null,null,null,null,null,null,null,null,null,null,null,null,null,null,null,null,null,null,null,null,null,null,null,null,null,{"$f":"IF(A18<>\"\",IFERROR(VLOOKUP(M18,Tabelas!B:D,3,0),0),\"\")","v":""},{"$f":"IF(A18<>\"\",IFERROR(VLOOKUP(N18,Tabelas!B:D,3,0),0),\"\")","v":""},{"$f":"IF(A18<>\"\",IFERROR(VLOOKUP(O18,Tabelas!B:D,3,0),0),\"\")","v":""},{"$f":"IF(A18<>\"\",IFERROR(VLOOKUP(P18,Tabelas!B:D,3,0),0),\"\")","v":""},{"$f":"IF(A18<>\"\",IFERROR(VLOOKUP(Q18,Tabelas!B:D,3,0),0),\"\")","v":""},{"$f":"IF(A18<>\"\",IFERROR(VLOOKUP(R18,Tabelas!B:D,3,0),0),\"\")","v":""},{"$f":"IF(A18<>\"\",IFERROR(VLOOKUP(S18,Tabelas!B:D,3,0),0),\"\")","v":""},{"$f":"IF(A18<>\"\",IFERROR(VLOOKUP(T18,Tabelas!B:D,3,0),0),\"\")","v":""},{"$f":"IF(A18<>\"\",IFERROR(VLOOKUP(U18,Tabelas!B:D,3,0),0),\"\")","v":""},{"$f":"IF(A18<>\"\",IFERROR(VLOOKUP(V18,Tabelas!B:D,3,0),0),\"\")","v":""},{"$f":"IF(A18<>\"\",IFERROR(VLOOKUP(W18,Tabelas!B:D,3,0),0),\"\")","v":""},{"$f":"IF(A18<>\"\",IFERROR(VLOOKUP(X18,Tabelas!B:D,3,0),0),\"\")","v":""},{"$f":"IF(A18<>\"\",IFERROR(VLOOKUP(Y18,Tabelas!B:D,3,0),0),\"\")","v":""},{"$f":"IF(A18<>\"\",IFERROR(VLOOKUP(Z18,Tabelas!B:D,3,0),0),\"\")","v":""},{"$f":"IF(A18<>\"\",IFERROR(VLOOKUP(AA18,Tabelas!B:D,3,0),0),\"\")","v":""},{"$f":"IF(A18<>\"\",IFERROR(VLOOKUP(AB18,Tabelas!B:D,3,0),0),\"\")","v":""},{"$f":"IF(A18<>\"\",IFERROR(VLOOKUP(AC18,Tabelas!B:D,3,0),0),\"\")","v":""},{"$f":"IF(A18<>\"\",IFERROR(VLOOKUP(AD18,Tabelas!B:D,3,0),0),\"\")","v":""},{"$f":"IF(A18<>\"\",IFERROR(VLOOKUP(AE18,Tabelas!B:D,3,0),0),\"\")","v":""},{"$f":"IF(A18<>\"\",IFERROR(VLOOKUP(AF18,Tabelas!B:D,3,0),0),\"\")","v":""},{"$f":"IF(A18<>\"\",IFERROR(VLOOKUP(AG18,Tabelas!B:D,3,0),0),\"\")","v":""},{"$f":"IF(A18<>\"\",IFERROR(VLOOKUP(AH18,Tabelas!B:D,3,0),0),\"\")","v":""},{"$f":"IF(A18<>\"\",IFERROR(VLOOKUP(AI18,Tabelas!B:D,3,0),0),\"\")","v":""},{"$f":"IF(A18<>\"\",IFERROR(VLOOKUP(AJ18,Tabelas!B:D,3,0),0),\"\")","v":""},{"$f":"IF(A18<>\"\",IFERROR(VLOOKUP(AK18,Tabelas!B:D,3,0),0),\"\")","v":""},{"$f":"IF(A18<>\"\",IFERROR(VLOOKUP(AL18,Tabelas!B:D,3,0),0),\"\")","v":""},{"$f":"IF(A18<>\"\",IFERROR(VLOOKUP(AM18,Tabelas!B:D,3,0),0),\"\")","v":""},{"$f":"IF(A18<>\"\",IFERROR(VLOOKUP(AN18,Tabelas!B:D,3,0),0),\"\")","v":""},{"$f":"IF(A18<>\"\",IFERROR(VLOOKUP(AO18,Tabelas!B:D,3,0),0),\"\")","v":""},{"$f":"IF(A18<>\"\",IFERROR(VLOOKUP(AP18,Tabelas!B:D,3,0),0),\"\")","v":""},{"$f":"IF(A18<>\"\",IFERROR(VLOOKUP(AQ18,Tabelas!B:D,3,0),0),\"\")","v":""},"","","","","","","",""]
[null,null,null,null,null,null,null,null,null,null,null,null,null,null,null,null,null,null,null,null,null,null,null,null,null,null,null,null,null,null,null,null,null,null,null,null,null,null,null,null,null,null,null,{"$f":"IF(A19<>\"\",IFERROR(VLOOKUP(M19,Tabelas!B:D,3,0),0),\"\")","v":""},{"$f":"IF(A19<>\"\",IFERROR(VLOOKUP(N19,Tabelas!B:D,3,0),0),\"\")","v":""},{"$f":"IF(A19<>\"\",IFERROR(VLOOKUP(O19,Tabelas!B:D,3,0),0),\"\")","v":""},{"$f":"IF(A19<>\"\",IFERROR(VLOOKUP(P19,Tabelas!B:D,3,0),0),\"\")","v":""},{"$f":"IF(A19<>\"\",IFERROR(VLOOKUP(Q19,Tabelas!B:D,3,0),0),\"\")","v":""},{"$f":"IF(A19<>\"\",IFERROR(VLOOKUP(R19,Tabelas!B:D,3,0),0),\"\")","v":""},{"$f":"IF(A19<>\"\",IFERROR(VLOOKUP(S19,Tabelas!B:D,3,0),0),\"\")","v":""},{"$f":"IF(A19<>\"\",IFERROR(VLOOKUP(T19,Tabelas!B:D,3,0),0),\"\")","v":""},{"$f":"IF(A19<>\"\",IFERROR(VLOOKUP(U19,Tabelas!B:D,3,0),0),\"\")","v":""},{"$f":"IF(A19<>\"\",IFERROR(VLOOKUP(V19,Tabelas!B:D,3,0),0),\"\")","v":""},{"$f":"IF(A19<>\"\",IFERROR(VLOOKUP(W19,Tabelas!B:D,3,0),0),\"\")","v":""},{"$f":"IF(A19<>\"\",IFERROR(VLOOKUP(X19,Tabelas!B:D,3,0),0),\"\")","v":""},{"$f":"IF(A19<>\"\",IFERROR(VLOOKUP(Y19,Tabelas!B:D,3,0),0),\"\")","v":""},{"$f":"IF(A19<>\"\",IFERROR(VLOOKUP(Z19,Tabelas!B:D,3,0),0),\"\")","v":""},{"$f":"IF(A19<>\"\",IFERROR(VLOOKUP(AA19,Tabelas!B:D,3,0),0),\"\")","v":""},{"$f":"IF(A19<>\"\",IFERROR(VLOOKUP(AB19,Tabelas!B:D,3,0),0),\"\")","v":""},{"$f":"IF(A19<>\"\",IFERROR(VLOOKUP(AC19,Tabelas!B:D,3,0),0),\"\")","v":""},{"$f":"IF(A19<>\"\",IFERROR(VLOOKUP(AD19,Tabelas!B:D,3,0),0),\"\")","v":""},{"$f":"IF(A19<>\"\",IFERROR(VLOOKUP(AE19,Tabelas!B:D,3,0),0),\"\")","v":""},{"$f":"IF(A19<>\"\",IFERROR(VLOOKUP(AF19,Tabelas!B:D,3,0),0),\"\")","v":""},{"$f":"IF(A19<>\"\",IFERROR(VLOOKUP(AG19,Tabelas!B:D,3,0),0),\"\")","v":""},{"$f":"IF(A19<>\"\",IFERROR(VLOOKUP(AH19,Tabelas!B:D,3,0),0),\"\")","v":""},{"$f":"IF(A19<>\"\",IFERROR(VLOOKUP(AI19,Tabelas!B:D,3,0),0),\"\")","v":""},{"$f":"IF(A19<>\"\",IFERROR(VLOOKUP(AJ19,Tabelas!B:D,3,0),0),\"\")","v":""},{"$f":"IF(A19<>\"\",IFERROR(VLOOKUP(AK19,Tabelas!B:D,3,0),0),\"\")","v":""},{"$f":"IF(A19<>\"\",IFERROR(VLOOKUP(AL19,Tabelas!B:D,3,0),0),\"\")","v":""},{"$f":"IF(A19<>\"\",IFERROR(VLOOKUP(AM19,Tabelas!B:D,3,0),0),\"\")","v":""},{"$f":"IF(A19<>\"\",IFERROR(VLOOKUP(AN19,Tabelas!B:D,3,0),0),\"\")","v":""},{"$f":"IF(A19<>\"\",IFERROR(VLOOKUP(AO19,Tabelas!B:D,3,0),0),\"\")","v":""},{"$f":"IF(A19<>\"\",IFERROR(VLOOKUP(AP19,Tabelas!B:D,3,0),0),\"\")","v":""},{"$f":"IF(A19<>\"\",IFERROR(VLOOKUP(AQ19,Tabelas!B:D,3,0),0),\"\")","v":""},"","","","","","","",""]
["PLANTÃO",null,null,null,null,null,null,null,null,null,null,null,null,null,null,null,null,null,null,null,null,null,null,null,null,null,null,null,null,null,null,null,null,null,null,null,null,null,null,null,null,null,null,{"$f":"IF(A20<>\"\",IFERROR(VLOOKUP(M20,Tabelas!B:D,3,0),0),\"\")","v":0},{"$f":"IF(A20<>\"\",IFERROR(VLOOKUP(N20,Tabelas!B:D,3,0),0),\"\")","v":0},{"$f":"IF(A20<>\"\",IFERROR(VLOOKUP(O20,Tabelas!B:D,3,0),0),\"\")","v":0},{"$f":"IF(A20<>\"\",IFERROR(VLOOKUP(P20,Tabelas!B:D,3,0),0),\"\")","v":0},{"$f":"IF(A20<>\"\",IFERROR(VLOOKUP(Q20,Tabelas!B:D,3,0),0),\"\")","v":0},{"$f":"IF(A20<>\"\",IFERROR(VLOOKUP(R20,Tabelas!B:D,3,0),0),\"\")","v":0},{"$f":"IF(A20<>\"\",IFERROR(VLOOKUP(S20,Tabelas!B:D,3,0),0),\"\")","v":0},{"$f":"IF(A20<>\"\",IFERROR(VLOOKUP(T20,Tabelas!B:D,3,0),0),\"\")","v":0},{"$f":"IF(A20<>\"\",IFERROR(VLOOKUP(U20,Tabelas!B:D,3,0),0),\"\")","v":0},{"$f":"IF(A20<>\"\",IFERROR(VLOOKUP(V20,Tabelas!B:D,3,0),0),\"\")","v":0},{"$f":"IF(A20<>\"\",IFERROR(VLOOKUP(W20,Tabelas!B:D,3,0),0),\"\")","v":0},{"$f":"IF(A20<>\"\",IFERROR(VLOOKUP(X20,Tabelas!B:D,3,0),0),\"\")","v":0},{"$f":"IF(A20<>\"\",IFERROR(VLOOKUP(Y20,Tabelas!B:D,3,0),0),\"\")","v":0},{"$f":"IF(A20<>\"\",IFERROR(VLOOKUP(Z20,Tabelas!B:D,3,0),0),\"\")","v":0},{"$f":"IF(A20<>\"\",IFERROR(VLOOKUP(AA20,Tabelas!B:D,3,0),0),\"\")","v":0},{"$f":"IF(A20<>\"\",IFERROR(VLOOKUP(AB20,Tabelas!B:D,3,0),0),\"\")","v":0},{"$f":"IF(A20<>\"\",IFERROR(VLOOKUP(AC20,Tabelas!B:D,3,0),0),\"\")","v":0},{"$f":"IF(A20<>\"\",IFERROR(VLOOKUP(AD20,Tabelas!B:D,3,0),0),\"\")","v":0},{"$f":"IF(A20<>\"\",IFERROR(VLOOKUP(AE20,Tabelas!B:D,3,0),0),\"\")","v":0},{"$f":"IF(A20<>\"\",IFERROR(VLOOKUP(AF20,Tabelas!B:D,3,0),0),\"\")","v":0},{"$f":"IF(A20<>\"\",IFERROR(VLOOKUP(AG20,Tabelas!B:D,3,0),0),\"\")","v":0},{"$f":"IF(A20<>\"\",IFERROR(VLOOKUP(AH20,Tabelas!B:D,3,0),0),\"\")","v":0},{"$f":"IF(A20<>\"\",IFERROR(VLOOKUP(AI20,Tabelas!B:D,3,0),0),\"\")","v":0},{"$f":"IF(A20<>\"\",IFERROR(VLOOKUP(AJ20,Tabelas!B:D,3,0),0),\"\")","v":0},{"$f":"IF(A20<>\"\",IFERROR(VLOOKUP(AK20,Tabelas!B:D,3,0),0),\"\")","v":0},{"$f":"IF(A20<>\"\",IFERROR(VLOOKUP(AL20,Tabelas!B:D,3,0),0),\"\")","v":0},{"$f":"IF(A20<>\"\",IFERROR(VLOOKUP(AM20,Tabelas!B:D,3,0),0),\"\")","v":0},{"$f":"IF(A20<>\"\",IFERROR(VLOOKUP(AN20,Tabelas!B:D,3,0),0),\"\")","v":0},{"$f":"IF(A20<>\"\",IFERROR(VLOOKUP(AO20,Tabelas!B:D,3,0),0),\"\")","v":0},{"$f":"IF(A20<>\"\",IFERROR(VLOOKUP(AP20,Tabelas!B:D,3,0),0),\"\")","v":0},{"$f":"IF(A20<>\"\",IFERROR(VLOOKUP(AQ20,Tabelas!B:D,3,0),0),\"\")","v":0},0,0,0,0,0,0,0,0]
["Air Luis Zambom",1824250,null,"ME","RJU",40,null,null,null,null,null,null,null,null,null,"N10",null,"D8",null,"N10",null,null,null,null,null,null,null,null,"N10",null,"D8",null,null,null,null,null,null,null,"N10",null,"N10",null,null,{"$f":"IF(A21<>\"\",IFERROR(VLOOKUP(M21,Tabelas!B:D,3,0),0),\"\")","v":0},{"$f":"IF(A21<>\"\",IFERROR(VLOOKUP(N21,Tabelas!B:D,3,0),0),\"\")","v":0},{"$f":"IF(A21<>\"\",IFERROR(VLOOKUP(O21,Tabelas!B:D,3,0),0),\"\")","v":0},{"$f":"IF(A21<>\"\",IFERROR(VLOOKUP(P21,Tabelas!B:D,3,0),0),\"\")","v":12},{"$f":"IF(A21<>\"\",IFERROR(VLOOKUP(Q21,Tabelas!B:D,3,0),0),\"\")","v":0},{"$f":"IF(A21<>\"\",IFERROR(VLOOKUP(R21,Tabelas!B:D,3,0),0),\"\")","v":12},{"$f":"IF(A21<>\"\",IFERROR(VLOOKUP(S21,Tabelas!B:D,3,0),0),\"\")","v":0},{"$f":"IF(A21<>\"\",IFERROR(VLOOKUP(T21,Tabelas!B:D,3,0),0),\"\")","v":12},{"$f":"IF(A21<>\"\",IFERROR(VLOOKUP(U21,Tabelas!B:D,3,0),0),\"\")","v":0},{"$f":"IF(A21<>\"\",IFERROR(VLOOKUP(V21,Tabelas!B:D,3,0),0),\"\")","v":0},{"$f":"IF(A21<>\"\",IFERROR(VLOOKUP(W21,Tabelas!B:D,3,0),0),\"\")","v":0},{"$f":"IF(A21<>\"\",IFERROR(VLOOKUP(X21,Tabelas!B:D,3,0),0),\"\")","v":0},{"$f":"IF(A21<>\"\",IFERROR(VLOOKUP(Y21,Tabelas!B:D,3,0),0),\"\")","v":0},{"$f":"IF(A21<>\"\",IFERROR(VLOOKUP(Z21,Tabelas!B:D,3,0),0),\"\")","v":0},{"$f":"IF(A21<>\"\",IFERROR(VLOOKUP(AA21,Tabelas!B:D,3,0),0),\"\")","v":0},{"$f":"IF(A21<>\"\",IFERROR(VLOOKUP(AB21,Tabelas!B:D,3,0),0),\"\")","v":0},{"$f":"IF(A21<>\"\",IFERROR(VLOOKUP(AC21,Tabelas!B:D,3,0),0),\"\")","v":12},{"$f":"IF(A21<>\"\",IFERROR(VLOOKUP(AD21,Tabelas!B:D,3,0),0),\"\")","v":0},{"$f":"IF(A21<>\"\",IFERROR(VLOOKUP(AE21,Tabelas!B:D,3,0),0),\"\")","v":12},{"$f":"IF(A21<>\"\",IFERROR(VLOOKUP(AF21,Tabelas!B:D,3,0),0),\"\")","v":0},{"$f":"IF(A21<>\"\",IFERROR(VLOOKUP(AG21,Tabelas!B:D,3,0),0),\"\")","v":0},{"$f":"IF(A21<>\"\",IFERROR(VLOOKUP(AH21,Tabelas!B:D,3,0),0),\"\")","v":0},{"$f":"IF(A21<>\"\",IFERROR(VLOOKUP(AI21,Tabelas!B:D,3,0),0),\"\")","v":0},{"$f":"IF(A21<>\"\",IFERROR(VLOOKUP(AJ21,Tabelas!B:D,3,0),0),\"\")","v":0},{"$f":"IF(A21<>\"\",IFERROR(VLOOKUP(AK21,Tabelas!B:D,3,0),0),\"\")","v":0},{"$f":"IF(A21<>\"\",IFERROR(VLOOKUP(AL21,Tabelas!B:D,3,0),0),\"\")","v":0},{"$f":"IF(A21<>\"\",IFERROR(VLOOKUP(AM21,Tabelas!B:D,3,0),0),\"\")","v":12},{"$f":"IF(A21<>\"\",IFERROR(VLOOKUP(AN21,Tabelas!B:D,3,0),0),\"\")","v":0},{"$f":"IF(A21<>\"\",IFERROR(VLOOKUP(AO21,Tabelas!B:D,3,0),0),\"\")","v":12},{"$f":"IF(A21<>\"\",IFERROR(VLOOKUP(AP21,Tabelas!B:D,3,0),0),\"\")","v":0},{"$f":"IF(A21<>\"\",IFERROR(VLOOKUP(AQ21,Tabelas!B:D,3,0),0),\"\")","v":0},84,0,0,0,0,0,0,0]
["Aline Varela Dias",1331684,null,"ME","RJU",20,null,null,null,null,null,null,null,"N10",null,null,null,null,"N10",null,null,null,null,"N10",null,null,null,"N10",null,null,null,"D8",null,null,null,null,"N10",null,null,null,null,null,"N10",{"$f":"IF(A22<>\"\",IFERROR(VLOOKUP(M22,Tabelas!B:D,3,0),0),\"\")","v":0},{"$f":"IF(A22<>\"\",IFERROR(VLOOKUP(N22,Tabelas!B:D,3,0),0),\"\")","v":12},{"$f":"IF(A22<>\"\",IFERROR(VLOOKUP(O22,Tabelas!B:D,3,0),0),\"\")","v":0},{"$f":"IF(A22<>\"\",IFERROR(VLOOKUP(P22,Tabelas!B:D,3,0),0),\"\")","v":0},{"$f":"IF(A22<>\"\",IFERROR(VLOOKUP(Q22,Tabelas!B:D,3,0),0),\"\")","v":0},{"$f":"IF(A22<>\"\",IFERROR(VLOOKUP(R22,Tabelas!B:D,3,0),0),\"\")","v":0},{"$f":"IF(A22<>\"\",IFERROR(VLOOKUP(S22,Tabelas!B:D,3,0),0),\"\")","v":12},{"$f":"IF(A22<>\"\",IFERROR(VLOOKUP(T22,Tabelas!B:D,3,0),0),\"\")","v":0},{"$f":"IF(A22<>\"\",IFERROR(VLOOKUP(U22,Tabelas!B:D,3,0),0),\"\")","v":0},{"$f":"IF(A22<>\"\",IFERROR(VLOOKUP(V22,Tabelas!B:D,3,0),0),\"\")","v":0},{"$f":"IF(A22<>\"\",IFERROR(VLOOKUP(W22,Tabelas!B:D,3,0),0),\"\")","v":0},{"$f":"IF(A22<>\"\",IFERROR(VLOOKUP(X22,Tabelas!B:D,3,0),0),\"\")","v":12},{"$f":"IF(A22<>\"\",IFERROR(VLOOKUP(Y22,Tabelas!B:D,3,0),0),\"\")","v":0},{"$f":"IF(A22<>\"\",IFERROR(VLOOKUP(Z22,Tabelas!B:D,3,0),0),\"\")","v":0},{"$f":"IF(A22<>\"\",IFERROR(VLOOKUP(AA22,Tabelas!B:D,3,0),0),\"\")","v":0},{"$f":"IF(A22<>\"\",IFERROR(VLOOKUP(AB22,Tabelas!B:D,3,0),0),\"\")","v":12},{"$f":"IF(A22<>\"\",IFERROR(VLOOKUP(AC22,Tabelas!B:D,3,0),0),\"\")","v":0},{"$f":"IF(A22<>\"\",IFERROR(VLOOKUP(AD22,Tabelas!B:D,3,0),0),\"\")","v":0},{"$f":"IF(A22<>\"\",IFERROR(VLOOKUP(AE22,Tabelas!B:D,3,0),0),\"\")","v":0},{"$f":"IF(A22<>\"\",IFERROR(VLOOKUP(AF22,Tabelas!B:D,3,0),0),\"\")","v":12},{"$f":"IF(A22<>\"\",IFERROR(VLOOKUP(AG22,Tabelas!B:D,3,0),0),\"\")","v":0},{"$f":"IF(A22<>\"\",IFERROR(VLOOKUP(AH22,Tabelas!B:D,3,0),0),\"\")","v":0},{"$f":"IF(A22<>\"\",IFERROR(VLOOKUP(AI22,Tabelas!B:D,3,0),0),\"\")","v":0},{"$f":"IF(A22<>\"\",IFERROR(VLOOKUP(AJ22,Tabelas!B:D,3,0),0),\"\")","v":0},{"$f":"IF(A22<>\"\",IFERROR(VLOOKUP(AK22,Tabelas!B:D,3,0),0),\"\")","v":12},{"$f":"IF(A22<>\"\",IFERROR(VLOOKUP(AL22,Tabelas!B:D,3,0),0),\"\")","v":0},{"$f":"IF(A22<>\"\",IFERROR(VLOOKUP(AM22,Tabelas!B:D,3,0),0),\"\")","v":0},{"$f":"IF(A22<>\"\",IFERROR(VLOOKUP(AN22,Tabelas!B:D,3,0),0),\"\")","v":0},{"$f":"IF(A22<>\"\",IFERROR(VLOOKUP(AO22,Tabelas!B:D,3,0),0),\"\")","v":0},{"$f":"IF(A22<>\"\",IFERROR(VLOOKUP(AP22,Tabelas!B:D,3,0),0),\"\")","v":0},{"$f":"IF(A22<>\"\",IFERROR(VLOOKUP(AQ22,Tabelas!B:D,3,0),0),\"\")","v":12},84,0,0,0,0,0,0,0]
["Anelise Schaeffer da Silveira",1919390,null,"ME","EBSERH",24,null,null,null,null,null,null,null,null,null,null,null,null,null,null,null,null,null,null,null,null,null,null,null,null,null,null,null,null,null,null,null,null,null,null,null,null,null,{"$f":"IF(A23<>\"\",IFERROR(VLOOKUP(M23,Tabelas!B:D,3,0),0),\"\")","v":0},{"$f":"IF(A23<>\"\",IFERROR(VLOOKUP(N23,Tabelas!B:D,3,0),0),\"\")","v":0},{"$f":"IF(A23<>\"\",IFERROR(VLOOKUP(O23,Tabelas!B:D,3,0),0),\"\")","v":0},{"$f":"IF(A23<>\"\",IFERROR(VLOOKUP(P23,Tabelas!B:D,3,0),0),\"\")","v":0},{"$f":"IF(A23<>\"\",IFERROR(VLOOKUP(Q23,Tabelas!B:D,3,0),0),\"\")","v":0},{"$f":"IF(A23<>\"\",IFERROR(VLOOKUP(R23,Tabelas!B:D,3,0),0),\"\")","v":0},{"$f":"IF(A23<>\"\",IFERROR(VLOOKUP(S23,Tabelas!B:D,3,0),0),\"\")","v":0},{"$f":"IF(A23<>\"\",IFERROR(VLOOKUP(T23,Tabelas!B:D,3,0),0),\"\")","v":0},{"$f":"IF(A23<>\"\",IFERROR(VLOOKUP(U23,Tabelas!B:D,3,0),0),\"\")","v":0},{"$f":"IF(A23<>\"\",IFERROR(VLOOKUP(V23,Tabelas!B:D,3,0),0),\"\")","v":0},{"$f":"IF(A23<>\"\",IFERROR(VLOOKUP(W23,Tabelas!B:D,3,0),0),\"\")","v":0},{"$f":"IF(A23<>\"\",IFERROR(VLOOKUP(X23,Tabelas!B:D,3,0),0),\"\")","v":0},{"$f":"IF(A23<>\"\",IFERROR(VLOOKUP(Y23,Tabelas!B:D,3,0),0),\"\")","v":0},{"$f":"IF(A23<>\"\",IFERROR(VLOOKUP(Z23,Tabelas!B:D,3,0),0),\"\")","v":0},{"$f":"IF(A23<>\"\",IFERROR(VLOOKUP(AA23,Tabelas!B:D,3,0),0),\"\")","v":0},{"$f":"IF(A23<>\"\",IFERROR(VLOOKUP(AB23,Tabelas!B:D,3,0),0),\"\")","v":0},{"$f":"IF(A23<>\"\",IFERROR(VLOOKUP(AC23,Tabelas!B:D,3,0),0),\"\")","v":0},{"$f":"IF(A23<>\"\",IFERROR(VLOOKUP(AD23,Tabelas!B:D,3,0),0),\"\")","v":0},{"$f":"IF(A23<>\"\",IFERROR(VLOOKUP(AE23,Tabelas!B:D,3,0),0),\"\")","v":0},{"$f":"IF(A23<>\"\",IFERROR(VLOOKUP(AF23,Tabelas!B:D,3,0),0),\"\")","v":0},{"$f":"IF(A23<>\"\",IFERROR(VLOOKUP(AG23,Tabelas!B:D,3,0),0),\"\")","v":0},{"$f":"IF(A23<>\"\",IFERROR(VLOOKUP(AH23,Tabelas!B:D,3,0),0),\"\")","v":0},{"$f":"IF(A23<>\"\",IFERROR(VLOOKUP(AI23,Tabelas!B:D,3,0),0),\"\")","v":0},{"$f":"IF(A23<>\"\",IFERROR(VLOOKUP(AJ23,Tabelas!B:D,3,0),0),\"\")","v":0},{"$f":"IF(A23<>\"\",IFERROR(VLOOKUP(AK23,Tabelas!B:D,3,0),0),\"\")","v":0},{"$f":"IF(A23<>\"\",IFERROR(VLOOKUP(AL23,Tabelas!B:D,3,0),0),\"\")","v":0},{"$f":"IF(A23<>\"\",IFERROR(VLOOKUP(AM23,Tabelas!B:D,3,0),0),\"\")","v":0},{"$f":"IF(A23<>\"\",IFERROR(VLOOKUP(AN23,Tabelas!B:D,3,0),0),\"\")","v":0},{"$f":"IF(A23<>\"\",IFERROR(VLOOKUP(AO23,Tabelas!B:D,3,0),0),\"\")","v":0},{"$f":"IF(A23<>\"\",IFERROR(VLOOKUP(AP23,Tabelas!B:D,3,0),0),\"\")","v":0},{"$f":"IF(A23<>\"\",IFERROR(VLOOKUP(AQ23,Tabelas!B:D,3,0),0),\"\")","v":0},0,0,0,0,0,0,0,0]
["Carolina Alcoforado De Abreu",3201834,null,"ME","EBSERH",24,null,null,null,null,null,null,null,null,"N10",null,"N10",null,null,null,"N10",null,null,null,null,null,"N10",null,null,"N10",null,"D8",null,null,null,"N10",null,null,"D8",null,"N10",null,null,{"$f":"IF(A24<>\"\",IFERROR(VLOOKUP(M24,Tabelas!B:D,3,0),0),\"\")","v":0},{"$f":"IF(A24<>\"\",IFERROR(VLOOKUP(N24,Tabelas!B:D,3,0),0),\"\")","v":0},{"$f":"IF(A24<>\"\",IFERROR(VLOOKUP(O24,Tabelas!B:D,3,0),0),\"\")","v":12},{"$f":"IF(A24<>\"\",IFERROR(VLOOKUP(P24,Tabelas!B:D,3,0),0),\"\")","v":0},{"$f":"IF(A24<>\"\",IFERROR(VLOOKUP(Q24,Tabelas!B:D,3,0),0),\"\")","v":12},{"$f":"IF(A24<>\"\",IFERROR(VLOOKUP(R24,Tabelas!B:D,3,0),0),\"\")","v":0},{"$f":"IF(A24<>\"\",IFERROR(VLOOKUP(S24,Tabelas!B:D,3,0),0),\"\")","v":0},{"$f":"IF(A24<>\"\",IFERROR(VLOOKUP(T24,Tabelas!B:D,3,0),0),\"\")","v":0},{"$f":"IF(A24<>\"\",IFERROR(VLOOKUP(U24,Tabelas!B:D,3,0),0),\"\")","v":12},{"$f":"IF(A24<>\"\",IFERROR(VLOOKUP(V24,Tabelas!B:D,3,0),0),\"\")","v":0},{"$f":"IF(A24<>\"\",IFERROR(VLOOKUP(W24,Tabelas!B:D,3,0),0),\"\")","v":0},{"$f":"IF(A24<>\"\",IFERROR(VLOOKUP(X24,Tabelas!B:D,3,0),0),\"\")","v":0},{"$f":"IF(A24<>\"\",IFERROR(VLOOKUP(Y24,Tabelas!B:D,3,0),0),\"\")","v":0},{"$f":"IF(A24<>\"\",IFERROR(VLOOKUP(Z24,Tabelas!B:D,3,0),0),\"\")","v":0},{"$f":"IF(A24<>\"\",IFERROR(VLOOKUP(AA24,Tabelas!B:D,3,0),0),\"\")","v":12},{"$f":"IF(A24<>\"\",IFERROR(VLOOKUP(AB24,Tabelas!B:D,3,0),0),\"\")","v":0},{"$f":"IF(A24<>\"\",IFERROR(VLOOKUP(AC24,Tabelas!B:D,3,0),0),\"\")","v":0},{"$f":"IF(A24<>\"\",IFERROR(VLOOKUP(AD24,Tabelas!B:D,3,0),0),\"\")","v":12},{"$f":"IF(A24<>\"\",IFERROR(VLOOKUP(AE24,Tabelas!B:D,3,0),0),\"\")","v":0},{"$f":"IF(A24<>\"\",IFERROR(VLOOKUP(AF24,Tabelas!B:D,3,0),0),\"\")","v":12},{"$f":"IF(A24<>\"\",IFERROR(VLOOKUP(AG24,Tabelas!B:D,3,0),0),\"\")","v":0},{"$f":"IF(A24<>\"\",IFERROR(VLOOKUP(AH24,Tabelas!B:D,3,0),0),\"\")","v":0},{"$f":"IF(A24<>\"\",IFERROR(VLOOKUP(AI24,Tabelas!B:D,3,0),0),\"\")","v":0},{"$f":"IF(A24<>\"\",IFERROR(VLOOKUP(AJ24,Tabelas!B:D,3,0),0),\"\")","v":12},{"$f":"IF(A24<>\"\",IFERROR(VLOOKUP(AK24,Tabelas!B:D,3,0),0),\"\")","v":0},{"$f":"IF(A24<>\"\",IFERROR(VLOOKUP(AL24,Tabelas!B:D,3,0),0),\"\")","v":0},{"$f":"IF(A24<>\"\",IFERROR(VLOOKUP(AM24,Tabelas!B:D,3,0),0),\"\")","v":12},{"$f":"IF(A24<>\"\",IFERROR(VLOOKUP(AN24,Tabelas!B:D,3,0),0),\"\")","v":0},{"$f":"IF(A24<>\"\",IFERROR(VLOOKUP(AO24,Tabelas!B:D,3,0),0),\"\")","v":12},{"$f":"IF(A24<>\"\",IFERROR(VLOOKUP(AP24,Tabelas!B:D,3,0),0),\"\")","v":0},{"$f":"IF(A24<>\"\",IFERROR(VLOOKUP(AQ24,Tabelas!B:D,3,0),0),\"\")","v":0},115,0,0,0,0,0,0,0]
["Duane José Milioli",1824201,null,"ME","RJU",20,null,null,null,null,null,null,null,null,null,null,null,null,null,null,null,null,null,null,null,null,null,null,null,null,null,null,null,null,null,null,null,null,null,null,null,null,null,{"$f":"IF(A25<>\"\",IFERROR(VLOOKUP(M25,Tabelas!B:D,3,0),0),\"\")","v":0},{"$f":"IF(A25<>\"\",IFERROR(VLOOKUP(N25,Tabelas!B:D,3,0),0),\"\")","v":0},{"$f":"IF(A25<>\"\",IFERROR(VLOOKUP(O25,Tabelas!B:D,3,0),0),\"\")","v":0},{"$f":"IF(A25<>\"\",IFERROR(VLOOKUP(P25,Tabelas!B:D,3,0),0),\"\")","v":0},{"$f":"IF(A25<>\"\",IFERROR(VLOOKUP(Q25,Tabelas!B:D,3,0),0),\"\")","v":0},{"$f":"IF(A25<>\"\",IFERROR(VLOOKUP(R25,Tabelas!B:D,3,0),0),\"\")","v":0},{"$f":"IF(A25<>\"\",IFERROR(VLOOKUP(S25,Tabelas!B:D,3,0),0),\"\")","v":0},{"$f":"IF(A25<>\"\",IFERROR(VLOOKUP(T25,Tabelas!B:D,3,0),0),\"\")","v":0},{"$f":"IF(A25<>\"\",IFERROR(VLOOKUP(U25,Tabelas!B:D,3,0),0),\"\")","v":0},{"$f":"IF(A25<>\"\",IFERROR(VLOOKUP(V25,Tabelas!B:D,3,0),0),\"\")","v":0},{"$f":"IF(A25<>\"\",IFERROR(VLOOKUP(W25,Tabelas!B:D,3,0),0),\"\")","v":0},{"$f":"IF(A25<>\"\",IFERROR(VLOOKUP(X25,Tabelas!B:D,3,0),0),\"\")","v":0},{"$f":"IF(A25<>\"\",IFERROR(VLOOKUP(Y25,Tabelas!B:D,3,0),0),\"\")","v":0},{"$f":"IF(A25<>\"\",IFERROR(VLOOKUP(Z25,Tabelas!B:D,3,0),0),\"\")","v":0},{"$f":"IF(A25<>\"\",IFERROR(VLOOKUP(AA25,Tabelas!B:D,3,0),0),\"\")","v":0},{"$f":"IF(A25<>\"\",IFERROR(VLOOKUP(AB25,Tabelas!B:D,3,0),0),\"\")","v":0},{"$f":"IF(A25<>\"\",IFERROR(VLOOKUP(AC25,Tabelas!B:D,3,0),0),\"\")","v":0},{"$f":"IF(A25<>\"\",IFERROR(VLOOKUP(AD25,Tabelas!B:D,3,0),0),\"\")","v":0},{"$f":"IF(A25<>\"\",IFERROR(VLOOKUP(AE25,Tabelas!B:D,3,0),0),\"\")","v":0},{"$f":"IF(A25<>\"\",IFERROR(VLOOKUP(AF25,Tabelas!B:D,3,0),0),\"\")","v":0},{"$f":"IF(A25<>\"\",IFERROR(VLOOKUP(AG25,Tabelas!B:D,3,0),0),\"\")","v":0},{"$f":"IF(A25<>\"\",IFERROR(VLOOKUP(AH25,Tabelas!B:D,3,0),0),\"\")","v":0},{"$f":"IF(A25<>\"\",IFERROR(VLOOKUP(AI25,Tabelas!B:D,3,0),0),\"\")","v":0},{"$f":"IF(A25<>\"\",IFERROR(VLOOKUP(AJ25,Tabelas!B:D,3,0),0),\"\")","v":0},{"$f":"IF(A25<>\"\",IFERROR(VLOOKUP(AK25,Tabelas!B:D,3,0),0),\"\")","v":0},{"$f":"IF(A25<>\"\",IFERROR(VLOOKUP(AL25,Tabelas!B:D,3,0),0),\"\")","v":0},{"$f":"IF(A25<>\"\",IFERROR(VLOOKUP(AM25,Tabelas!B:D,3,0),0),\"\")","v":0},{"$f":"IF(A25<>\"\",IFERROR(VLOOKUP(AN25,Tabelas!B:D,3,0),0),\"\")","v":0},{"$f":"IF(A25<>\"\",IFERROR(VLOOKUP(AO25,Tabelas!B:D,3,0),0),\"\")","v":0},{"$f":"IF(A25<>\"\",IFERROR(VLOOKUP(AP25,Tabelas!B:D,3,0),0),\"\")","v":0},{"$f":"IF(A25<>\"\",IFERROR(VLOOKUP(AQ25,Tabelas!B:D,3,0),0),\"\")","v":0},0,0,0,0,0,0,0,0]
["Eduardo Jardim Berbigier",2604323,null,"ME","RJU",20,null,null,null,null,null,null,null,null,null,null,null,null,null,null,null,null,null,null,null,null,null,null,null,null,null,null,null,null,null,null,null,null,null,null,null,null,null,{"$f":"IF(A26<>\"\",IFERROR(VLOOKUP(M26,Tabelas!B:D,3,0),0),\"\")","v":0},{"$f":"IF(A26<>\"\",IFERROR(VLOOKUP(N26,Tabelas!B:D,3,0),0),\"\")","v":0},{"$f":"IF(A26<>\"\",IFERROR(VLOOKUP(O26,Tabelas!B:D,3,0),0),\"\")","v":0},{"$f":"IF(A26<>\"\",IFERROR(VLOOKUP(P26,Tabelas!B:D,3,0),0),\"\")","v":0},{"$f":"IF(A26<>\"\",IFERROR(VLOOKUP(Q26,Tabelas!B:D,3,0),0),\"\")","v":0},{"$f":"IF(A26<>\"\",IFERROR(VLOOKUP(R26,Tabelas!B:D,3,0),0),\"\")","v":0},{"$f":"IF(A26<>\"\",IFERROR(VLOOKUP(S26,Tabelas!B:D,3,0),0),\"\")","v":0},{"$f":"IF(A26<>\"\",IFERROR(VLOOKUP(T26,Tabelas!B:D,3,0),0),\"\")","v":0},{"$f":"IF(A26<>\"\",IFERROR(VLOOKUP(U26,Tabelas!B:D,3,0),0),\"\")","v":0},{"$f":"IF(A26<>\"\",IFERROR(VLOOKUP(V26,Tabelas!B:D,3,0),0),\"\")","v":0},{"$f":"IF(A26<>\"\",IFERROR(VLOOKUP(W26,Tabelas!B:D,3,0),0),\"\")","v":0},{"$f":"IF(A26<>\"\",IFERROR(VLOOKUP(X26,Tabelas!B:D,3,0),0),\"\")","v":0},{"$f":"IF(A26<>\"\",IFERROR(VLOOKUP(Y26,Tabelas!B:D,3,0),0),\"\")","v":0},{"$f":"IF(A26<>\"\",IFERROR(VLOOKUP(Z26,Tabelas!B:D,3,0),0),\"\")","v":0},{"$f":"IF(A26<>\"\",IFERROR(VLOOKUP(AA26,Tabelas!B:D,3,0),0),\"\")","v":0},{"$f":"IF(A26<>\"\",IFERROR(VLOOKUP(AB26,Tabelas!B:D,3,0),0),\"\")","v":0},{"$f":"IF(A26<>\"\",IFERROR(VLOOKUP(AC26,Tabelas!B:D,3,0),0),\"\")","v":0},{"$f":"IF(A26<>\"\",IFERROR(VLOOKUP(AD26,Tabelas!B:D,3,0),0),\"\")","v":0},{"$f":"IF(A26<>\"\",IFERROR(VLOOKUP(AE26,Tabelas!B:D,3,0),0),\"\")","v":0},{"$f":"IF(A26<>\"\",IFERROR(VLOOKUP(AF26,Tabelas!B:D,3,0),0),\"\")","v":0},{"$f":"IF(A26<>\"\",IFERROR(VLOOKUP(AG26,Tabelas!B:D,3,0),0),\"\")","v":0},{"$f":"IF(A26<>\"\",IFERROR(VLOOKUP(AH26,Tabelas!B:D,3,0),0),\"\")","v":0},{"$f":"IF(A26<>\"\",IFERROR(VLOOKUP(AI26,Tabelas!B:D,3,0),0),\"\")","v":0},{"$f":"IF(A26<>\"\",IFERROR(VLOOKUP(AJ26,Tabelas!B:D,3,0),0),\"\")","v":0},{"$f":"IF(A26<>\"\",IFERROR(VLOOKUP(AK26,Tabelas!B:D,3,0),0),\"\")","v":0},{"$f":"IF(A26<>\"\",IFERROR(VLOOKUP(AL26,Tabelas!B:D,3,0),0),\"\")","v":0},{"$f":"IF(A26<>\"\",IFERROR(VLOOKUP(AM26,Tabelas!B:D,3,0),0),\"\")","v":0},{"$f":"IF(A26<>\"\",IFERROR(VLOOKUP(AN26,Tabelas!B:D,3,0),0),\"\")","v":0},{"$f":"IF(A26<>\"\",IFERROR(VLOOKUP(AO26,Tabelas!B:D,3,0),0),\"\")","v":0},{"$f":"IF(A26<>\"\",IFERROR(VLOOKUP(AP26,Tabelas!B:D,3,0),0),\"\")","v":0},{"$f":"IF(A26<>\"\",IFERROR(VLOOKUP(AQ26,Tabelas!B:D,3,0),0),\"\")","v":0},0,0,0,0,0,0,0,0]
["Fernanda Goss Fontanella",1200689,null,"ME","EBSERH",24,null,null,null,null,null,null,null,null,"N10",null,"N10",null,"N10",null,null,null,"N10",null,"D8",null,null,"N10",null,null,null,null,null,"N10",null,null,"D8",null,"N10",null,null,null,null,{"$f":"IF(A27<>\"\",IFERROR(VLOOKUP(M27,Tabelas!B:D,3,0),0),\"\")","v":0},{"$f":"IF(A27<>\"\",IFERROR(VLOOKUP(N27,Tabelas!B:D,3,0),0),\"\")","v":0},{"$f":"IF(A27<>\"\",IFERROR(VLOOKUP(O27,Tabelas!B:D,3,0),0),\"\")","v":12},{"$f":"IF(A27<>\"\",IFERROR(VLOOKUP(P27,Tabelas!B:D,3,0),0),\"\")","v":0},{"$f":"IF(A27<>\"\",IFERROR(VLOOKUP(Q27,Tabelas!B:D,3,0),0),\"\")","v":12},{"$f":"IF(A27<>\"\",IFERROR(VLOOKUP(R27,Tabelas!B:D,3,0),0),\"\")","v":0},{"$f":"IF(A27<>\"\",IFERROR(VLOOKUP(S27,Tabelas!B:D,3,0),0),\"\")","v":12},{"$f":"IF(A27<>\"\",IFERROR(VLOOKUP(T27,Tabelas!B:D,3,0),0),\"\")","v":0},{"$f":"IF(A27<>\"\",IFERROR(VLOOKUP(U27,Tabelas!B:D,3,0),0),\"\")","v":0},{"$f":"IF(A27<>\"\",IFERROR(VLOOKUP(V27,Tabelas!B:D,3,0),0),\"\")","v":0},{"$f":"IF(A27<>\"\",IFERROR(VLOOKUP(W27,Tabelas!B:D,3,0),0),\"\")","v":12},{"$f":"IF(A27<>\"\",IFERROR(VLOOKUP(X27,Tabelas!B:D,3,0),0),\"\")","v":0},{"$f":"IF(A27<>\"\",IFERROR(VLOOKUP(Y27,Tabelas!B:D,3,0),0),\"\")","v":12},{"$f":"IF(A27<>\"\",IFERROR(VLOOKUP(Z27,Tabelas!B:D,3,0),0),\"\")","v":0},{"$f":"IF(A27<>\"\",IFERROR(VLOOKUP(AA27,Tabelas!B:D,3,0),0),\"\")","v":0},{"$f":"IF(A27<>\"\",IFERROR(VLOOKUP(AB27,Tabelas!B:D,3,0),0),\"\")","v":12},{"$f":"IF(A27<>\"\",IFERROR(VLOOKUP(AC27,Tabelas!B:D,3,0),0),\"\")","v":0},{"$f":"IF(A27<>\"\",IFERROR(VLOOKUP(AD27,Tabelas!B:D,3,0),0),\"\")","v":0},{"$f":"IF(A27<>\"\",IFERROR(VLOOKUP(AE27,Tabelas!B:D,3,0),0),\"\")","v":0},{"$f":"IF(A27<>\"\",IFERROR(VLOOKUP(AF27,Tabelas!B:D,3,0),0),\"\")","v":0},{"$f":"IF(A27<>\"\",IFERROR(VLOOKUP(AG27,Tabelas!B:D,3,0),0),\"\")","v":0},{"$f":"IF(A27<>\"\",IFERROR(VLOOKUP(AH27,Tabelas!B:D,3,0),0),\"\")","v":12},{"$f":"IF(A27<>\"\",IFERROR(VLOOKUP(AI27,Tabelas!B:D,3,0),0),\"\")","v":0},{"$f":"IF(A27<>\"\",IFERROR(VLOOKUP(AJ27,Tabelas!B:D,3,0),0),\"\")","v":0},{"$f":"IF(A27<>\"\",IFERROR(VLOOKUP(AK27,Tabelas!B:D,3,0),0),\"\")","v":12},{"$f":"IF(A27<>\"\",IFERROR(VLOOKUP(AL27,Tabelas!B:D,3,0),0),\"\")","v":0},{"$f":"IF(A27<>\"\",IFERROR(VLOOKUP(AM27,Tabelas!B:D,3,0),0),\"\")","v":12},{"$f":"IF(A27<>\"\",IFERROR(VLOOKUP(AN27,Tabelas!B:D,3,0),0),\"\")","v":0},{"$f":"IF(A27<>\"\",IFERROR(VLOOKUP(AO27,Tabelas!B:D,3,0),0),\"\")","v":0},{"$f":"IF(A27<>\"\",IFERROR(VLOOKUP(AP27,Tabelas!B:D,3,0),0),\"\")","v":0},{"$f":"IF(A27<>\"\",IFERROR(VLOOKUP(AQ27,Tabelas!B:D,3,0),0),\"\")","v":0},115,0,0,0,0,0,0,0]
["Irácino José Miranda Júnior",1006032,null,"ME","EBSERH",24,null,null,null,null,null,null,null,null,null,"N10",null,null,null,null,"N10",null,null,"DN6",null,"N10",null,null,null,null,null,"N10",null,null,"N10",null,null,"D8",null,"N10",null,null,"N10",{"$f":"IF(A28<>\"\",IFERROR(VLOOKUP(M28,Tabelas!B:D,3,0),0),\"\")","v":0},{"$f":"IF(A28<>\"\",IFERROR(VLOOKUP(N28,Tabelas!B:D,3,0),0),\"\")","v":0},{"$f":"IF(A28<>\"\",IFERROR(VLOOKUP(O28,Tabelas!B:D,3,0),0),\"\")","v":0},{"$f":"IF(A28<>\"\",IFERROR(VLOOKUP(P28,Tabelas!B:D,3,0),0),\"\")","v":12},{"$f":"IF(A28<>\"\",IFERROR(VLOOKUP(Q28,Tabelas!B:D,3,0),0),\"\")","v":0},{"$f":"IF(A28<>\"\",IFERROR(VLOOKUP(R28,Tabelas!B:D,3,0),0),\"\")","v":0},{"$f":"IF(A28<>\"\",IFERROR(VLOOKUP(S28,Tabelas!B:D,3,0),0),\"\")","v":0},{"$f":"IF(A28<>\"\",IFERROR(VLOOKUP(T28,Tabelas!B:D,3,0),0),\"\")","v":0},{"$f":"IF(A28<>\"\",IFERROR(VLOOKUP(U28,Tabelas!B:D,3,0),0),\"\")","v":12},{"$f":"IF(A28<>\"\",IFERROR(VLOOKUP(V28,Tabelas!B:D,3,0),0),\"\")","v":0},{"$f":"IF(A28<>\"\",IFERROR(VLOOKUP(W28,Tabelas!B:D,3,0),0),\"\")","v":0},{"$f":"IF(A28<>\"\",IFERROR(VLOOKUP(X28,Tabelas!B:D,3,0),0),\"\")","v":24},{"$f":"IF(A28<>\"\",IFERROR(VLOOKUP(Y28,Tabelas!B:D,3,0),0),\"\")","v":0},{"$f":"IF(A28<>\"\",IFERROR(VLOOKUP(Z28,Tabelas!B:D,3,0),0),\"\")","v":12},{"$f":"IF(A28<>\"\",IFERROR(VLOOKUP(AA28,Tabelas!B:D,3,0),0),\"\")","v":0},{"$f":"IF(A28<>\"\",IFERROR(VLOOKUP(AB28,Tabelas!B:D,3,0),0),\"\")","v":0},{"$f":"IF(A28<>\"\",IFERROR(VLOOKUP(AC28,Tabelas!B:D,3,0),0),\"\")","v":0},{"$f":"IF(A28<>\"\",IFERROR(VLOOKUP(AD28,Tabelas!B:D,3,0),0),\"\")","v":0},{"$f":"IF(A28<>\"\",IFERROR(VLOOKUP(AE28,Tabelas!B:D,3,0),0),\"\")","v":0},{"$f":"IF(A28<>\"\",IFERROR(VLOOKUP(AF28,Tabelas!B:D,3,0),0),\"\")","v":12},{"$f":"IF(A28<>\"\",IFERROR(VLOOKUP(AG28,Tabelas!B:D,3,0),0),\"\")","v":0},{"$f":"IF(A28<>\"\",IFERROR(VLOOKUP(AH28,Tabelas!B:D,3,0),0),\"\")","v":0},{"$f":"IF(A28<>\"\",IFERROR(VLOOKUP(AI28,Tabelas!B:D,3,0),0),\"\")","v":12},{"$f":"IF(A28<>\"\",IFERROR(VLOOKUP(AJ28,Tabelas!B:D,3,0),0),\"\")","v":0},{"$f":"IF(A28<>\"\",IFERROR(VLOOKUP(AK28,Tabelas!B:D,3,0),0),\"\")","v":0},{"$f":"IF(A28<>\"\",IFERROR(VLOOKUP(AL28,Tabelas!B:D,3,0),0),\"\")","v":12},{"$f":"IF(A28<>\"\",IFERROR(VLOOKUP(AM28,Tabelas!B:D,3,0),0),\"\")","v":0},{"$f":"IF(A28<>\"\",IFERROR(VLOOKUP(AN28,Tabelas!B:D,3,0),0),\"\")","v":12},{"$f":"IF(A28<>\"\",IFERROR(VLOOKUP(AO28,Tabelas!B:D,3,0),0),\"\")","v":0},{"$f":"IF(A28<>\"\",IFERROR(VLOOKUP(AP28,Tabelas!B:D,3,0),0),\"\")","v":0},{"$f":"IF(A28<>\"\",IFERROR(VLOOKUP(AQ28,Tabelas!B:D,3,0),0),\"\")","v":12},128,0,0,0,0,0,0,0]
["Jaqueline Flores Rohr",2841545,null,"ME","EBSERH",24,null,null,null,null,null,null,"N10",null,null,null,null,"DN6",null,"N10",null,null,null,null,null,"N10",null,null,null,null,"N10",null,null,"N10",null,"N10",null,"D8",null,"N10",null,null,null,{"$f":"IF(A29<>\"\",IFERROR(VLOOKUP(M29,Tabelas!B:D,3,0),0),\"\")","v":12},{"$f":"IF(A29<>\"\",IFERROR(VLOOKUP(N29,Tabelas!B:D,3,0),0),\"\")","v":0},{"$f":"IF(A29<>\"\",IFERROR(VLOOKUP(O29,Tabelas!B:D,3,0),0),\"\")","v":0},{"$f":"IF(A29<>\"\",IFERROR(VLOOKUP(P29,Tabelas!B:D,3,0),0),\"\")","v":0},{"$f":"IF(A29<>\"\",IFERROR(VLOOKUP(Q29,Tabelas!B:D,3,0),0),\"\")","v":0},{"$f":"IF(A29<>\"\",IFERROR(VLOOKUP(R29,Tabelas!B:D,3,0),0),\"\")","v":24},{"$f":"IF(A29<>\"\",IFERROR(VLOOKUP(S29,Tabelas!B:D,3,0),0),\"\")","v":0},{"$f":"IF(A29<>\"\",IFERROR(VLOOKUP(T29,Tabelas!B:D,3,0),0),\"\")","v":12},{"$f":"IF(A29<>\"\",IFERROR(VLOOKUP(U29,Tabelas!B:D,3,0),0),\"\")","v":0},{"$f":"IF(A29<>\"\",IFERROR(VLOOKUP(V29,Tabelas!B:D,3,0),0),\"\")","v":0},{"$f":"IF(A29<>\"\",IFERROR(VLOOKUP(W29,Tabelas!B:D,3,0),0),\"\")","v":0},{"$f":"IF(A29<>\"\",IFERROR(VLOOKUP(X29,Tabelas!B:D,3,0),0),\"\")","v":0},{"$f":"IF(A29<>\"\",IFERROR(VLOOKUP(Y29,Tabelas!B:D,3,0),0),\"\")","v":0},{"$f":"IF(A29<>\"\",IFERROR(VLOOKUP(Z29,Tabelas!B:D,3,0),0),\"\")","v":12},{"$f":"IF(A29<>\"\",IFERROR(VLOOKUP(AA29,Tabelas!B:D,3,0),0),\"\")","v":0},{"$f":"IF(A29<>\"\",IFERROR(VLOOKUP(AB29,Tabelas!B:D,3,0),0),\"\")","v":0},{"$f":"IF(A29<>\"\",IFERROR(VLOOKUP(AC29,Tabelas!B:D,3,0),0),\"\")","v":0},{"$f":"IF(A29<>\"\",IFERROR(VLOOKUP(AD29,Tabelas!B:D,3,0),0),\"\")","v":0},{"$f":"IF(A29<>\"\",IFERROR(VLOOKUP(AE29,Tabelas!B:D,3,0),0),\"\")","v":12},{"$f":"IF(A29<>\"\",IFERROR(VLOOKUP(AF29,Tabelas!B:D,3,0),0),\"\")","v":0},{"$f":"IF(A29<>\"\",IFERROR(VLOOKUP(AG29,Tabelas!B:D,3,0),0),\"\")","v":0},{"$f":"IF(A29<>\"\",IFERROR(VLOOKUP(AH29,Tabelas!B:D,3,0),0),\"\")","v":12},{"$f":"IF(A29<>\"\",IFERROR(VLOOKUP(AI29,Tabelas!B:D,3,0),0),\"\")","v":0},{"$f":"IF(A29<>\"\",IFERROR(VLOOKUP(AJ29,Tabelas!B:D,3,0),0),\"\")","v":12},{"$f":"IF(A29<>\"\",IFERROR(VLOOKUP(AK29,Tabelas!B:D,3,0),0),\"\")","v":0},{"$f":"IF(A29<>\"\",IFERROR(VLOOKUP(AL29,Tabelas!B:D,3,0),0),\"\")","v":12},{"$f":"IF(A29<>\"\",IFERROR(VLOOKUP(AM29,Tabelas!B:D,3,0),0),\"\")","v":0},{"$f":"IF(A29<>\"\",IFERROR(VLOOKUP(AN29,Tabelas!B:D,3,0),0),\"\")","v":12},{"$f":"IF(A29<>\"\",IFERROR(VLOOKUP(AO29,Tabelas!B:D,3,0),0),\"\")","v":0},{"$f":"IF(A29<>\"\",IFERROR(VLOOKUP(AP29,Tabelas!B:D,3,0),0),\"\")","v":0},{"$f":"IF(A29<>\"\",IFERROR(VLOOKUP(AQ29,Tabelas!B:D,3,0),0),\"\")","v":0},128,0,0,0,0,0,0,0]
["João Luiz Henrique da Silveira",1704052,null,"ME","EBSERH",24,null,null,null,null,null,null,null,"N10",null,null,"D8",null,null,null,null,"N10",null,null,"N10",null,null,null,null,null,null,null,"N10",null,null,null,"D8","N10",null,null,null,"N10"]
["Joel de Andrade",1160444,null,"ME","RJU",40]
["Karine da Costa Damiani Cabral",2925603,null,"ME","RJU",30,null,null,null,null,null,null,null,null,null,null,null,null,null,null,null,null,null,null,null,null,null,null,null,null,null,null,null,null,null,null,null,null,null,null,null,null,null,{"$f":"IF(A32<>\"\",IFERROR(VLOOKUP(M32,Tabelas!B:D,3,0),0),\"\")","v":0},{"$f":"IF(A32<>\"\",IFERROR(VLOOKUP(N32,Tabelas!B:D,3,0),0),\"\")","v":0},{"$f":"IF(A32<>\"\",IFERROR(VLOOKUP(O32,Tabelas!B:D,3,0),0),\"\")","v":0},{"$f":"IF(A32<>\"\",IFERROR(VLOOKUP(P32,Tabelas!B:D,3,0),0),\"\")","v":0},{"$f":"IF(A32<>\"\",IFERROR(VLOOKUP(Q32,Tabelas!B:D,3,0),0),\"\")","v":0},{"$f":"IF(A32<>\"\",IFERROR(VLOOKUP(R32,Tabelas!B:D,3,0),0),\"\")","v":0},{"$f":"IF(A32<>\"\",IFERROR(VLOOKUP(S32,Tabelas!B:D,3,0),0),\"\")","v":0},{"$f":"IF(A32<>\"\",IFERROR(VLOOKUP(T32,Tabelas!B:D,3,0),0),\"\")","v":0},{"$f":"IF(A32<>\"\",IFERROR(VLOOKUP(U32,Tabelas!B:D,3,0),0),\"\")","v":0},{"$f":"IF(A32<>\"\",IFERROR(VLOOKUP(V32,Tabelas!B:D,3,0),0),\"\")","v":0},{"$f":"IF(A32<>\"\",IFERROR(VLOOKUP(W32,Tabelas!B:D,3,0),0),\"\")","v":0},{"$f":"IF(A32<>\"\",IFERROR(VLOOKUP(X32,Tabelas!B:D,3,0),0),\"\")","v":0},{"$f":"IF(A32<>\"\",IFERROR(VLOOKUP(Y32,Tabelas!B:D,3,0),0),\"\")","v":0},{"$f":"IF(A32<>\"\",IFERROR(VLOOKUP(Z32,Tabelas!B:D,3,0),0),\"\")","v":0},{"$f":"IF(A32<>\"\",IFERROR(VLOOKUP(AA32,Tabelas!B:D,3,0),0),\"\")","v":0},{"$f":"IF(A32<>\"\",IFERROR(VLOOKUP(AB32,Tabelas!B:D,3,0),0),\"\")","v":0},{"$f":"IF(A32<>\"\",IFERROR(VLOOKUP(AC32,Tabelas!B:D,3,0),0),\"\")","v":0},{"$f":"IF(A32<>\"\",IFERROR(VLOOKUP(AD32,Tabelas!B:D,3,0),0),\"\")","v":0},{"$f":"IF(A32<>\"\",IFERROR(VLOOKUP(AE32,Tabelas!B:D,3,0),0),\"\")","v":0},{"$f":"IF(A32<>\"\",IFERROR(VLOOKUP(AF32,Tabelas!B:D,3,0),0),\"\")","v":0},{"$f":"IF(A32<>\"\",IFERROR(VLOOKUP(AG32,Tabelas!B:D,3,0),0),\"\")","v":0},{"$f":"IF(A32<>\"\",IFERROR(VLOOKUP(AH32,Tabelas!B:D,3,0),0),\"\")","v":0},{"$f":"IF(A32<>\"\",IFERROR(VLOOKUP(AI32,Tabelas!B:D,3,0),0),\"\")","v":0},{"$f":"IF(A32<>\"\",IFERROR(VLOOKUP(AJ32,Tabelas!B:D,3,0),0),\"\")","v":0},{"$f":"IF(A32<>\"\",IFERROR(VLOOKUP(AK32,Tabelas!B:D,3,0),0),\"\")","v":0},{"$f":"IF(A32<>\"\",IFERROR(VLOOKUP(AL32,Tabelas!B:D,3,0),0),\"\")","v":0},{"$f":"IF(A32<>\"\",IFERROR(VLOOKUP(AM32,Tabelas!B:D,3,0),0),\"\")","v":0},{"$f":"IF(A32<>\"\",IFERROR(VLOOKUP(AN32,Tabelas!B:D,3,0),0),\"\")","v":0},{"$f":"IF(A32<>\"\",IFERROR(VLOOKUP(AO32,Tabelas!B:D,3,0),0),\"\")","v":0},{"$f":"IF(A32<>\"\",IFERROR(VLOOKUP(AP32,Tabelas!B:D,3,0),0),\"\")","v":0},{"$f":"IF(A32<>\"\",IFERROR(VLOOKUP(AQ32,Tabelas!B:D,3,0),0),\"\")","v":0},0,0,0,0,0,0,0,0]
["Pedro Luz da Rosa",2606805,null,"ME","RJU",20,null,null,null,null,null,null,null,null,null,null,null,"N10",null,null,"N10",null,null,"D8",null,null,"N10",null,null,null,"D8",null,"N10",null,null,null,"N10",null,null,null,null,null,null,{"$f":"IF(A33<>\"\",IFERROR(VLOOKUP(M33,Tabelas!B:D,3,0),0),\"\")","v":0},{"$f":"IF(A33<>\"\",IFERROR(VLOOKUP(N33,Tabelas!B:D,3,0),0),\"\")","v":0},{"$f":"IF(A33<>\"\",IFERROR(VLOOKUP(O33,Tabelas!B:D,3,0),0),\"\")","v":0},{"$f":"IF(A33<>\"\",IFERROR(VLOOKUP(P33,Tabelas!B:D,3,0),0),\"\")","v":0},{"$f":"IF(A33<>\"\",IFERROR(VLOOKUP(Q33,Tabelas!B:D,3,0),0),\"\")","v":0},{"$f":"IF(A33<>\"\",IFERROR(VLOOKUP(R33,Tabelas!B:D,3,0),0),\"\")","v":12},{"$f":"IF(A33<>\"\",IFERROR(VLOOKUP(S33,Tabelas!B:D,3,0),0),\"\")","v":0},{"$f":"IF(A33<>\"\",IFERROR(VLOOKUP(T33,Tabelas!B:D,3,0),0),\"\")","v":0},{"$f":"IF(A33<>\"\",IFERROR(VLOOKUP(U33,Tabelas!B:D,3,0),0),\"\")","v":12},{"$f":"IF(A33<>\"\",IFERROR(VLOOKUP(V33,Tabelas!B:D,3,0),0),\"\")","v":0},{"$f":"IF(A33<>\"\",IFERROR(VLOOKUP(W33,Tabelas!B:D,3,0),0),\"\")","v":0},{"$f":"IF(A33<>\"\",IFERROR(VLOOKUP(X33,Tabelas!B:D,3,0),0),\"\")","v":12},{"$f":"IF(A33<>\"\",IFERROR(VLOOKUP(Y33,Tabelas!B:D,3,0),0),\"\")","v":0},{"$f":"IF(A33<>\"\",IFERROR(VLOOKUP(Z33,Tabelas!B:D,3,0),0),\"\")","v":0},{"$f":"IF(A33<>\"\",IFERROR(VLOOKUP(AA33,Tabelas!B:D,3,0),0),\"\")","v":12},{"$f":"IF(A33<>\"\",IFERROR(VLOOKUP(AB33,Tabelas!B:D,3,0),0),\"\")","v":0},{"$f":"IF(A33<>\"\",IFERROR(VLOOKUP(AC33,Tabelas!B:D,3,0),0),\"\")","v":0},{"$f":"IF(A33<>\"\",IFERROR(VLOOKUP(AD33,Tabelas!B:D,3,0),0),\"\")","v":0},{"$f":"IF(A33<>\"\",IFERROR(VLOOKUP(AE33,Tabelas!B:D,3,0),0),\"\")","v":12},{"$f":"IF(A33<>\"\",IFERROR(VLOOKUP(AF33,Tabelas!B:D,3,0),0),\"\")","v":0},{"$f":"IF(A33<>\"\",IFERROR(VLOOKUP(AG33,Tabelas!B:D,3,0),0),\"\")","v":12},{"$f":"IF(A33<>\"\",IFERROR(VLOOKUP(AH33,Tabelas!B:D,3,0),0),\"\")","v":0},{"$f":"IF(A33<>\"\",IFERROR(VLOOKUP(AI33,Tabelas!B:D,3,0),0),\"\")","v":0},{"$f":"IF(A33<>\"\",IFERROR(VLOOKUP(AJ33,Tabelas!B:D,3,0),0),\"\")","v":0},{"$f":"IF(A33<>\"\",IFERROR(VLOOKUP(AK33,Tabelas!B:D,3,0),0),\"\")","v":12},{"$f":"IF(A33<>\"\",IFERROR(VLOOKUP(AL33,Tabelas!B:D,3,0),0),\"\")","v":0},{"$f":"IF(A33<>\"\",IFERROR(VLOOKUP(AM33,Tabelas!B:D,3,0),0),\"\")","v":0},{"$f":"IF(A33<>\"\",IFERROR(VLOOKUP(AN33,Tabelas!B:D,3,0),0),\"\")","v":0},{"$f":"IF(A33<>\"\",IFERROR(VLOOKUP(AO33,Tabelas!B:D,3,0),0),\"\")","v":0},{"$f":"IF(A33<>\"\",IFERROR(VLOOKUP(AP33,Tabelas!B:D,3,0),0),\"\")","v":0},{"$f":"IF(A33<>\"\",IFERROR(VLOOKUP(AQ33,Tabelas!B:D,3,0),0),\"\")","v":0},84,0,0,0,0,0,0,0]
["Robson Lima Ribeiro",3369679,null,"ME","RJU",20,null,null,null,null,null,null,null,"N10",null,null,"D8",null,null,null,null,null,"N10",null,"D8",null,null,null,"N10",null,null,null,null,null,"N10",null,null,"N10",null,null,null,null,null,{"$f":"IF(A34<>\"\",IFERROR(VLOOKUP(M34,Tabelas!B:D,3,0),0),\"\")","v":0},{"$f":"IF(A34<>\"\",IFERROR(VLOOKUP(N34,Tabelas!B:D,3,0),0),\"\")","v":12},{"$f":"IF(A34<>\"\",IFERROR(VLOOKUP(O34,Tabelas!B:D,3,0),0),\"\")","v":0},{"$f":"IF(A34<>\"\",IFERROR(VLOOKUP(P34,Tabelas!B:D,3,0),0),\"\")","v":0},{"$f":"IF(A34<>\"\",IFERROR(VLOOKUP(Q34,Tabelas!B:D,3,0),0),\"\")","v":12},{"$f":"IF(A34<>\"\",IFERROR(VLOOKUP(R34,Tabelas!B:D,3,0),0),\"\")","v":0},{"$f":"IF(A34<>\"\",IFERROR(VLOOKUP(S34,Tabelas!B:D,3,0),0),\"\")","v":0},{"$f":"IF(A34<>\"\",IFERROR(VLOOKUP(T34,Tabelas!B:D,3,0),0),\"\")","v":0},{"$f":"IF(A34<>\"\",IFERROR(VLOOKUP(U34,Tabelas!B:D,3,0),0),\"\")","v":0},{"$f":"IF(A34<>\"\",IFERROR(VLOOKUP(V34,Tabelas!B:D,3,0),0),\"\")","v":0},{"$f":"IF(A34<>\"\",IFERROR(VLOOKUP(W34,Tabelas!B:D,3,0),0),\"\")","v":12},{"$f":"IF(A34<>\"\",IFERROR(VLOOKUP(X34,Tabelas!B:D,3,0),0),\"\")","v":0},{"$f":"IF(A34<>\"\",IFERROR(VLOOKUP(Y34,Tabelas!B:D,3,0),0),\"\")","v":12},{"$f":"IF(A34<>\"\",IFERROR(VLOOKUP(Z34,Tabelas!B:D,3,0),0),\"\")","v":0},{"$f":"IF(A34<>\"\",IFERROR(VLOOKUP(AA34,Tabelas!B:D,3,0),0),\"\")","v":0},{"$f":"IF(A34<>\"\",IFERROR(VLOOKUP(AB34,Tabelas!B:D,3,0),0),\"\")","v":0},{"$f":"IF(A34<>\"\",IFERROR(VLOOKUP(AC34,Tabelas!B:D,3,0),0),\"\")","v":12},{"$f":"IF(A34<>\"\",IFERROR(VLOOKUP(AD34,Tabelas!B:D,3,0),0),\"\")","v":0},{"$f":"IF(A34<>\"\",IFERROR(VLOOKUP(AE34,Tabelas!B:D,3,0),0),\"\")","v":0},{"$f":"IF(A34<>\"\",IFERROR(VLOOKUP(AF34,Tabelas!B:D,3,0),0),\"\")","v":0},{"$f":"IF(A34<>\"\",IFERROR(VLOOKUP(AG34,Tabelas!B:D,3,0),0),\"\")","v":0},{"$f":"IF(A34<>\"\",IFERROR(VLOOKUP(AH34,Tabelas!B:D,3,0),0),\"\")","v":0},{"$f":"IF(A34<>\"\",IFERROR(VLOOKUP(AI34,Tabelas!B:D,3,0),0),\"\")","v":12},{"$f":"IF(A34<>\"\",IFERROR(VLOOKUP(AJ34,Tabelas!B:D,3,0),0),\"\")","v":0},{"$f":"IF(A34<>\"\",IFERROR(VLOOKUP(AK34,Tabelas!B:D,3,0),0),\"\")","v":0},{"$f":"IF(A34<>\"\",IFERROR(VLOOKUP(AL34,Tabelas!B:D,3,0),0),\"\")","v":12},{"$f":"IF(A34<>\"\",IFERROR(VLOOKUP(AM34,Tabelas!B:D,3,0),0),\"\")","v":0},{"$f":"IF(A34<>\"\",IFERROR(VLOOKUP(AN34,Tabelas!B:D,3,0),0),\"\")","v":0},{"$f":"IF(A34<>\"\",IFERROR(VLOOKUP(AO34,Tabelas!B:D,3,0),0),\"\")","v":0},{"$f":"IF(A34<>\"\",IFERROR(VLOOKUP(AP34,Tabelas!B:D,3,0),0),\"\")","v":0},{"$f":"IF(A34<>\"\",IFERROR(VLOOKUP(AQ34,Tabelas!B:D,3,0),0),\"\")","v":0},84,0,0,0,0,0,0,0]
["Rodrigo Lebarbenchon",1160132,null,"ME","RJU",20]
["Thales Roberto Schott da Silva",1160552,null,"ME","RJU",20,null,null,null,null,null,null,"N10",null,null,null,null,null,null,null,null,"N10",null,null,"N10",null,null,null,null,"N10",null,"N10",null,null,null,null,null,null,"D8",null,null,"N10",null,{"$f":"IF(A36<>\"\",IFERROR(VLOOKUP(M36,Tabelas!B:D,3,0),0),\"\")","v":12},{"$f":"IF(A36<>\"\",IFERROR(VLOOKUP(N36,Tabelas!B:D,3,0),0),\"\")","v":0},{"$f":"IF(A36<>\"\",IFERROR(VLOOKUP(O36,Tabelas!B:D,3,0),0),\"\")","v":0},{"$f":"IF(A36<>\"\",IFERROR(VLOOKUP(P36,Tabelas!B:D,3,0),0),\"\")","v":0},{"$f":"IF(A36<>\"\",IFERROR(VLOOKUP(Q36,Tabelas!B:D,3,0),0),\"\")","v":0},{"$f":"IF(A36<>\"\",IFERROR(VLOOKUP(R36,Tabelas!B:D,3,0),0),\"\")","v":0},{"$f":"IF(A36<>\"\",IFERROR(VLOOKUP(S36,Tabelas!B:D,3,0),0),\"\")","v":0},{"$f":"IF(A36<>\"\",IFERROR(VLOOKUP(T36,Tabelas!B:D,3,0),0),\"\")","v":0},{"$f":"IF(A36<>\"\",IFERROR(VLOOKUP(U36,Tabelas!B:D,3,0),0),\"\")","v":0},{"$f":"IF(A36<>\"\",IFERROR(VLOOKUP(V36,Tabelas!B:D,3,0),0),\"\")","v":12},{"$f":"IF(A36<>\"\",IFERROR(VLOOKUP(W36,Tabelas!B:D,3,0),0),\"\")","v":0},{"$f":"IF(A36<>\"\",IFERROR(VLOOKUP(X36,Tabelas!B:D,3,0),0),\"\")","v":0},{"$f":"IF(A36<>\"\",IFERROR(VLOOKUP(Y36,Tabelas!B:D,3,0),0),\"\")","v":12},{"$f":"IF(A36<>\"\",IFERROR(VLOOKUP(Z36,Tabelas!B:D,3,0),0),\"\")","v":0},{"$f":"IF(A36<>\"\",IFERROR(VLOOKUP(AA36,Tabelas!B:D,3,0),0),\"\")","v":0},{"$f":"IF(A36<>\"\",IFERROR(VLOOKUP(AB36,Tabelas!B:D,3,0),0),\"\")","v":0},{"$f":"IF(A36<>\"\",IFERROR(VLOOKUP(AC36,Tabelas!B:D,3,0),0),\"\")","v":0},{"$f":"IF(A36<>\"\",IFERROR(VLOOKUP(AD36,Tabelas!B:D,3,0),0),\"\")","v":12},{"$f":"IF(A36<>\"\",IFERROR(VLOOKUP(AE36,Tabelas!B:D,3,0),0),\"\")","v":0},{"$f":"IF(A36<>\"\",IFERROR(VLOOKUP(AF36,Tabelas!B:D,3,0),0),\"\")","v":12},{"$f":"IF(A36<>\"\",IFERROR(VLOOKUP(AG36,Tabelas!B:D,3,0),0),\"\")","v":0},{"$f":"IF(A36<>\"\",IFERROR(VLOOKUP(AH36,Tabelas!B:D,3,0),0),\"\")","v":0},{"$f":"IF(A36<>\"\",IFERROR(VLOOKUP(AI36,Tabelas!B:D,3,0),0),\"\")","v":0},{"$f":"IF(A36<>\"\",IFERROR(VLOOKUP(AJ36,Tabelas!B:D,3,0),0),\"\")","v":0},{"$f":"IF(A36<>\"\",IFERROR(VLOOKUP(AK36,Tabelas!B:D,3,0),0),\"\")","v":0},{"$f":"IF(A36<>\"\",IFERROR(VLOOKUP(AL36,Tabelas!B:D,3,0),0),\"\")","v":0},{"$f":"IF(A36<>\"\",IFERROR(VLOOKUP(AM36,Tabelas!B:D,3,0),0),\"\")","v":12},{"$f":"IF(A36<>\"\",IFERROR(VLOOKUP(AN36,Tabelas!B:D,3,0),0),\"\")","v":0},{"$f":"IF(A36<>\"\",IFERROR(VLOOKUP(AO36,Tabelas!B:D,3,0),0),\"\")","v":0},{"$f":"IF(A36<>\"\",IFERROR(VLOOKUP(AP36,Tabelas!B:D,3,0),0),\"\")","v":12},{"$f":"IF(A36<>\"\",IFERROR(VLOOKUP(AQ36,Tabelas!B:D,3,0),0),\"\")","v":0},84,0,0,0,0,0,0,0]
[]
[null,null,null,null,null,null,null,null,null,null,null,null,null,null,null,null,null,null,null,null,null,null,null,null,null,null,null,null,null,null,null,null,null,null,null,null,null,null,null,null,null,null,null,{"$f":"IF(A38<>\"\",IFERROR(VLOOKUP(M38,Tabelas!B:D,3,0),0),\"\")","v":""},{"$f":"IF(A38<>\"\",IFERROR(VLOOKUP(N38,Tabelas!B:D,3,0),0),\"\")","v":""},{"$f":"IF(A38<>\"\",IFERROR(VLOOKUP(O38,Tabelas!B:D,3,0),0),\"\")","v":""},{"$f":"IF(A38<>\"\",IFERROR(VLOOKUP(P38,Tabelas!B:D,3,0),0),\"\")","v":""},{"$f":"IF(A38<>\"\",IFERROR(VLOOKUP(Q38,Tabelas!B:D,3,0),0),\"\")","v":""},{"$f":"IF(A38<>\"\",IFERROR(VLOOKUP(R38,Tabelas!B:D,3,0),0),\"\")","v":""},{"$f":"IF(A38<>\"\",IFERROR(VLOOKUP(S38,Tabelas!B:D,3,0),0),\"\")","v":""},{"$f":"IF(A38<>\"\",IFERROR(VLOOKUP(T38,Tabelas!B:D,3,0),0),\"\")","v":""},{"$f":"IF(A38<>\"\",IFERROR(VLOOKUP(U38,Tabelas!B:D,3,0),0),\"\")","v":""},{"$f":"IF(A38<>\"\",IFERROR(VLOOKUP(V38,Tabelas!B:D,3,0),0),\"\")","v":""},{"$f":"IF(A38<>\"\",IFERROR(VLOOKUP(W38,Tabelas!B:D,3,0),0),\"\")","v":""},{"$f":"IF(A38<>\"\",IFERROR(VLOOKUP(X38,Tabelas!B:D,3,0),0),\"\")","v":""},{"$f":"IF(A38<>\"\",IFERROR(VLOOKUP(Y38,Tabelas!B:D,3,0),0),\"\")","v":""},{"$f":"IF(A38<>\"\",IFERROR(VLOOKUP(Z38,Tabelas!B:D,3,0),0),\"\")","v":""},{"$f":"IF(A38<>\"\",IFERROR(VLOOKUP(AA38,Tabelas!B:D,3,0),0),\"\")","v":""},{"$f":"IF(A38<>\"\",IFERROR(VLOOKUP(AB38,Tabelas!B:D,3,0),0),\"\")","v":""},{"$f":"IF(A38<>\"\",IFERROR(VLOOKUP(AC38,Tabelas!B:D,3,0),0),\"\")","v":""},{"$f":"IF(A38<>\"\",IFERROR(VLOOKUP(AD38,Tabelas!B:D,3,0),0),\"\")","v":""},{"$f":"IF(A38<>\"\",IFERROR(VLOOKUP(AE38,Tabelas!B:D,3,0),0),\"\")","v":""},{"$f":"IF(A38<>\"\",IFERROR(VLOOKUP(AF38,Tabelas!B:D,3,0),0),\"\")","v":""},{"$f":"IF(A38<>\"\",IFERROR(VLOOKUP(AG38,Tabelas!B:D,3,0),0),\"\")","v":""},{"$f":"IF(A38<>\"\",IFERROR(VLOOKUP(AH38,Tabelas!B:D,3,0),0),\"\")","v":""},{"$f":"IF(A38<>\"\",IFERROR(VLOOKUP(AI38,Tabelas!B:D,3,0),0),\"\")","v":""},{"$f":"IF(A38<>\"\",IFERROR(VLOOKUP(AJ38,Tabelas!B:D,3,0),0),\"\")","v":""},{"$f":"IF(A38<>\"\",IFERROR(VLOOKUP(AK38,Tabelas!B:D,3,0),0),\"\")","v":""},{"$f":"IF(A38<>\"\",IFERROR(VLOOKUP(AL38,Tabelas!B:D,3,0),0),\"\")","v":""},{"$f":"IF(A38<>\"\",IFERROR(VLOOKUP(AM38,Tabelas!B:D,3,0),0),\"\")","v":""},{"$f":"IF(A38<>\"\",IFERROR(VLOOKUP(AN38,Tabelas!B:D,3,0),0),\"\")","v":""},{"$f":"IF(A38<>\"\",IFERROR(VLOOKUP(AO38,Tabelas!B:D,3,0),0),\"\")","v":""},{"$f":"IF(A38<>\"\",IFERROR(VLOOKUP(AP38,Tabelas!B:D,3,0),0),\"\")","v":""},{"$f":"IF(A38<>\"\",IFERROR(VLOOKUP(AQ38,Tabelas!B:D,3,0),0),\"\")","v":""},"","","","","","","",""]
["Ingrid Catharine Costa de Sant Ana",1004451,null,"ME","EBSERH",24,null,null,null,null,null,null,"LM","LM","LM","LM","LM","LM","LM","LM","LM","LM","LM","LM","LM","LM","LM","LM","LM","LM","LM","LM","LM","LM","LM","LM","LM","LM","LM","LM","LM","LM","LM"]
[null,null,null,null,null,30,null,null,null,null,null,null,null,null,null,null,null,null,null,null,null,null,null,null,null,null,null,null,null,null,null,null,null,null,null,null,null,null,null,null,null,null,null,{"$f":"IF(A40<>\"\",IFERROR(VLOOKUP(M40,Tabelas!B:D,3,0),0),\"\")","v":""},{"$f":"IF(A40<>\"\",IFERROR(VLOOKUP(N40,Tabelas!B:D,3,0),0),\"\")","v":""},{"$f":"IF(A40<>\"\",IFERROR(VLOOKUP(O40,Tabelas!B:D,3,0),0),\"\")","v":""},{"$f":"IF(A40<>\"\",IFERROR(VLOOKUP(P40,Tabelas!B:D,3,0),0),\"\")","v":""},{"$f":"IF(A40<>\"\",IFERROR(VLOOKUP(Q40,Tabelas!B:D,3,0),0),\"\")","v":""},{"$f":"IF(A40<>\"\",IFERROR(VLOOKUP(R40,Tabelas!B:D,3,0),0),\"\")","v":""},{"$f":"IF(A40<>\"\",IFERROR(VLOOKUP(S40,Tabelas!B:D,3,0),0),\"\")","v":""},{"$f":"IF(A40<>\"\",IFERROR(VLOOKUP(T40,Tabelas!B:D,3,0),0),\"\")","v":""},{"$f":"IF(A40<>\"\",IFERROR(VLOOKUP(U40,Tabelas!B:D,3,0),0),\"\")","v":""},{"$f":"IF(A40<>\"\",IFERROR(VLOOKUP(V40,Tabelas!B:D,3,0),0),\"\")","v":""},{"$f":"IF(A40<>\"\",IFERROR(VLOOKUP(W40,Tabelas!B:D,3,0),0),\"\")","v":""},{"$f":"IF(A40<>\"\",IFERROR(VLOOKUP(X40,Tabelas!B:D,3,0),0),\"\")","v":""},{"$f":"IF(A40<>\"\",IFERROR(VLOOKUP(Y40,Tabelas!B:D,3,0),0),\"\")","v":""},{"$f":"IF(A40<>\"\",IFERROR(VLOOKUP(Z40,Tabelas!B:D,3,0),0),\"\")","v":""},{"$f":"IF(A40<>\"\",IFERROR(VLOOKUP(AA40,Tabelas!B:D,3,0),0),\"\")","v":""},{"$f":"IF(A40<>\"\",IFERROR(VLOOKUP(AB40,Tabelas!B:D,3,0),0),\"\")","v":""},{"$f":"IF(A40<>\"\",IFERROR(VLOOKUP(AC40,Tabelas!B:D,3,0),0),\"\")","v":""},{"$f":"IF(A40<>\"\",IFERROR(VLOOKUP(AD40,Tabelas!B:D,3,0),0),\"\")","v":""},{"$f":"IF(A40<>\"\",IFERROR(VLOOKUP(AE40,Tabelas!B:D,3,0),0),\"\")","v":""},{"$f":"IF(A40<>\"\",IFERROR(VLOOKUP(AF40,Tabelas!B:D,3,0),0),\"\")","v":""},{"$f":"IF(A40<>\"\",IFERROR(VLOOKUP(AG40,Tabelas!B:D,3,0),0),\"\")","v":""},{"$f":"IF(A40<>\"\",IFERROR(VLOOKUP(AH40,Tabelas!B:D,3,0),0),\"\")","v":""},{"$f":"IF(A40<>\"\",IFERROR(VLOOKUP(AI40,Tabelas!B:D,3,0),0),\"\")","v":""},{"$f":"IF(A40<>\"\",IFERROR(VLOOKUP(AJ40,Tabelas!B:D,3,0),0),\"\")","v":""},{"$f":"IF(A40<>\"\",IFERROR(VLOOKUP(AK40,Tabelas!B:D,3,0),0),\"\")","v":""},{"$f":"IF(A40<>\"\",IFERROR(VLOOKUP(AL40,Tabelas!B:D,3,0),0),\"\")","v":""},{"$f":"IF(A40<>\"\",IFERROR(VLOOKUP(AM40,Tabelas!B:D,3,0),0),\"\")","v":""},{"$f":"IF(A40<>\"\",IFERROR(VLOOKUP(AN40,Tabelas!B:D,3,0),0),\"\")","v":""},{"$f":"IF(A40<>\"\",IFERROR(VLOOKUP(AO40,Tabelas!B:D,3,0),0),\"\")","v":""},{"$f":"IF(A40<>\"\",IFERROR(VLOOKUP(AP40,Tabelas!B:D,3,0),0),\"\")","v":""},{"$f":"IF(A40<>\"\",IFERROR(VLOOKUP(AQ40,Tabelas!B:D,3,0),0),\"\")","v":""},"","","","","","","",""]
["TOTAL PROFISSIONAIS MATUTINO",null,null,null,null,null,null,null,null,null,null,null,{"$f":"IF(COUNTIF(M9:M40,\"M*\")+ COUNTIF(M9:M40, \"D*\")-COUNTIF(M9:M40,\"DSR\")<>0,COUNTIF(M9:M40,\"M*\")+ COUNTIF(M9:M40, \"D*\")-COUNTIF(M9:M40,\"DSR\"),\"\")","v":4},4,4,3,2,2,4,4,4,4,4,2,2,4,3,4,4,3,2,2,4,4,4,2,2,3,2,4,3,4,3,null,null,null,null,null,null,null,null,null,null,null,null,null,null,null,null,null,null,null,null,null,null,null,null,null,null,null,null,null,null,null,{"$f":"SUM(BW9:BW40)","v":1590},0,0,26,0,0,0,26]
["TOTAL DE PROFISSIONAIS VESPERTINO",null,null,null,null,null,null,null,null,null,null,null,{"$f":"IF(COUNTIF(M9:M40,\"MT*\") + COUNTIF(M9:M40, \"D*\") + COUNTIF(M9:M40,\"T*\")-COUNTIF(M9:M40,\"DSR\")<>0,COUNTIF(M9:M40,\"MT*\") + COUNTIF(M9:M40, \"D*\") + COUNTIF(M9:M40,\"T*\")-COUNTIF(M9:M40,\"DSR\"),\"\")","v":2},3,2,2,2,2,3,2,3,2,1,2,2,2,1,3,2,2,2,2,1,2,3,1,2,2,2,2,2,1,3,{"$f":"IF(A42<>\"\",IFERROR(VLOOKUP(M42,Tabelas!B:D,3,0),0),\"\")","v":0},{"$f":"IF(A42<>\"\",IFERROR(VLOOKUP(N42,Tabelas!B:D,3,0),0),\"\")","v":0},{"$f":"IF(A42<>\"\",IFERROR(VLOOKUP(O42,Tabelas!B:D,3,0),0),\"\")","v":0},{"$f":"IF(A42<>\"\",IFERROR(VLOOKUP(P42,Tabelas!B:D,3,0),0),\"\")","v":0},{"$f":"IF(A42<>\"\",IFERROR(VLOOKUP(Q42,Tabelas!B:D,3,0),0),\"\")","v":0},{"$f":"IF(A42<>\"\",IFERROR(VLOOKUP(R42,Tabelas!B:D,3,0),0),\"\")","v":0},{"$f":"IF(A42<>\"\",IFERROR(VLOOKUP(S42,Tabelas!B:D,3,0),0),\"\")","v":0},{"$f":"IF(A42<>\"\",IFERROR(VLOOKUP(T42,Tabelas!B:D,3,0),0),\"\")","v":0},{"$f":"IF(A42<>\"\",IFERROR(VLOOKUP(U42,Tabelas!B:D,3,0),0),\"\")","v":0},{"$f":"IF(A42<>\"\",IFERROR(VLOOKUP(V42,Tabelas!B:D,3,0),0),\"\")","v":0},{"$f":"IF(A42<>\"\",IFERROR(VLOOKUP(W42,Tabelas!B:D,3,0),0),\"\")","v":0},{"$f":"IF(A42<>\"\",IFERROR(VLOOKUP(X42,Tabelas!B:D,3,0),0),\"\")","v":0},{"$f":"IF(A42<>\"\",IFERROR(VLOOKUP(Y42,Tabelas!B:D,3,0),0),\"\")","v":0},{"$f":"IF(A42<>\"\",IFERROR(VLOOKUP(Z42,Tabelas!B:D,3,0),0),\"\")","v":0},{"$f":"IF(A42<>\"\",IFERROR(VLOOKUP(AA42,Tabelas!B:D,3,0),0),\"\")","v":0},{"$f":"IF(A42<>\"\",IFERROR(VLOOKUP(AB42,Tabelas!B:D,3,0),0),\"\")","v":0},{"$f":"IF(A42<>\"\",IFERROR(VLOOKUP(AC42,Tabelas!B:D,3,0),0),\"\")","v":0},{"$f":"IF(A42<>\"\",IFERROR(VLOOKUP(AD42,Tabelas!B:D,3,0),0),\"\")","v":0},{"$f":"IF(A42<>\"\",IFERROR(VLOOKUP(AE42,Tabelas!B:D,3,0),0),\"\")","v":0},{"$f":"IF(A42<>\"\",IFERROR(VLOOKUP(AF42,Tabelas!B:D,3,0),0),\"\")","v":0},{"$f":"IF(A42<>\"\",IFERROR(VLOOKUP(AG42,Tabelas!B:D,3,0),0),\"\")","v":0},{"$f":"IF(A42<>\"\",IFERROR(VLOOKUP(AH42,Tabelas!B:D,3,0),0),\"\")","v":0},{"$f":"IF(A42<>\"\",IFERROR(VLOOKUP(AI42,Tabelas!B:D,3,0),0),\"\")","v":0},{"$f":"IF(A42<>\"\",IFERROR(VLOOKUP(AJ42,Tabelas!B:D,3,0),0),\"\")","v":0},{"$f":"IF(A42<>\"\",IFERROR(VLOOKUP(AK42,Tabelas!B:D,3,0),0),\"\")","v":0},{"$f":"IF(A42<>\"\",IFERROR(VLOOKUP(AL42,Tabelas!B:D,3,0),0),\"\")","v":0},{"$f":"IF(A42<>\"\",IFERROR(VLOOKUP(AM42,Tabelas!B:D,3,0),0),\"\")","v":0},{"$f":"IF(A42<>\"\",IFERROR(VLOOKUP(AN42,Tabelas!B:D,3,0),0),\"\")","v":0},{"$f":"IF(A42<>\"\",IFERROR(VLOOKUP(AO42,Tabelas!B:D,3,0),0),\"\")","v":0},{"$f":"IF(A42<>\"\",IFERROR(VLOOKUP(AP42,Tabelas!B:D,3,0),0),\"\")","v":0},{"$f":"IF(A42<>\"\",IFERROR(VLOOKUP(AQ42,Tabelas!B:D,3,0),0),\"\")","v":0}]
["TOTAL DE PROFISSIONAIS NOTURNO",null,null,null,null,null,null,null,null,null,null,null,{"$f":"IF(COUNTIF(M9:M42,\"N?*\") + COUNTIF(M9:M42, \"DN*\")<>0,COUNTIF(M9:M42,\"N?*\") + COUNTIF(M9:M42, \"DN*\"),\"\")","v":2},3,2,2,2,2,2,2,3,2,2,2,2,2,2,2,2,2,1,2,2,2,2,2,2,2,2,2,2,2,2,{"$f":"IF(A43<>\"\",IFERROR(VLOOKUP(M43,Tabelas!B:D,3,0),0),\"\")","v":0},{"$f":"IF(A43<>\"\",IFERROR(VLOOKUP(N43,Tabelas!B:D,3,0),0),\"\")","v":0},{"$f":"IF(A43<>\"\",IFERROR(VLOOKUP(O43,Tabelas!B:D,3,0),0),\"\")","v":0},{"$f":"IF(A43<>\"\",IFERROR(VLOOKUP(P43,Tabelas!B:D,3,0),0),\"\")","v":0},{"$f":"IF(A43<>\"\",IFERROR(VLOOKUP(Q43,Tabelas!B:D,3,0),0),\"\")","v":0},{"$f":"IF(A43<>\"\",IFERROR(VLOOKUP(R43,Tabelas!B:D,3,0),0),\"\")","v":0},{"$f":"IF(A43<>\"\",IFERROR(VLOOKUP(S43,Tabelas!B:D,3,0),0),\"\")","v":0},{"$f":"IF(A43<>\"\",IFERROR(VLOOKUP(T43,Tabelas!B:D,3,0),0),\"\")","v":0},{"$f":"IF(A43<>\"\",IFERROR(VLOOKUP(U43,Tabelas!B:D,3,0),0),\"\")","v":0},{"$f":"IF(A43<>\"\",IFERROR(VLOOKUP(V43,Tabelas!B:D,3,0),0),\"\")","v":0},{"$f":"IF(A43<>\"\",IFERROR(VLOOKUP(W43,Tabelas!B:D,3,0),0),\"\")","v":0},{"$f":"IF(A43<>\"\",IFERROR(VLOOKUP(X43,Tabelas!B:D,3,0),0),\"\")","v":0},{"$f":"IF(A43<>\"\",IFERROR(VLOOKUP(Y43,Tabelas!B:D,3,0),0),\"\")","v":0},{"$f":"IF(A43<>\"\",IFERROR(VLOOKUP(Z43,Tabelas!B:D,3,0),0),\"\")","v":0},{"$f":"IF(A43<>\"\",IFERROR(VLOOKUP(AA43,Tabelas!B:D,3,0),0),\"\")","v":0},{"$f":"IF(A43<>\"\",IFERROR(VLOOKUP(AB43,Tabelas!B:D,3,0),0),\"\")","v":0},{"$f":"IF(A43<>\"\",IFERROR(VLOOKUP(AC43,Tabelas!B:D,3,0),0),\"\")","v":0},{"$f":"IF(A43<>\"\",IFERROR(VLOOKUP(AD43,Tabelas!B:D,3,0),0),\"\")","v":0},{"$f":"IF(A43<>\"\",IFERROR(VLOOKUP(AE43,Tabelas!B:D,3,0),0),\"\")","v":0},{"$f":"IF(A43<>\"\",IFERROR(VLOOKUP(AF43,Tabelas!B:D,3,0),0),\"\")","v":0},{"$f":"IF(A43<>\"\",IFERROR(VLOOKUP(AG43,Tabelas!B:D,3,0),0),\"\")","v":0},{"$f":"IF(A43<>\"\",IFERROR(VLOOKUP(AH43,Tabelas!B:D,3,0),0),\"\")","v":0},{"$f":"IF(A43<>\"\",IFERROR(VLOOKUP(AI43,Tabelas!B:D,3,0),0),\"\")","v":0},{"$f":"IF(A43<>\"\",IFERROR(VLOOKUP(AJ43,Tabelas!B:D,3,0),0),\"\")","v":0},{"$f":"IF(A43<>\"\",IFERROR(VLOOKUP(AK43,Tabelas!B:D,3,0),0),\"\")","v":0},{"$f":"IF(A43<>\"\",IFERROR(VLOOKUP(AL43,Tabelas!B:D,3,0),0),\"\")","v":0},{"$f":"IF(A43<>\"\",IFERROR(VLOOKUP(AM43,Tabelas!B:D,3,0),0),\"\")","v":0},{"$f":"IF(A43<>\"\",IFERROR(VLOOKUP(AN43,Tabelas!B:D,3,0),0),\"\")","v":0},{"$f":"IF(A43<>\"\",IFERROR(VLOOKUP(AO43,Tabelas!B:D,3,0),0),\"\")","v":0},{"$f":"IF(A43<>\"\",IFERROR(VLOOKUP(AP43,Tabelas!B:D,3,0),0),\"\")","v":0},{"$f":"IF(A43<>\"\",IFERROR(VLOOKUP(AQ43,Tabelas!B:D,3,0),0),\"\")","v":0}]
[null,null,null,null,null,null,null,null,null,null,null,null,null,null,null,null,null,null,null,null,null,null,null,null,null,null,null,null,null,null,null,null,null,null,null,null,null,null,null,null,null,null,null,{"$f":"IF(A44<>\"\",IFERROR(VLOOKUP(M44,Tabelas!B:D,3,0),0),\"\")","v":""},{"$f":"IF(A44<>\"\",IFERROR(VLOOKUP(N44,Tabelas!B:D,3,0),0),\"\")","v":""},{"$f":"IF(A44<>\"\",IFERROR(VLOOKUP(O44,Tabelas!B:D,3,0),0),\"\")","v":""},{"$f":"IF(A44<>\"\",IFERROR(VLOOKUP(P44,Tabelas!B:D,3,0),0),\"\")","v":""},{"$f":"IF(A44<>\"\",IFERROR(VLOOKUP(Q44,Tabelas!B:D,3,0),0),\"\")","v":""},{"$f":"IF(A44<>\"\",IFERROR(VLOOKUP(R44,Tabelas!B:D,3,0),0),\"\")","v":""},{"$f":"IF(A44<>\"\",IFERROR(VLOOKUP(S44,Tabelas!B:D,3,0),0),\"\")","v":""},{"$f":"IF(A44<>\"\",IFERROR(VLOOKUP(T44,Tabelas!B:D,3,0),0),\"\")","v":""},{"$f":"IF(A44<>\"\",IFERROR(VLOOKUP(U44,Tabelas!B:D,3,0),0),\"\")","v":""},{"$f":"IF(A44<>\"\",IFERROR(VLOOKUP(V44,Tabelas!B:D,3,0),0),\"\")","v":""},{"$f":"IF(A44<>\"\",IFERROR(VLOOKUP(W44,Tabelas!B:D,3,0),0),\"\")","v":""},{"$f":"IF(A44<>\"\",IFERROR(VLOOKUP(X44,Tabelas!B:D,3,0),0),\"\")","v":""},{"$f":"IF(A44<>\"\",IFERROR(VLOOKUP(Y44,Tabelas!B:D,3,0),0),\"\")","v":""},{"$f":"IF(A44<>\"\",IFERROR(VLOOKUP(Z44,Tabelas!B:D,3,0),0),\"\")","v":""},{"$f":"IF(A44<>\"\",IFERROR(VLOOKUP(AA44,Tabelas!B:D,3,0),0),\"\")","v":""},{"$f":"IF(A44<>\"\",IFERROR(VLOOKUP(AB44,Tabelas!B:D,3,0),0),\"\")","v":""},{"$f":"IF(A44<>\"\",IFERROR(VLOOKUP(AC44,Tabelas!B:D,3,0),0),\"\")","v":""},{"$f":"IF(A44<>\"\",IFERROR(VLOOKUP(AD44,Tabelas!B:D,3,0),0),\"\")","v":""},{"$f":"IF(A44<>\"\",IFERROR(VLOOKUP(AE44,Tabelas!B:D,3,0),0),\"\")","v":""},{"$f":"IF(A44<>\"\",IFERROR(VLOOKUP(AF44,Tabelas!B:D,3,0),0),\"\")","v":""},{"$f":"IF(A44<>\"\",IFERROR(VLOOKUP(AG44,Tabelas!B:D,3,0),0),\"\")","v":""},{"$f":"IF(A44<>\"\",IFERROR(VLOOKUP(AH44,Tabelas!B:D,3,0),0),\"\")","v":""},{"$f":"IF(A44<>\"\",IFERROR(VLOOKUP(AI44,Tabelas!B:D,3,0),0),\"\")","v":""},{"$f":"IF(A44<>\"\",IFERROR(VLOOKUP(AJ44,Tabelas!B:D,3,0),0),\"\")","v":""},{"$f":"IF(A44<>\"\",IFERROR(VLOOKUP(AK44,Tabelas!B:D,3,0),0),\"\")","v":""},{"$f":"IF(A44<>\"\",IFERROR(VLOOKUP(AL44,Tabelas!B:D,3,0),0),\"\")","v":""},{"$f":"IF(A44<>\"\",IFERROR(VLOOKUP(AM44,Tabelas!B:D,3,0),0),\"\")","v":""},{"$f":"IF(A44<>\"\",IFERROR(VLOOKUP(AN44,Tabelas!B:D,3,0),0),\"\")","v":""},{"$f":"IF(A44<>\"\",IFERROR(VLOOKUP(AO44,Tabelas!B:D,3,0),0),\"\")","v":""},{"$f":"IF(A44<>\"\",IFERROR(VLOOKUP(AP44,Tabelas!B:D,3,0),0),\"\")","v":""},{"$f":"IF(A44<>\"\",IFERROR(VLOOKUP(AQ44,Tabelas!B:D,3,0),0),\"\")","v":""}]
["Legenda:"]
["Licença Maternidade","LM","Férias",null,null,null,null,null,null,"FE",null,"Ponto Facultativo",null,null,null,null,null,null,null,"PF","Manhã *",null,null,null,null,null,null,"M","Diurno (8 hrs) *",null,null,null,null,null,null,"MT"]
["Licença Paternidade","LP","Feriado",null,null,null,null,null,null,"FD",null,"Abono **",null,null,null,null,null,null,null,"AB","Tarde *",null,null,null,null,null,null,"T","Dia/ noite (24 hrs) *",null,null,null,null,null,null,"DN"]
["Licença Médica/Odontológica","L","Descanso Semanal Remunerado",null,null,null,null,null,null,"DSR",null,"Compensação de Horas***",null,null,null,null,null,null,null,"CH","Plantão Dia (12 hrs) *",null,null,null,null,null,null,"D"]
["Licença Capacitação","LC","Recesso",null,null,null,null,null,null,"RC",null,"Afastamento**",null,null,null,null,null,null,null,"AF","Plantão Noite (12 hrs) *",null,null,null,null,null,null,"N"]
[]
["OBSERVAÇÕES:"]
["* Para inserção das legendas referentes às jornadas de trabalho, verificar a Tabela 1 do Anexo do Memorando-Circular - SEI nº   25 /2018/CAP/DGP-EBSERH."]
["** Para inserção das legendas referentes aos Afastamentos previstos em lei e às Compensações de horas, verificar a Tabela 2 do Anexo do Memorando-Circular - SEI nº   25 /2018/CAP/DGP-EBSERH."]

{"sheet":"Tabelas","index":12,"n_rows":110,"n_cols":18,"rows_kept":110,"cut":false,"hidden":true,"merged":[[0,15,0,17],[72,0,109,0],[1,0,71,0],[1,16,4,16],[1,17,14,17],[5,16,10,16],[11,16,14,16],[22,16,28,16],[15,17,21,17],[22,17,33,17],[29,16,33,16],[34,17,39,17]]}
[null,"Legenda","Descrição","CH",null,null,"Ebserh",null,"Dias da Semana",null,null,"Ano","Mês",null,null,"Intervalos"]
["Turno de Trabalho",null,null,null,null,null,"RJU",null,1,"DOM",null,2016,"Janeiro",1,null,25,"M","15 MINUTOS"]
[null,"M8","Matutino 04h",4,null,null,null,null,2,"SEG",null,2017,"Fevereiro",2,null,26]
[null,"M9","Matutino 04h",4,null,null,null,null,3,"TER",null,2018,"Março",3,null,27]
[null,"M10","Matutino 04h",4,null,null,null,null,4,"QUA",null,2019,"Abril",4,null,28]
[null,"M11","Matutino 04h",4,null,null,null,null,5,"QUI",null,2020,"Maio",5,null,29,"T"]
[null,"M12","Matutino 04h",4,null,null,null,null,6,"SEX",null,2021,"Junho",6,null,30]
[null,"M13","Matutino 06h",6,null,null,null,null,7,"SAB",null,2022,"Julho",7,null,31]
[null,"M14","Matutino 06h",6,null,null,null,null,null,null,null,2023,"Agosto",8,null,32]
[null,"M15","Matutino 06h",6,null,null,null,null,null,null,null,2024,"Setembro",9,null,33]
[null,"M16","Matutino 06h",6,null,null,null,null,null,null,null,2025,"Outubro",10,null,34]
[null,"M17","Matutino 06h",6,null,null,null,null,null,null,null,null,"Novembro",11,null,35,"N"]
[null,"M18","Matutino 06h",6,null,null,null,null,null,null,null,null,"Dezembro",12,null,36]
[null,null,null,null,null,null,null,null,null,null,null,null,null,null,null,37]
[null,"T9","Vespertino 04h",4,null,null,null,null,null,null,null,null,null,null,null,38]
[null,"T10","Vespertino 04h",4,null,null,null,null,null,null,null,null,null,null,null,39,null,"30 MINUTOS"]
[null,"T11","Vespertino 04h",4,null,null,null,null,null,null,null,null,null,null,null,40]
[null,"T12","Vespertino 04h",4,null,null,null,null,null,null,null,null,null,null,null,41]
[null,"T13","Vespertino 06h",6,null,null,null,null,null,null,null,null,null,null,null,42]
[null,"T14","Vespertino 06h",6,null,null,null,null,null,null,null,null,null,null,null,43]
[null,"T15","Vespertino 06h",6,null,null,null,null,null,null,null,null,null,null,null,44]
[null,"T16","Vespertino 06h",6,null,null,null,null,null,null,null,null,null,null,null,45]
[null,"T17","Vespertino 06h",6,null,null,null,null,null,null,null,null,null,null,null,46,"D","01 H DIA/NOITE "]
[null,"T18","Vespertino 06h",6,null,null,null,null,null,null,null,null,null,null,null,47]
[null,"T19","Vespertino 06h",6,null,null,null,null,null,null,null,null,null,null,null,48]
[null,null,null,null,null,null,null,null,null,null,null,null,null,null,null,49]
[null,"MT15","Diurno 08h",8,null,null,null,null,null,null,null,null,null,null,null,50]
[null,"MT16","Diurno 08h",8,null,null,null,null,null,null,null,null,null,null,null,51]
[null,"MT17","Diurno 08h",8,null,null,null,null,null,null,null,null,null,null,null,52]
[null,"MT18","Diurno 08h",8,null,null,null,null,null,null,null,null,null,null,null,53,"N"]
[null,"MT19","Diurno 08h",8,null,null,null,null,null,null,null,null,null,null,null,54]
[null,"MT20","Diurno 08h",8,null,null,null,null,null,null,null,null,null,null,null,55]
[null,"MT21","Diurno 08h",8,null,null,null,null,null,null,null,null,null,null,null,56]
[null,"MT22","Diurno 08h",8,null,null,null,null,null,null,null,null,null,null,null,57]
[null,"MT23","Diurno 08h",8,null,null,null,null,null,null,null,null,null,null,null,58,null,"02 H"]
[null,"MT24","Diurno 08h",8,null,null,null,null,null,null,null,null,null,null,null,59]
[null,"MT25","Diurno 08h",8,null,null,null,null,null,null,null,null,null,null,null,60]
[null,"MT26","Diurno 08h",8,null,null,null,null,null,null,null,null,null,null,null,61]
[null,"MT27","Diurno 08h",8,null,null,null,null,null,null,null,null,null,null,null,62]
[null,"MT28","Diurno 08h",8,null,null,null,null,null,null,null,null,null,null,null,63]
[null,"MT29","Diurno 08h",8]
[null,"MT30","Diurno 08h",8]
[null,"MT31","Diurno 08h",8]
[null,"MT32","Diurno 08h",8]
[null,"MT33","Diurno 08h",8]
[null,"MT34","Diurno 08h",8]
[null,"MT35","Diurno 08h",8]
[null,"MT36","Diurno 08h",8]
[null,"MT37","Diurno 08h",8]
[null,"MT38","Diurno 08h",8]
[null,"MT39","Diurno 08h",8]
[null,"MT40","Diurno 08h",8]
[null,"MT41","Diurno 08h",8]
[null,"MT42","Diurno 08h",8]
[null,"MT43","Diurno 08h",8]
[]
[null,"N5","Noturno 12h",6]
[null,"N6","Noturno 12h",12]
[null,"N7","Noturno 12h",12]
[null,"N8","Noturno 12h",12]
[null,"N9","Noturno 12h",12]
[null,"N10","Noturno 12h",12]
[]
[null,"D5","Diurno 12h",12]
[null,"D6","Diurno 12h",12]
[null,"D7","Diurno 12h",12]
[null,"D8","Diurno 12h",12]
[]
[null,"DN4","Diurno/Noturno -24H",24]
[null,"DN5","Diurno/Noturno -24H",24]
[null,"DN6","Diurno/Noturno -24H",24]
[]
["Afastamentos legais e compensação de horas","DSR","Descanso Semanal Remunerado",0]
[null,"FE","Férias",0]
[null,"FD","Feriado",0]
[null,"CH+4","Compensação de horas faltas",4]
[null,"CH+6","Compensação de horas faltas",6]
[null,"CH+8","Compensação de horas faltas",8]
[null,"CH+12","Compensação de horas faltas",12]
[null,"CH+24","Compensação de horas faltas",24]
[null,"CH-4","Compensação de horas excedentes",0]
[null,"CH-6","Compensação de horas excedentes",0]
[null,"CH-8","Compensação de horas excedentes",0]
[null,"CH-12","Compensação de horas excedentes",0]
[null,"CH-24","Compensação de horas excedentes",0]
[null,"AB4","Abono ACT",4]
[null,"AB6","Abono ACT",6]
[null,"AB8","Abono ACT",8]
[null,"AB12","Abono ACT",12]
[null,"AB24","Abono ACT",24]
[null,"L","Licença Médica e Odontológica",0]
[null,"LM","Licença-Maternidade",0]
[null,"LP","Licença-Paternicade",0]
[null,"LC","Licença para Capacitação",0]
[null,"RC","Recesso",0]
[null,"PF","Ponto Facultativo",0]
[null,"AF1","Licença por acidente de trabalho",0]
[null,"AF2","Licença gala de 8 (oito) dias consecutivos a contar da data do casamento, ou da data do registro, em cartório, da União Estável",0]
[null,"AF3","Licença por morte de familiar",0]
[null,"AF4","Licença sem remuneração para tratar de interesse particular",0]
[null,"AF5","Licença para acompanhamento de familiar, filhos menores ou pais maiores de 60 (sessenta) anos",0]
[null,"AF6","Licença para exercício de mandato de cargo de direção em entidade Sindical representativa dos empregados da EBSERH (art.543, parágrafo 2º da CLT)",0]
[null,"AF7","Licença para atividade política (Lei 7.664/88, artigo 25)",0]
[null,"AF8","Doação de sangue por um dia em cada seis meses de trabalho",0]
[null,"AF9","Alistamento eleitoral, até 2 (dois) dias, consecutivos ou não",0]
[null,"AF10","Depoimento em inquérito policial ou processo judicial",0]
[null,"AF11","Convocação para o Júri, funções da Justiça Eleitoral desde que amparada em lei, apresentação militar e outros serviços legalmente obrigatórios",0]
[null,"AF12","Realização de provas de exame vestibular",0]
[null,"AF13","Participação em reuniões da Comissão de Negociação",0]
[null,"AF14","Outras ausências permitidas por Lei ou em razão de Acordo ou Convenção Coletiva",0]