{"text_format":"1","workbook":"xlsx","n_sheets":17,"sheets":["Janeiro","Fevereiro","Março","Abril","Maio","Junho","Julho","Agosto","Planilha1","Setembro","Outubro","Novembro","Dezembro","Planilha2","Planilha3","Planilha4","Tabelas"],"not_rendered":{"charts":0,"images":3,"macros":1,"external_links":0,"defined_names":12,"comments":1,"pivot_tables":0},"unopened":[],"bounds":{"document_bytes":16777216,"sheet_cells":100000,"rows_first":2000,"rows_last":500,"rows_between":2000,"halvings":0,"cell_chars":16384,"cell_head_chars":4096},"cells_cut":0,"cells_raw":0,"read":"whole","date_system":"1900"}

{"sheet":"Janeiro","index":0,"n_rows":60,"n_cols":83,"rows_kept":60,"cut":false,"hidden":false,"merged":[[52,20,52,26],[53,2,53,8],[53,9,53,10],[53,11,53,18],[53,20,53,26],[52,2,52,8],[52,9,52,10],[54,20,54,26],[55,2,55,8],[55,9,55,10],[55,11,55,18],[55,20,55,26],[47,1,47,12],[48,0,48,11],[49,0,49,11],[54,2,54,8],[54,9,54,10],[54,11,54,18],[52,11,52,18],[1,0,1,42],[2,0,2,42],[3,0,3,42],[4,1,4,20],[4,23,4,34],[4,37,4,42],[5,6,5,11],[6,76,7,76],[6,77,7,77],[6,78,7,78],[6,79,7,79],[6,6,7,6],[6,7,7,7],[6,8,7,8],[6,11,7,11],[6,9,7,9],[6,10,7,10],[6,80,7,80],[6,81,7,81],[5,12,5,42],[5,43,5,73],[5,75,5,81],[5,74,7,74],[6,75,7,75],[35,80,37,80],[35,81,37,81],[35,82,37,82],[52,28,52,34],[53,28,53,34],[35,75,37,75],[35,76,37,76],[35,77,37,77],[35,78,37,78],[35,79,37,79]]}
[]
[]
["NOME DO HU"]
["Preferencia de escala"]
["DIVISÃO /SETOR/UNIDADE:",null,null,null,null,null,null,null,null,null,null,null,null,null,null,null,null,null,null,null,null,"MÊS:",null,"FEVEREIRO",null,null,null,null,null,null,null,null,null,null,null,"ANO:",null,2021]
["NOME COMPLETO","SIAPE","     Registro Conselho Classe","Cargo","Vínculo","    C.H Sem","INTERVALO",null,null,null,null,null,"DIAS DO MÊS",null,null,null,null,null,null,null,null,null,null,null,null,null,null,null,null,null,null,null,null,null,null,null,null,null,null,null,null,null,null,"CÁLCULO DAS HORAS",null,null,null,null,null,null,null,null,null,null,null,null,null,null,null,null,null,null,null,null,null,null,null,null,null,null,null,null,null,null,"CH Men.","Dias"]
[null,null,null,null,null,null,"15' M","15' T","15' N","1H D","1H N","2H",1,2,3,4,5,6,7,8,9,10,11,12,13,14,15,16,17,18,19,20,21,22,23,24,25,{"$f":"IF(DAY(DATE(AL5,VLOOKUP(X5,Tabelas!M:N,2,0)+1,1)-1)>=26,26,\"\")","v":26},{"$f":"IF(DAY(DATE(AL5,VLOOKUP(X5,Tabelas!M:N,2,0)+1,1)-1)>=27,27,\"\")","v":27},{"$f":"IF(DAY(DATE(AL5,VLOOKUP(X5,Tabelas!M:N,2,0)+1,1)-1)>=28,28,\"\")","v":28},{"$f":"IF(DAY(DATE(AL5,VLOOKUP(X5,Tabelas!M:N,2,0)+1,1)-1)>=29,29,\"\")","v":""},{"$f":"IF(DAY(DATE(AL5,VLOOKUP(X5,Tabelas!M:N,2,0)+1,1)-1)>=30,30,\"\")","v":""},{"$f":"IF(DAY(DATE(AL5,VLOOKUP(X5,Tabelas!M:N,2,0)+1,1)-1)>=31,31,\"\")","v":""},null,null,null,null,null,null,null,null,null,null,null,null,null,null,null,null,null,null,null,null,null,null,null,null,null,null,null,null,null,null,null,null,"LM/LP/L","AB","FE","LC","CH","AF  "," Total Afast."]
[null,null,null,null,null,null,null,null,null,null,null,null,{"$f":"IF(M7<>\"\",IFERROR(VLOOKUP(WEEKDAY(CONCATENATE(M7,$X$5,$AL$5)),Tabelas!$I:$J,2,0),\"\"),\"\")","v":"SEG"},{"$f":"IF(N7<>\"\",IFERROR(VLOOKUP(WEEKDAY(CONCATENATE(N7,$X$5,$AL$5)),Tabelas!$I:$J,2,0),\"\"),\"\")","v":"TER"},{"$f":"IF(O7<>\"\",IFERROR(VLOOKUP(WEEKDAY(CONCATENATE(O7,$X$5,$AL$5)),Tabelas!$I:$J,2,0),\"\"),\"\")","v":"QUA"},{"$f":"IF(P7<>\"\",IFERROR(VLOOKUP(WEEKDAY(CONCATENATE(P7,$X$5,$AL$5)),Tabelas!$I:$J,2,0),\"\"),\"\")","v":"QUI"},{"$f":"IF(Q7<>\"\",IFERROR(VLOOKUP(WEEKDAY(CONCATENATE(Q7,$X$5,$AL$5)),Tabelas!$I:$J,2,0),\"\"),\"\")","v":"SEX"},{"$f":"IF(R7<>\"\",IFERROR(VLOOKUP(WEEKDAY(CONCATENATE(R7,$X$5,$AL$5)),Tabelas!$I:$J,2,0),\"\"),\"\")","v":"SAB"},{"$f":"IF(S7<>\"\",IFERROR(VLOOKUP(WEEKDAY(CONCATENATE(S7,$X$5,$AL$5)),Tabelas!$I:$J,2,0),\"\"),\"\")","v":"DOM"},{"$f":"IF(T7<>\"\",IFERROR(VLOOKUP(WEEKDAY(CONCATENATE(T7,$X$5,$AL$5)),Tabelas!$I:$J,2,0),\"\"),\"\")","v":"SEG"},{"$f":"IF(U7<>\"\",IFERROR(VLOOKUP(WEEKDAY(CONCATENATE(U7,$X$5,$AL$5)),Tabelas!$I:$J,2,0),\"\"),\"\")","v":"TER"},{"$f":"IF(V7<>\"\",IFERROR(VLOOKUP(WEEKDAY(CONCATENATE(V7,$X$5,$AL$5)),Tabelas!$I:$J,2,0),\"\"),\"\")","v":"QUA"},{"$f":"IF(W7<>\"\",IFERROR(VLOOKUP(WEEKDAY(CONCATENATE(W7,$X$5,$AL$5)),Tabelas!$I:$J,2,0),\"\"),\"\")","v":"QUI"},{"$f":"IF(X7<>\"\",IFERROR(VLOOKUP(WEEKDAY(CONCATENATE(X7,$X$5,$AL$5)),Tabelas!$I:$J,2,0),\"\"),\"\")","v":"SEX"},{"$f":"IF(Y7<>\"\",IFERROR(VLOOKUP(WEEKDAY(CONCATENATE(Y7,$X$5,$AL$5)),Tabelas!$I:$J,2,0),\"\"),\"\")","v":"SAB"},{"$f":"IF(Z7<>\"\",IFERROR(VLOOKUP(WEEKDAY(CONCATENATE(Z7,$X$5,$AL$5)),Tabelas!$I:$J,2,0),\"\"),\"\")","v":"DOM"},{"$f":"IF(AA7<>\"\",IFERROR(VLOOKUP(WEEKDAY(CONCATENATE(AA7,$X$5,$AL$5)),Tabelas!$I:$J,2,0),\"\"),\"\")","v":"SEG"},{"$f":"IF(AB7<>\"\",IFERROR(VLOOKUP(WEEKDAY(CONCATENATE(AB7,$X$5,$AL$5)),Tabelas!$I:$J,2,0),\"\"),\"\")","v":"TER"},{"$f":"IF(AC7<>\"\",IFERROR(VLOOKUP(WEEKDAY(CONCATENATE(AC7,$X$5,$AL$5)),Tabelas!$I:$J,2,0),\"\"),\"\")","v":"QUA"},{"$f":"IF(AD7<>\"\",IFERROR(VLOOKUP(WEEKDAY(CONCATENATE(AD7,$X$5,$AL$5)),Tabelas!$I:$J,2,0),\"\"),\"\")","v":"QUI"},{"$f":"IF(AE7<>\"\",IFERROR(VLOOKUP(WEEKDAY(CONCATENATE(AE7,$X$5,$AL$5)),Tabelas!$I:$J,2,0),\"\"),\"\")","v":"SEX"},{"$f":"IF(AF7<>\"\",IFERROR(VLOOKUP(WEEKDAY(CONCATENATE(AF7,$X$5,$AL$5)),Tabelas!$I:$J,2,0),\"\"),\"\")","v":"SAB"},{"$f":"IF(AG7<>\"\",IFERROR(VLOOKUP(WEEKDAY(CONCATENATE(AG7,$X$5,$AL$5)),Tabelas!$I:$J,2,0),\"\"),\"\")","v":"DOM"},{"$f":"IF(AH7<>\"\",IFERROR(VLOOKUP(WEEKDAY(CONCATENATE(AH7,$X$5,$AL$5)),Tabelas!$I:$J,2,0),\"\"),\"\")","v":"SEG"},{"$f":"IF(AI7<>\"\",IFERROR(VLOOKUP(WEEKDAY(CONCATENATE(AI7,$X$5,$AL$5)),Tabelas!$I:$J,2,0),\"\"),\"\")","v":"TER"},{"$f":"IF(AJ7<>\"\",IFERROR(VLOOKUP(WEEKDAY(CONCATENATE(AJ7,$X$5,$AL$5)),Tabelas!$I:$J,2,0),\"\"),\"\")","v":"QUA"},{"$f":"IF(AK7<>\"\",IFERROR(VLOOKUP(WEEKDAY(CONCATENATE(AK7,$X$5,$AL$5)),Tabelas!$I:$J,2,0),\"\"),\"\")","v":"QUI"},{"$f":"IF(AL7<>\"\",IFERROR(VLOOKUP(WEEKDAY(CONCATENATE(AL7,$X$5,$AL$5)),Tabelas!$I:$J,2,0),\"\"),\"\")","v":"SEX"},{"$f":"IF(AM7<>\"\",IFERROR(VLOOKUP(WEEKDAY(CONCATENATE(AM7,$X$5,$AL$5)),Tabelas!$I:$J,2,0),\"\"),\"\")","v":"SAB"},{"$f":"IF(AN7<>\"\",IFERROR(VLOOKUP(WEEKDAY(CONCATENATE(AN7,$X$5,$AL$5)),Tabelas!$I:$J,2,0),\"\"),\"\")","v":"DOM"},{"$f":"IF(AO7<>\"\",IFERROR(VLOOKUP(WEEKDAY(CONCATENATE(AO7,$X$5,$AL$5)),Tabelas!$I:$J,2,0),\"\"),\"\")","v":""},{"$f":"IF(AP7<>\"\",IFERROR(VLOOKUP(WEEKDAY(CONCATENATE(AP7,$X$5,$AL$5)),Tabelas!$I:$J,2,0),\"\"),\"\")","v":""},{"$f":"IF(AQ7<>\"\",IFERROR(VLOOKUP(WEEKDAY(CONCATENATE(AQ7,$X$5,$AL$5)),Tabelas!$I:$J,2,0),\"\"),\"\")","v":""},1,2,3,4,5,6,7,8,9,10,11,12,13,14,15,16,17,18,19,20,21,22,23,24,25,26,27,28,29,30,31]
["Marcello Maciel Nogueira",null,null,null,null,null,null,null,null,null,null,null,null,null,null,null,null,null,null,null,null,null,null,null,null,null,null,null,null,null,null,null,null,null,null,null,null,null,null,null,null,null,null,{"$f":"IF(A9<>\"\",IFERROR(VLOOKUP(M9,Tabelas!B:D,3,0),0),\"\")","v":0},{"$f":"IF(A9<>\"\",IFERROR(VLOOKUP(N9,Tabelas!B:D,3,0),0),\"\")","v":0},{"$f":"IF(A9<>\"\",IFERROR(VLOOKUP(O9,Tabelas!B:D,3,0),0),\"\")","v":0},{"$f":"IF(A9<>\"\",IFERROR(VLOOKUP(P9,Tabelas!B:D,3,0),0),\"\")","v":0},{"$f":"IF(A9<>\"\",IFERROR(VLOOKUP(Q9,Tabelas!B:D,3,0),0),\"\")","v":0},{"$f":"IF(A9<>\"\",IFERROR(VLOOKUP(R9,Tabelas!B:D,3,0),0),\"\")","v":0},{"$f":"IF(A9<>\"\",IFERROR(VLOOKUP(S9,Tabelas!B:D,3,0),0),\"\")","v":0},{"$f":"IF(A9<>\"\",IFERROR(VLOOKUP(T9,Tabelas!B:D,3,0),0),\"\")","v":0},{"$f":"IF(A9<>\"\",IFERROR(VLOOKUP(U9,Tabelas!B:D,3,0),0),\"\")","v":0},{"$f":"IF(A9<>\"\",IFERROR(VLOOKUP(V9,Tabelas!B:D,3,0),0),\"\")","v":0},{"$f":"IF(A9<>\"\",IFERROR(VLOOKUP(W9,Tabelas!B:D,3,0),0),\"\")","v":0},{"$f":"IF(A9<>\"\",IFERROR(VLOOKUP(X9,Tabelas!B:D,3,0),0),\"\")","v":0},{"$f":"IF(A9<>\"\",IFERROR(VLOOKUP(Y9,Tabelas!B:D,3,0),0),\"\")","v":0},{"$f":"IF(A9<>\"\",IFERROR(VLOOKUP(Z9,Tabelas!B:D,3,0),0),\"\")","v":0},{"$f":"IF(A9<>\"\",IFERROR(VLOOKUP(AA9,Tabelas!B:D,3,0),0),\"\")","v":0},{"$f":"IF(A9<>\"\",IFERROR(VLOOKUP(AB9,Tabelas!B:D,3,0),0),\"\")","v":0},{"$f":"IF(A9<>\"\",IFERROR(VLOOKUP(AC9,Tabelas!B:D,3,0),0),\"\")","v":0},{"$f":"IF(A9<>\"\",IFERROR(VLOOKUP(AD9,Tabelas!B:D,3,0),0),\"\")","v":0},{"$f":"IF(A9<>\"\",IFERROR(VLOOKUP(AE9,Tabelas!B:D,3,0),0),\"\")","v":0},{"$f":"IF(A9<>\"\",IFERROR(VLOOKUP(AF9,Tabelas!B:D,3,0),0),\"\")","v":0},{"$f":"IF(A9<>\"\",IFERROR(VLOOKUP(AG9,Tabelas!B:D,3,0),0),\"\")","v":0},{"$f":"IF(A9<>\"\",IFERROR(VLOOKUP(AH9,Tabelas!B:D,3,0),0),\"\")","v":0},{"$f":"IF(A9<>\"\",IFERROR(VLOOKUP(AI9,Tabelas!B:D,3,0),0),\"\")","v":0},{"$f":"IF(A9<>\"\",IFERROR(VLOOKUP(AJ9,Tabelas!B:D,3,0),0),\"\")","v":0},{"$f":"IF(A9<>\"\",IFERROR(VLOOKUP(AK9,Tabelas!B:D,3,0),0),\"\")","v":0},{"$f":"IF(A9<>\"\",IFERROR(VLOOKUP(AL9,Tabelas!B:D,3,0),0),\"\")","v":0},{"$f":"IF(A9<>\"\",IFERROR(VLOOKUP(AM9,Tabelas!B:D,3,0),0),\"\")","v":0},{"$f":"IF(A9<>\"\",IFERROR(VLOOKUP(AN9,Tabelas!B:D,3,0),0),\"\")","v":0},{"$f":"IF(A9<>\"\",IFERROR(VLOOKUP(AO9,Tabelas!B:D,3,0),0),\"\")","v":0},{"$f":"IF(A9<>\"\",IFERROR(VLOOKUP(AP9,Tabelas!B:D,3,0),0),\"\")","v":0},{"$f":"IF(A9<>\"\",IFERROR(VLOOKUP(AQ9,Tabelas!B:D,3,0),0),\"\")","v":0},{"$f":"IF(AND(A9<>\"\",E9=\"Ebserh\"),SUM(AR9:BV9)+COUNTIF(M9:AQ9,\"N*\")+COUNTIF(M9:AQ9,\"DN*\"),IF(AND(A9<>\"\",E9<>\"Ebserh\"),SUM(AR9:BV9),\"\"))","v":0},{"$f":"IF(A9<>\"\",COUNTIF(M9:AQ9,\"LM\")+COUNTIF(M9:AQ9,\"L\")+COUNTIF(M9:AQ9,\"LP\"),\"\")","v":0},{"$f":"IF(A9<>\"\",COUNTIF(M9:AQ9,\"AB*\"),\"\")","v":0},{"$f":"IF(A9<>\"\",COUNTIF(M9:AQ9,\"FE\"),\"\")","v":0},{"$f":"IF(A9<>\"\",COUNTIF(M9:AQ9,\"LC\"),\"\")","v":0},{"$f":"IF(A9<>\"\",COUNTIF(M9:AQ9,\"CH*\"),\"\")","v":0},{"$f":"IF(A9<>\"\",COUNTIF(M9:AQ9,\"AF1\")+COUNTIF(M9:AQ9,\"AF2\")+COUNTIF(M9:AQ9,\"AF3\")+COUNTIF(M9:AQ9,\"AF4\")+COUNTIF(M9:AQ9,\"AF5\")+COUNTIF(M9:AQ9,\"AF6\")+COUNTIF(M9:AQ9,\"AF7\")+COUNTIF(M9:AQ9,\"AF8\")+COUNTIF(M9:AQ9,\"AF9\")+COUNTIF(M9:AQ9,\"AF10\")+COUNTIF(M9:AQ9,\"AF11\")+COUNTIF(M9:AQ9,\"AF12\")+COUNTIF(M9:AQ9,\"AF13\")+COUNTIF(M9:AQ9,\"AF14\"),\"\")","v":0},{"$f":"IF(A9<>\"\",COUNTIF(M9:AQ9,\"CH*\")+COUNTIF(M9:AQ9,\"L\")+COUNTIF(M9:AQ9,\"LM\")+COUNTIF(M9:AQ9,\"LP\")+COUNTIF(M9:AQ9,\"LC\")+COUNTIF(M9:AQ9,\"AB*\")+COUNTIF(M9:AQ9,\"AF1\")+COUNTIF(M9:AQ9,\"AF2\")+COUNTIF(M9:AQ9,\"AF3\")+COUNTIF(M9:AQ9,\"AF4\")+COUNTIF(M9:AQ9,\"AF5\")+COUNTIF(M9:AQ9,\"AF6\")+COUNTIF(M9:AQ9,\"AF7\")+COUNTIF(M9:AQ9,\"AF8\")+COUNTIF(M9:AQ9,\"AF9\")+COUNTIF(M9:AQ9,\"AF10\")+COUNTIF(M9:AQ9,\"AF11\")+COUNTIF(M9:AQ9,\"AF12\")+COUNTIF(M9:AQ9,\"AF13\")+COUNTIF(M9:AQ9,\"AF14\")+COUNTIF(M9:AQ9,\"RC\")+COUNTIF(M9:AQ9,\"FO\")+COUNTIF(M9:AQ9,\"FE\"),\"\")","v":0}]
["Adriano  José  Barbosa",null,null,null,null,null,null,null,null,null,null,null,null,null,null,null,null,null,null,null,null,null,null,null,null,null,null,null,null,null,null,null,null,null,null,null,null,null,null,null,null,null,null,{"$f":"IF(#REF!<>\"\",IFERROR(VLOOKUP(#REF!,Tabelas!B:D,3,0),0),\"\")","v":{"$error":"#REF!"}},{"$f":"IF(#REF!<>\"\",IFERROR(VLOOKUP(#REF!,Tabelas!B:D,3,0),0),\"\")","v":{"$error":"#REF!"}},{"$f":"IF(#REF!<>\"\",IFERROR(VLOOKUP(#REF!,Tabelas!B:D,3,0),0),\"\")","v":{"$error":"#REF!"}},{"$f":"IF(#REF!<>\"\",IFERROR(VLOOKUP(#REF!,Tabelas!B:D,3,0),0),\"\")","v":{"$error":"#REF!"}},{"$f":"IF(#REF!<>\"\",IFERROR(VLOOKUP(#REF!,Tabelas!B:D,3,0),0),\"\")","v":{"$error":"#REF!"}},{"$f":"IF(#REF!<>\"\",IFERROR(VLOOKUP(#REF!,Tabelas!B:D,3,0),0),\"\")","v":{"$error":"#REF!"}},{"$f":"IF(#REF!<>\"\",IFERROR(VLOOKUP(#REF!,Tabelas!B:D,3,0),0),\"\")","v":{"$error":"#REF!"}},{"$f":"IF(#REF!<>\"\",IFERROR(VLOOKUP(#REF!,Tabelas!B:D,3,0),0),\"\")","v":{"$error":"#REF!"}},{"$f":"IF(#REF!<>\"\",IFERROR(VLOOKUP(#REF!,Tabelas!B:D,3,0),0),\"\")","v":{"$error":"#REF!"}},{"$f":"IF(#REF!<>\"\",IFERROR(VLOOKUP(#REF!,Tabelas!B:D,3,0),0),\"\")","v":{"$error":"#REF!"}},{"$f":"IF(#REF!<>\"\",IFERROR(VLOOKUP(#REF!,Tabelas!B:D,3,0),0),\"\")","v":{"$error":"#REF!"}},{"$f":"IF(#REF!<>\"\",IFERROR(VLOOKUP(#REF!,Tabelas!B:D,3,0),0),\"\")","v":{"$error":"#REF!"}},{"$f":"IF(#REF!<>\"\",IFERROR(VLOOKUP(#REF!,Tabelas!B:D,3,0),0),\"\")","v":{"$error":"#REF!"}},{"$f":"IF(#REF!<>\"\",IFERROR(VLOOKUP(#REF!,Tabelas!B:D,3,0),0),\"\")","v":{"$error":"#REF!"}},{"$f":"IF(#REF!<>\"\",IFERROR(VLOOKUP(#REF!,Tabelas!B:D,3,0),0),\"\")","v":{"$error":"#REF!"}},{"$f":"IF(#REF!<>\"\",IFERROR(VLOOKUP(#REF!,Tabelas!B:D,3,0),0),\"\")","v":{"$error":"#REF!"}},{"$f":"IF(#REF!<>\"\",IFERROR(VLOOKUP(#REF!,Tabelas!B:D,3,0),0),\"\")","v":{"$error":"#REF!"}},{"$f":"IF(#REF!<>\"\",IFERROR(VLOOKUP(#REF!,Tabelas!B:D,3,0),0),\"\")","v":{"$error":"#REF!"}},{"$f":"IF(#REF!<>\"\",IFERROR(VLOOKUP(#REF!,Tabelas!B:D,3,0),0),\"\")","v":{"$error":"#REF!"}},{"$f":"IF(#REF!<>\"\",IFERROR(VLOOKUP(#REF!,Tabelas!B:D,3,0),0),\"\")","v":{"$error":"#REF!"}},{"$f":"IF(#REF!<>\"\",IFERROR(VLOOKUP(#REF!,Tabelas!B:D,3,0),0),\"\")","v":{"$error":"#REF!"}},{"$f":"IF(#REF!<>\"\",IFERROR(VLOOKUP(#REF!,Tabelas!B:D,3,0),0),\"\")","v":{"$error":"#REF!"}},{"$f":"IF(#REF!<>\"\",IFERROR(VLOOKUP(#REF!,Tabelas!B:D,3,0),0),\"\")","v":{"$error":"#REF!"}},{"$f":"IF(#REF!<>\"\",IFERROR(VLOOKUP(#REF!,Tabelas!B:D,3,0),0),\"\")","v":{"$error":"#REF!"}},{"$f":"IF(#REF!<>\"\",IFERROR(VLOOKUP(#REF!,Tabelas!B:D,3,0),0),\"\")","v":{"$error":"#REF!"}},{"$f":"IF(#REF!<>\"\",IFERROR(VLOOKUP(#REF!,Tabelas!B:D,3,0),0),\"\")","v":{"$error":"#REF!"}},{"$f":"IF(#REF!<>\"\",IFERROR(VLOOKUP(#REF!,Tabelas!B:D,3,0),0),\"\")","v":{"$error":"#REF!"}},{"$f":"IF(#REF!<>\"\",IFERROR(VLOOKUP(#REF!,Tabelas!B:D,3,0),0),\"\")","v":{"$error":"#REF!"}},{"$f":"IF(#REF!<>\"\",IFERROR(VLOOKUP(#REF!,Tabelas!B:D,3,0),0),\"\")","v":{"$error":"#REF!"}},{"$f":"IF(#REF!<>\"\",IFERROR(VLOOKUP(#REF!,Tabelas!B:D,3,0),0),\"\")","v":{"$error":"#REF!"}},{"$f":"IF(#REF!<>\"\",IFERROR(VLOOKUP(#REF!,Tabelas!B:D,3,0),0),\"\")","v":{"$error":"#REF!"}},null,{"$f":"IF(#REF!<>\"\",COUNTIF(#REF!,\"LM\")+COUNTIF(#REF!,\"L\")+COUNTIF(#REF!,\"LP\"),\"\")","v":{"$error":"#REF!"}},{"$f":"IF(#REF!<>\"\",COUNTIF(#REF!,\"AB*\"),\"\")","v":{"$error":"#REF!"}},{"$f":"IF(#REF!<>\"\",COUNTIF(#REF!,\"FE\"),\"\")","v":{"$error":"#REF!"}},{"$f":"IF(#REF!<>\"\",COUNTIF(#REF!,\"LC\"),\"\")","v":{"$error":"#REF!"}},{"$f":"IF(#REF!<>\"\",COUNTIF(#REF!,\"CH*\"),\"\")","v":{"$error":"#REF!"}},{"$f":"IF(#REF!<>\"\",COUNTIF(#REF!,\"AF1\")+COUNTIF(#REF!,\"AF2\")+COUNTIF(#REF!,\"AF3\")+COUNTIF(#REF!,\"AF4\")+COUNTIF(#REF!,\"AF5\")+COUNTIF(#REF!,\"AF6\")+COUNTIF(#REF!,\"AF7\")+COUNTIF(#REF!,\"AF8\")+COUNTIF(#REF!,\"AF9\")+COUNTIF(#REF!,\"AF10\")+COUNTIF(#REF!,\"AF11\")+COUNTIF(#REF!,\"AF12\")+COUNTIF(#REF!,\"AF13\")+COUNTIF(#REF!,\"AF14\"),\"\")","v":{"$error":"#REF!"}},{"$f":"IF(#REF!<>\"\",COUNTIF(#REF!,\"CH*\")+COUNTIF(#REF!,\"L\")+COUNTIF(#REF!,\"LM\")+COUNTIF(#REF!,\"LP\")+COUNTIF(#REF!,\"LC\")+COUNTIF(#REF!,\"AB*\")+COUNTIF(#REF!,\"AF1\")+COUNTIF(#REF!,\"AF2\")+COUNTIF(#REF!,\"AF3\")+COUNTIF(#REF!,\"AF4\")+COUNTIF(#REF!,\"AF5\")+COUNTIF(#REF!,\"AF6\")+COUNTIF(#REF!,\"AF7\")+COUNTIF(#REF!,\"AF8\")+COUNTIF(#REF!,\"AF9\")+COUNTIF(#REF!,\"AF10\")+COUNTIF(#REF!,\"AF11\")+COUNTIF(#REF!,\"AF12\")+COUNTIF(#REF!,\"AF13\")+COUNTIF(#REF!,\"AF14\")+COUNTIF(#REF!,\"RC\")+COUNTIF(#REF!,\"FO\")+COUNTIF(#REF!,\"FE\"),\"\")","v":{"$error":"#REF!"}}]
["Rosilei da Silva da Rosa",null,null,null,null,null,null,null,null,null,null,null,null,null,null,null,null,null,null,null,null,null,null,null,null,null,null,null,null,null,null,null,null,null,null,null,null,null,null,null,null,null,null,{"$f":"IF(A11<>\"\",IFERROR(VLOOKUP(M11,Tabelas!B:D,3,0),0),\"\")","v":0},{"$f":"IF(A11<>\"\",IFERROR(VLOOKUP(N11,Tabelas!B:D,3,0),0),\"\")","v":0},{"$f":"IF(A11<>\"\",IFERROR(VLOOKUP(O11,Tabelas!B:D,3,0),0),\"\")","v":0},{"$f":"IF(A11<>\"\",IFERROR(VLOOKUP(P11,Tabelas!B:D,3,0),0),\"\")","v":0},{"$f":"IF(A11<>\"\",IFERROR(VLOOKUP(Q11,Tabelas!B:D,3,0),0),\"\")","v":0},{"$f":"IF(A11<>\"\",IFERROR(VLOOKUP(R11,Tabelas!B:D,3,0),0),\"\")","v":0},{"$f":"IF(A11<>\"\",IFERROR(VLOOKUP(S11,Tabelas!B:D,3,0),0),\"\")","v":0},{"$f":"IF(A11<>\"\",IFERROR(VLOOKUP(T11,Tabelas!B:D,3,0),0),\"\")","v":0},{"$f":"IF(A11<>\"\",IFERROR(VLOOKUP(U11,Tabelas!B:D,3,0),0),\"\")","v":0},{"$f":"IF(A11<>\"\",IFERROR(VLOOKUP(V11,Tabelas!B:D,3,0),0),\"\")","v":0},{"$f":"IF(A11<>\"\",IFERROR(VLOOKUP(W11,Tabelas!B:D,3,0),0),\"\")","v":0},{"$f":"IF(A11<>\"\",IFERROR(VLOOKUP(X11,Tabelas!B:D,3,0),0),\"\")","v":0},{"$f":"IF(A11<>\"\",IFERROR(VLOOKUP(Y11,Tabelas!B:D,3,0),0),\"\")","v":0},{"$f":"IF(A11<>\"\",IFERROR(VLOOKUP(Z11,Tabelas!B:D,3,0),0),\"\")","v":0},{"$f":"IF(A11<>\"\",IFERROR(VLOOKUP(AA11,Tabelas!B:D,3,0),0),\"\")","v":0},{"$f":"IF(A11<>\"\",IFERROR(VLOOKUP(AB11,Tabelas!B:D,3,0),0),\"\")","v":0},{"$f":"IF(A11<>\"\",IFERROR(VLOOKUP(AC11,Tabelas!B:D,3,0),0),\"\")","v":0},{"$f":"IF(A11<>\"\",IFERROR(VLOOKUP(AD11,Tabelas!B:D,3,0),0),\"\")","v":0},{"$f":"IF(A11<>\"\",IFERROR(VLOOKUP(AE11,Tabelas!B:D,3,0),0),\"\")","v":0},{"$f":"IF(A11<>\"\",IFERROR(VLOOKUP(AF11,Tabelas!B:D,3,0),0),\"\")","v":0},{"$f":"IF(A11<>\"\",IFERROR(VLOOKUP(AG11,Tabelas!B:D,3,0),0),\"\")","v":0},{"$f":"IF(A11<>\"\",IFERROR(VLOOKUP(AH11,Tabelas!B:D,3,0),0),\"\")","v":0},{"$f":"IF(A11<>\"\",IFERROR(VLOOKUP(AI11,Tabelas!B:D,3,0),0),\"\")","v":0},{"$f":"IF(A11<>\"\",IFERROR(VLOOKUP(AJ11,Tabelas!B:D,3,0),0),\"\")","v":0},{"$f":"IF(A11<>\"\",IFERROR(VLOOKUP(AK11,Tabelas!B:D,3,0),0),\"\")","v":0},{"$f":"IF(A11<>\"\",IFERROR(VLOOKUP(AL11,Tabelas!B:D,3,0),0),\"\")","v":0},{"$f":"IF(A11<>\"\",IFERROR(VLOOKUP(AM11,Tabelas!B:D,3,0),0),\"\")","v":0},{"$f":"IF(A11<>\"\",IFERROR(VLOOKUP(AN11,Tabelas!B:D,3,0),0),\"\")","v":0},{"$f":"IF(A11<>\"\",IFERROR(VLOOKUP(AO11,Tabelas!B:D,3,0),0),\"\")","v":0},{"$f":"IF(A11<>\"\",IFERROR(VLOOKUP(AP11,Tabelas!B:D,3,0),0),\"\")","v":0},{"$f":"IF(A11<>\"\",IFERROR(VLOOKUP(AQ11,Tabelas!B:D,3,0),0),\"\")","v":0},{"$f":"IF(AND(A11<>\"\",E11=\"Ebserh\"),SUM(AR11:BV11)+COUNTIF(M11:AQ11,\"N*\")+COUNTIF(M11:AQ11,\"DN*\"),IF(AND(A11<>\"\",E11<>\"Ebserh\"),SUM(AR11:BV11),\"\"))","v":0},{"$f":"IF(A11<>\"\",COUNTIF(M11:AQ11,\"LM\")+COUNTIF(M11:AQ11,\"L\")+COUNTIF(M11:AQ11,\"LP\"),\"\")","v":0},{"$f":"IF(A11<>\"\",COUNTIF(M11:AQ11,\"AB*\"),\"\")","v":0},{"$f":"IF(A11<>\"\",COUNTIF(M11:AQ11,\"FE\"),\"\")","v":0},{"$f":"IF(A11<>\"\",COUNTIF(M11:AQ11,\"LC\"),\"\")","v":0},{"$f":"IF(A11<>\"\",COUNTIF(M11:AQ11,\"CH*\"),\"\")","v":0},{"$f":"IF(A11<>\"\",COUNTIF(M11:AQ11,\"AF1\")+COUNTIF(M11:AQ11,\"AF2\")+COUNTIF(M11:AQ11,\"AF3\")+COUNTIF(M11:AQ11,\"AF4\")+COUNTIF(M11:AQ11,\"AF5\")+COUNTIF(M11:AQ11,\"AF6\")+COUNTIF(M11:AQ11,\"AF7\")+COUNTIF(M11:AQ11,\"AF8\")+COUNTIF(M11:AQ11,\"AF9\")+COUNTIF(M11:AQ11,\"AF10\")+COUNTIF(M11:AQ11,\"AF11\")+COUNTIF(M11:AQ11,\"AF12\")+COUNTIF(M11:AQ11,\"AF13\")+COUNTIF(M11:AQ11,\"AF14\"),\"\")","v":0},{"$f":"IF(A11<>\"\",COUNTIF(M11:AQ11,\"CH*\")+COUNTIF(M11:AQ11,\"L\")+COUNTIF(M11:AQ11,\"LM\")+COUNTIF(M11:AQ11,\"LP\")+COUNTIF(M11:AQ11,\"LC\")+COUNTIF(M11:AQ11,\"AB*\")+COUNTIF(M11:AQ11,\"AF1\")+COUNTIF(M11:AQ11,\"AF2\")+COUNTIF(M11:AQ11,\"AF3\")+COUNTIF(M11:AQ11,\"AF4\")+COUNTIF(M11:AQ11,\"AF5\")+COUNTIF(M11:AQ11,\"AF6\")+COUNTIF(M11:AQ11,\"AF7\")+COUNTIF(M11:AQ11,\"AF8\")+COUNTIF(M11:AQ11,\"AF9\")+COUNTIF(M11:AQ11,\"AF10\")+COUNTIF(M11:AQ11,\"AF11\")+COUNTIF(M11:AQ11,\"AF12\")+COUNTIF(M11:AQ11,\"AF13\")+COUNTIF(M11:AQ11,\"AF14\")+COUNTIF(M11:AQ11,\"RC\")+COUNTIF(M11:AQ11,\"FO\")+COUNTIF(M11:AQ11,\"FE\"),\"\")","v":0}]
["Letícia Cabral Domingos da Rosa",null,null,null,null,null,null,null,null,null,null,null,null,null,null,null,null,null,null,null,null,null,null,null,null,null,null,null,null,null,null,null,null,null,null,null,null,null,null,null,null,null,null,{"$f":"IF(A12<>\"\",IFERROR(VLOOKUP(M12,Tabelas!B:D,3,0),0),\"\")","v":0},{"$f":"IF(A12<>\"\",IFERROR(VLOOKUP(N12,Tabelas!B:D,3,0),0),\"\")","v":0},{"$f":"IF(A12<>\"\",IFERROR(VLOOKUP(O12,Tabelas!B:D,3,0),0),\"\")","v":0},{"$f":"IF(A12<>\"\",IFERROR(VLOOKUP(P12,Tabelas!B:D,3,0),0),\"\")","v":0},{"$f":"IF(A12<>\"\",IFERROR(VLOOKUP(Q12,Tabelas!B:D,3,0),0),\"\")","v":0},{"$f":"IF(A12<>\"\",IFERROR(VLOOKUP(R12,Tabelas!B:D,3,0),0),\"\")","v":0},{"$f":"IF(A12<>\"\",IFERROR(VLOOKUP(S12,Tabelas!B:D,3,0),0),\"\")","v":0},{"$f":"IF(A12<>\"\",IFERROR(VLOOKUP(T12,Tabelas!B:D,3,0),0),\"\")","v":0},{"$f":"IF(A12<>\"\",IFERROR(VLOOKUP(U12,Tabelas!B:D,3,0),0),\"\")","v":0},{"$f":"IF(A12<>\"\",IFERROR(VLOOKUP(V12,Tabelas!B:D,3,0),0),\"\")","v":0},{"$f":"IF(A12<>\"\",IFERROR(VLOOKUP(W12,Tabelas!B:D,3,0),0),\"\")","v":0},{"$f":"IF(A12<>\"\",IFERROR(VLOOKUP(X12,Tabelas!B:D,3,0),0),\"\")","v":0},{"$f":"IF(A12<>\"\",IFERROR(VLOOKUP(Y12,Tabelas!B:D,3,0),0),\"\")","v":0},{"$f":"IF(A12<>\"\",IFERROR(VLOOKUP(Z12,Tabelas!B:D,3,0),0),\"\")","v":0},{"$f":"IF(A12<>\"\",IFERROR(VLOOKUP(AA12,Tabelas!B:D,3,0),0),\"\")","v":0},{"$f":"IF(A12<>\"\",IFERROR(VLOOKUP(AB12,Tabelas!B:D,3,0),0),\"\")","v":0},{"$f":"IF(A12<>\"\",IFERROR(VLOOKUP(AC12,Tabelas!B:D,3,0),0),\"\")","v":0},{"$f":"IF(A12<>\"\",IFERROR(VLOOKUP(AD12,Tabelas!B:D,3,0),0),\"\")","v":0},{"$f":"IF(A12<>\"\",IFERROR(VLOOKUP(AE12,Tabelas!B:D,3,0),0),\"\")","v":0},{"$f":"IF(A12<>\"\",IFERROR(VLOOKUP(AF12,Tabelas!B:D,3,0),0),\"\")","v":0},{"$f":"IF(A12<>\"\",IFERROR(VLOOKUP(AG12,Tabelas!B:D,3,0),0),\"\")","v":0},{"$f":"IF(A12<>\"\",IFERROR(VLOOKUP(AH12,Tabelas!B:D,3,0),0),\"\")","v":0},{"$f":"IF(A12<>\"\",IFERROR(VLOOKUP(AI12,Tabelas!B:D,3,0),0),\"\")","v":0},{"$f":"IF(A12<>\"\",IFERROR(VLOOKUP(AJ12,Tabelas!B:D,3,0),0),\"\")","v":0},{"$f":"IF(A12<>\"\",IFERROR(VLOOKUP(AK12,Tabelas!B:D,3,0),0),\"\")","v":0},{"$f":"IF(A12<>\"\",IFERROR(VLOOKUP(AL12,Tabelas!B:D,3,0),0),\"\")","v":0},{"$f":"IF(A12<>\"\",IFERROR(VLOOKUP(AM12,Tabelas!B:D,3,0),0),\"\")","v":0},{"$f":"IF(A12<>\"\",IFERROR(VLOOKUP(AN12,Tabelas!B:D,3,0),0),\"\")","v":0},{"$f":"IF(A12<>\"\",IFERROR(VLOOKUP(AO12,Tabelas!B:D,3,0),0),\"\")","v":0},{"$f":"IF(A12<>\"\",IFERROR(VLOOKUP(AP12,Tabelas!B:D,3,0),0),\"\")","v":0},{"$f":"IF(A12<>\"\",IFERROR(VLOOKUP(AQ12,Tabelas!B:D,3,0),0),\"\")","v":0},0,0,0,0,0,0,0,0]
["Maria Aparecida V. Texeira",null,null,null,null,null,null,null,null,null,null,null,null,null,null,null,null,null,null,null,null,null,null,null,null,null,null,null,null,null,null,null,null,null,null,null,null,null,null,null,null,null,null,{"$f":"IF(A13<>\"\",IFERROR(VLOOKUP(M13,Tabelas!B:D,3,0),0),\"\")","v":0},{"$f":"IF(A13<>\"\",IFERROR(VLOOKUP(N13,Tabelas!B:D,3,0),0),\"\")","v":0},{"$f":"IF(A13<>\"\",IFERROR(VLOOKUP(O13,Tabelas!B:D,3,0),0),\"\")","v":0},{"$f":"IF(A13<>\"\",IFERROR(VLOOKUP(P13,Tabelas!B:D,3,0),0),\"\")","v":0},{"$f":"IF(A13<>\"\",IFERROR(VLOOKUP(Q13,Tabelas!B:D,3,0),0),\"\")","v":0},{"$f":"IF(A13<>\"\",IFERROR(VLOOKUP(R13,Tabelas!B:D,3,0),0),\"\")","v":0},{"$f":"IF(A13<>\"\",IFERROR(VLOOKUP(S13,Tabelas!B:D,3,0),0),\"\")","v":0},{"$f":"IF(A13<>\"\",IFERROR(VLOOKUP(T13,Tabelas!B:D,3,0),0),\"\")","v":0},{"$f":"IF(A13<>\"\",IFERROR(VLOOKUP(U13,Tabelas!B:D,3,0),0),\"\")","v":0},{"$f":"IF(A13<>\"\",IFERROR(VLOOKUP(V13,Tabelas!B:D,3,0),0),\"\")","v":0},{"$f":"IF(A13<>\"\",IFERROR(VLOOKUP(W13,Tabelas!B:D,3,0),0),\"\")","v":0},{"$f":"IF(A13<>\"\",IFERROR(VLOOKUP(X13,Tabelas!B:D,3,0),0),\"\")","v":0},{"$f":"IF(A13<>\"\",IFERROR(VLOOKUP(Y13,Tabelas!B:D,3,0),0),\"\")","v":0},{"$f":"IF(A13<>\"\",IFERROR(VLOOKUP(Z13,Tabelas!B:D,3,0),0),\"\")","v":0},{"$f":"IF(A13<>\"\",IFERROR(VLOOKUP(AA13,Tabelas!B:D,3,0),0),\"\")","v":0},{"$f":"IF(A13<>\"\",IFERROR(VLOOKUP(AB13,Tabelas!B:D,3,0),0),\"\")","v":0},{"$f":"IF(A13<>\"\",IFERROR(VLOOKUP(AC13,Tabelas!B:D,3,0),0),\"\")","v":0},{"$f":"IF(A13<>\"\",IFERROR(VLOOKUP(AD13,Tabelas!B:D,3,0),0),\"\")","v":0},{"$f":"IF(A13<>\"\",IFERROR(VLOOKUP(AE13,Tabelas!B:D,3,0),0),\"\")","v":0},{"$f":"IF(A13<>\"\",IFERROR(VLOOKUP(AF13,Tabelas!B:D,3,0),0),\"\")","v":0},{"$f":"IF(A13<>\"\",IFERROR(VLOOKUP(AG13,Tabelas!B:D,3,0),0),\"\")","v":0},{"$f":"IF(A13<>\"\",IFERROR(VLOOKUP(AH13,Tabelas!B:D,3,0),0),\"\")","v":0},{"$f":"IF(A13<>\"\",IFERROR(VLOOKUP(AI13,Tabelas!B:D,3,0),0),\"\")","v":0},{"$f":"IF(A13<>\"\",IFERROR(VLOOKUP(AJ13,Tabelas!B:D,3,0),0),\"\")","v":0},{"$f":"IF(A13<>\"\",IFERROR(VLOOKUP(AK13,Tabelas!B:D,3,0),0),\"\")","v":0},{"$f":"IF(A13<>\"\",IFERROR(VLOOKUP(AL13,Tabelas!B:D,3,0),0),\"\")","v":0},{"$f":"IF(A13<>\"\",IFERROR(VLOOKUP(AM13,Tabelas!B:D,3,0),0),\"\")","v":0},{"$f":"IF(A13<>\"\",IFERROR(VLOOKUP(AN13,Tabelas!B:D,3,0),0),\"\")","v":0},{"$f":"IF(A13<>\"\",IFERROR(VLOOKUP(AO13,Tabelas!B:D,3,0),0),\"\")","v":0},{"$f":"IF(A13<>\"\",IFERROR(VLOOKUP(AP13,Tabelas!B:D,3,0),0),\"\")","v":0},{"$f":"IF(A13<>\"\",IFERROR(VLOOKUP(AQ13,Tabelas!B:D,3,0),0),\"\")","v":0},0,0,0,0,0,0,0,0]
["Gleber Fabiano Pires Silveira",null,null,null,null,null,null,null,null,null,null,null,null,null,null,null,null,null,null,null,null,null,null,null,null,null,null,null,null,null,null,null,null,null,null,null,null,null,null,null,null,null,null,{"$f":"IF(A14<>\"\",IFERROR(VLOOKUP(M14,Tabelas!B:D,3,0),0),\"\")","v":0},{"$f":"IF(A14<>\"\",IFERROR(VLOOKUP(N14,Tabelas!B:D,3,0),0),\"\")","v":0},{"$f":"IF(A14<>\"\",IFERROR(VLOOKUP(O14,Tabelas!B:D,3,0),0),\"\")","v":0},{"$f":"IF(A14<>\"\",IFERROR(VLOOKUP(P14,Tabelas!B:D,3,0),0),\"\")","v":0},{"$f":"IF(A14<>\"\",IFERROR(VLOOKUP(Q14,Tabelas!B:D,3,0),0),\"\")","v":0},{"$f":"IF(A14<>\"\",IFERROR(VLOOKUP(R14,Tabelas!B:D,3,0),0),\"\")","v":0},{"$f":"IF(A14<>\"\",IFERROR(VLOOKUP(S14,Tabelas!B:D,3,0),0),\"\")","v":0},{"$f":"IF(A14<>\"\",IFERROR(VLOOKUP(T14,Tabelas!B:D,3,0),0),\"\")","v":0},{"$f":"IF(A14<>\"\",IFERROR(VLOOKUP(U14,Tabelas!B:D,3,0),0),\"\")","v":0},{"$f":"IF(A14<>\"\",IFERROR(VLOOKUP(V14,Tabelas!B:D,3,0),0),\"\")","v":0},{"$f":"IF(A14<>\"\",IFERROR(VLOOKUP(W14,Tabelas!B:D,3,0),0),\"\")","v":0},{"$f":"IF(A14<>\"\",IFERROR(VLOOKUP(X14,Tabelas!B:D,3,0),0),\"\")","v":0},{"$f":"IF(A14<>\"\",IFERROR(VLOOKUP(Y14,Tabelas!B:D,3,0),0),\"\")","v":0},{"$f":"IF(A14<>\"\",IFERROR(VLOOKUP(Z14,Tabelas!B:D,3,0),0),\"\")","v":0},{"$f":"IF(A14<>\"\",IFERROR(VLOOKUP(AA14,Tabelas!B:D,3,0),0),\"\")","v":0},{"$f":"IF(A14<>\"\",IFERROR(VLOOKUP(AB14,Tabelas!B:D,3,0),0),\"\")","v":0},{"$f":"IF(A14<>\"\",IFERROR(VLOOKUP(AC14,Tabelas!B:D,3,0),0),\"\")","v":0},{"$f":"IF(A14<>\"\",IFERROR(VLOOKUP(AD14,Tabelas!B:D,3,0),0),\"\")","v":0},{"$f":"IF(A14<>\"\",IFERROR(VLOOKUP(AE14,Tabelas!B:D,3,0),0),\"\")","v":0},{"$f":"IF(A14<>\"\",IFERROR(VLOOKUP(AF14,Tabelas!B:D,3,0),0),\"\")","v":0},{"$f":"IF(A14<>\"\",IFERROR(VLOOKUP(AG14,Tabelas!B:D,3,0),0),\"\")","v":0},{"$f":"IF(A14<>\"\",IFERROR(VLOOKUP(AH14,Tabelas!B:D,3,0),0),\"\")","v":0},{"$f":"IF(A14<>\"\",IFERROR(VLOOKUP(AI14,Tabelas!B:D,3,0),0),\"\")","v":0},{"$f":"IF(A14<>\"\",IFERROR(VLOOKUP(AJ14,Tabelas!B:D,3,0),0),\"\")","v":0},{"$f":"IF(A14<>\"\",IFERROR(VLOOKUP(AK14,Tabelas!B:D,3,0),0),\"\")","v":0},{"$f":"IF(A14<>\"\",IFERROR(VLOOKUP(AL14,Tabelas!B:D,3,0),0),\"\")","v":0},{"$f":"IF(A14<>\"\",IFERROR(VLOOKUP(AM14,Tabelas!B:D,3,0),0),\"\")","v":0},{"$f":"IF(A14<>\"\",IFERROR(VLOOKUP(AN14,Tabelas!B:D,3,0),0),\"\")","v":0},{"$f":"IF(A14<>\"\",IFERROR(VLOOKUP(AO14,Tabelas!B:D,3,0),0),\"\")","v":0},{"$f":"IF(A14<>\"\",IFERROR(VLOOKUP(AP14,Tabelas!B:D,3,0),0),\"\")","v":0},{"$f":"IF(A14<>\"\",IFERROR(VLOOKUP(AQ14,Tabelas!B:D,3,0),0),\"\")","v":0},0,0,0,0,0,0,0,0]
["Viviane ",null,null,null,null,null,null,null,null,null,null,null,null,null,null,null,null,null,null,null,null,null,null,null,null,null,null,null,null,null,null,null,null,null,null,null,null,null,null,null,null,null,null,{"$f":"IF(A15<>\"\",IFERROR(VLOOKUP(M15,Tabelas!B:D,3,0),0),\"\")","v":0},{"$f":"IF(A15<>\"\",IFERROR(VLOOKUP(N15,Tabelas!B:D,3,0),0),\"\")","v":0},{"$f":"IF(A15<>\"\",IFERROR(VLOOKUP(O15,Tabelas!B:D,3,0),0),\"\")","v":0},{"$f":"IF(A15<>\"\",IFERROR(VLOOKUP(P15,Tabelas!B:D,3,0),0),\"\")","v":0},{"$f":"IF(A15<>\"\",IFERROR(VLOOKUP(Q15,Tabelas!B:D,3,0),0),\"\")","v":0},{"$f":"IF(A15<>\"\",IFERROR(VLOOKUP(R15,Tabelas!B:D,3,0),0),\"\")","v":0},{"$f":"IF(A15<>\"\",IFERROR(VLOOKUP(S15,Tabelas!B:D,3,0),0),\"\")","v":0},{"$f":"IF(A15<>\"\",IFERROR(VLOOKUP(T15,Tabelas!B:D,3,0),0),\"\")","v":0},{"$f":"IF(A15<>\"\",IFERROR(VLOOKUP(U15,Tabelas!B:D,3,0),0),\"\")","v":0},{"$f":"IF(A15<>\"\",IFERROR(VLOOKUP(V15,Tabelas!B:D,3,0),0),\"\")","v":0},{"$f":"IF(A15<>\"\",IFERROR(VLOOKUP(W15,Tabelas!B:D,3,0),0),\"\")","v":0},{"$f":"IF(A15<>\"\",IFERROR(VLOOKUP(X15,Tabelas!B:D,3,0),0),\"\")","v":0},{"$f":"IF(A15<>\"\",IFERROR(VLOOKUP(Y15,Tabelas!B:D,3,0),0),\"\")","v":0},{"$f":"IF(A15<>\"\",IFERROR(VLOOKUP(Z15,Tabelas!B:D,3,0),0),\"\")","v":0},{"$f":"IF(A15<>\"\",IFERROR(VLOOKUP(AA15,Tabelas!B:D,3,0),0),\"\")","v":0},{"$f":"IF(A15<>\"\",IFERROR(VLOOKUP(AB15,Tabelas!B:D,3,0),0),\"\")","v":0},{"$f":"IF(A15<>\"\",IFERROR(VLOOKUP(AC15,Tabelas!B:D,3,0),0),\"\")","v":0},{"$f":"IF(A15<>\"\",IFERROR(VLOOKUP(AD15,Tabelas!B:D,3,0),0),\"\")","v":0},{"$f":"IF(A15<>\"\",IFERROR(VLOOKUP(AE15,Tabelas!B:D,3,0),0),\"\")","v":0},{"$f":"IF(A15<>\"\",IFERROR(VLOOKUP(AF15,Tabelas!B:D,3,0),0),\"\")","v":0},{"$f":"IF(A15<>\"\",IFERROR(VLOOKUP(AG15,Tabelas!B:D,3,0),0),\"\")","v":0},{"$f":"IF(A15<>\"\",IFERROR(VLOOKUP(AH15,Tabelas!B:D,3,0),0),\"\")","v":0},{"$f":"IF(A15<>\"\",IFERROR(VLOOKUP(AI15,Tabelas!B:D,3,0),0),\"\")","v":0},{"$f":"IF(A15<>\"\",IFERROR(VLOOKUP(AJ15,Tabelas!B:D,3,0),0),\"\")","v":0},{"$f":"IF(A15<>\"\",IFERROR(VLOOKUP(AK15,Tabelas!B:D,3,0),0),\"\")","v":0},{"$f":"IF(A15<>\"\",IFERROR(VLOOKUP(AL15,Tabelas!B:D,3,0),0),\"\")","v":0},{"$f":"IF(A15<>\"\",IFERROR(VLOOKUP(AM15,Tabelas!B:D,3,0),0),\"\")","v":0},{"$f":"IF(A15<>\"\",IFERROR(VLOOKUP(AN15,Tabelas!B:D,3,0),0),\"\")","v":0},{"$f":"IF(A15<>\"\",IFERROR(VLOOKUP(AO15,Tabelas!B:D,3,0),0),\"\")","v":0},{"$f":"IF(A15<>\"\",IFERROR(VLOOKUP(AP15,Tabelas!B:D,3,0),0),\"\")","v":0},{"$f":"IF(A15<>\"\",IFERROR(VLOOKUP(AQ15,Tabelas!B:D,3,0),0),\"\")","v":0},0,0,0,0,0,0,0,0]
["Enf. Noite",null,null,null,null,null,null,null,null,null,null,null,null,null,null,null,null,null,null,null,null,null,null,null,null,null,null,null,null,null,null,null,null,null,null,null,null,null,null,null,null,null,null,{"$f":"IF(A16<>\"\",IFERROR(VLOOKUP(M16,Tabelas!B:D,3,0),0),\"\")","v":0},{"$f":"IF(A16<>\"\",IFERROR(VLOOKUP(N16,Tabelas!B:D,3,0),0),\"\")","v":0},{"$f":"IF(A16<>\"\",IFERROR(VLOOKUP(O16,Tabelas!B:D,3,0),0),\"\")","v":0},{"$f":"IF(A16<>\"\",IFERROR(VLOOKUP(P16,Tabelas!B:D,3,0),0),\"\")","v":0},{"$f":"IF(A16<>\"\",IFERROR(VLOOKUP(Q16,Tabelas!B:D,3,0),0),\"\")","v":0},{"$f":"IF(A16<>\"\",IFERROR(VLOOKUP(R16,Tabelas!B:D,3,0),0),\"\")","v":0},{"$f":"IF(A16<>\"\",IFERROR(VLOOKUP(S16,Tabelas!B:D,3,0),0),\"\")","v":0},{"$f":"IF(A16<>\"\",IFERROR(VLOOKUP(T16,Tabelas!B:D,3,0),0),\"\")","v":0},{"$f":"IF(A16<>\"\",IFERROR(VLOOKUP(U16,Tabelas!B:D,3,0),0),\"\")","v":0},{"$f":"IF(A16<>\"\",IFERROR(VLOOKUP(V16,Tabelas!B:D,3,0),0),\"\")","v":0},{"$f":"IF(A16<>\"\",IFERROR(VLOOKUP(W16,Tabelas!B:D,3,0),0),\"\")","v":0},{"$f":"IF(A16<>\"\",IFERROR(VLOOKUP(X16,Tabelas!B:D,3,0),0),\"\")","v":0},{"$f":"IF(A16<>\"\",IFERROR(VLOOKUP(Y16,Tabelas!B:D,3,0),0),\"\")","v":0},{"$f":"IF(A16<>\"\",IFERROR(VLOOKUP(Z16,Tabelas!B:D,3,0),0),\"\")","v":0},{"$f":"IF(A16<>\"\",IFERROR(VLOOKUP(AA16,Tabelas!B:D,3,0),0),\"\")","v":0},{"$f":"IF(A16<>\"\",IFERROR(VLOOKUP(AB16,Tabelas!B:D,3,0),0),\"\")","v":0},{"$f":"IF(A16<>\"\",IFERROR(VLOOKUP(AC16,Tabelas!B:D,3,0),0),\"\")","v":0},{"$f":"IF(A16<>\"\",IFERROR(VLOOKUP(AD16,Tabelas!B:D,3,0),0),\"\")","v":0},{"$f":"IF(A16<>\"\",IFERROR(VLOOKUP(AE16,Tabelas!B:D,3,0),0),\"\")","v":0},{"$f":"IF(A16<>\"\",IFERROR(VLOOKUP(AF16,Tabelas!B:D,3,0),0),\"\")","v":0},{"$f":"IF(A16<>\"\",IFERROR(VLOOKUP(AG16,Tabelas!B:D,3,0),0),\"\")","v":0},{"$f":"IF(A16<>\"\",IFERROR(VLOOKUP(AH16,Tabelas!B:D,3,0),0),\"\")","v":0},{"$f":"IF(A16<>\"\",IFERROR(VLOOKUP(AI16,Tabelas!B:D,3,0),0),\"\")","v":0},{"$f":"IF(A16<>\"\",IFERROR(VLOOKUP(AJ16,Tabelas!B:D,3,0),0),\"\")","v":0},{"$f":"IF(A16<>\"\",IFERROR(VLOOKUP(AK16,Tabelas!B:D,3,0),0),\"\")","v":0},{"$f":"IF(A16<>\"\",IFERROR(VLOOKUP(AL16,Tabelas!B:D,3,0),0),\"\")","v":0},{"$f":"IF(A16<>\"\",IFERROR(VLOOKUP(AM16,Tabelas!B:D,3,0),0),\"\")","v":0},{"$f":"IF(A16<>\"\",IFERROR(VLOOKUP(AN16,Tabelas!B:D,3,0),0),\"\")","v":0},{"$f":"IF(A16<>\"\",IFERROR(VLOOKUP(AO16,Tabelas!B:D,3,0),0),\"\")","v":0},{"$f":"IF(A16<>\"\",IFERROR(VLOOKUP(AP16,Tabelas!B:D,3,0),0),\"\")","v":0},{"$f":"IF(A16<>\"\",IFERROR(VLOOKUP(AQ16,Tabelas!B:D,3,0),0),\"\")","v":0},0,0,0,0,0,0,0,0]
["Isabela Ubaldo Lowen",null,null,null,null,null,null,null,null,null,null,null,null,null,null,null,null,null,null,null,null,null,null,null,null,null,null,null,null,null,null,null,null,null,null,null,null,null,null,null,null,null,null,{"$f":"IF(A17<>\"\",IFERROR(VLOOKUP(M17,Tabelas!B:D,3,0),0),\"\")","v":0},{"$f":"IF(A17<>\"\",IFERROR(VLOOKUP(N17,Tabelas!B:D,3,0),0),\"\")","v":0},{"$f":"IF(A17<>\"\",IFERROR(VLOOKUP(O17,Tabelas!B:D,3,0),0),\"\")","v":0},{"$f":"IF(A17<>\"\",IFERROR(VLOOKUP(P17,Tabelas!B:D,3,0),0),\"\")","v":0},{"$f":"IF(A17<>\"\",IFERROR(VLOOKUP(Q17,Tabelas!B:D,3,0),0),\"\")","v":0},{"$f":"IF(A17<>\"\",IFERROR(VLOOKUP(R17,Tabelas!B:D,3,0),0),\"\")","v":0},{"$f":"IF(A17<>\"\",IFERROR(VLOOKUP(S17,Tabelas!B:D,3,0),0),\"\")","v":0},{"$f":"IF(A17<>\"\",IFERROR(VLOOKUP(T17,Tabelas!B:D,3,0),0),\"\")","v":0},{"$f":"IF(A17<>\"\",IFERROR(VLOOKUP(U17,Tabelas!B:D,3,0),0),\"\")","v":0},{"$f":"IF(A17<>\"\",IFERROR(VLOOKUP(V17,Tabelas!B:D,3,0),0),\"\")","v":0},{"$f":"IF(A17<>\"\",IFERROR(VLOOKUP(W17,Tabelas!B:D,3,0),0),\"\")","v":0},{"$f":"IF(A17<>\"\",IFERROR(VLOOKUP(X17,Tabelas!B:D,3,0),0),\"\")","v":0},{"$f":"IF(A17<>\"\",IFERROR(VLOOKUP(Y17,Tabelas!B:D,3,0),0),\"\")","v":0},{"$f":"IF(A17<>\"\",IFERROR(VLOOKUP(Z17,Tabelas!B:D,3,0),0),\"\")","v":0},{"$f":"IF(A17<>\"\",IFERROR(VLOOKUP(AA17,Tabelas!B:D,3,0),0),\"\")","v":0},{"$f":"IF(A17<>\"\",IFERROR(VLOOKUP(AB17,Tabelas!B:D,3,0),0),\"\")","v":0},{"$f":"IF(A17<>\"\",IFERROR(VLOOKUP(AC17,Tabelas!B:D,3,0),0),\"\")","v":0},{"$f":"IF(A17<>\"\",IFERROR(VLOOKUP(AD17,Tabelas!B:D,3,0),0),\"\")","v":0},{"$f":"IF(A17<>\"\",IFERROR(VLOOKUP(AE17,Tabelas!B:D,3,0),0),\"\")","v":0},{"$f":"IF(A17<>\"\",IFERROR(VLOOKUP(AF17,Tabelas!B:D,3,0),0),\"\")","v":0},{"$f":"IF(A17<>\"\",IFERROR(VLOOKUP(AG17,Tabelas!B:D,3,0),0),\"\")","v":0},{"$f":"IF(A17<>\"\",IFERROR(VLOOKUP(AH17,Tabelas!B:D,3,0),0),\"\")","v":0},{"$f":"IF(A17<>\"\",IFERROR(VLOOKUP(AI17,Tabelas!B:D,3,0),0),\"\")","v":0},{"$f":"IF(A17<>\"\",IFERROR(VLOOKUP(AJ17,Tabelas!B:D,3,0),0),\"\")","v":0},{"$f":"IF(A17<>\"\",IFERROR(VLOOKUP(AK17,Tabelas!B:D,3,0),0),\"\")","v":0},{"$f":"IF(A17<>\"\",IFERROR(VLOOKUP(AL17,Tabelas!B:D,3,0),0),\"\")","v":0},{"$f":"IF(A17<>\"\",IFERROR(VLOOKUP(AM17,Tabelas!B:D,3,0),0),\"\")","v":0},{"$f":"IF(A17<>\"\",IFERROR(VLOOKUP(AN17,Tabelas!B:D,3,0),0),\"\")","v":0},{"$f":"IF(A17<>\"\",IFERROR(VLOOKUP(AO17,Tabelas!B:D,3,0),0),\"\")","v":0},{"$f":"IF(A17<>\"\",IFERROR(VLOOKUP(AP17,Tabelas!B:D,3,0),0),\"\")","v":0},{"$f":"IF(A17<>\"\",IFERROR(VLOOKUP(AQ17,Tabelas!B:D,3,0),0),\"\")","v":0},0,0,0,0,0,0,0,0]
["Jenifer Regina Crispim",null,null,null,null,null,null,null,null,null,null,null,null,null,null,null,null,null,null,null,null,null,null,null,null,null,null,null,null,null,null,null,null,null,null,null,null,null,null,null,null,null,null,{"$f":"IF(A18<>\"\",IFERROR(VLOOKUP(M18,Tabelas!B:D,3,0),0),\"\")","v":0},{"$f":"IF(A18<>\"\",IFERROR(VLOOKUP(N18,Tabelas!B:D,3,0),0),\"\")","v":0},{"$f":"IF(A18<>\"\",IFERROR(VLOOKUP(O18,Tabelas!B:D,3,0),0),\"\")","v":0},{"$f":"IF(A18<>\"\",IFERROR(VLOOKUP(P18,Tabelas!B:D,3,0),0),\"\")","v":0},{"$f":"IF(A18<>\"\",IFERROR(VLOOKUP(Q18,Tabelas!B:D,3,0),0),\"\")","v":0},{"$f":"IF(A18<>\"\",IFERROR(VLOOKUP(R18,Tabelas!B:D,3,0),0),\"\")","v":0},{"$f":"IF(A18<>\"\",IFERROR(VLOOKUP(S18,Tabelas!B:D,3,0),0),\"\")","v":0},{"$f":"IF(A18<>\"\",IFERROR(VLOOKUP(T18,Tabelas!B:D,3,0),0),\"\")","v":0},{"$f":"IF(A18<>\"\",IFERROR(VLOOKUP(U18,Tabelas!B:D,3,0),0),\"\")","v":0},{"$f":"IF(A18<>\"\",IFERROR(VLOOKUP(V18,Tabelas!B:D,3,0),0),\"\")","v":0},{"$f":"IF(A18<>\"\",IFERROR(VLOOKUP(W18,Tabelas!B:D,3,0),0),\"\")","v":0},{"$f":"IF(A18<>\"\",IFERROR(VLOOKUP(X18,Tabelas!B:D,3,0),0),\"\")","v":0},{"$f":"IF(A18<>\"\",IFERROR(VLOOKUP(Y18,Tabelas!B:D,3,0),0),\"\")","v":0},{"$f":"IF(A18<>\"\",IFERROR(VLOOKUP(Z18,Tabelas!B:D,3,0),0),\"\")","v":0},{"$f":"IF(A18<>\"\",IFERROR(VLOOKUP(AA18,Tabelas!B:D,3,0),0),\"\")","v":0},{"$f":"IF(A18<>\"\",IFERROR(VLOOKUP(AB18,Tabelas!B:D,3,0),0),\"\")","v":0},{"$f":"IF(A18<>\"\",IFERROR(VLOOKUP(AC18,Tabelas!B:D,3,0),0),\"\")","v":0},{"$f":"IF(A18<>\"\",IFERROR(VLOOKUP(AD18,Tabelas!B:D,3,0),0),\"\")","v":0},{"$f":"IF(A18<>\"\",IFERROR(VLOOKUP(AE18,Tabelas!B:D,3,0),0),\"\")","v":0},{"$f":"IF(A18<>\"\",IFERROR(VLOOKUP(AF18,Tabelas!B:D,3,0),0),\"\")","v":0},{"$f":"IF(A18<>\"\",IFERROR(VLOOKUP(AG18,Tabelas!B:D,3,0),0),\"\")","v":0},{"$f":"IF(A18<>\"\",IFERROR(VLOOKUP(AH18,Tabelas!B:D,3,0),0),\"\")","v":0},{"$f":"IF(A18<>\"\",IFERROR(VLOOKUP(AI18,Tabelas!B:D,3,0),0),\"\")","v":0},{"$f":"IF(A18<>\"\",IFERROR(VLOOKUP(AJ18,Tabelas!B:D,3,0),0),\"\")","v":0},{"$f":"IF(A18<>\"\",IFERROR(VLOOKUP(AK18,Tabelas!B:D,3,0),0),\"\")","v":0},{"$f":"IF(A18<>\"\",IFERROR(VLOOKUP(AL18,Tabelas!B:D,3,0),0),\"\")","v":0},{"$f":"IF(A18<>\"\",IFERROR(VLOOKUP(AM18,Tabelas!B:D,3,0),0),\"\")","v":0},{"$f":"IF(A18<>\"\",IFERROR(VLOOKUP(AN18,Tabelas!B:D,3,0),0),\"\")","v":0},{"$f":"IF(A18<>\"\",IFERROR(VLOOKUP(AO18,Tabelas!B:D,3,0),0),\"\")","v":0},{"$f":"IF(A18<>\"\",IFERROR(VLOOKUP(AP18,Tabelas!B:D,3,0),0),\"\")","v":0},{"$f":"IF(A18<>\"\",IFERROR(VLOOKUP(AQ18,Tabelas!B:D,3,0),0),\"\")","v":0},0,0,0,0,0,0,0,0]
["Zélma Gulart de Lima",null,null,null,null,null,null,null,null,null,null,null,null,null,null,null,null,null,null,null,null,null,null,null,null,null,null,null,null,null,null,null,null,null,null,null,null,null,null,null,null,null,null,{"$f":"IF(A19<>\"\",IFERROR(VLOOKUP(M19,Tabelas!B:D,3,0),0),\"\")","v":0},{"$f":"IF(A19<>\"\",IFERROR(VLOOKUP(N19,Tabelas!B:D,3,0),0),\"\")","v":0},{"$f":"IF(A19<>\"\",IFERROR(VLOOKUP(O19,Tabelas!B:D,3,0),0),\"\")","v":0},{"$f":"IF(A19<>\"\",IFERROR(VLOOKUP(P19,Tabelas!B:D,3,0),0),\"\")","v":0},{"$f":"IF(A19<>\"\",IFERROR(VLOOKUP(Q19,Tabelas!B:D,3,0),0),\"\")","v":0},{"$f":"IF(A19<>\"\",IFERROR(VLOOKUP(R19,Tabelas!B:D,3,0),0),\"\")","v":0},{"$f":"IF(A19<>\"\",IFERROR(VLOOKUP(S19,Tabelas!B:D,3,0),0),\"\")","v":0},{"$f":"IF(A19<>\"\",IFERROR(VLOOKUP(T19,Tabelas!B:D,3,0),0),\"\")","v":0},{"$f":"IF(A19<>\"\",IFERROR(VLOOKUP(U19,Tabelas!B:D,3,0),0),\"\")","v":0},{"$f":"IF(A19<>\"\",IFERROR(VLOOKUP(V19,Tabelas!B:D,3,0),0),\"\")","v":0},{"$f":"IF(A19<>\"\",IFERROR(VLOOKUP(W19,Tabelas!B:D,3,0),0),\"\")","v":0},{"$f":"IF(A19<>\"\",IFERROR(VLOOKUP(X19,Tabelas!B:D,3,0),0),\"\")","v":0},{"$f":"IF(A19<>\"\",IFERROR(VLOOKUP(Y19,Tabelas!B:D,3,0),0),\"\")","v":0},{"$f":"IF(A19<>\"\",IFERROR(VLOOKUP(Z19,Tabelas!B:D,3,0),0),\"\")","v":0},{"$f":"IF(A19<>\"\",IFERROR(VLOOKUP(AA19,Tabelas!B:D,3,0),0),\"\")","v":0},{"$f":"IF(A19<>\"\",IFERROR(VLOOKUP(AB19,Tabelas!B:D,3,0),0),\"\")","v":0},{"$f":"IF(A19<>\"\",IFERROR(VLOOKUP(AC19,Tabelas!B:D,3,0),0),\"\")","v":0},{"$f":"IF(A19<>\"\",IFERROR(VLOOKUP(AD19,Tabelas!B:D,3,0),0),\"\")","v":0},{"$f":"IF(A19<>\"\",IFERROR(VLOOKUP(AE19,Tabelas!B:D,3,0),0),\"\")","v":0},{"$f":"IF(A19<>\"\",IFERROR(VLOOKUP(AF19,Tabelas!B:D,3,0),0),\"\")","v":0},{"$f":"IF(A19<>\"\",IFERROR(VLOOKUP(AG19,Tabelas!B:D,3,0),0),\"\")","v":0},{"$f":"IF(A19<>\"\",IFERROR(VLOOKUP(AH19,Tabelas!B:D,3,0),0),\"\")","v":0},{"$f":"IF(A19<>\"\",IFERROR(VLOOKUP(AI19,Tabelas!B:D,3,0),0),\"\")","v":0},{"$f":"IF(A19<>\"\",IFERROR(VLOOKUP(AJ19,Tabelas!B:D,3,0),0),\"\")","v":0},{"$f":"IF(A19<>\"\",IFERROR(VLOOKUP(AK19,Tabelas!B:D,3,0),0),\"\")","v":0},{"$f":"IF(A19<>\"\",IFERROR(VLOOKUP(AL19,Tabelas!B:D,3,0),0),\"\")","v":0},{"$f":"IF(A19<>\"\",IFERROR(VLOOKUP(AM19,Tabelas!B:D,3,0),0),\"\")","v":0},{"$f":"IF(A19<>\"\",IFERROR(VLOOKUP(AN19,Tabelas!B:D,3,0),0),\"\")","v":0},{"$f":"IF(A19<>\"\",IFERROR(VLOOKUP(AO19,Tabelas!B:D,3,0),0),\"\")","v":0},{"$f":"IF(A19<>\"\",IFERROR(VLOOKUP(AP19,Tabelas!B:D,3,0),0),\"\")","v":0},{"$f":"IF(A19<>\"\",IFERROR(VLOOKUP(AQ19,Tabelas!B:D,3,0),0),\"\")","v":0},0,0,0,0,0,0,0,0]
["T. Enf. Diurno",null,null,null,null,null,null,null,null,null,null,null,null,null,null,null,null,null,null,null,null,null,null,null,null,null,null,null,null,null,null,null,null,null,null,null,null,null,null,null,null,null,null,{"$f":"IF(A20<>\"\",IFERROR(VLOOKUP(M20,Tabelas!B:D,3,0),0),\"\")","v":0},{"$f":"IF(A20<>\"\",IFERROR(VLOOKUP(N20,Tabelas!B:D,3,0),0),\"\")","v":0},{"$f":"IF(A20<>\"\",IFERROR(VLOOKUP(O20,Tabelas!B:D,3,0),0),\"\")","v":0},{"$f":"IF(A20<>\"\",IFERROR(VLOOKUP(P20,Tabelas!B:D,3,0),0),\"\")","v":0},{"$f":"IF(A20<>\"\",IFERROR(VLOOKUP(Q20,Tabelas!B:D,3,0),0),\"\")","v":0},{"$f":"IF(A20<>\"\",IFERROR(VLOOKUP(R20,Tabelas!B:D,3,0),0),\"\")","v":0},{"$f":"IF(A20<>\"\",IFERROR(VLOOKUP(S20,Tabelas!B:D,3,0),0),\"\")","v":0},{"$f":"IF(A20<>\"\",IFERROR(VLOOKUP(T20,Tabelas!B:D,3,0),0),\"\")","v":0},{"$f":"IF(A20<>\"\",IFERROR(VLOOKUP(U20,Tabelas!B:D,3,0),0),\"\")","v":0},{"$f":"IF(A20<>\"\",IFERROR(VLOOKUP(V20,Tabelas!B:D,3,0),0),\"\")","v":0},{"$f":"IF(A20<>\"\",IFERROR(VLOOKUP(W20,Tabelas!B:D,3,0),0),\"\")","v":0},{"$f":"IF(A20<>\"\",IFERROR(VLOOKUP(X20,Tabelas!B:D,3,0),0),\"\")","v":0},{"$f":"IF(A20<>\"\",IFERROR(VLOOKUP(Y20,Tabelas!B:D,3,0),0),\"\")","v":0},{"$f":"IF(A20<>\"\",IFERROR(VLOOKUP(Z20,Tabelas!B:D,3,0),0),\"\")","v":0},{"$f":"IF(A20<>\"\",IFERROR(VLOOKUP(AA20,Tabelas!B:D,3,0),0),\"\")","v":0},{"$f":"IF(A20<>\"\",IFERROR(VLOOKUP(AB20,Tabelas!B:D,3,0),0),\"\")","v":0},{"$f":"IF(A20<>\"\",IFERROR(VLOOKUP(AC20,Tabelas!B:D,3,0),0),\"\")","v":0},{"$f":"IF(A20<>\"\",IFERROR(VLOOKUP(AD20,Tabelas!B:D,3,0),0),\"\")","v":0},{"$f":"IF(A20<>\"\",IFERROR(VLOOKUP(AE20,Tabelas!B:D,3,0),0),\"\")","v":0},{"$f":"IF(A20<>\"\",IFERROR(VLOOKUP(AF20,Tabelas!B:D,3,0),0),\"\")","v":0},{"$f":"IF(A20<>\"\",IFERROR(VLOOKUP(AG20,Tabelas!B:D,3,0),0),\"\")","v":0},{"$f":"IF(A20<>\"\",IFERROR(VLOOKUP(AH20,Tabelas!B:D,3,0),0),\"\")","v":0},{"$f":"IF(A20<>\"\",IFERROR(VLOOKUP(AI20,Tabelas!B:D,3,0),0),\"\")","v":0},{"$f":"IF(A20<>\"\",IFERROR(VLOOKUP(AJ20,Tabelas!B:D,3,0),0),\"\")","v":0},{"$f":"IF(A20<>\"\",IFERROR(VLOOKUP(AK20,Tabelas!B:D,3,0),0),\"\")","v":0},{"$f":"IF(A20<>\"\",IFERROR(VLOOKUP(AL20,Tabelas!B:D,3,0),0),\"\")","v":0},{"$f":"IF(A20<>\"\",IFERROR(VLOOKUP(AM20,Tabelas!B:D,3,0),0),\"\")","v":0},{"$f":"IF(A20<>\"\",IFERROR(VLOOKUP(AN20,Tabelas!B:D,3,0),0),\"\")","v":0},{"$f":"IF(A20<>\"\",IFERROR(VLOOKUP(AO20,Tabelas!B:D,3,0),0),\"\")","v":0},{"$f":"IF(A20<>\"\",IFERROR(VLOOKUP(AP20,Tabelas!B:D,3,0),0),\"\")","v":0},{"$f":"IF(A20<>\"\",IFERROR(VLOOKUP(AQ20,Tabelas!B:D,3,0),0),\"\")","v":0},0,0,0,0,0,0,0,0]
["Ariane Silva dos Santos Ludvig",null,null,null,null,null,null,null,null,null,null,null,null,null,null,null,null,null,null,null,null,null,null,null,null,null,null,null,null,null,null,null,null,null,null,null,null,null,null,null,null,null,null,{"$f":"IF(#REF!<>\"\",IFERROR(VLOOKUP(M21,Tabelas!B:D,3,0),0),\"\")","v":{"$error":"#REF!"}},{"$f":"IF(#REF!<>\"\",IFERROR(VLOOKUP(N21,Tabelas!B:D,3,0),0),\"\")","v":{"$error":"#REF!"}},{"$f":"IF(#REF!<>\"\",IFERROR(VLOOKUP(O21,Tabelas!B:D,3,0),0),\"\")","v":{"$error":"#REF!"}},{"$f":"IF(#REF!<>\"\",IFERROR(VLOOKUP(P21,Tabelas!B:D,3,0),0),\"\")","v":{"$error":"#REF!"}},{"$f":"IF(#REF!<>\"\",IFERROR(VLOOKUP(Q21,Tabelas!B:D,3,0),0),\"\")","v":{"$error":"#REF!"}},{"$f":"IF(#REF!<>\"\",IFERROR(VLOOKUP(R21,Tabelas!B:D,3,0),0),\"\")","v":{"$error":"#REF!"}},{"$f":"IF(#REF!<>\"\",IFERROR(VLOOKUP(S21,Tabelas!B:D,3,0),0),\"\")","v":{"$error":"#REF!"}},{"$f":"IF(#REF!<>\"\",IFERROR(VLOOKUP(T21,Tabelas!B:D,3,0),0),\"\")","v":{"$error":"#REF!"}},{"$f":"IF(#REF!<>\"\",IFERROR(VLOOKUP(U21,Tabelas!B:D,3,0),0),\"\")","v":{"$error":"#REF!"}},{"$f":"IF(#REF!<>\"\",IFERROR(VLOOKUP(V21,Tabelas!B:D,3,0),0),\"\")","v":{"$error":"#REF!"}},{"$f":"IF(#REF!<>\"\",IFERROR(VLOOKUP(W21,Tabelas!B:D,3,0),0),\"\")","v":{"$error":"#REF!"}},{"$f":"IF(#REF!<>\"\",IFERROR(VLOOKUP(X21,Tabelas!B:D,3,0),0),\"\")","v":{"$error":"#REF!"}},{"$f":"IF(#REF!<>\"\",IFERROR(VLOOKUP(Y21,Tabelas!B:D,3,0),0),\"\")","v":{"$error":"#REF!"}},{"$f":"IF(#REF!<>\"\",IFERROR(VLOOKUP(Z21,Tabelas!B:D,3,0),0),\"\")","v":{"$error":"#REF!"}},{"$f":"IF(#REF!<>\"\",IFERROR(VLOOKUP(AA21,Tabelas!B:D,3,0),0),\"\")","v":{"$error":"#REF!"}},{"$f":"IF(#REF!<>\"\",IFERROR(VLOOKUP(AB21,Tabelas!B:D,3,0),0),\"\")","v":{"$error":"#REF!"}},{"$f":"IF(#REF!<>\"\",IFERROR(VLOOKUP(AC21,Tabelas!B:D,3,0),0),\"\")","v":{"$error":"#REF!"}},{"$f":"IF(#REF!<>\"\",IFERROR(VLOOKUP(AD21,Tabelas!B:D,3,0),0),\"\")","v":{"$error":"#REF!"}},{"$f":"IF(#REF!<>\"\",IFERROR(VLOOKUP(AE21,Tabelas!B:D,3,0),0),\"\")","v":{"$error":"#REF!"}},{"$f":"IF(#REF!<>\"\",IFERROR(VLOOKUP(AF21,Tabelas!B:D,3,0),0),\"\")","v":{"$error":"#REF!"}},{"$f":"IF(#REF!<>\"\",IFERROR(VLOOKUP(AG21,Tabelas!B:D,3,0),0),\"\")","v":{"$error":"#REF!"}},{"$f":"IF(#REF!<>\"\",IFERROR(VLOOKUP(AH21,Tabelas!B:D,3,0),0),\"\")","v":{"$error":"#REF!"}},{"$f":"IF(#REF!<>\"\",IFERROR(VLOOKUP(AI21,Tabelas!B:D,3,0),0),\"\")","v":{"$error":"#REF!"}},{"$f":"IF(#REF!<>\"\",IFERROR(VLOOKUP(AJ21,Tabelas!B:D,3,0),0),\"\")","v":{"$error":"#REF!"}},{"$f":"IF(#REF!<>\"\",IFERROR(VLOOKUP(AK21,Tabelas!B:D,3,0),0),\"\")","v":{"$error":"#REF!"}},{"$f":"IF(#REF!<>\"\",IFERROR(VLOOKUP(AL21,Tabelas!B:D,3,0),0),\"\")","v":{"$error":"#REF!"}},{"$f":"IF(#REF!<>\"\",IFERROR(VLOOKUP(AM21,Tabelas!B:D,3,0),0),\"\")","v":{"$error":"#REF!"}},{"$f":"IF(#REF!<>\"\",IFERROR(VLOOKUP(AN21,Tabelas!B:D,3,0),0),\"\")","v":{"$error":"#REF!"}},{"$f":"IF(#REF!<>\"\",IFERROR(VLOOKUP(AO21,Tabelas!B:D,3,0),0),\"\")","v":{"$error":"#REF!"}},{"$f":"IF(#REF!<>\"\",IFERROR(VLOOKUP(AP21,Tabelas!B:D,3,0),0),\"\")","v":{"$error":"#REF!"}},{"$f":"IF(#REF!<>\"\",IFERROR(VLOOKUP(AQ21,Tabelas!B:D,3,0),0),\"\")","v":{"$error":"#REF!"}},{"$f":"IF(AND(#REF!<>\"\",E21=\"Ebserh\"),SUM(AR21:BV21)+COUNTIF(M21:AQ21,\"N*\")+COUNTIF(M21:AQ21,\"DN*\"),IF(AND(#REF!<>\"\",E21<>\"Ebserh\"),SUM(AR21:BV21),\"\"))","v":{"$error":"#REF!"}},{"$f":"IF(#REF!<>\"\",COUNTIF(M21:AQ21,\"LM\")+COUNTIF(M21:AQ21,\"L\")+COUNTIF(M21:AQ21,\"LP\"),\"\")","v":{"$error":"#REF!"}},{"$f":"IF(#REF!<>\"\",COUNTIF(M21:AQ21,\"AB*\"),\"\")","v":{"$error":"#REF!"}},{"$f":"IF(#REF!<>\"\",COUNTIF(M21:AQ21,\"FE\"),\"\")","v":{"$error":"#REF!"}},{"$f":"IF(#REF!<>\"\",COUNTIF(M21:AQ21,\"LC\"),\"\")","v":{"$error":"#REF!"}},{"$f":"IF(#REF!<>\"\",COUNTIF(M21:AQ21,\"CH*\"),\"\")","v":{"$error":"#REF!"}},{"$f":"IF(#REF!<>\"\",COUNTIF(M21:AQ21,\"AF1\")+COUNTIF(M21:AQ21,\"AF2\")+COUNTIF(M21:AQ21,\"AF3\")+COUNTIF(M21:AQ21,\"AF4\")+COUNTIF(M21:AQ21,\"AF5\")+COUNTIF(M21:AQ21,\"AF6\")+COUNTIF(M21:AQ21,\"AF7\")+COUNTIF(M21:AQ21,\"AF8\")+COUNTIF(M21:AQ21,\"AF9\")+COUNTIF(M21:AQ21,\"AF10\")+COUNTIF(M21:AQ21,\"AF11\")+COUNTIF(M21:AQ21,\"AF12\")+COUNTIF(M21:AQ21,\"AF13\")+COUNTIF(M21:AQ21,\"AF14\"),\"\")","v":{"$error":"#REF!"}},{"$f":"IF(#REF!<>\"\",COUNTIF(M21:AQ21,\"CH*\")+COUNTIF(M21:AQ21,\"L\")+COUNTIF(M21:AQ21,\"LM\")+COUNTIF(M21:AQ21,\"LP\")+COUNTIF(M21:AQ21,\"LC\")+COUNTIF(M21:AQ21,\"AB*\")+COUNTIF(M21:AQ21,\"AF1\")+COUNTIF(M21:AQ21,\"AF2\")+COUNTIF(M21:AQ21,\"AF3\")+COUNTIF(M21:AQ21,\"AF4\")+COUNTIF(M21:AQ21,\"AF5\")+COUNTIF(M21:AQ21,\"AF6\")+COUNTIF(M21:AQ21,\"AF7\")+COUNTIF(M21:AQ21,\"AF8\")+COUNTIF(M21:AQ21,\"AF9\")+COUNTIF(M21:AQ21,\"AF10\")+COUNTIF(M21:AQ21,\"AF11\")+COUNTIF(M21:AQ21,\"AF12\")+COUNTIF(M21:AQ21,\"AF13\")+COUNTIF(M21:AQ21,\"AF14\")+COUNTIF(M21:AQ21,\"RC\")+COUNTIF(M21:AQ21,\"FO\")+COUNTIF(M21:AQ21,\"FE\"),\"\")","v":{"$error":"#REF!"}}]
["Claudia de Fatima da Silva",null,null,null,null,null,null,null,null,null,null,null,null,null,null,null,null,null,null,null,null,null,null,null,null,null,null,null,null,null,null,null,null,null,null,null,null,null,null,null,null,null,null,{"$f":"IF(#REF!<>\"\",IFERROR(VLOOKUP(M22,Tabelas!B:D,3,0),0),\"\")","v":{"$error":"#REF!"}},{"$f":"IF(#REF!<>\"\",IFERROR(VLOOKUP(N22,Tabelas!B:D,3,0),0),\"\")","v":{"$error":"#REF!"}},{"$f":"IF(#REF!<>\"\",IFERROR(VLOOKUP(O22,Tabelas!B:D,3,0),0),\"\")","v":{"$error":"#REF!"}},{"$f":"IF(#REF!<>\"\",IFERROR(VLOOKUP(P22,Tabelas!B:D,3,0),0),\"\")","v":{"$error":"#REF!"}},{"$f":"IF(#REF!<>\"\",IFERROR(VLOOKUP(Q22,Tabelas!B:D,3,0),0),\"\")","v":{"$error":"#REF!"}},{"$f":"IF(#REF!<>\"\",IFERROR(VLOOKUP(R22,Tabelas!B:D,3,0),0),\"\")","v":{"$error":"#REF!"}},{"$f":"IF(#REF!<>\"\",IFERROR(VLOOKUP(S22,Tabelas!B:D,3,0),0),\"\")","v":{"$error":"#REF!"}},{"$f":"IF(#REF!<>\"\",IFERROR(VLOOKUP(T22,Tabelas!B:D,3,0),0),\"\")","v":{"$error":"#REF!"}},{"$f":"IF(#REF!<>\"\",IFERROR(VLOOKUP(U22,Tabelas!B:D,3,0),0),\"\")","v":{"$error":"#REF!"}},{"$f":"IF(#REF!<>\"\",IFERROR(VLOOKUP(V22,Tabelas!B:D,3,0),0),\"\")","v":{"$error":"#REF!"}},{"$f":"IF(#REF!<>\"\",IFERROR(VLOOKUP(W22,Tabelas!B:D,3,0),0),\"\")","v":{"$error":"#REF!"}},{"$f":"IF(#REF!<>\"\",IFERROR(VLOOKUP(X22,Tabelas!B:D,3,0),0),\"\")","v":{"$error":"#REF!"}},{"$f":"IF(#REF!<>\"\",IFERROR(VLOOKUP(Y22,Tabelas!B:D,3,0),0),\"\")","v":{"$error":"#REF!"}},{"$f":"IF(#REF!<>\"\",IFERROR(VLOOKUP(Z22,Tabelas!B:D,3,0),0),\"\")","v":{"$error":"#REF!"}},{"$f":"IF(#REF!<>\"\",IFERROR(VLOOKUP(AA22,Tabelas!B:D,3,0),0),\"\")","v":{"$error":"#REF!"}},{"$f":"IF(#REF!<>\"\",IFERROR(VLOOKUP(AB22,Tabelas!B:D,3,0),0),\"\")","v":{"$error":"#REF!"}},{"$f":"IF(#REF!<>\"\",IFERROR(VLOOKUP(AC22,Tabelas!B:D,3,0),0),\"\")","v":{"$error":"#REF!"}},{"$f":"IF(#REF!<>\"\",IFERROR(VLOOKUP(AD22,Tabelas!B:D,3,0),0),\"\")","v":{"$error":"#REF!"}},{"$f":"IF(#REF!<>\"\",IFERROR(VLOOKUP(AE22,Tabelas!B:D,3,0),0),\"\")","v":{"$error":"#REF!"}},{"$f":"IF(#REF!<>\"\",IFERROR(VLOOKUP(AF22,Tabelas!B:D,3,0),0),\"\")","v":{"$error":"#REF!"}},{"$f":"IF(#REF!<>\"\",IFERROR(VLOOKUP(AG22,Tabelas!B:D,3,0),0),\"\")","v":{"$error":"#REF!"}},{"$f":"IF(#REF!<>\"\",IFERROR(VLOOKUP(AH22,Tabelas!B:D,3,0),0),\"\")","v":{"$error":"#REF!"}},{"$f":"IF(#REF!<>\"\",IFERROR(VLOOKUP(AI22,Tabelas!B:D,3,0),0),\"\")","v":{"$error":"#REF!"}},{"$f":"IF(#REF!<>\"\",IFERROR(VLOOKUP(AJ22,Tabelas!B:D,3,0),0),\"\")","v":{"$error":"#REF!"}},{"$f":"IF(#REF!<>\"\",IFERROR(VLOOKUP(AK22,Tabelas!B:D,3,0),0),\"\")","v":{"$error":"#REF!"}},{"$f":"IF(#REF!<>\"\",IFERROR(VLOOKUP(AL22,Tabelas!B:D,3,0),0),\"\")","v":{"$error":"#REF!"}},{"$f":"IF(#REF!<>\"\",IFERROR(VLOOKUP(AM22,Tabelas!B:D,3,0),0),\"\")","v":{"$error":"#REF!"}},{"$f":"IF(#REF!<>\"\",IFERROR(VLOOKUP(AN22,Tabelas!B:D,3,0),0),\"\")","v":{"$error":"#REF!"}},{"$f":"IF(#REF!<>\"\",IFERROR(VLOOKUP(AO22,Tabelas!B:D,3,0),0),\"\")","v":{"$error":"#REF!"}},{"$f":"IF(#REF!<>\"\",IFERROR(VLOOKUP(AP22,Tabelas!B:D,3,0),0),\"\")","v":{"$error":"#REF!"}},{"$f":"IF(#REF!<>\"\",IFERROR(VLOOKUP(AQ22,Tabelas!B:D,3,0),0),\"\")","v":{"$error":"#REF!"}},{"$f":"IF(AND(#REF!<>\"\",E22=\"Ebserh\"),SUM(AR22:BV22)+COUNTIF(M22:AQ22,\"N*\")+COUNTIF(M22:AQ22,\"DN*\"),IF(AND(#REF!<>\"\",E22<>\"Ebserh\"),SUM(AR22:BV22),\"\"))","v":{"$error":"#REF!"}},{"$f":"IF(#REF!<>\"\",COUNTIF(M22:AQ22,\"LM\")+COUNTIF(M22:AQ22,\"L\")+COUNTIF(M22:AQ22,\"LP\"),\"\")","v":{"$error":"#REF!"}},{"$f":"IF(#REF!<>\"\",COUNTIF(M22:AQ22,\"AB*\"),\"\")","v":{"$error":"#REF!"}},{"$f":"IF(#REF!<>\"\",COUNTIF(M22:AQ22,\"FE\"),\"\")","v":{"$error":"#REF!"}},{"$f":"IF(#REF!<>\"\",COUNTIF(M22:AQ22,\"LC\"),\"\")","v":{"$error":"#REF!"}},{"$f":"IF(#REF!<>\"\",COUNTIF(M22:AQ22,\"CH*\"),\"\")","v":{"$error":"#REF!"}},{"$f":"IF(#REF!<>\"\",COUNTIF(M22:AQ22,\"AF1\")+COUNTIF(M22:AQ22,\"AF2\")+COUNTIF(M22:AQ22,\"AF3\")+COUNTIF(M22:AQ22,\"AF4\")+COUNTIF(M22:AQ22,\"AF5\")+COUNTIF(M22:AQ22,\"AF6\")+COUNTIF(M22:AQ22,\"AF7\")+COUNTIF(M22:AQ22,\"AF8\")+COUNTIF(M22:AQ22,\"AF9\")+COUNTIF(M22:AQ22,\"AF10\")+COUNTIF(M22:AQ22,\"AF11\")+COUNTIF(M22:AQ22,\"AF12\")+COUNTIF(M22:AQ22,\"AF13\")+COUNTIF(M22:AQ22,\"AF14\"),\"\")","v":{"$error":"#REF!"}},{"$f":"IF(#REF!<>\"\",COUNTIF(M22:AQ22,\"CH*\")+COUNTIF(M22:AQ22,\"L\")+COUNTIF(M22:AQ22,\"LM\")+COUNTIF(M22:AQ22,\"LP\")+COUNTIF(M22:AQ22,\"LC\")+COUNTIF(M22:AQ22,\"AB*\")+COUNTIF(M22:AQ22,\"AF1\")+COUNTIF(M22:AQ22,\"AF2\")+COUNTIF(M22:AQ22,\"AF3\")+COUNTIF(M22:AQ22,\"AF4\")+COUNTIF(M22:AQ22,\"AF5\")+COUNTIF(M22:AQ22,\"AF6\")+COUNTIF(M22:AQ22,\"AF7\")+COUNTIF(M22:AQ22,\"AF8\")+COUNTIF(M22:AQ22,\"AF9\")+COUNTIF(M22:AQ22,\"AF10\")+COUNTIF(M22:AQ22,\"AF11\")+COUNTIF(M22:AQ22,\"AF12\")+COUNTIF(M22:AQ22,\"AF13\")+COUNTIF(M22:AQ22,\"AF14\")+COUNTIF(M22:AQ22,\"RC\")+COUNTIF(M22:AQ22,\"FO\")+COUNTIF(M22:AQ22,\"FE\"),\"\")","v":{"$error":"#REF!"}}]
["Cirley Silva",null,null,null,null,null,null,null,null,null,null,null,null,null,null,null,null,null,null,null,null,null,null,null,null,null,null,null,null,null,null,null,null,null,null,null,null,null,null,null,null,null,null,{"$f":"IF(A21<>\"\",IFERROR(VLOOKUP(M23,Tabelas!B:D,3,0),0),\"\")","v":0},{"$f":"IF(A21<>\"\",IFERROR(VLOOKUP(N23,Tabelas!B:D,3,0),0),\"\")","v":0},{"$f":"IF(A21<>\"\",IFERROR(VLOOKUP(O23,Tabelas!B:D,3,0),0),\"\")","v":0},{"$f":"IF(A21<>\"\",IFERROR(VLOOKUP(P23,Tabelas!B:D,3,0),0),\"\")","v":0},{"$f":"IF(A21<>\"\",IFERROR(VLOOKUP(Q23,Tabelas!B:D,3,0),0),\"\")","v":0},{"$f":"IF(A21<>\"\",IFERROR(VLOOKUP(R23,Tabelas!B:D,3,0),0),\"\")","v":0},{"$f":"IF(A21<>\"\",IFERROR(VLOOKUP(S23,Tabelas!B:D,3,0),0),\"\")","v":0},{"$f":"IF(A21<>\"\",IFERROR(VLOOKUP(T23,Tabelas!B:D,3,0),0),\"\")","v":0},{"$f":"IF(A21<>\"\",IFERROR(VLOOKUP(U23,Tabelas!B:D,3,0),0),\"\")","v":0},{"$f":"IF(A21<>\"\",IFERROR(VLOOKUP(V23,Tabelas!B:D,3,0),0),\"\")","v":0},{"$f":"IF(A21<>\"\",IFERROR(VLOOKUP(W23,Tabelas!B:D,3,0),0),\"\")","v":0},{"$f":"IF(A21<>\"\",IFERROR(VLOOKUP(X23,Tabelas!B:D,3,0),0),\"\")","v":0},{"$f":"IF(A21<>\"\",IFERROR(VLOOKUP(Y23,Tabelas!B:D,3,0),0),\"\")","v":0},{"$f":"IF(A21<>\"\",IFERROR(VLOOKUP(Z23,Tabelas!B:D,3,0),0),\"\")","v":0},{"$f":"IF(A21<>\"\",IFERROR(VLOOKUP(AA23,Tabelas!B:D,3,0),0),\"\")","v":0},{"$f":"IF(A21<>\"\",IFERROR(VLOOKUP(AB23,Tabelas!B:D,3,0),0),\"\")","v":0},{"$f":"IF(A21<>\"\",IFERROR(VLOOKUP(AC23,Tabelas!B:D,3,0),0),\"\")","v":0},{"$f":"IF(A21<>\"\",IFERROR(VLOOKUP(AD23,Tabelas!B:D,3,0),0),\"\")","v":0},{"$f":"IF(A21<>\"\",IFERROR(VLOOKUP(AE23,Tabelas!B:D,3,0),0),\"\")","v":0},{"$f":"IF(A21<>\"\",IFERROR(VLOOKUP(AF23,Tabelas!B:D,3,0),0),\"\")","v":0},{"$f":"IF(A21<>\"\",IFERROR(VLOOKUP(AG23,Tabelas!B:D,3,0),0),\"\")","v":0},{"$f":"IF(A21<>\"\",IFERROR(VLOOKUP(AH23,Tabelas!B:D,3,0),0),\"\")","v":0},{"$f":"IF(A21<>\"\",IFERROR(VLOOKUP(AI23,Tabelas!B:D,3,0),0),\"\")","v":0},{"$f":"IF(A21<>\"\",IFERROR(VLOOKUP(AJ23,Tabelas!B:D,3,0),0),\"\")","v":0},{"$f":"IF(A21<>\"\",IFERROR(VLOOKUP(AK23,Tabelas!B:D,3,0),0),\"\")","v":0},{"$f":"IF(A21<>\"\",IFERROR(VLOOKUP(AL23,Tabelas!B:D,3,0),0),\"\")","v":0},{"$f":"IF(A21<>\"\",IFERROR(VLOOKUP(AM23,Tabelas!B:D,3,0),0),\"\")","v":0},{"$f":"IF(A21<>\"\",IFERROR(VLOOKUP(AN23,Tabelas!B:D,3,0),0),\"\")","v":0},{"$f":"IF(A21<>\"\",IFERROR(VLOOKUP(AO23,Tabelas!B:D,3,0),0),\"\")","v":0},{"$f":"IF(A21<>\"\",IFERROR(VLOOKUP(AP23,Tabelas!B:D,3,0),0),\"\")","v":0},{"$f":"IF(A21<>\"\",IFERROR(VLOOKUP(AQ23,Tabelas!B:D,3,0),0),\"\")","v":0},{"$f":"IF(AND(A21<>\"\",E23=\"Ebserh\"),SUM(AR23:BV23)+COUNTIF(M23:AQ23,\"N*\")+COUNTIF(M23:AQ23,\"DN*\"),IF(AND(A21<>\"\",E23<>\"Ebserh\"),SUM(AR23:BV23),\"\"))","v":0},{"$f":"IF(A21<>\"\",COUNTIF(M23:AQ23,\"LM\")+COUNTIF(M23:AQ23,\"L\")+COUNTIF(M23:AQ23,\"LP\"),\"\")","v":0},{"$f":"IF(A21<>\"\",COUNTIF(M23:AQ23,\"AB*\"),\"\")","v":0},{"$f":"IF(A21<>\"\",COUNTIF(M23:AQ23,\"FE\"),\"\")","v":0},{"$f":"IF(A21<>\"\",COUNTIF(M23:AQ23,\"LC\"),\"\")","v":0},{"$f":"IF(A21<>\"\",COUNTIF(M23:AQ23,\"CH*\"),\"\")","v":0},{"$f":"IF(A21<>\"\",COUNTIF(M23:AQ23,\"AF1\")+COUNTIF(M23:AQ23,\"AF2\")+COUNTIF(M23:AQ23,\"AF3\")+COUNTIF(M23:AQ23,\"AF4\")+COUNTIF(M23:AQ23,\"AF5\")+COUNTIF(M23:AQ23,\"AF6\")+COUNTIF(M23:AQ23,\"AF7\")+COUNTIF(M23:AQ23,\"AF8\")+COUNTIF(M23:AQ23,\"AF9\")+COUNTIF(M23:AQ23,\"AF10\")+COUNTIF(M23:AQ23,\"AF11\")+COUNTIF(M23:AQ23,\"AF12\")+COUNTIF(M23:AQ23,\"AF13\")+COUNTIF(M23:AQ23,\"AF14\"),\"\")","v":0},{"$f":"IF(A21<>\"\",COUNTIF(M23:AQ23,\"CH*\")+COUNTIF(M23:AQ23,\"L\")+COUNTIF(M23:AQ23,\"LM\")+COUNTIF(M23:AQ23,\"LP\")+COUNTIF(M23:AQ23,\"LC\")+COUNTIF(M23:AQ23,\"AB*\")+COUNTIF(M23:AQ23,\"AF1\")+COUNTIF(M23:AQ23,\"AF2\")+COUNTIF(M23:AQ23,\"AF3\")+COUNTIF(M23:AQ23,\"AF4\")+COUNTIF(M23:AQ23,\"AF5\")+COUNTIF(M23:AQ23,\"AF6\")+COUNTIF(M23:AQ23,\"AF7\")+COUNTIF(M23:AQ23,\"AF8\")+COUNTIF(M23:AQ23,\"AF9\")+COUNTIF(M23:AQ23,\"AF10\")+COUNTIF(M23:AQ23,\"AF11\")+COUNTIF(M23:AQ23,\"AF12\")+COUNTIF(M23:AQ23,\"AF13\")+COUNTIF(M23:AQ23,\"AF14\")+COUNTIF(M23:AQ23,\"RC\")+COUNTIF(M23:AQ23,\"FO\")+COUNTIF(M23:AQ23,\"FE\"),\"\")","v":0}]
["Débora ",null,null,null,null,null,null,null,null,null,null,null,null,null,null,null,null,null,null,null,null,null,null,null,null,null,null,null,null,null,null,null,null,null,null,null,null,null,null,null,null,null,null,{"$f":"IF(A22<>\"\",IFERROR(VLOOKUP(M24,Tabelas!B:D,3,0),0),\"\")","v":0},{"$f":"IF(A22<>\"\",IFERROR(VLOOKUP(N24,Tabelas!B:D,3,0),0),\"\")","v":0},{"$f":"IF(A22<>\"\",IFERROR(VLOOKUP(O24,Tabelas!B:D,3,0),0),\"\")","v":0},{"$f":"IF(A22<>\"\",IFERROR(VLOOKUP(P24,Tabelas!B:D,3,0),0),\"\")","v":0},{"$f":"IF(A22<>\"\",IFERROR(VLOOKUP(Q24,Tabelas!B:D,3,0),0),\"\")","v":0},{"$f":"IF(A22<>\"\",IFERROR(VLOOKUP(R24,Tabelas!B:D,3,0),0),\"\")","v":0},{"$f":"IF(A22<>\"\",IFERROR(VLOOKUP(S24,Tabelas!B:D,3,0),0),\"\")","v":0},{"$f":"IF(A22<>\"\",IFERROR(VLOOKUP(T24,Tabelas!B:D,3,0),0),\"\")","v":0},{"$f":"IF(A22<>\"\",IFERROR(VLOOKUP(U24,Tabelas!B:D,3,0),0),\"\")","v":0},{"$f":"IF(A22<>\"\",IFERROR(VLOOKUP(V24,Tabelas!B:D,3,0),0),\"\")","v":0},{"$f":"IF(A22<>\"\",IFERROR(VLOOKUP(W24,Tabelas!B:D,3,0),0),\"\")","v":0},{"$f":"IF(A22<>\"\",IFERROR(VLOOKUP(X24,Tabelas!B:D,3,0),0),\"\")","v":0},{"$f":"IF(A22<>\"\",IFERROR(VLOOKUP(Y24,Tabelas!B:D,3,0),0),\"\")","v":0},{"$f":"IF(A22<>\"\",IFERROR(VLOOKUP(Z24,Tabelas!B:D,3,0),0),\"\")","v":0},{"$f":"IF(A22<>\"\",IFERROR(VLOOKUP(AA24,Tabelas!B:D,3,0),0),\"\")","v":0},{"$f":"IF(A22<>\"\",IFERROR(VLOOKUP(AB24,Tabelas!B:D,3,0),0),\"\")","v":0},{"$f":"IF(A22<>\"\",IFERROR(VLOOKUP(AC24,Tabelas!B:D,3,0),0),\"\")","v":0},{"$f":"IF(A22<>\"\",IFERROR(VLOOKUP(AD24,Tabelas!B:D,3,0),0),\"\")","v":0},{"$f":"IF(A22<>\"\",IFERROR(VLOOKUP(AE24,Tabelas!B:D,3,0),0),\"\")","v":0},{"$f":"IF(A22<>\"\",IFERROR(VLOOKUP(AF24,Tabelas!B:D,3,0),0),\"\")","v":0},{"$f":"IF(A22<>\"\",IFERROR(VLOOKUP(AG24,Tabelas!B:D,3,0),0),\"\")","v":0},{"$f":"IF(A22<>\"\",IFERROR(VLOOKUP(AH24,Tabelas!B:D,3,0),0),\"\")","v":0},{"$f":"IF(A22<>\"\",IFERROR(VLOOKUP(AI24,Tabelas!B:D,3,0),0),\"\")","v":0},{"$f":"IF(A22<>\"\",IFERROR(VLOOKUP(AJ24,Tabelas!B:D,3,0),0),\"\")","v":0},{"$f":"IF(A22<>\"\",IFERROR(VLOOKUP(AK24,Tabelas!B:D,3,0),0),\"\")","v":0},{"$f":"IF(A22<>\"\",IFERROR(VLOOKUP(AL24,Tabelas!B:D,3,0),0),\"\")","v":0},{"$f":"IF(A22<>\"\",IFERROR(VLOOKUP(AM24,Tabelas!B:D,3,0),0),\"\")","v":0},{"$f":"IF(A22<>\"\",IFERROR(VLOOKUP(AN24,Tabelas!B:D,3,0),0),\"\")","v":0},{"$f":"IF(A22<>\"\",IFERROR(VLOOKUP(AO24,Tabelas!B:D,3,0),0),\"\")","v":0},{"$f":"IF(A22<>\"\",IFERROR(VLOOKUP(AP24,Tabelas!B:D,3,0),0),\"\")","v":0},{"$f":"IF(A22<>\"\",IFERROR(VLOOKUP(AQ24,Tabelas!B:D,3,0),0),\"\")","v":0},0,0,0,0,0,0,0,0]
["Flavia Gomes Luz",null,null,null,null,null,null,null,null,null,null,null,null,null,null,null,null,null,null,null,null,null,null,null,null,null,null,null,null,null,null,null,null,null,null,null,null,null,null,null,null,null,null,{"$f":"IF(A23<>\"\",IFERROR(VLOOKUP(M25,Tabelas!B:D,3,0),0),\"\")","v":0},{"$f":"IF(A23<>\"\",IFERROR(VLOOKUP(N25,Tabelas!B:D,3,0),0),\"\")","v":0},{"$f":"IF(A23<>\"\",IFERROR(VLOOKUP(O25,Tabelas!B:D,3,0),0),\"\")","v":0},{"$f":"IF(A23<>\"\",IFERROR(VLOOKUP(P25,Tabelas!B:D,3,0),0),\"\")","v":0},{"$f":"IF(A23<>\"\",IFERROR(VLOOKUP(Q25,Tabelas!B:D,3,0),0),\"\")","v":0},{"$f":"IF(A23<>\"\",IFERROR(VLOOKUP(R25,Tabelas!B:D,3,0),0),\"\")","v":0},{"$f":"IF(A23<>\"\",IFERROR(VLOOKUP(S25,Tabelas!B:D,3,0),0),\"\")","v":0},{"$f":"IF(A23<>\"\",IFERROR(VLOOKUP(T25,Tabelas!B:D,3,0),0),\"\")","v":0},{"$f":"IF(A23<>\"\",IFERROR(VLOOKUP(U25,Tabelas!B:D,3,0),0),\"\")","v":0},{"$f":"IF(A23<>\"\",IFERROR(VLOOKUP(V25,Tabelas!B:D,3,0),0),\"\")","v":0},{"$f":"IF(A23<>\"\",IFERROR(VLOOKUP(W25,Tabelas!B:D,3,0),0),\"\")","v":0},{"$f":"IF(A23<>\"\",IFERROR(VLOOKUP(X25,Tabelas!B:D,3,0),0),\"\")","v":0},{"$f":"IF(A23<>\"\",IFERROR(VLOOKUP(Y25,Tabelas!B:D,3,0),0),\"\")","v":0},{"$f":"IF(A23<>\"\",IFERROR(VLOOKUP(Z25,Tabelas!B:D,3,0),0),\"\")","v":0},{"$f":"IF(A23<>\"\",IFERROR(VLOOKUP(AA25,Tabelas!B:D,3,0),0),\"\")","v":0},{"$f":"IF(A23<>\"\",IFERROR(VLOOKUP(AB25,Tabelas!B:D,3,0),0),\"\")","v":0},{"$f":"IF(A23<>\"\",IFERROR(VLOOKUP(AC25,Tabelas!B:D,3,0),0),\"\")","v":0},{"$f":"IF(A23<>\"\",IFERROR(VLOOKUP(AD25,Tabelas!B:D,3,0),0),\"\")","v":0},{"$f":"IF(A23<>\"\",IFERROR(VLOOKUP(AE25,Tabelas!B:D,3,0),0),\"\")","v":0},{"$f":"IF(A23<>\"\",IFERROR(VLOOKUP(AF25,Tabelas!B:D,3,0),0),\"\")","v":0},{"$f":"IF(A23<>\"\",IFERROR(VLOOKUP(AG25,Tabelas!B:D,3,0),0),\"\")","v":0},{"$f":"IF(A23<>\"\",IFERROR(VLOOKUP(AH25,Tabelas!B:D,3,0),0),\"\")","v":0},{"$f":"IF(A23<>\"\",IFERROR(VLOOKUP(AI25,Tabelas!B:D,3,0),0),\"\")","v":0},{"$f":"IF(A23<>\"\",IFERROR(VLOOKUP(AJ25,Tabelas!B:D,3,0),0),\"\")","v":0},{"$f":"IF(A23<>\"\",IFERROR(VLOOKUP(AK25,Tabelas!B:D,3,0),0),\"\")","v":0},{"$f":"IF(A23<>\"\",IFERROR(VLOOKUP(AL25,Tabelas!B:D,3,0),0),\"\")","v":0},{"$f":"IF(A23<>\"\",IFERROR(VLOOKUP(AM25,Tabelas!B:D,3,0),0),\"\")","v":0},{"$f":"IF(A23<>\"\",IFERROR(VLOOKUP(AN25,Tabelas!B:D,3,0),0),\"\")","v":0},{"$f":"IF(A23<>\"\",IFERROR(VLOOKUP(AO25,Tabelas!B:D,3,0),0),\"\")","v":0},{"$f":"IF(A23<>\"\",IFERROR(VLOOKUP(AP25,Tabelas!B:D,3,0),0),\"\")","v":0},{"$f":"IF(A23<>\"\",IFERROR(VLOOKUP(AQ25,Tabelas!B:D,3,0),0),\"\")","v":0},0,0,0,0,0,0,0,0]
["Josiane Marilene Richter",null,null,null,null,null,null,null,null,null,null,null,null,null,null,null,null,null,null,null,null,null,null,null,null,null,null,null,null,null,null,null,null,null,null,null,null,null,null,null,null,null,null,{"$f":"IF(A24<>\"\",IFERROR(VLOOKUP(M26,Tabelas!B:D,3,0),0),\"\")","v":0},{"$f":"IF(A24<>\"\",IFERROR(VLOOKUP(N26,Tabelas!B:D,3,0),0),\"\")","v":0},{"$f":"IF(A24<>\"\",IFERROR(VLOOKUP(O26,Tabelas!B:D,3,0),0),\"\")","v":0},{"$f":"IF(A24<>\"\",IFERROR(VLOOKUP(P26,Tabelas!B:D,3,0),0),\"\")","v":0},{"$f":"IF(A24<>\"\",IFERROR(VLOOKUP(Q26,Tabelas!B:D,3,0),0),\"\")","v":0},{"$f":"IF(A24<>\"\",IFERROR(VLOOKUP(R26,Tabelas!B:D,3,0),0),\"\")","v":0},{"$f":"IF(A24<>\"\",IFERROR(VLOOKUP(S26,Tabelas!B:D,3,0),0),\"\")","v":0},{"$f":"IF(A24<>\"\",IFERROR(VLOOKUP(T26,Tabelas!B:D,3,0),0),\"\")","v":0},{"$f":"IF(A24<>\"\",IFERROR(VLOOKUP(U26,Tabelas!B:D,3,0),0),\"\")","v":0},{"$f":"IF(A24<>\"\",IFERROR(VLOOKUP(V26,Tabelas!B:D,3,0),0),\"\")","v":0},{"$f":"IF(A24<>\"\",IFERROR(VLOOKUP(W26,Tabelas!B:D,3,0),0),\"\")","v":0},{"$f":"IF(A24<>\"\",IFERROR(VLOOKUP(X26,Tabelas!B:D,3,0),0),\"\")","v":0},{"$f":"IF(A24<>\"\",IFERROR(VLOOKUP(Y26,Tabelas!B:D,3,0),0),\"\")","v":0},{"$f":"IF(A24<>\"\",IFERROR(VLOOKUP(Z26,Tabelas!B:D,3,0),0),\"\")","v":0},{"$f":"IF(A24<>\"\",IFERROR(VLOOKUP(AA26,Tabelas!B:D,3,0),0),\"\")","v":0},{"$f":"IF(A24<>\"\",IFERROR(VLOOKUP(AB26,Tabelas!B:D,3,0),0),\"\")","v":0},{"$f":"IF(A24<>\"\",IFERROR(VLOOKUP(AC26,Tabelas!B:D,3,0),0),\"\")","v":0},{"$f":"IF(A24<>\"\",IFERROR(VLOOKUP(AD26,Tabelas!B:D,3,0),0),\"\")","v":0},{"$f":"IF(A24<>\"\",IFERROR(VLOOKUP(AE26,Tabelas!B:D,3,0),0),\"\")","v":0},{"$f":"IF(A24<>\"\",IFERROR(VLOOKUP(AF26,Tabelas!B:D,3,0),0),\"\")","v":0},{"$f":"IF(A24<>\"\",IFERROR(VLOOKUP(AG26,Tabelas!B:D,3,0),0),\"\")","v":0},{"$f":"IF(A24<>\"\",IFERROR(VLOOKUP(AH26,Tabelas!B:D,3,0),0),\"\")","v":0},{"$f":"IF(A24<>\"\",IFERROR(VLOOKUP(AI26,Tabelas!B:D,3,0),0),\"\")","v":0},{"$f":"IF(A24<>\"\",IFERROR(VLOOKUP(AJ26,Tabelas!B:D,3,0),0),\"\")","v":0},{"$f":"IF(A24<>\"\",IFERROR(VLOOKUP(AK26,Tabelas!B:D,3,0),0),\"\")","v":0},{"$f":"IF(A24<>\"\",IFERROR(VLOOKUP(AL26,Tabelas!B:D,3,0),0),\"\")","v":0},{"$f":"IF(A24<>\"\",IFERROR(VLOOKUP(AM26,Tabelas!B:D,3,0),0),\"\")","v":0},{"$f":"IF(A24<>\"\",IFERROR(VLOOKUP(AN26,Tabelas!B:D,3,0),0),\"\")","v":0},{"$f":"IF(A24<>\"\",IFERROR(VLOOKUP(AO26,Tabelas!B:D,3,0),0),\"\")","v":0},{"$f":"IF(A24<>\"\",IFERROR(VLOOKUP(AP26,Tabelas!B:D,3,0),0),\"\")","v":0},{"$f":"IF(A24<>\"\",IFERROR(VLOOKUP(AQ26,Tabelas!B:D,3,0),0),\"\")","v":0},0,0,0,0,0,0,0,0]
["Lusardo Lopes Peres",null,null,null,null,null,null,null,null,null,null,null,null,null,null,null,null,null,null,null,null,null,null,null,null,null,null,null,null,null,null,null,null,null,null,null,null,null,null,null,null,null,null,{"$f":"IF(A25<>\"\",IFERROR(VLOOKUP(M27,Tabelas!B:D,3,0),0),\"\")","v":0},{"$f":"IF(A25<>\"\",IFERROR(VLOOKUP(N27,Tabelas!B:D,3,0),0),\"\")","v":0},{"$f":"IF(A25<>\"\",IFERROR(VLOOKUP(O27,Tabelas!B:D,3,0),0),\"\")","v":0},{"$f":"IF(A25<>\"\",IFERROR(VLOOKUP(P27,Tabelas!B:D,3,0),0),\"\")","v":0},{"$f":"IF(A25<>\"\",IFERROR(VLOOKUP(Q27,Tabelas!B:D,3,0),0),\"\")","v":0},{"$f":"IF(A25<>\"\",IFERROR(VLOOKUP(R27,Tabelas!B:D,3,0),0),\"\")","v":0},{"$f":"IF(A25<>\"\",IFERROR(VLOOKUP(S27,Tabelas!B:D,3,0),0),\"\")","v":0},{"$f":"IF(A25<>\"\",IFERROR(VLOOKUP(T27,Tabelas!B:D,3,0),0),\"\")","v":0},{"$f":"IF(A25<>\"\",IFERROR(VLOOKUP(U27,Tabelas!B:D,3,0),0),\"\")","v":0},{"$f":"IF(A25<>\"\",IFERROR(VLOOKUP(V27,Tabelas!B:D,3,0),0),\"\")","v":0},{"$f":"IF(A25<>\"\",IFERROR(VLOOKUP(W27,Tabelas!B:D,3,0),0),\"\")","v":0},{"$f":"IF(A25<>\"\",IFERROR(VLOOKUP(X27,Tabelas!B:D,3,0),0),\"\")","v":0},{"$f":"IF(A25<>\"\",IFERROR(VLOOKUP(Y27,Tabelas!B:D,3,0),0),\"\")","v":0},{"$f":"IF(A25<>\"\",IFERROR(VLOOKUP(Z27,Tabelas!B:D,3,0),0),\"\")","v":0},{"$f":"IF(A25<>\"\",IFERROR(VLOOKUP(AA27,Tabelas!B:D,3,0),0),\"\")","v":0},{"$f":"IF(A25<>\"\",IFERROR(VLOOKUP(AB27,Tabelas!B:D,3,0),0),\"\")","v":0},{"$f":"IF(A25<>\"\",IFERROR(VLOOKUP(AC27,Tabelas!B:D,3,0),0),\"\")","v":0},{"$f":"IF(A25<>\"\",IFERROR(VLOOKUP(AD27,Tabelas!B:D,3,0),0),\"\")","v":0},{"$f":"IF(A25<>\"\",IFERROR(VLOOKUP(AE27,Tabelas!B:D,3,0),0),\"\")","v":0},{"$f":"IF(A25<>\"\",IFERROR(VLOOKUP(AF27,Tabelas!B:D,3,0),0),\"\")","v":0},{"$f":"IF(A25<>\"\",IFERROR(VLOOKUP(AG27,Tabelas!B:D,3,0),0),\"\")","v":0},{"$f":"IF(A25<>\"\",IFERROR(VLOOKUP(AH27,Tabelas!B:D,3,0),0),\"\")","v":0},{"$f":"IF(A25<>\"\",IFERROR(VLOOKUP(AI27,Tabelas!B:D,3,0),0),\"\")","v":0},{"$f":"IF(A25<>\"\",IFERROR(VLOOKUP(AJ27,Tabelas!B:D,3,0),0),\"\")","v":0},{"$f":"IF(A25<>\"\",IFERROR(VLOOKUP(AK27,Tabelas!B:D,3,0),0),\"\")","v":0},{"$f":"IF(A25<>\"\",IFERROR(VLOOKUP(AL27,Tabelas!B:D,3,0),0),\"\")","v":0},{"$f":"IF(A25<>\"\",IFERROR(VLOOKUP(AM27,Tabelas!B:D,3,0),0),\"\")","v":0},{"$f":"IF(A25<>\"\",IFERROR(VLOOKUP(AN27,Tabelas!B:D,3,0),0),\"\")","v":0},{"$f":"IF(A25<>\"\",IFERROR(VLOOKUP(AO27,Tabelas!B:D,3,0),0),\"\")","v":0},{"$f":"IF(A25<>\"\",IFERROR(VLOOKUP(AP27,Tabelas!B:D,3,0),0),\"\")","v":0},{"$f":"IF(A25<>\"\",IFERROR(VLOOKUP(AQ27,Tabelas!B:D,3,0),0),\"\")","v":0},0,0,0,0,0,0,0,0]
["Maraisa Aparecida",null,null,null,null,null,null,null,null,null,null,null,null,null,null,null,null,null,null,null,null,null,null,null,null,null,null,null,null,null,null,null,null,null,null,null,null,null,null,null,null,null,null,{"$f":"IF(A26<>\"\",IFERROR(VLOOKUP(M28,Tabelas!B:D,3,0),0),\"\")","v":0},{"$f":"IF(A26<>\"\",IFERROR(VLOOKUP(N28,Tabelas!B:D,3,0),0),\"\")","v":0},{"$f":"IF(A26<>\"\",IFERROR(VLOOKUP(O28,Tabelas!B:D,3,0),0),\"\")","v":0},{"$f":"IF(A26<>\"\",IFERROR(VLOOKUP(P28,Tabelas!B:D,3,0),0),\"\")","v":0},{"$f":"IF(A26<>\"\",IFERROR(VLOOKUP(Q28,Tabelas!B:D,3,0),0),\"\")","v":0},{"$f":"IF(A26<>\"\",IFERROR(VLOOKUP(R28,Tabelas!B:D,3,0),0),\"\")","v":0},{"$f":"IF(A26<>\"\",IFERROR(VLOOKUP(S28,Tabelas!B:D,3,0),0),\"\")","v":0},{"$f":"IF(A26<>\"\",IFERROR(VLOOKUP(T28,Tabelas!B:D,3,0),0),\"\")","v":0},{"$f":"IF(A26<>\"\",IFERROR(VLOOKUP(U28,Tabelas!B:D,3,0),0),\"\")","v":0},{"$f":"IF(A26<>\"\",IFERROR(VLOOKUP(V28,Tabelas!B:D,3,0),0),\"\")","v":0},{"$f":"IF(A26<>\"\",IFERROR(VLOOKUP(W28,Tabelas!B:D,3,0),0),\"\")","v":0},{"$f":"IF(A26<>\"\",IFERROR(VLOOKUP(X28,Tabelas!B:D,3,0),0),\"\")","v":0},{"$f":"IF(A26<>\"\",IFERROR(VLOOKUP(Y28,Tabelas!B:D,3,0),0),\"\")","v":0},{"$f":"IF(A26<>\"\",IFERROR(VLOOKUP(Z28,Tabelas!B:D,3,0),0),\"\")","v":0},{"$f":"IF(A26<>\"\",IFERROR(VLOOKUP(AA28,Tabelas!B:D,3,0),0),\"\")","v":0},{"$f":"IF(A26<>\"\",IFERROR(VLOOKUP(AB28,Tabelas!B:D,3,0),0),\"\")","v":0},{"$f":"IF(A26<>\"\",IFERROR(VLOOKUP(AC28,Tabelas!B:D,3,0),0),\"\")","v":0},{"$f":"IF(A26<>\"\",IFERROR(VLOOKUP(AD28,Tabelas!B:D,3,0),0),\"\")","v":0},{"$f":"IF(A26<>\"\",IFERROR(VLOOKUP(AE28,Tabelas!B:D,3,0),0),\"\")","v":0},{"$f":"IF(A26<>\"\",IFERROR(VLOOKUP(AF28,Tabelas!B:D,3,0),0),\"\")","v":0},{"$f":"IF(A26<>\"\",IFERROR(VLOOKUP(AG28,Tabelas!B:D,3,0),0),\"\")","v":0},{"$f":"IF(A26<>\"\",IFERROR(VLOOKUP(AH28,Tabelas!B:D,3,0),0),\"\")","v":0},{"$f":"IF(A26<>\"\",IFERROR(VLOOKUP(AI28,Tabelas!B:D,3,0),0),\"\")","v":0},{"$f":"IF(A26<>\"\",IFERROR(VLOOKUP(AJ28,Tabelas!B:D,3,0),0),\"\")","v":0},{"$f":"IF(A26<>\"\",IFERROR(VLOOKUP(AK28,Tabelas!B:D,3,0),0),\"\")","v":0},{"$f":"IF(A26<>\"\",IFERROR(VLOOKUP(AL28,Tabelas!B:D,3,0),0),\"\")","v":0},{"$f":"IF(A26<>\"\",IFERROR(VLOOKUP(AM28,Tabelas!B:D,3,0),0),\"\")","v":0},{"$f":"IF(A26<>\"\",IFERROR(VLOOKUP(AN28,Tabelas!B:D,3,0),0),\"\")","v":0},{"$f":"IF(A26<>\"\",IFERROR(VLOOKUP(AO28,Tabelas!B:D,3,0),0),\"\")","v":0},{"$f":"IF(A26<>\"\",IFERROR(VLOOKUP(AP28,Tabelas!B:D,3,0),0),\"\")","v":0},{"$f":"IF(A26<>\"\",IFERROR(VLOOKUP(AQ28,Tabelas!B:D,3,0),0),\"\")","v":0},0,0,0,0,0,0,0,0]
["Otavino da Silva Junior",null,null,null,null,null,null,null,null,null,null,null,null,null,null,null,null,null,null,null,null,null,null,null,null,null,null,null,null,null,null,null,null,null,null,null,null,null,null,null,null,null,null,{"$f":"IF(A27<>\"\",IFERROR(VLOOKUP(M29,Tabelas!B:D,3,0),0),\"\")","v":0},{"$f":"IF(A27<>\"\",IFERROR(VLOOKUP(N29,Tabelas!B:D,3,0),0),\"\")","v":0},{"$f":"IF(A27<>\"\",IFERROR(VLOOKUP(O29,Tabelas!B:D,3,0),0),\"\")","v":0},{"$f":"IF(A27<>\"\",IFERROR(VLOOKUP(P29,Tabelas!B:D,3,0),0),\"\")","v":0},{"$f":"IF(A27<>\"\",IFERROR(VLOOKUP(Q29,Tabelas!B:D,3,0),0),\"\")","v":0},{"$f":"IF(A27<>\"\",IFERROR(VLOOKUP(R29,Tabelas!B:D,3,0),0),\"\")","v":0},{"$f":"IF(A27<>\"\",IFERROR(VLOOKUP(S29,Tabelas!B:D,3,0),0),\"\")","v":0},{"$f":"IF(A27<>\"\",IFERROR(VLOOKUP(T29,Tabelas!B:D,3,0),0),\"\")","v":0},{"$f":"IF(A27<>\"\",IFERROR(VLOOKUP(U29,Tabelas!B:D,3,0),0),\"\")","v":0},{"$f":"IF(A27<>\"\",IFERROR(VLOOKUP(V29,Tabelas!B:D,3,0),0),\"\")","v":0},{"$f":"IF(A27<>\"\",IFERROR(VLOOKUP(W29,Tabelas!B:D,3,0),0),\"\")","v":0},{"$f":"IF(A27<>\"\",IFERROR(VLOOKUP(X29,Tabelas!B:D,3,0),0),\"\")","v":0},{"$f":"IF(A27<>\"\",IFERROR(VLOOKUP(Y29,Tabelas!B:D,3,0),0),\"\")","v":0},{"$f":"IF(A27<>\"\",IFERROR(VLOOKUP(Z29,Tabelas!B:D,3,0),0),\"\")","v":0},{"$f":"IF(A27<>\"\",IFERROR(VLOOKUP(AA29,Tabelas!B:D,3,0),0),\"\")","v":0},{"$f":"IF(A27<>\"\",IFERROR(VLOOKUP(AB29,Tabelas!B:D,3,0),0),\"\")","v":0},{"$f":"IF(A27<>\"\",IFERROR(VLOOKUP(AC29,Tabelas!B:D,3,0),0),\"\")","v":0},{"$f":"IF(A27<>\"\",IFERROR(VLOOKUP(AD29,Tabelas!B:D,3,0),0),\"\")","v":0},{"$f":"IF(A27<>\"\",IFERROR(VLOOKUP(AE29,Tabelas!B:D,3,0),0),\"\")","v":0},{"$f":"IF(A27<>\"\",IFERROR(VLOOKUP(AF29,Tabelas!B:D,3,0),0),\"\")","v":0},{"$f":"IF(A27<>\"\",IFERROR(VLOOKUP(AG29,Tabelas!B:D,3,0),0),\"\")","v":0},{"$f":"IF(A27<>\"\",IFERROR(VLOOKUP(AH29,Tabelas!B:D,3,0),0),\"\")","v":0},{"$f":"IF(A27<>\"\",IFERROR(VLOOKUP(AI29,Tabelas!B:D,3,0),0),\"\")","v":0},{"$f":"IF(A27<>\"\",IFERROR(VLOOKUP(AJ29,Tabelas!B:D,3,0),0),\"\")","v":0},{"$f":"IF(A27<>\"\",IFERROR(VLOOKUP(AK29,Tabelas!B:D,3,0),0),\"\")","v":0},{"$f":"IF(A27<>\"\",IFERROR(VLOOKUP(AL29,Tabelas!B:D,3,0),0),\"\")","v":0},{"$f":"IF(A27<>\"\",IFERROR(VLOOKUP(AM29,Tabelas!B:D,3,0),0),\"\")","v":0},{"$f":"IF(A27<>\"\",IFERROR(VLOOKUP(AN29,Tabelas!B:D,3,0),0),\"\")","v":0},{"$f":"IF(A27<>\"\",IFERROR(VLOOKUP(AO29,Tabelas!B:D,3,0),0),\"\")","v":0},{"$f":"IF(A27<>\"\",IFERROR(VLOOKUP(AP29,Tabelas!B:D,3,0),0),\"\")","v":0},{"$f":"IF(A27<>\"\",IFERROR(VLOOKUP(AQ29,Tabelas!B:D,3,0),0),\"\")","v":0},0,0,0,0,0,0,0,0]
["Rodolf Pradella",null,null,null,null,null,null,null,null,null,null,null,null,null,null,null,null,null,null,null,null,null,null,null,null,null,null,null,null,null,null,null,null,null,null,null,null,null,null,null,null,null,null,{"$f":"IF(A28<>\"\",IFERROR(VLOOKUP(M30,Tabelas!B:D,3,0),0),\"\")","v":0},{"$f":"IF(A28<>\"\",IFERROR(VLOOKUP(N30,Tabelas!B:D,3,0),0),\"\")","v":0},{"$f":"IF(A28<>\"\",IFERROR(VLOOKUP(O30,Tabelas!B:D,3,0),0),\"\")","v":0},{"$f":"IF(A28<>\"\",IFERROR(VLOOKUP(P30,Tabelas!B:D,3,0),0),\"\")","v":0},{"$f":"IF(A28<>\"\",IFERROR(VLOOKUP(Q30,Tabelas!B:D,3,0),0),\"\")","v":0},{"$f":"IF(A28<>\"\",IFERROR(VLOOKUP(R30,Tabelas!B:D,3,0),0),\"\")","v":0},{"$f":"IF(A28<>\"\",IFERROR(VLOOKUP(S30,Tabelas!B:D,3,0),0),\"\")","v":0},{"$f":"IF(A28<>\"\",IFERROR(VLOOKUP(T30,Tabelas!B:D,3,0),0),\"\")","v":0},{"$f":"IF(A28<>\"\",IFERROR(VLOOKUP(U30,Tabelas!B:D,3,0),0),\"\")","v":0},{"$f":"IF(A28<>\"\",IFERROR(VLOOKUP(V30,Tabelas!B:D,3,0),0),\"\")","v":0},{"$f":"IF(A28<>\"\",IFERROR(VLOOKUP(W30,Tabelas!B:D,3,0),0),\"\")","v":0},{"$f":"IF(A28<>\"\",IFERROR(VLOOKUP(X30,Tabelas!B:D,3,0),0),\"\")","v":0},{"$f":"IF(A28<>\"\",IFERROR(VLOOKUP(Y30,Tabelas!B:D,3,0),0),\"\")","v":0},{"$f":"IF(A28<>\"\",IFERROR(VLOOKUP(Z30,Tabelas!B:D,3,0),0),\"\")","v":0},{"$f":"IF(A28<>\"\",IFERROR(VLOOKUP(AA30,Tabelas!B:D,3,0),0),\"\")","v":0},{"$f":"IF(A28<>\"\",IFERROR(VLOOKUP(AB30,Tabelas!B:D,3,0),0),\"\")","v":0},{"$f":"IF(A28<>\"\",IFERROR(VLOOKUP(AC30,Tabelas!B:D,3,0),0),\"\")","v":0},{"$f":"IF(A28<>\"\",IFERROR(VLOOKUP(AD30,Tabelas!B:D,3,0),0),\"\")","v":0},{"$f":"IF(A28<>\"\",IFERROR(VLOOKUP(AE30,Tabelas!B:D,3,0),0),\"\")","v":0},{"$f":"IF(A28<>\"\",IFERROR(VLOOKUP(AF30,Tabelas!B:D,3,0),0),\"\")","v":0},{"$f":"IF(A28<>\"\",IFERROR(VLOOKUP(AG30,Tabelas!B:D,3,0),0),\"\")","v":0},{"$f":"IF(A28<>\"\",IFERROR(VLOOKUP(AH30,Tabelas!B:D,3,0),0),\"\")","v":0},{"$f":"IF(A28<>\"\",IFERROR(VLOOKUP(AI30,Tabelas!B:D,3,0),0),\"\")","v":0},{"$f":"IF(A28<>\"\",IFERROR(VLOOKUP(AJ30,Tabelas!B:D,3,0),0),\"\")","v":0},{"$f":"IF(A28<>\"\",IFERROR(VLOOKUP(AK30,Tabelas!B:D,3,0),0),\"\")","v":0},{"$f":"IF(A28<>\"\",IFERROR(VLOOKUP(AL30,Tabelas!B:D,3,0),0),\"\")","v":0},{"$f":"IF(A28<>\"\",IFERROR(VLOOKUP(AM30,Tabelas!B:D,3,0),0),\"\")","v":0},{"$f":"IF(A28<>\"\",IFERROR(VLOOKUP(AN30,Tabelas!B:D,3,0),0),\"\")","v":0},{"$f":"IF(A28<>\"\",IFERROR(VLOOKUP(AO30,Tabelas!B:D,3,0),0),\"\")","v":0},{"$f":"IF(A28<>\"\",IFERROR(VLOOKUP(AP30,Tabelas!B:D,3,0),0),\"\")","v":0},{"$f":"IF(A28<>\"\",IFERROR(VLOOKUP(AQ30,Tabelas!B:D,3,0),0),\"\")","v":0},0,0,0,0,0,0,0,0]
["Tatiane Garcia",null,null,null,null,null,null,null,null,null,null,null,null,null,null,null,null,null,null,null,null,null,null,null,null,null,null,null,null,null,null,null,null,null,null,null,null,null,null,null,null,null,null,{"$f":"IF(A30<>\"\",IFERROR(VLOOKUP(M32,Tabelas!B:D,3,0),0),\"\")","v":0},{"$f":"IF(A30<>\"\",IFERROR(VLOOKUP(N32,Tabelas!B:D,3,0),0),\"\")","v":0},{"$f":"IF(A30<>\"\",IFERROR(VLOOKUP(O32,Tabelas!B:D,3,0),0),\"\")","v":0},{"$f":"IF(A30<>\"\",IFERROR(VLOOKUP(P32,Tabelas!B:D,3,0),0),\"\")","v":0},{"$f":"IF(A30<>\"\",IFERROR(VLOOKUP(Q32,Tabelas!B:D,3,0),0),\"\")","v":0},{"$f":"IF(A30<>\"\",IFERROR(VLOOKUP(R32,Tabelas!B:D,3,0),0),\"\")","v":0},{"$f":"IF(A30<>\"\",IFERROR(VLOOKUP(S32,Tabelas!B:D,3,0),0),\"\")","v":0},{"$f":"IF(A30<>\"\",IFERROR(VLOOKUP(T32,Tabelas!B:D,3,0),0),\"\")","v":0},{"$f":"IF(A30<>\"\",IFERROR(VLOOKUP(U32,Tabelas!B:D,3,0),0),\"\")","v":0},{"$f":"IF(A30<>\"\",IFERROR(VLOOKUP(V32,Tabelas!B:D,3,0),0),\"\")","v":0},{"$f":"IF(A30<>\"\",IFERROR(VLOOKUP(W32,Tabelas!B:D,3,0),0),\"\")","v":0},{"$f":"IF(A30<>\"\",IFERROR(VLOOKUP(X32,Tabelas!B:D,3,0),0),\"\")","v":0},{"$f":"IF(A30<>\"\",IFERROR(VLOOKUP(Y32,Tabelas!B:D,3,0),0),\"\")","v":0},{"$f":"IF(A30<>\"\",IFERROR(VLOOKUP(Z32,Tabelas!B:D,3,0),0),\"\")","v":0},{"$f":"IF(A30<>\"\",IFERROR(VLOOKUP(AA32,Tabelas!B:D,3,0),0),\"\")","v":0},{"$f":"IF(A30<>\"\",IFERROR(VLOOKUP(AB32,Tabelas!B:D,3,0),0),\"\")","v":0},{"$f":"IF(A30<>\"\",IFERROR(VLOOKUP(AC32,Tabelas!B:D,3,0),0),\"\")","v":0},{"$f":"IF(A30<>\"\",IFERROR(VLOOKUP(AD32,Tabelas!B:D,3,0),0),\"\")","v":0},{"$f":"IF(A30<>\"\",IFERROR(VLOOKUP(AE32,Tabelas!B:D,3,0),0),\"\")","v":0},{"$f":"IF(A30<>\"\",IFERROR(VLOOKUP(AF32,Tabelas!B:D,3,0),0),\"\")","v":0},{"$f":"IF(A30<>\"\",IFERROR(VLOOKUP(AG32,Tabelas!B:D,3,0),0),\"\")","v":0},{"$f":"IF(A30<>\"\",IFERROR(VLOOKUP(AH32,Tabelas!B:D,3,0),0),\"\")","v":0},{"$f":"IF(A30<>\"\",IFERROR(VLOOKUP(AI32,Tabelas!B:D,3,0),0),\"\")","v":0},{"$f":"IF(A30<>\"\",IFERROR(VLOOKUP(AJ32,Tabelas!B:D,3,0),0),\"\")","v":0},{"$f":"IF(A30<>\"\",IFERROR(VLOOKUP(AK32,Tabelas!B:D,3,0),0),\"\")","v":0},{"$f":"IF(A30<>\"\",IFERROR(VLOOKUP(AL32,Tabelas!B:D,3,0),0),\"\")","v":0},{"$f":"IF(A30<>\"\",IFERROR(VLOOKUP(AM32,Tabelas!B:D,3,0),0),\"\")","v":0},{"$f":"IF(A30<>\"\",IFERROR(VLOOKUP(AN32,Tabelas!B:D,3,0),0),\"\")","v":0},{"$f":"IF(A30<>\"\",IFERROR(VLOOKUP(AO32,Tabelas!B:D,3,0),0),\"\")","v":0},{"$f":"IF(A30<>\"\",IFERROR(VLOOKUP(AP32,Tabelas!B:D,3,0),0),\"\")","v":0},{"$f":"IF(A30<>\"\",IFERROR(VLOOKUP(AQ32,Tabelas!B:D,3,0),0),\"\")","v":0},{"$f":"IF(AND(A30<>\"\",E32=\"Ebserh\"),SUM(AR31:BV31)+COUNTIF(M32:AQ32,\"N*\")+COUNTIF(M32:AQ32,\"DN*\"),IF(AND(A30<>\"\",E32<>\"Ebserh\"),SUM(AR31:BV31),\"\"))","v":0},{"$f":"IF(A30<>\"\",COUNTIF(M32:AQ32,\"LM\")+COUNTIF(M32:AQ32,\"L\")+COUNTIF(M32:AQ32,\"LP\"),\"\")","v":0},{"$f":"IF(A30<>\"\",COUNTIF(M32:AQ32,\"AB*\"),\"\")","v":0},{"$f":"IF(A30<>\"\",COUNTIF(M32:AQ32,\"FE\"),\"\")","v":0},{"$f":"IF(A30<>\"\",COUNTIF(M32:AQ32,\"LC\"),\"\")","v":0},{"$f":"IF(A30<>\"\",COUNTIF(M32:AQ32,\"CH*\"),\"\")","v":0},{"$f":"IF(A30<>\"\",COUNTIF(M32:AQ32,\"AF1\")+COUNTIF(M32:AQ32,\"AF2\")+COUNTIF(M32:AQ32,\"AF3\")+COUNTIF(M32:AQ32,\"AF4\")+COUNTIF(M32:AQ32,\"AF5\")+COUNTIF(M32:AQ32,\"AF6\")+COUNTIF(M32:AQ32,\"AF7\")+COUNTIF(M32:AQ32,\"AF8\")+COUNTIF(M32:AQ32,\"AF9\")+COUNTIF(M32:AQ32,\"AF10\")+COUNTIF(M32:AQ32,\"AF11\")+COUNTIF(M32:AQ32,\"AF12\")+COUNTIF(M32:AQ32,\"AF13\")+COUNTIF(M32:AQ32,\"AF14\"),\"\")","v":0},{"$f":"IF(A30<>\"\",COUNTIF(M32:AQ32,\"CH*\")+COUNTIF(M32:AQ32,\"L\")+COUNTIF(M32:AQ32,\"LM\")+COUNTIF(M32:AQ32,\"LP\")+COUNTIF(M32:AQ32,\"LC\")+COUNTIF(M32:AQ32,\"AB*\")+COUNTIF(M32:AQ32,\"AF1\")+COUNTIF(M32:AQ32,\"AF2\")+COUNTIF(M32:AQ32,\"AF3\")+COUNTIF(M32:AQ32,\"AF4\")+COUNTIF(M32:AQ32,\"AF5\")+COUNTIF(M32:AQ32,\"AF6\")+COUNTIF(M32:AQ32,\"AF7\")+COUNTIF(M32:AQ32,\"AF8\")+COUNTIF(M32:AQ32,\"AF9\")+COUNTIF(M32:AQ32,\"AF10\")+COUNTIF(M32:AQ32,\"AF11\")+COUNTIF(M32:AQ32,\"AF12\")+COUNTIF(M32:AQ32,\"AF13\")+COUNTIF(M32:AQ32,\"AF14\")+COUNTIF(M32:AQ32,\"RC\")+COUNTIF(M32:AQ32,\"FO\")+COUNTIF(M32:AQ32,\"FE\"),\"\")","v":0}]
["Tania Maria Fae",null,null,null,null,null,null,null,null,null,null,null,null,null,null,null,null,null,null,null,null,null,null,null,null,null,null,null,null,null,null,null,null,null,null,null,null,null,null,null,null,null,null,null,null,null,null,null,null,null,null,null,null,null,null,null,null,null,null,null,null,null,null,null,null,null,null,null,null,null,null,null,null,null,null,{"$f":"IF(A33<>\"\",COUNTIF(M35:AQ35,\"LM\")+COUNTIF(M35:AQ35,\"L\")+COUNTIF(M35:AQ35,\"LP\"),\"\")","v":0},{"$f":"IF(A33<>\"\",COUNTIF(M35:AQ35,\"AB*\"),\"\")","v":0},{"$f":"IF(A33<>\"\",COUNTIF(M35:AQ35,\"FE\"),\"\")","v":0},{"$f":"IF(A33<>\"\",COUNTIF(M35:AQ35,\"LC\"),\"\")","v":0},{"$f":"IF(A33<>\"\",COUNTIF(M35:AQ35,\"CH*\"),\"\")","v":0},{"$f":"IF(A33<>\"\",COUNTIF(M35:AQ35,\"AF1\")+COUNTIF(M35:AQ35,\"AF2\")+COUNTIF(M35:AQ35,\"AF3\")+COUNTIF(M35:AQ35,\"AF4\")+COUNTIF(M35:AQ35,\"AF5\")+COUNTIF(M35:AQ35,\"AF6\")+COUNTIF(M35:AQ35,\"AF7\")+COUNTIF(M35:AQ35,\"AF8\")+COUNTIF(M35:AQ35,\"AF9\")+COUNTIF(M35:AQ35,\"AF10\")+COUNTIF(M35:AQ35,\"AF11\")+COUNTIF(M35:AQ35,\"AF12\")+COUNTIF(M35:AQ35,\"AF13\")+COUNTIF(M35:AQ35,\"AF14\"),\"\")","v":0},{"$f":"IF(A33<>\"\",COUNTIF(M35:AQ35,\"CH*\")+COUNTIF(M35:AQ35,\"L\")+COUNTIF(M35:AQ35,\"LM\")+COUNTIF(M35:AQ35,\"LP\")+COUNTIF(M35:AQ35,\"LC\")+COUNTIF(M35:AQ35,\"AB*\")+COUNTIF(M35:AQ35,\"AF1\")+COUNTIF(M35:AQ35,\"AF2\")+COUNTIF(M35:AQ35,\"AF3\")+COUNTIF(M35:AQ35,\"AF4\")+COUNTIF(M35:AQ35,\"AF5\")+COUNTIF(M35:AQ35,\"AF6\")+COUNTIF(M35:AQ35,\"AF7\")+COUNTIF(M35:AQ35,\"AF8\")+COUNTIF(M35:AQ35,\"AF9\")+COUNTIF(M35:AQ35,\"AF10\")+COUNTIF(M35:AQ35,\"AF11\")+COUNTIF(M35:AQ35,\"AF12\")+COUNTIF(M35:AQ35,\"AF13\")+COUNTIF(M35:AQ35,\"AF14\")+COUNTIF(M35:AQ35,\"RC\")+COUNTIF(M35:AQ35,\"FO\")+COUNTIF(M35:AQ35,\"FE\"),\"\")","v":0}]
["T. Enf. Noturno",null,null,null,null,null,null,null,null,null,null,null,null,null,null,null,null,null,null,null,null,null,null,null,null,null,null,null,null,null,null,null,null,null,null,null,null,null,null,null,null,null,null,{"$f":"IF(A33<>\"\",IFERROR(VLOOKUP(M35,Tabelas!B:D,3,0),0),\"\")","v":0},{"$f":"IF(A33<>\"\",IFERROR(VLOOKUP(N35,Tabelas!B:D,3,0),0),\"\")","v":0},{"$f":"IF(A33<>\"\",IFERROR(VLOOKUP(O35,Tabelas!B:D,3,0),0),\"\")","v":0},{"$f":"IF(A33<>\"\",IFERROR(VLOOKUP(P35,Tabelas!B:D,3,0),0),\"\")","v":0},{"$f":"IF(A33<>\"\",IFERROR(VLOOKUP(Q35,Tabelas!B:D,3,0),0),\"\")","v":0},{"$f":"IF(A33<>\"\",IFERROR(VLOOKUP(R35,Tabelas!B:D,3,0),0),\"\")","v":0},{"$f":"IF(A33<>\"\",IFERROR(VLOOKUP(S35,Tabelas!B:D,3,0),0),\"\")","v":0},{"$f":"IF(A33<>\"\",IFERROR(VLOOKUP(T35,Tabelas!B:D,3,0),0),\"\")","v":0},{"$f":"IF(A33<>\"\",IFERROR(VLOOKUP(U35,Tabelas!B:D,3,0),0),\"\")","v":0},{"$f":"IF(A33<>\"\",IFERROR(VLOOKUP(V35,Tabelas!B:D,3,0),0),\"\")","v":0},{"$f":"IF(A33<>\"\",IFERROR(VLOOKUP(W35,Tabelas!B:D,3,0),0),\"\")","v":0},{"$f":"IF(A33<>\"\",IFERROR(VLOOKUP(X35,Tabelas!B:D,3,0),0),\"\")","v":0},{"$f":"IF(A33<>\"\",IFERROR(VLOOKUP(Y35,Tabelas!B:D,3,0),0),\"\")","v":0},{"$f":"IF(A33<>\"\",IFERROR(VLOOKUP(Z35,Tabelas!B:D,3,0),0),\"\")","v":0},{"$f":"IF(A33<>\"\",IFERROR(VLOOKUP(AA35,Tabelas!B:D,3,0),0),\"\")","v":0},{"$f":"IF(A33<>\"\",IFERROR(VLOOKUP(AB35,Tabelas!B:D,3,0),0),\"\")","v":0},{"$f":"IF(A33<>\"\",IFERROR(VLOOKUP(AC35,Tabelas!B:D,3,0),0),\"\")","v":0},{"$f":"IF(A33<>\"\",IFERROR(VLOOKUP(AD35,Tabelas!B:D,3,0),0),\"\")","v":0},{"$f":"IF(A33<>\"\",IFERROR(VLOOKUP(AE35,Tabelas!B:D,3,0),0),\"\")","v":0},{"$f":"IF(A33<>\"\",IFERROR(VLOOKUP(AF35,Tabelas!B:D,3,0),0),\"\")","v":0},{"$f":"IF(A33<>\"\",IFERROR(VLOOKUP(AG35,Tabelas!B:D,3,0),0),\"\")","v":0},{"$f":"IF(A33<>\"\",IFERROR(VLOOKUP(AH35,Tabelas!B:D,3,0),0),\"\")","v":0},{"$f":"IF(A33<>\"\",IFERROR(VLOOKUP(AI35,Tabelas!B:D,3,0),0),\"\")","v":0},{"$f":"IF(A33<>\"\",IFERROR(VLOOKUP(AJ35,Tabelas!B:D,3,0),0),\"\")","v":0},{"$f":"IF(A33<>\"\",IFERROR(VLOOKUP(AK35,Tabelas!B:D,3,0),0),\"\")","v":0},{"$f":"IF(A33<>\"\",IFERROR(VLOOKUP(AL35,Tabelas!B:D,3,0),0),\"\")","v":0},{"$f":"IF(A33<>\"\",IFERROR(VLOOKUP(AM35,Tabelas!B:D,3,0),0),\"\")","v":0},{"$f":"IF(A33<>\"\",IFERROR(VLOOKUP(AN35,Tabelas!B:D,3,0),0),\"\")","v":0},{"$f":"IF(A33<>\"\",IFERROR(VLOOKUP(AO35,Tabelas!B:D,3,0),0),\"\")","v":0},{"$f":"IF(A33<>\"\",IFERROR(VLOOKUP(AP35,Tabelas!B:D,3,0),0),\"\")","v":0},{"$f":"IF(A33<>\"\",IFERROR(VLOOKUP(AQ35,Tabelas!B:D,3,0),0),\"\")","v":0},{"$f":"IF(AND(A33<>\"\",E35=\"Ebserh\"),SUM(AR33:BV33)+COUNTIF(M35:AQ35,\"N*\")+COUNTIF(M35:AQ35,\"DN*\"),IF(AND(A33<>\"\",E35<>\"Ebserh\"),SUM(AR33:BV33),\"\"))","v":0},{"$f":"IF(A34<>\"\",COUNTIF(M36:AQ36,\"LM\")+COUNTIF(M36:AQ36,\"L\")+COUNTIF(M36:AQ36,\"LP\"),\"\")","v":0},{"$f":"IF(A34<>\"\",COUNTIF(M36:AQ36,\"AB*\"),\"\")","v":0},{"$f":"IF(A34<>\"\",COUNTIF(M36:AQ36,\"FE\"),\"\")","v":0},{"$f":"IF(A34<>\"\",COUNTIF(M36:AQ36,\"LC\"),\"\")","v":0},{"$f":"IF(A34<>\"\",COUNTIF(M36:AQ36,\"CH*\"),\"\")","v":0},{"$f":"IF(A34<>\"\",COUNTIF(M36:AQ36,\"AF1\")+COUNTIF(M36:AQ36,\"AF2\")+COUNTIF(M36:AQ36,\"AF3\")+COUNTIF(M36:AQ36,\"AF4\")+COUNTIF(M36:AQ36,\"AF5\")+COUNTIF(M36:AQ36,\"AF6\")+COUNTIF(M36:AQ36,\"AF7\")+COUNTIF(M36:AQ36,\"AF8\")+COUNTIF(M36:AQ36,\"AF9\")+COUNTIF(M36:AQ36,\"AF10\")+COUNTIF(M36:AQ36,\"AF11\")+COUNTIF(M36:AQ36,\"AF12\")+COUNTIF(M36:AQ36,\"AF13\")+COUNTIF(M36:AQ36,\"AF14\"),\"\")","v":0},{"$f":"IF(A34<>\"\",COUNTIF(M36:AQ36,\"CH*\")+COUNTIF(M36:AQ36,\"L\")+COUNTIF(M36:AQ36,\"LM\")+COUNTIF(M36:AQ36,\"LP\")+COUNTIF(M36:AQ36,\"LC\")+COUNTIF(M36:AQ36,\"AB*\")+COUNTIF(M36:AQ36,\"AF1\")+COUNTIF(M36:AQ36,\"AF2\")+COUNTIF(M36:AQ36,\"AF3\")+COUNTIF(M36:AQ36,\"AF4\")+COUNTIF(M36:AQ36,\"AF5\")+COUNTIF(M36:AQ36,\"AF6\")+COUNTIF(M36:AQ36,\"AF7\")+COUNTIF(M36:AQ36,\"AF8\")+COUNTIF(M36:AQ36,\"AF9\")+COUNTIF(M36:AQ36,\"AF10\")+COUNTIF(M36:AQ36,\"AF11\")+COUNTIF(M36:AQ36,\"AF12\")+COUNTIF(M36:AQ36,\"AF13\")+COUNTIF(M36:AQ36,\"AF14\")+COUNTIF(M36:AQ36,\"RC\")+COUNTIF(M36:AQ36,\"FO\")+COUNTIF(M36:AQ36,\"FE\"),\"\")","v":0}]
["Ana Claudia Pinto Brandão",null,null,null,null,null,null,null,null,null,null,null,null,null,null,null,null,null,null,null,null,null,null,null,null,null,null,null,null,null,null,null,null,null,null,null,null,null,null,null,null,null,null,{"$f":"IF(A34<>\"\",IFERROR(VLOOKUP(M36,Tabelas!B:D,3,0),0),\"\")","v":0},{"$f":"IF(A34<>\"\",IFERROR(VLOOKUP(N36,Tabelas!B:D,3,0),0),\"\")","v":0},{"$f":"IF(A34<>\"\",IFERROR(VLOOKUP(O36,Tabelas!B:D,3,0),0),\"\")","v":0},{"$f":"IF(A34<>\"\",IFERROR(VLOOKUP(P36,Tabelas!B:D,3,0),0),\"\")","v":0},{"$f":"IF(A34<>\"\",IFERROR(VLOOKUP(Q36,Tabelas!B:D,3,0),0),\"\")","v":0},{"$f":"IF(A34<>\"\",IFERROR(VLOOKUP(R36,Tabelas!B:D,3,0),0),\"\")","v":0},{"$f":"IF(A34<>\"\",IFERROR(VLOOKUP(S36,Tabelas!B:D,3,0),0),\"\")","v":0},{"$f":"IF(A34<>\"\",IFERROR(VLOOKUP(T36,Tabelas!B:D,3,0),0),\"\")","v":0},{"$f":"IF(A34<>\"\",IFERROR(VLOOKUP(U36,Tabelas!B:D,3,0),0),\"\")","v":0},{"$f":"IF(A34<>\"\",IFERROR(VLOOKUP(V36,Tabelas!B:D,3,0),0),\"\")","v":0},{"$f":"IF(A34<>\"\",IFERROR(VLOOKUP(W36,Tabelas!B:D,3,0),0),\"\")","v":0},{"$f":"IF(A34<>\"\",IFERROR(VLOOKUP(X36,Tabelas!B:D,3,0),0),\"\")","v":0},{"$f":"IF(A34<>\"\",IFERROR(VLOOKUP(Y36,Tabelas!B:D,3,0),0),\"\")","v":0},{"$f":"IF(A34<>\"\",IFERROR(VLOOKUP(Z36,Tabelas!B:D,3,0),0),\"\")","v":0},{"$f":"IF(A34<>\"\",IFERROR(VLOOKUP(AA36,Tabelas!B:D,3,0),0),\"\")","v":0},{"$f":"IF(A34<>\"\",IFERROR(VLOOKUP(AB36,Tabelas!B:D,3,0),0),\"\")","v":0},{"$f":"IF(A34<>\"\",IFERROR(VLOOKUP(AC36,Tabelas!B:D,3,0),0),\"\")","v":0},{"$f":"IF(A34<>\"\",IFERROR(VLOOKUP(AD36,Tabelas!B:D,3,0),0),\"\")","v":0},{"$f":"IF(A34<>\"\",IFERROR(VLOOKUP(AE36,Tabelas!B:D,3,0),0),\"\")","v":0},{"$f":"IF(A34<>\"\",IFERROR(VLOOKUP(AF36,Tabelas!B:D,3,0),0),\"\")","v":0},{"$f":"IF(A34<>\"\",IFERROR(VLOOKUP(AG36,Tabelas!B:D,3,0),0),\"\")","v":0},{"$f":"IF(A34<>\"\",IFERROR(VLOOKUP(AH36,Tabelas!B:D,3,0),0),\"\")","v":0},{"$f":"IF(A34<>\"\",IFERROR(VLOOKUP(AI36,Tabelas!B:D,3,0),0),\"\")","v":0},{"$f":"IF(A34<>\"\",IFERROR(VLOOKUP(AJ36,Tabelas!B:D,3,0),0),\"\")","v":0},{"$f":"IF(A34<>\"\",IFERROR(VLOOKUP(AK36,Tabelas!B:D,3,0),0),\"\")","v":0},{"$f":"IF(A34<>\"\",IFERROR(VLOOKUP(AL36,Tabelas!B:D,3,0),0),\"\")","v":0},{"$f":"IF(A34<>\"\",IFERROR(VLOOKUP(AM36,Tabelas!B:D,3,0),0),\"\")","v":0},{"$f":"IF(A34<>\"\",IFERROR(VLOOKUP(AN36,Tabelas!B:D,3,0),0),\"\")","v":0},{"$f":"IF(A34<>\"\",IFERROR(VLOOKUP(AO36,Tabelas!B:D,3,0),0),\"\")","v":0},{"$f":"IF(A34<>\"\",IFERROR(VLOOKUP(AP36,Tabelas!B:D,3,0),0),\"\")","v":0},{"$f":"IF(A34<>\"\",IFERROR(VLOOKUP(AQ36,Tabelas!B:D,3,0),0),\"\")","v":0},{"$f":"IF(AND(A34<>\"\",E36=\"Ebserh\"),SUM(AR34:BV34)+COUNTIF(M36:AQ36,\"N*\")+COUNTIF(M36:AQ36,\"DN*\"),IF(AND(A34<>\"\",E36<>\"Ebserh\"),SUM(AR34:BV34),\"\"))","v":0},{"$f":"IF(AND(A38<>\"\",E40=\"Ebserh\"),SUM(AS38:BW38)+COUNTIF(M40:AQ40,\"N*\")+COUNTIF(M40:AQ40,\"DN*\"),IF(AND(A38<>\"\",E40<>\"Ebserh\"),SUM(AS38:BW38),\"\"))","v":0},{"$f":"IF(A38<>\"\",COUNTIF(M40:AQ40,\"LM\")+COUNTIF(M40:AQ40,\"L\")+COUNTIF(M40:AQ40,\"LP\"),\"\")","v":0},{"$f":"IF(A38<>\"\",COUNTIF(M40:AQ40,\"AB*\"),\"\")","v":0},{"$f":"IF(A38<>\"\",COUNTIF(M40:AQ40,\"FE\"),\"\")","v":0},{"$f":"IF(A38<>\"\",COUNTIF(M40:AQ40,\"LC\"),\"\")","v":0},{"$f":"IF(A38<>\"\",COUNTIF(M40:AQ40,\"CH*\"),\"\")","v":0},{"$f":"IF(A38<>\"\",COUNTIF(M40:AQ40,\"AF1\")+COUNTIF(M40:AQ40,\"AF2\")+COUNTIF(M40:AQ40,\"AF3\")+COUNTIF(M40:AQ40,\"AF4\")+COUNTIF(M40:AQ40,\"AF5\")+COUNTIF(M40:AQ40,\"AF6\")+COUNTIF(M40:AQ40,\"AF7\")+COUNTIF(M40:AQ40,\"AF8\")+COUNTIF(M40:AQ40,\"AF9\")+COUNTIF(M40:AQ40,\"AF10\")+COUNTIF(M40:AQ40,\"AF11\")+COUNTIF(M40:AQ40,\"AF12\")+COUNTIF(M40:AQ40,\"AF13\")+COUNTIF(M40:AQ40,\"AF14\"),\"\")","v":0},{"$f":"IF(A38<>\"\",COUNTIF(M40:AQ40,\"CH*\")+COUNTIF(M40:AQ40,\"L\")+COUNTIF(M40:AQ40,\"LM\")+COUNTIF(M40:AQ40,\"LP\")+COUNTIF(M40:AQ40,\"LC\")+COUNTIF(M40:AQ40,\"AB*\")+COUNTIF(M40:AQ40,\"AF1\")+COUNTIF(M40:AQ40,\"AF2\")+COUNTIF(M40:AQ40,\"AF3\")+COUNTIF(M40:AQ40,\"AF4\")+COUNTIF(M40:AQ40,\"AF5\")+COUNTIF(M40:AQ40,\"AF6\")+COUNTIF(M40:AQ40,\"AF7\")+COUNTIF(M40:AQ40,\"AF8\")+COUNTIF(M40:AQ40,\"AF9\")+COUNTIF(M40:AQ40,\"AF10\")+COUNTIF(M40:AQ40,\"AF11\")+COUNTIF(M40:AQ40,\"AF12\")+COUNTIF(M40:AQ40,\"AF13\")+COUNTIF(M40:AQ40,\"AF14\")+COUNTIF(M40:AQ40,\"RC\")+COUNTIF(M40:AQ40,\"FO\")+COUNTIF(M40:AQ40,\"FE\"),\"\")","v":0}]
["Karina Mendes",null,null,null,null,null,null,null,null,null,null,null,null,null,null,null,null,null,null,null,null,null,null,null,null,null,null,null,null,null,null,null,null,null,null,null,null,null,null,null,null,null,null,null,null,null,null,null,null,null,null,null,null,null,null,null,null,null,null,null,null,null,null,null,null,null,null,null,null,null,null,null,null,null,null,{"$f":"IF(AND(B47<>\"\",F47=\"Ebserh\"),SUM(AS39:BW39)+COUNTIF(N44:AR44,\"N*\")+COUNTIF(N44:AR44,\"DN*\"),IF(AND(B47<>\"\",F47<>\"Ebserh\"),SUM(AS39:BW39),\"\"))","v":""},{"$f":"IF(B47<>\"\",COUNTIF(N44:AR44,\"LM\")+COUNTIF(N44:AR44,\"L\")+COUNTIF(N44:AR44,\"LP\"),\"\")","v":""},{"$f":"IF(B47<>\"\",COUNTIF(N44:AR44,\"AB*\"),\"\")","v":""},{"$f":"IF(B47<>\"\",COUNTIF(N44:AR44,\"FE\"),\"\")","v":""},{"$f":"IF(B47<>\"\",COUNTIF(N44:AR44,\"LC\"),\"\")","v":""},{"$f":"IF(B47<>\"\",COUNTIF(N44:AR44,\"CH*\"),\"\")","v":""},{"$f":"IF(B47<>\"\",COUNTIF(N44:AR44,\"AF1\")+COUNTIF(N44:AR44,\"AF2\")+COUNTIF(N44:AR44,\"AF3\")+COUNTIF(N44:AR44,\"AF4\")+COUNTIF(N44:AR44,\"AF5\")+COUNTIF(N44:AR44,\"AF6\")+COUNTIF(N44:AR44,\"AF7\")+COUNTIF(N44:AR44,\"AF8\")+COUNTIF(N44:AR44,\"AF9\")+COUNTIF(N44:AR44,\"AF10\")+COUNTIF(N44:AR44,\"AF11\")+COUNTIF(N44:AR44,\"AF12\")+COUNTIF(N44:AR44,\"AF13\")+COUNTIF(N44:AR44,\"AF14\"),\"\")","v":""},{"$f":"IF(B47<>\"\",COUNTIF(N44:AR44,\"CH*\")+COUNTIF(N44:AR44,\"L\")+COUNTIF(N44:AR44,\"LM\")+COUNTIF(N44:AR44,\"LP\")+COUNTIF(N44:AR44,\"LC\")+COUNTIF(N44:AR44,\"AB*\")+COUNTIF(N44:AR44,\"AF1\")+COUNTIF(N44:AR44,\"AF2\")+COUNTIF(N44:AR44,\"AF3\")+COUNTIF(N44:AR44,\"AF4\")+COUNTIF(N44:AR44,\"AF5\")+COUNTIF(N44:AR44,\"AF6\")+COUNTIF(N44:AR44,\"AF7\")+COUNTIF(N44:AR44,\"AF8\")+COUNTIF(N44:AR44,\"AF9\")+COUNTIF(N44:AR44,\"AF10\")+COUNTIF(N44:AR44,\"AF11\")+COUNTIF(N44:AR44,\"AF12\")+COUNTIF(N44:AR44,\"AF13\")+COUNTIF(N44:AR44,\"AF14\")+COUNTIF(N44:AR44,\"RC\")+COUNTIF(N44:AR44,\"FO\")+COUNTIF(N44:AR44,\"FE\"),\"\")","v":""}]
["Maria Lucicleide Silva Modesto",null,null,null,null,null,null,null,null,null,null,null,null,null,null,null,null,null,null,null,null,null,null,null,null,null,null,null,null,null,null,null,null,null,null,null,null,null,null,null,null,null,null,null,null,null,null,null,null,null,null,null,null,null,null,null,null,null,null,null,null,null,null,null,null,null,null,null,null,null,null,null,null,null,null,{"$f":"SUM(BW9:BW39)","v":{"$error":"#REF!"}},{"$f":"SUM(BX9:BX35)","v":{"$error":"#REF!"}},{"$error":"#REF!"},{"$error":"#REF!"},{"$error":"#REF!"},{"$error":"#REF!"},{"$error":"#REF!"},{"$error":"#REF!"}]
["Michelli Melo da Rosa"]
["Rejane Borges Boeira",null,null,null,null,null,null,null,null,null,null,null,null,null,null,null,null,null,null,null,null,null,null,null,null,null,null,null,null,null,null,null,null,null,null,null,null,null,null,null,null,null,null,null,{"$f":"IF(A38<>\"\",IFERROR(VLOOKUP(M40,Tabelas!B:D,3,0),0),\"\")","v":0},{"$f":"IF(A38<>\"\",IFERROR(VLOOKUP(N40,Tabelas!B:D,3,0),0),\"\")","v":0},{"$f":"IF(A38<>\"\",IFERROR(VLOOKUP(O40,Tabelas!B:D,3,0),0),\"\")","v":0},{"$f":"IF(A38<>\"\",IFERROR(VLOOKUP(P40,Tabelas!B:D,3,0),0),\"\")","v":0},{"$f":"IF(A38<>\"\",IFERROR(VLOOKUP(Q40,Tabelas!B:D,3,0),0),\"\")","v":0},{"$f":"IF(A38<>\"\",IFERROR(VLOOKUP(R40,Tabelas!B:D,3,0),0),\"\")","v":0},{"$f":"IF(A38<>\"\",IFERROR(VLOOKUP(S40,Tabelas!B:D,3,0),0),\"\")","v":0},{"$f":"IF(A38<>\"\",IFERROR(VLOOKUP(T40,Tabelas!B:D,3,0),0),\"\")","v":0},{"$f":"IF(A38<>\"\",IFERROR(VLOOKUP(U40,Tabelas!B:D,3,0),0),\"\")","v":0},{"$f":"IF(A38<>\"\",IFERROR(VLOOKUP(V40,Tabelas!B:D,3,0),0),\"\")","v":0},{"$f":"IF(A38<>\"\",IFERROR(VLOOKUP(W40,Tabelas!B:D,3,0),0),\"\")","v":0},{"$f":"IF(A38<>\"\",IFERROR(VLOOKUP(X40,Tabelas!B:D,3,0),0),\"\")","v":0},{"$f":"IF(A38<>\"\",IFERROR(VLOOKUP(Y40,Tabelas!B:D,3,0),0),\"\")","v":0},{"$f":"IF(A38<>\"\",IFERROR(VLOOKUP(Z40,Tabelas!B:D,3,0),0),\"\")","v":0},{"$f":"IF(A38<>\"\",IFERROR(VLOOKUP(AA40,Tabelas!B:D,3,0),0),\"\")","v":0},{"$f":"IF(A38<>\"\",IFERROR(VLOOKUP(AB40,Tabelas!B:D,3,0),0),\"\")","v":0},{"$f":"IF(A38<>\"\",IFERROR(VLOOKUP(AC40,Tabelas!B:D,3,0),0),\"\")","v":0},{"$f":"IF(A38<>\"\",IFERROR(VLOOKUP(AD40,Tabelas!B:D,3,0),0),\"\")","v":0},{"$f":"IF(A38<>\"\",IFERROR(VLOOKUP(AE40,Tabelas!B:D,3,0),0),\"\")","v":0},{"$f":"IF(A38<>\"\",IFERROR(VLOOKUP(AF40,Tabelas!B:D,3,0),0),\"\")","v":0},{"$f":"IF(A38<>\"\",IFERROR(VLOOKUP(AG40,Tabelas!B:D,3,0),0),\"\")","v":0},{"$f":"IF(A38<>\"\",IFERROR(VLOOKUP(AH40,Tabelas!B:D,3,0),0),\"\")","v":0},{"$f":"IF(A38<>\"\",IFERROR(VLOOKUP(AI40,Tabelas!B:D,3,0),0),\"\")","v":0},{"$f":"IF(A38<>\"\",IFERROR(VLOOKUP(AJ40,Tabelas!B:D,3,0),0),\"\")","v":0},{"$f":"IF(A38<>\"\",IFERROR(VLOOKUP(AK40,Tabelas!B:D,3,0),0),\"\")","v":0},{"$f":"IF(A38<>\"\",IFERROR(VLOOKUP(AL40,Tabelas!B:D,3,0),0),\"\")","v":0},{"$f":"IF(A38<>\"\",IFERROR(VLOOKUP(AM40,Tabelas!B:D,3,0),0),\"\")","v":0},{"$f":"IF(A38<>\"\",IFERROR(VLOOKUP(AN40,Tabelas!B:D,3,0),0),\"\")","v":0},{"$f":"IF(A38<>\"\",IFERROR(VLOOKUP(AO40,Tabelas!B:D,3,0),0),\"\")","v":0},{"$f":"IF(A38<>\"\",IFERROR(VLOOKUP(AP40,Tabelas!B:D,3,0),0),\"\")","v":0},{"$f":"IF(A38<>\"\",IFERROR(VLOOKUP(AQ40,Tabelas!B:D,3,0),0),\"\")","v":0}]
["Yara Filomena",null,null,null,null,null,null,null,null,null,null,null,null,null,null,null,null,null,null,null,null,null,null,null,null,null,null,null,null,null,null,null,null,null,null,null,null,null,null,null,null,null,null,null,{"$f":"IF(B47<>\"\",IFERROR(VLOOKUP(N47,Tabelas!B:D,3,0),0),\"\")","v":""},{"$f":"IF(B47<>\"\",IFERROR(VLOOKUP(O47,Tabelas!B:D,3,0),0),\"\")","v":""},{"$f":"IF(B47<>\"\",IFERROR(VLOOKUP(P47,Tabelas!B:D,3,0),0),\"\")","v":""},{"$f":"IF(B47<>\"\",IFERROR(VLOOKUP(Q47,Tabelas!B:D,3,0),0),\"\")","v":""},{"$f":"IF(B47<>\"\",IFERROR(VLOOKUP(R47,Tabelas!B:D,3,0),0),\"\")","v":""},{"$f":"IF(B47<>\"\",IFERROR(VLOOKUP(S47,Tabelas!B:D,3,0),0),\"\")","v":""},{"$f":"IF(B47<>\"\",IFERROR(VLOOKUP(T47,Tabelas!B:D,3,0),0),\"\")","v":""},{"$f":"IF(B47<>\"\",IFERROR(VLOOKUP(U47,Tabelas!B:D,3,0),0),\"\")","v":""},{"$f":"IF(B47<>\"\",IFERROR(VLOOKUP(V47,Tabelas!B:D,3,0),0),\"\")","v":""},{"$f":"IF(B47<>\"\",IFERROR(VLOOKUP(W47,Tabelas!B:D,3,0),0),\"\")","v":""},{"$f":"IF(B47<>\"\",IFERROR(VLOOKUP(X47,Tabelas!B:D,3,0),0),\"\")","v":""},{"$f":"IF(B47<>\"\",IFERROR(VLOOKUP(Y47,Tabelas!B:D,3,0),0),\"\")","v":""},{"$f":"IF(B47<>\"\",IFERROR(VLOOKUP(Z47,Tabelas!B:D,3,0),0),\"\")","v":""},{"$f":"IF(B47<>\"\",IFERROR(VLOOKUP(AA47,Tabelas!B:D,3,0),0),\"\")","v":""},{"$f":"IF(B47<>\"\",IFERROR(VLOOKUP(AB47,Tabelas!B:D,3,0),0),\"\")","v":""},{"$f":"IF(B47<>\"\",IFERROR(VLOOKUP(AC47,Tabelas!B:D,3,0),0),\"\")","v":""},{"$f":"IF(B47<>\"\",IFERROR(VLOOKUP(AD47,Tabelas!B:D,3,0),0),\"\")","v":""},{"$f":"IF(B47<>\"\",IFERROR(VLOOKUP(AE47,Tabelas!B:D,3,0),0),\"\")","v":""},{"$f":"IF(B47<>\"\",IFERROR(VLOOKUP(AF47,Tabelas!B:D,3,0),0),\"\")","v":""},{"$f":"IF(B47<>\"\",IFERROR(VLOOKUP(AG47,Tabelas!B:D,3,0),0),\"\")","v":""},{"$f":"IF(B47<>\"\",IFERROR(VLOOKUP(AH47,Tabelas!B:D,3,0),0),\"\")","v":""},{"$f":"IF(B47<>\"\",IFERROR(VLOOKUP(AI47,Tabelas!B:D,3,0),0),\"\")","v":""},{"$f":"IF(B47<>\"\",IFERROR(VLOOKUP(AJ47,Tabelas!B:D,3,0),0),\"\")","v":""},{"$f":"IF(B47<>\"\",IFERROR(VLOOKUP(AK47,Tabelas!B:D,3,0),0),\"\")","v":""},{"$f":"IF(B47<>\"\",IFERROR(VLOOKUP(AL47,Tabelas!B:D,3,0),0),\"\")","v":""},{"$f":"IF(B47<>\"\",IFERROR(VLOOKUP(AM47,Tabelas!B:D,3,0),0),\"\")","v":""},{"$f":"IF(B47<>\"\",IFERROR(VLOOKUP(AN47,Tabelas!B:D,3,0),0),\"\")","v":""},{"$f":"IF(B47<>\"\",IFERROR(VLOOKUP(AO47,Tabelas!B:D,3,0),0),\"\")","v":""},{"$f":"IF(B47<>\"\",IFERROR(VLOOKUP(AP47,Tabelas!B:D,3,0),0),\"\")","v":""},{"$f":"IF(B47<>\"\",IFERROR(VLOOKUP(AQ47,Tabelas!B:D,3,0),0),\"\")","v":""},{"$f":"IF(B47<>\"\",IFERROR(VLOOKUP(AR44,Tabelas!B:D,3,0),0),\"\")","v":""}]
["Tamara"]
[null,null,null,null,null,null,null,null,null,null,null,null,null,null,null,null,null,null,null,null,null,null,null,null,null,null,null,null,null,null,null,null,null,null,null,null,null,null,null,null,null,null,null,null,{"$f":"IF(A49<>\"\",IFERROR(VLOOKUP(M49,Tabelas!B:D,3,0),0),\"\")","v":0},{"$f":"IF(A49<>\"\",IFERROR(VLOOKUP(N49,Tabelas!B:D,3,0),0),\"\")","v":0},{"$f":"IF(A49<>\"\",IFERROR(VLOOKUP(O49,Tabelas!B:D,3,0),0),\"\")","v":0},{"$f":"IF(A49<>\"\",IFERROR(VLOOKUP(P49,Tabelas!B:D,3,0),0),\"\")","v":0},{"$f":"IF(A49<>\"\",IFERROR(VLOOKUP(Q49,Tabelas!B:D,3,0),0),\"\")","v":0},{"$f":"IF(A49<>\"\",IFERROR(VLOOKUP(R49,Tabelas!B:D,3,0),0),\"\")","v":0},{"$f":"IF(A49<>\"\",IFERROR(VLOOKUP(S49,Tabelas!B:D,3,0),0),\"\")","v":0},{"$f":"IF(A49<>\"\",IFERROR(VLOOKUP(T49,Tabelas!B:D,3,0),0),\"\")","v":0},{"$f":"IF(A49<>\"\",IFERROR(VLOOKUP(U49,Tabelas!B:D,3,0),0),\"\")","v":0},{"$f":"IF(A49<>\"\",IFERROR(VLOOKUP(V49,Tabelas!B:D,3,0),0),\"\")","v":0},{"$f":"IF(A49<>\"\",IFERROR(VLOOKUP(W49,Tabelas!B:D,3,0),0),\"\")","v":0},{"$f":"IF(A49<>\"\",IFERROR(VLOOKUP(X49,Tabelas!B:D,3,0),0),\"\")","v":0},{"$f":"IF(A49<>\"\",IFERROR(VLOOKUP(Y49,Tabelas!B:D,3,0),0),\"\")","v":0},{"$f":"IF(A49<>\"\",IFERROR(VLOOKUP(Z49,Tabelas!B:D,3,0),0),\"\")","v":0},{"$f":"IF(A49<>\"\",IFERROR(VLOOKUP(AA49,Tabelas!B:D,3,0),0),\"\")","v":0},{"$f":"IF(A49<>\"\",IFERROR(VLOOKUP(AB49,Tabelas!B:D,3,0),0),\"\")","v":0},{"$f":"IF(A49<>\"\",IFERROR(VLOOKUP(AC49,Tabelas!B:D,3,0),0),\"\")","v":0},{"$f":"IF(A49<>\"\",IFERROR(VLOOKUP(AD49,Tabelas!B:D,3,0),0),\"\")","v":0},{"$f":"IF(A49<>\"\",IFERROR(VLOOKUP(AE49,Tabelas!B:D,3,0),0),\"\")","v":0},{"$f":"IF(A49<>\"\",IFERROR(VLOOKUP(AF49,Tabelas!B:D,3,0),0),\"\")","v":0},{"$f":"IF(A49<>\"\",IFERROR(VLOOKUP(AG49,Tabelas!B:D,3,0),0),\"\")","v":0},{"$f":"IF(A49<>\"\",IFERROR(VLOOKUP(AH49,Tabelas!B:D,3,0),0),\"\")","v":0},{"$f":"IF(A49<>\"\",IFERROR(VLOOKUP(AI49,Tabelas!B:D,3,0),0),\"\")","v":0},{"$f":"IF(A49<>\"\",IFERROR(VLOOKUP(AJ49,Tabelas!B:D,3,0),0),\"\")","v":0},{"$f":"IF(A49<>\"\",IFERROR(VLOOKUP(AK49,Tabelas!B:D,3,0),0),\"\")","v":0},{"$f":"IF(A49<>\"\",IFERROR(VLOOKUP(AL49,Tabelas!B:D,3,0),0),\"\")","v":0},{"$f":"IF(A49<>\"\",IFERROR(VLOOKUP(AM49,Tabelas!B:D,3,0),0),\"\")","v":0},{"$f":"IF(A49<>\"\",IFERROR(VLOOKUP(AN49,Tabelas!B:D,3,0),0),\"\")","v":0},{"$f":"IF(A49<>\"\",IFERROR(VLOOKUP(AO49,Tabelas!B:D,3,0),0),\"\")","v":0},{"$f":"IF(A49<>\"\",IFERROR(VLOOKUP(AP49,Tabelas!B:D,3,0),0),\"\")","v":0},{"$f":"IF(A49<>\"\",IFERROR(VLOOKUP(AQ49,Tabelas!B:D,3,0),0),\"\")","v":0}]
[null,null,null,null,null,null,null,null,null,null,null,null,null,null,null,null,null,null,null,null,null,null,null,null,null,null,null,null,null,null,null,null,null,null,null,null,null,null,null,null,null,null,null,null,{"$f":"IF(A50<>\"\",IFERROR(VLOOKUP(M50,Tabelas!B:D,3,0),0),\"\")","v":0},{"$f":"IF(A50<>\"\",IFERROR(VLOOKUP(N50,Tabelas!B:D,3,0),0),\"\")","v":0},{"$f":"IF(A50<>\"\",IFERROR(VLOOKUP(O50,Tabelas!B:D,3,0),0),\"\")","v":0},{"$f":"IF(A50<>\"\",IFERROR(VLOOKUP(P50,Tabelas!B:D,3,0),0),\"\")","v":0},{"$f":"IF(A50<>\"\",IFERROR(VLOOKUP(Q50,Tabelas!B:D,3,0),0),\"\")","v":0},{"$f":"IF(A50<>\"\",IFERROR(VLOOKUP(R50,Tabelas!B:D,3,0),0),\"\")","v":0},{"$f":"IF(A50<>\"\",IFERROR(VLOOKUP(S50,Tabelas!B:D,3,0),0),\"\")","v":0},{"$f":"IF(A50<>\"\",IFERROR(VLOOKUP(T50,Tabelas!B:D,3,0),0),\"\")","v":0},{"$f":"IF(A50<>\"\",IFERROR(VLOOKUP(U50,Tabelas!B:D,3,0),0),\"\")","v":0},{"$f":"IF(A50<>\"\",IFERROR(VLOOKUP(V50,Tabelas!B:D,3,0),0),\"\")","v":0},{"$f":"IF(A50<>\"\",IFERROR(VLOOKUP(W50,Tabelas!B:D,3,0),0),\"\")","v":0},{"$f":"IF(A50<>\"\",IFERROR(VLOOKUP(X50,Tabelas!B:D,3,0),0),\"\")","v":0},{"$f":"IF(A50<>\"\",IFERROR(VLOOKUP(Y50,Tabelas!B:D,3,0),0),\"\")","v":0},{"$f":"IF(A50<>\"\",IFERROR(VLOOKUP(Z50,Tabelas!B:D,3,0),0),\"\")","v":0},{"$f":"IF(A50<>\"\",IFERROR(VLOOKUP(AA50,Tabelas!B:D,3,0),0),\"\")","v":0},{"$f":"IF(A50<>\"\",IFERROR(VLOOKUP(AB50,Tabelas!B:D,3,0),0),\"\")","v":0},{"$f":"IF(A50<>\"\",IFERROR(VLOOKUP(AC50,Tabelas!B:D,3,0),0),\"\")","v":0},{"$f":"IF(A50<>\"\",IFERROR(VLOOKUP(AD50,Tabelas!B:D,3,0),0),\"\")","v":0},{"$f":"IF(A50<>\"\",IFERROR(VLOOKUP(AE50,Tabelas!B:D,3,0),0),\"\")","v":0},{"$f":"IF(A50<>\"\",IFERROR(VLOOKUP(AF50,Tabelas!B:D,3,0),0),\"\")","v":0},{"$f":"IF(A50<>\"\",IFERROR(VLOOKUP(AG50,Tabelas!B:D,3,0),0),\"\")","v":0},{"$f":"IF(A50<>\"\",IFERROR(VLOOKUP(AH50,Tabelas!B:D,3,0),0),\"\")","v":0},{"$f":"IF(A50<>\"\",IFERROR(VLOOKUP(AI50,Tabelas!B:D,3,0),0),\"\")","v":0},{"$f":"IF(A50<>\"\",IFERROR(VLOOKUP(AJ50,Tabelas!B:D,3,0),0),\"\")","v":0},{"$f":"IF(A50<>\"\",IFERROR(VLOOKUP(AK50,Tabelas!B:D,3,0),0),\"\")","v":0},{"$f":"IF(A50<>\"\",IFERROR(VLOOKUP(AL50,Tabelas!B:D,3,0),0),\"\")","v":0},{"$f":"IF(A50<>\"\",IFERROR(VLOOKUP(AM50,Tabelas!B:D,3,0),0),\"\")","v":0},{"$f":"IF(A50<>\"\",IFERROR(VLOOKUP(AN50,Tabelas!B:D,3,0),0),\"\")","v":0},{"$f":"IF(A50<>\"\",IFERROR(VLOOKUP(AO50,Tabelas!B:D,3,0),0),\"\")","v":0},{"$f":"IF(A50<>\"\",IFERROR(VLOOKUP(AP50,Tabelas!B:D,3,0),0),\"\")","v":0},{"$f":"IF(A50<>\"\",IFERROR(VLOOKUP(AQ50,Tabelas!B:D,3,0),0),\"\")","v":0}]
[null,null,null,null,null,null,null,null,null,null,null,null,null,null,null,null,null,null,null,null,null,null,null,null,null,null,null,null,null,null,null,null,null,null,null,null,null,null,null,null,null,null,null,null,{"$f":"IF(A51<>\"\",IFERROR(VLOOKUP(M51,Tabelas!B:D,3,0),0),\"\")","v":""},{"$f":"IF(A51<>\"\",IFERROR(VLOOKUP(N51,Tabelas!B:D,3,0),0),\"\")","v":""},{"$f":"IF(A51<>\"\",IFERROR(VLOOKUP(O51,Tabelas!B:D,3,0),0),\"\")","v":""},{"$f":"IF(A51<>\"\",IFERROR(VLOOKUP(P51,Tabelas!B:D,3,0),0),\"\")","v":""},{"$f":"IF(A51<>\"\",IFERROR(VLOOKUP(Q51,Tabelas!B:D,3,0),0),\"\")","v":""},{"$f":"IF(A51<>\"\",IFERROR(VLOOKUP(R51,Tabelas!B:D,3,0),0),\"\")","v":""},{"$f":"IF(A51<>\"\",IFERROR(VLOOKUP(S51,Tabelas!B:D,3,0),0),\"\")","v":""},{"$f":"IF(A51<>\"\",IFERROR(VLOOKUP(T51,Tabelas!B:D,3,0),0),\"\")","v":""},{"$f":"IF(A51<>\"\",IFERROR(VLOOKUP(U51,Tabelas!B:D,3,0),0),\"\")","v":""},{"$f":"IF(A51<>\"\",IFERROR(VLOOKUP(V51,Tabelas!B:D,3,0),0),\"\")","v":""},{"$f":"IF(A51<>\"\",IFERROR(VLOOKUP(W51,Tabelas!B:D,3,0),0),\"\")","v":""},{"$f":"IF(A51<>\"\",IFERROR(VLOOKUP(X51,Tabelas!B:D,3,0),0),\"\")","v":""},{"$f":"IF(A51<>\"\",IFERROR(VLOOKUP(Y51,Tabelas!B:D,3,0),0),\"\")","v":""},{"$f":"IF(A51<>\"\",IFERROR(VLOOKUP(Z51,Tabelas!B:D,3,0),0),\"\")","v":""},{"$f":"IF(A51<>\"\",IFERROR(VLOOKUP(AA51,Tabelas!B:D,3,0),0),\"\")","v":""},{"$f":"IF(A51<>\"\",IFERROR(VLOOKUP(AB51,Tabelas!B:D,3,0),0),\"\")","v":""},{"$f":"IF(A51<>\"\",IFERROR(VLOOKUP(AC51,Tabelas!B:D,3,0),0),\"\")","v":""},{"$f":"IF(A51<>\"\",IFERROR(VLOOKUP(AD51,Tabelas!B:D,3,0),0),\"\")","v":""},{"$f":"IF(A51<>\"\",IFERROR(VLOOKUP(AE51,Tabelas!B:D,3,0),0),\"\")","v":""},{"$f":"IF(A51<>\"\",IFERROR(VLOOKUP(AF51,Tabelas!B:D,3,0),0),\"\")","v":""},{"$f":"IF(A51<>\"\",IFERROR(VLOOKUP(AG51,Tabelas!B:D,3,0),0),\"\")","v":""},{"$f":"IF(A51<>\"\",IFERROR(VLOOKUP(AH51,Tabelas!B:D,3,0),0),\"\")","v":""},{"$f":"IF(A51<>\"\",IFERROR(VLOOKUP(AI51,Tabelas!B:D,3,0),0),\"\")","v":""},{"$f":"IF(A51<>\"\",IFERROR(VLOOKUP(AJ51,Tabelas!B:D,3,0),0),\"\")","v":""},{"$f":"IF(A51<>\"\",IFERROR(VLOOKUP(AK51,Tabelas!B:D,3,0),0),\"\")","v":""},{"$f":"IF(A51<>\"\",IFERROR(VLOOKUP(AL51,Tabelas!B:D,3,0),0),\"\")","v":""},{"$f":"IF(A51<>\"\",IFERROR(VLOOKUP(AM51,Tabelas!B:D,3,0),0),\"\")","v":""},{"$f":"IF(A51<>\"\",IFERROR(VLOOKUP(AN51,Tabelas!B:D,3,0),0),\"\")","v":""},{"$f":"IF(A51<>\"\",IFERROR(VLOOKUP(AO51,Tabelas!B:D,3,0),0),\"\")","v":""},{"$f":"IF(A51<>\"\",IFERROR(VLOOKUP(AP51,Tabelas!B:D,3,0),0),\"\")","v":""},{"$f":"IF(A51<>\"\",IFERROR(VLOOKUP(AQ51,Tabelas!B:D,3,0),0),\"\")","v":""}]
[]
[null,null,null,null,null,null,null,null,null,null,null,null,null,null,null,null,null,null,null,null,null,null,null,null,null,null,null,null,null,null,null,null,null,null,null,null,null,null,null,null,null,null,null,{"$f":"IF(COUNTIF(AQ9:AQ47,\"M*\")+ COUNTIF(AQ9:AQ47, \"D*\")-COUNTIF(AQ9:AQ47,\"DSR\")<>0,COUNTIF(AQ9:AQ47,\"M*\")+ COUNTIF(AQ9:AQ47, \"D*\")-COUNTIF(AQ9:AQ47,\"DSR\"),\"\")","v":""}]
[]
[]
[null,"TOTAL PROFISSIONAIS MATUTINO",null,null,null,null,null,null,null,null,null,null,null,{"$f":"IF(COUNTIF(M9:M47,\"M*\")+ COUNTIF(M9:M47, \"D*\")-COUNTIF(M9:M47,\"DSR\")<>0,COUNTIF(M9:M47,\"M*\")+ COUNTIF(M9:M47, \"D*\")-COUNTIF(M9:M47,\"DSR\"),\"\")","v":""},"","","","","","","","","","","","","","","","","","","","","","","","","","","","",""]
["TOTAL DE PROFISSIONAIS VESPERTINO",null,null,null,null,null,null,null,null,null,null,null,{"$f":"IF(COUNTIF(M9:M47,\"MT*\") + COUNTIF(M9:M47, \"D*\") + COUNTIF(M9:M47,\"T*\")-COUNTIF(M9:M47,\"DSR\")<>0,COUNTIF(M9:M47,\"MT*\") + COUNTIF(M9:M47, \"D*\") + COUNTIF(M9:M47,\"T*\")-COUNTIF(M9:M47,\"DSR\"),\"\")","v":""},"","","","","","","","","","","","","","","","","","","","","","","","","","","","","",""]
["TOTAL DE PROFISSIONAIS NOTURNO",null,null,null,null,null,null,null,null,null,null,null,{"$f":"IF(COUNTIF(M9:M49,\"N?*\") + COUNTIF(M9:M49, \"DN*\")<>0,COUNTIF(M9:M49,\"N?*\") + COUNTIF(M9:M49, \"DN*\"),\"\")","v":""},"","","","","","","","","","","","","","","","","","","","","","","","","","","","","",""]
[]
["Legenda:"]
["Licença Maternidade","LM","Férias",null,null,null,null,null,null,"FE",null,"Ponto Facultativo",null,null,null,null,null,null,null,"PF","Manhã *",null,null,null,null,null,null,"M","Diurno (8 hrs) *",null,null,null,null,null,null,"MT"]
["Licença Paternidade","LP","Feriado",null,null,null,null,null,null,"FD",null,"Abono **",null,null,null,null,null,null,null,"AB","Tarde *",null,null,null,null,null,null,"T","Dia/ noite (24 hrs) *",null,null,null,null,null,null,"DN"]
["Licença Médica/Odontológica","L","Descanso Semanal Remunerado",null,null,null,null,null,null,"DSR",null,"Compensação de Horas***",null,null,null,null,null,null,null,"CH","Plantão Dia (12 hrs) *",null,null,null,null,null,null,"D"]
["Licença Capacitação","LC","Recesso",null,null,null,null,null,null,"RC",null,"Afastamento**",null,null,null,null,null,null,null,"AF","Plantão Noite (12 hrs) *",null,null,null,null,null,null,"N"]
[]
["OBSERVAÇÕES:"]
["* Para inserção das legendas referentes às jornadas de trabalho, verificar a Tabela 1 do Anexo do Memorando-Circular - SEI nº   25 /2018/CAP/DGP-EBSERH."]
["** Para inserção das legendas referentes aos Afastamentos previstos em lei e às Compensações de horas, verificar a Tabela 2 do Anexo do Memorando-Circular - SEI nº   25 /2018/CAP/DGP-EBSERH."]

{"sheet":"Fevereiro","index":1,"n_rows":48,"n_cols":82,"rows_kept":48,"cut":false,"hidden":false,"merged":[[40,20,40,26],[41,2,41,8],[41,9,41,10],[41,11,41,18],[41,20,41,26],[40,2,40,8],[40,9,40,10],[42,20,42,26],[43,2,43,8],[43,9,43,10],[43,11,43,18],[43,20,43,26],[35,0,35,11],[36,0,36,11],[37,0,37,11],[42,2,42,8],[42,9,42,10],[42,11,42,18],[40,11,40,18],[1,0,1,42],[2,0,2,42],[3,0,3,42],[4,1,4,20],[4,23,4,34],[4,37,4,42],[5,6,5,11],[6,76,7,76],[6,77,7,77],[6,78,7,78],[6,79,7,79],[6,6,7,6],[6,7,7,7],[6,8,7,8],[6,11,7,11],[6,9,7,9],[6,10,7,10],[6,80,7,80],[6,81,7,81],[5,12,5,42],[5,43,5,73],[5,75,5,81],[5,74,7,74],[6,75,7,75],[35,79,37,79],[35,80,37,80],[35,81,37,81],[40,28,40,34],[41,28,41,34],[35,74,37,74],[35,75,37,75],[35,76,37,76],[35,77,37,77],[35,78,37,78]]}
[]
[]
["NOME DO HU"]
["ESCALA MENSAL DE TRABALHO"]
["DIVISÃO /SETOR/UNIDADE:",null,null,null,null,null,null,null,null,null,null,null,null,null,null,null,null,null,null,null,null,"MÊS:",null,"Fevereiro",null,null,null,null,null,null,null,null,null,null,null,"ANO:",null,2019]
["NOME COMPLETO","SIAPE","     Registro Conselho Classe","Cargo","Vínculo","    C.H Sem","INTERVALO",null,null,null,null,null,"DIAS DO MÊS",null,null,null,null,null,null,null,null,null,null,null,null,null,null,null,null,null,null,null,null,null,null,null,null,null,null,null,null,null,null,"CÁLCULO DAS HORAS",null,null,null,null,null,null,null,null,null,null,null,null,null,null,null,null,null,null,null,null,null,null,null,null,null,null,null,null,null,null,"CH Men.","Dias"]
[null,null,null,null,null,null,"15' M","15' T","15' N","1H D","1H N","2H",1,2,3,4,5,6,7,8,9,10,11,12,13,14,15,16,17,18,19,20,21,22,23,24,25,{"$f":"IF(DAY(DATE(AL5,VLOOKUP(X5,Tabelas!M:N,2,0)+1,1)-1)>=26,26,\"\")","v":26},{"$f":"IF(DAY(DATE(AL5,VLOOKUP(X5,Tabelas!M:N,2,0)+1,1)-1)>=27,27,\"\")","v":27},{"$f":"IF(DAY(DATE(AL5,VLOOKUP(X5,Tabelas!M:N,2,0)+1,1)-1)>=28,28,\"\")","v":28},{"$f":"IF(DAY(DATE(AL5,VLOOKUP(X5,Tabelas!M:N,2,0)+1,1)-1)>=29,29,\"\")","v":""},{"$f":"IF(DAY(DATE(AL5,VLOOKUP(X5,Tabelas!M:N,2,0)+1,1)-1)>=30,30,\"\")","v":""},{"$f":"IF(DAY(DATE(AL5,VLOOKUP(X5,Tabelas!M:N,2,0)+1,1)-1)>=31,31,\"\")","v":""},null,null,null,null,null,null,null,null,null,null,null,null,null,null,null,null,null,null,null,null,null,null,null,null,null,null,null,null,null,null,null,null,"LM/LP/L","AB","FE","LC","CH","AF  "," Total Afast."]
[null,null,null,null,null,null,null,null,null,null,null,null,{"$f":"IF(M7<>\"\",IFERROR(VLOOKUP(WEEKDAY(CONCATENATE(M7,$X$5,$AL$5)),Tabelas!$I:$J,2,0),\"\"),\"\")","v":"SEX"},{"$f":"IF(N7<>\"\",IFERROR(VLOOKUP(WEEKDAY(CONCATENATE(N7,$X$5,$AL$5)),Tabelas!$I:$J,2,0),\"\"),\"\")","v":"SAB"},{"$f":"IF(O7<>\"\",IFERROR(VLOOKUP(WEEKDAY(CONCATENATE(O7,$X$5,$AL$5)),Tabelas!$I:$J,2,0),\"\"),\"\")","v":"DOM"},{"$f":"IF(P7<>\"\",IFERROR(VLOOKUP(WEEKDAY(CONCATENATE(P7,$X$5,$AL$5)),Tabelas!$I:$J,2,0),\"\"),\"\")","v":"SEG"},{"$f":"IF(Q7<>\"\",IFERROR(VLOOKUP(WEEKDAY(CONCATENATE(Q7,$X$5,$AL$5)),Tabelas!$I:$J,2,0),\"\"),\"\")","v":"TER"},{"$f":"IF(R7<>\"\",IFERROR(VLOOKUP(WEEKDAY(CONCATENATE(R7,$X$5,$AL$5)),Tabelas!$I:$J,2,0),\"\"),\"\")","v":"QUA"},{"$f":"IF(S7<>\"\",IFERROR(VLOOKUP(WEEKDAY(CONCATENATE(S7,$X$5,$AL$5)),Tabelas!$I:$J,2,0),\"\"),\"\")","v":"QUI"},{"$f":"IF(T7<>\"\",IFERROR(VLOOKUP(WEEKDAY(CONCATENATE(T7,$X$5,$AL$5)),Tabelas!$I:$J,2,0),\"\"),\"\")","v":"SEX"},{"$f":"IF(U7<>\"\",IFERROR(VLOOKUP(WEEKDAY(CONCATENATE(U7,$X$5,$AL$5)),Tabelas!$I:$J,2,0),\"\"),\"\")","v":"SAB"},{"$f":"IF(V7<>\"\",IFERROR(VLOOKUP(WEEKDAY(CONCATENATE(V7,$X$5,$AL$5)),Tabelas!$I:$J,2,0),\"\"),\"\")","v":"DOM"},{"$f":"IF(W7<>\"\",IFERROR(VLOOKUP(WEEKDAY(CONCATENATE(W7,$X$5,$AL$5)),Tabelas!$I:$J,2,0),\"\"),\"\")","v":"SEG"},{"$f":"IF(X7<>\"\",IFERROR(VLOOKUP(WEEKDAY(CONCATENATE(X7,$X$5,$AL$5)),Tabelas!$I:$J,2,0),\"\"),\"\")","v":"TER"},{"$f":"IF(Y7<>\"\",IFERROR(VLOOKUP(WEEKDAY(CONCATENATE(Y7,$X$5,$AL$5)),Tabelas!$I:$J,2,0),\"\"),\"\")","v":"QUA"},{"$f":"IF(Z7<>\"\",IFERROR(VLOOKUP(WEEKDAY(CONCATENATE(Z7,$X$5,$AL$5)),Tabelas!$I:$J,2,0),\"\"),\"\")","v":"QUI"},{"$f":"IF(AA7<>\"\",IFERROR(VLOOKUP(WEEKDAY(CONCATENATE(AA7,$X$5,$AL$5)),Tabelas!$I:$J,2,0),\"\"),\"\")","v":"SEX"},{"$f":"IF(AB7<>\"\",IFERROR(VLOOKUP(WEEKDAY(CONCATENATE(AB7,$X$5,$AL$5)),Tabelas!$I:$J,2,0),\"\"),\"\")","v":"SAB"},{"$f":"IF(AC7<>\"\",IFERROR(VLOOKUP(WEEKDAY(CONCATENATE(AC7,$X$5,$AL$5)),Tabelas!$I:$J,2,0),\"\"),\"\")","v":"DOM"},{"$f":"IF(AD7<>\"\",IFERROR(VLOOKUP(WEEKDAY(CONCATENATE(AD7,$X$5,$AL$5)),Tabelas!$I:$J,2,0),\"\"),\"\")","v":"SEG"},{"$f":"IF(AE7<>\"\",IFERROR(VLOOKUP(WEEKDAY(CONCATENATE(AE7,$X$5,$AL$5)),Tabelas!$I:$J,2,0),\"\"),\"\")","v":"TER"},{"$f":"IF(AF7<>\"\",IFERROR(VLOOKUP(WEEKDAY(CONCATENATE(AF7,$X$5,$AL$5)),Tabelas!$I:$J,2,0),\"\"),\"\")","v":"QUA"},{"$f":"IF(AG7<>\"\",IFERROR(VLOOKUP(WEEKDAY(CONCATENATE(AG7,$X$5,$AL$5)),Tabelas!$I:$J,2,0),\"\"),\"\")","v":"QUI"},{"$f":"IF(AH7<>\"\",IFERROR(VLOOKUP(WEEKDAY(CONCATENATE(AH7,$X$5,$AL$5)),Tabelas!$I:$J,2,0),\"\"),\"\")","v":"SEX"},{"$f":"IF(AI7<>\"\",IFERROR(VLOOKUP(WEEKDAY(CONCATENATE(AI7,$X$5,$AL$5)),Tabelas!$I:$J,2,0),\"\"),\"\")","v":"SAB"},{"$f":"IF(AJ7<>\"\",IFERROR(VLOOKUP(WEEKDAY(CONCATENATE(AJ7,$X$5,$AL$5)),Tabelas!$I:$J,2,0),\"\"),\"\")","v":"DOM"},{"$f":"IF(AK7<>\"\",IFERROR(VLOOKUP(WEEKDAY(CONCATENATE(AK7,$X$5,$AL$5)),Tabelas!$I:$J,2,0),\"\"),\"\")","v":"SEG"},{"$f":"IF(AL7<>\"\",IFERROR(VLOOKUP(WEEKDAY(CONCATENATE(AL7,$X$5,$AL$5)),Tabelas!$I:$J,2,0),\"\"),\"\")","v":"TER"},{"$f":"IF(AM7<>\"\",IFERROR(VLOOKUP(WEEKDAY(CONCATENATE(AM7,$X$5,$AL$5)),Tabelas!$I:$J,2,0),\"\"),\"\")","v":"QUA"},{"$f":"IF(AN7<>\"\",IFERROR(VLOOKUP(WEEKDAY(CONCATENATE(AN7,$X$5,$AL$5)),Tabelas!$I:$J,2,0),\"\"),\"\")","v":"QUI"},{"$f":"IF(AO7<>\"\",IFERROR(VLOOKUP(WEEKDAY(CONCATENATE(AO7,$X$5,$AL$5)),Tabelas!$I:$J,2,0),\"\"),\"\")","v":""},{"$f":"IF(AP7<>\"\",IFERROR(VLOOKUP(WEEKDAY(CONCATENATE(AP7,$X$5,$AL$5)),Tabelas!$I:$J,2,0),\"\"),\"\")","v":""},{"$f":"IF(AQ7<>\"\",IFERROR(VLOOKUP(WEEKDAY(CONCATENATE(AQ7,$X$5,$AL$5)),Tabelas!$I:$J,2,0),\"\"),\"\")","v":""},1,2,3,4,5,6,7,8,9,10,11,12,13,14,15,16,17,18,19,20,21,22,23,24,25,26,27,28,29,30,31]
["Marcus Setally Azevedo Macena",3053065,null,"CD ","EBSERH ",30,null,null,null,47,null,null,null,null,"DSR","MT28","MT28","MT28","M17",null,null,"DSR","MT28","MT28","MT28","M17",null,null,"DSR","MT28","MT28","MT28","M17",null,null,"DSR","MT28","MT28","MT28","M17",null,null,null,{"$f":"IF(A9<>\"\",IFERROR(VLOOKUP(M9,Tabelas!B:D,3,0),0),\"\")","v":0},{"$f":"IF(A9<>\"\",IFERROR(VLOOKUP(N9,Tabelas!B:D,3,0),0),\"\")","v":0},{"$f":"IF(A9<>\"\",IFERROR(VLOOKUP(O9,Tabelas!B:D,3,0),0),\"\")","v":0},{"$f":"IF(A9<>\"\",IFERROR(VLOOKUP(P9,Tabelas!B:D,3,0),0),\"\")","v":8},{"$f":"IF(A9<>\"\",IFERROR(VLOOKUP(Q9,Tabelas!B:D,3,0),0),\"\")","v":8},{"$f":"IF(A9<>\"\",IFERROR(VLOOKUP(R9,Tabelas!B:D,3,0),0),\"\")","v":8},{"$f":"IF(A9<>\"\",IFERROR(VLOOKUP(S9,Tabelas!B:D,3,0),0),\"\")","v":6},{"$f":"IF(A9<>\"\",IFERROR(VLOOKUP(T9,Tabelas!B:D,3,0),0),\"\")","v":0},{"$f":"IF(A9<>\"\",IFERROR(VLOOKUP(U9,Tabelas!B:D,3,0),0),\"\")","v":0},{"$f":"IF(A9<>\"\",IFERROR(VLOOKUP(V9,Tabelas!B:D,3,0),0),\"\")","v":0},{"$f":"IF(A9<>\"\",IFERROR(VLOOKUP(W9,Tabelas!B:D,3,0),0),\"\")","v":8},{"$f":"IF(A9<>\"\",IFERROR(VLOOKUP(X9,Tabelas!B:D,3,0),0),\"\")","v":8},{"$f":"IF(A9<>\"\",IFERROR(VLOOKUP(Y9,Tabelas!B:D,3,0),0),\"\")","v":8},{"$f":"IF(A9<>\"\",IFERROR(VLOOKUP(Z9,Tabelas!B:D,3,0),0),\"\")","v":6},{"$f":"IF(A9<>\"\",IFERROR(VLOOKUP(AA9,Tabelas!B:D,3,0),0),\"\")","v":0},{"$f":"IF(A9<>\"\",IFERROR(VLOOKUP(AB9,Tabelas!B:D,3,0),0),\"\")","v":0},{"$f":"IF(A9<>\"\",IFERROR(VLOOKUP(AC9,Tabelas!B:D,3,0),0),\"\")","v":0},{"$f":"IF(A9<>\"\",IFERROR(VLOOKUP(AD9,Tabelas!B:D,3,0),0),\"\")","v":8},{"$f":"IF(A9<>\"\",IFERROR(VLOOKUP(AE9,Tabelas!B:D,3,0),0),\"\")","v":8},{"$f":"IF(A9<>\"\",IFERROR(VLOOKUP(AF9,Tabelas!B:D,3,0),0),\"\")","v":8},{"$f":"IF(A9<>\"\",IFERROR(VLOOKUP(AG9,Tabelas!B:D,3,0),0),\"\")","v":6},{"$f":"IF(A9<>\"\",IFERROR(VLOOKUP(AH9,Tabelas!B:D,3,0),0),\"\")","v":0},{"$f":"IF(A9<>\"\",IFERROR(VLOOKUP(AI9,Tabelas!B:D,3,0),0),\"\")","v":0},{"$f":"IF(A9<>\"\",IFERROR(VLOOKUP(AJ9,Tabelas!B:D,3,0),0),\"\")","v":0},{"$f":"IF(A9<>\"\",IFERROR(VLOOKUP(AK9,Tabelas!B:D,3,0),0),\"\")","v":8},{"$f":"IF(A9<>\"\",IFERROR(VLOOKUP(AL9,Tabelas!B:D,3,0),0),\"\")","v":8},{"$f":"IF(A9<>\"\",IFERROR(VLOOKUP(AM9,Tabelas!B:D,3,0),0),\"\")","v":8},{"$f":"IF(A9<>\"\",IFERROR(VLOOKUP(AN9,Tabelas!B:D,3,0),0),\"\")","v":6},{"$f":"IF(A9<>\"\",IFERROR(VLOOKUP(AO9,Tabelas!B:D,3,0),0),\"\")","v":0},{"$f":"IF(A9<>\"\",IFERROR(VLOOKUP(AP9,Tabelas!B:D,3,0),0),\"\")","v":0},{"$f":"IF(A9<>\"\",IFERROR(VLOOKUP(AQ9,Tabelas!B:D,3,0),0),\"\")","v":0},{"$f":"IF(AND(A9<>\"\",E9=\"Ebserh\"),SUM(AR9:BV9)+COUNTIF(M9:AQ9,\"N*\")+COUNTIF(M9:AQ9,\"DN*\"),IF(AND(A9<>\"\",E9<>\"Ebserh\"),SUM(AR9:BV9),\"\"))","v":120},{"$f":"IF(A9<>\"\",COUNTIF(M9:AQ9,\"LM\")+COUNTIF(M9:AQ9,\"L\")+COUNTIF(M9:AQ9,\"LP\"),\"\")","v":0},{"$f":"IF(A9<>\"\",COUNTIF(M9:AQ9,\"AB*\"),\"\")","v":0},{"$f":"IF(A9<>\"\",COUNTIF(M9:AQ9,\"FE\"),\"\")","v":0},{"$f":"IF(A9<>\"\",COUNTIF(M9:AQ9,\"LC\"),\"\")","v":0},{"$f":"IF(A9<>\"\",COUNTIF(M9:AQ9,\"CH*\"),\"\")","v":0},{"$f":"IF(A9<>\"\",COUNTIF(M9:AQ9,\"AF1\")+COUNTIF(M9:AQ9,\"AF2\")+COUNTIF(M9:AQ9,\"AF3\")+COUNTIF(M9:AQ9,\"AF4\")+COUNTIF(M9:AQ9,\"AF5\")+COUNTIF(M9:AQ9,\"AF6\")+COUNTIF(M9:AQ9,\"AF7\")+COUNTIF(M9:AQ9,\"AF8\")+COUNTIF(M9:AQ9,\"AF9\")+COUNTIF(M9:AQ9,\"AF10\")+COUNTIF(M9:AQ9,\"AF11\")+COUNTIF(M9:AQ9,\"AF12\")+COUNTIF(M9:AQ9,\"AF13\")+COUNTIF(M9:AQ9,\"AF14\"),\"\")","v":0},{"$f":"IF(A9<>\"\",COUNTIF(M9:AQ9,\"CH*\")+COUNTIF(M9:AQ9,\"L\")+COUNTIF(M9:AQ9,\"LM\")+COUNTIF(M9:AQ9,\"LP\")+COUNTIF(M9:AQ9,\"LC\")+COUNTIF(M9:AQ9,\"AB*\")+COUNTIF(M9:AQ9,\"AF1\")+COUNTIF(M9:AQ9,\"AF2\")+COUNTIF(M9:AQ9,\"AF3\")+COUNTIF(M9:AQ9,\"AF4\")+COUNTIF(M9:AQ9,\"AF5\")+COUNTIF(M9:AQ9,\"AF6\")+COUNTIF(M9:AQ9,\"AF7\")+COUNTIF(M9:AQ9,\"AF8\")+COUNTIF(M9:AQ9,\"AF9\")+COUNTIF(M9:AQ9,\"AF10\")+COUNTIF(M9:AQ9,\"AF11\")+COUNTIF(M9:AQ9,\"AF12\")+COUNTIF(M9:AQ9,\"AF13\")+COUNTIF(M9:AQ9,\"AF14\")+COUNTIF(M9:AQ9,\"RC\")+COUNTIF(M9:AQ9,\"FO\")+COUNTIF(M9:AQ9,\"FE\"),\"\")","v":0}]
["FULANO 2",2,null,null,null,null,null,null,null,null,null,null,null,null,null,null,null,null,null,null,null,null,null,null,null,null,null,null,null,null,null,null,null,null,null,null,null,null,null,null,null,null,null,{"$f":"IF(A10<>\"\",IFERROR(VLOOKUP(M10,Tabelas!B:D,3,0),0),\"\")","v":0},{"$f":"IF(A10<>\"\",IFERROR(VLOOKUP(N10,Tabelas!B:D,3,0),0),\"\")","v":0},{"$f":"IF(A10<>\"\",IFERROR(VLOOKUP(O10,Tabelas!B:D,3,0),0),\"\")","v":0},{"$f":"IF(A10<>\"\",IFERROR(VLOOKUP(P10,Tabelas!B:D,3,0),0),\"\")","v":0},{"$f":"IF(A10<>\"\",IFERROR(VLOOKUP(Q10,Tabelas!B:D,3,0),0),\"\")","v":0},{"$f":"IF(A10<>\"\",IFERROR(VLOOKUP(R10,Tabelas!B:D,3,0),0),\"\")","v":0},{"$f":"IF(A10<>\"\",IFERROR(VLOOKUP(S10,Tabelas!B:D,3,0),0),\"\")","v":0},{"$f":"IF(A10<>\"\",IFERROR(VLOOKUP(T10,Tabelas!B:D,3,0),0),\"\")","v":0},{"$f":"IF(A10<>\"\",IFERROR(VLOOKUP(U10,Tabelas!B:D,3,0),0),\"\")","v":0},{"$f":"IF(A10<>\"\",IFERROR(VLOOKUP(V10,Tabelas!B:D,3,0),0),\"\")","v":0},{"$f":"IF(A10<>\"\",IFERROR(VLOOKUP(W10,Tabelas!B:D,3,0),0),\"\")","v":0},{"$f":"IF(A10<>\"\",IFERROR(VLOOKUP(X10,Tabelas!B:D,3,0),0),\"\")","v":0},{"$f":"IF(A10<>\"\",IFERROR(VLOOKUP(Y10,Tabelas!B:D,3,0),0),\"\")","v":0},{"$f":"IF(A10<>\"\",IFERROR(VLOOKUP(Z10,Tabelas!B:D,3,0),0),\"\")","v":0},{"$f":"IF(A10<>\"\",IFERROR(VLOOKUP(AA10,Tabelas!B:D,3,0),0),\"\")","v":0},{"$f":"IF(A10<>\"\",IFERROR(VLOOKUP(AB10,Tabelas!B:D,3,0),0),\"\")","v":0},{"$f":"IF(A10<>\"\",IFERROR(VLOOKUP(AC10,Tabelas!B:D,3,0),0),\"\")","v":0},{"$f":"IF(A10<>\"\",IFERROR(VLOOKUP(AD10,Tabelas!B:D,3,0),0),\"\")","v":0},{"$f":"IF(A10<>\"\",IFERROR(VLOOKUP(AE10,Tabelas!B:D,3,0),0),\"\")","v":0},{"$f":"IF(A10<>\"\",IFERROR(VLOOKUP(AF10,Tabelas!B:D,3,0),0),\"\")","v":0},{"$f":"IF(A10<>\"\",IFERROR(VLOOKUP(AG10,Tabelas!B:D,3,0),0),\"\")","v":0},{"$f":"IF(A10<>\"\",IFERROR(VLOOKUP(AH10,Tabelas!B:D,3,0),0),\"\")","v":0},{"$f":"IF(A10<>\"\",IFERROR(VLOOKUP(AI10,Tabelas!B:D,3,0),0),\"\")","v":0},{"$f":"IF(A10<>\"\",IFERROR(VLOOKUP(AJ10,Tabelas!B:D,3,0),0),\"\")","v":0},{"$f":"IF(A10<>\"\",IFERROR(VLOOKUP(AK10,Tabelas!B:D,3,0),0),\"\")","v":0},{"$f":"IF(A10<>\"\",IFERROR(VLOOKUP(AL10,Tabelas!B:D,3,0),0),\"\")","v":0},{"$f":"IF(A10<>\"\",IFERROR(VLOOKUP(AM10,Tabelas!B:D,3,0),0),\"\")","v":0},{"$f":"IF(A10<>\"\",IFERROR(VLOOKUP(AN10,Tabelas!B:D,3,0),0),\"\")","v":0},{"$f":"IF(A10<>\"\",IFERROR(VLOOKUP(AO10,Tabelas!B:D,3,0),0),\"\")","v":0},{"$f":"IF(A10<>\"\",IFERROR(VLOOKUP(AP10,Tabelas!B:D,3,0),0),\"\")","v":0},{"$f":"IF(A10<>\"\",IFERROR(VLOOKUP(AQ10,Tabelas!B:D,3,0),0),\"\")","v":0},0,0,0,0,0,0,0,0]
["FULANO 3",3,null,null,null,null,null,null,null,null,null,null,null,null,null,null,null,null,null,null,null,null,null,null,null,null,null,null,null,null,null,null,null,null,null,null,null,null,null,null,null,null,null,{"$f":"IF(A11<>\"\",IFERROR(VLOOKUP(M11,Tabelas!B:D,3,0),0),\"\")","v":0},{"$f":"IF(A11<>\"\",IFERROR(VLOOKUP(N11,Tabelas!B:D,3,0),0),\"\")","v":0},{"$f":"IF(A11<>\"\",IFERROR(VLOOKUP(O11,Tabelas!B:D,3,0),0),\"\")","v":0},{"$f":"IF(A11<>\"\",IFERROR(VLOOKUP(P11,Tabelas!B:D,3,0),0),\"\")","v":0},{"$f":"IF(A11<>\"\",IFERROR(VLOOKUP(Q11,Tabelas!B:D,3,0),0),\"\")","v":0},{"$f":"IF(A11<>\"\",IFERROR(VLOOKUP(R11,Tabelas!B:D,3,0),0),\"\")","v":0},{"$f":"IF(A11<>\"\",IFERROR(VLOOKUP(S11,Tabelas!B:D,3,0),0),\"\")","v":0},{"$f":"IF(A11<>\"\",IFERROR(VLOOKUP(T11,Tabelas!B:D,3,0),0),\"\")","v":0},{"$f":"IF(A11<>\"\",IFERROR(VLOOKUP(U11,Tabelas!B:D,3,0),0),\"\")","v":0},{"$f":"IF(A11<>\"\",IFERROR(VLOOKUP(V11,Tabelas!B:D,3,0),0),\"\")","v":0},{"$f":"IF(A11<>\"\",IFERROR(VLOOKUP(W11,Tabelas!B:D,3,0),0),\"\")","v":0},{"$f":"IF(A11<>\"\",IFERROR(VLOOKUP(X11,Tabelas!B:D,3,0),0),\"\")","v":0},{"$f":"IF(A11<>\"\",IFERROR(VLOOKUP(Y11,Tabelas!B:D,3,0),0),\"\")","v":0},{"$f":"IF(A11<>\"\",IFERROR(VLOOKUP(Z11,Tabelas!B:D,3,0),0),\"\")","v":0},{"$f":"IF(A11<>\"\",IFERROR(VLOOKUP(AA11,Tabelas!B:D,3,0),0),\"\")","v":0},{"$f":"IF(A11<>\"\",IFERROR(VLOOKUP(AB11,Tabelas!B:D,3,0),0),\"\")","v":0},{"$f":"IF(A11<>\"\",IFERROR(VLOOKUP(AC11,Tabelas!B:D,3,0),0),\"\")","v":0},{"$f":"IF(A11<>\"\",IFERROR(VLOOKUP(AD11,Tabelas!B:D,3,0),0),\"\")","v":0},{"$f":"IF(A11<>\"\",IFERROR(VLOOKUP(AE11,Tabelas!B:D,3,0),0),\"\")","v":0},{"$f":"IF(A11<>\"\",IFERROR(VLOOKUP(AF11,Tabelas!B:D,3,0),0),\"\")","v":0},{"$f":"IF(A11<>\"\",IFERROR(VLOOKUP(AG11,Tabelas!B:D,3,0),0),\"\")","v":0},{"$f":"IF(A11<>\"\",IFERROR(VLOOKUP(AH11,Tabelas!B:D,3,0),0),\"\")","v":0},{"$f":"IF(A11<>\"\",IFERROR(VLOOKUP(AI11,Tabelas!B:D,3,0),0),\"\")","v":0},{"$f":"IF(A11<>\"\",IFERROR(VLOOKUP(AJ11,Tabelas!B:D,3,0),0),\"\")","v":0},{"$f":"IF(A11<>\"\",IFERROR(VLOOKUP(AK11,Tabelas!B:D,3,0),0),\"\")","v":0},{"$f":"IF(A11<>\"\",IFERROR(VLOOKUP(AL11,Tabelas!B:D,3,0),0),\"\")","v":0},{"$f":"IF(A11<>\"\",IFERROR(VLOOKUP(AM11,Tabelas!B:D,3,0),0),\"\")","v":0},{"$f":"IF(A11<>\"\",IFERROR(VLOOKUP(AN11,Tabelas!B:D,3,0),0),\"\")","v":0},{"$f":"IF(A11<>\"\",IFERROR(VLOOKUP(AO11,Tabelas!B:D,3,0),0),\"\")","v":0},{"$f":"IF(A11<>\"\",IFERROR(VLOOKUP(AP11,Tabelas!B:D,3,0),0),\"\")","v":0},{"$f":"IF(A11<>\"\",IFERROR(VLOOKUP(AQ11,Tabelas!B:D,3,0),0),\"\")","v":0},0,0,0,0,0,0,0,0]
["FULANO 4",4,null,null,null,null,null,null,null,null,null,null,null,null,null,null,null,null,null,null,null,null,null,null,null,null,null,null,null,null,null,null,null,null,null,null,null,null,null,null,null,null,null,{"$f":"IF(A12<>\"\",IFERROR(VLOOKUP(M12,Tabelas!B:D,3,0),0),\"\")","v":0},{"$f":"IF(A12<>\"\",IFERROR(VLOOKUP(N12,Tabelas!B:D,3,0),0),\"\")","v":0},{"$f":"IF(A12<>\"\",IFERROR(VLOOKUP(O12,Tabelas!B:D,3,0),0),\"\")","v":0},{"$f":"IF(A12<>\"\",IFERROR(VLOOKUP(P12,Tabelas!B:D,3,0),0),\"\")","v":0},{"$f":"IF(A12<>\"\",IFERROR(VLOOKUP(Q12,Tabelas!B:D,3,0),0),\"\")","v":0},{"$f":"IF(A12<>\"\",IFERROR(VLOOKUP(R12,Tabelas!B:D,3,0),0),\"\")","v":0},{"$f":"IF(A12<>\"\",IFERROR(VLOOKUP(S12,Tabelas!B:D,3,0),0),\"\")","v":0},{"$f":"IF(A12<>\"\",IFERROR(VLOOKUP(T12,Tabelas!B:D,3,0),0),\"\")","v":0},{"$f":"IF(A12<>\"\",IFERROR(VLOOKUP(U12,Tabelas!B:D,3,0),0),\"\")","v":0},{"$f":"IF(A12<>\"\",IFERROR(VLOOKUP(V12,Tabelas!B:D,3,0),0),\"\")","v":0},{"$f":"IF(A12<>\"\",IFERROR(VLOOKUP(W12,Tabelas!B:D,3,0),0),\"\")","v":0},{"$f":"IF(A12<>\"\",IFERROR(VLOOKUP(X12,Tabelas!B:D,3,0),0),\"\")","v":0},{"$f":"IF(A12<>\"\",IFERROR(VLOOKUP(Y12,Tabelas!B:D,3,0),0),\"\")","v":0},{"$f":"IF(A12<>\"\",IFERROR(VLOOKUP(Z12,Tabelas!B:D,3,0),0),\"\")","v":0},{"$f":"IF(A12<>\"\",IFERROR(VLOOKUP(AA12,Tabelas!B:D,3,0),0),\"\")","v":0},{"$f":"IF(A12<>\"\",IFERROR(VLOOKUP(AB12,Tabelas!B:D,3,0),0),\"\")","v":0},{"$f":"IF(A12<>\"\",IFERROR(VLOOKUP(AC12,Tabelas!B:D,3,0),0),\"\")","v":0},{"$f":"IF(A12<>\"\",IFERROR(VLOOKUP(AD12,Tabelas!B:D,3,0),0),\"\")","v":0},{"$f":"IF(A12<>\"\",IFERROR(VLOOKUP(AE12,Tabelas!B:D,3,0),0),\"\")","v":0},{"$f":"IF(A12<>\"\",IFERROR(VLOOKUP(AF12,Tabelas!B:D,3,0),0),\"\")","v":0},{"$f":"IF(A12<>\"\",IFERROR(VLOOKUP(AG12,Tabelas!B:D,3,0),0),\"\")","v":0},{"$f":"IF(A12<>\"\",IFERROR(VLOOKUP(AH12,Tabelas!B:D,3,0),0),\"\")","v":0},{"$f":"IF(A12<>\"\",IFERROR(VLOOKUP(AI12,Tabelas!B:D,3,0),0),\"\")","v":0},{"$f":"IF(A12<>\"\",IFERROR(VLOOKUP(AJ12,Tabelas!B:D,3,0),0),\"\")","v":0},{"$f":"IF(A12<>\"\",IFERROR(VLOOKUP(AK12,Tabelas!B:D,3,0),0),\"\")","v":0},{"$f":"IF(A12<>\"\",IFERROR(VLOOKUP(AL12,Tabelas!B:D,3,0),0),\"\")","v":0},{"$f":"IF(A12<>\"\",IFERROR(VLOOKUP(AM12,Tabelas!B:D,3,0),0),\"\")","v":0},{"$f":"IF(A12<>\"\",IFERROR(VLOOKUP(AN12,Tabelas!B:D,3,0),0),\"\")","v":0},{"$f":"IF(A12<>\"\",IFERROR(VLOOKUP(AO12,Tabelas!B:D,3,0),0),\"\")","v":0},{"$f":"IF(A12<>\"\",IFERROR(VLOOKUP(AP12,Tabelas!B:D,3,0),0),\"\")","v":0},{"$f":"IF(A12<>\"\",IFERROR(VLOOKUP(AQ12,Tabelas!B:D,3,0),0),\"\")","v":0},0,0,0,0,0,0,0,0]
["FULANO 5",5,null,null,null,null,null,null,null,null,null,null,null,null,null,null,null,null,null,null,null,null,null,null,null,null,null,null,null,null,null,null,null,null,null,null,null,null,null,null,null,null,null,{"$f":"IF(A13<>\"\",IFERROR(VLOOKUP(M13,Tabelas!B:D,3,0),0),\"\")","v":0},{"$f":"IF(A13<>\"\",IFERROR(VLOOKUP(N13,Tabelas!B:D,3,0),0),\"\")","v":0},{"$f":"IF(A13<>\"\",IFERROR(VLOOKUP(O13,Tabelas!B:D,3,0),0),\"\")","v":0},{"$f":"IF(A13<>\"\",IFERROR(VLOOKUP(P13,Tabelas!B:D,3,0),0),\"\")","v":0},{"$f":"IF(A13<>\"\",IFERROR(VLOOKUP(Q13,Tabelas!B:D,3,0),0),\"\")","v":0},{"$f":"IF(A13<>\"\",IFERROR(VLOOKUP(R13,Tabelas!B:D,3,0),0),\"\")","v":0},{"$f":"IF(A13<>\"\",IFERROR(VLOOKUP(S13,Tabelas!B:D,3,0),0),\"\")","v":0},{"$f":"IF(A13<>\"\",IFERROR(VLOOKUP(T13,Tabelas!B:D,3,0),0),\"\")","v":0},{"$f":"IF(A13<>\"\",IFERROR(VLOOKUP(U13,Tabelas!B:D,3,0),0),\"\")","v":0},{"$f":"IF(A13<>\"\",IFERROR(VLOOKUP(V13,Tabelas!B:D,3,0),0),\"\")","v":0},{"$f":"IF(A13<>\"\",IFERROR(VLOOKUP(W13,Tabelas!B:D,3,0),0),\"\")","v":0},{"$f":"IF(A13<>\"\",IFERROR(VLOOKUP(X13,Tabelas!B:D,3,0),0),\"\")","v":0},{"$f":"IF(A13<>\"\",IFERROR(VLOOKUP(Y13,Tabelas!B:D,3,0),0),\"\")","v":0},{"$f":"IF(A13<>\"\",IFERROR(VLOOKUP(Z13,Tabelas!B:D,3,0),0),\"\")","v":0},{"$f":"IF(A13<>\"\",IFERROR(VLOOKUP(AA13,Tabelas!B:D,3,0),0),\"\")","v":0},{"$f":"IF(A13<>\"\",IFERROR(VLOOKUP(AB13,Tabelas!B:D,3,0),0),\"\")","v":0},{"$f":"IF(A13<>\"\",IFERROR(VLOOKUP(AC13,Tabelas!B:D,3,0),0),\"\")","v":0},{"$f":"IF(A13<>\"\",IFERROR(VLOOKUP(AD13,Tabelas!B:D,3,0),0),\"\")","v":0},{"$f":"IF(A13<>\"\",IFERROR(VLOOKUP(AE13,Tabelas!B:D,3,0),0),\"\")","v":0},{"$f":"IF(A13<>\"\",IFERROR(VLOOKUP(AF13,Tabelas!B:D,3,0),0),\"\")","v":0},{"$f":"IF(A13<>\"\",IFERROR(VLOOKUP(AG13,Tabelas!B:D,3,0),0),\"\")","v":0},{"$f":"IF(A13<>\"\",IFERROR(VLOOKUP(AH13,Tabelas!B:D,3,0),0),\"\")","v":0},{"$f":"IF(A13<>\"\",IFERROR(VLOOKUP(AI13,Tabelas!B:D,3,0),0),\"\")","v":0},{"$f":"IF(A13<>\"\",IFERROR(VLOOKUP(AJ13,Tabelas!B:D,3,0),0),\"\")","v":0},{"$f":"IF(A13<>\"\",IFERROR(VLOOKUP(AK13,Tabelas!B:D,3,0),0),\"\")","v":0},{"$f":"IF(A13<>\"\",IFERROR(VLOOKUP(AL13,Tabelas!B:D,3,0),0),\"\")","v":0},{"$f":"IF(A13<>\"\",IFERROR(VLOOKUP(AM13,Tabelas!B:D,3,0),0),\"\")","v":0},{"$f":"IF(A13<>\"\",IFERROR(VLOOKUP(AN13,Tabelas!B:D,3,0),0),\"\")","v":0},{"$f":"IF(A13<>\"\",IFERROR(VLOOKUP(AO13,Tabelas!B:D,3,0),0),\"\")","v":0},{"$f":"IF(A13<>\"\",IFERROR(VLOOKUP(AP13,Tabelas!B:D,3,0),0),\"\")","v":0},{"$f":"IF(A13<>\"\",IFERROR(VLOOKUP(AQ13,Tabelas!B:D,3,0),0),\"\")","v":0},0,0,0,0,0,0,0,0]
["FULANO 6",6,null,null,null,null,null,null,null,null,null,null,null,null,null,null,null,null,null,null,null,null,null,null,null,null,null,null,null,null,null,null,null,null,null,null,null,null,null,null,null,null,null,{"$f":"IF(A14<>\"\",IFERROR(VLOOKUP(M14,Tabelas!B:D,3,0),0),\"\")","v":0},{"$f":"IF(A14<>\"\",IFERROR(VLOOKUP(N14,Tabelas!B:D,3,0),0),\"\")","v":0},{"$f":"IF(A14<>\"\",IFERROR(VLOOKUP(O14,Tabelas!B:D,3,0),0),\"\")","v":0},{"$f":"IF(A14<>\"\",IFERROR(VLOOKUP(P14,Tabelas!B:D,3,0),0),\"\")","v":0},{"$f":"IF(A14<>\"\",IFERROR(VLOOKUP(Q14,Tabelas!B:D,3,0),0),\"\")","v":0},{"$f":"IF(A14<>\"\",IFERROR(VLOOKUP(R14,Tabelas!B:D,3,0),0),\"\")","v":0},{"$f":"IF(A14<>\"\",IFERROR(VLOOKUP(S14,Tabelas!B:D,3,0),0),\"\")","v":0},{"$f":"IF(A14<>\"\",IFERROR(VLOOKUP(T14,Tabelas!B:D,3,0),0),\"\")","v":0},{"$f":"IF(A14<>\"\",IFERROR(VLOOKUP(U14,Tabelas!B:D,3,0),0),\"\")","v":0},{"$f":"IF(A14<>\"\",IFERROR(VLOOKUP(V14,Tabelas!B:D,3,0),0),\"\")","v":0},{"$f":"IF(A14<>\"\",IFERROR(VLOOKUP(W14,Tabelas!B:D,3,0),0),\"\")","v":0},{"$f":"IF(A14<>\"\",IFERROR(VLOOKUP(X14,Tabelas!B:D,3,0),0),\"\")","v":0},{"$f":"IF(A14<>\"\",IFERROR(VLOOKUP(Y14,Tabelas!B:D,3,0),0),\"\")","v":0},{"$f":"IF(A14<>\"\",IFERROR(VLOOKUP(Z14,Tabelas!B:D,3,0),0),\"\")","v":0},{"$f":"IF(A14<>\"\",IFERROR(VLOOKUP(AA14,Tabelas!B:D,3,0),0),\"\")","v":0},{"$f":"IF(A14<>\"\",IFERROR(VLOOKUP(AB14,Tabelas!B:D,3,0),0),\"\")","v":0},{"$f":"IF(A14<>\"\",IFERROR(VLOOKUP(AC14,Tabelas!B:D,3,0),0),\"\")","v":0},{"$f":"IF(A14<>\"\",IFERROR(VLOOKUP(AD14,Tabelas!B:D,3,0),0),\"\")","v":0},{"$f":"IF(A14<>\"\",IFERROR(VLOOKUP(AE14,Tabelas!B:D,3,0),0),\"\")","v":0},{"$f":"IF(A14<>\"\",IFERROR(VLOOKUP(AF14,Tabelas!B:D,3,0),0),\"\")","v":0},{"$f":"IF(A14<>\"\",IFERROR(VLOOKUP(AG14,Tabelas!B:D,3,0),0),\"\")","v":0},{"$f":"IF(A14<>\"\",IFERROR(VLOOKUP(AH14,Tabelas!B:D,3,0),0),\"\")","v":0},{"$f":"IF(A14<>\"\",IFERROR(VLOOKUP(AI14,Tabelas!B:D,3,0),0),\"\")","v":0},{"$f":"IF(A14<>\"\",IFERROR(VLOOKUP(AJ14,Tabelas!B:D,3,0),0),\"\")","v":0},{"$f":"IF(A14<>\"\",IFERROR(VLOOKUP(AK14,Tabelas!B:D,3,0),0),\"\")","v":0},{"$f":"IF(A14<>\"\",IFERROR(VLOOKUP(AL14,Tabelas!B:D,3,0),0),\"\")","v":0},{"$f":"IF(A14<>\"\",IFERROR(VLOOKUP(AM14,Tabelas!B:D,3,0),0),\"\")","v":0},{"$f":"IF(A14<>\"\",IFERROR(VLOOKUP(AN14,Tabelas!B:D,3,0),0),\"\")","v":0},{"$f":"IF(A14<>\"\",IFERROR(VLOOKUP(AO14,Tabelas!B:D,3,0),0),\"\")","v":0},{"$f":"IF(A14<>\"\",IFERROR(VLOOKUP(AP14,Tabelas!B:D,3,0),0),\"\")","v":0},{"$f":"IF(A14<>\"\",IFERROR(VLOOKUP(AQ14,Tabelas!B:D,3,0),0),\"\")","v":0},0,0,0,0,0,0,0,0]
["FULANO 7",7,null,null,null,null,null,null,null,null,null,null,null,null,null,null,null,null,null,null,null,null,null,null,null,null,null,null,null,null,null,null,null,null,null,null,null,null,null,null,null,null,null,{"$f":"IF(A15<>\"\",IFERROR(VLOOKUP(M15,Tabelas!B:D,3,0),0),\"\")","v":0},{"$f":"IF(A15<>\"\",IFERROR(VLOOKUP(N15,Tabelas!B:D,3,0),0),\"\")","v":0},{"$f":"IF(A15<>\"\",IFERROR(VLOOKUP(O15,Tabelas!B:D,3,0),0),\"\")","v":0},{"$f":"IF(A15<>\"\",IFERROR(VLOOKUP(P15,Tabelas!B:D,3,0),0),\"\")","v":0},{"$f":"IF(A15<>\"\",IFERROR(VLOOKUP(Q15,Tabelas!B:D,3,0),0),\"\")","v":0},{"$f":"IF(A15<>\"\",IFERROR(VLOOKUP(R15,Tabelas!B:D,3,0),0),\"\")","v":0},{"$f":"IF(A15<>\"\",IFERROR(VLOOKUP(S15,Tabelas!B:D,3,0),0),\"\")","v":0},{"$f":"IF(A15<>\"\",IFERROR(VLOOKUP(T15,Tabelas!B:D,3,0),0),\"\")","v":0},{"$f":"IF(A15<>\"\",IFERROR(VLOOKUP(U15,Tabelas!B:D,3,0),0),\"\")","v":0},{"$f":"IF(A15<>\"\",IFERROR(VLOOKUP(V15,Tabelas!B:D,3,0),0),\"\")","v":0},{"$f":"IF(A15<>\"\",IFERROR(VLOOKUP(W15,Tabelas!B:D,3,0),0),\"\")","v":0},{"$f":"IF(A15<>\"\",IFERROR(VLOOKUP(X15,Tabelas!B:D,3,0),0),\"\")","v":0},{"$f":"IF(A15<>\"\",IFERROR(VLOOKUP(Y15,Tabelas!B:D,3,0),0),\"\")","v":0},{"$f":"IF(A15<>\"\",IFERROR(VLOOKUP(Z15,Tabelas!B:D,3,0),0),\"\")","v":0},{"$f":"IF(A15<>\"\",IFERROR(VLOOKUP(AA15,Tabelas!B:D,3,0),0),\"\")","v":0},{"$f":"IF(A15<>\"\",IFERROR(VLOOKUP(AB15,Tabelas!B:D,3,0),0),\"\")","v":0},{"$f":"IF(A15<>\"\",IFERROR(VLOOKUP(AC15,Tabelas!B:D,3,0),0),\"\")","v":0},{"$f":"IF(A15<>\"\",IFERROR(VLOOKUP(AD15,Tabelas!B:D,3,0),0),\"\")","v":0},{"$f":"IF(A15<>\"\",IFERROR(VLOOKUP(AE15,Tabelas!B:D,3,0),0),\"\")","v":0},{"$f":"IF(A15<>\"\",IFERROR(VLOOKUP(AF15,Tabelas!B:D,3,0),0),\"\")","v":0},{"$f":"IF(A15<>\"\",IFERROR(VLOOKUP(AG15,Tabelas!B:D,3,0),0),\"\")","v":0},{"$f":"IF(A15<>\"\",IFERROR(VLOOKUP(AH15,Tabelas!B:D,3,0),0),\"\")","v":0},{"$f":"IF(A15<>\"\",IFERROR(VLOOKUP(AI15,Tabelas!B:D,3,0),0),\"\")","v":0},{"$f":"IF(A15<>\"\",IFERROR(VLOOKUP(AJ15,Tabelas!B:D,3,0),0),\"\")","v":0},{"$f":"IF(A15<>\"\",IFERROR(VLOOKUP(AK15,Tabelas!B:D,3,0),0),\"\")","v":0},{"$f":"IF(A15<>\"\",IFERROR(VLOOKUP(AL15,Tabelas!B:D,3,0),0),\"\")","v":0},{"$f":"IF(A15<>\"\",IFERROR(VLOOKUP(AM15,Tabelas!B:D,3,0),0),\"\")","v":0},{"$f":"IF(A15<>\"\",IFERROR(VLOOKUP(AN15,Tabelas!B:D,3,0),0),\"\")","v":0},{"$f":"IF(A15<>\"\",IFERROR(VLOOKUP(AO15,Tabelas!B:D,3,0),0),\"\")","v":0},{"$f":"IF(A15<>\"\",IFERROR(VLOOKUP(AP15,Tabelas!B:D,3,0),0),\"\")","v":0},{"$f":"IF(A15<>\"\",IFERROR(VLOOKUP(AQ15,Tabelas!B:D,3,0),0),\"\")","v":0},0,0,0,0,0,0,0,0]
["FULANO 8",8,null,null,null,null,null,null,null,null,null,null,null,null,null,null,null,null,null,null,null,null,null,null,null,null,null,null,null,null,null,null,null,null,null,null,null,null,null,null,null,null,null,{"$f":"IF(A16<>\"\",IFERROR(VLOOKUP(M16,Tabelas!B:D,3,0),0),\"\")","v":0},{"$f":"IF(A16<>\"\",IFERROR(VLOOKUP(N16,Tabelas!B:D,3,0),0),\"\")","v":0},{"$f":"IF(A16<>\"\",IFERROR(VLOOKUP(O16,Tabelas!B:D,3,0),0),\"\")","v":0},{"$f":"IF(A16<>\"\",IFERROR(VLOOKUP(P16,Tabelas!B:D,3,0),0),\"\")","v":0},{"$f":"IF(A16<>\"\",IFERROR(VLOOKUP(Q16,Tabelas!B:D,3,0),0),\"\")","v":0},{"$f":"IF(A16<>\"\",IFERROR(VLOOKUP(R16,Tabelas!B:D,3,0),0),\"\")","v":0},{"$f":"IF(A16<>\"\",IFERROR(VLOOKUP(S16,Tabelas!B:D,3,0),0),\"\")","v":0},{"$f":"IF(A16<>\"\",IFERROR(VLOOKUP(T16,Tabelas!B:D,3,0),0),\"\")","v":0},{"$f":"IF(A16<>\"\",IFERROR(VLOOKUP(U16,Tabelas!B:D,3,0),0),\"\")","v":0},{"$f":"IF(A16<>\"\",IFERROR(VLOOKUP(V16,Tabelas!B:D,3,0),0),\"\")","v":0},{"$f":"IF(A16<>\"\",IFERROR(VLOOKUP(W16,Tabelas!B:D,3,0),0),\"\")","v":0},{"$f":"IF(A16<>\"\",IFERROR(VLOOKUP(X16,Tabelas!B:D,3,0),0),\"\")","v":0},{"$f":"IF(A16<>\"\",IFERROR(VLOOKUP(Y16,Tabelas!B:D,3,0),0),\"\")","v":0},{"$f":"IF(A16<>\"\",IFERROR(VLOOKUP(Z16,Tabelas!B:D,3,0),0),\"\")","v":0},{"$f":"IF(A16<>\"\",IFERROR(VLOOKUP(AA16,Tabelas!B:D,3,0),0),\"\")","v":0},{"$f":"IF(A16<>\"\",IFERROR(VLOOKUP(AB16,Tabelas!B:D,3,0),0),\"\")","v":0},{"$f":"IF(A16<>\"\",IFERROR(VLOOKUP(AC16,Tabelas!B:D,3,0),0),\"\")","v":0},{"$f":"IF(A16<>\"\",IFERROR(VLOOKUP(AD16,Tabelas!B:D,3,0),0),\"\")","v":0},{"$f":"IF(A16<>\"\",IFERROR(VLOOKUP(AE16,Tabelas!B:D,3,0),0),\"\")","v":0},{"$f":"IF(A16<>\"\",IFERROR(VLOOKUP(AF16,Tabelas!B:D,3,0),0),\"\")","v":0},{"$f":"IF(A16<>\"\",IFERROR(VLOOKUP(AG16,Tabelas!B:D,3,0),0),\"\")","v":0},{"$f":"IF(A16<>\"\",IFERROR(VLOOKUP(AH16,Tabelas!B:D,3,0),0),\"\")","v":0},{"$f":"IF(A16<>\"\",IFERROR(VLOOKUP(AI16,Tabelas!B:D,3,0),0),\"\")","v":0},{"$f":"IF(A16<>\"\",IFERROR(VLOOKUP(AJ16,Tabelas!B:D,3,0),0),\"\")","v":0},{"$f":"IF(A16<>\"\",IFERROR(VLOOKUP(AK16,Tabelas!B:D,3,0),0),\"\")","v":0},{"$f":"IF(A16<>\"\",IFERROR(VLOOKUP(AL16,Tabelas!B:D,3,0),0),\"\")","v":0},{"$f":"IF(A16<>\"\",IFERROR(VLOOKUP(AM16,Tabelas!B:D,3,0),0),\"\")","v":0},{"$f":"IF(A16<>\"\",IFERROR(VLOOKUP(AN16,Tabelas!B:D,3,0),0),\"\")","v":0},{"$f":"IF(A16<>\"\",IFERROR(VLOOKUP(AO16,Tabelas!B:D,3,0),0),\"\")","v":0},{"$f":"IF(A16<>\"\",IFERROR(VLOOKUP(AP16,Tabelas!B:D,3,0),0),\"\")","v":0},{"$f":"IF(A16<>\"\",IFERROR(VLOOKUP(AQ16,Tabelas!B:D,3,0),0),\"\")","v":0},0,0,0,0,0,0,0,0]
["FULANO 9",9,null,null,null,null,null,null,null,null,null,null,null,null,null,null,null,null,null,null,null,null,null,null,null,null,null,null,null,null,null,null,null,null,null,null,null,null,null,null,null,null,null,{"$f":"IF(A17<>\"\",IFERROR(VLOOKUP(M17,Tabelas!B:D,3,0),0),\"\")","v":0},{"$f":"IF(A17<>\"\",IFERROR(VLOOKUP(N17,Tabelas!B:D,3,0),0),\"\")","v":0},{"$f":"IF(A17<>\"\",IFERROR(VLOOKUP(O17,Tabelas!B:D,3,0),0),\"\")","v":0},{"$f":"IF(A17<>\"\",IFERROR(VLOOKUP(P17,Tabelas!B:D,3,0),0),\"\")","v":0},{"$f":"IF(A17<>\"\",IFERROR(VLOOKUP(Q17,Tabelas!B:D,3,0),0),\"\")","v":0},{"$f":"IF(A17<>\"\",IFERROR(VLOOKUP(R17,Tabelas!B:D,3,0),0),\"\")","v":0},{"$f":"IF(A17<>\"\",IFERROR(VLOOKUP(S17,Tabelas!B:D,3,0),0),\"\")","v":0},{"$f":"IF(A17<>\"\",IFERROR(VLOOKUP(T17,Tabelas!B:D,3,0),0),\"\")","v":0},{"$f":"IF(A17<>\"\",IFERROR(VLOOKUP(U17,Tabelas!B:D,3,0),0),\"\")","v":0},{"$f":"IF(A17<>\"\",IFERROR(VLOOKUP(V17,Tabelas!B:D,3,0),0),\"\")","v":0},{"$f":"IF(A17<>\"\",IFERROR(VLOOKUP(W17,Tabelas!B:D,3,0),0),\"\")","v":0},{"$f":"IF(A17<>\"\",IFERROR(VLOOKUP(X17,Tabelas!B:D,3,0),0),\"\")","v":0},{"$f":"IF(A17<>\"\",IFERROR(VLOOKUP(Y17,Tabelas!B:D,3,0),0),\"\")","v":0},{"$f":"IF(A17<>\"\",IFERROR(VLOOKUP(Z17,Tabelas!B:D,3,0),0),\"\")","v":0},{"$f":"IF(A17<>\"\",IFERROR(VLOOKUP(AA17,Tabelas!B:D,3,0),0),\"\")","v":0},{"$f":"IF(A17<>\"\",IFERROR(VLOOKUP(AB17,Tabelas!B:D,3,0),0),\"\")","v":0},{"$f":"IF(A17<>\"\",IFERROR(VLOOKUP(AC17,Tabelas!B:D,3,0),0),\"\")","v":0},{"$f":"IF(A17<>\"\",IFERROR(VLOOKUP(AD17,Tabelas!B:D,3,0),0),\"\")","v":0},{"$f":"IF(A17<>\"\",IFERROR(VLOOKUP(AE17,Tabelas!B:D,3,0),0),\"\")","v":0},{"$f":"IF(A17<>\"\",IFERROR(VLOOKUP(AF17,Tabelas!B:D,3,0),0),\"\")","v":0},{"$f":"IF(A17<>\"\",IFERROR(VLOOKUP(AG17,Tabelas!B:D,3,0),0),\"\")","v":0},{"$f":"IF(A17<>\"\",IFERROR(VLOOKUP(AH17,Tabelas!B:D,3,0),0),\"\")","v":0},{"$f":"IF(A17<>\"\",IFERROR(VLOOKUP(AI17,Tabelas!B:D,3,0),0),\"\")","v":0},{"$f":"IF(A17<>\"\",IFERROR(VLOOKUP(AJ17,Tabelas!B:D,3,0),0),\"\")","v":0},{"$f":"IF(A17<>\"\",IFERROR(VLOOKUP(AK17,Tabelas!B:D,3,0),0),\"\")","v":0},{"$f":"IF(A17<>\"\",IFERROR(VLOOKUP(AL17,Tabelas!B:D,3,0),0),\"\")","v":0},{"$f":"IF(A17<>\"\",IFERROR(VLOOKUP(AM17,Tabelas!B:D,3,0),0),\"\")","v":0},{"$f":"IF(A17<>\"\",IFERROR(VLOOKUP(AN17,Tabelas!B:D,3,0),0),\"\")","v":0},{"$f":"IF(A17<>\"\",IFERROR(VLOOKUP(AO17,Tabelas!B:D,3,0),0),\"\")","v":0},{"$f":"IF(A17<>\"\",IFERROR(VLOOKUP(AP17,Tabelas!B:D,3,0),0),\"\")","v":0},{"$f":"IF(A17<>\"\",IFERROR(VLOOKUP(AQ17,Tabelas!B:D,3,0),0),\"\")","v":0},0,0,0,0,0,0,0,0]
["FULANO 10",10,null,null,null,null,null,null,null,null,null,null,null,null,null,null,null,null,null,null,null,null,null,null,null,null,null,null,null,null,null,null,null,null,null,null,null,null,null,null,null,null,null,{"$f":"IF(A18<>\"\",IFERROR(VLOOKUP(M18,Tabelas!B:D,3,0),0),\"\")","v":0},{"$f":"IF(A18<>\"\",IFERROR(VLOOKUP(N18,Tabelas!B:D,3,0),0),\"\")","v":0},{"$f":"IF(A18<>\"\",IFERROR(VLOOKUP(O18,Tabelas!B:D,3,0),0),\"\")","v":0},{"$f":"IF(A18<>\"\",IFERROR(VLOOKUP(P18,Tabelas!B:D,3,0),0),\"\")","v":0},{"$f":"IF(A18<>\"\",IFERROR(VLOOKUP(Q18,Tabelas!B:D,3,0),0),\"\")","v":0},{"$f":"IF(A18<>\"\",IFERROR(VLOOKUP(R18,Tabelas!B:D,3,0),0),\"\")","v":0},{"$f":"IF(A18<>\"\",IFERROR(VLOOKUP(S18,Tabelas!B:D,3,0),0),\"\")","v":0},{"$f":"IF(A18<>\"\",IFERROR(VLOOKUP(T18,Tabelas!B:D,3,0),0),\"\")","v":0},{"$f":"IF(A18<>\"\",IFERROR(VLOOKUP(U18,Tabelas!B:D,3,0),0),\"\")","v":0},{"$f":"IF(A18<>\"\",IFERROR(VLOOKUP(V18,Tabelas!B:D,3,0),0),\"\")","v":0},{"$f":"IF(A18<>\"\",IFERROR(VLOOKUP(W18,Tabelas!B:D,3,0),0),\"\")","v":0},{"$f":"IF(A18<>\"\",IFERROR(VLOOKUP(X18,Tabelas!B:D,3,0),0),\"\")","v":0},{"$f":"IF(A18<>\"\",IFERROR(VLOOKUP(Y18,Tabelas!B:D,3,0),0),\"\")","v":0},{"$f":"IF(A18<>\"\",IFERROR(VLOOKUP(Z18,Tabelas!B:D,3,0),0),\"\")","v":0},{"$f":"IF(A18<>\"\",IFERROR(VLOOKUP(AA18,Tabelas!B:D,3,0),0),\"\")","v":0},{"$f":"IF(A18<>\"\",IFERROR(VLOOKUP(AB18,Tabelas!B:D,3,0),0),\"\")","v":0},{"$f":"IF(A18<>\"\",IFERROR(VLOOKUP(AC18,Tabelas!B:D,3,0),0),\"\")","v":0},{"$f":"IF(A18<>\"\",IFERROR(VLOOKUP(AD18,Tabelas!B:D,3,0),0),\"\")","v":0},{"$f":"IF(A18<>\"\",IFERROR(VLOOKUP(AE18,Tabelas!B:D,3,0),0),\"\")","v":0},{"$f":"IF(A18<>\"\",IFERROR(VLOOKUP(AF18,Tabelas!B:D,3,0),0),\"\")","v":0},{"$f":"IF(A18<>\"\",IFERROR(VLOOKUP(AG18,Tabelas!B:D,3,0),0),\"\")","v":0},{"$f":"IF(A18<>\"\",IFERROR(VLOOKUP(AH18,Tabelas!B:D,3,0),0),\"\")","v":0},{"$f":"IF(A18<>\"\",IFERROR(VLOOKUP(AI18,Tabelas!B:D,3,0),0),\"\")","v":0},{"$f":"IF(A18<>\"\",IFERROR(VLOOKUP(AJ18,Tabelas!B:D,3,0),0),\"\")","v":0},{"$f":"IF(A18<>\"\",IFERROR(VLOOKUP(AK18,Tabelas!B:D,3,0),0),\"\")","v":0},{"$f":"IF(A18<>\"\",IFERROR(VLOOKUP(AL18,Tabelas!B:D,3,0),0),\"\")","v":0},{"$f":"IF(A18<>\"\",IFERROR(VLOOKUP(AM18,Tabelas!B:D,3,0),0),\"\")","v":0},{"$f":"IF(A18<>\"\",IFERROR(VLOOKUP(AN18,Tabelas!B:D,3,0),0),\"\")","v":0},{"$f":"IF(A18<>\"\",IFERROR(VLOOKUP(AO18,Tabelas!B:D,3,0),0),\"\")","v":0},{"$f":"IF(A18<>\"\",IFERROR(VLOOKUP(AP18,Tabelas!B:D,3,0),0),\"\")","v":0},{"$f":"IF(A18<>\"\",IFERROR(VLOOKUP(AQ18,Tabelas!B:D,3,0),0),\"\")","v":0},0,0,0,0,0,0,0,0]
["FULANO 11",11,null,null,null,null,null,null,null,null,null,null,null,null,null,null,null,null,null,null,null,null,null,null,null,null,null,null,null,null,null,null,null,null,null,null,null,null,null,null,null,null,null,{"$f":"IF(A19<>\"\",IFERROR(VLOOKUP(M19,Tabelas!B:D,3,0),0),\"\")","v":0},{"$f":"IF(A19<>\"\",IFERROR(VLOOKUP(N19,Tabelas!B:D,3,0),0),\"\")","v":0},{"$f":"IF(A19<>\"\",IFERROR(VLOOKUP(O19,Tabelas!B:D,3,0),0),\"\")","v":0},{"$f":"IF(A19<>\"\",IFERROR(VLOOKUP(P19,Tabelas!B:D,3,0),0),\"\")","v":0},{"$f":"IF(A19<>\"\",IFERROR(VLOOKUP(Q19,Tabelas!B:D,3,0),0),\"\")","v":0},{"$f":"IF(A19<>\"\",IFERROR(VLOOKUP(R19,Tabelas!B:D,3,0),0),\"\")","v":0},{"$f":"IF(A19<>\"\",IFERROR(VLOOKUP(S19,Tabelas!B:D,3,0),0),\"\")","v":0},{"$f":"IF(A19<>\"\",IFERROR(VLOOKUP(T19,Tabelas!B:D,3,0),0),\"\")","v":0},{"$f":"IF(A19<>\"\",IFERROR(VLOOKUP(U19,Tabelas!B:D,3,0),0),\"\")","v":0},{"$f":"IF(A19<>\"\",IFERROR(VLOOKUP(V19,Tabelas!B:D,3,0),0),\"\")","v":0},{"$f":"IF(A19<>\"\",IFERROR(VLOOKUP(W19,Tabelas!B:D,3,0),0),\"\")","v":0},{"$f":"IF(A19<>\"\",IFERROR(VLOOKUP(X19,Tabelas!B:D,3,0),0),\"\")","v":0},{"$f":"IF(A19<>\"\",IFERROR(VLOOKUP(Y19,Tabelas!B:D,3,0),0),\"\")","v":0},{"$f":"IF(A19<>\"\",IFERROR(VLOOKUP(Z19,Tabelas!B:D,3,0),0),\"\")","v":0},{"$f":"IF(A19<>\"\",IFERROR(VLOOKUP(AA19,Tabelas!B:D,3,0),0),\"\")","v":0},{"$f":"IF(A19<>\"\",IFERROR(VLOOKUP(AB19,Tabelas!B:D,3,0),0),\"\")","v":0},{"$f":"IF(A19<>\"\",IFERROR(VLOOKUP(AC19,Tabelas!B:D,3,0),0),\"\")","v":0},{"$f":"IF(A19<>\"\",IFERROR(VLOOKUP(AD19,Tabelas!B:D,3,0),0),\"\")","v":0},{"$f":"IF(A19<>\"\",IFERROR(VLOOKUP(AE19,Tabelas!B:D,3,0),0),\"\")","v":0},{"$f":"IF(A19<>\"\",IFERROR(VLOOKUP(AF19,Tabelas!B:D,3,0),0),\"\")","v":0},{"$f":"IF(A19<>\"\",IFERROR(VLOOKUP(AG19,Tabelas!B:D,3,0),0),\"\")","v":0},{"$f":"IF(A19<>\"\",IFERROR(VLOOKUP(AH19,Tabelas!B:D,3,0),0),\"\")","v":0},{"$f":"IF(A19<>\"\",IFERROR(VLOOKUP(AI19,Tabelas!B:D,3,0),0),\"\")","v":0},{"$f":"IF(A19<>\"\",IFERROR(VLOOKUP(AJ19,Tabelas!B:D,3,0),0),\"\")","v":0},{"$f":"IF(A19<>\"\",IFERROR(VLOOKUP(AK19,Tabelas!B:D,3,0),0),\"\")","v":0},{"$f":"IF(A19<>\"\",IFERROR(VLOOKUP(AL19,Tabelas!B:D,3,0),0),\"\")","v":0},{"$f":"IF(A19<>\"\",IFERROR(VLOOKUP(AM19,Tabelas!B:D,3,0),0),\"\")","v":0},{"$f":"IF(A19<>\"\",IFERROR(VLOOKUP(AN19,Tabelas!B:D,3,0),0),\"\")","v":0},{"$f":"IF(A19<>\"\",IFERROR(VLOOKUP(AO19,Tabelas!B:D,3,0),0),\"\")","v":0},{"$f":"IF(A19<>\"\",IFERROR(VLOOKUP(AP19,Tabelas!B:D,3,0),0),\"\")","v":0},{"$f":"IF(A19<>\"\",IFERROR(VLOOKUP(AQ19,Tabelas!B:D,3,0),0),\"\")","v":0},0,0,0,0,0,0,0,0]
["FULANO 12",12,null,null,null,null,null,null,null,null,null,null,null,null,null,null,null,null,null,null,null,null,null,null,null,null,null,null,null,null,null,null,null,null,null,null,null,null,null,null,null,null,null,{"$f":"IF(A20<>\"\",IFERROR(VLOOKUP(M20,Tabelas!B:D,3,0),0),\"\")","v":0},{"$f":"IF(A20<>\"\",IFERROR(VLOOKUP(N20,Tabelas!B:D,3,0),0),\"\")","v":0},{"$f":"IF(A20<>\"\",IFERROR(VLOOKUP(O20,Tabelas!B:D,3,0),0),\"\")","v":0},{"$f":"IF(A20<>\"\",IFERROR(VLOOKUP(P20,Tabelas!B:D,3,0),0),\"\")","v":0},{"$f":"IF(A20<>\"\",IFERROR(VLOOKUP(Q20,Tabelas!B:D,3,0),0),\"\")","v":0},{"$f":"IF(A20<>\"\",IFERROR(VLOOKUP(R20,Tabelas!B:D,3,0),0),\"\")","v":0},{"$f":"IF(A20<>\"\",IFERROR(VLOOKUP(S20,Tabelas!B:D,3,0),0),\"\")","v":0},{"$f":"IF(A20<>\"\",IFERROR(VLOOKUP(T20,Tabelas!B:D,3,0),0),\"\")","v":0},{"$f":"IF(A20<>\"\",IFERROR(VLOOKUP(U20,Tabelas!B:D,3,0),0),\"\")","v":0},{"$f":"IF(A20<>\"\",IFERROR(VLOOKUP(V20,Tabelas!B:D,3,0),0),\"\")","v":0},{"$f":"IF(A20<>\"\",IFERROR(VLOOKUP(W20,Tabelas!B:D,3,0),0),\"\")","v":0},{"$f":"IF(A20<>\"\",IFERROR(VLOOKUP(X20,Tabelas!B:D,3,0),0),\"\")","v":0},{"$f":"IF(A20<>\"\",IFERROR(VLOOKUP(Y20,Tabelas!B:D,3,0),0),\"\")","v":0},{"$f":"IF(A20<>\"\",IFERROR(VLOOKUP(Z20,Tabelas!B:D,3,0),0),\"\")","v":0},{"$f":"IF(A20<>\"\",IFERROR(VLOOKUP(AA20,Tabelas!B:D,3,0),0),\"\")","v":0},{"$f":"IF(A20<>\"\",IFERROR(VLOOKUP(AB20,Tabelas!B:D,3,0),0),\"\")","v":0},{"$f":"IF(A20<>\"\",IFERROR(VLOOKUP(AC20,Tabelas!B:D,3,0),0),\"\")","v":0},{"$f":"IF(A20<>\"\",IFERROR(VLOOKUP(AD20,Tabelas!B:D,3,0),0),\"\")","v":0},{"$f":"IF(A20<>\"\",IFERROR(VLOOKUP(AE20,Tabelas!B:D,3,0),0),\"\")","v":0},{"$f":"IF(A20<>\"\",IFERROR(VLOOKUP(AF20,Tabelas!B:D,3,0),0),\"\")","v":0},{"$f":"IF(A20<>\"\",IFERROR(VLOOKUP(AG20,Tabelas!B:D,3,0),0),\"\")","v":0},{"$f":"IF(A20<>\"\",IFERROR(VLOOKUP(AH20,Tabelas!B:D,3,0),0),\"\")","v":0},{"$f":"IF(A20<>\"\",IFERROR(VLOOKUP(AI20,Tabelas!B:D,3,0),0),\"\")","v":0},{"$f":"IF(A20<>\"\",IFERROR(VLOOKUP(AJ20,Tabelas!B:D,3,0),0),\"\")","v":0},{"$f":"IF(A20<>\"\",IFERROR(VLOOKUP(AK20,Tabelas!B:D,3,0),0),\"\")","v":0},{"$f":"IF(A20<>\"\",IFERROR(VLOOKUP(AL20,Tabelas!B:D,3,0),0),\"\")","v":0},{"$f":"IF(A20<>\"\",IFERROR(VLOOKUP(AM20,Tabelas!B:D,3,0),0),\"\")","v":0},{"$f":"IF(A20<>\"\",IFERROR(VLOOKUP(AN20,Tabelas!B:D,3,0),0),\"\")","v":0},{"$f":"IF(A20<>\"\",IFERROR(VLOOKUP(AO20,Tabelas!B:D,3,0),0),\"\")","v":0},{"$f":"IF(A20<>\"\",IFERROR(VLOOKUP(AP20,Tabelas!B:D,3,0),0),\"\")","v":0},{"$f":"IF(A20<>\"\",IFERROR(VLOOKUP(AQ20,Tabelas!B:D,3,0),0),\"\")","v":0},0,0,0,0,0,0,0,0]
["FULANO 13",13,null,null,null,null,null,null,null,null,null,null,null,null,null,null,null,null,null,null,null,null,null,null,null,null,null,null,null,null,null,null,null,null,null,null,null,null,null,null,null,null,null,{"$f":"IF(A21<>\"\",IFERROR(VLOOKUP(M21,Tabelas!B:D,3,0),0),\"\")","v":0},{"$f":"IF(A21<>\"\",IFERROR(VLOOKUP(N21,Tabelas!B:D,3,0),0),\"\")","v":0},{"$f":"IF(A21<>\"\",IFERROR(VLOOKUP(O21,Tabelas!B:D,3,0),0),\"\")","v":0},{"$f":"IF(A21<>\"\",IFERROR(VLOOKUP(P21,Tabelas!B:D,3,0),0),\"\")","v":0},{"$f":"IF(A21<>\"\",IFERROR(VLOOKUP(Q21,Tabelas!B:D,3,0),0),\"\")","v":0},{"$f":"IF(A21<>\"\",IFERROR(VLOOKUP(R21,Tabelas!B:D,3,0),0),\"\")","v":0},{"$f":"IF(A21<>\"\",IFERROR(VLOOKUP(S21,Tabelas!B:D,3,0),0),\"\")","v":0},{"$f":"IF(A21<>\"\",IFERROR(VLOOKUP(T21,Tabelas!B:D,3,0),0),\"\")","v":0},{"$f":"IF(A21<>\"\",IFERROR(VLOOKUP(U21,Tabelas!B:D,3,0),0),\"\")","v":0},{"$f":"IF(A21<>\"\",IFERROR(VLOOKUP(V21,Tabelas!B:D,3,0),0),\"\")","v":0},{"$f":"IF(A21<>\"\",IFERROR(VLOOKUP(W21,Tabelas!B:D,3,0),0),\"\")","v":0},{"$f":"IF(A21<>\"\",IFERROR(VLOOKUP(X21,Tabelas!B:D,3,0),0),\"\")","v":0},{"$f":"IF(A21<>\"\",IFERROR(VLOOKUP(Y21,Tabelas!B:D,3,0),0),\"\")","v":0},{"$f":"IF(A21<>\"\",IFERROR(VLOOKUP(Z21,Tabelas!B:D,3,0),0),\"\")","v":0},{"$f":"IF(A21<>\"\",IFERROR(VLOOKUP(AA21,Tabelas!B:D,3,0),0),\"\")","v":0},{"$f":"IF(A21<>\"\",IFERROR(VLOOKUP(AB21,Tabelas!B:D,3,0),0),\"\")","v":0},{"$f":"IF(A21<>\"\",IFERROR(VLOOKUP(AC21,Tabelas!B:D,3,0),0),\"\")","v":0},{"$f":"IF(A21<>\"\",IFERROR(VLOOKUP(AD21,Tabelas!B:D,3,0),0),\"\")","v":0},{"$f":"IF(A21<>\"\",IFERROR(VLOOKUP(AE21,Tabelas!B:D,3,0),0),\"\")","v":0},{"$f":"IF(A21<>\"\",IFERROR(VLOOKUP(AF21,Tabelas!B:D,3,0),0),\"\")","v":0},{"$f":"IF(A21<>\"\",IFERROR(VLOOKUP(AG21,Tabelas!B:D,3,0),0),\"\")","v":0},{"$f":"IF(A21<>\"\",IFERROR(VLOOKUP(AH21,Tabelas!B:D,3,0),0),\"\")","v":0},{"$f":"IF(A21<>\"\",IFERROR(VLOOKUP(AI21,Tabelas!B:D,3,0),0),\"\")","v":0},{"$f":"IF(A21<>\"\",IFERROR(VLOOKUP(AJ21,Tabelas!B:D,3,0),0),\"\")","v":0},{"$f":"IF(A21<>\"\",IFERROR(VLOOKUP(AK21,Tabelas!B:D,3,0),0),\"\")","v":0},{"$f":"IF(A21<>\"\",IFERROR(VLOOKUP(AL21,Tabelas!B:D,3,0),0),\"\")","v":0},{"$f":"IF(A21<>\"\",IFERROR(VLOOKUP(AM21,Tabelas!B:D,3,0),0),\"\")","v":0},{"$f":"IF(A21<>\"\",IFERROR(VLOOKUP(AN21,Tabelas!B:D,3,0),0),\"\")","v":0},{"$f":"IF(A21<>\"\",IFERROR(VLOOKUP(AO21,Tabelas!B:D,3,0),0),\"\")","v":0},{"$f":"IF(A21<>\"\",IFERROR(VLOOKUP(AP21,Tabelas!B:D,3,0),0),\"\")","v":0},{"$f":"IF(A21<>\"\",IFERROR(VLOOKUP(AQ21,Tabelas!B:D,3,0),0),\"\")","v":0},0,0,0,0,0,0,0,0]
["FULANO 14",14,null,null,null,null,null,null,null,null,null,null,null,null,null,null,null,null,null,null,null,null,null,null,null,null,null,null,null,null,null,null,null,null,null,null,null,null,null,null,null,null,null,{"$f":"IF(A22<>\"\",IFERROR(VLOOKUP(M22,Tabelas!B:D,3,0),0),\"\")","v":0},{"$f":"IF(A22<>\"\",IFERROR(VLOOKUP(N22,Tabelas!B:D,3,0),0),\"\")","v":0},{"$f":"IF(A22<>\"\",IFERROR(VLOOKUP(O22,Tabelas!B:D,3,0),0),\"\")","v":0},{"$f":"IF(A22<>\"\",IFERROR(VLOOKUP(P22,Tabelas!B:D,3,0),0),\"\")","v":0},{"$f":"IF(A22<>\"\",IFERROR(VLOOKUP(Q22,Tabelas!B:D,3,0),0),\"\")","v":0},{"$f":"IF(A22<>\"\",IFERROR(VLOOKUP(R22,Tabelas!B:D,3,0),0),\"\")","v":0},{"$f":"IF(A22<>\"\",IFERROR(VLOOKUP(S22,Tabelas!B:D,3,0),0),\"\")","v":0},{"$f":"IF(A22<>\"\",IFERROR(VLOOKUP(T22,Tabelas!B:D,3,0),0),\"\")","v":0},{"$f":"IF(A22<>\"\",IFERROR(VLOOKUP(U22,Tabelas!B:D,3,0),0),\"\")","v":0},{"$f":"IF(A22<>\"\",IFERROR(VLOOKUP(V22,Tabelas!B:D,3,0),0),\"\")","v":0},{"$f":"IF(A22<>\"\",IFERROR(VLOOKUP(W22,Tabelas!B:D,3,0),0),\"\")","v":0},{"$f":"IF(A22<>\"\",IFERROR(VLOOKUP(X22,Tabelas!B:D,3,0),0),\"\")","v":0},{"$f":"IF(A22<>\"\",IFERROR(VLOOKUP(Y22,Tabelas!B:D,3,0),0),\"\")","v":0},{"$f":"IF(A22<>\"\",IFERROR(VLOOKUP(Z22,Tabelas!B:D,3,0),0),\"\")","v":0},{"$f":"IF(A22<>\"\",IFERROR(VLOOKUP(AA22,Tabelas!B:D,3,0),0),\"\")","v":0},{"$f":"IF(A22<>\"\",IFERROR(VLOOKUP(AB22,Tabelas!B:D,3,0),0),\"\")","v":0},{"$f":"IF(A22<>\"\",IFERROR(VLOOKUP(AC22,Tabelas!B:D,3,0),0),\"\")","v":0},{"$f":"IF(A22<>\"\",IFERROR(VLOOKUP(AD22,Tabelas!B:D,3,0),0),\"\")","v":0},{"$f":"IF(A22<>\"\",IFERROR(VLOOKUP(AE22,Tabelas!B:D,3,0),0),\"\")","v":0},{"$f":"IF(A22<>\"\",IFERROR(VLOOKUP(AF22,Tabelas!B:D,3,0),0),\"\")","v":0},{"$f":"IF(A22<>\"\",IFERROR(VLOOKUP(AG22,Tabelas!B:D,3,0),0),\"\")","v":0},{"$f":"IF(A22<>\"\",IFERROR(VLOOKUP(AH22,Tabelas!B:D,3,0),0),\"\")","v":0},{"$f":"IF(A22<>\"\",IFERROR(VLOOKUP(AI22,Tabelas!B:D,3,0),0),\"\")","v":0},{"$f":"IF(A22<>\"\",IFERROR(VLOOKUP(AJ22,Tabelas!B:D,3,0),0),\"\")","v":0},{"$f":"IF(A22<>\"\",IFERROR(VLOOKUP(AK22,Tabelas!B:D,3,0),0),\"\")","v":0},{"$f":"IF(A22<>\"\",IFERROR(VLOOKUP(AL22,Tabelas!B:D,3,0),0),\"\")","v":0},{"$f":"IF(A22<>\"\",IFERROR(VLOOKUP(AM22,Tabelas!B:D,3,0),0),\"\")","v":0},{"$f":"IF(A22<>\"\",IFERROR(VLOOKUP(AN22,Tabelas!B:D,3,0),0),\"\")","v":0},{"$f":"IF(A22<>\"\",IFERROR(VLOOKUP(AO22,Tabelas!B:D,3,0),0),\"\")","v":0},{"$f":"IF(A22<>\"\",IFERROR(VLOOKUP(AP22,Tabelas!B:D,3,0),0),\"\")","v":0},{"$f":"IF(A22<>\"\",IFERROR(VLOOKUP(AQ22,Tabelas!B:D,3,0),0),\"\")","v":0},0,0,0,0,0,0,0,0]
["FULANO 15",15,null,null,null,null,null,null,null,null,null,null,null,null,null,null,null,null,null,null,null,null,null,null,null,null,null,null,null,null,null,null,null,null,null,null,null,null,null,null,null,null,null,{"$f":"IF(A23<>\"\",IFERROR(VLOOKUP(M23,Tabelas!B:D,3,0),0),\"\")","v":0},{"$f":"IF(A23<>\"\",IFERROR(VLOOKUP(N23,Tabelas!B:D,3,0),0),\"\")","v":0},{"$f":"IF(A23<>\"\",IFERROR(VLOOKUP(O23,Tabelas!B:D,3,0),0),\"\")","v":0},{"$f":"IF(A23<>\"\",IFERROR(VLOOKUP(P23,Tabelas!B:D,3,0),0),\"\")","v":0},{"$f":"IF(A23<>\"\",IFERROR(VLOOKUP(Q23,Tabelas!B:D,3,0),0),\"\")","v":0},{"$f":"IF(A23<>\"\",IFERROR(VLOOKUP(R23,Tabelas!B:D,3,0),0),\"\")","v":0},{"$f":"IF(A23<>\"\",IFERROR(VLOOKUP(S23,Tabelas!B:D,3,0),0),\"\")","v":0},{"$f":"IF(A23<>\"\",IFERROR(VLOOKUP(T23,Tabelas!B:D,3,0),0),\"\")","v":0},{"$f":"IF(A23<>\"\",IFERROR(VLOOKUP(U23,Tabelas!B:D,3,0),0),\"\")","v":0},{"$f":"IF(A23<>\"\",IFERROR(VLOOKUP(V23,Tabelas!B:D,3,0),0),\"\")","v":0},{"$f":"IF(A23<>\"\",IFERROR(VLOOKUP(W23,Tabelas!B:D,3,0),0),\"\")","v":0},{"$f":"IF(A23<>\"\",IFERROR(VLOOKUP(X23,Tabelas!B:D,3,0),0),\"\")","v":0},{"$f":"IF(A23<>\"\",IFERROR(VLOOKUP(Y23,Tabelas!B:D,3,0),0),\"\")","v":0},{"$f":"IF(A23<>\"\",IFERROR(VLOOKUP(Z23,Tabelas!B:D,3,0),0),\"\")","v":0},{"$f":"IF(A23<>\"\",IFERROR(VLOOKUP(AA23,Tabelas!B:D,3,0),0),\"\")","v":0},{"$f":"IF(A23<>\"\",IFERROR(VLOOKUP(AB23,Tabelas!B:D,3,0),0),\"\")","v":0},{"$f":"IF(A23<>\"\",IFERROR(VLOOKUP(AC23,Tabelas!B:D,3,0),0),\"\")","v":0},{"$f":"IF(A23<>\"\",IFERROR(VLOOKUP(AD23,Tabelas!B:D,3,0),0),\"\")","v":0},{"$f":"IF(A23<>\"\",IFERROR(VLOOKUP(AE23,Tabelas!B:D,3,0),0),\"\")","v":0},{"$f":"IF(A23<>\"\",IFERROR(VLOOKUP(AF23,Tabelas!B:D,3,0),0),\"\")","v":0},{"$f":"IF(A23<>\"\",IFERROR(VLOOKUP(AG23,Tabelas!B:D,3,0),0),\"\")","v":0},{"$f":"IF(A23<>\"\",IFERROR(VLOOKUP(AH23,Tabelas!B:D,3,0),0),\"\")","v":0},{"$f":"IF(A23<>\"\",IFERROR(VLOOKUP(AI23,Tabelas!B:D,3,0),0),\"\")","v":0},{"$f":"IF(A23<>\"\",IFERROR(VLOOKUP(AJ23,Tabelas!B:D,3,0),0),\"\")","v":0},{"$f":"IF(A23<>\"\",IFERROR(VLOOKUP(AK23,Tabelas!B:D,3,0),0),\"\")","v":0},{"$f":"IF(A23<>\"\",IFERROR(VLOOKUP(AL23,Tabelas!B:D,3,0),0),\"\")","v":0},{"$f":"IF(A23<>\"\",IFERROR(VLOOKUP(AM23,Tabelas!B:D,3,0),0),\"\")","v":0},{"$f":"IF(A23<>\"\",IFERROR(VLOOKUP(AN23,Tabelas!B:D,3,0),0),\"\")","v":0},{"$f":"IF(A23<>\"\",IFERROR(VLOOKUP(AO23,Tabelas!B:D,3,0),0),\"\")","v":0},{"$f":"IF(A23<>\"\",IFERROR(VLOOKUP(AP23,Tabelas!B:D,3,0),0),\"\")","v":0},{"$f":"IF(A23<>\"\",IFERROR(VLOOKUP(AQ23,Tabelas!B:D,3,0),0),\"\")","v":0},0,0,0,0,0,0,0,0]
["FULANO 16",16,null,null,null,null,null,null,null,null,null,null,null,null,null,null,null,null,null,null,null,null,null,null,null,null,null,null,null,null,null,null,null,null,null,null,null,null,null,null,null,null,null,{"$f":"IF(A24<>\"\",IFERROR(VLOOKUP(M24,Tabelas!B:D,3,0),0),\"\")","v":0},{"$f":"IF(A24<>\"\",IFERROR(VLOOKUP(N24,Tabelas!B:D,3,0),0),\"\")","v":0},{"$f":"IF(A24<>\"\",IFERROR(VLOOKUP(O24,Tabelas!B:D,3,0),0),\"\")","v":0},{"$f":"IF(A24<>\"\",IFERROR(VLOOKUP(P24,Tabelas!B:D,3,0),0),\"\")","v":0},{"$f":"IF(A24<>\"\",IFERROR(VLOOKUP(Q24,Tabelas!B:D,3,0),0),\"\")","v":0},{"$f":"IF(A24<>\"\",IFERROR(VLOOKUP(R24,Tabelas!B:D,3,0),0),\"\")","v":0},{"$f":"IF(A24<>\"\",IFERROR(VLOOKUP(S24,Tabelas!B:D,3,0),0),\"\")","v":0},{"$f":"IF(A24<>\"\",IFERROR(VLOOKUP(T24,Tabelas!B:D,3,0),0),\"\")","v":0},{"$f":"IF(A24<>\"\",IFERROR(VLOOKUP(U24,Tabelas!B:D,3,0),0),\"\")","v":0},{"$f":"IF(A24<>\"\",IFERROR(VLOOKUP(V24,Tabelas!B:D,3,0),0),\"\")","v":0},{"$f":"IF(A24<>\"\",IFERROR(VLOOKUP(W24,Tabelas!B:D,3,0),0),\"\")","v":0},{"$f":"IF(A24<>\"\",IFERROR(VLOOKUP(X24,Tabelas!B:D,3,0),0),\"\")","v":0},{"$f":"IF(A24<>\"\",IFERROR(VLOOKUP(Y24,Tabelas!B:D,3,0),0),\"\")","v":0},{"$f":"IF(A24<>\"\",IFERROR(VLOOKUP(Z24,Tabelas!B:D,3,0),0),\"\")","v":0},{"$f":"IF(A24<>\"\",IFERROR(VLOOKUP(AA24,Tabelas!B:D,3,0),0),\"\")","v":0},{"$f":"IF(A24<>\"\",IFERROR(VLOOKUP(AB24,Tabelas!B:D,3,0),0),\"\")","v":0},{"$f":"IF(A24<>\"\",IFERROR(VLOOKUP(AC24,Tabelas!B:D,3,0),0),\"\")","v":0},{"$f":"IF(A24<>\"\",IFERROR(VLOOKUP(AD24,Tabelas!B:D,3,0),0),\"\")","v":0},{"$f":"IF(A24<>\"\",IFERROR(VLOOKUP(AE24,Tabelas!B:D,3,0),0),\"\")","v":0},{"$f":"IF(A24<>\"\",IFERROR(VLOOKUP(AF24,Tabelas!B:D,3,0),0),\"\")","v":0},{"$f":"IF(A24<>\"\",IFERROR(VLOOKUP(AG24,Tabelas!B:D,3,0),0),\"\")","v":0},{"$f":"IF(A24<>\"\",IFERROR(VLOOKUP(AH24,Tabelas!B:D,3,0),0),\"\")","v":0},{"$f":"IF(A24<>\"\",IFERROR(VLOOKUP(AI24,Tabelas!B:D,3,0),0),\"\")","v":0},{"$f":"IF(A24<>\"\",IFERROR(VLOOKUP(AJ24,Tabelas!B:D,3,0),0),\"\")","v":0},{"$f":"IF(A24<>\"\",IFERROR(VLOOKUP(AK24,Tabelas!B:D,3,0),0),\"\")","v":0},{"$f":"IF(A24<>\"\",IFERROR(VLOOKUP(AL24,Tabelas!B:D,3,0),0),\"\")","v":0},{"$f":"IF(A24<>\"\",IFERROR(VLOOKUP(AM24,Tabelas!B:D,3,0),0),\"\")","v":0},{"$f":"IF(A24<>\"\",IFERROR(VLOOKUP(AN24,Tabelas!B:D,3,0),0),\"\")","v":0},{"$f":"IF(A24<>\"\",IFERROR(VLOOKUP(AO24,Tabelas!B:D,3,0),0),\"\")","v":0},{"$f":"IF(A24<>\"\",IFERROR(VLOOKUP(AP24,Tabelas!B:D,3,0),0),\"\")","v":0},{"$f":"IF(A24<>\"\",IFERROR(VLOOKUP(AQ24,Tabelas!B:D,3,0),0),\"\")","v":0},0,0,0,0,0,0,0,0]
["FULANO 17",17,null,null,null,null,null,null,null,null,null,null,null,null,null,null,null,null,null,null,null,null,null,null,null,null,null,null,null,null,null,null,null,null,null,null,null,null,null,null,null,null,null,{"$f":"IF(A25<>\"\",IFERROR(VLOOKUP(M25,Tabelas!B:D,3,0),0),\"\")","v":0},{"$f":"IF(A25<>\"\",IFERROR(VLOOKUP(N25,Tabelas!B:D,3,0),0),\"\")","v":0},{"$f":"IF(A25<>\"\",IFERROR(VLOOKUP(O25,Tabelas!B:D,3,0),0),\"\")","v":0},{"$f":"IF(A25<>\"\",IFERROR(VLOOKUP(P25,Tabelas!B:D,3,0),0),\"\")","v":0},{"$f":"IF(A25<>\"\",IFERROR(VLOOKUP(Q25,Tabelas!B:D,3,0),0),\"\")","v":0},{"$f":"IF(A25<>\"\",IFERROR(VLOOKUP(R25,Tabelas!B:D,3,0),0),\"\")","v":0},{"$f":"IF(A25<>\"\",IFERROR(VLOOKUP(S25,Tabelas!B:D,3,0),0),\"\")","v":0},{"$f":"IF(A25<>\"\",IFERROR(VLOOKUP(T25,Tabelas!B:D,3,0),0),\"\")","v":0},{"$f":"IF(A25<>\"\",IFERROR(VLOOKUP(U25,Tabelas!B:D,3,0),0),\"\")","v":0},{"$f":"IF(A25<>\"\",IFERROR(VLOOKUP(V25,Tabelas!B:D,3,0),0),\"\")","v":0},{"$f":"IF(A25<>\"\",IFERROR(VLOOKUP(W25,Tabelas!B:D,3,0),0),\"\")","v":0},{"$f":"IF(A25<>\"\",IFERROR(VLOOKUP(X25,Tabelas!B:D,3,0),0),\"\")","v":0},{"$f":"IF(A25<>\"\",IFERROR(VLOOKUP(Y25,Tabelas!B:D,3,0),0),\"\")","v":0},{"$f":"IF(A25<>\"\",IFERROR(VLOOKUP(Z25,Tabelas!B:D,3,0),0),\"\")","v":0},{"$f":"IF(A25<>\"\",IFERROR(VLOOKUP(AA25,Tabelas!B:D,3,0),0),\"\")","v":0},{"$f":"IF(A25<>\"\",IFERROR(VLOOKUP(AB25,Tabelas!B:D,3,0),0),\"\")","v":0},{"$f":"IF(A25<>\"\",IFERROR(VLOOKUP(AC25,Tabelas!B:D,3,0),0),\"\")","v":0},{"$f":"IF(A25<>\"\",IFERROR(VLOOKUP(AD25,Tabelas!B:D,3,0),0),\"\")","v":0},{"$f":"IF(A25<>\"\",IFERROR(VLOOKUP(AE25,Tabelas!B:D,3,0),0),\"\")","v":0},{"$f":"IF(A25<>\"\",IFERROR(VLOOKUP(AF25,Tabelas!B:D,3,0),0),\"\")","v":0},{"$f":"IF(A25<>\"\",IFERROR(VLOOKUP(AG25,Tabelas!B:D,3,0),0),\"\")","v":0},{"$f":"IF(A25<>\"\",IFERROR(VLOOKUP(AH25,Tabelas!B:D,3,0),0),\"\")","v":0},{"$f":"IF(A25<>\"\",IFERROR(VLOOKUP(AI25,Tabelas!B:D,3,0),0),\"\")","v":0},{"$f":"IF(A25<>\"\",IFERROR(VLOOKUP(AJ25,Tabelas!B:D,3,0),0),\"\")","v":0},{"$f":"IF(A25<>\"\",IFERROR(VLOOKUP(AK25,Tabelas!B:D,3,0),0),\"\")","v":0},{"$f":"IF(A25<>\"\",IFERROR(VLOOKUP(AL25,Tabelas!B:D,3,0),0),\"\")","v":0},{"$f":"IF(A25<>\"\",IFERROR(VLOOKUP(AM25,Tabelas!B:D,3,0),0),\"\")","v":0},{"$f":"IF(A25<>\"\",IFERROR(VLOOKUP(AN25,Tabelas!B:D,3,0),0),\"\")","v":0},{"$f":"IF(A25<>\"\",IFERROR(VLOOKUP(AO25,Tabelas!B:D,3,0),0),\"\")","v":0},{"$f":"IF(A25<>\"\",IFERROR(VLOOKUP(AP25,Tabelas!B:D,3,0),0),\"\")","v":0},{"$f":"IF(A25<>\"\",IFERROR(VLOOKUP(AQ25,Tabelas!B:D,3,0),0),\"\")","v":0},0,0,0,0,0,0,0,0]
["FULANO 18",18,null,null,null,null,null,null,null,null,null,null,null,null,null,null,null,null,null,null,null,null,null,null,null,null,null,null,null,null,null,null,null,null,null,null,null,null,null,null,null,null,null,{"$f":"IF(A26<>\"\",IFERROR(VLOOKUP(M26,Tabelas!B:D,3,0),0),\"\")","v":0},{"$f":"IF(A26<>\"\",IFERROR(VLOOKUP(N26,Tabelas!B:D,3,0),0),\"\")","v":0},{"$f":"IF(A26<>\"\",IFERROR(VLOOKUP(O26,Tabelas!B:D,3,0),0),\"\")","v":0},{"$f":"IF(A26<>\"\",IFERROR(VLOOKUP(P26,Tabelas!B:D,3,0),0),\"\")","v":0},{"$f":"IF(A26<>\"\",IFERROR(VLOOKUP(Q26,Tabelas!B:D,3,0),0),\"\")","v":0},{"$f":"IF(A26<>\"\",IFERROR(VLOOKUP(R26,Tabelas!B:D,3,0),0),\"\")","v":0},{"$f":"IF(A26<>\"\",IFERROR(VLOOKUP(S26,Tabelas!B:D,3,0),0),\"\")","v":0},{"$f":"IF(A26<>\"\",IFERROR(VLOOKUP(T26,Tabelas!B:D,3,0),0),\"\")","v":0},{"$f":"IF(A26<>\"\",IFERROR(VLOOKUP(U26,Tabelas!B:D,3,0),0),\"\")","v":0},{"$f":"IF(A26<>\"\",IFERROR(VLOOKUP(V26,Tabelas!B:D,3,0),0),\"\")","v":0},{"$f":"IF(A26<>\"\",IFERROR(VLOOKUP(W26,Tabelas!B:D,3,0),0),\"\")","v":0},{"$f":"IF(A26<>\"\",IFERROR(VLOOKUP(X26,Tabelas!B:D,3,0),0),\"\")","v":0},{"$f":"IF(A26<>\"\",IFERROR(VLOOKUP(Y26,Tabelas!B:D,3,0),0),\"\")","v":0},{"$f":"IF(A26<>\"\",IFERROR(VLOOKUP(Z26,Tabelas!B:D,3,0),0),\"\")","v":0},{"$f":"IF(A26<>\"\",IFERROR(VLOOKUP(AA26,Tabelas!B:D,3,0),0),\"\")","v":0},{"$f":"IF(A26<>\"\",IFERROR(VLOOKUP(AB26,Tabelas!B:D,3,0),0),\"\")","v":0},{"$f":"IF(A26<>\"\",IFERROR(VLOOKUP(AC26,Tabelas!B:D,3,0),0),\"\")","v":0},{"$f":"IF(A26<>\"\",IFERROR(VLOOKUP(AD26,Tabelas!B:D,3,0),0),\"\")","v":0},{"$f":"IF(A26<>\"\",IFERROR(VLOOKUP(AE26,Tabelas!B:D,3,0),0),\"\")","v":0},{"$f":"IF(A26<>\"\",IFERROR(VLOOKUP(AF26,Tabelas!B:D,3,0),0),\"\")","v":0},{"$f":"IF(A26<>\"\",IFERROR(VLOOKUP(AG26,Tabelas!B:D,3,0),0),\"\")","v":0},{"$f":"IF(A26<>\"\",IFERROR(VLOOKUP(AH26,Tabelas!B:D,3,0),0),\"\")","v":0},{"$f":"IF(A26<>\"\",IFERROR(VLOOKUP(AI26,Tabelas!B:D,3,0),0),\"\")","v":0},{"$f":"IF(A26<>\"\",IFERROR(VLOOKUP(AJ26,Tabelas!B:D,3,0),0),\"\")","v":0},{"$f":"IF(A26<>\"\",IFERROR(VLOOKUP(AK26,Tabelas!B:D,3,0),0),\"\")","v":0},{"$f":"IF(A26<>\"\",IFERROR(VLOOKUP(AL26,Tabelas!B:D,3,0),0),\"\")","v":0},{"$f":"IF(A26<>\"\",IFERROR(VLOOKUP(AM26,Tabelas!B:D,3,0),0),\"\")","v":0},{"$f":"IF(A26<>\"\",IFERROR(VLOOKUP(AN26,Tabelas!B:D,3,0),0),\"\")","v":0},{"$f":"IF(A26<>\"\",IFERROR(VLOOKUP(AO26,Tabelas!B:D,3,0),0),\"\")","v":0},{"$f":"IF(A26<>\"\",IFERROR(VLOOKUP(AP26,Tabelas!B:D,3,0),0),\"\")","v":0},{"$f":"IF(A26<>\"\",IFERROR(VLOOKUP(AQ26,Tabelas!B:D,3,0),0),\"\")","v":0},0,0,0,0,0,0,0,0]
["FULANO 19",19,null,null,null,null,null,null,null,null,null,null,null,null,null,null,null,null,null,null,null,null,null,null,null,null,null,null,null,null,null,null,null,null,null,null,null,null,null,null,null,null,null,{"$f":"IF(A27<>\"\",IFERROR(VLOOKUP(M27,Tabelas!B:D,3,0),0),\"\")","v":0},{"$f":"IF(A27<>\"\",IFERROR(VLOOKUP(N27,Tabelas!B:D,3,0),0),\"\")","v":0},{"$f":"IF(A27<>\"\",IFERROR(VLOOKUP(O27,Tabelas!B:D,3,0),0),\"\")","v":0},{"$f":"IF(A27<>\"\",IFERROR(VLOOKUP(P27,Tabelas!B:D,3,0),0),\"\")","v":0},{"$f":"IF(A27<>\"\",IFERROR(VLOOKUP(Q27,Tabelas!B:D,3,0),0),\"\")","v":0},{"$f":"IF(A27<>\"\",IFERROR(VLOOKUP(R27,Tabelas!B:D,3,0),0),\"\")","v":0},{"$f":"IF(A27<>\"\",IFERROR(VLOOKUP(S27,Tabelas!B:D,3,0),0),\"\")","v":0},{"$f":"IF(A27<>\"\",IFERROR(VLOOKUP(T27,Tabelas!B:D,3,0),0),\"\")","v":0},{"$f":"IF(A27<>\"\",IFERROR(VLOOKUP(U27,Tabelas!B:D,3,0),0),\"\")","v":0},{"$f":"IF(A27<>\"\",IFERROR(VLOOKUP(V27,Tabelas!B:D,3,0),0),\"\")","v":0},{"$f":"IF(A27<>\"\",IFERROR(VLOOKUP(W27,Tabelas!B:D,3,0),0),\"\")","v":0},{"$f":"IF(A27<>\"\",IFERROR(VLOOKUP(X27,Tabelas!B:D,3,0),0),\"\")","v":0},{"$f":"IF(A27<>\"\",IFERROR(VLOOKUP(Y27,Tabelas!B:D,3,0),0),\"\")","v":0},{"$f":"IF(A27<>\"\",IFERROR(VLOOKUP(Z27,Tabelas!B:D,3,0),0),\"\")","v":0},{"$f":"IF(A27<>\"\",IFERROR(VLOOKUP(AA27,Tabelas!B:D,3,0),0),\"\")","v":0},{"$f":"IF(A27<>\"\",IFERROR(VLOOKUP(AB27,Tabelas!B:D,3,0),0),\"\")","v":0},{"$f":"IF(A27<>\"\",IFERROR(VLOOKUP(AC27,Tabelas!B:D,3,0),0),\"\")","v":0},{"$f":"IF(A27<>\"\",IFERROR(VLOOKUP(AD27,Tabelas!B:D,3,0),0),\"\")","v":0},{"$f":"IF(A27<>\"\",IFERROR(VLOOKUP(AE27,Tabelas!B:D,3,0),0),\"\")","v":0},{"$f":"IF(A27<>\"\",IFERROR(VLOOKUP(AF27,Tabelas!B:D,3,0),0),\"\")","v":0},{"$f":"IF(A27<>\"\",IFERROR(VLOOKUP(AG27,Tabelas!B:D,3,0),0),\"\")","v":0},{"$f":"IF(A27<>\"\",IFERROR(VLOOKUP(AH27,Tabelas!B:D,3,0),0),\"\")","v":0},{"$f":"IF(A27<>\"\",IFERROR(VLOOKUP(AI27,Tabelas!B:D,3,0),0),\"\")","v":0},{"$f":"IF(A27<>\"\",IFERROR(VLOOKUP(AJ27,Tabelas!B:D,3,0),0),\"\")","v":0},{"$f":"IF(A27<>\"\",IFERROR(VLOOKUP(AK27,Tabelas!B:D,3,0),0),\"\")","v":0},{"$f":"IF(A27<>\"\",IFERROR(VLOOKUP(AL27,Tabelas!B:D,3,0),0),\"\")","v":0},{"$f":"IF(A27<>\"\",IFERROR(VLOOKUP(AM27,Tabelas!B:D,3,0),0),\"\")","v":0},{"$f":"IF(A27<>\"\",IFERROR(VLOOKUP(AN27,Tabelas!B:D,3,0),0),\"\")","v":0},{"$f":"IF(A27<>\"\",IFERROR(VLOOKUP(AO27,Tabelas!B:D,3,0),0),\"\")","v":0},{"$f":"IF(A27<>\"\",IFERROR(VLOOKUP(AP27,Tabelas!B:D,3,0),0),\"\")","v":0},{"$f":"IF(A27<>\"\",IFERROR(VLOOKUP(AQ27,Tabelas!B:D,3,0),0),\"\")","v":0},0,0,0,0,0,0,0,0]
["FULANO 20",20,null,null,null,null,null,null,null,null,null,null,null,null,null,null,null,null,null,null,null,null,null,null,null,null,null,null,null,null,null,null,null,null,null,null,null,null,null,null,null,null,null,{"$f":"IF(A28<>\"\",IFERROR(VLOOKUP(M28,Tabelas!B:D,3,0),0),\"\")","v":0},{"$f":"IF(A28<>\"\",IFERROR(VLOOKUP(N28,Tabelas!B:D,3,0),0),\"\")","v":0},{"$f":"IF(A28<>\"\",IFERROR(VLOOKUP(O28,Tabelas!B:D,3,0),0),\"\")","v":0},{"$f":"IF(A28<>\"\",IFERROR(VLOOKUP(P28,Tabelas!B:D,3,0),0),\"\")","v":0},{"$f":"IF(A28<>\"\",IFERROR(VLOOKUP(Q28,Tabelas!B:D,3,0),0),\"\")","v":0},{"$f":"IF(A28<>\"\",IFERROR(VLOOKUP(R28,Tabelas!B:D,3,0),0),\"\")","v":0},{"$f":"IF(A28<>\"\",IFERROR(VLOOKUP(S28,Tabelas!B:D,3,0),0),\"\")","v":0},{"$f":"IF(A28<>\"\",IFERROR(VLOOKUP(T28,Tabelas!B:D,3,0),0),\"\")","v":0},{"$f":"IF(A28<>\"\",IFERROR(VLOOKUP(U28,Tabelas!B:D,3,0),0),\"\")","v":0},{"$f":"IF(A28<>\"\",IFERROR(VLOOKUP(V28,Tabelas!B:D,3,0),0),\"\")","v":0},{"$f":"IF(A28<>\"\",IFERROR(VLOOKUP(W28,Tabelas!B:D,3,0),0),\"\")","v":0},{"$f":"IF(A28<>\"\",IFERROR(VLOOKUP(X28,Tabelas!B:D,3,0),0),\"\")","v":0},{"$f":"IF(A28<>\"\",IFERROR(VLOOKUP(Y28,Tabelas!B:D,3,0),0),\"\")","v":0},{"$f":"IF(A28<>\"\",IFERROR(VLOOKUP(Z28,Tabelas!B:D,3,0),0),\"\")","v":0},{"$f":"IF(A28<>\"\",IFERROR(VLOOKUP(AA28,Tabelas!B:D,3,0),0),\"\")","v":0},{"$f":"IF(A28<>\"\",IFERROR(VLOOKUP(AB28,Tabelas!B:D,3,0),0),\"\")","v":0},{"$f":"IF(A28<>\"\",IFERROR(VLOOKUP(AC28,Tabelas!B:D,3,0),0),\"\")","v":0},{"$f":"IF(A28<>\"\",IFERROR(VLOOKUP(AD28,Tabelas!B:D,3,0),0),\"\")","v":0},{"$f":"IF(A28<>\"\",IFERROR(VLOOKUP(AE28,Tabelas!B:D,3,0),0),\"\")","v":0},{"$f":"IF(A28<>\"\",IFERROR(VLOOKUP(AF28,Tabelas!B:D,3,0),0),\"\")","v":0},{"$f":"IF(A28<>\"\",IFERROR(VLOOKUP(AG28,Tabelas!B:D,3,0),0),\"\")","v":0},{"$f":"IF(A28<>\"\",IFERROR(VLOOKUP(AH28,Tabelas!B:D,3,0),0),\"\")","v":0},{"$f":"IF(A28<>\"\",IFERROR(VLOOKUP(AI28,Tabelas!B:D,3,0),0),\"\")","v":0},{"$f":"IF(A28<>\"\",IFERROR(VLOOKUP(AJ28,Tabelas!B:D,3,0),0),\"\")","v":0},{"$f":"IF(A28<>\"\",IFERROR(VLOOKUP(AK28,Tabelas!B:D,3,0),0),\"\")","v":0},{"$f":"IF(A28<>\"\",IFERROR(VLOOKUP(AL28,Tabelas!B:D,3,0),0),\"\")","v":0},{"$f":"IF(A28<>\"\",IFERROR(VLOOKUP(AM28,Tabelas!B:D,3,0),0),\"\")","v":0},{"$f":"IF(A28<>\"\",IFERROR(VLOOKUP(AN28,Tabelas!B:D,3,0),0),\"\")","v":0},{"$f":"IF(A28<>\"\",IFERROR(VLOOKUP(AO28,Tabelas!B:D,3,0),0),\"\")","v":0},{"$f":"IF(A28<>\"\",IFERROR(VLOOKUP(AP28,Tabelas!B:D,3,0),0),\"\")","v":0},{"$f":"IF(A28<>\"\",IFERROR(VLOOKUP(AQ28,Tabelas!B:D,3,0),0),\"\")","v":0},0,0,0,0,0,0,0,0]
["FULANO 21",21,null,null,null,null,null,null,null,null,null,null,null,null,null,null,null,null,null,null,null,null,null,null,null,null,null,null,null,null,null,null,null,null,null,null,null,null,null,null,null,null,null,{"$f":"IF(A29<>\"\",IFERROR(VLOOKUP(M29,Tabelas!B:D,3,0),0),\"\")","v":0},{"$f":"IF(A29<>\"\",IFERROR(VLOOKUP(N29,Tabelas!B:D,3,0),0),\"\")","v":0},{"$f":"IF(A29<>\"\",IFERROR(VLOOKUP(O29,Tabelas!B:D,3,0),0),\"\")","v":0},{"$f":"IF(A29<>\"\",IFERROR(VLOOKUP(P29,Tabelas!B:D,3,0),0),\"\")","v":0},{"$f":"IF(A29<>\"\",IFERROR(VLOOKUP(Q29,Tabelas!B:D,3,0),0),\"\")","v":0},{"$f":"IF(A29<>\"\",IFERROR(VLOOKUP(R29,Tabelas!B:D,3,0),0),\"\")","v":0},{"$f":"IF(A29<>\"\",IFERROR(VLOOKUP(S29,Tabelas!B:D,3,0),0),\"\")","v":0},{"$f":"IF(A29<>\"\",IFERROR(VLOOKUP(T29,Tabelas!B:D,3,0),0),\"\")","v":0},{"$f":"IF(A29<>\"\",IFERROR(VLOOKUP(U29,Tabelas!B:D,3,0),0),\"\")","v":0},{"$f":"IF(A29<>\"\",IFERROR(VLOOKUP(V29,Tabelas!B:D,3,0),0),\"\")","v":0},{"$f":"IF(A29<>\"\",IFERROR(VLOOKUP(W29,Tabelas!B:D,3,0),0),\"\")","v":0},{"$f":"IF(A29<>\"\",IFERROR(VLOOKUP(X29,Tabelas!B:D,3,0),0),\"\")","v":0},{"$f":"IF(A29<>\"\",IFERROR(VLOOKUP(Y29,Tabelas!B:D,3,0),0),\"\")","v":0},{"$f":"IF(A29<>\"\",IFERROR(VLOOKUP(Z29,Tabelas!B:D,3,0),0),\"\")","v":0},{"$f":"IF(A29<>\"\",IFERROR(VLOOKUP(AA29,Tabelas!B:D,3,0),0),\"\")","v":0},{"$f":"IF(A29<>\"\",IFERROR(VLOOKUP(AB29,Tabelas!B:D,3,0),0),\"\")","v":0},{"$f":"IF(A29<>\"\",IFERROR(VLOOKUP(AC29,Tabelas!B:D,3,0),0),\"\")","v":0},{"$f":"IF(A29<>\"\",IFERROR(VLOOKUP(AD29,Tabelas!B:D,3,0),0),\"\")","v":0},{"$f":"IF(A29<>\"\",IFERROR(VLOOKUP(AE29,Tabelas!B:D,3,0),0),\"\")","v":0},{"$f":"IF(A29<>\"\",IFERROR(VLOOKUP(AF29,Tabelas!B:D,3,0),0),\"\")","v":0},{"$f":"IF(A29<>\"\",IFERROR(VLOOKUP(AG29,Tabelas!B:D,3,0),0),\"\")","v":0},{"$f":"IF(A29<>\"\",IFERROR(VLOOKUP(AH29,Tabelas!B:D,3,0),0),\"\")","v":0},{"$f":"IF(A29<>\"\",IFERROR(VLOOKUP(AI29,Tabelas!B:D,3,0),0),\"\")","v":0},{"$f":"IF(A29<>\"\",IFERROR(VLOOKUP(AJ29,Tabelas!B:D,3,0),0),\"\")","v":0},{"$f":"IF(A29<>\"\",IFERROR(VLOOKUP(AK29,Tabelas!B:D,3,0),0),\"\")","v":0},{"$f":"IF(A29<>\"\",IFERROR(VLOOKUP(AL29,Tabelas!B:D,3,0),0),\"\")","v":0},{"$f":"IF(A29<>\"\",IFERROR(VLOOKUP(AM29,Tabelas!B:D,3,0),0),\"\")","v":0},{"$f":"IF(A29<>\"\",IFERROR(VLOOKUP(AN29,Tabelas!B:D,3,0),0),\"\")","v":0},{"$f":"IF(A29<>\"\",IFERROR(VLOOKUP(AO29,Tabelas!B:D,3,0),0),\"\")","v":0},{"$f":"IF(A29<>\"\",IFERROR(VLOOKUP(AP29,Tabelas!B:D,3,0),0),\"\")","v":0},{"$f":"IF(A29<>\"\",IFERROR(VLOOKUP(AQ29,Tabelas!B:D,3,0),0),\"\")","v":0},0,0,0,0,0,0,0,0]
["FULANO 22",22,null,null,null,null,null,null,null,null,null,null,null,null,null,null,null,null,null,null,null,null,null,null,null,null,null,null,null,null,null,null,null,null,null,null,null,null,null,null,null,null,null,{"$f":"IF(A30<>\"\",IFERROR(VLOOKUP(M30,Tabelas!B:D,3,0),0),\"\")","v":0},{"$f":"IF(A30<>\"\",IFERROR(VLOOKUP(N30,Tabelas!B:D,3,0),0),\"\")","v":0},{"$f":"IF(A30<>\"\",IFERROR(VLOOKUP(O30,Tabelas!B:D,3,0),0),\"\")","v":0},{"$f":"IF(A30<>\"\",IFERROR(VLOOKUP(P30,Tabelas!B:D,3,0),0),\"\")","v":0},{"$f":"IF(A30<>\"\",IFERROR(VLOOKUP(Q30,Tabelas!B:D,3,0),0),\"\")","v":0},{"$f":"IF(A30<>\"\",IFERROR(VLOOKUP(R30,Tabelas!B:D,3,0),0),\"\")","v":0},{"$f":"IF(A30<>\"\",IFERROR(VLOOKUP(S30,Tabelas!B:D,3,0),0),\"\")","v":0},{"$f":"IF(A30<>\"\",IFERROR(VLOOKUP(T30,Tabelas!B:D,3,0),0),\"\")","v":0},{"$f":"IF(A30<>\"\",IFERROR(VLOOKUP(U30,Tabelas!B:D,3,0),0),\"\")","v":0},{"$f":"IF(A30<>\"\",IFERROR(VLOOKUP(V30,Tabelas!B:D,3,0),0),\"\")","v":0},{"$f":"IF(A30<>\"\",IFERROR(VLOOKUP(W30,Tabelas!B:D,3,0),0),\"\")","v":0},{"$f":"IF(A30<>\"\",IFERROR(VLOOKUP(X30,Tabelas!B:D,3,0),0),\"\")","v":0},{"$f":"IF(A30<>\"\",IFERROR(VLOOKUP(Y30,Tabelas!B:D,3,0),0),\"\")","v":0},{"$f":"IF(A30<>\"\",IFERROR(VLOOKUP(Z30,Tabelas!B:D,3,0),0),\"\")","v":0},{"$f":"IF(A30<>\"\",IFERROR(VLOOKUP(AA30,Tabelas!B:D,3,0),0),\"\")","v":0},{"$f":"IF(A30<>\"\",IFERROR(VLOOKUP(AB30,Tabelas!B:D,3,0),0),\"\")","v":0},{"$f":"IF(A30<>\"\",IFERROR(VLOOKUP(AC30,Tabelas!B:D,3,0),0),\"\")","v":0},{"$f":"IF(A30<>\"\",IFERROR(VLOOKUP(AD30,Tabelas!B:D,3,0),0),\"\")","v":0},{"$f":"IF(A30<>\"\",IFERROR(VLOOKUP(AE30,Tabelas!B:D,3,0),0),\"\")","v":0},{"$f":"IF(A30<>\"\",IFERROR(VLOOKUP(AF30,Tabelas!B:D,3,0),0),\"\")","v":0},{"$f":"IF(A30<>\"\",IFERROR(VLOOKUP(AG30,Tabelas!B:D,3,0),0),\"\")","v":0},{"$f":"IF(A30<>\"\",IFERROR(VLOOKUP(AH30,Tabelas!B:D,3,0),0),\"\")","v":0},{"$f":"IF(A30<>\"\",IFERROR(VLOOKUP(AI30,Tabelas!B:D,3,0),0),\"\")","v":0},{"$f":"IF(A30<>\"\",IFERROR(VLOOKUP(AJ30,Tabelas!B:D,3,0),0),\"\")","v":0},{"$f":"IF(A30<>\"\",IFERROR(VLOOKUP(AK30,Tabelas!B:D,3,0),0),\"\")","v":0},{"$f":"IF(A30<>\"\",IFERROR(VLOOKUP(AL30,Tabelas!B:D,3,0),0),\"\")","v":0},{"$f":"IF(A30<>\"\",IFERROR(VLOOKUP(AM30,Tabelas!B:D,3,0),0),\"\")","v":0},{"$f":"IF(A30<>\"\",IFERROR(VLOOKUP(AN30,Tabelas!B:D,3,0),0),\"\")","v":0},{"$f":"IF(A30<>\"\",IFERROR(VLOOKUP(AO30,Tabelas!B:D,3,0),0),\"\")","v":0},{"$f":"IF(A30<>\"\",IFERROR(VLOOKUP(AP30,Tabelas!B:D,3,0),0),\"\")","v":0},{"$f":"IF(A30<>\"\",IFERROR(VLOOKUP(AQ30,Tabelas!B:D,3,0),0),\"\")","v":0},0,0,0,0,0,0,0,0]
["FULANO 23",23,null,null,null,null,null,null,null,null,null,null,null,null,null,null,null,null,null,null,null,null,null,null,null,null,null,null,null,null,null,null,null,null,null,null,null,null,null,null,null,null,null,{"$f":"IF(A31<>\"\",IFERROR(VLOOKUP(M31,Tabelas!B:D,3,0),0),\"\")","v":0},{"$f":"IF(A31<>\"\",IFERROR(VLOOKUP(N31,Tabelas!B:D,3,0),0),\"\")","v":0},{"$f":"IF(A31<>\"\",IFERROR(VLOOKUP(O31,Tabelas!B:D,3,0),0),\"\")","v":0},{"$f":"IF(A31<>\"\",IFERROR(VLOOKUP(P31,Tabelas!B:D,3,0),0),\"\")","v":0},{"$f":"IF(A31<>\"\",IFERROR(VLOOKUP(Q31,Tabelas!B:D,3,0),0),\"\")","v":0},{"$f":"IF(A31<>\"\",IFERROR(VLOOKUP(R31,Tabelas!B:D,3,0),0),\"\")","v":0},{"$f":"IF(A31<>\"\",IFERROR(VLOOKUP(S31,Tabelas!B:D,3,0),0),\"\")","v":0},{"$f":"IF(A31<>\"\",IFERROR(VLOOKUP(T31,Tabelas!B:D,3,0),0),\"\")","v":0},{"$f":"IF(A31<>\"\",IFERROR(VLOOKUP(U31,Tabelas!B:D,3,0),0),\"\")","v":0},{"$f":"IF(A31<>\"\",IFERROR(VLOOKUP(V31,Tabelas!B:D,3,0),0),\"\")","v":0},{"$f":"IF(A31<>\"\",IFERROR(VLOOKUP(W31,Tabelas!B:D,3,0),0),\"\")","v":0},{"$f":"IF(A31<>\"\",IFERROR(VLOOKUP(X31,Tabelas!B:D,3,0),0),\"\")","v":0},{"$f":"IF(A31<>\"\",IFERROR(VLOOKUP(Y31,Tabelas!B:D,3,0),0),\"\")","v":0},{"$f":"IF(A31<>\"\",IFERROR(VLOOKUP(Z31,Tabelas!B:D,3,0),0),\"\")","v":0},{"$f":"IF(A31<>\"\",IFERROR(VLOOKUP(AA31,Tabelas!B:D,3,0),0),\"\")","v":0},{"$f":"IF(A31<>\"\",IFERROR(VLOOKUP(AB31,Tabelas!B:D,3,0),0),\"\")","v":0},{"$f":"IF(A31<>\"\",IFERROR(VLOOKUP(AC31,Tabelas!B:D,3,0),0),\"\")","v":0},{"$f":"IF(A31<>\"\",IFERROR(VLOOKUP(AD31,Tabelas!B:D,3,0),0),\"\")","v":0},{"$f":"IF(A31<>\"\",IFERROR(VLOOKUP(AE31,Tabelas!B:D,3,0),0),\"\")","v":0},{"$f":"IF(A31<>\"\",IFERROR(VLOOKUP(AF31,Tabelas!B:D,3,0),0),\"\")","v":0},{"$f":"IF(A31<>\"\",IFERROR(VLOOKUP(AG31,Tabelas!B:D,3,0),0),\"\")","v":0},{"$f":"IF(A31<>\"\",IFERROR(VLOOKUP(AH31,Tabelas!B:D,3,0),0),\"\")","v":0},{"$f":"IF(A31<>\"\",IFERROR(VLOOKUP(AI31,Tabelas!B:D,3,0),0),\"\")","v":0},{"$f":"IF(A31<>\"\",IFERROR(VLOOKUP(AJ31,Tabelas!B:D,3,0),0),\"\")","v":0},{"$f":"IF(A31<>\"\",IFERROR(VLOOKUP(AK31,Tabelas!B:D,3,0),0),\"\")","v":0},{"$f":"IF(A31<>\"\",IFERROR(VLOOKUP(AL31,Tabelas!B:D,3,0),0),\"\")","v":0},{"$f":"IF(A31<>\"\",IFERROR(VLOOKUP(AM31,Tabelas!B:D,3,0),0),\"\")","v":0},{"$f":"IF(A31<>\"\",IFERROR(VLOOKUP(AN31,Tabelas!B:D,3,0),0),\"\")","v":0},{"$f":"IF(A31<>\"\",IFERROR(VLOOKUP(AO31,Tabelas!B:D,3,0),0),\"\")","v":0},{"$f":"IF(A31<>\"\",IFERROR(VLOOKUP(AP31,Tabelas!B:D,3,0),0),\"\")","v":0},{"$f":"IF(A31<>\"\",IFERROR(VLOOKUP(AQ31,Tabelas!B:D,3,0),0),\"\")","v":0},0,0,0,0,0,0,0,0]
["FULANO 24",24,null,null,null,null,null,null,null,null,null,null,null,null,null,null,null,null,null,null,null,null,null,null,null,null,null,null,null,null,null,null,null,null,null,null,null,null,null,null,null,null,null,{"$f":"IF(A32<>\"\",IFERROR(VLOOKUP(M32,Tabelas!B:D,3,0),0),\"\")","v":0},{"$f":"IF(A32<>\"\",IFERROR(VLOOKUP(N32,Tabelas!B:D,3,0),0),\"\")","v":0},{"$f":"IF(A32<>\"\",IFERROR(VLOOKUP(O32,Tabelas!B:D,3,0),0),\"\")","v":0},{"$f":"IF(A32<>\"\",IFERROR(VLOOKUP(P32,Tabelas!B:D,3,0),0),\"\")","v":0},{"$f":"IF(A32<>\"\",IFERROR(VLOOKUP(Q32,Tabelas!B:D,3,0),0),\"\")","v":0},{"$f":"IF(A32<>\"\",IFERROR(VLOOKUP(R32,Tabelas!B:D,3,0),0),\"\")","v":0},{"$f":"IF(A32<>\"\",IFERROR(VLOOKUP(S32,Tabelas!B:D,3,0),0),\"\")","v":0},{"$f":"IF(A32<>\"\",IFERROR(VLOOKUP(T32,Tabelas!B:D,3,0),0),\"\")","v":0},{"$f":"IF(A32<>\"\",IFERROR(VLOOKUP(U32,Tabelas!B:D,3,0),0),\"\")","v":0},{"$f":"IF(A32<>\"\",IFERROR(VLOOKUP(V32,Tabelas!B:D,3,0),0),\"\")","v":0},{"$f":"IF(A32<>\"\",IFERROR(VLOOKUP(W32,Tabelas!B:D,3,0),0),\"\")","v":0},{"$f":"IF(A32<>\"\",IFERROR(VLOOKUP(X32,Tabelas!B:D,3,0),0),\"\")","v":0},{"$f":"IF(A32<>\"\",IFERROR(VLOOKUP(Y32,Tabelas!B:D,3,0),0),\"\")","v":0},{"$f":"IF(A32<>\"\",IFERROR(VLOOKUP(Z32,Tabelas!B:D,3,0),0),\"\")","v":0},{"$f":"IF(A32<>\"\",IFERROR(VLOOKUP(AA32,Tabelas!B:D,3,0),0),\"\")","v":0},{"$f":"IF(A32<>\"\",IFERROR(VLOOKUP(AB32,Tabelas!B:D,3,0),0),\"\")","v":0},{"$f":"IF(A32<>\"\",IFERROR(VLOOKUP(AC32,Tabelas!B:D,3,0),0),\"\")","v":0},{"$f":"IF(A32<>\"\",IFERROR(VLOOKUP(AD32,Tabelas!B:D,3,0),0),\"\")","v":0},{"$f":"IF(A32<>\"\",IFERROR(VLOOKUP(AE32,Tabelas!B:D,3,0),0),\"\")","v":0},{"$f":"IF(A32<>\"\",IFERROR(VLOOKUP(AF32,Tabelas!B:D,3,0),0),\"\")","v":0},{"$f":"IF(A32<>\"\",IFERROR(VLOOKUP(AG32,Tabelas!B:D,3,0),0),\"\")","v":0},{"$f":"IF(A32<>\"\",IFERROR(VLOOKUP(AH32,Tabelas!B:D,3,0),0),\"\")","v":0},{"$f":"IF(A32<>\"\",IFERROR(VLOOKUP(AI32,Tabelas!B:D,3,0),0),\"\")","v":0},{"$f":"IF(A32<>\"\",IFERROR(VLOOKUP(AJ32,Tabelas!B:D,3,0),0),\"\")","v":0},{"$f":"IF(A32<>\"\",IFERROR(VLOOKUP(AK32,Tabelas!B:D,3,0),0),\"\")","v":0},{"$f":"IF(A32<>\"\",IFERROR(VLOOKUP(AL32,Tabelas!B:D,3,0),0),\"\")","v":0},{"$f":"IF(A32<>\"\",IFERROR(VLOOKUP(AM32,Tabelas!B:D,3,0),0),\"\")","v":0},{"$f":"IF(A32<>\"\",IFERROR(VLOOKUP(AN32,Tabelas!B:D,3,0),0),\"\")","v":0},{"$f":"IF(A32<>\"\",IFERROR(VLOOKUP(AO32,Tabelas!B:D,3,0),0),\"\")","v":0},{"$f":"IF(A32<>\"\",IFERROR(VLOOKUP(AP32,Tabelas!B:D,3,0),0),\"\")","v":0},{"$f":"IF(A32<>\"\",IFERROR(VLOOKUP(AQ32,Tabelas!B:D,3,0),0),\"\")","v":0},0,0,0,0,0,0,0,0]
["FULANO 25",25,null,null,null,null,null,null,null,null,null,null,null,null,null,null,null,null,null,null,null,null,null,null,null,null,null,null,null,null,null,null,null,null,null,null,null,null,null,null,null,null,null,{"$f":"IF(A33<>\"\",IFERROR(VLOOKUP(M33,Tabelas!B:D,3,0),0),\"\")","v":0},{"$f":"IF(A33<>\"\",IFERROR(VLOOKUP(N33,Tabelas!B:D,3,0),0),\"\")","v":0},{"$f":"IF(A33<>\"\",IFERROR(VLOOKUP(O33,Tabelas!B:D,3,0),0),\"\")","v":0},{"$f":"IF(A33<>\"\",IFERROR(VLOOKUP(P33,Tabelas!B:D,3,0),0),\"\")","v":0},{"$f":"IF(A33<>\"\",IFERROR(VLOOKUP(Q33,Tabelas!B:D,3,0),0),\"\")","v":0},{"$f":"IF(A33<>\"\",IFERROR(VLOOKUP(R33,Tabelas!B:D,3,0),0),\"\")","v":0},{"$f":"IF(A33<>\"\",IFERROR(VLOOKUP(S33,Tabelas!B:D,3,0),0),\"\")","v":0},{"$f":"IF(A33<>\"\",IFERROR(VLOOKUP(T33,Tabelas!B:D,3,0),0),\"\")","v":0},{"$f":"IF(A33<>\"\",IFERROR(VLOOKUP(U33,Tabelas!B:D,3,0),0),\"\")","v":0},{"$f":"IF(A33<>\"\",IFERROR(VLOOKUP(V33,Tabelas!B:D,3,0),0),\"\")","v":0},{"$f":"IF(A33<>\"\",IFERROR(VLOOKUP(W33,Tabelas!B:D,3,0),0),\"\")","v":0},{"$f":"IF(A33<>\"\",IFERROR(VLOOKUP(X33,Tabelas!B:D,3,0),0),\"\")","v":0},{"$f":"IF(A33<>\"\",IFERROR(VLOOKUP(Y33,Tabelas!B:D,3,0),0),\"\")","v":0},{"$f":"IF(A33<>\"\",IFERROR(VLOOKUP(Z33,Tabelas!B:D,3,0),0),\"\")","v":0},{"$f":"IF(A33<>\"\",IFERROR(VLOOKUP(AA33,Tabelas!B:D,3,0),0),\"\")","v":0},{"$f":"IF(A33<>\"\",IFERROR(VLOOKUP(AB33,Tabelas!B:D,3,0),0),\"\")","v":0},{"$f":"IF(A33<>\"\",IFERROR(VLOOKUP(AC33,Tabelas!B:D,3,0),0),\"\")","v":0},{"$f":"IF(A33<>\"\",IFERROR(VLOOKUP(AD33,Tabelas!B:D,3,0),0),\"\")","v":0},{"$f":"IF(A33<>\"\",IFERROR(VLOOKUP(AE33,Tabelas!B:D,3,0),0),\"\")","v":0},{"$f":"IF(A33<>\"\",IFERROR(VLOOKUP(AF33,Tabelas!B:D,3,0),0),\"\")","v":0},{"$f":"IF(A33<>\"\",IFERROR(VLOOKUP(AG33,Tabelas!B:D,3,0),0),\"\")","v":0},{"$f":"IF(A33<>\"\",IFERROR(VLOOKUP(AH33,Tabelas!B:D,3,0),0),\"\")","v":0},{"$f":"IF(A33<>\"\",IFERROR(VLOOKUP(AI33,Tabelas!B:D,3,0),0),\"\")","v":0},{"$f":"IF(A33<>\"\",IFERROR(VLOOKUP(AJ33,Tabelas!B:D,3,0),0),\"\")","v":0},{"$f":"IF(A33<>\"\",IFERROR(VLOOKUP(AK33,Tabelas!B:D,3,0),0),\"\")","v":0},{"$f":"IF(A33<>\"\",IFERROR(VLOOKUP(AL33,Tabelas!B:D,3,0),0),\"\")","v":0},{"$f":"IF(A33<>\"\",IFERROR(VLOOKUP(AM33,Tabelas!B:D,3,0),0),\"\")","v":0},{"$f":"IF(A33<>\"\",IFERROR(VLOOKUP(AN33,Tabelas!B:D,3,0),0),\"\")","v":0},{"$f":"IF(A33<>\"\",IFERROR(VLOOKUP(AO33,Tabelas!B:D,3,0),0),\"\")","v":0},{"$f":"IF(A33<>\"\",IFERROR(VLOOKUP(AP33,Tabelas!B:D,3,0),0),\"\")","v":0},{"$f":"IF(A33<>\"\",IFERROR(VLOOKUP(AQ33,Tabelas!B:D,3,0),0),\"\")","v":0},0,0,0,0,0,0,0,0]
["FULANO 26",26,null,null,null,null,null,null,null,null,null,null,null,null,null,null,null,null,null,null,null,null,null,null,null,null,null,null,null,null,null,null,null,null,null,null,null,null,null,null,null,null,null,{"$f":"IF(A34<>\"\",IFERROR(VLOOKUP(M34,Tabelas!B:D,3,0),0),\"\")","v":0},{"$f":"IF(A34<>\"\",IFERROR(VLOOKUP(N34,Tabelas!B:D,3,0),0),\"\")","v":0},{"$f":"IF(A34<>\"\",IFERROR(VLOOKUP(O34,Tabelas!B:D,3,0),0),\"\")","v":0},{"$f":"IF(A34<>\"\",IFERROR(VLOOKUP(P34,Tabelas!B:D,3,0),0),\"\")","v":0},{"$f":"IF(A34<>\"\",IFERROR(VLOOKUP(Q34,Tabelas!B:D,3,0),0),\"\")","v":0},{"$f":"IF(A34<>\"\",IFERROR(VLOOKUP(R34,Tabelas!B:D,3,0),0),\"\")","v":0},{"$f":"IF(A34<>\"\",IFERROR(VLOOKUP(S34,Tabelas!B:D,3,0),0),\"\")","v":0},{"$f":"IF(A34<>\"\",IFERROR(VLOOKUP(T34,Tabelas!B:D,3,0),0),\"\")","v":0},{"$f":"IF(A34<>\"\",IFERROR(VLOOKUP(U34,Tabelas!B:D,3,0),0),\"\")","v":0},{"$f":"IF(A34<>\"\",IFERROR(VLOOKUP(V34,Tabelas!B:D,3,0),0),\"\")","v":0},{"$f":"IF(A34<>\"\",IFERROR(VLOOKUP(W34,Tabelas!B:D,3,0),0),\"\")","v":0},{"$f":"IF(A34<>\"\",IFERROR(VLOOKUP(X34,Tabelas!B:D,3,0),0),\"\")","v":0},{"$f":"IF(A34<>\"\",IFERROR(VLOOKUP(Y34,Tabelas!B:D,3,0),0),\"\")","v":0},{"$f":"IF(A34<>\"\",IFERROR(VLOOKUP(Z34,Tabelas!B:D,3,0),0),\"\")","v":0},{"$f":"IF(A34<>\"\",IFERROR(VLOOKUP(AA34,Tabelas!B:D,3,0),0),\"\")","v":0},{"$f":"IF(A34<>\"\",IFERROR(VLOOKUP(AB34,Tabelas!B:D,3,0),0),\"\")","v":0},{"$f":"IF(A34<>\"\",IFERROR(VLOOKUP(AC34,Tabelas!B:D,3,0),0),\"\")","v":0},{"$f":"IF(A34<>\"\",IFERROR(VLOOKUP(AD34,Tabelas!B:D,3,0),0),\"\")","v":0},{"$f":"IF(A34<>\"\",IFERROR(VLOOKUP(AE34,Tabelas!B:D,3,0),0),\"\")","v":0},{"$f":"IF(A34<>\"\",IFERROR(VLOOKUP(AF34,Tabelas!B:D,3,0),0),\"\")","v":0},{"$f":"IF(A34<>\"\",IFERROR(VLOOKUP(AG34,Tabelas!B:D,3,0),0),\"\")","v":0},{"$f":"IF(A34<>\"\",IFERROR(VLOOKUP(AH34,Tabelas!B:D,3,0),0),\"\")","v":0},{"$f":"IF(A34<>\"\",IFERROR(VLOOKUP(AI34,Tabelas!B:D,3,0),0),\"\")","v":0},{"$f":"IF(A34<>\"\",IFERROR(VLOOKUP(AJ34,Tabelas!B:D,3,0),0),\"\")","v":0},{"$f":"IF(A34<>\"\",IFERROR(VLOOKUP(AK34,Tabelas!B:D,3,0),0),\"\")","v":0},{"$f":"IF(A34<>\"\",IFERROR(VLOOKUP(AL34,Tabelas!B:D,3,0),0),\"\")","v":0},{"$f":"IF(A34<>\"\",IFERROR(VLOOKUP(AM34,Tabelas!B:D,3,0),0),\"\")","v":0},{"$f":"IF(A34<>\"\",IFERROR(VLOOKUP(AN34,Tabelas!B:D,3,0),0),\"\")","v":0},{"$f":"IF(A34<>\"\",IFERROR(VLOOKUP(AO34,Tabelas!B:D,3,0),0),\"\")","v":0},{"$f":"IF(A34<>\"\",IFERROR(VLOOKUP(AP34,Tabelas!B:D,3,0),0),\"\")","v":0},{"$f":"IF(A34<>\"\",IFERROR(VLOOKUP(AQ34,Tabelas!B:D,3,0),0),\"\")","v":0},0,0,0,0,0,0,0,0]
["FULANO 27",27,null,null,null,null,null,null,null,null,null,null,null,null,null,null,null,null,null,null,null,null,null,null,null,null,null,null,null,null,null,null,null,null,null,null,null,null,null,null,null,null,null,{"$f":"IF(A35<>\"\",IFERROR(VLOOKUP(M35,Tabelas!B:D,3,0),0),\"\")","v":0},{"$f":"IF(A35<>\"\",IFERROR(VLOOKUP(N35,Tabelas!B:D,3,0),0),\"\")","v":0},{"$f":"IF(A35<>\"\",IFERROR(VLOOKUP(O35,Tabelas!B:D,3,0),0),\"\")","v":0},{"$f":"IF(A35<>\"\",IFERROR(VLOOKUP(P35,Tabelas!B:D,3,0),0),\"\")","v":0},{"$f":"IF(A35<>\"\",IFERROR(VLOOKUP(Q35,Tabelas!B:D,3,0),0),\"\")","v":0},{"$f":"IF(A35<>\"\",IFERROR(VLOOKUP(R35,Tabelas!B:D,3,0),0),\"\")","v":0},{"$f":"IF(A35<>\"\",IFERROR(VLOOKUP(S35,Tabelas!B:D,3,0),0),\"\")","v":0},{"$f":"IF(A35<>\"\",IFERROR(VLOOKUP(T35,Tabelas!B:D,3,0),0),\"\")","v":0},{"$f":"IF(A35<>\"\",IFERROR(VLOOKUP(U35,Tabelas!B:D,3,0),0),\"\")","v":0},{"$f":"IF(A35<>\"\",IFERROR(VLOOKUP(V35,Tabelas!B:D,3,0),0),\"\")","v":0},{"$f":"IF(A35<>\"\",IFERROR(VLOOKUP(W35,Tabelas!B:D,3,0),0),\"\")","v":0},{"$f":"IF(A35<>\"\",IFERROR(VLOOKUP(X35,Tabelas!B:D,3,0),0),\"\")","v":0},{"$f":"IF(A35<>\"\",IFERROR(VLOOKUP(Y35,Tabelas!B:D,3,0),0),\"\")","v":0},{"$f":"IF(A35<>\"\",IFERROR(VLOOKUP(Z35,Tabelas!B:D,3,0),0),\"\")","v":0},{"$f":"IF(A35<>\"\",IFERROR(VLOOKUP(AA35,Tabelas!B:D,3,0),0),\"\")","v":0},{"$f":"IF(A35<>\"\",IFERROR(VLOOKUP(AB35,Tabelas!B:D,3,0),0),\"\")","v":0},{"$f":"IF(A35<>\"\",IFERROR(VLOOKUP(AC35,Tabelas!B:D,3,0),0),\"\")","v":0},{"$f":"IF(A35<>\"\",IFERROR(VLOOKUP(AD35,Tabelas!B:D,3,0),0),\"\")","v":0},{"$f":"IF(A35<>\"\",IFERROR(VLOOKUP(AE35,Tabelas!B:D,3,0),0),\"\")","v":0},{"$f":"IF(A35<>\"\",IFERROR(VLOOKUP(AF35,Tabelas!B:D,3,0),0),\"\")","v":0},{"$f":"IF(A35<>\"\",IFERROR(VLOOKUP(AG35,Tabelas!B:D,3,0),0),\"\")","v":0},{"$f":"IF(A35<>\"\",IFERROR(VLOOKUP(AH35,Tabelas!B:D,3,0),0),\"\")","v":0},{"$f":"IF(A35<>\"\",IFERROR(VLOOKUP(AI35,Tabelas!B:D,3,0),0),\"\")","v":0},{"$f":"IF(A35<>\"\",IFERROR(VLOOKUP(AJ35,Tabelas!B:D,3,0),0),\"\")","v":0},{"$f":"IF(A35<>\"\",IFERROR(VLOOKUP(AK35,Tabelas!B:D,3,0),0),\"\")","v":0},{"$f":"IF(A35<>\"\",IFERROR(VLOOKUP(AL35,Tabelas!B:D,3,0),0),\"\")","v":0},{"$f":"IF(A35<>\"\",IFERROR(VLOOKUP(AM35,Tabelas!B:D,3,0),0),\"\")","v":0},{"$f":"IF(A35<>\"\",IFERROR(VLOOKUP(AN35,Tabelas!B:D,3,0),0),\"\")","v":0},{"$f":"IF(A35<>\"\",IFERROR(VLOOKUP(AO35,Tabelas!B:D,3,0),0),\"\")","v":0},{"$f":"IF(A35<>\"\",IFERROR(VLOOKUP(AP35,Tabelas!B:D,3,0),0),\"\")","v":0},{"$f":"IF(A35<>\"\",IFERROR(VLOOKUP(AQ35,Tabelas!B:D,3,0),0),\"\")","v":0},0,0,0,0,0,0,0,0]
["TOTAL PROFISSIONAIS MATUTINO",null,null,null,null,null,null,null,null,null,null,null,{"$f":"IF(COUNTIF(M9:M35,\"M*\")+ COUNTIF(M9:M35, \"D*\")-COUNTIF(M9:M35,\"DSR\")<>0,COUNTIF(M9:M35,\"M*\")+ COUNTIF(M9:M35, \"D*\")-COUNTIF(M9:M35,\"DSR\"),\"\")","v":""},"","",1,1,1,1,"","","",1,1,1,1,"","","",1,1,1,1,"","","",1,1,1,1,"","","",null,null,null,null,null,null,null,null,null,null,null,null,null,null,null,null,null,null,null,null,null,null,null,null,null,null,null,null,null,null,null,{"$f":"SUM(BW9:BW35)","v":120},0,0,0,0,0,0,0]
["TOTAL DE PROFISSIONAIS VESPERTINO",null,null,null,null,null,null,null,null,null,null,null,{"$f":"IF(COUNTIF(M9:M35,\"MT*\") + COUNTIF(M9:M35, \"D*\") + COUNTIF(M9:M35,\"T*\")-COUNTIF(M9:M35,\"DSR\")<>0,COUNTIF(M9:M35,\"MT*\") + COUNTIF(M9:M35, \"D*\") + COUNTIF(M9:M35,\"T*\")-COUNTIF(M9:M35,\"DSR\"),\"\")","v":""},"","",1,1,1,"","","","",1,1,1,"","","","",1,1,1,"","","","",1,1,1,"","","","",{"$f":"IF(A37<>\"\",IFERROR(VLOOKUP(M37,Tabelas!B:D,3,0),0),\"\")","v":0},{"$f":"IF(A37<>\"\",IFERROR(VLOOKUP(N37,Tabelas!B:D,3,0),0),\"\")","v":0},{"$f":"IF(A37<>\"\",IFERROR(VLOOKUP(O37,Tabelas!B:D,3,0),0),\"\")","v":0},{"$f":"IF(A37<>\"\",IFERROR(VLOOKUP(P37,Tabelas!B:D,3,0),0),\"\")","v":0},{"$f":"IF(A37<>\"\",IFERROR(VLOOKUP(Q37,Tabelas!B:D,3,0),0),\"\")","v":0},{"$f":"IF(A37<>\"\",IFERROR(VLOOKUP(R37,Tabelas!B:D,3,0),0),\"\")","v":0},{"$f":"IF(A37<>\"\",IFERROR(VLOOKUP(S37,Tabelas!B:D,3,0),0),\"\")","v":0},{"$f":"IF(A37<>\"\",IFERROR(VLOOKUP(T37,Tabelas!B:D,3,0),0),\"\")","v":0},{"$f":"IF(A37<>\"\",IFERROR(VLOOKUP(U37,Tabelas!B:D,3,0),0),\"\")","v":0},{"$f":"IF(A37<>\"\",IFERROR(VLOOKUP(V37,Tabelas!B:D,3,0),0),\"\")","v":0},{"$f":"IF(A37<>\"\",IFERROR(VLOOKUP(W37,Tabelas!B:D,3,0),0),\"\")","v":0},{"$f":"IF(A37<>\"\",IFERROR(VLOOKUP(X37,Tabelas!B:D,3,0),0),\"\")","v":0},{"$f":"IF(A37<>\"\",IFERROR(VLOOKUP(Y37,Tabelas!B:D,3,0),0),\"\")","v":0},{"$f":"IF(A37<>\"\",IFERROR(VLOOKUP(Z37,Tabelas!B:D,3,0),0),\"\")","v":0},{"$f":"IF(A37<>\"\",IFERROR(VLOOKUP(AA37,Tabelas!B:D,3,0),0),\"\")","v":0},{"$f":"IF(A37<>\"\",IFERROR(VLOOKUP(AB37,Tabelas!B:D,3,0),0),\"\")","v":0},{"$f":"IF(A37<>\"\",IFERROR(VLOOKUP(AC37,Tabelas!B:D,3,0),0),\"\")","v":0},{"$f":"IF(A37<>\"\",IFERROR(VLOOKUP(AD37,Tabelas!B:D,3,0),0),\"\")","v":0},{"$f":"IF(A37<>\"\",IFERROR(VLOOKUP(AE37,Tabelas!B:D,3,0),0),\"\")","v":0},{"$f":"IF(A37<>\"\",IFERROR(VLOOKUP(AF37,Tabelas!B:D,3,0),0),\"\")","v":0},{"$f":"IF(A37<>\"\",IFERROR(VLOOKUP(AG37,Tabelas!B:D,3,0),0),\"\")","v":0},{"$f":"IF(A37<>\"\",IFERROR(VLOOKUP(AH37,Tabelas!B:D,3,0),0),\"\")","v":0},{"$f":"IF(A37<>\"\",IFERROR(VLOOKUP(AI37,Tabelas!B:D,3,0),0),\"\")","v":0},{"$f":"IF(A37<>\"\",IFERROR(VLOOKUP(AJ37,Tabelas!B:D,3,0),0),\"\")","v":0},{"$f":"IF(A37<>\"\",IFERROR(VLOOKUP(AK37,Tabelas!B:D,3,0),0),\"\")","v":0},{"$f":"IF(A37<>\"\",IFERROR(VLOOKUP(AL37,Tabelas!B:D,3,0),0),\"\")","v":0},{"$f":"IF(A37<>\"\",IFERROR(VLOOKUP(AM37,Tabelas!B:D,3,0),0),\"\")","v":0},{"$f":"IF(A37<>\"\",IFERROR(VLOOKUP(AN37,Tabelas!B:D,3,0),0),\"\")","v":0},{"$f":"IF(A37<>\"\",IFERROR(VLOOKUP(AO37,Tabelas!B:D,3,0),0),\"\")","v":0},{"$f":"IF(A37<>\"\",IFERROR(VLOOKUP(AP37,Tabelas!B:D,3,0),0),\"\")","v":0},{"$f":"IF(A37<>\"\",IFERROR(VLOOKUP(AQ37,Tabelas!B:D,3,0),0),\"\")","v":0}]
["TOTAL DE PROFISSIONAIS NOTURNO",null,null,null,null,null,null,null,null,null,null,null,{"$f":"IF(COUNTIF(M9:M37,\"N?*\") + COUNTIF(M9:M37, \"DN*\")<>0,COUNTIF(M9:M37,\"N?*\") + COUNTIF(M9:M37, \"DN*\"),\"\")","v":""},"","","","","","","","","","","","","","","","","","","","","","","","","","","","","","",{"$f":"IF(A38<>\"\",IFERROR(VLOOKUP(M38,Tabelas!B:D,3,0),0),\"\")","v":0},{"$f":"IF(A38<>\"\",IFERROR(VLOOKUP(N38,Tabelas!B:D,3,0),0),\"\")","v":0},{"$f":"IF(A38<>\"\",IFERROR(VLOOKUP(O38,Tabelas!B:D,3,0),0),\"\")","v":0},{"$f":"IF(A38<>\"\",IFERROR(VLOOKUP(P38,Tabelas!B:D,3,0),0),\"\")","v":0},{"$f":"IF(A38<>\"\",IFERROR(VLOOKUP(Q38,Tabelas!B:D,3,0),0),\"\")","v":0},{"$f":"IF(A38<>\"\",IFERROR(VLOOKUP(R38,Tabelas!B:D,3,0),0),\"\")","v":0},{"$f":"IF(A38<>\"\",IFERROR(VLOOKUP(S38,Tabelas!B:D,3,0),0),\"\")","v":0},{"$f":"IF(A38<>\"\",IFERROR(VLOOKUP(T38,Tabelas!B:D,3,0),0),\"\")","v":0},{"$f":"IF(A38<>\"\",IFERROR(VLOOKUP(U38,Tabelas!B:D,3,0),0),\"\")","v":0},{"$f":"IF(A38<>\"\",IFERROR(VLOOKUP(V38,Tabelas!B:D,3,0),0),\"\")","v":0},{"$f":"IF(A38<>\"\",IFERROR(VLOOKUP(W38,Tabelas!B:D,3,0),0),\"\")","v":0},{"$f":"IF(A38<>\"\",IFERROR(VLOOKUP(X38,Tabelas!B:D,3,0),0),\"\")","v":0},{"$f":"IF(A38<>\"\",IFERROR(VLOOKUP(Y38,Tabelas!B:D,3,0),0),\"\")","v":0},{"$f":"IF(A38<>\"\",IFERROR(VLOOKUP(Z38,Tabelas!B:D,3,0),0),\"\")","v":0},{"$f":"IF(A38<>\"\",IFERROR(VLOOKUP(AA38,Tabelas!B:D,3,0),0),\"\")","v":0},{"$f":"IF(A38<>\"\",IFERROR(VLOOKUP(AB38,Tabelas!B:D,3,0),0),\"\")","v":0},{"$f":"IF(A38<>\"\",IFERROR(VLOOKUP(AC38,Tabelas!B:D,3,0),0),\"\")","v":0},{"$f":"IF(A38<>\"\",IFERROR(VLOOKUP(AD38,Tabelas!B:D,3,0),0),\"\")","v":0},{"$f":"IF(A38<>\"\",IFERROR(VLOOKUP(AE38,Tabelas!B:D,3,0),0),\"\")","v":0},{"$f":"IF(A38<>\"\",IFERROR(VLOOKUP(AF38,Tabelas!B:D,3,0),0),\"\")","v":0},{"$f":"IF(A38<>\"\",IFERROR(VLOOKUP(AG38,Tabelas!B:D,3,0),0),\"\")","v":0},{"$f":"IF(A38<>\"\",IFERROR(VLOOKUP(AH38,Tabelas!B:D,3,0),0),\"\")","v":0},{"$f":"IF(A38<>\"\",IFERROR(VLOOKUP(AI38,Tabelas!B:D,3,0),0),\"\")","v":0},{"$f":"IF(A38<>\"\",IFERROR(VLOOKUP(AJ38,Tabelas!B:D,3,0),0),\"\")","v":0},{"$f":"IF(A38<>\"\",IFERROR(VLOOKUP(AK38,Tabelas!B:D,3,0),0),\"\")","v":0},{"$f":"IF(A38<>\"\",IFERROR(VLOOKUP(AL38,Tabelas!B:D,3,0),0),\"\")","v":0},{"$f":"IF(A38<>\"\",IFERROR(VLOOKUP(AM38,Tabelas!B:D,3,0),0),\"\")","v":0},{"$f":"IF(A38<>\"\",IFERROR(VLOOKUP(AN38,Tabelas!B:D,3,0),0),\"\")","v":0},{"$f":"IF(A38<>\"\",IFERROR(VLOOKUP(AO38,Tabelas!B:D,3,0),0),\"\")","v":0},{"$f":"IF(A38<>\"\",IFERROR(VLOOKUP(AP38,Tabelas!B:D,3,0),0),\"\")","v":0},{"$f":"IF(A38<>\"\",IFERROR(VLOOKUP(AQ38,Tabelas!B:D,3,0),0),\"\")","v":0}]
[null,null,null,null,null,null,null,null,null,null,null,null,null,null,null,null,null,null,null,null,null,null,null,null,null,null,null,null,null,null,null,null,null,null,null,null,null,null,null,null,null,null,null,{"$f":"IF(A39<>\"\",IFERROR(VLOOKUP(M39,Tabelas!B:D,3,0),0),\"\")","v":""},{"$f":"IF(A39<>\"\",IFERROR(VLOOKUP(N39,Tabelas!B:D,3,0),0),\"\")","v":""},{"$f":"IF(A39<>\"\",IFERROR(VLOOKUP(O39,Tabelas!B:D,3,0),0),\"\")","v":""},{"$f":"IF(A39<>\"\",IFERROR(VLOOKUP(P39,Tabelas!B:D,3,0),0),\"\")","v":""},{"$f":"IF(A39<>\"\",IFERROR(VLOOKUP(Q39,Tabelas!B:D,3,0),0),\"\")","v":""},{"$f":"IF(A39<>\"\",IFERROR(VLOOKUP(R39,Tabelas!B:D,3,0),0),\"\")","v":""},{"$f":"IF(A39<>\"\",IFERROR(VLOOKUP(S39,Tabelas!B:D,3,0),0),\"\")","v":""},{"$f":"IF(A39<>\"\",IFERROR(VLOOKUP(T39,Tabelas!B:D,3,0),0),\"\")","v":""},{"$f":"IF(A39<>\"\",IFERROR(VLOOKUP(U39,Tabelas!B:D,3,0),0),\"\")","v":""},{"$f":"IF(A39<>\"\",IFERROR(VLOOKUP(V39,Tabelas!B:D,3,0),0),\"\")","v":""},{"$f":"IF(A39<>\"\",IFERROR(VLOOKUP(W39,Tabelas!B:D,3,0),0),\"\")","v":""},{"$f":"IF(A39<>\"\",IFERROR(VLOOKUP(X39,Tabelas!B:D,3,0),0),\"\")","v":""},{"$f":"IF(A39<>\"\",IFERROR(VLOOKUP(Y39,Tabelas!B:D,3,0),0),\"\")","v":""},{"$f":"IF(A39<>\"\",IFERROR(VLOOKUP(Z39,Tabelas!B:D,3,0),0),\"\")","v":""},{"$f":"IF(A39<>\"\",IFERROR(VLOOKUP(AA39,Tabelas!B:D,3,0),0),\"\")","v":""},{"$f":"IF(A39<>\"\",IFERROR(VLOOKUP(AB39,Tabelas!B:D,3,0),0),\"\")","v":""},{"$f":"IF(A39<>\"\",IFERROR(VLOOKUP(AC39,Tabelas!B:D,3,0),0),\"\")","v":""},{"$f":"IF(A39<>\"\",IFERROR(VLOOKUP(AD39,Tabelas!B:D,3,0),0),\"\")","v":""},{"$f":"IF(A39<>\"\",IFERROR(VLOOKUP(AE39,Tabelas!B:D,3,0),0),\"\")","v":""},{"$f":"IF(A39<>\"\",IFERROR(VLOOKUP(AF39,Tabelas!B:D,3,0),0),\"\")","v":""},{"$f":"IF(A39<>\"\",IFERROR(VLOOKUP(AG39,Tabelas!B:D,3,0),0),\"\")","v":""},{"$f":"IF(A39<>\"\",IFERROR(VLOOKUP(AH39,Tabelas!B:D,3,0),0),\"\")","v":""},{"$f":"IF(A39<>\"\",IFERROR(VLOOKUP(AI39,Tabelas!B:D,3,0),0),\"\")","v":""},{"$f":"IF(A39<>\"\",IFERROR(VLOOKUP(AJ39,Tabelas!B:D,3,0),0),\"\")","v":""},{"$f":"IF(A39<>\"\",IFERROR(VLOOKUP(AK39,Tabelas!B:D,3,0),0),\"\")","v":""},{"$f":"IF(A39<>\"\",IFERROR(VLOOKUP(AL39,Tabelas!B:D,3,0),0),\"\")","v":""},{"$f":"IF(A39<>\"\",IFERROR(VLOOKUP(AM39,Tabelas!B:D,3,0),0),\"\")","v":""},{"$f":"IF(A39<>\"\",IFERROR(VLOOKUP(AN39,Tabelas!B:D,3,0),0),\"\")","v":""},{"$f":"IF(A39<>\"\",IFERROR(VLOOKUP(AO39,Tabelas!B:D,3,0),0),\"\")","v":""},{"$f":"IF(A39<>\"\",IFERROR(VLOOKUP(AP39,Tabelas!B:D,3,0),0),\"\")","v":""},{"$f":"IF(A39<>\"\",IFERROR(VLOOKUP(AQ39,Tabelas!B:D,3,0),0),\"\")","v":""}]
["Legenda:"]
["Licença Maternidade","LM","Férias",null,null,null,null,null,null,"FE",null,"Ponto Facultativo",null,null,null,null,null,null,null,"PF","Manhã *",null,null,null,null,null,null,"M","Diurno (8 hrs) *",null,null,null,null,null,null,"MT"]
["Licença Paternidade","LP","Feriado",null,null,null,null,null,null,"FD",null,"Abono **",null,null,null,null,null,null,null,"AB","Tarde *",null,null,null,null,null,null,"T","Dia/ noite (24 hrs) *",null,null,null,null,null,null,"DN"]
["Licença Médica/Odontológica","L","Descanso Semanal Remunerado",null,null,null,null,null,null,"DSR",null,"Compensação de Horas***",null,null,null,null,null,null,null,"CH","Plantão Dia (12 hrs) *",null,null,null,null,null,null,"D"]
["Licença Capacitação","LC","Recesso",null,null,null,null,null,null,"RC",null,"Afastamento**",null,null,null,null,null,null,null,"AF","Plantão Noite (12 hrs) *",null,null,null,null,null,null,"N"]
[]
["OBSERVAÇÕES:"]
["* Para inserção das legendas referentes às jornadas de trabalho, verificar a Tabela 1 do Anexo do Memorando-Circular - SEI nº   25 /2018/CAP/DGP-EBSERH."]
["** Para inserção das legendas referentes aos Afastamentos previstos em lei e às Compensações de horas, verificar a Tabela 2 do Anexo do Memorando-Circular - SEI nº   25 /2018/CAP/DGP-EBSERH."]

{"sheet":"Março","index":2,"n_rows":48,"n_cols":82,"rows_kept":48,"cut":false,"hidden":false,"merged":[[40,20,40,26],[41,2,41,8],[41,9,41,10],[41,11,41,18],[41,20,41,26],[40,2,40,8],[40,9,40,10],[42,20,42,26],[43,2,43,8],[43,9,43,10],[43,11,43,18],[43,20,43,26],[35,0,35,11],[36,0,36,11],[37,0,37,11],[42,2,42,8],[42,9,42,10],[42,11,42,18],[40,11,40,18],[1,0,1,42],[2,0,2,42],[3,0,3,42],[4,1,4,20],[4,23,4,34],[4,37,4,42],[5,6,5,11],[6,76,7,76],[6,77,7,77],[6,78,7,78],[6,79,7,79],[6,6,7,6],[6,7,7,7],[6,8,7,8],[6,11,7,11],[6,9,7,9],[6,10,7,10],[6,80,7,80],[6,81,7,81],[5,12,5,42],[5,43,5,73],[5,75,5,81],[5,74,7,74],[6,75,7,75],[35,79,37,79],[35,80,37,80],[35,81,37,81],[40,28,40,34],[41,28,41,34],[35,74,37,74],[35,75,37,75],[35,76,37,76],[35,77,37,77],[35,78,37,78]]}
[]
[]
["NOME DO HU"]
["ESCALA MENSAL DE TRABALHO"]
["DIVISÃO /SETOR/UNIDADE:",null,null,null,null,null,null,null,null,null,null,null,null,null,null,null,null,null,null,null,null,"MÊS:",null,"Março",null,null,null,null,null,null,null,null,null,null,null,"ANO:",null,2019]
["NOME COMPLETO","SIAPE","     Registro Conselho Classe","Cargo","Vínculo","    C.H Sem","INTERVALO",null,null,null,null,null,"DIAS DO MÊS",null,null,null,null,null,null,null,null,null,null,null,null,null,null,null,null,null,null,null,null,null,null,null,null,null,null,null,null,null,null,"CÁLCULO DAS HORAS",null,null,null,null,null,null,null,null,null,null,null,null,null,null,null,null,null,null,null,null,null,null,null,null,null,null,null,null,null,null,"CH Men.","Dias"]
[null,null,null,null,null,null,"15' M","15' T","15' N","1H D","1H N","2H",1,2,3,4,5,6,7,8,9,10,11,12,13,14,15,16,17,18,19,20,21,22,23,24,25,{"$f":"IF(DAY(DATE(AL5,VLOOKUP(X5,Tabelas!M:N,2,0)+1,1)-1)>=26,26,\"\")","v":26},{"$f":"IF(DAY(DATE(AL5,VLOOKUP(X5,Tabelas!M:N,2,0)+1,1)-1)>=27,27,\"\")","v":27},{"$f":"IF(DAY(DATE(AL5,VLOOKUP(X5,Tabelas!M:N,2,0)+1,1)-1)>=28,28,\"\")","v":28},{"$f":"IF(DAY(DATE(AL5,VLOOKUP(X5,Tabelas!M:N,2,0)+1,1)-1)>=29,29,\"\")","v":29},{"$f":"IF(DAY(DATE(AL5,VLOOKUP(X5,Tabelas!M:N,2,0)+1,1)-1)>=30,30,\"\")","v":30},{"$f":"IF(DAY(DATE(AL5,VLOOKUP(X5,Tabelas!M:N,2,0)+1,1)-1)>=31,31,\"\")","v":31},null,null,null,null,null,null,null,null,null,null,null,null,null,null,null,null,null,null,null,null,null,null,null,null,null,null,null,null,null,null,null,null,"LM/LP/L","AB","FE","LC","CH","AF  "," Total Afast."]
[null,null,null,null,null,null,null,null,null,null,null,null,{"$f":"IF(M7<>\"\",IFERROR(VLOOKUP(WEEKDAY(CONCATENATE(M7,$X$5,$AL$5)),Tabelas!$I:$J,2,0),\"\"),\"\")","v":"SEX"},{"$f":"IF(N7<>\"\",IFERROR(VLOOKUP(WEEKDAY(CONCATENATE(N7,$X$5,$AL$5)),Tabelas!$I:$J,2,0),\"\"),\"\")","v":"SAB"},{"$f":"IF(O7<>\"\",IFERROR(VLOOKUP(WEEKDAY(CONCATENATE(O7,$X$5,$AL$5)),Tabelas!$I:$J,2,0),\"\"),\"\")","v":"DOM"},{"$f":"IF(P7<>\"\",IFERROR(VLOOKUP(WEEKDAY(CONCATENATE(P7,$X$5,$AL$5)),Tabelas!$I:$J,2,0),\"\"),\"\")","v":"SEG"},{"$f":"IF(Q7<>\"\",IFERROR(VLOOKUP(WEEKDAY(CONCATENATE(Q7,$X$5,$AL$5)),Tabelas!$I:$J,2,0),\"\"),\"\")","v":"TER"},{"$f":"IF(R7<>\"\",IFERROR(VLOOKUP(WEEKDAY(CONCATENATE(R7,$X$5,$AL$5)),Tabelas!$I:$J,2,0),\"\"),\"\")","v":"QUA"},{"$f":"IF(S7<>\"\",IFERROR(VLOOKUP(WEEKDAY(CONCATENATE(S7,$X$5,$AL$5)),Tabelas!$I:$J,2,0),\"\"),\"\")","v":"QUI"},{"$f":"IF(T7<>\"\",IFERROR(VLOOKUP(WEEKDAY(CONCATENATE(T7,$X$5,$AL$5)),Tabelas!$I:$J,2,0),\"\"),\"\")","v":"SEX"},{"$f":"IF(U7<>\"\",IFERROR(VLOOKUP(WEEKDAY(CONCATENATE(U7,$X$5,$AL$5)),Tabelas!$I:$J,2,0),\"\"),\"\")","v":"SAB"},{"$f":"IF(V7<>\"\",IFERROR(VLOOKUP(WEEKDAY(CONCATENATE(V7,$X$5,$AL$5)),Tabelas!$I:$J,2,0),\"\"),\"\")","v":"DOM"},{"$f":"IF(W7<>\"\",IFERROR(VLOOKUP(WEEKDAY(CONCATENATE(W7,$X$5,$AL$5)),Tabelas!$I:$J,2,0),\"\"),\"\")","v":"SEG"},{"$f":"IF(X7<>\"\",IFERROR(VLOOKUP(WEEKDAY(CONCATENATE(X7,$X$5,$AL$5)),Tabelas!$I:$J,2,0),\"\"),\"\")","v":"TER"},{"$f":"IF(Y7<>\"\",IFERROR(VLOOKUP(WEEKDAY(CONCATENATE(Y7,$X$5,$AL$5)),Tabelas!$I:$J,2,0),\"\"),\"\")","v":"QUA"},{"$f":"IF(Z7<>\"\",IFERROR(VLOOKUP(WEEKDAY(CONCATENATE(Z7,$X$5,$AL$5)),Tabelas!$I:$J,2,0),\"\"),\"\")","v":"QUI"},{"$f":"IF(AA7<>\"\",IFERROR(VLOOKUP(WEEKDAY(CONCATENATE(AA7,$X$5,$AL$5)),Tabelas!$I:$J,2,0),\"\"),\"\")","v":"SEX"},{"$f":"IF(AB7<>\"\",IFERROR(VLOOKUP(WEEKDAY(CONCATENATE(AB7,$X$5,$AL$5)),Tabelas!$I:$J,2,0),\"\"),\"\")","v":"SAB"},{"$f":"IF(AC7<>\"\",IFERROR(VLOOKUP(WEEKDAY(CONCATENATE(AC7,$X$5,$AL$5)),Tabelas!$I:$J,2,0),\"\"),\"\")","v":"DOM"},{"$f":"IF(AD7<>\"\",IFERROR(VLOOKUP(WEEKDAY(CONCATENATE(AD7,$X$5,$AL$5)),Tabelas!$I:$J,2,0),\"\"),\"\")","v":"SEG"},{"$f":"IF(AE7<>\"\",IFERROR(VLOOKUP(WEEKDAY(CONCATENATE(AE7,$X$5,$AL$5)),Tabelas!$I:$J,2,0),\"\"),\"\")","v":"TER"},{"$f":"IF(AF7<>\"\",IFERROR(VLOOKUP(WEEKDAY(CONCATENATE(AF7,$X$5,$AL$5)),Tabelas!$I:$J,2,0),\"\"),\"\")","v":"QUA"},{"$f":"IF(AG7<>\"\",IFERROR(VLOOKUP(WEEKDAY(CONCATENATE(AG7,$X$5,$AL$5)),Tabelas!$I:$J,2,0),\"\"),\"\")","v":"QUI"},{"$f":"IF(AH7<>\"\",IFERROR(VLOOKUP(WEEKDAY(CONCATENATE(AH7,$X$5,$AL$5)),Tabelas!$I:$J,2,0),\"\"),\"\")","v":"SEX"},{"$f":"IF(AI7<>\"\",IFERROR(VLOOKUP(WEEKDAY(CONCATENATE(AI7,$X$5,$AL$5)),Tabelas!$I:$J,2,0),\"\"),\"\")","v":"SAB"},{"$f":"IF(AJ7<>\"\",IFERROR(VLOOKUP(WEEKDAY(CONCATENATE(AJ7,$X$5,$AL$5)),Tabelas!$I:$J,2,0),\"\"),\"\")","v":"DOM"},{"$f":"IF(AK7<>\"\",IFERROR(VLOOKUP(WEEKDAY(CONCATENATE(AK7,$X$5,$AL$5)),Tabelas!$I:$J,2,0),\"\"),\"\")","v":"SEG"},{"$f":"IF(AL7<>\"\",IFERROR(VLOOKUP(WEEKDAY(CONCATENATE(AL7,$X$5,$AL$5)),Tabelas!$I:$J,2,0),\"\"),\"\")","v":"TER"},{"$f":"IF(AM7<>\"\",IFERROR(VLOOKUP(WEEKDAY(CONCATENATE(AM7,$X$5,$AL$5)),Tabelas!$I:$J,2,0),\"\"),\"\")","v":"QUA"},{"$f":"IF(AN7<>\"\",IFERROR(VLOOKUP(WEEKDAY(CONCATENATE(AN7,$X$5,$AL$5)),Tabelas!$I:$J,2,0),\"\"),\"\")","v":"QUI"},{"$f":"IF(AO7<>\"\",IFERROR(VLOOKUP(WEEKDAY(CONCATENATE(AO7,$X$5,$AL$5)),Tabelas!$I:$J,2,0),\"\"),\"\")","v":"SEX"},{"$f":"IF(AP7<>\"\",IFERROR(VLOOKUP(WEEKDAY(CONCATENATE(AP7,$X$5,$AL$5)),Tabelas!$I:$J,2,0),\"\"),\"\")","v":"SAB"},{"$f":"IF(AQ7<>\"\",IFERROR(VLOOKUP(WEEKDAY(CONCATENATE(AQ7,$X$5,$AL$5)),Tabelas!$I:$J,2,0),\"\"),\"\")","v":"DOM"},1,2,3,4,5,6,7,8,9,10,11,12,13,14,15,16,17,18,19,20,21,22,23,24,25,26,27,28,29,30,31]
["Marcus Setally Azevedo Macena",3053065,null,"CD","EBSERH",30,null,null,null,47,null,null,null,null,"DSR","MT28","MT28","MT28","M17",null,null,"DSR","MT28","MT28","MT28","M17",null,null,"DSR","MT28","MT28","MT28","M17",null,null,"DSR","MT28","MT28","MT28","M17",null,null,"DSR",{"$f":"IF(A9<>\"\",IFERROR(VLOOKUP(M9,Tabelas!B:D,3,0),0),\"\")","v":0},{"$f":"IF(A9<>\"\",IFERROR(VLOOKUP(N9,Tabelas!B:D,3,0),0),\"\")","v":0},{"$f":"IF(A9<>\"\",IFERROR(VLOOKUP(O9,Tabelas!B:D,3,0),0),\"\")","v":0},{"$f":"IF(A9<>\"\",IFERROR(VLOOKUP(P9,Tabelas!B:D,3,0),0),\"\")","v":8},{"$f":"IF(A9<>\"\",IFERROR(VLOOKUP(Q9,Tabelas!B:D,3,0),0),\"\")","v":8},{"$f":"IF(A9<>\"\",IFERROR(VLOOKUP(R9,Tabelas!B:D,3,0),0),\"\")","v":8},{"$f":"IF(A9<>\"\",IFERROR(VLOOKUP(S9,Tabelas!B:D,3,0),0),\"\")","v":6},{"$f":"IF(A9<>\"\",IFERROR(VLOOKUP(T9,Tabelas!B:D,3,0),0),\"\")","v":0},{"$f":"IF(A9<>\"\",IFERROR(VLOOKUP(U9,Tabelas!B:D,3,0),0),\"\")","v":0},{"$f":"IF(A9<>\"\",IFERROR(VLOOKUP(V9,Tabelas!B:D,3,0),0),\"\")","v":0},{"$f":"IF(A9<>\"\",IFERROR(VLOOKUP(W9,Tabelas!B:D,3,0),0),\"\")","v":8},{"$f":"IF(A9<>\"\",IFERROR(VLOOKUP(X9,Tabelas!B:D,3,0),0),\"\")","v":8},{"$f":"IF(A9<>\"\",IFERROR(VLOOKUP(Y9,Tabelas!B:D,3,0),0),\"\")","v":8},{"$f":"IF(A9<>\"\",IFERROR(VLOOKUP(Z9,Tabelas!B:D,3,0),0),\"\")","v":6},{"$f":"IF(A9<>\"\",IFERROR(VLOOKUP(AA9,Tabelas!B:D,3,0),0),\"\")","v":0},{"$f":"IF(A9<>\"\",IFERROR(VLOOKUP(AB9,Tabelas!B:D,3,0),0),\"\")","v":0},{"$f":"IF(A9<>\"\",IFERROR(VLOOKUP(AC9,Tabelas!B:D,3,0),0),\"\")","v":0},{"$f":"IF(A9<>\"\",IFERROR(VLOOKUP(AD9,Tabelas!B:D,3,0),0),\"\")","v":8},{"$f":"IF(A9<>\"\",IFERROR(VLOOKUP(AE9,Tabelas!B:D,3,0),0),\"\")","v":8},{"$f":"IF(A9<>\"\",IFERROR(VLOOKUP(AF9,Tabelas!B:D,3,0),0),\"\")","v":8},{"$f":"IF(A9<>\"\",IFERROR(VLOOKUP(AG9,Tabelas!B:D,3,0),0),\"\")","v":6},{"$f":"IF(A9<>\"\",IFERROR(VLOOKUP(AH9,Tabelas!B:D,3,0),0),\"\")","v":0},{"$f":"IF(A9<>\"\",IFERROR(VLOOKUP(AI9,Tabelas!B:D,3,0),0),\"\")","v":0},{"$f":"IF(A9<>\"\",IFERROR(VLOOKUP(AJ9,Tabelas!B:D,3,0),0),\"\")","v":0},{"$f":"IF(A9<>\"\",IFERROR(VLOOKUP(AK9,Tabelas!B:D,3,0),0),\"\")","v":8},{"$f":"IF(A9<>\"\",IFERROR(VLOOKUP(AL9,Tabelas!B:D,3,0),0),\"\")","v":8},{"$f":"IF(A9<>\"\",IFERROR(VLOOKUP(AM9,Tabelas!B:D,3,0),0),\"\")","v":8},{"$f":"IF(A9<>\"\",IFERROR(VLOOKUP(AN9,Tabelas!B:D,3,0),0),\"\")","v":6},{"$f":"IF(A9<>\"\",IFERROR(VLOOKUP(AO9,Tabelas!B:D,3,0),0),\"\")","v":0},{"$f":"IF(A9<>\"\",IFERROR(VLOOKUP(AP9,Tabelas!B:D,3,0),0),\"\")","v":0},{"$f":"IF(A9<>\"\",IFERROR(VLOOKUP(AQ9,Tabelas!B:D,3,0),0),\"\")","v":0},{"$f":"IF(AND(A9<>\"\",E9=\"Ebserh\"),SUM(AR9:BV9)+COUNTIF(M9:AQ9,\"N*\")+COUNTIF(M9:AQ9,\"DN*\"),IF(AND(A9<>\"\",E9<>\"Ebserh\"),SUM(AR9:BV9),\"\"))","v":120},{"$f":"IF(A9<>\"\",COUNTIF(M9:AQ9,\"LM\")+COUNTIF(M9:AQ9,\"L\")+COUNTIF(M9:AQ9,\"LP\"),\"\")","v":0},{"$f":"IF(A9<>\"\",COUNTIF(M9:AQ9,\"AB*\"),\"\")","v":0},{"$f":"IF(A9<>\"\",COUNTIF(M9:AQ9,\"FE\"),\"\")","v":0},{"$f":"IF(A9<>\"\",COUNTIF(M9:AQ9,\"LC\"),\"\")","v":0},{"$f":"IF(A9<>\"\",COUNTIF(M9:AQ9,\"CH*\"),\"\")","v":0},{"$f":"IF(A9<>\"\",COUNTIF(M9:AQ9,\"AF1\")+COUNTIF(M9:AQ9,\"AF2\")+COUNTIF(M9:AQ9,\"AF3\")+COUNTIF(M9:AQ9,\"AF4\")+COUNTIF(M9:AQ9,\"AF5\")+COUNTIF(M9:AQ9,\"AF6\")+COUNTIF(M9:AQ9,\"AF7\")+COUNTIF(M9:AQ9,\"AF8\")+COUNTIF(M9:AQ9,\"AF9\")+COUNTIF(M9:AQ9,\"AF10\")+COUNTIF(M9:AQ9,\"AF11\")+COUNTIF(M9:AQ9,\"AF12\")+COUNTIF(M9:AQ9,\"AF13\")+COUNTIF(M9:AQ9,\"AF14\"),\"\")","v":0},{"$f":"IF(A9<>\"\",COUNTIF(M9:AQ9,\"CH*\")+COUNTIF(M9:AQ9,\"L\")+COUNTIF(M9:AQ9,\"LM\")+COUNTIF(M9:AQ9,\"LP\")+COUNTIF(M9:AQ9,\"LC\")+COUNTIF(M9:AQ9,\"AB*\")+COUNTIF(M9:AQ9,\"AF1\")+COUNTIF(M9:AQ9,\"AF2\")+COUNTIF(M9:AQ9,\"AF3\")+COUNTIF(M9:AQ9,\"AF4\")+COUNTIF(M9:AQ9,\"AF5\")+COUNTIF(M9:AQ9,\"AF6\")+COUNTIF(M9:AQ9,\"AF7\")+COUNTIF(M9:AQ9,\"AF8\")+COUNTIF(M9:AQ9,\"AF9\")+COUNTIF(M9:AQ9,\"AF10\")+COUNTIF(M9:AQ9,\"AF11\")+COUNTIF(M9:AQ9,\"AF12\")+COUNTIF(M9:AQ9,\"AF13\")+COUNTIF(M9:AQ9,\"AF14\")+COUNTIF(M9:AQ9,\"RC\")+COUNTIF(M9:AQ9,\"FO\")+COUNTIF(M9:AQ9,\"FE\"),\"\")","v":0}]
["FULANO 2",2,null,null,null,null,null,null,null,null,null,null,null,null,null,null,null,null,null,null,null,null,null,null,null,null,null,null,null,null,null,null,null,null,null,null,null,null,null,null,null,null,null,{"$f":"IF(A10<>\"\",IFERROR(VLOOKUP(M10,Tabelas!B:D,3,0),0),\"\")","v":0},{"$f":"IF(A10<>\"\",IFERROR(VLOOKUP(N10,Tabelas!B:D,3,0),0),\"\")","v":0},{"$f":"IF(A10<>\"\",IFERROR(VLOOKUP(O10,Tabelas!B:D,3,0),0),\"\")","v":0},{"$f":"IF(A10<>\"\",IFERROR(VLOOKUP(P10,Tabelas!B:D,3,0),0),\"\")","v":0},{"$f":"IF(A10<>\"\",IFERROR(VLOOKUP(Q10,Tabelas!B:D,3,0),0),\"\")","v":0},{"$f":"IF(A10<>\"\",IFERROR(VLOOKUP(R10,Tabelas!B:D,3,0),0),\"\")","v":0},{"$f":"IF(A10<>\"\",IFERROR(VLOOKUP(S10,Tabelas!B:D,3,0),0),\"\")","v":0},{"$f":"IF(A10<>\"\",IFERROR(VLOOKUP(T10,Tabelas!B:D,3,0),0),\"\")","v":0},{"$f":"IF(A10<>\"\",IFERROR(VLOOKUP(U10,Tabelas!B:D,3,0),0),\"\")","v":0},{"$f":"IF(A10<>\"\",IFERROR(VLOOKUP(V10,Tabelas!B:D,3,0),0),\"\")","v":0},{"$f":"IF(A10<>\"\",IFERROR(VLOOKUP(W10,Tabelas!B:D,3,0),0),\"\")","v":0},{"$f":"IF(A10<>\"\",IFERROR(VLOOKUP(X10,Tabelas!B:D,3,0),0),\"\")","v":0},{"$f":"IF(A10<>\"\",IFERROR(VLOOKUP(Y10,Tabelas!B:D,3,0),0),\"\")","v":0},{"$f":"IF(A10<>\"\",IFERROR(VLOOKUP(Z10,Tabelas!B:D,3,0),0),\"\")","v":0},{"$f":"IF(A10<>\"\",IFERROR(VLOOKUP(AA10,Tabelas!B:D,3,0),0),\"\")","v":0},{"$f":"IF(A10<>\"\",IFERROR(VLOOKUP(AB10,Tabelas!B:D,3,0),0),\"\")","v":0},{"$f":"IF(A10<>\"\",IFERROR(VLOOKUP(AC10,Tabelas!B:D,3,0),0),\"\")","v":0},{"$f":"IF(A10<>\"\",IFERROR(VLOOKUP(AD10,Tabelas!B:D,3,0),0),\"\")","v":0},{"$f":"IF(A10<>\"\",IFERROR(VLOOKUP(AE10,Tabelas!B:D,3,0),0),\"\")","v":0},{"$f":"IF(A10<>\"\",IFERROR(VLOOKUP(AF10,Tabelas!B:D,3,0),0),\"\")","v":0},{"$f":"IF(A10<>\"\",IFERROR(VLOOKUP(AG10,Tabelas!B:D,3,0),0),\"\")","v":0},{"$f":"IF(A10<>\"\",IFERROR(VLOOKUP(AH10,Tabelas!B:D,3,0),0),\"\")","v":0},{"$f":"IF(A10<>\"\",IFERROR(VLOOKUP(AI10,Tabelas!B:D,3,0),0),\"\")","v":0},{"$f":"IF(A10<>\"\",IFERROR(VLOOKUP(AJ10,Tabelas!B:D,3,0),0),\"\")","v":0},{"$f":"IF(A10<>\"\",IFERROR(VLOOKUP(AK10,Tabelas!B:D,3,0),0),\"\")","v":0},{"$f":"IF(A10<>\"\",IFERROR(VLOOKUP(AL10,Tabelas!B:D,3,0),0),\"\")","v":0},{"$f":"IF(A10<>\"\",IFERROR(VLOOKUP(AM10,Tabelas!B:D,3,0),0),\"\")","v":0},{"$f":"IF(A10<>\"\",IFERROR(VLOOKUP(AN10,Tabelas!B:D,3,0),0),\"\")","v":0},{"$f":"IF(A10<>\"\",IFERROR(VLOOKUP(AO10,Tabelas!B:D,3,0),0),\"\")","v":0},{"$f":"IF(A10<>\"\",IFERROR(VLOOKUP(AP10,Tabelas!B:D,3,0),0),\"\")","v":0},{"$f":"IF(A10<>\"\",IFERROR(VLOOKUP(AQ10,Tabelas!B:D,3,0),0),\"\")","v":0},0,0,0,0,0,0,0,0]
["FULANO 3",3,null,null,null,null,null,null,null,null,null,null,null,null,null,null,null,null,null,null,null,null,null,null,null,null,null,null,null,null,null,null,null,null,null,null,null,null,null,null,null,null,null,{"$f":"IF(A11<>\"\",IFERROR(VLOOKUP(M11,Tabelas!B:D,3,0),0),\"\")","v":0},{"$f":"IF(A11<>\"\",IFERROR(VLOOKUP(N11,Tabelas!B:D,3,0),0),\"\")","v":0},{"$f":"IF(A11<>\"\",IFERROR(VLOOKUP(O11,Tabelas!B:D,3,0),0),\"\")","v":0},{"$f":"IF(A11<>\"\",IFERROR(VLOOKUP(P11,Tabelas!B:D,3,0),0),\"\")","v":0},{"$f":"IF(A11<>\"\",IFERROR(VLOOKUP(Q11,Tabelas!B:D,3,0),0),\"\")","v":0},{"$f":"IF(A11<>\"\",IFERROR(VLOOKUP(R11,Tabelas!B:D,3,0),0),\"\")","v":0},{"$f":"IF(A11<>\"\",IFERROR(VLOOKUP(S11,Tabelas!B:D,3,0),0),\"\")","v":0},{"$f":"IF(A11<>\"\",IFERROR(VLOOKUP(T11,Tabelas!B:D,3,0),0),\"\")","v":0},{"$f":"IF(A11<>\"\",IFERROR(VLOOKUP(U11,Tabelas!B:D,3,0),0),\"\")","v":0},{"$f":"IF(A11<>\"\",IFERROR(VLOOKUP(V11,Tabelas!B:D,3,0),0),\"\")","v":0},{"$f":"IF(A11<>\"\",IFERROR(VLOOKUP(W11,Tabelas!B:D,3,0),0),\"\")","v":0},{"$f":"IF(A11<>\"\",IFERROR(VLOOKUP(X11,Tabelas!B:D,3,0),0),\"\")","v":0},{"$f":"IF(A11<>\"\",IFERROR(VLOOKUP(Y11,Tabelas!B:D,3,0),0),\"\")","v":0},{"$f":"IF(A11<>\"\",IFERROR(VLOOKUP(Z11,Tabelas!B:D,3,0),0),\"\")","v":0},{"$f":"IF(A11<>\"\",IFERROR(VLOOKUP(AA11,Tabelas!B:D,3,0),0),\"\")","v":0},{"$f":"IF(A11<>\"\",IFERROR(VLOOKUP(AB11,Tabelas!B:D,3,0),0),\"\")","v":0},{"$f":"IF(A11<>\"\",IFERROR(VLOOKUP(AC11,Tabelas!B:D,3,0),0),\"\")","v":0},{"$f":"IF(A11<>\"\",IFERROR(VLOOKUP(AD11,Tabelas!B:D,3,0),0),\"\")","v":0},{"$f":"IF(A11<>\"\",IFERROR(VLOOKUP(AE11,Tabelas!B:D,3,0),0),\"\")","v":0},{"$f":"IF(A11<>\"\",IFERROR(VLOOKUP(AF11,Tabelas!B:D,3,0),0),\"\")","v":0},{"$f":"IF(A11<>\"\",IFERROR(VLOOKUP(AG11,Tabelas!B:D,3,0),0),\"\")","v":0},{"$f":"IF(A11<>\"\",IFERROR(VLOOKUP(AH11,Tabelas!B:D,3,0),0),\"\")","v":0},{"$f":"IF(A11<>\"\",IFERROR(VLOOKUP(AI11,Tabelas!B:D,3,0),0),\"\")","v":0},{"$f":"IF(A11<>\"\",IFERROR(VLOOKUP(AJ11,Tabelas!B:D,3,0),0),\"\")","v":0},{"$f":"IF(A11<>\"\",IFERROR(VLOOKUP(AK11,Tabelas!B:D,3,0),0),\"\")","v":0},{"$f":"IF(A11<>\"\",IFERROR(VLOOKUP(AL11,Tabelas!B:D,3,0),0),\"\")","v":0},{"$f":"IF(A11<>\"\",IFERROR(VLOOKUP(AM11,Tabelas!B:D,3,0),0),\"\")","v":0},{"$f":"IF(A11<>\"\",IFERROR(VLOOKUP(AN11,Tabelas!B:D,3,0),0),\"\")","v":0},{"$f":"IF(A11<>\"\",IFERROR(VLOOKUP(AO11,Tabelas!B:D,3,0),0),\"\")","v":0},{"$f":"IF(A11<>\"\",IFERROR(VLOOKUP(AP11,Tabelas!B:D,3,0),0),\"\")","v":0},{"$f":"IF(A11<>\"\",IFERROR(VLOOKUP(AQ11,Tabelas!B:D,3,0),0),\"\")","v":0},0,0,0,0,0,0,0,0]
["FULANO 4",4,null,null,null,null,null,null,null,null,null,null,null,null,null,null,null,null,null,null,null,null,null,null,null,null,null,null,null,null,null,null,null,null,null,null,null,null,null,null,null,null,null,{"$f":"IF(A12<>\"\",IFERROR(VLOOKUP(M12,Tabelas!B:D,3,0),0),\"\")","v":0},{"$f":"IF(A12<>\"\",IFERROR(VLOOKUP(N12,Tabelas!B:D,3,0),0),\"\")","v":0},{"$f":"IF(A12<>\"\",IFERROR(VLOOKUP(O12,Tabelas!B:D,3,0),0),\"\")","v":0},{"$f":"IF(A12<>\"\",IFERROR(VLOOKUP(P12,Tabelas!B:D,3,0),0),\"\")","v":0},{"$f":"IF(A12<>\"\",IFERROR(VLOOKUP(Q12,Tabelas!B:D,3,0),0),\"\")","v":0},{"$f":"IF(A12<>\"\",IFERROR(VLOOKUP(R12,Tabelas!B:D,3,0),0),\"\")","v":0},{"$f":"IF(A12<>\"\",IFERROR(VLOOKUP(S12,Tabelas!B:D,3,0),0),\"\")","v":0},{"$f":"IF(A12<>\"\",IFERROR(VLOOKUP(T12,Tabelas!B:D,3,0),0),\"\")","v":0},{"$f":"IF(A12<>\"\",IFERROR(VLOOKUP(U12,Tabelas!B:D,3,0),0),\"\")","v":0},{"$f":"IF(A12<>\"\",IFERROR(VLOOKUP(V12,Tabelas!B:D,3,0),0),\"\")","v":0},{"$f":"IF(A12<>\"\",IFERROR(VLOOKUP(W12,Tabelas!B:D,3,0),0),\"\")","v":0},{"$f":"IF(A12<>\"\",IFERROR(VLOOKUP(X12,Tabelas!B:D,3,0),0),\"\")","v":0},{"$f":"IF(A12<>\"\",IFERROR(VLOOKUP(Y12,Tabelas!B:D,3,0),0),\"\")","v":0},{"$f":"IF(A12<>\"\",IFERROR(VLOOKUP(Z12,Tabelas!B:D,3,0),0),\"\")","v":0},{"$f":"IF(A12<>\"\",IFERROR(VLOOKUP(AA12,Tabelas!B:D,3,0),0),\"\")","v":0},{"$f":"IF(A12<>\"\",IFERROR(VLOOKUP(AB12,Tabelas!B:D,3,0),0),\"\")","v":0},{"$f":"IF(A12<>\"\",IFERROR(VLOOKUP(AC12,Tabelas!B:D,3,0),0),\"\")","v":0},{"$f":"IF(A12<>\"\",IFERROR(VLOOKUP(AD12,Tabelas!B:D,3,0),0),\"\")","v":0},{"$f":"IF(A12<>\"\",IFERROR(VLOOKUP(AE12,Tabelas!B:D,3,0),0),\"\")","v":0},{"$f":"IF(A12<>\"\",IFERROR(VLOOKUP(AF12,Tabelas!B:D,3,0),0),\"\")","v":0},{"$f":"IF(A12<>\"\",IFERROR(VLOOKUP(AG12,Tabelas!B:D,3,0),0),\"\")","v":0},{"$f":"IF(A12<>\"\",IFERROR(VLOOKUP(AH12,Tabelas!B:D,3,0),0),\"\")","v":0},{"$f":"IF(A12<>\"\",IFERROR(VLOOKUP(AI12,Tabelas!B:D,3,0),0),\"\")","v":0},{"$f":"IF(A12<>\"\",IFERROR(VLOOKUP(AJ12,Tabelas!B:D,3,0),0),\"\")","v":0},{"$f":"IF(A12<>\"\",IFERROR(VLOOKUP(AK12,Tabelas!B:D,3,0),0),\"\")","v":0},{"$f":"IF(A12<>\"\",IFERROR(VLOOKUP(AL12,Tabelas!B:D,3,0),0),\"\")","v":0},{"$f":"IF(A12<>\"\",IFERROR(VLOOKUP(AM12,Tabelas!B:D,3,0),0),\"\")","v":0},{"$f":"IF(A12<>\"\",IFERROR(VLOOKUP(AN12,Tabelas!B:D,3,0),0),\"\")","v":0},{"$f":"IF(A12<>\"\",IFERROR(VLOOKUP(AO12,Tabelas!B:D,3,0),0),\"\")","v":0},{"$f":"IF(A12<>\"\",IFERROR(VLOOKUP(AP12,Tabelas!B:D,3,0),0),\"\")","v":0},{"$f":"IF(A12<>\"\",IFERROR(VLOOKUP(AQ12,Tabelas!B:D,3,0),0),\"\")","v":0},0,0,0,0,0,0,0,0]
["FULANO 5",5,null,null,null,null,null,null,null,null,null,null,null,null,null,null,null,null,null,null,null,null,null,null,null,null,null,null,null,null,null,null,null,null,null,null,null,null,null,null,null,null,null,{"$f":"IF(A13<>\"\",IFERROR(VLOOKUP(M13,Tabelas!B:D,3,0),0),\"\")","v":0},{"$f":"IF(A13<>\"\",IFERROR(VLOOKUP(N13,Tabelas!B:D,3,0),0),\"\")","v":0},{"$f":"IF(A13<>\"\",IFERROR(VLOOKUP(O13,Tabelas!B:D,3,0),0),\"\")","v":0},{"$f":"IF(A13<>\"\",IFERROR(VLOOKUP(P13,Tabelas!B:D,3,0),0),\"\")","v":0},{"$f":"IF(A13<>\"\",IFERROR(VLOOKUP(Q13,Tabelas!B:D,3,0),0),\"\")","v":0},{"$f":"IF(A13<>\"\",IFERROR(VLOOKUP(R13,Tabelas!B:D,3,0),0),\"\")","v":0},{"$f":"IF(A13<>\"\",IFERROR(VLOOKUP(S13,Tabelas!B:D,3,0),0),\"\")","v":0},{"$f":"IF(A13<>\"\",IFERROR(VLOOKUP(T13,Tabelas!B:D,3,0),0),\"\")","v":0},{"$f":"IF(A13<>\"\",IFERROR(VLOOKUP(U13,Tabelas!B:D,3,0),0),\"\")","v":0},{"$f":"IF(A13<>\"\",IFERROR(VLOOKUP(V13,Tabelas!B:D,3,0),0),\"\")","v":0},{"$f":"IF(A13<>\"\",IFERROR(VLOOKUP(W13,Tabelas!B:D,3,0),0),\"\")","v":0},{"$f":"IF(A13<>\"\",IFERROR(VLOOKUP(X13,Tabelas!B:D,3,0),0),\"\")","v":0},{"$f":"IF(A13<>\"\",IFERROR(VLOOKUP(Y13,Tabelas!B:D,3,0),0),\"\")","v":0},{"$f":"IF(A13<>\"\",IFERROR(VLOOKUP(Z13,Tabelas!B:D,3,0),0),\"\")","v":0},{"$f":"IF(A13<>\"\",IFERROR(VLOOKUP(AA13,Tabelas!B:D,3,0),0),\"\")","v":0},{"$f":"IF(A13<>\"\",IFERROR(VLOOKUP(AB13,Tabelas!B:D,3,0),0),\"\")","v":0},{"$f":"IF(A13<>\"\",IFERROR(VLOOKUP(AC13,Tabelas!B:D,3,0),0),\"\")","v":0},{"$f":"IF(A13<>\"\",IFERROR(VLOOKUP(AD13,Tabelas!B:D,3,0),0),\"\")","v":0},{"$f":"IF(A13<>\"\",IFERROR(VLOOKUP(AE13,Tabelas!B:D,3,0),0),\"\")","v":0},{"$f":"IF(A13<>\"\",IFERROR(VLOOKUP(AF13,Tabelas!B:D,3,0),0),\"\")","v":0},{"$f":"IF(A13<>\"\",IFERROR(VLOOKUP(AG13,Tabelas!B:D,3,0),0),\"\")","v":0},{"$f":"IF(A13<>\"\",IFERROR(VLOOKUP(AH13,Tabelas!B:D,3,0),0),\"\")","v":0},{"$f":"IF(A13<>\"\",IFERROR(VLOOKUP(AI13,Tabelas!B:D,3,0),0),\"\")","v":0},{"$f":"IF(A13<>\"\",IFERROR(VLOOKUP(AJ13,Tabelas!B:D,3,0),0),\"\")","v":0},{"$f":"IF(A13<>\"\",IFERROR(VLOOKUP(AK13,Tabelas!B:D,3,0),0),\"\")","v":0},{"$f":"IF(A13<>\"\",IFERROR(VLOOKUP(AL13,Tabelas!B:D,3,0),0),\"\")","v":0},{"$f":"IF(A13<>\"\",IFERROR(VLOOKUP(AM13,Tabelas!B:D,3,0),0),\"\")","v":0},{"$f":"IF(A13<>\"\",IFERROR(VLOOKUP(AN13,Tabelas!B:D,3,0),0),\"\")","v":0},{"$f":"IF(A13<>\"\",IFERROR(VLOOKUP(AO13,Tabelas!B:D,3,0),0),\"\")","v":0},{"$f":"IF(A13<>\"\",IFERROR(VLOOKUP(AP13,Tabelas!B:D,3,0),0),\"\")","v":0},{"$f":"IF(A13<>\"\",IFERROR(VLOOKUP(AQ13,Tabelas!B:D,3,0),0),\"\")","v":0},0,0,0,0,0,0,0,0]
["FULANO 6",6,null,null,null,null,null,null,null,null,null,null,null,null,null,null,null,null,null,null,null,null,null,null,null,null,null,null,null,null,null,null,null,null,null,null,null,null,null,null,null,null,null,{"$f":"IF(A14<>\"\",IFERROR(VLOOKUP(M14,Tabelas!B:D,3,0),0),\"\")","v":0},{"$f":"IF(A14<>\"\",IFERROR(VLOOKUP(N14,Tabelas!B:D,3,0),0),\"\")","v":0},{"$f":"IF(A14<>\"\",IFERROR(VLOOKUP(O14,Tabelas!B:D,3,0),0),\"\")","v":0},{"$f":"IF(A14<>\"\",IFERROR(VLOOKUP(P14,Tabelas!B:D,3,0),0),\"\")","v":0},{"$f":"IF(A14<>\"\",IFERROR(VLOOKUP(Q14,Tabelas!B:D,3,0),0),\"\")","v":0},{"$f":"IF(A14<>\"\",IFERROR(VLOOKUP(R14,Tabelas!B:D,3,0),0),\"\")","v":0},{"$f":"IF(A14<>\"\",IFERROR(VLOOKUP(S14,Tabelas!B:D,3,0),0),\"\")","v":0},{"$f":"IF(A14<>\"\",IFERROR(VLOOKUP(T14,Tabelas!B:D,3,0),0),\"\")","v":0},{"$f":"IF(A14<>\"\",IFERROR(VLOOKUP(U14,Tabelas!B:D,3,0),0),\"\")","v":0},{"$f":"IF(A14<>\"\",IFERROR(VLOOKUP(V14,Tabelas!B:D,3,0),0),\"\")","v":0},{"$f":"IF(A14<>\"\",IFERROR(VLOOKUP(W14,Tabelas!B:D,3,0),0),\"\")","v":0},{"$f":"IF(A14<>\"\",IFERROR(VLOOKUP(X14,Tabelas!B:D,3,0),0),\"\")","v":0},{"$f":"IF(A14<>\"\",IFERROR(VLOOKUP(Y14,Tabelas!B:D,3,0),0),\"\")","v":0},{"$f":"IF(A14<>\"\",IFERROR(VLOOKUP(Z14,Tabelas!B:D,3,0),0),\"\")","v":0},{"$f":"IF(A14<>\"\",IFERROR(VLOOKUP(AA14,Tabelas!B:D,3,0),0),\"\")","v":0},{"$f":"IF(A14<>\"\",IFERROR(VLOOKUP(AB14,Tabelas!B:D,3,0),0),\"\")","v":0},{"$f":"IF(A14<>\"\",IFERROR(VLOOKUP(AC14,Tabelas!B:D,3,0),0),\"\")","v":0},{"$f":"IF(A14<>\"\",IFERROR(VLOOKUP(AD14,Tabelas!B:D,3,0),0),\"\")","v":0},{"$f":"IF(A14<>\"\",IFERROR(VLOOKUP(AE14,Tabelas!B:D,3,0),0),\"\")","v":0},{"$f":"IF(A14<>\"\",IFERROR(VLOOKUP(AF14,Tabelas!B:D,3,0),0),\"\")","v":0},{"$f":"IF(A14<>\"\",IFERROR(VLOOKUP(AG14,Tabelas!B:D,3,0),0),\"\")","v":0},{"$f":"IF(A14<>\"\",IFERROR(VLOOKUP(AH14,Tabelas!B:D,3,0),0),\"\")","v":0},{"$f":"IF(A14<>\"\",IFERROR(VLOOKUP(AI14,Tabelas!B:D,3,0),0),\"\")","v":0},{"$f":"IF(A14<>\"\",IFERROR(VLOOKUP(AJ14,Tabelas!B:D,3,0),0),\"\")","v":0},{"$f":"IF(A14<>\"\",IFERROR(VLOOKUP(AK14,Tabelas!B:D,3,0),0),\"\")","v":0},{"$f":"IF(A14<>\"\",IFERROR(VLOOKUP(AL14,Tabelas!B:D,3,0),0),\"\")","v":0},{"$f":"IF(A14<>\"\",IFERROR(VLOOKUP(AM14,Tabelas!B:D,3,0),0),\"\")","v":0},{"$f":"IF(A14<>\"\",IFERROR(VLOOKUP(AN14,Tabelas!B:D,3,0),0),\"\")","v":0},{"$f":"IF(A14<>\"\",IFERROR(VLOOKUP(AO14,Tabelas!B:D,3,0),0),\"\")","v":0},{"$f":"IF(A14<>\"\",IFERROR(VLOOKUP(AP14,Tabelas!B:D,3,0),0),\"\")","v":0},{"$f":"IF(A14<>\"\",IFERROR(VLOOKUP(AQ14,Tabelas!B:D,3,0),0),\"\")","v":0},0,0,0,0,0,0,0,0]
["FULANO 7",7,null,null,null,null,null,null,null,null,null,null,null,null,null,null,null,null,null,null,null,null,null,null,null,null,null,null,null,null,null,null,null,null,null,null,null,null,null,null,null,null,null,{"$f":"IF(A15<>\"\",IFERROR(VLOOKUP(M15,Tabelas!B:D,3,0),0),\"\")","v":0},{"$f":"IF(A15<>\"\",IFERROR(VLOOKUP(N15,Tabelas!B:D,3,0),0),\"\")","v":0},{"$f":"IF(A15<>\"\",IFERROR(VLOOKUP(O15,Tabelas!B:D,3,0),0),\"\")","v":0},{"$f":"IF(A15<>\"\",IFERROR(VLOOKUP(P15,Tabelas!B:D,3,0),0),\"\")","v":0},{"$f":"IF(A15<>\"\",IFERROR(VLOOKUP(Q15,Tabelas!B:D,3,0),0),\"\")","v":0},{"$f":"IF(A15<>\"\",IFERROR(VLOOKUP(R15,Tabelas!B:D,3,0),0),\"\")","v":0},{"$f":"IF(A15<>\"\",IFERROR(VLOOKUP(S15,Tabelas!B:D,3,0),0),\"\")","v":0},{"$f":"IF(A15<>\"\",IFERROR(VLOOKUP(T15,Tabelas!B:D,3,0),0),\"\")","v":0},{"$f":"IF(A15<>\"\",IFERROR(VLOOKUP(U15,Tabelas!B:D,3,0),0),\"\")","v":0},{"$f":"IF(A15<>\"\",IFERROR(VLOOKUP(V15,Tabelas!B:D,3,0),0),\"\")","v":0},{"$f":"IF(A15<>\"\",IFERROR(VLOOKUP(W15,Tabelas!B:D,3,0),0),\"\")","v":0},{"$f":"IF(A15<>\"\",IFERROR(VLOOKUP(X15,Tabelas!B:D,3,0),0),\"\")","v":0},{"$f":"IF(A15<>\"\",IFERROR(VLOOKUP(Y15,Tabelas!B:D,3,0),0),\"\")","v":0},{"$f":"IF(A15<>\"\",IFERROR(VLOOKUP(Z15,Tabelas!B:D,3,0),0),\"\")","v":0},{"$f":"IF(A15<>\"\",IFERROR(VLOOKUP(AA15,Tabelas!B:D,3,0),0),\"\")","v":0},{"$f":"IF(A15<>\"\",IFERROR(VLOOKUP(AB15,Tabelas!B:D,3,0),0),\"\")","v":0},{"$f":"IF(A15<>\"\",IFERROR(VLOOKUP(AC15,Tabelas!B:D,3,0),0),\"\")","v":0},{"$f":"IF(A15<>\"\",IFERROR(VLOOKUP(AD15,Tabelas!B:D,3,0),0),\"\")","v":0},{"$f":"IF(A15<>\"\",IFERROR(VLOOKUP(AE15,Tabelas!B:D,3,0),0),\"\")","v":0},{"$f":"IF(A15<>\"\",IFERROR(VLOOKUP(AF15,Tabelas!B:D,3,0),0),\"\")","v":0},{"$f":"IF(A15<>\"\",IFERROR(VLOOKUP(AG15,Tabelas!B:D,3,0),0),\"\")","v":0},{"$f":"IF(A15<>\"\",IFERROR(VLOOKUP(AH15,Tabelas!B:D,3,0),0),\"\")","v":0},{"$f":"IF(A15<>\"\",IFERROR(VLOOKUP(AI15,Tabelas!B:D,3,0),0),\"\")","v":0},{"$f":"IF(A15<>\"\",IFERROR(VLOOKUP(AJ15,Tabelas!B:D,3,0),0),\"\")","v":0},{"$f":"IF(A15<>\"\",IFERROR(VLOOKUP(AK15,Tabelas!B:D,3,0),0),\"\")","v":0},{"$f":"IF(A15<>\"\",IFERROR(VLOOKUP(AL15,Tabelas!B:D,3,0),0),\"\")","v":0},{"$f":"IF(A15<>\"\",IFERROR(VLOOKUP(AM15,Tabelas!B:D,3,0),0),\"\")","v":0},{"$f":"IF(A15<>\"\",IFERROR(VLOOKUP(AN15,Tabelas!B:D,3,0),0),\"\")","v":0},{"$f":"IF(A15<>\"\",IFERROR(VLOOKUP(AO15,Tabelas!B:D,3,0),0),\"\")","v":0},{"$f":"IF(A15<>\"\",IFERROR(VLOOKUP(AP15,Tabelas!B:D,3,0),0),\"\")","v":0},{"$f":"IF(A15<>\"\",IFERROR(VLOOKUP(AQ15,Tabelas!B:D,3,0),0),\"\")","v":0},0,0,0,0,0,0,0,0]
["FULANO 8",8,null,null,null,null,null,null,null,null,null,null,null,null,null,null,null,null,null,null,null,null,null,null,null,null,null,null,null,null,null,null,null,null,null,null,null,null,null,null,null,null,null,{"$f":"IF(A16<>\"\",IFERROR(VLOOKUP(M16,Tabelas!B:D,3,0),0),\"\")","v":0},{"$f":"IF(A16<>\"\",IFERROR(VLOOKUP(N16,Tabelas!B:D,3,0),0),\"\")","v":0},{"$f":"IF(A16<>\"\",IFERROR(VLOOKUP(O16,Tabelas!B:D,3,0),0),\"\")","v":0},{"$f":"IF(A16<>\"\",IFERROR(VLOOKUP(P16,Tabelas!B:D,3,0),0),\"\")","v":0},{"$f":"IF(A16<>\"\",IFERROR(VLOOKUP(Q16,Tabelas!B:D,3,0),0),\"\")","v":0},{"$f":"IF(A16<>\"\",IFERROR(VLOOKUP(R16,Tabelas!B:D,3,0),0),\"\")","v":0},{"$f":"IF(A16<>\"\",IFERROR(VLOOKUP(S16,Tabelas!B:D,3,0),0),\"\")","v":0},{"$f":"IF(A16<>\"\",IFERROR(VLOOKUP(T16,Tabelas!B:D,3,0),0),\"\")","v":0},{"$f":"IF(A16<>\"\",IFERROR(VLOOKUP(U16,Tabelas!B:D,3,0),0),\"\")","v":0},{"$f":"IF(A16<>\"\",IFERROR(VLOOKUP(V16,Tabelas!B:D,3,0),0),\"\")","v":0},{"$f":"IF(A16<>\"\",IFERROR(VLOOKUP(W16,Tabelas!B:D,3,0),0),\"\")","v":0},{"$f":"IF(A16<>\"\",IFERROR(VLOOKUP(X16,Tabelas!B:D,3,0),0),\"\")","v":0},{"$f":"IF(A16<>\"\",IFERROR(VLOOKUP(Y16,Tabelas!B:D,3,0),0),\"\")","v":0},{"$f":"IF(A16<>\"\",IFERROR(VLOOKUP(Z16,Tabelas!B:D,3,0),0),\"\")","v":0},{"$f":"IF(A16<>\"\",IFERROR(VLOOKUP(AA16,Tabelas!B:D,3,0),0),\"\")","v":0},{"$f":"IF(A16<>\"\",IFERROR(VLOOKUP(AB16,Tabelas!B:D,3,0),0),\"\")","v":0},{"$f":"IF(A16<>\"\",IFERROR(VLOOKUP(AC16,Tabelas!B:D,3,0),0),\"\")","v":0},{"$f":"IF(A16<>\"\",IFERROR(VLOOKUP(AD16,Tabelas!B:D,3,0),0),\"\")","v":0},{"$f":"IF(A16<>\"\",IFERROR(VLOOKUP(AE16,Tabelas!B:D,3,0),0),\"\")","v":0},{"$f":"IF(A16<>\"\",IFERROR(VLOOKUP(AF16,Tabelas!B:D,3,0),0),\"\")","v":0},{"$f":"IF(A16<>\"\",IFERROR(VLOOKUP(AG16,Tabelas!B:D,3,0),0),\"\")","v":0},{"$f":"IF(A16<>\"\",IFERROR(VLOOKUP(AH16,Tabelas!B:D,3,0),0),\"\")","v":0},{"$f":"IF(A16<>\"\",IFERROR(VLOOKUP(AI16,Tabelas!B:D,3,0),0),\"\")","v":0},{"$f":"IF(A16<>\"\",IFERROR(VLOOKUP(AJ16,Tabelas!B:D,3,0),0),\"\")","v":0},{"$f":"IF(A16<>\"\",IFERROR(VLOOKUP(AK16,Tabelas!B:D,3,0),0),\"\")","v":0},{"$f":"IF(A16<>\"\",IFERROR(VLOOKUP(AL16,Tabelas!B:D,3,0),0),\"\")","v":0},{"$f":"IF(A16<>\"\",IFERROR(VLOOKUP(AM16,Tabelas!B:D,3,0),0),\"\")","v":0},{"$f":"IF(A16<>\"\",IFERROR(VLOOKUP(AN16,Tabelas!B:D,3,0),0),\"\")","v":0},{"$f":"IF(A16<>\"\",IFERROR(VLOOKUP(AO16,Tabelas!B:D,3,0),0),\"\")","v":0},{"$f":"IF(A16<>\"\",IFERROR(VLOOKUP(AP16,Tabelas!B:D,3,0),0),\"\")","v":0},{"$f":"IF(A16<>\"\",IFERROR(VLOOKUP(AQ16,Tabelas!B:D,3,0),0),\"\")","v":0},0,0,0,0,0,0,0,0]
["FULANO 9",9,null,null,null,null,null,null,null,null,null,null,null,null,null,null,null,null,null,null,null,null,null,null,null,null,null,null,null,null,null,null,null,null,null,null,null,null,null,null,null,null,null,{"$f":"IF(A17<>\"\",IFERROR(VLOOKUP(M17,Tabelas!B:D,3,0),0),\"\")","v":0},{"$f":"IF(A17<>\"\",IFERROR(VLOOKUP(N17,Tabelas!B:D,3,0),0),\"\")","v":0},{"$f":"IF(A17<>\"\",IFERROR(VLOOKUP(O17,Tabelas!B:D,3,0),0),\"\")","v":0},{"$f":"IF(A17<>\"\",IFERROR(VLOOKUP(P17,Tabelas!B:D,3,0),0),\"\")","v":0},{"$f":"IF(A17<>\"\",IFERROR(VLOOKUP(Q17,Tabelas!B:D,3,0),0),\"\")","v":0},{"$f":"IF(A17<>\"\",IFERROR(VLOOKUP(R17,Tabelas!B:D,3,0),0),\"\")","v":0},{"$f":"IF(A17<>\"\",IFERROR(VLOOKUP(S17,Tabelas!B:D,3,0),0),\"\")","v":0},{"$f":"IF(A17<>\"\",IFERROR(VLOOKUP(T17,Tabelas!B:D,3,0),0),\"\")","v":0},{"$f":"IF(A17<>\"\",IFERROR(VLOOKUP(U17,Tabelas!B:D,3,0),0),\"\")","v":0},{"$f":"IF(A17<>\"\",IFERROR(VLOOKUP(V17,Tabelas!B:D,3,0),0),\"\")","v":0},{"$f":"IF(A17<>\"\",IFERROR(VLOOKUP(W17,Tabelas!B:D,3,0),0),\"\")","v":0},{"$f":"IF(A17<>\"\",IFERROR(VLOOKUP(X17,Tabelas!B:D,3,0),0),\"\")","v":0},{"$f":"IF(A17<>\"\",IFERROR(VLOOKUP(Y17,Tabelas!B:D,3,0),0),\"\")","v":0},{"$f":"IF(A17<>\"\",IFERROR(VLOOKUP(Z17,Tabelas!B:D,3,0),0),\"\")","v":0},{"$f":"IF(A17<>\"\",IFERROR(VLOOKUP(AA17,Tabelas!B:D,3,0),0),\"\")","v":0},{"$f":"IF(A17<>\"\",IFERROR(VLOOKUP(AB17,Tabelas!B:D,3,0),0),\"\")","v":0},{"$f":"IF(A17<>\"\",IFERROR(VLOOKUP(AC17,Tabelas!B:D,3,0),0),\"\")","v":0},{"$f":"IF(A17<>\"\",IFERROR(VLOOKUP(AD17,Tabelas!B:D,3,0),0),\"\")","v":0},{"$f":"IF(A17<>\"\",IFERROR(VLOOKUP(AE17,Tabelas!B:D,3,0),0),\"\")","v":0},{"$f":"IF(A17<>\"\",IFERROR(VLOOKUP(AF17,Tabelas!B:D,3,0),0),\"\")","v":0},{"$f":"IF(A17<>\"\",IFERROR(VLOOKUP(AG17,Tabelas!B:D,3,0),0),\"\")","v":0},{"$f":"IF(A17<>\"\",IFERROR(VLOOKUP(AH17,Tabelas!B:D,3,0),0),\"\")","v":0},{"$f":"IF(A17<>\"\",IFERROR(VLOOKUP(AI17,Tabelas!B:D,3,0),0),\"\")","v":0},{"$f":"IF(A17<>\"\",IFERROR(VLOOKUP(AJ17,Tabelas!B:D,3,0),0),\"\")","v":0},{"$f":"IF(A17<>\"\",IFERROR(VLOOKUP(AK17,Tabelas!B:D,3,0),0),\"\")","v":0},{"$f":"IF(A17<>\"\",IFERROR(VLOOKUP(AL17,Tabelas!B:D,3,0),0),\"\")","v":0},{"$f":"IF(A17<>\"\",IFERROR(VLOOKUP(AM17,Tabelas!B:D,3,0),0),\"\")","v":0},{"$f":"IF(A17<>\"\",IFERROR(VLOOKUP(AN17,Tabelas!B:D,3,0),0),\"\")","v":0},{"$f":"IF(A17<>\"\",IFERROR(VLOOKUP(AO17,Tabelas!B:D,3,0),0),\"\")","v":0},{"$f":"IF(A17<>\"\",IFERROR(VLOOKUP(AP17,Tabelas!B:D,3,0),0),\"\")","v":0},{"$f":"IF(A17<>\"\",IFERROR(VLOOKUP(AQ17,Tabelas!B:D,3,0),0),\"\")","v":0},0,0,0,0,0,0,0,0]
["FULANO 10",10,null,null,null,null,null,null,null,null,null,null,null,null,null,null,null,null,null,null,null,null,null,null,null,null,null,null,null,null,null,null,null,null,null,null,null,null,null,null,null,null,null,{"$f":"IF(A18<>\"\",IFERROR(VLOOKUP(M18,Tabelas!B:D,3,0),0),\"\")","v":0},{"$f":"IF(A18<>\"\",IFERROR(VLOOKUP(N18,Tabelas!B:D,3,0),0),\"\")","v":0},{"$f":"IF(A18<>\"\",IFERROR(VLOOKUP(O18,Tabelas!B:D,3,0),0),\"\")","v":0},{"$f":"IF(A18<>\"\",IFERROR(VLOOKUP(P18,Tabelas!B:D,3,0),0),\"\")","v":0},{"$f":"IF(A18<>\"\",IFERROR(VLOOKUP(Q18,Tabelas!B:D,3,0),0),\"\")","v":0},{"$f":"IF(A18<>\"\",IFERROR(VLOOKUP(R18,Tabelas!B:D,3,0),0),\"\")","v":0},{"$f":"IF(A18<>\"\",IFERROR(VLOOKUP(S18,Tabelas!B:D,3,0),0),\"\")","v":0},{"$f":"IF(A18<>\"\",IFERROR(VLOOKUP(T18,Tabelas!B:D,3,0),0),\"\")","v":0},{"$f":"IF(A18<>\"\",IFERROR(VLOOKUP(U18,Tabelas!B:D,3,0),0),\"\")","v":0},{"$f":"IF(A18<>\"\",IFERROR(VLOOKUP(V18,Tabelas!B:D,3,0),0),\"\")","v":0},{"$f":"IF(A18<>\"\",IFERROR(VLOOKUP(W18,Tabelas!B:D,3,0),0),\"\")","v":0},{"$f":"IF(A18<>\"\",IFERROR(VLOOKUP(X18,Tabelas!B:D,3,0),0),\"\")","v":0},{"$f":"IF(A18<>\"\",IFERROR(VLOOKUP(Y18,Tabelas!B:D,3,0),0),\"\")","v":0},{"$f":"IF(A18<>\"\",IFERROR(VLOOKUP(Z18,Tabelas!B:D,3,0),0),\"\")","v":0},{"$f":"IF(A18<>\"\",IFERROR(VLOOKUP(AA18,Tabelas!B:D,3,0),0),\"\")","v":0},{"$f":"IF(A18<>\"\",IFERROR(VLOOKUP(AB18,Tabelas!B:D,3,0),0),\"\")","v":0},{"$f":"IF(A18<>\"\",IFERROR(VLOOKUP(AC18,Tabelas!B:D,3,0),0),\"\")","v":0},{"$f":"IF(A18<>\"\",IFERROR(VLOOKUP(AD18,Tabelas!B:D,3,0),0),\"\")","v":0},{"$f":"IF(A18<>\"\",IFERROR(VLOOKUP(AE18,Tabelas!B:D,3,0),0),\"\")","v":0},{"$f":"IF(A18<>\"\",IFERROR(VLOOKUP(AF18,Tabelas!B:D,3,0),0),\"\")","v":0},{"$f":"IF(A18<>\"\",IFERROR(VLOOKUP(AG18,Tabelas!B:D,3,0),0),\"\")","v":0},{"$f":"IF(A18<>\"\",IFERROR(VLOOKUP(AH18,Tabelas!B:D,3,0),0),\"\")","v":0},{"$f":"IF(A18<>\"\",IFERROR(VLOOKUP(AI18,Tabelas!B:D,3,0),0),\"\")","v":0},{"$f":"IF(A18<>\"\",IFERROR(VLOOKUP(AJ18,Tabelas!B:D,3,0),0),\"\")","v":0},{"$f":"IF(A18<>\"\",IFERROR(VLOOKUP(AK18,Tabelas!B:D,3,0),0),\"\")","v":0},{"$f":"IF(A18<>\"\",IFERROR(VLOOKUP(AL18,Tabelas!B:D,3,0),0),\"\")","v":0},{"$f":"IF(A18<>\"\",IFERROR(VLOOKUP(AM18,Tabelas!B:D,3,0),0),\"\")","v":0},{"$f":"IF(A18<>\"\",IFERROR(VLOOKUP(AN18,Tabelas!B:D,3,0),0),\"\")","v":0},{"$f":"IF(A18<>\"\",IFERROR(VLOOKUP(AO18,Tabelas!B:D,3,0),0),\"\")","v":0},{"$f":"IF(A18<>\"\",IFERROR(VLOOKUP(AP18,Tabelas!B:D,3,0),0),\"\")","v":0},{"$f":"IF(A18<>\"\",IFERROR(VLOOKUP(AQ18,Tabelas!B:D,3,0),0),\"\")","v":0},0,0,0,0,0,0,0,0]
["FULANO 11",11,null,null,null,null,null,null,null,null,null,null,null,null,null,null,null,null,null,null,null,null,null,null,null,null,null,null,null,null,null,null,null,null,null,null,null,null,null,null,null,null,null,{"$f":"IF(A19<>\"\",IFERROR(VLOOKUP(M19,Tabelas!B:D,3,0),0),\"\")","v":0},{"$f":"IF(A19<>\"\",IFERROR(VLOOKUP(N19,Tabelas!B:D,3,0),0),\"\")","v":0},{"$f":"IF(A19<>\"\",IFERROR(VLOOKUP(O19,Tabelas!B:D,3,0),0),\"\")","v":0},{"$f":"IF(A19<>\"\",IFERROR(VLOOKUP(P19,Tabelas!B:D,3,0),0),\"\")","v":0},{"$f":"IF(A19<>\"\",IFERROR(VLOOKUP(Q19,Tabelas!B:D,3,0),0),\"\")","v":0},{"$f":"IF(A19<>\"\",IFERROR(VLOOKUP(R19,Tabelas!B:D,3,0),0),\"\")","v":0},{"$f":"IF(A19<>\"\",IFERROR(VLOOKUP(S19,Tabelas!B:D,3,0),0),\"\")","v":0},{"$f":"IF(A19<>\"\",IFERROR(VLOOKUP(T19,Tabelas!B:D,3,0),0),\"\")","v":0},{"$f":"IF(A19<>\"\",IFERROR(VLOOKUP(U19,Tabelas!B:D,3,0),0),\"\")","v":0},{"$f":"IF(A19<>\"\",IFERROR(VLOOKUP(V19,Tabelas!B:D,3,0),0),\"\")","v":0},{"$f":"IF(A19<>\"\",IFERROR(VLOOKUP(W19,Tabelas!B:D,3,0),0),\"\")","v":0},{"$f":"IF(A19<>\"\",IFERROR(VLOOKUP(X19,Tabelas!B:D,3,0),0),\"\")","v":0},{"$f":"IF(A19<>\"\",IFERROR(VLOOKUP(Y19,Tabelas!B:D,3,0),0),\"\")","v":0},{"$f":"IF(A19<>\"\",IFERROR(VLOOKUP(Z19,Tabelas!B:D,3,0),0),\"\")","v":0},{"$f":"IF(A19<>\"\",IFERROR(VLOOKUP(AA19,Tabelas!B:D,3,0),0),\"\")","v":0},{"$f":"IF(A19<>\"\",IFERROR(VLOOKUP(AB19,Tabelas!B:D,3,0),0),\"\")","v":0},{"$f":"IF(A19<>\"\",IFERROR(VLOOKUP(AC19,Tabelas!B:D,3,0),0),\"\")","v":0},{"$f":"IF(A19<>\"\",IFERROR(VLOOKUP(AD19,Tabelas!B:D,3,0),0),\"\")","v":0},{"$f":"IF(A19<>\"\",IFERROR(VLOOKUP(AE19,Tabelas!B:D,3,0),0),\"\")","v":0},{"$f":"IF(A19<>\"\",IFERROR(VLOOKUP(AF19,Tabelas!B:D,3,0),0),\"\")","v":0},{"$f":"IF(A19<>\"\",IFERROR(VLOOKUP(AG19,Tabelas!B:D,3,0),0),\"\")","v":0},{"$f":"IF(A19<>\"\",IFERROR(VLOOKUP(AH19,Tabelas!B:D,3,0),0),\"\")","v":0},{"$f":"IF(A19<>\"\",IFERROR(VLOOKUP(AI19,Tabelas!B:D,3,0),0),\"\")","v":0},{"$f":"IF(A19<>\"\",IFERROR(VLOOKUP(AJ19,Tabelas!B:D,3,0),0),\"\")","v":0},{"$f":"IF(A19<>\"\",IFERROR(VLOOKUP(AK19,Tabelas!B:D,3,0),0),\"\")","v":0},{"$f":"IF(A19<>\"\",IFERROR(VLOOKUP(AL19,Tabelas!B:D,3,0),0),\"\")","v":0},{"$f":"IF(A19<>\"\",IFERROR(VLOOKUP(AM19,Tabelas!B:D,3,0),0),\"\")","v":0},{"$f":"IF(A19<>\"\",IFERROR(VLOOKUP(AN19,Tabelas!B:D,3,0),0),\"\")","v":0},{"$f":"IF(A19<>\"\",IFERROR(VLOOKUP(AO19,Tabelas!B:D,3,0),0),\"\")","v":0},{"$f":"IF(A19<>\"\",IFERROR(VLOOKUP(AP19,Tabelas!B:D,3,0),0),\"\")","v":0},{"$f":"IF(A19<>\"\",IFERROR(VLOOKUP(AQ19,Tabelas!B:D,3,0),0),\"\")","v":0},0,0,0,0,0,0,0,0]
["FULANO 12",12,null,null,null,null,null,null,null,null,null,null,null,null,null,null,null,null,null,null,null,null,null,null,null,null,null,null,null,null,null,null,null,null,null,null,null,null,null,null,null,null,null,{"$f":"IF(A20<>\"\",IFERROR(VLOOKUP(M20,Tabelas!B:D,3,0),0),\"\")","v":0},{"$f":"IF(A20<>\"\",IFERROR(VLOOKUP(N20,Tabelas!B:D,3,0),0),\"\")","v":0},{"$f":"IF(A20<>\"\",IFERROR(VLOOKUP(O20,Tabelas!B:D,3,0),0),\"\")","v":0},{"$f":"IF(A20<>\"\",IFERROR(VLOOKUP(P20,Tabelas!B:D,3,0),0),\"\")","v":0},{"$f":"IF(A20<>\"\",IFERROR(VLOOKUP(Q20,Tabelas!B:D,3,0),0),\"\")","v":0},{"$f":"IF(A20<>\"\",IFERROR(VLOOKUP(R20,Tabelas!B:D,3,0),0),\"\")","v":0},{"$f":"IF(A20<>\"\",IFERROR(VLOOKUP(S20,Tabelas!B:D,3,0),0),\"\")","v":0},{"$f":"IF(A20<>\"\",IFERROR(VLOOKUP(T20,Tabelas!B:D,3,0),0),\"\")","v":0},{"$f":"IF(A20<>\"\",IFERROR(VLOOKUP(U20,Tabelas!B:D,3,0),0),\"\")","v":0},{"$f":"IF(A20<>\"\",IFERROR(VLOOKUP(V20,Tabelas!B:D,3,0),0),\"\")","v":0},{"$f":"IF(A20<>\"\",IFERROR(VLOOKUP(W20,Tabelas!B:D,3,0),0),\"\")","v":0},{"$f":"IF(A20<>\"\",IFERROR(VLOOKUP(X20,Tabelas!B:D,3,0),0),\"\")","v":0},{"$f":"IF(A20<>\"\",IFERROR(VLOOKUP(Y20,Tabelas!B:D,3,0),0),\"\")","v":0},{"$f":"IF(A20<>\"\",IFERROR(VLOOKUP(Z20,Tabelas!B:D,3,0),0),\"\")","v":0},{"$f":"IF(A20<>\"\",IFERROR(VLOOKUP(AA20,Tabelas!B:D,3,0),0),\"\")","v":0},{"$f":"IF(A20<>\"\",IFERROR(VLOOKUP(AB20,Tabelas!B:D,3,0),0),\"\")","v":0},{"$f":"IF(A20<>\"\",IFERROR(VLOOKUP(AC20,Tabelas!B:D,3,0),0),\"\")","v":0},{"$f":"IF(A20<>\"\",IFERROR(VLOOKUP(AD20,Tabelas!B:D,3,0),0),\"\")","v":0},{"$f":"IF(A20<>\"\",IFERROR(VLOOKUP(AE20,Tabelas!B:D,3,0),0),\"\")","v":0},{"$f":"IF(A20<>\"\",IFERROR(VLOOKUP(AF20,Tabelas!B:D,3,0),0),\"\")","v":0},{"$f":"IF(A20<>\"\",IFERROR(VLOOKUP(AG20,Tabelas!B:D,3,0),0),\"\")","v":0},{"$f":"IF(A20<>\"\",IFERROR(VLOOKUP(AH20,Tabelas!B:D,3,0),0),\"\")","v":0},{"$f":"IF(A20<>\"\",IFERROR(VLOOKUP(AI20,Tabelas!B:D,3,0),0),\"\")","v":0},{"$f":"IF(A20<>\"\",IFERROR(VLOOKUP(AJ20,Tabelas!B:D,3,0),0),\"\")","v":0},{"$f":"IF(A20<>\"\",IFERROR(VLOOKUP(AK20,Tabelas!B:D,3,0),0),\"\")","v":0},{"$f":"IF(A20<>\"\",IFERROR(VLOOKUP(AL20,Tabelas!B:D,3,0),0),\"\")","v":0},{"$f":"IF(A20<>\"\",IFERROR(VLOOKUP(AM20,Tabelas!B:D,3,0),0),\"\")","v":0},{"$f":"IF(A20<>\"\",IFERROR(VLOOKUP(AN20,Tabelas!B:D,3,0),0),\"\")","v":0},{"$f":"IF(A20<>\"\",IFERROR(VLOOKUP(AO20,Tabelas!B:D,3,0),0),\"\")","v":0},{"$f":"IF(A20<>\"\",IFERROR(VLOOKUP(AP20,Tabelas!B:D,3,0),0),\"\")","v":0},{"$f":"IF(A20<>\"\",IFERROR(VLOOKUP(AQ20,Tabelas!B:D,3,0),0),\"\")","v":0},0,0,0,0,0,0,0,0]
["FULANO 13",13,null,null,null,null,null,null,null,null,null,null,null,null,null,null,null,null,null,null,null,null,null,null,null,null,null,null,null,null,null,null,null,null,null,null,null,null,null,null,null,null,null,{"$f":"IF(A21<>\"\",IFERROR(VLOOKUP(M21,Tabelas!B:D,3,0),0),\"\")","v":0},{"$f":"IF(A21<>\"\",IFERROR(VLOOKUP(N21,Tabelas!B:D,3,0),0),\"\")","v":0},{"$f":"IF(A21<>\"\",IFERROR(VLOOKUP(O21,Tabelas!B:D,3,0),0),\"\")","v":0},{"$f":"IF(A21<>\"\",IFERROR(VLOOKUP(P21,Tabelas!B:D,3,0),0),\"\")","v":0},{"$f":"IF(A21<>\"\",IFERROR(VLOOKUP(Q21,Tabelas!B:D,3,0),0),\"\")","v":0},{"$f":"IF(A21<>\"\",IFERROR(VLOOKUP(R21,Tabelas!B:D,3,0),0),\"\")","v":0},{"$f":"IF(A21<>\"\",IFERROR(VLOOKUP(S21,Tabelas!B:D,3,0),0),\"\")","v":0},{"$f":"IF(A21<>\"\",IFERROR(VLOOKUP(T21,Tabelas!B:D,3,0),0),\"\")","v":0},{"$f":"IF(A21<>\"\",IFERROR(VLOOKUP(U21,Tabelas!B:D,3,0),0),\"\")","v":0},{"$f":"IF(A21<>\"\",IFERROR(VLOOKUP(V21,Tabelas!B:D,3,0),0),\"\")","v":0},{"$f":"IF(A21<>\"\",IFERROR(VLOOKUP(W21,Tabelas!B:D,3,0),0),\"\")","v":0},{"$f":"IF(A21<>\"\",IFERROR(VLOOKUP(X21,Tabelas!B:D,3,0),0),\"\")","v":0},{"$f":"IF(A21<>\"\",IFERROR(VLOOKUP(Y21,Tabelas!B:D,3,0),0),\"\")","v":0},{"$f":"IF(A21<>\"\",IFERROR(VLOOKUP(Z21,Tabelas!B:D,3,0),0),\"\")","v":0},{"$f":"IF(A21<>\"\",IFERROR(VLOOKUP(AA21,Tabelas!B:D,3,0),0),\"\")","v":0},{"$f":"IF(A21<>\"\",IFERROR(VLOOKUP(AB21,Tabelas!B:D,3,0),0),\"\")","v":0},{"$f":"IF(A21<>\"\",IFERROR(VLOOKUP(AC21,Tabelas!B:D,3,0),0),\"\")","v":0},{"$f":"IF(A21<>\"\",IFERROR(VLOOKUP(AD21,Tabelas!B:D,3,0),0),\"\")","v":0},{"$f":"IF(A21<>\"\",IFERROR(VLOOKUP(AE21,Tabelas!B:D,3,0),0),\"\")","v":0},{"$f":"IF(A21<>\"\",IFERROR(VLOOKUP(AF21,Tabelas!B:D,3,0),0),\"\")","v":0},{"$f":"IF(A21<>\"\",IFERROR(VLOOKUP(AG21,Tabelas!B:D,3,0),0),\"\")","v":0},{"$f":"IF(A21<>\"\",IFERROR(VLOOKUP(AH21,Tabelas!B:D,3,0),0),\"\")","v":0},{"$f":"IF(A21<>\"\",IFERROR(VLOOKUP(AI21,Tabelas!B:D,3,0),0),\"\")","v":0},{"$f":"IF(A21<>\"\",IFERROR(VLOOKUP(AJ21,Tabelas!B:D,3,0),0),\"\")","v":0},{"$f":"IF(A21<>\"\",IFERROR(VLOOKUP(AK21,Tabelas!B:D,3,0),0),\"\")","v":0},{"$f":"IF(A21<>\"\",IFERROR(VLOOKUP(AL21,Tabelas!B:D,3,0),0),\"\")","v":0},{"$f":"IF(A21<>\"\",IFERROR(VLOOKUP(AM21,Tabelas!B:D,3,0),0),\"\")","v":0},{"$f":"IF(A21<>\"\",IFERROR(VLOOKUP(AN21,Tabelas!B:D,3,0),0),\"\")","v":0},{"$f":"IF(A21<>\"\",IFERROR(VLOOKUP(AO21,Tabelas!B:D,3,0),0),\"\")","v":0},{"$f":"IF(A21<>\"\",IFERROR(VLOOKUP(AP21,Tabelas!B:D,3,0),0),\"\")","v":0},{"$f":"IF(A21<>\"\",IFERROR(VLOOKUP(AQ21,Tabelas!B:D,3,0),0),\"\")","v":0},0,0,0,0,0,0,0,0]
["FULANO 14",14,null,null,null,null,null,null,null,null,null,null,null,null,null,null,null,null,null,null,null,null,null,null,null,null,null,null,null,null,null,null,null,null,null,null,null,null,null,null,null,null,null,{"$f":"IF(A22<>\"\",IFERROR(VLOOKUP(M22,Tabelas!B:D,3,0),0),\"\")","v":0},{"$f":"IF(A22<>\"\",IFERROR(VLOOKUP(N22,Tabelas!B:D,3,0),0),\"\")","v":0},{"$f":"IF(A22<>\"\",IFERROR(VLOOKUP(O22,Tabelas!B:D,3,0),0),\"\")","v":0},{"$f":"IF(A22<>\"\",IFERROR(VLOOKUP(P22,Tabelas!B:D,3,0),0),\"\")","v":0},{"$f":"IF(A22<>\"\",IFERROR(VLOOKUP(Q22,Tabelas!B:D,3,0),0),\"\")","v":0},{"$f":"IF(A22<>\"\",IFERROR(VLOOKUP(R22,Tabelas!B:D,3,0),0),\"\")","v":0},{"$f":"IF(A22<>\"\",IFERROR(VLOOKUP(S22,Tabelas!B:D,3,0),0),\"\")","v":0},{"$f":"IF(A22<>\"\",IFERROR(VLOOKUP(T22,Tabelas!B:D,3,0),0),\"\")","v":0},{"$f":"IF(A22<>\"\",IFERROR(VLOOKUP(U22,Tabelas!B:D,3,0),0),\"\")","v":0},{"$f":"IF(A22<>\"\",IFERROR(VLOOKUP(V22,Tabelas!B:D,3,0),0),\"\")","v":0},{"$f":"IF(A22<>\"\",IFERROR(VLOOKUP(W22,Tabelas!B:D,3,0),0),\"\")","v":0},{"$f":"IF(A22<>\"\",IFERROR(VLOOKUP(X22,Tabelas!B:D,3,0),0),\"\")","v":0},{"$f":"IF(A22<>\"\",IFERROR(VLOOKUP(Y22,Tabelas!B:D,3,0),0),\"\")","v":0},{"$f":"IF(A22<>\"\",IFERROR(VLOOKUP(Z22,Tabelas!B:D,3,0),0),\"\")","v":0},{"$f":"IF(A22<>\"\",IFERROR(VLOOKUP(AA22,Tabelas!B:D,3,0),0),\"\")","v":0},{"$f":"IF(A22<>\"\",IFERROR(VLOOKUP(AB22,Tabelas!B:D,3,0),0),\"\")","v":0},{"$f":"IF(A22<>\"\",IFERROR(VLOOKUP(AC22,Tabelas!B:D,3,0),0),\"\")","v":0},{"$f":"IF(A22<>\"\",IFERROR(VLOOKUP(AD22,Tabelas!B:D,3,0),0),\"\")","v":0},{"$f":"IF(A22<>\"\",IFERROR(VLOOKUP(AE22,Tabelas!B:D,3,0),0),\"\")","v":0},{"$f":"IF(A22<>\"\",IFERROR(VLOOKUP(AF22,Tabelas!B:D,3,0),0),\"\")","v":0},{"$f":"IF(A22<>\"\",IFERROR(VLOOKUP(AG22,Tabelas!B:D,3,0),0),\"\")","v":0},{"$f":"IF(A22<>\"\",IFERROR(VLOOKUP(AH22,Tabelas!B:D,3,0),0),\"\")","v":0},{"$f":"IF(A22<>\"\",IFERROR(VLOOKUP(AI22,Tabelas!B:D,3,0),0),\"\")","v":0},{"$f":"IF(A22<>\"\",IFERROR(VLOOKUP(AJ22,Tabelas!B:D,3,0),0),\"\")","v":0},{"$f":"IF(A22<>\"\",IFERROR(VLOOKUP(AK22,Tabelas!B:D,3,0),0),\"\")","v":0},{"$f":"IF(A22<>\"\",IFERROR(VLOOKUP(AL22,Tabelas!B:D,3,0),0),\"\")","v":0},{"$f":"IF(A22<>\"\",IFERROR(VLOOKUP(AM22,Tabelas!B:D,3,0),0),\"\")","v":0},{"$f":"IF(A22<>\"\",IFERROR(VLOOKUP(AN22,Tabelas!B:D,3,0),0),\"\")","v":0},{"$f":"IF(A22<>\"\",IFERROR(VLOOKUP(AO22,Tabelas!B:D,3,0),0),\"\")","v":0},{"$f":"IF(A22<>\"\",IFERROR(VLOOKUP(AP22,Tabelas!B:D,3,0),0),\"\")","v":0},{"$f":"IF(A22<>\"\",IFERROR(VLOOKUP(AQ22,Tabelas!B:D,3,0),0),\"\")","v":0},0,0,0,0,0,0,0,0]
["FULANO 15",15,null,null,null,null,null,null,null,null,null,null,null,null,null,null,null,null,null,null,null,null,null,null,null,null,null,null,null,null,null,null,null,null,null,null,null,null,null,null,null,null,null,{"$f":"IF(A23<>\"\",IFERROR(VLOOKUP(M23,Tabelas!B:D,3,0),0),\"\")","v":0},{"$f":"IF(A23<>\"\",IFERROR(VLOOKUP(N23,Tabelas!B:D,3,0),0),\"\")","v":0},{"$f":"IF(A23<>\"\",IFERROR(VLOOKUP(O23,Tabelas!B:D,3,0),0),\"\")","v":0},{"$f":"IF(A23<>\"\",IFERROR(VLOOKUP(P23,Tabelas!B:D,3,0),0),\"\")","v":0},{"$f":"IF(A23<>\"\",IFERROR(VLOOKUP(Q23,Tabelas!B:D,3,0),0),\"\")","v":0},{"$f":"IF(A23<>\"\",IFERROR(VLOOKUP(R23,Tabelas!B:D,3,0),0),\"\")","v":0},{"$f":"IF(A23<>\"\",IFERROR(VLOOKUP(S23,Tabelas!B:D,3,0),0),\"\")","v":0},{"$f":"IF(A23<>\"\",IFERROR(VLOOKUP(T23,Tabelas!B:D,3,0),0),\"\")","v":0},{"$f":"IF(A23<>\"\",IFERROR(VLOOKUP(U23,Tabelas!B:D,3,0),0),\"\")","v":0},{"$f":"IF(A23<>\"\",IFERROR(VLOOKUP(V23,Tabelas!B:D,3,0),0),\"\")","v":0},{"$f":"IF(A23<>\"\",IFERROR(VLOOKUP(W23,Tabelas!B:D,3,0),0),\"\")","v":0},{"$f":"IF(A23<>\"\",IFERROR(VLOOKUP(X23,Tabelas!B:D,3,0),0),\"\")","v":0},{"$f":"IF(A23<>\"\",IFERROR(VLOOKUP(Y23,Tabelas!B:D,3,0),0),\"\")","v":0},{"$f":"IF(A23<>\"\",IFERROR(VLOOKUP(Z23,Tabelas!B:D,3,0),0),\"\")","v":0},{"$f":"IF(A23<>\"\",IFERROR(VLOOKUP(AA23,Tabelas!B:D,3,0),0),\"\")","v":0},{"$f":"IF(A23<>\"\",IFERROR(VLOOKUP(AB23,Tabelas!B:D,3,0),0),\"\")","v":0},{"$f":"IF(A23<>\"\",IFERROR(VLOOKUP(AC23,Tabelas!B:D,3,0),0),\"\")","v":0},{"$f":"IF(A23<>\"\",IFERROR(VLOOKUP(AD23,Tabelas!B:D,3,0),0),\"\")","v":0},{"$f":"IF(A23<>\"\",IFERROR(VLOOKUP(AE23,Tabelas!B:D,3,0),0),\"\")","v":0},{"$f":"IF(A23<>\"\",IFERROR(VLOOKUP(AF23,Tabelas!B:D,3,0),0),\"\")","v":0},{"$f":"IF(A23<>\"\",IFERROR(VLOOKUP(AG23,Tabelas!B:D,3,0),0),\"\")","v":0},{"$f":"IF(A23<>\"\",IFERROR(VLOOKUP(AH23,Tabelas!B:D,3,0),0),\"\")","v":0},{"$f":"IF(A23<>\"\",IFERROR(VLOOKUP(AI23,Tabelas!B:D,3,0),0),\"\")","v":0},{"$f":"IF(A23<>\"\",IFERROR(VLOOKUP(AJ23,Tabelas!B:D,3,0),0),\"\")","v":0},{"$f":"IF(A23<>\"\",IFERROR(VLOOKUP(AK23,Tabelas!B:D,3,0),0),\"\")","v":0},{"$f":"IF(A23<>\"\",IFERROR(VLOOKUP(AL23,Tabelas!B:D,3,0),0),\"\")","v":0},{"$f":"IF(A23<>\"\",IFERROR(VLOOKUP(AM23,Tabelas!B:D,3,0),0),\"\")","v":0},{"$f":"IF(A23<>\"\",IFERROR(VLOOKUP(AN23,Tabelas!B:D,3,0),0),\"\")","v":0},{"$f":"IF(A23<>\"\",IFERROR(VLOOKUP(AO23,Tabelas!B:D,3,0),0),\"\")","v":0},{"$f":"IF(A23<>\"\",IFERROR(VLOOKUP(AP23,Tabelas!B:D,3,0),0),\"\")","v":0},{"$f":"IF(A23<>\"\",IFERROR(VLOOKUP(AQ23,Tabelas!B:D,3,0),0),\"\")","v":0},0,0,0,0,0,0,0,0]
["FULANO 16",16,null,null,null,null,null,null,null,null,null,null,null,null,null,null,null,null,null,null,null,null,null,null,null,null,null,null,null,null,null,null,null,null,null,null,null,null,null,null,null,null,null,{"$f":"IF(A24<>\"\",IFERROR(VLOOKUP(M24,Tabelas!B:D,3,0),0),\"\")","v":0},{"$f":"IF(A24<>\"\",IFERROR(VLOOKUP(N24,Tabelas!B:D,3,0),0),\"\")","v":0},{"$f":"IF(A24<>\"\",IFERROR(VLOOKUP(O24,Tabelas!B:D,3,0),0),\"\")","v":0},{"$f":"IF(A24<>\"\",IFERROR(VLOOKUP(P24,Tabelas!B:D,3,0),0),\"\")","v":0},{"$f":"IF(A24<>\"\",IFERROR(VLOOKUP(Q24,Tabelas!B:D,3,0),0),\"\")","v":0},{"$f":"IF(A24<>\"\",IFERROR(VLOOKUP(R24,Tabelas!B:D,3,0),0),\"\")","v":0},{"$f":"IF(A24<>\"\",IFERROR(VLOOKUP(S24,Tabelas!B:D,3,0),0),\"\")","v":0},{"$f":"IF(A24<>\"\",IFERROR(VLOOKUP(T24,Tabelas!B:D,3,0),0),\"\")","v":0},{"$f":"IF(A24<>\"\",IFERROR(VLOOKUP(U24,Tabelas!B:D,3,0),0),\"\")","v":0},{"$f":"IF(A24<>\"\",IFERROR(VLOOKUP(V24,Tabelas!B:D,3,0),0),\"\")","v":0},{"$f":"IF(A24<>\"\",IFERROR(VLOOKUP(W24,Tabelas!B:D,3,0),0),\"\")","v":0},{"$f":"IF(A24<>\"\",IFERROR(VLOOKUP(X24,Tabelas!B:D,3,0),0),\"\")","v":0},{"$f":"IF(A24<>\"\",IFERROR(VLOOKUP(Y24,Tabelas!B:D,3,0),0),\"\")","v":0},{"$f":"IF(A24<>\"\",IFERROR(VLOOKUP(Z24,Tabelas!B:D,3,0),0),\"\")","v":0},{"$f":"IF(A24<>\"\",IFERROR(VLOOKUP(AA24,Tabelas!B:D,3,0),0),\"\")","v":0},{"$f":"IF(A24<>\"\",IFERROR(VLOOKUP(AB24,Tabelas!B:D,3,0),0),\"\")","v":0},{"$f":"IF(A24<>\"\",IFERROR(VLOOKUP(AC24,Tabelas!B:D,3,0),0),\"\")","v":0},{"$f":"IF(A24<>\"\",IFERROR(VLOOKUP(AD24,Tabelas!B:D,3,0),0),\"\")","v":0},{"$f":"IF(A24<>\"\",IFERROR(VLOOKUP(AE24,Tabelas!B:D,3,0),0),\"\")","v":0},{"$f":"IF(A24<>\"\",IFERROR(VLOOKUP(AF24,Tabelas!B:D,3,0),0),\"\")","v":0},{"$f":"IF(A24<>\"\",IFERROR(VLOOKUP(AG24,Tabelas!B:D,3,0),0),\"\")","v":0},{"$f":"IF(A24<>\"\",IFERROR(VLOOKUP(AH24,Tabelas!B:D,3,0),0),\"\")","v":0},{"$f":"IF(A24<>\"\",IFERROR(VLOOKUP(AI24,Tabelas!B:D,3,0),0),\"\")","v":0},{"$f":"IF(A24<>\"\",IFERROR(VLOOKUP(AJ24,Tabelas!B:D,3,0),0),\"\")","v":0},{"$f":"IF(A24<>\"\",IFERROR(VLOOKUP(AK24,Tabelas!B:D,3,0),0),\"\")","v":0},{"$f":"IF(A24<>\"\",IFERROR(VLOOKUP(AL24,Tabelas!B:D,3,0),0),\"\")","v":0},{"$f":"IF(A24<>\"\",IFERROR(VLOOKUP(AM24,Tabelas!B:D,3,0),0),\"\")","v":0},{"$f":"IF(A24<>\"\",IFERROR(VLOOKUP(AN24,Tabelas!B:D,3,0),0),\"\")","v":0},{"$f":"IF(A24<>\"\",IFERROR(VLOOKUP(AO24,Tabelas!B:D,3,0),0),\"\")","v":0},{"$f":"IF(A24<>\"\",IFERROR(VLOOKUP(AP24,Tabelas!B:D,3,0),0),\"\")","v":0},{"$f":"IF(A24<>\"\",IFERROR(VLOOKUP(AQ24,Tabelas!B:D,3,0),0),\"\")","v":0},0,0,0,0,0,0,0,0]
["FULANO 17",17,null,null,null,null,null,null,null,null,null,null,null,null,null,null,null,null,null,null,null,null,null,null,null,null,null,null,null,null,null,null,null,null,null,null,null,null,null,null,null,null,null,{"$f":"IF(A25<>\"\",IFERROR(VLOOKUP(M25,Tabelas!B:D,3,0),0),\"\")","v":0},{"$f":"IF(A25<>\"\",IFERROR(VLOOKUP(N25,Tabelas!B:D,3,0),0),\"\")","v":0},{"$f":"IF(A25<>\"\",IFERROR(VLOOKUP(O25,Tabelas!B:D,3,0),0),\"\")","v":0},{"$f":"IF(A25<>\"\",IFERROR(VLOOKUP(P25,Tabelas!B:D,3,0),0),\"\")","v":0},{"$f":"IF(A25<>\"\",IFERROR(VLOOKUP(Q25,Tabelas!B:D,3,0),0),\"\")","v":0},{"$f":"IF(A25<>\"\",IFERROR(VLOOKUP(R25,Tabelas!B:D,3,0),0),\"\")","v":0},{"$f":"IF(A25<>\"\",IFERROR(VLOOKUP(S25,Tabelas!B:D,3,0),0),\"\")","v":0},{"$f":"IF(A25<>\"\",IFERROR(VLOOKUP(T25,Tabelas!B:D,3,0),0),\"\")","v":0},{"$f":"IF(A25<>\"\",IFERROR(VLOOKUP(U25,Tabelas!B:D,3,0),0),\"\")","v":0},{"$f":"IF(A25<>\"\",IFERROR(VLOOKUP(V25,Tabelas!B:D,3,0),0),\"\")","v":0},{"$f":"IF(A25<>\"\",IFERROR(VLOOKUP(W25,Tabelas!B:D,3,0),0),\"\")","v":0},{"$f":"IF(A25<>\"\",IFERROR(VLOOKUP(X25,Tabelas!B:D,3,0),0),\"\")","v":0},{"$f":"IF(A25<>\"\",IFERROR(VLOOKUP(Y25,Tabelas!B:D,3,0),0),\"\")","v":0},{"$f":"IF(A25<>\"\",IFERROR(VLOOKUP(Z25,Tabelas!B:D,3,0),0),\"\")","v":0},{"$f":"IF(A25<>\"\",IFERROR(VLOOKUP(AA25,Tabelas!B:D,3,0),0),\"\")","v":0},{"$f":"IF(A25<>\"\",IFERROR(VLOOKUP(AB25,Tabelas!B:D,3,0),0),\"\")","v":0},{"$f":"IF(A25<>\"\",IFERROR(VLOOKUP(AC25,Tabelas!B:D,3,0),0),\"\")","v":0},{"$f":"IF(A25<>\"\",IFERROR(VLOOKUP(AD25,Tabelas!B:D,3,0),0),\"\")","v":0},{"$f":"IF(A25<>\"\",IFERROR(VLOOKUP(AE25,Tabelas!B:D,3,0),0),\"\")","v":0},{"$f":"IF(A25<>\"\",IFERROR(VLOOKUP(AF25,Tabelas!B:D,3,0),0),\"\")","v":0},{"$f":"IF(A25<>\"\",IFERROR(VLOOKUP(AG25,Tabelas!B:D,3,0),0),\"\")","v":0},{"$f":"IF(A25<>\"\",IFERROR(VLOOKUP(AH25,Tabelas!B:D,3,0),0),\"\")","v":0},{"$f":"IF(A25<>\"\",IFERROR(VLOOKUP(AI25,Tabelas!B:D,3,0),0),\"\")","v":0},{"$f":"IF(A25<>\"\",IFERROR(VLOOKUP(AJ25,Tabelas!B:D,3,0),0),\"\")","v":0},{"$f":"IF(A25<>\"\",IFERROR(VLOOKUP(AK25,Tabelas!B:D,3,0),0),\"\")","v":0},{"$f":"IF(A25<>\"\",IFERROR(VLOOKUP(AL25,Tabelas!B:D,3,0),0),\"\")","v":0},{"$f":"IF(A25<>\"\",IFERROR(VLOOKUP(AM25,Tabelas!B:D,3,0),0),\"\")","v":0},{"$f":"IF(A25<>\"\",IFERROR(VLOOKUP(AN25,Tabelas!B:D,3,0),0),\"\")","v":0},{"$f":"IF(A25<>\"\",IFERROR(VLOOKUP(AO25,Tabelas!B:D,3,0),0),\"\")","v":0},{"$f":"IF(A25<>\"\",IFERROR(VLOOKUP(AP25,Tabelas!B:D,3,0),0),\"\")","v":0},{"$f":"IF(A25<>\"\",IFERROR(VLOOKUP(AQ25,Tabelas!B:D,3,0),0),\"\")","v":0},0,0,0,0,0,0,0,0]
["FULANO 18",18,null,null,null,null,null,null,null,null,null,null,null,null,null,null,null,null,null,null,null,null,null,null,null,null,null,null,null,null,null,null,null,null,null,null,null,null,null,null,null,null,null,{"$f":"IF(A26<>\"\",IFERROR(VLOOKUP(M26,Tabelas!B:D,3,0),0),\"\")","v":0},{"$f":"IF(A26<>\"\",IFERROR(VLOOKUP(N26,Tabelas!B:D,3,0),0),\"\")","v":0},{"$f":"IF(A26<>\"\",IFERROR(VLOOKUP(O26,Tabelas!B:D,3,0),0),\"\")","v":0},{"$f":"IF(A26<>\"\",IFERROR(VLOOKUP(P26,Tabelas!B:D,3,0),0),\"\")","v":0},{"$f":"IF(A26<>\"\",IFERROR(VLOOKUP(Q26,Tabelas!B:D,3,0),0),\"\")","v":0},{"$f":"IF(A26<>\"\",IFERROR(VLOOKUP(R26,Tabelas!B:D,3,0),0),\"\")","v":0},{"$f":"IF(A26<>\"\",IFERROR(VLOOKUP(S26,Tabelas!B:D,3,0),0),\"\")","v":0},{"$f":"IF(A26<>\"\",IFERROR(VLOOKUP(T26,Tabelas!B:D,3,0),0),\"\")","v":0},{"$f":"IF(A26<>\"\",IFERROR(VLOOKUP(U26,Tabelas!B:D,3,0),0),\"\")","v":0},{"$f":"IF(A26<>\"\",IFERROR(VLOOKUP(V26,Tabelas!B:D,3,0),0),\"\")","v":0},{"$f":"IF(A26<>\"\",IFERROR(VLOOKUP(W26,Tabelas!B:D,3,0),0),\"\")","v":0},{"$f":"IF(A26<>\"\",IFERROR(VLOOKUP(X26,Tabelas!B:D,3,0),0),\"\")","v":0},{"$f":"IF(A26<>\"\",IFERROR(VLOOKUP(Y26,Tabelas!B:D,3,0),0),\"\")","v":0},{"$f":"IF(A26<>\"\",IFERROR(VLOOKUP(Z26,Tabelas!B:D,3,0),0),\"\")","v":0},{"$f":"IF(A26<>\"\",IFERROR(VLOOKUP(AA26,Tabelas!B:D,3,0),0),\"\")","v":0},{"$f":"IF(A26<>\"\",IFERROR(VLOOKUP(AB26,Tabelas!B:D,3,0),0),\"\")","v":0},{"$f":"IF(A26<>\"\",IFERROR(VLOOKUP(AC26,Tabelas!B:D,3,0),0),\"\")","v":0},{"$f":"IF(A26<>\"\",IFERROR(VLOOKUP(AD26,Tabelas!B:D,3,0),0),\"\")","v":0},{"$f":"IF(A26<>\"\",IFERROR(VLOOKUP(AE26,Tabelas!B:D,3,0),0),\"\")","v":0},{"$f":"IF(A26<>\"\",IFERROR(VLOOKUP(AF26,Tabelas!B:D,3,0),0),\"\")","v":0},{"$f":"IF(A26<>\"\",IFERROR(VLOOKUP(AG26,Tabelas!B:D,3,0),0),\"\")","v":0},{"$f":"IF(A26<>\"\",IFERROR(VLOOKUP(AH26,Tabelas!B:D,3,0),0),\"\")","v":0},{"$f":"IF(A26<>\"\",IFERROR(VLOOKUP(AI26,Tabelas!B:D,3,0),0),\"\")","v":0},{"$f":"IF(A26<>\"\",IFERROR(VLOOKUP(AJ26,Tabelas!B:D,3,0),0),\"\")","v":0},{"$f":"IF(A26<>\"\",IFERROR(VLOOKUP(AK26,Tabelas!B:D,3,0),0),\"\")","v":0},{"$f":"IF(A26<>\"\",IFERROR(VLOOKUP(AL26,Tabelas!B:D,3,0),0),\"\")","v":0},{"$f":"IF(A26<>\"\",IFERROR(VLOOKUP(AM26,Tabelas!B:D,3,0),0),\"\")","v":0},{"$f":"IF(A26<>\"\",IFERROR(VLOOKUP(AN26,Tabelas!B:D,3,0),0),\"\")","v":0},{"$f":"IF(A26<>\"\",IFERROR(VLOOKUP(AO26,Tabelas!B:D,3,0),0),\"\")","v":0},{"$f":"IF(A26<>\"\",IFERROR(VLOOKUP(AP26,Tabelas!B:D,3,0),0),\"\")","v":0},{"$f":"IF(A26<>\"\",IFERROR(VLOOKUP(AQ26,Tabelas!B:D,3,0),0),\"\")","v":0},0,0,0,0,0,0,0,0]
["FULANO 19",19,null,null,null,null,null,null,null,null,null,null,null,null,null,null,null,null,null,null,null,null,null,null,null,null,null,null,null,null,null,null,null,null,null,null,null,null,null,null,null,null,null,{"$f":"IF(A27<>\"\",IFERROR(VLOOKUP(M27,Tabelas!B:D,3,0),0),\"\")","v":0},{"$f":"IF(A27<>\"\",IFERROR(VLOOKUP(N27,Tabelas!B:D,3,0),0),\"\")","v":0},{"$f":"IF(A27<>\"\",IFERROR(VLOOKUP(O27,Tabelas!B:D,3,0),0),\"\")","v":0},{"$f":"IF(A27<>\"\",IFERROR(VLOOKUP(P27,Tabelas!B:D,3,0),0),\"\")","v":0},{"$f":"IF(A27<>\"\",IFERROR(VLOOKUP(Q27,Tabelas!B:D,3,0),0),\"\")","v":0},{"$f":"IF(A27<>\"\",IFERROR(VLOOKUP(R27,Tabelas!B:D,3,0),0),\"\")","v":0},{"$f":"IF(A27<>\"\",IFERROR(VLOOKUP(S27,Tabelas!B:D,3,0),0),\"\")","v":0},{"$f":"IF(A27<>\"\",IFERROR(VLOOKUP(T27,Tabelas!B:D,3,0),0),\"\")","v":0},{"$f":"IF(A27<>\"\",IFERROR(VLOOKUP(U27,Tabelas!B:D,3,0),0),\"\")","v":0},{"$f":"IF(A27<>\"\",IFERROR(VLOOKUP(V27,Tabelas!B:D,3,0),0),\"\")","v":0},{"$f":"IF(A27<>\"\",IFERROR(VLOOKUP(W27,Tabelas!B:D,3,0),0),\"\")","v":0},{"$f":"IF(A27<>\"\",IFERROR(VLOOKUP(X27,Tabelas!B:D,3,0),0),\"\")","v":0},{"$f":"IF(A27<>\"\",IFERROR(VLOOKUP(Y27,Tabelas!B:D,3,0),0),\"\")","v":0},{"$f":"IF(A27<>\"\",IFERROR(VLOOKUP(Z27,Tabelas!B:D,3,0),0),\"\")","v":0},{"$f":"IF(A27<>\"\",IFERROR(VLOOKUP(AA27,Tabelas!B:D,3,0),0),\"\")","v":0},{"$f":"IF(A27<>\"\",IFERROR(VLOOKUP(AB27,Tabelas!B:D,3,0),0),\"\")","v":0},{"$f":"IF(A27<>\"\",IFERROR(VLOOKUP(AC27,Tabelas!B:D,3,0),0),\"\")","v":0},{"$f":"IF(A27<>\"\",IFERROR(VLOOKUP(AD27,Tabelas!B:D,3,0),0),\"\")","v":0},{"$f":"IF(A27<>\"\",IFERROR(VLOOKUP(AE27,Tabelas!B:D,3,0),0),\"\")","v":0},{"$f":"IF(A27<>\"\",IFERROR(VLOOKUP(AF27,Tabelas!B:D,3,0),0),\"\")","v":0},{"$f":"IF(A27<>\"\",IFERROR(VLOOKUP(AG27,Tabelas!B:D,3,0),0),\"\")","v":0},{"$f":"IF(A27<>\"\",IFERROR(VLOOKUP(AH27,Tabelas!B:D,3,0),0),\"\")","v":0},{"$f":"IF(A27<>\"\",IFERROR(VLOOKUP(AI27,Tabelas!B:D,3,0),0),\"\")","v":0},{"$f":"IF(A27<>\"\",IFERROR(VLOOKUP(AJ27,Tabelas!B:D,3,0),0),\"\")","v":0},{"$f":"IF(A27<>\"\",IFERROR(VLOOKUP(AK27,Tabelas!B:D,3,0),0),\"\")","v":0},{"$f":"IF(A27<>\"\",IFERROR(VLOOKUP(AL27,Tabelas!B:D,3,0),0),\"\")","v":0},{"$f":"IF(A27<>\"\",IFERROR(VLOOKUP(AM27,Tabelas!B:D,3,0),0),\"\")","v":0},{"$f":"IF(A27<>\"\",IFERROR(VLOOKUP(AN27,Tabelas!B:D,3,0),0),\"\")","v":0},{"$f":"IF(A27<>\"\",IFERROR(VLOOKUP(AO27,Tabelas!B:D,3,0),0),\"\")","v":0},{"$f":"IF(A27<>\"\",IFERROR(VLOOKUP(AP27,Tabelas!B:D,3,0),0),\"\")","v":0},{"$f":"IF(A27<>\"\",IFERROR(VLOOKUP(AQ27,Tabelas!B:D,3,0),0),\"\")","v":0},0,0,0,0,0,0,0,0]
["FULANO 20",20,null,null,null,null,null,null,null,null,null,null,null,null,null,null,null,null,null,null,null,null,null,null,null,null,null,null,null,null,null,null,null,null,null,null,null,null,null,null,null,null,null,{"$f":"IF(A28<>\"\",IFERROR(VLOOKUP(M28,Tabelas!B:D,3,0),0),\"\")","v":0},{"$f":"IF(A28<>\"\",IFERROR(VLOOKUP(N28,Tabelas!B:D,3,0),0),\"\")","v":0},{"$f":"IF(A28<>\"\",IFERROR(VLOOKUP(O28,Tabelas!B:D,3,0),0),\"\")","v":0},{"$f":"IF(A28<>\"\",IFERROR(VLOOKUP(P28,Tabelas!B:D,3,0),0),\"\")","v":0},{"$f":"IF(A28<>\"\",IFERROR(VLOOKUP(Q28,Tabelas!B:D,3,0),0),\"\")","v":0},{"$f":"IF(A28<>\"\",IFERROR(VLOOKUP(R28,Tabelas!B:D,3,0),0),\"\")","v":0},{"$f":"IF(A28<>\"\",IFERROR(VLOOKUP(S28,Tabelas!B:D,3,0),0),\"\")","v":0},{"$f":"IF(A28<>\"\",IFERROR(VLOOKUP(T28,Tabelas!B:D,3,0),0),\"\")","v":0},{"$f":"IF(A28<>\"\",IFERROR(VLOOKUP(U28,Tabelas!B:D,3,0),0),\"\")","v":0},{"$f":"IF(A28<>\"\",IFERROR(VLOOKUP(V28,Tabelas!B:D,3,0),0),\"\")","v":0},{"$f":"IF(A28<>\"\",IFERROR(VLOOKUP(W28,Tabelas!B:D,3,0),0),\"\")","v":0},{"$f":"IF(A28<>\"\",IFERROR(VLOOKUP(X28,Tabelas!B:D,3,0),0),\"\")","v":0},{"$f":"IF(A28<>\"\",IFERROR(VLOOKUP(Y28,Tabelas!B:D,3,0),0),\"\")","v":0},{"$f":"IF(A28<>\"\",IFERROR(VLOOKUP(Z28,Tabelas!B:D,3,0),0),\"\")","v":0},{"$f":"IF(A28<>\"\",IFERROR(VLOOKUP(AA28,Tabelas!B:D,3,0),0),\"\")","v":0},{"$f":"IF(A28<>\"\",IFERROR(VLOOKUP(AB28,Tabelas!B:D,3,0),0),\"\")","v":0},{"$f":"IF(A28<>\"\",IFERROR(VLOOKUP(AC28,Tabelas!B:D,3,0),0),\"\")","v":0},{"$f":"IF(A28<>\"\",IFERROR(VLOOKUP(AD28,Tabelas!B:D,3,0),0),\"\")","v":0},{"$f":"IF(A28<>\"\",IFERROR(VLOOKUP(AE28,Tabelas!B:D,3,0),0),\"\")","v":0},{"$f":"IF(A28<>\"\",IFERROR(VLOOKUP(AF28,Tabelas!B:D,3,0),0),\"\")","v":0},{"$f":"IF(A28<>\"\",IFERROR(VLOOKUP(AG28,Tabelas!B:D,3,0),0),\"\")","v":0},{"$f":"IF(A28<>\"\",IFERROR(VLOOKUP(AH28,Tabelas!B:D,3,0),0),\"\")","v":0},{"$f":"IF(A28<>\"\",IFERROR(VLOOKUP(AI28,Tabelas!B:D,3,0),0),\"\")","v":0},{"$f":"IF(A28<>\"\",IFERROR(VLOOKUP(AJ28,Tabelas!B:D,3,0),0),\"\")","v":0},{"$f":"IF(A28<>\"\",IFERROR(VLOOKUP(AK28,Tabelas!B:D,3,0),0),\"\")","v":0},{"$f":"IF(A28<>\"\",IFERROR(VLOOKUP(AL28,Tabelas!B:D,3,0),0),\"\")","v":0},{"$f":"IF(A28<>\"\",IFERROR(VLOOKUP(AM28,Tabelas!B:D,3,0),0),\"\")","v":0},{"$f":"IF(A28<>\"\",IFERROR(VLOOKUP(AN28,Tabelas!B:D,3,0),0),\"\")","v":0},{"$f":"IF(A28<>\"\",IFERROR(VLOOKUP(AO28,Tabelas!B:D,3,0),0),\"\")","v":0},{"$f":"IF(A28<>\"\",IFERROR(VLOOKUP(AP28,Tabelas!B:D,3,0),0),\"\")","v":0},{"$f":"IF(A28<>\"\",IFERROR(VLOOKUP(AQ28,Tabelas!B:D,3,0),0),\"\")","v":0},0,0,0,0,0,0,0,0]
["FULANO 21",21,null,null,null,null,null,null,null,null,null,null,null,null,null,null,null,null,null,null,null,null,null,null,null,null,null,null,null,null,null,null,null,null,null,null,null,null,null,null,null,null,null,{"$f":"IF(A29<>\"\",IFERROR(VLOOKUP(M29,Tabelas!B:D,3,0),0),\"\")","v":0},{"$f":"IF(A29<>\"\",IFERROR(VLOOKUP(N29,Tabelas!B:D,3,0),0),\"\")","v":0},{"$f":"IF(A29<>\"\",IFERROR(VLOOKUP(O29,Tabelas!B:D,3,0),0),\"\")","v":0},{"$f":"IF(A29<>\"\",IFERROR(VLOOKUP(P29,Tabelas!B:D,3,0),0),\"\")","v":0},{"$f":"IF(A29<>\"\",IFERROR(VLOOKUP(Q29,Tabelas!B:D,3,0),0),\"\")","v":0},{"$f":"IF(A29<>\"\",IFERROR(VLOOKUP(R29,Tabelas!B:D,3,0),0),\"\")","v":0},{"$f":"IF(A29<>\"\",IFERROR(VLOOKUP(S29,Tabelas!B:D,3,0),0),\"\")","v":0},{"$f":"IF(A29<>\"\",IFERROR(VLOOKUP(T29,Tabelas!B:D,3,0),0),\"\")","v":0},{"$f":"IF(A29<>\"\",IFERROR(VLOOKUP(U29,Tabelas!B:D,3,0),0),\"\")","v":0},{"$f":"IF(A29<>\"\",IFERROR(VLOOKUP(V29,Tabelas!B:D,3,0),0),\"\")","v":0},{"$f":"IF(A29<>\"\",IFERROR(VLOOKUP(W29,Tabelas!B:D,3,0),0),\"\")","v":0},{"$f":"IF(A29<>\"\",IFERROR(VLOOKUP(X29,Tabelas!B:D,3,0),0),\"\")","v":0},{"$f":"IF(A29<>\"\",IFERROR(VLOOKUP(Y29,Tabelas!B:D,3,0),0),\"\")","v":0},{"$f":"IF(A29<>\"\",IFERROR(VLOOKUP(Z29,Tabelas!B:D,3,0),0),\"\")","v":0},{"$f":"IF(A29<>\"\",IFERROR(VLOOKUP(AA29,Tabelas!B:D,3,0),0),\"\")","v":0},{"$f":"IF(A29<>\"\",IFERROR(VLOOKUP(AB29,Tabelas!B:D,3,0),0),\"\")","v":0},{"$f":"IF(A29<>\"\",IFERROR(VLOOKUP(AC29,Tabelas!B:D,3,0),0),\"\")","v":0},{"$f":"IF(A29<>\"\",IFERROR(VLOOKUP(AD29,Tabelas!B:D,3,0),0),\"\")","v":0},{"$f":"IF(A29<>\"\",IFERROR(VLOOKUP(AE29,Tabelas!B:D,3,0),0),\"\")","v":0},{"$f":"IF(A29<>\"\",IFERROR(VLOOKUP(AF29,Tabelas!B:D,3,0),0),\"\")","v":0},{"$f":"IF(A29<>\"\",IFERROR(VLOOKUP(AG29,Tabelas!B:D,3,0),0),\"\")","v":0},{"$f":"IF(A29<>\"\",IFERROR(VLOOKUP(AH29,Tabelas!B:D,3,0),0),\"\")","v":0},{"$f":"IF(A29<>\"\",IFERROR(VLOOKUP(AI29,Tabelas!B:D,3,0),0),\"\")","v":0},{"$f":"IF(A29<>\"\",IFERROR(VLOOKUP(AJ29,Tabelas!B:D,3,0),0),\"\")","v":0},{"$f":"IF(A29<>\"\",IFERROR(VLOOKUP(AK29,Tabelas!B:D,3,0),0),\"\")","v":0},{"$f":"IF(A29<>\"\",IFERROR(VLOOKUP(AL29,Tabelas!B:D,3,0),0),\"\")","v":0},{"$f":"IF(A29<>\"\",IFERROR(VLOOKUP(AM29,Tabelas!B:D,3,0),0),\"\")","v":0},{"$f":"IF(A29<>\"\",IFERROR(VLOOKUP(AN29,Tabelas!B:D,3,0),0),\"\")","v":0},{"$f":"IF(A29<>\"\",IFERROR(VLOOKUP(AO29,Tabelas!B:D,3,0),0),\"\")","v":0},{"$f":"IF(A29<>\"\",IFERROR(VLOOKUP(AP29,Tabelas!B:D,3,0),0),\"\")","v":0},{"$f":"IF(A29<>\"\",IFERROR(VLOOKUP(AQ29,Tabelas!B:D,3,0),0),\"\")","v":0},0,0,0,0,0,0,0,0]
["FULANO 22",22,null,null,null,null,null,null,null,null,null,null,null,null,null,null,null,null,null,null,null,null,null,null,null,null,null,null,null,null,null,null,null,null,null,null,null,null,null,null,null,null,null,{"$f":"IF(A30<>\"\",IFERROR(VLOOKUP(M30,Tabelas!B:D,3,0),0),\"\")","v":0},{"$f":"IF(A30<>\"\",IFERROR(VLOOKUP(N30,Tabelas!B:D,3,0),0),\"\")","v":0},{"$f":"IF(A30<>\"\",IFERROR(VLOOKUP(O30,Tabelas!B:D,3,0),0),\"\")","v":0},{"$f":"IF(A30<>\"\",IFERROR(VLOOKUP(P30,Tabelas!B:D,3,0),0),\"\")","v":0},{"$f":"IF(A30<>\"\",IFERROR(VLOOKUP(Q30,Tabelas!B:D,3,0),0),\"\")","v":0},{"$f":"IF(A30<>\"\",IFERROR(VLOOKUP(R30,Tabelas!B:D,3,0),0),\"\")","v":0},{"$f":"IF(A30<>\"\",IFERROR(VLOOKUP(S30,Tabelas!B:D,3,0),0),\"\")","v":0},{"$f":"IF(A30<>\"\",IFERROR(VLOOKUP(T30,Tabelas!B:D,3,0),0),\"\")","v":0},{"$f":"IF(A30<>\"\",IFERROR(VLOOKUP(U30,Tabelas!B:D,3,0),0),\"\")","v":0},{"$f":"IF(A30<>\"\",IFERROR(VLOOKUP(V30,Tabelas!B:D,3,0),0),\"\")","v":0},{"$f":"IF(A30<>\"\",IFERROR(VLOOKUP(W30,Tabelas!B:D,3,0),0),\"\")","v":0},{"$f":"IF(A30<>\"\",IFERROR(VLOOKUP(X30,Tabelas!B:D,3,0),0),\"\")","v":0},{"$f":"IF(A30<>\"\",IFERROR(VLOOKUP(Y30,Tabelas!B:D,3,0),0),\"\")","v":0},{"$f":"IF(A30<>\"\",IFERROR(VLOOKUP(Z30,Tabelas!B:D,3,0),0),\"\")","v":0},{"$f":"IF(A30<>\"\",IFERROR(VLOOKUP(AA30,Tabelas!B:D,3,0),0),\"\")","v":0},{"$f":"IF(A30<>\"\",IFERROR(VLOOKUP(AB30,Tabelas!B:D,3,0),0),\"\")","v":0},{"$f":"IF(A30<>\"\",IFERROR(VLOOKUP(AC30,Tabelas!B:D,3,0),0),\"\")","v":0},{"$f":"IF(A30<>\"\",IFERROR(VLOOKUP(AD30,Tabelas!B:D,3,0),0),\"\")","v":0},{"$f":"IF(A30<>\"\",IFERROR(VLOOKUP(AE30,Tabelas!B:D,3,0),0),\"\")","v":0},{"$f":"IF(A30<>\"\",IFERROR(VLOOKUP(AF30,Tabelas!B:D,3,0),0),\"\")","v":0},{"$f":"IF(A30<>\"\",IFERROR(VLOOKUP(AG30,Tabelas!B:D,3,0),0),\"\")","v":0},{"$f":"IF(A30<>\"\",IFERROR(VLOOKUP(AH30,Tabelas!B:D,3,0),0),\"\")","v":0},{"$f":"IF(A30<>\"\",IFERROR(VLOOKUP(AI30,Tabelas!B:D,3,0),0),\"\")","v":0},{"$f":"IF(A30<>\"\",IFERROR(VLOOKUP(AJ30,Tabelas!B:D,3,0),0),\"\")","v":0},{"$f":"IF(A30<>\"\",IFERROR(VLOOKUP(AK30,Tabelas!B:D,3,0),0),\"\")","v":0},{"$f":"IF(A30<>\"\",IFERROR(VLOOKUP(AL30,Tabelas!B:D,3,0),0),\"\")","v":0},{"$f":"IF(A30<>\"\",IFERROR(VLOOKUP(AM30,Tabelas!B:D,3,0),0),\"\")","v":0},{"$f":"IF(A30<>\"\",IFERROR(VLOOKUP(AN30,Tabelas!B:D,3,0),0),\"\")","v":0},{"$f":"IF(A30<>\"\",IFERROR(VLOOKUP(AO30,Tabelas!B:D,3,0),0),\"\")","v":0},{"$f":"IF(A30<>\"\",IFERROR(VLOOKUP(AP30,Tabelas!B:D,3,0),0),\"\")","v":0},{"$f":"IF(A30<>\"\",IFERROR(VLOOKUP(AQ30,Tabelas!B:D,3,0),0),\"\")","v":0},0,0,0,0,0,0,0,0]
["FULANO 23",23,null,null,null,null,null,null,null,null,null,null,null,null,null,null,null,null,null,null,null,null,null,null,null,null,null,null,null,null,null,null,null,null,null,null,null,null,null,null,null,null,null,{"$f":"IF(A31<>\"\",IFERROR(VLOOKUP(M31,Tabelas!B:D,3,0),0),\"\")","v":0},{"$f":"IF(A31<>\"\",IFERROR(VLOOKUP(N31,Tabelas!B:D,3,0),0),\"\")","v":0},{"$f":"IF(A31<>\"\",IFERROR(VLOOKUP(O31,Tabelas!B:D,3,0),0),\"\")","v":0},{"$f":"IF(A31<>\"\",IFERROR(VLOOKUP(P31,Tabelas!B:D,3,0),0),\"\")","v":0},{"$f":"IF(A31<>\"\",IFERROR(VLOOKUP(Q31,Tabelas!B:D,3,0),0),\"\")","v":0},{"$f":"IF(A31<>\"\",IFERROR(VLOOKUP(R31,Tabelas!B:D,3,0),0),\"\")","v":0},{"$f":"IF(A31<>\"\",IFERROR(VLOOKUP(S31,Tabelas!B:D,3,0),0),\"\")","v":0},{"$f":"IF(A31<>\"\",IFERROR(VLOOKUP(T31,Tabelas!B:D,3,0),0),\"\")","v":0},{"$f":"IF(A31<>\"\",IFERROR(VLOOKUP(U31,Tabelas!B:D,3,0),0),\"\")","v":0},{"$f":"IF(A31<>\"\",IFERROR(VLOOKUP(V31,Tabelas!B:D,3,0),0),\"\")","v":0},{"$f":"IF(A31<>\"\",IFERROR(VLOOKUP(W31,Tabelas!B:D,3,0),0),\"\")","v":0},{"$f":"IF(A31<>\"\",IFERROR(VLOOKUP(X31,Tabelas!B:D,3,0),0),\"\")","v":0},{"$f":"IF(A31<>\"\",IFERROR(VLOOKUP(Y31,Tabelas!B:D,3,0),0),\"\")","v":0},{"$f":"IF(A31<>\"\",IFERROR(VLOOKUP(Z31,Tabelas!B:D,3,0),0),\"\")","v":0},{"$f":"IF(A31<>\"\",IFERROR(VLOOKUP(AA31,Tabelas!B:D,3,0),0),\"\")","v":0},{"$f":"IF(A31<>\"\",IFERROR(VLOOKUP(AB31,Tabelas!B:D,3,0),0),\"\")","v":0},{"$f":"IF(A31<>\"\",IFERROR(VLOOKUP(AC31,Tabelas!B:D,3,0),0),\"\")","v":0},{"$f":"IF(A31<>\"\",IFERROR(VLOOKUP(AD31,Tabelas!B:D,3,0),0),\"\")","v":0},{"$f":"IF(A31<>\"\",IFERROR(VLOOKUP(AE31,Tabelas!B:D,3,0),0),\"\")","v":0},{"$f":"IF(A31<>\"\",IFERROR(VLOOKUP(AF31,Tabelas!B:D,3,0),0),\"\")","v":0},{"$f":"IF(A31<>\"\",IFERROR(VLOOKUP(AG31,Tabelas!B:D,3,0),0),\"\")","v":0},{"$f":"IF(A31<>\"\",IFERROR(VLOOKUP(AH31,Tabelas!B:D,3,0),0),\"\")","v":0},{"$f":"IF(A31<>\"\",IFERROR(VLOOKUP(AI31,Tabelas!B:D,3,0),0),\"\")","v":0},{"$f":"IF(A31<>\"\",IFERROR(VLOOKUP(AJ31,Tabelas!B:D,3,0),0),\"\")","v":0},{"$f":"IF(A31<>\"\",IFERROR(VLOOKUP(AK31,Tabelas!B:D,3,0),0),\"\")","v":0},{"$f":"IF(A31<>\"\",IFERROR(VLOOKUP(AL31,Tabelas!B:D,3,0),0),\"\")","v":0},{"$f":"IF(A31<>\"\",IFERROR(VLOOKUP(AM31,Tabelas!B:D,3,0),0),\"\")","v":0},{"$f":"IF(A31<>\"\",IFERROR(VLOOKUP(AN31,Tabelas!B:D,3,0),0),\"\")","v":0},{"$f":"IF(A31<>\"\",IFERROR(VLOOKUP(AO31,Tabelas!B:D,3,0),0),\"\")","v":0},{"$f":"IF(A31<>\"\",IFERROR(VLOOKUP(AP31,Tabelas!B:D,3,0),0),\"\")","v":0},{"$f":"IF(A31<>\"\",IFERROR(VLOOKUP(AQ31,Tabelas!B:D,3,0),0),\"\")","v":0},0,0,0,0,0,0,0,0]
["FULANO 24",24,null,null,null,null,null,null,null,null,null,null,null,null,null,null,null,null,null,null,null,null,null,null,null,null,null,null,null,null,null,null,null,null,null,null,null,null,null,null,null,null,null,{"$f":"IF(A32<>\"\",IFERROR(VLOOKUP(M32,Tabelas!B:D,3,0),0),\"\")","v":0},{"$f":"IF(A32<>\"\",IFERROR(VLOOKUP(N32,Tabelas!B:D,3,0),0),\"\")","v":0},{"$f":"IF(A32<>\"\",IFERROR(VLOOKUP(O32,Tabelas!B:D,3,0),0),\"\")","v":0},{"$f":"IF(A32<>\"\",IFERROR(VLOOKUP(P32,Tabelas!B:D,3,0),0),\"\")","v":0},{"$f":"IF(A32<>\"\",IFERROR(VLOOKUP(Q32,Tabelas!B:D,3,0),0),\"\")","v":0},{"$f":"IF(A32<>\"\",IFERROR(VLOOKUP(R32,Tabelas!B:D,3,0),0),\"\")","v":0},{"$f":"IF(A32<>\"\",IFERROR(VLOOKUP(S32,Tabelas!B:D,3,0),0),\"\")","v":0},{"$f":"IF(A32<>\"\",IFERROR(VLOOKUP(T32,Tabelas!B:D,3,0),0),\"\")","v":0},{"$f":"IF(A32<>\"\",IFERROR(VLOOKUP(U32,Tabelas!B:D,3,0),0),\"\")","v":0},{"$f":"IF(A32<>\"\",IFERROR(VLOOKUP(V32,Tabelas!B:D,3,0),0),\"\")","v":0},{"$f":"IF(A32<>\"\",IFERROR(VLOOKUP(W32,Tabelas!B:D,3,0),0),\"\")","v":0},{"$f":"IF(A32<>\"\",IFERROR(VLOOKUP(X32,Tabelas!B:D,3,0),0),\"\")","v":0},{"$f":"IF(A32<>\"\",IFERROR(VLOOKUP(Y32,Tabelas!B:D,3,0),0),\"\")","v":0},{"$f":"IF(A32<>\"\",IFERROR(VLOOKUP(Z32,Tabelas!B:D,3,0),0),\"\")","v":0},{"$f":"IF(A32<>\"\",IFERROR(VLOOKUP(AA32,Tabelas!B:D,3,0),0),\"\")","v":0},{"$f":"IF(A32<>\"\",IFERROR(VLOOKUP(AB32,Tabelas!B:D,3,0),0),\"\")","v":0},{"$f":"IF(A32<>\"\",IFERROR(VLOOKUP(AC32,Tabelas!B:D,3,0),0),\"\")","v":0},{"$f":"IF(A32<>\"\",IFERROR(VLOOKUP(AD32,Tabelas!B:D,3,0),0),\"\")","v":0},{"$f":"IF(A32<>\"\",IFERROR(VLOOKUP(AE32,Tabelas!B:D,3,0),0),\"\")","v":0},{"$f":"IF(A32<>\"\",IFERROR(VLOOKUP(AF32,Tabelas!B:D,3,0),0),\"\")","v":0},{"$f":"IF(A32<>\"\",IFERROR(VLOOKUP(AG32,Tabelas!B:D,3,0),0),\"\")","v":0},{"$f":"IF(A32<>\"\",IFERROR(VLOOKUP(AH32,Tabelas!B:D,3,0),0),\"\")","v":0},{"$f":"IF(A32<>\"\",IFERROR(VLOOKUP(AI32,Tabelas!B:D,3,0),0),\"\")","v":0},{"$f":"IF(A32<>\"\",IFERROR(VLOOKUP(AJ32,Tabelas!B:D,3,0),0),\"\")","v":0},{"$f":"IF(A32<>\"\",IFERROR(VLOOKUP(AK32,Tabelas!B:D,3,0),0),\"\")","v":0},{"$f":"IF(A32<>\"\",IFERROR(VLOOKUP(AL32,Tabelas!B:D,3,0),0),\"\")","v":0},{"$f":"IF(A32<>\"\",IFERROR(VLOOKUP(AM32,Tabelas!B:D,3,0),0),\"\")","v":0},{"$f":"IF(A32<>\"\",IFERROR(VLOOKUP(AN32,Tabelas!B:D,3,0),0),\"\")","v":0},{"$f":"IF(A32<>\"\",IFERROR(VLOOKUP(AO32,Tabelas!B:D,3,0),0),\"\")","v":0},{"$f":"IF(A32<>\"\",IFERROR(VLOOKUP(AP32,Tabelas!B:D,3,0),0),\"\")","v":0},{"$f":"IF(A32<>\"\",IFERROR(VLOOKUP(AQ32,Tabelas!B:D,3,0),0),\"\")","v":0},0,0,0,0,0,0,0,0]
["FULANO 25",25,null,null,null,null,null,null,null,null,null,null,null,null,null,null,null,null,null,null,null,null,null,null,null,null,null,null,null,null,null,null,null,null,null,null,null,null,null,null,null,null,null,{"$f":"IF(A33<>\"\",IFERROR(VLOOKUP(M33,Tabelas!B:D,3,0),0),\"\")","v":0},{"$f":"IF(A33<>\"\",IFERROR(VLOOKUP(N33,Tabelas!B:D,3,0),0),\"\")","v":0},{"$f":"IF(A33<>\"\",IFERROR(VLOOKUP(O33,Tabelas!B:D,3,0),0),\"\")","v":0},{"$f":"IF(A33<>\"\",IFERROR(VLOOKUP(P33,Tabelas!B:D,3,0),0),\"\")","v":0},{"$f":"IF(A33<>\"\",IFERROR(VLOOKUP(Q33,Tabelas!B:D,3,0),0),\"\")","v":0},{"$f":"IF(A33<>\"\",IFERROR(VLOOKUP(R33,Tabelas!B:D,3,0),0),\"\")","v":0},{"$f":"IF(A33<>\"\",IFERROR(VLOOKUP(S33,Tabelas!B:D,3,0),0),\"\")","v":0},{"$f":"IF(A33<>\"\",IFERROR(VLOOKUP(T33,Tabelas!B:D,3,0),0),\"\")","v":0},{"$f":"IF(A33<>\"\",IFERROR(VLOOKUP(U33,Tabelas!B:D,3,0),0),\"\")","v":0},{"$f":"IF(A33<>\"\",IFERROR(VLOOKUP(V33,Tabelas!B:D,3,0),0),\"\")","v":0},{"$f":"IF(A33<>\"\",IFERROR(VLOOKUP(W33,Tabelas!B:D,3,0),0),\"\")","v":0},{"$f":"IF(A33<>\"\",IFERROR(VLOOKUP(X33,Tabelas!B:D,3,0),0),\"\")","v":0},{"$f":"IF(A33<>\"\",IFERROR(VLOOKUP(Y33,Tabelas!B:D,3,0),0),\"\")","v":0},{"$f":"IF(A33<>\"\",IFERROR(VLOOKUP(Z33,Tabelas!B:D,3,0),0),\"\")","v":0},{"$f":"IF(A33<>\"\",IFERROR(VLOOKUP(AA33,Tabelas!B:D,3,0),0),\"\")","v":0},{"$f":"IF(A33<>\"\",IFERROR(VLOOKUP(AB33,Tabelas!B:D,3,0),0),\"\")","v":0},{"$f":"IF(A33<>\"\",IFERROR(VLOOKUP(AC33,Tabelas!B:D,3,0),0),\"\")","v":0},{"$f":"IF(A33<>\"\",IFERROR(VLOOKUP(AD33,Tabelas!B:D,3,0),0),\"\")","v":0},{"$f":"IF(A33<>\"\",IFERROR(VLOOKUP(AE33,Tabelas!B:D,3,0),0),\"\")","v":0},{"$f":"IF(A33<>\"\",IFERROR(VLOOKUP(AF33,Tabelas!B:D,3,0),0),\"\")","v":0},{"$f":"IF(A33<>\"\",IFERROR(VLOOKUP(AG33,Tabelas!B:D,3,0),0),\"\")","v":0},{"$f":"IF(A33<>\"\",IFERROR(VLOOKUP(AH33,Tabelas!B:D,3,0),0),\"\")","v":0},{"$f":"IF(A33<>\"\",IFERROR(VLOOKUP(AI33,Tabelas!B:D,3,0),0),\"\")","v":0},{"$f":"IF(A33<>\"\",IFERROR(VLOOKUP(AJ33,Tabelas!B:D,3,0),0),\"\")","v":0},{"$f":"IF(A33<>\"\",IFERROR(VLOOKUP(AK33,Tabelas!B:D,3,0),0),\"\")","v":0},{"$f":"IF(A33<>\"\",IFERROR(VLOOKUP(AL33,Tabelas!B:D,3,0),0),\"\")","v":0},{"$f":"IF(A33<>\"\",IFERROR(VLOOKUP(AM33,Tabelas!B:D,3,0),0),\"\")","v":0},{"$f":"IF(A33<>\"\",IFERROR(VLOOKUP(AN33,Tabelas!B:D,3,0),0),\"\")","v":0},{"$f":"IF(A33<>\"\",IFERROR(VLOOKUP(AO33,Tabelas!B:D,3,0),0),\"\")","v":0},{"$f":"IF(A33<>\"\",IFERROR(VLOOKUP(AP33,Tabelas!B:D,3,0),0),\"\")","v":0},{"$f":"IF(A33<>\"\",IFERROR(VLOOKUP(AQ33,Tabelas!B:D,3,0),0),\"\")","v":0},0,0,0,0,0,0,0,0]
["FULANO 26",26,null,null,null,null,null,null,null,null,null,null,null,null,null,null,null,null,null,null,null,null,null,null,null,null,null,null,null,null,null,null,null,null,null,null,null,null,null,null,null,null,null,{"$f":"IF(A34<>\"\",IFERROR(VLOOKUP(M34,Tabelas!B:D,3,0),0),\"\")","v":0},{"$f":"IF(A34<>\"\",IFERROR(VLOOKUP(N34,Tabelas!B:D,3,0),0),\"\")","v":0},{"$f":"IF(A34<>\"\",IFERROR(VLOOKUP(O34,Tabelas!B:D,3,0),0),\"\")","v":0},{"$f":"IF(A34<>\"\",IFERROR(VLOOKUP(P34,Tabelas!B:D,3,0),0),\"\")","v":0},{"$f":"IF(A34<>\"\",IFERROR(VLOOKUP(Q34,Tabelas!B:D,3,0),0),\"\")","v":0},{"$f":"IF(A34<>\"\",IFERROR(VLOOKUP(R34,Tabelas!B:D,3,0),0),\"\")","v":0},{"$f":"IF(A34<>\"\",IFERROR(VLOOKUP(S34,Tabelas!B:D,3,0),0),\"\")","v":0},{"$f":"IF(A34<>\"\",IFERROR(VLOOKUP(T34,Tabelas!B:D,3,0),0),\"\")","v":0},{"$f":"IF(A34<>\"\",IFERROR(VLOOKUP(U34,Tabelas!B:D,3,0),0),\"\")","v":0},{"$f":"IF(A34<>\"\",IFERROR(VLOOKUP(V34,Tabelas!B:D,3,0),0),\"\")","v":0},{"$f":"IF(A34<>\"\",IFERROR(VLOOKUP(W34,Tabelas!B:D,3,0),0),\"\")","v":0},{"$f":"IF(A34<>\"\",IFERROR(VLOOKUP(X34,Tabelas!B:D,3,0),0),\"\")","v":0},{"$f":"IF(A34<>\"\",IFERROR(VLOOKUP(Y34,Tabelas!B:D,3,0),0),\"\")","v":0},{"$f":"IF(A34<>\"\",IFERROR(VLOOKUP(Z34,Tabelas!B:D,3,0),0),\"\")","v":0},{"$f":"IF(A34<>\"\",IFERROR(VLOOKUP(AA34,Tabelas!B:D,3,0),0),\"\")","v":0},{"$f":"IF(A34<>\"\",IFERROR(VLOOKUP(AB34,Tabelas!B:D,3,0),0),\"\")","v":0},{"$f":"IF(A34<>\"\",IFERROR(VLOOKUP(AC34,Tabelas!B:D,3,0),0),\"\")","v":0},{"$f":"IF(A34<>\"\",IFERROR(VLOOKUP(AD34,Tabelas!B:D,3,0),0),\"\")","v":0},{"$f":"IF(A34<>\"\",IFERROR(VLOOKUP(AE34,Tabelas!B:D,3,0),0),\"\")","v":0},{"$f":"IF(A34<>\"\",IFERROR(VLOOKUP(AF34,Tabelas!B:D,3,0),0),\"\")","v":0},{"$f":"IF(A34<>\"\",IFERROR(VLOOKUP(AG34,Tabelas!B:D,3,0),0),\"\")","v":0},{"$f":"IF(A34<>\"\",IFERROR(VLOOKUP(AH34,Tabelas!B:D,3,0),0),\"\")","v":0},{"$f":"IF(A34<>\"\",IFERROR(VLOOKUP(AI34,Tabelas!B:D,3,0),0),\"\")","v":0},{"$f":"IF(A34<>\"\",IFERROR(VLOOKUP(AJ34,Tabelas!B:D,3,0),0),\"\")","v":0},{"$f":"IF(A34<>\"\",IFERROR(VLOOKUP(AK34,Tabelas!B:D,3,0),0),\"\")","v":0},{"$f":"IF(A34<>\"\",IFERROR(VLOOKUP(AL34,Tabelas!B:D,3,0),0),\"\")","v":0},{"$f":"IF(A34<>\"\",IFERROR(VLOOKUP(AM34,Tabelas!B:D,3,0),0),\"\")","v":0},{"$f":"IF(A34<>\"\",IFERROR(VLOOKUP(AN34,Tabelas!B:D,3,0),0),\"\")","v":0},{"$f":"IF(A34<>\"\",IFERROR(VLOOKUP(AO34,Tabelas!B:D,3,0),0),\"\")","v":0},{"$f":"IF(A34<>\"\",IFERROR(VLOOKUP(AP34,Tabelas!B:D,3,0),0),\"\")","v":0},{"$f":"IF(A34<>\"\",IFERROR(VLOOKUP(AQ34,Tabelas!B:D,3,0),0),\"\")","v":0},0,0,0,0,0,0,0,0]
["FULANO 27",27,null,null,null,null,null,null,null,null,null,null,null,null,null,null,null,null,null,null,null,null,null,null,null,null,null,null,null,null,null,null,null,null,null,null,null,null,null,null,null,null,null,{"$f":"IF(A35<>\"\",IFERROR(VLOOKUP(M35,Tabelas!B:D,3,0),0),\"\")","v":0},{"$f":"IF(A35<>\"\",IFERROR(VLOOKUP(N35,Tabelas!B:D,3,0),0),\"\")","v":0},{"$f":"IF(A35<>\"\",IFERROR(VLOOKUP(O35,Tabelas!B:D,3,0),0),\"\")","v":0},{"$f":"IF(A35<>\"\",IFERROR(VLOOKUP(P35,Tabelas!B:D,3,0),0),\"\")","v":0},{"$f":"IF(A35<>\"\",IFERROR(VLOOKUP(Q35,Tabelas!B:D,3,0),0),\"\")","v":0},{"$f":"IF(A35<>\"\",IFERROR(VLOOKUP(R35,Tabelas!B:D,3,0),0),\"\")","v":0},{"$f":"IF(A35<>\"\",IFERROR(VLOOKUP(S35,Tabelas!B:D,3,0),0),\"\")","v":0},{"$f":"IF(A35<>\"\",IFERROR(VLOOKUP(T35,Tabelas!B:D,3,0),0),\"\")","v":0},{"$f":"IF(A35<>\"\",IFERROR(VLOOKUP(U35,Tabelas!B:D,3,0),0),\"\")","v":0},{"$f":"IF(A35<>\"\",IFERROR(VLOOKUP(V35,Tabelas!B:D,3,0),0),\"\")","v":0},{"$f":"IF(A35<>\"\",IFERROR(VLOOKUP(W35,Tabelas!B:D,3,0),0),\"\")","v":0},{"$f":"IF(A35<>\"\",IFERROR(VLOOKUP(X35,Tabelas!B:D,3,0),0),\"\")","v":0},{"$f":"IF(A35<>\"\",IFERROR(VLOOKUP(Y35,Tabelas!B:D,3,0),0),\"\")","v":0},{"$f":"IF(A35<>\"\",IFERROR(VLOOKUP(Z35,Tabelas!B:D,3,0),0),\"\")","v":0},{"$f":"IF(A35<>\"\",IFERROR(VLOOKUP(AA35,Tabelas!B:D,3,0),0),\"\")","v":0},{"$f":"IF(A35<>\"\",IFERROR(VLOOKUP(AB35,Tabelas!B:D,3,0),0),\"\")","v":0},{"$f":"IF(A35<>\"\",IFERROR(VLOOKUP(AC35,Tabelas!B:D,3,0),0),\"\")","v":0},{"$f":"IF(A35<>\"\",IFERROR(VLOOKUP(AD35,Tabelas!B:D,3,0),0),\"\")","v":0},{"$f":"IF(A35<>\"\",IFERROR(VLOOKUP(AE35,Tabelas!B:D,3,0),0),\"\")","v":0},{"$f":"IF(A35<>\"\",IFERROR(VLOOKUP(AF35,Tabelas!B:D,3,0),0),\"\")","v":0},{"$f":"IF(A35<>\"\",IFERROR(VLOOKUP(AG35,Tabelas!B:D,3,0),0),\"\")","v":0},{"$f":"IF(A35<>\"\",IFERROR(VLOOKUP(AH35,Tabelas!B:D,3,0),0),\"\")","v":0},{"$f":"IF(A35<>\"\",IFERROR(VLOOKUP(AI35,Tabelas!B:D,3,0),0),\"\")","v":0},{"$f":"IF(A35<>\"\",IFERROR(VLOOKUP(AJ35,Tabelas!B:D,3,0),0),\"\")","v":0},{"$f":"IF(A35<>\"\",IFERROR(VLOOKUP(AK35,Tabelas!B:D,3,0),0),\"\")","v":0},{"$f":"IF(A35<>\"\",IFERROR(VLOOKUP(AL35,Tabelas!B:D,3,0),0),\"\")","v":0},{"$f":"IF(A35<>\"\",IFERROR(VLOOKUP(AM35,Tabelas!B:D,3,0),0),\"\")","v":0},{"$f":"IF(A35<>\"\",IFERROR(VLOOKUP(AN35,Tabelas!B:D,3,0),0),\"\")","v":0},{"$f":"IF(A35<>\"\",IFERROR(VLOOKUP(AO35,Tabelas!B:D,3,0),0),\"\")","v":0},{"$f":"IF(A35<>\"\",IFERROR(VLOOKUP(AP35,Tabelas!B:D,3,0),0),\"\")","v":0},{"$f":"IF(A35<>\"\",IFERROR(VLOOKUP(AQ35,Tabelas!B:D,3,0),0),\"\")","v":0},0,0,0,0,0,0,0,0]
["TOTAL PROFISSIONAIS MATUTINO",null,null,null,null,null,null,null,null,null,null,null,{"$f":"IF(COUNTIF(M9:M35,\"M*\")+ COUNTIF(M9:M35, \"D*\")-COUNTIF(M9:M35,\"DSR\")<>0,COUNTIF(M9:M35,\"M*\")+ COUNTIF(M9:M35, \"D*\")-COUNTIF(M9:M35,\"DSR\"),\"\")","v":""},"","",1,1,1,1,"","","",1,1,1,1,"","","",1,1,1,1,"","","",1,1,1,1,"","","",null,null,null,null,null,null,null,null,null,null,null,null,null,null,null,null,null,null,null,null,null,null,null,null,null,null,null,null,null,null,null,{"$f":"SUM(BW9:BW35)","v":120},0,0,0,0,0,0,0]
["TOTAL DE PROFISSIONAIS VESPERTINO",null,null,null,null,null,null,null,null,null,null,null,{"$f":"IF(COUNTIF(M9:M35,\"MT*\") + COUNTIF(M9:M35, \"D*\") + COUNTIF(M9:M35,\"T*\")-COUNTIF(M9:M35,\"DSR\")<>0,COUNTIF(M9:M35,\"MT*\") + COUNTIF(M9:M35, \"D*\") + COUNTIF(M9:M35,\"T*\")-COUNTIF(M9:M35,\"DSR\"),\"\")","v":""},"","",1,1,1,"","","","",1,1,1,"","","","",1,1,1,"","","","",1,1,1,"","","","",{"$f":"IF(A37<>\"\",IFERROR(VLOOKUP(M37,Tabelas!B:D,3,0),0),\"\")","v":0},{"$f":"IF(A37<>\"\",IFERROR(VLOOKUP(N37,Tabelas!B:D,3,0),0),\"\")","v":0},{"$f":"IF(A37<>\"\",IFERROR(VLOOKUP(O37,Tabelas!B:D,3,0),0),\"\")","v":0},{"$f":"IF(A37<>\"\",IFERROR(VLOOKUP(P37,Tabelas!B:D,3,0),0),\"\")","v":0},{"$f":"IF(A37<>\"\",IFERROR(VLOOKUP(Q37,Tabelas!B:D,3,0),0),\"\")","v":0},{"$f":"IF(A37<>\"\",IFERROR(VLOOKUP(R37,Tabelas!B:D,3,0),0),\"\")","v":0},{"$f":"IF(A37<>\"\",IFERROR(VLOOKUP(S37,Tabelas!B:D,3,0),0),\"\")","v":0},{"$f":"IF(A37<>\"\",IFERROR(VLOOKUP(T37,Tabelas!B:D,3,0),0),\"\")","v":0},{"$f":"IF(A37<>\"\",IFERROR(VLOOKUP(U37,Tabelas!B:D,3,0),0),\"\")","v":0},{"$f":"IF(A37<>\"\",IFERROR(VLOOKUP(V37,Tabelas!B:D,3,0),0),\"\")","v":0},{"$f":"IF(A37<>\"\",IFERROR(VLOOKUP(W37,Tabelas!B:D,3,0),0),\"\")","v":0},{"$f":"IF(A37<>\"\",IFERROR(VLOOKUP(X37,Tabelas!B:D,3,0),0),\"\")","v":0},{"$f":"IF(A37<>\"\",IFERROR(VLOOKUP(Y37,Tabelas!B:D,3,0),0),\"\")","v":0},{"$f":"IF(A37<>\"\",IFERROR(VLOOKUP(Z37,Tabelas!B:D,3,0),0),\"\")","v":0},{"$f":"IF(A37<>\"\",IFERROR(VLOOKUP(AA37,Tabelas!B:D,3,0),0),\"\")","v":0},{"$f":"IF(A37<>\"\",IFERROR(VLOOKUP(AB37,Tabelas!B:D,3,0),0),\"\")","v":0},{"$f":"IF(A37<>\"\",IFERROR(VLOOKUP(AC37,Tabelas!B:D,3,0),0),\"\")","v":0},{"$f":"IF(A37<>\"\",IFERROR(VLOOKUP(AD37,Tabelas!B:D,3,0),0),\"\")","v":0},{"$f":"IF(A37<>\"\",IFERROR(VLOOKUP(AE37,Tabelas!B:D,3,0),0),\"\")","v":0},{"$f":"IF(A37<>\"\",IFERROR(VLOOKUP(AF37,Tabelas!B:D,3,0),0),\"\")","v":0},{"$f":"IF(A37<>\"\",IFERROR(VLOOKUP(AG37,Tabelas!B:D,3,0),0),\"\")","v":0},{"$f":"IF(A37<>\"\",IFERROR(VLOOKUP(AH37,Tabelas!B:D,3,0),0),\"\")","v":0},{"$f":"IF(A37<>\"\",IFERROR(VLOOKUP(AI37,Tabelas!B:D,3,0),0),\"\")","v":0},{"$f":"IF(A37<>\"\",IFERROR(VLOOKUP(AJ37,Tabelas!B:D,3,0),0),\"\")","v":0},{"$f":"IF(A37<>\"\",IFERROR(VLOOKUP(AK37,Tabelas!B:D,3,0),0),\"\")","v":0},{"$f":"IF(A37<>\"\",IFERROR(VLOOKUP(AL37,Tabelas!B:D,3,0),0),\"\")","v":0},{"$f":"IF(A37<>\"\",IFERROR(VLOOKUP(AM37,Tabelas!B:D,3,0),0),\"\")","v":0},{"$f":"IF(A37<>\"\",IFERROR(VLOOKUP(AN37,Tabelas!B:D,3,0),0),\"\")","v":0},{"$f":"IF(A37<>\"\",IFERROR(VLOOKUP(AO37,Tabelas!B:D,3,0),0),\"\")","v":0},{"$f":"IF(A37<>\"\",IFERROR(VLOOKUP(AP37,Tabelas!B:D,3,0),0),\"\")","v":0},{"$f":"IF(A37<>\"\",IFERROR(VLOOKUP(AQ37,Tabelas!B:D,3,0),0),\"\")","v":0}]
["TOTAL DE PROFISSIONAIS NOTURNO",null,null,null,null,null,null,null,null,null,null,null,{"$f":"IF(COUNTIF(M9:M37,\"N?*\") + COUNTIF(M9:M37, \"DN*\")<>0,COUNTIF(M9:M37,\"N?*\") + COUNTIF(M9:M37, \"DN*\"),\"\")","v":""},"","","","","","","","","","","","","","","","","","","","","","","","","","","","","","",{"$f":"IF(A38<>\"\",IFERROR(VLOOKUP(M38,Tabelas!B:D,3,0),0),\"\")","v":0},{"$f":"IF(A38<>\"\",IFERROR(VLOOKUP(N38,Tabelas!B:D,3,0),0),\"\")","v":0},{"$f":"IF(A38<>\"\",IFERROR(VLOOKUP(O38,Tabelas!B:D,3,0),0),\"\")","v":0},{"$f":"IF(A38<>\"\",IFERROR(VLOOKUP(P38,Tabelas!B:D,3,0),0),\"\")","v":0},{"$f":"IF(A38<>\"\",IFERROR(VLOOKUP(Q38,Tabelas!B:D,3,0),0),\"\")","v":0},{"$f":"IF(A38<>\"\",IFERROR(VLOOKUP(R38,Tabelas!B:D,3,0),0),\"\")","v":0},{"$f":"IF(A38<>\"\",IFERROR(VLOOKUP(S38,Tabelas!B:D,3,0),0),\"\")","v":0},{"$f":"IF(A38<>\"\",IFERROR(VLOOKUP(T38,Tabelas!B:D,3,0),0),\"\")","v":0},{"$f":"IF(A38<>\"\",IFERROR(VLOOKUP(U38,Tabelas!B:D,3,0),0),\"\")","v":0},{"$f":"IF(A38<>\"\",IFERROR(VLOOKUP(V38,Tabelas!B:D,3,0),0),\"\")","v":0},{"$f":"IF(A38<>\"\",IFERROR(VLOOKUP(W38,Tabelas!B:D,3,0),0),\"\")","v":0},{"$f":"IF(A38<>\"\",IFERROR(VLOOKUP(X38,Tabelas!B:D,3,0),0),\"\")","v":0},{"$f":"IF(A38<>\"\",IFERROR(VLOOKUP(Y38,Tabelas!B:D,3,0),0),\"\")","v":0},{"$f":"IF(A38<>\"\",IFERROR(VLOOKUP(Z38,Tabelas!B:D,3,0),0),\"\")","v":0},{"$f":"IF(A38<>\"\",IFERROR(VLOOKUP(AA38,Tabelas!B:D,3,0),0),\"\")","v":0},{"$f":"IF(A38<>\"\",IFERROR(VLOOKUP(AB38,Tabelas!B:D,3,0),0),\"\")","v":0},{"$f":"IF(A38<>\"\",IFERROR(VLOOKUP(AC38,Tabelas!B:D,3,0),0),\"\")","v":0},{"$f":"IF(A38<>\"\",IFERROR(VLOOKUP(AD38,Tabelas!B:D,3,0),0),\"\")","v":0},{"$f":"IF(A38<>\"\",IFERROR(VLOOKUP(AE38,Tabelas!B:D,3,0),0),\"\")","v":0},{"$f":"IF(A38<>\"\",IFERROR(VLOOKUP(AF38,Tabelas!B:D,3,0),0),\"\")","v":0},{"$f":"IF(A38<>\"\",IFERROR(VLOOKUP(AG38,Tabelas!B:D,3,0),0),\"\")","v":0},{"$f":"IF(A38<>\"\",IFERROR(VLOOKUP(AH38,Tabelas!B:D,3,0),0),\"\")","v":0},{"$f":"IF(A38<>\"\",IFERROR(VLOOKUP(AI38,Tabelas!B:D,3,0),0),\"\")","v":0},{"$f":"IF(A38<>\"\",IFERROR(VLOOKUP(AJ38,Tabelas!B:D,3,0),0),\"\")","v":0},{"$f":"IF(A38<>\"\",IFERROR(VLOOKUP(AK38,Tabelas!B:D,3,0),0),\"\")","v":0},{"$f":"IF(A38<>\"\",IFERROR(VLOOKUP(AL38,Tabelas!B:D,3,0),0),\"\")","v":0},{"$f":"IF(A38<>\"\",IFERROR(VLOOKUP(AM38,Tabelas!B:D,3,0),0),\"\")","v":0},{"$f":"IF(A38<>\"\",IFERROR(VLOOKUP(AN38,Tabelas!B:D,3,0),0),\"\")","v":0},{"$f":"IF(A38<>\"\",IFERROR(VLOOKUP(AO38,Tabelas!B:D,3,0),0),\"\")","v":0},{"$f":"IF(A38<>\"\",IFERROR(VLOOKUP(AP38,Tabelas!B:D,3,0),0),\"\")","v":0},{"$f":"IF(A38<>\"\",IFERROR(VLOOKUP(AQ38,Tabelas!B:D,3,0),0),\"\")","v":0}]
[null,null,null,null,null,null,null,null,null,null,null,null,null,null,null,null,null,null,null,null,null,null,null,null,null,null,null,null,null,null,null,null,null,null,null,null,null,null,null,null,null,null,null,{"$f":"IF(A39<>\"\",IFERROR(VLOOKUP(M39,Tabelas!B:D,3,0),0),\"\")","v":""},{"$f":"IF(A39<>\"\",IFERROR(VLOOKUP(N39,Tabelas!B:D,3,0),0),\"\")","v":""},{"$f":"IF(A39<>\"\",IFERROR(VLOOKUP(O39,Tabelas!B:D,3,0),0),\"\")","v":""},{"$f":"IF(A39<>\"\",IFERROR(VLOOKUP(P39,Tabelas!B:D,3,0),0),\"\")","v":""},{"$f":"IF(A39<>\"\",IFERROR(VLOOKUP(Q39,Tabelas!B:D,3,0),0),\"\")","v":""},{"$f":"IF(A39<>\"\",IFERROR(VLOOKUP(R39,Tabelas!B:D,3,0),0),\"\")","v":""},{"$f":"IF(A39<>\"\",IFERROR(VLOOKUP(S39,Tabelas!B:D,3,0),0),\"\")","v":""},{"$f":"IF(A39<>\"\",IFERROR(VLOOKUP(T39,Tabelas!B:D,3,0),0),\"\")","v":""},{"$f":"IF(A39<>\"\",IFERROR(VLOOKUP(U39,Tabelas!B:D,3,0),0),\"\")","v":""},{"$f":"IF(A39<>\"\",IFERROR(VLOOKUP(V39,Tabelas!B:D,3,0),0),\"\")","v":""},{"$f":"IF(A39<>\"\",IFERROR(VLOOKUP(W39,Tabelas!B:D,3,0),0),\"\")","v":""},{"$f":"IF(A39<>\"\",IFERROR(VLOOKUP(X39,Tabelas!B:D,3,0),0),\"\")","v":""},{"$f":"IF(A39<>\"\",IFERROR(VLOOKUP(Y39,Tabelas!B:D,3,0),0),\"\")","v":""},{"$f":"IF(A39<>\"\",IFERROR(VLOOKUP(Z39,Tabelas!B:D,3,0),0),\"\")","v":""},{"$f":"IF(A39<>\"\",IFERROR(VLOOKUP(AA39,Tabelas!B:D,3,0),0),\"\")","v":""},{"$f":"IF(A39<>\"\",IFERROR(VLOOKUP(AB39,Tabelas!B:D,3,0),0),\"\")","v":""},{"$f":"IF(A39<>\"\",IFERROR(VLOOKUP(AC39,Tabelas!B:D,3,0),0),\"\")","v":""},{"$f":"IF(A39<>\"\",IFERROR(VLOOKUP(AD39,Tabelas!B:D,3,0),0),\"\")","v":""},{"$f":"IF(A39<>\"\",IFERROR(VLOOKUP(AE39,Tabelas!B:D,3,0),0),\"\")","v":""},{"$f":"IF(A39<>\"\",IFERROR(VLOOKUP(AF39,Tabelas!B:D,3,0),0),\"\")","v":""},{"$f":"IF(A39<>\"\",IFERROR(VLOOKUP(AG39,Tabelas!B:D,3,0),0),\"\")","v":""},{"$f":"IF(A39<>\"\",IFERROR(VLOOKUP(AH39,Tabelas!B:D,3,0),0),\"\")","v":""},{"$f":"IF(A39<>\"\",IFERROR(VLOOKUP(AI39,Tabelas!B:D,3,0),0),\"\")","v":""},{"$f":"IF(A39<>\"\",IFERROR(VLOOKUP(AJ39,Tabelas!B:D,3,0),0),\"\")","v":""},{"$f":"IF(A39<>\"\",IFERROR(VLOOKUP(AK39,Tabelas!B:D,3,0),0),\"\")","v":""},{"$f":"IF(A39<>\"\",IFERROR(VLOOKUP(AL39,Tabelas!B:D,3,0),0),\"\")","v":""},{"$f":"IF(A39<>\"\",IFERROR(VLOOKUP(AM39,Tabelas!B:D,3,0),0),\"\")","v":""},{"$f":"IF(A39<>\"\",IFERROR(VLOOKUP(AN39,Tabelas!B:D,3,0),0),\"\")","v":""},{"$f":"IF(A39<>\"\",IFERROR(VLOOKUP(AO39,Tabelas!B:D,3,0),0),\"\")","v":""},{"$f":"IF(A39<>\"\",IFERROR(VLOOKUP(AP39,Tabelas!B:D,3,0),0),\"\")","v":""},{"$f":"IF(A39<>\"\",IFERROR(VLOOKUP(AQ39,Tabelas!B:D,3,0),0),\"\")","v":""}]
["Legenda:"]
["Licença Maternidade","LM","Férias",null,null,null,null,null,null,"FE",null,"Ponto Facultativo",null,null,null,null,null,null,null,"PF","Manhã *",null,null,null,null,null,null,"M","Diurno (8 hrs) *",null,null,null,null,null,null,"MT"]
["Licença Paternidade","LP","Feriado",null,null,null,null,null,null,"FD",null,"Abono **",null,null,null,null,null,null,null,"AB","Tarde *",null,null,null,null,null,null,"T","Dia/ noite (24 hrs) *",null,null,null,null,null,null,"DN"]
["Licença Médica/Odontológica","L","Descanso Semanal Remunerado",null,null,null,null,null,null,"DSR",null,"Compensação de Horas***",null,null,null,null,null,null,null,"CH","Plantão Dia (12 hrs) *",null,null,null,null,null,null,"D"]
["Licença Capacitação","LC","Recesso",null,null,null,null,null,null,"RC",null,"Afastamento**",null,null,null,null,null,null,null,"AF","Plantão Noite (12 hrs) *",null,null,null,null,null,null,"N"]
[]
["OBSERVAÇÕES:"]
["* Para inserção das legendas referentes às jornadas de trabalho, verificar a Tabela 1 do Anexo do Memorando-Circular - SEI nº   25 /2018/CAP/DGP-EBSERH."]
["** Para inserção das legendas referentes aos Afastamentos previstos em lei e às Compensações de horas, verificar a Tabela 2 do Anexo do Memorando-Circular - SEI nº   25 /2018/CAP/DGP-EBSERH."]

{"sheet":"Abril","index":3,"n_rows":48,"n_cols":82,"rows_kept":48,"cut":false,"hidden":false,"merged":[[40,20,40,26],[41,2,41,8],[41,9,41,10],[41,11,41,18],[41,20,41,26],[40,2,40,8],[40,9,40,10],[42,20,42,26],[43,2,43,8],[43,9,43,10],[43,11,43,18],[43,20,43,26],[35,0,35,11],[36,0,36,11],[37,0,37,11],[42,2,42,8],[42,9,42,10],[42,11,42,18],[40,11,40,18],[1,0,1,42],[2,0,2,42],[3,0,3,42],[4,1,4,20],[4,23,4,34],[4,37,4,42],[5,6,5,11],[6,76,7,76],[6,77,7,77],[6,78,7,78],[6,79,7,79],[6,6,7,6],[6,7,7,7],[6,8,7,8],[6,11,7,11],[6,9,7,9],[6,10,7,10],[6,80,7,80],[6,81,7,81],[5,12,5,42],[5,43,5,73],[5,75,5,81],[5,74,7,74],[6,75,7,75],[35,79,37,79],[35,80,37,80],[35,81,37,81],[40,28,40,34],[41,28,41,34],[35,74,37,74],[35,75,37,75],[35,76,37,76],[35,77,37,77],[35,78,37,78]]}
[]
[]
["NOME DO HU"]
["ESCALA MENSAL DE TRABALHO"]
["DIVISÃO /SETOR/UNIDADE:",null,null,null,null,null,null,null,null,null,null,null,null,null,null,null,null,null,null,null,null,"MÊS:",null,"Abril",null,null,null,null,null,null,null,null,null,null,null,"ANO:",null,2019]
["NOME COMPLETO","SIAPE","     Registro Conselho Classe","Cargo","Vínculo","    C.H Sem","INTERVALO",null,null,null,null,null,"DIAS DO MÊS",null,null,null,null,null,null,null,null,null,null,null,null,null,null,null,null,null,null,null,null,null,null,null,null,null,null,null,null,null,null,"CÁLCULO DAS HORAS",null,null,null,null,null,null,null,null,null,null,null,null,null,null,null,null,null,null,null,null,null,null,null,null,null,null,null,null,null,null,"CH Men.","Dias"]
[null,null,null,null,null,null,"15' M","15' T","15' N","1H D","1H N","2H",1,2,3,4,5,6,7,8,9,10,11,12,13,14,15,16,17,18,19,20,21,22,23,24,25,{"$f":"IF(DAY(DATE(AL5,VLOOKUP(X5,Tabelas!M:N,2,0)+1,1)-1)>=26,26,\"\")","v":26},{"$f":"IF(DAY(DATE(AL5,VLOOKUP(X5,Tabelas!M:N,2,0)+1,1)-1)>=27,27,\"\")","v":27},{"$f":"IF(DAY(DATE(AL5,VLOOKUP(X5,Tabelas!M:N,2,0)+1,1)-1)>=28,28,\"\")","v":28},{"$f":"IF(DAY(DATE(AL5,VLOOKUP(X5,Tabelas!M:N,2,0)+1,1)-1)>=29,29,\"\")","v":29},{"$f":"IF(DAY(DATE(AL5,VLOOKUP(X5,Tabelas!M:N,2,0)+1,1)-1)>=30,30,\"\")","v":30},{"$f":"IF(DAY(DATE(AL5,VLOOKUP(X5,Tabelas!M:N,2,0)+1,1)-1)>=31,31,\"\")","v":""},null,null,null,null,null,null,null,null,null,null,null,null,null,null,null,null,null,null,null,null,null,null,null,null,null,null,null,null,null,null,null,null,"LM/LP/L","AB","FE","LC","CH","AF  "," Total Afast."]
[null,null,null,null,null,null,null,null,null,null,null,null,{"$f":"IF(M7<>\"\",IFERROR(VLOOKUP(WEEKDAY(CONCATENATE(M7,$X$5,$AL$5)),Tabelas!$I:$J,2,0),\"\"),\"\")","v":"SEG"},{"$f":"IF(N7<>\"\",IFERROR(VLOOKUP(WEEKDAY(CONCATENATE(N7,$X$5,$AL$5)),Tabelas!$I:$J,2,0),\"\"),\"\")","v":"TER"},{"$f":"IF(O7<>\"\",IFERROR(VLOOKUP(WEEKDAY(CONCATENATE(O7,$X$5,$AL$5)),Tabelas!$I:$J,2,0),\"\"),\"\")","v":"QUA"},{"$f":"IF(P7<>\"\",IFERROR(VLOOKUP(WEEKDAY(CONCATENATE(P7,$X$5,$AL$5)),Tabelas!$I:$J,2,0),\"\"),\"\")","v":"QUI"},{"$f":"IF(Q7<>\"\",IFERROR(VLOOKUP(WEEKDAY(CONCATENATE(Q7,$X$5,$AL$5)),Tabelas!$I:$J,2,0),\"\"),\"\")","v":"SEX"},{"$f":"IF(R7<>\"\",IFERROR(VLOOKUP(WEEKDAY(CONCATENATE(R7,$X$5,$AL$5)),Tabelas!$I:$J,2,0),\"\"),\"\")","v":"SAB"},{"$f":"IF(S7<>\"\",IFERROR(VLOOKUP(WEEKDAY(CONCATENATE(S7,$X$5,$AL$5)),Tabelas!$I:$J,2,0),\"\"),\"\")","v":"DOM"},{"$f":"IF(T7<>\"\",IFERROR(VLOOKUP(WEEKDAY(CONCATENATE(T7,$X$5,$AL$5)),Tabelas!$I:$J,2,0),\"\"),\"\")","v":"SEG"},{"$f":"IF(U7<>\"\",IFERROR(VLOOKUP(WEEKDAY(CONCATENATE(U7,$X$5,$AL$5)),Tabelas!$I:$J,2,0),\"\"),\"\")","v":"TER"},{"$f":"IF(V7<>\"\",IFERROR(VLOOKUP(WEEKDAY(CONCATENATE(V7,$X$5,$AL$5)),Tabelas!$I:$J,2,0),\"\"),\"\")","v":"QUA"},{"$f":"IF(W7<>\"\",IFERROR(VLOOKUP(WEEKDAY(CONCATENATE(W7,$X$5,$AL$5)),Tabelas!$I:$J,2,0),\"\"),\"\")","v":"QUI"},{"$f":"IF(X7<>\"\",IFERROR(VLOOKUP(WEEKDAY(CONCATENATE(X7,$X$5,$AL$5)),Tabelas!$I:$J,2,0),\"\"),\"\")","v":"SEX"},{"$f":"IF(Y7<>\"\",IFERROR(VLOOKUP(WEEKDAY(CONCATENATE(Y7,$X$5,$AL$5)),Tabelas!$I:$J,2,0),\"\"),\"\")","v":"SAB"},{"$f":"IF(Z7<>\"\",IFERROR(VLOOKUP(WEEKDAY(CONCATENATE(Z7,$X$5,$AL$5)),Tabelas!$I:$J,2,0),\"\"),\"\")","v":"DOM"},{"$f":"IF(AA7<>\"\",IFERROR(VLOOKUP(WEEKDAY(CONCATENATE(AA7,$X$5,$AL$5)),Tabelas!$I:$J,2,0),\"\"),\"\")","v":"SEG"},{"$f":"IF(AB7<>\"\",IFERROR(VLOOKUP(WEEKDAY(CONCATENATE(AB7,$X$5,$AL$5)),Tabelas!$I:$J,2,0),\"\"),\"\")","v":"TER"},{"$f":"IF(AC7<>\"\",IFERROR(VLOOKUP(WEEKDAY(CONCATENATE(AC7,$X$5,$AL$5)),Tabelas!$I:$J,2,0),\"\"),\"\")","v":"QUA"},{"$f":"IF(AD7<>\"\",IFERROR(VLOOKUP(WEEKDAY(CONCATENATE(AD7,$X$5,$AL$5)),Tabelas!$I:$J,2,0),\"\"),\"\")","v":"QUI"},{"$f":"IF(AE7<>\"\",IFERROR(VLOOKUP(WEEKDAY(CONCATENATE(AE7,$X$5,$AL$5)),Tabelas!$I:$J,2,0),\"\"),\"\")","v":"SEX"},{"$f":"IF(AF7<>\"\",IFERROR(VLOOKUP(WEEKDAY(CONCATENATE(AF7,$X$5,$AL$5)),Tabelas!$I:$J,2,0),\"\"),\"\")","v":"SAB"},{"$f":"IF(AG7<>\"\",IFERROR(VLOOKUP(WEEKDAY(CONCATENATE(AG7,$X$5,$AL$5)),Tabelas!$I:$J,2,0),\"\"),\"\")","v":"DOM"},{"$f":"IF(AH7<>\"\",IFERROR(VLOOKUP(WEEKDAY(CONCATENATE(AH7,$X$5,$AL$5)),Tabelas!$I:$J,2,0),\"\"),\"\")","v":"SEG"},{"$f":"IF(AI7<>\"\",IFERROR(VLOOKUP(WEEKDAY(CONCATENATE(AI7,$X$5,$AL$5)),Tabelas!$I:$J,2,0),\"\"),\"\")","v":"TER"},{"$f":"IF(AJ7<>\"\",IFERROR(VLOOKUP(WEEKDAY(CONCATENATE(AJ7,$X$5,$AL$5)),Tabelas!$I:$J,2,0),\"\"),\"\")","v":"QUA"},{"$f":"IF(AK7<>\"\",IFERROR(VLOOKUP(WEEKDAY(CONCATENATE(AK7,$X$5,$AL$5)),Tabelas!$I:$J,2,0),\"\"),\"\")","v":"QUI"},{"$f":"IF(AL7<>\"\",IFERROR(VLOOKUP(WEEKDAY(CONCATENATE(AL7,$X$5,$AL$5)),Tabelas!$I:$J,2,0),\"\"),\"\")","v":"SEX"},{"$f":"IF(AM7<>\"\",IFERROR(VLOOKUP(WEEKDAY(CONCATENATE(AM7,$X$5,$AL$5)),Tabelas!$I:$J,2,0),\"\"),\"\")","v":"SAB"},{"$f":"IF(AN7<>\"\",IFERROR(VLOOKUP(WEEKDAY(CONCATENATE(AN7,$X$5,$AL$5)),Tabelas!$I:$J,2,0),\"\"),\"\")","v":"DOM"},{"$f":"IF(AO7<>\"\",IFERROR(VLOOKUP(WEEKDAY(CONCATENATE(AO7,$X$5,$AL$5)),Tabelas!$I:$J,2,0),\"\"),\"\")","v":"SEG"},{"$f":"IF(AP7<>\"\",IFERROR(VLOOKUP(WEEKDAY(CONCATENATE(AP7,$X$5,$AL$5)),Tabelas!$I:$J,2,0),\"\"),\"\")","v":"TER"},{"$f":"IF(AQ7<>\"\",IFERROR(VLOOKUP(WEEKDAY(CONCATENATE(AQ7,$X$5,$AL$5)),Tabelas!$I:$J,2,0),\"\"),\"\")","v":""},1,2,3,4,5,6,7,8,9,10,11,12,13,14,15,16,17,18,19,20,21,22,23,24,25,26,27,28,29,30,31]
["FULANO 1",1,null,null,null,null,null,null,null,null,null,null,null,null,null,null,null,null,null,null,null,null,null,null,null,null,null,null,null,null,null,null,null,null,null,null,null,null,null,null,null,null,null,{"$f":"IF(A9<>\"\",IFERROR(VLOOKUP(M9,Tabelas!B:D,3,0),0),\"\")","v":0},{"$f":"IF(A9<>\"\",IFERROR(VLOOKUP(N9,Tabelas!B:D,3,0),0),\"\")","v":0},{"$f":"IF(A9<>\"\",IFERROR(VLOOKUP(O9,Tabelas!B:D,3,0),0),\"\")","v":0},{"$f":"IF(A9<>\"\",IFERROR(VLOOKUP(P9,Tabelas!B:D,3,0),0),\"\")","v":0},{"$f":"IF(A9<>\"\",IFERROR(VLOOKUP(Q9,Tabelas!B:D,3,0),0),\"\")","v":0},{"$f":"IF(A9<>\"\",IFERROR(VLOOKUP(R9,Tabelas!B:D,3,0),0),\"\")","v":0},{"$f":"IF(A9<>\"\",IFERROR(VLOOKUP(S9,Tabelas!B:D,3,0),0),\"\")","v":0},{"$f":"IF(A9<>\"\",IFERROR(VLOOKUP(T9,Tabelas!B:D,3,0),0),\"\")","v":0},{"$f":"IF(A9<>\"\",IFERROR(VLOOKUP(U9,Tabelas!B:D,3,0),0),\"\")","v":0},{"$f":"IF(A9<>\"\",IFERROR(VLOOKUP(V9,Tabelas!B:D,3,0),0),\"\")","v":0},{"$f":"IF(A9<>\"\",IFERROR(VLOOKUP(W9,Tabelas!B:D,3,0),0),\"\")","v":0},{"$f":"IF(A9<>\"\",IFERROR(VLOOKUP(X9,Tabelas!B:D,3,0),0),\"\")","v":0},{"$f":"IF(A9<>\"\",IFERROR(VLOOKUP(Y9,Tabelas!B:D,3,0),0),\"\")","v":0},{"$f":"IF(A9<>\"\",IFERROR(VLOOKUP(Z9,Tabelas!B:D,3,0),0),\"\")","v":0},{"$f":"IF(A9<>\"\",IFERROR(VLOOKUP(AA9,Tabelas!B:D,3,0),0),\"\")","v":0},{"$f":"IF(A9<>\"\",IFERROR(VLOOKUP(AB9,Tabelas!B:D,3,0),0),\"\")","v":0},{"$f":"IF(A9<>\"\",IFERROR(VLOOKUP(AC9,Tabelas!B:D,3,0),0),\"\")","v":0},{"$f":"IF(A9<>\"\",IFERROR(VLOOKUP(AD9,Tabelas!B:D,3,0),0),\"\")","v":0},{"$f":"IF(A9<>\"\",IFERROR(VLOOKUP(AE9,Tabelas!B:D,3,0),0),\"\")","v":0},{"$f":"IF(A9<>\"\",IFERROR(VLOOKUP(AF9,Tabelas!B:D,3,0),0),\"\")","v":0},{"$f":"IF(A9<>\"\",IFERROR(VLOOKUP(AG9,Tabelas!B:D,3,0),0),\"\")","v":0},{"$f":"IF(A9<>\"\",IFERROR(VLOOKUP(AH9,Tabelas!B:D,3,0),0),\"\")","v":0},{"$f":"IF(A9<>\"\",IFERROR(VLOOKUP(AI9,Tabelas!B:D,3,0),0),\"\")","v":0},{"$f":"IF(A9<>\"\",IFERROR(VLOOKUP(AJ9,Tabelas!B:D,3,0),0),\"\")","v":0},{"$f":"IF(A9<>\"\",IFERROR(VLOOKUP(AK9,Tabelas!B:D,3,0),0),\"\")","v":0},{"$f":"IF(A9<>\"\",IFERROR(VLOOKUP(AL9,Tabelas!B:D,3,0),0),\"\")","v":0},{"$f":"IF(A9<>\"\",IFERROR(VLOOKUP(AM9,Tabelas!B:D,3,0),0),\"\")","v":0},{"$f":"IF(A9<>\"\",IFERROR(VLOOKUP(AN9,Tabelas!B:D,3,0),0),\"\")","v":0},{"$f":"IF(A9<>\"\",IFERROR(VLOOKUP(AO9,Tabelas!B:D,3,0),0),\"\")","v":0},{"$f":"IF(A9<>\"\",IFERROR(VLOOKUP(AP9,Tabelas!B:D,3,0),0),\"\")","v":0},{"$f":"IF(A9<>\"\",IFERROR(VLOOKUP(AQ9,Tabelas!B:D,3,0),0),\"\")","v":0},{"$f":"IF(AND(A9<>\"\",E9=\"Ebserh\"),SUM(AR9:BV9)+COUNTIF(M9:AQ9,\"N*\")+COUNTIF(M9:AQ9,\"DN*\"),IF(AND(A9<>\"\",E9<>\"Ebserh\"),SUM(AR9:BV9),\"\"))","v":0},{"$f":"IF(A9<>\"\",COUNTIF(M9:AQ9,\"LM\")+COUNTIF(M9:AQ9,\"L\")+COUNTIF(M9:AQ9,\"LP\"),\"\")","v":0},{"$f":"IF(A9<>\"\",COUNTIF(M9:AQ9,\"AB*\"),\"\")","v":0},{"$f":"IF(A9<>\"\",COUNTIF(M9:AQ9,\"FE\"),\"\")","v":0},{"$f":"IF(A9<>\"\",COUNTIF(M9:AQ9,\"LC\"),\"\")","v":0},{"$f":"IF(A9<>\"\",COUNTIF(M9:AQ9,\"CH*\"),\"\")","v":0},{"$f":"IF(A9<>\"\",COUNTIF(M9:AQ9,\"AF1\")+COUNTIF(M9:AQ9,\"AF2\")+COUNTIF(M9:AQ9,\"AF3\")+COUNTIF(M9:AQ9,\"AF4\")+COUNTIF(M9:AQ9,\"AF5\")+COUNTIF(M9:AQ9,\"AF6\")+COUNTIF(M9:AQ9,\"AF7\")+COUNTIF(M9:AQ9,\"AF8\")+COUNTIF(M9:AQ9,\"AF9\")+COUNTIF(M9:AQ9,\"AF10\")+COUNTIF(M9:AQ9,\"AF11\")+COUNTIF(M9:AQ9,\"AF12\")+COUNTIF(M9:AQ9,\"AF13\")+COUNTIF(M9:AQ9,\"AF14\"),\"\")","v":0},{"$f":"IF(A9<>\"\",COUNTIF(M9:AQ9,\"CH*\")+COUNTIF(M9:AQ9,\"L\")+COUNTIF(M9:AQ9,\"LM\")+COUNTIF(M9:AQ9,\"LP\")+COUNTIF(M9:AQ9,\"LC\")+COUNTIF(M9:AQ9,\"AB*\")+COUNTIF(M9:AQ9,\"AF1\")+COUNTIF(M9:AQ9,\"AF2\")+COUNTIF(M9:AQ9,\"AF3\")+COUNTIF(M9:AQ9,\"AF4\")+COUNTIF(M9:AQ9,\"AF5\")+COUNTIF(M9:AQ9,\"AF6\")+COUNTIF(M9:AQ9,\"AF7\")+COUNTIF(M9:AQ9,\"AF8\")+COUNTIF(M9:AQ9,\"AF9\")+COUNTIF(M9:AQ9,\"AF10\")+COUNTIF(M9:AQ9,\"AF11\")+COUNTIF(M9:AQ9,\"AF12\")+COUNTIF(M9:AQ9,\"AF13\")+COUNTIF(M9:AQ9,\"AF14\")+COUNTIF(M9:AQ9,\"RC\")+COUNTIF(M9:AQ9,\"FO\")+COUNTIF(M9:AQ9,\"FE\"),\"\")","v":0}]
["FULANO 2",2,null,null,null,null,null,null,null,null,null,null,null,null,null,null,null,null,null,null,null,null,null,null,null,null,null,null,null,null,null,null,null,null,null,null,null,null,null,null,null,null,null,{"$f":"IF(A10<>\"\",IFERROR(VLOOKUP(M10,Tabelas!B:D,3,0),0),\"\")","v":0},{"$f":"IF(A10<>\"\",IFERROR(VLOOKUP(N10,Tabelas!B:D,3,0),0),\"\")","v":0},{"$f":"IF(A10<>\"\",IFERROR(VLOOKUP(O10,Tabelas!B:D,3,0),0),\"\")","v":0},{"$f":"IF(A10<>\"\",IFERROR(VLOOKUP(P10,Tabelas!B:D,3,0),0),\"\")","v":0},{"$f":"IF(A10<>\"\",IFERROR(VLOOKUP(Q10,Tabelas!B:D,3,0),0),\"\")","v":0},{"$f":"IF(A10<>\"\",IFERROR(VLOOKUP(R10,Tabelas!B:D,3,0),0),\"\")","v":0},{"$f":"IF(A10<>\"\",IFERROR(VLOOKUP(S10,Tabelas!B:D,3,0),0),\"\")","v":0},{"$f":"IF(A10<>\"\",IFERROR(VLOOKUP(T10,Tabelas!B:D,3,0),0),\"\")","v":0},{"$f":"IF(A10<>\"\",IFERROR(VLOOKUP(U10,Tabelas!B:D,3,0),0),\"\")","v":0},{"$f":"IF(A10<>\"\",IFERROR(VLOOKUP(V10,Tabelas!B:D,3,0),0),\"\")","v":0},{"$f":"IF(A10<>\"\",IFERROR(VLOOKUP(W10,Tabelas!B:D,3,0),0),\"\")","v":0},{"$f":"IF(A10<>\"\",IFERROR(VLOOKUP(X10,Tabelas!B:D,3,0),0),\"\")","v":0},{"$f":"IF(A10<>\"\",IFERROR(VLOOKUP(Y10,Tabelas!B:D,3,0),0),\"\")","v":0},{"$f":"IF(A10<>\"\",IFERROR(VLOOKUP(Z10,Tabelas!B:D,3,0),0),\"\")","v":0},{"$f":"IF(A10<>\"\",IFERROR(VLOOKUP(AA10,Tabelas!B:D,3,0),0),\"\")","v":0},{"$f":"IF(A10<>\"\",IFERROR(VLOOKUP(AB10,Tabelas!B:D,3,0),0),\"\")","v":0},{"$f":"IF(A10<>\"\",IFERROR(VLOOKUP(AC10,Tabelas!B:D,3,0),0),\"\")","v":0},{"$f":"IF(A10<>\"\",IFERROR(VLOOKUP(AD10,Tabelas!B:D,3,0),0),\"\")","v":0},{"$f":"IF(A10<>\"\",IFERROR(VLOOKUP(AE10,Tabelas!B:D,3,0),0),\"\")","v":0},{"$f":"IF(A10<>\"\",IFERROR(VLOOKUP(AF10,Tabelas!B:D,3,0),0),\"\")","v":0},{"$f":"IF(A10<>\"\",IFERROR(VLOOKUP(AG10,Tabelas!B:D,3,0),0),\"\")","v":0},{"$f":"IF(A10<>\"\",IFERROR(VLOOKUP(AH10,Tabelas!B:D,3,0),0),\"\")","v":0},{"$f":"IF(A10<>\"\",IFERROR(VLOOKUP(AI10,Tabelas!B:D,3,0),0),\"\")","v":0},{"$f":"IF(A10<>\"\",IFERROR(VLOOKUP(AJ10,Tabelas!B:D,3,0),0),\"\")","v":0},{"$f":"IF(A10<>\"\",IFERROR(VLOOKUP(AK10,Tabelas!B:D,3,0),0),\"\")","v":0},{"$f":"IF(A10<>\"\",IFERROR(VLOOKUP(AL10,Tabelas!B:D,3,0),0),\"\")","v":0},{"$f":"IF(A10<>\"\",IFERROR(VLOOKUP(AM10,Tabelas!B:D,3,0),0),\"\")","v":0},{"$f":"IF(A10<>\"\",IFERROR(VLOOKUP(AN10,Tabelas!B:D,3,0),0),\"\")","v":0},{"$f":"IF(A10<>\"\",IFERROR(VLOOKUP(AO10,Tabelas!B:D,3,0),0),\"\")","v":0},{"$f":"IF(A10<>\"\",IFERROR(VLOOKUP(AP10,Tabelas!B:D,3,0),0),\"\")","v":0},{"$f":"IF(A10<>\"\",IFERROR(VLOOKUP(AQ10,Tabelas!B:D,3,0),0),\"\")","v":0},0,0,0,0,0,0,0,0]
["FULANO 3",3,null,null,null,null,null,null,null,null,null,null,null,null,null,null,null,null,null,null,null,null,null,null,null,null,null,null,null,null,null,null,null,null,null,null,null,null,null,null,null,null,null,{"$f":"IF(A11<>\"\",IFERROR(VLOOKUP(M11,Tabelas!B:D,3,0),0),\"\")","v":0},{"$f":"IF(A11<>\"\",IFERROR(VLOOKUP(N11,Tabelas!B:D,3,0),0),\"\")","v":0},{"$f":"IF(A11<>\"\",IFERROR(VLOOKUP(O11,Tabelas!B:D,3,0),0),\"\")","v":0},{"$f":"IF(A11<>\"\",IFERROR(VLOOKUP(P11,Tabelas!B:D,3,0),0),\"\")","v":0},{"$f":"IF(A11<>\"\",IFERROR(VLOOKUP(Q11,Tabelas!B:D,3,0),0),\"\")","v":0},{"$f":"IF(A11<>\"\",IFERROR(VLOOKUP(R11,Tabelas!B:D,3,0),0),\"\")","v":0},{"$f":"IF(A11<>\"\",IFERROR(VLOOKUP(S11,Tabelas!B:D,3,0),0),\"\")","v":0},{"$f":"IF(A11<>\"\",IFERROR(VLOOKUP(T11,Tabelas!B:D,3,0),0),\"\")","v":0},{"$f":"IF(A11<>\"\",IFERROR(VLOOKUP(U11,Tabelas!B:D,3,0),0),\"\")","v":0},{"$f":"IF(A11<>\"\",IFERROR(VLOOKUP(V11,Tabelas!B:D,3,0),0),\"\")","v":0},{"$f":"IF(A11<>\"\",IFERROR(VLOOKUP(W11,Tabelas!B:D,3,0),0),\"\")","v":0},{"$f":"IF(A11<>\"\",IFERROR(VLOOKUP(X11,Tabelas!B:D,3,0),0),\"\")","v":0},{"$f":"IF(A11<>\"\",IFERROR(VLOOKUP(Y11,Tabelas!B:D,3,0),0),\"\")","v":0},{"$f":"IF(A11<>\"\",IFERROR(VLOOKUP(Z11,Tabelas!B:D,3,0),0),\"\")","v":0},{"$f":"IF(A11<>\"\",IFERROR(VLOOKUP(AA11,Tabelas!B:D,3,0),0),\"\")","v":0},{"$f":"IF(A11<>\"\",IFERROR(VLOOKUP(AB11,Tabelas!B:D,3,0),0),\"\")","v":0},{"$f":"IF(A11<>\"\",IFERROR(VLOOKUP(AC11,Tabelas!B:D,3,0),0),\"\")","v":0},{"$f":"IF(A11<>\"\",IFERROR(VLOOKUP(AD11,Tabelas!B:D,3,0),0),\"\")","v":0},{"$f":"IF(A11<>\"\",IFERROR(VLOOKUP(AE11,Tabelas!B:D,3,0),0),\"\")","v":0},{"$f":"IF(A11<>\"\",IFERROR(VLOOKUP(AF11,Tabelas!B:D,3,0),0),\"\")","v":0},{"$f":"IF(A11<>\"\",IFERROR(VLOOKUP(AG11,Tabelas!B:D,3,0),0),\"\")","v":0},{"$f":"IF(A11<>\"\",IFERROR(VLOOKUP(AH11,Tabelas!B:D,3,0),0),\"\")","v":0},{"$f":"IF(A11<>\"\",IFERROR(VLOOKUP(AI11,Tabelas!B:D,3,0),0),\"\")","v":0},{"$f":"IF(A11<>\"\",IFERROR(VLOOKUP(AJ11,Tabelas!B:D,3,0),0),\"\")","v":0},{"$f":"IF(A11<>\"\",IFERROR(VLOOKUP(AK11,Tabelas!B:D,3,0),0),\"\")","v":0},{"$f":"IF(A11<>\"\",IFERROR(VLOOKUP(AL11,Tabelas!B:D,3,0),0),\"\")","v":0},{"$f":"IF(A11<>\"\",IFERROR(VLOOKUP(AM11,Tabelas!B:D,3,0),0),\"\")","v":0},{"$f":"IF(A11<>\"\",IFERROR(VLOOKUP(AN11,Tabelas!B:D,3,0),0),\"\")","v":0},{"$f":"IF(A11<>\"\",IFERROR(VLOOKUP(AO11,Tabelas!B:D,3,0),0),\"\")","v":0},{"$f":"IF(A11<>\"\",IFERROR(VLOOKUP(AP11,Tabelas!B:D,3,0),0),\"\")","v":0},{"$f":"IF(A11<>\"\",IFERROR(VLOOKUP(AQ11,Tabelas!B:D,3,0),0),\"\")","v":0},0,0,0,0,0,0,0,0]
["FULANO 4",4,null,null,null,null,null,null,null,null,null,null,null,null,null,null,null,null,null,null,null,null,null,null,null,null,null,null,null,null,null,null,null,null,null,null,null,null,null,null,null,null,null,{"$f":"IF(A12<>\"\",IFERROR(VLOOKUP(M12,Tabelas!B:D,3,0),0),\"\")","v":0},{"$f":"IF(A12<>\"\",IFERROR(VLOOKUP(N12,Tabelas!B:D,3,0),0),\"\")","v":0},{"$f":"IF(A12<>\"\",IFERROR(VLOOKUP(O12,Tabelas!B:D,3,0),0),\"\")","v":0},{"$f":"IF(A12<>\"\",IFERROR(VLOOKUP(P12,Tabelas!B:D,3,0),0),\"\")","v":0},{"$f":"IF(A12<>\"\",IFERROR(VLOOKUP(Q12,Tabelas!B:D,3,0),0),\"\")","v":0},{"$f":"IF(A12<>\"\",IFERROR(VLOOKUP(R12,Tabelas!B:D,3,0),0),\"\")","v":0},{"$f":"IF(A12<>\"\",IFERROR(VLOOKUP(S12,Tabelas!B:D,3,0),0),\"\")","v":0},{"$f":"IF(A12<>\"\",IFERROR(VLOOKUP(T12,Tabelas!B:D,3,0),0),\"\")","v":0},{"$f":"IF(A12<>\"\",IFERROR(VLOOKUP(U12,Tabelas!B:D,3,0),0),\"\")","v":0},{"$f":"IF(A12<>\"\",IFERROR(VLOOKUP(V12,Tabelas!B:D,3,0),0),\"\")","v":0},{"$f":"IF(A12<>\"\",IFERROR(VLOOKUP(W12,Tabelas!B:D,3,0),0),\"\")","v":0},{"$f":"IF(A12<>\"\",IFERROR(VLOOKUP(X12,Tabelas!B:D,3,0),0),\"\")","v":0},{"$f":"IF(A12<>\"\",IFERROR(VLOOKUP(Y12,Tabelas!B:D,3,0),0),\"\")","v":0},{"$f":"IF(A12<>\"\",IFERROR(VLOOKUP(Z12,Tabelas!B:D,3,0),0),\"\")","v":0},{"$f":"IF(A12<>\"\",IFERROR(VLOOKUP(AA12,Tabelas!B:D,3,0),0),\"\")","v":0},{"$f":"IF(A12<>\"\",IFERROR(VLOOKUP(AB12,Tabelas!B:D,3,0),0),\"\")","v":0},{"$f":"IF(A12<>\"\",IFERROR(VLOOKUP(AC12,Tabelas!B:D,3,0),0),\"\")","v":0},{"$f":"IF(A12<>\"\",IFERROR(VLOOKUP(AD12,Tabelas!B:D,3,0),0),\"\")","v":0},{"$f":"IF(A12<>\"\",IFERROR(VLOOKUP(AE12,Tabelas!B:D,3,0),0),\"\")","v":0},{"$f":"IF(A12<>\"\",IFERROR(VLOOKUP(AF12,Tabelas!B:D,3,0),0),\"\")","v":0},{"$f":"IF(A12<>\"\",IFERROR(VLOOKUP(AG12,Tabelas!B:D,3,0),0),\"\")","v":0},{"$f":"IF(A12<>\"\",IFERROR(VLOOKUP(AH12,Tabelas!B:D,3,0),0),\"\")","v":0},{"$f":"IF(A12<>\"\",IFERROR(VLOOKUP(AI12,Tabelas!B:D,3,0),0),\"\")","v":0},{"$f":"IF(A12<>\"\",IFERROR(VLOOKUP(AJ12,Tabelas!B:D,3,0),0),\"\")","v":0},{"$f":"IF(A12<>\"\",IFERROR(VLOOKUP(AK12,Tabelas!B:D,3,0),0),\"\")","v":0},{"$f":"IF(A12<>\"\",IFERROR(VLOOKUP(AL12,Tabelas!B:D,3,0),0),\"\")","v":0},{"$f":"IF(A12<>\"\",IFERROR(VLOOKUP(AM12,Tabelas!B:D,3,0),0),\"\")","v":0},{"$f":"IF(A12<>\"\",IFERROR(VLOOKUP(AN12,Tabelas!B:D,3,0),0),\"\")","v":0},{"$f":"IF(A12<>\"\",IFERROR(VLOOKUP(AO12,Tabelas!B:D,3,0),0),\"\")","v":0},{"$f":"IF(A12<>\"\",IFERROR(VLOOKUP(AP12,Tabelas!B:D,3,0),0),\"\")","v":0},{"$f":"IF(A12<>\"\",IFERROR(VLOOKUP(AQ12,Tabelas!B:D,3,0),0),\"\")","v":0},0,0,0,0,0,0,0,0]
["FULANO 5",5,null,null,null,null,null,null,null,null,null,null,null,null,null,null,null,null,null,null,null,null,null,null,null,null,null,null,null,null,null,null,null,null,null,null,null,null,null,null,null,null,null,{"$f":"IF(A13<>\"\",IFERROR(VLOOKUP(M13,Tabelas!B:D,3,0),0),\"\")","v":0},{"$f":"IF(A13<>\"\",IFERROR(VLOOKUP(N13,Tabelas!B:D,3,0),0),\"\")","v":0},{"$f":"IF(A13<>\"\",IFERROR(VLOOKUP(O13,Tabelas!B:D,3,0),0),\"\")","v":0},{"$f":"IF(A13<>\"\",IFERROR(VLOOKUP(P13,Tabelas!B:D,3,0),0),\"\")","v":0},{"$f":"IF(A13<>\"\",IFERROR(VLOOKUP(Q13,Tabelas!B:D,3,0),0),\"\")","v":0},{"$f":"IF(A13<>\"\",IFERROR(VLOOKUP(R13,Tabelas!B:D,3,0),0),\"\")","v":0},{"$f":"IF(A13<>\"\",IFERROR(VLOOKUP(S13,Tabelas!B:D,3,0),0),\"\")","v":0},{"$f":"IF(A13<>\"\",IFERROR(VLOOKUP(T13,Tabelas!B:D,3,0),0),\"\")","v":0},{"$f":"IF(A13<>\"\",IFERROR(VLOOKUP(U13,Tabelas!B:D,3,0),0),\"\")","v":0},{"$f":"IF(A13<>\"\",IFERROR(VLOOKUP(V13,Tabelas!B:D,3,0),0),\"\")","v":0},{"$f":"IF(A13<>\"\",IFERROR(VLOOKUP(W13,Tabelas!B:D,3,0),0),\"\")","v":0},{"$f":"IF(A13<>\"\",IFERROR(VLOOKUP(X13,Tabelas!B:D,3,0),0),\"\")","v":0},{"$f":"IF(A13<>\"\",IFERROR(VLOOKUP(Y13,Tabelas!B:D,3,0),0),\"\")","v":0},{"$f":"IF(A13<>\"\",IFERROR(VLOOKUP(Z13,Tabelas!B:D,3,0),0),\"\")","v":0},{"$f":"IF(A13<>\"\",IFERROR(VLOOKUP(AA13,Tabelas!B:D,3,0),0),\"\")","v":0},{"$f":"IF(A13<>\"\",IFERROR(VLOOKUP(AB13,Tabelas!B:D,3,0),0),\"\")","v":0},{"$f":"IF(A13<>\"\",IFERROR(VLOOKUP(AC13,Tabelas!B:D,3,0),0),\"\")","v":0},{"$f":"IF(A13<>\"\",IFERROR(VLOOKUP(AD13,Tabelas!B:D,3,0),0),\"\")","v":0},{"$f":"IF(A13<>\"\",IFERROR(VLOOKUP(AE13,Tabelas!B:D,3,0),0),\"\")","v":0},{"$f":"IF(A13<>\"\",IFERROR(VLOOKUP(AF13,Tabelas!B:D,3,0),0),\"\")","v":0},{"$f":"IF(A13<>\"\",IFERROR(VLOOKUP(AG13,Tabelas!B:D,3,0),0),\"\")","v":0},{"$f":"IF(A13<>\"\",IFERROR(VLOOKUP(AH13,Tabelas!B:D,3,0),0),\"\")","v":0},{"$f":"IF(A13<>\"\",IFERROR(VLOOKUP(AI13,Tabelas!B:D,3,0),0),\"\")","v":0},{"$f":"IF(A13<>\"\",IFERROR(VLOOKUP(AJ13,Tabelas!B:D,3,0),0),\"\")","v":0},{"$f":"IF(A13<>\"\",IFERROR(VLOOKUP(AK13,Tabelas!B:D,3,0),0),\"\")","v":0},{"$f":"IF(A13<>\"\",IFERROR(VLOOKUP(AL13,Tabelas!B:D,3,0),0),\"\")","v":0},{"$f":"IF(A13<>\"\",IFERROR(VLOOKUP(AM13,Tabelas!B:D,3,0),0),\"\")","v":0},{"$f":"IF(A13<>\"\",IFERROR(VLOOKUP(AN13,Tabelas!B:D,3,0),0),\"\")","v":0},{"$f":"IF(A13<>\"\",IFERROR(VLOOKUP(AO13,Tabelas!B:D,3,0),0),\"\")","v":0},{"$f":"IF(A13<>\"\",IFERROR(VLOOKUP(AP13,Tabelas!B:D,3,0),0),\"\")","v":0},{"$f":"IF(A13<>\"\",IFERROR(VLOOKUP(AQ13,Tabelas!B:D,3,0),0),\"\")","v":0},0,0,0,0,0,0,0,0]
["FULANO 6",6,null,null,null,null,null,null,null,null,null,null,null,null,null,null,null,null,null,null,null,null,null,null,null,null,null,null,null,null,null,null,null,null,null,null,null,null,null,null,null,null,null,{"$f":"IF(A14<>\"\",IFERROR(VLOOKUP(M14,Tabelas!B:D,3,0),0),\"\")","v":0},{"$f":"IF(A14<>\"\",IFERROR(VLOOKUP(N14,Tabelas!B:D,3,0),0),\"\")","v":0},{"$f":"IF(A14<>\"\",IFERROR(VLOOKUP(O14,Tabelas!B:D,3,0),0),\"\")","v":0},{"$f":"IF(A14<>\"\",IFERROR(VLOOKUP(P14,Tabelas!B:D,3,0),0),\"\")","v":0},{"$f":"IF(A14<>\"\",IFERROR(VLOOKUP(Q14,Tabelas!B:D,3,0),0),\"\")","v":0},{"$f":"IF(A14<>\"\",IFERROR(VLOOKUP(R14,Tabelas!B:D,3,0),0),\"\")","v":0},{"$f":"IF(A14<>\"\",IFERROR(VLOOKUP(S14,Tabelas!B:D,3,0),0),\"\")","v":0},{"$f":"IF(A14<>\"\",IFERROR(VLOOKUP(T14,Tabelas!B:D,3,0),0),\"\")","v":0},{"$f":"IF(A14<>\"\",IFERROR(VLOOKUP(U14,Tabelas!B:D,3,0),0),\"\")","v":0},{"$f":"IF(A14<>\"\",IFERROR(VLOOKUP(V14,Tabelas!B:D,3,0),0),\"\")","v":0},{"$f":"IF(A14<>\"\",IFERROR(VLOOKUP(W14,Tabelas!B:D,3,0),0),\"\")","v":0},{"$f":"IF(A14<>\"\",IFERROR(VLOOKUP(X14,Tabelas!B:D,3,0),0),\"\")","v":0},{"$f":"IF(A14<>\"\",IFERROR(VLOOKUP(Y14,Tabelas!B:D,3,0),0),\"\")","v":0},{"$f":"IF(A14<>\"\",IFERROR(VLOOKUP(Z14,Tabelas!B:D,3,0),0),\"\")","v":0},{"$f":"IF(A14<>\"\",IFERROR(VLOOKUP(AA14,Tabelas!B:D,3,0),0),\"\")","v":0},{"$f":"IF(A14<>\"\",IFERROR(VLOOKUP(AB14,Tabelas!B:D,3,0),0),\"\")","v":0},{"$f":"IF(A14<>\"\",IFERROR(VLOOKUP(AC14,Tabelas!B:D,3,0),0),\"\")","v":0},{"$f":"IF(A14<>\"\",IFERROR(VLOOKUP(AD14,Tabelas!B:D,3,0),0),\"\")","v":0},{"$f":"IF(A14<>\"\",IFERROR(VLOOKUP(AE14,Tabelas!B:D,3,0),0),\"\")","v":0},{"$f":"IF(A14<>\"\",IFERROR(VLOOKUP(AF14,Tabelas!B:D,3,0),0),\"\")","v":0},{"$f":"IF(A14<>\"\",IFERROR(VLOOKUP(AG14,Tabelas!B:D,3,0),0),\"\")","v":0},{"$f":"IF(A14<>\"\",IFERROR(VLOOKUP(AH14,Tabelas!B:D,3,0),0),\"\")","v":0},{"$f":"IF(A14<>\"\",IFERROR(VLOOKUP(AI14,Tabelas!B:D,3,0),0),\"\")","v":0},{"$f":"IF(A14<>\"\",IFERROR(VLOOKUP(AJ14,Tabelas!B:D,3,0),0),\"\")","v":0},{"$f":"IF(A14<>\"\",IFERROR(VLOOKUP(AK14,Tabelas!B:D,3,0),0),\"\")","v":0},{"$f":"IF(A14<>\"\",IFERROR(VLOOKUP(AL14,Tabelas!B:D,3,0),0),\"\")","v":0},{"$f":"IF(A14<>\"\",IFERROR(VLOOKUP(AM14,Tabelas!B:D,3,0),0),\"\")","v":0},{"$f":"IF(A14<>\"\",IFERROR(VLOOKUP(AN14,Tabelas!B:D,3,0),0),\"\")","v":0},{"$f":"IF(A14<>\"\",IFERROR(VLOOKUP(AO14,Tabelas!B:D,3,0),0),\"\")","v":0},{"$f":"IF(A14<>\"\",IFERROR(VLOOKUP(AP14,Tabelas!B:D,3,0),0),\"\")","v":0},{"$f":"IF(A14<>\"\",IFERROR(VLOOKUP(AQ14,Tabelas!B:D,3,0),0),\"\")","v":0},0,0,0,0,0,0,0,0]
["FULANO 7",7,null,null,null,null,null,null,null,null,null,null,null,null,null,null,null,null,null,null,null,null,null,null,null,null,null,null,null,null,null,null,null,null,null,null,null,null,null,null,null,null,null,{"$f":"IF(A15<>\"\",IFERROR(VLOOKUP(M15,Tabelas!B:D,3,0),0),\"\")","v":0},{"$f":"IF(A15<>\"\",IFERROR(VLOOKUP(N15,Tabelas!B:D,3,0),0),\"\")","v":0},{"$f":"IF(A15<>\"\",IFERROR(VLOOKUP(O15,Tabelas!B:D,3,0),0),\"\")","v":0},{"$f":"IF(A15<>\"\",IFERROR(VLOOKUP(P15,Tabelas!B:D,3,0),0),\"\")","v":0},{"$f":"IF(A15<>\"\",IFERROR(VLOOKUP(Q15,Tabelas!B:D,3,0),0),\"\")","v":0},{"$f":"IF(A15<>\"\",IFERROR(VLOOKUP(R15,Tabelas!B:D,3,0),0),\"\")","v":0},{"$f":"IF(A15<>\"\",IFERROR(VLOOKUP(S15,Tabelas!B:D,3,0),0),\"\")","v":0},{"$f":"IF(A15<>\"\",IFERROR(VLOOKUP(T15,Tabelas!B:D,3,0),0),\"\")","v":0},{"$f":"IF(A15<>\"\",IFERROR(VLOOKUP(U15,Tabelas!B:D,3,0),0),\"\")","v":0},{"$f":"IF(A15<>\"\",IFERROR(VLOOKUP(V15,Tabelas!B:D,3,0),0),\"\")","v":0},{"$f":"IF(A15<>\"\",IFERROR(VLOOKUP(W15,Tabelas!B:D,3,0),0),\"\")","v":0},{"$f":"IF(A15<>\"\",IFERROR(VLOOKUP(X15,Tabelas!B:D,3,0),0),\"\")","v":0},{"$f":"IF(A15<>\"\",IFERROR(VLOOKUP(Y15,Tabelas!B:D,3,0),0),\"\")","v":0},{"$f":"IF(A15<>\"\",IFERROR(VLOOKUP(Z15,Tabelas!B:D,3,0),0),\"\")","v":0},{"$f":"IF(A15<>\"\",IFERROR(VLOOKUP(AA15,Tabelas!B:D,3,0),0),\"\")","v":0},{"$f":"IF(A15<>\"\",IFERROR(VLOOKUP(AB15,Tabelas!B:D,3,0),0),\"\")","v":0},{"$f":"IF(A15<>\"\",IFERROR(VLOOKUP(AC15,Tabelas!B:D,3,0),0),\"\")","v":0},{"$f":"IF(A15<>\"\",IFERROR(VLOOKUP(AD15,Tabelas!B:D,3,0),0),\"\")","v":0},{"$f":"IF(A15<>\"\",IFERROR(VLOOKUP(AE15,Tabelas!B:D,3,0),0),\"\")","v":0},{"$f":"IF(A15<>\"\",IFERROR(VLOOKUP(AF15,Tabelas!B:D,3,0),0),\"\")","v":0},{"$f":"IF(A15<>\"\",IFERROR(VLOOKUP(AG15,Tabelas!B:D,3,0),0),\"\")","v":0},{"$f":"IF(A15<>\"\",IFERROR(VLOOKUP(AH15,Tabelas!B:D,3,0),0),\"\")","v":0},{"$f":"IF(A15<>\"\",IFERROR(VLOOKUP(AI15,Tabelas!B:D,3,0),0),\"\")","v":0},{"$f":"IF(A15<>\"\",IFERROR(VLOOKUP(AJ15,Tabelas!B:D,3,0),0),\"\")","v":0},{"$f":"IF(A15<>\"\",IFERROR(VLOOKUP(AK15,Tabelas!B:D,3,0),0),\"\")","v":0},{"$f":"IF(A15<>\"\",IFERROR(VLOOKUP(AL15,Tabelas!B:D,3,0),0),\"\")","v":0},{"$f":"IF(A15<>\"\",IFERROR(VLOOKUP(AM15,Tabelas!B:D,3,0),0),\"\")","v":0},{"$f":"IF(A15<>\"\",IFERROR(VLOOKUP(AN15,Tabelas!B:D,3,0),0),\"\")","v":0},{"$f":"IF(A15<>\"\",IFERROR(VLOOKUP(AO15,Tabelas!B:D,3,0),0),\"\")","v":0},{"$f":"IF(A15<>\"\",IFERROR(VLOOKUP(AP15,Tabelas!B:D,3,0),0),\"\")","v":0},{"$f":"IF(A15<>\"\",IFERROR(VLOOKUP(AQ15,Tabelas!B:D,3,0),0),\"\")","v":0},0,0,0,0,0,0,0,0]
["FULANO 8",8,null,null,null,null,null,null,null,null,null,null,null,null,null,null,null,null,null,null,null,null,null,null,null,null,null,null,null,null,null,null,null,null,null,null,null,null,null,null,null,null,null,{"$f":"IF(A16<>\"\",IFERROR(VLOOKUP(M16,Tabelas!B:D,3,0),0),\"\")","v":0},{"$f":"IF(A16<>\"\",IFERROR(VLOOKUP(N16,Tabelas!B:D,3,0),0),\"\")","v":0},{"$f":"IF(A16<>\"\",IFERROR(VLOOKUP(O16,Tabelas!B:D,3,0),0),\"\")","v":0},{"$f":"IF(A16<>\"\",IFERROR(VLOOKUP(P16,Tabelas!B:D,3,0),0),\"\")","v":0},{"$f":"IF(A16<>\"\",IFERROR(VLOOKUP(Q16,Tabelas!B:D,3,0),0),\"\")","v":0},{"$f":"IF(A16<>\"\",IFERROR(VLOOKUP(R16,Tabelas!B:D,3,0),0),\"\")","v":0},{"$f":"IF(A16<>\"\",IFERROR(VLOOKUP(S16,Tabelas!B:D,3,0),0),\"\")","v":0},{"$f":"IF(A16<>\"\",IFERROR(VLOOKUP(T16,Tabelas!B:D,3,0),0),\"\")","v":0},{"$f":"IF(A16<>\"\",IFERROR(VLOOKUP(U16,Tabelas!B:D,3,0),0),\"\")","v":0},{"$f":"IF(A16<>\"\",IFERROR(VLOOKUP(V16,Tabelas!B:D,3,0),0),\"\")","v":0},{"$f":"IF(A16<>\"\",IFERROR(VLOOKUP(W16,Tabelas!B:D,3,0),0),\"\")","v":0},{"$f":"IF(A16<>\"\",IFERROR(VLOOKUP(X16,Tabelas!B:D,3,0),0),\"\")","v":0},{"$f":"IF(A16<>\"\",IFERROR(VLOOKUP(Y16,Tabelas!B:D,3,0),0),\"\")","v":0},{"$f":"IF(A16<>\"\",IFERROR(VLOOKUP(Z16,Tabelas!B:D,3,0),0),\"\")","v":0},{"$f":"IF(A16<>\"\",IFERROR(VLOOKUP(AA16,Tabelas!B:D,3,0),0),\"\")","v":0},{"$f":"IF(A16<>\"\",IFERROR(VLOOKUP(AB16,Tabelas!B:D,3,0),0),\"\")","v":0},{"$f":"IF(A16<>\"\",IFERROR(VLOOKUP(AC16,Tabelas!B:D,3,0),0),\"\")","v":0},{"$f":"IF(A16<>\"\",IFERROR(VLOOKUP(AD16,Tabelas!B:D,3,0),0),\"\")","v":0},{"$f":"IF(A16<>\"\",IFERROR(VLOOKUP(AE16,Tabelas!B:D,3,0),0),\"\")","v":0},{"$f":"IF(A16<>\"\",IFERROR(VLOOKUP(AF16,Tabelas!B:D,3,0),0),\"\")","v":0},{"$f":"IF(A16<>\"\",IFERROR(VLOOKUP(AG16,Tabelas!B:D,3,0),0),\"\")","v":0},{"$f":"IF(A16<>\"\",IFERROR(VLOOKUP(AH16,Tabelas!B:D,3,0),0),\"\")","v":0},{"$f":"IF(A16<>\"\",IFERROR(VLOOKUP(AI16,Tabelas!B:D,3,0),0),\"\")","v":0},{"$f":"IF(A16<>\"\",IFERROR(VLOOKUP(AJ16,Tabelas!B:D,3,0),0),\"\")","v":0},{"$f":"IF(A16<>\"\",IFERROR(VLOOKUP(AK16,Tabelas!B:D,3,0),0),\"\")","v":0},{"$f":"IF(A16<>\"\",IFERROR(VLOOKUP(AL16,Tabelas!B:D,3,0),0),\"\")","v":0},{"$f":"IF(A16<>\"\",IFERROR(VLOOKUP(AM16,Tabelas!B:D,3,0),0),\"\")","v":0},{"$f":"IF(A16<>\"\",IFERROR(VLOOKUP(AN16,Tabelas!B:D,3,0),0),\"\")","v":0},{"$f":"IF(A16<>\"\",IFERROR(VLOOKUP(AO16,Tabelas!B:D,3,0),0),\"\")","v":0},{"$f":"IF(A16<>\"\",IFERROR(VLOOKUP(AP16,Tabelas!B:D,3,0),0),\"\")","v":0},{"$f":"IF(A16<>\"\",IFERROR(VLOOKUP(AQ16,Tabelas!B:D,3,0),0),\"\")","v":0},0,0,0,0,0,0,0,0]
["FULANO 9",9,null,null,null,null,null,null,null,null,null,null,null,null,null,null,null,null,null,null,null,null,null,null,null,null,null,null,null,null,null,null,null,null,null,null,null,null,null,null,null,null,null,{"$f":"IF(A17<>\"\",IFERROR(VLOOKUP(M17,Tabelas!B:D,3,0),0),\"\")","v":0},{"$f":"IF(A17<>\"\",IFERROR(VLOOKUP(N17,Tabelas!B:D,3,0),0),\"\")","v":0},{"$f":"IF(A17<>\"\",IFERROR(VLOOKUP(O17,Tabelas!B:D,3,0),0),\"\")","v":0},{"$f":"IF(A17<>\"\",IFERROR(VLOOKUP(P17,Tabelas!B:D,3,0),0),\"\")","v":0},{"$f":"IF(A17<>\"\",IFERROR(VLOOKUP(Q17,Tabelas!B:D,3,0),0),\"\")","v":0},{"$f":"IF(A17<>\"\",IFERROR(VLOOKUP(R17,Tabelas!B:D,3,0),0),\"\")","v":0},{"$f":"IF(A17<>\"\",IFERROR(VLOOKUP(S17,Tabelas!B:D,3,0),0),\"\")","v":0},{"$f":"IF(A17<>\"\",IFERROR(VLOOKUP(T17,Tabelas!B:D,3,0),0),\"\")","v":0},{"$f":"IF(A17<>\"\",IFERROR(VLOOKUP(U17,Tabelas!B:D,3,0),0),\"\")","v":0},{"$f":"IF(A17<>\"\",IFERROR(VLOOKUP(V17,Tabelas!B:D,3,0),0),\"\")","v":0},{"$f":"IF(A17<>\"\",IFERROR(VLOOKUP(W17,Tabelas!B:D,3,0),0),\"\")","v":0},{"$f":"IF(A17<>\"\",IFERROR(VLOOKUP(X17,Tabelas!B:D,3,0),0),\"\")","v":0},{"$f":"IF(A17<>\"\",IFERROR(VLOOKUP(Y17,Tabelas!B:D,3,0),0),\"\")","v":0},{"$f":"IF(A17<>\"\",IFERROR(VLOOKUP(Z17,Tabelas!B:D,3,0),0),\"\")","v":0},{"$f":"IF(A17<>\"\",IFERROR(VLOOKUP(AA17,Tabelas!B:D,3,0),0),\"\")","v":0},{"$f":"IF(A17<>\"\",IFERROR(VLOOKUP(AB17,Tabelas!B:D,3,0),0),\"\")","v":0},{"$f":"IF(A17<>\"\",IFERROR(VLOOKUP(AC17,Tabelas!B:D,3,0),0),\"\")","v":0},{"$f":"IF(A17<>\"\",IFERROR(VLOOKUP(AD17,Tabelas!B:D,3,0),0),\"\")","v":0},{"$f":"IF(A17<>\"\",IFERROR(VLOOKUP(AE17,Tabelas!B:D,3,0),0),\"\")","v":0},{"$f":"IF(A17<>\"\",IFERROR(VLOOKUP(AF17,Tabelas!B:D,3,0),0),\"\")","v":0},{"$f":"IF(A17<>\"\",IFERROR(VLOOKUP(AG17,Tabelas!B:D,3,0),0),\"\")","v":0},{"$f":"IF(A17<>\"\",IFERROR(VLOOKUP(AH17,Tabelas!B:D,3,0),0),\"\")","v":0},{"$f":"IF(A17<>\"\",IFERROR(VLOOKUP(AI17,Tabelas!B:D,3,0),0),\"\")","v":0},{"$f":"IF(A17<>\"\",IFERROR(VLOOKUP(AJ17,Tabelas!B:D,3,0),0),\"\")","v":0},{"$f":"IF(A17<>\"\",IFERROR(VLOOKUP(AK17,Tabelas!B:D,3,0),0),\"\")","v":0},{"$f":"IF(A17<>\"\",IFERROR(VLOOKUP(AL17,Tabelas!B:D,3,0),0),\"\")","v":0},{"$f":"IF(A17<>\"\",IFERROR(VLOOKUP(AM17,Tabelas!B:D,3,0),0),\"\")","v":0},{"$f":"IF(A17<>\"\",IFERROR(VLOOKUP(AN17,Tabelas!B:D,3,0),0),\"\")","v":0},{"$f":"IF(A17<>\"\",IFERROR(VLOOKUP(AO17,Tabelas!B:D,3,0),0),\"\")","v":0},{"$f":"IF(A17<>\"\",IFERROR(VLOOKUP(AP17,Tabelas!B:D,3,0),0),\"\")","v":0},{"$f":"IF(A17<>\"\",IFERROR(VLOOKUP(AQ17,Tabelas!B:D,3,0),0),\"\")","v":0},0,0,0,0,0,0,0,0]
["FULANO 10",10,null,null,null,null,null,null,null,null,null,null,null,null,null,null,null,null,null,null,null,null,null,null,null,null,null,null,null,null,null,null,null,null,null,null,null,null,null,null,null,null,null,{"$f":"IF(A18<>\"\",IFERROR(VLOOKUP(M18,Tabelas!B:D,3,0),0),\"\")","v":0},{"$f":"IF(A18<>\"\",IFERROR(VLOOKUP(N18,Tabelas!B:D,3,0),0),\"\")","v":0},{"$f":"IF(A18<>\"\",IFERROR(VLOOKUP(O18,Tabelas!B:D,3,0),0),\"\")","v":0},{"$f":"IF(A18<>\"\",IFERROR(VLOOKUP(P18,Tabelas!B:D,3,0),0),\"\")","v":0},{"$f":"IF(A18<>\"\",IFERROR(VLOOKUP(Q18,Tabelas!B:D,3,0),0),\"\")","v":0},{"$f":"IF(A18<>\"\",IFERROR(VLOOKUP(R18,Tabelas!B:D,3,0),0),\"\")","v":0},{"$f":"IF(A18<>\"\",IFERROR(VLOOKUP(S18,Tabelas!B:D,3,0),0),\"\")","v":0},{"$f":"IF(A18<>\"\",IFERROR(VLOOKUP(T18,Tabelas!B:D,3,0),0),\"\")","v":0},{"$f":"IF(A18<>\"\",IFERROR(VLOOKUP(U18,Tabelas!B:D,3,0),0),\"\")","v":0},{"$f":"IF(A18<>\"\",IFERROR(VLOOKUP(V18,Tabelas!B:D,3,0),0),\"\")","v":0},{"$f":"IF(A18<>\"\",IFERROR(VLOOKUP(W18,Tabelas!B:D,3,0),0),\"\")","v":0},{"$f":"IF(A18<>\"\",IFERROR(VLOOKUP(X18,Tabelas!B:D,3,0),0),\"\")","v":0},{"$f":"IF(A18<>\"\",IFERROR(VLOOKUP(Y18,Tabelas!B:D,3,0),0),\"\")","v":0},{"$f":"IF(A18<>\"\",IFERROR(VLOOKUP(Z18,Tabelas!B:D,3,0),0),\"\")","v":0},{"$f":"IF(A18<>\"\",IFERROR(VLOOKUP(AA18,Tabelas!B:D,3,0),0),\"\")","v":0},{"$f":"IF(A18<>\"\",IFERROR(VLOOKUP(AB18,Tabelas!B:D,3,0),0),\"\")","v":0},{"$f":"IF(A18<>\"\",IFERROR(VLOOKUP(AC18,Tabelas!B:D,3,0),0),\"\")","v":0},{"$f":"IF(A18<>\"\",IFERROR(VLOOKUP(AD18,Tabelas!B:D,3,0),0),\"\")","v":0},{"$f":"IF(A18<>\"\",IFERROR(VLOOKUP(AE18,Tabelas!B:D,3,0),0),\"\")","v":0},{"$f":"IF(A18<>\"\",IFERROR(VLOOKUP(AF18,Tabelas!B:D,3,0),0),\"\")","v":0},{"$f":"IF(A18<>\"\",IFERROR(VLOOKUP(AG18,Tabelas!B:D,3,0),0),\"\")","v":0},{"$f":"IF(A18<>\"\",IFERROR(VLOOKUP(AH18,Tabelas!B:D,3,0),0),\"\")","v":0},{"$f":"IF(A18<>\"\",IFERROR(VLOOKUP(AI18,Tabelas!B:D,3,0),0),\"\")","v":0},{"$f":"IF(A18<>\"\",IFERROR(VLOOKUP(AJ18,Tabelas!B:D,3,0),0),\"\")","v":0},{"$f":"IF(A18<>\"\",IFERROR(VLOOKUP(AK18,Tabelas!B:D,3,0),0),\"\")","v":0},{"$f":"IF(A18<>\"\",IFERROR(VLOOKUP(AL18,Tabelas!B:D,3,0),0),\"\")","v":0},{"$f":"IF(A18<>\"\",IFERROR(VLOOKUP(AM18,Tabelas!B:D,3,0),0),\"\")","v":0},{"$f":"IF(A18<>\"\",IFERROR(VLOOKUP(AN18,Tabelas!B:D,3,0),0),\"\")","v":0},{"$f":"IF(A18<>\"\",IFERROR(VLOOKUP(AO18,Tabelas!B:D,3,0),0),\"\")","v":0},{"$f":"IF(A18<>\"\",IFERROR(VLOOKUP(AP18,Tabelas!B:D,3,0),0),\"\")","v":0},{"$f":"IF(A18<>\"\",IFERROR(VLOOKUP(AQ18,Tabelas!B:D,3,0),0),\"\")","v":0},0,0,0,0,0,0,0,0]
["FULANO 11",11,null,null,null,null,null,null,null,null,null,null,null,null,null,null,null,null,null,null,null,null,null,null,null,null,null,null,null,null,null,null,null,null,null,null,null,null,null,null,null,null,null,{"$f":"IF(A19<>\"\",IFERROR(VLOOKUP(M19,Tabelas!B:D,3,0),0),\"\")","v":0},{"$f":"IF(A19<>\"\",IFERROR(VLOOKUP(N19,Tabelas!B:D,3,0),0),\"\")","v":0},{"$f":"IF(A19<>\"\",IFERROR(VLOOKUP(O19,Tabelas!B:D,3,0),0),\"\")","v":0},{"$f":"IF(A19<>\"\",IFERROR(VLOOKUP(P19,Tabelas!B:D,3,0),0),\"\")","v":0},{"$f":"IF(A19<>\"\",IFERROR(VLOOKUP(Q19,Tabelas!B:D,3,0),0),\"\")","v":0},{"$f":"IF(A19<>\"\",IFERROR(VLOOKUP(R19,Tabelas!B:D,3,0),0),\"\")","v":0},{"$f":"IF(A19<>\"\",IFERROR(VLOOKUP(S19,Tabelas!B:D,3,0),0),\"\")","v":0},{"$f":"IF(A19<>\"\",IFERROR(VLOOKUP(T19,Tabelas!B:D,3,0),0),\"\")","v":0},{"$f":"IF(A19<>\"\",IFERROR(VLOOKUP(U19,Tabelas!B:D,3,0),0),\"\")","v":0},{"$f":"IF(A19<>\"\",IFERROR(VLOOKUP(V19,Tabelas!B:D,3,0),0),\"\")","v":0},{"$f":"IF(A19<>\"\",IFERROR(VLOOKUP(W19,Tabelas!B:D,3,0),0),\"\")","v":0},{"$f":"IF(A19<>\"\",IFERROR(VLOOKUP(X19,Tabelas!B:D,3,0),0),\"\")","v":0},{"$f":"IF(A19<>\"\",IFERROR(VLOOKUP(Y19,Tabelas!B:D,3,0),0),\"\")","v":0},{"$f":"IF(A19<>\"\",IFERROR(VLOOKUP(Z19,Tabelas!B:D,3,0),0),\"\")","v":0},{"$f":"IF(A19<>\"\",IFERROR(VLOOKUP(AA19,Tabelas!B:D,3,0),0),\"\")","v":0},{"$f":"IF(A19<>\"\",IFERROR(VLOOKUP(AB19,Tabelas!B:D,3,0),0),\"\")","v":0},{"$f":"IF(A19<>\"\",IFERROR(VLOOKUP(AC19,Tabelas!B:D,3,0),0),\"\")","v":0},{"$f":"IF(A19<>\"\",IFERROR(VLOOKUP(AD19,Tabelas!B:D,3,0),0),\"\")","v":0},{"$f":"IF(A19<>\"\",IFERROR(VLOOKUP(AE19,Tabelas!B:D,3,0),0),\"\")","v":0},{"$f":"IF(A19<>\"\",IFERROR(VLOOKUP(AF19,Tabelas!B:D,3,0),0),\"\")","v":0},{"$f":"IF(A19<>\"\",IFERROR(VLOOKUP(AG19,Tabelas!B:D,3,0),0),\"\")","v":0},{"$f":"IF(A19<>\"\",IFERROR(VLOOKUP(AH19,Tabelas!B:D,3,0),0),\"\")","v":0},{"$f":"IF(A19<>\"\",IFERROR(VLOOKUP(AI19,Tabelas!B:D,3,0),0),\"\")","v":0},{"$f":"IF(A19<>\"\",IFERROR(VLOOKUP(AJ19,Tabelas!B:D,3,0),0),\"\")","v":0},{"$f":"IF(A19<>\"\",IFERROR(VLOOKUP(AK19,Tabelas!B:D,3,0),0),\"\")","v":0},{"$f":"IF(A19<>\"\",IFERROR(VLOOKUP(AL19,Tabelas!B:D,3,0),0),\"\")","v":0},{"$f":"IF(A19<>\"\",IFERROR(VLOOKUP(AM19,Tabelas!B:D,3,0),0),\"\")","v":0},{"$f":"IF(A19<>\"\",IFERROR(VLOOKUP(AN19,Tabelas!B:D,3,0),0),\"\")","v":0},{"$f":"IF(A19<>\"\",IFERROR(VLOOKUP(AO19,Tabelas!B:D,3,0),0),\"\")","v":0},{"$f":"IF(A19<>\"\",IFERROR(VLOOKUP(AP19,Tabelas!B:D,3,0),0),\"\")","v":0},{"$f":"IF(A19<>\"\",IFERROR(VLOOKUP(AQ19,Tabelas!B:D,3,0),0),\"\")","v":0},0,0,0,0,0,0,0,0]
["FULANO 12",12,null,null,null,null,null,null,null,null,null,null,null,null,null,null,null,null,null,null,null,null,null,null,null,null,null,null,null,null,null,null,null,null,null,null,null,null,null,null,null,null,null,{"$f":"IF(A20<>\"\",IFERROR(VLOOKUP(M20,Tabelas!B:D,3,0),0),\"\")","v":0},{"$f":"IF(A20<>\"\",IFERROR(VLOOKUP(N20,Tabelas!B:D,3,0),0),\"\")","v":0},{"$f":"IF(A20<>\"\",IFERROR(VLOOKUP(O20,Tabelas!B:D,3,0),0),\"\")","v":0},{"$f":"IF(A20<>\"\",IFERROR(VLOOKUP(P20,Tabelas!B:D,3,0),0),\"\")","v":0},{"$f":"IF(A20<>\"\",IFERROR(VLOOKUP(Q20,Tabelas!B:D,3,0),0),\"\")","v":0},{"$f":"IF(A20<>\"\",IFERROR(VLOOKUP(R20,Tabelas!B:D,3,0),0),\"\")","v":0},{"$f":"IF(A20<>\"\",IFERROR(VLOOKUP(S20,Tabelas!B:D,3,0),0),\"\")","v":0},{"$f":"IF(A20<>\"\",IFERROR(VLOOKUP(T20,Tabelas!B:D,3,0),0),\"\")","v":0},{"$f":"IF(A20<>\"\",IFERROR(VLOOKUP(U20,Tabelas!B:D,3,0),0),\"\")","v":0},{"$f":"IF(A20<>\"\",IFERROR(VLOOKUP(V20,Tabelas!B:D,3,0),0),\"\")","v":0},{"$f":"IF(A20<>\"\",IFERROR(VLOOKUP(W20,Tabelas!B:D,3,0),0),\"\")","v":0},{"$f":"IF(A20<>\"\",IFERROR(VLOOKUP(X20,Tabelas!B:D,3,0),0),\"\")","v":0},{"$f":"IF(A20<>\"\",IFERROR(VLOOKUP(Y20,Tabelas!B:D,3,0),0),\"\")","v":0},{"$f":"IF(A20<>\"\",IFERROR(VLOOKUP(Z20,Tabelas!B:D,3,0),0),\"\")","v":0},{"$f":"IF(A20<>\"\",IFERROR(VLOOKUP(AA20,Tabelas!B:D,3,0),0),\"\")","v":0},{"$f":"IF(A20<>\"\",IFERROR(VLOOKUP(AB20,Tabelas!B:D,3,0),0),\"\")","v":0},{"$f":"IF(A20<>\"\",IFERROR(VLOOKUP(AC20,Tabelas!B:D,3,0),0),\"\")","v":0},{"$f":"IF(A20<>\"\",IFERROR(VLOOKUP(AD20,Tabelas!B:D,3,0),0),\"\")","v":0},{"$f":"IF(A20<>\"\",IFERROR(VLOOKUP(AE20,Tabelas!B:D,3,0),0),\"\")","v":0},{"$f":"IF(A20<>\"\",IFERROR(VLOOKUP(AF20,Tabelas!B:D,3,0),0),\"\")","v":0},{"$f":"IF(A20<>\"\",IFERROR(VLOOKUP(AG20,Tabelas!B:D,3,0),0),\"\")","v":0},{"$f":"IF(A20<>\"\",IFERROR(VLOOKUP(AH20,Tabelas!B:D,3,0),0),\"\")","v":0},{"$f":"IF(A20<>\"\",IFERROR(VLOOKUP(AI20,Tabelas!B:D,3,0),0),\"\")","v":0},{"$f":"IF(A20<>\"\",IFERROR(VLOOKUP(AJ20,Tabelas!B:D,3,0),0),\"\")","v":0},{"$f":"IF(A20<>\"\",IFERROR(VLOOKUP(AK20,Tabelas!B:D,3,0),0),\"\")","v":0},{"$f":"IF(A20<>\"\",IFERROR(VLOOKUP(AL20,Tabelas!B:D,3,0),0),\"\")","v":0},{"$f":"IF(A20<>\"\",IFERROR(VLOOKUP(AM20,Tabelas!B:D,3,0),0),\"\")","v":0},{"$f":"IF(A20<>\"\",IFERROR(VLOOKUP(AN20,Tabelas!B:D,3,0),0),\"\")","v":0},{"$f":"IF(A20<>\"\",IFERROR(VLOOKUP(AO20,Tabelas!B:D,3,0),0),\"\")","v":0},{"$f":"IF(A20<>\"\",IFERROR(VLOOKUP(AP20,Tabelas!B:D,3,0),0),\"\")","v":0},{"$f":"IF(A20<>\"\",IFERROR(VLOOKUP(AQ20,Tabelas!B:D,3,0),0),\"\")","v":0},0,0,0,0,0,0,0,0]
["FULANO 13",13,null,null,null,null,null,null,null,null,null,null,null,null,null,null,null,null,null,null,null,null,null,null,null,null,null,null,null,null,null,null,null,null,null,null,null,null,null,null,null,null,null,{"$f":"IF(A21<>\"\",IFERROR(VLOOKUP(M21,Tabelas!B:D,3,0),0),\"\")","v":0},{"$f":"IF(A21<>\"\",IFERROR(VLOOKUP(N21,Tabelas!B:D,3,0),0),\"\")","v":0},{"$f":"IF(A21<>\"\",IFERROR(VLOOKUP(O21,Tabelas!B:D,3,0),0),\"\")","v":0},{"$f":"IF(A21<>\"\",IFERROR(VLOOKUP(P21,Tabelas!B:D,3,0),0),\"\")","v":0},{"$f":"IF(A21<>\"\",IFERROR(VLOOKUP(Q21,Tabelas!B:D,3,0),0),\"\")","v":0},{"$f":"IF(A21<>\"\",IFERROR(VLOOKUP(R21,Tabelas!B:D,3,0),0),\"\")","v":0},{"$f":"IF(A21<>\"\",IFERROR(VLOOKUP(S21,Tabelas!B:D,3,0),0),\"\")","v":0},{"$f":"IF(A21<>\"\",IFERROR(VLOOKUP(T21,Tabelas!B:D,3,0),0),\"\")","v":0},{"$f":"IF(A21<>\"\",IFERROR(VLOOKUP(U21,Tabelas!B:D,3,0),0),\"\")","v":0},{"$f":"IF(A21<>\"\",IFERROR(VLOOKUP(V21,Tabelas!B:D,3,0),0),\"\")","v":0},{"$f":"IF(A21<>\"\",IFERROR(VLOOKUP(W21,Tabelas!B:D,3,0),0),\"\")","v":0},{"$f":"IF(A21<>\"\",IFERROR(VLOOKUP(X21,Tabelas!B:D,3,0),0),\"\")","v":0},{"$f":"IF(A21<>\"\",IFERROR(VLOOKUP(Y21,Tabelas!B:D,3,0),0),\"\")","v":0},{"$f":"IF(A21<>\"\",IFERROR(VLOOKUP(Z21,Tabelas!B:D,3,0),0),\"\")","v":0},{"$f":"IF(A21<>\"\",IFERROR(VLOOKUP(AA21,Tabelas!B:D,3,0),0),\"\")","v":0},{"$f":"IF(A21<>\"\",IFERROR(VLOOKUP(AB21,Tabelas!B:D,3,0),0),\"\")","v":0},{"$f":"IF(A21<>\"\",IFERROR(VLOOKUP(AC21,Tabelas!B:D,3,0),0),\"\")","v":0},{"$f":"IF(A21<>\"\",IFERROR(VLOOKUP(AD21,Tabelas!B:D,3,0),0),\"\")","v":0},{"$f":"IF(A21<>\"\",IFERROR(VLOOKUP(AE21,Tabelas!B:D,3,0),0),\"\")","v":0},{"$f":"IF(A21<>\"\",IFERROR(VLOOKUP(AF21,Tabelas!B:D,3,0),0),\"\")","v":0},{"$f":"IF(A21<>\"\",IFERROR(VLOOKUP(AG21,Tabelas!B:D,3,0),0),\"\")","v":0},{"$f":"IF(A21<>\"\",IFERROR(VLOOKUP(AH21,Tabelas!B:D,3,0),0),\"\")","v":0},{"$f":"IF(A21<>\"\",IFERROR(VLOOKUP(AI21,Tabelas!B:D,3,0),0),\"\")","v":0},{"$f":"IF(A21<>\"\",IFERROR(VLOOKUP(AJ21,Tabelas!B:D,3,0),0),\"\")","v":0},{"$f":"IF(A21<>\"\",IFERROR(VLOOKUP(AK21,Tabelas!B:D,3,0),0),\"\")","v":0},{"$f":"IF(A21<>\"\",IFERROR(VLOOKUP(AL21,Tabelas!B:D,3,0),0),\"\")","v":0},{"$f":"IF(A21<>\"\",IFERROR(VLOOKUP(AM21,Tabelas!B:D,3,0),0),\"\")","v":0},{"$f":"IF(A21<>\"\",IFERROR(VLOOKUP(AN21,Tabelas!B:D,3,0),0),\"\")","v":0},{"$f":"IF(A21<>\"\",IFERROR(VLOOKUP(AO21,Tabelas!B:D,3,0),0),\"\")","v":0},{"$f":"IF(A21<>\"\",IFERROR(VLOOKUP(AP21,Tabelas!B:D,3,0),0),\"\")","v":0},{"$f":"IF(A21<>\"\",IFERROR(VLOOKUP(AQ21,Tabelas!B:D,3,0),0),\"\")","v":0},0,0,0,0,0,0,0,0]
["FULANO 14",14,null,null,null,null,null,null,null,null,null,null,null,null,null,null,null,null,null,null,null,null,null,null,null,null,null,null,null,null,null,null,null,null,null,null,null,null,null,null,null,null,null,{"$f":"IF(A22<>\"\",IFERROR(VLOOKUP(M22,Tabelas!B:D,3,0),0),\"\")","v":0},{"$f":"IF(A22<>\"\",IFERROR(VLOOKUP(N22,Tabelas!B:D,3,0),0),\"\")","v":0},{"$f":"IF(A22<>\"\",IFERROR(VLOOKUP(O22,Tabelas!B:D,3,0),0),\"\")","v":0},{"$f":"IF(A22<>\"\",IFERROR(VLOOKUP(P22,Tabelas!B:D,3,0),0),\"\")","v":0},{"$f":"IF(A22<>\"\",IFERROR(VLOOKUP(Q22,Tabelas!B:D,3,0),0),\"\")","v":0},{"$f":"IF(A22<>\"\",IFERROR(VLOOKUP(R22,Tabelas!B:D,3,0),0),\"\")","v":0},{"$f":"IF(A22<>\"\",IFERROR(VLOOKUP(S22,Tabelas!B:D,3,0),0),\"\")","v":0},{"$f":"IF(A22<>\"\",IFERROR(VLOOKUP(T22,Tabelas!B:D,3,0),0),\"\")","v":0},{"$f":"IF(A22<>\"\",IFERROR(VLOOKUP(U22,Tabelas!B:D,3,0),0),\"\")","v":0},{"$f":"IF(A22<>\"\",IFERROR(VLOOKUP(V22,Tabelas!B:D,3,0),0),\"\")","v":0},{"$f":"IF(A22<>\"\",IFERROR(VLOOKUP(W22,Tabelas!B:D,3,0),0),\"\")","v":0},{"$f":"IF(A22<>\"\",IFERROR(VLOOKUP(X22,Tabelas!B:D,3,0),0),\"\")","v":0},{"$f":"IF(A22<>\"\",IFERROR(VLOOKUP(Y22,Tabelas!B:D,3,0),0),\"\")","v":0},{"$f":"IF(A22<>\"\",IFERROR(VLOOKUP(Z22,Tabelas!B:D,3,0),0),\"\")","v":0},{"$f":"IF(A22<>\"\",IFERROR(VLOOKUP(AA22,Tabelas!B:D,3,0),0),\"\")","v":0},{"$f":"IF(A22<>\"\",IFERROR(VLOOKUP(AB22,Tabelas!B:D,3,0),0),\"\")","v":0},{"$f":"IF(A22<>\"\",IFERROR(VLOOKUP(AC22,Tabelas!B:D,3,0),0),\"\")","v":0},{"$f":"IF(A22<>\"\",IFERROR(VLOOKUP(AD22,Tabelas!B:D,3,0),0),\"\")","v":0},{"$f":"IF(A22<>\"\",IFERROR(VLOOKUP(AE22,Tabelas!B:D,3,0),0),\"\")","v":0},{"$f":"IF(A22<>\"\",IFERROR(VLOOKUP(AF22,Tabelas!B:D,3,0),0),\"\")","v":0},{"$f":"IF(A22<>\"\",IFERROR(VLOOKUP(AG22,Tabelas!B:D,3,0),0),\"\")","v":0},{"$f":"IF(A22<>\"\",IFERROR(VLOOKUP(AH22,Tabelas!B:D,3,0),0),\"\")","v":0},{"$f":"IF(A22<>\"\",IFERROR(VLOOKUP(AI22,Tabelas!B:D,3,0),0),\"\")","v":0},{"$f":"IF(A22<>\"\",IFERROR(VLOOKUP(AJ22,Tabelas!B:D,3,0),0),\"\")","v":0},{"$f":"IF(A22<>\"\",IFERROR(VLOOKUP(AK22,Tabelas!B:D,3,0),0),\"\")","v":0},{"$f":"IF(A22<>\"\",IFERROR(VLOOKUP(AL22,Tabelas!B:D,3,0),0),\"\")","v":0},{"$f":"IF(A22<>\"\",IFERROR(VLOOKUP(AM22,Tabelas!B:D,3,0),0),\"\")","v":0},{"$f":"IF(A22<>\"\",IFERROR(VLOOKUP(AN22,Tabelas!B:D,3,0),0),\"\")","v":0},{"$f":"IF(A22<>\"\",IFERROR(VLOOKUP(AO22,Tabelas!B:D,3,0),0),\"\")","v":0},{"$f":"IF(A22<>\"\",IFERROR(VLOOKUP(AP22,Tabelas!B:D,3,0),0),\"\")","v":0},{"$f":"IF(A22<>\"\",IFERROR(VLOOKUP(AQ22,Tabelas!B:D,3,0),0),\"\")","v":0},0,0,0,0,0,0,0,0]
["FULANO 15",15,null,null,null,null,null,null,null,null,null,null,null,null,null,null,null,null,null,null,null,null,null,null,null,null,null,null,null,null,null,null,null,null,null,null,null,null,null,null,null,null,null,{"$f":"IF(A23<>\"\",IFERROR(VLOOKUP(M23,Tabelas!B:D,3,0),0),\"\")","v":0},{"$f":"IF(A23<>\"\",IFERROR(VLOOKUP(N23,Tabelas!B:D,3,0),0),\"\")","v":0},{"$f":"IF(A23<>\"\",IFERROR(VLOOKUP(O23,Tabelas!B:D,3,0),0),\"\")","v":0},{"$f":"IF(A23<>\"\",IFERROR(VLOOKUP(P23,Tabelas!B:D,3,0),0),\"\")","v":0},{"$f":"IF(A23<>\"\",IFERROR(VLOOKUP(Q23,Tabelas!B:D,3,0),0),\"\")","v":0},{"$f":"IF(A23<>\"\",IFERROR(VLOOKUP(R23,Tabelas!B:D,3,0),0),\"\")","v":0},{"$f":"IF(A23<>\"\",IFERROR(VLOOKUP(S23,Tabelas!B:D,3,0),0),\"\")","v":0},{"$f":"IF(A23<>\"\",IFERROR(VLOOKUP(T23,Tabelas!B:D,3,0),0),\"\")","v":0},{"$f":"IF(A23<>\"\",IFERROR(VLOOKUP(U23,Tabelas!B:D,3,0),0),\"\")","v":0},{"$f":"IF(A23<>\"\",IFERROR(VLOOKUP(V23,Tabelas!B:D,3,0),0),\"\")","v":0},{"$f":"IF(A23<>\"\",IFERROR(VLOOKUP(W23,Tabelas!B:D,3,0),0),\"\")","v":0},{"$f":"IF(A23<>\"\",IFERROR(VLOOKUP(X23,Tabelas!B:D,3,0),0),\"\")","v":0},{"$f":"IF(A23<>\"\",IFERROR(VLOOKUP(Y23,Tabelas!B:D,3,0),0),\"\")","v":0},{"$f":"IF(A23<>\"\",IFERROR(VLOOKUP(Z23,Tabelas!B:D,3,0),0),\"\")","v":0},{"$f":"IF(A23<>\"\",IFERROR(VLOOKUP(AA23,Tabelas!B:D,3,0),0),\"\")","v":0},{"$f":"IF(A23<>\"\",IFERROR(VLOOKUP(AB23,Tabelas!B:D,3,0),0),\"\")","v":0},{"$f":"IF(A23<>\"\",IFERROR(VLOOKUP(AC23,Tabelas!B:D,3,0),0),\"\")","v":0},{"$f":"IF(A23<>\"\",IFERROR(VLOOKUP(AD23,Tabelas!B:D,3,0),0),\"\")","v":0},{"$f":"IF(A23<>\"\",IFERROR(VLOOKUP(AE23,Tabelas!B:D,3,0),0),\"\")","v":0},{"$f":"IF(A23<>\"\",IFERROR(VLOOKUP(AF23,Tabelas!B:D,3,0),0),\"\")","v":0},{"$f":"IF(A23<>\"\",IFERROR(VLOOKUP(AG23,Tabelas!B:D,3,0),0),\"\")","v":0},{"$f":"IF(A23<>\"\",IFERROR(VLOOKUP(AH23,Tabelas!B:D,3,0),0),\"\")","v":0},{"$f":"IF(A23<>\"\",IFERROR(VLOOKUP(AI23,Tabelas!B:D,3,0),0),\"\")","v":0},{"$f":"IF(A23<>\"\",IFERROR(VLOOKUP(AJ23,Tabelas!B:D,3,0),0),\"\")","v":0},{"$f":"IF(A23<>\"\",IFERROR(VLOOKUP(AK23,Tabelas!B:D,3,0),0),\"\")","v":0},{"$f":"IF(A23<>\"\",IFERROR(VLOOKUP(AL23,Tabelas!B:D,3,0),0),\"\")","v":0},{"$f":"IF(A23<>\"\",IFERROR(VLOOKUP(AM23,Tabelas!B:D,3,0),0),\"\")","v":0},{"$f":"IF(A23<>\"\",IFERROR(VLOOKUP(AN23,Tabelas!B:D,3,0),0),\"\")","v":0},{"$f":"IF(A23<>\"\",IFERROR(VLOOKUP(AO23,Tabelas!B:D,3,0),0),\"\")","v":0},{"$f":"IF(A23<>\"\",IFERROR(VLOOKUP(AP23,Tabelas!B:D,3,0),0),\"\")","v":0},{"$f":"IF(A23<>\"\",IFERROR(VLOOKUP(AQ23,Tabelas!B:D,3,0),0),\"\")","v":0},0,0,0,0,0,0,0,0]
["FULANO 16",16,null,null,null,null,null,null,null,null,null,null,null,null,null,null,null,null,null,null,null,null,null,null,null,null,null,null,null,null,null,null,null,null,null,null,null,null,null,null,null,null,null,{"$f":"IF(A24<>\"\",IFERROR(VLOOKUP(M24,Tabelas!B:D,3,0),0),\"\")","v":0},{"$f":"IF(A24<>\"\",IFERROR(VLOOKUP(N24,Tabelas!B:D,3,0),0),\"\")","v":0},{"$f":"IF(A24<>\"\",IFERROR(VLOOKUP(O24,Tabelas!B:D,3,0),0),\"\")","v":0},{"$f":"IF(A24<>\"\",IFERROR(VLOOKUP(P24,Tabelas!B:D,3,0),0),\"\")","v":0},{"$f":"IF(A24<>\"\",IFERROR(VLOOKUP(Q24,Tabelas!B:D,3,0),0),\"\")","v":0},{"$f":"IF(A24<>\"\",IFERROR(VLOOKUP(R24,Tabelas!B:D,3,0),0),\"\")","v":0},{"$f":"IF(A24<>\"\",IFERROR(VLOOKUP(S24,Tabelas!B:D,3,0),0),\"\")","v":0},{"$f":"IF(A24<>\"\",IFERROR(VLOOKUP(T24,Tabelas!B:D,3,0),0),\"\")","v":0},{"$f":"IF(A24<>\"\",IFERROR(VLOOKUP(U24,Tabelas!B:D,3,0),0),\"\")","v":0},{"$f":"IF(A24<>\"\",IFERROR(VLOOKUP(V24,Tabelas!B:D,3,0),0),\"\")","v":0},{"$f":"IF(A24<>\"\",IFERROR(VLOOKUP(W24,Tabelas!B:D,3,0),0),\"\")","v":0},{"$f":"IF(A24<>\"\",IFERROR(VLOOKUP(X24,Tabelas!B:D,3,0),0),\"\")","v":0},{"$f":"IF(A24<>\"\",IFERROR(VLOOKUP(Y24,Tabelas!B:D,3,0),0),\"\")","v":0},{"$f":"IF(A24<>\"\",IFERROR(VLOOKUP(Z24,Tabelas!B:D,3,0),0),\"\")","v":0},{"$f":"IF(A24<>\"\",IFERROR(VLOOKUP(AA24,Tabelas!B:D,3,0),0),\"\")","v":0},{"$f":"IF(A24<>\"\",IFERROR(VLOOKUP(AB24,Tabelas!B:D,3,0),0),\"\")","v":0},{"$f":"IF(A24<>\"\",IFERROR(VLOOKUP(AC24,Tabelas!B:D,3,0),0),\"\")","v":0},{"$f":"IF(A24<>\"\",IFERROR(VLOOKUP(AD24,Tabelas!B:D,3,0),0),\"\")","v":0},{"$f":"IF(A24<>\"\",IFERROR(VLOOKUP(AE24,Tabelas!B:D,3,0),0),\"\")","v":0},{"$f":"IF(A24<>\"\",IFERROR(VLOOKUP(AF24,Tabelas!B:D,3,0),0),\"\")","v":0},{"$f":"IF(A24<>\"\",IFERROR(VLOOKUP(AG24,Tabelas!B:D,3,0),0),\"\")","v":0},{"$f":"IF(A24<>\"\",IFERROR(VLOOKUP(AH24,Tabelas!B:D,3,0),0),\"\")","v":0},{"$f":"IF(A24<>\"\",IFERROR(VLOOKUP(AI24,Tabelas!B:D,3,0),0),\"\")","v":0},{"$f":"IF(A24<>\"\",IFERROR(VLOOKUP(AJ24,Tabelas!B:D,3,0),0),\"\")","v":0},{"$f":"IF(A24<>\"\",IFERROR(VLOOKUP(AK24,Tabelas!B:D,3,0),0),\"\")","v":0},{"$f":"IF(A24<>\"\",IFERROR(VLOOKUP(AL24,Tabelas!B:D,3,0),0),\"\")","v":0},{"$f":"IF(A24<>\"\",IFERROR(VLOOKUP(AM24,Tabelas!B:D,3,0),0),\"\")","v":0},{"$f":"IF(A24<>\"\",IFERROR(VLOOKUP(AN24,Tabelas!B:D,3,0),0),\"\")","v":0},{"$f":"IF(A24<>\"\",IFERROR(VLOOKUP(AO24,Tabelas!B:D,3,0),0),\"\")","v":0},{"$f":"IF(A24<>\"\",IFERROR(VLOOKUP(AP24,Tabelas!B:D,3,0),0),\"\")","v":0},{"$f":"IF(A24<>\"\",IFERROR(VLOOKUP(AQ24,Tabelas!B:D,3,0),0),\"\")","v":0},0,0,0,0,0,0,0,0]
["FULANO 17",17,null,null,null,null,null,null,null,null,null,null,null,null,null,null,null,null,null,null,null,null,null,null,null,null,null,null,null,null,null,null,null,null,null,null,null,null,null,null,null,null,null,{"$f":"IF(A25<>\"\",IFERROR(VLOOKUP(M25,Tabelas!B:D,3,0),0),\"\")","v":0},{"$f":"IF(A25<>\"\",IFERROR(VLOOKUP(N25,Tabelas!B:D,3,0),0),\"\")","v":0},{"$f":"IF(A25<>\"\",IFERROR(VLOOKUP(O25,Tabelas!B:D,3,0),0),\"\")","v":0},{"$f":"IF(A25<>\"\",IFERROR(VLOOKUP(P25,Tabelas!B:D,3,0),0),\"\")","v":0},{"$f":"IF(A25<>\"\",IFERROR(VLOOKUP(Q25,Tabelas!B:D,3,0),0),\"\")","v":0},{"$f":"IF(A25<>\"\",IFERROR(VLOOKUP(R25,Tabelas!B:D,3,0),0),\"\")","v":0},{"$f":"IF(A25<>\"\",IFERROR(VLOOKUP(S25,Tabelas!B:D,3,0),0),\"\")","v":0},{"$f":"IF(A25<>\"\",IFERROR(VLOOKUP(T25,Tabelas!B:D,3,0),0),\"\")","v":0},{"$f":"IF(A25<>\"\",IFERROR(VLOOKUP(U25,Tabelas!B:D,3,0),0),\"\")","v":0},{"$f":"IF(A25<>\"\",IFERROR(VLOOKUP(V25,Tabelas!B:D,3,0),0),\"\")","v":0},{"$f":"IF(A25<>\"\",IFERROR(VLOOKUP(W25,Tabelas!B:D,3,0),0),\"\")","v":0},{"$f":"IF(A25<>\"\",IFERROR(VLOOKUP(X25,Tabelas!B:D,3,0),0),\"\")","v":0},{"$f":"IF(A25<>\"\",IFERROR(VLOOKUP(Y25,Tabelas!B:D,3,0),0),\"\")","v":0},{"$f":"IF(A25<>\"\",IFERROR(VLOOKUP(Z25,Tabelas!B:D,3,0),0),\"\")","v":0},{"$f":"IF(A25<>\"\",IFERROR(VLOOKUP(AA25,Tabelas!B:D,3,0),0),\"\")","v":0},{"$f":"IF(A25<>\"\",IFERROR(VLOOKUP(AB25,Tabelas!B:D,3,0),0),\"\")","v":0},{"$f":"IF(A25<>\"\",IFERROR(VLOOKUP(AC25,Tabelas!B:D,3,0),0),\"\")","v":0},{"$f":"IF(A25<>\"\",IFERROR(VLOOKUP(AD25,Tabelas!B:D,3,0),0),\"\")","v":0},{"$f":"IF(A25<>\"\",IFERROR(VLOOKUP(AE25,Tabelas!B:D,3,0),0),\"\")","v":0},{"$f":"IF(A25<>\"\",IFERROR(VLOOKUP(AF25,Tabelas!B:D,3,0),0),\"\")","v":0},{"$f":"IF(A25<>\"\",IFERROR(VLOOKUP(AG25,Tabelas!B:D,3,0),0),\"\")","v":0},{"$f":"IF(A25<>\"\",IFERROR(VLOOKUP(AH25,Tabelas!B:D,3,0),0),\"\")","v":0},{"$f":"IF(A25<>\"\",IFERROR(VLOOKUP(AI25,Tabelas!B:D,3,0),0),\"\")","v":0},{"$f":"IF(A25<>\"\",IFERROR(VLOOKUP(AJ25,Tabelas!B:D,3,0),0),\"\")","v":0},{"$f":"IF(A25<>\"\",IFERROR(VLOOKUP(AK25,Tabelas!B:D,3,0),0),\"\")","v":0},{"$f":"IF(A25<>\"\",IFERROR(VLOOKUP(AL25,Tabelas!B:D,3,0),0),\"\")","v":0},{"$f":"IF(A25<>\"\",IFERROR(VLOOKUP(AM25,Tabelas!B:D,3,0),0),\"\")","v":0},{"$f":"IF(A25<>\"\",IFERROR(VLOOKUP(AN25,Tabelas!B:D,3,0),0),\"\")","v":0},{"$f":"IF(A25<>\"\",IFERROR(VLOOKUP(AO25,Tabelas!B:D,3,0),0),\"\")","v":0},{"$f":"IF(A25<>\"\",IFERROR(VLOOKUP(AP25,Tabelas!B:D,3,0),0),\"\")","v":0},{"$f":"IF(A25<>\"\",IFERROR(VLOOKUP(AQ25,Tabelas!B:D,3,0),0),\"\")","v":0},0,0,0,0,0,0,0,0]
["FULANO 18",18,null,null,null,null,null,null,null,null,null,null,null,null,null,null,null,null,null,null,null,null,null,null,null,null,null,null,null,null,null,null,null,null,null,null,null,null,null,null,null,null,null,{"$f":"IF(A26<>\"\",IFERROR(VLOOKUP(M26,Tabelas!B:D,3,0),0),\"\")","v":0},{"$f":"IF(A26<>\"\",IFERROR(VLOOKUP(N26,Tabelas!B:D,3,0),0),\"\")","v":0},{"$f":"IF(A26<>\"\",IFERROR(VLOOKUP(O26,Tabelas!B:D,3,0),0),\"\")","v":0},{"$f":"IF(A26<>\"\",IFERROR(VLOOKUP(P26,Tabelas!B:D,3,0),0),\"\")","v":0},{"$f":"IF(A26<>\"\",IFERROR(VLOOKUP(Q26,Tabelas!B:D,3,0),0),\"\")","v":0},{"$f":"IF(A26<>\"\",IFERROR(VLOOKUP(R26,Tabelas!B:D,3,0),0),\"\")","v":0},{"$f":"IF(A26<>\"\",IFERROR(VLOOKUP(S26,Tabelas!B:D,3,0),0),\"\")","v":0},{"$f":"IF(A26<>\"\",IFERROR(VLOOKUP(T26,Tabelas!B:D,3,0),0),\"\")","v":0},{"$f":"IF(A26<>\"\",IFERROR(VLOOKUP(U26,Tabelas!B:D,3,0),0),\"\")","v":0},{"$f":"IF(A26<>\"\",IFERROR(VLOOKUP(V26,Tabelas!B:D,3,0),0),\"\")","v":0},{"$f":"IF(A26<>\"\",IFERROR(VLOOKUP(W26,Tabelas!B:D,3,0),0),\"\")","v":0},{"$f":"IF(A26<>\"\",IFERROR(VLOOKUP(X26,Tabelas!B:D,3,0),0),\"\")","v":0},{"$f":"IF(A26<>\"\",IFERROR(VLOOKUP(Y26,Tabelas!B:D,3,0),0),\"\")","v":0},{"$f":"IF(A26<>\"\",IFERROR(VLOOKUP(Z26,Tabelas!B:D,3,0),0),\"\")","v":0},{"$f":"IF(A26<>\"\",IFERROR(VLOOKUP(AA26,Tabelas!B:D,3,0),0),\"\")","v":0},{"$f":"IF(A26<>\"\",IFERROR(VLOOKUP(AB26,Tabelas!B:D,3,0),0),\"\")","v":0},{"$f":"IF(A26<>\"\",IFERROR(VLOOKUP(AC26,Tabelas!B:D,3,0),0),\"\")","v":0},{"$f":"IF(A26<>\"\",IFERROR(VLOOKUP(AD26,Tabelas!B:D,3,0),0),\"\")","v":0},{"$f":"IF(A26<>\"\",IFERROR(VLOOKUP(AE26,Tabelas!B:D,3,0),0),\"\")","v":0},{"$f":"IF(A26<>\"\",IFERROR(VLOOKUP(AF26,Tabelas!B:D,3,0),0),\"\")","v":0},{"$f":"IF(A26<>\"\",IFERROR(VLOOKUP(AG26,Tabelas!B:D,3,0),0),\"\")","v":0},{"$f":"IF(A26<>\"\",IFERROR(VLOOKUP(AH26,Tabelas!B:D,3,0),0),\"\")","v":0},{"$f":"IF(A26<>\"\",IFERROR(VLOOKUP(AI26,Tabelas!B:D,3,0),0),\"\")","v":0},{"$f":"IF(A26<>\"\",IFERROR(VLOOKUP(AJ26,Tabelas!B:D,3,0),0),\"\")","v":0},{"$f":"IF(A26<>\"\",IFERROR(VLOOKUP(AK26,Tabelas!B:D,3,0),0),\"\")","v":0},{"$f":"IF(A26<>\"\",IFERROR(VLOOKUP(AL26,Tabelas!B:D,3,0),0),\"\")","v":0},{"$f":"IF(A26<>\"\",IFERROR(VLOOKUP(AM26,Tabelas!B:D,3,0),0),\"\")","v":0},{"$f":"IF(A26<>\"\",IFERROR(VLOOKUP(AN26,Tabelas!B:D,3,0),0),\"\")","v":0},{"$f":"IF(A26<>\"\",IFERROR(VLOOKUP(AO26,Tabelas!B:D,3,0),0),\"\")","v":0},{"$f":"IF(A26<>\"\",IFERROR(VLOOKUP(AP26,Tabelas!B:D,3,0),0),\"\")","v":0},{"$f":"IF(A26<>\"\",IFERROR(VLOOKUP(AQ26,Tabelas!B:D,3,0),0),\"\")","v":0},0,0,0,0,0,0,0,0]
["FULANO 19",19,null,null,null,null,null,null,null,null,null,null,null,null,null,null,null,null,null,null,null,null,null,null,null,null,null,null,null,null,null,null,null,null,null,null,null,null,null,null,null,null,null,{"$f":"IF(A27<>\"\",IFERROR(VLOOKUP(M27,Tabelas!B:D,3,0),0),\"\")","v":0},{"$f":"IF(A27<>\"\",IFERROR(VLOOKUP(N27,Tabelas!B:D,3,0),0),\"\")","v":0},{"$f":"IF(A27<>\"\",IFERROR(VLOOKUP(O27,Tabelas!B:D,3,0),0),\"\")","v":0},{"$f":"IF(A27<>\"\",IFERROR(VLOOKUP(P27,Tabelas!B:D,3,0),0),\"\")","v":0},{"$f":"IF(A27<>\"\",IFERROR(VLOOKUP(Q27,Tabelas!B:D,3,0),0),\"\")","v":0},{"$f":"IF(A27<>\"\",IFERROR(VLOOKUP(R27,Tabelas!B:D,3,0),0),\"\")","v":0},{"$f":"IF(A27<>\"\",IFERROR(VLOOKUP(S27,Tabelas!B:D,3,0),0),\"\")","v":0},{"$f":"IF(A27<>\"\",IFERROR(VLOOKUP(T27,Tabelas!B:D,3,0),0),\"\")","v":0},{"$f":"IF(A27<>\"\",IFERROR(VLOOKUP(U27,Tabelas!B:D,3,0),0),\"\")","v":0},{"$f":"IF(A27<>\"\",IFERROR(VLOOKUP(V27,Tabelas!B:D,3,0),0),\"\")","v":0},{"$f":"IF(A27<>\"\",IFERROR(VLOOKUP(W27,Tabelas!B:D,3,0),0),\"\")","v":0},{"$f":"IF(A27<>\"\",IFERROR(VLOOKUP(X27,Tabelas!B:D,3,0),0),\"\")","v":0},{"$f":"IF(A27<>\"\",IFERROR(VLOOKUP(Y27,Tabelas!B:D,3,0),0),\"\")","v":0},{"$f":"IF(A27<>\"\",IFERROR(VLOOKUP(Z27,Tabelas!B:D,3,0),0),\"\")","v":0},{"$f":"IF(A27<>\"\",IFERROR(VLOOKUP(AA27,Tabelas!B:D,3,0),0),\"\")","v":0},{"$f":"IF(A27<>\"\",IFERROR(VLOOKUP(AB27,Tabelas!B:D,3,0),0),\"\")","v":0},{"$f":"IF(A27<>\"\",IFERROR(VLOOKUP(AC27,Tabelas!B:D,3,0),0),\"\")","v":0},{"$f":"IF(A27<>\"\",IFERROR(VLOOKUP(AD27,Tabelas!B:D,3,0),0),\"\")","v":0},{"$f":"IF(A27<>\"\",IFERROR(VLOOKUP(AE27,Tabelas!B:D,3,0),0),\"\")","v":0},{"$f":"IF(A27<>\"\",IFERROR(VLOOKUP(AF27,Tabelas!B:D,3,0),0),\"\")","v":0},{"$f":"IF(A27<>\"\",IFERROR(VLOOKUP(AG27,Tabelas!B:D,3,0),0),\"\")","v":0},{"$f":"IF(A27<>\"\",IFERROR(VLOOKUP(AH27,Tabelas!B:D,3,0),0),\"\")","v":0},{"$f":"IF(A27<>\"\",IFERROR(VLOOKUP(AI27,Tabelas!B:D,3,0),0),\"\")","v":0},{"$f":"IF(A27<>\"\",IFERROR(VLOOKUP(AJ27,Tabelas!B:D,3,0),0),\"\")","v":0},{"$f":"IF(A27<>\"\",IFERROR(VLOOKUP(AK27,Tabelas!B:D,3,0),0),\"\")","v":0},{"$f":"IF(A27<>\"\",IFERROR(VLOOKUP(AL27,Tabelas!B:D,3,0),0),\"\")","v":0},{"$f":"IF(A27<>\"\",IFERROR(VLOOKUP(AM27,Tabelas!B:D,3,0),0),\"\")","v":0},{"$f":"IF(A27<>\"\",IFERROR(VLOOKUP(AN27,Tabelas!B:D,3,0),0),\"\")","v":0},{"$f":"IF(A27<>\"\",IFERROR(VLOOKUP(AO27,Tabelas!B:D,3,0),0),\"\")","v":0},{"$f":"IF(A27<>\"\",IFERROR(VLOOKUP(AP27,Tabelas!B:D,3,0),0),\"\")","v":0},{"$f":"IF(A27<>\"\",IFERROR(VLOOKUP(AQ27,Tabelas!B:D,3,0),0),\"\")","v":0},0,0,0,0,0,0,0,0]
["FULANO 20",20,null,null,null,null,null,null,null,null,null,null,null,null,null,null,null,null,null,null,null,null,null,null,null,null,null,null,null,null,null,null,null,null,null,null,null,null,null,null,null,null,null,{"$f":"IF(A28<>\"\",IFERROR(VLOOKUP(M28,Tabelas!B:D,3,0),0),\"\")","v":0},{"$f":"IF(A28<>\"\",IFERROR(VLOOKUP(N28,Tabelas!B:D,3,0),0),\"\")","v":0},{"$f":"IF(A28<>\"\",IFERROR(VLOOKUP(O28,Tabelas!B:D,3,0),0),\"\")","v":0},{"$f":"IF(A28<>\"\",IFERROR(VLOOKUP(P28,Tabelas!B:D,3,0),0),\"\")","v":0},{"$f":"IF(A28<>\"\",IFERROR(VLOOKUP(Q28,Tabelas!B:D,3,0),0),\"\")","v":0},{"$f":"IF(A28<>\"\",IFERROR(VLOOKUP(R28,Tabelas!B:D,3,0),0),\"\")","v":0},{"$f":"IF(A28<>\"\",IFERROR(VLOOKUP(S28,Tabelas!B:D,3,0),0),\"\")","v":0},{"$f":"IF(A28<>\"\",IFERROR(VLOOKUP(T28,Tabelas!B:D,3,0),0),\"\")","v":0},{"$f":"IF(A28<>\"\",IFERROR(VLOOKUP(U28,Tabelas!B:D,3,0),0),\"\")","v":0},{"$f":"IF(A28<>\"\",IFERROR(VLOOKUP(V28,Tabelas!B:D,3,0),0),\"\")","v":0},{"$f":"IF(A28<>\"\",IFERROR(VLOOKUP(W28,Tabelas!B:D,3,0),0),\"\")","v":0},{"$f":"IF(A28<>\"\",IFERROR(VLOOKUP(X28,Tabelas!B:D,3,0),0),\"\")","v":0},{"$f":"IF(A28<>\"\",IFERROR(VLOOKUP(Y28,Tabelas!B:D,3,0),0),\"\")","v":0},{"$f":"IF(A28<>\"\",IFERROR(VLOOKUP(Z28,Tabelas!B:D,3,0),0),\"\")","v":0},{"$f":"IF(A28<>\"\",IFERROR(VLOOKUP(AA28,Tabelas!B:D,3,0),0),\"\")","v":0},{"$f":"IF(A28<>\"\",IFERROR(VLOOKUP(AB28,Tabelas!B:D,3,0),0),\"\")","v":0},{"$f":"IF(A28<>\"\",IFERROR(VLOOKUP(AC28,Tabelas!B:D,3,0),0),\"\")","v":0},{"$f":"IF(A28<>\"\",IFERROR(VLOOKUP(AD28,Tabelas!B:D,3,0),0),\"\")","v":0},{"$f":"IF(A28<>\"\",IFERROR(VLOOKUP(AE28,Tabelas!B:D,3,0),0),\"\")","v":0},{"$f":"IF(A28<>\"\",IFERROR(VLOOKUP(AF28,Tabelas!B:D,3,0),0),\"\")","v":0},{"$f":"IF(A28<>\"\",IFERROR(VLOOKUP(AG28,Tabelas!B:D,3,0),0),\"\")","v":0},{"$f":"IF(A28<>\"\",IFERROR(VLOOKUP(AH28,Tabelas!B:D,3,0),0),\"\")","v":0},{"$f":"IF(A28<>\"\",IFERROR(VLOOKUP(AI28,Tabelas!B:D,3,0),0),\"\")","v":0},{"$f":"IF(A28<>\"\",IFERROR(VLOOKUP(AJ28,Tabelas!B:D,3,0),0),\"\")","v":0},{"$f":"IF(A28<>\"\",IFERROR(VLOOKUP(AK28,Tabelas!B:D,3,0),0),\"\")","v":0},{"$f":"IF(A28<>\"\",IFERROR(VLOOKUP(AL28,Tabelas!B:D,3,0),0),\"\")","v":0},{"$f":"IF(A28<>\"\",IFERROR(VLOOKUP(AM28,Tabelas!B:D,3,0),0),\"\")","v":0},{"$f":"IF(A28<>\"\",IFERROR(VLOOKUP(AN28,Tabelas!B:D,3,0),0),\"\")","v":0},{"$f":"IF(A28<>\"\",IFERROR(VLOOKUP(AO28,Tabelas!B:D,3,0),0),\"\")","v":0},{"$f":"IF(A28<>\"\",IFERROR(VLOOKUP(AP28,Tabelas!B:D,3,0),0),\"\")","v":0},{"$f":"IF(A28<>\"\",IFERROR(VLOOKUP(AQ28,Tabelas!B:D,3,0),0),\"\")","v":0},0,0,0,0,0,0,0,0]
["FULANO 21",21,null,null,null,null,null,null,null,null,null,null,null,null,null,null,null,null,null,null,null,null,null,null,null,null,null,null,null,null,null,null,null,null,null,null,null,null,null,null,null,null,null,{"$f":"IF(A29<>\"\",IFERROR(VLOOKUP(M29,Tabelas!B:D,3,0),0),\"\")","v":0},{"$f":"IF(A29<>\"\",IFERROR(VLOOKUP(N29,Tabelas!B:D,3,0),0),\"\")","v":0},{"$f":"IF(A29<>\"\",IFERROR(VLOOKUP(O29,Tabelas!B:D,3,0),0),\"\")","v":0},{"$f":"IF(A29<>\"\",IFERROR(VLOOKUP(P29,Tabelas!B:D,3,0),0),\"\")","v":0},{"$f":"IF(A29<>\"\",IFERROR(VLOOKUP(Q29,Tabelas!B:D,3,0),0),\"\")","v":0},{"$f":"IF(A29<>\"\",IFERROR(VLOOKUP(R29,Tabelas!B:D,3,0),0),\"\")","v":0},{"$f":"IF(A29<>\"\",IFERROR(VLOOKUP(S29,Tabelas!B:D,3,0),0),\"\")","v":0},{"$f":"IF(A29<>\"\",IFERROR(VLOOKUP(T29,Tabelas!B:D,3,0),0),\"\")","v":0},{"$f":"IF(A29<>\"\",IFERROR(VLOOKUP(U29,Tabelas!B:D,3,0),0),\"\")","v":0},{"$f":"IF(A29<>\"\",IFERROR(VLOOKUP(V29,Tabelas!B:D,3,0),0),\"\")","v":0},{"$f":"IF(A29<>\"\",IFERROR(VLOOKUP(W29,Tabelas!B:D,3,0),0),\"\")","v":0},{"$f":"IF(A29<>\"\",IFERROR(VLOOKUP(X29,Tabelas!B:D,3,0),0),\"\")","v":0},{"$f":"IF(A29<>\"\",IFERROR(VLOOKUP(Y29,Tabelas!B:D,3,0),0),\"\")","v":0},{"$f":"IF(A29<>\"\",IFERROR(VLOOKUP(Z29,Tabelas!B:D,3,0),0),\"\")","v":0},{"$f":"IF(A29<>\"\",IFERROR(VLOOKUP(AA29,Tabelas!B:D,3,0),0),\"\")","v":0},{"$f":"IF(A29<>\"\",IFERROR(VLOOKUP(AB29,Tabelas!B:D,3,0),0),\"\")","v":0},{"$f":"IF(A29<>\"\",IFERROR(VLOOKUP(AC29,Tabelas!B:D,3,0),0),\"\")","v":0},{"$f":"IF(A29<>\"\",IFERROR(VLOOKUP(AD29,Tabelas!B:D,3,0),0),\"\")","v":0},{"$f":"IF(A29<>\"\",IFERROR(VLOOKUP(AE29,Tabelas!B:D,3,0),0),\"\")","v":0},{"$f":"IF(A29<>\"\",IFERROR(VLOOKUP(AF29,Tabelas!B:D,3,0),0),\"\")","v":0},{"$f":"IF(A29<>\"\",IFERROR(VLOOKUP(AG29,Tabelas!B:D,3,0),0),\"\")","v":0},{"$f":"IF(A29<>\"\",IFERROR(VLOOKUP(AH29,Tabelas!B:D,3,0),0),\"\")","v":0},{"$f":"IF(A29<>\"\",IFERROR(VLOOKUP(AI29,Tabelas!B:D,3,0),0),\"\")","v":0},{"$f":"IF(A29<>\"\",IFERROR(VLOOKUP(AJ29,Tabelas!B:D,3,0),0),\"\")","v":0},{"$f":"IF(A29<>\"\",IFERROR(VLOOKUP(AK29,Tabelas!B:D,3,0),0),\"\")","v":0},{"$f":"IF(A29<>\"\",IFERROR(VLOOKUP(AL29,Tabelas!B:D,3,0),0),\"\")","v":0},{"$f":"IF(A29<>\"\",IFERROR(VLOOKUP(AM29,Tabelas!B:D,3,0),0),\"\")","v":0},{"$f":"IF(A29<>\"\",IFERROR(VLOOKUP(AN29,Tabelas!B:D,3,0),0),\"\")","v":0},{"$f":"IF(A29<>\"\",IFERROR(VLOOKUP(AO29,Tabelas!B:D,3,0),0),\"\")","v":0},{"$f":"IF(A29<>\"\",IFERROR(VLOOKUP(AP29,Tabelas!B:D,3,0),0),\"\")","v":0},{"$f":"IF(A29<>\"\",IFERROR(VLOOKUP(AQ29,Tabelas!B:D,3,0),0),\"\")","v":0},0,0,0,0,0,0,0,0]
["FULANO 22",22,null,null,null,null,null,null,null,null,null,null,null,null,null,null,null,null,null,null,null,null,null,null,null,null,null,null,null,null,null,null,null,null,null,null,null,null,null,null,null,null,null,{"$f":"IF(A30<>\"\",IFERROR(VLOOKUP(M30,Tabelas!B:D,3,0),0),\"\")","v":0},{"$f":"IF(A30<>\"\",IFERROR(VLOOKUP(N30,Tabelas!B:D,3,0),0),\"\")","v":0},{"$f":"IF(A30<>\"\",IFERROR(VLOOKUP(O30,Tabelas!B:D,3,0),0),\"\")","v":0},{"$f":"IF(A30<>\"\",IFERROR(VLOOKUP(P30,Tabelas!B:D,3,0),0),\"\")","v":0},{"$f":"IF(A30<>\"\",IFERROR(VLOOKUP(Q30,Tabelas!B:D,3,0),0),\"\")","v":0},{"$f":"IF(A30<>\"\",IFERROR(VLOOKUP(R30,Tabelas!B:D,3,0),0),\"\")","v":0},{"$f":"IF(A30<>\"\",IFERROR(VLOOKUP(S30,Tabelas!B:D,3,0),0),\"\")","v":0},{"$f":"IF(A30<>\"\",IFERROR(VLOOKUP(T30,Tabelas!B:D,3,0),0),\"\")","v":0},{"$f":"IF(A30<>\"\",IFERROR(VLOOKUP(U30,Tabelas!B:D,3,0),0),\"\")","v":0},{"$f":"IF(A30<>\"\",IFERROR(VLOOKUP(V30,Tabelas!B:D,3,0),0),\"\")","v":0},{"$f":"IF(A30<>\"\",IFERROR(VLOOKUP(W30,Tabelas!B:D,3,0),0),\"\")","v":0},{"$f":"IF(A30<>\"\",IFERROR(VLOOKUP(X30,Tabelas!B:D,3,0),0),\"\")","v":0},{"$f":"IF(A30<>\"\",IFERROR(VLOOKUP(Y30,Tabelas!B:D,3,0),0),\"\")","v":0},{"$f":"IF(A30<>\"\",IFERROR(VLOOKUP(Z30,Tabelas!B:D,3,0),0),\"\")","v":0},{"$f":"IF(A30<>\"\",IFERROR(VLOOKUP(AA30,Tabelas!B:D,3,0),0),\"\")","v":0},{"$f":"IF(A30<>\"\",IFERROR(VLOOKUP(AB30,Tabelas!B:D,3,0),0),\"\")","v":0},{"$f":"IF(A30<>\"\",IFERROR(VLOOKUP(AC30,Tabelas!B:D,3,0),0),\"\")","v":0},{"$f":"IF(A30<>\"\",IFERROR(VLOOKUP(AD30,Tabelas!B:D,3,0),0),\"\")","v":0},{"$f":"IF(A30<>\"\",IFERROR(VLOOKUP(AE30,Tabelas!B:D,3,0),0),\"\")","v":0},{"$f":"IF(A30<>\"\",IFERROR(VLOOKUP(AF30,Tabelas!B:D,3,0),0),\"\")","v":0},{"$f":"IF(A30<>\"\",IFERROR(VLOOKUP(AG30,Tabelas!B:D,3,0),0),\"\")","v":0},{"$f":"IF(A30<>\"\",IFERROR(VLOOKUP(AH30,Tabelas!B:D,3,0),0),\"\")","v":0},{"$f":"IF(A30<>\"\",IFERROR(VLOOKUP(AI30,Tabelas!B:D,3,0),0),\"\")","v":0},{"$f":"IF(A30<>\"\",IFERROR(VLOOKUP(AJ30,Tabelas!B:D,3,0),0),\"\")","v":0},{"$f":"IF(A30<>\"\",IFERROR(VLOOKUP(AK30,Tabelas!B:D,3,0),0),\"\")","v":0},{"$f":"IF(A30<>\"\",IFERROR(VLOOKUP(AL30,Tabelas!B:D,3,0),0),\"\")","v":0},{"$f":"IF(A30<>\"\",IFERROR(VLOOKUP(AM30,Tabelas!B:D,3,0),0),\"\")","v":0},{"$f":"IF(A30<>\"\",IFERROR(VLOOKUP(AN30,Tabelas!B:D,3,0),0),\"\")","v":0},{"$f":"IF(A30<>\"\",IFERROR(VLOOKUP(AO30,Tabelas!B:D,3,0),0),\"\")","v":0},{"$f":"IF(A30<>\"\",IFERROR(VLOOKUP(AP30,Tabelas!B:D,3,0),0),\"\")","v":0},{"$f":"IF(A30<>\"\",IFERROR(VLOOKUP(AQ30,Tabelas!B:D,3,0),0),\"\")","v":0},0,0,0,0,0,0,0,0]
["FULANO 23",23,null,null,null,null,null,null,null,null,null,null,null,null,null,null,null,null,null,null,null,null,null,null,null,null,null,null,null,null,null,null,null,null,null,null,null,null,null,null,null,null,null,{"$f":"IF(A31<>\"\",IFERROR(VLOOKUP(M31,Tabelas!B:D,3,0),0),\"\")","v":0},{"$f":"IF(A31<>\"\",IFERROR(VLOOKUP(N31,Tabelas!B:D,3,0),0),\"\")","v":0},{"$f":"IF(A31<>\"\",IFERROR(VLOOKUP(O31,Tabelas!B:D,3,0),0),\"\")","v":0},{"$f":"IF(A31<>\"\",IFERROR(VLOOKUP(P31,Tabelas!B:D,3,0),0),\"\")","v":0},{"$f":"IF(A31<>\"\",IFERROR(VLOOKUP(Q31,Tabelas!B:D,3,0),0),\"\")","v":0},{"$f":"IF(A31<>\"\",IFERROR(VLOOKUP(R31,Tabelas!B:D,3,0),0),\"\")","v":0},{"$f":"IF(A31<>\"\",IFERROR(VLOOKUP(S31,Tabelas!B:D,3,0),0),\"\")","v":0},{"$f":"IF(A31<>\"\",IFERROR(VLOOKUP(T31,Tabelas!B:D,3,0),0),\"\")","v":0},{"$f":"IF(A31<>\"\",IFERROR(VLOOKUP(U31,Tabelas!B:D,3,0),0),\"\")","v":0},{"$f":"IF(A31<>\"\",IFERROR(VLOOKUP(V31,Tabelas!B:D,3,0),0),\"\")","v":0},{"$f":"IF(A31<>\"\",IFERROR(VLOOKUP(W31,Tabelas!B:D,3,0),0),\"\")","v":0},{"$f":"IF(A31<>\"\",IFERROR(VLOOKUP(X31,Tabelas!B:D,3,0),0),\"\")","v":0},{"$f":"IF(A31<>\"\",IFERROR(VLOOKUP(Y31,Tabelas!B:D,3,0),0),\"\")","v":0},{"$f":"IF(A31<>\"\",IFERROR(VLOOKUP(Z31,Tabelas!B:D,3,0),0),\"\")","v":0},{"$f":"IF(A31<>\"\",IFERROR(VLOOKUP(AA31,Tabelas!B:D,3,0),0),\"\")","v":0},{"$f":"IF(A31<>\"\",IFERROR(VLOOKUP(AB31,Tabelas!B:D,3,0),0),\"\")","v":0},{"$f":"IF(A31<>\"\",IFERROR(VLOOKUP(AC31,Tabelas!B:D,3,0),0),\"\")","v":0},{"$f":"IF(A31<>\"\",IFERROR(VLOOKUP(AD31,Tabelas!B:D,3,0),0),\"\")","v":0},{"$f":"IF(A31<>\"\",IFERROR(VLOOKUP(AE31,Tabelas!B:D,3,0),0),\"\")","v":0},{"$f":"IF(A31<>\"\",IFERROR(VLOOKUP(AF31,Tabelas!B:D,3,0),0),\"\")","v":0},{"$f":"IF(A31<>\"\",IFERROR(VLOOKUP(AG31,Tabelas!B:D,3,0),0),\"\")","v":0},{"$f":"IF(A31<>\"\",IFERROR(VLOOKUP(AH31,Tabelas!B:D,3,0),0),\"\")","v":0},{"$f":"IF(A31<>\"\",IFERROR(VLOOKUP(AI31,Tabelas!B:D,3,0),0),\"\")","v":0},{"$f":"IF(A31<>\"\",IFERROR(VLOOKUP(AJ31,Tabelas!B:D,3,0),0),\"\")","v":0},{"$f":"IF(A31<>\"\",IFERROR(VLOOKUP(AK31,Tabelas!B:D,3,0),0),\"\")","v":0},{"$f":"IF(A31<>\"\",IFERROR(VLOOKUP(AL31,Tabelas!B:D,3,0),0),\"\")","v":0},{"$f":"IF(A31<>\"\",IFERROR(VLOOKUP(AM31,Tabelas!B:D,3,0),0),\"\")","v":0},{"$f":"IF(A31<>\"\",IFERROR(VLOOKUP(AN31,Tabelas!B:D,3,0),0),\"\")","v":0},{"$f":"IF(A31<>\"\",IFERROR(VLOOKUP(AO31,Tabelas!B:D,3,0),0),\"\")","v":0},{"$f":"IF(A31<>\"\",IFERROR(VLOOKUP(AP31,Tabelas!B:D,3,0),0),\"\")","v":0},{"$f":"IF(A31<>\"\",IFERROR(VLOOKUP(AQ31,Tabelas!B:D,3,0),0),\"\")","v":0},0,0,0,0,0,0,0,0]
["FULANO 24",24,null,null,null,null,null,null,null,null,null,null,null,null,null,null,null,null,null,null,null,null,null,null,null,null,null,null,null,null,null,null,null,null,null,null,null,null,null,null,null,null,null,{"$f":"IF(A32<>\"\",IFERROR(VLOOKUP(M32,Tabelas!B:D,3,0),0),\"\")","v":0},{"$f":"IF(A32<>\"\",IFERROR(VLOOKUP(N32,Tabelas!B:D,3,0),0),\"\")","v":0},{"$f":"IF(A32<>\"\",IFERROR(VLOOKUP(O32,Tabelas!B:D,3,0),0),\"\")","v":0},{"$f":"IF(A32<>\"\",IFERROR(VLOOKUP(P32,Tabelas!B:D,3,0),0),\"\")","v":0},{"$f":"IF(A32<>\"\",IFERROR(VLOOKUP(Q32,Tabelas!B:D,3,0),0),\"\")","v":0},{"$f":"IF(A32<>\"\",IFERROR(VLOOKUP(R32,Tabelas!B:D,3,0),0),\"\")","v":0},{"$f":"IF(A32<>\"\",IFERROR(VLOOKUP(S32,Tabelas!B:D,3,0),0),\"\")","v":0},{"$f":"IF(A32<>\"\",IFERROR(VLOOKUP(T32,Tabelas!B:D,3,0),0),\"\")","v":0},{"$f":"IF(A32<>\"\",IFERROR(VLOOKUP(U32,Tabelas!B:D,3,0),0),\"\")","v":0},{"$f":"IF(A32<>\"\",IFERROR(VLOOKUP(V32,Tabelas!B:D,3,0),0),\"\")","v":0},{"$f":"IF(A32<>\"\",IFERROR(VLOOKUP(W32,Tabelas!B:D,3,0),0),\"\")","v":0},{"$f":"IF(A32<>\"\",IFERROR(VLOOKUP(X32,Tabelas!B:D,3,0),0),\"\")","v":0},{"$f":"IF(A32<>\"\",IFERROR(VLOOKUP(Y32,Tabelas!B:D,3,0),0),\"\")","v":0},{"$f":"IF(A32<>\"\",IFERROR(VLOOKUP(Z32,Tabelas!B:D,3,0),0),\"\")","v":0},{"$f":"IF(A32<>\"\",IFERROR(VLOOKUP(AA32,Tabelas!B:D,3,0),0),\"\")","v":0},{"$f":"IF(A32<>\"\",IFERROR(VLOOKUP(AB32,Tabelas!B:D,3,0),0),\"\")","v":0},{"$f":"IF(A32<>\"\",IFERROR(VLOOKUP(AC32,Tabelas!B:D,3,0),0),\"\")","v":0},{"$f":"IF(A32<>\"\",IFERROR(VLOOKUP(AD32,Tabelas!B:D,3,0),0),\"\")","v":0},{"$f":"IF(A32<>\"\",IFERROR(VLOOKUP(AE32,Tabelas!B:D,3,0),0),\"\")","v":0},{"$f":"IF(A32<>\"\",IFERROR(VLOOKUP(AF32,Tabelas!B:D,3,0),0),\"\")","v":0},{"$f":"IF(A32<>\"\",IFERROR(VLOOKUP(AG32,Tabelas!B:D,3,0),0),\"\")","v":0},{"$f":"IF(A32<>\"\",IFERROR(VLOOKUP(AH32,Tabelas!B:D,3,0),0),\"\")","v":0},{"$f":"IF(A32<>\"\",IFERROR(VLOOKUP(AI32,Tabelas!B:D,3,0),0),\"\")","v":0},{"$f":"IF(A32<>\"\",IFERROR(VLOOKUP(AJ32,Tabelas!B:D,3,0),0),\"\")","v":0},{"$f":"IF(A32<>\"\",IFERROR(VLOOKUP(AK32,Tabelas!B:D,3,0),0),\"\")","v":0},{"$f":"IF(A32<>\"\",IFERROR(VLOOKUP(AL32,Tabelas!B:D,3,0),0),\"\")","v":0},{"$f":"IF(A32<>\"\",IFERROR(VLOOKUP(AM32,Tabelas!B:D,3,0),0),\"\")","v":0},{"$f":"IF(A32<>\"\",IFERROR(VLOOKUP(AN32,Tabelas!B:D,3,0),0),\"\")","v":0},{"$f":"IF(A32<>\"\",IFERROR(VLOOKUP(AO32,Tabelas!B:D,3,0),0),\"\")","v":0},{"$f":"IF(A32<>\"\",IFERROR(VLOOKUP(AP32,Tabelas!B:D,3,0),0),\"\")","v":0},{"$f":"IF(A32<>\"\",IFERROR(VLOOKUP(AQ32,Tabelas!B:D,3,0),0),\"\")","v":0},0,0,0,0,0,0,0,0]
["FULANO 25",25,null,null,null,null,null,null,null,null,null,null,null,null,null,null,null,null,null,null,null,null,null,null,null,null,null,null,null,null,null,null,null,null,null,null,null,null,null,null,null,null,null,{"$f":"IF(A33<>\"\",IFERROR(VLOOKUP(M33,Tabelas!B:D,3,0),0),\"\")","v":0},{"$f":"IF(A33<>\"\",IFERROR(VLOOKUP(N33,Tabelas!B:D,3,0),0),\"\")","v":0},{"$f":"IF(A33<>\"\",IFERROR(VLOOKUP(O33,Tabelas!B:D,3,0),0),\"\")","v":0},{"$f":"IF(A33<>\"\",IFERROR(VLOOKUP(P33,Tabelas!B:D,3,0),0),\"\")","v":0},{"$f":"IF(A33<>\"\",IFERROR(VLOOKUP(Q33,Tabelas!B:D,3,0),0),\"\")","v":0},{"$f":"IF(A33<>\"\",IFERROR(VLOOKUP(R33,Tabelas!B:D,3,0),0),\"\")","v":0},{"$f":"IF(A33<>\"\",IFERROR(VLOOKUP(S33,Tabelas!B:D,3,0),0),\"\")","v":0},{"$f":"IF(A33<>\"\",IFERROR(VLOOKUP(T33,Tabelas!B:D,3,0),0),\"\")","v":0},{"$f":"IF(A33<>\"\",IFERROR(VLOOKUP(U33,Tabelas!B:D,3,0),0),\"\")","v":0},{"$f":"IF(A33<>\"\",IFERROR(VLOOKUP(V33,Tabelas!B:D,3,0),0),\"\")","v":0},{"$f":"IF(A33<>\"\",IFERROR(VLOOKUP(W33,Tabelas!B:D,3,0),0),\"\")","v":0},{"$f":"IF(A33<>\"\",IFERROR(VLOOKUP(X33,Tabelas!B:D,3,0),0),\"\")","v":0},{"$f":"IF(A33<>\"\",IFERROR(VLOOKUP(Y33,Tabelas!B:D,3,0),0),\"\")","v":0},{"$f":"IF(A33<>\"\",IFERROR(VLOOKUP(Z33,Tabelas!B:D,3,0),0),\"\")","v":0},{"$f":"IF(A33<>\"\",IFERROR(VLOOKUP(AA33,Tabelas!B:D,3,0),0),\"\")","v":0},{"$f":"IF(A33<>\"\",IFERROR(VLOOKUP(AB33,Tabelas!B:D,3,0),0),\"\")","v":0},{"$f":"IF(A33<>\"\",IFERROR(VLOOKUP(AC33,Tabelas!B:D,3,0),0),\"\")","v":0},{"$f":"IF(A33<>\"\",IFERROR(VLOOKUP(AD33,Tabelas!B:D,3,0),0),\"\")","v":0},{"$f":"IF(A33<>\"\",IFERROR(VLOOKUP(AE33,Tabelas!B:D,3,0),0),\"\")","v":0},{"$f":"IF(A33<>\"\",IFERROR(VLOOKUP(AF33,Tabelas!B:D,3,0),0),\"\")","v":0},{"$f":"IF(A33<>\"\",IFERROR(VLOOKUP(AG33,Tabelas!B:D,3,0),0),\"\")","v":0},{"$f":"IF(A33<>\"\",IFERROR(VLOOKUP(AH33,Tabelas!B:D,3,0),0),\"\")","v":0},{"$f":"IF(A33<>\"\",IFERROR(VLOOKUP(AI33,Tabelas!B:D,3,0),0),\"\")","v":0},{"$f":"IF(A33<>\"\",IFERROR(VLOOKUP(AJ33,Tabelas!B:D,3,0),0),\"\")","v":0},{"$f":"IF(A33<>\"\",IFERROR(VLOOKUP(AK33,Tabelas!B:D,3,0),0),\"\")","v":0},{"$f":"IF(A33<>\"\",IFERROR(VLOOKUP(AL33,Tabelas!B:D,3,0),0),\"\")","v":0},{"$f":"IF(A33<>\"\",IFERROR(VLOOKUP(AM33,Tabelas!B:D,3,0),0),\"\")","v":0},{"$f":"IF(A33<>\"\",IFERROR(VLOOKUP(AN33,Tabelas!B:D,3,0),0),\"\")","v":0},{"$f":"IF(A33<>\"\",IFERROR(VLOOKUP(AO33,Tabelas!B:D,3,0),0),\"\")","v":0},{"$f":"IF(A33<>\"\",IFERROR(VLOOKUP(AP33,Tabelas!B:D,3,0),0),\"\")","v":0},{"$f":"IF(A33<>\"\",IFERROR(VLOOKUP(AQ33,Tabelas!B:D,3,0),0),\"\")","v":0},0,0,0,0,0,0,0,0]
["FULANO 26",26,null,null,null,null,null,null,null,null,null,null,null,null,null,null,null,null,null,null,null,null,null,null,null,null,null,null,null,null,null,null,null,null,null,null,null,null,null,null,null,null,null,{"$f":"IF(A34<>\"\",IFERROR(VLOOKUP(M34,Tabelas!B:D,3,0),0),\"\")","v":0},{"$f":"IF(A34<>\"\",IFERROR(VLOOKUP(N34,Tabelas!B:D,3,0),0),\"\")","v":0},{"$f":"IF(A34<>\"\",IFERROR(VLOOKUP(O34,Tabelas!B:D,3,0),0),\"\")","v":0},{"$f":"IF(A34<>\"\",IFERROR(VLOOKUP(P34,Tabelas!B:D,3,0),0),\"\")","v":0},{"$f":"IF(A34<>\"\",IFERROR(VLOOKUP(Q34,Tabelas!B:D,3,0),0),\"\")","v":0},{"$f":"IF(A34<>\"\",IFERROR(VLOOKUP(R34,Tabelas!B:D,3,0),0),\"\")","v":0},{"$f":"IF(A34<>\"\",IFERROR(VLOOKUP(S34,Tabelas!B:D,3,0),0),\"\")","v":0},{"$f":"IF(A34<>\"\",IFERROR(VLOOKUP(T34,Tabelas!B:D,3,0),0),\"\")","v":0},{"$f":"IF(A34<>\"\",IFERROR(VLOOKUP(U34,Tabelas!B:D,3,0),0),\"\")","v":0},{"$f":"IF(A34<>\"\",IFERROR(VLOOKUP(V34,Tabelas!B:D,3,0),0),\"\")","v":0},{"$f":"IF(A34<>\"\",IFERROR(VLOOKUP(W34,Tabelas!B:D,3,0),0),\"\")","v":0},{"$f":"IF(A34<>\"\",IFERROR(VLOOKUP(X34,Tabelas!B:D,3,0),0),\"\")","v":0},{"$f":"IF(A34<>\"\",IFERROR(VLOOKUP(Y34,Tabelas!B:D,3,0),0),\"\")","v":0},{"$f":"IF(A34<>\"\",IFERROR(VLOOKUP(Z34,Tabelas!B:D,3,0),0),\"\")","v":0},{"$f":"IF(A34<>\"\",IFERROR(VLOOKUP(AA34,Tabelas!B:D,3,0),0),\"\")","v":0},{"$f":"IF(A34<>\"\",IFERROR(VLOOKUP(AB34,Tabelas!B:D,3,0),0),\"\")","v":0},{"$f":"IF(A34<>\"\",IFERROR(VLOOKUP(AC34,Tabelas!B:D,3,0),0),\"\")","v":0},{"$f":"IF(A34<>\"\",IFERROR(VLOOKUP(AD34,Tabelas!B:D,3,0),0),\"\")","v":0},{"$f":"IF(A34<>\"\",IFERROR(VLOOKUP(AE34,Tabelas!B:D,3,0),0),\"\")","v":0},{"$f":"IF(A34<>\"\",IFERROR(VLOOKUP(AF34,Tabelas!B:D,3,0),0),\"\")","v":0},{"$f":"IF(A34<>\"\",IFERROR(VLOOKUP(AG34,Tabelas!B:D,3,0),0),\"\")","v":0},{"$f":"IF(A34<>\"\",IFERROR(VLOOKUP(AH34,Tabelas!B:D,3,0),0),\"\")","v":0},{"$f":"IF(A34<>\"\",IFERROR(VLOOKUP(AI34,Tabelas!B:D,3,0),0),\"\")","v":0},{"$f":"IF(A34<>\"\",IFERROR(VLOOKUP(AJ34,Tabelas!B:D,3,0),0),\"\")","v":0},{"$f":"IF(A34<>\"\",IFERROR(VLOOKUP(AK34,Tabelas!B:D,3,0),0),\"\")","v":0},{"$f":"IF(A34<>\"\",IFERROR(VLOOKUP(AL34,Tabelas!B:D,3,0),0),\"\")","v":0},{"$f":"IF(A34<>\"\",IFERROR(VLOOKUP(AM34,Tabelas!B:D,3,0),0),\"\")","v":0},{"$f":"IF(A34<>\"\",IFERROR(VLOOKUP(AN34,Tabelas!B:D,3,0),0),\"\")","v":0},{"$f":"IF(A34<>\"\",IFERROR(VLOOKUP(AO34,Tabelas!B:D,3,0),0),\"\")","v":0},{"$f":"IF(A34<>\"\",IFERROR(VLOOKUP(AP34,Tabelas!B:D,3,0),0),\"\")","v":0},{"$f":"IF(A34<>\"\",IFERROR(VLOOKUP(AQ34,Tabelas!B:D,3,0),0),\"\")","v":0},0,0,0,0,0,0,0,0]
["FULANO 27",27,null,null,null,null,null,null,null,null,null,null,null,null,null,null,null,null,null,null,null,null,null,null,null,null,null,null,null,null,null,null,null,null,null,null,null,null,null,null,null,null,null,{"$f":"IF(A35<>\"\",IFERROR(VLOOKUP(M35,Tabelas!B:D,3,0),0),\"\")","v":0},{"$f":"IF(A35<>\"\",IFERROR(VLOOKUP(N35,Tabelas!B:D,3,0),0),\"\")","v":0},{"$f":"IF(A35<>\"\",IFERROR(VLOOKUP(O35,Tabelas!B:D,3,0),0),\"\")","v":0},{"$f":"IF(A35<>\"\",IFERROR(VLOOKUP(P35,Tabelas!B:D,3,0),0),\"\")","v":0},{"$f":"IF(A35<>\"\",IFERROR(VLOOKUP(Q35,Tabelas!B:D,3,0),0),\"\")","v":0},{"$f":"IF(A35<>\"\",IFERROR(VLOOKUP(R35,Tabelas!B:D,3,0),0),\"\")","v":0},{"$f":"IF(A35<>\"\",IFERROR(VLOOKUP(S35,Tabelas!B:D,3,0),0),\"\")","v":0},{"$f":"IF(A35<>\"\",IFERROR(VLOOKUP(T35,Tabelas!B:D,3,0),0),\"\")","v":0},{"$f":"IF(A35<>\"\",IFERROR(VLOOKUP(U35,Tabelas!B:D,3,0),0),\"\")","v":0},{"$f":"IF(A35<>\"\",IFERROR(VLOOKUP(V35,Tabelas!B:D,3,0),0),\"\")","v":0},{"$f":"IF(A35<>\"\",IFERROR(VLOOKUP(W35,Tabelas!B:D,3,0),0),\"\")","v":0},{"$f":"IF(A35<>\"\",IFERROR(VLOOKUP(X35,Tabelas!B:D,3,0),0),\"\")","v":0},{"$f":"IF(A35<>\"\",IFERROR(VLOOKUP(Y35,Tabelas!B:D,3,0),0),\"\")","v":0},{"$f":"IF(A35<>\"\",IFERROR(VLOOKUP(Z35,Tabelas!B:D,3,0),0),\"\")","v":0},{"$f":"IF(A35<>\"\",IFERROR(VLOOKUP(AA35,Tabelas!B:D,3,0),0),\"\")","v":0},{"$f":"IF(A35<>\"\",IFERROR(VLOOKUP(AB35,Tabelas!B:D,3,0),0),\"\")","v":0},{"$f":"IF(A35<>\"\",IFERROR(VLOOKUP(AC35,Tabelas!B:D,3,0),0),\"\")","v":0},{"$f":"IF(A35<>\"\",IFERROR(VLOOKUP(AD35,Tabelas!B:D,3,0),0),\"\")","v":0},{"$f":"IF(A35<>\"\",IFERROR(VLOOKUP(AE35,Tabelas!B:D,3,0),0),\"\")","v":0},{"$f":"IF(A35<>\"\",IFERROR(VLOOKUP(AF35,Tabelas!B:D,3,0),0),\"\")","v":0},{"$f":"IF(A35<>\"\",IFERROR(VLOOKUP(AG35,Tabelas!B:D,3,0),0),\"\")","v":0},{"$f":"IF(A35<>\"\",IFERROR(VLOOKUP(AH35,Tabelas!B:D,3,0),0),\"\")","v":0},{"$f":"IF(A35<>\"\",IFERROR(VLOOKUP(AI35,Tabelas!B:D,3,0),0),\"\")","v":0},{"$f":"IF(A35<>\"\",IFERROR(VLOOKUP(AJ35,Tabelas!B:D,3,0),0),\"\")","v":0},{"$f":"IF(A35<>\"\",IFERROR(VLOOKUP(AK35,Tabelas!B:D,3,0),0),\"\")","v":0},{"$f":"IF(A35<>\"\",IFERROR(VLOOKUP(AL35,Tabelas!B:D,3,0),0),\"\")","v":0},{"$f":"IF(A35<>\"\",IFERROR(VLOOKUP(AM35,Tabelas!B:D,3,0),0),\"\")","v":0},{"$f":"IF(A35<>\"\",IFERROR(VLOOKUP(AN35,Tabelas!B:D,3,0),0),\"\")","v":0},{"$f":"IF(A35<>\"\",IFERROR(VLOOKUP(AO35,Tabelas!B:D,3,0),0),\"\")","v":0},{"$f":"IF(A35<>\"\",IFERROR(VLOOKUP(AP35,Tabelas!B:D,3,0),0),\"\")","v":0},{"$f":"IF(A35<>\"\",IFERROR(VLOOKUP(AQ35,Tabelas!B:D,3,0),0),\"\")","v":0},0,0,0,0,0,0,0,0]
["TOTAL PROFISSIONAIS MATUTINO",null,null,null,null,null,null,null,null,null,null,null,{"$f":"IF(COUNTIF(M9:M35,\"M*\")+ COUNTIF(M9:M35, \"D*\")-COUNTIF(M9:M35,\"DSR\")<>0,COUNTIF(M9:M35,\"M*\")+ COUNTIF(M9:M35, \"D*\")-COUNTIF(M9:M35,\"DSR\"),\"\")","v":""},"","","","","","","","","","","","","","","","","","","","","","","","","","","","","","",null,null,null,null,null,null,null,null,null,null,null,null,null,null,null,null,null,null,null,null,null,null,null,null,null,null,null,null,null,null,null,{"$f":"SUM(BW9:BW35)","v":0},0,0,0,0,0,0,0]
["TOTAL DE PROFISSIONAIS VESPERTINO",null,null,null,null,null,null,null,null,null,null,null,{"$f":"IF(COUNTIF(M9:M35,\"MT*\") + COUNTIF(M9:M35, \"D*\") + COUNTIF(M9:M35,\"T*\")-COUNTIF(M9:M35,\"DSR\")<>0,COUNTIF(M9:M35,\"MT*\") + COUNTIF(M9:M35, \"D*\") + COUNTIF(M9:M35,\"T*\")-COUNTIF(M9:M35,\"DSR\"),\"\")","v":""},"","","","","","","","","","","","","","","","","","","","","","","","","","","","","","",{"$f":"IF(A37<>\"\",IFERROR(VLOOKUP(M37,Tabelas!B:D,3,0),0),\"\")","v":0},{"$f":"IF(A37<>\"\",IFERROR(VLOOKUP(N37,Tabelas!B:D,3,0),0),\"\")","v":0},{"$f":"IF(A37<>\"\",IFERROR(VLOOKUP(O37,Tabelas!B:D,3,0),0),\"\")","v":0},{"$f":"IF(A37<>\"\",IFERROR(VLOOKUP(P37,Tabelas!B:D,3,0),0),\"\")","v":0},{"$f":"IF(A37<>\"\",IFERROR(VLOOKUP(Q37,Tabelas!B:D,3,0),0),\"\")","v":0},{"$f":"IF(A37<>\"\",IFERROR(VLOOKUP(R37,Tabelas!B:D,3,0),0),\"\")","v":0},{"$f":"IF(A37<>\"\",IFERROR(VLOOKUP(S37,Tabelas!B:D,3,0),0),\"\")","v":0},{"$f":"IF(A37<>\"\",IFERROR(VLOOKUP(T37,Tabelas!B:D,3,0),0),\"\")","v":0},{"$f":"IF(A37<>\"\",IFERROR(VLOOKUP(U37,Tabelas!B:D,3,0),0),\"\")","v":0},{"$f":"IF(A37<>\"\",IFERROR(VLOOKUP(V37,Tabelas!B:D,3,0),0),\"\")","v":0},{"$f":"IF(A37<>\"\",IFERROR(VLOOKUP(W37,Tabelas!B:D,3,0),0),\"\")","v":0},{"$f":"IF(A37<>\"\",IFERROR(VLOOKUP(X37,Tabelas!B:D,3,0),0),\"\")","v":0},{"$f":"IF(A37<>\"\",IFERROR(VLOOKUP(Y37,Tabelas!B:D,3,0),0),\"\")","v":0},{"$f":"IF(A37<>\"\",IFERROR(VLOOKUP(Z37,Tabelas!B:D,3,0),0),\"\")","v":0},{"$f":"IF(A37<>\"\",IFERROR(VLOOKUP(AA37,Tabelas!B:D,3,0),0),\"\")","v":0},{"$f":"IF(A37<>\"\",IFERROR(VLOOKUP(AB37,Tabelas!B:D,3,0),0),\"\")","v":0},{"$f":"IF(A37<>\"\",IFERROR(VLOOKUP(AC37,Tabelas!B:D,3,0),0),\"\")","v":0},{"$f":"IF(A37<>\"\",IFERROR(VLOOKUP(AD37,Tabelas!B:D,3,0),0),\"\")","v":0},{"$f":"IF(A37<>\"\",IFERROR(VLOOKUP(AE37,Tabelas!B:D,3,0),0),\"\")","v":0},{"$f":"IF(A37<>\"\",IFERROR(VLOOKUP(AF37,Tabelas!B:D,3,0),0),\"\")","v":0},{"$f":"IF(A37<>\"\",IFERROR(VLOOKUP(AG37,Tabelas!B:D,3,0),0),\"\")","v":0},{"$f":"IF(A37<>\"\",IFERROR(VLOOKUP(AH37,Tabelas!B:D,3,0),0),\"\")","v":0},{"$f":"IF(A37<>\"\",IFERROR(VLOOKUP(AI37,Tabelas!B:D,3,0),0),\"\")","v":0},{"$f":"IF(A37<>\"\",IFERROR(VLOOKUP(AJ37,Tabelas!B:D,3,0),0),\"\")","v":0},{"$f":"IF(A37<>\"\",IFERROR(VLOOKUP(AK37,Tabelas!B:D,3,0),0),\"\")","v":0},{"$f":"IF(A37<>\"\",IFERROR(VLOOKUP(AL37,Tabelas!B:D,3,0),0),\"\")","v":0},{"$f":"IF(A37<>\"\",IFERROR(VLOOKUP(AM37,Tabelas!B:D,3,0),0),\"\")","v":0},{"$f":"IF(A37<>\"\",IFERROR(VLOOKUP(AN37,Tabelas!B:D,3,0),0),\"\")","v":0},{"$f":"IF(A37<>\"\",IFERROR(VLOOKUP(AO37,Tabelas!B:D,3,0),0),\"\")","v":0},{"$f":"IF(A37<>\"\",IFERROR(VLOOKUP(AP37,Tabelas!B:D,3,0),0),\"\")","v":0},{"$f":"IF(A37<>\"\",IFERROR(VLOOKUP(AQ37,Tabelas!B:D,3,0),0),\"\")","v":0}]
["TOTAL DE PROFISSIONAIS NOTURNO",null,null,null,null,null,null,null,null,null,null,null,{"$f":"IF(COUNTIF(M9:M37,\"N?*\") + COUNTIF(M9:M37, \"DN*\")<>0,COUNTIF(M9:M37,\"N?*\") + COUNTIF(M9:M37, \"DN*\"),\"\")","v":""},"","","","","","","","","","","","","","","","","","","","","","","","","","","","","","",{"$f":"IF(A38<>\"\",IFERROR(VLOOKUP(M38,Tabelas!B:D,3,0),0),\"\")","v":0},{"$f":"IF(A38<>\"\",IFERROR(VLOOKUP(N38,Tabelas!B:D,3,0),0),\"\")","v":0},{"$f":"IF(A38<>\"\",IFERROR(VLOOKUP(O38,Tabelas!B:D,3,0),0),\"\")","v":0},{"$f":"IF(A38<>\"\",IFERROR(VLOOKUP(P38,Tabelas!B:D,3,0),0),\"\")","v":0},{"$f":"IF(A38<>\"\",IFERROR(VLOOKUP(Q38,Tabelas!B:D,3,0),0),\"\")","v":0},{"$f":"IF(A38<>\"\",IFERROR(VLOOKUP(R38,Tabelas!B:D,3,0),0),\"\")","v":0},{"$f":"IF(A38<>\"\",IFERROR(VLOOKUP(S38,Tabelas!B:D,3,0),0),\"\")","v":0},{"$f":"IF(A38<>\"\",IFERROR(VLOOKUP(T38,Tabelas!B:D,3,0),0),\"\")","v":0},{"$f":"IF(A38<>\"\",IFERROR(VLOOKUP(U38,Tabelas!B:D,3,0),0),\"\")","v":0},{"$f":"IF(A38<>\"\",IFERROR(VLOOKUP(V38,Tabelas!B:D,3,0),0),\"\")","v":0},{"$f":"IF(A38<>\"\",IFERROR(VLOOKUP(W38,Tabelas!B:D,3,0),0),\"\")","v":0},{"$f":"IF(A38<>\"\",IFERROR(VLOOKUP(X38,Tabelas!B:D,3,0),0),\"\")","v":0},{"$f":"IF(A38<>\"\",IFERROR(VLOOKUP(Y38,Tabelas!B:D,3,0),0),\"\")","v":0},{"$f":"IF(A38<>\"\",IFERROR(VLOOKUP(Z38,Tabelas!B:D,3,0),0),\"\")","v":0},{"$f":"IF(A38<>\"\",IFERROR(VLOOKUP(AA38,Tabelas!B:D,3,0),0),\"\")","v":0},{"$f":"IF(A38<>\"\",IFERROR(VLOOKUP(AB38,Tabelas!B:D,3,0),0),\"\")","v":0},{"$f":"IF(A38<>\"\",IFERROR(VLOOKUP(AC38,Tabelas!B:D,3,0),0),\"\")","v":0},{"$f":"IF(A38<>\"\",IFERROR(VLOOKUP(AD38,Tabelas!B:D,3,0),0),\"\")","v":0},{"$f":"IF(A38<>\"\",IFERROR(VLOOKUP(AE38,Tabelas!B:D,3,0),0),\"\")","v":0},{"$f":"IF(A38<>\"\",IFERROR(VLOOKUP(AF38,Tabelas!B:D,3,0),0),\"\")","v":0},{"$f":"IF(A38<>\"\",IFERROR(VLOOKUP(AG38,Tabelas!B:D,3,0),0),\"\")","v":0},{"$f":"IF(A38<>\"\",IFERROR(VLOOKUP(AH38,Tabelas!B:D,3,0),0),\"\")","v":0},{"$f":"IF(A38<>\"\",IFERROR(VLOOKUP(AI38,Tabelas!B:D,3,0),0),\"\")","v":0},{"$f":"IF(A38<>\"\",IFERROR(VLOOKUP(AJ38,Tabelas!B:D,3,0),0),\"\")","v":0},{"$f":"IF(A38<>\"\",IFERROR(VLOOKUP(AK38,Tabelas!B:D,3,0),0),\"\")","v":0},{"$f":"IF(A38<>\"\",IFERROR(VLOOKUP(AL38,Tabelas!B:D,3,0),0),\"\")","v":0},{"$f":"IF(A38<>\"\",IFERROR(VLOOKUP(AM38,Tabelas!B:D,3,0),0),\"\")","v":0},{"$f":"IF(A38<>\"\",IFERROR(VLOOKUP(AN38,Tabelas!B:D,3,0),0),\"\")","v":0},{"$f":"IF(A38<>\"\",IFERROR(VLOOKUP(AO38,Tabelas!B:D,3,0),0),\"\")","v":0},{"$f":"IF(A38<>\"\",IFERROR(VLOOKUP(AP38,Tabelas!B:D,3,0),0),\"\")","v":0},{"$f":"IF(A38<>\"\",IFERROR(VLOOKUP(AQ38,Tabelas!B:D,3,0),0),\"\")","v":0}]
[null,null,null,null,null,null,null,null,null,null,null,null,null,null,null,null,null,null,null,null,null,null,null,null,null,null,null,null,null,null,null,null,null,null,null,null,null,null,null,null,null,null,null,{"$f":"IF(A39<>\"\",IFERROR(VLOOKUP(M39,Tabelas!B:D,3,0),0),\"\")","v":""},{"$f":"IF(A39<>\"\",IFERROR(VLOOKUP(N39,Tabelas!B:D,3,0),0),\"\")","v":""},{"$f":"IF(A39<>\"\",IFERROR(VLOOKUP(O39,Tabelas!B:D,3,0),0),\"\")","v":""},{"$f":"IF(A39<>\"\",IFERROR(VLOOKUP(P39,Tabelas!B:D,3,0),0),\"\")","v":""},{"$f":"IF(A39<>\"\",IFERROR(VLOOKUP(Q39,Tabelas!B:D,3,0),0),\"\")","v":""},{"$f":"IF(A39<>\"\",IFERROR(VLOOKUP(R39,Tabelas!B:D,3,0),0),\"\")","v":""},{"$f":"IF(A39<>\"\",IFERROR(VLOOKUP(S39,Tabelas!B:D,3,0),0),\"\")","v":""},{"$f":"IF(A39<>\"\",IFERROR(VLOOKUP(T39,Tabelas!B:D,3,0),0),\"\")","v":""},{"$f":"IF(A39<>\"\",IFERROR(VLOOKUP(U39,Tabelas!B:D,3,0),0),\"\")","v":""},{"$f":"IF(A39<>\"\",IFERROR(VLOOKUP(V39,Tabelas!B:D,3,0),0),\"\")","v":""},{"$f":"IF(A39<>\"\",IFERROR(VLOOKUP(W39,Tabelas!B:D,3,0),0),\"\")","v":""},{"$f":"IF(A39<>\"\",IFERROR(VLOOKUP(X39,Tabelas!B:D,3,0),0),\"\")","v":""},{"$f":"IF(A39<>\"\",IFERROR(VLOOKUP(Y39,Tabelas!B:D,3,0),0),\"\")","v":""},{"$f":"IF(A39<>\"\",IFERROR(VLOOKUP(Z39,Tabelas!B:D,3,0),0),\"\")","v":""},{"$f":"IF(A39<>\"\",IFERROR(VLOOKUP(AA39,Tabelas!B:D,3,0),0),\"\")","v":""},{"$f":"IF(A39<>\"\",IFERROR(VLOOKUP(AB39,Tabelas!B:D,3,0),0),\"\")","v":""},{"$f":"IF(A39<>\"\",IFERROR(VLOOKUP(AC39,Tabelas!B:D,3,0),0),\"\")","v":""},{"$f":"IF(A39<>\"\",IFERROR(VLOOKUP(AD39,Tabelas!B:D,3,0),0),\"\")","v":""},{"$f":"IF(A39<>\"\",IFERROR(VLOOKUP(AE39,Tabelas!B:D,3,0),0),\"\")","v":""},{"$f":"IF(A39<>\"\",IFERROR(VLOOKUP(AF39,Tabelas!B:D,3,0),0),\"\")","v":""},{"$f":"IF(A39<>\"\",IFERROR(VLOOKUP(AG39,Tabelas!B:D,3,0),0),\"\")","v":""},{"$f":"IF(A39<>\"\",IFERROR(VLOOKUP(AH39,Tabelas!B:D,3,0),0),\"\")","v":""},{"$f":"IF(A39<>\"\",IFERROR(VLOOKUP(AI39,Tabelas!B:D,3,0),0),\"\")","v":""},{"$f":"IF(A39<>\"\",IFERROR(VLOOKUP(AJ39,Tabelas!B:D,3,0),0),\"\")","v":""},{"$f":"IF(A39<>\"\",IFERROR(VLOOKUP(AK39,Tabelas!B:D,3,0),0),\"\")","v":""},{"$f":"IF(A39<>\"\",IFERROR(VLOOKUP(AL39,Tabelas!B:D,3,0),0),\"\")","v":""},{"$f":"IF(A39<>\"\",IFERROR(VLOOKUP(AM39,Tabelas!B:D,3,0),0),\"\")","v":""},{"$f":"IF(A39<>\"\",IFERROR(VLOOKUP(AN39,Tabelas!B:D,3,0),0),\"\")","v":""},{"$f":"IF(A39<>\"\",IFERROR(VLOOKUP(AO39,Tabelas!B:D,3,0),0),\"\")","v":""},{"$f":"IF(A39<>\"\",IFERROR(VLOOKUP(AP39,Tabelas!B:D,3,0),0),\"\")","v":""},{"$f":"IF(A39<>\"\",IFERROR(VLOOKUP(AQ39,Tabelas!B:D,3,0),0),\"\")","v":""}]
["Legenda:"]
["Licença Maternidade","LM","Férias",null,null,null,null,null,null,"FE",null,"Ponto Facultativo",null,null,null,null,null,null,null,"PF","Manhã *",null,null,null,null,null,null,"M","Diurno (8 hrs) *",null,null,null,null,null,null,"MT"]
["Licença Paternidade","LP","Feriado",null,null,null,null,null,null,"FD",null,"Abono **",null,null,null,null,null,null,null,"AB","Tarde *",null,null,null,null,null,null,"T","Dia/ noite (24 hrs) *",null,null,null,null,null,null,"DN"]
["Licença Médica/Odontológica","L","Descanso Semanal Remunerado",null,null,null,null,null,null,"DSR",null,"Compensação de Horas***",null,null,null,null,null,null,null,"CH","Plantão Dia (12 hrs) *",null,null,null,null,null,null,"D"]
["Licença Capacitação","LC","Recesso",null,null,null,null,null,null,"RC",null,"Afastamento**",null,null,null,null,null,null,null,"AF","Plantão Noite (12 hrs) *",null,null,null,null,null,null,"N"]
[]
["OBSERVAÇÕES:"]
["* Para inserção das legendas referentes às jornadas de trabalho, verificar a Tabela 1 do Anexo do Memorando-Circular - SEI nº   25 /2018/CAP/DGP-EBSERH."]
["** Para inserção das legendas referentes aos Afastamentos previstos em lei e às Compensações de horas, verificar a Tabela 2 do Anexo do Memorando-Circular - SEI nº   25 /2018/CAP/DGP-EBSERH."]

{"sheet":"Maio","index":4,"n_rows":48,"n_cols":82,"rows_kept":48,"cut":false,"hidden":false,"merged":[[40,20,40,26],[41,2,41,8],[41,9,41,10],[41,11,41,18],[41,20,41,26],[40,2,40,8],[40,9,40,10],[42,20,42,26],[43,2,43,8],[43,9,43,10],[43,11,43,18],[43,20,43,26],[35,0,35,11],[36,0,36,11],[37,0,37,11],[42,2,42,8],[42,9,42,10],[42,11,42,18],[40,11,40,18],[1,0,1,42],[2,0,2,42],[3,0,3,42],[4,1,4,20],[4,23,4,34],[4,37,4,42],[5,6,5,11],[6,76,7,76],[6,77,7,77],[6,78,7,78],[6,79,7,79],[6,6,7,6],[6,7,7,7],[6,8,7,8],[6,11,7,11],[6,9,7,9],[6,10,7,10],[6,80,7,80],[6,81,7,81],[5,12,5,42],[5,43,5,73],[5,75,5,81],[5,74,7,74],[6,75,7,75],[35,79,37,79],[35,80,37,80],[35,81,37,81],[40,28,40,34],[41,28,41,34],[35,74,37,74],[35,75,37,75],[35,76,37,76],[35,77,37,77],[35,78,37,78]]}
[]
[]
["NOME DO HU"]
["ESCALA MENSAL DE TRABALHO"]
["DIVISÃO /SETOR/UNIDADE:",null,null,null,null,null,null,null,null,null,null,null,null,null,null,null,null,null,null,null,null,"MÊS:",null,"Maio",null,null,null,null,null,null,null,null,null,null,null,"ANO:",null,2019]
["NOME COMPLETO","SIAPE","     Registro Conselho Classe","Cargo","Vínculo","    C.H Sem","INTERVALO",null,null,null,null,null,"DIAS DO MÊS",null,null,null,null,null,null,null,null,null,null,null,null,null,null,null,null,null,null,null,null,null,null,null,null,null,null,null,null,null,null,"CÁLCULO DAS HORAS",null,null,null,null,null,null,null,null,null,null,null,null,null,null,null,null,null,null,null,null,null,null,null,null,null,null,null,null,null,null,"CH Men.","Dias"]
[null,null,null,null,null,null,"15' M","15' T","15' N","1H D","1H N","2H",1,2,3,4,5,6,7,8,9,10,11,12,13,14,15,16,17,18,19,20,21,22,23,24,25,{"$f":"IF(DAY(DATE(AL5,VLOOKUP(X5,Tabelas!M:N,2,0)+1,1)-1)>=26,26,\"\")","v":26},{"$f":"IF(DAY(DATE(AL5,VLOOKUP(X5,Tabelas!M:N,2,0)+1,1)-1)>=27,27,\"\")","v":27},{"$f":"IF(DAY(DATE(AL5,VLOOKUP(X5,Tabelas!M:N,2,0)+1,1)-1)>=28,28,\"\")","v":28},{"$f":"IF(DAY(DATE(AL5,VLOOKUP(X5,Tabelas!M:N,2,0)+1,1)-1)>=29,29,\"\")","v":29},{"$f":"IF(DAY(DATE(AL5,VLOOKUP(X5,Tabelas!M:N,2,0)+1,1)-1)>=30,30,\"\")","v":30},{"$f":"IF(DAY(DATE(AL5,VLOOKUP(X5,Tabelas!M:N,2,0)+1,1)-1)>=31,31,\"\")","v":31},null,null,null,null,null,null,null,null,null,null,null,null,null,null,null,null,null,null,null,null,null,null,null,null,null,null,null,null,null,null,null,null,"LM/LP/L","AB","FE","LC","CH","AF  "," Total Afast."]
[null,null,null,null,null,null,null,null,null,null,null,null,{"$f":"IF(M7<>\"\",IFERROR(VLOOKUP(WEEKDAY(CONCATENATE(M7,$X$5,$AL$5)),Tabelas!$I:$J,2,0),\"\"),\"\")","v":"QUA"},{"$f":"IF(N7<>\"\",IFERROR(VLOOKUP(WEEKDAY(CONCATENATE(N7,$X$5,$AL$5)),Tabelas!$I:$J,2,0),\"\"),\"\")","v":"QUI"},{"$f":"IF(O7<>\"\",IFERROR(VLOOKUP(WEEKDAY(CONCATENATE(O7,$X$5,$AL$5)),Tabelas!$I:$J,2,0),\"\"),\"\")","v":"SEX"},{"$f":"IF(P7<>\"\",IFERROR(VLOOKUP(WEEKDAY(CONCATENATE(P7,$X$5,$AL$5)),Tabelas!$I:$J,2,0),\"\"),\"\")","v":"SAB"},{"$f":"IF(Q7<>\"\",IFERROR(VLOOKUP(WEEKDAY(CONCATENATE(Q7,$X$5,$AL$5)),Tabelas!$I:$J,2,0),\"\"),\"\")","v":"DOM"},{"$f":"IF(R7<>\"\",IFERROR(VLOOKUP(WEEKDAY(CONCATENATE(R7,$X$5,$AL$5)),Tabelas!$I:$J,2,0),\"\"),\"\")","v":"SEG"},{"$f":"IF(S7<>\"\",IFERROR(VLOOKUP(WEEKDAY(CONCATENATE(S7,$X$5,$AL$5)),Tabelas!$I:$J,2,0),\"\"),\"\")","v":"TER"},{"$f":"IF(T7<>\"\",IFERROR(VLOOKUP(WEEKDAY(CONCATENATE(T7,$X$5,$AL$5)),Tabelas!$I:$J,2,0),\"\"),\"\")","v":"QUA"},{"$f":"IF(U7<>\"\",IFERROR(VLOOKUP(WEEKDAY(CONCATENATE(U7,$X$5,$AL$5)),Tabelas!$I:$J,2,0),\"\"),\"\")","v":"QUI"},{"$f":"IF(V7<>\"\",IFERROR(VLOOKUP(WEEKDAY(CONCATENATE(V7,$X$5,$AL$5)),Tabelas!$I:$J,2,0),\"\"),\"\")","v":"SEX"},{"$f":"IF(W7<>\"\",IFERROR(VLOOKUP(WEEKDAY(CONCATENATE(W7,$X$5,$AL$5)),Tabelas!$I:$J,2,0),\"\"),\"\")","v":"SAB"},{"$f":"IF(X7<>\"\",IFERROR(VLOOKUP(WEEKDAY(CONCATENATE(X7,$X$5,$AL$5)),Tabelas!$I:$J,2,0),\"\"),\"\")","v":"DOM"},{"$f":"IF(Y7<>\"\",IFERROR(VLOOKUP(WEEKDAY(CONCATENATE(Y7,$X$5,$AL$5)),Tabelas!$I:$J,2,0),\"\"),\"\")","v":"SEG"},{"$f":"IF(Z7<>\"\",IFERROR(VLOOKUP(WEEKDAY(CONCATENATE(Z7,$X$5,$AL$5)),Tabelas!$I:$J,2,0),\"\"),\"\")","v":"TER"},{"$f":"IF(AA7<>\"\",IFERROR(VLOOKUP(WEEKDAY(CONCATENATE(AA7,$X$5,$AL$5)),Tabelas!$I:$J,2,0),\"\"),\"\")","v":"QUA"},{"$f":"IF(AB7<>\"\",IFERROR(VLOOKUP(WEEKDAY(CONCATENATE(AB7,$X$5,$AL$5)),Tabelas!$I:$J,2,0),\"\"),\"\")","v":"QUI"},{"$f":"IF(AC7<>\"\",IFERROR(VLOOKUP(WEEKDAY(CONCATENATE(AC7,$X$5,$AL$5)),Tabelas!$I:$J,2,0),\"\"),\"\")","v":"SEX"},{"$f":"IF(AD7<>\"\",IFERROR(VLOOKUP(WEEKDAY(CONCATENATE(AD7,$X$5,$AL$5)),Tabelas!$I:$J,2,0),\"\"),\"\")","v":"SAB"},{"$f":"IF(AE7<>\"\",IFERROR(VLOOKUP(WEEKDAY(CONCATENATE(AE7,$X$5,$AL$5)),Tabelas!$I:$J,2,0),\"\"),\"\")","v":"DOM"},{"$f":"IF(AF7<>\"\",IFERROR(VLOOKUP(WEEKDAY(CONCATENATE(AF7,$X$5,$AL$5)),Tabelas!$I:$J,2,0),\"\"),\"\")","v":"SEG"},{"$f":"IF(AG7<>\"\",IFERROR(VLOOKUP(WEEKDAY(CONCATENATE(AG7,$X$5,$AL$5)),Tabelas!$I:$J,2,0),\"\"),\"\")","v":"TER"},{"$f":"IF(AH7<>\"\",IFERROR(VLOOKUP(WEEKDAY(CONCATENATE(AH7,$X$5,$AL$5)),Tabelas!$I:$J,2,0),\"\"),\"\")","v":"QUA"},{"$f":"IF(AI7<>\"\",IFERROR(VLOOKUP(WEEKDAY(CONCATENATE(AI7,$X$5,$AL$5)),Tabelas!$I:$J,2,0),\"\"),\"\")","v":"QUI"},{"$f":"IF(AJ7<>\"\",IFERROR(VLOOKUP(WEEKDAY(CONCATENATE(AJ7,$X$5,$AL$5)),Tabelas!$I:$J,2,0),\"\"),\"\")","v":"SEX"},{"$f":"IF(AK7<>\"\",IFERROR(VLOOKUP(WEEKDAY(CONCATENATE(AK7,$X$5,$AL$5)),Tabelas!$I:$J,2,0),\"\"),\"\")","v":"SAB"},{"$f":"IF(AL7<>\"\",IFERROR(VLOOKUP(WEEKDAY(CONCATENATE(AL7,$X$5,$AL$5)),Tabelas!$I:$J,2,0),\"\"),\"\")","v":"DOM"},{"$f":"IF(AM7<>\"\",IFERROR(VLOOKUP(WEEKDAY(CONCATENATE(AM7,$X$5,$AL$5)),Tabelas!$I:$J,2,0),\"\"),\"\")","v":"SEG"},{"$f":"IF(AN7<>\"\",IFERROR(VLOOKUP(WEEKDAY(CONCATENATE(AN7,$X$5,$AL$5)),Tabelas!$I:$J,2,0),\"\"),\"\")","v":"TER"},{"$f":"IF(AO7<>\"\",IFERROR(VLOOKUP(WEEKDAY(CONCATENATE(AO7,$X$5,$AL$5)),Tabelas!$I:$J,2,0),\"\"),\"\")","v":"QUA"},{"$f":"IF(AP7<>\"\",IFERROR(VLOOKUP(WEEKDAY(CONCATENATE(AP7,$X$5,$AL$5)),Tabelas!$I:$J,2,0),\"\"),\"\")","v":"QUI"},{"$f":"IF(AQ7<>\"\",IFERROR(VLOOKUP(WEEKDAY(CONCATENATE(AQ7,$X$5,$AL$5)),Tabelas!$I:$J,2,0),\"\"),\"\")","v":"SEX"},1,2,3,4,5,6,7,8,9,10,11,12,13,14,15,16,17,18,19,20,21,22,23,24,25,26,27,28,29,30,31]
["FULANO 1",1,null,null,null,null,null,null,null,null,null,null,null,null,null,null,null,null,null,null,null,null,null,null,null,null,null,null,null,null,null,null,null,null,null,null,null,null,null,null,null,null,null,{"$f":"IF(A9<>\"\",IFERROR(VLOOKUP(M9,Tabelas!B:D,3,0),0),\"\")","v":0},{"$f":"IF(A9<>\"\",IFERROR(VLOOKUP(N9,Tabelas!B:D,3,0),0),\"\")","v":0},{"$f":"IF(A9<>\"\",IFERROR(VLOOKUP(O9,Tabelas!B:D,3,0),0),\"\")","v":0},{"$f":"IF(A9<>\"\",IFERROR(VLOOKUP(P9,Tabelas!B:D,3,0),0),\"\")","v":0},{"$f":"IF(A9<>\"\",IFERROR(VLOOKUP(Q9,Tabelas!B:D,3,0),0),\"\")","v":0},{"$f":"IF(A9<>\"\",IFERROR(VLOOKUP(R9,Tabelas!B:D,3,0),0),\"\")","v":0},{"$f":"IF(A9<>\"\",IFERROR(VLOOKUP(S9,Tabelas!B:D,3,0),0),\"\")","v":0},{"$f":"IF(A9<>\"\",IFERROR(VLOOKUP(T9,Tabelas!B:D,3,0),0),\"\")","v":0},{"$f":"IF(A9<>\"\",IFERROR(VLOOKUP(U9,Tabelas!B:D,3,0),0),\"\")","v":0},{"$f":"IF(A9<>\"\",IFERROR(VLOOKUP(V9,Tabelas!B:D,3,0),0),\"\")","v":0},{"$f":"IF(A9<>\"\",IFERROR(VLOOKUP(W9,Tabelas!B:D,3,0),0),\"\")","v":0},{"$f":"IF(A9<>\"\",IFERROR(VLOOKUP(X9,Tabelas!B:D,3,0),0),\"\")","v":0},{"$f":"IF(A9<>\"\",IFERROR(VLOOKUP(Y9,Tabelas!B:D,3,0),0),\"\")","v":0},{"$f":"IF(A9<>\"\",IFERROR(VLOOKUP(Z9,Tabelas!B:D,3,0),0),\"\")","v":0},{"$f":"IF(A9<>\"\",IFERROR(VLOOKUP(AA9,Tabelas!B:D,3,0),0),\"\")","v":0},{"$f":"IF(A9<>\"\",IFERROR(VLOOKUP(AB9,Tabelas!B:D,3,0),0),\"\")","v":0},{"$f":"IF(A9<>\"\",IFERROR(VLOOKUP(AC9,Tabelas!B:D,3,0),0),\"\")","v":0},{"$f":"IF(A9<>\"\",IFERROR(VLOOKUP(AD9,Tabelas!B:D,3,0),0),\"\")","v":0},{"$f":"IF(A9<>\"\",IFERROR(VLOOKUP(AE9,Tabelas!B:D,3,0),0),\"\")","v":0},{"$f":"IF(A9<>\"\",IFERROR(VLOOKUP(AF9,Tabelas!B:D,3,0),0),\"\")","v":0},{"$f":"IF(A9<>\"\",IFERROR(VLOOKUP(AG9,Tabelas!B:D,3,0),0),\"\")","v":0},{"$f":"IF(A9<>\"\",IFERROR(VLOOKUP(AH9,Tabelas!B:D,3,0),0),\"\")","v":0},{"$f":"IF(A9<>\"\",IFERROR(VLOOKUP(AI9,Tabelas!B:D,3,0),0),\"\")","v":0},{"$f":"IF(A9<>\"\",IFERROR(VLOOKUP(AJ9,Tabelas!B:D,3,0),0),\"\")","v":0},{"$f":"IF(A9<>\"\",IFERROR(VLOOKUP(AK9,Tabelas!B:D,3,0),0),\"\")","v":0},{"$f":"IF(A9<>\"\",IFERROR(VLOOKUP(AL9,Tabelas!B:D,3,0),0),\"\")","v":0},{"$f":"IF(A9<>\"\",IFERROR(VLOOKUP(AM9,Tabelas!B:D,3,0),0),\"\")","v":0},{"$f":"IF(A9<>\"\",IFERROR(VLOOKUP(AN9,Tabelas!B:D,3,0),0),\"\")","v":0},{"$f":"IF(A9<>\"\",IFERROR(VLOOKUP(AO9,Tabelas!B:D,3,0),0),\"\")","v":0},{"$f":"IF(A9<>\"\",IFERROR(VLOOKUP(AP9,Tabelas!B:D,3,0),0),\"\")","v":0},{"$f":"IF(A9<>\"\",IFERROR(VLOOKUP(AQ9,Tabelas!B:D,3,0),0),\"\")","v":0},{"$f":"IF(AND(A9<>\"\",E9=\"Ebserh\"),SUM(AR9:BV9)+COUNTIF(M9:AQ9,\"N*\")+COUNTIF(M9:AQ9,\"DN*\"),IF(AND(A9<>\"\",E9<>\"Ebserh\"),SUM(AR9:BV9),\"\"))","v":0},{"$f":"IF(A9<>\"\",COUNTIF(M9:AQ9,\"LM\")+COUNTIF(M9:AQ9,\"L\")+COUNTIF(M9:AQ9,\"LP\"),\"\")","v":0},{"$f":"IF(A9<>\"\",COUNTIF(M9:AQ9,\"AB*\"),\"\")","v":0},{"$f":"IF(A9<>\"\",COUNTIF(M9:AQ9,\"FE\"),\"\")","v":0},{"$f":"IF(A9<>\"\",COUNTIF(M9:AQ9,\"LC\"),\"\")","v":0},{"$f":"IF(A9<>\"\",COUNTIF(M9:AQ9,\"CH*\"),\"\")","v":0},{"$f":"IF(A9<>\"\",COUNTIF(M9:AQ9,\"AF1\")+COUNTIF(M9:AQ9,\"AF2\")+COUNTIF(M9:AQ9,\"AF3\")+COUNTIF(M9:AQ9,\"AF4\")+COUNTIF(M9:AQ9,\"AF5\")+COUNTIF(M9:AQ9,\"AF6\")+COUNTIF(M9:AQ9,\"AF7\")+COUNTIF(M9:AQ9,\"AF8\")+COUNTIF(M9:AQ9,\"AF9\")+COUNTIF(M9:AQ9,\"AF10\")+COUNTIF(M9:AQ9,\"AF11\")+COUNTIF(M9:AQ9,\"AF12\")+COUNTIF(M9:AQ9,\"AF13\")+COUNTIF(M9:AQ9,\"AF14\"),\"\")","v":0},{"$f":"IF(A9<>\"\",COUNTIF(M9:AQ9,\"CH*\")+COUNTIF(M9:AQ9,\"L\")+COUNTIF(M9:AQ9,\"LM\")+COUNTIF(M9:AQ9,\"LP\")+COUNTIF(M9:AQ9,\"LC\")+COUNTIF(M9:AQ9,\"AB*\")+COUNTIF(M9:AQ9,\"AF1\")+COUNTIF(M9:AQ9,\"AF2\")+COUNTIF(M9:AQ9,\"AF3\")+COUNTIF(M9:AQ9,\"AF4\")+COUNTIF(M9:AQ9,\"AF5\")+COUNTIF(M9:AQ9,\"AF6\")+COUNTIF(M9:AQ9,\"AF7\")+COUNTIF(M9:AQ9,\"AF8\")+COUNTIF(M9:AQ9,\"AF9\")+COUNTIF(M9:AQ9,\"AF10\")+COUNTIF(M9:AQ9,\"AF11\")+COUNTIF(M9:AQ9,\"AF12\")+COUNTIF(M9:AQ9,\"AF13\")+COUNTIF(M9:AQ9,\"AF14\")+COUNTIF(M9:AQ9,\"RC\")+COUNTIF(M9:AQ9,\"FO\")+COUNTIF(M9:AQ9,\"FE\"),\"\")","v":0}]
["FULANO 2",2,null,null,null,null,null,null,null,null,null,null,null,null,null,null,null,null,null,null,null,null,null,null,null,null,null,null,null,null,null,null,null,null,null,null,null,null,null,null,null,null,null,{"$f":"IF(A10<>\"\",IFERROR(VLOOKUP(M10,Tabelas!B:D,3,0),0),\"\")","v":0},{"$f":"IF(A10<>\"\",IFERROR(VLOOKUP(N10,Tabelas!B:D,3,0),0),\"\")","v":0},{"$f":"IF(A10<>\"\",IFERROR(VLOOKUP(O10,Tabelas!B:D,3,0),0),\"\")","v":0},{"$f":"IF(A10<>\"\",IFERROR(VLOOKUP(P10,Tabelas!B:D,3,0),0),\"\")","v":0},{"$f":"IF(A10<>\"\",IFERROR(VLOOKUP(Q10,Tabelas!B:D,3,0),0),\"\")","v":0},{"$f":"IF(A10<>\"\",IFERROR(VLOOKUP(R10,Tabelas!B:D,3,0),0),\"\")","v":0},{"$f":"IF(A10<>\"\",IFERROR(VLOOKUP(S10,Tabelas!B:D,3,0),0),\"\")","v":0},{"$f":"IF(A10<>\"\",IFERROR(VLOOKUP(T10,Tabelas!B:D,3,0),0),\"\")","v":0},{"$f":"IF(A10<>\"\",IFERROR(VLOOKUP(U10,Tabelas!B:D,3,0),0),\"\")","v":0},{"$f":"IF(A10<>\"\",IFERROR(VLOOKUP(V10,Tabelas!B:D,3,0),0),\"\")","v":0},{"$f":"IF(A10<>\"\",IFERROR(VLOOKUP(W10,Tabelas!B:D,3,0),0),\"\")","v":0},{"$f":"IF(A10<>\"\",IFERROR(VLOOKUP(X10,Tabelas!B:D,3,0),0),\"\")","v":0},{"$f":"IF(A10<>\"\",IFERROR(VLOOKUP(Y10,Tabelas!B:D,3,0),0),\"\")","v":0},{"$f":"IF(A10<>\"\",IFERROR(VLOOKUP(Z10,Tabelas!B:D,3,0),0),\"\")","v":0},{"$f":"IF(A10<>\"\",IFERROR(VLOOKUP(AA10,Tabelas!B:D,3,0),0),\"\")","v":0},{"$f":"IF(A10<>\"\",IFERROR(VLOOKUP(AB10,Tabelas!B:D,3,0),0),\"\")","v":0},{"$f":"IF(A10<>\"\",IFERROR(VLOOKUP(AC10,Tabelas!B:D,3,0),0),\"\")","v":0},{"$f":"IF(A10<>\"\",IFERROR(VLOOKUP(AD10,Tabelas!B:D,3,0),0),\"\")","v":0},{"$f":"IF(A10<>\"\",IFERROR(VLOOKUP(AE10,Tabelas!B:D,3,0),0),\"\")","v":0},{"$f":"IF(A10<>\"\",IFERROR(VLOOKUP(AF10,Tabelas!B:D,3,0),0),\"\")","v":0},{"$f":"IF(A10<>\"\",IFERROR(VLOOKUP(AG10,Tabelas!B:D,3,0),0),\"\")","v":0},{"$f":"IF(A10<>\"\",IFERROR(VLOOKUP(AH10,Tabelas!B:D,3,0),0),\"\")","v":0},{"$f":"IF(A10<>\"\",IFERROR(VLOOKUP(AI10,Tabelas!B:D,3,0),0),\"\")","v":0},{"$f":"IF(A10<>\"\",IFERROR(VLOOKUP(AJ10,Tabelas!B:D,3,0),0),\"\")","v":0},{"$f":"IF(A10<>\"\",IFERROR(VLOOKUP(AK10,Tabelas!B:D,3,0),0),\"\")","v":0},{"$f":"IF(A10<>\"\",IFERROR(VLOOKUP(AL10,Tabelas!B:D,3,0),0),\"\")","v":0},{"$f":"IF(A10<>\"\",IFERROR(VLOOKUP(AM10,Tabelas!B:D,3,0),0),\"\")","v":0},{"$f":"IF(A10<>\"\",IFERROR(VLOOKUP(AN10,Tabelas!B:D,3,0),0),\"\")","v":0},{"$f":"IF(A10<>\"\",IFERROR(VLOOKUP(AO10,Tabelas!B:D,3,0),0),\"\")","v":0},{"$f":"IF(A10<>\"\",IFERROR(VLOOKUP(AP10,Tabelas!B:D,3,0),0),\"\")","v":0},{"$f":"IF(A10<>\"\",IFERROR(VLOOKUP(AQ10,Tabelas!B:D,3,0),0),\"\")","v":0},0,0,0,0,0,0,0,0]
["FULANO 3",3,null,null,null,null,null,null,null,null,null,null,null,null,null,null,null,null,null,null,null,null,null,null,null,null,null,null,null,null,null,null,null,null,null,null,null,null,null,null,null,null,null,{"$f":"IF(A11<>\"\",IFERROR(VLOOKUP(M11,Tabelas!B:D,3,0),0),\"\")","v":0},{"$f":"IF(A11<>\"\",IFERROR(VLOOKUP(N11,Tabelas!B:D,3,0),0),\"\")","v":0},{"$f":"IF(A11<>\"\",IFERROR(VLOOKUP(O11,Tabelas!B:D,3,0),0),\"\")","v":0},{"$f":"IF(A11<>\"\",IFERROR(VLOOKUP(P11,Tabelas!B:D,3,0),0),\"\")","v":0},{"$f":"IF(A11<>\"\",IFERROR(VLOOKUP(Q11,Tabelas!B:D,3,0),0),\"\")","v":0},{"$f":"IF(A11<>\"\",IFERROR(VLOOKUP(R11,Tabelas!B:D,3,0),0),\"\")","v":0},{"$f":"IF(A11<>\"\",IFERROR(VLOOKUP(S11,Tabelas!B:D,3,0),0),\"\")","v":0},{"$f":"IF(A11<>\"\",IFERROR(VLOOKUP(T11,Tabelas!B:D,3,0),0),\"\")","v":0},{"$f":"IF(A11<>\"\",IFERROR(VLOOKUP(U11,Tabelas!B:D,3,0),0),\"\")","v":0},{"$f":"IF(A11<>\"\",IFERROR(VLOOKUP(V11,Tabelas!B:D,3,0),0),\"\")","v":0},{"$f":"IF(A11<>\"\",IFERROR(VLOOKUP(W11,Tabelas!B:D,3,0),0),\"\")","v":0},{"$f":"IF(A11<>\"\",IFERROR(VLOOKUP(X11,Tabelas!B:D,3,0),0),\"\")","v":0},{"$f":"IF(A11<>\"\",IFERROR(VLOOKUP(Y11,Tabelas!B:D,3,0),0),\"\")","v":0},{"$f":"IF(A11<>\"\",IFERROR(VLOOKUP(Z11,Tabelas!B:D,3,0),0),\"\")","v":0},{"$f":"IF(A11<>\"\",IFERROR(VLOOKUP(AA11,Tabelas!B:D,3,0),0),\"\")","v":0},{"$f":"IF(A11<>\"\",IFERROR(VLOOKUP(AB11,Tabelas!B:D,3,0),0),\"\")","v":0},{"$f":"IF(A11<>\"\",IFERROR(VLOOKUP(AC11,Tabelas!B:D,3,0),0),\"\")","v":0},{"$f":"IF(A11<>\"\",IFERROR(VLOOKUP(AD11,Tabelas!B:D,3,0),0),\"\")","v":0},{"$f":"IF(A11<>\"\",IFERROR(VLOOKUP(AE11,Tabelas!B:D,3,0),0),\"\")","v":0},{"$f":"IF(A11<>\"\",IFERROR(VLOOKUP(AF11,Tabelas!B:D,3,0),0),\"\")","v":0},{"$f":"IF(A11<>\"\",IFERROR(VLOOKUP(AG11,Tabelas!B:D,3,0),0),\"\")","v":0},{"$f":"IF(A11<>\"\",IFERROR(VLOOKUP(AH11,Tabelas!B:D,3,0),0),\"\")","v":0},{"$f":"IF(A11<>\"\",IFERROR(VLOOKUP(AI11,Tabelas!B:D,3,0),0),\"\")","v":0},{"$f":"IF(A11<>\"\",IFERROR(VLOOKUP(AJ11,Tabelas!B:D,3,0),0),\"\")","v":0},{"$f":"IF(A11<>\"\",IFERROR(VLOOKUP(AK11,Tabelas!B:D,3,0),0),\"\")","v":0},{"$f":"IF(A11<>\"\",IFERROR(VLOOKUP(AL11,Tabelas!B:D,3,0),0),\"\")","v":0},{"$f":"IF(A11<>\"\",IFERROR(VLOOKUP(AM11,Tabelas!B:D,3,0),0),\"\")","v":0},{"$f":"IF(A11<>\"\",IFERROR(VLOOKUP(AN11,Tabelas!B:D,3,0),0),\"\")","v":0},{"$f":"IF(A11<>\"\",IFERROR(VLOOKUP(AO11,Tabelas!B:D,3,0),0),\"\")","v":0},{"$f":"IF(A11<>\"\",IFERROR(VLOOKUP(AP11,Tabelas!B:D,3,0),0),\"\")","v":0},{"$f":"IF(A11<>\"\",IFERROR(VLOOKUP(AQ11,Tabelas!B:D,3,0),0),\"\")","v":0},0,0,0,0,0,0,0,0]
["FULANO 4",4,null,null,null,null,null,null,null,null,null,null,null,null,null,null,null,null,null,null,null,null,null,null,null,null,null,null,null,null,null,null,null,null,null,null,null,null,null,null,null,null,null,{"$f":"IF(A12<>\"\",IFERROR(VLOOKUP(M12,Tabelas!B:D,3,0),0),\"\")","v":0},{"$f":"IF(A12<>\"\",IFERROR(VLOOKUP(N12,Tabelas!B:D,3,0),0),\"\")","v":0},{"$f":"IF(A12<>\"\",IFERROR(VLOOKUP(O12,Tabelas!B:D,3,0),0),\"\")","v":0},{"$f":"IF(A12<>\"\",IFERROR(VLOOKUP(P12,Tabelas!B:D,3,0),0),\"\")","v":0},{"$f":"IF(A12<>\"\",IFERROR(VLOOKUP(Q12,Tabelas!B:D,3,0),0),\"\")","v":0},{"$f":"IF(A12<>\"\",IFERROR(VLOOKUP(R12,Tabelas!B:D,3,0),0),\"\")","v":0},{"$f":"IF(A12<>\"\",IFERROR(VLOOKUP(S12,Tabelas!B:D,3,0),0),\"\")","v":0},{"$f":"IF(A12<>\"\",IFERROR(VLOOKUP(T12,Tabelas!B:D,3,0),0),\"\")","v":0},{"$f":"IF(A12<>\"\",IFERROR(VLOOKUP(U12,Tabelas!B:D,3,0),0),\"\")","v":0},{"$f":"IF(A12<>\"\",IFERROR(VLOOKUP(V12,Tabelas!B:D,3,0),0),\"\")","v":0},{"$f":"IF(A12<>\"\",IFERROR(VLOOKUP(W12,Tabelas!B:D,3,0),0),\"\")","v":0},{"$f":"IF(A12<>\"\",IFERROR(VLOOKUP(X12,Tabelas!B:D,3,0),0),\"\")","v":0},{"$f":"IF(A12<>\"\",IFERROR(VLOOKUP(Y12,Tabelas!B:D,3,0),0),\"\")","v":0},{"$f":"IF(A12<>\"\",IFERROR(VLOOKUP(Z12,Tabelas!B:D,3,0),0),\"\")","v":0},{"$f":"IF(A12<>\"\",IFERROR(VLOOKUP(AA12,Tabelas!B:D,3,0),0),\"\")","v":0},{"$f":"IF(A12<>\"\",IFERROR(VLOOKUP(AB12,Tabelas!B:D,3,0),0),\"\")","v":0},{"$f":"IF(A12<>\"\",IFERROR(VLOOKUP(AC12,Tabelas!B:D,3,0),0),\"\")","v":0},{"$f":"IF(A12<>\"\",IFERROR(VLOOKUP(AD12,Tabelas!B:D,3,0),0),\"\")","v":0},{"$f":"IF(A12<>\"\",IFERROR(VLOOKUP(AE12,Tabelas!B:D,3,0),0),\"\")","v":0},{"$f":"IF(A12<>\"\",IFERROR(VLOOKUP(AF12,Tabelas!B:D,3,0),0),\"\")","v":0},{"$f":"IF(A12<>\"\",IFERROR(VLOOKUP(AG12,Tabelas!B:D,3,0),0),\"\")","v":0},{"$f":"IF(A12<>\"\",IFERROR(VLOOKUP(AH12,Tabelas!B:D,3,0),0),\"\")","v":0},{"$f":"IF(A12<>\"\",IFERROR(VLOOKUP(AI12,Tabelas!B:D,3,0),0),\"\")","v":0},{"$f":"IF(A12<>\"\",IFERROR(VLOOKUP(AJ12,Tabelas!B:D,3,0),0),\"\")","v":0},{"$f":"IF(A12<>\"\",IFERROR(VLOOKUP(AK12,Tabelas!B:D,3,0),0),\"\")","v":0},{"$f":"IF(A12<>\"\",IFERROR(VLOOKUP(AL12,Tabelas!B:D,3,0),0),\"\")","v":0},{"$f":"IF(A12<>\"\",IFERROR(VLOOKUP(AM12,Tabelas!B:D,3,0),0),\"\")","v":0},{"$f":"IF(A12<>\"\",IFERROR(VLOOKUP(AN12,Tabelas!B:D,3,0),0),\"\")","v":0},{"$f":"IF(A12<>\"\",IFERROR(VLOOKUP(AO12,Tabelas!B:D,3,0),0),\"\")","v":0},{"$f":"IF(A12<>\"\",IFERROR(VLOOKUP(AP12,Tabelas!B:D,3,0),0),\"\")","v":0},{"$f":"IF(A12<>\"\",IFERROR(VLOOKUP(AQ12,Tabelas!B:D,3,0),0),\"\")","v":0},0,0,0,0,0,0,0,0]
["FULANO 5",5,null,null,null,null,null,null,null,null,null,null,null,null,null,null,null,null,null,null,null,null,null,null,null,null,null,null,null,null,null,null,null,null,null,null,null,null,null,null,null,null,null,{"$f":"IF(A13<>\"\",IFERROR(VLOOKUP(M13,Tabelas!B:D,3,0),0),\"\")","v":0},{"$f":"IF(A13<>\"\",IFERROR(VLOOKUP(N13,Tabelas!B:D,3,0),0),\"\")","v":0},{"$f":"IF(A13<>\"\",IFERROR(VLOOKUP(O13,Tabelas!B:D,3,0),0),\"\")","v":0},{"$f":"IF(A13<>\"\",IFERROR(VLOOKUP(P13,Tabelas!B:D,3,0),0),\"\")","v":0},{"$f":"IF(A13<>\"\",IFERROR(VLOOKUP(Q13,Tabelas!B:D,3,0),0),\"\")","v":0},{"$f":"IF(A13<>\"\",IFERROR(VLOOKUP(R13,Tabelas!B:D,3,0),0),\"\")","v":0},{"$f":"IF(A13<>\"\",IFERROR(VLOOKUP(S13,Tabelas!B:D,3,0),0),\"\")","v":0},{"$f":"IF(A13<>\"\",IFERROR(VLOOKUP(T13,Tabelas!B:D,3,0),0),\"\")","v":0},{"$f":"IF(A13<>\"\",IFERROR(VLOOKUP(U13,Tabelas!B:D,3,0),0),\"\")","v":0},{"$f":"IF(A13<>\"\",IFERROR(VLOOKUP(V13,Tabelas!B:D,3,0),0),\"\")","v":0},{"$f":"IF(A13<>\"\",IFERROR(VLOOKUP(W13,Tabelas!B:D,3,0),0),\"\")","v":0},{"$f":"IF(A13<>\"\",IFERROR(VLOOKUP(X13,Tabelas!B:D,3,0),0),\"\")","v":0},{"$f":"IF(A13<>\"\",IFERROR(VLOOKUP(Y13,Tabelas!B:D,3,0),0),\"\")","v":0},{"$f":"IF(A13<>\"\",IFERROR(VLOOKUP(Z13,Tabelas!B:D,3,0),0),\"\")","v":0},{"$f":"IF(A13<>\"\",IFERROR(VLOOKUP(AA13,Tabelas!B:D,3,0),0),\"\")","v":0},{"$f":"IF(A13<>\"\",IFERROR(VLOOKUP(AB13,Tabelas!B:D,3,0),0),\"\")","v":0},{"$f":"IF(A13<>\"\",IFERROR(VLOOKUP(AC13,Tabelas!B:D,3,0),0),\"\")","v":0},{"$f":"IF(A13<>\"\",IFERROR(VLOOKUP(AD13,Tabelas!B:D,3,0),0),\"\")","v":0},{"$f":"IF(A13<>\"\",IFERROR(VLOOKUP(AE13,Tabelas!B:D,3,0),0),\"\")","v":0},{"$f":"IF(A13<>\"\",IFERROR(VLOOKUP(AF13,Tabelas!B:D,3,0),0),\"\")","v":0},{"$f":"IF(A13<>\"\",IFERROR(VLOOKUP(AG13,Tabelas!B:D,3,0),0),\"\")","v":0},{"$f":"IF(A13<>\"\",IFERROR(VLOOKUP(AH13,Tabelas!B:D,3,0),0),\"\")","v":0},{"$f":"IF(A13<>\"\",IFERROR(VLOOKUP(AI13,Tabelas!B:D,3,0),0),\"\")","v":0},{"$f":"IF(A13<>\"\",IFERROR(VLOOKUP(AJ13,Tabelas!B:D,3,0),0),\"\")","v":0},{"$f":"IF(A13<>\"\",IFERROR(VLOOKUP(AK13,Tabelas!B:D,3,0),0),\"\")","v":0},{"$f":"IF(A13<>\"\",IFERROR(VLOOKUP(AL13,Tabelas!B:D,3,0),0),\"\")","v":0},{"$f":"IF(A13<>\"\",IFERROR(VLOOKUP(AM13,Tabelas!B:D,3,0),0),\"\")","v":0},{"$f":"IF(A13<>\"\",IFERROR(VLOOKUP(AN13,Tabelas!B:D,3,0),0),\"\")","v":0},{"$f":"IF(A13<>\"\",IFERROR(VLOOKUP(AO13,Tabelas!B:D,3,0),0),\"\")","v":0},{"$f":"IF(A13<>\"\",IFERROR(VLOOKUP(AP13,Tabelas!B:D,3,0),0),\"\")","v":0},{"$f":"IF(A13<>\"\",IFERROR(VLOOKUP(AQ13,Tabelas!B:D,3,0),0),\"\")","v":0},0,0,0,0,0,0,0,0]
["FULANO 6",6,null,null,null,null,null,null,null,null,null,null,null,null,null,null,null,null,null,null,null,null,null,null,null,null,null,null,null,null,null,null,null,null,null,null,null,null,null,null,null,null,null,{"$f":"IF(A14<>\"\",IFERROR(VLOOKUP(M14,Tabelas!B:D,3,0),0),\"\")","v":0},{"$f":"IF(A14<>\"\",IFERROR(VLOOKUP(N14,Tabelas!B:D,3,0),0),\"\")","v":0},{"$f":"IF(A14<>\"\",IFERROR(VLOOKUP(O14,Tabelas!B:D,3,0),0),\"\")","v":0},{"$f":"IF(A14<>\"\",IFERROR(VLOOKUP(P14,Tabelas!B:D,3,0),0),\"\")","v":0},{"$f":"IF(A14<>\"\",IFERROR(VLOOKUP(Q14,Tabelas!B:D,3,0),0),\"\")","v":0},{"$f":"IF(A14<>\"\",IFERROR(VLOOKUP(R14,Tabelas!B:D,3,0),0),\"\")","v":0},{"$f":"IF(A14<>\"\",IFERROR(VLOOKUP(S14,Tabelas!B:D,3,0),0),\"\")","v":0},{"$f":"IF(A14<>\"\",IFERROR(VLOOKUP(T14,Tabelas!B:D,3,0),0),\"\")","v":0},{"$f":"IF(A14<>\"\",IFERROR(VLOOKUP(U14,Tabelas!B:D,3,0),0),\"\")","v":0},{"$f":"IF(A14<>\"\",IFERROR(VLOOKUP(V14,Tabelas!B:D,3,0),0),\"\")","v":0},{"$f":"IF(A14<>\"\",IFERROR(VLOOKUP(W14,Tabelas!B:D,3,0),0),\"\")","v":0},{"$f":"IF(A14<>\"\",IFERROR(VLOOKUP(X14,Tabelas!B:D,3,0),0),\"\")","v":0},{"$f":"IF(A14<>\"\",IFERROR(VLOOKUP(Y14,Tabelas!B:D,3,0),0),\"\")","v":0},{"$f":"IF(A14<>\"\",IFERROR(VLOOKUP(Z14,Tabelas!B:D,3,0),0),\"\")","v":0},{"$f":"IF(A14<>\"\",IFERROR(VLOOKUP(AA14,Tabelas!B:D,3,0),0),\"\")","v":0},{"$f":"IF(A14<>\"\",IFERROR(VLOOKUP(AB14,Tabelas!B:D,3,0),0),\"\")","v":0},{"$f":"IF(A14<>\"\",IFERROR(VLOOKUP(AC14,Tabelas!B:D,3,0),0),\"\")","v":0},{"$f":"IF(A14<>\"\",IFERROR(VLOOKUP(AD14,Tabelas!B:D,3,0),0),\"\")","v":0},{"$f":"IF(A14<>\"\",IFERROR(VLOOKUP(AE14,Tabelas!B:D,3,0),0),\"\")","v":0},{"$f":"IF(A14<>\"\",IFERROR(VLOOKUP(AF14,Tabelas!B:D,3,0),0),\"\")","v":0},{"$f":"IF(A14<>\"\",IFERROR(VLOOKUP(AG14,Tabelas!B:D,3,0),0),\"\")","v":0},{"$f":"IF(A14<>\"\",IFERROR(VLOOKUP(AH14,Tabelas!B:D,3,0),0),\"\")","v":0},{"$f":"IF(A14<>\"\",IFERROR(VLOOKUP(AI14,Tabelas!B:D,3,0),0),\"\")","v":0},{"$f":"IF(A14<>\"\",IFERROR(VLOOKUP(AJ14,Tabelas!B:D,3,0),0),\"\")","v":0},{"$f":"IF(A14<>\"\",IFERROR(VLOOKUP(AK14,Tabelas!B:D,3,0),0),\"\")","v":0},{"$f":"IF(A14<>\"\",IFERROR(VLOOKUP(AL14,Tabelas!B:D,3,0),0),\"\")","v":0},{"$f":"IF(A14<>\"\",IFERROR(VLOOKUP(AM14,Tabelas!B:D,3,0),0),\"\")","v":0},{"$f":"IF(A14<>\"\",IFERROR(VLOOKUP(AN14,Tabelas!B:D,3,0),0),\"\")","v":0},{"$f":"IF(A14<>\"\",IFERROR(VLOOKUP(AO14,Tabelas!B:D,3,0),0),\"\")","v":0},{"$f":"IF(A14<>\"\",IFERROR(VLOOKUP(AP14,Tabelas!B:D,3,0),0),\"\")","v":0},{"$f":"IF(A14<>\"\",IFERROR(VLOOKUP(AQ14,Tabelas!B:D,3,0),0),\"\")","v":0},0,0,0,0,0,0,0,0]
["FULANO 7",7,null,null,null,null,null,null,null,null,null,null,null,null,null,null,null,null,null,null,null,null,null,null,null,null,null,null,null,null,null,null,null,null,null,null,null,null,null,null,null,null,null,{"$f":"IF(A15<>\"\",IFERROR(VLOOKUP(M15,Tabelas!B:D,3,0),0),\"\")","v":0},{"$f":"IF(A15<>\"\",IFERROR(VLOOKUP(N15,Tabelas!B:D,3,0),0),\"\")","v":0},{"$f":"IF(A15<>\"\",IFERROR(VLOOKUP(O15,Tabelas!B:D,3,0),0),\"\")","v":0},{"$f":"IF(A15<>\"\",IFERROR(VLOOKUP(P15,Tabelas!B:D,3,0),0),\"\")","v":0},{"$f":"IF(A15<>\"\",IFERROR(VLOOKUP(Q15,Tabelas!B:D,3,0),0),\"\")","v":0},{"$f":"IF(A15<>\"\",IFERROR(VLOOKUP(R15,Tabelas!B:D,3,0),0),\"\")","v":0},{"$f":"IF(A15<>\"\",IFERROR(VLOOKUP(S15,Tabelas!B:D,3,0),0),\"\")","v":0},{"$f":"IF(A15<>\"\",IFERROR(VLOOKUP(T15,Tabelas!B:D,3,0),0),\"\")","v":0},{"$f":"IF(A15<>\"\",IFERROR(VLOOKUP(U15,Tabelas!B:D,3,0),0),\"\")","v":0},{"$f":"IF(A15<>\"\",IFERROR(VLOOKUP(V15,Tabelas!B:D,3,0),0),\"\")","v":0},{"$f":"IF(A15<>\"\",IFERROR(VLOOKUP(W15,Tabelas!B:D,3,0),0),\"\")","v":0},{"$f":"IF(A15<>\"\",IFERROR(VLOOKUP(X15,Tabelas!B:D,3,0),0),\"\")","v":0},{"$f":"IF(A15<>\"\",IFERROR(VLOOKUP(Y15,Tabelas!B:D,3,0),0),\"\")","v":0},{"$f":"IF(A15<>\"\",IFERROR(VLOOKUP(Z15,Tabelas!B:D,3,0),0),\"\")","v":0},{"$f":"IF(A15<>\"\",IFERROR(VLOOKUP(AA15,Tabelas!B:D,3,0),0),\"\")","v":0},{"$f":"IF(A15<>\"\",IFERROR(VLOOKUP(AB15,Tabelas!B:D,3,0),0),\"\")","v":0},{"$f":"IF(A15<>\"\",IFERROR(VLOOKUP(AC15,Tabelas!B:D,3,0),0),\"\")","v":0},{"$f":"IF(A15<>\"\",IFERROR(VLOOKUP(AD15,Tabelas!B:D,3,0),0),\"\")","v":0},{"$f":"IF(A15<>\"\",IFERROR(VLOOKUP(AE15,Tabelas!B:D,3,0),0),\"\")","v":0},{"$f":"IF(A15<>\"\",IFERROR(VLOOKUP(AF15,Tabelas!B:D,3,0),0),\"\")","v":0},{"$f":"IF(A15<>\"\",IFERROR(VLOOKUP(AG15,Tabelas!B:D,3,0),0),\"\")","v":0},{"$f":"IF(A15<>\"\",IFERROR(VLOOKUP(AH15,Tabelas!B:D,3,0),0),\"\")","v":0},{"$f":"IF(A15<>\"\",IFERROR(VLOOKUP(AI15,Tabelas!B:D,3,0),0),\"\")","v":0},{"$f":"IF(A15<>\"\",IFERROR(VLOOKUP(AJ15,Tabelas!B:D,3,0),0),\"\")","v":0},{"$f":"IF(A15<>\"\",IFERROR(VLOOKUP(AK15,Tabelas!B:D,3,0),0),\"\")","v":0},{"$f":"IF(A15<>\"\",IFERROR(VLOOKUP(AL15,Tabelas!B:D,3,0),0),\"\")","v":0},{"$f":"IF(A15<>\"\",IFERROR(VLOOKUP(AM15,Tabelas!B:D,3,0),0),\"\")","v":0},{"$f":"IF(A15<>\"\",IFERROR(VLOOKUP(AN15,Tabelas!B:D,3,0),0),\"\")","v":0},{"$f":"IF(A15<>\"\",IFERROR(VLOOKUP(AO15,Tabelas!B:D,3,0),0),\"\")","v":0},{"$f":"IF(A15<>\"\",IFERROR(VLOOKUP(AP15,Tabelas!B:D,3,0),0),\"\")","v":0},{"$f":"IF(A15<>\"\",IFERROR(VLOOKUP(AQ15,Tabelas!B:D,3,0),0),\"\")","v":0},0,0,0,0,0,0,0,0]
["FULANO 8",8,null,null,null,null,null,null,null,null,null,null,null,null,null,null,null,null,null,null,null,null,null,null,null,null,null,null,null,null,null,null,null,null,null,null,null,null,null,null,null,null,null,{"$f":"IF(A16<>\"\",IFERROR(VLOOKUP(M16,Tabelas!B:D,3,0),0),\"\")","v":0},{"$f":"IF(A16<>\"\",IFERROR(VLOOKUP(N16,Tabelas!B:D,3,0),0),\"\")","v":0},{"$f":"IF(A16<>\"\",IFERROR(VLOOKUP(O16,Tabelas!B:D,3,0),0),\"\")","v":0},{"$f":"IF(A16<>\"\",IFERROR(VLOOKUP(P16,Tabelas!B:D,3,0),0),\"\")","v":0},{"$f":"IF(A16<>\"\",IFERROR(VLOOKUP(Q16,Tabelas!B:D,3,0),0),\"\")","v":0},{"$f":"IF(A16<>\"\",IFERROR(VLOOKUP(R16,Tabelas!B:D,3,0),0),\"\")","v":0},{"$f":"IF(A16<>\"\",IFERROR(VLOOKUP(S16,Tabelas!B:D,3,0),0),\"\")","v":0},{"$f":"IF(A16<>\"\",IFERROR(VLOOKUP(T16,Tabelas!B:D,3,0),0),\"\")","v":0},{"$f":"IF(A16<>\"\",IFERROR(VLOOKUP(U16,Tabelas!B:D,3,0),0),\"\")","v":0},{"$f":"IF(A16<>\"\",IFERROR(VLOOKUP(V16,Tabelas!B:D,3,0),0),\"\")","v":0},{"$f":"IF(A16<>\"\",IFERROR(VLOOKUP(W16,Tabelas!B:D,3,0),0),\"\")","v":0},{"$f":"IF(A16<>\"\",IFERROR(VLOOKUP(X16,Tabelas!B:D,3,0),0),\"\")","v":0},{"$f":"IF(A16<>\"\",IFERROR(VLOOKUP(Y16,Tabelas!B:D,3,0),0),\"\")","v":0},{"$f":"IF(A16<>\"\",IFERROR(VLOOKUP(Z16,Tabelas!B:D,3,0),0),\"\")","v":0},{"$f":"IF(A16<>\"\",IFERROR(VLOOKUP(AA16,Tabelas!B:D,3,0),0),\"\")","v":0},{"$f":"IF(A16<>\"\",IFERROR(VLOOKUP(AB16,Tabelas!B:D,3,0),0),\"\")","v":0},{"$f":"IF(A16<>\"\",IFERROR(VLOOKUP(AC16,Tabelas!B:D,3,0),0),\"\")","v":0},{"$f":"IF(A16<>\"\",IFERROR(VLOOKUP(AD16,Tabelas!B:D,3,0),0),\"\")","v":0},{"$f":"IF(A16<>\"\",IFERROR(VLOOKUP(AE16,Tabelas!B:D,3,0),0),\"\")","v":0},{"$f":"IF(A16<>\"\",IFERROR(VLOOKUP(AF16,Tabelas!B:D,3,0),0),\"\")","v":0},{"$f":"IF(A16<>\"\",IFERROR(VLOOKUP(AG16,Tabelas!B:D,3,0),0),\"\")","v":0},{"$f":"IF(A16<>\"\",IFERROR(VLOOKUP(AH16,Tabelas!B:D,3,0),0),\"\")","v":0},{"$f":"IF(A16<>\"\",IFERROR(VLOOKUP(AI16,Tabelas!B:D,3,0),0),\"\")","v":0},{"$f":"IF(A16<>\"\",IFERROR(VLOOKUP(AJ16,Tabelas!B:D,3,0),0),\"\")","v":0},{"$f":"IF(A16<>\"\",IFERROR(VLOOKUP(AK16,Tabelas!B:D,3,0),0),\"\")","v":0},{"$f":"IF(A16<>\"\",IFERROR(VLOOKUP(AL16,Tabelas!B:D,3,0),0),\"\")","v":0},{"$f":"IF(A16<>\"\",IFERROR(VLOOKUP(AM16,Tabelas!B:D,3,0),0),\"\")","v":0},{"$f":"IF(A16<>\"\",IFERROR(VLOOKUP(AN16,Tabelas!B:D,3,0),0),\"\")","v":0},{"$f":"IF(A16<>\"\",IFERROR(VLOOKUP(AO16,Tabelas!B:D,3,0),0),\"\")","v":0},{"$f":"IF(A16<>\"\",IFERROR(VLOOKUP(AP16,Tabelas!B:D,3,0),0),\"\")","v":0},{"$f":"IF(A16<>\"\",IFERROR(VLOOKUP(AQ16,Tabelas!B:D,3,0),0),\"\")","v":0},0,0,0,0,0,0,0,0]
["FULANO 9",9,null,null,null,null,null,null,null,null,null,null,null,null,null,null,null,null,null,null,null,null,null,null,null,null,null,null,null,null,null,null,null,null,null,null,null,null,null,null,null,null,null,{"$f":"IF(A17<>\"\",IFERROR(VLOOKUP(M17,Tabelas!B:D,3,0),0),\"\")","v":0},{"$f":"IF(A17<>\"\",IFERROR(VLOOKUP(N17,Tabelas!B:D,3,0),0),\"\")","v":0},{"$f":"IF(A17<>\"\",IFERROR(VLOOKUP(O17,Tabelas!B:D,3,0),0),\"\")","v":0},{"$f":"IF(A17<>\"\",IFERROR(VLOOKUP(P17,Tabelas!B:D,3,0),0),\"\")","v":0},{"$f":"IF(A17<>\"\",IFERROR(VLOOKUP(Q17,Tabelas!B:D,3,0),0),\"\")","v":0},{"$f":"IF(A17<>\"\",IFERROR(VLOOKUP(R17,Tabelas!B:D,3,0),0),\"\")","v":0},{"$f":"IF(A17<>\"\",IFERROR(VLOOKUP(S17,Tabelas!B:D,3,0),0),\"\")","v":0},{"$f":"IF(A17<>\"\",IFERROR(VLOOKUP(T17,Tabelas!B:D,3,0),0),\"\")","v":0},{"$f":"IF(A17<>\"\",IFERROR(VLOOKUP(U17,Tabelas!B:D,3,0),0),\"\")","v":0},{"$f":"IF(A17<>\"\",IFERROR(VLOOKUP(V17,Tabelas!B:D,3,0),0),\"\")","v":0},{"$f":"IF(A17<>\"\",IFERROR(VLOOKUP(W17,Tabelas!B:D,3,0),0),\"\")","v":0},{"$f":"IF(A17<>\"\",IFERROR(VLOOKUP(X17,Tabelas!B:D,3,0),0),\"\")","v":0},{"$f":"IF(A17<>\"\",IFERROR(VLOOKUP(Y17,Tabelas!B:D,3,0),0),\"\")","v":0},{"$f":"IF(A17<>\"\",IFERROR(VLOOKUP(Z17,Tabelas!B:D,3,0),0),\"\")","v":0},{"$f":"IF(A17<>\"\",IFERROR(VLOOKUP(AA17,Tabelas!B:D,3,0),0),\"\")","v":0},{"$f":"IF(A17<>\"\",IFERROR(VLOOKUP(AB17,Tabelas!B:D,3,0),0),\"\")","v":0},{"$f":"IF(A17<>\"\",IFERROR(VLOOKUP(AC17,Tabelas!B:D,3,0),0),\"\")","v":0},{"$f":"IF(A17<>\"\",IFERROR(VLOOKUP(AD17,Tabelas!B:D,3,0),0),\"\")","v":0},{"$f":"IF(A17<>\"\",IFERROR(VLOOKUP(AE17,Tabelas!B:D,3,0),0),\"\")","v":0},{"$f":"IF(A17<>\"\",IFERROR(VLOOKUP(AF17,Tabelas!B:D,3,0),0),\"\")","v":0},{"$f":"IF(A17<>\"\",IFERROR(VLOOKUP(AG17,Tabelas!B:D,3,0),0),\"\")","v":0},{"$f":"IF(A17<>\"\",IFERROR(VLOOKUP(AH17,Tabelas!B:D,3,0),0),\"\")","v":0},{"$f":"IF(A17<>\"\",IFERROR(VLOOKUP(AI17,Tabelas!B:D,3,0),0),\"\")","v":0},{"$f":"IF(A17<>\"\",IFERROR(VLOOKUP(AJ17,Tabelas!B:D,3,0),0),\"\")","v":0},{"$f":"IF(A17<>\"\",IFERROR(VLOOKUP(AK17,Tabelas!B:D,3,0),0),\"\")","v":0},{"$f":"IF(A17<>\"\",IFERROR(VLOOKUP(AL17,Tabelas!B:D,3,0),0),\"\")","v":0},{"$f":"IF(A17<>\"\",IFERROR(VLOOKUP(AM17,Tabelas!B:D,3,0),0),\"\")","v":0},{"$f":"IF(A17<>\"\",IFERROR(VLOOKUP(AN17,Tabelas!B:D,3,0),0),\"\")","v":0},{"$f":"IF(A17<>\"\",IFERROR(VLOOKUP(AO17,Tabelas!B:D,3,0),0),\"\")","v":0},{"$f":"IF(A17<>\"\",IFERROR(VLOOKUP(AP17,Tabelas!B:D,3,0),0),\"\")","v":0},{"$f":"IF(A17<>\"\",IFERROR(VLOOKUP(AQ17,Tabelas!B:D,3,0),0),\"\")","v":0},0,0,0,0,0,0,0,0]
["FULANO 10",10,null,null,null,null,null,null,null,null,null,null,null,null,null,null,null,null,null,null,null,null,null,null,null,null,null,null,null,null,null,null,null,null,null,null,null,null,null,null,null,null,null,{"$f":"IF(A18<>\"\",IFERROR(VLOOKUP(M18,Tabelas!B:D,3,0),0),\"\")","v":0},{"$f":"IF(A18<>\"\",IFERROR(VLOOKUP(N18,Tabelas!B:D,3,0),0),\"\")","v":0},{"$f":"IF(A18<>\"\",IFERROR(VLOOKUP(O18,Tabelas!B:D,3,0),0),\"\")","v":0},{"$f":"IF(A18<>\"\",IFERROR(VLOOKUP(P18,Tabelas!B:D,3,0),0),\"\")","v":0},{"$f":"IF(A18<>\"\",IFERROR(VLOOKUP(Q18,Tabelas!B:D,3,0),0),\"\")","v":0},{"$f":"IF(A18<>\"\",IFERROR(VLOOKUP(R18,Tabelas!B:D,3,0),0),\"\")","v":0},{"$f":"IF(A18<>\"\",IFERROR(VLOOKUP(S18,Tabelas!B:D,3,0),0),\"\")","v":0},{"$f":"IF(A18<>\"\",IFERROR(VLOOKUP(T18,Tabelas!B:D,3,0),0),\"\")","v":0},{"$f":"IF(A18<>\"\",IFERROR(VLOOKUP(U18,Tabelas!B:D,3,0),0),\"\")","v":0},{"$f":"IF(A18<>\"\",IFERROR(VLOOKUP(V18,Tabelas!B:D,3,0),0),\"\")","v":0},{"$f":"IF(A18<>\"\",IFERROR(VLOOKUP(W18,Tabelas!B:D,3,0),0),\"\")","v":0},{"$f":"IF(A18<>\"\",IFERROR(VLOOKUP(X18,Tabelas!B:D,3,0),0),\"\")","v":0},{"$f":"IF(A18<>\"\",IFERROR(VLOOKUP(Y18,Tabelas!B:D,3,0),0),\"\")","v":0},{"$f":"IF(A18<>\"\",IFERROR(VLOOKUP(Z18,Tabelas!B:D,3,0),0),\"\")","v":0},{"$f":"IF(A18<>\"\",IFERROR(VLOOKUP(AA18,Tabelas!B:D,3,0),0),\"\")","v":0},{"$f":"IF(A18<>\"\",IFERROR(VLOOKUP(AB18,Tabelas!B:D,3,0),0),\"\")","v":0},{"$f":"IF(A18<>\"\",IFERROR(VLOOKUP(AC18,Tabelas!B:D,3,0),0),\"\")","v":0},{"$f":"IF(A18<>\"\",IFERROR(VLOOKUP(AD18,Tabelas!B:D,3,0),0),\"\")","v":0},{"$f":"IF(A18<>\"\",IFERROR(VLOOKUP(AE18,Tabelas!B:D,3,0),0),\"\")","v":0},{"$f":"IF(A18<>\"\",IFERROR(VLOOKUP(AF18,Tabelas!B:D,3,0),0),\"\")","v":0},{"$f":"IF(A18<>\"\",IFERROR(VLOOKUP(AG18,Tabelas!B:D,3,0),0),\"\")","v":0},{"$f":"IF(A18<>\"\",IFERROR(VLOOKUP(AH18,Tabelas!B:D,3,0),0),\"\")","v":0},{"$f":"IF(A18<>\"\",IFERROR(VLOOKUP(AI18,Tabelas!B:D,3,0),0),\"\")","v":0},{"$f":"IF(A18<>\"\",IFERROR(VLOOKUP(AJ18,Tabelas!B:D,3,0),0),\"\")","v":0},{"$f":"IF(A18<>\"\",IFERROR(VLOOKUP(AK18,Tabelas!B:D,3,0),0),\"\")","v":0},{"$f":"IF(A18<>\"\",IFERROR(VLOOKUP(AL18,Tabelas!B:D,3,0),0),\"\")","v":0},{"$f":"IF(A18<>\"\",IFERROR(VLOOKUP(AM18,Tabelas!B:D,3,0),0),\"\")","v":0},{"$f":"IF(A18<>\"\",IFERROR(VLOOKUP(AN18,Tabelas!B:D,3,0),0),\"\")","v":0},{"$f":"IF(A18<>\"\",IFERROR(VLOOKUP(AO18,Tabelas!B:D,3,0),0),\"\")","v":0},{"$f":"IF(A18<>\"\",IFERROR(VLOOKUP(AP18,Tabelas!B:D,3,0),0),\"\")","v":0},{"$f":"IF(A18<>\"\",IFERROR(VLOOKUP(AQ18,Tabelas!B:D,3,0),0),\"\")","v":0},0,0,0,0,0,0,0,0]
["FULANO 11",11,null,null,null,null,null,null,null,null,null,null,null,null,null,null,null,null,null,null,null,null,null,null,null,null,null,null,null,null,null,null,null,null,null,null,null,null,null,null,null,null,null,{"$f":"IF(A19<>\"\",IFERROR(VLOOKUP(M19,Tabelas!B:D,3,0),0),\"\")","v":0},{"$f":"IF(A19<>\"\",IFERROR(VLOOKUP(N19,Tabelas!B:D,3,0),0),\"\")","v":0},{"$f":"IF(A19<>\"\",IFERROR(VLOOKUP(O19,Tabelas!B:D,3,0),0),\"\")","v":0},{"$f":"IF(A19<>\"\",IFERROR(VLOOKUP(P19,Tabelas!B:D,3,0),0),\"\")","v":0},{"$f":"IF(A19<>\"\",IFERROR(VLOOKUP(Q19,Tabelas!B:D,3,0),0),\"\")","v":0},{"$f":"IF(A19<>\"\",IFERROR(VLOOKUP(R19,Tabelas!B:D,3,0),0),\"\")","v":0},{"$f":"IF(A19<>\"\",IFERROR(VLOOKUP(S19,Tabelas!B:D,3,0),0),\"\")","v":0},{"$f":"IF(A19<>\"\",IFERROR(VLOOKUP(T19,Tabelas!B:D,3,0),0),\"\")","v":0},{"$f":"IF(A19<>\"\",IFERROR(VLOOKUP(U19,Tabelas!B:D,3,0),0),\"\")","v":0},{"$f":"IF(A19<>\"\",IFERROR(VLOOKUP(V19,Tabelas!B:D,3,0),0),\"\")","v":0},{"$f":"IF(A19<>\"\",IFERROR(VLOOKUP(W19,Tabelas!B:D,3,0),0),\"\")","v":0},{"$f":"IF(A19<>\"\",IFERROR(VLOOKUP(X19,Tabelas!B:D,3,0),0),\"\")","v":0},{"$f":"IF(A19<>\"\",IFERROR(VLOOKUP(Y19,Tabelas!B:D,3,0),0),\"\")","v":0},{"$f":"IF(A19<>\"\",IFERROR(VLOOKUP(Z19,Tabelas!B:D,3,0),0),\"\")","v":0},{"$f":"IF(A19<>\"\",IFERROR(VLOOKUP(AA19,Tabelas!B:D,3,0),0),\"\")","v":0},{"$f":"IF(A19<>\"\",IFERROR(VLOOKUP(AB19,Tabelas!B:D,3,0),0),\"\")","v":0},{"$f":"IF(A19<>\"\",IFERROR(VLOOKUP(AC19,Tabelas!B:D,3,0),0),\"\")","v":0},{"$f":"IF(A19<>\"\",IFERROR(VLOOKUP(AD19,Tabelas!B:D,3,0),0),\"\")","v":0},{"$f":"IF(A19<>\"\",IFERROR(VLOOKUP(AE19,Tabelas!B:D,3,0),0),\"\")","v":0},{"$f":"IF(A19<>\"\",IFERROR(VLOOKUP(AF19,Tabelas!B:D,3,0),0),\"\")","v":0},{"$f":"IF(A19<>\"\",IFERROR(VLOOKUP(AG19,Tabelas!B:D,3,0),0),\"\")","v":0},{"$f":"IF(A19<>\"\",IFERROR(VLOOKUP(AH19,Tabelas!B:D,3,0),0),\"\")","v":0},{"$f":"IF(A19<>\"\",IFERROR(VLOOKUP(AI19,Tabelas!B:D,3,0),0),\"\")","v":0},{"$f":"IF(A19<>\"\",IFERROR(VLOOKUP(AJ19,Tabelas!B:D,3,0),0),\"\")","v":0},{"$f":"IF(A19<>\"\",IFERROR(VLOOKUP(AK19,Tabelas!B:D,3,0),0),\"\")","v":0},{"$f":"IF(A19<>\"\",IFERROR(VLOOKUP(AL19,Tabelas!B:D,3,0),0),\"\")","v":0},{"$f":"IF(A19<>\"\",IFERROR(VLOOKUP(AM19,Tabelas!B:D,3,0),0),\"\")","v":0},{"$f":"IF(A19<>\"\",IFERROR(VLOOKUP(AN19,Tabelas!B:D,3,0),0),\"\")","v":0},{"$f":"IF(A19<>\"\",IFERROR(VLOOKUP(AO19,Tabelas!B:D,3,0),0),\"\")","v":0},{"$f":"IF(A19<>\"\",IFERROR(VLOOKUP(AP19,Tabelas!B:D,3,0),0),\"\")","v":0},{"$f":"IF(A19<>\"\",IFERROR(VLOOKUP(AQ19,Tabelas!B:D,3,0),0),\"\")","v":0},0,0,0,0,0,0,0,0]
["FULANO 12",12,null,null,null,null,null,null,null,null,null,null,null,null,null,null,null,null,null,null,null,null,null,null,null,null,null,null,null,null,null,null,null,null,null,null,null,null,null,null,null,null,null,{"$f":"IF(A20<>\"\",IFERROR(VLOOKUP(M20,Tabelas!B:D,3,0),0),\"\")","v":0},{"$f":"IF(A20<>\"\",IFERROR(VLOOKUP(N20,Tabelas!B:D,3,0),0),\"\")","v":0},{"$f":"IF(A20<>\"\",IFERROR(VLOOKUP(O20,Tabelas!B:D,3,0),0),\"\")","v":0},{"$f":"IF(A20<>\"\",IFERROR(VLOOKUP(P20,Tabelas!B:D,3,0),0),\"\")","v":0},{"$f":"IF(A20<>\"\",IFERROR(VLOOKUP(Q20,Tabelas!B:D,3,0),0),\"\")","v":0},{"$f":"IF(A20<>\"\",IFERROR(VLOOKUP(R20,Tabelas!B:D,3,0),0),\"\")","v":0},{"$f":"IF(A20<>\"\",IFERROR(VLOOKUP(S20,Tabelas!B:D,3,0),0),\"\")","v":0},{"$f":"IF(A20<>\"\",IFERROR(VLOOKUP(T20,Tabelas!B:D,3,0),0),\"\")","v":0},{"$f":"IF(A20<>\"\",IFERROR(VLOOKUP(U20,Tabelas!B:D,3,0),0),\"\")","v":0},{"$f":"IF(A20<>\"\",IFERROR(VLOOKUP(V20,Tabelas!B:D,3,0),0),\"\")","v":0},{"$f":"IF(A20<>\"\",IFERROR(VLOOKUP(W20,Tabelas!B:D,3,0),0),\"\")","v":0},{"$f":"IF(A20<>\"\",IFERROR(VLOOKUP(X20,Tabelas!B:D,3,0),0),\"\")","v":0},{"$f":"IF(A20<>\"\",IFERROR(VLOOKUP(Y20,Tabelas!B:D,3,0),0),\"\")","v":0},{"$f":"IF(A20<>\"\",IFERROR(VLOOKUP(Z20,Tabelas!B:D,3,0),0),\"\")","v":0},{"$f":"IF(A20<>\"\",IFERROR(VLOOKUP(AA20,Tabelas!B:D,3,0),0),\"\")","v":0},{"$f":"IF(A20<>\"\",IFERROR(VLOOKUP(AB20,Tabelas!B:D,3,0),0),\"\")","v":0},{"$f":"IF(A20<>\"\",IFERROR(VLOOKUP(AC20,Tabelas!B:D,3,0),0),\"\")","v":0},{"$f":"IF(A20<>\"\",IFERROR(VLOOKUP(AD20,Tabelas!B:D,3,0),0),\"\")","v":0},{"$f":"IF(A20<>\"\",IFERROR(VLOOKUP(AE20,Tabelas!B:D,3,0),0),\"\")","v":0},{"$f":"IF(A20<>\"\",IFERROR(VLOOKUP(AF20,Tabelas!B:D,3,0),0),\"\")","v":0},{"$f":"IF(A20<>\"\",IFERROR(VLOOKUP(AG20,Tabelas!B:D,3,0),0),\"\")","v":0},{"$f":"IF(A20<>\"\",IFERROR(VLOOKUP(AH20,Tabelas!B:D,3,0),0),\"\")","v":0},{"$f":"IF(A20<>\"\",IFERROR(VLOOKUP(AI20,Tabelas!B:D,3,0),0),\"\")","v":0},{"$f":"IF(A20<>\"\",IFERROR(VLOOKUP(AJ20,Tabelas!B:D,3,0),0),\"\")","v":0},{"$f":"IF(A20<>\"\",IFERROR(VLOOKUP(AK20,Tabelas!B:D,3,0),0),\"\")","v":0},{"$f":"IF(A20<>\"\",IFERROR(VLOOKUP(AL20,Tabelas!B:D,3,0),0),\"\")","v":0},{"$f":"IF(A20<>\"\",IFERROR(VLOOKUP(AM20,Tabelas!B:D,3,0),0),\"\")","v":0},{"$f":"IF(A20<>\"\",IFERROR(VLOOKUP(AN20,Tabelas!B:D,3,0),0),\"\")","v":0},{"$f":"IF(A20<>\"\",IFERROR(VLOOKUP(AO20,Tabelas!B:D,3,0),0),\"\")","v":0},{"$f":"IF(A20<>\"\",IFERROR(VLOOKUP(AP20,Tabelas!B:D,3,0),0),\"\")","v":0},{"$f":"IF(A20<>\"\",IFERROR(VLOOKUP(AQ20,Tabelas!B:D,3,0),0),\"\")","v":0},0,0,0,0,0,0,0,0]
["FULANO 13",13,null,null,null,null,null,null,null,null,null,null,null,null,null,null,null,null,null,null,null,null,null,null,null,null,null,null,null,null,null,null,null,null,null,null,null,null,null,null,null,null,null,{"$f":"IF(A21<>\"\",IFERROR(VLOOKUP(M21,Tabelas!B:D,3,0),0),\"\")","v":0},{"$f":"IF(A21<>\"\",IFERROR(VLOOKUP(N21,Tabelas!B:D,3,0),0),\"\")","v":0},{"$f":"IF(A21<>\"\",IFERROR(VLOOKUP(O21,Tabelas!B:D,3,0),0),\"\")","v":0},{"$f":"IF(A21<>\"\",IFERROR(VLOOKUP(P21,Tabelas!B:D,3,0),0),\"\")","v":0},{"$f":"IF(A21<>\"\",IFERROR(VLOOKUP(Q21,Tabelas!B:D,3,0),0),\"\")","v":0},{"$f":"IF(A21<>\"\",IFERROR(VLOOKUP(R21,Tabelas!B:D,3,0),0),\"\")","v":0},{"$f":"IF(A21<>\"\",IFERROR(VLOOKUP(S21,Tabelas!B:D,3,0),0),\"\")","v":0},{"$f":"IF(A21<>\"\",IFERROR(VLOOKUP(T21,Tabelas!B:D,3,0),0),\"\")","v":0},{"$f":"IF(A21<>\"\",IFERROR(VLOOKUP(U21,Tabelas!B:D,3,0),0),\"\")","v":0},{"$f":"IF(A21<>\"\",IFERROR(VLOOKUP(V21,Tabelas!B:D,3,0),0),\"\")","v":0},{"$f":"IF(A21<>\"\",IFERROR(VLOOKUP(W21,Tabelas!B:D,3,0),0),\"\")","v":0},{"$f":"IF(A21<>\"\",IFERROR(VLOOKUP(X21,Tabelas!B:D,3,0),0),\"\")","v":0},{"$f":"IF(A21<>\"\",IFERROR(VLOOKUP(Y21,Tabelas!B:D,3,0),0),\"\")","v":0},{"$f":"IF(A21<>\"\",IFERROR(VLOOKUP(Z21,Tabelas!B:D,3,0),0),\"\")","v":0},{"$f":"IF(A21<>\"\",IFERROR(VLOOKUP(AA21,Tabelas!B:D,3,0),0),\"\")","v":0},{"$f":"IF(A21<>\"\",IFERROR(VLOOKUP(AB21,Tabelas!B:D,3,0),0),\"\")","v":0},{"$f":"IF(A21<>\"\",IFERROR(VLOOKUP(AC21,Tabelas!B:D,3,0),0),\"\")","v":0},{"$f":"IF(A21<>\"\",IFERROR(VLOOKUP(AD21,Tabelas!B:D,3,0),0),\"\")","v":0},{"$f":"IF(A21<>\"\",IFERROR(VLOOKUP(AE21,Tabelas!B:D,3,0),0),\"\")","v":0},{"$f":"IF(A21<>\"\",IFERROR(VLOOKUP(AF21,Tabelas!B:D,3,0),0),\"\")","v":0},{"$f":"IF(A21<>\"\",IFERROR(VLOOKUP(AG21,Tabelas!B:D,3,0),0),\"\")","v":0},{"$f":"IF(A21<>\"\",IFERROR(VLOOKUP(AH21,Tabelas!B:D,3,0),0),\"\")","v":0},{"$f":"IF(A21<>\"\",IFERROR(VLOOKUP(AI21,Tabelas!B:D,3,0),0),\"\")","v":0},{"$f":"IF(A21<>\"\",IFERROR(VLOOKUP(AJ21,Tabelas!B:D,3,0),0),\"\")","v":0},{"$f":"IF(A21<>\"\",IFERROR(VLOOKUP(AK21,Tabelas!B:D,3,0),0),\"\")","v":0},{"$f":"IF(A21<>\"\",IFERROR(VLOOKUP(AL21,Tabelas!B:D,3,0),0),\"\")","v":0},{"$f":"IF(A21<>\"\",IFERROR(VLOOKUP(AM21,Tabelas!B:D,3,0),0),\"\")","v":0},{"$f":"IF(A21<>\"\",IFERROR(VLOOKUP(AN21,Tabelas!B:D,3,0),0),\"\")","v":0},{"$f":"IF(A21<>\"\",IFERROR(VLOOKUP(AO21,Tabelas!B:D,3,0),0),\"\")","v":0},{"$f":"IF(A21<>\"\",IFERROR(VLOOKUP(AP21,Tabelas!B:D,3,0),0),\"\")","v":0},{"$f":"IF(A21<>\"\",IFERROR(VLOOKUP(AQ21,Tabelas!B:D,3,0),0),\"\")","v":0},0,0,0,0,0,0,0,0]
["FULANO 14",14,null,null,null,null,null,null,null,null,null,null,null,null,null,null,null,null,null,null,null,null,null,null,null,null,null,null,null,null,null,null,null,null,null,null,null,null,null,null,null,null,null,{"$f":"IF(A22<>\"\",IFERROR(VLOOKUP(M22,Tabelas!B:D,3,0),0),\"\")","v":0},{"$f":"IF(A22<>\"\",IFERROR(VLOOKUP(N22,Tabelas!B:D,3,0),0),\"\")","v":0},{"$f":"IF(A22<>\"\",IFERROR(VLOOKUP(O22,Tabelas!B:D,3,0),0),\"\")","v":0},{"$f":"IF(A22<>\"\",IFERROR(VLOOKUP(P22,Tabelas!B:D,3,0),0),\"\")","v":0},{"$f":"IF(A22<>\"\",IFERROR(VLOOKUP(Q22,Tabelas!B:D,3,0),0),\"\")","v":0},{"$f":"IF(A22<>\"\",IFERROR(VLOOKUP(R22,Tabelas!B:D,3,0),0),\"\")","v":0},{"$f":"IF(A22<>\"\",IFERROR(VLOOKUP(S22,Tabelas!B:D,3,0),0),\"\")","v":0},{"$f":"IF(A22<>\"\",IFERROR(VLOOKUP(T22,Tabelas!B:D,3,0),0),\"\")","v":0},{"$f":"IF(A22<>\"\",IFERROR(VLOOKUP(U22,Tabelas!B:D,3,0),0),\"\")","v":0},{"$f":"IF(A22<>\"\",IFERROR(VLOOKUP(V22,Tabelas!B:D,3,0),0),\"\")","v":0},{"$f":"IF(A22<>\"\",IFERROR(VLOOKUP(W22,Tabelas!B:D,3,0),0),\"\")","v":0},{"$f":"IF(A22<>\"\",IFERROR(VLOOKUP(X22,Tabelas!B:D,3,0),0),\"\")","v":0},{"$f":"IF(A22<>\"\",IFERROR(VLOOKUP(Y22,Tabelas!B:D,3,0),0),\"\")","v":0},{"$f":"IF(A22<>\"\",IFERROR(VLOOKUP(Z22,Tabelas!B:D,3,0),0),\"\")","v":0},{"$f":"IF(A22<>\"\",IFERROR(VLOOKUP(AA22,Tabelas!B:D,3,0),0),\"\")","v":0},{"$f":"IF(A22<>\"\",IFERROR(VLOOKUP(AB22,Tabelas!B:D,3,0),0),\"\")","v":0},{"$f":"IF(A22<>\"\",IFERROR(VLOOKUP(AC22,Tabelas!B:D,3,0),0),\"\")","v":0},{"$f":"IF(A22<>\"\",IFERROR(VLOOKUP(AD22,Tabelas!B:D,3,0),0),\"\")","v":0},{"$f":"IF(A22<>\"\",IFERROR(VLOOKUP(AE22,Tabelas!B:D,3,0),0),\"\")","v":0},{"$f":"IF(A22<>\"\",IFERROR(VLOOKUP(AF22,Tabelas!B:D,3,0),0),\"\")","v":0},{"$f":"IF(A22<>\"\",IFERROR(VLOOKUP(AG22,Tabelas!B:D,3,0),0),\"\")","v":0},{"$f":"IF(A22<>\"\",IFERROR(VLOOKUP(AH22,Tabelas!B:D,3,0),0),\"\")","v":0},{"$f":"IF(A22<>\"\",IFERROR(VLOOKUP(AI22,Tabelas!B:D,3,0),0),\"\")","v":0},{"$f":"IF(A22<>\"\",IFERROR(VLOOKUP(AJ22,Tabelas!B:D,3,0),0),\"\")","v":0},{"$f":"IF(A22<>\"\",IFERROR(VLOOKUP(AK22,Tabelas!B:D,3,0),0),\"\")","v":0},{"$f":"IF(A22<>\"\",IFERROR(VLOOKUP(AL22,Tabelas!B:D,3,0),0),\"\")","v":0},{"$f":"IF(A22<>\"\",IFERROR(VLOOKUP(AM22,Tabelas!B:D,3,0),0),\"\")","v":0},{"$f":"IF(A22<>\"\",IFERROR(VLOOKUP(AN22,Tabelas!B:D,3,0),0),\"\")","v":0},{"$f":"IF(A22<>\"\",IFERROR(VLOOKUP(AO22,Tabelas!B:D,3,0),0),\"\")","v":0},{"$f":"IF(A22<>\"\",IFERROR(VLOOKUP(AP22,Tabelas!B:D,3,0),0),\"\")","v":0},{"$f":"IF(A22<>\"\",IFERROR(VLOOKUP(AQ22,Tabelas!B:D,3,0),0),\"\")","v":0},0,0,0,0,0,0,0,0]
["FULANO 15",15,null,null,null,null,null,null,null,null,null,null,null,null,null,null,null,null,null,null,null,null,null,null,null,null,null,null,null,null,null,null,null,null,null,null,null,null,null,null,null,null,null,{"$f":"IF(A23<>\"\",IFERROR(VLOOKUP(M23,Tabelas!B:D,3,0),0),\"\")","v":0},{"$f":"IF(A23<>\"\",IFERROR(VLOOKUP(N23,Tabelas!B:D,3,0),0),\"\")","v":0},{"$f":"IF(A23<>\"\",IFERROR(VLOOKUP(O23,Tabelas!B:D,3,0),0),\"\")","v":0},{"$f":"IF(A23<>\"\",IFERROR(VLOOKUP(P23,Tabelas!B:D,3,0),0),\"\")","v":0},{"$f":"IF(A23<>\"\",IFERROR(VLOOKUP(Q23,Tabelas!B:D,3,0),0),\"\")","v":0},{"$f":"IF(A23<>\"\",IFERROR(VLOOKUP(R23,Tabelas!B:D,3,0),0),\"\")","v":0},{"$f":"IF(A23<>\"\",IFERROR(VLOOKUP(S23,Tabelas!B:D,3,0),0),\"\")","v":0},{"$f":"IF(A23<>\"\",IFERROR(VLOOKUP(T23,Tabelas!B:D,3,0),0),\"\")","v":0},{"$f":"IF(A23<>\"\",IFERROR(VLOOKUP(U23,Tabelas!B:D,3,0),0),\"\")","v":0},{"$f":"IF(A23<>\"\",IFERROR(VLOOKUP(V23,Tabelas!B:D,3,0),0),\"\")","v":0},{"$f":"IF(A23<>\"\",IFERROR(VLOOKUP(W23,Tabelas!B:D,3,0),0),\"\")","v":0},{"$f":"IF(A23<>\"\",IFERROR(VLOOKUP(X23,Tabelas!B:D,3,0),0),\"\")","v":0},{"$f":"IF(A23<>\"\",IFERROR(VLOOKUP(Y23,Tabelas!B:D,3,0),0),\"\")","v":0},{"$f":"IF(A23<>\"\",IFERROR(VLOOKUP(Z23,Tabelas!B:D,3,0),0),\"\")","v":0},{"$f":"IF(A23<>\"\",IFERROR(VLOOKUP(AA23,Tabelas!B:D,3,0),0),\"\")","v":0},{"$f":"IF(A23<>\"\",IFERROR(VLOOKUP(AB23,Tabelas!B:D,3,0),0),\"\")","v":0},{"$f":"IF(A23<>\"\",IFERROR(VLOOKUP(AC23,Tabelas!B:D,3,0),0),\"\")","v":0},{"$f":"IF(A23<>\"\",IFERROR(VLOOKUP(AD23,Tabelas!B:D,3,0),0),\"\")","v":0},{"$f":"IF(A23<>\"\",IFERROR(VLOOKUP(AE23,Tabelas!B:D,3,0),0),\"\")","v":0},{"$f":"IF(A23<>\"\",IFERROR(VLOOKUP(AF23,Tabelas!B:D,3,0),0),\"\")","v":0},{"$f":"IF(A23<>\"\",IFERROR(VLOOKUP(AG23,Tabelas!B:D,3,0),0),\"\")","v":0},{"$f":"IF(A23<>\"\",IFERROR(VLOOKUP(AH23,Tabelas!B:D,3,0),0),\"\")","v":0},{"$f":"IF(A23<>\"\",IFERROR(VLOOKUP(AI23,Tabelas!B:D,3,0),0),\"\")","v":0},{"$f":"IF(A23<>\"\",IFERROR(VLOOKUP(AJ23,Tabelas!B:D,3,0),0),\"\")","v":0},{"$f":"IF(A23<>\"\",IFERROR(VLOOKUP(AK23,Tabelas!B:D,3,0),0),\"\")","v":0},{"$f":"IF(A23<>\"\",IFERROR(VLOOKUP(AL23,Tabelas!B:D,3,0),0),\"\")","v":0},{"$f":"IF(A23<>\"\",IFERROR(VLOOKUP(AM23,Tabelas!B:D,3,0),0),\"\")","v":0},{"$f":"IF(A23<>\"\",IFERROR(VLOOKUP(AN23,Tabelas!B:D,3,0),0),\"\")","v":0},{"$f":"IF(A23<>\"\",IFERROR(VLOOKUP(AO23,Tabelas!B:D,3,0),0),\"\")","v":0},{"$f":"IF(A23<>\"\",IFERROR(VLOOKUP(AP23,Tabelas!B:D,3,0),0),\"\")","v":0},{"$f":"IF(A23<>\"\",IFERROR(VLOOKUP(AQ23,Tabelas!B:D,3,0),0),\"\")","v":0},0,0,0,0,0,0,0,0]
["FULANO 16",16,null,null,null,null,null,null,null,null,null,null,null,null,null,null,null,null,null,null,null,null,null,null,null,null,null,null,null,null,null,null,null,null,null,null,null,null,null,null,null,null,null,{"$f":"IF(A24<>\"\",IFERROR(VLOOKUP(M24,Tabelas!B:D,3,0),0),\"\")","v":0},{"$f":"IF(A24<>\"\",IFERROR(VLOOKUP(N24,Tabelas!B:D,3,0),0),\"\")","v":0},{"$f":"IF(A24<>\"\",IFERROR(VLOOKUP(O24,Tabelas!B:D,3,0),0),\"\")","v":0},{"$f":"IF(A24<>\"\",IFERROR(VLOOKUP(P24,Tabelas!B:D,3,0),0),\"\")","v":0},{"$f":"IF(A24<>\"\",IFERROR(VLOOKUP(Q24,Tabelas!B:D,3,0),0),\"\")","v":0},{"$f":"IF(A24<>\"\",IFERROR(VLOOKUP(R24,Tabelas!B:D,3,0),0),\"\")","v":0},{"$f":"IF(A24<>\"\",IFERROR(VLOOKUP(S24,Tabelas!B:D,3,0),0),\"\")","v":0},{"$f":"IF(A24<>\"\",IFERROR(VLOOKUP(T24,Tabelas!B:D,3,0),0),\"\")","v":0},{"$f":"IF(A24<>\"\",IFERROR(VLOOKUP(U24,Tabelas!B:D,3,0),0),\"\")","v":0},{"$f":"IF(A24<>\"\",IFERROR(VLOOKUP(V24,Tabelas!B:D,3,0),0),\"\")","v":0},{"$f":"IF(A24<>\"\",IFERROR(VLOOKUP(W24,Tabelas!B:D,3,0),0),\"\")","v":0},{"$f":"IF(A24<>\"\",IFERROR(VLOOKUP(X24,Tabelas!B:D,3,0),0),\"\")","v":0},{"$f":"IF(A24<>\"\",IFERROR(VLOOKUP(Y24,Tabelas!B:D,3,0),0),\"\")","v":0},{"$f":"IF(A24<>\"\",IFERROR(VLOOKUP(Z24,Tabelas!B:D,3,0),0),\"\")","v":0},{"$f":"IF(A24<>\"\",IFERROR(VLOOKUP(AA24,Tabelas!B:D,3,0),0),\"\")","v":0},{"$f":"IF(A24<>\"\",IFERROR(VLOOKUP(AB24,Tabelas!B:D,3,0),0),\"\")","v":0},{"$f":"IF(A24<>\"\",IFERROR(VLOOKUP(AC24,Tabelas!B:D,3,0),0),\"\")","v":0},{"$f":"IF(A24<>\"\",IFERROR(VLOOKUP(AD24,Tabelas!B:D,3,0),0),\"\")","v":0},{"$f":"IF(A24<>\"\",IFERROR(VLOOKUP(AE24,Tabelas!B:D,3,0),0),\"\")","v":0},{"$f":"IF(A24<>\"\",IFERROR(VLOOKUP(AF24,Tabelas!B:D,3,0),0),\"\")","v":0},{"$f":"IF(A24<>\"\",IFERROR(VLOOKUP(AG24,Tabelas!B:D,3,0),0),\"\")","v":0},{"$f":"IF(A24<>\"\",IFERROR(VLOOKUP(AH24,Tabelas!B:D,3,0),0),\"\")","v":0},{"$f":"IF(A24<>\"\",IFERROR(VLOOKUP(AI24,Tabelas!B:D,3,0),0),\"\")","v":0},{"$f":"IF(A24<>\"\",IFERROR(VLOOKUP(AJ24,Tabelas!B:D,3,0),0),\"\")","v":0},{"$f":"IF(A24<>\"\",IFERROR(VLOOKUP(AK24,Tabelas!B:D,3,0),0),\"\")","v":0},{"$f":"IF(A24<>\"\",IFERROR(VLOOKUP(AL24,Tabelas!B:D,3,0),0),\"\")","v":0},{"$f":"IF(A24<>\"\",IFERROR(VLOOKUP(AM24,Tabelas!B:D,3,0),0),\"\")","v":0},{"$f":"IF(A24<>\"\",IFERROR(VLOOKUP(AN24,Tabelas!B:D,3,0),0),\"\")","v":0},{"$f":"IF(A24<>\"\",IFERROR(VLOOKUP(AO24,Tabelas!B:D,3,0),0),\"\")","v":0},{"$f":"IF(A24<>\"\",IFERROR(VLOOKUP(AP24,Tabelas!B:D,3,0),0),\"\")","v":0},{"$f":"IF(A24<>\"\",IFERROR(VLOOKUP(AQ24,Tabelas!B:D,3,0),0),\"\")","v":0},0,0,0,0,0,0,0,0]
["FULANO 17",17,null,null,null,null,null,null,null,null,null,null,null,null,null,null,null,null,null,null,null,null,null,null,null,null,null,null,null,null,null,null,null,null,null,null,null,null,null,null,null,null,null,{"$f":"IF(A25<>\"\",IFERROR(VLOOKUP(M25,Tabelas!B:D,3,0),0),\"\")","v":0},{"$f":"IF(A25<>\"\",IFERROR(VLOOKUP(N25,Tabelas!B:D,3,0),0),\"\")","v":0},{"$f":"IF(A25<>\"\",IFERROR(VLOOKUP(O25,Tabelas!B:D,3,0),0),\"\")","v":0},{"$f":"IF(A25<>\"\",IFERROR(VLOOKUP(P25,Tabelas!B:D,3,0),0),\"\")","v":0},{"$f":"IF(A25<>\"\",IFERROR(VLOOKUP(Q25,Tabelas!B:D,3,0),0),\"\")","v":0},{"$f":"IF(A25<>\"\",IFERROR(VLOOKUP(R25,Tabelas!B:D,3,0),0),\"\")","v":0},{"$f":"IF(A25<>\"\",IFERROR(VLOOKUP(S25,Tabelas!B:D,3,0),0),\"\")","v":0},{"$f":"IF(A25<>\"\",IFERROR(VLOOKUP(T25,Tabelas!B:D,3,0),0),\"\")","v":0},{"$f":"IF(A25<>\"\",IFERROR(VLOOKUP(U25,Tabelas!B:D,3,0),0),\"\")","v":0},{"$f":"IF(A25<>\"\",IFERROR(VLOOKUP(V25,Tabelas!B:D,3,0),0),\"\")","v":0},{"$f":"IF(A25<>\"\",IFERROR(VLOOKUP(W25,Tabelas!B:D,3,0),0),\"\")","v":0},{"$f":"IF(A25<>\"\",IFERROR(VLOOKUP(X25,Tabelas!B:D,3,0),0),\"\")","v":0},{"$f":"IF(A25<>\"\",IFERROR(VLOOKUP(Y25,Tabelas!B:D,3,0),0),\"\")","v":0},{"$f":"IF(A25<>\"\",IFERROR(VLOOKUP(Z25,Tabelas!B:D,3,0),0),\"\")","v":0},{"$f":"IF(A25<>\"\",IFERROR(VLOOKUP(AA25,Tabelas!B:D,3,0),0),\"\")","v":0},{"$f":"IF(A25<>\"\",IFERROR(VLOOKUP(AB25,Tabelas!B:D,3,0),0),\"\")","v":0},{"$f":"IF(A25<>\"\",IFERROR(VLOOKUP(AC25,Tabelas!B:D,3,0),0),\"\")","v":0},{"$f":"IF(A25<>\"\",IFERROR(VLOOKUP(AD25,Tabelas!B:D,3,0),0),\"\")","v":0},{"$f":"IF(A25<>\"\",IFERROR(VLOOKUP(AE25,Tabelas!B:D,3,0),0),\"\")","v":0},{"$f":"IF(A25<>\"\",IFERROR(VLOOKUP(AF25,Tabelas!B:D,3,0),0),\"\")","v":0},{"$f":"IF(A25<>\"\",IFERROR(VLOOKUP(AG25,Tabelas!B:D,3,0),0),\"\")","v":0},{"$f":"IF(A25<>\"\",IFERROR(VLOOKUP(AH25,Tabelas!B:D,3,0),0),\"\")","v":0},{"$f":"IF(A25<>\"\",IFERROR(VLOOKUP(AI25,Tabelas!B:D,3,0),0),\"\")","v":0},{"$f":"IF(A25<>\"\",IFERROR(VLOOKUP(AJ25,Tabelas!B:D,3,0),0),\"\")","v":0},{"$f":"IF(A25<>\"\",IFERROR(VLOOKUP(AK25,Tabelas!B:D,3,0),0),\"\")","v":0},{"$f":"IF(A25<>\"\",IFERROR(VLOOKUP(AL25,Tabelas!B:D,3,0),0),\"\")","v":0},{"$f":"IF(A25<>\"\",IFERROR(VLOOKUP(AM25,Tabelas!B:D,3,0),0),\"\")","v":0},{"$f":"IF(A25<>\"\",IFERROR(VLOOKUP(AN25,Tabelas!B:D,3,0),0),\"\")","v":0},{"$f":"IF(A25<>\"\",IFERROR(VLOOKUP(AO25,Tabelas!B:D,3,0),0),\"\")","v":0},{"$f":"IF(A25<>\"\",IFERROR(VLOOKUP(AP25,Tabelas!B:D,3,0),0),\"\")","v":0},{"$f":"IF(A25<>\"\",IFERROR(VLOOKUP(AQ25,Tabelas!B:D,3,0),0),\"\")","v":0},0,0,0,0,0,0,0,0]
["FULANO 18",18,null,null,null,null,null,null,null,null,null,null,null,null,null,null,null,null,null,null,null,null,null,null,null,null,null,null,null,null,null,null,null,null,null,null,null,null,null,null,null,null,null,{"$f":"IF(A26<>\"\",IFERROR(VLOOKUP(M26,Tabelas!B:D,3,0),0),\"\")","v":0},{"$f":"IF(A26<>\"\",IFERROR(VLOOKUP(N26,Tabelas!B:D,3,0),0),\"\")","v":0},{"$f":"IF(A26<>\"\",IFERROR(VLOOKUP(O26,Tabelas!B:D,3,0),0),\"\")","v":0},{"$f":"IF(A26<>\"\",IFERROR(VLOOKUP(P26,Tabelas!B:D,3,0),0),\"\")","v":0},{"$f":"IF(A26<>\"\",IFERROR(VLOOKUP(Q26,Tabelas!B:D,3,0),0),\"\")","v":0},{"$f":"IF(A26<>\"\",IFERROR(VLOOKUP(R26,Tabelas!B:D,3,0),0),\"\")","v":0},{"$f":"IF(A26<>\"\",IFERROR(VLOOKUP(S26,Tabelas!B:D,3,0),0),\"\")","v":0},{"$f":"IF(A26<>\"\",IFERROR(VLOOKUP(T26,Tabelas!B:D,3,0),0),\"\")","v":0},{"$f":"IF(A26<>\"\",IFERROR(VLOOKUP(U26,Tabelas!B:D,3,0),0),\"\")","v":0},{"$f":"IF(A26<>\"\",IFERROR(VLOOKUP(V26,Tabelas!B:D,3,0),0),\"\")","v":0},{"$f":"IF(A26<>\"\",IFERROR(VLOOKUP(W26,Tabelas!B:D,3,0),0),\"\")","v":0},{"$f":"IF(A26<>\"\",IFERROR(VLOOKUP(X26,Tabelas!B:D,3,0),0),\"\")","v":0},{"$f":"IF(A26<>\"\",IFERROR(VLOOKUP(Y26,Tabelas!B:D,3,0),0),\"\")","v":0},{"$f":"IF(A26<>\"\",IFERROR(VLOOKUP(Z26,Tabelas!B:D,3,0),0),\"\")","v":0},{"$f":"IF(A26<>\"\",IFERROR(VLOOKUP(AA26,Tabelas!B:D,3,0),0),\"\")","v":0},{"$f":"IF(A26<>\"\",IFERROR(VLOOKUP(AB26,Tabelas!B:D,3,0),0),\"\")","v":0},{"$f":"IF(A26<>\"\",IFERROR(VLOOKUP(AC26,Tabelas!B:D,3,0),0),\"\")","v":0},{"$f":"IF(A26<>\"\",IFERROR(VLOOKUP(AD26,Tabelas!B:D,3,0),0),\"\")","v":0},{"$f":"IF(A26<>\"\",IFERROR(VLOOKUP(AE26,Tabelas!B:D,3,0),0),\"\")","v":0},{"$f":"IF(A26<>\"\",IFERROR(VLOOKUP(AF26,Tabelas!B:D,3,0),0),\"\")","v":0},{"$f":"IF(A26<>\"\",IFERROR(VLOOKUP(AG26,Tabelas!B:D,3,0),0),\"\")","v":0},{"$f":"IF(A26<>\"\",IFERROR(VLOOKUP(AH26,Tabelas!B:D,3,0),0),\"\")","v":0},{"$f":"IF(A26<>\"\",IFERROR(VLOOKUP(AI26,Tabelas!B:D,3,0),0),\"\")","v":0},{"$f":"IF(A26<>\"\",IFERROR(VLOOKUP(AJ26,Tabelas!B:D,3,0),0),\"\")","v":0},{"$f":"IF(A26<>\"\",IFERROR(VLOOKUP(AK26,Tabelas!B:D,3,0),0),\"\")","v":0},{"$f":"IF(A26<>\"\",IFERROR(VLOOKUP(AL26,Tabelas!B:D,3,0),0),\"\")","v":0},{"$f":"IF(A26<>\"\",IFERROR(VLOOKUP(AM26,Tabelas!B:D,3,0),0),\"\")","v":0},{"$f":"IF(A26<>\"\",IFERROR(VLOOKUP(AN26,Tabelas!B:D,3,0),0),\"\")","v":0},{"$f":"IF(A26<>\"\",IFERROR(VLOOKUP(AO26,Tabelas!B:D,3,0),0),\"\")","v":0},{"$f":"IF(A26<>\"\",IFERROR(VLOOKUP(AP26,Tabelas!B:D,3,0),0),\"\")","v":0},{"$f":"IF(A26<>\"\",IFERROR(VLOOKUP(AQ26,Tabelas!B:D,3,0),0),\"\")","v":0},0,0,0,0,0,0,0,0]
["FULANO 19",19,null,null,null,null,null,null,null,null,null,null,null,null,null,null,null,null,null,null,null,null,null,null,null,null,null,null,null,null,null,null,null,null,null,null,null,null,null,null,null,null,null,{"$f":"IF(A27<>\"\",IFERROR(VLOOKUP(M27,Tabelas!B:D,3,0),0),\"\")","v":0},{"$f":"IF(A27<>\"\",IFERROR(VLOOKUP(N27,Tabelas!B:D,3,0),0),\"\")","v":0},{"$f":"IF(A27<>\"\",IFERROR(VLOOKUP(O27,Tabelas!B:D,3,0),0),\"\")","v":0},{"$f":"IF(A27<>\"\",IFERROR(VLOOKUP(P27,Tabelas!B:D,3,0),0),\"\")","v":0},{"$f":"IF(A27<>\"\",IFERROR(VLOOKUP(Q27,Tabelas!B:D,3,0),0),\"\")","v":0},{"$f":"IF(A27<>\"\",IFERROR(VLOOKUP(R27,Tabelas!B:D,3,0),0),\"\")","v":0},{"$f":"IF(A27<>\"\",IFERROR(VLOOKUP(S27,Tabelas!B:D,3,0),0),\"\")","v":0},{"$f":"IF(A27<>\"\",IFERROR(VLOOKUP(T27,Tabelas!B:D,3,0),0),\"\")","v":0},{"$f":"IF(A27<>\"\",IFERROR(VLOOKUP(U27,Tabelas!B:D,3,0),0),\"\")","v":0},{"$f":"IF(A27<>\"\",IFERROR(VLOOKUP(V27,Tabelas!B:D,3,0),0),\"\")","v":0},{"$f":"IF(A27<>\"\",IFERROR(VLOOKUP(W27,Tabelas!B:D,3,0),0),\"\")","v":0},{"$f":"IF(A27<>\"\",IFERROR(VLOOKUP(X27,Tabelas!B:D,3,0),0),\"\")","v":0},{"$f":"IF(A27<>\"\",IFERROR(VLOOKUP(Y27,Tabelas!B:D,3,0),0),\"\")","v":0},{"$f":"IF(A27<>\"\",IFERROR(VLOOKUP(Z27,Tabelas!B:D,3,0),0),\"\")","v":0},{"$f":"IF(A27<>\"\",IFERROR(VLOOKUP(AA27,Tabelas!B:D,3,0),0),\"\")","v":0},{"$f":"IF(A27<>\"\",IFERROR(VLOOKUP(AB27,Tabelas!B:D,3,0),0),\"\")","v":0},{"$f":"IF(A27<>\"\",IFERROR(VLOOKUP(AC27,Tabelas!B:D,3,0),0),\"\")","v":0},{"$f":"IF(A27<>\"\",IFERROR(VLOOKUP(AD27,Tabelas!B:D,3,0),0),\"\")","v":0},{"$f":"IF(A27<>\"\",IFERROR(VLOOKUP(AE27,Tabelas!B:D,3,0),0),\"\")","v":0},{"$f":"IF(A27<>\"\",IFERROR(VLOOKUP(AF27,Tabelas!B:D,3,0),0),\"\")","v":0},{"$f":"IF(A27<>\"\",IFERROR(VLOOKUP(AG27,Tabelas!B:D,3,0),0),\"\")","v":0},{"$f":"IF(A27<>\"\",IFERROR(VLOOKUP(AH27,Tabelas!B:D,3,0),0),\"\")","v":0},{"$f":"IF(A27<>\"\",IFERROR(VLOOKUP(AI27,Tabelas!B:D,3,0),0),\"\")","v":0},{"$f":"IF(A27<>\"\",IFERROR(VLOOKUP(AJ27,Tabelas!B:D,3,0),0),\"\")","v":0},{"$f":"IF(A27<>\"\",IFERROR(VLOOKUP(AK27,Tabelas!B:D,3,0),0),\"\")","v":0},{"$f":"IF(A27<>\"\",IFERROR(VLOOKUP(AL27,Tabelas!B:D,3,0),0),\"\")","v":0},{"$f":"IF(A27<>\"\",IFERROR(VLOOKUP(AM27,Tabelas!B:D,3,0),0),\"\")","v":0},{"$f":"IF(A27<>\"\",IFERROR(VLOOKUP(AN27,Tabelas!B:D,3,0),0),\"\")","v":0},{"$f":"IF(A27<>\"\",IFERROR(VLOOKUP(AO27,Tabelas!B:D,3,0),0),\"\")","v":0},{"$f":"IF(A27<>\"\",IFERROR(VLOOKUP(AP27,Tabelas!B:D,3,0),0),\"\")","v":0},{"$f":"IF(A27<>\"\",IFERROR(VLOOKUP(AQ27,Tabelas!B:D,3,0),0),\"\")","v":0},0,0,0,0,0,0,0,0]
["FULANO 20",20,null,null,null,null,null,null,null,null,null,null,null,null,null,null,null,null,null,null,null,null,null,null,null,null,null,null,null,null,null,null,null,null,null,null,null,null,null,null,null,null,null,{"$f":"IF(A28<>\"\",IFERROR(VLOOKUP(M28,Tabelas!B:D,3,0),0),\"\")","v":0},{"$f":"IF(A28<>\"\",IFERROR(VLOOKUP(N28,Tabelas!B:D,3,0),0),\"\")","v":0},{"$f":"IF(A28<>\"\",IFERROR(VLOOKUP(O28,Tabelas!B:D,3,0),0),\"\")","v":0},{"$f":"IF(A28<>\"\",IFERROR(VLOOKUP(P28,Tabelas!B:D,3,0),0),\"\")","v":0},{"$f":"IF(A28<>\"\",IFERROR(VLOOKUP(Q28,Tabelas!B:D,3,0),0),\"\")","v":0},{"$f":"IF(A28<>\"\",IFERROR(VLOOKUP(R28,Tabelas!B:D,3,0),0),\"\")","v":0},{"$f":"IF(A28<>\"\",IFERROR(VLOOKUP(S28,Tabelas!B:D,3,0),0),\"\")","v":0},{"$f":"IF(A28<>\"\",IFERROR(VLOOKUP(T28,Tabelas!B:D,3,0),0),\"\")","v":0},{"$f":"IF(A28<>\"\",IFERROR(VLOOKUP(U28,Tabelas!B:D,3,0),0),\"\")","v":0},{"$f":"IF(A28<>\"\",IFERROR(VLOOKUP(V28,Tabelas!B:D,3,0),0),\"\")","v":0},{"$f":"IF(A28<>\"\",IFERROR(VLOOKUP(W28,Tabelas!B:D,3,0),0),\"\")","v":0},{"$f":"IF(A28<>\"\",IFERROR(VLOOKUP(X28,Tabelas!B:D,3,0),0),\"\")","v":0},{"$f":"IF(A28<>\"\",IFERROR(VLOOKUP(Y28,Tabelas!B:D,3,0),0),\"\")","v":0},{"$f":"IF(A28<>\"\",IFERROR(VLOOKUP(Z28,Tabelas!B:D,3,0),0),\"\")","v":0},{"$f":"IF(A28<>\"\",IFERROR(VLOOKUP(AA28,Tabelas!B:D,3,0),0),\"\")","v":0},{"$f":"IF(A28<>\"\",IFERROR(VLOOKUP(AB28,Tabelas!B:D,3,0),0),\"\")","v":0},{"$f":"IF(A28<>\"\",IFERROR(VLOOKUP(AC28,Tabelas!B:D,3,0),0),\"\")","v":0},{"$f":"IF(A28<>\"\",IFERROR(VLOOKUP(AD28,Tabelas!B:D,3,0),0),\"\")","v":0},{"$f":"IF(A28<>\"\",IFERROR(VLOOKUP(AE28,Tabelas!B:D,3,0),0),\"\")","v":0},{"$f":"IF(A28<>\"\",IFERROR(VLOOKUP(AF28,Tabelas!B:D,3,0),0),\"\")","v":0},{"$f":"IF(A28<>\"\",IFERROR(VLOOKUP(AG28,Tabelas!B:D,3,0),0),\"\")","v":0},{"$f":"IF(A28<>\"\",IFERROR(VLOOKUP(AH28,Tabelas!B:D,3,0),0),\"\")","v":0},{"$f":"IF(A28<>\"\",IFERROR(VLOOKUP(AI28,Tabelas!B:D,3,0),0),\"\")","v":0},{"$f":"IF(A28<>\"\",IFERROR(VLOOKUP(AJ28,Tabelas!B:D,3,0),0),\"\")","v":0},{"$f":"IF(A28<>\"\",IFERROR(VLOOKUP(AK28,Tabelas!B:D,3,0),0),\"\")","v":0},{"$f":"IF(A28<>\"\",IFERROR(VLOOKUP(AL28,Tabelas!B:D,3,0),0),\"\")","v":0},{"$f":"IF(A28<>\"\",IFERROR(VLOOKUP(AM28,Tabelas!B:D,3,0),0),\"\")","v":0},{"$f":"IF(A28<>\"\",IFERROR(VLOOKUP(AN28,Tabelas!B:D,3,0),0),\"\")","v":0},{"$f":"IF(A28<>\"\",IFERROR(VLOOKUP(AO28,Tabelas!B:D,3,0),0),\"\")","v":0},{"$f":"IF(A28<>\"\",IFERROR(VLOOKUP(AP28,Tabelas!B:D,3,0),0),\"\")","v":0},{"$f":"IF(A28<>\"\",IFERROR(VLOOKUP(AQ28,Tabelas!B:D,3,0),0),\"\")","v":0},0,0,0,0,0,0,0,0]
["FULANO 21",21,null,null,null,null,null,null,null,null,null,null,null,null,null,null,null,null,null,null,null,null,null,null,null,null,null,null,null,null,null,null,null,null,null,null,null,null,null,null,null,null,null,{"$f":"IF(A29<>\"\",IFERROR(VLOOKUP(M29,Tabelas!B:D,3,0),0),\"\")","v":0},{"$f":"IF(A29<>\"\",IFERROR(VLOOKUP(N29,Tabelas!B:D,3,0),0),\"\")","v":0},{"$f":"IF(A29<>\"\",IFERROR(VLOOKUP(O29,Tabelas!B:D,3,0),0),\"\")","v":0},{"$f":"IF(A29<>\"\",IFERROR(VLOOKUP(P29,Tabelas!B:D,3,0),0),\"\")","v":0},{"$f":"IF(A29<>\"\",IFERROR(VLOOKUP(Q29,Tabelas!B:D,3,0),0),\"\")","v":0},{"$f":"IF(A29<>\"\",IFERROR(VLOOKUP(R29,Tabelas!B:D,3,0),0),\"\")","v":0},{"$f":"IF(A29<>\"\",IFERROR(VLOOKUP(S29,Tabelas!B:D,3,0),0),\"\")","v":0},{"$f":"IF(A29<>\"\",IFERROR(VLOOKUP(T29,Tabelas!B:D,3,0),0),\"\")","v":0},{"$f":"IF(A29<>\"\",IFERROR(VLOOKUP(U29,Tabelas!B:D,3,0),0),\"\")","v":0},{"$f":"IF(A29<>\"\",IFERROR(VLOOKUP(V29,Tabelas!B:D,3,0),0),\"\")","v":0},{"$f":"IF(A29<>\"\",IFERROR(VLOOKUP(W29,Tabelas!B:D,3,0),0),\"\")","v":0},{"$f":"IF(A29<>\"\",IFERROR(VLOOKUP(X29,Tabelas!B:D,3,0),0),\"\")","v":0},{"$f":"IF(A29<>\"\",IFERROR(VLOOKUP(Y29,Tabelas!B:D,3,0),0),\"\")","v":0},{"$f":"IF(A29<>\"\",IFERROR(VLOOKUP(Z29,Tabelas!B:D,3,0),0),\"\")","v":0},{"$f":"IF(A29<>\"\",IFERROR(VLOOKUP(AA29,Tabelas!B:D,3,0),0),\"\")","v":0},{"$f":"IF(A29<>\"\",IFERROR(VLOOKUP(AB29,Tabelas!B:D,3,0),0),\"\")","v":0},{"$f":"IF(A29<>\"\",IFERROR(VLOOKUP(AC29,Tabelas!B:D,3,0),0),\"\")","v":0},{"$f":"IF(A29<>\"\",IFERROR(VLOOKUP(AD29,Tabelas!B:D,3,0),0),\"\")","v":0},{"$f":"IF(A29<>\"\",IFERROR(VLOOKUP(AE29,Tabelas!B:D,3,0),0),\"\")","v":0},{"$f":"IF(A29<>\"\",IFERROR(VLOOKUP(AF29,Tabelas!B:D,3,0),0),\"\")","v":0},{"$f":"IF(A29<>\"\",IFERROR(VLOOKUP(AG29,Tabelas!B:D,3,0),0),\"\")","v":0},{"$f":"IF(A29<>\"\",IFERROR(VLOOKUP(AH29,Tabelas!B:D,3,0),0),\"\")","v":0},{"$f":"IF(A29<>\"\",IFERROR(VLOOKUP(AI29,Tabelas!B:D,3,0),0),\"\")","v":0},{"$f":"IF(A29<>\"\",IFERROR(VLOOKUP(AJ29,Tabelas!B:D,3,0),0),\"\")","v":0},{"$f":"IF(A29<>\"\",IFERROR(VLOOKUP(AK29,Tabelas!B:D,3,0),0),\"\")","v":0},{"$f":"IF(A29<>\"\",IFERROR(VLOOKUP(AL29,Tabelas!B:D,3,0),0),\"\")","v":0},{"$f":"IF(A29<>\"\",IFERROR(VLOOKUP(AM29,Tabelas!B:D,3,0),0),\"\")","v":0},{"$f":"IF(A29<>\"\",IFERROR(VLOOKUP(AN29,Tabelas!B:D,3,0),0),\"\")","v":0},{"$f":"IF(A29<>\"\",IFERROR(VLOOKUP(AO29,Tabelas!B:D,3,0),0),\"\")","v":0},{"$f":"IF(A29<>\"\",IFERROR(VLOOKUP(AP29,Tabelas!B:D,3,0),0),\"\")","v":0},{"$f":"IF(A29<>\"\",IFERROR(VLOOKUP(AQ29,Tabelas!B:D,3,0),0),\"\")","v":0},0,0,0,0,0,0,0,0]
["FULANO 22",22,null,null,null,null,null,null,null,null,null,null,null,null,null,null,null,null,null,null,null,null,null,null,null,null,null,null,null,null,null,null,null,null,null,null,null,null,null,null,null,null,null,{"$f":"IF(A30<>\"\",IFERROR(VLOOKUP(M30,Tabelas!B:D,3,0),0),\"\")","v":0},{"$f":"IF(A30<>\"\",IFERROR(VLOOKUP(N30,Tabelas!B:D,3,0),0),\"\")","v":0},{"$f":"IF(A30<>\"\",IFERROR(VLOOKUP(O30,Tabelas!B:D,3,0),0),\"\")","v":0},{"$f":"IF(A30<>\"\",IFERROR(VLOOKUP(P30,Tabelas!B:D,3,0),0),\"\")","v":0},{"$f":"IF(A30<>\"\",IFERROR(VLOOKUP(Q30,Tabelas!B:D,3,0),0),\"\")","v":0},{"$f":"IF(A30<>\"\",IFERROR(VLOOKUP(R30,Tabelas!B:D,3,0),0),\"\")","v":0},{"$f":"IF(A30<>\"\",IFERROR(VLOOKUP(S30,Tabelas!B:D,3,0),0),\"\")","v":0},{"$f":"IF(A30<>\"\",IFERROR(VLOOKUP(T30,Tabelas!B:D,3,0),0),\"\")","v":0},{"$f":"IF(A30<>\"\",IFERROR(VLOOKUP(U30,Tabelas!B:D,3,0),0),\"\")","v":0},{"$f":"IF(A30<>\"\",IFERROR(VLOOKUP(V30,Tabelas!B:D,3,0),0),\"\")","v":0},{"$f":"IF(A30<>\"\",IFERROR(VLOOKUP(W30,Tabelas!B:D,3,0),0),\"\")","v":0},{"$f":"IF(A30<>\"\",IFERROR(VLOOKUP(X30,Tabelas!B:D,3,0),0),\"\")","v":0},{"$f":"IF(A30<>\"\",IFERROR(VLOOKUP(Y30,Tabelas!B:D,3,0),0),\"\")","v":0},{"$f":"IF(A30<>\"\",IFERROR(VLOOKUP(Z30,Tabelas!B:D,3,0),0),\"\")","v":0},{"$f":"IF(A30<>\"\",IFERROR(VLOOKUP(AA30,Tabelas!B:D,3,0),0),\"\")","v":0},{"$f":"IF(A30<>\"\",IFERROR(VLOOKUP(AB30,Tabelas!B:D,3,0),0),\"\")","v":0},{"$f":"IF(A30<>\"\",IFERROR(VLOOKUP(AC30,Tabelas!B:D,3,0),0),\"\")","v":0},{"$f":"IF(A30<>\"\",IFERROR(VLOOKUP(AD30,Tabelas!B:D,3,0),0),\"\")","v":0},{"$f":"IF(A30<>\"\",IFERROR(VLOOKUP(AE30,Tabelas!B:D,3,0),0),\"\")","v":0},{"$f":"IF(A30<>\"\",IFERROR(VLOOKUP(AF30,Tabelas!B:D,3,0),0),\"\")","v":0},{"$f":"IF(A30<>\"\",IFERROR(VLOOKUP(AG30,Tabelas!B:D,3,0),0),\"\")","v":0},{"$f":"IF(A30<>\"\",IFERROR(VLOOKUP(AH30,Tabelas!B:D,3,0),0),\"\")","v":0},{"$f":"IF(A30<>\"\",IFERROR(VLOOKUP(AI30,Tabelas!B:D,3,0),0),\"\")","v":0},{"$f":"IF(A30<>\"\",IFERROR(VLOOKUP(AJ30,Tabelas!B:D,3,0),0),\"\")","v":0},{"$f":"IF(A30<>\"\",IFERROR(VLOOKUP(AK30,Tabelas!B:D,3,0),0),\"\")","v":0},{"$f":"IF(A30<>\"\",IFERROR(VLOOKUP(AL30,Tabelas!B:D,3,0),0),\"\")","v":0},{"$f":"IF(A30<>\"\",IFERROR(VLOOKUP(AM30,Tabelas!B:D,3,0),0),\"\")","v":0},{"$f":"IF(A30<>\"\",IFERROR(VLOOKUP(AN30,Tabelas!B:D,3,0),0),\"\")","v":0},{"$f":"IF(A30<>\"\",IFERROR(VLOOKUP(AO30,Tabelas!B:D,3,0),0),\"\")","v":0},{"$f":"IF(A30<>\"\",IFERROR(VLOOKUP(AP30,Tabelas!B:D,3,0),0),\"\")","v":0},{"$f":"IF(A30<>\"\",IFERROR(VLOOKUP(AQ30,Tabelas!B:D,3,0),0),\"\")","v":0},0,0,0,0,0,0,0,0]
["FULANO 23",23,null,null,null,null,null,null,null,null,null,null,null,null,null,null,null,null,null,null,null,null,null,null,null,null,null,null,null,null,null,null,null,null,null,null,null,null,null,null,null,null,null,{"$f":"IF(A31<>\"\",IFERROR(VLOOKUP(M31,Tabelas!B:D,3,0),0),\"\")","v":0},{"$f":"IF(A31<>\"\",IFERROR(VLOOKUP(N31,Tabelas!B:D,3,0),0),\"\")","v":0},{"$f":"IF(A31<>\"\",IFERROR(VLOOKUP(O31,Tabelas!B:D,3,0),0),\"\")","v":0},{"$f":"IF(A31<>\"\",IFERROR(VLOOKUP(P31,Tabelas!B:D,3,0),0),\"\")","v":0},{"$f":"IF(A31<>\"\",IFERROR(VLOOKUP(Q31,Tabelas!B:D,3,0),0),\"\")","v":0},{"$f":"IF(A31<>\"\",IFERROR(VLOOKUP(R31,Tabelas!B:D,3,0),0),\"\")","v":0},{"$f":"IF(A31<>\"\",IFERROR(VLOOKUP(S31,Tabelas!B:D,3,0),0),\"\")","v":0},{"$f":"IF(A31<>\"\",IFERROR(VLOOKUP(T31,Tabelas!B:D,3,0),0),\"\")","v":0},{"$f":"IF(A31<>\"\",IFERROR(VLOOKUP(U31,Tabelas!B:D,3,0),0),\"\")","v":0},{"$f":"IF(A31<>\"\",IFERROR(VLOOKUP(V31,Tabelas!B:D,3,0),0),\"\")","v":0},{"$f":"IF(A31<>\"\",IFERROR(VLOOKUP(W31,Tabelas!B:D,3,0),0),\"\")","v":0},{"$f":"IF(A31<>\"\",IFERROR(VLOOKUP(X31,Tabelas!B:D,3,0),0),\"\")","v":0},{"$f":"IF(A31<>\"\",IFERROR(VLOOKUP(Y31,Tabelas!B:D,3,0),0),\"\")","v":0},{"$f":"IF(A31<>\"\",IFERROR(VLOOKUP(Z31,Tabelas!B:D,3,0),0),\"\")","v":0},{"$f":"IF(A31<>\"\",IFERROR(VLOOKUP(AA31,Tabelas!B:D,3,0),0),\"\")","v":0},{"$f":"IF(A31<>\"\",IFERROR(VLOOKUP(AB31,Tabelas!B:D,3,0),0),\"\")","v":0},{"$f":"IF(A31<>\"\",IFERROR(VLOOKUP(AC31,Tabelas!B:D,3,0),0),\"\")","v":0},{"$f":"IF(A31<>\"\",IFERROR(VLOOKUP(AD31,Tabelas!B:D,3,0),0),\"\")","v":0},{"$f":"IF(A31<>\"\",IFERROR(VLOOKUP(AE31,Tabelas!B:D,3,0),0),\"\")","v":0},{"$f":"IF(A31<>\"\",IFERROR(VLOOKUP(AF31,Tabelas!B:D,3,0),0),\"\")","v":0},{"$f":"IF(A31<>\"\",IFERROR(VLOOKUP(AG31,Tabelas!B:D,3,0),0),\"\")","v":0},{"$f":"IF(A31<>\"\",IFERROR(VLOOKUP(AH31,Tabelas!B:D,3,0),0),\"\")","v":0},{"$f":"IF(A31<>\"\",IFERROR(VLOOKUP(AI31,Tabelas!B:D,3,0),0),\"\")","v":0},{"$f":"IF(A31<>\"\",IFERROR(VLOOKUP(AJ31,Tabelas!B:D,3,0),0),\"\")","v":0},{"$f":"IF(A31<>\"\",IFERROR(VLOOKUP(AK31,Tabelas!B:D,3,0),0),\"\")","v":0},{"$f":"IF(A31<>\"\",IFERROR(VLOOKUP(AL31,Tabelas!B:D,3,0),0),\"\")","v":0},{"$f":"IF(A31<>\"\",IFERROR(VLOOKUP(AM31,Tabelas!B:D,3,0),0),\"\")","v":0},{"$f":"IF(A31<>\"\",IFERROR(VLOOKUP(AN31,Tabelas!B:D,3,0),0),\"\")","v":0},{"$f":"IF(A31<>\"\",IFERROR(VLOOKUP(AO31,Tabelas!B:D,3,0),0),\"\")","v":0},{"$f":"IF(A31<>\"\",IFERROR(VLOOKUP(AP31,Tabelas!B:D,3,0),0),\"\")","v":0},{"$f":"IF(A31<>\"\",IFERROR(VLOOKUP(AQ31,Tabelas!B:D,3,0),0),\"\")","v":0},0,0,0,0,0,0,0,0]
["FULANO 24",24,null,null,null,null,null,null,null,null,null,null,null,null,null,null,null,null,null,null,null,null,null,null,null,null,null,null,null,null,null,null,null,null,null,null,null,null,null,null,null,null,null,{"$f":"IF(A32<>\"\",IFERROR(VLOOKUP(M32,Tabelas!B:D,3,0),0),\"\")","v":0},{"$f":"IF(A32<>\"\",IFERROR(VLOOKUP(N32,Tabelas!B:D,3,0),0),\"\")","v":0},{"$f":"IF(A32<>\"\",IFERROR(VLOOKUP(O32,Tabelas!B:D,3,0),0),\"\")","v":0},{"$f":"IF(A32<>\"\",IFERROR(VLOOKUP(P32,Tabelas!B:D,3,0),0),\"\")","v":0},{"$f":"IF(A32<>\"\",IFERROR(VLOOKUP(Q32,Tabelas!B:D,3,0),0),\"\")","v":0},{"$f":"IF(A32<>\"\",IFERROR(VLOOKUP(R32,Tabelas!B:D,3,0),0),\"\")","v":0},{"$f":"IF(A32<>\"\",IFERROR(VLOOKUP(S32,Tabelas!B:D,3,0),0),\"\")","v":0},{"$f":"IF(A32<>\"\",IFERROR(VLOOKUP(T32,Tabelas!B:D,3,0),0),\"\")","v":0},{"$f":"IF(A32<>\"\",IFERROR(VLOOKUP(U32,Tabelas!B:D,3,0),0),\"\")","v":0},{"$f":"IF(A32<>\"\",IFERROR(VLOOKUP(V32,Tabelas!B:D,3,0),0),\"\")","v":0},{"$f":"IF(A32<>\"\",IFERROR(VLOOKUP(W32,Tabelas!B:D,3,0),0),\"\")","v":0},{"$f":"IF(A32<>\"\",IFERROR(VLOOKUP(X32,Tabelas!B:D,3,0),0),\"\")","v":0},{"$f":"IF(A32<>\"\",IFERROR(VLOOKUP(Y32,Tabelas!B:D,3,0),0),\"\")","v":0},{"$f":"IF(A32<>\"\",IFERROR(VLOOKUP(Z32,Tabelas!B:D,3,0),0),\"\")","v":0},{"$f":"IF(A32<>\"\",IFERROR(VLOOKUP(AA32,Tabelas!B:D,3,0),0),\"\")","v":0},{"$f":"IF(A32<>\"\",IFERROR(VLOOKUP(AB32,Tabelas!B:D,3,0),0),\"\")","v":0},{"$f":"IF(A32<>\"\",IFERROR(VLOOKUP(AC32,Tabelas!B:D,3,0),0),\"\")","v":0},{"$f":"IF(A32<>\"\",IFERROR(VLOOKUP(AD32,Tabelas!B:D,3,0),0),\"\")","v":0},{"$f":"IF(A32<>\"\",IFERROR(VLOOKUP(AE32,Tabelas!B:D,3,0),0),\"\")","v":0},{"$f":"IF(A32<>\"\",IFERROR(VLOOKUP(AF32,Tabelas!B:D,3,0),0),\"\")","v":0},{"$f":"IF(A32<>\"\",IFERROR(VLOOKUP(AG32,Tabelas!B:D,3,0),0),\"\")","v":0},{"$f":"IF(A32<>\"\",IFERROR(VLOOKUP(AH32,Tabelas!B:D,3,0),0),\"\")","v":0},{"$f":"IF(A32<>\"\",IFERROR(VLOOKUP(AI32,Tabelas!B:D,3,0),0),\"\")","v":0},{"$f":"IF(A32<>\"\",IFERROR(VLOOKUP(AJ32,Tabelas!B:D,3,0),0),\"\")","v":0},{"$f":"IF(A32<>\"\",IFERROR(VLOOKUP(AK32,Tabelas!B:D,3,0),0),\"\")","v":0},{"$f":"IF(A32<>\"\",IFERROR(VLOOKUP(AL32,Tabelas!B:D,3,0),0),\"\")","v":0},{"$f":"IF(A32<>\"\",IFERROR(VLOOKUP(AM32,Tabelas!B:D,3,0),0),\"\")","v":0},{"$f":"IF(A32<>\"\",IFERROR(VLOOKUP(AN32,Tabelas!B:D,3,0),0),\"\")","v":0},{"$f":"IF(A32<>\"\",IFERROR(VLOOKUP(AO32,Tabelas!B:D,3,0),0),\"\")","v":0},{"$f":"IF(A32<>\"\",IFERROR(VLOOKUP(AP32,Tabelas!B:D,3,0),0),\"\")","v":0},{"$f":"IF(A32<>\"\",IFERROR(VLOOKUP(AQ32,Tabelas!B:D,3,0),0),\"\")","v":0},0,0,0,0,0,0,0,0]
["FULANO 25",25,null,null,null,null,null,null,null,null,null,null,null,null,null,null,null,null,null,null,null,null,null,null,null,null,null,null,null,null,null,null,null,null,null,null,null,null,null,null,null,null,null,{"$f":"IF(A33<>\"\",IFERROR(VLOOKUP(M33,Tabelas!B:D,3,0),0),\"\")","v":0},{"$f":"IF(A33<>\"\",IFERROR(VLOOKUP(N33,Tabelas!B:D,3,0),0),\"\")","v":0},{"$f":"IF(A33<>\"\",IFERROR(VLOOKUP(O33,Tabelas!B:D,3,0),0),\"\")","v":0},{"$f":"IF(A33<>\"\",IFERROR(VLOOKUP(P33,Tabelas!B:D,3,0),0),\"\")","v":0},{"$f":"IF(A33<>\"\",IFERROR(VLOOKUP(Q33,Tabelas!B:D,3,0),0),\"\")","v":0},{"$f":"IF(A33<>\"\",IFERROR(VLOOKUP(R33,Tabelas!B:D,3,0),0),\"\")","v":0},{"$f":"IF(A33<>\"\",IFERROR(VLOOKUP(S33,Tabelas!B:D,3,0),0),\"\")","v":0},{"$f":"IF(A33<>\"\",IFERROR(VLOOKUP(T33,Tabelas!B:D,3,0),0),\"\")","v":0},{"$f":"IF(A33<>\"\",IFERROR(VLOOKUP(U33,Tabelas!B:D,3,0),0),\"\")","v":0},{"$f":"IF(A33<>\"\",IFERROR(VLOOKUP(V33,Tabelas!B:D,3,0),0),\"\")","v":0},{"$f":"IF(A33<>\"\",IFERROR(VLOOKUP(W33,Tabelas!B:D,3,0),0),\"\")","v":0},{"$f":"IF(A33<>\"\",IFERROR(VLOOKUP(X33,Tabelas!B:D,3,0),0),\"\")","v":0},{"$f":"IF(A33<>\"\",IFERROR(VLOOKUP(Y33,Tabelas!B:D,3,0),0),\"\")","v":0},{"$f":"IF(A33<>\"\",IFERROR(VLOOKUP(Z33,Tabelas!B:D,3,0),0),\"\")","v":0},{"$f":"IF(A33<>\"\",IFERROR(VLOOKUP(AA33,Tabelas!B:D,3,0),0),\"\")","v":0},{"$f":"IF(A33<>\"\",IFERROR(VLOOKUP(AB33,Tabelas!B:D,3,0),0),\"\")","v":0},{"$f":"IF(A33<>\"\",IFERROR(VLOOKUP(AC33,Tabelas!B:D,3,0),0),\"\")","v":0},{"$f":"IF(A33<>\"\",IFERROR(VLOOKUP(AD33,Tabelas!B:D,3,0),0),\"\")","v":0},{"$f":"IF(A33<>\"\",IFERROR(VLOOKUP(AE33,Tabelas!B:D,3,0),0),\"\")","v":0},{"$f":"IF(A33<>\"\",IFERROR(VLOOKUP(AF33,Tabelas!B:D,3,0),0),\"\")","v":0},{"$f":"IF(A33<>\"\",IFERROR(VLOOKUP(AG33,Tabelas!B:D,3,0),0),\"\")","v":0},{"$f":"IF(A33<>\"\",IFERROR(VLOOKUP(AH33,Tabelas!B:D,3,0),0),\"\")","v":0},{"$f":"IF(A33<>\"\",IFERROR(VLOOKUP(AI33,Tabelas!B:D,3,0),0),\"\")","v":0},{"$f":"IF(A33<>\"\",IFERROR(VLOOKUP(AJ33,Tabelas!B:D,3,0),0),\"\")","v":0},{"$f":"IF(A33<>\"\",IFERROR(VLOOKUP(AK33,Tabelas!B:D,3,0),0),\"\")","v":0},{"$f":"IF(A33<>\"\",IFERROR(VLOOKUP(AL33,Tabelas!B:D,3,0),0),\"\")","v":0},{"$f":"IF(A33<>\"\",IFERROR(VLOOKUP(AM33,Tabelas!B:D,3,0),0),\"\")","v":0},{"$f":"IF(A33<>\"\",IFERROR(VLOOKUP(AN33,Tabelas!B:D,3,0),0),\"\")","v":0},{"$f":"IF(A33<>\"\",IFERROR(VLOOKUP(AO33,Tabelas!B:D,3,0),0),\"\")","v":0},{"$f":"IF(A33<>\"\",IFERROR(VLOOKUP(AP33,Tabelas!B:D,3,0),0),\"\")","v":0},{"$f":"IF(A33<>\"\",IFERROR(VLOOKUP(AQ33,Tabelas!B:D,3,0),0),\"\")","v":0},0,0,0,0,0,0,0,0]
["FULANO 26",26,null,null,null,null,null,null,null,null,null,null,null,null,null,null,null,null,null,null,null,null,null,null,null,null,null,null,null,null,null,null,null,null,null,null,null,null,null,null,null,null,null,{"$f":"IF(A34<>\"\",IFERROR(VLOOKUP(M34,Tabelas!B:D,3,0),0),\"\")","v":0},{"$f":"IF(A34<>\"\",IFERROR(VLOOKUP(N34,Tabelas!B:D,3,0),0),\"\")","v":0},{"$f":"IF(A34<>\"\",IFERROR(VLOOKUP(O34,Tabelas!B:D,3,0),0),\"\")","v":0},{"$f":"IF(A34<>\"\",IFERROR(VLOOKUP(P34,Tabelas!B:D,3,0),0),\"\")","v":0},{"$f":"IF(A34<>\"\",IFERROR(VLOOKUP(Q34,Tabelas!B:D,3,0),0),\"\")","v":0},{"$f":"IF(A34<>\"\",IFERROR(VLOOKUP(R34,Tabelas!B:D,3,0),0),\"\")","v":0},{"$f":"IF(A34<>\"\",IFERROR(VLOOKUP(S34,Tabelas!B:D,3,0),0),\"\")","v":0},{"$f":"IF(A34<>\"\",IFERROR(VLOOKUP(T34,Tabelas!B:D,3,0),0),\"\")","v":0},{"$f":"IF(A34<>\"\",IFERROR(VLOOKUP(U34,Tabelas!B:D,3,0),0),\"\")","v":0},{"$f":"IF(A34<>\"\",IFERROR(VLOOKUP(V34,Tabelas!B:D,3,0),0),\"\")","v":0},{"$f":"IF(A34<>\"\",IFERROR(VLOOKUP(W34,Tabelas!B:D,3,0),0),\"\")","v":0},{"$f":"IF(A34<>\"\",IFERROR(VLOOKUP(X34,Tabelas!B:D,3,0),0),\"\")","v":0},{"$f":"IF(A34<>\"\",IFERROR(VLOOKUP(Y34,Tabelas!B:D,3,0),0),\"\")","v":0},{"$f":"IF(A34<>\"\",IFERROR(VLOOKUP(Z34,Tabelas!B:D,3,0),0),\"\")","v":0},{"$f":"IF(A34<>\"\",IFERROR(VLOOKUP(AA34,Tabelas!B:D,3,0),0),\"\")","v":0},{"$f":"IF(A34<>\"\",IFERROR(VLOOKUP(AB34,Tabelas!B:D,3,0),0),\"\")","v":0},{"$f":"IF(A34<>\"\",IFERROR(VLOOKUP(AC34,Tabelas!B:D,3,0),0),\"\")","v":0},{"$f":"IF(A34<>\"\",IFERROR(VLOOKUP(AD34,Tabelas!B:D,3,0),0),\"\")","v":0},{"$f":"IF(A34<>\"\",IFERROR(VLOOKUP(AE34,Tabelas!B:D,3,0),0),\"\")","v":0},{"$f":"IF(A34<>\"\",IFERROR(VLOOKUP(AF34,Tabelas!B:D,3,0),0),\"\")","v":0},{"$f":"IF(A34<>\"\",IFERROR(VLOOKUP(AG34,Tabelas!B:D,3,0),0),\"\")","v":0},{"$f":"IF(A34<>\"\",IFERROR(VLOOKUP(AH34,Tabelas!B:D,3,0),0),\"\")","v":0},{"$f":"IF(A34<>\"\",IFERROR(VLOOKUP(AI34,Tabelas!B:D,3,0),0),\"\")","v":0},{"$f":"IF(A34<>\"\",IFERROR(VLOOKUP(AJ34,Tabelas!B:D,3,0),0),\"\")","v":0},{"$f":"IF(A34<>\"\",IFERROR(VLOOKUP(AK34,Tabelas!B:D,3,0),0),\"\")","v":0},{"$f":"IF(A34<>\"\",IFERROR(VLOOKUP(AL34,Tabelas!B:D,3,0),0),\"\")","v":0},{"$f":"IF(A34<>\"\",IFERROR(VLOOKUP(AM34,Tabelas!B:D,3,0),0),\"\")","v":0},{"$f":"IF(A34<>\"\",IFERROR(VLOOKUP(AN34,Tabelas!B:D,3,0),0),\"\")","v":0},{"$f":"IF(A34<>\"\",IFERROR(VLOOKUP(AO34,Tabelas!B:D,3,0),0),\"\")","v":0},{"$f":"IF(A34<>\"\",IFERROR(VLOOKUP(AP34,Tabelas!B:D,3,0),0),\"\")","v":0},{"$f":"IF(A34<>\"\",IFERROR(VLOOKUP(AQ34,Tabelas!B:D,3,0),0),\"\")","v":0},0,0,0,0,0,0,0,0]
["FULANO 27",27,null,null,null,null,null,null,null,null,null,null,null,null,null,null,null,null,null,null,null,null,null,null,null,null,null,null,null,null,null,null,null,null,null,null,null,null,null,null,null,null,null,{"$f":"IF(A35<>\"\",IFERROR(VLOOKUP(M35,Tabelas!B:D,3,0),0),\"\")","v":0},{"$f":"IF(A35<>\"\",IFERROR(VLOOKUP(N35,Tabelas!B:D,3,0),0),\"\")","v":0},{"$f":"IF(A35<>\"\",IFERROR(VLOOKUP(O35,Tabelas!B:D,3,0),0),\"\")","v":0},{"$f":"IF(A35<>\"\",IFERROR(VLOOKUP(P35,Tabelas!B:D,3,0),0),\"\")","v":0},{"$f":"IF(A35<>\"\",IFERROR(VLOOKUP(Q35,Tabelas!B:D,3,0),0),\"\")","v":0},{"$f":"IF(A35<>\"\",IFERROR(VLOOKUP(R35,Tabelas!B:D,3,0),0),\"\")","v":0},{"$f":"IF(A35<>\"\",IFERROR(VLOOKUP(S35,Tabelas!B:D,3,0),0),\"\")","v":0},{"$f":"IF(A35<>\"\",IFERROR(VLOOKUP(T35,Tabelas!B:D,3,0),0),\"\")","v":0},{"$f":"IF(A35<>\"\",IFERROR(VLOOKUP(U35,Tabelas!B:D,3,0),0),\"\")","v":0},{"$f":"IF(A35<>\"\",IFERROR(VLOOKUP(V35,Tabelas!B:D,3,0),0),\"\")","v":0},{"$f":"IF(A35<>\"\",IFERROR(VLOOKUP(W35,Tabelas!B:D,3,0),0),\"\")","v":0},{"$f":"IF(A35<>\"\",IFERROR(VLOOKUP(X35,Tabelas!B:D,3,0),0),\"\")","v":0},{"$f":"IF(A35<>\"\",IFERROR(VLOOKUP(Y35,Tabelas!B:D,3,0),0),\"\")","v":0},{"$f":"IF(A35<>\"\",IFERROR(VLOOKUP(Z35,Tabelas!B:D,3,0),0),\"\")","v":0},{"$f":"IF(A35<>\"\",IFERROR(VLOOKUP(AA35,Tabelas!B:D,3,0),0),\"\")","v":0},{"$f":"IF(A35<>\"\",IFERROR(VLOOKUP(AB35,Tabelas!B:D,3,0),0),\"\")","v":0},{"$f":"IF(A35<>\"\",IFERROR(VLOOKUP(AC35,Tabelas!B:D,3,0),0),\"\")","v":0},{"$f":"IF(A35<>\"\",IFERROR(VLOOKUP(AD35,Tabelas!B:D,3,0),0),\"\")","v":0},{"$f":"IF(A35<>\"\",IFERROR(VLOOKUP(AE35,Tabelas!B:D,3,0),0),\"\")","v":0},{"$f":"IF(A35<>\"\",IFERROR(VLOOKUP(AF35,Tabelas!B:D,3,0),0),\"\")","v":0},{"$f":"IF(A35<>\"\",IFERROR(VLOOKUP(AG35,Tabelas!B:D,3,0),0),\"\")","v":0},{"$f":"IF(A35<>\"\",IFERROR(VLOOKUP(AH35,Tabelas!B:D,3,0),0),\"\")","v":0},{"$f":"IF(A35<>\"\",IFERROR(VLOOKUP(AI35,Tabelas!B:D,3,0),0),\"\")","v":0},{"$f":"IF(A35<>\"\",IFERROR(VLOOKUP(AJ35,Tabelas!B:D,3,0),0),\"\")","v":0},{"$f":"IF(A35<>\"\",IFERROR(VLOOKUP(AK35,Tabelas!B:D,3,0),0),\"\")","v":0},{"$f":"IF(A35<>\"\",IFERROR(VLOOKUP(AL35,Tabelas!B:D,3,0),0),\"\")","v":0},{"$f":"IF(A35<>\"\",IFERROR(VLOOKUP(AM35,Tabelas!B:D,3,0),0),\"\")","v":0},{"$f":"IF(A35<>\"\",IFERROR(VLOOKUP(AN35,Tabelas!B:D,3,0),0),\"\")","v":0},{"$f":"IF(A35<>\"\",IFERROR(VLOOKUP(AO35,Tabelas!B:D,3,0),0),\"\")","v":0},{"$f":"IF(A35<>\"\",IFERROR(VLOOKUP(AP35,Tabelas!B:D,3,0),0),\"\")","v":0},{"$f":"IF(A35<>\"\",IFERROR(VLOOKUP(AQ35,Tabelas!B:D,3,0),0),\"\")","v":0},0,0,0,0,0,0,0,0]
["TOTAL PROFISSIONAIS MATUTINO",null,null,null,null,null,null,null,null,null,null,null,{"$f":"IF(COUNTIF(M9:M35,\"M*\")+ COUNTIF(M9:M35, \"D*\")-COUNTIF(M9:M35,\"DSR\")<>0,COUNTIF(M9:M35,\"M*\")+ COUNTIF(M9:M35, \"D*\")-COUNTIF(M9:M35,\"DSR\"),\"\")","v":""},"","","","","","","","","","","","","","","","","","","","","","","","","","","","","","",null,null,null,null,null,null,null,null,null,null,null,null,null,null,null,null,null,null,null,null,null,null,null,null,null,null,null,null,null,null,null,{"$f":"SUM(BW9:BW35)","v":0},0,0,0,0,0,0,0]
["TOTAL DE PROFISSIONAIS VESPERTINO",null,null,null,null,null,null,null,null,null,null,null,{"$f":"IF(COUNTIF(M9:M35,\"MT*\") + COUNTIF(M9:M35, \"D*\") + COUNTIF(M9:M35,\"T*\")-COUNTIF(M9:M35,\"DSR\")<>0,COUNTIF(M9:M35,\"MT*\") + COUNTIF(M9:M35, \"D*\") + COUNTIF(M9:M35,\"T*\")-COUNTIF(M9:M35,\"DSR\"),\"\")","v":""},"","","","","","","","","","","","","","","","","","","","","","","","","","","","","","",{"$f":"IF(A37<>\"\",IFERROR(VLOOKUP(M37,Tabelas!B:D,3,0),0),\"\")","v":0},{"$f":"IF(A37<>\"\",IFERROR(VLOOKUP(N37,Tabelas!B:D,3,0),0),\"\")","v":0},{"$f":"IF(A37<>\"\",IFERROR(VLOOKUP(O37,Tabelas!B:D,3,0),0),\"\")","v":0},{"$f":"IF(A37<>\"\",IFERROR(VLOOKUP(P37,Tabelas!B:D,3,0),0),\"\")","v":0},{"$f":"IF(A37<>\"\",IFERROR(VLOOKUP(Q37,Tabelas!B:D,3,0),0),\"\")","v":0},{"$f":"IF(A37<>\"\",IFERROR(VLOOKUP(R37,Tabelas!B:D,3,0),0),\"\")","v":0},{"$f":"IF(A37<>\"\",IFERROR(VLOOKUP(S37,Tabelas!B:D,3,0),0),\"\")","v":0},{"$f":"IF(A37<>\"\",IFERROR(VLOOKUP(T37,Tabelas!B:D,3,0),0),\"\")","v":0},{"$f":"IF(A37<>\"\",IFERROR(VLOOKUP(U37,Tabelas!B:D,3,0),0),\"\")","v":0},{"$f":"IF(A37<>\"\",IFERROR(VLOOKUP(V37,Tabelas!B:D,3,0),0),\"\")","v":0},{"$f":"IF(A37<>\"\",IFERROR(VLOOKUP(W37,Tabelas!B:D,3,0),0),\"\")","v":0},{"$f":"IF(A37<>\"\",IFERROR(VLOOKUP(X37,Tabelas!B:D,3,0),0),\"\")","v":0},{"$f":"IF(A37<>\"\",IFERROR(VLOOKUP(Y37,Tabelas!B:D,3,0),0),\"\")","v":0},{"$f":"IF(A37<>\"\",IFERROR(VLOOKUP(Z37,Tabelas!B:D,3,0),0),\"\")","v":0},{"$f":"IF(A37<>\"\",IFERROR(VLOOKUP(AA37,Tabelas!B:D,3,0),0),\"\")","v":0},{"$f":"IF(A37<>\"\",IFERROR(VLOOKUP(AB37,Tabelas!B:D,3,0),0),\"\")","v":0},{"$f":"IF(A37<>\"\",IFERROR(VLOOKUP(AC37,Tabelas!B:D,3,0),0),\"\")","v":0},{"$f":"IF(A37<>\"\",IFERROR(VLOOKUP(AD37,Tabelas!B:D,3,0),0),\"\")","v":0},{"$f":"IF(A37<>\"\",IFERROR(VLOOKUP(AE37,Tabelas!B:D,3,0),0),\"\")","v":0},{"$f":"IF(A37<>\"\",IFERROR(VLOOKUP(AF37,Tabelas!B:D,3,0),0),\"\")","v":0},{"$f":"IF(A37<>\"\",IFERROR(VLOOKUP(AG37,Tabelas!B:D,3,0),0),\"\")","v":0},{"$f":"IF(A37<>\"\",IFERROR(VLOOKUP(AH37,Tabelas!B:D,3,0),0),\"\")","v":0},{"$f":"IF(A37<>\"\",IFERROR(VLOOKUP(AI37,Tabelas!B:D,3,0),0),\"\")","v":0},{"$f":"IF(A37<>\"\",IFERROR(VLOOKUP(AJ37,Tabelas!B:D,3,0),0),\"\")","v":0},{"$f":"IF(A37<>\"\",IFERROR(VLOOKUP(AK37,Tabelas!B:D,3,0),0),\"\")","v":0},{"$f":"IF(A37<>\"\",IFERROR(VLOOKUP(AL37,Tabelas!B:D,3,0),0),\"\")","v":0},{"$f":"IF(A37<>\"\",IFERROR(VLOOKUP(AM37,Tabelas!B:D,3,0),0),\"\")","v":0},{"$f":"IF(A37<>\"\",IFERROR(VLOOKUP(AN37,Tabelas!B:D,3,0),0),\"\")","v":0},{"$f":"IF(A37<>\"\",IFERROR(VLOOKUP(AO37,Tabelas!B:D,3,0),0),\"\")","v":0},{"$f":"IF(A37<>\"\",IFERROR(VLOOKUP(AP37,Tabelas!B:D,3,0),0),\"\")","v":0},{"$f":"IF(A37<>\"\",IFERROR(VLOOKUP(AQ37,Tabelas!B:D,3,0),0),\"\")","v":0}]
["TOTAL DE PROFISSIONAIS NOTURNO",null,null,null,null,null,null,null,null,null,null,null,{"$f":"IF(COUNTIF(M9:M37,\"N?*\") + COUNTIF(M9:M37, \"DN*\")<>0,COUNTIF(M9:M37,\"N?*\") + COUNTIF(M9:M37, \"DN*\"),\"\")","v":""},"","","","","","","","","","","","","","","","","","","","","","","","","","","","","","",{"$f":"IF(A38<>\"\",IFERROR(VLOOKUP(M38,Tabelas!B:D,3,0),0),\"\")","v":0},{"$f":"IF(A38<>\"\",IFERROR(VLOOKUP(N38,Tabelas!B:D,3,0),0),\"\")","v":0},{"$f":"IF(A38<>\"\",IFERROR(VLOOKUP(O38,Tabelas!B:D,3,0),0),\"\")","v":0},{"$f":"IF(A38<>\"\",IFERROR(VLOOKUP(P38,Tabelas!B:D,3,0),0),\"\")","v":0},{"$f":"IF(A38<>\"\",IFERROR(VLOOKUP(Q38,Tabelas!B:D,3,0),0),\"\")","v":0},{"$f":"IF(A38<>\"\",IFERROR(VLOOKUP(R38,Tabelas!B:D,3,0),0),\"\")","v":0},{"$f":"IF(A38<>\"\",IFERROR(VLOOKUP(S38,Tabelas!B:D,3,0),0),\"\")","v":0},{"$f":"IF(A38<>\"\",IFERROR(VLOOKUP(T38,Tabelas!B:D,3,0),0),\"\")","v":0},{"$f":"IF(A38<>\"\",IFERROR(VLOOKUP(U38,Tabelas!B:D,3,0),0),\"\")","v":0},{"$f":"IF(A38<>\"\",IFERROR(VLOOKUP(V38,Tabelas!B:D,3,0),0),\"\")","v":0},{"$f":"IF(A38<>\"\",IFERROR(VLOOKUP(W38,Tabelas!B:D,3,0),0),\"\")","v":0},{"$f":"IF(A38<>\"\",IFERROR(VLOOKUP(X38,Tabelas!B:D,3,0),0),\"\")","v":0},{"$f":"IF(A38<>\"\",IFERROR(VLOOKUP(Y38,Tabelas!B:D,3,0),0),\"\")","v":0},{"$f":"IF(A38<>\"\",IFERROR(VLOOKUP(Z38,Tabelas!B:D,3,0),0),\"\")","v":0},{"$f":"IF(A38<>\"\",IFERROR(VLOOKUP(AA38,Tabelas!B:D,3,0),0),\"\")","v":0},{"$f":"IF(A38<>\"\",IFERROR(VLOOKUP(AB38,Tabelas!B:D,3,0),0),\"\")","v":0},{"$f":"IF(A38<>\"\",IFERROR(VLOOKUP(AC38,Tabelas!B:D,3,0),0),\"\")","v":0},{"$f":"IF(A38<>\"\",IFERROR(VLOOKUP(AD38,Tabelas!B:D,3,0),0),\"\")","v":0},{"$f":"IF(A38<>\"\",IFERROR(VLOOKUP(AE38,Tabelas!B:D,3,0),0),\"\")","v":0},{"$f":"IF(A38<>\"\",IFERROR(VLOOKUP(AF38,Tabelas!B:D,3,0),0),\"\")","v":0},{"$f":"IF(A38<>\"\",IFERROR(VLOOKUP(AG38,Tabelas!B:D,3,0),0),\"\")","v":0},{"$f":"IF(A38<>\"\",IFERROR(VLOOKUP(AH38,Tabelas!B:D,3,0),0),\"\")","v":0},{"$f":"IF(A38<>\"\",IFERROR(VLOOKUP(AI38,Tabelas!B:D,3,0),0),\"\")","v":0},{"$f":"IF(A38<>\"\",IFERROR(VLOOKUP(AJ38,Tabelas!B:D,3,0),0),\"\")","v":0},{"$f":"IF(A38<>\"\",IFERROR(VLOOKUP(AK38,Tabelas!B:D,3,0),0),\"\")","v":0},{"$f":"IF(A38<>\"\",IFERROR(VLOOKUP(AL38,Tabelas!B:D,3,0),0),\"\")","v":0},{"$f":"IF(A38<>\"\",IFERROR(VLOOKUP(AM38,Tabelas!B:D,3,0),0),\"\")","v":0},{"$f":"IF(A38<>\"\",IFERROR(VLOOKUP(AN38,Tabelas!B:D,3,0),0),\"\")","v":0},{"$f":"IF(A38<>\"\",IFERROR(VLOOKUP(AO38,Tabelas!B:D,3,0),0),\"\")","v":0},{"$f":"IF(A38<>\"\",IFERROR(VLOOKUP(AP38,Tabelas!B:D,3,0),0),\"\")","v":0},{"$f":"IF(A38<>\"\",IFERROR(VLOOKUP(AQ38,Tabelas!B:D,3,0),0),\"\")","v":0}]
[null,null,null,null,null,null,null,null,null,null,null,null,null,null,null,null,null,null,null,null,null,null,null,null,null,null,null,null,null,null,null,null,null,null,null,null,null,null,null,null,null,null,null,{"$f":"IF(A39<>\"\",IFERROR(VLOOKUP(M39,Tabelas!B:D,3,0),0),\"\")","v":""},{"$f":"IF(A39<>\"\",IFERROR(VLOOKUP(N39,Tabelas!B:D,3,0),0),\"\")","v":""},{"$f":"IF(A39<>\"\",IFERROR(VLOOKUP(O39,Tabelas!B:D,3,0),0),\"\")","v":""},{"$f":"IF(A39<>\"\",IFERROR(VLOOKUP(P39,Tabelas!B:D,3,0),0),\"\")","v":""},{"$f":"IF(A39<>\"\",IFERROR(VLOOKUP(Q39,Tabelas!B:D,3,0),0),\"\")","v":""},{"$f":"IF(A39<>\"\",IFERROR(VLOOKUP(R39,Tabelas!B:D,3,0),0),\"\")","v":""},{"$f":"IF(A39<>\"\",IFERROR(VLOOKUP(S39,Tabelas!B:D,3,0),0),\"\")","v":""},{"$f":"IF(A39<>\"\",IFERROR(VLOOKUP(T39,Tabelas!B:D,3,0),0),\"\")","v":""},{"$f":"IF(A39<>\"\",IFERROR(VLOOKUP(U39,Tabelas!B:D,3,0),0),\"\")","v":""},{"$f":"IF(A39<>\"\",IFERROR(VLOOKUP(V39,Tabelas!B:D,3,0),0),\"\")","v":""},{"$f":"IF(A39<>\"\",IFERROR(VLOOKUP(W39,Tabelas!B:D,3,0),0),\"\")","v":""},{"$f":"IF(A39<>\"\",IFERROR(VLOOKUP(X39,Tabelas!B:D,3,0),0),\"\")","v":""},{"$f":"IF(A39<>\"\",IFERROR(VLOOKUP(Y39,Tabelas!B:D,3,0),0),\"\")","v":""},{"$f":"IF(A39<>\"\",IFERROR(VLOOKUP(Z39,Tabelas!B:D,3,0),0),\"\")","v":""},{"$f":"IF(A39<>\"\",IFERROR(VLOOKUP(AA39,Tabelas!B:D,3,0),0),\"\")","v":""},{"$f":"IF(A39<>\"\",IFERROR(VLOOKUP(AB39,Tabelas!B:D,3,0),0),\"\")","v":""},{"$f":"IF(A39<>\"\",IFERROR(VLOOKUP(AC39,Tabelas!B:D,3,0),0),\"\")","v":""},{"$f":"IF(A39<>\"\",IFERROR(VLOOKUP(AD39,Tabelas!B:D,3,0),0),\"\")","v":""},{"$f":"IF(A39<>\"\",IFERROR(VLOOKUP(AE39,Tabelas!B:D,3,0),0),\"\")","v":""},{"$f":"IF(A39<>\"\",IFERROR(VLOOKUP(AF39,Tabelas!B:D,3,0),0),\"\")","v":""},{"$f":"IF(A39<>\"\",IFERROR(VLOOKUP(AG39,Tabelas!B:D,3,0),0),\"\")","v":""},{"$f":"IF(A39<>\"\",IFERROR(VLOOKUP(AH39,Tabelas!B:D,3,0),0),\"\")","v":""},{"$f":"IF(A39<>\"\",IFERROR(VLOOKUP(AI39,Tabelas!B:D,3,0),0),\"\")","v":""},{"$f":"IF(A39<>\"\",IFERROR(VLOOKUP(AJ39,Tabelas!B:D,3,0),0),\"\")","v":""},{"$f":"IF(A39<>\"\",IFERROR(VLOOKUP(AK39,Tabelas!B:D,3,0),0),\"\")","v":""},{"$f":"IF(A39<>\"\",IFERROR(VLOOKUP(AL39,Tabelas!B:D,3,0),0),\"\")","v":""},{"$f":"IF(A39<>\"\",IFERROR(VLOOKUP(AM39,Tabelas!B:D,3,0),0),\"\")","v":""},{"$f":"IF(A39<>\"\",IFERROR(VLOOKUP(AN39,Tabelas!B:D,3,0),0),\"\")","v":""},{"$f":"IF(A39<>\"\",IFERROR(VLOOKUP(AO39,Tabelas!B:D,3,0),0),\"\")","v":""},{"$f":"IF(A39<>\"\",IFERROR(VLOOKUP(AP39,Tabelas!B:D,3,0),0),\"\")","v":""},{"$f":"IF(A39<>\"\",IFERROR(VLOOKUP(AQ39,Tabelas!B:D,3,0),0),\"\")","v":""}]
["Legenda:"]
["Licença Maternidade","LM","Férias",null,null,null,null,null,null,"FE",null,"Ponto Facultativo",null,null,null,null,null,null,null,"PF","Manhã *",null,null,null,null,null,null,"M","Diurno (8 hrs) *",null,null,null,null,null,null,"MT"]
["Licença Paternidade","LP","Feriado",null,null,null,null,null,null,"FD",null,"Abono **",null,null,null,null,null,null,null,"AB","Tarde *",null,null,null,null,null,null,"T","Dia/ noite (24 hrs) *",null,null,null,null,null,null,"DN"]
["Licença Médica/Odontológica","L","Descanso Semanal Remunerado",null,null,null,null,null,null,"DSR",null,"Compensação de Horas***",null,null,null,null,null,null,null,"CH","Plantão Dia (12 hrs) *",null,null,null,null,null,null,"D"]
["Licença Capacitação","LC","Recesso",null,null,null,null,null,null,"RC",null,"Afastamento**",null,null,null,null,null,null,null,"AF","Plantão Noite (12 hrs) *",null,null,null,null,null,null,"N"]
[]
["OBSERVAÇÕES:"]
["* Para inserção das legendas referentes às jornadas de trabalho, verificar a Tabela 1 do Anexo do Memorando-Circular - SEI nº   25 /2018/CAP/DGP-EBSERH."]
["** Para inserção das legendas referentes aos Afastamentos previstos em lei e às Compensações de horas, verificar a Tabela 2 do Anexo do Memorando-Circular - SEI nº   25 /2018/CAP/DGP-EBSERH."]

{"sheet":"Junho","index":5,"n_rows":77,"n_cols":73,"rows_kept":77,"cut":false,"hidden":false,"merged":[[4,11,5,11],[4,6,5,6],[4,7,5,7],[4,8,5,8],[4,9,5,9],[4,10,5,10],[3,42,3,72],[1,0,1,41],[2,1,2,20],[2,23,2,34],[2,37,2,41],[3,6,3,11],[3,12,3,41],[70,11,70,18],[69,2,69,8],[69,9,69,10],[69,11,69,18],[66,0,66,11],[64,0,64,11],[65,0,65,11],[69,20,69,26],[69,28,69,34],[72,2,72,8],[72,9,72,10],[72,11,72,18],[72,20,72,26],[70,28,70,34],[71,2,71,8],[71,9,71,10],[71,11,71,18],[70,20,70,26],[71,20,71,26],[70,2,70,8],[70,9,70,10]]}
[]
["ESCALA MENSAL DE TRABALHO"]
["UGEI: Clínica Médica 1",null,null,null,null,null,null,null,null,null,null,null,null,null,null,null,null,null,null,null,null,"MÊS:",null,"Novembro",null,null,null,null,null,null,null,null,null,null,null,"ANO:",null,2021]
["NOME COMPLETO","SIAPE","     Registro Conselho Classe","Cargo","Vínculo","    C.H Sem","INTERVALO",null,null,null,null,null,"DIAS DO MÊS",null,null,null,null,null,null,null,null,null,null,null,null,null,null,null,null,null,null,null,null,null,null,null,null,null,null,null,null,null,"CÁLCULO DAS HORAS"]
[null,null,null,null,null,null,"15' M","15' T","15' N","1H D","1H N","2H",1,2,3,4,5,6,7,8,9,10,11,12,13,14,15,16,17,18,19,20,21,22,23,24,25,{"$f":"IF(DAY(DATE(AL3,VLOOKUP(X3,Tabelas!M:N,2,0)+1,1)-1)>=26,26,\"\")","v":26},{"$f":"IF(DAY(DATE(AL3,VLOOKUP(X3,Tabelas!M:N,2,0)+1,1)-1)>=27,27,\"\")","v":27},{"$f":"IF(DAY(DATE(AL3,VLOOKUP(X3,Tabelas!M:N,2,0)+1,1)-1)>=28,28,\"\")","v":28},{"$f":"IF(DAY(DATE(AL3,VLOOKUP(X3,Tabelas!M:N,2,0)+1,1)-1)>=29,29,\"\")","v":29},30]
["Enfermeiros Diurno(CM1)",null,null,null,null,null,null,null,null,null,null,null,{"$f":"IF(M5<>\"\",IFERROR(VLOOKUP(WEEKDAY(CONCATENATE(M5,$X$3,$AL$3)),Tabelas!$I:$J,2,0),\"\"),\"\")","v":"SEG"},{"$f":"IF(N5<>\"\",IFERROR(VLOOKUP(WEEKDAY(CONCATENATE(N5,$X$3,$AL$3)),Tabelas!$I:$J,2,0),\"\"),\"\")","v":"TER"},{"$f":"IF(O5<>\"\",IFERROR(VLOOKUP(WEEKDAY(CONCATENATE(O5,$X$3,$AL$3)),Tabelas!$I:$J,2,0),\"\"),\"\")","v":"QUA"},{"$f":"IF(P5<>\"\",IFERROR(VLOOKUP(WEEKDAY(CONCATENATE(P5,$X$3,$AL$3)),Tabelas!$I:$J,2,0),\"\"),\"\")","v":"QUI"},{"$f":"IF(Q5<>\"\",IFERROR(VLOOKUP(WEEKDAY(CONCATENATE(Q5,$X$3,$AL$3)),Tabelas!$I:$J,2,0),\"\"),\"\")","v":"SEX"},{"$f":"IF(R5<>\"\",IFERROR(VLOOKUP(WEEKDAY(CONCATENATE(R5,$X$3,$AL$3)),Tabelas!$I:$J,2,0),\"\"),\"\")","v":"SAB"},{"$f":"IF(S5<>\"\",IFERROR(VLOOKUP(WEEKDAY(CONCATENATE(S5,$X$3,$AL$3)),Tabelas!$I:$J,2,0),\"\"),\"\")","v":"DOM"},{"$f":"IF(T5<>\"\",IFERROR(VLOOKUP(WEEKDAY(CONCATENATE(T5,$X$3,$AL$3)),Tabelas!$I:$J,2,0),\"\"),\"\")","v":"SEG"},{"$f":"IF(U5<>\"\",IFERROR(VLOOKUP(WEEKDAY(CONCATENATE(U5,$X$3,$AL$3)),Tabelas!$I:$J,2,0),\"\"),\"\")","v":"TER"},{"$f":"IF(V5<>\"\",IFERROR(VLOOKUP(WEEKDAY(CONCATENATE(V5,$X$3,$AL$3)),Tabelas!$I:$J,2,0),\"\"),\"\")","v":"QUA"},{"$f":"IF(W5<>\"\",IFERROR(VLOOKUP(WEEKDAY(CONCATENATE(W5,$X$3,$AL$3)),Tabelas!$I:$J,2,0),\"\"),\"\")","v":"QUI"},{"$f":"IF(X5<>\"\",IFERROR(VLOOKUP(WEEKDAY(CONCATENATE(X5,$X$3,$AL$3)),Tabelas!$I:$J,2,0),\"\"),\"\")","v":"SEX"},{"$f":"IF(Y5<>\"\",IFERROR(VLOOKUP(WEEKDAY(CONCATENATE(Y5,$X$3,$AL$3)),Tabelas!$I:$J,2,0),\"\"),\"\")","v":"SAB"},{"$f":"IF(Z5<>\"\",IFERROR(VLOOKUP(WEEKDAY(CONCATENATE(Z5,$X$3,$AL$3)),Tabelas!$I:$J,2,0),\"\"),\"\")","v":"DOM"},{"$f":"IF(AA5<>\"\",IFERROR(VLOOKUP(WEEKDAY(CONCATENATE(AA5,$X$3,$AL$3)),Tabelas!$I:$J,2,0),\"\"),\"\")","v":"SEG"},{"$f":"IF(AB5<>\"\",IFERROR(VLOOKUP(WEEKDAY(CONCATENATE(AB5,$X$3,$AL$3)),Tabelas!$I:$J,2,0),\"\"),\"\")","v":"TER"},{"$f":"IF(AC5<>\"\",IFERROR(VLOOKUP(WEEKDAY(CONCATENATE(AC5,$X$3,$AL$3)),Tabelas!$I:$J,2,0),\"\"),\"\")","v":"QUA"},{"$f":"IF(AD5<>\"\",IFERROR(VLOOKUP(WEEKDAY(CONCATENATE(AD5,$X$3,$AL$3)),Tabelas!$I:$J,2,0),\"\"),\"\")","v":"QUI"},{"$f":"IF(AE5<>\"\",IFERROR(VLOOKUP(WEEKDAY(CONCATENATE(AE5,$X$3,$AL$3)),Tabelas!$I:$J,2,0),\"\"),\"\")","v":"SEX"},{"$f":"IF(AF5<>\"\",IFERROR(VLOOKUP(WEEKDAY(CONCATENATE(AF5,$X$3,$AL$3)),Tabelas!$I:$J,2,0),\"\"),\"\")","v":"SAB"},{"$f":"IF(AG5<>\"\",IFERROR(VLOOKUP(WEEKDAY(CONCATENATE(AG5,$X$3,$AL$3)),Tabelas!$I:$J,2,0),\"\"),\"\")","v":"DOM"},{"$f":"IF(AH5<>\"\",IFERROR(VLOOKUP(WEEKDAY(CONCATENATE(AH5,$X$3,$AL$3)),Tabelas!$I:$J,2,0),\"\"),\"\")","v":"SEG"},{"$f":"IF(AI5<>\"\",IFERROR(VLOOKUP(WEEKDAY(CONCATENATE(AI5,$X$3,$AL$3)),Tabelas!$I:$J,2,0),\"\"),\"\")","v":"TER"},{"$f":"IF(AJ5<>\"\",IFERROR(VLOOKUP(WEEKDAY(CONCATENATE(AJ5,$X$3,$AL$3)),Tabelas!$I:$J,2,0),\"\"),\"\")","v":"QUA"},{"$f":"IF(AK5<>\"\",IFERROR(VLOOKUP(WEEKDAY(CONCATENATE(AK5,$X$3,$AL$3)),Tabelas!$I:$J,2,0),\"\"),\"\")","v":"QUI"},{"$f":"IF(AL5<>\"\",IFERROR(VLOOKUP(WEEKDAY(CONCATENATE(AL5,$X$3,$AL$3)),Tabelas!$I:$J,2,0),\"\"),\"\")","v":"SEX"},{"$f":"IF(AM5<>\"\",IFERROR(VLOOKUP(WEEKDAY(CONCATENATE(AM5,$X$3,$AL$3)),Tabelas!$I:$J,2,0),\"\"),\"\")","v":"SAB"},{"$f":"IF(AN5<>\"\",IFERROR(VLOOKUP(WEEKDAY(CONCATENATE(AN5,$X$3,$AL$3)),Tabelas!$I:$J,2,0),\"\"),\"\")","v":"DOM"},{"$f":"IF(AO5<>\"\",IFERROR(VLOOKUP(WEEKDAY(CONCATENATE(AO5,$X$3,$AL$3)),Tabelas!$I:$J,2,0),\"\"),\"\")","v":"SEG"},{"$f":"IF(AP5<>\"\",IFERROR(VLOOKUP(WEEKDAY(CONCATENATE(AP5,$X$3,$AL$3)),Tabelas!$I:$J,2,0),\"\"),\"\")","v":"TER"},1,2,3,4,5,6,7,8,9,10,11,12,13,14,15,16,17,18,19,20,21,22,23,24,25,26,27,28,29,30,31]
["Letícia Cabral Domingos da Rosa",1451516,91679,"ENF","EBSERH","ENF","EBSERH",36,null,null,null,null," ",null,"M15","M15","M15",null,"DSR","M15","M15","M15","M15","M15",null,"DSR",null,"M15","M15","M15","M15","D6","DSR","M15","M15","M15","M15","M15","D6","DSR","M15","M15",{"$f":"IF(A7<>\"\",IFERROR(VLOOKUP(M7,Tabelas!B:D,3,0),0),\"\")","v":0},{"$f":"IF(A7<>\"\",IFERROR(VLOOKUP(N7,Tabelas!B:D,3,0),0),\"\")","v":0},{"$f":"IF(A7<>\"\",IFERROR(VLOOKUP(O7,Tabelas!B:D,3,0),0),\"\")","v":6},{"$f":"IF(A7<>\"\",IFERROR(VLOOKUP(P7,Tabelas!B:D,3,0),0),\"\")","v":6},{"$f":"IF(A7<>\"\",IFERROR(VLOOKUP(Q7,Tabelas!B:D,3,0),0),\"\")","v":6},{"$f":"IF(A7<>\"\",IFERROR(VLOOKUP(S7,Tabelas!B:D,3,0),0),\"\")","v":0},{"$f":"IF(A7<>\"\",IFERROR(VLOOKUP(#REF!,Tabelas!B:D,3,0),0),\"\")","v":0},{"$f":"IF(A7<>\"\",IFERROR(VLOOKUP(T7,Tabelas!B:D,3,0),0),\"\")","v":6},{"$f":"IF(A7<>\"\",IFERROR(VLOOKUP(U7,Tabelas!B:D,3,0),0),\"\")","v":6},{"$f":"IF(A7<>\"\",IFERROR(VLOOKUP(V7,Tabelas!B:D,3,0),0),\"\")","v":6},{"$f":"IF(A7<>\"\",IFERROR(VLOOKUP(W7,Tabelas!B:D,3,0),0),\"\")","v":6},{"$f":"IF(A7<>\"\",IFERROR(VLOOKUP(X7,Tabelas!B:D,3,0),0),\"\")","v":6},{"$f":"IF(A7<>\"\",IFERROR(VLOOKUP(Y7,Tabelas!B:D,3,0),0),\"\")","v":0},{"$f":"IF(A7<>\"\",IFERROR(VLOOKUP(Z7,Tabelas!B:D,3,0),0),\"\")","v":0},{"$f":"IF(A7<>\"\",IFERROR(VLOOKUP(AA7,Tabelas!B:D,3,0),0),\"\")","v":0},{"$f":"IF(A7<>\"\",IFERROR(VLOOKUP(AB7,Tabelas!B:D,3,0),0),\"\")","v":6},{"$f":"IF(A7<>\"\",IFERROR(VLOOKUP(AC7,Tabelas!B:D,3,0),0),\"\")","v":6},{"$f":"IF(A7<>\"\",IFERROR(VLOOKUP(AD7,Tabelas!B:D,3,0),0),\"\")","v":6},{"$f":"IF(A7<>\"\",IFERROR(VLOOKUP(AE7,Tabelas!B:D,3,0),0),\"\")","v":6},{"$f":"IF(A7<>\"\",IFERROR(VLOOKUP(AF7,Tabelas!B:D,3,0),0),\"\")","v":12},{"$f":"IF(A7<>\"\",IFERROR(VLOOKUP(AG7,Tabelas!B:D,3,0),0),\"\")","v":0},{"$f":"IF(A7<>\"\",IFERROR(VLOOKUP(AH7,Tabelas!B:D,3,0),0),\"\")","v":6},{"$f":"IF(A7<>\"\",IFERROR(VLOOKUP(AI7,Tabelas!B:D,3,0),0),\"\")","v":6},{"$f":"IF(A7<>\"\",IFERROR(VLOOKUP(AJ7,Tabelas!B:D,3,0),0),\"\")","v":6},{"$f":"IF(A7<>\"\",IFERROR(VLOOKUP(AK7,Tabelas!B:D,3,0),0),\"\")","v":6},{"$f":"IF(A7<>\"\",IFERROR(VLOOKUP(AL7,Tabelas!B:D,3,0),0),\"\")","v":6},{"$f":"IF(A7<>\"\",IFERROR(VLOOKUP(AM7,Tabelas!B:D,3,0),0),\"\")","v":12},{"$f":"IF(A7<>\"\",IFERROR(VLOOKUP(AN7,Tabelas!B:D,3,0),0),\"\")","v":0},{"$f":"IF(A7<>\"\",IFERROR(VLOOKUP(AO7,Tabelas!B:D,3,0),0),\"\")","v":6},{"$f":"IF(A7<>\"\",IFERROR(VLOOKUP(#REF!,Tabelas!B:D,3,0),0),\"\")","v":0},{"$f":"IF(A7<>\"\",IFERROR(VLOOKUP(#REF!,Tabelas!B:D,3,0),0),\"\")","v":0}]
["Antônio Carlos dos Santos ",3034701,138169,"ENF","EBSERH","ENF","EBSERH",36,null,null,null,null,"M15","D6","M15","M15","M15","DSR","D6","M15","M15","M15","M15","M15",null,"DSR",null,"M15","M15","M15","M15",null,"DSR","M15","M15","M15","M15","M15",null,"DSR","M15","M15"]
["Luciana Martins Valente",1201079,1201079,"ENF","EBSERH","ENF","EBSERH",36,null,null,null,null,"Nepen","Nepen","Nepen","Nepen","Nepen","Nepen","Nepen","Nepen","Nepen","Nepen","Nepen","Nepen","Nepen","Nepen","Nepen","Nepen","Nepen","Nepen","M15",null,"DSR","M15","M15","M15","M15","M15","DSR","D6","M15","M15",{"$f":"IF(A9<>\"\",IFERROR(VLOOKUP(M9,Tabelas!B:D,3,0),0),\"\")","v":0},{"$f":"IF(A9<>\"\",IFERROR(VLOOKUP(N9,Tabelas!B:D,3,0),0),\"\")","v":0},{"$f":"IF(A9<>\"\",IFERROR(VLOOKUP(O9,Tabelas!B:D,3,0),0),\"\")","v":0},{"$f":"IF(A9<>\"\",IFERROR(VLOOKUP(P9,Tabelas!B:D,3,0),0),\"\")","v":0},{"$f":"IF(A9<>\"\",IFERROR(VLOOKUP(Q9,Tabelas!B:D,3,0),0),\"\")","v":0},{"$f":"IF(A9<>\"\",IFERROR(VLOOKUP(R9,Tabelas!B:D,3,0),0),\"\")","v":0},{"$f":"IF(A9<>\"\",IFERROR(VLOOKUP(S9,Tabelas!B:D,3,0),0),\"\")","v":0},{"$f":"IF(A9<>\"\",IFERROR(VLOOKUP(T9,Tabelas!B:D,3,0),0),\"\")","v":0},{"$f":"IF(A9<>\"\",IFERROR(VLOOKUP(U9,Tabelas!B:D,3,0),0),\"\")","v":0},{"$f":"IF(A9<>\"\",IFERROR(VLOOKUP(V9,Tabelas!B:D,3,0),0),\"\")","v":0},{"$f":"IF(A9<>\"\",IFERROR(VLOOKUP(W9,Tabelas!B:D,3,0),0),\"\")","v":0},{"$f":"IF(A9<>\"\",IFERROR(VLOOKUP(X9,Tabelas!B:D,3,0),0),\"\")","v":0},{"$f":"IF(A9<>\"\",IFERROR(VLOOKUP(Y9,Tabelas!B:D,3,0),0),\"\")","v":0},{"$f":"IF(A9<>\"\",IFERROR(VLOOKUP(Z9,Tabelas!B:D,3,0),0),\"\")","v":0},{"$f":"IF(A9<>\"\",IFERROR(VLOOKUP(AA9,Tabelas!B:D,3,0),0),\"\")","v":0},{"$f":"IF(A9<>\"\",IFERROR(VLOOKUP(AB9,Tabelas!B:D,3,0),0),\"\")","v":0},{"$f":"IF(A9<>\"\",IFERROR(VLOOKUP(AC9,Tabelas!B:D,3,0),0),\"\")","v":0},{"$f":"IF(A9<>\"\",IFERROR(VLOOKUP(AD9,Tabelas!B:D,3,0),0),\"\")","v":0},{"$f":"IF(A9<>\"\",IFERROR(VLOOKUP(AE9,Tabelas!B:D,3,0),0),\"\")","v":6},{"$f":"IF(A9<>\"\",IFERROR(VLOOKUP(AF9,Tabelas!B:D,3,0),0),\"\")","v":0},{"$f":"IF(A9<>\"\",IFERROR(VLOOKUP(AG9,Tabelas!B:D,3,0),0),\"\")","v":0},{"$f":"IF(A9<>\"\",IFERROR(VLOOKUP(AH9,Tabelas!B:D,3,0),0),\"\")","v":6},{"$f":"IF(A9<>\"\",IFERROR(VLOOKUP(AI9,Tabelas!B:D,3,0),0),\"\")","v":6},{"$f":"IF(A9<>\"\",IFERROR(VLOOKUP(AJ9,Tabelas!B:D,3,0),0),\"\")","v":6},{"$f":"IF(A9<>\"\",IFERROR(VLOOKUP(AK9,Tabelas!B:D,3,0),0),\"\")","v":6},{"$f":"IF(A9<>\"\",IFERROR(VLOOKUP(AL9,Tabelas!B:D,3,0),0),\"\")","v":6},{"$f":"IF(A9<>\"\",IFERROR(VLOOKUP(AM9,Tabelas!B:D,3,0),0),\"\")","v":0},{"$f":"IF(A9<>\"\",IFERROR(VLOOKUP(AN9,Tabelas!B:D,3,0),0),\"\")","v":12},{"$f":"IF(A9<>\"\",IFERROR(VLOOKUP(AO9,Tabelas!B:D,3,0),0),\"\")","v":6},{"$f":"IF(A9<>\"\",IFERROR(VLOOKUP(#REF!,Tabelas!B:D,3,0),0),\"\")","v":0},{"$f":"IF(A9<>\"\",IFERROR(VLOOKUP(#REF!,Tabelas!B:D,3,0),0),\"\")","v":0}]
["Renata C. de Araújo Silva",2412614,485076,"ENF","EBSERH","ENF","EBSERH",36,null,null,null,null,"CH6",null,"Fe ","Fe ","Fe ","Fe ","Fe ","Fe ","Fe ","Fe ","Fe ","Fe ","Fe ","Fe ","Fe ","Fe","Fe ",null,"M15","D6","DSR","M15","M15","M15","M15","M15",null,"DSR","M15","M15"]
["Karine Gomes Nogueira",3135162,357443,"ENF","EBSERH","ENF","EBSERH",36,null,null,null,null,null,null,"Fe ","Fe ","Fe ","Fe ","Fe ","Fe ","Fe ","Fe ","Fe ","Fe ","Fe ","Fe ","Fe ","Fe","Fe ","T15","T15","DSR","D6","T15","T15","T15","T15","T15",null,"DSR","T15","T15"]
["Enfermeiros Noturno(CM1)"]
["Isabela Ubaldo Lowen",151854,62269,"ENF","RJU","ENF","RJU",30,null,null,null,null,"L    ","L","L","L","L","L","L","L","L","L","L","L","L","L","L","L","L","L","L","L","L","L","L","L","L","L","L","L","L","L",{"$f":"IF(A13<>\"\",IFERROR(VLOOKUP(M13,Tabelas!B:D,3,0),0),\"\")","v":0},{"$f":"IF(A13<>\"\",IFERROR(VLOOKUP(N13,Tabelas!B:D,3,0),0),\"\")","v":0},{"$f":"IF(A13<>\"\",IFERROR(VLOOKUP(O13,Tabelas!B:D,3,0),0),\"\")","v":0},{"$f":"IF(A13<>\"\",IFERROR(VLOOKUP(P13,Tabelas!B:D,3,0),0),\"\")","v":0},{"$f":"IF(A13<>\"\",IFERROR(VLOOKUP(Q13,Tabelas!B:D,3,0),0),\"\")","v":0},{"$f":"IF(A13<>\"\",IFERROR(VLOOKUP(R13,Tabelas!B:D,3,0),0),\"\")","v":0},{"$f":"IF(A13<>\"\",IFERROR(VLOOKUP(S13,Tabelas!B:D,3,0),0),\"\")","v":0},{"$f":"IF(A13<>\"\",IFERROR(VLOOKUP(T13,Tabelas!B:D,3,0),0),\"\")","v":0},{"$f":"IF(A13<>\"\",IFERROR(VLOOKUP(U13,Tabelas!B:D,3,0),0),\"\")","v":0},{"$f":"IF(A13<>\"\",IFERROR(VLOOKUP(V13,Tabelas!B:D,3,0),0),\"\")","v":0},{"$f":"IF(A13<>\"\",IFERROR(VLOOKUP(W13,Tabelas!B:D,3,0),0),\"\")","v":0},{"$f":"IF(A13<>\"\",IFERROR(VLOOKUP(X13,Tabelas!B:D,3,0),0),\"\")","v":0},{"$f":"IF(A13<>\"\",IFERROR(VLOOKUP(Y13,Tabelas!B:D,3,0),0),\"\")","v":0},{"$f":"IF(A13<>\"\",IFERROR(VLOOKUP(Z13,Tabelas!B:D,3,0),0),\"\")","v":0},{"$f":"IF(A13<>\"\",IFERROR(VLOOKUP(AA13,Tabelas!B:D,3,0),0),\"\")","v":0},{"$f":"IF(A13<>\"\",IFERROR(VLOOKUP(AB13,Tabelas!B:D,3,0),0),\"\")","v":0},{"$f":"IF(A13<>\"\",IFERROR(VLOOKUP(AC13,Tabelas!B:D,3,0),0),\"\")","v":0},{"$f":"IF(A13<>\"\",IFERROR(VLOOKUP(AD13,Tabelas!B:D,3,0),0),\"\")","v":0},{"$f":"IF(A13<>\"\",IFERROR(VLOOKUP(AE13,Tabelas!B:D,3,0),0),\"\")","v":0},{"$f":"IF(A13<>\"\",IFERROR(VLOOKUP(AF13,Tabelas!B:D,3,0),0),\"\")","v":0},{"$f":"IF(A13<>\"\",IFERROR(VLOOKUP(AG13,Tabelas!B:D,3,0),0),\"\")","v":0},{"$f":"IF(A13<>\"\",IFERROR(VLOOKUP(AH13,Tabelas!B:D,3,0),0),\"\")","v":0},{"$f":"IF(A13<>\"\",IFERROR(VLOOKUP(AI13,Tabelas!B:D,3,0),0),\"\")","v":0},{"$f":"IF(A13<>\"\",IFERROR(VLOOKUP(AJ13,Tabelas!B:D,3,0),0),\"\")","v":0},{"$f":"IF(A13<>\"\",IFERROR(VLOOKUP(AK13,Tabelas!B:D,3,0),0),\"\")","v":0},{"$f":"IF(A13<>\"\",IFERROR(VLOOKUP(AL13,Tabelas!B:D,3,0),0),\"\")","v":0},{"$f":"IF(A13<>\"\",IFERROR(VLOOKUP(AM13,Tabelas!B:D,3,0),0),\"\")","v":0},{"$f":"IF(A13<>\"\",IFERROR(VLOOKUP(AN13,Tabelas!B:D,3,0),0),\"\")","v":0},{"$f":"IF(A13<>\"\",IFERROR(VLOOKUP(AO13,Tabelas!B:D,3,0),0),\"\")","v":0},{"$f":"IF(A13<>\"\",IFERROR(VLOOKUP(#REF!,Tabelas!B:D,3,0),0),\"\")","v":0},{"$f":"IF(A13<>\"\",IFERROR(VLOOKUP(#REF!,Tabelas!B:D,3,0),0),\"\")","v":0}]
["Marcello Maciel Nogueira ",2412620,369716,"ENF","EBSERH","ENF","EBSERH",36,null,null,null,null,"N8",null,"N8","N8",null,null,"N8",null,null,"N8",null,null,"N8",null,null,"N8","N8",null,"N8",null,null,"N8",null,null,"N8",null,null,"N8",null,null,{"$f":"IF(A14<>\"\",IFERROR(VLOOKUP(M14,Tabelas!B:D,3,0),0),\"\")","v":12},{"$f":"IF(A14<>\"\",IFERROR(VLOOKUP(N14,Tabelas!B:D,3,0),0),\"\")","v":0},{"$f":"IF(A14<>\"\",IFERROR(VLOOKUP(O14,Tabelas!B:D,3,0),0),\"\")","v":12},{"$f":"IF(A14<>\"\",IFERROR(VLOOKUP(P14,Tabelas!B:D,3,0),0),\"\")","v":12},{"$f":"IF(A14<>\"\",IFERROR(VLOOKUP(#REF!,Tabelas!B:D,3,0),0),\"\")","v":0},{"$f":"IF(A14<>\"\",IFERROR(VLOOKUP(#REF!,Tabelas!B:D,3,0),0),\"\")","v":0},{"$f":"IF(A14<>\"\",IFERROR(VLOOKUP(#REF!,Tabelas!B:D,3,0),0),\"\")","v":0},{"$f":"IF(A14<>\"\",IFERROR(VLOOKUP(#REF!,Tabelas!B:D,3,0),0),\"\")","v":0},{"$f":"IF(A14<>\"\",IFERROR(VLOOKUP(#REF!,Tabelas!B:D,3,0),0),\"\")","v":0},{"$f":"IF(A14<>\"\",IFERROR(VLOOKUP(V14,Tabelas!B:D,3,0),0),\"\")","v":12},{"$f":"IF(A14<>\"\",IFERROR(VLOOKUP(W14,Tabelas!B:D,3,0),0),\"\")","v":0},{"$f":"IF(A14<>\"\",IFERROR(VLOOKUP(X14,Tabelas!B:D,3,0),0),\"\")","v":0},{"$f":"IF(A14<>\"\",IFERROR(VLOOKUP(Y14,Tabelas!B:D,3,0),0),\"\")","v":12},{"$f":"IF(A14<>\"\",IFERROR(VLOOKUP(Z14,Tabelas!B:D,3,0),0),\"\")","v":0},{"$f":"IF(A14<>\"\",IFERROR(VLOOKUP(AA14,Tabelas!B:D,3,0),0),\"\")","v":0},{"$f":"IF(A14<>\"\",IFERROR(VLOOKUP(AB14,Tabelas!B:D,3,0),0),\"\")","v":12},{"$f":"IF(A14<>\"\",IFERROR(VLOOKUP(AC14,Tabelas!B:D,3,0),0),\"\")","v":12},{"$f":"IF(A14<>\"\",IFERROR(VLOOKUP(AD14,Tabelas!B:D,3,0),0),\"\")","v":0},{"$f":"IF(A14<>\"\",IFERROR(VLOOKUP(AE14,Tabelas!B:D,3,0),0),\"\")","v":12},{"$f":"IF(A14<>\"\",IFERROR(VLOOKUP(AF14,Tabelas!B:D,3,0),0),\"\")","v":0},{"$f":"IF(A14<>\"\",IFERROR(VLOOKUP(AG14,Tabelas!B:D,3,0),0),\"\")","v":0},{"$f":"IF(A14<>\"\",IFERROR(VLOOKUP(AH14,Tabelas!B:D,3,0),0),\"\")","v":12},{"$f":"IF(A14<>\"\",IFERROR(VLOOKUP(AI14,Tabelas!B:D,3,0),0),\"\")","v":0},{"$f":"IF(A14<>\"\",IFERROR(VLOOKUP(AJ14,Tabelas!B:D,3,0),0),\"\")","v":0},{"$f":"IF(A14<>\"\",IFERROR(VLOOKUP(AK14,Tabelas!B:D,3,0),0),\"\")","v":12},{"$f":"IF(A14<>\"\",IFERROR(VLOOKUP(AL14,Tabelas!B:D,3,0),0),\"\")","v":0},{"$f":"IF(A14<>\"\",IFERROR(VLOOKUP(AM14,Tabelas!B:D,3,0),0),\"\")","v":0},{"$f":"IF(A14<>\"\",IFERROR(VLOOKUP(AN14,Tabelas!B:D,3,0),0),\"\")","v":12},{"$f":"IF(A14<>\"\",IFERROR(VLOOKUP(AO14,Tabelas!B:D,3,0),0),\"\")","v":0},{"$f":"IF(A14<>\"\",IFERROR(VLOOKUP(#REF!,Tabelas!B:D,3,0),0),\"\")","v":0},{"$f":"IF(A14<>\"\",IFERROR(VLOOKUP(#REF!,Tabelas!B:D,3,0),0),\"\")","v":0}]
["Zélma Gulart de Lima",318943,72703,"ENF","EBSERH","ENF","EBSERH",36,null,null,null,null,null,"N8",null,null,null,null,null,"N8","N8",null,"N8",null,null,"N8",null,null,"N8",null,null,"N8",null,null,"N8",null,"N8","N8",null,"CH-12","N8"]
["Andréia Goulart Mafra Martins",1225792,50545,"ENF","RJU","ENF","EBSERH",36,null,null,null,null,null,null,"N8",null,"N8","N8",null,null,null,null,null,"N8",null,null,"N8",null,null,"N8",null,null,"N8",null,null,"N8",null,null,"N8",null,null,"N8"]
[null,null,null,null,null,null,null,null,null,null,null,null,null,null,null,null,null,null,null,null,null,null,null,null,null,null,null,null,null,null,null,null,null,null,null,null,null,null,null,null,null,null,{"$f":"IF(A17<>\"\",IFERROR(VLOOKUP(M17,Tabelas!B:D,3,0),0),\"\")","v":""},{"$f":"IF(A17<>\"\",IFERROR(VLOOKUP(N17,Tabelas!B:D,3,0),0),\"\")","v":""},{"$f":"IF(A17<>\"\",IFERROR(VLOOKUP(O17,Tabelas!B:D,3,0),0),\"\")","v":""},{"$f":"IF(A17<>\"\",IFERROR(VLOOKUP(P17,Tabelas!B:D,3,0),0),\"\")","v":""},{"$f":"IF(A17<>\"\",IFERROR(VLOOKUP(Q17,Tabelas!B:D,3,0),0),\"\")","v":""},{"$f":"IF(A17<>\"\",IFERROR(VLOOKUP(R17,Tabelas!B:D,3,0),0),\"\")","v":""},{"$f":"IF(A17<>\"\",IFERROR(VLOOKUP(S17,Tabelas!B:D,3,0),0),\"\")","v":""},{"$f":"IF(A17<>\"\",IFERROR(VLOOKUP(T17,Tabelas!B:D,3,0),0),\"\")","v":""},{"$f":"IF(A17<>\"\",IFERROR(VLOOKUP(U17,Tabelas!B:D,3,0),0),\"\")","v":""},{"$f":"IF(A17<>\"\",IFERROR(VLOOKUP(V17,Tabelas!B:D,3,0),0),\"\")","v":""},{"$f":"IF(A17<>\"\",IFERROR(VLOOKUP(W17,Tabelas!B:D,3,0),0),\"\")","v":""},{"$f":"IF(A17<>\"\",IFERROR(VLOOKUP(X17,Tabelas!B:D,3,0),0),\"\")","v":""},{"$f":"IF(A17<>\"\",IFERROR(VLOOKUP(Y17,Tabelas!B:D,3,0),0),\"\")","v":""},{"$f":"IF(A17<>\"\",IFERROR(VLOOKUP(Z17,Tabelas!B:D,3,0),0),\"\")","v":""},{"$f":"IF(A17<>\"\",IFERROR(VLOOKUP(AA17,Tabelas!B:D,3,0),0),\"\")","v":""},{"$f":"IF(A17<>\"\",IFERROR(VLOOKUP(AB17,Tabelas!B:D,3,0),0),\"\")","v":""},{"$f":"IF(A17<>\"\",IFERROR(VLOOKUP(AC17,Tabelas!B:D,3,0),0),\"\")","v":""},{"$f":"IF(A17<>\"\",IFERROR(VLOOKUP(AD17,Tabelas!B:D,3,0),0),\"\")","v":""},{"$f":"IF(A17<>\"\",IFERROR(VLOOKUP(AE17,Tabelas!B:D,3,0),0),\"\")","v":""},{"$f":"IF(A17<>\"\",IFERROR(VLOOKUP(AF17,Tabelas!B:D,3,0),0),\"\")","v":""},{"$f":"IF(A17<>\"\",IFERROR(VLOOKUP(AG17,Tabelas!B:D,3,0),0),\"\")","v":""},{"$f":"IF(A17<>\"\",IFERROR(VLOOKUP(AH17,Tabelas!B:D,3,0),0),\"\")","v":""},{"$f":"IF(A17<>\"\",IFERROR(VLOOKUP(AI17,Tabelas!B:D,3,0),0),\"\")","v":""},{"$f":"IF(A17<>\"\",IFERROR(VLOOKUP(AJ17,Tabelas!B:D,3,0),0),\"\")","v":""},{"$f":"IF(A17<>\"\",IFERROR(VLOOKUP(AK17,Tabelas!B:D,3,0),0),\"\")","v":""},{"$f":"IF(A17<>\"\",IFERROR(VLOOKUP(AL17,Tabelas!B:D,3,0),0),\"\")","v":""},{"$f":"IF(A17<>\"\",IFERROR(VLOOKUP(AM17,Tabelas!B:D,3,0),0),\"\")","v":""},{"$f":"IF(A17<>\"\",IFERROR(VLOOKUP(AN17,Tabelas!B:D,3,0),0),\"\")","v":""},{"$f":"IF(A17<>\"\",IFERROR(VLOOKUP(AO17,Tabelas!B:D,3,0),0),\"\")","v":""},{"$f":"IF(A17<>\"\",IFERROR(VLOOKUP(#REF!,Tabelas!B:D,3,0),0),\"\")","v":""},{"$f":"IF(A17<>\"\",IFERROR(VLOOKUP(#REF!,Tabelas!B:D,3,0),0),\"\")","v":""}]
["Técnicos/Auxiliares de Enfermagem(Matutino)",null,null,null,null,null,null,null,null,null,null,null,null,null,null,null,null,null,null,null,null,null,null,null,null,null,null,null,null,null,null,null,null,null,null,null,null,null,null,null,null,null,{"$f":"IF(A18<>\"\",IFERROR(VLOOKUP(M18,Tabelas!B:D,3,0),0),\"\")","v":0},{"$f":"IF(A18<>\"\",IFERROR(VLOOKUP(N18,Tabelas!B:D,3,0),0),\"\")","v":0},{"$f":"IF(A18<>\"\",IFERROR(VLOOKUP(O18,Tabelas!B:D,3,0),0),\"\")","v":0},{"$f":"IF(A18<>\"\",IFERROR(VLOOKUP(P18,Tabelas!B:D,3,0),0),\"\")","v":0},{"$f":"IF(A18<>\"\",IFERROR(VLOOKUP(Q18,Tabelas!B:D,3,0),0),\"\")","v":0},{"$f":"IF(A18<>\"\",IFERROR(VLOOKUP(R18,Tabelas!B:D,3,0),0),\"\")","v":0},{"$f":"IF(A18<>\"\",IFERROR(VLOOKUP(S18,Tabelas!B:D,3,0),0),\"\")","v":0},{"$f":"IF(A18<>\"\",IFERROR(VLOOKUP(T18,Tabelas!B:D,3,0),0),\"\")","v":0},{"$f":"IF(A18<>\"\",IFERROR(VLOOKUP(U18,Tabelas!B:D,3,0),0),\"\")","v":0},{"$f":"IF(A18<>\"\",IFERROR(VLOOKUP(V18,Tabelas!B:D,3,0),0),\"\")","v":0},{"$f":"IF(A18<>\"\",IFERROR(VLOOKUP(W18,Tabelas!B:D,3,0),0),\"\")","v":0},{"$f":"IF(A18<>\"\",IFERROR(VLOOKUP(X18,Tabelas!B:D,3,0),0),\"\")","v":0},{"$f":"IF(A18<>\"\",IFERROR(VLOOKUP(Y18,Tabelas!B:D,3,0),0),\"\")","v":0},{"$f":"IF(A18<>\"\",IFERROR(VLOOKUP(Z18,Tabelas!B:D,3,0),0),\"\")","v":0},{"$f":"IF(A18<>\"\",IFERROR(VLOOKUP(AA18,Tabelas!B:D,3,0),0),\"\")","v":0},{"$f":"IF(A18<>\"\",IFERROR(VLOOKUP(AB18,Tabelas!B:D,3,0),0),\"\")","v":0},{"$f":"IF(A18<>\"\",IFERROR(VLOOKUP(AC18,Tabelas!B:D,3,0),0),\"\")","v":0},{"$f":"IF(A18<>\"\",IFERROR(VLOOKUP(AD18,Tabelas!B:D,3,0),0),\"\")","v":0},{"$f":"IF(A18<>\"\",IFERROR(VLOOKUP(AE18,Tabelas!B:D,3,0),0),\"\")","v":0},{"$f":"IF(A18<>\"\",IFERROR(VLOOKUP(AF18,Tabelas!B:D,3,0),0),\"\")","v":0},{"$f":"IF(A18<>\"\",IFERROR(VLOOKUP(AG18,Tabelas!B:D,3,0),0),\"\")","v":0},{"$f":"IF(A18<>\"\",IFERROR(VLOOKUP(AH18,Tabelas!B:D,3,0),0),\"\")","v":0},{"$f":"IF(A18<>\"\",IFERROR(VLOOKUP(AI18,Tabelas!B:D,3,0),0),\"\")","v":0},{"$f":"IF(A18<>\"\",IFERROR(VLOOKUP(AJ18,Tabelas!B:D,3,0),0),\"\")","v":0},{"$f":"IF(A18<>\"\",IFERROR(VLOOKUP(AK18,Tabelas!B:D,3,0),0),\"\")","v":0},{"$f":"IF(A18<>\"\",IFERROR(VLOOKUP(AL18,Tabelas!B:D,3,0),0),\"\")","v":0},{"$f":"IF(A18<>\"\",IFERROR(VLOOKUP(AM18,Tabelas!B:D,3,0),0),\"\")","v":0},{"$f":"IF(A18<>\"\",IFERROR(VLOOKUP(AN18,Tabelas!B:D,3,0),0),\"\")","v":0},{"$f":"IF(A18<>\"\",IFERROR(VLOOKUP(AO18,Tabelas!B:D,3,0),0),\"\")","v":0},{"$f":"IF(A18<>\"\",IFERROR(VLOOKUP(#REF!,Tabelas!B:D,3,0),0),\"\")","v":0},{"$f":"IF(A18<>\"\",IFERROR(VLOOKUP(#REF!,Tabelas!B:D,3,0),0),\"\")","v":0}]
["James Pereira Reis",3135560,322648,"TENF","EBSERH",36,null,null,null,null,null,null,null,null,"M15",null,null,null,"DSR","M15","M15","M15","M15","M15","DSR","D6","D6","M15","M15","D6",null,"D6","DSR",null,"M15","M15","M15","D6","DSR","D6",null,"M15",{"$f":"IF(#REF!<>\"\",IFERROR(VLOOKUP(M19,Tabelas!B:D,3,0),0),\"\")","v":{"$error":"#REF!"}},{"$f":"IF(#REF!<>\"\",IFERROR(VLOOKUP(N19,Tabelas!B:D,3,0),0),\"\")","v":{"$error":"#REF!"}},{"$f":"IF(#REF!<>\"\",IFERROR(VLOOKUP(O19,Tabelas!B:D,3,0),0),\"\")","v":{"$error":"#REF!"}},{"$f":"IF(#REF!<>\"\",IFERROR(VLOOKUP(P19,Tabelas!B:D,3,0),0),\"\")","v":{"$error":"#REF!"}},{"$f":"IF(#REF!<>\"\",IFERROR(VLOOKUP(Q19,Tabelas!B:D,3,0),0),\"\")","v":{"$error":"#REF!"}},{"$f":"IF(#REF!<>\"\",IFERROR(VLOOKUP(R19,Tabelas!B:D,3,0),0),\"\")","v":{"$error":"#REF!"}},{"$f":"IF(#REF!<>\"\",IFERROR(VLOOKUP(S19,Tabelas!B:D,3,0),0),\"\")","v":{"$error":"#REF!"}},{"$f":"IF(#REF!<>\"\",IFERROR(VLOOKUP(T19,Tabelas!B:D,3,0),0),\"\")","v":{"$error":"#REF!"}},{"$f":"IF(#REF!<>\"\",IFERROR(VLOOKUP(U19,Tabelas!B:D,3,0),0),\"\")","v":{"$error":"#REF!"}},{"$f":"IF(#REF!<>\"\",IFERROR(VLOOKUP(V19,Tabelas!B:D,3,0),0),\"\")","v":{"$error":"#REF!"}},{"$f":"IF(#REF!<>\"\",IFERROR(VLOOKUP(W19,Tabelas!B:D,3,0),0),\"\")","v":{"$error":"#REF!"}},{"$f":"IF(#REF!<>\"\",IFERROR(VLOOKUP(X19,Tabelas!B:D,3,0),0),\"\")","v":{"$error":"#REF!"}},{"$f":"IF(#REF!<>\"\",IFERROR(VLOOKUP(Y19,Tabelas!B:D,3,0),0),\"\")","v":{"$error":"#REF!"}},{"$f":"IF(#REF!<>\"\",IFERROR(VLOOKUP(Z19,Tabelas!B:D,3,0),0),\"\")","v":{"$error":"#REF!"}},{"$f":"IF(#REF!<>\"\",IFERROR(VLOOKUP(AA19,Tabelas!B:D,3,0),0),\"\")","v":{"$error":"#REF!"}},{"$f":"IF(#REF!<>\"\",IFERROR(VLOOKUP(AB19,Tabelas!B:D,3,0),0),\"\")","v":{"$error":"#REF!"}},{"$f":"IF(#REF!<>\"\",IFERROR(VLOOKUP(AC19,Tabelas!B:D,3,0),0),\"\")","v":{"$error":"#REF!"}},{"$f":"IF(#REF!<>\"\",IFERROR(VLOOKUP(AD19,Tabelas!B:D,3,0),0),\"\")","v":{"$error":"#REF!"}},{"$f":"IF(#REF!<>\"\",IFERROR(VLOOKUP(AE19,Tabelas!B:D,3,0),0),\"\")","v":{"$error":"#REF!"}},{"$f":"IF(#REF!<>\"\",IFERROR(VLOOKUP(AF19,Tabelas!B:D,3,0),0),\"\")","v":{"$error":"#REF!"}},{"$f":"IF(#REF!<>\"\",IFERROR(VLOOKUP(AG19,Tabelas!B:D,3,0),0),\"\")","v":{"$error":"#REF!"}},{"$f":"IF(#REF!<>\"\",IFERROR(VLOOKUP(AH19,Tabelas!B:D,3,0),0),\"\")","v":{"$error":"#REF!"}},{"$f":"IF(#REF!<>\"\",IFERROR(VLOOKUP(AI19,Tabelas!B:D,3,0),0),\"\")","v":{"$error":"#REF!"}},{"$f":"IF(#REF!<>\"\",IFERROR(VLOOKUP(AJ19,Tabelas!B:D,3,0),0),\"\")","v":{"$error":"#REF!"}},{"$f":"IF(#REF!<>\"\",IFERROR(VLOOKUP(AK19,Tabelas!B:D,3,0),0),\"\")","v":{"$error":"#REF!"}},{"$f":"IF(#REF!<>\"\",IFERROR(VLOOKUP(AL19,Tabelas!B:D,3,0),0),\"\")","v":{"$error":"#REF!"}},{"$f":"IF(#REF!<>\"\",IFERROR(VLOOKUP(AM19,Tabelas!B:D,3,0),0),\"\")","v":{"$error":"#REF!"}},{"$f":"IF(#REF!<>\"\",IFERROR(VLOOKUP(AN19,Tabelas!B:D,3,0),0),\"\")","v":{"$error":"#REF!"}},{"$f":"IF(#REF!<>\"\",IFERROR(VLOOKUP(AO19,Tabelas!B:D,3,0),0),\"\")","v":{"$error":"#REF!"}},{"$f":"IF(#REF!<>\"\",IFERROR(VLOOKUP(#REF!,Tabelas!B:D,3,0),0),\"\")","v":{"$error":"#REF!"}},{"$f":"IF(#REF!<>\"\",IFERROR(VLOOKUP(#REF!,Tabelas!B:D,3,0),0),\"\")","v":{"$error":"#REF!"}}]
["Janaina Diane Carvalho",3219690,683067,"TENF","EBSERH",36,null,null,null,null,null,null,"D6",null,"D6",null,"D6",null,"DSR",null,"D6",null,"D6",null,"DSR","D6","D6",null,"D6",null,null,null,"DSR","D6",null,null,null,"D6","DSR","D6","D6",null,"D6",null,"D6",null,"D6",null,"D6",null,"D6",null,"D6",{"$f":"IF(A25<>\"\",IFERROR(VLOOKUP(X25,Tabelas!B:D,3,0),0),\"\")","v":0},{"$f":"IF(A25<>\"\",IFERROR(VLOOKUP(Y25,Tabelas!B:D,3,0),0),\"\")","v":0},{"$f":"IF(A25<>\"\",IFERROR(VLOOKUP(Z25,Tabelas!B:D,3,0),0),\"\")","v":0},{"$f":"IF(A25<>\"\",IFERROR(VLOOKUP(AA25,Tabelas!B:D,3,0),0),\"\")","v":12},{"$f":"IF(A25<>\"\",IFERROR(VLOOKUP(AB25,Tabelas!B:D,3,0),0),\"\")","v":12},{"$f":"IF(A25<>\"\",IFERROR(VLOOKUP(AC25,Tabelas!B:D,3,0),0),\"\")","v":0},{"$f":"IF(A25<>\"\",IFERROR(VLOOKUP(AD25,Tabelas!B:D,3,0),0),\"\")","v":0},{"$f":"IF(A25<>\"\",IFERROR(VLOOKUP(AE25,Tabelas!B:D,3,0),0),\"\")","v":12},{"$f":"IF(A25<>\"\",IFERROR(VLOOKUP(AF25,Tabelas!B:D,3,0),0),\"\")","v":0},{"$f":"IF(A25<>\"\",IFERROR(VLOOKUP(AG25,Tabelas!B:D,3,0),0),\"\")","v":0},{"$f":"IF(A25<>\"\",IFERROR(VLOOKUP(AH25,Tabelas!B:D,3,0),0),\"\")","v":12},{"$f":"IF(A25<>\"\",IFERROR(VLOOKUP(AI25,Tabelas!B:D,3,0),0),\"\")","v":0},{"$f":"IF(A25<>\"\",IFERROR(VLOOKUP(AJ25,Tabelas!B:D,3,0),0),\"\")","v":0},{"$f":"IF(A25<>\"\",IFERROR(VLOOKUP(AK25,Tabelas!B:D,3,0),0),\"\")","v":12},{"$f":"IF(A25<>\"\",IFERROR(VLOOKUP(AL25,Tabelas!B:D,3,0),0),\"\")","v":0},{"$f":"IF(A25<>\"\",IFERROR(VLOOKUP(AM25,Tabelas!B:D,3,0),0),\"\")","v":0},{"$f":"IF(A25<>\"\",IFERROR(VLOOKUP(AN25,Tabelas!B:D,3,0),0),\"\")","v":0},{"$f":"IF(A25<>\"\",IFERROR(VLOOKUP(AO25,Tabelas!B:D,3,0),0),\"\")","v":0},{"$f":"IF(A25<>\"\",IFERROR(VLOOKUP(#REF!,Tabelas!B:D,3,0),0),\"\")","v":0},{"$f":"IF(A25<>\"\",IFERROR(VLOOKUP(#REF!,Tabelas!B:D,3,0),0),\"\")","v":0}]
["Rodolf Pradella",304907,780354,"TENF","EBSERH",36,null,null,null,null,null,null,null,"D6",null,"D6",null,"D6","DSR","D6",null,"D6",null,"T15",null,"DSR",null,null,"Fe ","Fe ","Fe ","Fe ","Fe ","Fe ","Fe ","Fe ","Fe ","Fe ","DSR","D6",null,"D6","D6",null,"D6",null,"D6",null,"D6",null,"D6",null,"D6"]
["Stela Mar Conceição",2232520,798651,"TENF","EBSERH",36,null,null,null,null,null,null,"L    ","L","L","L","L","L","L","L","L","L","L","L","L","L","L","L","L","L","L","L","L","L","L","L","L","L","L","L","L","L"]
["Tamara Santana",307621,1275714,"TENF","EBSERH",36,null,null,null,null,null,null,"T15","D6","T15","T15","T15",null,"DSR","T15","T15","T15","T15","T15","D6","DSR",null,"T15","T15","T15","T15","D6","DSR","T15","T15","T15","T15","T15",null,"DSR"]
["Tania Maria Fae",319256,559886,"TENF","EBSERH",36,null,null,null,null,null,null,"M15",null,null,"M15","M15","D6","D6",null,"M15","DSR","M15","M15","DSR","D6","D6",null,"M15","M15","M15","D6","DSR","M15","M15","M15","M15","M15",null,"DSR"]
["Karina Mendes",303781,809884,"TENF","EBSERH",36,null,null,null,null,null,null,"N8",null,null,"N8",null,null,"N8",null,null,"N8",null,null,"AB","CH12","N8","N8",null,null,"N8",null,null,"N8",null,null,"N8",null,null,"AB"]
["Técnicos/Auxiliares de Enfermagem(Vespertino e D6)",null,null,null,null,null,null,null,null,null,null,null,null,null,null,null,null,null,null,null,null,null,null,null,null,null,null,null,null,null,null,null,null,null,null,null,null,null,null,null,null,null,{"$f":"IF(A21<>\"\",IFERROR(VLOOKUP(M26,Tabelas!B:D,3,0),0),\"\")","v":0},{"$f":"IF(A21<>\"\",IFERROR(VLOOKUP(N26,Tabelas!B:D,3,0),0),\"\")","v":0},{"$f":"IF(A21<>\"\",IFERROR(VLOOKUP(O26,Tabelas!B:D,3,0),0),\"\")","v":0},{"$f":"IF(A21<>\"\",IFERROR(VLOOKUP(P26,Tabelas!B:D,3,0),0),\"\")","v":0},{"$f":"IF(A21<>\"\",IFERROR(VLOOKUP(Q26,Tabelas!B:D,3,0),0),\"\")","v":0},{"$f":"IF(A21<>\"\",IFERROR(VLOOKUP(R26,Tabelas!B:D,3,0),0),\"\")","v":0},{"$f":"IF(A21<>\"\",IFERROR(VLOOKUP(S26,Tabelas!B:D,3,0),0),\"\")","v":0},{"$f":"IF(A21<>\"\",IFERROR(VLOOKUP(T26,Tabelas!B:D,3,0),0),\"\")","v":0},{"$f":"IF(A21<>\"\",IFERROR(VLOOKUP(U26,Tabelas!B:D,3,0),0),\"\")","v":0},{"$f":"IF(A21<>\"\",IFERROR(VLOOKUP(V26,Tabelas!B:D,3,0),0),\"\")","v":0},{"$f":"IF(A21<>\"\",IFERROR(VLOOKUP(W26,Tabelas!B:D,3,0),0),\"\")","v":0},{"$f":"IF(A21<>\"\",IFERROR(VLOOKUP(X26,Tabelas!B:D,3,0),0),\"\")","v":0},{"$f":"IF(A21<>\"\",IFERROR(VLOOKUP(Y26,Tabelas!B:D,3,0),0),\"\")","v":0},{"$f":"IF(A21<>\"\",IFERROR(VLOOKUP(Z26,Tabelas!B:D,3,0),0),\"\")","v":0},{"$f":"IF(A21<>\"\",IFERROR(VLOOKUP(AA26,Tabelas!B:D,3,0),0),\"\")","v":0},{"$f":"IF(A21<>\"\",IFERROR(VLOOKUP(AB26,Tabelas!B:D,3,0),0),\"\")","v":0},{"$f":"IF(A21<>\"\",IFERROR(VLOOKUP(AC26,Tabelas!B:D,3,0),0),\"\")","v":0},{"$f":"IF(A21<>\"\",IFERROR(VLOOKUP(AD26,Tabelas!B:D,3,0),0),\"\")","v":0},{"$f":"IF(A21<>\"\",IFERROR(VLOOKUP(AE26,Tabelas!B:D,3,0),0),\"\")","v":0},{"$f":"IF(A21<>\"\",IFERROR(VLOOKUP(AF26,Tabelas!B:D,3,0),0),\"\")","v":0},{"$f":"IF(A21<>\"\",IFERROR(VLOOKUP(AG26,Tabelas!B:D,3,0),0),\"\")","v":0},{"$f":"IF(A21<>\"\",IFERROR(VLOOKUP(AH26,Tabelas!B:D,3,0),0),\"\")","v":0},{"$f":"IF(A21<>\"\",IFERROR(VLOOKUP(AI26,Tabelas!B:D,3,0),0),\"\")","v":0},{"$f":"IF(A21<>\"\",IFERROR(VLOOKUP(AJ26,Tabelas!B:D,3,0),0),\"\")","v":0},{"$f":"IF(A21<>\"\",IFERROR(VLOOKUP(AK26,Tabelas!B:D,3,0),0),\"\")","v":0},{"$f":"IF(A21<>\"\",IFERROR(VLOOKUP(AL26,Tabelas!B:D,3,0),0),\"\")","v":0},{"$f":"IF(A21<>\"\",IFERROR(VLOOKUP(AM26,Tabelas!B:D,3,0),0),\"\")","v":0},{"$f":"IF(A21<>\"\",IFERROR(VLOOKUP(AN26,Tabelas!B:D,3,0),0),\"\")","v":0},{"$f":"IF(A21<>\"\",IFERROR(VLOOKUP(AO26,Tabelas!B:D,3,0),0),\"\")","v":0},{"$f":"IF(A21<>\"\",IFERROR(VLOOKUP(#REF!,Tabelas!B:D,3,0),0),\"\")","v":0},{"$f":"IF(A21<>\"\",IFERROR(VLOOKUP(#REF!,Tabelas!B:D,3,0),0),\"\")","v":0}]
["Ana Claudia Pinto Brandão",312695,868737,"TENF","EBSERH",36,null,null,null,null,null,null,null,"N8",null,null,"N8",null,null,"N8",null,null,"D6",null,"D6","DSR",null,"D6",null,"D6",null,"DSR","D6",null,"D6","D6",null,null,"D6","DSR",null,"D6",{"$f":"IF(A27<>\"\",IFERROR(VLOOKUP(M27,Tabelas!B:D,3,0),0),\"\")","v":0},{"$f":"IF(A27<>\"\",IFERROR(VLOOKUP(N27,Tabelas!B:D,3,0),0),\"\")","v":12},{"$f":"IF(A27<>\"\",IFERROR(VLOOKUP(O27,Tabelas!B:D,3,0),0),\"\")","v":0},{"$f":"IF(A27<>\"\",IFERROR(VLOOKUP(P27,Tabelas!B:D,3,0),0),\"\")","v":0},{"$f":"IF(A27<>\"\",IFERROR(VLOOKUP(Q27,Tabelas!B:D,3,0),0),\"\")","v":12},{"$f":"IF(A27<>\"\",IFERROR(VLOOKUP(R27,Tabelas!B:D,3,0),0),\"\")","v":0},{"$f":"IF(A27<>\"\",IFERROR(VLOOKUP(S27,Tabelas!B:D,3,0),0),\"\")","v":0},{"$f":"IF(A27<>\"\",IFERROR(VLOOKUP(T27,Tabelas!B:D,3,0),0),\"\")","v":12},{"$f":"IF(A27<>\"\",IFERROR(VLOOKUP(U27,Tabelas!B:D,3,0),0),\"\")","v":0},{"$f":"IF(A27<>\"\",IFERROR(VLOOKUP(V27,Tabelas!B:D,3,0),0),\"\")","v":0},{"$f":"IF(A27<>\"\",IFERROR(VLOOKUP(W27,Tabelas!B:D,3,0),0),\"\")","v":12},{"$f":"IF(A27<>\"\",IFERROR(VLOOKUP(X27,Tabelas!B:D,3,0),0),\"\")","v":0},{"$f":"IF(A27<>\"\",IFERROR(VLOOKUP(Y27,Tabelas!B:D,3,0),0),\"\")","v":12},{"$f":"IF(A27<>\"\",IFERROR(VLOOKUP(Z27,Tabelas!B:D,3,0),0),\"\")","v":0},{"$f":"IF(A27<>\"\",IFERROR(VLOOKUP(AA27,Tabelas!B:D,3,0),0),\"\")","v":0},{"$f":"IF(A27<>\"\",IFERROR(VLOOKUP(AB27,Tabelas!B:D,3,0),0),\"\")","v":12},{"$f":"IF(A27<>\"\",IFERROR(VLOOKUP(AC27,Tabelas!B:D,3,0),0),\"\")","v":0},{"$f":"IF(A27<>\"\",IFERROR(VLOOKUP(AD27,Tabelas!B:D,3,0),0),\"\")","v":12},{"$f":"IF(A27<>\"\",IFERROR(VLOOKUP(AE27,Tabelas!B:D,3,0),0),\"\")","v":0},{"$f":"IF(A27<>\"\",IFERROR(VLOOKUP(AF27,Tabelas!B:D,3,0),0),\"\")","v":0},{"$f":"IF(A27<>\"\",IFERROR(VLOOKUP(AG27,Tabelas!B:D,3,0),0),\"\")","v":12},{"$f":"IF(A27<>\"\",IFERROR(VLOOKUP(AH27,Tabelas!B:D,3,0),0),\"\")","v":0},{"$f":"IF(A27<>\"\",IFERROR(VLOOKUP(AI27,Tabelas!B:D,3,0),0),\"\")","v":12},{"$f":"IF(A27<>\"\",IFERROR(VLOOKUP(AJ27,Tabelas!B:D,3,0),0),\"\")","v":12},{"$f":"IF(A27<>\"\",IFERROR(VLOOKUP(AK27,Tabelas!B:D,3,0),0),\"\")","v":0},{"$f":"IF(A27<>\"\",IFERROR(VLOOKUP(AL27,Tabelas!B:D,3,0),0),\"\")","v":0},{"$f":"IF(A27<>\"\",IFERROR(VLOOKUP(AM27,Tabelas!B:D,3,0),0),\"\")","v":12},{"$f":"IF(A27<>\"\",IFERROR(VLOOKUP(AN27,Tabelas!B:D,3,0),0),\"\")","v":0},{"$f":"IF(A27<>\"\",IFERROR(VLOOKUP(AO27,Tabelas!B:D,3,0),0),\"\")","v":0},{"$f":"IF(A27<>\"\",IFERROR(VLOOKUP(#REF!,Tabelas!B:D,3,0),0),\"\")","v":0},{"$f":"IF(A27<>\"\",IFERROR(VLOOKUP(#REF!,Tabelas!B:D,3,0),0),\"\")","v":0}]
["Cleide Vieira de Souza Oliveira ",3134035,847790,"TENF","EBSERH",36,null,null,null,null,null,null,null,"D6",null,null,"D6","D6","DSR","D6",null,null,null,null,null,"DSR","AB","AB","Fe ","Fe ","Fe ","Fe ","Fe ","Fe ","Fe ","Fe ","Fe ","Fe ","Fe ","Fe ","Fe ","Fe ",{"$f":"IF(A28<>\"\",IFERROR(VLOOKUP(M28,Tabelas!B:D,3,0),0),\"\")","v":0},{"$f":"IF(A28<>\"\",IFERROR(VLOOKUP(N28,Tabelas!B:D,3,0),0),\"\")","v":12},{"$f":"IF(A28<>\"\",IFERROR(VLOOKUP(O28,Tabelas!B:D,3,0),0),\"\")","v":0},{"$f":"IF(A28<>\"\",IFERROR(VLOOKUP(P28,Tabelas!B:D,3,0),0),\"\")","v":0},{"$f":"IF(A28<>\"\",IFERROR(VLOOKUP(Q28,Tabelas!B:D,3,0),0),\"\")","v":12},{"$f":"IF(A28<>\"\",IFERROR(VLOOKUP(R28,Tabelas!B:D,3,0),0),\"\")","v":12},{"$f":"IF(A28<>\"\",IFERROR(VLOOKUP(S28,Tabelas!B:D,3,0),0),\"\")","v":0},{"$f":"IF(A28<>\"\",IFERROR(VLOOKUP(T28,Tabelas!B:D,3,0),0),\"\")","v":12},{"$f":"IF(A28<>\"\",IFERROR(VLOOKUP(U28,Tabelas!B:D,3,0),0),\"\")","v":0},{"$f":"IF(A28<>\"\",IFERROR(VLOOKUP(V28,Tabelas!B:D,3,0),0),\"\")","v":0},{"$f":"IF(A28<>\"\",IFERROR(VLOOKUP(W28,Tabelas!B:D,3,0),0),\"\")","v":0},{"$f":"IF(A28<>\"\",IFERROR(VLOOKUP(X28,Tabelas!B:D,3,0),0),\"\")","v":0},{"$f":"IF(A28<>\"\",IFERROR(VLOOKUP(Y28,Tabelas!B:D,3,0),0),\"\")","v":0},{"$f":"IF(A28<>\"\",IFERROR(VLOOKUP(Z28,Tabelas!B:D,3,0),0),\"\")","v":0},{"$f":"IF(A28<>\"\",IFERROR(VLOOKUP(AA28,Tabelas!B:D,3,0),0),\"\")","v":0},{"$f":"IF(A28<>\"\",IFERROR(VLOOKUP(AB28,Tabelas!B:D,3,0),0),\"\")","v":0},{"$f":"IF(A28<>\"\",IFERROR(VLOOKUP(AC28,Tabelas!B:D,3,0),0),\"\")","v":0},{"$f":"IF(A28<>\"\",IFERROR(VLOOKUP(AD28,Tabelas!B:D,3,0),0),\"\")","v":0},{"$f":"IF(A28<>\"\",IFERROR(VLOOKUP(AE28,Tabelas!B:D,3,0),0),\"\")","v":0},{"$f":"IF(A28<>\"\",IFERROR(VLOOKUP(AF28,Tabelas!B:D,3,0),0),\"\")","v":0},{"$f":"IF(A28<>\"\",IFERROR(VLOOKUP(AG28,Tabelas!B:D,3,0),0),\"\")","v":0},{"$f":"IF(A28<>\"\",IFERROR(VLOOKUP(AH28,Tabelas!B:D,3,0),0),\"\")","v":0},{"$f":"IF(A28<>\"\",IFERROR(VLOOKUP(AI28,Tabelas!B:D,3,0),0),\"\")","v":0},{"$f":"IF(A28<>\"\",IFERROR(VLOOKUP(AJ28,Tabelas!B:D,3,0),0),\"\")","v":0},{"$f":"IF(A28<>\"\",IFERROR(VLOOKUP(AK28,Tabelas!B:D,3,0),0),\"\")","v":0},{"$f":"IF(A28<>\"\",IFERROR(VLOOKUP(AL28,Tabelas!B:D,3,0),0),\"\")","v":0},{"$f":"IF(A28<>\"\",IFERROR(VLOOKUP(AM28,Tabelas!B:D,3,0),0),\"\")","v":0},{"$f":"IF(A28<>\"\",IFERROR(VLOOKUP(AN28,Tabelas!B:D,3,0),0),\"\")","v":0},{"$f":"IF(A28<>\"\",IFERROR(VLOOKUP(AO28,Tabelas!B:D,3,0),0),\"\")","v":0},{"$f":"IF(A28<>\"\",IFERROR(VLOOKUP(#REF!,Tabelas!B:D,3,0),0),\"\")","v":0},{"$f":"IF(A28<>\"\",IFERROR(VLOOKUP(#REF!,Tabelas!B:D,3,0),0),\"\")","v":0}]
["Josiane Marilene Richter",3202045,328135,"TEnf","EBSERH",36,null,null,null,null,null,null,"D6",null,"D6",null,null,"DSR","D6",null,"D6",null,null,null,null,"DSR","D6",null,"D6",null,"D6","DSR","D6",null,"D6",null,"D6",null,"D6","DSR","D6"]
["Juliana Martins ",3201868,3201868,"TEnf","EBSERH",36,null,null,null,null,null,null,null,null,null,"D6",null,"DSR","D6",null,null,"D6",null,"D6","D6","DSR",null,"D6",null,null,"D6","DSR","D6","D6",null,"D6",null,"D6",null,"DSR",null,"D6"]
["Otavino da Silva Junior",319260,1043255,"TENF","EBSERH",36,null,null,null,null,null,null,null,"D6","Fe ","Fe ","Fe ","Fe ","Fe ","Fe ","Fe ","Fe ","Fe ","Fe ","Fe ","Fe ","Fe ","Fe ","Fe ",null,null,"DSR","D6",null,"D6",null,"D6","D6",null,"DSR","D6"]
[]
["Técnicos/Auxiliares de Enfermagem Noturno",null,null,null,null,null,null,null,null,null,null,null,null,null,null,null,null,null,null,null,null,null,null,null,null,null,null,null,null,null,null,null,null,null,null,null,null,null,null,null,null,null,{"$f":"IF(A33<>\"\",IFERROR(VLOOKUP(M33,Tabelas!B:D,3,0),0),\"\")","v":0},{"$f":"IF(A33<>\"\",IFERROR(VLOOKUP(N33,Tabelas!B:D,3,0),0),\"\")","v":0},{"$f":"IF(A33<>\"\",IFERROR(VLOOKUP(O33,Tabelas!B:D,3,0),0),\"\")","v":0},{"$f":"IF(A33<>\"\",IFERROR(VLOOKUP(P33,Tabelas!B:D,3,0),0),\"\")","v":0},{"$f":"IF(A33<>\"\",IFERROR(VLOOKUP(Q33,Tabelas!B:D,3,0),0),\"\")","v":0},{"$f":"IF(A33<>\"\",IFERROR(VLOOKUP(R33,Tabelas!B:D,3,0),0),\"\")","v":0},{"$f":"IF(A33<>\"\",IFERROR(VLOOKUP(S33,Tabelas!B:D,3,0),0),\"\")","v":0},{"$f":"IF(A33<>\"\",IFERROR(VLOOKUP(T33,Tabelas!B:D,3,0),0),\"\")","v":0},{"$f":"IF(A33<>\"\",IFERROR(VLOOKUP(U33,Tabelas!B:D,3,0),0),\"\")","v":0},{"$f":"IF(A33<>\"\",IFERROR(VLOOKUP(V33,Tabelas!B:D,3,0),0),\"\")","v":0},{"$f":"IF(A33<>\"\",IFERROR(VLOOKUP(W33,Tabelas!B:D,3,0),0),\"\")","v":0},{"$f":"IF(A33<>\"\",IFERROR(VLOOKUP(X33,Tabelas!B:D,3,0),0),\"\")","v":0},{"$f":"IF(A33<>\"\",IFERROR(VLOOKUP(Y33,Tabelas!B:D,3,0),0),\"\")","v":0},{"$f":"IF(A33<>\"\",IFERROR(VLOOKUP(Z33,Tabelas!B:D,3,0),0),\"\")","v":0},{"$f":"IF(A33<>\"\",IFERROR(VLOOKUP(AA33,Tabelas!B:D,3,0),0),\"\")","v":0},{"$f":"IF(A33<>\"\",IFERROR(VLOOKUP(AB33,Tabelas!B:D,3,0),0),\"\")","v":0},{"$f":"IF(A33<>\"\",IFERROR(VLOOKUP(AC33,Tabelas!B:D,3,0),0),\"\")","v":0},{"$f":"IF(A33<>\"\",IFERROR(VLOOKUP(AD33,Tabelas!B:D,3,0),0),\"\")","v":0},{"$f":"IF(A33<>\"\",IFERROR(VLOOKUP(AE33,Tabelas!B:D,3,0),0),\"\")","v":0},{"$f":"IF(A33<>\"\",IFERROR(VLOOKUP(AF33,Tabelas!B:D,3,0),0),\"\")","v":0},{"$f":"IF(A33<>\"\",IFERROR(VLOOKUP(AG33,Tabelas!B:D,3,0),0),\"\")","v":0},{"$f":"IF(A33<>\"\",IFERROR(VLOOKUP(AH33,Tabelas!B:D,3,0),0),\"\")","v":0},{"$f":"IF(A33<>\"\",IFERROR(VLOOKUP(AI33,Tabelas!B:D,3,0),0),\"\")","v":0},{"$f":"IF(A33<>\"\",IFERROR(VLOOKUP(AJ33,Tabelas!B:D,3,0),0),\"\")","v":0},{"$f":"IF(A33<>\"\",IFERROR(VLOOKUP(AK33,Tabelas!B:D,3,0),0),\"\")","v":0},{"$f":"IF(A33<>\"\",IFERROR(VLOOKUP(AL33,Tabelas!B:D,3,0),0),\"\")","v":0},{"$f":"IF(A33<>\"\",IFERROR(VLOOKUP(AM33,Tabelas!B:D,3,0),0),\"\")","v":0},{"$f":"IF(A33<>\"\",IFERROR(VLOOKUP(AN33,Tabelas!B:D,3,0),0),\"\")","v":0},{"$f":"IF(A33<>\"\",IFERROR(VLOOKUP(AO33,Tabelas!B:D,3,0),0),\"\")","v":0},{"$f":"IF(A33<>\"\",IFERROR(VLOOKUP(#REF!,Tabelas!B:D,3,0),0),\"\")","v":0},{"$f":"IF(A33<>\"\",IFERROR(VLOOKUP(#REF!,Tabelas!B:D,3,0),0),\"\")","v":0}]
["Gabrielle L. Barbosa",1363225,431832,"AENF","RJU",30,null,null,null,null,null,null,null,null,"N8",null,null,"N8",null,null,"N8",null,null,"N8",null,null,"N8",null,null,"N8",null,null,"N8",null,null,"N8",null,null,"N8",null,null,"N8"]
["Silvana Maria Joaquim",1160648,48114,"TENF","RJU",30,null,null,null,null,null,null,null,null,"N8",null,null,"N8",null,null,"N8",null,null,"N8",null,null,"N8",null,null,"N8",null,null,"N8",null,null,"N8",null,null,"N8",null,null,"N8",{"$f":"IF(#REF!<>\"\",IFERROR(VLOOKUP(#REF!,Tabelas!B:D,3,0),0),\"\")","v":{"$error":"#REF!"}},{"$f":"IF(#REF!<>\"\",IFERROR(VLOOKUP(#REF!,Tabelas!B:D,3,0),0),\"\")","v":{"$error":"#REF!"}},{"$f":"IF(#REF!<>\"\",IFERROR(VLOOKUP(#REF!,Tabelas!B:D,3,0),0),\"\")","v":{"$error":"#REF!"}},{"$f":"IF(#REF!<>\"\",IFERROR(VLOOKUP(#REF!,Tabelas!B:D,3,0),0),\"\")","v":{"$error":"#REF!"}},{"$f":"IF(#REF!<>\"\",IFERROR(VLOOKUP(#REF!,Tabelas!B:D,3,0),0),\"\")","v":{"$error":"#REF!"}},{"$f":"IF(#REF!<>\"\",IFERROR(VLOOKUP(#REF!,Tabelas!B:D,3,0),0),\"\")","v":{"$error":"#REF!"}},{"$f":"IF(#REF!<>\"\",IFERROR(VLOOKUP(#REF!,Tabelas!B:D,3,0),0),\"\")","v":{"$error":"#REF!"}},{"$f":"IF(#REF!<>\"\",IFERROR(VLOOKUP(#REF!,Tabelas!B:D,3,0),0),\"\")","v":{"$error":"#REF!"}},{"$f":"IF(#REF!<>\"\",IFERROR(VLOOKUP(#REF!,Tabelas!B:D,3,0),0),\"\")","v":{"$error":"#REF!"}},{"$f":"IF(#REF!<>\"\",IFERROR(VLOOKUP(#REF!,Tabelas!B:D,3,0),0),\"\")","v":{"$error":"#REF!"}},{"$f":"IF(#REF!<>\"\",IFERROR(VLOOKUP(#REF!,Tabelas!B:D,3,0),0),\"\")","v":{"$error":"#REF!"}},{"$f":"IF(#REF!<>\"\",IFERROR(VLOOKUP(#REF!,Tabelas!B:D,3,0),0),\"\")","v":{"$error":"#REF!"}},{"$f":"IF(#REF!<>\"\",IFERROR(VLOOKUP(#REF!,Tabelas!B:D,3,0),0),\"\")","v":{"$error":"#REF!"}},{"$f":"IF(#REF!<>\"\",IFERROR(VLOOKUP(#REF!,Tabelas!B:D,3,0),0),\"\")","v":{"$error":"#REF!"}},{"$f":"IF(#REF!<>\"\",IFERROR(VLOOKUP(#REF!,Tabelas!B:D,3,0),0),\"\")","v":{"$error":"#REF!"}},{"$f":"IF(#REF!<>\"\",IFERROR(VLOOKUP(#REF!,Tabelas!B:D,3,0),0),\"\")","v":{"$error":"#REF!"}},{"$f":"IF(#REF!<>\"\",IFERROR(VLOOKUP(#REF!,Tabelas!B:D,3,0),0),\"\")","v":{"$error":"#REF!"}},{"$f":"IF(#REF!<>\"\",IFERROR(VLOOKUP(#REF!,Tabelas!B:D,3,0),0),\"\")","v":{"$error":"#REF!"}},{"$f":"IF(#REF!<>\"\",IFERROR(VLOOKUP(#REF!,Tabelas!B:D,3,0),0),\"\")","v":{"$error":"#REF!"}},{"$f":"IF(#REF!<>\"\",IFERROR(VLOOKUP(#REF!,Tabelas!B:D,3,0),0),\"\")","v":{"$error":"#REF!"}},{"$f":"IF(#REF!<>\"\",IFERROR(VLOOKUP(#REF!,Tabelas!B:D,3,0),0),\"\")","v":{"$error":"#REF!"}},{"$f":"IF(#REF!<>\"\",IFERROR(VLOOKUP(#REF!,Tabelas!B:D,3,0),0),\"\")","v":{"$error":"#REF!"}},{"$f":"IF(#REF!<>\"\",IFERROR(VLOOKUP(#REF!,Tabelas!B:D,3,0),0),\"\")","v":{"$error":"#REF!"}},{"$f":"IF(#REF!<>\"\",IFERROR(VLOOKUP(#REF!,Tabelas!B:D,3,0),0),\"\")","v":{"$error":"#REF!"}},{"$f":"IF(#REF!<>\"\",IFERROR(VLOOKUP(#REF!,Tabelas!B:D,3,0),0),\"\")","v":{"$error":"#REF!"}},{"$f":"IF(#REF!<>\"\",IFERROR(VLOOKUP(#REF!,Tabelas!B:D,3,0),0),\"\")","v":{"$error":"#REF!"}},{"$f":"IF(#REF!<>\"\",IFERROR(VLOOKUP(#REF!,Tabelas!B:D,3,0),0),\"\")","v":{"$error":"#REF!"}},{"$f":"IF(#REF!<>\"\",IFERROR(VLOOKUP(#REF!,Tabelas!B:D,3,0),0),\"\")","v":{"$error":"#REF!"}},{"$f":"IF(#REF!<>\"\",IFERROR(VLOOKUP(#REF!,Tabelas!B:D,3,0),0),\"\")","v":{"$error":"#REF!"}},{"$f":"IF(#REF!<>\"\",IFERROR(VLOOKUP(#REF!,Tabelas!B:D,3,0),0),\"\")","v":{"$error":"#REF!"}},{"$f":"IF(#REF!<>\"\",IFERROR(VLOOKUP(#REF!,Tabelas!B:D,3,0),0),\"\")","v":{"$error":"#REF!"}}]
["Walkíria Dias ",1451251,40759,"TENF","RJU",30,null,null,null,null,null,null,null,null,"N8",null,null,"N8",null,null,"N8",null,null,"N8",null,null,"N8",null,null,"N8",null,null,"N8",null,null,"N8",null,null,"N8",null,null,"N8"]
["Marco Aurélio Santos",1356693,134345,"AENF","RJU",30,null,null,null,null,null,null,null,"N8",null,null,"N8",null,null,"N8",null,null,"N8",null,null,"N8",null,null,"N8",null,null,"N8",null,null,"N8",null,null,"N8",null,null,"N8",null,{"$f":"IF(A37<>\"\",IFERROR(VLOOKUP(M37,Tabelas!B:D,3,0),0),\"\")","v":0},{"$f":"IF(A37<>\"\",IFERROR(VLOOKUP(N37,Tabelas!B:D,3,0),0),\"\")","v":12},{"$f":"IF(A37<>\"\",IFERROR(VLOOKUP(O37,Tabelas!B:D,3,0),0),\"\")","v":0},{"$f":"IF(A37<>\"\",IFERROR(VLOOKUP(P37,Tabelas!B:D,3,0),0),\"\")","v":0},{"$f":"IF(A37<>\"\",IFERROR(VLOOKUP(Q37,Tabelas!B:D,3,0),0),\"\")","v":12},{"$f":"IF(A37<>\"\",IFERROR(VLOOKUP(R37,Tabelas!B:D,3,0),0),\"\")","v":0},{"$f":"IF(A37<>\"\",IFERROR(VLOOKUP(S37,Tabelas!B:D,3,0),0),\"\")","v":0},{"$f":"IF(A37<>\"\",IFERROR(VLOOKUP(T37,Tabelas!B:D,3,0),0),\"\")","v":12},{"$f":"IF(A37<>\"\",IFERROR(VLOOKUP(U37,Tabelas!B:D,3,0),0),\"\")","v":0},{"$f":"IF(A37<>\"\",IFERROR(VLOOKUP(V37,Tabelas!B:D,3,0),0),\"\")","v":0},{"$f":"IF(A37<>\"\",IFERROR(VLOOKUP(W37,Tabelas!B:D,3,0),0),\"\")","v":12},{"$f":"IF(A37<>\"\",IFERROR(VLOOKUP(X37,Tabelas!B:D,3,0),0),\"\")","v":0},{"$f":"IF(A37<>\"\",IFERROR(VLOOKUP(Y37,Tabelas!B:D,3,0),0),\"\")","v":0},{"$f":"IF(A37<>\"\",IFERROR(VLOOKUP(Z37,Tabelas!B:D,3,0),0),\"\")","v":12},{"$f":"IF(A37<>\"\",IFERROR(VLOOKUP(AA37,Tabelas!B:D,3,0),0),\"\")","v":0},{"$f":"IF(A37<>\"\",IFERROR(VLOOKUP(AB37,Tabelas!B:D,3,0),0),\"\")","v":0},{"$f":"IF(A37<>\"\",IFERROR(VLOOKUP(AC37,Tabelas!B:D,3,0),0),\"\")","v":12},{"$f":"IF(A37<>\"\",IFERROR(VLOOKUP(AD37,Tabelas!B:D,3,0),0),\"\")","v":0},{"$f":"IF(A37<>\"\",IFERROR(VLOOKUP(AE37,Tabelas!B:D,3,0),0),\"\")","v":0},{"$f":"IF(A37<>\"\",IFERROR(VLOOKUP(AF37,Tabelas!B:D,3,0),0),\"\")","v":12},{"$f":"IF(A37<>\"\",IFERROR(VLOOKUP(AG37,Tabelas!B:D,3,0),0),\"\")","v":0},{"$f":"IF(A37<>\"\",IFERROR(VLOOKUP(AH37,Tabelas!B:D,3,0),0),\"\")","v":0},{"$f":"IF(A37<>\"\",IFERROR(VLOOKUP(AI37,Tabelas!B:D,3,0),0),\"\")","v":12},{"$f":"IF(A37<>\"\",IFERROR(VLOOKUP(AJ37,Tabelas!B:D,3,0),0),\"\")","v":0},{"$f":"IF(A37<>\"\",IFERROR(VLOOKUP(AK37,Tabelas!B:D,3,0),0),\"\")","v":0},{"$f":"IF(A37<>\"\",IFERROR(VLOOKUP(AL37,Tabelas!B:D,3,0),0),\"\")","v":12},{"$f":"IF(A37<>\"\",IFERROR(VLOOKUP(AM37,Tabelas!B:D,3,0),0),\"\")","v":0},{"$f":"IF(A37<>\"\",IFERROR(VLOOKUP(AN37,Tabelas!B:D,3,0),0),\"\")","v":0},{"$f":"IF(A37<>\"\",IFERROR(VLOOKUP(AO37,Tabelas!B:D,3,0),0),\"\")","v":12},{"$f":"IF(A37<>\"\",IFERROR(VLOOKUP(#REF!,Tabelas!B:D,3,0),0),\"\")","v":0},{"$f":"IF(A37<>\"\",IFERROR(VLOOKUP(#REF!,Tabelas!B:D,3,0),0),\"\")","v":0}]
["Michelli Melo da Rosa",208337,348457,"TENF","RJU",30,null,null,null,null,null,null,null,"N8",null,null,"N8",null,null,"N8",null,null,"N8",null,null,"N8",null,null,"N8",null,null,"N8",null,null,"N8",null,null,"N8",null,null,"N8",null,{"$f":"IF(A38<>\"\",IFERROR(VLOOKUP(M38,Tabelas!B:D,3,0),0),\"\")","v":0},{"$f":"IF(A38<>\"\",IFERROR(VLOOKUP(N38,Tabelas!B:D,3,0),0),\"\")","v":12},{"$f":"IF(A38<>\"\",IFERROR(VLOOKUP(O38,Tabelas!B:D,3,0),0),\"\")","v":0},{"$f":"IF(A38<>\"\",IFERROR(VLOOKUP(P38,Tabelas!B:D,3,0),0),\"\")","v":0},{"$f":"IF(A38<>\"\",IFERROR(VLOOKUP(Q38,Tabelas!B:D,3,0),0),\"\")","v":12},{"$f":"IF(A38<>\"\",IFERROR(VLOOKUP(R38,Tabelas!B:D,3,0),0),\"\")","v":0},{"$f":"IF(A38<>\"\",IFERROR(VLOOKUP(S38,Tabelas!B:D,3,0),0),\"\")","v":0},{"$f":"IF(A38<>\"\",IFERROR(VLOOKUP(T38,Tabelas!B:D,3,0),0),\"\")","v":12},{"$f":"IF(A38<>\"\",IFERROR(VLOOKUP(U38,Tabelas!B:D,3,0),0),\"\")","v":0},{"$f":"IF(A38<>\"\",IFERROR(VLOOKUP(V38,Tabelas!B:D,3,0),0),\"\")","v":0},{"$f":"IF(A38<>\"\",IFERROR(VLOOKUP(W38,Tabelas!B:D,3,0),0),\"\")","v":12},{"$f":"IF(A38<>\"\",IFERROR(VLOOKUP(X38,Tabelas!B:D,3,0),0),\"\")","v":0},{"$f":"IF(A38<>\"\",IFERROR(VLOOKUP(Y38,Tabelas!B:D,3,0),0),\"\")","v":0},{"$f":"IF(A38<>\"\",IFERROR(VLOOKUP(Z38,Tabelas!B:D,3,0),0),\"\")","v":12},{"$f":"IF(A38<>\"\",IFERROR(VLOOKUP(AA38,Tabelas!B:D,3,0),0),\"\")","v":0},{"$f":"IF(A38<>\"\",IFERROR(VLOOKUP(AB38,Tabelas!B:D,3,0),0),\"\")","v":0},{"$f":"IF(A38<>\"\",IFERROR(VLOOKUP(AC38,Tabelas!B:D,3,0),0),\"\")","v":12},{"$f":"IF(A38<>\"\",IFERROR(VLOOKUP(AD38,Tabelas!B:D,3,0),0),\"\")","v":0},{"$f":"IF(A38<>\"\",IFERROR(VLOOKUP(AE38,Tabelas!B:D,3,0),0),\"\")","v":0},{"$f":"IF(A38<>\"\",IFERROR(VLOOKUP(AF38,Tabelas!B:D,3,0),0),\"\")","v":12},{"$f":"IF(A38<>\"\",IFERROR(VLOOKUP(AG38,Tabelas!B:D,3,0),0),\"\")","v":0},{"$f":"IF(A38<>\"\",IFERROR(VLOOKUP(AH38,Tabelas!B:D,3,0),0),\"\")","v":0},{"$f":"IF(A38<>\"\",IFERROR(VLOOKUP(AI38,Tabelas!B:D,3,0),0),\"\")","v":12},{"$f":"IF(A38<>\"\",IFERROR(VLOOKUP(AJ38,Tabelas!B:D,3,0),0),\"\")","v":0},{"$f":"IF(A38<>\"\",IFERROR(VLOOKUP(AK38,Tabelas!B:D,3,0),0),\"\")","v":0},{"$f":"IF(A38<>\"\",IFERROR(VLOOKUP(AL38,Tabelas!B:D,3,0),0),\"\")","v":12},{"$f":"IF(A38<>\"\",IFERROR(VLOOKUP(AM38,Tabelas!B:D,3,0),0),\"\")","v":0},{"$f":"IF(A38<>\"\",IFERROR(VLOOKUP(AN38,Tabelas!B:D,3,0),0),\"\")","v":0},{"$f":"IF(A38<>\"\",IFERROR(VLOOKUP(AO38,Tabelas!B:D,3,0),0),\"\")","v":12},{"$f":"IF(A38<>\"\",IFERROR(VLOOKUP(#REF!,Tabelas!B:D,3,0),0),\"\")","v":0},{"$f":"IF(A38<>\"\",IFERROR(VLOOKUP(#REF!,Tabelas!B:D,3,0),0),\"\")","v":0}]
["Ricardo Valentin",270372,539616,"TENF","RJU",30,null,null,null,null,null,null,"Fe ","Fe ","Fe ","Fe ","Fe ","Fe ","Fe ","Fe ","Fe ","Fe ","N8",null,null,"N8",null,null,"N8",null,null,"N8",null,null,"N8",null,null,"N8",null,null,"N8",null,null,null,"N8",null,null,"N8",null,null,"N8",{"$f":"IF(A39<>\"\",IFERROR(VLOOKUP(V39,Tabelas!B:D,3,0),0),\"\")","v":0},{"$f":"IF(A39<>\"\",IFERROR(VLOOKUP(W39,Tabelas!B:D,3,0),0),\"\")","v":12},{"$f":"IF(A39<>\"\",IFERROR(VLOOKUP(X39,Tabelas!B:D,3,0),0),\"\")","v":0},{"$f":"IF(A39<>\"\",IFERROR(VLOOKUP(Y39,Tabelas!B:D,3,0),0),\"\")","v":0},{"$f":"IF(A39<>\"\",IFERROR(VLOOKUP(Z39,Tabelas!B:D,3,0),0),\"\")","v":12},{"$f":"IF(A39<>\"\",IFERROR(VLOOKUP(AA39,Tabelas!B:D,3,0),0),\"\")","v":0},{"$f":"IF(A39<>\"\",IFERROR(VLOOKUP(AB39,Tabelas!B:D,3,0),0),\"\")","v":0},{"$f":"IF(A39<>\"\",IFERROR(VLOOKUP(AC39,Tabelas!B:D,3,0),0),\"\")","v":12},{"$f":"IF(A39<>\"\",IFERROR(VLOOKUP(AD39,Tabelas!B:D,3,0),0),\"\")","v":0},{"$f":"IF(A39<>\"\",IFERROR(VLOOKUP(AE39,Tabelas!B:D,3,0),0),\"\")","v":0},{"$f":"IF(A39<>\"\",IFERROR(VLOOKUP(AF39,Tabelas!B:D,3,0),0),\"\")","v":12},{"$f":"IF(A39<>\"\",IFERROR(VLOOKUP(AG39,Tabelas!B:D,3,0),0),\"\")","v":0},{"$f":"IF(A39<>\"\",IFERROR(VLOOKUP(AH39,Tabelas!B:D,3,0),0),\"\")","v":0},{"$f":"IF(A39<>\"\",IFERROR(VLOOKUP(AI39,Tabelas!B:D,3,0),0),\"\")","v":12},{"$f":"IF(A39<>\"\",IFERROR(VLOOKUP(AJ39,Tabelas!B:D,3,0),0),\"\")","v":0},{"$f":"IF(A39<>\"\",IFERROR(VLOOKUP(AK39,Tabelas!B:D,3,0),0),\"\")","v":0},{"$f":"IF(A39<>\"\",IFERROR(VLOOKUP(AL39,Tabelas!B:D,3,0),0),\"\")","v":12},{"$f":"IF(A39<>\"\",IFERROR(VLOOKUP(AM39,Tabelas!B:D,3,0),0),\"\")","v":0},{"$f":"IF(A39<>\"\",IFERROR(VLOOKUP(AN39,Tabelas!B:D,3,0),0),\"\")","v":0},{"$f":"IF(A39<>\"\",IFERROR(VLOOKUP(AO39,Tabelas!B:D,3,0),0),\"\")","v":12},{"$f":"IF(A39<>\"\",IFERROR(VLOOKUP(#REF!,Tabelas!B:D,3,0),0),\"\")","v":0},{"$f":"IF(A39<>\"\",IFERROR(VLOOKUP(#REF!,Tabelas!B:D,3,0),0),\"\")","v":0}]
["Daniele Oliveira da Cruz Lopes ",3009947,335507,"TENF","EBSERH",36,null,null,null,null,null,null,"N8",null,null,"N8",null,null,"N8","N8",null,"N8",null,null,"N8",null,null,"N8",null,null,"AB",null,null,"N8",null,"N8","N8",null,null,"N8",null,null,{"$f":"IF(A29<>\"\",IFERROR(VLOOKUP(M40,Tabelas!B:D,3,0),0),\"\")","v":12},{"$f":"IF(A29<>\"\",IFERROR(VLOOKUP(N40,Tabelas!B:D,3,0),0),\"\")","v":0},{"$f":"IF(A29<>\"\",IFERROR(VLOOKUP(O40,Tabelas!B:D,3,0),0),\"\")","v":0},{"$f":"IF(A29<>\"\",IFERROR(VLOOKUP(P40,Tabelas!B:D,3,0),0),\"\")","v":12},{"$f":"IF(A29<>\"\",IFERROR(VLOOKUP(Q40,Tabelas!B:D,3,0),0),\"\")","v":0},{"$f":"IF(A29<>\"\",IFERROR(VLOOKUP(R40,Tabelas!B:D,3,0),0),\"\")","v":0},{"$f":"IF(A29<>\"\",IFERROR(VLOOKUP(S40,Tabelas!B:D,3,0),0),\"\")","v":12},{"$f":"IF(A29<>\"\",IFERROR(VLOOKUP(T40,Tabelas!B:D,3,0),0),\"\")","v":12},{"$f":"IF(A29<>\"\",IFERROR(VLOOKUP(U40,Tabelas!B:D,3,0),0),\"\")","v":0},{"$f":"IF(A29<>\"\",IFERROR(VLOOKUP(V40,Tabelas!B:D,3,0),0),\"\")","v":12},{"$f":"IF(A29<>\"\",IFERROR(VLOOKUP(W40,Tabelas!B:D,3,0),0),\"\")","v":0},{"$f":"IF(A29<>\"\",IFERROR(VLOOKUP(X40,Tabelas!B:D,3,0),0),\"\")","v":0},{"$f":"IF(A29<>\"\",IFERROR(VLOOKUP(Y40,Tabelas!B:D,3,0),0),\"\")","v":12},{"$f":"IF(A29<>\"\",IFERROR(VLOOKUP(Z40,Tabelas!B:D,3,0),0),\"\")","v":0},{"$f":"IF(A29<>\"\",IFERROR(VLOOKUP(AA40,Tabelas!B:D,3,0),0),\"\")","v":0},{"$f":"IF(A29<>\"\",IFERROR(VLOOKUP(AB40,Tabelas!B:D,3,0),0),\"\")","v":12},{"$f":"IF(A29<>\"\",IFERROR(VLOOKUP(AC40,Tabelas!B:D,3,0),0),\"\")","v":0},{"$f":"IF(A29<>\"\",IFERROR(VLOOKUP(AD40,Tabelas!B:D,3,0),0),\"\")","v":0},{"$f":"IF(A29<>\"\",IFERROR(VLOOKUP(AE40,Tabelas!B:D,3,0),0),\"\")","v":0},{"$f":"IF(A29<>\"\",IFERROR(VLOOKUP(AF40,Tabelas!B:D,3,0),0),\"\")","v":0},{"$f":"IF(A29<>\"\",IFERROR(VLOOKUP(AG40,Tabelas!B:D,3,0),0),\"\")","v":0},{"$f":"IF(A29<>\"\",IFERROR(VLOOKUP(AH40,Tabelas!B:D,3,0),0),\"\")","v":12},{"$f":"IF(A29<>\"\",IFERROR(VLOOKUP(AI40,Tabelas!B:D,3,0),0),\"\")","v":0},{"$f":"IF(A29<>\"\",IFERROR(VLOOKUP(AJ40,Tabelas!B:D,3,0),0),\"\")","v":12},{"$f":"IF(A29<>\"\",IFERROR(VLOOKUP(AK40,Tabelas!B:D,3,0),0),\"\")","v":12},{"$f":"IF(A29<>\"\",IFERROR(VLOOKUP(AL40,Tabelas!B:D,3,0),0),\"\")","v":0},{"$f":"IF(A29<>\"\",IFERROR(VLOOKUP(AM40,Tabelas!B:D,3,0),0),\"\")","v":0},{"$f":"IF(A29<>\"\",IFERROR(VLOOKUP(AN40,Tabelas!B:D,3,0),0),\"\")","v":12},{"$f":"IF(A29<>\"\",IFERROR(VLOOKUP(AO40,Tabelas!B:D,3,0),0),\"\")","v":0},{"$f":"IF(A29<>\"\",IFERROR(VLOOKUP(#REF!,Tabelas!B:D,3,0),0),\"\")","v":0},{"$f":"IF(A29<>\"\",IFERROR(VLOOKUP(#REF!,Tabelas!B:D,3,0),0),\"\")","v":0}]
["Maria José Fidelis",1160287,41671,"TENF","RJU",30,null,null,null,null,null,null,"N8",null,null,"N8",null,null,"N8",null,null,"N8",null,null,"N8",null,null,"N8",null,null,"N8",null,null,"N8",null,null,"N8",null,null,"N8",null,null,{"$f":"IF(#REF!<>\"\",IFERROR(VLOOKUP(M41,Tabelas!B:D,3,0),0),\"\")","v":{"$error":"#REF!"}},{"$f":"IF(#REF!<>\"\",IFERROR(VLOOKUP(N41,Tabelas!B:D,3,0),0),\"\")","v":{"$error":"#REF!"}},{"$f":"IF(#REF!<>\"\",IFERROR(VLOOKUP(O41,Tabelas!B:D,3,0),0),\"\")","v":{"$error":"#REF!"}},{"$f":"IF(#REF!<>\"\",IFERROR(VLOOKUP(P41,Tabelas!B:D,3,0),0),\"\")","v":{"$error":"#REF!"}},{"$f":"IF(#REF!<>\"\",IFERROR(VLOOKUP(Q41,Tabelas!B:D,3,0),0),\"\")","v":{"$error":"#REF!"}},{"$f":"IF(#REF!<>\"\",IFERROR(VLOOKUP(R41,Tabelas!B:D,3,0),0),\"\")","v":{"$error":"#REF!"}},{"$f":"IF(#REF!<>\"\",IFERROR(VLOOKUP(S41,Tabelas!B:D,3,0),0),\"\")","v":{"$error":"#REF!"}},{"$f":"IF(#REF!<>\"\",IFERROR(VLOOKUP(T41,Tabelas!B:D,3,0),0),\"\")","v":{"$error":"#REF!"}},{"$f":"IF(#REF!<>\"\",IFERROR(VLOOKUP(U41,Tabelas!B:D,3,0),0),\"\")","v":{"$error":"#REF!"}},{"$f":"IF(#REF!<>\"\",IFERROR(VLOOKUP(V41,Tabelas!B:D,3,0),0),\"\")","v":{"$error":"#REF!"}},{"$f":"IF(#REF!<>\"\",IFERROR(VLOOKUP(W41,Tabelas!B:D,3,0),0),\"\")","v":{"$error":"#REF!"}},{"$f":"IF(#REF!<>\"\",IFERROR(VLOOKUP(X41,Tabelas!B:D,3,0),0),\"\")","v":{"$error":"#REF!"}},{"$f":"IF(#REF!<>\"\",IFERROR(VLOOKUP(Y41,Tabelas!B:D,3,0),0),\"\")","v":{"$error":"#REF!"}},{"$f":"IF(#REF!<>\"\",IFERROR(VLOOKUP(Z41,Tabelas!B:D,3,0),0),\"\")","v":{"$error":"#REF!"}},{"$f":"IF(#REF!<>\"\",IFERROR(VLOOKUP(AA41,Tabelas!B:D,3,0),0),\"\")","v":{"$error":"#REF!"}},{"$f":"IF(#REF!<>\"\",IFERROR(VLOOKUP(AB41,Tabelas!B:D,3,0),0),\"\")","v":{"$error":"#REF!"}},{"$f":"IF(#REF!<>\"\",IFERROR(VLOOKUP(AC41,Tabelas!B:D,3,0),0),\"\")","v":{"$error":"#REF!"}},{"$f":"IF(#REF!<>\"\",IFERROR(VLOOKUP(AD41,Tabelas!B:D,3,0),0),\"\")","v":{"$error":"#REF!"}},{"$f":"IF(#REF!<>\"\",IFERROR(VLOOKUP(AE41,Tabelas!B:D,3,0),0),\"\")","v":{"$error":"#REF!"}},{"$f":"IF(#REF!<>\"\",IFERROR(VLOOKUP(AF41,Tabelas!B:D,3,0),0),\"\")","v":{"$error":"#REF!"}},{"$f":"IF(#REF!<>\"\",IFERROR(VLOOKUP(AG41,Tabelas!B:D,3,0),0),\"\")","v":{"$error":"#REF!"}},{"$f":"IF(#REF!<>\"\",IFERROR(VLOOKUP(AH41,Tabelas!B:D,3,0),0),\"\")","v":{"$error":"#REF!"}},{"$f":"IF(#REF!<>\"\",IFERROR(VLOOKUP(AI41,Tabelas!B:D,3,0),0),\"\")","v":{"$error":"#REF!"}},{"$f":"IF(#REF!<>\"\",IFERROR(VLOOKUP(AJ41,Tabelas!B:D,3,0),0),\"\")","v":{"$error":"#REF!"}},{"$f":"IF(#REF!<>\"\",IFERROR(VLOOKUP(AK41,Tabelas!B:D,3,0),0),\"\")","v":{"$error":"#REF!"}},{"$f":"IF(#REF!<>\"\",IFERROR(VLOOKUP(AL41,Tabelas!B:D,3,0),0),\"\")","v":{"$error":"#REF!"}},{"$f":"IF(#REF!<>\"\",IFERROR(VLOOKUP(AM41,Tabelas!B:D,3,0),0),\"\")","v":{"$error":"#REF!"}},{"$f":"IF(#REF!<>\"\",IFERROR(VLOOKUP(AN41,Tabelas!B:D,3,0),0),\"\")","v":{"$error":"#REF!"}},{"$f":"IF(#REF!<>\"\",IFERROR(VLOOKUP(AO41,Tabelas!B:D,3,0),0),\"\")","v":{"$error":"#REF!"}},{"$f":"IF(#REF!<>\"\",IFERROR(VLOOKUP(#REF!,Tabelas!B:D,3,0),0),\"\")","v":{"$error":"#REF!"}},{"$f":"IF(#REF!<>\"\",IFERROR(VLOOKUP(#REF!,Tabelas!B:D,3,0),0),\"\")","v":{"$error":"#REF!"}}]
["Nya Lhullier",3015309,1074525,"TENF","EBSERH",36,null,null,null,null,null,null,"N8",null,null,"N8",null,null,"N8",null,null,"N8",null,null,"N8","N8",null,"N8",null,null,"N8",null,null,"N8",null,null,"N8","N8",null,"AB",null,null,{"$f":"IF(A42<>\"\",IFERROR(VLOOKUP(M42,Tabelas!B:D,3,0),0),\"\")","v":12},{"$f":"IF(A42<>\"\",IFERROR(VLOOKUP(N42,Tabelas!B:D,3,0),0),\"\")","v":0},{"$f":"IF(A42<>\"\",IFERROR(VLOOKUP(O42,Tabelas!B:D,3,0),0),\"\")","v":0},{"$f":"IF(A42<>\"\",IFERROR(VLOOKUP(P42,Tabelas!B:D,3,0),0),\"\")","v":12},{"$f":"IF(A42<>\"\",IFERROR(VLOOKUP(Q42,Tabelas!B:D,3,0),0),\"\")","v":0},{"$f":"IF(A42<>\"\",IFERROR(VLOOKUP(R42,Tabelas!B:D,3,0),0),\"\")","v":0},{"$f":"IF(A42<>\"\",IFERROR(VLOOKUP(S42,Tabelas!B:D,3,0),0),\"\")","v":12},{"$f":"IF(A42<>\"\",IFERROR(VLOOKUP(T42,Tabelas!B:D,3,0),0),\"\")","v":0},{"$f":"IF(A42<>\"\",IFERROR(VLOOKUP(U42,Tabelas!B:D,3,0),0),\"\")","v":0},{"$f":"IF(A42<>\"\",IFERROR(VLOOKUP(V42,Tabelas!B:D,3,0),0),\"\")","v":12},{"$f":"IF(A42<>\"\",IFERROR(VLOOKUP(W42,Tabelas!B:D,3,0),0),\"\")","v":0},{"$f":"IF(A42<>\"\",IFERROR(VLOOKUP(X42,Tabelas!B:D,3,0),0),\"\")","v":0},{"$f":"IF(A42<>\"\",IFERROR(VLOOKUP(Y42,Tabelas!B:D,3,0),0),\"\")","v":12},{"$f":"IF(A42<>\"\",IFERROR(VLOOKUP(Z42,Tabelas!B:D,3,0),0),\"\")","v":12},{"$f":"IF(A42<>\"\",IFERROR(VLOOKUP(AA42,Tabelas!B:D,3,0),0),\"\")","v":0},{"$f":"IF(A42<>\"\",IFERROR(VLOOKUP(AB42,Tabelas!B:D,3,0),0),\"\")","v":12},{"$f":"IF(A42<>\"\",IFERROR(VLOOKUP(AC42,Tabelas!B:D,3,0),0),\"\")","v":0},{"$f":"IF(A42<>\"\",IFERROR(VLOOKUP(AD42,Tabelas!B:D,3,0),0),\"\")","v":0},{"$f":"IF(A42<>\"\",IFERROR(VLOOKUP(AE42,Tabelas!B:D,3,0),0),\"\")","v":12},{"$f":"IF(A42<>\"\",IFERROR(VLOOKUP(AF42,Tabelas!B:D,3,0),0),\"\")","v":0},{"$f":"IF(A42<>\"\",IFERROR(VLOOKUP(AG42,Tabelas!B:D,3,0),0),\"\")","v":0},{"$f":"IF(A42<>\"\",IFERROR(VLOOKUP(AH42,Tabelas!B:D,3,0),0),\"\")","v":12},{"$f":"IF(A42<>\"\",IFERROR(VLOOKUP(AI42,Tabelas!B:D,3,0),0),\"\")","v":0},{"$f":"IF(A42<>\"\",IFERROR(VLOOKUP(AJ42,Tabelas!B:D,3,0),0),\"\")","v":0},{"$f":"IF(A42<>\"\",IFERROR(VLOOKUP(AK42,Tabelas!B:D,3,0),0),\"\")","v":12},{"$f":"IF(A42<>\"\",IFERROR(VLOOKUP(AL42,Tabelas!B:D,3,0),0),\"\")","v":12},{"$f":"IF(A42<>\"\",IFERROR(VLOOKUP(AM42,Tabelas!B:D,3,0),0),\"\")","v":0},{"$f":"IF(A42<>\"\",IFERROR(VLOOKUP(AN42,Tabelas!B:D,3,0),0),\"\")","v":0},{"$f":"IF(A42<>\"\",IFERROR(VLOOKUP(AO42,Tabelas!B:D,3,0),0),\"\")","v":0},{"$f":"IF(A42<>\"\",IFERROR(VLOOKUP(#REF!,Tabelas!B:D,3,0),0),\"\")","v":0},{"$f":"IF(A42<>\"\",IFERROR(VLOOKUP(#REF!,Tabelas!B:D,3,0),0),\"\")","v":0}]
["Sandra Hilda Sobrinho",1160484,18621,"TENF","RJU",30,null,null,null,null,null,null,"Fe ","Fe ","Fe ","Fe ","Fe ","Fe ","Fe ","Fe ","Fe ","Fe ","Fe ","Fe ","Fe ","Fe ","Fe ","Fe ","Fe ","Fe ","Fe ","Fe ","Fe ","Fe ","Fe ","Fe ","Fe ","Fe ","Fe ","Fe ","Fe ","Fe "]
["Enfermeiros Diurno(CM1-Área Covid)"]
[" Gleber Fabiano Pires Silveira",32115954,264712,"ENF","EBSERH","ENF","EBSERH",36,null,null,null,null,null,"D6",null,"D6",null,"D6","DSR","D6",null,"D6",null,"D6","DSR","D6",null,"D6",null,"D6",null,"D6","DSR","D6",null,null,null,null,null,"DSR","Fe","Fe",null,{"$f":"IF(A43<>\"\",IFERROR(VLOOKUP(M43,Tabelas!B:D,3,0),0),\"\")","v":0},{"$f":"IF(A43<>\"\",IFERROR(VLOOKUP(N43,Tabelas!B:D,3,0),0),\"\")","v":0},{"$f":"IF(A43<>\"\",IFERROR(VLOOKUP(O43,Tabelas!B:D,3,0),0),\"\")","v":0},{"$f":"IF(A43<>\"\",IFERROR(VLOOKUP(P43,Tabelas!B:D,3,0),0),\"\")","v":0},{"$f":"IF(A43<>\"\",IFERROR(VLOOKUP(Q43,Tabelas!B:D,3,0),0),\"\")","v":0},{"$f":"IF(A43<>\"\",IFERROR(VLOOKUP(R43,Tabelas!B:D,3,0),0),\"\")","v":0},{"$f":"IF(A43<>\"\",IFERROR(VLOOKUP(S43,Tabelas!B:D,3,0),0),\"\")","v":0},{"$f":"IF(A43<>\"\",IFERROR(VLOOKUP(T43,Tabelas!B:D,3,0),0),\"\")","v":0},{"$f":"IF(A43<>\"\",IFERROR(VLOOKUP(U43,Tabelas!B:D,3,0),0),\"\")","v":0},{"$f":"IF(A43<>\"\",IFERROR(VLOOKUP(V43,Tabelas!B:D,3,0),0),\"\")","v":0},{"$f":"IF(A43<>\"\",IFERROR(VLOOKUP(W43,Tabelas!B:D,3,0),0),\"\")","v":0},{"$f":"IF(A43<>\"\",IFERROR(VLOOKUP(X43,Tabelas!B:D,3,0),0),\"\")","v":0},{"$f":"IF(A43<>\"\",IFERROR(VLOOKUP(Y43,Tabelas!B:D,3,0),0),\"\")","v":0},{"$f":"IF(A43<>\"\",IFERROR(VLOOKUP(Z43,Tabelas!B:D,3,0),0),\"\")","v":0},{"$f":"IF(A43<>\"\",IFERROR(VLOOKUP(AA43,Tabelas!B:D,3,0),0),\"\")","v":0},{"$f":"IF(A43<>\"\",IFERROR(VLOOKUP(AB43,Tabelas!B:D,3,0),0),\"\")","v":0},{"$f":"IF(A43<>\"\",IFERROR(VLOOKUP(AC43,Tabelas!B:D,3,0),0),\"\")","v":0},{"$f":"IF(A43<>\"\",IFERROR(VLOOKUP(AD43,Tabelas!B:D,3,0),0),\"\")","v":0},{"$f":"IF(A43<>\"\",IFERROR(VLOOKUP(AE43,Tabelas!B:D,3,0),0),\"\")","v":0},{"$f":"IF(A43<>\"\",IFERROR(VLOOKUP(AF43,Tabelas!B:D,3,0),0),\"\")","v":0},{"$f":"IF(A43<>\"\",IFERROR(VLOOKUP(AG43,Tabelas!B:D,3,0),0),\"\")","v":0},{"$f":"IF(A43<>\"\",IFERROR(VLOOKUP(AH43,Tabelas!B:D,3,0),0),\"\")","v":0},{"$f":"IF(A43<>\"\",IFERROR(VLOOKUP(AI43,Tabelas!B:D,3,0),0),\"\")","v":0},{"$f":"IF(A43<>\"\",IFERROR(VLOOKUP(AJ43,Tabelas!B:D,3,0),0),\"\")","v":0},{"$f":"IF(A43<>\"\",IFERROR(VLOOKUP(AK43,Tabelas!B:D,3,0),0),\"\")","v":0},{"$f":"IF(A43<>\"\",IFERROR(VLOOKUP(AL43,Tabelas!B:D,3,0),0),\"\")","v":0},{"$f":"IF(A43<>\"\",IFERROR(VLOOKUP(AM43,Tabelas!B:D,3,0),0),\"\")","v":0},{"$f":"IF(A43<>\"\",IFERROR(VLOOKUP(AN43,Tabelas!B:D,3,0),0),\"\")","v":0},{"$f":"IF(A43<>\"\",IFERROR(VLOOKUP(AO43,Tabelas!B:D,3,0),0),\"\")","v":0},{"$f":"IF(A43<>\"\",IFERROR(VLOOKUP(#REF!,Tabelas!B:D,3,0),0),\"\")","v":0}]
["Marineusa Meurer ",3197461,106321,"ENF","EBSERH","ENF","EBSERH",36,null,null,null,null,"D6",null,"D6",null,"D6",null,"DSR",null,"D6",null,"D6",null,"D6","DSR","D6",null,"D6",null,"D6",null,"DSR",null,null,null,"D6",null,"D6","DSR","D6"]
["Enfermeiros Noturno(CM1-Área Covid)",null,null,null,null,null,null,null,null,null,null,null,null,null,null,null,null,null,null,null,null,null,null,null,null,null,null,null,null,null,null,null,null,null,null,null,null,null,null,null,null,null,{"$f":"IF(#REF!<>\"\",IFERROR(VLOOKUP(M29,Tabelas!B:D,3,0),0),\"\")","v":{"$error":"#REF!"}},{"$f":"IF(#REF!<>\"\",IFERROR(VLOOKUP(N29,Tabelas!B:D,3,0),0),\"\")","v":{"$error":"#REF!"}},{"$f":"IF(#REF!<>\"\",IFERROR(VLOOKUP(O29,Tabelas!B:D,3,0),0),\"\")","v":{"$error":"#REF!"}},{"$f":"IF(#REF!<>\"\",IFERROR(VLOOKUP(P29,Tabelas!B:D,3,0),0),\"\")","v":{"$error":"#REF!"}},{"$f":"IF(#REF!<>\"\",IFERROR(VLOOKUP(Q29,Tabelas!B:D,3,0),0),\"\")","v":{"$error":"#REF!"}},{"$f":"IF(#REF!<>\"\",IFERROR(VLOOKUP(R29,Tabelas!B:D,3,0),0),\"\")","v":{"$error":"#REF!"}},{"$f":"IF(#REF!<>\"\",IFERROR(VLOOKUP(S29,Tabelas!B:D,3,0),0),\"\")","v":{"$error":"#REF!"}},{"$f":"IF(#REF!<>\"\",IFERROR(VLOOKUP(T29,Tabelas!B:D,3,0),0),\"\")","v":{"$error":"#REF!"}},{"$f":"IF(#REF!<>\"\",IFERROR(VLOOKUP(U29,Tabelas!B:D,3,0),0),\"\")","v":{"$error":"#REF!"}},{"$f":"IF(#REF!<>\"\",IFERROR(VLOOKUP(V29,Tabelas!B:D,3,0),0),\"\")","v":{"$error":"#REF!"}},{"$f":"IF(#REF!<>\"\",IFERROR(VLOOKUP(W29,Tabelas!B:D,3,0),0),\"\")","v":{"$error":"#REF!"}},{"$f":"IF(#REF!<>\"\",IFERROR(VLOOKUP(X29,Tabelas!B:D,3,0),0),\"\")","v":{"$error":"#REF!"}},{"$f":"IF(#REF!<>\"\",IFERROR(VLOOKUP(Y29,Tabelas!B:D,3,0),0),\"\")","v":{"$error":"#REF!"}},{"$f":"IF(#REF!<>\"\",IFERROR(VLOOKUP(Z29,Tabelas!B:D,3,0),0),\"\")","v":{"$error":"#REF!"}},{"$f":"IF(#REF!<>\"\",IFERROR(VLOOKUP(AA29,Tabelas!B:D,3,0),0),\"\")","v":{"$error":"#REF!"}},{"$f":"IF(#REF!<>\"\",IFERROR(VLOOKUP(AB29,Tabelas!B:D,3,0),0),\"\")","v":{"$error":"#REF!"}},{"$f":"IF(#REF!<>\"\",IFERROR(VLOOKUP(AC29,Tabelas!B:D,3,0),0),\"\")","v":{"$error":"#REF!"}},{"$f":"IF(#REF!<>\"\",IFERROR(VLOOKUP(AD29,Tabelas!B:D,3,0),0),\"\")","v":{"$error":"#REF!"}},{"$f":"IF(#REF!<>\"\",IFERROR(VLOOKUP(AE29,Tabelas!B:D,3,0),0),\"\")","v":{"$error":"#REF!"}},{"$f":"IF(#REF!<>\"\",IFERROR(VLOOKUP(AF29,Tabelas!B:D,3,0),0),\"\")","v":{"$error":"#REF!"}},{"$f":"IF(#REF!<>\"\",IFERROR(VLOOKUP(AG29,Tabelas!B:D,3,0),0),\"\")","v":{"$error":"#REF!"}},{"$f":"IF(#REF!<>\"\",IFERROR(VLOOKUP(AH29,Tabelas!B:D,3,0),0),\"\")","v":{"$error":"#REF!"}},{"$f":"IF(#REF!<>\"\",IFERROR(VLOOKUP(AI29,Tabelas!B:D,3,0),0),\"\")","v":{"$error":"#REF!"}},{"$f":"IF(#REF!<>\"\",IFERROR(VLOOKUP(AJ29,Tabelas!B:D,3,0),0),\"\")","v":{"$error":"#REF!"}},{"$f":"IF(#REF!<>\"\",IFERROR(VLOOKUP(AK29,Tabelas!B:D,3,0),0),\"\")","v":{"$error":"#REF!"}},{"$f":"IF(#REF!<>\"\",IFERROR(VLOOKUP(AL29,Tabelas!B:D,3,0),0),\"\")","v":{"$error":"#REF!"}},{"$f":"IF(#REF!<>\"\",IFERROR(VLOOKUP(AM29,Tabelas!B:D,3,0),0),\"\")","v":{"$error":"#REF!"}},{"$f":"IF(#REF!<>\"\",IFERROR(VLOOKUP(AN29,Tabelas!B:D,3,0),0),\"\")","v":{"$error":"#REF!"}},{"$f":"IF(#REF!<>\"\",IFERROR(VLOOKUP(AO29,Tabelas!B:D,3,0),0),\"\")","v":{"$error":"#REF!"}},{"$f":"IF(#REF!<>\"\",IFERROR(VLOOKUP(#REF!,Tabelas!B:D,3,0),0),\"\")","v":{"$error":"#REF!"}},{"$f":"IF(#REF!<>\"\",IFERROR(VLOOKUP(#REF!,Tabelas!B:D,3,0),0),\"\")","v":{"$error":"#REF!"}}]
["Maria Aparecida V. Texeira",144947,96696,"ENF","EBSERH","ENF","EBSERH",36,null,null,null,null,"L    ","L","L","L","L","L","L","L","L","L","L","L","L","L","L","L","L","L","L","L","L","L","L","L","L","L","L","L","L","L"]
["Rosilei da Silva da Rosa",305207,70769,"ENF","EBSERH","ENF","EBSERH",36,null,null,null,null,null,null,"N8",null,"N8",null,null,null,"N8",null,"N8",null,"N8",null,"N8",null,null,"N8",null,"N8",null,"N8",null,"N8",null,"N8",null,null,null,"N8"]
["Técnicos/Auxiliares de Enfermagem Diurno( CM1-Área Covid)"]
["Aline Vasconcelos Brasil",106810,222199,"TENF","EBSERH",36,null,null,null,null,null,null,"L","L","L","L","L","L","L","L","L","L","L","L","L","L","L","L","L","L","L","L","L","L","L","L","L","L","L","L","L","L"]
["Claudia de Fatima da Silva",319270,745418,"TENF","EBSERH",36,null,null,null,null,null,null,null,"D6",null,"D6",null,"D6","DSR","D6",null,"D6",null,null,"DSR","D6",null,"D6",null,"D6",null,null,"DSR","D6",null,"D6",null,null,"DSR","D6",null,"D6"]
["Débora Ferreira Ouriques",3229896,777601,"TEnf","EBSERH",36,null,null,null,null,null,null,null,"D6",null,null,null,"D6","DSR","D6",null,"D6",null,"D6",null,"DSR",null,"D6",null,"D6",null,"D6","DSR",null,null,"D6",null,"D6","DSR","D6",null,"D6"]
["Sandra da Silva",3212871,331896,"TENF","EBSERH",36,null,null,null,null,null,null,"D6","DSR","D6",null,"D6",null,null,null,"D6",null,"D6",null,null,"DSR","D6",null,"D6",null,null,null,"D6",null,"D6",null,"D6",null,"D6",null,"D6"]
["Tatiane Garcia",3203906,150563,"TENF","EBSERH",36,null,null,null,null,null,null,null,null,"D6",null,"D6","DRS","D6",null,"D6",null,"D6",null,"D6","DRS","D6",null,"D6",null,"D6",null,"DSR",null,null,null,"CH-12",null,"AB","DSR","AB"]
[]
["Técnicos/Auxiliares de Enfermagem Noturno( CM1-Área Covid)"]
["Cirley Silva",319257,9686,"TENF","EBSERH",36,null,null,null,null,null,null,"Fe ","Fe ","Fe ","Fe ","Fe ","Fe ","Fe ","Fe ","Fe ","Fe ","Fe ","Fe ","N8",null,null,"N8",null,null,"N8",null,null,"N8",null,null,"N8",null,null,"N8",null,"N8"]
["Viviane Fátima França",621762,3219709,"TENF","EBSERH",36,null,null,null,null,null,null,"N8",null,null,"N8",null,null,"N8",null,"N8","N8",null,null,"CH-12",null,null,"N8",null,"N8","N8",null,null,"N8",null,null,"N8",null,null,"N8"]
["Jeferson Kiewel",3133515,839357,"TENF","EBSERH",36,null,null,null,null,null,null,"N8","N8",null,"N8",null,null,"N8",null,null,"N8",null,null,"N8",null,null,"N8",null,null,"N8",null,null,"N8",null,"N8",null,null,"N8",null,"N8"]
["Rejane Borges Boeira",319040,275911,"TENF","EBSERH",36,null,null,null,null,null,null,null,null,"N8",null,"N8","N8",null,null,"N8",null,null,"N8",null,null,"N8",null,"N8","N8",null,null,"N8",null,null,"N8",null,null,"N8",null,null,"N8"]
["Maria Lucicleide Silva Modesto",319040,376149,"TENF","EBSERH",36,null,null,null,null,null,null,"N8",null,"N8","N8",null,"N8",null,null,"N8",null,null,"N8",null,"N8","N8",null,null,"N8",null,null,"N8",null,"N8",null,null,null,null,null,null,"N8"]
["Lusardo Lopes Peres",319259,206136,"TENF","EBSERH",36,null,null,null,null,null,null,null,"N8","N8",null,"N8",null,null,"N8",null,"N8","N8",null,null,"N8",null,null,"N8",null,null,"N8",null,null,"N8",null,null,"N8",null,null,"N8",null,{"$f":"IF(A49<>\"\",IFERROR(VLOOKUP(M63,Tabelas!B:D,3,0),0),\"\")","v":0},{"$f":"IF(A49<>\"\",IFERROR(VLOOKUP(N63,Tabelas!B:D,3,0),0),\"\")","v":12},{"$f":"IF(A49<>\"\",IFERROR(VLOOKUP(O63,Tabelas!B:D,3,0),0),\"\")","v":12},{"$f":"IF(A49<>\"\",IFERROR(VLOOKUP(P63,Tabelas!B:D,3,0),0),\"\")","v":0},{"$f":"IF(A49<>\"\",IFERROR(VLOOKUP(Q63,Tabelas!B:D,3,0),0),\"\")","v":12},{"$f":"IF(A49<>\"\",IFERROR(VLOOKUP(R63,Tabelas!B:D,3,0),0),\"\")","v":0},{"$f":"IF(A49<>\"\",IFERROR(VLOOKUP(S63,Tabelas!B:D,3,0),0),\"\")","v":0},{"$f":"IF(A49<>\"\",IFERROR(VLOOKUP(T63,Tabelas!B:D,3,0),0),\"\")","v":12},{"$f":"IF(A49<>\"\",IFERROR(VLOOKUP(U63,Tabelas!B:D,3,0),0),\"\")","v":0},{"$f":"IF(A49<>\"\",IFERROR(VLOOKUP(V63,Tabelas!B:D,3,0),0),\"\")","v":12},{"$f":"IF(A49<>\"\",IFERROR(VLOOKUP(W63,Tabelas!B:D,3,0),0),\"\")","v":12},{"$f":"IF(A49<>\"\",IFERROR(VLOOKUP(X63,Tabelas!B:D,3,0),0),\"\")","v":0},{"$f":"IF(A49<>\"\",IFERROR(VLOOKUP(Y63,Tabelas!B:D,3,0),0),\"\")","v":0},{"$f":"IF(A49<>\"\",IFERROR(VLOOKUP(Z63,Tabelas!B:D,3,0),0),\"\")","v":12},{"$f":"IF(A49<>\"\",IFERROR(VLOOKUP(AA63,Tabelas!B:D,3,0),0),\"\")","v":0},{"$f":"IF(A49<>\"\",IFERROR(VLOOKUP(AB63,Tabelas!B:D,3,0),0),\"\")","v":0},{"$f":"IF(A49<>\"\",IFERROR(VLOOKUP(AC63,Tabelas!B:D,3,0),0),\"\")","v":12},{"$f":"IF(A49<>\"\",IFERROR(VLOOKUP(AD63,Tabelas!B:D,3,0),0),\"\")","v":0},{"$f":"IF(A49<>\"\",IFERROR(VLOOKUP(AE63,Tabelas!B:D,3,0),0),\"\")","v":0},{"$f":"IF(A49<>\"\",IFERROR(VLOOKUP(AF63,Tabelas!B:D,3,0),0),\"\")","v":12},{"$f":"IF(A49<>\"\",IFERROR(VLOOKUP(AG63,Tabelas!B:D,3,0),0),\"\")","v":0},{"$f":"IF(A49<>\"\",IFERROR(VLOOKUP(AH63,Tabelas!B:D,3,0),0),\"\")","v":0},{"$f":"IF(A49<>\"\",IFERROR(VLOOKUP(AI63,Tabelas!B:D,3,0),0),\"\")","v":12},{"$f":"IF(A49<>\"\",IFERROR(VLOOKUP(AJ63,Tabelas!B:D,3,0),0),\"\")","v":0},{"$f":"IF(A49<>\"\",IFERROR(VLOOKUP(AK63,Tabelas!B:D,3,0),0),\"\")","v":0},{"$f":"IF(A49<>\"\",IFERROR(VLOOKUP(AL63,Tabelas!B:D,3,0),0),\"\")","v":12},{"$f":"IF(A49<>\"\",IFERROR(VLOOKUP(AM63,Tabelas!B:D,3,0),0),\"\")","v":0},{"$f":"IF(A49<>\"\",IFERROR(VLOOKUP(AN63,Tabelas!B:D,3,0),0),\"\")","v":0},{"$f":"IF(A49<>\"\",IFERROR(VLOOKUP(AO63,Tabelas!B:D,3,0),0),\"\")","v":12},{"$f":"IF(A49<>\"\",IFERROR(VLOOKUP(#REF!,Tabelas!B:D,3,0),0),\"\")","v":0},{"$f":"IF(A49<>\"\",IFERROR(VLOOKUP(#REF!,Tabelas!B:D,3,0),0),\"\")","v":0}]
["Débora Silva Viegas ",3212418,403955,"TENF","EBSERH",36,null,null,null,null,null,null,null,"N8",null,null,"N8",null,null,"N8",null,null,"N8","N8",null,"N8",null,null,"N8",null,null,"N8",null,null,"N8",null,"N8","N8",null,null,"N8"]
["TOTAL PROFISSIONAIS MATUTINO",null,null,null,null,null,null,null,null,null,null,null,{"$f":"IF(COUNTIF(M36:M64,\"M*\")+ COUNTIF(M36:M64, \"D*\")-COUNTIF(M36:M64,\"DSR\")<>0,COUNTIF(M36:M64,\"M*\")+ COUNTIF(M36:M64, \"D*\")-COUNTIF(M36:M64,\"DSR\"),\"\")","v":2},{"$f":"IF(COUNTIF(N36:N64,\"M*\")+ COUNTIF(N36:N64, \"D*\")-COUNTIF(N36:N64,\"DSR\")<>0,COUNTIF(N36:N64,\"M*\")+ COUNTIF(N36:N64, \"D*\")-COUNTIF(N36:N64,\"DSR\"),\"\")","v":3},3,{"$f":"IF(COUNTIF(P36:P64,\"M*\")+ COUNTIF(P36:P64, \"D*\")-COUNTIF(P36:P64,\"DSR\")<>0,COUNTIF(P36:P64,\"M*\")+ COUNTIF(P36:P64, \"D*\")-COUNTIF(P36:P64,\"DSR\"),\"\")","v":2},3,4,1,3,3,3,3,2,2,3,3,3,3,3,2,2,1,2,1,2,2,1,2,2,2,2,{"$f":"IF(A65<>\"\",IFERROR(VLOOKUP(M65,Tabelas!B:D,3,0),0),\"\")","v":0},{"$f":"IF(A65<>\"\",IFERROR(VLOOKUP(N65,Tabelas!B:D,3,0),0),\"\")","v":0},{"$f":"IF(A65<>\"\",IFERROR(VLOOKUP(O65,Tabelas!B:D,3,0),0),\"\")","v":0},{"$f":"IF(A65<>\"\",IFERROR(VLOOKUP(P65,Tabelas!B:D,3,0),0),\"\")","v":0},{"$f":"IF(A65<>\"\",IFERROR(VLOOKUP(Q65,Tabelas!B:D,3,0),0),\"\")","v":0},{"$f":"IF(A65<>\"\",IFERROR(VLOOKUP(R65,Tabelas!B:D,3,0),0),\"\")","v":0},{"$f":"IF(A65<>\"\",IFERROR(VLOOKUP(S65,Tabelas!B:D,3,0),0),\"\")","v":0},{"$f":"IF(A65<>\"\",IFERROR(VLOOKUP(T65,Tabelas!B:D,3,0),0),\"\")","v":0},{"$f":"IF(A65<>\"\",IFERROR(VLOOKUP(U65,Tabelas!B:D,3,0),0),\"\")","v":0},{"$f":"IF(A65<>\"\",IFERROR(VLOOKUP(V65,Tabelas!B:D,3,0),0),\"\")","v":0},{"$f":"IF(A65<>\"\",IFERROR(VLOOKUP(W65,Tabelas!B:D,3,0),0),\"\")","v":0},{"$f":"IF(A65<>\"\",IFERROR(VLOOKUP(X65,Tabelas!B:D,3,0),0),\"\")","v":0},{"$f":"IF(A65<>\"\",IFERROR(VLOOKUP(Y65,Tabelas!B:D,3,0),0),\"\")","v":0},{"$f":"IF(A65<>\"\",IFERROR(VLOOKUP(Z65,Tabelas!B:D,3,0),0),\"\")","v":0},{"$f":"IF(A65<>\"\",IFERROR(VLOOKUP(AA65,Tabelas!B:D,3,0),0),\"\")","v":0},{"$f":"IF(A65<>\"\",IFERROR(VLOOKUP(AB65,Tabelas!B:D,3,0),0),\"\")","v":0},{"$f":"IF(A65<>\"\",IFERROR(VLOOKUP(AC65,Tabelas!B:D,3,0),0),\"\")","v":0},{"$f":"IF(A65<>\"\",IFERROR(VLOOKUP(AD65,Tabelas!B:D,3,0),0),\"\")","v":0},{"$f":"IF(A65<>\"\",IFERROR(VLOOKUP(AE65,Tabelas!B:D,3,0),0),\"\")","v":0},{"$f":"IF(A65<>\"\",IFERROR(VLOOKUP(AF65,Tabelas!B:D,3,0),0),\"\")","v":0},{"$f":"IF(A65<>\"\",IFERROR(VLOOKUP(AG65,Tabelas!B:D,3,0),0),\"\")","v":0},{"$f":"IF(A65<>\"\",IFERROR(VLOOKUP(AH65,Tabelas!B:D,3,0),0),\"\")","v":0},{"$f":"IF(A65<>\"\",IFERROR(VLOOKUP(AI65,Tabelas!B:D,3,0),0),\"\")","v":0},{"$f":"IF(A65<>\"\",IFERROR(VLOOKUP(AJ65,Tabelas!B:D,3,0),0),\"\")","v":0},{"$f":"IF(A65<>\"\",IFERROR(VLOOKUP(AK65,Tabelas!B:D,3,0),0),\"\")","v":0},{"$f":"IF(A65<>\"\",IFERROR(VLOOKUP(AL65,Tabelas!B:D,3,0),0),\"\")","v":0},{"$f":"IF(A65<>\"\",IFERROR(VLOOKUP(AM65,Tabelas!B:D,3,0),0),\"\")","v":0},{"$f":"IF(A65<>\"\",IFERROR(VLOOKUP(AN65,Tabelas!B:D,3,0),0),\"\")","v":0},{"$f":"IF(A65<>\"\",IFERROR(VLOOKUP(AO65,Tabelas!B:D,3,0),0),\"\")","v":0},{"$f":"IF(A65<>\"\",IFERROR(VLOOKUP(AP65,Tabelas!B:D,3,0),0),\"\")","v":0},{"$f":"IF(A65<>\"\",IFERROR(VLOOKUP(#REF!,Tabelas!B:D,3,0),0),\"\")","v":0}]
["TOTAL DE PROFISSIONAIS VESPERTINO",null,null,null,null,null,null,null,null,null,null,null,{"$f":"IF(COUNTIF(M36:M64,\"MT*\") + COUNTIF(M36:M64, \"D*\") + COUNTIF(M36:M64,\"T*\")-COUNTIF(M36:M64,\"DSR\")<>0,COUNTIF(M36:M64,\"MT*\") + COUNTIF(M36:M64, \"D*\") + COUNTIF(M36:M64,\"T*\")-COUNTIF(M36:M64,\"DSR\"),\"\")","v":2},{"$f":"IF(COUNTIF(N36:N64,\"MT*\") + COUNTIF(N36:N64, \"D*\") + COUNTIF(N36:N64,\"T*\")-COUNTIF(N36:N64,\"DSR\")<>0,COUNTIF(N36:N64,\"MT*\") + COUNTIF(N36:N64, \"D*\") + COUNTIF(N36:N64,\"T*\")-COUNTIF(N36:N64,\"DSR\"),\"\")","v":3},3,{"$f":"IF(COUNTIF(P36:P64,\"MT*\") + COUNTIF(P36:P64, \"D*\") + COUNTIF(P36:P64,\"T*\")-COUNTIF(P36:P64,\"DSR\")<>0,COUNTIF(P36:P64,\"MT*\") + COUNTIF(P36:P64, \"D*\") + COUNTIF(P36:P64,\"T*\")-COUNTIF(P36:P64,\"DSR\"),\"\")","v":2},3,4,1,3,3,3,3,2,2,3,3,3,3,3,2,2,1,2,1,2,2,1,2,2,2,2,{"$f":"IF(A66<>\"\",IFERROR(VLOOKUP(M66,Tabelas!B:D,3,0),0),\"\")","v":0},{"$f":"IF(A66<>\"\",IFERROR(VLOOKUP(N66,Tabelas!B:D,3,0),0),\"\")","v":0},{"$f":"IF(A66<>\"\",IFERROR(VLOOKUP(O66,Tabelas!B:D,3,0),0),\"\")","v":0},{"$f":"IF(A66<>\"\",IFERROR(VLOOKUP(P66,Tabelas!B:D,3,0),0),\"\")","v":0},{"$f":"IF(A66<>\"\",IFERROR(VLOOKUP(Q66,Tabelas!B:D,3,0),0),\"\")","v":0},{"$f":"IF(A66<>\"\",IFERROR(VLOOKUP(R66,Tabelas!B:D,3,0),0),\"\")","v":0},{"$f":"IF(A66<>\"\",IFERROR(VLOOKUP(S66,Tabelas!B:D,3,0),0),\"\")","v":0},{"$f":"IF(A66<>\"\",IFERROR(VLOOKUP(T66,Tabelas!B:D,3,0),0),\"\")","v":0},{"$f":"IF(A66<>\"\",IFERROR(VLOOKUP(U66,Tabelas!B:D,3,0),0),\"\")","v":0},{"$f":"IF(A66<>\"\",IFERROR(VLOOKUP(V66,Tabelas!B:D,3,0),0),\"\")","v":0},{"$f":"IF(A66<>\"\",IFERROR(VLOOKUP(W66,Tabelas!B:D,3,0),0),\"\")","v":0},{"$f":"IF(A66<>\"\",IFERROR(VLOOKUP(X66,Tabelas!B:D,3,0),0),\"\")","v":0},{"$f":"IF(A66<>\"\",IFERROR(VLOOKUP(Y66,Tabelas!B:D,3,0),0),\"\")","v":0},{"$f":"IF(A66<>\"\",IFERROR(VLOOKUP(Z66,Tabelas!B:D,3,0),0),\"\")","v":0},{"$f":"IF(A66<>\"\",IFERROR(VLOOKUP(AA66,Tabelas!B:D,3,0),0),\"\")","v":0},{"$f":"IF(A66<>\"\",IFERROR(VLOOKUP(AB66,Tabelas!B:D,3,0),0),\"\")","v":0},{"$f":"IF(A66<>\"\",IFERROR(VLOOKUP(AC66,Tabelas!B:D,3,0),0),\"\")","v":0},{"$f":"IF(A66<>\"\",IFERROR(VLOOKUP(AD66,Tabelas!B:D,3,0),0),\"\")","v":0},{"$f":"IF(A66<>\"\",IFERROR(VLOOKUP(AE66,Tabelas!B:D,3,0),0),\"\")","v":0},{"$f":"IF(A66<>\"\",IFERROR(VLOOKUP(AF66,Tabelas!B:D,3,0),0),\"\")","v":0},{"$f":"IF(A66<>\"\",IFERROR(VLOOKUP(AG66,Tabelas!B:D,3,0),0),\"\")","v":0},{"$f":"IF(A66<>\"\",IFERROR(VLOOKUP(AH66,Tabelas!B:D,3,0),0),\"\")","v":0},{"$f":"IF(A66<>\"\",IFERROR(VLOOKUP(AI66,Tabelas!B:D,3,0),0),\"\")","v":0},{"$f":"IF(A66<>\"\",IFERROR(VLOOKUP(AJ66,Tabelas!B:D,3,0),0),\"\")","v":0},{"$f":"IF(A66<>\"\",IFERROR(VLOOKUP(AK66,Tabelas!B:D,3,0),0),\"\")","v":0},{"$f":"IF(A66<>\"\",IFERROR(VLOOKUP(AL66,Tabelas!B:D,3,0),0),\"\")","v":0},{"$f":"IF(A66<>\"\",IFERROR(VLOOKUP(AM66,Tabelas!B:D,3,0),0),\"\")","v":0},{"$f":"IF(A66<>\"\",IFERROR(VLOOKUP(AN66,Tabelas!B:D,3,0),0),\"\")","v":0},{"$f":"IF(A66<>\"\",IFERROR(VLOOKUP(AO66,Tabelas!B:D,3,0),0),\"\")","v":0},{"$f":"IF(A66<>\"\",IFERROR(VLOOKUP(AP66,Tabelas!B:D,3,0),0),\"\")","v":0},{"$f":"IF(A66<>\"\",IFERROR(VLOOKUP(#REF!,Tabelas!B:D,3,0),0),\"\")","v":0}]
["TOTAL DE PROFISSIONAIS NOTURNO",null,null,null,null,null,null,null,null,null,null,null,{"$f":"IF(COUNTIF(M36:M66,\"N?*\") + COUNTIF(M36:M66, \"DN*\")<>0,COUNTIF(M36:M66,\"N?*\") + COUNTIF(M36:M66, \"DN*\"),\"\")","v":6},5,5,6,6,3,5,5,5,6,6,4,6,7,4,6,6,5,5,6,3,7,6,5,6,7,3,4,6,5,{"$f":"IF(A67<>\"\",IFERROR(VLOOKUP(M67,Tabelas!B:D,3,0),0),\"\")","v":0},{"$f":"IF(A67<>\"\",IFERROR(VLOOKUP(N67,Tabelas!B:D,3,0),0),\"\")","v":0},{"$f":"IF(A67<>\"\",IFERROR(VLOOKUP(O67,Tabelas!B:D,3,0),0),\"\")","v":0},{"$f":"IF(A67<>\"\",IFERROR(VLOOKUP(P67,Tabelas!B:D,3,0),0),\"\")","v":0},{"$f":"IF(A67<>\"\",IFERROR(VLOOKUP(Q67,Tabelas!B:D,3,0),0),\"\")","v":0},{"$f":"IF(A67<>\"\",IFERROR(VLOOKUP(R67,Tabelas!B:D,3,0),0),\"\")","v":0},{"$f":"IF(A67<>\"\",IFERROR(VLOOKUP(S67,Tabelas!B:D,3,0),0),\"\")","v":0},{"$f":"IF(A67<>\"\",IFERROR(VLOOKUP(T67,Tabelas!B:D,3,0),0),\"\")","v":0},{"$f":"IF(A67<>\"\",IFERROR(VLOOKUP(U67,Tabelas!B:D,3,0),0),\"\")","v":0},{"$f":"IF(A67<>\"\",IFERROR(VLOOKUP(V67,Tabelas!B:D,3,0),0),\"\")","v":0},{"$f":"IF(A67<>\"\",IFERROR(VLOOKUP(W67,Tabelas!B:D,3,0),0),\"\")","v":0},{"$f":"IF(A67<>\"\",IFERROR(VLOOKUP(X67,Tabelas!B:D,3,0),0),\"\")","v":0},{"$f":"IF(A67<>\"\",IFERROR(VLOOKUP(Y67,Tabelas!B:D,3,0),0),\"\")","v":0},{"$f":"IF(A67<>\"\",IFERROR(VLOOKUP(Z67,Tabelas!B:D,3,0),0),\"\")","v":0},{"$f":"IF(A67<>\"\",IFERROR(VLOOKUP(AA67,Tabelas!B:D,3,0),0),\"\")","v":0},{"$f":"IF(A67<>\"\",IFERROR(VLOOKUP(AB67,Tabelas!B:D,3,0),0),\"\")","v":0},{"$f":"IF(A67<>\"\",IFERROR(VLOOKUP(AC67,Tabelas!B:D,3,0),0),\"\")","v":0},{"$f":"IF(A67<>\"\",IFERROR(VLOOKUP(AD67,Tabelas!B:D,3,0),0),\"\")","v":0},{"$f":"IF(A67<>\"\",IFERROR(VLOOKUP(AE67,Tabelas!B:D,3,0),0),\"\")","v":0},{"$f":"IF(A67<>\"\",IFERROR(VLOOKUP(AF67,Tabelas!B:D,3,0),0),\"\")","v":0},{"$f":"IF(A67<>\"\",IFERROR(VLOOKUP(AG67,Tabelas!B:D,3,0),0),\"\")","v":0},{"$f":"IF(A67<>\"\",IFERROR(VLOOKUP(AH67,Tabelas!B:D,3,0),0),\"\")","v":0},{"$f":"IF(A67<>\"\",IFERROR(VLOOKUP(AI67,Tabelas!B:D,3,0),0),\"\")","v":0},{"$f":"IF(A67<>\"\",IFERROR(VLOOKUP(AJ67,Tabelas!B:D,3,0),0),\"\")","v":0},{"$f":"IF(A67<>\"\",IFERROR(VLOOKUP(AK67,Tabelas!B:D,3,0),0),\"\")","v":0},{"$f":"IF(A67<>\"\",IFERROR(VLOOKUP(AL67,Tabelas!B:D,3,0),0),\"\")","v":0},{"$f":"IF(A67<>\"\",IFERROR(VLOOKUP(AM67,Tabelas!B:D,3,0),0),\"\")","v":0},{"$f":"IF(A67<>\"\",IFERROR(VLOOKUP(AN67,Tabelas!B:D,3,0),0),\"\")","v":0},{"$f":"IF(A67<>\"\",IFERROR(VLOOKUP(AO67,Tabelas!B:D,3,0),0),\"\")","v":0},{"$f":"IF(A67<>\"\",IFERROR(VLOOKUP(AP67,Tabelas!B:D,3,0),0),\"\")","v":0},{"$f":"IF(A67<>\"\",IFERROR(VLOOKUP(#REF!,Tabelas!B:D,3,0),0),\"\")","v":0}]
[null,null,null,null,null,null,null,null,null,null,null,null,null,null,null,null,null,null,null,null,null,null,null,null,null,null,null,null,null,null,null,null,null,null,null,null,null,null,null,null,null,null,{"$f":"IF(A68<>\"\",IFERROR(VLOOKUP(M68,Tabelas!B:D,3,0),0),\"\")","v":""},{"$f":"IF(A68<>\"\",IFERROR(VLOOKUP(N68,Tabelas!B:D,3,0),0),\"\")","v":""},{"$f":"IF(A68<>\"\",IFERROR(VLOOKUP(O68,Tabelas!B:D,3,0),0),\"\")","v":""},{"$f":"IF(A68<>\"\",IFERROR(VLOOKUP(P68,Tabelas!B:D,3,0),0),\"\")","v":""},{"$f":"IF(A68<>\"\",IFERROR(VLOOKUP(Q68,Tabelas!B:D,3,0),0),\"\")","v":""},{"$f":"IF(A68<>\"\",IFERROR(VLOOKUP(R68,Tabelas!B:D,3,0),0),\"\")","v":""},{"$f":"IF(A68<>\"\",IFERROR(VLOOKUP(S68,Tabelas!B:D,3,0),0),\"\")","v":""},{"$f":"IF(A68<>\"\",IFERROR(VLOOKUP(T68,Tabelas!B:D,3,0),0),\"\")","v":""},{"$f":"IF(A68<>\"\",IFERROR(VLOOKUP(U68,Tabelas!B:D,3,0),0),\"\")","v":""},{"$f":"IF(A68<>\"\",IFERROR(VLOOKUP(V68,Tabelas!B:D,3,0),0),\"\")","v":""},{"$f":"IF(A68<>\"\",IFERROR(VLOOKUP(W68,Tabelas!B:D,3,0),0),\"\")","v":""},{"$f":"IF(A68<>\"\",IFERROR(VLOOKUP(X68,Tabelas!B:D,3,0),0),\"\")","v":""},{"$f":"IF(A68<>\"\",IFERROR(VLOOKUP(Y68,Tabelas!B:D,3,0),0),\"\")","v":""},{"$f":"IF(A68<>\"\",IFERROR(VLOOKUP(Z68,Tabelas!B:D,3,0),0),\"\")","v":""},{"$f":"IF(A68<>\"\",IFERROR(VLOOKUP(AA68,Tabelas!B:D,3,0),0),\"\")","v":""},{"$f":"IF(A68<>\"\",IFERROR(VLOOKUP(AB68,Tabelas!B:D,3,0),0),\"\")","v":""},{"$f":"IF(A68<>\"\",IFERROR(VLOOKUP(AC68,Tabelas!B:D,3,0),0),\"\")","v":""},{"$f":"IF(A68<>\"\",IFERROR(VLOOKUP(AD68,Tabelas!B:D,3,0),0),\"\")","v":""},{"$f":"IF(A68<>\"\",IFERROR(VLOOKUP(AE68,Tabelas!B:D,3,0),0),\"\")","v":""},{"$f":"IF(A68<>\"\",IFERROR(VLOOKUP(AF68,Tabelas!B:D,3,0),0),\"\")","v":""},{"$f":"IF(A68<>\"\",IFERROR(VLOOKUP(AG68,Tabelas!B:D,3,0),0),\"\")","v":""},{"$f":"IF(A68<>\"\",IFERROR(VLOOKUP(AH68,Tabelas!B:D,3,0),0),\"\")","v":""},{"$f":"IF(A68<>\"\",IFERROR(VLOOKUP(AI68,Tabelas!B:D,3,0),0),\"\")","v":""},{"$f":"IF(A68<>\"\",IFERROR(VLOOKUP(AJ68,Tabelas!B:D,3,0),0),\"\")","v":""},{"$f":"IF(A68<>\"\",IFERROR(VLOOKUP(AK68,Tabelas!B:D,3,0),0),\"\")","v":""},{"$f":"IF(A68<>\"\",IFERROR(VLOOKUP(AL68,Tabelas!B:D,3,0),0),\"\")","v":""},{"$f":"IF(A68<>\"\",IFERROR(VLOOKUP(AM68,Tabelas!B:D,3,0),0),\"\")","v":""},{"$f":"IF(A68<>\"\",IFERROR(VLOOKUP(AN68,Tabelas!B:D,3,0),0),\"\")","v":""},{"$f":"IF(A68<>\"\",IFERROR(VLOOKUP(AO68,Tabelas!B:D,3,0),0),\"\")","v":""},{"$f":"IF(A68<>\"\",IFERROR(VLOOKUP(#REF!,Tabelas!B:D,3,0),0),\"\")","v":""},{"$f":"IF(A68<>\"\",IFERROR(VLOOKUP(#REF!,Tabelas!B:D,3,0),0),\"\")","v":""}]
["Legenda:"]
["Licença Maternidade","LM","Férias",null,null,null,null,null,null,"FE",null,"Ponto Facultativo",null,null,null,null,null,null,null,"PF","Manhã *",null,null,null,null,null,null,"M","Diurno (8 hrs) *",null,null,null,null,null,null,"MT"]
["Licença Paternidade","LP","Feriado",null,null,null,null,null,null,"FD",null,"Abono **",null,null,null,null,null,null,null,"AB","Tarde *",null,null,null,null,null,null,"T","Dia/ noite (24 hrs) *",null,null,null,null,null,null,"DN"]
["Licença Médica/Odontológica","L","Descanso Semanal Remunerado",null,null,null,null,null,null,"DSR",null,"Compensação de Horas***",null,null,null,null,null,null,null,"CH","Plantão Dia (12 hrs) *",null,null,null,null,null,null,"D"]
["Licença Capacitação","LC","Recesso",null,null,null,null,null,null,"RC",null,"Afastamento**",null,null,null,null,null,null,null,"AF","Plantão Noite (12 hrs) *",null,null,null,null,null,null,"N"]
[]
["OBSERVAÇÕES:"]
["* Para inserção das legendas referentes às jornadas de trabalho, verificar a Tabela 1 do Anexo do Memorando-Circular - SEI nº   25 /2018/CAP/DGP-EBSERH."]
["** Para inserção das legendas referentes aos Afastamentos previstos em lei e às Compensações de horas, verificar a Tabela 2 do Anexo do Memorando-Circular - SEI nº   25 /2018/CAP/DGP-EBSERH."]

{"sheet":"Julho","index":6,"n_rows":48,"n_cols":83,"rows_kept":48,"cut":false,"hidden":false,"merged":[[1,0,1,43],[3,0,3,43],[4,2,4,21],[4,24,4,35],[4,38,4,43],[5,7,5,12],[5,13,5,43],[5,44,5,74],[5,75,7,75],[5,76,5,82],[6,76,7,76],[6,77,7,77],[6,78,7,78],[6,79,7,79],[6,82,7,82],[35,80,37,80],[35,81,37,81],[35,82,37,82],[6,80,7,80],[6,81,7,81],[35,75,37,75],[35,76,37,76],[35,77,37,77],[35,78,37,78],[35,79,37,79],[41,29,41,35],[42,3,42,9],[42,10,42,11],[42,12,42,19],[42,21,42,27],[43,3,43,9],[43,10,43,11],[43,12,43,19],[43,21,43,27],[6,7,7,7],[6,8,7,8],[6,9,7,9],[6,10,7,10],[6,11,7,11],[6,12,7,12],[41,3,41,9],[41,10,41,11],[41,12,41,19],[41,21,41,27]]}
[]
[]
[" "]
["ESCALA MENSAL DE TRABALHO"]
["DIVISÃO /SETOR/UNIDADE:",null,null,null,null,null,null,null,null,null,null,null,null,null,null,null,null,null,null,null,null,null,"MÊS:",null,"Julho",null,null,null,null,null,null,null,null,null,null,null,"ANO:",null,2020]
["NOME COMPLETO",null,"SIAPE","     Registro Conselho Classe","Cargo","Vínculo","    C.H Sem","INTERVALO",null,null,null,null,null,"DIAS DO MÊS",null,null,null,null,null,null,null,null,null,null,null,null,null,null,null,null,null,null,null,null,null,null,null,null,null,null,null,null,null,null,"CÁLCULO DAS HORAS",null,null,null,null,null,null,null,null,null,null,null,null,null,null,null,null,null,null,null,null,null,null,null,null,null,null,null,null,null,null,"CH Men.","Dias"]
[null,null,null,null,null,null,null,"15' M","15' T","15' N","1H D","1H N","2H",1,2,3,4,5,6,7,8,9,10,11,12,13,14,15,16,17,18,19,20,21,22,23,24,25,{"$f":"IF(DAY(DATE(AM5,VLOOKUP(Y5,Tabelas!M:N,2,0)+1,1)-1)>=26,26,\"\")","v":26},{"$f":"IF(DAY(DATE(AM5,VLOOKUP(Y5,Tabelas!M:N,2,0)+1,1)-1)>=27,27,\"\")","v":27},{"$f":"IF(DAY(DATE(AM5,VLOOKUP(Y5,Tabelas!M:N,2,0)+1,1)-1)>=28,28,\"\")","v":28},{"$f":"IF(DAY(DATE(AM5,VLOOKUP(Y5,Tabelas!M:N,2,0)+1,1)-1)>=29,29,\"\")","v":29},{"$f":"IF(DAY(DATE(AM5,VLOOKUP(Y5,Tabelas!M:N,2,0)+1,1)-1)>=30,30,\"\")","v":30},{"$f":"IF(DAY(DATE(AM5,VLOOKUP(Y5,Tabelas!M:N,2,0)+1,1)-1)>=31,31,\"\")","v":31},null,null,null,null,null,null,null,null,null,null,null,null,null,null,null,null,null,null,null,null,null,null,null,null,null,null,null,null,null,null,null,null,"LM/LP/L","AB","FE","LC","CH","AF  "," Total Afast."]
[null,null,null,null,null,null,null,null,null,null,null,null,null,{"$f":"IF(N7<>\"\",IFERROR(VLOOKUP(WEEKDAY(CONCATENATE(N7,$Y$5,$AM$5)),Tabelas!$I:$J,2,0),\"\"),\"\")","v":"QUA"},{"$f":"IF(O7<>\"\",IFERROR(VLOOKUP(WEEKDAY(CONCATENATE(O7,$Y$5,$AM$5)),Tabelas!$I:$J,2,0),\"\"),\"\")","v":"QUI"},{"$f":"IF(P7<>\"\",IFERROR(VLOOKUP(WEEKDAY(CONCATENATE(P7,$Y$5,$AM$5)),Tabelas!$I:$J,2,0),\"\"),\"\")","v":"SEX"},{"$f":"IF(Q7<>\"\",IFERROR(VLOOKUP(WEEKDAY(CONCATENATE(Q7,$Y$5,$AM$5)),Tabelas!$I:$J,2,0),\"\"),\"\")","v":"SAB"},{"$f":"IF(R7<>\"\",IFERROR(VLOOKUP(WEEKDAY(CONCATENATE(R7,$Y$5,$AM$5)),Tabelas!$I:$J,2,0),\"\"),\"\")","v":"DOM"},{"$f":"IF(S7<>\"\",IFERROR(VLOOKUP(WEEKDAY(CONCATENATE(S7,$Y$5,$AM$5)),Tabelas!$I:$J,2,0),\"\"),\"\")","v":"SEG"},{"$f":"IF(T7<>\"\",IFERROR(VLOOKUP(WEEKDAY(CONCATENATE(T7,$Y$5,$AM$5)),Tabelas!$I:$J,2,0),\"\"),\"\")","v":"TER"},{"$f":"IF(U7<>\"\",IFERROR(VLOOKUP(WEEKDAY(CONCATENATE(U7,$Y$5,$AM$5)),Tabelas!$I:$J,2,0),\"\"),\"\")","v":"QUA"},{"$f":"IF(V7<>\"\",IFERROR(VLOOKUP(WEEKDAY(CONCATENATE(V7,$Y$5,$AM$5)),Tabelas!$I:$J,2,0),\"\"),\"\")","v":"QUI"},{"$f":"IF(W7<>\"\",IFERROR(VLOOKUP(WEEKDAY(CONCATENATE(W7,$Y$5,$AM$5)),Tabelas!$I:$J,2,0),\"\"),\"\")","v":"SEX"},{"$f":"IF(X7<>\"\",IFERROR(VLOOKUP(WEEKDAY(CONCATENATE(X7,$Y$5,$AM$5)),Tabelas!$I:$J,2,0),\"\"),\"\")","v":"SAB"},{"$f":"IF(Y7<>\"\",IFERROR(VLOOKUP(WEEKDAY(CONCATENATE(Y7,$Y$5,$AM$5)),Tabelas!$I:$J,2,0),\"\"),\"\")","v":"DOM"},{"$f":"IF(Z7<>\"\",IFERROR(VLOOKUP(WEEKDAY(CONCATENATE(Z7,$Y$5,$AM$5)),Tabelas!$I:$J,2,0),\"\"),\"\")","v":"SEG"},{"$f":"IF(AA7<>\"\",IFERROR(VLOOKUP(WEEKDAY(CONCATENATE(AA7,$Y$5,$AM$5)),Tabelas!$I:$J,2,0),\"\"),\"\")","v":"TER"},{"$f":"IF(AB7<>\"\",IFERROR(VLOOKUP(WEEKDAY(CONCATENATE(AB7,$Y$5,$AM$5)),Tabelas!$I:$J,2,0),\"\"),\"\")","v":"QUA"},{"$f":"IF(AC7<>\"\",IFERROR(VLOOKUP(WEEKDAY(CONCATENATE(AC7,$Y$5,$AM$5)),Tabelas!$I:$J,2,0),\"\"),\"\")","v":"QUI"},{"$f":"IF(AD7<>\"\",IFERROR(VLOOKUP(WEEKDAY(CONCATENATE(AD7,$Y$5,$AM$5)),Tabelas!$I:$J,2,0),\"\"),\"\")","v":"SEX"},{"$f":"IF(AE7<>\"\",IFERROR(VLOOKUP(WEEKDAY(CONCATENATE(AE7,$Y$5,$AM$5)),Tabelas!$I:$J,2,0),\"\"),\"\")","v":"SAB"},{"$f":"IF(AF7<>\"\",IFERROR(VLOOKUP(WEEKDAY(CONCATENATE(AF7,$Y$5,$AM$5)),Tabelas!$I:$J,2,0),\"\"),\"\")","v":"DOM"},{"$f":"IF(AG7<>\"\",IFERROR(VLOOKUP(WEEKDAY(CONCATENATE(AG7,$Y$5,$AM$5)),Tabelas!$I:$J,2,0),\"\"),\"\")","v":"SEG"},{"$f":"IF(AH7<>\"\",IFERROR(VLOOKUP(WEEKDAY(CONCATENATE(AH7,$Y$5,$AM$5)),Tabelas!$I:$J,2,0),\"\"),\"\")","v":"TER"},{"$f":"IF(AI7<>\"\",IFERROR(VLOOKUP(WEEKDAY(CONCATENATE(AI7,$Y$5,$AM$5)),Tabelas!$I:$J,2,0),\"\"),\"\")","v":"QUA"},{"$f":"IF(AJ7<>\"\",IFERROR(VLOOKUP(WEEKDAY(CONCATENATE(AJ7,$Y$5,$AM$5)),Tabelas!$I:$J,2,0),\"\"),\"\")","v":"QUI"},{"$f":"IF(AK7<>\"\",IFERROR(VLOOKUP(WEEKDAY(CONCATENATE(AK7,$Y$5,$AM$5)),Tabelas!$I:$J,2,0),\"\"),\"\")","v":"SEX"},{"$f":"IF(AL7<>\"\",IFERROR(VLOOKUP(WEEKDAY(CONCATENATE(AL7,$Y$5,$AM$5)),Tabelas!$I:$J,2,0),\"\"),\"\")","v":"SAB"},{"$f":"IF(AM7<>\"\",IFERROR(VLOOKUP(WEEKDAY(CONCATENATE(AM7,$Y$5,$AM$5)),Tabelas!$I:$J,2,0),\"\"),\"\")","v":"DOM"},{"$f":"IF(AN7<>\"\",IFERROR(VLOOKUP(WEEKDAY(CONCATENATE(AN7,$Y$5,$AM$5)),Tabelas!$I:$J,2,0),\"\"),\"\")","v":"SEG"},{"$f":"IF(AO7<>\"\",IFERROR(VLOOKUP(WEEKDAY(CONCATENATE(AO7,$Y$5,$AM$5)),Tabelas!$I:$J,2,0),\"\"),\"\")","v":"TER"},{"$f":"IF(AP7<>\"\",IFERROR(VLOOKUP(WEEKDAY(CONCATENATE(AP7,$Y$5,$AM$5)),Tabelas!$I:$J,2,0),\"\"),\"\")","v":"QUA"},{"$f":"IF(AQ7<>\"\",IFERROR(VLOOKUP(WEEKDAY(CONCATENATE(AQ7,$Y$5,$AM$5)),Tabelas!$I:$J,2,0),\"\"),\"\")","v":"QUI"},{"$f":"IF(AR7<>\"\",IFERROR(VLOOKUP(WEEKDAY(CONCATENATE(AR7,$Y$5,$AM$5)),Tabelas!$I:$J,2,0),\"\"),\"\")","v":"SEX"},1,2,3,4,5,6,7,8,9,10,11,12,13,14,15,16,17,18,19,20,21,22,23,24,25,26,27,28,29,30,31]
["Marcello Maciel Nogueira (Enf Ref)",null,1,null,null,null,null,null,null,null,null,null,null,"D6","M15","M15",null,null,"M15","M15","M15","M15","D6",null,null,"D6","M5","M15","M15","D6",null,null,"M15","M15","M15","M15","D6",null,null,"M15","M15","M15","M15","M15",{"$f":"IF(A9<>\"\",IFERROR(VLOOKUP(N9,Tabelas!B:D,3,0),0),\"\")","v":12},{"$f":"IF(A9<>\"\",IFERROR(VLOOKUP(O9,Tabelas!B:D,3,0),0),\"\")","v":6},{"$f":"IF(A9<>\"\",IFERROR(VLOOKUP(P9,Tabelas!B:D,3,0),0),\"\")","v":6},{"$f":"IF(A9<>\"\",IFERROR(VLOOKUP(Q9,Tabelas!B:D,3,0),0),\"\")","v":0},{"$f":"IF(A9<>\"\",IFERROR(VLOOKUP(R9,Tabelas!B:D,3,0),0),\"\")","v":0},{"$f":"IF(A9<>\"\",IFERROR(VLOOKUP(S9,Tabelas!B:D,3,0),0),\"\")","v":6},{"$f":"IF(A9<>\"\",IFERROR(VLOOKUP(T9,Tabelas!B:D,3,0),0),\"\")","v":6},{"$f":"IF(A9<>\"\",IFERROR(VLOOKUP(U9,Tabelas!B:D,3,0),0),\"\")","v":6},{"$f":"IF(A9<>\"\",IFERROR(VLOOKUP(V9,Tabelas!B:D,3,0),0),\"\")","v":6},{"$f":"IF(A9<>\"\",IFERROR(VLOOKUP(W9,Tabelas!B:D,3,0),0),\"\")","v":12},{"$f":"IF(A9<>\"\",IFERROR(VLOOKUP(X9,Tabelas!B:D,3,0),0),\"\")","v":0},{"$f":"IF(A9<>\"\",IFERROR(VLOOKUP(Y9,Tabelas!B:D,3,0),0),\"\")","v":0},{"$f":"IF(A9<>\"\",IFERROR(VLOOKUP(Z9,Tabelas!B:D,3,0),0),\"\")","v":12},{"$f":"IF(A9<>\"\",IFERROR(VLOOKUP(AA9,Tabelas!B:D,3,0),0),\"\")","v":0},{"$f":"IF(A9<>\"\",IFERROR(VLOOKUP(AB9,Tabelas!B:D,3,0),0),\"\")","v":6},{"$f":"IF(A9<>\"\",IFERROR(VLOOKUP(AC9,Tabelas!B:D,3,0),0),\"\")","v":6},{"$f":"IF(A9<>\"\",IFERROR(VLOOKUP(AD9,Tabelas!B:D,3,0),0),\"\")","v":12},{"$f":"IF(A9<>\"\",IFERROR(VLOOKUP(AE9,Tabelas!B:D,3,0),0),\"\")","v":0},{"$f":"IF(A9<>\"\",IFERROR(VLOOKUP(AF9,Tabelas!B:D,3,0),0),\"\")","v":0},{"$f":"IF(A9<>\"\",IFERROR(VLOOKUP(AG9,Tabelas!B:D,3,0),0),\"\")","v":6},{"$f":"IF(A9<>\"\",IFERROR(VLOOKUP(AH9,Tabelas!B:D,3,0),0),\"\")","v":6},{"$f":"IF(A9<>\"\",IFERROR(VLOOKUP(AI9,Tabelas!B:D,3,0),0),\"\")","v":6},{"$f":"IF(A9<>\"\",IFERROR(VLOOKUP(AJ9,Tabelas!B:D,3,0),0),\"\")","v":6},{"$f":"IF(A9<>\"\",IFERROR(VLOOKUP(AK9,Tabelas!B:D,3,0),0),\"\")","v":12},{"$f":"IF(A9<>\"\",IFERROR(VLOOKUP(AL9,Tabelas!B:D,3,0),0),\"\")","v":0},{"$f":"IF(A9<>\"\",IFERROR(VLOOKUP(AM9,Tabelas!B:D,3,0),0),\"\")","v":0},{"$f":"IF(A9<>\"\",IFERROR(VLOOKUP(AN9,Tabelas!B:D,3,0),0),\"\")","v":6},{"$f":"IF(A9<>\"\",IFERROR(VLOOKUP(AO9,Tabelas!B:D,3,0),0),\"\")","v":6},{"$f":"IF(A9<>\"\",IFERROR(VLOOKUP(AP9,Tabelas!B:D,3,0),0),\"\")","v":6},{"$f":"IF(A9<>\"\",IFERROR(VLOOKUP(AQ9,Tabelas!B:D,3,0),0),\"\")","v":6},{"$f":"IF(A9<>\"\",IFERROR(VLOOKUP(AR9,Tabelas!B:D,3,0),0),\"\")","v":6},{"$f":"IF(AND(A9<>\"\",F9=\"Ebserh\"),SUM(AS9:BW9)+COUNTIF(N9:AR9,\"N*\")+COUNTIF(N9:AR9,\"DN*\"),IF(AND(A9<>\"\",F9<>\"Ebserh\"),SUM(AS9:BW9),\"\"))","v":162},{"$f":"IF(A9<>\"\",COUNTIF(N9:AR9,\"LM\")+COUNTIF(N9:AR9,\"L\")+COUNTIF(N9:AR9,\"LP\"),\"\")","v":0},{"$f":"IF(A9<>\"\",COUNTIF(N9:AR9,\"AB*\"),\"\")","v":0},{"$f":"IF(A9<>\"\",COUNTIF(N9:AR9,\"FE\"),\"\")","v":0},{"$f":"IF(A9<>\"\",COUNTIF(N9:AR9,\"LC\"),\"\")","v":0},{"$f":"IF(A9<>\"\",COUNTIF(N9:AR9,\"CH*\"),\"\")","v":0},{"$f":"IF(A9<>\"\",COUNTIF(N9:AR9,\"AF1\")+COUNTIF(N9:AR9,\"AF2\")+COUNTIF(N9:AR9,\"AF3\")+COUNTIF(N9:AR9,\"AF4\")+COUNTIF(N9:AR9,\"AF5\")+COUNTIF(N9:AR9,\"AF6\")+COUNTIF(N9:AR9,\"AF7\")+COUNTIF(N9:AR9,\"AF8\")+COUNTIF(N9:AR9,\"AF9\")+COUNTIF(N9:AR9,\"AF10\")+COUNTIF(N9:AR9,\"AF11\")+COUNTIF(N9:AR9,\"AF12\")+COUNTIF(N9:AR9,\"AF13\")+COUNTIF(N9:AR9,\"AF14\"),\"\")","v":0},{"$f":"IF(A9<>\"\",COUNTIF(N9:AR9,\"CH*\")+COUNTIF(N9:AR9,\"L\")+COUNTIF(N9:AR9,\"LM\")+COUNTIF(N9:AR9,\"LP\")+COUNTIF(N9:AR9,\"LC\")+COUNTIF(N9:AR9,\"AB*\")+COUNTIF(N9:AR9,\"AF1\")+COUNTIF(N9:AR9,\"AF2\")+COUNTIF(N9:AR9,\"AF3\")+COUNTIF(N9:AR9,\"AF4\")+COUNTIF(N9:AR9,\"AF5\")+COUNTIF(N9:AR9,\"AF6\")+COUNTIF(N9:AR9,\"AF7\")+COUNTIF(N9:AR9,\"AF8\")+COUNTIF(N9:AR9,\"AF9\")+COUNTIF(N9:AR9,\"AF10\")+COUNTIF(N9:AR9,\"AF11\")+COUNTIF(N9:AR9,\"AF12\")+COUNTIF(N9:AR9,\"AF13\")+COUNTIF(N9:AR9,\"AF14\")+COUNTIF(N9:AR9,\"RC\")+COUNTIF(N9:AR9,\"FO\")+COUNTIF(N9:AR9,\"FE\"),\"\")","v":0}]
["Adriano José Barbosa",null,2,null,null,null,null,null,null,null,null,null,null,"D6",null,"D6",null,"D6",null,"D6",null,"D6",null,"FO","DSR","D6",null,"D6",null,"D6",null,"D6",null,"M15",null,"D6",null,"D6",null,"D6",null,"D6",null,null,{"$f":"IF(A10<>\"\",IFERROR(VLOOKUP(N10,Tabelas!B:D,3,0),0),\"\")","v":12},{"$f":"IF(A10<>\"\",IFERROR(VLOOKUP(O10,Tabelas!B:D,3,0),0),\"\")","v":0},{"$f":"IF(A10<>\"\",IFERROR(VLOOKUP(P10,Tabelas!B:D,3,0),0),\"\")","v":12},{"$f":"IF(A10<>\"\",IFERROR(VLOOKUP(Q10,Tabelas!B:D,3,0),0),\"\")","v":0},{"$f":"IF(A10<>\"\",IFERROR(VLOOKUP(R10,Tabelas!B:D,3,0),0),\"\")","v":12},{"$f":"IF(A10<>\"\",IFERROR(VLOOKUP(S10,Tabelas!B:D,3,0),0),\"\")","v":0},{"$f":"IF(A10<>\"\",IFERROR(VLOOKUP(T10,Tabelas!B:D,3,0),0),\"\")","v":12},{"$f":"IF(A10<>\"\",IFERROR(VLOOKUP(U10,Tabelas!B:D,3,0),0),\"\")","v":0},{"$f":"IF(A10<>\"\",IFERROR(VLOOKUP(V10,Tabelas!B:D,3,0),0),\"\")","v":12},{"$f":"IF(A10<>\"\",IFERROR(VLOOKUP(W10,Tabelas!B:D,3,0),0),\"\")","v":0},{"$f":"IF(A10<>\"\",IFERROR(VLOOKUP(X10,Tabelas!B:D,3,0),0),\"\")","v":0},{"$f":"IF(A10<>\"\",IFERROR(VLOOKUP(Y10,Tabelas!B:D,3,0),0),\"\")","v":0},{"$f":"IF(A10<>\"\",IFERROR(VLOOKUP(Z10,Tabelas!B:D,3,0),0),\"\")","v":12},{"$f":"IF(A10<>\"\",IFERROR(VLOOKUP(AA10,Tabelas!B:D,3,0),0),\"\")","v":0},{"$f":"IF(A10<>\"\",IFERROR(VLOOKUP(AB10,Tabelas!B:D,3,0),0),\"\")","v":12},{"$f":"IF(A10<>\"\",IFERROR(VLOOKUP(AC10,Tabelas!B:D,3,0),0),\"\")","v":0},{"$f":"IF(A10<>\"\",IFERROR(VLOOKUP(AD10,Tabelas!B:D,3,0),0),\"\")","v":12},{"$f":"IF(A10<>\"\",IFERROR(VLOOKUP(AE10,Tabelas!B:D,3,0),0),\"\")","v":0},{"$f":"IF(A10<>\"\",IFERROR(VLOOKUP(AF10,Tabelas!B:D,3,0),0),\"\")","v":12},{"$f":"IF(A10<>\"\",IFERROR(VLOOKUP(AG10,Tabelas!B:D,3,0),0),\"\")","v":0},{"$f":"IF(A10<>\"\",IFERROR(VLOOKUP(AH10,Tabelas!B:D,3,0),0),\"\")","v":6},{"$f":"IF(A10<>\"\",IFERROR(VLOOKUP(AI10,Tabelas!B:D,3,0),0),\"\")","v":0},{"$f":"IF(A10<>\"\",IFERROR(VLOOKUP(AJ10,Tabelas!B:D,3,0),0),\"\")","v":12},{"$f":"IF(A10<>\"\",IFERROR(VLOOKUP(AK10,Tabelas!B:D,3,0),0),\"\")","v":0},{"$f":"IF(A10<>\"\",IFERROR(VLOOKUP(AL10,Tabelas!B:D,3,0),0),\"\")","v":12},{"$f":"IF(A10<>\"\",IFERROR(VLOOKUP(AM10,Tabelas!B:D,3,0),0),\"\")","v":0},{"$f":"IF(A10<>\"\",IFERROR(VLOOKUP(AN10,Tabelas!B:D,3,0),0),\"\")","v":12},{"$f":"IF(A10<>\"\",IFERROR(VLOOKUP(AO10,Tabelas!B:D,3,0),0),\"\")","v":0},{"$f":"IF(A10<>\"\",IFERROR(VLOOKUP(AP10,Tabelas!B:D,3,0),0),\"\")","v":12},{"$f":"IF(A10<>\"\",IFERROR(VLOOKUP(AQ10,Tabelas!B:D,3,0),0),\"\")","v":0},{"$f":"IF(A10<>\"\",IFERROR(VLOOKUP(AR10,Tabelas!B:D,3,0),0),\"\")","v":0},162,0,0,0,0,0,0,1]
["Benoni Sidinei Brizolla",null,3,null,null,null,null,null,null,null,null,null,null,"D6",null,"D6",null,"D6",null,"D6",null,"D6",null,"D6",null,"D6",null,"D6",null,"D6","FO","DSR",null,"D6",null,"D6",null,"D6",null,"D6",null,"M15",null,null,{"$f":"IF(A11<>\"\",IFERROR(VLOOKUP(N11,Tabelas!B:D,3,0),0),\"\")","v":12},{"$f":"IF(A11<>\"\",IFERROR(VLOOKUP(O11,Tabelas!B:D,3,0),0),\"\")","v":0},{"$f":"IF(A11<>\"\",IFERROR(VLOOKUP(P11,Tabelas!B:D,3,0),0),\"\")","v":12},{"$f":"IF(A11<>\"\",IFERROR(VLOOKUP(Q11,Tabelas!B:D,3,0),0),\"\")","v":0},{"$f":"IF(A11<>\"\",IFERROR(VLOOKUP(R11,Tabelas!B:D,3,0),0),\"\")","v":12},{"$f":"IF(A11<>\"\",IFERROR(VLOOKUP(S11,Tabelas!B:D,3,0),0),\"\")","v":0},{"$f":"IF(A11<>\"\",IFERROR(VLOOKUP(T11,Tabelas!B:D,3,0),0),\"\")","v":12},{"$f":"IF(A11<>\"\",IFERROR(VLOOKUP(U11,Tabelas!B:D,3,0),0),\"\")","v":0},{"$f":"IF(A11<>\"\",IFERROR(VLOOKUP(V11,Tabelas!B:D,3,0),0),\"\")","v":12},{"$f":"IF(A11<>\"\",IFERROR(VLOOKUP(W11,Tabelas!B:D,3,0),0),\"\")","v":0},{"$f":"IF(A11<>\"\",IFERROR(VLOOKUP(X11,Tabelas!B:D,3,0),0),\"\")","v":12},{"$f":"IF(A11<>\"\",IFERROR(VLOOKUP(Y11,Tabelas!B:D,3,0),0),\"\")","v":0},{"$f":"IF(A11<>\"\",IFERROR(VLOOKUP(Z11,Tabelas!B:D,3,0),0),\"\")","v":12},{"$f":"IF(A11<>\"\",IFERROR(VLOOKUP(AA11,Tabelas!B:D,3,0),0),\"\")","v":0},{"$f":"IF(A11<>\"\",IFERROR(VLOOKUP(AB11,Tabelas!B:D,3,0),0),\"\")","v":12},{"$f":"IF(A11<>\"\",IFERROR(VLOOKUP(AC11,Tabelas!B:D,3,0),0),\"\")","v":0},{"$f":"IF(A11<>\"\",IFERROR(VLOOKUP(AD11,Tabelas!B:D,3,0),0),\"\")","v":12},{"$f":"IF(A11<>\"\",IFERROR(VLOOKUP(AE11,Tabelas!B:D,3,0),0),\"\")","v":0},{"$f":"IF(A11<>\"\",IFERROR(VLOOKUP(AF11,Tabelas!B:D,3,0),0),\"\")","v":0},{"$f":"IF(A11<>\"\",IFERROR(VLOOKUP(AG11,Tabelas!B:D,3,0),0),\"\")","v":0},{"$f":"IF(A11<>\"\",IFERROR(VLOOKUP(AH11,Tabelas!B:D,3,0),0),\"\")","v":12},{"$f":"IF(A11<>\"\",IFERROR(VLOOKUP(AI11,Tabelas!B:D,3,0),0),\"\")","v":0},{"$f":"IF(A11<>\"\",IFERROR(VLOOKUP(AJ11,Tabelas!B:D,3,0),0),\"\")","v":12},{"$f":"IF(A11<>\"\",IFERROR(VLOOKUP(AK11,Tabelas!B:D,3,0),0),\"\")","v":0},{"$f":"IF(A11<>\"\",IFERROR(VLOOKUP(AL11,Tabelas!B:D,3,0),0),\"\")","v":12},{"$f":"IF(A11<>\"\",IFERROR(VLOOKUP(AM11,Tabelas!B:D,3,0),0),\"\")","v":0},{"$f":"IF(A11<>\"\",IFERROR(VLOOKUP(AN11,Tabelas!B:D,3,0),0),\"\")","v":12},{"$f":"IF(A11<>\"\",IFERROR(VLOOKUP(AO11,Tabelas!B:D,3,0),0),\"\")","v":0},{"$f":"IF(A11<>\"\",IFERROR(VLOOKUP(AP11,Tabelas!B:D,3,0),0),\"\")","v":6},{"$f":"IF(A11<>\"\",IFERROR(VLOOKUP(AQ11,Tabelas!B:D,3,0),0),\"\")","v":0},{"$f":"IF(A11<>\"\",IFERROR(VLOOKUP(AR11,Tabelas!B:D,3,0),0),\"\")","v":0},162,0,0,0,0,0,0,1]
["Denise Pereira Neto Stasiak",null,4,null,null,null,null,null,null,null,null,null,null,null,"D6",null,"D6",null,"D6",null,"D6",null,null,"D6","D6",null,"D6",null,"M15",null,"FO","DSR",null,"D6",null,"D6",null,null,"D6",null,"D6",null,"D6","D6",{"$f":"IF(A12<>\"\",IFERROR(VLOOKUP(N12,Tabelas!B:D,3,0),0),\"\")","v":0},{"$f":"IF(A12<>\"\",IFERROR(VLOOKUP(O12,Tabelas!B:D,3,0),0),\"\")","v":12},{"$f":"IF(A12<>\"\",IFERROR(VLOOKUP(P12,Tabelas!B:D,3,0),0),\"\")","v":0},{"$f":"IF(A12<>\"\",IFERROR(VLOOKUP(Q12,Tabelas!B:D,3,0),0),\"\")","v":12},{"$f":"IF(A12<>\"\",IFERROR(VLOOKUP(R12,Tabelas!B:D,3,0),0),\"\")","v":0},{"$f":"IF(A12<>\"\",IFERROR(VLOOKUP(S12,Tabelas!B:D,3,0),0),\"\")","v":12},{"$f":"IF(A12<>\"\",IFERROR(VLOOKUP(T12,Tabelas!B:D,3,0),0),\"\")","v":0},{"$f":"IF(A12<>\"\",IFERROR(VLOOKUP(U12,Tabelas!B:D,3,0),0),\"\")","v":12},{"$f":"IF(A12<>\"\",IFERROR(VLOOKUP(V12,Tabelas!B:D,3,0),0),\"\")","v":0},{"$f":"IF(A12<>\"\",IFERROR(VLOOKUP(W12,Tabelas!B:D,3,0),0),\"\")","v":0},{"$f":"IF(A12<>\"\",IFERROR(VLOOKUP(X12,Tabelas!B:D,3,0),0),\"\")","v":12},{"$f":"IF(A12<>\"\",IFERROR(VLOOKUP(Y12,Tabelas!B:D,3,0),0),\"\")","v":12},{"$f":"IF(A12<>\"\",IFERROR(VLOOKUP(Z12,Tabelas!B:D,3,0),0),\"\")","v":0},{"$f":"IF(A12<>\"\",IFERROR(VLOOKUP(AA12,Tabelas!B:D,3,0),0),\"\")","v":12},{"$f":"IF(A12<>\"\",IFERROR(VLOOKUP(AB12,Tabelas!B:D,3,0),0),\"\")","v":0},{"$f":"IF(A12<>\"\",IFERROR(VLOOKUP(AC12,Tabelas!B:D,3,0),0),\"\")","v":6},{"$f":"IF(A12<>\"\",IFERROR(VLOOKUP(AD12,Tabelas!B:D,3,0),0),\"\")","v":0},{"$f":"IF(A12<>\"\",IFERROR(VLOOKUP(AE12,Tabelas!B:D,3,0),0),\"\")","v":0},{"$f":"IF(A12<>\"\",IFERROR(VLOOKUP(AF12,Tabelas!B:D,3,0),0),\"\")","v":0},{"$f":"IF(A12<>\"\",IFERROR(VLOOKUP(AG12,Tabelas!B:D,3,0),0),\"\")","v":0},{"$f":"IF(A12<>\"\",IFERROR(VLOOKUP(AH12,Tabelas!B:D,3,0),0),\"\")","v":12},{"$f":"IF(A12<>\"\",IFERROR(VLOOKUP(AI12,Tabelas!B:D,3,0),0),\"\")","v":0},{"$f":"IF(A12<>\"\",IFERROR(VLOOKUP(AJ12,Tabelas!B:D,3,0),0),\"\")","v":12},{"$f":"IF(A12<>\"\",IFERROR(VLOOKUP(AK12,Tabelas!B:D,3,0),0),\"\")","v":0},{"$f":"IF(A12<>\"\",IFERROR(VLOOKUP(AL12,Tabelas!B:D,3,0),0),\"\")","v":0},{"$f":"IF(A12<>\"\",IFERROR(VLOOKUP(AM12,Tabelas!B:D,3,0),0),\"\")","v":12},{"$f":"IF(A12<>\"\",IFERROR(VLOOKUP(AN12,Tabelas!B:D,3,0),0),\"\")","v":0},{"$f":"IF(A12<>\"\",IFERROR(VLOOKUP(AO12,Tabelas!B:D,3,0),0),\"\")","v":12},{"$f":"IF(A12<>\"\",IFERROR(VLOOKUP(AP12,Tabelas!B:D,3,0),0),\"\")","v":0},{"$f":"IF(A12<>\"\",IFERROR(VLOOKUP(AQ12,Tabelas!B:D,3,0),0),\"\")","v":12},{"$f":"IF(A12<>\"\",IFERROR(VLOOKUP(AR12,Tabelas!B:D,3,0),0),\"\")","v":12},162,0,0,0,0,0,0,1]
["Letícia Cabral Domingos da Rosa",null,5,null,null,null,null,null,null,null,null,null,null,null,"D6",null,"D6",null,"D6",null,"D6",null,"D6",null,"D6",null,"D6",null,"D6",null,"D6",null,"D6",null,"D6",null,"D6","FO","DSR",null,"D6","T15",null,null,{"$f":"IF(A13<>\"\",IFERROR(VLOOKUP(N13,Tabelas!B:D,3,0),0),\"\")","v":0},{"$f":"IF(A13<>\"\",IFERROR(VLOOKUP(O13,Tabelas!B:D,3,0),0),\"\")","v":12},{"$f":"IF(A13<>\"\",IFERROR(VLOOKUP(P13,Tabelas!B:D,3,0),0),\"\")","v":0},{"$f":"IF(A13<>\"\",IFERROR(VLOOKUP(Q13,Tabelas!B:D,3,0),0),\"\")","v":12},{"$f":"IF(A13<>\"\",IFERROR(VLOOKUP(R13,Tabelas!B:D,3,0),0),\"\")","v":0},{"$f":"IF(A13<>\"\",IFERROR(VLOOKUP(S13,Tabelas!B:D,3,0),0),\"\")","v":12},{"$f":"IF(A13<>\"\",IFERROR(VLOOKUP(T13,Tabelas!B:D,3,0),0),\"\")","v":0},{"$f":"IF(A13<>\"\",IFERROR(VLOOKUP(U13,Tabelas!B:D,3,0),0),\"\")","v":12},{"$f":"IF(A13<>\"\",IFERROR(VLOOKUP(V13,Tabelas!B:D,3,0),0),\"\")","v":0},{"$f":"IF(A13<>\"\",IFERROR(VLOOKUP(W13,Tabelas!B:D,3,0),0),\"\")","v":12},{"$f":"IF(A13<>\"\",IFERROR(VLOOKUP(X13,Tabelas!B:D,3,0),0),\"\")","v":0},{"$f":"IF(A13<>\"\",IFERROR(VLOOKUP(Y13,Tabelas!B:D,3,0),0),\"\")","v":12},{"$f":"IF(A13<>\"\",IFERROR(VLOOKUP(Z13,Tabelas!B:D,3,0),0),\"\")","v":0},{"$f":"IF(A13<>\"\",IFERROR(VLOOKUP(AA13,Tabelas!B:D,3,0),0),\"\")","v":12},{"$f":"IF(A13<>\"\",IFERROR(VLOOKUP(AB13,Tabelas!B:D,3,0),0),\"\")","v":0},{"$f":"IF(A13<>\"\",IFERROR(VLOOKUP(AC13,Tabelas!B:D,3,0),0),\"\")","v":12},{"$f":"IF(A13<>\"\",IFERROR(VLOOKUP(AD13,Tabelas!B:D,3,0),0),\"\")","v":0},{"$f":"IF(A13<>\"\",IFERROR(VLOOKUP(AE13,Tabelas!B:D,3,0),0),\"\")","v":12},{"$f":"IF(A13<>\"\",IFERROR(VLOOKUP(AF13,Tabelas!B:D,3,0),0),\"\")","v":0},{"$f":"IF(A13<>\"\",IFERROR(VLOOKUP(AG13,Tabelas!B:D,3,0),0),\"\")","v":12},{"$f":"IF(A13<>\"\",IFERROR(VLOOKUP(AH13,Tabelas!B:D,3,0),0),\"\")","v":0},{"$f":"IF(A13<>\"\",IFERROR(VLOOKUP(AI13,Tabelas!B:D,3,0),0),\"\")","v":12},{"$f":"IF(A13<>\"\",IFERROR(VLOOKUP(AJ13,Tabelas!B:D,3,0),0),\"\")","v":0},{"$f":"IF(A13<>\"\",IFERROR(VLOOKUP(AK13,Tabelas!B:D,3,0),0),\"\")","v":12},{"$f":"IF(A13<>\"\",IFERROR(VLOOKUP(AL13,Tabelas!B:D,3,0),0),\"\")","v":0},{"$f":"IF(A13<>\"\",IFERROR(VLOOKUP(AM13,Tabelas!B:D,3,0),0),\"\")","v":0},{"$f":"IF(A13<>\"\",IFERROR(VLOOKUP(AN13,Tabelas!B:D,3,0),0),\"\")","v":0},{"$f":"IF(A13<>\"\",IFERROR(VLOOKUP(AO13,Tabelas!B:D,3,0),0),\"\")","v":12},{"$f":"IF(A13<>\"\",IFERROR(VLOOKUP(AP13,Tabelas!B:D,3,0),0),\"\")","v":6},{"$f":"IF(A13<>\"\",IFERROR(VLOOKUP(AQ13,Tabelas!B:D,3,0),0),\"\")","v":0},{"$f":"IF(A13<>\"\",IFERROR(VLOOKUP(AR13,Tabelas!B:D,3,0),0),\"\")","v":0},162,0,0,0,0,0,0,1]
["Marcos Antonio Campolino",null,6,null,null,null,null,null,null,null,null,null,null,"T15",null,null,null,"N8",null,"N8",null,"N8",null,"N8",null,null,"N8","N8",null,"N8",null,"N8",null,"N8",null,"N8",null,"FO","DSR","N8",null,"N8",null,"D6",{"$f":"IF(A15<>\"\",IFERROR(VLOOKUP(N14,Tabelas!B:D,3,0),0),\"\")","v":6},{"$f":"IF(A15<>\"\",IFERROR(VLOOKUP(O14,Tabelas!B:D,3,0),0),\"\")","v":0},{"$f":"IF(A15<>\"\",IFERROR(VLOOKUP(P14,Tabelas!B:D,3,0),0),\"\")","v":0},{"$f":"IF(A15<>\"\",IFERROR(VLOOKUP(Q14,Tabelas!B:D,3,0),0),\"\")","v":0},{"$f":"IF(A15<>\"\",IFERROR(VLOOKUP(R14,Tabelas!B:D,3,0),0),\"\")","v":12},{"$f":"IF(A15<>\"\",IFERROR(VLOOKUP(S14,Tabelas!B:D,3,0),0),\"\")","v":0},{"$f":"IF(A15<>\"\",IFERROR(VLOOKUP(T14,Tabelas!B:D,3,0),0),\"\")","v":12},{"$f":"IF(A15<>\"\",IFERROR(VLOOKUP(U14,Tabelas!B:D,3,0),0),\"\")","v":0},{"$f":"IF(A15<>\"\",IFERROR(VLOOKUP(V14,Tabelas!B:D,3,0),0),\"\")","v":12},{"$f":"IF(A15<>\"\",IFERROR(VLOOKUP(W14,Tabelas!B:D,3,0),0),\"\")","v":0},{"$f":"IF(A15<>\"\",IFERROR(VLOOKUP(X14,Tabelas!B:D,3,0),0),\"\")","v":12},{"$f":"IF(A15<>\"\",IFERROR(VLOOKUP(Y14,Tabelas!B:D,3,0),0),\"\")","v":0},{"$f":"IF(A15<>\"\",IFERROR(VLOOKUP(Z14,Tabelas!B:D,3,0),0),\"\")","v":0},{"$f":"IF(A15<>\"\",IFERROR(VLOOKUP(AA14,Tabelas!B:D,3,0),0),\"\")","v":12},{"$f":"IF(A15<>\"\",IFERROR(VLOOKUP(AB14,Tabelas!B:D,3,0),0),\"\")","v":12},{"$f":"IF(A15<>\"\",IFERROR(VLOOKUP(AC14,Tabelas!B:D,3,0),0),\"\")","v":0},{"$f":"IF(A15<>\"\",IFERROR(VLOOKUP(AD14,Tabelas!B:D,3,0),0),\"\")","v":12},{"$f":"IF(A15<>\"\",IFERROR(VLOOKUP(AE14,Tabelas!B:D,3,0),0),\"\")","v":0},{"$f":"IF(A15<>\"\",IFERROR(VLOOKUP(AF14,Tabelas!B:D,3,0),0),\"\")","v":12},{"$f":"IF(A15<>\"\",IFERROR(VLOOKUP(AG14,Tabelas!B:D,3,0),0),\"\")","v":0},{"$f":"IF(A15<>\"\",IFERROR(VLOOKUP(AH14,Tabelas!B:D,3,0),0),\"\")","v":12},{"$f":"IF(A15<>\"\",IFERROR(VLOOKUP(AI14,Tabelas!B:D,3,0),0),\"\")","v":0},{"$f":"IF(A15<>\"\",IFERROR(VLOOKUP(AJ14,Tabelas!B:D,3,0),0),\"\")","v":12},{"$f":"IF(A15<>\"\",IFERROR(VLOOKUP(AK14,Tabelas!B:D,3,0),0),\"\")","v":0},{"$f":"IF(A15<>\"\",IFERROR(VLOOKUP(AL14,Tabelas!B:D,3,0),0),\"\")","v":0},{"$f":"IF(A15<>\"\",IFERROR(VLOOKUP(AM14,Tabelas!B:D,3,0),0),\"\")","v":0},{"$f":"IF(A15<>\"\",IFERROR(VLOOKUP(AN14,Tabelas!B:D,3,0),0),\"\")","v":12},{"$f":"IF(A15<>\"\",IFERROR(VLOOKUP(AO14,Tabelas!B:D,3,0),0),\"\")","v":0},{"$f":"IF(A15<>\"\",IFERROR(VLOOKUP(AP14,Tabelas!B:D,3,0),0),\"\")","v":12},{"$f":"IF(A15<>\"\",IFERROR(VLOOKUP(AQ14,Tabelas!B:D,3,0),0),\"\")","v":0},{"$f":"IF(A15<>\"\",IFERROR(VLOOKUP(AR14,Tabelas!B:D,3,0),0),\"\")","v":12},{"$f":"IF(AND(A15<>\"\",F14=\"Ebserh\"),SUM(AS14:BW14)+COUNTIF(N14:AR14,\"N*\")+COUNTIF(N14:AR14,\"DN*\"),IF(AND(A15<>\"\",F14<>\"Ebserh\"),SUM(AS14:BW14),\"\"))","v":162},{"$f":"IF(A15<>\"\",COUNTIF(N14:AR14,\"LM\")+COUNTIF(N14:AR14,\"L\")+COUNTIF(N14:AR14,\"LP\"),\"\")","v":0},{"$f":"IF(A15<>\"\",COUNTIF(N14:AR14,\"AB*\"),\"\")","v":0},{"$f":"IF(A15<>\"\",COUNTIF(N14:AR14,\"FE\"),\"\")","v":0},{"$f":"IF(A15<>\"\",COUNTIF(N14:AR14,\"LC\"),\"\")","v":0},{"$f":"IF(A15<>\"\",COUNTIF(N14:AR14,\"CH*\"),\"\")","v":0},{"$f":"IF(A15<>\"\",COUNTIF(N14:AR14,\"AF1\")+COUNTIF(N14:AR14,\"AF2\")+COUNTIF(N14:AR14,\"AF3\")+COUNTIF(N14:AR14,\"AF4\")+COUNTIF(N14:AR14,\"AF5\")+COUNTIF(N14:AR14,\"AF6\")+COUNTIF(N14:AR14,\"AF7\")+COUNTIF(N14:AR14,\"AF8\")+COUNTIF(N14:AR14,\"AF9\")+COUNTIF(N14:AR14,\"AF10\")+COUNTIF(N14:AR14,\"AF11\")+COUNTIF(N14:AR14,\"AF12\")+COUNTIF(N14:AR14,\"AF13\")+COUNTIF(N14:AR14,\"AF14\"),\"\")","v":0},{"$f":"IF(A15<>\"\",COUNTIF(N14:AR14,\"CH*\")+COUNTIF(N14:AR14,\"L\")+COUNTIF(N14:AR14,\"LM\")+COUNTIF(N14:AR14,\"LP\")+COUNTIF(N14:AR14,\"LC\")+COUNTIF(N14:AR14,\"AB*\")+COUNTIF(N14:AR14,\"AF1\")+COUNTIF(N14:AR14,\"AF2\")+COUNTIF(N14:AR14,\"AF3\")+COUNTIF(N14:AR14,\"AF4\")+COUNTIF(N14:AR14,\"AF5\")+COUNTIF(N14:AR14,\"AF6\")+COUNTIF(N14:AR14,\"AF7\")+COUNTIF(N14:AR14,\"AF8\")+COUNTIF(N14:AR14,\"AF9\")+COUNTIF(N14:AR14,\"AF10\")+COUNTIF(N14:AR14,\"AF11\")+COUNTIF(N14:AR14,\"AF12\")+COUNTIF(N14:AR14,\"AF13\")+COUNTIF(N14:AR14,\"AF14\")+COUNTIF(N14:AR14,\"RC\")+COUNTIF(N14:AR14,\"FO\")+COUNTIF(N14:AR14,\"FE\"),\"\")","v":1}]
["Michelini Fátima da Silva",null,7,null,null,null,null,null,null,null,null,null,null,null,"D6","D6","FO","DSR","D6",null,"D6",null,"D6",null,null,null,"D6",null,"D6",null,null,"D6","D6",null,"D6",null,"D6",null,"D6",null,"M5",null,"D6",null,{"$f":"IF(#REF!<>\"\",IFERROR(VLOOKUP(N15,Tabelas!B:D,3,0),0),\"\")","v":{"$error":"#REF!"}},{"$f":"IF(#REF!<>\"\",IFERROR(VLOOKUP(O15,Tabelas!B:D,3,0),0),\"\")","v":{"$error":"#REF!"}},{"$f":"IF(#REF!<>\"\",IFERROR(VLOOKUP(P15,Tabelas!B:D,3,0),0),\"\")","v":{"$error":"#REF!"}},{"$f":"IF(#REF!<>\"\",IFERROR(VLOOKUP(Q15,Tabelas!B:D,3,0),0),\"\")","v":{"$error":"#REF!"}},{"$f":"IF(#REF!<>\"\",IFERROR(VLOOKUP(R15,Tabelas!B:D,3,0),0),\"\")","v":{"$error":"#REF!"}},{"$f":"IF(#REF!<>\"\",IFERROR(VLOOKUP(S15,Tabelas!B:D,3,0),0),\"\")","v":{"$error":"#REF!"}},{"$f":"IF(#REF!<>\"\",IFERROR(VLOOKUP(T15,Tabelas!B:D,3,0),0),\"\")","v":{"$error":"#REF!"}},{"$f":"IF(#REF!<>\"\",IFERROR(VLOOKUP(U15,Tabelas!B:D,3,0),0),\"\")","v":{"$error":"#REF!"}},{"$f":"IF(#REF!<>\"\",IFERROR(VLOOKUP(V15,Tabelas!B:D,3,0),0),\"\")","v":{"$error":"#REF!"}},{"$f":"IF(#REF!<>\"\",IFERROR(VLOOKUP(W15,Tabelas!B:D,3,0),0),\"\")","v":{"$error":"#REF!"}},{"$f":"IF(#REF!<>\"\",IFERROR(VLOOKUP(X15,Tabelas!B:D,3,0),0),\"\")","v":{"$error":"#REF!"}},{"$f":"IF(#REF!<>\"\",IFERROR(VLOOKUP(Y15,Tabelas!B:D,3,0),0),\"\")","v":{"$error":"#REF!"}},{"$f":"IF(#REF!<>\"\",IFERROR(VLOOKUP(Z15,Tabelas!B:D,3,0),0),\"\")","v":{"$error":"#REF!"}},{"$f":"IF(#REF!<>\"\",IFERROR(VLOOKUP(AA15,Tabelas!B:D,3,0),0),\"\")","v":{"$error":"#REF!"}},{"$f":"IF(#REF!<>\"\",IFERROR(VLOOKUP(AB15,Tabelas!B:D,3,0),0),\"\")","v":{"$error":"#REF!"}},{"$f":"IF(#REF!<>\"\",IFERROR(VLOOKUP(AC15,Tabelas!B:D,3,0),0),\"\")","v":{"$error":"#REF!"}},{"$f":"IF(#REF!<>\"\",IFERROR(VLOOKUP(AD15,Tabelas!B:D,3,0),0),\"\")","v":{"$error":"#REF!"}},{"$f":"IF(#REF!<>\"\",IFERROR(VLOOKUP(AE15,Tabelas!B:D,3,0),0),\"\")","v":{"$error":"#REF!"}},{"$f":"IF(#REF!<>\"\",IFERROR(VLOOKUP(AF15,Tabelas!B:D,3,0),0),\"\")","v":{"$error":"#REF!"}},{"$f":"IF(#REF!<>\"\",IFERROR(VLOOKUP(AG15,Tabelas!B:D,3,0),0),\"\")","v":{"$error":"#REF!"}},{"$f":"IF(#REF!<>\"\",IFERROR(VLOOKUP(AH15,Tabelas!B:D,3,0),0),\"\")","v":{"$error":"#REF!"}},{"$f":"IF(#REF!<>\"\",IFERROR(VLOOKUP(AI15,Tabelas!B:D,3,0),0),\"\")","v":{"$error":"#REF!"}},{"$f":"IF(#REF!<>\"\",IFERROR(VLOOKUP(AJ15,Tabelas!B:D,3,0),0),\"\")","v":{"$error":"#REF!"}},{"$f":"IF(#REF!<>\"\",IFERROR(VLOOKUP(AK15,Tabelas!B:D,3,0),0),\"\")","v":{"$error":"#REF!"}},{"$f":"IF(#REF!<>\"\",IFERROR(VLOOKUP(AL15,Tabelas!B:D,3,0),0),\"\")","v":{"$error":"#REF!"}},{"$f":"IF(#REF!<>\"\",IFERROR(VLOOKUP(AM15,Tabelas!B:D,3,0),0),\"\")","v":{"$error":"#REF!"}},{"$f":"IF(#REF!<>\"\",IFERROR(VLOOKUP(AN15,Tabelas!B:D,3,0),0),\"\")","v":{"$error":"#REF!"}},{"$f":"IF(#REF!<>\"\",IFERROR(VLOOKUP(AO15,Tabelas!B:D,3,0),0),\"\")","v":{"$error":"#REF!"}},{"$f":"IF(#REF!<>\"\",IFERROR(VLOOKUP(AP15,Tabelas!B:D,3,0),0),\"\")","v":{"$error":"#REF!"}},{"$f":"IF(#REF!<>\"\",IFERROR(VLOOKUP(AQ15,Tabelas!B:D,3,0),0),\"\")","v":{"$error":"#REF!"}},{"$f":"IF(#REF!<>\"\",IFERROR(VLOOKUP(AR15,Tabelas!B:D,3,0),0),\"\")","v":{"$error":"#REF!"}},162,null,{"$f":"IF(#REF!<>\"\",COUNTIF(N15:AR15,\"AB*\"),\"\")","v":{"$error":"#REF!"}},{"$f":"IF(#REF!<>\"\",COUNTIF(N15:AR15,\"FE\"),\"\")","v":{"$error":"#REF!"}},{"$f":"IF(#REF!<>\"\",COUNTIF(N15:AR15,\"LC\"),\"\")","v":{"$error":"#REF!"}},{"$f":"IF(#REF!<>\"\",COUNTIF(N15:AR15,\"CH*\"),\"\")","v":{"$error":"#REF!"}},{"$f":"IF(#REF!<>\"\",COUNTIF(N15:AR15,\"AF1\")+COUNTIF(N15:AR15,\"AF2\")+COUNTIF(N15:AR15,\"AF3\")+COUNTIF(N15:AR15,\"AF4\")+COUNTIF(N15:AR15,\"AF5\")+COUNTIF(N15:AR15,\"AF6\")+COUNTIF(N15:AR15,\"AF7\")+COUNTIF(N15:AR15,\"AF8\")+COUNTIF(N15:AR15,\"AF9\")+COUNTIF(N15:AR15,\"AF10\")+COUNTIF(N15:AR15,\"AF11\")+COUNTIF(N15:AR15,\"AF12\")+COUNTIF(N15:AR15,\"AF13\")+COUNTIF(N15:AR15,\"AF14\"),\"\")","v":{"$error":"#REF!"}},{"$f":"IF(#REF!<>\"\",COUNTIF(N15:AR15,\"CH*\")+COUNTIF(N15:AR15,\"L\")+COUNTIF(N15:AR15,\"LM\")+COUNTIF(N15:AR15,\"LP\")+COUNTIF(N15:AR15,\"LC\")+COUNTIF(N15:AR15,\"AB*\")+COUNTIF(N15:AR15,\"AF1\")+COUNTIF(N15:AR15,\"AF2\")+COUNTIF(N15:AR15,\"AF3\")+COUNTIF(N15:AR15,\"AF4\")+COUNTIF(N15:AR15,\"AF5\")+COUNTIF(N15:AR15,\"AF6\")+COUNTIF(N15:AR15,\"AF7\")+COUNTIF(N15:AR15,\"AF8\")+COUNTIF(N15:AR15,\"AF9\")+COUNTIF(N15:AR15,\"AF10\")+COUNTIF(N15:AR15,\"AF11\")+COUNTIF(N15:AR15,\"AF12\")+COUNTIF(N15:AR15,\"AF13\")+COUNTIF(N15:AR15,\"AF14\")+COUNTIF(N15:AR15,\"RC\")+COUNTIF(N15:AR15,\"FO\")+COUNTIF(N15:AR15,\"FE\"),\"\")","v":{"$error":"#REF!"}}]
["Zélma Gulart de Lima",null,8,null,null,null,null,null,null,null,null,null,null,"M15","N8",null,"N8",null,null,"D6",null,null,"N8",null,"N8",null,"N8",null,"N8",null,"N8",null,"N8",null,"N8",null,"N8","FO","DSR",null,"N8",null,"N8",null,{"$f":"IF(A16<>\"\",IFERROR(VLOOKUP(N16,Tabelas!B:D,3,0),0),\"\")","v":6},{"$f":"IF(A16<>\"\",IFERROR(VLOOKUP(O16,Tabelas!B:D,3,0),0),\"\")","v":12},{"$f":"IF(A16<>\"\",IFERROR(VLOOKUP(P16,Tabelas!B:D,3,0),0),\"\")","v":0},{"$f":"IF(A16<>\"\",IFERROR(VLOOKUP(Q16,Tabelas!B:D,3,0),0),\"\")","v":12},{"$f":"IF(A16<>\"\",IFERROR(VLOOKUP(R16,Tabelas!B:D,3,0),0),\"\")","v":0},{"$f":"IF(A16<>\"\",IFERROR(VLOOKUP(S16,Tabelas!B:D,3,0),0),\"\")","v":0},{"$f":"IF(A16<>\"\",IFERROR(VLOOKUP(T16,Tabelas!B:D,3,0),0),\"\")","v":12},{"$f":"IF(A16<>\"\",IFERROR(VLOOKUP(U16,Tabelas!B:D,3,0),0),\"\")","v":0},{"$f":"IF(A16<>\"\",IFERROR(VLOOKUP(V16,Tabelas!B:D,3,0),0),\"\")","v":0},{"$f":"IF(A16<>\"\",IFERROR(VLOOKUP(W16,Tabelas!B:D,3,0),0),\"\")","v":12},{"$f":"IF(A16<>\"\",IFERROR(VLOOKUP(X16,Tabelas!B:D,3,0),0),\"\")","v":0},{"$f":"IF(A16<>\"\",IFERROR(VLOOKUP(Y16,Tabelas!B:D,3,0),0),\"\")","v":12},{"$f":"IF(A16<>\"\",IFERROR(VLOOKUP(Z16,Tabelas!B:D,3,0),0),\"\")","v":0},{"$f":"IF(A16<>\"\",IFERROR(VLOOKUP(AA16,Tabelas!B:D,3,0),0),\"\")","v":12},{"$f":"IF(A16<>\"\",IFERROR(VLOOKUP(AB16,Tabelas!B:D,3,0),0),\"\")","v":0},{"$f":"IF(A16<>\"\",IFERROR(VLOOKUP(AC16,Tabelas!B:D,3,0),0),\"\")","v":12},{"$f":"IF(A16<>\"\",IFERROR(VLOOKUP(AD16,Tabelas!B:D,3,0),0),\"\")","v":0},{"$f":"IF(A16<>\"\",IFERROR(VLOOKUP(AE16,Tabelas!B:D,3,0),0),\"\")","v":12},{"$f":"IF(A16<>\"\",IFERROR(VLOOKUP(AF16,Tabelas!B:D,3,0),0),\"\")","v":0},{"$f":"IF(A16<>\"\",IFERROR(VLOOKUP(AG16,Tabelas!B:D,3,0),0),\"\")","v":12},{"$f":"IF(A16<>\"\",IFERROR(VLOOKUP(AH16,Tabelas!B:D,3,0),0),\"\")","v":0},{"$f":"IF(A16<>\"\",IFERROR(VLOOKUP(AI16,Tabelas!B:D,3,0),0),\"\")","v":12},{"$f":"IF(A16<>\"\",IFERROR(VLOOKUP(AJ16,Tabelas!B:D,3,0),0),\"\")","v":0},{"$f":"IF(A16<>\"\",IFERROR(VLOOKUP(AK16,Tabelas!B:D,3,0),0),\"\")","v":12},{"$f":"IF(A16<>\"\",IFERROR(VLOOKUP(AL16,Tabelas!B:D,3,0),0),\"\")","v":0},{"$f":"IF(A16<>\"\",IFERROR(VLOOKUP(AM16,Tabelas!B:D,3,0),0),\"\")","v":0},{"$f":"IF(A16<>\"\",IFERROR(VLOOKUP(AN16,Tabelas!B:D,3,0),0),\"\")","v":0},{"$f":"IF(A16<>\"\",IFERROR(VLOOKUP(AO16,Tabelas!B:D,3,0),0),\"\")","v":12},{"$f":"IF(A16<>\"\",IFERROR(VLOOKUP(AP16,Tabelas!B:D,3,0),0),\"\")","v":0},{"$f":"IF(A16<>\"\",IFERROR(VLOOKUP(AQ16,Tabelas!B:D,3,0),0),\"\")","v":12},{"$f":"IF(A16<>\"\",IFERROR(VLOOKUP(AR16,Tabelas!B:D,3,0),0),\"\")","v":0},{"$f":"IF(AND(A16<>\"\",F16=\"Ebserh\"),SUM(AS16:BW16)+COUNTIF(N16:AR16,\"N*\")+COUNTIF(N16:AR16,\"DN*\"),IF(AND(A16<>\"\",F16<>\"Ebserh\"),SUM(AS16:BW16),\"\"))","v":162},{"$f":"IF(A16<>\"\",COUNTIF(N16:AR16,\"LM\")+COUNTIF(N16:AR16,\"L\")+COUNTIF(N16:AR16,\"LP\"),\"\")","v":0},{"$f":"IF(A16<>\"\",COUNTIF(N16:AR16,\"AB*\"),\"\")","v":0},{"$f":"IF(A16<>\"\",COUNTIF(N16:AR16,\"FE\"),\"\")","v":0},{"$f":"IF(A16<>\"\",COUNTIF(N16:AR16,\"LC\"),\"\")","v":0},{"$f":"IF(A16<>\"\",COUNTIF(N16:AR16,\"CH*\"),\"\")","v":0},{"$f":"IF(A16<>\"\",COUNTIF(N16:AR16,\"AF1\")+COUNTIF(N16:AR16,\"AF2\")+COUNTIF(N16:AR16,\"AF3\")+COUNTIF(N16:AR16,\"AF4\")+COUNTIF(N16:AR16,\"AF5\")+COUNTIF(N16:AR16,\"AF6\")+COUNTIF(N16:AR16,\"AF7\")+COUNTIF(N16:AR16,\"AF8\")+COUNTIF(N16:AR16,\"AF9\")+COUNTIF(N16:AR16,\"AF10\")+COUNTIF(N16:AR16,\"AF11\")+COUNTIF(N16:AR16,\"AF12\")+COUNTIF(N16:AR16,\"AF13\")+COUNTIF(N16:AR16,\"AF14\"),\"\")","v":0},{"$f":"IF(A16<>\"\",COUNTIF(N16:AR16,\"CH*\")+COUNTIF(N16:AR16,\"L\")+COUNTIF(N16:AR16,\"LM\")+COUNTIF(N16:AR16,\"LP\")+COUNTIF(N16:AR16,\"LC\")+COUNTIF(N16:AR16,\"AB*\")+COUNTIF(N16:AR16,\"AF1\")+COUNTIF(N16:AR16,\"AF2\")+COUNTIF(N16:AR16,\"AF3\")+COUNTIF(N16:AR16,\"AF4\")+COUNTIF(N16:AR16,\"AF5\")+COUNTIF(N16:AR16,\"AF6\")+COUNTIF(N16:AR16,\"AF7\")+COUNTIF(N16:AR16,\"AF8\")+COUNTIF(N16:AR16,\"AF9\")+COUNTIF(N16:AR16,\"AF10\")+COUNTIF(N16:AR16,\"AF11\")+COUNTIF(N16:AR16,\"AF12\")+COUNTIF(N16:AR16,\"AF13\")+COUNTIF(N16:AR16,\"AF14\")+COUNTIF(N16:AR16,\"RC\")+COUNTIF(N16:AR16,\"FO\")+COUNTIF(N16:AR16,\"FE\"),\"\")","v":1}]
["Amarildo Maçaneiro",null,9,null,null,null,null,null,null,null,null,null,null,null,"N8","N8",null,"CH-6","N8",null,"N8",null,null,"N8",null,"N8",null,null,null,"N8","FO","DSR","N8",null,null,"N8",null,"N8","N8",null,null,"N8",null,"N8",{"$f":"IF(A17<>\"\",IFERROR(VLOOKUP(N17,Tabelas!B:D,3,0),0),\"\")","v":0},{"$f":"IF(A17<>\"\",IFERROR(VLOOKUP(O17,Tabelas!B:D,3,0),0),\"\")","v":12},{"$f":"IF(A17<>\"\",IFERROR(VLOOKUP(P17,Tabelas!B:D,3,0),0),\"\")","v":12},{"$f":"IF(A17<>\"\",IFERROR(VLOOKUP(Q17,Tabelas!B:D,3,0),0),\"\")","v":0},{"$f":"IF(A17<>\"\",IFERROR(VLOOKUP(R17,Tabelas!B:D,3,0),0),\"\")","v":0},{"$f":"IF(A17<>\"\",IFERROR(VLOOKUP(S17,Tabelas!B:D,3,0),0),\"\")","v":12},{"$f":"IF(A17<>\"\",IFERROR(VLOOKUP(T17,Tabelas!B:D,3,0),0),\"\")","v":0},{"$f":"IF(A17<>\"\",IFERROR(VLOOKUP(U17,Tabelas!B:D,3,0),0),\"\")","v":12},{"$f":"IF(A17<>\"\",IFERROR(VLOOKUP(V17,Tabelas!B:D,3,0),0),\"\")","v":0},{"$f":"IF(A17<>\"\",IFERROR(VLOOKUP(W17,Tabelas!B:D,3,0),0),\"\")","v":0},{"$f":"IF(A17<>\"\",IFERROR(VLOOKUP(X17,Tabelas!B:D,3,0),0),\"\")","v":12},{"$f":"IF(A17<>\"\",IFERROR(VLOOKUP(Y17,Tabelas!B:D,3,0),0),\"\")","v":0},{"$f":"IF(A17<>\"\",IFERROR(VLOOKUP(Z17,Tabelas!B:D,3,0),0),\"\")","v":12},{"$f":"IF(A17<>\"\",IFERROR(VLOOKUP(AA17,Tabelas!B:D,3,0),0),\"\")","v":0},{"$f":"IF(A17<>\"\",IFERROR(VLOOKUP(AB17,Tabelas!B:D,3,0),0),\"\")","v":0},{"$f":"IF(A17<>\"\",IFERROR(VLOOKUP(AC17,Tabelas!B:D,3,0),0),\"\")","v":0},{"$f":"IF(A17<>\"\",IFERROR(VLOOKUP(AD17,Tabelas!B:D,3,0),0),\"\")","v":12},{"$f":"IF(A17<>\"\",IFERROR(VLOOKUP(AE17,Tabelas!B:D,3,0),0),\"\")","v":0},{"$f":"IF(A17<>\"\",IFERROR(VLOOKUP(AF17,Tabelas!B:D,3,0),0),\"\")","v":0},{"$f":"IF(A17<>\"\",IFERROR(VLOOKUP(AG17,Tabelas!B:D,3,0),0),\"\")","v":12},{"$f":"IF(A17<>\"\",IFERROR(VLOOKUP(AH17,Tabelas!B:D,3,0),0),\"\")","v":0},{"$f":"IF(A17<>\"\",IFERROR(VLOOKUP(AI17,Tabelas!B:D,3,0),0),\"\")","v":0},{"$f":"IF(A17<>\"\",IFERROR(VLOOKUP(AJ17,Tabelas!B:D,3,0),0),\"\")","v":12},{"$f":"IF(A17<>\"\",IFERROR(VLOOKUP(AK17,Tabelas!B:D,3,0),0),\"\")","v":0},{"$f":"IF(A17<>\"\",IFERROR(VLOOKUP(AL17,Tabelas!B:D,3,0),0),\"\")","v":12},{"$f":"IF(A17<>\"\",IFERROR(VLOOKUP(AM17,Tabelas!B:D,3,0),0),\"\")","v":12},{"$f":"IF(A17<>\"\",IFERROR(VLOOKUP(AN17,Tabelas!B:D,3,0),0),\"\")","v":0},{"$f":"IF(A17<>\"\",IFERROR(VLOOKUP(AO17,Tabelas!B:D,3,0),0),\"\")","v":0},{"$f":"IF(A17<>\"\",IFERROR(VLOOKUP(AP17,Tabelas!B:D,3,0),0),\"\")","v":12},{"$f":"IF(A17<>\"\",IFERROR(VLOOKUP(AQ17,Tabelas!B:D,3,0),0),\"\")","v":0},{"$f":"IF(A17<>\"\",IFERROR(VLOOKUP(AR17,Tabelas!B:D,3,0),0),\"\")","v":12},{"$f":"IF(AND(A17<>\"\",F17=\"Ebserh\"),SUM(AS17:BW17)+COUNTIF(N17:AR17,\"N*\")+COUNTIF(N17:AR17,\"DN*\"),IF(AND(A17<>\"\",F17<>\"Ebserh\"),SUM(AS17:BW17),\"\"))","v":156},{"$f":"IF(A17<>\"\",COUNTIF(N17:AR17,\"LM\")+COUNTIF(N17:AR17,\"L\")+COUNTIF(N17:AR17,\"LP\"),\"\")","v":0},{"$f":"IF(A17<>\"\",COUNTIF(N17:AR17,\"AB*\"),\"\")","v":0},{"$f":"IF(A17<>\"\",COUNTIF(N17:AR17,\"FE\"),\"\")","v":0},{"$f":"IF(A17<>\"\",COUNTIF(N17:AR17,\"LC\"),\"\")","v":0},{"$f":"IF(A17<>\"\",COUNTIF(N17:AR17,\"CH*\"),\"\")","v":1},{"$f":"IF(A17<>\"\",COUNTIF(N17:AR17,\"AF1\")+COUNTIF(N17:AR17,\"AF2\")+COUNTIF(N17:AR17,\"AF3\")+COUNTIF(N17:AR17,\"AF4\")+COUNTIF(N17:AR17,\"AF5\")+COUNTIF(N17:AR17,\"AF6\")+COUNTIF(N17:AR17,\"AF7\")+COUNTIF(N17:AR17,\"AF8\")+COUNTIF(N17:AR17,\"AF9\")+COUNTIF(N17:AR17,\"AF10\")+COUNTIF(N17:AR17,\"AF11\")+COUNTIF(N17:AR17,\"AF12\")+COUNTIF(N17:AR17,\"AF13\")+COUNTIF(N17:AR17,\"AF14\"),\"\")","v":0},{"$f":"IF(A17<>\"\",COUNTIF(N17:AR17,\"CH*\")+COUNTIF(N17:AR17,\"L\")+COUNTIF(N17:AR17,\"LM\")+COUNTIF(N17:AR17,\"LP\")+COUNTIF(N17:AR17,\"LC\")+COUNTIF(N17:AR17,\"AB*\")+COUNTIF(N17:AR17,\"AF1\")+COUNTIF(N17:AR17,\"AF2\")+COUNTIF(N17:AR17,\"AF3\")+COUNTIF(N17:AR17,\"AF4\")+COUNTIF(N17:AR17,\"AF5\")+COUNTIF(N17:AR17,\"AF6\")+COUNTIF(N17:AR17,\"AF7\")+COUNTIF(N17:AR17,\"AF8\")+COUNTIF(N17:AR17,\"AF9\")+COUNTIF(N17:AR17,\"AF10\")+COUNTIF(N17:AR17,\"AF11\")+COUNTIF(N17:AR17,\"AF12\")+COUNTIF(N17:AR17,\"AF13\")+COUNTIF(N17:AR17,\"AF14\")+COUNTIF(N17:AR17,\"RC\")+COUNTIF(N17:AR17,\"FO\")+COUNTIF(N17:AR17,\"FE\"),\"\")","v":2}]
["Isabela Ubaldo Lowen",null,10,null,null,null,null,null,null,null,null,null,null,"N8",null,null,"N8",null,null,"N8",null,null,"N8",null,null,"N8",null,null,"N8",null,null,"N8",null,null,"N8",null,null,"N8",null,null,"N8",null,null,"N8",{"$f":"IF(A18<>\"\",IFERROR(VLOOKUP(N18,Tabelas!B:D,3,0),0),\"\")","v":12},{"$f":"IF(A18<>\"\",IFERROR(VLOOKUP(O18,Tabelas!B:D,3,0),0),\"\")","v":0},{"$f":"IF(A18<>\"\",IFERROR(VLOOKUP(P18,Tabelas!B:D,3,0),0),\"\")","v":0},{"$f":"IF(A18<>\"\",IFERROR(VLOOKUP(Q18,Tabelas!B:D,3,0),0),\"\")","v":12},{"$f":"IF(A18<>\"\",IFERROR(VLOOKUP(R18,Tabelas!B:D,3,0),0),\"\")","v":0},{"$f":"IF(A18<>\"\",IFERROR(VLOOKUP(S18,Tabelas!B:D,3,0),0),\"\")","v":0},{"$f":"IF(A18<>\"\",IFERROR(VLOOKUP(T18,Tabelas!B:D,3,0),0),\"\")","v":12},{"$f":"IF(A18<>\"\",IFERROR(VLOOKUP(U18,Tabelas!B:D,3,0),0),\"\")","v":0},{"$f":"IF(A18<>\"\",IFERROR(VLOOKUP(V18,Tabelas!B:D,3,0),0),\"\")","v":0},{"$f":"IF(A18<>\"\",IFERROR(VLOOKUP(W18,Tabelas!B:D,3,0),0),\"\")","v":12},{"$f":"IF(A18<>\"\",IFERROR(VLOOKUP(X18,Tabelas!B:D,3,0),0),\"\")","v":0},{"$f":"IF(A18<>\"\",IFERROR(VLOOKUP(Y18,Tabelas!B:D,3,0),0),\"\")","v":0},{"$f":"IF(A18<>\"\",IFERROR(VLOOKUP(Z18,Tabelas!B:D,3,0),0),\"\")","v":12},{"$f":"IF(A18<>\"\",IFERROR(VLOOKUP(AA18,Tabelas!B:D,3,0),0),\"\")","v":0},{"$f":"IF(A18<>\"\",IFERROR(VLOOKUP(AB18,Tabelas!B:D,3,0),0),\"\")","v":0},{"$f":"IF(A18<>\"\",IFERROR(VLOOKUP(AC18,Tabelas!B:D,3,0),0),\"\")","v":12},{"$f":"IF(A18<>\"\",IFERROR(VLOOKUP(AD18,Tabelas!B:D,3,0),0),\"\")","v":0},{"$f":"IF(A18<>\"\",IFERROR(VLOOKUP(AE18,Tabelas!B:D,3,0),0),\"\")","v":0},{"$f":"IF(A18<>\"\",IFERROR(VLOOKUP(AF18,Tabelas!B:D,3,0),0),\"\")","v":12},{"$f":"IF(A18<>\"\",IFERROR(VLOOKUP(AG18,Tabelas!B:D,3,0),0),\"\")","v":0},{"$f":"IF(A18<>\"\",IFERROR(VLOOKUP(AH18,Tabelas!B:D,3,0),0),\"\")","v":0},{"$f":"IF(A18<>\"\",IFERROR(VLOOKUP(AI18,Tabelas!B:D,3,0),0),\"\")","v":12},{"$f":"IF(A18<>\"\",IFERROR(VLOOKUP(AJ18,Tabelas!B:D,3,0),0),\"\")","v":0},{"$f":"IF(A18<>\"\",IFERROR(VLOOKUP(AK18,Tabelas!B:D,3,0),0),\"\")","v":0},{"$f":"IF(A18<>\"\",IFERROR(VLOOKUP(AL18,Tabelas!B:D,3,0),0),\"\")","v":12},{"$f":"IF(A18<>\"\",IFERROR(VLOOKUP(AM18,Tabelas!B:D,3,0),0),\"\")","v":0},{"$f":"IF(A18<>\"\",IFERROR(VLOOKUP(AN18,Tabelas!B:D,3,0),0),\"\")","v":0},{"$f":"IF(A18<>\"\",IFERROR(VLOOKUP(AO18,Tabelas!B:D,3,0),0),\"\")","v":12},{"$f":"IF(A18<>\"\",IFERROR(VLOOKUP(AP18,Tabelas!B:D,3,0),0),\"\")","v":0},{"$f":"IF(A18<>\"\",IFERROR(VLOOKUP(AQ18,Tabelas!B:D,3,0),0),\"\")","v":0},{"$f":"IF(A18<>\"\",IFERROR(VLOOKUP(AR18,Tabelas!B:D,3,0),0),\"\")","v":12},{"$f":"IF(AND(A18<>\"\",F18=\"Ebserh\"),SUM(AS18:BW18)+COUNTIF(N18:AR18,\"N*\")+COUNTIF(N18:AR18,\"DN*\"),IF(AND(A18<>\"\",F18<>\"Ebserh\"),SUM(AS18:BW18),\"\"))","v":132},{"$f":"IF(A18<>\"\",COUNTIF(N18:AR18,\"LM\")+COUNTIF(N18:AR18,\"L\")+COUNTIF(N18:AR18,\"LP\"),\"\")","v":0},{"$f":"IF(A18<>\"\",COUNTIF(N18:AR18,\"AB*\"),\"\")","v":0},{"$f":"IF(A18<>\"\",COUNTIF(N18:AR18,\"FE\"),\"\")","v":0},{"$f":"IF(A18<>\"\",COUNTIF(N18:AR18,\"LC\"),\"\")","v":0},{"$f":"IF(A18<>\"\",COUNTIF(N18:AR18,\"CH*\"),\"\")","v":0},{"$f":"IF(A18<>\"\",COUNTIF(N18:AR18,\"AF1\")+COUNTIF(N18:AR18,\"AF2\")+COUNTIF(N18:AR18,\"AF3\")+COUNTIF(N18:AR18,\"AF4\")+COUNTIF(N18:AR18,\"AF5\")+COUNTIF(N18:AR18,\"AF6\")+COUNTIF(N18:AR18,\"AF7\")+COUNTIF(N18:AR18,\"AF8\")+COUNTIF(N18:AR18,\"AF9\")+COUNTIF(N18:AR18,\"AF10\")+COUNTIF(N18:AR18,\"AF11\")+COUNTIF(N18:AR18,\"AF12\")+COUNTIF(N18:AR18,\"AF13\")+COUNTIF(N18:AR18,\"AF14\"),\"\")","v":0},{"$f":"IF(A18<>\"\",COUNTIF(N18:AR18,\"CH*\")+COUNTIF(N18:AR18,\"L\")+COUNTIF(N18:AR18,\"LM\")+COUNTIF(N18:AR18,\"LP\")+COUNTIF(N18:AR18,\"LC\")+COUNTIF(N18:AR18,\"AB*\")+COUNTIF(N18:AR18,\"AF1\")+COUNTIF(N18:AR18,\"AF2\")+COUNTIF(N18:AR18,\"AF3\")+COUNTIF(N18:AR18,\"AF4\")+COUNTIF(N18:AR18,\"AF5\")+COUNTIF(N18:AR18,\"AF6\")+COUNTIF(N18:AR18,\"AF7\")+COUNTIF(N18:AR18,\"AF8\")+COUNTIF(N18:AR18,\"AF9\")+COUNTIF(N18:AR18,\"AF10\")+COUNTIF(N18:AR18,\"AF11\")+COUNTIF(N18:AR18,\"AF12\")+COUNTIF(N18:AR18,\"AF13\")+COUNTIF(N18:AR18,\"AF14\")+COUNTIF(N18:AR18,\"RC\")+COUNTIF(N18:AR18,\"FO\")+COUNTIF(N18:AR18,\"FE\"),\"\")","v":0}]
["Jenifer Regina Crispim",null,11,null,null,null,null,null,null,null,null,null,null,"N8",null,"N8",null,"N8","N8",null,"N8","N8",null,null,"N8",null,null,"N8",null,null,"N8",null,null,"N8",null,null,"N8","FO","DSR","N8",null,"CH-6","N8",null,{"$f":"IF(A19<>\"\",IFERROR(VLOOKUP(N19,Tabelas!B:D,3,0),0),\"\")","v":12},{"$f":"IF(A19<>\"\",IFERROR(VLOOKUP(O19,Tabelas!B:D,3,0),0),\"\")","v":0},{"$f":"IF(A19<>\"\",IFERROR(VLOOKUP(P19,Tabelas!B:D,3,0),0),\"\")","v":12},{"$f":"IF(A19<>\"\",IFERROR(VLOOKUP(Q19,Tabelas!B:D,3,0),0),\"\")","v":0},{"$f":"IF(A19<>\"\",IFERROR(VLOOKUP(R19,Tabelas!B:D,3,0),0),\"\")","v":12},{"$f":"IF(A19<>\"\",IFERROR(VLOOKUP(S19,Tabelas!B:D,3,0),0),\"\")","v":12},{"$f":"IF(A19<>\"\",IFERROR(VLOOKUP(T19,Tabelas!B:D,3,0),0),\"\")","v":0},{"$f":"IF(A19<>\"\",IFERROR(VLOOKUP(U19,Tabelas!B:D,3,0),0),\"\")","v":12},{"$f":"IF(A19<>\"\",IFERROR(VLOOKUP(V19,Tabelas!B:D,3,0),0),\"\")","v":12},{"$f":"IF(A19<>\"\",IFERROR(VLOOKUP(W19,Tabelas!B:D,3,0),0),\"\")","v":0},{"$f":"IF(A19<>\"\",IFERROR(VLOOKUP(X19,Tabelas!B:D,3,0),0),\"\")","v":0},{"$f":"IF(A19<>\"\",IFERROR(VLOOKUP(Y19,Tabelas!B:D,3,0),0),\"\")","v":12},{"$f":"IF(A19<>\"\",IFERROR(VLOOKUP(Z19,Tabelas!B:D,3,0),0),\"\")","v":0},{"$f":"IF(A19<>\"\",IFERROR(VLOOKUP(AA19,Tabelas!B:D,3,0),0),\"\")","v":0},{"$f":"IF(A19<>\"\",IFERROR(VLOOKUP(AB19,Tabelas!B:D,3,0),0),\"\")","v":12},{"$f":"IF(A19<>\"\",IFERROR(VLOOKUP(AC19,Tabelas!B:D,3,0),0),\"\")","v":0},{"$f":"IF(A19<>\"\",IFERROR(VLOOKUP(AD19,Tabelas!B:D,3,0),0),\"\")","v":0},{"$f":"IF(A19<>\"\",IFERROR(VLOOKUP(AE19,Tabelas!B:D,3,0),0),\"\")","v":12},{"$f":"IF(A19<>\"\",IFERROR(VLOOKUP(AF19,Tabelas!B:D,3,0),0),\"\")","v":0},{"$f":"IF(A19<>\"\",IFERROR(VLOOKUP(AG19,Tabelas!B:D,3,0),0),\"\")","v":0},{"$f":"IF(A19<>\"\",IFERROR(VLOOKUP(AH19,Tabelas!B:D,3,0),0),\"\")","v":12},{"$f":"IF(A19<>\"\",IFERROR(VLOOKUP(AI19,Tabelas!B:D,3,0),0),\"\")","v":0},{"$f":"IF(A19<>\"\",IFERROR(VLOOKUP(AJ19,Tabelas!B:D,3,0),0),\"\")","v":0},{"$f":"IF(A19<>\"\",IFERROR(VLOOKUP(AK19,Tabelas!B:D,3,0),0),\"\")","v":12},{"$f":"IF(A19<>\"\",IFERROR(VLOOKUP(AL19,Tabelas!B:D,3,0),0),\"\")","v":0},{"$f":"IF(A19<>\"\",IFERROR(VLOOKUP(AM19,Tabelas!B:D,3,0),0),\"\")","v":0},{"$f":"IF(A19<>\"\",IFERROR(VLOOKUP(AN19,Tabelas!B:D,3,0),0),\"\")","v":12},{"$f":"IF(A19<>\"\",IFERROR(VLOOKUP(AO19,Tabelas!B:D,3,0),0),\"\")","v":0},{"$f":"IF(A19<>\"\",IFERROR(VLOOKUP(AP19,Tabelas!B:D,3,0),0),\"\")","v":0},{"$f":"IF(A19<>\"\",IFERROR(VLOOKUP(AQ19,Tabelas!B:D,3,0),0),\"\")","v":12},{"$f":"IF(A19<>\"\",IFERROR(VLOOKUP(AR19,Tabelas!B:D,3,0),0),\"\")","v":0},{"$f":"IF(AND(A19<>\"\",F19=\"Ebserh\"),SUM(AS19:BW19)+COUNTIF(N19:AR19,\"N*\")+COUNTIF(N19:AR19,\"DN*\"),IF(AND(A19<>\"\",F19<>\"Ebserh\"),SUM(AS19:BW19),\"\"))","v":156},{"$f":"IF(A19<>\"\",COUNTIF(N19:AR19,\"LM\")+COUNTIF(N19:AR19,\"L\")+COUNTIF(N19:AR19,\"LP\"),\"\")","v":0},{"$f":"IF(A19<>\"\",COUNTIF(N19:AR19,\"AB*\"),\"\")","v":0},{"$f":"IF(A19<>\"\",COUNTIF(N19:AR19,\"FE\"),\"\")","v":0},{"$f":"IF(A19<>\"\",COUNTIF(N19:AR19,\"LC\"),\"\")","v":0},{"$f":"IF(A19<>\"\",COUNTIF(N19:AR19,\"CH*\"),\"\")","v":1},{"$f":"IF(A19<>\"\",COUNTIF(N19:AR19,\"AF1\")+COUNTIF(N19:AR19,\"AF2\")+COUNTIF(N19:AR19,\"AF3\")+COUNTIF(N19:AR19,\"AF4\")+COUNTIF(N19:AR19,\"AF5\")+COUNTIF(N19:AR19,\"AF6\")+COUNTIF(N19:AR19,\"AF7\")+COUNTIF(N19:AR19,\"AF8\")+COUNTIF(N19:AR19,\"AF9\")+COUNTIF(N19:AR19,\"AF10\")+COUNTIF(N19:AR19,\"AF11\")+COUNTIF(N19:AR19,\"AF12\")+COUNTIF(N19:AR19,\"AF13\")+COUNTIF(N19:AR19,\"AF14\"),\"\")","v":0},{"$f":"IF(A19<>\"\",COUNTIF(N19:AR19,\"CH*\")+COUNTIF(N19:AR19,\"L\")+COUNTIF(N19:AR19,\"LM\")+COUNTIF(N19:AR19,\"LP\")+COUNTIF(N19:AR19,\"LC\")+COUNTIF(N19:AR19,\"AB*\")+COUNTIF(N19:AR19,\"AF1\")+COUNTIF(N19:AR19,\"AF2\")+COUNTIF(N19:AR19,\"AF3\")+COUNTIF(N19:AR19,\"AF4\")+COUNTIF(N19:AR19,\"AF5\")+COUNTIF(N19:AR19,\"AF6\")+COUNTIF(N19:AR19,\"AF7\")+COUNTIF(N19:AR19,\"AF8\")+COUNTIF(N19:AR19,\"AF9\")+COUNTIF(N19:AR19,\"AF10\")+COUNTIF(N19:AR19,\"AF11\")+COUNTIF(N19:AR19,\"AF12\")+COUNTIF(N19:AR19,\"AF13\")+COUNTIF(N19:AR19,\"AF14\")+COUNTIF(N19:AR19,\"RC\")+COUNTIF(N19:AR19,\"FO\")+COUNTIF(N19:AR19,\"FE\"),\"\")","v":2}]
[null,null,12,null,null,null,null,null,null,null,null,null,null,null,null,null,null,null,null,null,null,null,null,null,null,null,null,null,null,null,null,null,null,null,null,null,null,null,null,null,null,null,null,null,{"$f":"IF(Agosto!#REF!<>\"\",IFERROR(VLOOKUP(N20,Tabelas!B:D,3,0),0),\"\")","v":{"$error":"#REF!"}},{"$f":"IF(Agosto!#REF!<>\"\",IFERROR(VLOOKUP(O20,Tabelas!B:D,3,0),0),\"\")","v":{"$error":"#REF!"}},{"$f":"IF(Agosto!#REF!<>\"\",IFERROR(VLOOKUP(P20,Tabelas!B:D,3,0),0),\"\")","v":{"$error":"#REF!"}},{"$f":"IF(Agosto!#REF!<>\"\",IFERROR(VLOOKUP(Q20,Tabelas!B:D,3,0),0),\"\")","v":{"$error":"#REF!"}},{"$f":"IF(Agosto!#REF!<>\"\",IFERROR(VLOOKUP(R20,Tabelas!B:D,3,0),0),\"\")","v":{"$error":"#REF!"}},{"$f":"IF(Agosto!#REF!<>\"\",IFERROR(VLOOKUP(S20,Tabelas!B:D,3,0),0),\"\")","v":{"$error":"#REF!"}},{"$f":"IF(Agosto!#REF!<>\"\",IFERROR(VLOOKUP(T20,Tabelas!B:D,3,0),0),\"\")","v":{"$error":"#REF!"}},{"$f":"IF(Agosto!#REF!<>\"\",IFERROR(VLOOKUP(U20,Tabelas!B:D,3,0),0),\"\")","v":{"$error":"#REF!"}},{"$f":"IF(Agosto!#REF!<>\"\",IFERROR(VLOOKUP(V20,Tabelas!B:D,3,0),0),\"\")","v":{"$error":"#REF!"}},{"$f":"IF(Agosto!#REF!<>\"\",IFERROR(VLOOKUP(W20,Tabelas!B:D,3,0),0),\"\")","v":{"$error":"#REF!"}},{"$f":"IF(Agosto!#REF!<>\"\",IFERROR(VLOOKUP(X20,Tabelas!B:D,3,0),0),\"\")","v":{"$error":"#REF!"}},{"$f":"IF(Agosto!#REF!<>\"\",IFERROR(VLOOKUP(Y20,Tabelas!B:D,3,0),0),\"\")","v":{"$error":"#REF!"}},{"$f":"IF(Agosto!#REF!<>\"\",IFERROR(VLOOKUP(Z20,Tabelas!B:D,3,0),0),\"\")","v":{"$error":"#REF!"}},{"$f":"IF(Agosto!#REF!<>\"\",IFERROR(VLOOKUP(AA20,Tabelas!B:D,3,0),0),\"\")","v":{"$error":"#REF!"}},{"$f":"IF(Agosto!#REF!<>\"\",IFERROR(VLOOKUP(AB20,Tabelas!B:D,3,0),0),\"\")","v":{"$error":"#REF!"}},{"$f":"IF(Agosto!#REF!<>\"\",IFERROR(VLOOKUP(AC20,Tabelas!B:D,3,0),0),\"\")","v":{"$error":"#REF!"}},{"$f":"IF(Agosto!#REF!<>\"\",IFERROR(VLOOKUP(AD20,Tabelas!B:D,3,0),0),\"\")","v":{"$error":"#REF!"}},{"$f":"IF(Agosto!#REF!<>\"\",IFERROR(VLOOKUP(AE20,Tabelas!B:D,3,0),0),\"\")","v":{"$error":"#REF!"}},{"$f":"IF(Agosto!#REF!<>\"\",IFERROR(VLOOKUP(AF20,Tabelas!B:D,3,0),0),\"\")","v":{"$error":"#REF!"}},{"$f":"IF(Agosto!#REF!<>\"\",IFERROR(VLOOKUP(AG20,Tabelas!B:D,3,0),0),\"\")","v":{"$error":"#REF!"}},{"$f":"IF(Agosto!#REF!<>\"\",IFERROR(VLOOKUP(AH20,Tabelas!B:D,3,0),0),\"\")","v":{"$error":"#REF!"}},{"$f":"IF(Agosto!#REF!<>\"\",IFERROR(VLOOKUP(AI20,Tabelas!B:D,3,0),0),\"\")","v":{"$error":"#REF!"}},{"$f":"IF(Agosto!#REF!<>\"\",IFERROR(VLOOKUP(AJ20,Tabelas!B:D,3,0),0),\"\")","v":{"$error":"#REF!"}},{"$f":"IF(Agosto!#REF!<>\"\",IFERROR(VLOOKUP(AK20,Tabelas!B:D,3,0),0),\"\")","v":{"$error":"#REF!"}},{"$f":"IF(Agosto!#REF!<>\"\",IFERROR(VLOOKUP(AL20,Tabelas!B:D,3,0),0),\"\")","v":{"$error":"#REF!"}},{"$f":"IF(Agosto!#REF!<>\"\",IFERROR(VLOOKUP(AM20,Tabelas!B:D,3,0),0),\"\")","v":{"$error":"#REF!"}},{"$f":"IF(Agosto!#REF!<>\"\",IFERROR(VLOOKUP(AN20,Tabelas!B:D,3,0),0),\"\")","v":{"$error":"#REF!"}},{"$f":"IF(Agosto!#REF!<>\"\",IFERROR(VLOOKUP(AO20,Tabelas!B:D,3,0),0),\"\")","v":{"$error":"#REF!"}},{"$f":"IF(Agosto!#REF!<>\"\",IFERROR(VLOOKUP(AP20,Tabelas!B:D,3,0),0),\"\")","v":{"$error":"#REF!"}},{"$f":"IF(Agosto!#REF!<>\"\",IFERROR(VLOOKUP(AQ20,Tabelas!B:D,3,0),0),\"\")","v":{"$error":"#REF!"}},{"$f":"IF(Agosto!#REF!<>\"\",IFERROR(VLOOKUP(AR20,Tabelas!B:D,3,0),0),\"\")","v":{"$error":"#REF!"}},{"$f":"IF(AND(Agosto!#REF!<>\"\",F20=\"Ebserh\"),SUM(AS20:BW20)+COUNTIF(N20:AR20,\"N*\")+COUNTIF(N20:AR20,\"DN*\"),IF(AND(Agosto!#REF!<>\"\",F20<>\"Ebserh\"),SUM(AS20:BW20),\"\"))","v":{"$error":"#REF!"}},{"$f":"IF(Agosto!#REF!<>\"\",COUNTIF(N20:AR20,\"LM\")+COUNTIF(N20:AR20,\"L\")+COUNTIF(N20:AR20,\"LP\"),\"\")","v":{"$error":"#REF!"}},{"$f":"IF(Agosto!#REF!<>\"\",COUNTIF(N20:AR20,\"AB*\"),\"\")","v":{"$error":"#REF!"}},{"$f":"IF(Agosto!#REF!<>\"\",COUNTIF(N20:AR20,\"FE\"),\"\")","v":{"$error":"#REF!"}},{"$f":"IF(Agosto!#REF!<>\"\",COUNTIF(N20:AR20,\"LC\"),\"\")","v":{"$error":"#REF!"}},{"$f":"IF(Agosto!#REF!<>\"\",COUNTIF(N20:AR20,\"CH*\"),\"\")","v":{"$error":"#REF!"}},{"$f":"IF(Agosto!#REF!<>\"\",COUNTIF(N20:AR20,\"AF1\")+COUNTIF(N20:AR20,\"AF2\")+COUNTIF(N20:AR20,\"AF3\")+COUNTIF(N20:AR20,\"AF4\")+COUNTIF(N20:AR20,\"AF5\")+COUNTIF(N20:AR20,\"AF6\")+COUNTIF(N20:AR20,\"AF7\")+COUNTIF(N20:AR20,\"AF8\")+COUNTIF(N20:AR20,\"AF9\")+COUNTIF(N20:AR20,\"AF10\")+COUNTIF(N20:AR20,\"AF11\")+COUNTIF(N20:AR20,\"AF12\")+COUNTIF(N20:AR20,\"AF13\")+COUNTIF(N20:AR20,\"AF14\"),\"\")","v":{"$error":"#REF!"}},{"$f":"IF(Agosto!#REF!<>\"\",COUNTIF(N20:AR20,\"CH*\")+COUNTIF(N20:AR20,\"L\")+COUNTIF(N20:AR20,\"LM\")+COUNTIF(N20:AR20,\"LP\")+COUNTIF(N20:AR20,\"LC\")+COUNTIF(N20:AR20,\"AB*\")+COUNTIF(N20:AR20,\"AF1\")+COUNTIF(N20:AR20,\"AF2\")+COUNTIF(N20:AR20,\"AF3\")+COUNTIF(N20:AR20,\"AF4\")+COUNTIF(N20:AR20,\"AF5\")+COUNTIF(N20:AR20,\"AF6\")+COUNTIF(N20:AR20,\"AF7\")+COUNTIF(N20:AR20,\"AF8\")+COUNTIF(N20:AR20,\"AF9\")+COUNTIF(N20:AR20,\"AF10\")+COUNTIF(N20:AR20,\"AF11\")+COUNTIF(N20:AR20,\"AF12\")+COUNTIF(N20:AR20,\"AF13\")+COUNTIF(N20:AR20,\"AF14\")+COUNTIF(N20:AR20,\"RC\")+COUNTIF(N20:AR20,\"FO\")+COUNTIF(N20:AR20,\"FE\"),\"\")","v":{"$error":"#REF!"}}]
[null,null,13,null,null,null,null,null,null,null,null,null,null,"D6","D6",null,"D6",null,null,"D6","D6",null,"D6","FO","DSR","D6",null,null,"D6",null,null,"N8",null,null,"D6",null,null,null,"D6",null,"D6",null,"T15","D6",{"$f":"IF(Agosto!#REF!<>\"\",IFERROR(VLOOKUP(N21,Tabelas!B:D,3,0),0),\"\")","v":{"$error":"#REF!"}},{"$f":"IF(Agosto!#REF!<>\"\",IFERROR(VLOOKUP(O21,Tabelas!B:D,3,0),0),\"\")","v":{"$error":"#REF!"}},{"$f":"IF(Agosto!#REF!<>\"\",IFERROR(VLOOKUP(P21,Tabelas!B:D,3,0),0),\"\")","v":{"$error":"#REF!"}},{"$f":"IF(Agosto!#REF!<>\"\",IFERROR(VLOOKUP(Q21,Tabelas!B:D,3,0),0),\"\")","v":{"$error":"#REF!"}},{"$f":"IF(Agosto!#REF!<>\"\",IFERROR(VLOOKUP(R21,Tabelas!B:D,3,0),0),\"\")","v":{"$error":"#REF!"}},{"$f":"IF(Agosto!#REF!<>\"\",IFERROR(VLOOKUP(S21,Tabelas!B:D,3,0),0),\"\")","v":{"$error":"#REF!"}},{"$f":"IF(Agosto!#REF!<>\"\",IFERROR(VLOOKUP(T21,Tabelas!B:D,3,0),0),\"\")","v":{"$error":"#REF!"}},{"$f":"IF(Agosto!#REF!<>\"\",IFERROR(VLOOKUP(U21,Tabelas!B:D,3,0),0),\"\")","v":{"$error":"#REF!"}},{"$f":"IF(Agosto!#REF!<>\"\",IFERROR(VLOOKUP(V21,Tabelas!B:D,3,0),0),\"\")","v":{"$error":"#REF!"}},{"$f":"IF(Agosto!#REF!<>\"\",IFERROR(VLOOKUP(W21,Tabelas!B:D,3,0),0),\"\")","v":{"$error":"#REF!"}},{"$f":"IF(Agosto!#REF!<>\"\",IFERROR(VLOOKUP(X21,Tabelas!B:D,3,0),0),\"\")","v":{"$error":"#REF!"}},{"$f":"IF(Agosto!#REF!<>\"\",IFERROR(VLOOKUP(Y21,Tabelas!B:D,3,0),0),\"\")","v":{"$error":"#REF!"}},{"$f":"IF(Agosto!#REF!<>\"\",IFERROR(VLOOKUP(Z21,Tabelas!B:D,3,0),0),\"\")","v":{"$error":"#REF!"}},{"$f":"IF(Agosto!#REF!<>\"\",IFERROR(VLOOKUP(AA21,Tabelas!B:D,3,0),0),\"\")","v":{"$error":"#REF!"}},{"$f":"IF(Agosto!#REF!<>\"\",IFERROR(VLOOKUP(AB21,Tabelas!B:D,3,0),0),\"\")","v":{"$error":"#REF!"}},{"$f":"IF(Agosto!#REF!<>\"\",IFERROR(VLOOKUP(AC21,Tabelas!B:D,3,0),0),\"\")","v":{"$error":"#REF!"}},{"$f":"IF(Agosto!#REF!<>\"\",IFERROR(VLOOKUP(AD21,Tabelas!B:D,3,0),0),\"\")","v":{"$error":"#REF!"}},{"$f":"IF(Agosto!#REF!<>\"\",IFERROR(VLOOKUP(AE21,Tabelas!B:D,3,0),0),\"\")","v":{"$error":"#REF!"}},{"$f":"IF(Agosto!#REF!<>\"\",IFERROR(VLOOKUP(AF21,Tabelas!B:D,3,0),0),\"\")","v":{"$error":"#REF!"}},{"$f":"IF(Agosto!#REF!<>\"\",IFERROR(VLOOKUP(AG21,Tabelas!B:D,3,0),0),\"\")","v":{"$error":"#REF!"}},{"$f":"IF(Agosto!#REF!<>\"\",IFERROR(VLOOKUP(AH21,Tabelas!B:D,3,0),0),\"\")","v":{"$error":"#REF!"}},{"$f":"IF(Agosto!#REF!<>\"\",IFERROR(VLOOKUP(AI21,Tabelas!B:D,3,0),0),\"\")","v":{"$error":"#REF!"}},{"$f":"IF(Agosto!#REF!<>\"\",IFERROR(VLOOKUP(AJ21,Tabelas!B:D,3,0),0),\"\")","v":{"$error":"#REF!"}},{"$f":"IF(Agosto!#REF!<>\"\",IFERROR(VLOOKUP(AK21,Tabelas!B:D,3,0),0),\"\")","v":{"$error":"#REF!"}},{"$f":"IF(Agosto!#REF!<>\"\",IFERROR(VLOOKUP(AL21,Tabelas!B:D,3,0),0),\"\")","v":{"$error":"#REF!"}},{"$f":"IF(Agosto!#REF!<>\"\",IFERROR(VLOOKUP(AM21,Tabelas!B:D,3,0),0),\"\")","v":{"$error":"#REF!"}},{"$f":"IF(Agosto!#REF!<>\"\",IFERROR(VLOOKUP(AN21,Tabelas!B:D,3,0),0),\"\")","v":{"$error":"#REF!"}},{"$f":"IF(Agosto!#REF!<>\"\",IFERROR(VLOOKUP(AO21,Tabelas!B:D,3,0),0),\"\")","v":{"$error":"#REF!"}},{"$f":"IF(Agosto!#REF!<>\"\",IFERROR(VLOOKUP(AP21,Tabelas!B:D,3,0),0),\"\")","v":{"$error":"#REF!"}},{"$f":"IF(Agosto!#REF!<>\"\",IFERROR(VLOOKUP(AQ21,Tabelas!B:D,3,0),0),\"\")","v":{"$error":"#REF!"}},{"$f":"IF(Agosto!#REF!<>\"\",IFERROR(VLOOKUP(AR21,Tabelas!B:D,3,0),0),\"\")","v":{"$error":"#REF!"}},{"$f":"IF(AND(Agosto!#REF!<>\"\",F21=\"Ebserh\"),SUM(AS21:BW21)+COUNTIF(N21:AR21,\"N*\")+COUNTIF(N21:AR21,\"DN*\"),IF(AND(Agosto!#REF!<>\"\",F21<>\"Ebserh\"),SUM(AS21:BW21),\"\"))","v":{"$error":"#REF!"}},{"$f":"IF(Agosto!#REF!<>\"\",COUNTIF(N21:AR21,\"LM\")+COUNTIF(N21:AR21,\"L\")+COUNTIF(N21:AR21,\"LP\"),\"\")","v":{"$error":"#REF!"}},{"$f":"IF(Agosto!#REF!<>\"\",COUNTIF(N21:AR21,\"AB*\"),\"\")","v":{"$error":"#REF!"}},{"$f":"IF(Agosto!#REF!<>\"\",COUNTIF(N21:AR21,\"FE\"),\"\")","v":{"$error":"#REF!"}},{"$f":"IF(Agosto!#REF!<>\"\",COUNTIF(N21:AR21,\"LC\"),\"\")","v":{"$error":"#REF!"}},{"$f":"IF(Agosto!#REF!<>\"\",COUNTIF(N21:AR21,\"CH*\"),\"\")","v":{"$error":"#REF!"}},{"$f":"IF(Agosto!#REF!<>\"\",COUNTIF(N21:AR21,\"AF1\")+COUNTIF(N21:AR21,\"AF2\")+COUNTIF(N21:AR21,\"AF3\")+COUNTIF(N21:AR21,\"AF4\")+COUNTIF(N21:AR21,\"AF5\")+COUNTIF(N21:AR21,\"AF6\")+COUNTIF(N21:AR21,\"AF7\")+COUNTIF(N21:AR21,\"AF8\")+COUNTIF(N21:AR21,\"AF9\")+COUNTIF(N21:AR21,\"AF10\")+COUNTIF(N21:AR21,\"AF11\")+COUNTIF(N21:AR21,\"AF12\")+COUNTIF(N21:AR21,\"AF13\")+COUNTIF(N21:AR21,\"AF14\"),\"\")","v":{"$error":"#REF!"}},{"$f":"IF(Agosto!#REF!<>\"\",COUNTIF(N21:AR21,\"CH*\")+COUNTIF(N21:AR21,\"L\")+COUNTIF(N21:AR21,\"LM\")+COUNTIF(N21:AR21,\"LP\")+COUNTIF(N21:AR21,\"LC\")+COUNTIF(N21:AR21,\"AB*\")+COUNTIF(N21:AR21,\"AF1\")+COUNTIF(N21:AR21,\"AF2\")+COUNTIF(N21:AR21,\"AF3\")+COUNTIF(N21:AR21,\"AF4\")+COUNTIF(N21:AR21,\"AF5\")+COUNTIF(N21:AR21,\"AF6\")+COUNTIF(N21:AR21,\"AF7\")+COUNTIF(N21:AR21,\"AF8\")+COUNTIF(N21:AR21,\"AF9\")+COUNTIF(N21:AR21,\"AF10\")+COUNTIF(N21:AR21,\"AF11\")+COUNTIF(N21:AR21,\"AF12\")+COUNTIF(N21:AR21,\"AF13\")+COUNTIF(N21:AR21,\"AF14\")+COUNTIF(N21:AR21,\"RC\")+COUNTIF(N21:AR21,\"FO\")+COUNTIF(N21:AR21,\"FE\"),\"\")","v":{"$error":"#REF!"}}]
[null,null,14,null,null,null,null,null,null,null,null,null,null,"D6",null,"D6","FO","DSR",null,"D6",null,null,"D6","D6",null,"D6",null,null,"D6",null,null,"D6",null,null,"D6",null,"D6",null,"D6",null,"T15","D6",null,"D6",{"$f":"IF(Agosto!A24<>\"\",IFERROR(VLOOKUP(N22,Tabelas!B:D,3,0),0),\"\")","v":12},{"$f":"IF(Agosto!A24<>\"\",IFERROR(VLOOKUP(O22,Tabelas!B:D,3,0),0),\"\")","v":0},{"$f":"IF(Agosto!A24<>\"\",IFERROR(VLOOKUP(P22,Tabelas!B:D,3,0),0),\"\")","v":12},{"$f":"IF(Agosto!A24<>\"\",IFERROR(VLOOKUP(Q22,Tabelas!B:D,3,0),0),\"\")","v":0},{"$f":"IF(Agosto!A24<>\"\",IFERROR(VLOOKUP(R22,Tabelas!B:D,3,0),0),\"\")","v":0},{"$f":"IF(Agosto!A24<>\"\",IFERROR(VLOOKUP(S22,Tabelas!B:D,3,0),0),\"\")","v":0},{"$f":"IF(Agosto!A24<>\"\",IFERROR(VLOOKUP(T22,Tabelas!B:D,3,0),0),\"\")","v":12},{"$f":"IF(Agosto!A24<>\"\",IFERROR(VLOOKUP(U22,Tabelas!B:D,3,0),0),\"\")","v":0},{"$f":"IF(Agosto!A24<>\"\",IFERROR(VLOOKUP(V22,Tabelas!B:D,3,0),0),\"\")","v":0},{"$f":"IF(Agosto!A24<>\"\",IFERROR(VLOOKUP(W22,Tabelas!B:D,3,0),0),\"\")","v":12},{"$f":"IF(Agosto!A24<>\"\",IFERROR(VLOOKUP(X22,Tabelas!B:D,3,0),0),\"\")","v":12},{"$f":"IF(Agosto!A24<>\"\",IFERROR(VLOOKUP(Y22,Tabelas!B:D,3,0),0),\"\")","v":0},{"$f":"IF(Agosto!A24<>\"\",IFERROR(VLOOKUP(Z22,Tabelas!B:D,3,0),0),\"\")","v":12},{"$f":"IF(Agosto!A24<>\"\",IFERROR(VLOOKUP(AA22,Tabelas!B:D,3,0),0),\"\")","v":0},{"$f":"IF(Agosto!A24<>\"\",IFERROR(VLOOKUP(AB22,Tabelas!B:D,3,0),0),\"\")","v":0},{"$f":"IF(Agosto!A24<>\"\",IFERROR(VLOOKUP(AC22,Tabelas!B:D,3,0),0),\"\")","v":12},{"$f":"IF(Agosto!A24<>\"\",IFERROR(VLOOKUP(AD22,Tabelas!B:D,3,0),0),\"\")","v":0},{"$f":"IF(Agosto!A24<>\"\",IFERROR(VLOOKUP(AE22,Tabelas!B:D,3,0),0),\"\")","v":0},{"$f":"IF(Agosto!A24<>\"\",IFERROR(VLOOKUP(AF22,Tabelas!B:D,3,0),0),\"\")","v":12},{"$f":"IF(Agosto!A24<>\"\",IFERROR(VLOOKUP(AG22,Tabelas!B:D,3,0),0),\"\")","v":0},{"$f":"IF(Agosto!A24<>\"\",IFERROR(VLOOKUP(AH22,Tabelas!B:D,3,0),0),\"\")","v":0},{"$f":"IF(Agosto!A24<>\"\",IFERROR(VLOOKUP(AI22,Tabelas!B:D,3,0),0),\"\")","v":12},{"$f":"IF(Agosto!A24<>\"\",IFERROR(VLOOKUP(AJ22,Tabelas!B:D,3,0),0),\"\")","v":0},{"$f":"IF(Agosto!A24<>\"\",IFERROR(VLOOKUP(AK22,Tabelas!B:D,3,0),0),\"\")","v":12},{"$f":"IF(Agosto!A24<>\"\",IFERROR(VLOOKUP(AL22,Tabelas!B:D,3,0),0),\"\")","v":0},{"$f":"IF(Agosto!A24<>\"\",IFERROR(VLOOKUP(AM22,Tabelas!B:D,3,0),0),\"\")","v":12},{"$f":"IF(Agosto!A24<>\"\",IFERROR(VLOOKUP(AN22,Tabelas!B:D,3,0),0),\"\")","v":0},{"$f":"IF(Agosto!A24<>\"\",IFERROR(VLOOKUP(AO22,Tabelas!B:D,3,0),0),\"\")","v":6},{"$f":"IF(Agosto!A24<>\"\",IFERROR(VLOOKUP(AP22,Tabelas!B:D,3,0),0),\"\")","v":12},{"$f":"IF(Agosto!A24<>\"\",IFERROR(VLOOKUP(AQ22,Tabelas!B:D,3,0),0),\"\")","v":0},{"$f":"IF(Agosto!A24<>\"\",IFERROR(VLOOKUP(AR22,Tabelas!B:D,3,0),0),\"\")","v":12},{"$f":"IF(AND(Agosto!A24<>\"\",F22=\"Ebserh\"),SUM(AS22:BW22)+COUNTIF(N22:AR22,\"N*\")+COUNTIF(N22:AR22,\"DN*\"),IF(AND(Agosto!A24<>\"\",F22<>\"Ebserh\"),SUM(AS22:BW22),\"\"))","v":162},{"$f":"IF(Agosto!A24<>\"\",COUNTIF(N22:AR22,\"LM\")+COUNTIF(N22:AR22,\"L\")+COUNTIF(N22:AR22,\"LP\"),\"\")","v":0},{"$f":"IF(Agosto!A24<>\"\",COUNTIF(N22:AR22,\"AB*\"),\"\")","v":0},{"$f":"IF(Agosto!A24<>\"\",COUNTIF(N22:AR22,\"FE\"),\"\")","v":0},{"$f":"IF(Agosto!A24<>\"\",COUNTIF(N22:AR22,\"LC\"),\"\")","v":0},{"$f":"IF(Agosto!A24<>\"\",COUNTIF(N22:AR22,\"CH*\"),\"\")","v":0},{"$f":"IF(Agosto!A24<>\"\",COUNTIF(N22:AR22,\"AF1\")+COUNTIF(N22:AR22,\"AF2\")+COUNTIF(N22:AR22,\"AF3\")+COUNTIF(N22:AR22,\"AF4\")+COUNTIF(N22:AR22,\"AF5\")+COUNTIF(N22:AR22,\"AF6\")+COUNTIF(N22:AR22,\"AF7\")+COUNTIF(N22:AR22,\"AF8\")+COUNTIF(N22:AR22,\"AF9\")+COUNTIF(N22:AR22,\"AF10\")+COUNTIF(N22:AR22,\"AF11\")+COUNTIF(N22:AR22,\"AF12\")+COUNTIF(N22:AR22,\"AF13\")+COUNTIF(N22:AR22,\"AF14\"),\"\")","v":0},{"$f":"IF(Agosto!A24<>\"\",COUNTIF(N22:AR22,\"CH*\")+COUNTIF(N22:AR22,\"L\")+COUNTIF(N22:AR22,\"LM\")+COUNTIF(N22:AR22,\"LP\")+COUNTIF(N22:AR22,\"LC\")+COUNTIF(N22:AR22,\"AB*\")+COUNTIF(N22:AR22,\"AF1\")+COUNTIF(N22:AR22,\"AF2\")+COUNTIF(N22:AR22,\"AF3\")+COUNTIF(N22:AR22,\"AF4\")+COUNTIF(N22:AR22,\"AF5\")+COUNTIF(N22:AR22,\"AF6\")+COUNTIF(N22:AR22,\"AF7\")+COUNTIF(N22:AR22,\"AF8\")+COUNTIF(N22:AR22,\"AF9\")+COUNTIF(N22:AR22,\"AF10\")+COUNTIF(N22:AR22,\"AF11\")+COUNTIF(N22:AR22,\"AF12\")+COUNTIF(N22:AR22,\"AF13\")+COUNTIF(N22:AR22,\"AF14\")+COUNTIF(N22:AR22,\"RC\")+COUNTIF(N22:AR22,\"FO\")+COUNTIF(N22:AR22,\"FE\"),\"\")","v":1}]
[null,null,15,null,null,null,null,null,null,null,null,null,null,null,"D6",null,"D6",null,null,"D6",null,null,null,"D6","D6",null,"D6",null,"D6",null,"FO","DSR",null,"D6","D6",null,"D6",null,"D6",null,"D6",null,"M15","D6",{"$f":"IF(Agosto!#REF!<>\"\",IFERROR(VLOOKUP(N23,Tabelas!B:D,3,0),0),\"\")","v":{"$error":"#REF!"}},{"$f":"IF(Agosto!#REF!<>\"\",IFERROR(VLOOKUP(O23,Tabelas!B:D,3,0),0),\"\")","v":{"$error":"#REF!"}},{"$f":"IF(Agosto!#REF!<>\"\",IFERROR(VLOOKUP(P23,Tabelas!B:D,3,0),0),\"\")","v":{"$error":"#REF!"}},{"$f":"IF(Agosto!#REF!<>\"\",IFERROR(VLOOKUP(Q23,Tabelas!B:D,3,0),0),\"\")","v":{"$error":"#REF!"}},{"$f":"IF(Agosto!#REF!<>\"\",IFERROR(VLOOKUP(R23,Tabelas!B:D,3,0),0),\"\")","v":{"$error":"#REF!"}},{"$f":"IF(Agosto!#REF!<>\"\",IFERROR(VLOOKUP(S23,Tabelas!B:D,3,0),0),\"\")","v":{"$error":"#REF!"}},{"$f":"IF(Agosto!#REF!<>\"\",IFERROR(VLOOKUP(T23,Tabelas!B:D,3,0),0),\"\")","v":{"$error":"#REF!"}},{"$f":"IF(Agosto!#REF!<>\"\",IFERROR(VLOOKUP(U23,Tabelas!B:D,3,0),0),\"\")","v":{"$error":"#REF!"}},{"$f":"IF(Agosto!#REF!<>\"\",IFERROR(VLOOKUP(V23,Tabelas!B:D,3,0),0),\"\")","v":{"$error":"#REF!"}},{"$f":"IF(Agosto!#REF!<>\"\",IFERROR(VLOOKUP(W23,Tabelas!B:D,3,0),0),\"\")","v":{"$error":"#REF!"}},{"$f":"IF(Agosto!#REF!<>\"\",IFERROR(VLOOKUP(X23,Tabelas!B:D,3,0),0),\"\")","v":{"$error":"#REF!"}},{"$f":"IF(Agosto!#REF!<>\"\",IFERROR(VLOOKUP(Y23,Tabelas!B:D,3,0),0),\"\")","v":{"$error":"#REF!"}},{"$f":"IF(Agosto!#REF!<>\"\",IFERROR(VLOOKUP(Z23,Tabelas!B:D,3,0),0),\"\")","v":{"$error":"#REF!"}},{"$f":"IF(Agosto!#REF!<>\"\",IFERROR(VLOOKUP(AA23,Tabelas!B:D,3,0),0),\"\")","v":{"$error":"#REF!"}},{"$f":"IF(Agosto!#REF!<>\"\",IFERROR(VLOOKUP(AB23,Tabelas!B:D,3,0),0),\"\")","v":{"$error":"#REF!"}},{"$f":"IF(Agosto!#REF!<>\"\",IFERROR(VLOOKUP(AC23,Tabelas!B:D,3,0),0),\"\")","v":{"$error":"#REF!"}},{"$f":"IF(Agosto!#REF!<>\"\",IFERROR(VLOOKUP(AD23,Tabelas!B:D,3,0),0),\"\")","v":{"$error":"#REF!"}},{"$f":"IF(Agosto!#REF!<>\"\",IFERROR(VLOOKUP(AE23,Tabelas!B:D,3,0),0),\"\")","v":{"$error":"#REF!"}},{"$f":"IF(Agosto!#REF!<>\"\",IFERROR(VLOOKUP(AF23,Tabelas!B:D,3,0),0),\"\")","v":{"$error":"#REF!"}},{"$f":"IF(Agosto!#REF!<>\"\",IFERROR(VLOOKUP(AG23,Tabelas!B:D,3,0),0),\"\")","v":{"$error":"#REF!"}},{"$f":"IF(Agosto!#REF!<>\"\",IFERROR(VLOOKUP(AH23,Tabelas!B:D,3,0),0),\"\")","v":{"$error":"#REF!"}},{"$f":"IF(Agosto!#REF!<>\"\",IFERROR(VLOOKUP(AI23,Tabelas!B:D,3,0),0),\"\")","v":{"$error":"#REF!"}},{"$f":"IF(Agosto!#REF!<>\"\",IFERROR(VLOOKUP(AJ23,Tabelas!B:D,3,0),0),\"\")","v":{"$error":"#REF!"}},{"$f":"IF(Agosto!#REF!<>\"\",IFERROR(VLOOKUP(AK23,Tabelas!B:D,3,0),0),\"\")","v":{"$error":"#REF!"}},{"$f":"IF(Agosto!#REF!<>\"\",IFERROR(VLOOKUP(AL23,Tabelas!B:D,3,0),0),\"\")","v":{"$error":"#REF!"}},{"$f":"IF(Agosto!#REF!<>\"\",IFERROR(VLOOKUP(AM23,Tabelas!B:D,3,0),0),\"\")","v":{"$error":"#REF!"}},{"$f":"IF(Agosto!#REF!<>\"\",IFERROR(VLOOKUP(AN23,Tabelas!B:D,3,0),0),\"\")","v":{"$error":"#REF!"}},{"$f":"IF(Agosto!#REF!<>\"\",IFERROR(VLOOKUP(AO23,Tabelas!B:D,3,0),0),\"\")","v":{"$error":"#REF!"}},{"$f":"IF(Agosto!#REF!<>\"\",IFERROR(VLOOKUP(AP23,Tabelas!B:D,3,0),0),\"\")","v":{"$error":"#REF!"}},{"$f":"IF(Agosto!#REF!<>\"\",IFERROR(VLOOKUP(AQ23,Tabelas!B:D,3,0),0),\"\")","v":{"$error":"#REF!"}},{"$f":"IF(Agosto!#REF!<>\"\",IFERROR(VLOOKUP(AR23,Tabelas!B:D,3,0),0),\"\")","v":{"$error":"#REF!"}},{"$f":"IF(AND(Agosto!#REF!<>\"\",F23=\"Ebserh\"),SUM(AS23:BW23)+COUNTIF(N23:AR23,\"N*\")+COUNTIF(N23:AR23,\"DN*\"),IF(AND(Agosto!#REF!<>\"\",F23<>\"Ebserh\"),SUM(AS23:BW23),\"\"))","v":{"$error":"#REF!"}},{"$f":"IF(Agosto!#REF!<>\"\",COUNTIF(N23:AR23,\"LM\")+COUNTIF(N23:AR23,\"L\")+COUNTIF(N23:AR23,\"LP\"),\"\")","v":{"$error":"#REF!"}},{"$f":"IF(Agosto!#REF!<>\"\",COUNTIF(N23:AR23,\"AB*\"),\"\")","v":{"$error":"#REF!"}},{"$f":"IF(Agosto!#REF!<>\"\",COUNTIF(N23:AR23,\"FE\"),\"\")","v":{"$error":"#REF!"}},{"$f":"IF(Agosto!#REF!<>\"\",COUNTIF(N23:AR23,\"LC\"),\"\")","v":{"$error":"#REF!"}},{"$f":"IF(Agosto!#REF!<>\"\",COUNTIF(N23:AR23,\"CH*\"),\"\")","v":{"$error":"#REF!"}},{"$f":"IF(Agosto!#REF!<>\"\",COUNTIF(N23:AR23,\"AF1\")+COUNTIF(N23:AR23,\"AF2\")+COUNTIF(N23:AR23,\"AF3\")+COUNTIF(N23:AR23,\"AF4\")+COUNTIF(N23:AR23,\"AF5\")+COUNTIF(N23:AR23,\"AF6\")+COUNTIF(N23:AR23,\"AF7\")+COUNTIF(N23:AR23,\"AF8\")+COUNTIF(N23:AR23,\"AF9\")+COUNTIF(N23:AR23,\"AF10\")+COUNTIF(N23:AR23,\"AF11\")+COUNTIF(N23:AR23,\"AF12\")+COUNTIF(N23:AR23,\"AF13\")+COUNTIF(N23:AR23,\"AF14\"),\"\")","v":{"$error":"#REF!"}},{"$f":"IF(Agosto!#REF!<>\"\",COUNTIF(N23:AR23,\"CH*\")+COUNTIF(N23:AR23,\"L\")+COUNTIF(N23:AR23,\"LM\")+COUNTIF(N23:AR23,\"LP\")+COUNTIF(N23:AR23,\"LC\")+COUNTIF(N23:AR23,\"AB*\")+COUNTIF(N23:AR23,\"AF1\")+COUNTIF(N23:AR23,\"AF2\")+COUNTIF(N23:AR23,\"AF3\")+COUNTIF(N23:AR23,\"AF4\")+COUNTIF(N23:AR23,\"AF5\")+COUNTIF(N23:AR23,\"AF6\")+COUNTIF(N23:AR23,\"AF7\")+COUNTIF(N23:AR23,\"AF8\")+COUNTIF(N23:AR23,\"AF9\")+COUNTIF(N23:AR23,\"AF10\")+COUNTIF(N23:AR23,\"AF11\")+COUNTIF(N23:AR23,\"AF12\")+COUNTIF(N23:AR23,\"AF13\")+COUNTIF(N23:AR23,\"AF14\")+COUNTIF(N23:AR23,\"RC\")+COUNTIF(N23:AR23,\"FO\")+COUNTIF(N23:AR23,\"FE\"),\"\")","v":{"$error":"#REF!"}}]
[null,null,16,null,null,null,null,null,null,null,null,null,null,null,"D6",null,"D6",null,"D6",null,"D6",null,"D6",null,"D6",null,"D6",null,"D6",null,"D6",null,"D6",null,"D6",null,"D6","FO","DSR",null,"D6",null,"M15",null,{"$f":"IF(Agosto!A27<>\"\",IFERROR(VLOOKUP(N24,Tabelas!B:D,3,0),0),\"\")","v":0},{"$f":"IF(Agosto!A27<>\"\",IFERROR(VLOOKUP(O24,Tabelas!B:D,3,0),0),\"\")","v":12},{"$f":"IF(Agosto!A27<>\"\",IFERROR(VLOOKUP(P24,Tabelas!B:D,3,0),0),\"\")","v":0},{"$f":"IF(Agosto!A27<>\"\",IFERROR(VLOOKUP(Q24,Tabelas!B:D,3,0),0),\"\")","v":12},{"$f":"IF(Agosto!A27<>\"\",IFERROR(VLOOKUP(R24,Tabelas!B:D,3,0),0),\"\")","v":0},{"$f":"IF(Agosto!A27<>\"\",IFERROR(VLOOKUP(S24,Tabelas!B:D,3,0),0),\"\")","v":12},{"$f":"IF(Agosto!A27<>\"\",IFERROR(VLOOKUP(T24,Tabelas!B:D,3,0),0),\"\")","v":0},{"$f":"IF(Agosto!A27<>\"\",IFERROR(VLOOKUP(U24,Tabelas!B:D,3,0),0),\"\")","v":12},{"$f":"IF(Agosto!A27<>\"\",IFERROR(VLOOKUP(V24,Tabelas!B:D,3,0),0),\"\")","v":0},{"$f":"IF(Agosto!A27<>\"\",IFERROR(VLOOKUP(W24,Tabelas!B:D,3,0),0),\"\")","v":12},{"$f":"IF(Agosto!A27<>\"\",IFERROR(VLOOKUP(X24,Tabelas!B:D,3,0),0),\"\")","v":0},{"$f":"IF(Agosto!A27<>\"\",IFERROR(VLOOKUP(Y24,Tabelas!B:D,3,0),0),\"\")","v":12},{"$f":"IF(Agosto!A27<>\"\",IFERROR(VLOOKUP(Z24,Tabelas!B:D,3,0),0),\"\")","v":0},{"$f":"IF(Agosto!A27<>\"\",IFERROR(VLOOKUP(AA24,Tabelas!B:D,3,0),0),\"\")","v":12},{"$f":"IF(Agosto!A27<>\"\",IFERROR(VLOOKUP(AB24,Tabelas!B:D,3,0),0),\"\")","v":0},{"$f":"IF(Agosto!A27<>\"\",IFERROR(VLOOKUP(AC24,Tabelas!B:D,3,0),0),\"\")","v":12},{"$f":"IF(Agosto!A27<>\"\",IFERROR(VLOOKUP(AD24,Tabelas!B:D,3,0),0),\"\")","v":0},{"$f":"IF(Agosto!A27<>\"\",IFERROR(VLOOKUP(AE24,Tabelas!B:D,3,0),0),\"\")","v":12},{"$f":"IF(Agosto!A27<>\"\",IFERROR(VLOOKUP(AF24,Tabelas!B:D,3,0),0),\"\")","v":0},{"$f":"IF(Agosto!A27<>\"\",IFERROR(VLOOKUP(AG24,Tabelas!B:D,3,0),0),\"\")","v":12},{"$f":"IF(Agosto!A27<>\"\",IFERROR(VLOOKUP(AH24,Tabelas!B:D,3,0),0),\"\")","v":0},{"$f":"IF(Agosto!A27<>\"\",IFERROR(VLOOKUP(AI24,Tabelas!B:D,3,0),0),\"\")","v":12},{"$f":"IF(Agosto!A27<>\"\",IFERROR(VLOOKUP(AJ24,Tabelas!B:D,3,0),0),\"\")","v":0},{"$f":"IF(Agosto!A27<>\"\",IFERROR(VLOOKUP(AK24,Tabelas!B:D,3,0),0),\"\")","v":12},{"$f":"IF(Agosto!A27<>\"\",IFERROR(VLOOKUP(AL24,Tabelas!B:D,3,0),0),\"\")","v":0},{"$f":"IF(Agosto!A27<>\"\",IFERROR(VLOOKUP(AM24,Tabelas!B:D,3,0),0),\"\")","v":0},{"$f":"IF(Agosto!A27<>\"\",IFERROR(VLOOKUP(AN24,Tabelas!B:D,3,0),0),\"\")","v":0},{"$f":"IF(Agosto!A27<>\"\",IFERROR(VLOOKUP(AO24,Tabelas!B:D,3,0),0),\"\")","v":12},{"$f":"IF(Agosto!A27<>\"\",IFERROR(VLOOKUP(AP24,Tabelas!B:D,3,0),0),\"\")","v":0},{"$f":"IF(Agosto!A27<>\"\",IFERROR(VLOOKUP(AQ24,Tabelas!B:D,3,0),0),\"\")","v":6},{"$f":"IF(Agosto!A27<>\"\",IFERROR(VLOOKUP(AR24,Tabelas!B:D,3,0),0),\"\")","v":0},{"$f":"IF(AND(Agosto!A27<>\"\",F24=\"Ebserh\"),SUM(AS24:BW24)+COUNTIF(N24:AR24,\"N*\")+COUNTIF(N24:AR24,\"DN*\"),IF(AND(Agosto!A27<>\"\",F24<>\"Ebserh\"),SUM(AS24:BW24),\"\"))","v":162},{"$f":"IF(Agosto!A27<>\"\",COUNTIF(N24:AR24,\"LM\")+COUNTIF(N24:AR24,\"L\")+COUNTIF(N24:AR24,\"LP\"),\"\")","v":0},{"$f":"IF(Agosto!A27<>\"\",COUNTIF(N24:AR24,\"AB*\"),\"\")","v":0},{"$f":"IF(Agosto!A27<>\"\",COUNTIF(N24:AR24,\"FE\"),\"\")","v":0},{"$f":"IF(Agosto!A27<>\"\",COUNTIF(N24:AR24,\"LC\"),\"\")","v":0},{"$f":"IF(Agosto!A27<>\"\",COUNTIF(N24:AR24,\"CH*\"),\"\")","v":0},{"$f":"IF(Agosto!A27<>\"\",COUNTIF(N24:AR24,\"AF1\")+COUNTIF(N24:AR24,\"AF2\")+COUNTIF(N24:AR24,\"AF3\")+COUNTIF(N24:AR24,\"AF4\")+COUNTIF(N24:AR24,\"AF5\")+COUNTIF(N24:AR24,\"AF6\")+COUNTIF(N24:AR24,\"AF7\")+COUNTIF(N24:AR24,\"AF8\")+COUNTIF(N24:AR24,\"AF9\")+COUNTIF(N24:AR24,\"AF10\")+COUNTIF(N24:AR24,\"AF11\")+COUNTIF(N24:AR24,\"AF12\")+COUNTIF(N24:AR24,\"AF13\")+COUNTIF(N24:AR24,\"AF14\"),\"\")","v":0},{"$f":"IF(Agosto!A27<>\"\",COUNTIF(N24:AR24,\"CH*\")+COUNTIF(N24:AR24,\"L\")+COUNTIF(N24:AR24,\"LM\")+COUNTIF(N24:AR24,\"LP\")+COUNTIF(N24:AR24,\"LC\")+COUNTIF(N24:AR24,\"AB*\")+COUNTIF(N24:AR24,\"AF1\")+COUNTIF(N24:AR24,\"AF2\")+COUNTIF(N24:AR24,\"AF3\")+COUNTIF(N24:AR24,\"AF4\")+COUNTIF(N24:AR24,\"AF5\")+COUNTIF(N24:AR24,\"AF6\")+COUNTIF(N24:AR24,\"AF7\")+COUNTIF(N24:AR24,\"AF8\")+COUNTIF(N24:AR24,\"AF9\")+COUNTIF(N24:AR24,\"AF10\")+COUNTIF(N24:AR24,\"AF11\")+COUNTIF(N24:AR24,\"AF12\")+COUNTIF(N24:AR24,\"AF13\")+COUNTIF(N24:AR24,\"AF14\")+COUNTIF(N24:AR24,\"RC\")+COUNTIF(N24:AR24,\"FO\")+COUNTIF(N24:AR24,\"FE\"),\"\")","v":1}]
[null,null,17,null,null,null,null,null,null,null,null,null,null,"D6",null,"D6",null,"D6",null,"D6",null,null,null,"FO","DSR","D6",null,"D6",null,"D6",null,"D6",null,"D6",null,"D6",null,"D6",null,"D6",null,"M15","D6",null,{"$f":"IF(Agosto!A28<>\"\",IFERROR(VLOOKUP(N25,Tabelas!B:D,3,0),0),\"\")","v":12},{"$f":"IF(Agosto!A28<>\"\",IFERROR(VLOOKUP(O25,Tabelas!B:D,3,0),0),\"\")","v":0},{"$f":"IF(Agosto!A28<>\"\",IFERROR(VLOOKUP(P25,Tabelas!B:D,3,0),0),\"\")","v":12},{"$f":"IF(Agosto!A28<>\"\",IFERROR(VLOOKUP(Q25,Tabelas!B:D,3,0),0),\"\")","v":0},{"$f":"IF(Agosto!A28<>\"\",IFERROR(VLOOKUP(R25,Tabelas!B:D,3,0),0),\"\")","v":12},{"$f":"IF(Agosto!A28<>\"\",IFERROR(VLOOKUP(S25,Tabelas!B:D,3,0),0),\"\")","v":0},{"$f":"IF(Agosto!A28<>\"\",IFERROR(VLOOKUP(T25,Tabelas!B:D,3,0),0),\"\")","v":12},{"$f":"IF(Agosto!A28<>\"\",IFERROR(VLOOKUP(U25,Tabelas!B:D,3,0),0),\"\")","v":0},{"$f":"IF(Agosto!A28<>\"\",IFERROR(VLOOKUP(V25,Tabelas!B:D,3,0),0),\"\")","v":0},{"$f":"IF(Agosto!A28<>\"\",IFERROR(VLOOKUP(W25,Tabelas!B:D,3,0),0),\"\")","v":0},{"$f":"IF(Agosto!A28<>\"\",IFERROR(VLOOKUP(X25,Tabelas!B:D,3,0),0),\"\")","v":0},{"$f":"IF(Agosto!A28<>\"\",IFERROR(VLOOKUP(Y25,Tabelas!B:D,3,0),0),\"\")","v":0},{"$f":"IF(Agosto!A28<>\"\",IFERROR(VLOOKUP(Z25,Tabelas!B:D,3,0),0),\"\")","v":12},{"$f":"IF(Agosto!A28<>\"\",IFERROR(VLOOKUP(AA25,Tabelas!B:D,3,0),0),\"\")","v":0},{"$f":"IF(Agosto!A28<>\"\",IFERROR(VLOOKUP(AB25,Tabelas!B:D,3,0),0),\"\")","v":12},{"$f":"IF(Agosto!A28<>\"\",IFERROR(VLOOKUP(AC25,Tabelas!B:D,3,0),0),\"\")","v":0},{"$f":"IF(Agosto!A28<>\"\",IFERROR(VLOOKUP(AD25,Tabelas!B:D,3,0),0),\"\")","v":12},{"$f":"IF(Agosto!A28<>\"\",IFERROR(VLOOKUP(AE25,Tabelas!B:D,3,0),0),\"\")","v":0},{"$f":"IF(Agosto!A28<>\"\",IFERROR(VLOOKUP(AF25,Tabelas!B:D,3,0),0),\"\")","v":12},{"$f":"IF(Agosto!A28<>\"\",IFERROR(VLOOKUP(AG25,Tabelas!B:D,3,0),0),\"\")","v":0},{"$f":"IF(Agosto!A28<>\"\",IFERROR(VLOOKUP(AH25,Tabelas!B:D,3,0),0),\"\")","v":12},{"$f":"IF(Agosto!A28<>\"\",IFERROR(VLOOKUP(AI25,Tabelas!B:D,3,0),0),\"\")","v":0},{"$f":"IF(Agosto!A28<>\"\",IFERROR(VLOOKUP(AJ25,Tabelas!B:D,3,0),0),\"\")","v":12},{"$f":"IF(Agosto!A28<>\"\",IFERROR(VLOOKUP(AK25,Tabelas!B:D,3,0),0),\"\")","v":0},{"$f":"IF(Agosto!A28<>\"\",IFERROR(VLOOKUP(AL25,Tabelas!B:D,3,0),0),\"\")","v":12},{"$f":"IF(Agosto!A28<>\"\",IFERROR(VLOOKUP(AM25,Tabelas!B:D,3,0),0),\"\")","v":0},{"$f":"IF(Agosto!A28<>\"\",IFERROR(VLOOKUP(AN25,Tabelas!B:D,3,0),0),\"\")","v":12},{"$f":"IF(Agosto!A28<>\"\",IFERROR(VLOOKUP(AO25,Tabelas!B:D,3,0),0),\"\")","v":0},{"$f":"IF(Agosto!A28<>\"\",IFERROR(VLOOKUP(AP25,Tabelas!B:D,3,0),0),\"\")","v":6},{"$f":"IF(Agosto!A28<>\"\",IFERROR(VLOOKUP(AQ25,Tabelas!B:D,3,0),0),\"\")","v":12},{"$f":"IF(Agosto!A28<>\"\",IFERROR(VLOOKUP(AR25,Tabelas!B:D,3,0),0),\"\")","v":0},{"$f":"IF(AND(Agosto!A28<>\"\",F25=\"Ebserh\"),SUM(AS25:BW25)+COUNTIF(N25:AR25,\"N*\")+COUNTIF(N25:AR25,\"DN*\"),IF(AND(Agosto!A28<>\"\",F25<>\"Ebserh\"),SUM(AS25:BW25),\"\"))","v":162},{"$f":"IF(Agosto!A28<>\"\",COUNTIF(N25:AR25,\"LM\")+COUNTIF(N25:AR25,\"L\")+COUNTIF(N25:AR25,\"LP\"),\"\")","v":0},{"$f":"IF(Agosto!A28<>\"\",COUNTIF(N25:AR25,\"AB*\"),\"\")","v":0},{"$f":"IF(Agosto!A28<>\"\",COUNTIF(N25:AR25,\"FE\"),\"\")","v":0},{"$f":"IF(Agosto!A28<>\"\",COUNTIF(N25:AR25,\"LC\"),\"\")","v":0},{"$f":"IF(Agosto!A28<>\"\",COUNTIF(N25:AR25,\"CH*\"),\"\")","v":0},{"$f":"IF(Agosto!A28<>\"\",COUNTIF(N25:AR25,\"AF1\")+COUNTIF(N25:AR25,\"AF2\")+COUNTIF(N25:AR25,\"AF3\")+COUNTIF(N25:AR25,\"AF4\")+COUNTIF(N25:AR25,\"AF5\")+COUNTIF(N25:AR25,\"AF6\")+COUNTIF(N25:AR25,\"AF7\")+COUNTIF(N25:AR25,\"AF8\")+COUNTIF(N25:AR25,\"AF9\")+COUNTIF(N25:AR25,\"AF10\")+COUNTIF(N25:AR25,\"AF11\")+COUNTIF(N25:AR25,\"AF12\")+COUNTIF(N25:AR25,\"AF13\")+COUNTIF(N25:AR25,\"AF14\"),\"\")","v":0},{"$f":"IF(Agosto!A28<>\"\",COUNTIF(N25:AR25,\"CH*\")+COUNTIF(N25:AR25,\"L\")+COUNTIF(N25:AR25,\"LM\")+COUNTIF(N25:AR25,\"LP\")+COUNTIF(N25:AR25,\"LC\")+COUNTIF(N25:AR25,\"AB*\")+COUNTIF(N25:AR25,\"AF1\")+COUNTIF(N25:AR25,\"AF2\")+COUNTIF(N25:AR25,\"AF3\")+COUNTIF(N25:AR25,\"AF4\")+COUNTIF(N25:AR25,\"AF5\")+COUNTIF(N25:AR25,\"AF6\")+COUNTIF(N25:AR25,\"AF7\")+COUNTIF(N25:AR25,\"AF8\")+COUNTIF(N25:AR25,\"AF9\")+COUNTIF(N25:AR25,\"AF10\")+COUNTIF(N25:AR25,\"AF11\")+COUNTIF(N25:AR25,\"AF12\")+COUNTIF(N25:AR25,\"AF13\")+COUNTIF(N25:AR25,\"AF14\")+COUNTIF(N25:AR25,\"RC\")+COUNTIF(N25:AR25,\"FO\")+COUNTIF(N25:AR25,\"FE\"),\"\")","v":1}]
[null,null,18,null,null,null,null,null,null,null,null,null,null,null,"D6",null,"D6",null,"D6",null,"D6","D6",null,null,"D6",null,"D6",null,"D6",null,"D6",null,"D6",null,"D6",null,"D6","FO","DSR",null,"D6",null,"T15",null,{"$f":"IF(Agosto!A29<>\"\",IFERROR(VLOOKUP(N26,Tabelas!B:D,3,0),0),\"\")","v":0},{"$f":"IF(Agosto!A29<>\"\",IFERROR(VLOOKUP(O26,Tabelas!B:D,3,0),0),\"\")","v":12},{"$f":"IF(Agosto!A29<>\"\",IFERROR(VLOOKUP(P26,Tabelas!B:D,3,0),0),\"\")","v":0},{"$f":"IF(Agosto!A29<>\"\",IFERROR(VLOOKUP(Q26,Tabelas!B:D,3,0),0),\"\")","v":12},{"$f":"IF(Agosto!A29<>\"\",IFERROR(VLOOKUP(R26,Tabelas!B:D,3,0),0),\"\")","v":0},{"$f":"IF(Agosto!A29<>\"\",IFERROR(VLOOKUP(S26,Tabelas!B:D,3,0),0),\"\")","v":12},{"$f":"IF(Agosto!A29<>\"\",IFERROR(VLOOKUP(T26,Tabelas!B:D,3,0),0),\"\")","v":0},{"$f":"IF(Agosto!A29<>\"\",IFERROR(VLOOKUP(U26,Tabelas!B:D,3,0),0),\"\")","v":12},{"$f":"IF(Agosto!A29<>\"\",IFERROR(VLOOKUP(V26,Tabelas!B:D,3,0),0),\"\")","v":12},{"$f":"IF(Agosto!A29<>\"\",IFERROR(VLOOKUP(W26,Tabelas!B:D,3,0),0),\"\")","v":0},{"$f":"IF(Agosto!A29<>\"\",IFERROR(VLOOKUP(X26,Tabelas!B:D,3,0),0),\"\")","v":0},{"$f":"IF(Agosto!A29<>\"\",IFERROR(VLOOKUP(Y26,Tabelas!B:D,3,0),0),\"\")","v":12},{"$f":"IF(Agosto!A29<>\"\",IFERROR(VLOOKUP(Z26,Tabelas!B:D,3,0),0),\"\")","v":0},{"$f":"IF(Agosto!A29<>\"\",IFERROR(VLOOKUP(AA26,Tabelas!B:D,3,0),0),\"\")","v":12},{"$f":"IF(Agosto!A29<>\"\",IFERROR(VLOOKUP(AB26,Tabelas!B:D,3,0),0),\"\")","v":0},{"$f":"IF(Agosto!A29<>\"\",IFERROR(VLOOKUP(AC26,Tabelas!B:D,3,0),0),\"\")","v":12},{"$f":"IF(Agosto!A29<>\"\",IFERROR(VLOOKUP(AD26,Tabelas!B:D,3,0),0),\"\")","v":0},{"$f":"IF(Agosto!A29<>\"\",IFERROR(VLOOKUP(AE26,Tabelas!B:D,3,0),0),\"\")","v":12},{"$f":"IF(Agosto!A29<>\"\",IFERROR(VLOOKUP(AF26,Tabelas!B:D,3,0),0),\"\")","v":0},{"$f":"IF(Agosto!A29<>\"\",IFERROR(VLOOKUP(AG26,Tabelas!B:D,3,0),0),\"\")","v":12},{"$f":"IF(Agosto!A29<>\"\",IFERROR(VLOOKUP(AH26,Tabelas!B:D,3,0),0),\"\")","v":0},{"$f":"IF(Agosto!A29<>\"\",IFERROR(VLOOKUP(AI26,Tabelas!B:D,3,0),0),\"\")","v":12},{"$f":"IF(Agosto!A29<>\"\",IFERROR(VLOOKUP(AJ26,Tabelas!B:D,3,0),0),\"\")","v":0},{"$f":"IF(Agosto!A29<>\"\",IFERROR(VLOOKUP(AK26,Tabelas!B:D,3,0),0),\"\")","v":12},{"$f":"IF(Agosto!A29<>\"\",IFERROR(VLOOKUP(AL26,Tabelas!B:D,3,0),0),\"\")","v":0},{"$f":"IF(Agosto!A29<>\"\",IFERROR(VLOOKUP(AM26,Tabelas!B:D,3,0),0),\"\")","v":0},{"$f":"IF(Agosto!A29<>\"\",IFERROR(VLOOKUP(AN26,Tabelas!B:D,3,0),0),\"\")","v":0},{"$f":"IF(Agosto!A29<>\"\",IFERROR(VLOOKUP(AO26,Tabelas!B:D,3,0),0),\"\")","v":12},{"$f":"IF(Agosto!A29<>\"\",IFERROR(VLOOKUP(AP26,Tabelas!B:D,3,0),0),\"\")","v":0},{"$f":"IF(Agosto!A29<>\"\",IFERROR(VLOOKUP(AQ26,Tabelas!B:D,3,0),0),\"\")","v":6},{"$f":"IF(Agosto!A29<>\"\",IFERROR(VLOOKUP(AR26,Tabelas!B:D,3,0),0),\"\")","v":0},{"$f":"IF(AND(Agosto!A29<>\"\",F26=\"Ebserh\"),SUM(AS26:BW26)+COUNTIF(N26:AR26,\"N*\")+COUNTIF(N26:AR26,\"DN*\"),IF(AND(Agosto!A29<>\"\",F26<>\"Ebserh\"),SUM(AS26:BW26),\"\"))","v":162},{"$f":"IF(Agosto!A29<>\"\",COUNTIF(N26:AR26,\"LM\")+COUNTIF(N26:AR26,\"L\")+COUNTIF(N26:AR26,\"LP\"),\"\")","v":0},{"$f":"IF(Agosto!A29<>\"\",COUNTIF(N26:AR26,\"AB*\"),\"\")","v":0},{"$f":"IF(Agosto!A29<>\"\",COUNTIF(N26:AR26,\"FE\"),\"\")","v":0},{"$f":"IF(Agosto!A29<>\"\",COUNTIF(N26:AR26,\"LC\"),\"\")","v":0},{"$f":"IF(Agosto!A29<>\"\",COUNTIF(N26:AR26,\"CH*\"),\"\")","v":0},{"$f":"IF(Agosto!A29<>\"\",COUNTIF(N26:AR26,\"AF1\")+COUNTIF(N26:AR26,\"AF2\")+COUNTIF(N26:AR26,\"AF3\")+COUNTIF(N26:AR26,\"AF4\")+COUNTIF(N26:AR26,\"AF5\")+COUNTIF(N26:AR26,\"AF6\")+COUNTIF(N26:AR26,\"AF7\")+COUNTIF(N26:AR26,\"AF8\")+COUNTIF(N26:AR26,\"AF9\")+COUNTIF(N26:AR26,\"AF10\")+COUNTIF(N26:AR26,\"AF11\")+COUNTIF(N26:AR26,\"AF12\")+COUNTIF(N26:AR26,\"AF13\")+COUNTIF(N26:AR26,\"AF14\"),\"\")","v":0},{"$f":"IF(Agosto!A29<>\"\",COUNTIF(N26:AR26,\"CH*\")+COUNTIF(N26:AR26,\"L\")+COUNTIF(N26:AR26,\"LM\")+COUNTIF(N26:AR26,\"LP\")+COUNTIF(N26:AR26,\"LC\")+COUNTIF(N26:AR26,\"AB*\")+COUNTIF(N26:AR26,\"AF1\")+COUNTIF(N26:AR26,\"AF2\")+COUNTIF(N26:AR26,\"AF3\")+COUNTIF(N26:AR26,\"AF4\")+COUNTIF(N26:AR26,\"AF5\")+COUNTIF(N26:AR26,\"AF6\")+COUNTIF(N26:AR26,\"AF7\")+COUNTIF(N26:AR26,\"AF8\")+COUNTIF(N26:AR26,\"AF9\")+COUNTIF(N26:AR26,\"AF10\")+COUNTIF(N26:AR26,\"AF11\")+COUNTIF(N26:AR26,\"AF12\")+COUNTIF(N26:AR26,\"AF13\")+COUNTIF(N26:AR26,\"AF14\")+COUNTIF(N26:AR26,\"RC\")+COUNTIF(N26:AR26,\"FO\")+COUNTIF(N26:AR26,\"FE\"),\"\")","v":1}]
[null,null,19,null,null,null,null,null,null,null,null,null,null,null,"D6",null,"D6","N8",null,null,"D6",null,"D6","FO","DSR","D6",null,"D6",null,null,"D6","D6",null,"D6",null,"D6",null,"D6",null,null,null,"T15","D6",null,{"$f":"IF(A27<>\"\",IFERROR(VLOOKUP(N27,Tabelas!B:D,3,0),0),\"\")","v":""},{"$f":"IF(A27<>\"\",IFERROR(VLOOKUP(O27,Tabelas!B:D,3,0),0),\"\")","v":""},{"$f":"IF(A27<>\"\",IFERROR(VLOOKUP(P27,Tabelas!B:D,3,0),0),\"\")","v":""},{"$f":"IF(A27<>\"\",IFERROR(VLOOKUP(Q27,Tabelas!B:D,3,0),0),\"\")","v":""},{"$f":"IF(A27<>\"\",IFERROR(VLOOKUP(R27,Tabelas!B:D,3,0),0),\"\")","v":""},{"$f":"IF(A27<>\"\",IFERROR(VLOOKUP(S27,Tabelas!B:D,3,0),0),\"\")","v":""},{"$f":"IF(A27<>\"\",IFERROR(VLOOKUP(T27,Tabelas!B:D,3,0),0),\"\")","v":""},{"$f":"IF(A27<>\"\",IFERROR(VLOOKUP(U27,Tabelas!B:D,3,0),0),\"\")","v":""},{"$f":"IF(A27<>\"\",IFERROR(VLOOKUP(V27,Tabelas!B:D,3,0),0),\"\")","v":""},{"$f":"IF(A27<>\"\",IFERROR(VLOOKUP(W27,Tabelas!B:D,3,0),0),\"\")","v":""},{"$f":"IF(A27<>\"\",IFERROR(VLOOKUP(X27,Tabelas!B:D,3,0),0),\"\")","v":""},{"$f":"IF(A27<>\"\",IFERROR(VLOOKUP(Y27,Tabelas!B:D,3,0),0),\"\")","v":""},{"$f":"IF(A27<>\"\",IFERROR(VLOOKUP(Z27,Tabelas!B:D,3,0),0),\"\")","v":""},{"$f":"IF(A27<>\"\",IFERROR(VLOOKUP(AA27,Tabelas!B:D,3,0),0),\"\")","v":""},{"$f":"IF(A27<>\"\",IFERROR(VLOOKUP(AB27,Tabelas!B:D,3,0),0),\"\")","v":""},{"$f":"IF(A27<>\"\",IFERROR(VLOOKUP(AC27,Tabelas!B:D,3,0),0),\"\")","v":""},{"$f":"IF(A27<>\"\",IFERROR(VLOOKUP(AD27,Tabelas!B:D,3,0),0),\"\")","v":""},{"$f":"IF(A27<>\"\",IFERROR(VLOOKUP(AE27,Tabelas!B:D,3,0),0),\"\")","v":""},{"$f":"IF(A27<>\"\",IFERROR(VLOOKUP(AF27,Tabelas!B:D,3,0),0),\"\")","v":""},{"$f":"IF(A27<>\"\",IFERROR(VLOOKUP(AG27,Tabelas!B:D,3,0),0),\"\")","v":""},{"$f":"IF(A27<>\"\",IFERROR(VLOOKUP(AH27,Tabelas!B:D,3,0),0),\"\")","v":""},{"$f":"IF(A27<>\"\",IFERROR(VLOOKUP(AI27,Tabelas!B:D,3,0),0),\"\")","v":""},{"$f":"IF(A27<>\"\",IFERROR(VLOOKUP(AJ27,Tabelas!B:D,3,0),0),\"\")","v":""},{"$f":"IF(A27<>\"\",IFERROR(VLOOKUP(AK27,Tabelas!B:D,3,0),0),\"\")","v":""},{"$f":"IF(A27<>\"\",IFERROR(VLOOKUP(AL27,Tabelas!B:D,3,0),0),\"\")","v":""},{"$f":"IF(A27<>\"\",IFERROR(VLOOKUP(AM27,Tabelas!B:D,3,0),0),\"\")","v":""},{"$f":"IF(A27<>\"\",IFERROR(VLOOKUP(AN27,Tabelas!B:D,3,0),0),\"\")","v":""},{"$f":"IF(A27<>\"\",IFERROR(VLOOKUP(AO27,Tabelas!B:D,3,0),0),\"\")","v":""},{"$f":"IF(A27<>\"\",IFERROR(VLOOKUP(AP27,Tabelas!B:D,3,0),0),\"\")","v":""},{"$f":"IF(A27<>\"\",IFERROR(VLOOKUP(AQ27,Tabelas!B:D,3,0),0),\"\")","v":""},{"$f":"IF(A27<>\"\",IFERROR(VLOOKUP(AR27,Tabelas!B:D,3,0),0),\"\")","v":""},{"$f":"IF(AND(A27<>\"\",F27=\"Ebserh\"),SUM(AS27:BW27)+COUNTIF(N27:AR27,\"N*\")+COUNTIF(N27:AR27,\"DN*\"),IF(AND(A27<>\"\",F27<>\"Ebserh\"),SUM(AS27:BW27),\"\"))","v":""},{"$f":"IF(A27<>\"\",COUNTIF(N27:AR27,\"LM\")+COUNTIF(N27:AR27,\"L\")+COUNTIF(N27:AR27,\"LP\"),\"\")","v":""},{"$f":"IF(A27<>\"\",COUNTIF(N27:AR27,\"AB*\"),\"\")","v":""},{"$f":"IF(A27<>\"\",COUNTIF(N27:AR27,\"FE\"),\"\")","v":""},{"$f":"IF(A27<>\"\",COUNTIF(N27:AR27,\"LC\"),\"\")","v":""},{"$f":"IF(A27<>\"\",COUNTIF(N27:AR27,\"CH*\"),\"\")","v":""},{"$f":"IF(A27<>\"\",COUNTIF(N27:AR27,\"AF1\")+COUNTIF(N27:AR27,\"AF2\")+COUNTIF(N27:AR27,\"AF3\")+COUNTIF(N27:AR27,\"AF4\")+COUNTIF(N27:AR27,\"AF5\")+COUNTIF(N27:AR27,\"AF6\")+COUNTIF(N27:AR27,\"AF7\")+COUNTIF(N27:AR27,\"AF8\")+COUNTIF(N27:AR27,\"AF9\")+COUNTIF(N27:AR27,\"AF10\")+COUNTIF(N27:AR27,\"AF11\")+COUNTIF(N27:AR27,\"AF12\")+COUNTIF(N27:AR27,\"AF13\")+COUNTIF(N27:AR27,\"AF14\"),\"\")","v":""},{"$f":"IF(A27<>\"\",COUNTIF(N27:AR27,\"CH*\")+COUNTIF(N27:AR27,\"L\")+COUNTIF(N27:AR27,\"LM\")+COUNTIF(N27:AR27,\"LP\")+COUNTIF(N27:AR27,\"LC\")+COUNTIF(N27:AR27,\"AB*\")+COUNTIF(N27:AR27,\"AF1\")+COUNTIF(N27:AR27,\"AF2\")+COUNTIF(N27:AR27,\"AF3\")+COUNTIF(N27:AR27,\"AF4\")+COUNTIF(N27:AR27,\"AF5\")+COUNTIF(N27:AR27,\"AF6\")+COUNTIF(N27:AR27,\"AF7\")+COUNTIF(N27:AR27,\"AF8\")+COUNTIF(N27:AR27,\"AF9\")+COUNTIF(N27:AR27,\"AF10\")+COUNTIF(N27:AR27,\"AF11\")+COUNTIF(N27:AR27,\"AF12\")+COUNTIF(N27:AR27,\"AF13\")+COUNTIF(N27:AR27,\"AF14\")+COUNTIF(N27:AR27,\"RC\")+COUNTIF(N27:AR27,\"FO\")+COUNTIF(N27:AR27,\"FE\"),\"\")","v":""}]
[null,null,20,null,null,null,null,null,null,null,null,null,null,"D6",null,"D6",null,"D6",null,"D6",null,"D6",null,"FO","DSR","D6",null,"D6",null,"D6",null,"D6",null,null,null,null,"N8",null,"N8",null,"M15","N8","N8",null,{"$f":"IF(Agosto!#REF!<>\"\",IFERROR(VLOOKUP(N28,Tabelas!B:D,3,0),0),\"\")","v":{"$error":"#REF!"}},{"$f":"IF(Agosto!#REF!<>\"\",IFERROR(VLOOKUP(O28,Tabelas!B:D,3,0),0),\"\")","v":{"$error":"#REF!"}},{"$f":"IF(Agosto!#REF!<>\"\",IFERROR(VLOOKUP(P28,Tabelas!B:D,3,0),0),\"\")","v":{"$error":"#REF!"}},{"$f":"IF(Agosto!#REF!<>\"\",IFERROR(VLOOKUP(Q28,Tabelas!B:D,3,0),0),\"\")","v":{"$error":"#REF!"}},{"$f":"IF(Agosto!#REF!<>\"\",IFERROR(VLOOKUP(R28,Tabelas!B:D,3,0),0),\"\")","v":{"$error":"#REF!"}},{"$f":"IF(Agosto!#REF!<>\"\",IFERROR(VLOOKUP(S28,Tabelas!B:D,3,0),0),\"\")","v":{"$error":"#REF!"}},{"$f":"IF(Agosto!#REF!<>\"\",IFERROR(VLOOKUP(T28,Tabelas!B:D,3,0),0),\"\")","v":{"$error":"#REF!"}},{"$f":"IF(Agosto!#REF!<>\"\",IFERROR(VLOOKUP(U28,Tabelas!B:D,3,0),0),\"\")","v":{"$error":"#REF!"}},{"$f":"IF(Agosto!#REF!<>\"\",IFERROR(VLOOKUP(V28,Tabelas!B:D,3,0),0),\"\")","v":{"$error":"#REF!"}},{"$f":"IF(Agosto!#REF!<>\"\",IFERROR(VLOOKUP(W28,Tabelas!B:D,3,0),0),\"\")","v":{"$error":"#REF!"}},{"$f":"IF(Agosto!#REF!<>\"\",IFERROR(VLOOKUP(X28,Tabelas!B:D,3,0),0),\"\")","v":{"$error":"#REF!"}},{"$f":"IF(Agosto!#REF!<>\"\",IFERROR(VLOOKUP(Y28,Tabelas!B:D,3,0),0),\"\")","v":{"$error":"#REF!"}},{"$f":"IF(Agosto!#REF!<>\"\",IFERROR(VLOOKUP(Z28,Tabelas!B:D,3,0),0),\"\")","v":{"$error":"#REF!"}},{"$f":"IF(Agosto!#REF!<>\"\",IFERROR(VLOOKUP(AA28,Tabelas!B:D,3,0),0),\"\")","v":{"$error":"#REF!"}},{"$f":"IF(Agosto!#REF!<>\"\",IFERROR(VLOOKUP(AB28,Tabelas!B:D,3,0),0),\"\")","v":{"$error":"#REF!"}},{"$f":"IF(Agosto!#REF!<>\"\",IFERROR(VLOOKUP(AC28,Tabelas!B:D,3,0),0),\"\")","v":{"$error":"#REF!"}},{"$f":"IF(Agosto!#REF!<>\"\",IFERROR(VLOOKUP(AD28,Tabelas!B:D,3,0),0),\"\")","v":{"$error":"#REF!"}},{"$f":"IF(Agosto!#REF!<>\"\",IFERROR(VLOOKUP(AE28,Tabelas!B:D,3,0),0),\"\")","v":{"$error":"#REF!"}},{"$f":"IF(Agosto!#REF!<>\"\",IFERROR(VLOOKUP(AF28,Tabelas!B:D,3,0),0),\"\")","v":{"$error":"#REF!"}},{"$f":"IF(Agosto!#REF!<>\"\",IFERROR(VLOOKUP(AG28,Tabelas!B:D,3,0),0),\"\")","v":{"$error":"#REF!"}},{"$f":"IF(Agosto!#REF!<>\"\",IFERROR(VLOOKUP(AH28,Tabelas!B:D,3,0),0),\"\")","v":{"$error":"#REF!"}},{"$f":"IF(Agosto!#REF!<>\"\",IFERROR(VLOOKUP(AI28,Tabelas!B:D,3,0),0),\"\")","v":{"$error":"#REF!"}},{"$f":"IF(Agosto!#REF!<>\"\",IFERROR(VLOOKUP(AJ28,Tabelas!B:D,3,0),0),\"\")","v":{"$error":"#REF!"}},{"$f":"IF(Agosto!#REF!<>\"\",IFERROR(VLOOKUP(AK28,Tabelas!B:D,3,0),0),\"\")","v":{"$error":"#REF!"}},{"$f":"IF(Agosto!#REF!<>\"\",IFERROR(VLOOKUP(AL28,Tabelas!B:D,3,0),0),\"\")","v":{"$error":"#REF!"}},{"$f":"IF(Agosto!#REF!<>\"\",IFERROR(VLOOKUP(AM28,Tabelas!B:D,3,0),0),\"\")","v":{"$error":"#REF!"}},{"$f":"IF(Agosto!#REF!<>\"\",IFERROR(VLOOKUP(AN28,Tabelas!B:D,3,0),0),\"\")","v":{"$error":"#REF!"}},{"$f":"IF(Agosto!#REF!<>\"\",IFERROR(VLOOKUP(AO28,Tabelas!B:D,3,0),0),\"\")","v":{"$error":"#REF!"}},{"$f":"IF(Agosto!#REF!<>\"\",IFERROR(VLOOKUP(AP28,Tabelas!B:D,3,0),0),\"\")","v":{"$error":"#REF!"}},{"$f":"IF(Agosto!#REF!<>\"\",IFERROR(VLOOKUP(AQ28,Tabelas!B:D,3,0),0),\"\")","v":{"$error":"#REF!"}},{"$f":"IF(Agosto!#REF!<>\"\",IFERROR(VLOOKUP(AR28,Tabelas!B:D,3,0),0),\"\")","v":{"$error":"#REF!"}},{"$f":"IF(AND(Agosto!#REF!<>\"\",F28=\"Ebserh\"),SUM(AS28:BW28)+COUNTIF(N28:AR28,\"N*\")+COUNTIF(N28:AR28,\"DN*\"),IF(AND(Agosto!#REF!<>\"\",F28<>\"Ebserh\"),SUM(AS28:BW28),\"\"))","v":{"$error":"#REF!"}},{"$f":"IF(Agosto!#REF!<>\"\",COUNTIF(N28:AR28,\"LM\")+COUNTIF(N28:AR28,\"L\")+COUNTIF(N28:AR28,\"LP\"),\"\")","v":{"$error":"#REF!"}},{"$f":"IF(Agosto!#REF!<>\"\",COUNTIF(N28:AR28,\"AB*\"),\"\")","v":{"$error":"#REF!"}},{"$f":"IF(Agosto!#REF!<>\"\",COUNTIF(N28:AR28,\"FE\"),\"\")","v":{"$error":"#REF!"}},{"$f":"IF(Agosto!#REF!<>\"\",COUNTIF(N28:AR28,\"LC\"),\"\")","v":{"$error":"#REF!"}},{"$f":"IF(Agosto!#REF!<>\"\",COUNTIF(N28:AR28,\"CH*\"),\"\")","v":{"$error":"#REF!"}},{"$f":"IF(Agosto!#REF!<>\"\",COUNTIF(N28:AR28,\"AF1\")+COUNTIF(N28:AR28,\"AF2\")+COUNTIF(N28:AR28,\"AF3\")+COUNTIF(N28:AR28,\"AF4\")+COUNTIF(N28:AR28,\"AF5\")+COUNTIF(N28:AR28,\"AF6\")+COUNTIF(N28:AR28,\"AF7\")+COUNTIF(N28:AR28,\"AF8\")+COUNTIF(N28:AR28,\"AF9\")+COUNTIF(N28:AR28,\"AF10\")+COUNTIF(N28:AR28,\"AF11\")+COUNTIF(N28:AR28,\"AF12\")+COUNTIF(N28:AR28,\"AF13\")+COUNTIF(N28:AR28,\"AF14\"),\"\")","v":{"$error":"#REF!"}},{"$f":"IF(Agosto!#REF!<>\"\",COUNTIF(N28:AR28,\"CH*\")+COUNTIF(N28:AR28,\"L\")+COUNTIF(N28:AR28,\"LM\")+COUNTIF(N28:AR28,\"LP\")+COUNTIF(N28:AR28,\"LC\")+COUNTIF(N28:AR28,\"AB*\")+COUNTIF(N28:AR28,\"AF1\")+COUNTIF(N28:AR28,\"AF2\")+COUNTIF(N28:AR28,\"AF3\")+COUNTIF(N28:AR28,\"AF4\")+COUNTIF(N28:AR28,\"AF5\")+COUNTIF(N28:AR28,\"AF6\")+COUNTIF(N28:AR28,\"AF7\")+COUNTIF(N28:AR28,\"AF8\")+COUNTIF(N28:AR28,\"AF9\")+COUNTIF(N28:AR28,\"AF10\")+COUNTIF(N28:AR28,\"AF11\")+COUNTIF(N28:AR28,\"AF12\")+COUNTIF(N28:AR28,\"AF13\")+COUNTIF(N28:AR28,\"AF14\")+COUNTIF(N28:AR28,\"RC\")+COUNTIF(N28:AR28,\"FO\")+COUNTIF(N28:AR28,\"FE\"),\"\")","v":{"$error":"#REF!"}}]
[null,null,21,null,null,null,null,null,null,null,null,null,null,null,null,"D6",null,"D6","D6",null,"D6","D6",null,null,"D6",null,"D6",null,null,"D6","FO","DSR","D6",null,null,"D6",null,"D6",null,"D6",null,"M15","D6",null,{"$f":"IF(Agosto!A31<>\"\",IFERROR(VLOOKUP(N29,Tabelas!B:D,3,0),0),\"\")","v":0},{"$f":"IF(Agosto!A31<>\"\",IFERROR(VLOOKUP(O29,Tabelas!B:D,3,0),0),\"\")","v":0},{"$f":"IF(Agosto!A31<>\"\",IFERROR(VLOOKUP(P29,Tabelas!B:D,3,0),0),\"\")","v":12},{"$f":"IF(Agosto!A31<>\"\",IFERROR(VLOOKUP(Q29,Tabelas!B:D,3,0),0),\"\")","v":0},{"$f":"IF(Agosto!A31<>\"\",IFERROR(VLOOKUP(R29,Tabelas!B:D,3,0),0),\"\")","v":12},{"$f":"IF(Agosto!A31<>\"\",IFERROR(VLOOKUP(S29,Tabelas!B:D,3,0),0),\"\")","v":12},{"$f":"IF(Agosto!A31<>\"\",IFERROR(VLOOKUP(T29,Tabelas!B:D,3,0),0),\"\")","v":0},{"$f":"IF(Agosto!A31<>\"\",IFERROR(VLOOKUP(U29,Tabelas!B:D,3,0),0),\"\")","v":12},{"$f":"IF(Agosto!A31<>\"\",IFERROR(VLOOKUP(V29,Tabelas!B:D,3,0),0),\"\")","v":12},{"$f":"IF(Agosto!A31<>\"\",IFERROR(VLOOKUP(W29,Tabelas!B:D,3,0),0),\"\")","v":0},{"$f":"IF(Agosto!A31<>\"\",IFERROR(VLOOKUP(X29,Tabelas!B:D,3,0),0),\"\")","v":0},{"$f":"IF(Agosto!A31<>\"\",IFERROR(VLOOKUP(Y29,Tabelas!B:D,3,0),0),\"\")","v":12},{"$f":"IF(Agosto!A31<>\"\",IFERROR(VLOOKUP(Z29,Tabelas!B:D,3,0),0),\"\")","v":0},{"$f":"IF(Agosto!A31<>\"\",IFERROR(VLOOKUP(AA29,Tabelas!B:D,3,0),0),\"\")","v":12},{"$f":"IF(Agosto!A31<>\"\",IFERROR(VLOOKUP(AB29,Tabelas!B:D,3,0),0),\"\")","v":0},{"$f":"IF(Agosto!A31<>\"\",IFERROR(VLOOKUP(AC29,Tabelas!B:D,3,0),0),\"\")","v":0},{"$f":"IF(Agosto!A31<>\"\",IFERROR(VLOOKUP(AD29,Tabelas!B:D,3,0),0),\"\")","v":12},{"$f":"IF(Agosto!A31<>\"\",IFERROR(VLOOKUP(AE29,Tabelas!B:D,3,0),0),\"\")","v":0},{"$f":"IF(Agosto!A31<>\"\",IFERROR(VLOOKUP(AF29,Tabelas!B:D,3,0),0),\"\")","v":0},{"$f":"IF(Agosto!A31<>\"\",IFERROR(VLOOKUP(AG29,Tabelas!B:D,3,0),0),\"\")","v":12},{"$f":"IF(Agosto!A31<>\"\",IFERROR(VLOOKUP(AH29,Tabelas!B:D,3,0),0),\"\")","v":0},{"$f":"IF(Agosto!A31<>\"\",IFERROR(VLOOKUP(AI29,Tabelas!B:D,3,0),0),\"\")","v":0},{"$f":"IF(Agosto!A31<>\"\",IFERROR(VLOOKUP(AJ29,Tabelas!B:D,3,0),0),\"\")","v":12},{"$f":"IF(Agosto!A31<>\"\",IFERROR(VLOOKUP(AK29,Tabelas!B:D,3,0),0),\"\")","v":0},{"$f":"IF(Agosto!A31<>\"\",IFERROR(VLOOKUP(AL29,Tabelas!B:D,3,0),0),\"\")","v":12},{"$f":"IF(Agosto!A31<>\"\",IFERROR(VLOOKUP(AM29,Tabelas!B:D,3,0),0),\"\")","v":0},{"$f":"IF(Agosto!A31<>\"\",IFERROR(VLOOKUP(AN29,Tabelas!B:D,3,0),0),\"\")","v":12},{"$f":"IF(Agosto!A31<>\"\",IFERROR(VLOOKUP(AO29,Tabelas!B:D,3,0),0),\"\")","v":0},{"$f":"IF(Agosto!A31<>\"\",IFERROR(VLOOKUP(AP29,Tabelas!B:D,3,0),0),\"\")","v":6},{"$f":"IF(Agosto!A31<>\"\",IFERROR(VLOOKUP(AQ29,Tabelas!B:D,3,0),0),\"\")","v":12},{"$f":"IF(Agosto!A31<>\"\",IFERROR(VLOOKUP(AR29,Tabelas!B:D,3,0),0),\"\")","v":0},{"$f":"IF(AND(Agosto!A31<>\"\",F29=\"Ebserh\"),SUM(AS29:BW29)+COUNTIF(N29:AR29,\"N*\")+COUNTIF(N29:AR29,\"DN*\"),IF(AND(Agosto!A31<>\"\",F29<>\"Ebserh\"),SUM(AS29:BW29),\"\"))","v":162},{"$f":"IF(Agosto!A31<>\"\",COUNTIF(N29:AR29,\"LM\")+COUNTIF(N29:AR29,\"L\")+COUNTIF(N29:AR29,\"LP\"),\"\")","v":0},{"$f":"IF(Agosto!A31<>\"\",COUNTIF(N29:AR29,\"AB*\"),\"\")","v":0},{"$f":"IF(Agosto!A31<>\"\",COUNTIF(N29:AR29,\"FE\"),\"\")","v":0},{"$f":"IF(Agosto!A31<>\"\",COUNTIF(N29:AR29,\"LC\"),\"\")","v":0},{"$f":"IF(Agosto!A31<>\"\",COUNTIF(N29:AR29,\"CH*\"),\"\")","v":0},{"$f":"IF(Agosto!A31<>\"\",COUNTIF(N29:AR29,\"AF1\")+COUNTIF(N29:AR29,\"AF2\")+COUNTIF(N29:AR29,\"AF3\")+COUNTIF(N29:AR29,\"AF4\")+COUNTIF(N29:AR29,\"AF5\")+COUNTIF(N29:AR29,\"AF6\")+COUNTIF(N29:AR29,\"AF7\")+COUNTIF(N29:AR29,\"AF8\")+COUNTIF(N29:AR29,\"AF9\")+COUNTIF(N29:AR29,\"AF10\")+COUNTIF(N29:AR29,\"AF11\")+COUNTIF(N29:AR29,\"AF12\")+COUNTIF(N29:AR29,\"AF13\")+COUNTIF(N29:AR29,\"AF14\"),\"\")","v":0},{"$f":"IF(Agosto!A31<>\"\",COUNTIF(N29:AR29,\"CH*\")+COUNTIF(N29:AR29,\"L\")+COUNTIF(N29:AR29,\"LM\")+COUNTIF(N29:AR29,\"LP\")+COUNTIF(N29:AR29,\"LC\")+COUNTIF(N29:AR29,\"AB*\")+COUNTIF(N29:AR29,\"AF1\")+COUNTIF(N29:AR29,\"AF2\")+COUNTIF(N29:AR29,\"AF3\")+COUNTIF(N29:AR29,\"AF4\")+COUNTIF(N29:AR29,\"AF5\")+COUNTIF(N29:AR29,\"AF6\")+COUNTIF(N29:AR29,\"AF7\")+COUNTIF(N29:AR29,\"AF8\")+COUNTIF(N29:AR29,\"AF9\")+COUNTIF(N29:AR29,\"AF10\")+COUNTIF(N29:AR29,\"AF11\")+COUNTIF(N29:AR29,\"AF12\")+COUNTIF(N29:AR29,\"AF13\")+COUNTIF(N29:AR29,\"AF14\")+COUNTIF(N29:AR29,\"RC\")+COUNTIF(N29:AR29,\"FO\")+COUNTIF(N29:AR29,\"FE\"),\"\")","v":1}]
[null,null,22,null,null,null,null,null,null,null,null,null,null,null,null,null,null,null,null,null,null,null,null,null,null,null,null,"D6",null,"D6",null,"D6",null,"D6",null,"D6",null,"D6",null,"D6",null,"D6",null,"D6",{"$f":"IF(Agosto!A32<>\"\",IFERROR(VLOOKUP(N30,Tabelas!B:D,3,0),0),\"\")","v":0},{"$f":"IF(Agosto!A32<>\"\",IFERROR(VLOOKUP(O30,Tabelas!B:D,3,0),0),\"\")","v":0},{"$f":"IF(Agosto!A32<>\"\",IFERROR(VLOOKUP(P30,Tabelas!B:D,3,0),0),\"\")","v":0},{"$f":"IF(Agosto!A32<>\"\",IFERROR(VLOOKUP(Q30,Tabelas!B:D,3,0),0),\"\")","v":0},{"$f":"IF(Agosto!A32<>\"\",IFERROR(VLOOKUP(R30,Tabelas!B:D,3,0),0),\"\")","v":0},{"$f":"IF(Agosto!A32<>\"\",IFERROR(VLOOKUP(S30,Tabelas!B:D,3,0),0),\"\")","v":0},{"$f":"IF(Agosto!A32<>\"\",IFERROR(VLOOKUP(T30,Tabelas!B:D,3,0),0),\"\")","v":0},{"$f":"IF(Agosto!A32<>\"\",IFERROR(VLOOKUP(U30,Tabelas!B:D,3,0),0),\"\")","v":0},{"$f":"IF(Agosto!A32<>\"\",IFERROR(VLOOKUP(V30,Tabelas!B:D,3,0),0),\"\")","v":0},{"$f":"IF(Agosto!A32<>\"\",IFERROR(VLOOKUP(W30,Tabelas!B:D,3,0),0),\"\")","v":0},{"$f":"IF(Agosto!A32<>\"\",IFERROR(VLOOKUP(X30,Tabelas!B:D,3,0),0),\"\")","v":0},{"$f":"IF(Agosto!A32<>\"\",IFERROR(VLOOKUP(Y30,Tabelas!B:D,3,0),0),\"\")","v":0},{"$f":"IF(Agosto!A32<>\"\",IFERROR(VLOOKUP(Z30,Tabelas!B:D,3,0),0),\"\")","v":0},{"$f":"IF(Agosto!A32<>\"\",IFERROR(VLOOKUP(AA30,Tabelas!B:D,3,0),0),\"\")","v":0},{"$f":"IF(Agosto!A32<>\"\",IFERROR(VLOOKUP(AB30,Tabelas!B:D,3,0),0),\"\")","v":12},{"$f":"IF(Agosto!A32<>\"\",IFERROR(VLOOKUP(AC30,Tabelas!B:D,3,0),0),\"\")","v":0},{"$f":"IF(Agosto!A32<>\"\",IFERROR(VLOOKUP(AD30,Tabelas!B:D,3,0),0),\"\")","v":12},{"$f":"IF(Agosto!A32<>\"\",IFERROR(VLOOKUP(AE30,Tabelas!B:D,3,0),0),\"\")","v":0},{"$f":"IF(Agosto!A32<>\"\",IFERROR(VLOOKUP(AF30,Tabelas!B:D,3,0),0),\"\")","v":12},{"$f":"IF(Agosto!A32<>\"\",IFERROR(VLOOKUP(AG30,Tabelas!B:D,3,0),0),\"\")","v":0},{"$f":"IF(Agosto!A32<>\"\",IFERROR(VLOOKUP(AH30,Tabelas!B:D,3,0),0),\"\")","v":12},{"$f":"IF(Agosto!A32<>\"\",IFERROR(VLOOKUP(AI30,Tabelas!B:D,3,0),0),\"\")","v":0},{"$f":"IF(Agosto!A32<>\"\",IFERROR(VLOOKUP(AJ30,Tabelas!B:D,3,0),0),\"\")","v":12},{"$f":"IF(Agosto!A32<>\"\",IFERROR(VLOOKUP(AK30,Tabelas!B:D,3,0),0),\"\")","v":0},{"$f":"IF(Agosto!A32<>\"\",IFERROR(VLOOKUP(AL30,Tabelas!B:D,3,0),0),\"\")","v":12},{"$f":"IF(Agosto!A32<>\"\",IFERROR(VLOOKUP(AM30,Tabelas!B:D,3,0),0),\"\")","v":0},{"$f":"IF(Agosto!A32<>\"\",IFERROR(VLOOKUP(AN30,Tabelas!B:D,3,0),0),\"\")","v":12},{"$f":"IF(Agosto!A32<>\"\",IFERROR(VLOOKUP(AO30,Tabelas!B:D,3,0),0),\"\")","v":0},{"$f":"IF(Agosto!A32<>\"\",IFERROR(VLOOKUP(AP30,Tabelas!B:D,3,0),0),\"\")","v":12},{"$f":"IF(Agosto!A32<>\"\",IFERROR(VLOOKUP(AQ30,Tabelas!B:D,3,0),0),\"\")","v":0},{"$f":"IF(Agosto!A32<>\"\",IFERROR(VLOOKUP(AR30,Tabelas!B:D,3,0),0),\"\")","v":12},{"$f":"IF(AND(Agosto!A32<>\"\",F30=\"Ebserh\"),SUM(AS30:BW30)+COUNTIF(N30:AR30,\"N*\")+COUNTIF(N30:AR30,\"DN*\"),IF(AND(Agosto!A32<>\"\",F30<>\"Ebserh\"),SUM(AS30:BW30),\"\"))","v":108},{"$f":"IF(Agosto!A32<>\"\",COUNTIF(N30:AR30,\"LM\")+COUNTIF(N30:AR30,\"L\")+COUNTIF(N30:AR30,\"LP\"),\"\")","v":0},{"$f":"IF(Agosto!A32<>\"\",COUNTIF(N30:AR30,\"AB*\"),\"\")","v":0},{"$f":"IF(Agosto!A32<>\"\",COUNTIF(N30:AR30,\"FE\"),\"\")","v":0},{"$f":"IF(Agosto!A32<>\"\",COUNTIF(N30:AR30,\"LC\"),\"\")","v":0},{"$f":"IF(Agosto!A32<>\"\",COUNTIF(N30:AR30,\"CH*\"),\"\")","v":0},{"$f":"IF(Agosto!A32<>\"\",COUNTIF(N30:AR30,\"AF1\")+COUNTIF(N30:AR30,\"AF2\")+COUNTIF(N30:AR30,\"AF3\")+COUNTIF(N30:AR30,\"AF4\")+COUNTIF(N30:AR30,\"AF5\")+COUNTIF(N30:AR30,\"AF6\")+COUNTIF(N30:AR30,\"AF7\")+COUNTIF(N30:AR30,\"AF8\")+COUNTIF(N30:AR30,\"AF9\")+COUNTIF(N30:AR30,\"AF10\")+COUNTIF(N30:AR30,\"AF11\")+COUNTIF(N30:AR30,\"AF12\")+COUNTIF(N30:AR30,\"AF13\")+COUNTIF(N30:AR30,\"AF14\"),\"\")","v":0},{"$f":"IF(Agosto!A32<>\"\",COUNTIF(N30:AR30,\"CH*\")+COUNTIF(N30:AR30,\"L\")+COUNTIF(N30:AR30,\"LM\")+COUNTIF(N30:AR30,\"LP\")+COUNTIF(N30:AR30,\"LC\")+COUNTIF(N30:AR30,\"AB*\")+COUNTIF(N30:AR30,\"AF1\")+COUNTIF(N30:AR30,\"AF2\")+COUNTIF(N30:AR30,\"AF3\")+COUNTIF(N30:AR30,\"AF4\")+COUNTIF(N30:AR30,\"AF5\")+COUNTIF(N30:AR30,\"AF6\")+COUNTIF(N30:AR30,\"AF7\")+COUNTIF(N30:AR30,\"AF8\")+COUNTIF(N30:AR30,\"AF9\")+COUNTIF(N30:AR30,\"AF10\")+COUNTIF(N30:AR30,\"AF11\")+COUNTIF(N30:AR30,\"AF12\")+COUNTIF(N30:AR30,\"AF13\")+COUNTIF(N30:AR30,\"AF14\")+COUNTIF(N30:AR30,\"RC\")+COUNTIF(N30:AR30,\"FO\")+COUNTIF(N30:AR30,\"FE\"),\"\")","v":0}]
[null,null,23,null,null,null,null,null,null,null,null,null,null,"M15",null,"D6",null,"D6","D6",null,null,"D6",null,"D6",null,null,null,"D6",null,null,"FO","DSR","D6","D6",null,"D6",null,"D6",null,"D6",null,"D6",null,"D6",{"$f":"IF(Agosto!A37<>\"\",IFERROR(VLOOKUP(N31,Tabelas!B:D,3,0),0),\"\")","v":6},{"$f":"IF(Agosto!A37<>\"\",IFERROR(VLOOKUP(O31,Tabelas!B:D,3,0),0),\"\")","v":0},{"$f":"IF(Agosto!A37<>\"\",IFERROR(VLOOKUP(P31,Tabelas!B:D,3,0),0),\"\")","v":12},{"$f":"IF(Agosto!A37<>\"\",IFERROR(VLOOKUP(Q31,Tabelas!B:D,3,0),0),\"\")","v":0},{"$f":"IF(Agosto!A37<>\"\",IFERROR(VLOOKUP(R31,Tabelas!B:D,3,0),0),\"\")","v":12},{"$f":"IF(Agosto!A37<>\"\",IFERROR(VLOOKUP(S31,Tabelas!B:D,3,0),0),\"\")","v":12},{"$f":"IF(Agosto!A37<>\"\",IFERROR(VLOOKUP(T31,Tabelas!B:D,3,0),0),\"\")","v":0},{"$f":"IF(Agosto!A37<>\"\",IFERROR(VLOOKUP(U31,Tabelas!B:D,3,0),0),\"\")","v":0},{"$f":"IF(Agosto!A37<>\"\",IFERROR(VLOOKUP(V31,Tabelas!B:D,3,0),0),\"\")","v":12},{"$f":"IF(Agosto!A37<>\"\",IFERROR(VLOOKUP(W31,Tabelas!B:D,3,0),0),\"\")","v":0},{"$f":"IF(Agosto!A37<>\"\",IFERROR(VLOOKUP(X31,Tabelas!B:D,3,0),0),\"\")","v":12},{"$f":"IF(Agosto!A37<>\"\",IFERROR(VLOOKUP(Y31,Tabelas!B:D,3,0),0),\"\")","v":0},{"$f":"IF(Agosto!A37<>\"\",IFERROR(VLOOKUP(Z31,Tabelas!B:D,3,0),0),\"\")","v":0},{"$f":"IF(Agosto!A37<>\"\",IFERROR(VLOOKUP(AA31,Tabelas!B:D,3,0),0),\"\")","v":0},{"$f":"IF(Agosto!A37<>\"\",IFERROR(VLOOKUP(AB31,Tabelas!B:D,3,0),0),\"\")","v":12},{"$f":"IF(Agosto!A37<>\"\",IFERROR(VLOOKUP(AC31,Tabelas!B:D,3,0),0),\"\")","v":0},{"$f":"IF(Agosto!A37<>\"\",IFERROR(VLOOKUP(AD31,Tabelas!B:D,3,0),0),\"\")","v":0},{"$f":"IF(Agosto!A37<>\"\",IFERROR(VLOOKUP(AE31,Tabelas!B:D,3,0),0),\"\")","v":0},{"$f":"IF(Agosto!A37<>\"\",IFERROR(VLOOKUP(AF31,Tabelas!B:D,3,0),0),\"\")","v":0},{"$f":"IF(Agosto!A37<>\"\",IFERROR(VLOOKUP(AG31,Tabelas!B:D,3,0),0),\"\")","v":12},{"$f":"IF(Agosto!A37<>\"\",IFERROR(VLOOKUP(AH31,Tabelas!B:D,3,0),0),\"\")","v":12},{"$f":"IF(Agosto!A37<>\"\",IFERROR(VLOOKUP(AI31,Tabelas!B:D,3,0),0),\"\")","v":0},{"$f":"IF(Agosto!A37<>\"\",IFERROR(VLOOKUP(AJ31,Tabelas!B:D,3,0),0),\"\")","v":12},{"$f":"IF(Agosto!A37<>\"\",IFERROR(VLOOKUP(AK31,Tabelas!B:D,3,0),0),\"\")","v":0},{"$f":"IF(Agosto!A37<>\"\",IFERROR(VLOOKUP(AL31,Tabelas!B:D,3,0),0),\"\")","v":12},{"$f":"IF(Agosto!A37<>\"\",IFERROR(VLOOKUP(AM31,Tabelas!B:D,3,0),0),\"\")","v":0},{"$f":"IF(Agosto!A37<>\"\",IFERROR(VLOOKUP(AN31,Tabelas!B:D,3,0),0),\"\")","v":12},{"$f":"IF(Agosto!A37<>\"\",IFERROR(VLOOKUP(AO31,Tabelas!B:D,3,0),0),\"\")","v":0},{"$f":"IF(Agosto!A37<>\"\",IFERROR(VLOOKUP(AP31,Tabelas!B:D,3,0),0),\"\")","v":12},{"$f":"IF(Agosto!A37<>\"\",IFERROR(VLOOKUP(AQ31,Tabelas!B:D,3,0),0),\"\")","v":0},{"$f":"IF(Agosto!A37<>\"\",IFERROR(VLOOKUP(AR31,Tabelas!B:D,3,0),0),\"\")","v":12},{"$f":"IF(AND(Agosto!A37<>\"\",F31=\"Ebserh\"),SUM(AS31:BW31)+COUNTIF(N31:AR31,\"N*\")+COUNTIF(N31:AR31,\"DN*\"),IF(AND(Agosto!A37<>\"\",F31<>\"Ebserh\"),SUM(AS31:BW31),\"\"))","v":162},{"$f":"IF(Agosto!A37<>\"\",COUNTIF(N31:AR31,\"LM\")+COUNTIF(N31:AR31,\"L\")+COUNTIF(N31:AR31,\"LP\"),\"\")","v":0},{"$f":"IF(Agosto!A37<>\"\",COUNTIF(N31:AR31,\"AB*\"),\"\")","v":0},{"$f":"IF(Agosto!A37<>\"\",COUNTIF(N31:AR31,\"FE\"),\"\")","v":0},{"$f":"IF(Agosto!A37<>\"\",COUNTIF(N31:AR31,\"LC\"),\"\")","v":0},{"$f":"IF(Agosto!A37<>\"\",COUNTIF(N31:AR31,\"CH*\"),\"\")","v":0},{"$f":"IF(Agosto!A37<>\"\",COUNTIF(N31:AR31,\"AF1\")+COUNTIF(N31:AR31,\"AF2\")+COUNTIF(N31:AR31,\"AF3\")+COUNTIF(N31:AR31,\"AF4\")+COUNTIF(N31:AR31,\"AF5\")+COUNTIF(N31:AR31,\"AF6\")+COUNTIF(N31:AR31,\"AF7\")+COUNTIF(N31:AR31,\"AF8\")+COUNTIF(N31:AR31,\"AF9\")+COUNTIF(N31:AR31,\"AF10\")+COUNTIF(N31:AR31,\"AF11\")+COUNTIF(N31:AR31,\"AF12\")+COUNTIF(N31:AR31,\"AF13\")+COUNTIF(N31:AR31,\"AF14\"),\"\")","v":0},{"$f":"IF(Agosto!A37<>\"\",COUNTIF(N31:AR31,\"CH*\")+COUNTIF(N31:AR31,\"L\")+COUNTIF(N31:AR31,\"LM\")+COUNTIF(N31:AR31,\"LP\")+COUNTIF(N31:AR31,\"LC\")+COUNTIF(N31:AR31,\"AB*\")+COUNTIF(N31:AR31,\"AF1\")+COUNTIF(N31:AR31,\"AF2\")+COUNTIF(N31:AR31,\"AF3\")+COUNTIF(N31:AR31,\"AF4\")+COUNTIF(N31:AR31,\"AF5\")+COUNTIF(N31:AR31,\"AF6\")+COUNTIF(N31:AR31,\"AF7\")+COUNTIF(N31:AR31,\"AF8\")+COUNTIF(N31:AR31,\"AF9\")+COUNTIF(N31:AR31,\"AF10\")+COUNTIF(N31:AR31,\"AF11\")+COUNTIF(N31:AR31,\"AF12\")+COUNTIF(N31:AR31,\"AF13\")+COUNTIF(N31:AR31,\"AF14\")+COUNTIF(N31:AR31,\"RC\")+COUNTIF(N31:AR31,\"FO\")+COUNTIF(N31:AR31,\"FE\"),\"\")","v":1}]
["Karina Mendes",null,24,null,null,null,null,null,null,null,null,null,null,null,null,"D6",null,"D6",null,"M15",null,null,null,"D6",null,null,null,null,null,null,null,null,null,null,null,null,null,null,null,null,null,null,null,null,{"$f":"IF(A32<>\"\",IFERROR(VLOOKUP(N32,Tabelas!B:D,3,0),0),\"\")","v":0},{"$f":"IF(A32<>\"\",IFERROR(VLOOKUP(O32,Tabelas!B:D,3,0),0),\"\")","v":0},{"$f":"IF(A32<>\"\",IFERROR(VLOOKUP(P32,Tabelas!B:D,3,0),0),\"\")","v":12},{"$f":"IF(A32<>\"\",IFERROR(VLOOKUP(Q32,Tabelas!B:D,3,0),0),\"\")","v":0},{"$f":"IF(A32<>\"\",IFERROR(VLOOKUP(R32,Tabelas!B:D,3,0),0),\"\")","v":12},{"$f":"IF(A32<>\"\",IFERROR(VLOOKUP(S32,Tabelas!B:D,3,0),0),\"\")","v":0},{"$f":"IF(A32<>\"\",IFERROR(VLOOKUP(T32,Tabelas!B:D,3,0),0),\"\")","v":6},{"$f":"IF(A32<>\"\",IFERROR(VLOOKUP(U32,Tabelas!B:D,3,0),0),\"\")","v":0},{"$f":"IF(A32<>\"\",IFERROR(VLOOKUP(V32,Tabelas!B:D,3,0),0),\"\")","v":0},{"$f":"IF(A32<>\"\",IFERROR(VLOOKUP(W32,Tabelas!B:D,3,0),0),\"\")","v":0},{"$f":"IF(A32<>\"\",IFERROR(VLOOKUP(X32,Tabelas!B:D,3,0),0),\"\")","v":12},{"$f":"IF(A32<>\"\",IFERROR(VLOOKUP(Y32,Tabelas!B:D,3,0),0),\"\")","v":0},{"$f":"IF(A32<>\"\",IFERROR(VLOOKUP(Z32,Tabelas!B:D,3,0),0),\"\")","v":0},{"$f":"IF(A32<>\"\",IFERROR(VLOOKUP(AA32,Tabelas!B:D,3,0),0),\"\")","v":0},{"$f":"IF(A32<>\"\",IFERROR(VLOOKUP(AB32,Tabelas!B:D,3,0),0),\"\")","v":0},{"$f":"IF(A32<>\"\",IFERROR(VLOOKUP(AC32,Tabelas!B:D,3,0),0),\"\")","v":0},{"$f":"IF(A32<>\"\",IFERROR(VLOOKUP(AD32,Tabelas!B:D,3,0),0),\"\")","v":0},{"$f":"IF(A32<>\"\",IFERROR(VLOOKUP(AE32,Tabelas!B:D,3,0),0),\"\")","v":0},{"$f":"IF(A32<>\"\",IFERROR(VLOOKUP(AF32,Tabelas!B:D,3,0),0),\"\")","v":0},{"$f":"IF(A32<>\"\",IFERROR(VLOOKUP(AG32,Tabelas!B:D,3,0),0),\"\")","v":0},{"$f":"IF(A32<>\"\",IFERROR(VLOOKUP(AH32,Tabelas!B:D,3,0),0),\"\")","v":0},{"$f":"IF(A32<>\"\",IFERROR(VLOOKUP(AI32,Tabelas!B:D,3,0),0),\"\")","v":0},{"$f":"IF(A32<>\"\",IFERROR(VLOOKUP(AJ32,Tabelas!B:D,3,0),0),\"\")","v":0},{"$f":"IF(A32<>\"\",IFERROR(VLOOKUP(AK32,Tabelas!B:D,3,0),0),\"\")","v":0},{"$f":"IF(A32<>\"\",IFERROR(VLOOKUP(AL32,Tabelas!B:D,3,0),0),\"\")","v":0},{"$f":"IF(A32<>\"\",IFERROR(VLOOKUP(AM32,Tabelas!B:D,3,0),0),\"\")","v":0},{"$f":"IF(A32<>\"\",IFERROR(VLOOKUP(AN32,Tabelas!B:D,3,0),0),\"\")","v":0},{"$f":"IF(A32<>\"\",IFERROR(VLOOKUP(AO32,Tabelas!B:D,3,0),0),\"\")","v":0},{"$f":"IF(A32<>\"\",IFERROR(VLOOKUP(AP32,Tabelas!B:D,3,0),0),\"\")","v":0},{"$f":"IF(A32<>\"\",IFERROR(VLOOKUP(AQ32,Tabelas!B:D,3,0),0),\"\")","v":0},{"$f":"IF(A32<>\"\",IFERROR(VLOOKUP(AR32,Tabelas!B:D,3,0),0),\"\")","v":0},{"$f":"IF(AND(A32<>\"\",F32=\"Ebserh\"),SUM(AS32:BW32)+COUNTIF(N32:AR32,\"N*\")+COUNTIF(N32:AR32,\"DN*\"),IF(AND(A32<>\"\",F32<>\"Ebserh\"),SUM(AS32:BW32),\"\"))","v":42},{"$f":"IF(A32<>\"\",COUNTIF(N32:AR32,\"LM\")+COUNTIF(N32:AR32,\"L\")+COUNTIF(N32:AR32,\"LP\"),\"\")","v":0},{"$f":"IF(A32<>\"\",COUNTIF(N32:AR32,\"AB*\"),\"\")","v":0},{"$f":"IF(A32<>\"\",COUNTIF(N32:AR32,\"FE\"),\"\")","v":0},{"$f":"IF(A32<>\"\",COUNTIF(N32:AR32,\"LC\"),\"\")","v":0},{"$f":"IF(A32<>\"\",COUNTIF(N32:AR32,\"CH*\"),\"\")","v":0},{"$f":"IF(A32<>\"\",COUNTIF(N32:AR32,\"AF1\")+COUNTIF(N32:AR32,\"AF2\")+COUNTIF(N32:AR32,\"AF3\")+COUNTIF(N32:AR32,\"AF4\")+COUNTIF(N32:AR32,\"AF5\")+COUNTIF(N32:AR32,\"AF6\")+COUNTIF(N32:AR32,\"AF7\")+COUNTIF(N32:AR32,\"AF8\")+COUNTIF(N32:AR32,\"AF9\")+COUNTIF(N32:AR32,\"AF10\")+COUNTIF(N32:AR32,\"AF11\")+COUNTIF(N32:AR32,\"AF12\")+COUNTIF(N32:AR32,\"AF13\")+COUNTIF(N32:AR32,\"AF14\"),\"\")","v":0},{"$f":"IF(A32<>\"\",COUNTIF(N32:AR32,\"CH*\")+COUNTIF(N32:AR32,\"L\")+COUNTIF(N32:AR32,\"LM\")+COUNTIF(N32:AR32,\"LP\")+COUNTIF(N32:AR32,\"LC\")+COUNTIF(N32:AR32,\"AB*\")+COUNTIF(N32:AR32,\"AF1\")+COUNTIF(N32:AR32,\"AF2\")+COUNTIF(N32:AR32,\"AF3\")+COUNTIF(N32:AR32,\"AF4\")+COUNTIF(N32:AR32,\"AF5\")+COUNTIF(N32:AR32,\"AF6\")+COUNTIF(N32:AR32,\"AF7\")+COUNTIF(N32:AR32,\"AF8\")+COUNTIF(N32:AR32,\"AF9\")+COUNTIF(N32:AR32,\"AF10\")+COUNTIF(N32:AR32,\"AF11\")+COUNTIF(N32:AR32,\"AF12\")+COUNTIF(N32:AR32,\"AF13\")+COUNTIF(N32:AR32,\"AF14\")+COUNTIF(N32:AR32,\"RC\")+COUNTIF(N32:AR32,\"FO\")+COUNTIF(N32:AR32,\"FE\"),\"\")","v":0}]
[null,null,25,null,null,null,null,null,null,null,null,null,null,null,null,null,null,null,null,null,null,null,null,null,null,null,null,null,null,null,null,null,null,null,null,null,null,null,null,null,null,null,null,null,{"$f":"IF(A33<>\"\",IFERROR(VLOOKUP(N33,Tabelas!B:D,3,0),0),\"\")","v":""},{"$f":"IF(A33<>\"\",IFERROR(VLOOKUP(O33,Tabelas!B:D,3,0),0),\"\")","v":""},{"$f":"IF(A33<>\"\",IFERROR(VLOOKUP(P33,Tabelas!B:D,3,0),0),\"\")","v":""},{"$f":"IF(A33<>\"\",IFERROR(VLOOKUP(Q33,Tabelas!B:D,3,0),0),\"\")","v":""},{"$f":"IF(A33<>\"\",IFERROR(VLOOKUP(R33,Tabelas!B:D,3,0),0),\"\")","v":""},{"$f":"IF(A33<>\"\",IFERROR(VLOOKUP(S33,Tabelas!B:D,3,0),0),\"\")","v":""},{"$f":"IF(A33<>\"\",IFERROR(VLOOKUP(T33,Tabelas!B:D,3,0),0),\"\")","v":""},{"$f":"IF(A33<>\"\",IFERROR(VLOOKUP(U33,Tabelas!B:D,3,0),0),\"\")","v":""},{"$f":"IF(A33<>\"\",IFERROR(VLOOKUP(V33,Tabelas!B:D,3,0),0),\"\")","v":""},{"$f":"IF(A33<>\"\",IFERROR(VLOOKUP(W33,Tabelas!B:D,3,0),0),\"\")","v":""},{"$f":"IF(A33<>\"\",IFERROR(VLOOKUP(X33,Tabelas!B:D,3,0),0),\"\")","v":""},{"$f":"IF(A33<>\"\",IFERROR(VLOOKUP(Y33,Tabelas!B:D,3,0),0),\"\")","v":""},{"$f":"IF(A33<>\"\",IFERROR(VLOOKUP(Z33,Tabelas!B:D,3,0),0),\"\")","v":""},{"$f":"IF(A33<>\"\",IFERROR(VLOOKUP(AA33,Tabelas!B:D,3,0),0),\"\")","v":""},{"$f":"IF(A33<>\"\",IFERROR(VLOOKUP(AB33,Tabelas!B:D,3,0),0),\"\")","v":""},{"$f":"IF(A33<>\"\",IFERROR(VLOOKUP(AC33,Tabelas!B:D,3,0),0),\"\")","v":""},{"$f":"IF(A33<>\"\",IFERROR(VLOOKUP(AD33,Tabelas!B:D,3,0),0),\"\")","v":""},{"$f":"IF(A33<>\"\",IFERROR(VLOOKUP(AE33,Tabelas!B:D,3,0),0),\"\")","v":""},{"$f":"IF(A33<>\"\",IFERROR(VLOOKUP(AF33,Tabelas!B:D,3,0),0),\"\")","v":""},{"$f":"IF(A33<>\"\",IFERROR(VLOOKUP(AG33,Tabelas!B:D,3,0),0),\"\")","v":""},{"$f":"IF(A33<>\"\",IFERROR(VLOOKUP(AH33,Tabelas!B:D,3,0),0),\"\")","v":""},{"$f":"IF(A33<>\"\",IFERROR(VLOOKUP(AI33,Tabelas!B:D,3,0),0),\"\")","v":""},{"$f":"IF(A33<>\"\",IFERROR(VLOOKUP(AJ33,Tabelas!B:D,3,0),0),\"\")","v":""},{"$f":"IF(A33<>\"\",IFERROR(VLOOKUP(AK33,Tabelas!B:D,3,0),0),\"\")","v":""},{"$f":"IF(A33<>\"\",IFERROR(VLOOKUP(AL33,Tabelas!B:D,3,0),0),\"\")","v":""},{"$f":"IF(A33<>\"\",IFERROR(VLOOKUP(AM33,Tabelas!B:D,3,0),0),\"\")","v":""},{"$f":"IF(A33<>\"\",IFERROR(VLOOKUP(AN33,Tabelas!B:D,3,0),0),\"\")","v":""},{"$f":"IF(A33<>\"\",IFERROR(VLOOKUP(AO33,Tabelas!B:D,3,0),0),\"\")","v":""},{"$f":"IF(A33<>\"\",IFERROR(VLOOKUP(AP33,Tabelas!B:D,3,0),0),\"\")","v":""},{"$f":"IF(A33<>\"\",IFERROR(VLOOKUP(AQ33,Tabelas!B:D,3,0),0),\"\")","v":""},{"$f":"IF(A33<>\"\",IFERROR(VLOOKUP(AR33,Tabelas!B:D,3,0),0),\"\")","v":""},{"$f":"IF(AND(A33<>\"\",F33=\"Ebserh\"),SUM(AS33:BW33)+COUNTIF(N33:AR33,\"N*\")+COUNTIF(N33:AR33,\"DN*\"),IF(AND(A33<>\"\",F33<>\"Ebserh\"),SUM(AS33:BW33),\"\"))","v":""},{"$f":"IF(A33<>\"\",COUNTIF(N33:AR33,\"LM\")+COUNTIF(N33:AR33,\"L\")+COUNTIF(N33:AR33,\"LP\"),\"\")","v":""},{"$f":"IF(A33<>\"\",COUNTIF(N33:AR33,\"AB*\"),\"\")","v":""},{"$f":"IF(A33<>\"\",COUNTIF(N33:AR33,\"FE\"),\"\")","v":""},{"$f":"IF(A33<>\"\",COUNTIF(N33:AR33,\"LC\"),\"\")","v":""},{"$f":"IF(A33<>\"\",COUNTIF(N33:AR33,\"CH*\"),\"\")","v":""},{"$f":"IF(A33<>\"\",COUNTIF(N33:AR33,\"AF1\")+COUNTIF(N33:AR33,\"AF2\")+COUNTIF(N33:AR33,\"AF3\")+COUNTIF(N33:AR33,\"AF4\")+COUNTIF(N33:AR33,\"AF5\")+COUNTIF(N33:AR33,\"AF6\")+COUNTIF(N33:AR33,\"AF7\")+COUNTIF(N33:AR33,\"AF8\")+COUNTIF(N33:AR33,\"AF9\")+COUNTIF(N33:AR33,\"AF10\")+COUNTIF(N33:AR33,\"AF11\")+COUNTIF(N33:AR33,\"AF12\")+COUNTIF(N33:AR33,\"AF13\")+COUNTIF(N33:AR33,\"AF14\"),\"\")","v":""},{"$f":"IF(A33<>\"\",COUNTIF(N33:AR33,\"CH*\")+COUNTIF(N33:AR33,\"L\")+COUNTIF(N33:AR33,\"LM\")+COUNTIF(N33:AR33,\"LP\")+COUNTIF(N33:AR33,\"LC\")+COUNTIF(N33:AR33,\"AB*\")+COUNTIF(N33:AR33,\"AF1\")+COUNTIF(N33:AR33,\"AF2\")+COUNTIF(N33:AR33,\"AF3\")+COUNTIF(N33:AR33,\"AF4\")+COUNTIF(N33:AR33,\"AF5\")+COUNTIF(N33:AR33,\"AF6\")+COUNTIF(N33:AR33,\"AF7\")+COUNTIF(N33:AR33,\"AF8\")+COUNTIF(N33:AR33,\"AF9\")+COUNTIF(N33:AR33,\"AF10\")+COUNTIF(N33:AR33,\"AF11\")+COUNTIF(N33:AR33,\"AF12\")+COUNTIF(N33:AR33,\"AF13\")+COUNTIF(N33:AR33,\"AF14\")+COUNTIF(N33:AR33,\"RC\")+COUNTIF(N33:AR33,\"FO\")+COUNTIF(N33:AR33,\"FE\"),\"\")","v":""}]
[null,null,26,null,null,null,null,null,null,null,null,null,null,null,null,null,null,null,null,null,null,null,null,null,null,null,null,null,null,null,null,null,null,null,null,null,null,null,null,null,null,null,null,null,{"$f":"IF(A34<>\"\",IFERROR(VLOOKUP(N34,Tabelas!B:D,3,0),0),\"\")","v":""},{"$f":"IF(A34<>\"\",IFERROR(VLOOKUP(O34,Tabelas!B:D,3,0),0),\"\")","v":""},{"$f":"IF(A34<>\"\",IFERROR(VLOOKUP(P34,Tabelas!B:D,3,0),0),\"\")","v":""},{"$f":"IF(A34<>\"\",IFERROR(VLOOKUP(Q34,Tabelas!B:D,3,0),0),\"\")","v":""},{"$f":"IF(A34<>\"\",IFERROR(VLOOKUP(R34,Tabelas!B:D,3,0),0),\"\")","v":""},{"$f":"IF(A34<>\"\",IFERROR(VLOOKUP(S34,Tabelas!B:D,3,0),0),\"\")","v":""},{"$f":"IF(A34<>\"\",IFERROR(VLOOKUP(T34,Tabelas!B:D,3,0),0),\"\")","v":""},{"$f":"IF(A34<>\"\",IFERROR(VLOOKUP(U34,Tabelas!B:D,3,0),0),\"\")","v":""},{"$f":"IF(A34<>\"\",IFERROR(VLOOKUP(V34,Tabelas!B:D,3,0),0),\"\")","v":""},{"$f":"IF(A34<>\"\",IFERROR(VLOOKUP(W34,Tabelas!B:D,3,0),0),\"\")","v":""},{"$f":"IF(A34<>\"\",IFERROR(VLOOKUP(X34,Tabelas!B:D,3,0),0),\"\")","v":""},{"$f":"IF(A34<>\"\",IFERROR(VLOOKUP(Y34,Tabelas!B:D,3,0),0),\"\")","v":""},{"$f":"IF(A34<>\"\",IFERROR(VLOOKUP(Z34,Tabelas!B:D,3,0),0),\"\")","v":""},{"$f":"IF(A34<>\"\",IFERROR(VLOOKUP(AA34,Tabelas!B:D,3,0),0),\"\")","v":""},{"$f":"IF(A34<>\"\",IFERROR(VLOOKUP(AB34,Tabelas!B:D,3,0),0),\"\")","v":""},{"$f":"IF(A34<>\"\",IFERROR(VLOOKUP(AC34,Tabelas!B:D,3,0),0),\"\")","v":""},{"$f":"IF(A34<>\"\",IFERROR(VLOOKUP(AD34,Tabelas!B:D,3,0),0),\"\")","v":""},{"$f":"IF(A34<>\"\",IFERROR(VLOOKUP(AE34,Tabelas!B:D,3,0),0),\"\")","v":""},{"$f":"IF(A34<>\"\",IFERROR(VLOOKUP(AF34,Tabelas!B:D,3,0),0),\"\")","v":""},{"$f":"IF(A34<>\"\",IFERROR(VLOOKUP(AG34,Tabelas!B:D,3,0),0),\"\")","v":""},{"$f":"IF(A34<>\"\",IFERROR(VLOOKUP(AH34,Tabelas!B:D,3,0),0),\"\")","v":""},{"$f":"IF(A34<>\"\",IFERROR(VLOOKUP(AI34,Tabelas!B:D,3,0),0),\"\")","v":""},{"$f":"IF(A34<>\"\",IFERROR(VLOOKUP(AJ34,Tabelas!B:D,3,0),0),\"\")","v":""},{"$f":"IF(A34<>\"\",IFERROR(VLOOKUP(AK34,Tabelas!B:D,3,0),0),\"\")","v":""},{"$f":"IF(A34<>\"\",IFERROR(VLOOKUP(AL34,Tabelas!B:D,3,0),0),\"\")","v":""},{"$f":"IF(A34<>\"\",IFERROR(VLOOKUP(AM34,Tabelas!B:D,3,0),0),\"\")","v":""},{"$f":"IF(A34<>\"\",IFERROR(VLOOKUP(AN34,Tabelas!B:D,3,0),0),\"\")","v":""},{"$f":"IF(A34<>\"\",IFERROR(VLOOKUP(AO34,Tabelas!B:D,3,0),0),\"\")","v":""},{"$f":"IF(A34<>\"\",IFERROR(VLOOKUP(AP34,Tabelas!B:D,3,0),0),\"\")","v":""},{"$f":"IF(A34<>\"\",IFERROR(VLOOKUP(AQ34,Tabelas!B:D,3,0),0),\"\")","v":""},{"$f":"IF(A34<>\"\",IFERROR(VLOOKUP(AR34,Tabelas!B:D,3,0),0),\"\")","v":""},{"$f":"IF(AND(A34<>\"\",F34=\"Ebserh\"),SUM(AS34:BW34)+COUNTIF(N34:AR34,\"N*\")+COUNTIF(N34:AR34,\"DN*\"),IF(AND(A34<>\"\",F34<>\"Ebserh\"),SUM(AS34:BW34),\"\"))","v":""},{"$f":"IF(A34<>\"\",COUNTIF(N34:AR34,\"LM\")+COUNTIF(N34:AR34,\"L\")+COUNTIF(N34:AR34,\"LP\"),\"\")","v":""},{"$f":"IF(A34<>\"\",COUNTIF(N34:AR34,\"AB*\"),\"\")","v":""},{"$f":"IF(A34<>\"\",COUNTIF(N34:AR34,\"FE\"),\"\")","v":""},{"$f":"IF(A34<>\"\",COUNTIF(N34:AR34,\"LC\"),\"\")","v":""},{"$f":"IF(A34<>\"\",COUNTIF(N34:AR34,\"CH*\"),\"\")","v":""},{"$f":"IF(A34<>\"\",COUNTIF(N34:AR34,\"AF1\")+COUNTIF(N34:AR34,\"AF2\")+COUNTIF(N34:AR34,\"AF3\")+COUNTIF(N34:AR34,\"AF4\")+COUNTIF(N34:AR34,\"AF5\")+COUNTIF(N34:AR34,\"AF6\")+COUNTIF(N34:AR34,\"AF7\")+COUNTIF(N34:AR34,\"AF8\")+COUNTIF(N34:AR34,\"AF9\")+COUNTIF(N34:AR34,\"AF10\")+COUNTIF(N34:AR34,\"AF11\")+COUNTIF(N34:AR34,\"AF12\")+COUNTIF(N34:AR34,\"AF13\")+COUNTIF(N34:AR34,\"AF14\"),\"\")","v":""},{"$f":"IF(A34<>\"\",COUNTIF(N34:AR34,\"CH*\")+COUNTIF(N34:AR34,\"L\")+COUNTIF(N34:AR34,\"LM\")+COUNTIF(N34:AR34,\"LP\")+COUNTIF(N34:AR34,\"LC\")+COUNTIF(N34:AR34,\"AB*\")+COUNTIF(N34:AR34,\"AF1\")+COUNTIF(N34:AR34,\"AF2\")+COUNTIF(N34:AR34,\"AF3\")+COUNTIF(N34:AR34,\"AF4\")+COUNTIF(N34:AR34,\"AF5\")+COUNTIF(N34:AR34,\"AF6\")+COUNTIF(N34:AR34,\"AF7\")+COUNTIF(N34:AR34,\"AF8\")+COUNTIF(N34:AR34,\"AF9\")+COUNTIF(N34:AR34,\"AF10\")+COUNTIF(N34:AR34,\"AF11\")+COUNTIF(N34:AR34,\"AF12\")+COUNTIF(N34:AR34,\"AF13\")+COUNTIF(N34:AR34,\"AF14\")+COUNTIF(N34:AR34,\"RC\")+COUNTIF(N34:AR34,\"FO\")+COUNTIF(N34:AR34,\"FE\"),\"\")","v":""}]
["Daniele Cruz",null,27,null,null,null,null,null,null,null,null,null,null,null,"N8",null,null,"N8",null,"N8",null,"N8",null,"N8","N8",null,"N8",null,null,"N8","FO","DSR","N8",null,null,"N8",null,"N8",null,"N8",null,"N8",null,"M15",{"$f":"IF(A35<>\"\",IFERROR(VLOOKUP(N35,Tabelas!B:D,3,0),0),\"\")","v":0},{"$f":"IF(A35<>\"\",IFERROR(VLOOKUP(O35,Tabelas!B:D,3,0),0),\"\")","v":12},{"$f":"IF(A35<>\"\",IFERROR(VLOOKUP(P35,Tabelas!B:D,3,0),0),\"\")","v":0},{"$f":"IF(A35<>\"\",IFERROR(VLOOKUP(Q35,Tabelas!B:D,3,0),0),\"\")","v":0},{"$f":"IF(A35<>\"\",IFERROR(VLOOKUP(R35,Tabelas!B:D,3,0),0),\"\")","v":12},{"$f":"IF(A35<>\"\",IFERROR(VLOOKUP(S35,Tabelas!B:D,3,0),0),\"\")","v":0},{"$f":"IF(A35<>\"\",IFERROR(VLOOKUP(T35,Tabelas!B:D,3,0),0),\"\")","v":12},{"$f":"IF(A35<>\"\",IFERROR(VLOOKUP(U35,Tabelas!B:D,3,0),0),\"\")","v":0},{"$f":"IF(A35<>\"\",IFERROR(VLOOKUP(V35,Tabelas!B:D,3,0),0),\"\")","v":12},{"$f":"IF(A35<>\"\",IFERROR(VLOOKUP(W35,Tabelas!B:D,3,0),0),\"\")","v":0},{"$f":"IF(A35<>\"\",IFERROR(VLOOKUP(X35,Tabelas!B:D,3,0),0),\"\")","v":12},{"$f":"IF(A35<>\"\",IFERROR(VLOOKUP(Y35,Tabelas!B:D,3,0),0),\"\")","v":12},{"$f":"IF(A35<>\"\",IFERROR(VLOOKUP(Z35,Tabelas!B:D,3,0),0),\"\")","v":0},{"$f":"IF(A35<>\"\",IFERROR(VLOOKUP(AA35,Tabelas!B:D,3,0),0),\"\")","v":12},{"$f":"IF(A35<>\"\",IFERROR(VLOOKUP(AB35,Tabelas!B:D,3,0),0),\"\")","v":0},{"$f":"IF(A35<>\"\",IFERROR(VLOOKUP(AC35,Tabelas!B:D,3,0),0),\"\")","v":0},{"$f":"IF(A35<>\"\",IFERROR(VLOOKUP(AD35,Tabelas!B:D,3,0),0),\"\")","v":12},{"$f":"IF(A35<>\"\",IFERROR(VLOOKUP(AE35,Tabelas!B:D,3,0),0),\"\")","v":0},{"$f":"IF(A35<>\"\",IFERROR(VLOOKUP(AF35,Tabelas!B:D,3,0),0),\"\")","v":0},{"$f":"IF(A35<>\"\",IFERROR(VLOOKUP(AG35,Tabelas!B:D,3,0),0),\"\")","v":12},{"$f":"IF(A35<>\"\",IFERROR(VLOOKUP(AH35,Tabelas!B:D,3,0),0),\"\")","v":0},{"$f":"IF(A35<>\"\",IFERROR(VLOOKUP(AI35,Tabelas!B:D,3,0),0),\"\")","v":0},{"$f":"IF(A35<>\"\",IFERROR(VLOOKUP(AJ35,Tabelas!B:D,3,0),0),\"\")","v":12},{"$f":"IF(A35<>\"\",IFERROR(VLOOKUP(AK35,Tabelas!B:D,3,0),0),\"\")","v":0},{"$f":"IF(A35<>\"\",IFERROR(VLOOKUP(AL35,Tabelas!B:D,3,0),0),\"\")","v":12},{"$f":"IF(A35<>\"\",IFERROR(VLOOKUP(AM35,Tabelas!B:D,3,0),0),\"\")","v":0},{"$f":"IF(A35<>\"\",IFERROR(VLOOKUP(AN35,Tabelas!B:D,3,0),0),\"\")","v":12},{"$f":"IF(A35<>\"\",IFERROR(VLOOKUP(AO35,Tabelas!B:D,3,0),0),\"\")","v":0},{"$f":"IF(A35<>\"\",IFERROR(VLOOKUP(AP35,Tabelas!B:D,3,0),0),\"\")","v":12},{"$f":"IF(A35<>\"\",IFERROR(VLOOKUP(AQ35,Tabelas!B:D,3,0),0),\"\")","v":0},{"$f":"IF(A35<>\"\",IFERROR(VLOOKUP(AR35,Tabelas!B:D,3,0),0),\"\")","v":6},{"$f":"IF(AND(A35<>\"\",F35=\"Ebserh\"),SUM(AS35:BW35)+COUNTIF(N35:AR35,\"N*\")+COUNTIF(N35:AR35,\"DN*\"),IF(AND(A35<>\"\",F35<>\"Ebserh\"),SUM(AS35:BW35),\"\"))","v":162},{"$f":"IF(A35<>\"\",COUNTIF(N35:AR35,\"LM\")+COUNTIF(N35:AR35,\"L\")+COUNTIF(N35:AR35,\"LP\"),\"\")","v":0},{"$f":"IF(A35<>\"\",COUNTIF(N35:AR35,\"AB*\"),\"\")","v":0},{"$f":"IF(A35<>\"\",COUNTIF(N35:AR35,\"FE\"),\"\")","v":0},{"$f":"IF(A35<>\"\",COUNTIF(N35:AR35,\"LC\"),\"\")","v":0},{"$f":"IF(A35<>\"\",COUNTIF(N35:AR35,\"CH*\"),\"\")","v":0},{"$f":"IF(A35<>\"\",COUNTIF(N35:AR35,\"AF1\")+COUNTIF(N35:AR35,\"AF2\")+COUNTIF(N35:AR35,\"AF3\")+COUNTIF(N35:AR35,\"AF4\")+COUNTIF(N35:AR35,\"AF5\")+COUNTIF(N35:AR35,\"AF6\")+COUNTIF(N35:AR35,\"AF7\")+COUNTIF(N35:AR35,\"AF8\")+COUNTIF(N35:AR35,\"AF9\")+COUNTIF(N35:AR35,\"AF10\")+COUNTIF(N35:AR35,\"AF11\")+COUNTIF(N35:AR35,\"AF12\")+COUNTIF(N35:AR35,\"AF13\")+COUNTIF(N35:AR35,\"AF14\"),\"\")","v":0},{"$f":"IF(A35<>\"\",COUNTIF(N35:AR35,\"CH*\")+COUNTIF(N35:AR35,\"L\")+COUNTIF(N35:AR35,\"LM\")+COUNTIF(N35:AR35,\"LP\")+COUNTIF(N35:AR35,\"LC\")+COUNTIF(N35:AR35,\"AB*\")+COUNTIF(N35:AR35,\"AF1\")+COUNTIF(N35:AR35,\"AF2\")+COUNTIF(N35:AR35,\"AF3\")+COUNTIF(N35:AR35,\"AF4\")+COUNTIF(N35:AR35,\"AF5\")+COUNTIF(N35:AR35,\"AF6\")+COUNTIF(N35:AR35,\"AF7\")+COUNTIF(N35:AR35,\"AF8\")+COUNTIF(N35:AR35,\"AF9\")+COUNTIF(N35:AR35,\"AF10\")+COUNTIF(N35:AR35,\"AF11\")+COUNTIF(N35:AR35,\"AF12\")+COUNTIF(N35:AR35,\"AF13\")+COUNTIF(N35:AR35,\"AF14\")+COUNTIF(N35:AR35,\"RC\")+COUNTIF(N35:AR35,\"FO\")+COUNTIF(N35:AR35,\"FE\"),\"\")","v":1}]
[null,null,28,null,null,null,null,null,null,null,null,null,null,null,"N8",null,"N8",null,"N8",null,"N8",null,"N8",null,"N8",null,"N8",null,"N8",null,"N8",null,"N8",null,"N8",null,"N8","FO","DSR","N8",null,null,"M15",null,null,null,null,null,null,null,null,null,null,null,null,null,null,null,null,null,null,null,null,null,null,null,null,null,null,null,null,null,null,null,null,null,{"$f":"SUM(BY9:BY35)","v":{"$error":"#REF!"}},{"$error":"#REF!"},{"$error":"#REF!"},{"$error":"#REF!"},{"$error":"#REF!"},{"$error":"#REF!"},{"$error":"#REF!"}]
[null,null,29,null,null,null,null,null,null,null,null,null,null,"T15",null,"N8",null,null,"N8",null,"N8","N8",null,null,"N8",null,null,"N8",null,"N8","N8",null,null,"N8",null,"N8",null,"FO","DSR","N8",null,"N8",null,"N8",{"$f":"IF(Agosto!A42<>\"\",IFERROR(VLOOKUP(N37,Tabelas!B:D,3,0),0),\"\")","v":6},{"$f":"IF(Agosto!A42<>\"\",IFERROR(VLOOKUP(O37,Tabelas!B:D,3,0),0),\"\")","v":0},{"$f":"IF(Agosto!A42<>\"\",IFERROR(VLOOKUP(P37,Tabelas!B:D,3,0),0),\"\")","v":12},{"$f":"IF(Agosto!A42<>\"\",IFERROR(VLOOKUP(Q37,Tabelas!B:D,3,0),0),\"\")","v":0},{"$f":"IF(Agosto!A42<>\"\",IFERROR(VLOOKUP(R37,Tabelas!B:D,3,0),0),\"\")","v":0},{"$f":"IF(Agosto!A42<>\"\",IFERROR(VLOOKUP(S37,Tabelas!B:D,3,0),0),\"\")","v":12},{"$f":"IF(Agosto!A42<>\"\",IFERROR(VLOOKUP(T37,Tabelas!B:D,3,0),0),\"\")","v":0},{"$f":"IF(Agosto!A42<>\"\",IFERROR(VLOOKUP(U37,Tabelas!B:D,3,0),0),\"\")","v":12},{"$f":"IF(Agosto!A42<>\"\",IFERROR(VLOOKUP(V37,Tabelas!B:D,3,0),0),\"\")","v":12},{"$f":"IF(Agosto!A42<>\"\",IFERROR(VLOOKUP(W37,Tabelas!B:D,3,0),0),\"\")","v":0},{"$f":"IF(Agosto!A42<>\"\",IFERROR(VLOOKUP(X37,Tabelas!B:D,3,0),0),\"\")","v":0},{"$f":"IF(Agosto!A42<>\"\",IFERROR(VLOOKUP(Y37,Tabelas!B:D,3,0),0),\"\")","v":12},{"$f":"IF(Agosto!A42<>\"\",IFERROR(VLOOKUP(Z37,Tabelas!B:D,3,0),0),\"\")","v":0},{"$f":"IF(Agosto!A42<>\"\",IFERROR(VLOOKUP(AA37,Tabelas!B:D,3,0),0),\"\")","v":0},{"$f":"IF(Agosto!A42<>\"\",IFERROR(VLOOKUP(AB37,Tabelas!B:D,3,0),0),\"\")","v":12},{"$f":"IF(Agosto!A42<>\"\",IFERROR(VLOOKUP(AC37,Tabelas!B:D,3,0),0),\"\")","v":0},{"$f":"IF(Agosto!A42<>\"\",IFERROR(VLOOKUP(AD37,Tabelas!B:D,3,0),0),\"\")","v":12},{"$f":"IF(Agosto!A42<>\"\",IFERROR(VLOOKUP(AE37,Tabelas!B:D,3,0),0),\"\")","v":12},{"$f":"IF(Agosto!A42<>\"\",IFERROR(VLOOKUP(AF37,Tabelas!B:D,3,0),0),\"\")","v":0},{"$f":"IF(Agosto!A42<>\"\",IFERROR(VLOOKUP(AG37,Tabelas!B:D,3,0),0),\"\")","v":0},{"$f":"IF(Agosto!A42<>\"\",IFERROR(VLOOKUP(AH37,Tabelas!B:D,3,0),0),\"\")","v":12},{"$f":"IF(Agosto!A42<>\"\",IFERROR(VLOOKUP(AI37,Tabelas!B:D,3,0),0),\"\")","v":0},{"$f":"IF(Agosto!A42<>\"\",IFERROR(VLOOKUP(AJ37,Tabelas!B:D,3,0),0),\"\")","v":12},{"$f":"IF(Agosto!A42<>\"\",IFERROR(VLOOKUP(AK37,Tabelas!B:D,3,0),0),\"\")","v":0},{"$f":"IF(Agosto!A42<>\"\",IFERROR(VLOOKUP(AL37,Tabelas!B:D,3,0),0),\"\")","v":0},{"$f":"IF(Agosto!A42<>\"\",IFERROR(VLOOKUP(AM37,Tabelas!B:D,3,0),0),\"\")","v":0},{"$f":"IF(Agosto!A42<>\"\",IFERROR(VLOOKUP(AN37,Tabelas!B:D,3,0),0),\"\")","v":12},{"$f":"IF(Agosto!A42<>\"\",IFERROR(VLOOKUP(AO37,Tabelas!B:D,3,0),0),\"\")","v":0},{"$f":"IF(Agosto!A42<>\"\",IFERROR(VLOOKUP(AP37,Tabelas!B:D,3,0),0),\"\")","v":12},{"$f":"IF(Agosto!A42<>\"\",IFERROR(VLOOKUP(AQ37,Tabelas!B:D,3,0),0),\"\")","v":0},{"$f":"IF(Agosto!A42<>\"\",IFERROR(VLOOKUP(AR37,Tabelas!B:D,3,0),0),\"\")","v":12}]
[null,null,30,null,null,null,null,null,null,null,null,null,null,"N8",null,null,"N8",null,null,"N8",null,null,"N8","FO","DSR","N8",null,null,"N8",null,null,"N8",null,null,"N8",null,null,"N8",null,null,"N8",null,null,"N8",{"$f":"IF(Agosto!A43<>\"\",IFERROR(VLOOKUP(N38,Tabelas!B:D,3,0),0),\"\")","v":12},{"$f":"IF(Agosto!A43<>\"\",IFERROR(VLOOKUP(O38,Tabelas!B:D,3,0),0),\"\")","v":0},{"$f":"IF(Agosto!A43<>\"\",IFERROR(VLOOKUP(P38,Tabelas!B:D,3,0),0),\"\")","v":0},{"$f":"IF(Agosto!A43<>\"\",IFERROR(VLOOKUP(Q38,Tabelas!B:D,3,0),0),\"\")","v":12},{"$f":"IF(Agosto!A43<>\"\",IFERROR(VLOOKUP(R38,Tabelas!B:D,3,0),0),\"\")","v":0},{"$f":"IF(Agosto!A43<>\"\",IFERROR(VLOOKUP(S38,Tabelas!B:D,3,0),0),\"\")","v":0},{"$f":"IF(Agosto!A43<>\"\",IFERROR(VLOOKUP(T38,Tabelas!B:D,3,0),0),\"\")","v":12},{"$f":"IF(Agosto!A43<>\"\",IFERROR(VLOOKUP(U38,Tabelas!B:D,3,0),0),\"\")","v":0},{"$f":"IF(Agosto!A43<>\"\",IFERROR(VLOOKUP(V38,Tabelas!B:D,3,0),0),\"\")","v":0},{"$f":"IF(Agosto!A43<>\"\",IFERROR(VLOOKUP(W38,Tabelas!B:D,3,0),0),\"\")","v":12},{"$f":"IF(Agosto!A43<>\"\",IFERROR(VLOOKUP(X38,Tabelas!B:D,3,0),0),\"\")","v":0},{"$f":"IF(Agosto!A43<>\"\",IFERROR(VLOOKUP(Y38,Tabelas!B:D,3,0),0),\"\")","v":0},{"$f":"IF(Agosto!A43<>\"\",IFERROR(VLOOKUP(Z38,Tabelas!B:D,3,0),0),\"\")","v":12},{"$f":"IF(Agosto!A43<>\"\",IFERROR(VLOOKUP(AA38,Tabelas!B:D,3,0),0),\"\")","v":0},{"$f":"IF(Agosto!A43<>\"\",IFERROR(VLOOKUP(AB38,Tabelas!B:D,3,0),0),\"\")","v":0},{"$f":"IF(Agosto!A43<>\"\",IFERROR(VLOOKUP(AC38,Tabelas!B:D,3,0),0),\"\")","v":12},{"$f":"IF(Agosto!A43<>\"\",IFERROR(VLOOKUP(AD38,Tabelas!B:D,3,0),0),\"\")","v":0},{"$f":"IF(Agosto!A43<>\"\",IFERROR(VLOOKUP(AE38,Tabelas!B:D,3,0),0),\"\")","v":0},{"$f":"IF(Agosto!A43<>\"\",IFERROR(VLOOKUP(AF38,Tabelas!B:D,3,0),0),\"\")","v":12},{"$f":"IF(Agosto!A43<>\"\",IFERROR(VLOOKUP(AG38,Tabelas!B:D,3,0),0),\"\")","v":0},{"$f":"IF(Agosto!A43<>\"\",IFERROR(VLOOKUP(AH38,Tabelas!B:D,3,0),0),\"\")","v":0},{"$f":"IF(Agosto!A43<>\"\",IFERROR(VLOOKUP(AI38,Tabelas!B:D,3,0),0),\"\")","v":12},{"$f":"IF(Agosto!A43<>\"\",IFERROR(VLOOKUP(AJ38,Tabelas!B:D,3,0),0),\"\")","v":0},{"$f":"IF(Agosto!A43<>\"\",IFERROR(VLOOKUP(AK38,Tabelas!B:D,3,0),0),\"\")","v":0},{"$f":"IF(Agosto!A43<>\"\",IFERROR(VLOOKUP(AL38,Tabelas!B:D,3,0),0),\"\")","v":12},{"$f":"IF(Agosto!A43<>\"\",IFERROR(VLOOKUP(AM38,Tabelas!B:D,3,0),0),\"\")","v":0},{"$f":"IF(Agosto!A43<>\"\",IFERROR(VLOOKUP(AN38,Tabelas!B:D,3,0),0),\"\")","v":0},{"$f":"IF(Agosto!A43<>\"\",IFERROR(VLOOKUP(AO38,Tabelas!B:D,3,0),0),\"\")","v":12},{"$f":"IF(Agosto!A43<>\"\",IFERROR(VLOOKUP(AP38,Tabelas!B:D,3,0),0),\"\")","v":0},{"$f":"IF(Agosto!A43<>\"\",IFERROR(VLOOKUP(AQ38,Tabelas!B:D,3,0),0),\"\")","v":0},{"$f":"IF(Agosto!A43<>\"\",IFERROR(VLOOKUP(AR38,Tabelas!B:D,3,0),0),\"\")","v":12}]
[null,null,31,null,null,null,null,null,null,null,null,null,null,null,"N8","N8","FO","DSR","N8",null,null,"N8",null,"N8",null,"N8",null,"N8",null,null,"N8",null,"N8","N8",null,"N8",null,null,"N8",null,null,"CH-6","N8",null,null,null,null,null,{"$f":"IF(Agosto!A44<>\"\",IFERROR(VLOOKUP(N39,Tabelas!B:D,3,0),0),\"\")","v":0},{"$f":"IF(Agosto!A44<>\"\",IFERROR(VLOOKUP(O39,Tabelas!B:D,3,0),0),\"\")","v":12},{"$f":"IF(Agosto!A44<>\"\",IFERROR(VLOOKUP(P39,Tabelas!B:D,3,0),0),\"\")","v":12},{"$f":"IF(Agosto!A44<>\"\",IFERROR(VLOOKUP(Q39,Tabelas!B:D,3,0),0),\"\")","v":0},{"$f":"IF(Agosto!A44<>\"\",IFERROR(VLOOKUP(R39,Tabelas!B:D,3,0),0),\"\")","v":0},{"$f":"IF(Agosto!A44<>\"\",IFERROR(VLOOKUP(S39,Tabelas!B:D,3,0),0),\"\")","v":12},{"$f":"IF(Agosto!A44<>\"\",IFERROR(VLOOKUP(T39,Tabelas!B:D,3,0),0),\"\")","v":0},{"$f":"IF(Agosto!A44<>\"\",IFERROR(VLOOKUP(U39,Tabelas!B:D,3,0),0),\"\")","v":0},{"$f":"IF(Agosto!A44<>\"\",IFERROR(VLOOKUP(V39,Tabelas!B:D,3,0),0),\"\")","v":12},{"$f":"IF(Agosto!A44<>\"\",IFERROR(VLOOKUP(W39,Tabelas!B:D,3,0),0),\"\")","v":0},{"$f":"IF(Agosto!A44<>\"\",IFERROR(VLOOKUP(X39,Tabelas!B:D,3,0),0),\"\")","v":12},{"$f":"IF(Agosto!A44<>\"\",IFERROR(VLOOKUP(Y39,Tabelas!B:D,3,0),0),\"\")","v":0},{"$f":"IF(Agosto!A44<>\"\",IFERROR(VLOOKUP(Z39,Tabelas!B:D,3,0),0),\"\")","v":12},{"$f":"IF(Agosto!A44<>\"\",IFERROR(VLOOKUP(AA39,Tabelas!B:D,3,0),0),\"\")","v":0},{"$f":"IF(Agosto!A44<>\"\",IFERROR(VLOOKUP(AB39,Tabelas!B:D,3,0),0),\"\")","v":12},{"$f":"IF(Agosto!A44<>\"\",IFERROR(VLOOKUP(AC39,Tabelas!B:D,3,0),0),\"\")","v":0},{"$f":"IF(Agosto!A44<>\"\",IFERROR(VLOOKUP(AD39,Tabelas!B:D,3,0),0),\"\")","v":0},{"$f":"IF(Agosto!A44<>\"\",IFERROR(VLOOKUP(AE39,Tabelas!B:D,3,0),0),\"\")","v":12},{"$f":"IF(Agosto!A44<>\"\",IFERROR(VLOOKUP(AF39,Tabelas!B:D,3,0),0),\"\")","v":0},{"$f":"IF(Agosto!A44<>\"\",IFERROR(VLOOKUP(AG39,Tabelas!B:D,3,0),0),\"\")","v":12},{"$f":"IF(Agosto!A44<>\"\",IFERROR(VLOOKUP(AH39,Tabelas!B:D,3,0),0),\"\")","v":12},{"$f":"IF(Agosto!A44<>\"\",IFERROR(VLOOKUP(AI39,Tabelas!B:D,3,0),0),\"\")","v":0},{"$f":"IF(Agosto!A44<>\"\",IFERROR(VLOOKUP(AJ39,Tabelas!B:D,3,0),0),\"\")","v":12},{"$f":"IF(Agosto!A44<>\"\",IFERROR(VLOOKUP(AK39,Tabelas!B:D,3,0),0),\"\")","v":0},{"$f":"IF(Agosto!A44<>\"\",IFERROR(VLOOKUP(AL39,Tabelas!B:D,3,0),0),\"\")","v":0},{"$f":"IF(Agosto!A44<>\"\",IFERROR(VLOOKUP(AM39,Tabelas!B:D,3,0),0),\"\")","v":12},{"$f":"IF(Agosto!A44<>\"\",IFERROR(VLOOKUP(AN39,Tabelas!B:D,3,0),0),\"\")","v":0},{"$f":"IF(Agosto!A44<>\"\",IFERROR(VLOOKUP(AO39,Tabelas!B:D,3,0),0),\"\")","v":0},{"$f":"IF(Agosto!A44<>\"\",IFERROR(VLOOKUP(AR39,Tabelas!B:D,3,0),0),\"\")","v":0},{"$f":"IF(Agosto!A44<>\"\",IFERROR(VLOOKUP(AU39,Tabelas!B:D,3,0),0),\"\")","v":0},{"$f":"IF(Agosto!A44<>\"\",IFERROR(VLOOKUP(AV39,Tabelas!B:D,3,0),0),\"\")","v":0}]
[null,null,32,null,null,null,null,null,null,null,null,null,null,"N8",null,null,"N8",null,null,"N8",null,null,"N8",null,null,"N8",null,null,"N8",null,null,"N8",null,null,"N8",null,null,"N8",null,null,"N8",null,null,"N8"]
[null,null,33,null,null,null,null,null,null,null,null,null,null,"N8",null,"N8",null,"N8",null,null,"N8",null,"M15","N8",null,null,"N8","N8",null,"N8","FO","DSR",null,"N8",null,null,"N8",null,"N8",null,"N8",null,"N8",null,null,null,"N8"]
[null,null,"LP","Feriado"]
["Licença Médica/Odontológica",null,"L","Descanso Semanal Remunerado",null,null,null,null,null,null,"DSR",null,"Compensação de Horas***",null,null,null,null,null,null,null,"CH","Plantão Dia (12 hrs) *",null,null,null,null,null,null,"D"]
["Licença Capacitação",null,"LC","Recesso",null,null,null,null,null,null,"RC",null,"Afastamento**",null,null,null,null,null,null,null,"AF","Plantão Noite (12 hrs) *",null,null,null,null,null,null,"N"]
[]
["OBSERVAÇÕES:"]
["* Para inserção das legendas referentes às jornadas de trabalho, verificar a Tabela 1 do Anexo do Memorando-Circular - SEI nº   25 /2018/CAP/DGP-EBSERH."]
["** Para inserção das legendas referentes aos Afastamentos previstos em lei e às Compensações de horas, verificar a Tabela 2 do Anexo do Memorando-Circular - SEI nº   25 /2018/CAP/DGP-EBSERH."]

{"sheet":"Agosto","index":7,"n_rows":59,"n_cols":82,"rows_kept":59,"cut":false,"hidden":false,"merged":[[51,20,51,26],[52,2,52,8],[52,9,52,10],[52,11,52,18],[52,20,52,26],[51,2,51,8],[51,9,51,10],[53,20,53,26],[54,2,54,8],[54,9,54,10],[54,11,54,18],[54,20,54,26],[46,0,46,11],[47,0,47,11],[48,0,48,11],[53,2,53,8],[53,9,53,10],[53,11,53,18],[51,11,51,18],[1,0,1,42],[2,0,2,42],[3,0,3,42],[4,1,4,20],[4,23,4,34],[4,37,4,42],[5,6,5,11],[6,76,7,76],[6,77,7,77],[6,78,7,78],[6,79,7,79],[6,6,7,6],[6,7,7,7],[6,8,7,8],[6,11,7,11],[6,9,7,9],[6,10,7,10],[6,80,7,80],[6,81,7,81],[5,12,5,42],[5,43,5,73],[5,75,5,81],[5,74,7,74],[6,75,7,75],[46,79,48,79],[46,80,48,80],[46,81,48,81],[51,28,51,34],[52,28,52,34],[46,74,48,74],[46,75,48,75],[46,76,48,76],[46,77,48,77],[46,78,48,78]]}
[]
[]
[]
["ESCALA MENSAL DE TRABALHO"]
["DIVISÃO /SETOR/UNIDADE: CM1 (ÁREA COVID)",null,null,null,null,null,null,null,null,null,null,null,null,null,null,null,null,null,null,null,null,"MÊS:",null,"Agosto",null,null,null,null,null,null,null,null,null,null,null,"ANO:",null,2020]
["NOME COMPLETO","SIAPE","     Registro Conselho Classe","Cargo","Vínculo","    C.H Sem","INTERVALO",null,null,null,null,null,"DIAS DO MÊS",null,null,null,null,null,null,null,null,null,null,null,null,null,null,null,null,null,null,null,null,null,null,null,null,null,null,null,null,null,null,"CÁLCULO DAS HORAS",null,null,null,null,null,null,null,null,null,null,null,null,null,null,null,null,null,null,null,null,null,null,null,null,null,null,null,null,null,null,"CH Men.","Dias"]
[null,null,null,null,null,null,"15' M","15' T","15' N","1H D","1H N","2H",1,2,3,4,5,6,7,8,9,10,11,12,13,14,15,16,17,18,19,20,21,22,23,24,25,{"$f":"IF(DAY(DATE(AL5,VLOOKUP(X5,Tabelas!M:N,2,0)+1,1)-1)>=26,26,\"\")","v":26},{"$f":"IF(DAY(DATE(AL5,VLOOKUP(X5,Tabelas!M:N,2,0)+1,1)-1)>=27,27,\"\")","v":27},{"$f":"IF(DAY(DATE(AL5,VLOOKUP(X5,Tabelas!M:N,2,0)+1,1)-1)>=28,28,\"\")","v":28},{"$f":"IF(DAY(DATE(AL5,VLOOKUP(X5,Tabelas!M:N,2,0)+1,1)-1)>=29,29,\"\")","v":29},{"$f":"IF(DAY(DATE(AL5,VLOOKUP(X5,Tabelas!M:N,2,0)+1,1)-1)>=30,30,\"\")","v":30},{"$f":"IF(DAY(DATE(AL5,VLOOKUP(X5,Tabelas!M:N,2,0)+1,1)-1)>=31,31,\"\")","v":31},null,null,null,null,null,null,null,null,null,null,null,null,null,null,null,null,null,null,null,null,null,null,null,null,null,null,null,null,null,null,null,null,"LM/LP/L","AB","FE","LC","CH","AF  "," Total Afast."]
["Enfermeiros Diurno",null,null,null,null,null,null,null,null,null,null,null,{"$f":"IF(M7<>\"\",IFERROR(VLOOKUP(WEEKDAY(CONCATENATE(M7,$X$5,$AL$5)),Tabelas!$I:$J,2,0),\"\"),\"\")","v":"SAB"},{"$f":"IF(N7<>\"\",IFERROR(VLOOKUP(WEEKDAY(CONCATENATE(N7,$X$5,$AL$5)),Tabelas!$I:$J,2,0),\"\"),\"\")","v":"DOM"},{"$f":"IF(O7<>\"\",IFERROR(VLOOKUP(WEEKDAY(CONCATENATE(O7,$X$5,$AL$5)),Tabelas!$I:$J,2,0),\"\"),\"\")","v":"SEG"},{"$f":"IF(P7<>\"\",IFERROR(VLOOKUP(WEEKDAY(CONCATENATE(P7,$X$5,$AL$5)),Tabelas!$I:$J,2,0),\"\"),\"\")","v":"TER"},{"$f":"IF(Q7<>\"\",IFERROR(VLOOKUP(WEEKDAY(CONCATENATE(Q7,$X$5,$AL$5)),Tabelas!$I:$J,2,0),\"\"),\"\")","v":"QUA"},{"$f":"IF(R7<>\"\",IFERROR(VLOOKUP(WEEKDAY(CONCATENATE(R7,$X$5,$AL$5)),Tabelas!$I:$J,2,0),\"\"),\"\")","v":"QUI"},{"$f":"IF(S7<>\"\",IFERROR(VLOOKUP(WEEKDAY(CONCATENATE(S7,$X$5,$AL$5)),Tabelas!$I:$J,2,0),\"\"),\"\")","v":"SEX"},{"$f":"IF(T7<>\"\",IFERROR(VLOOKUP(WEEKDAY(CONCATENATE(T7,$X$5,$AL$5)),Tabelas!$I:$J,2,0),\"\"),\"\")","v":"SAB"},{"$f":"IF(U7<>\"\",IFERROR(VLOOKUP(WEEKDAY(CONCATENATE(U7,$X$5,$AL$5)),Tabelas!$I:$J,2,0),\"\"),\"\")","v":"DOM"},{"$f":"IF(V7<>\"\",IFERROR(VLOOKUP(WEEKDAY(CONCATENATE(V7,$X$5,$AL$5)),Tabelas!$I:$J,2,0),\"\"),\"\")","v":"SEG"},{"$f":"IF(W7<>\"\",IFERROR(VLOOKUP(WEEKDAY(CONCATENATE(W7,$X$5,$AL$5)),Tabelas!$I:$J,2,0),\"\"),\"\")","v":"TER"},{"$f":"IF(X7<>\"\",IFERROR(VLOOKUP(WEEKDAY(CONCATENATE(X7,$X$5,$AL$5)),Tabelas!$I:$J,2,0),\"\"),\"\")","v":"QUA"},{"$f":"IF(Y7<>\"\",IFERROR(VLOOKUP(WEEKDAY(CONCATENATE(Y7,$X$5,$AL$5)),Tabelas!$I:$J,2,0),\"\"),\"\")","v":"QUI"},{"$f":"IF(Z7<>\"\",IFERROR(VLOOKUP(WEEKDAY(CONCATENATE(Z7,$X$5,$AL$5)),Tabelas!$I:$J,2,0),\"\"),\"\")","v":"SEX"},{"$f":"IF(AA7<>\"\",IFERROR(VLOOKUP(WEEKDAY(CONCATENATE(AA7,$X$5,$AL$5)),Tabelas!$I:$J,2,0),\"\"),\"\")","v":"SAB"},{"$f":"IF(AB7<>\"\",IFERROR(VLOOKUP(WEEKDAY(CONCATENATE(AB7,$X$5,$AL$5)),Tabelas!$I:$J,2,0),\"\"),\"\")","v":"DOM"},{"$f":"IF(AC7<>\"\",IFERROR(VLOOKUP(WEEKDAY(CONCATENATE(AC7,$X$5,$AL$5)),Tabelas!$I:$J,2,0),\"\"),\"\")","v":"SEG"},{"$f":"IF(AD7<>\"\",IFERROR(VLOOKUP(WEEKDAY(CONCATENATE(AD7,$X$5,$AL$5)),Tabelas!$I:$J,2,0),\"\"),\"\")","v":"TER"},{"$f":"IF(AE7<>\"\",IFERROR(VLOOKUP(WEEKDAY(CONCATENATE(AE7,$X$5,$AL$5)),Tabelas!$I:$J,2,0),\"\"),\"\")","v":"QUA"},{"$f":"IF(AF7<>\"\",IFERROR(VLOOKUP(WEEKDAY(CONCATENATE(AF7,$X$5,$AL$5)),Tabelas!$I:$J,2,0),\"\"),\"\")","v":"QUI"},{"$f":"IF(AG7<>\"\",IFERROR(VLOOKUP(WEEKDAY(CONCATENATE(AG7,$X$5,$AL$5)),Tabelas!$I:$J,2,0),\"\"),\"\")","v":"SEX"},{"$f":"IF(AH7<>\"\",IFERROR(VLOOKUP(WEEKDAY(CONCATENATE(AH7,$X$5,$AL$5)),Tabelas!$I:$J,2,0),\"\"),\"\")","v":"SAB"},{"$f":"IF(AI7<>\"\",IFERROR(VLOOKUP(WEEKDAY(CONCATENATE(AI7,$X$5,$AL$5)),Tabelas!$I:$J,2,0),\"\"),\"\")","v":"DOM"},{"$f":"IF(AJ7<>\"\",IFERROR(VLOOKUP(WEEKDAY(CONCATENATE(AJ7,$X$5,$AL$5)),Tabelas!$I:$J,2,0),\"\"),\"\")","v":"SEG"},{"$f":"IF(AK7<>\"\",IFERROR(VLOOKUP(WEEKDAY(CONCATENATE(AK7,$X$5,$AL$5)),Tabelas!$I:$J,2,0),\"\"),\"\")","v":"TER"},{"$f":"IF(AL7<>\"\",IFERROR(VLOOKUP(WEEKDAY(CONCATENATE(AL7,$X$5,$AL$5)),Tabelas!$I:$J,2,0),\"\"),\"\")","v":"QUA"},{"$f":"IF(AM7<>\"\",IFERROR(VLOOKUP(WEEKDAY(CONCATENATE(AM7,$X$5,$AL$5)),Tabelas!$I:$J,2,0),\"\"),\"\")","v":"QUI"},{"$f":"IF(AN7<>\"\",IFERROR(VLOOKUP(WEEKDAY(CONCATENATE(AN7,$X$5,$AL$5)),Tabelas!$I:$J,2,0),\"\"),\"\")","v":"SEX"},{"$f":"IF(AO7<>\"\",IFERROR(VLOOKUP(WEEKDAY(CONCATENATE(AO7,$X$5,$AL$5)),Tabelas!$I:$J,2,0),\"\"),\"\")","v":"SAB"},{"$f":"IF(AP7<>\"\",IFERROR(VLOOKUP(WEEKDAY(CONCATENATE(AP7,$X$5,$AL$5)),Tabelas!$I:$J,2,0),\"\"),\"\")","v":"DOM"},{"$f":"IF(AQ7<>\"\",IFERROR(VLOOKUP(WEEKDAY(CONCATENATE(AQ7,$X$5,$AL$5)),Tabelas!$I:$J,2,0),\"\"),\"\")","v":"SEG"},1,2,3,4,5,6,7,8,9,10,11,12,13,14,15,16,17,18,19,20,21,22,23,24,25,26,27,28,29,30,31]
["Marcello Maciel Nogueira (Enf Ref)",2412620,369716,"ENF","EBSERH",36,25,null,null,49,null,null,null,"DSR","M15","M15","M15","M15","M15",null,"DSR","M15","M15","M15","M15","D6",null,"DSR","M15","M15","D6","M15","D6",null,"DSR","M15","M15","M15","M15","D6",null,"DSR","D6",{"$f":"IF(A9<>\"\",IFERROR(VLOOKUP(M9,Tabelas!B:D,3,0),0),\"\")","v":0},{"$f":"IF(A9<>\"\",IFERROR(VLOOKUP(N9,Tabelas!B:D,3,0),0),\"\")","v":0},{"$f":"IF(A9<>\"\",IFERROR(VLOOKUP(O9,Tabelas!B:D,3,0),0),\"\")","v":6},{"$f":"IF(A9<>\"\",IFERROR(VLOOKUP(P9,Tabelas!B:D,3,0),0),\"\")","v":6},{"$f":"IF(A9<>\"\",IFERROR(VLOOKUP(Q9,Tabelas!B:D,3,0),0),\"\")","v":6},{"$f":"IF(A9<>\"\",IFERROR(VLOOKUP(R9,Tabelas!B:D,3,0),0),\"\")","v":6},{"$f":"IF(A9<>\"\",IFERROR(VLOOKUP(S9,Tabelas!B:D,3,0),0),\"\")","v":6},{"$f":"IF(A9<>\"\",IFERROR(VLOOKUP(T9,Tabelas!B:D,3,0),0),\"\")","v":0},{"$f":"IF(A9<>\"\",IFERROR(VLOOKUP(U9,Tabelas!B:D,3,0),0),\"\")","v":0},{"$f":"IF(A9<>\"\",IFERROR(VLOOKUP(V9,Tabelas!B:D,3,0),0),\"\")","v":6},{"$f":"IF(A9<>\"\",IFERROR(VLOOKUP(W9,Tabelas!B:D,3,0),0),\"\")","v":6},{"$f":"IF(A9<>\"\",IFERROR(VLOOKUP(X9,Tabelas!B:D,3,0),0),\"\")","v":6},{"$f":"IF(A9<>\"\",IFERROR(VLOOKUP(Y9,Tabelas!B:D,3,0),0),\"\")","v":6},{"$f":"IF(A9<>\"\",IFERROR(VLOOKUP(Z9,Tabelas!B:D,3,0),0),\"\")","v":12},{"$f":"IF(A9<>\"\",IFERROR(VLOOKUP(AA9,Tabelas!B:D,3,0),0),\"\")","v":0},{"$f":"IF(A9<>\"\",IFERROR(VLOOKUP(AB9,Tabelas!B:D,3,0),0),\"\")","v":0},{"$f":"IF(A9<>\"\",IFERROR(VLOOKUP(AC9,Tabelas!B:D,3,0),0),\"\")","v":6},{"$f":"IF(A9<>\"\",IFERROR(VLOOKUP(AD9,Tabelas!B:D,3,0),0),\"\")","v":6},{"$f":"IF(A9<>\"\",IFERROR(VLOOKUP(AE9,Tabelas!B:D,3,0),0),\"\")","v":12},{"$f":"IF(A9<>\"\",IFERROR(VLOOKUP(AF9,Tabelas!B:D,3,0),0),\"\")","v":6},{"$f":"IF(A9<>\"\",IFERROR(VLOOKUP(AG9,Tabelas!B:D,3,0),0),\"\")","v":12},{"$f":"IF(A9<>\"\",IFERROR(VLOOKUP(AH9,Tabelas!B:D,3,0),0),\"\")","v":0},{"$f":"IF(A9<>\"\",IFERROR(VLOOKUP(AI9,Tabelas!B:D,3,0),0),\"\")","v":0},{"$f":"IF(A9<>\"\",IFERROR(VLOOKUP(AJ9,Tabelas!B:D,3,0),0),\"\")","v":6},{"$f":"IF(A9<>\"\",IFERROR(VLOOKUP(AK9,Tabelas!B:D,3,0),0),\"\")","v":6},{"$f":"IF(A9<>\"\",IFERROR(VLOOKUP(AL9,Tabelas!B:D,3,0),0),\"\")","v":6},{"$f":"IF(A9<>\"\",IFERROR(VLOOKUP(AM9,Tabelas!B:D,3,0),0),\"\")","v":6},{"$f":"IF(A9<>\"\",IFERROR(VLOOKUP(AN9,Tabelas!B:D,3,0),0),\"\")","v":12},{"$f":"IF(A9<>\"\",IFERROR(VLOOKUP(AO9,Tabelas!B:D,3,0),0),\"\")","v":0},{"$f":"IF(A9<>\"\",IFERROR(VLOOKUP(AP9,Tabelas!B:D,3,0),0),\"\")","v":0},{"$f":"IF(A9<>\"\",IFERROR(VLOOKUP(AQ9,Tabelas!B:D,3,0),0),\"\")","v":12},{"$f":"IF(AND(A9<>\"\",E9=\"Ebserh\"),SUM(AR9:BV9)+COUNTIF(M9:AQ9,\"N*\")+COUNTIF(M9:AQ9,\"DN*\"),IF(AND(A9<>\"\",E9<>\"Ebserh\"),SUM(AR9:BV9),\"\"))","v":156},{"$f":"IF(A9<>\"\",COUNTIF(M9:AQ9,\"LM\")+COUNTIF(M9:AQ9,\"L\")+COUNTIF(M9:AQ9,\"LP\"),\"\")","v":0},{"$f":"IF(A9<>\"\",COUNTIF(M9:AQ9,\"AB*\"),\"\")","v":0},{"$f":"IF(A9<>\"\",COUNTIF(M9:AQ9,\"FE\"),\"\")","v":0},{"$f":"IF(A9<>\"\",COUNTIF(M9:AQ9,\"LC\"),\"\")","v":0},{"$f":"IF(A9<>\"\",COUNTIF(M9:AQ9,\"CH*\"),\"\")","v":0},{"$f":"IF(A9<>\"\",COUNTIF(M9:AQ9,\"AF1\")+COUNTIF(M9:AQ9,\"AF2\")+COUNTIF(M9:AQ9,\"AF3\")+COUNTIF(M9:AQ9,\"AF4\")+COUNTIF(M9:AQ9,\"AF5\")+COUNTIF(M9:AQ9,\"AF6\")+COUNTIF(M9:AQ9,\"AF7\")+COUNTIF(M9:AQ9,\"AF8\")+COUNTIF(M9:AQ9,\"AF9\")+COUNTIF(M9:AQ9,\"AF10\")+COUNTIF(M9:AQ9,\"AF11\")+COUNTIF(M9:AQ9,\"AF12\")+COUNTIF(M9:AQ9,\"AF13\")+COUNTIF(M9:AQ9,\"AF14\"),\"\")","v":0},{"$f":"IF(A9<>\"\",COUNTIF(M9:AQ9,\"CH*\")+COUNTIF(M9:AQ9,\"L\")+COUNTIF(M9:AQ9,\"LM\")+COUNTIF(M9:AQ9,\"LP\")+COUNTIF(M9:AQ9,\"LC\")+COUNTIF(M9:AQ9,\"AB*\")+COUNTIF(M9:AQ9,\"AF1\")+COUNTIF(M9:AQ9,\"AF2\")+COUNTIF(M9:AQ9,\"AF3\")+COUNTIF(M9:AQ9,\"AF4\")+COUNTIF(M9:AQ9,\"AF5\")+COUNTIF(M9:AQ9,\"AF6\")+COUNTIF(M9:AQ9,\"AF7\")+COUNTIF(M9:AQ9,\"AF8\")+COUNTIF(M9:AQ9,\"AF9\")+COUNTIF(M9:AQ9,\"AF10\")+COUNTIF(M9:AQ9,\"AF11\")+COUNTIF(M9:AQ9,\"AF12\")+COUNTIF(M9:AQ9,\"AF13\")+COUNTIF(M9:AQ9,\"AF14\")+COUNTIF(M9:AQ9,\"RC\")+COUNTIF(M9:AQ9,\"FO\")+COUNTIF(M9:AQ9,\"FE\"),\"\")","v":0}]
["Adriano José Barbosa",1859318,null,"ENF","EBSERH",36,null,null,null,46,56,null,"D6","DSR",null,"D6",null,null,"D6",null,"DSR","D6",null,"D6",null,null,"D6","DSR",null,"D6",null,"D6",null,"D6","DSR","D6",null,"D6",null,"N8",null,"D6","DSR",{"$f":"IF(A10<>\"\",IFERROR(VLOOKUP(M10,Tabelas!B:D,3,0),0),\"\")","v":12},{"$f":"IF(A10<>\"\",IFERROR(VLOOKUP(N10,Tabelas!B:D,3,0),0),\"\")","v":0},{"$f":"IF(A10<>\"\",IFERROR(VLOOKUP(O10,Tabelas!B:D,3,0),0),\"\")","v":0},{"$f":"IF(A10<>\"\",IFERROR(VLOOKUP(P10,Tabelas!B:D,3,0),0),\"\")","v":12},{"$f":"IF(A10<>\"\",IFERROR(VLOOKUP(Q10,Tabelas!B:D,3,0),0),\"\")","v":0},{"$f":"IF(A10<>\"\",IFERROR(VLOOKUP(R10,Tabelas!B:D,3,0),0),\"\")","v":0},{"$f":"IF(A10<>\"\",IFERROR(VLOOKUP(S10,Tabelas!B:D,3,0),0),\"\")","v":12},{"$f":"IF(A10<>\"\",IFERROR(VLOOKUP(T10,Tabelas!B:D,3,0),0),\"\")","v":0},{"$f":"IF(A10<>\"\",IFERROR(VLOOKUP(U10,Tabelas!B:D,3,0),0),\"\")","v":0},{"$f":"IF(A10<>\"\",IFERROR(VLOOKUP(V10,Tabelas!B:D,3,0),0),\"\")","v":12},{"$f":"IF(A10<>\"\",IFERROR(VLOOKUP(W10,Tabelas!B:D,3,0),0),\"\")","v":0},{"$f":"IF(A10<>\"\",IFERROR(VLOOKUP(X10,Tabelas!B:D,3,0),0),\"\")","v":12},{"$f":"IF(A10<>\"\",IFERROR(VLOOKUP(Y10,Tabelas!B:D,3,0),0),\"\")","v":0},{"$f":"IF(A10<>\"\",IFERROR(VLOOKUP(Z10,Tabelas!B:D,3,0),0),\"\")","v":0},{"$f":"IF(A10<>\"\",IFERROR(VLOOKUP(AA10,Tabelas!B:D,3,0),0),\"\")","v":12},{"$f":"IF(A10<>\"\",IFERROR(VLOOKUP(AB10,Tabelas!B:D,3,0),0),\"\")","v":0},{"$f":"IF(A10<>\"\",IFERROR(VLOOKUP(AC10,Tabelas!B:D,3,0),0),\"\")","v":0},{"$f":"IF(A10<>\"\",IFERROR(VLOOKUP(AD10,Tabelas!B:D,3,0),0),\"\")","v":12},{"$f":"IF(A10<>\"\",IFERROR(VLOOKUP(AE10,Tabelas!B:D,3,0),0),\"\")","v":0},{"$f":"IF(A10<>\"\",IFERROR(VLOOKUP(AF10,Tabelas!B:D,3,0),0),\"\")","v":12},{"$f":"IF(A10<>\"\",IFERROR(VLOOKUP(AG10,Tabelas!B:D,3,0),0),\"\")","v":0},{"$f":"IF(A10<>\"\",IFERROR(VLOOKUP(AH10,Tabelas!B:D,3,0),0),\"\")","v":12},{"$f":"IF(A10<>\"\",IFERROR(VLOOKUP(AI10,Tabelas!B:D,3,0),0),\"\")","v":0},{"$f":"IF(A10<>\"\",IFERROR(VLOOKUP(AJ10,Tabelas!B:D,3,0),0),\"\")","v":12},{"$f":"IF(A10<>\"\",IFERROR(VLOOKUP(AK10,Tabelas!B:D,3,0),0),\"\")","v":0},{"$f":"IF(A10<>\"\",IFERROR(VLOOKUP(AL10,Tabelas!B:D,3,0),0),\"\")","v":12},{"$f":"IF(A10<>\"\",IFERROR(VLOOKUP(AM10,Tabelas!B:D,3,0),0),\"\")","v":0},{"$f":"IF(A10<>\"\",IFERROR(VLOOKUP(AN10,Tabelas!B:D,3,0),0),\"\")","v":12},{"$f":"IF(A10<>\"\",IFERROR(VLOOKUP(AO10,Tabelas!B:D,3,0),0),\"\")","v":0},{"$f":"IF(A10<>\"\",IFERROR(VLOOKUP(AP10,Tabelas!B:D,3,0),0),\"\")","v":12},{"$f":"IF(A10<>\"\",IFERROR(VLOOKUP(AQ10,Tabelas!B:D,3,0),0),\"\")","v":0},157,0,0,0,0,0,0,0]
["Benoni Sidinei Brizolla",3192627,null,"ENF","EBSERH",36,null,null,null,47,57,null,"D6","DSR",null,"D6","D6",null,"D6",null,"DSR","D6",null,null,"N8",null,null,"D6","DSR",null,"D6",null,null,"D6","DSR","D6",null,null,null,"D6","DSR","D6","D6",{"$f":"IF(A11<>\"\",IFERROR(VLOOKUP(M11,Tabelas!B:D,3,0),0),\"\")","v":12},{"$f":"IF(A11<>\"\",IFERROR(VLOOKUP(N11,Tabelas!B:D,3,0),0),\"\")","v":0},{"$f":"IF(A11<>\"\",IFERROR(VLOOKUP(O11,Tabelas!B:D,3,0),0),\"\")","v":0},{"$f":"IF(A11<>\"\",IFERROR(VLOOKUP(P11,Tabelas!B:D,3,0),0),\"\")","v":12},{"$f":"IF(A11<>\"\",IFERROR(VLOOKUP(Q11,Tabelas!B:D,3,0),0),\"\")","v":12},{"$f":"IF(A11<>\"\",IFERROR(VLOOKUP(R11,Tabelas!B:D,3,0),0),\"\")","v":0},{"$f":"IF(A11<>\"\",IFERROR(VLOOKUP(S11,Tabelas!B:D,3,0),0),\"\")","v":12},{"$f":"IF(A11<>\"\",IFERROR(VLOOKUP(T11,Tabelas!B:D,3,0),0),\"\")","v":0},{"$f":"IF(A11<>\"\",IFERROR(VLOOKUP(U11,Tabelas!B:D,3,0),0),\"\")","v":0},{"$f":"IF(A11<>\"\",IFERROR(VLOOKUP(V11,Tabelas!B:D,3,0),0),\"\")","v":12},{"$f":"IF(A11<>\"\",IFERROR(VLOOKUP(W11,Tabelas!B:D,3,0),0),\"\")","v":0},{"$f":"IF(A11<>\"\",IFERROR(VLOOKUP(X11,Tabelas!B:D,3,0),0),\"\")","v":0},{"$f":"IF(A11<>\"\",IFERROR(VLOOKUP(Y11,Tabelas!B:D,3,0),0),\"\")","v":12},{"$f":"IF(A11<>\"\",IFERROR(VLOOKUP(Z11,Tabelas!B:D,3,0),0),\"\")","v":0},{"$f":"IF(A11<>\"\",IFERROR(VLOOKUP(AA11,Tabelas!B:D,3,0),0),\"\")","v":0},{"$f":"IF(A11<>\"\",IFERROR(VLOOKUP(AB11,Tabelas!B:D,3,0),0),\"\")","v":12},{"$f":"IF(A11<>\"\",IFERROR(VLOOKUP(AC11,Tabelas!B:D,3,0),0),\"\")","v":0},{"$f":"IF(A11<>\"\",IFERROR(VLOOKUP(AD11,Tabelas!B:D,3,0),0),\"\")","v":0},{"$f":"IF(A11<>\"\",IFERROR(VLOOKUP(AE11,Tabelas!B:D,3,0),0),\"\")","v":12},{"$f":"IF(A11<>\"\",IFERROR(VLOOKUP(AF11,Tabelas!B:D,3,0),0),\"\")","v":0},{"$f":"IF(A11<>\"\",IFERROR(VLOOKUP(AG11,Tabelas!B:D,3,0),0),\"\")","v":0},{"$f":"IF(A11<>\"\",IFERROR(VLOOKUP(AH11,Tabelas!B:D,3,0),0),\"\")","v":12},{"$f":"IF(A11<>\"\",IFERROR(VLOOKUP(AI11,Tabelas!B:D,3,0),0),\"\")","v":0},{"$f":"IF(A11<>\"\",IFERROR(VLOOKUP(AJ11,Tabelas!B:D,3,0),0),\"\")","v":12},{"$f":"IF(A11<>\"\",IFERROR(VLOOKUP(AK11,Tabelas!B:D,3,0),0),\"\")","v":0},{"$f":"IF(A11<>\"\",IFERROR(VLOOKUP(AL11,Tabelas!B:D,3,0),0),\"\")","v":0},{"$f":"IF(A11<>\"\",IFERROR(VLOOKUP(AM11,Tabelas!B:D,3,0),0),\"\")","v":0},{"$f":"IF(A11<>\"\",IFERROR(VLOOKUP(AN11,Tabelas!B:D,3,0),0),\"\")","v":12},{"$f":"IF(A11<>\"\",IFERROR(VLOOKUP(AO11,Tabelas!B:D,3,0),0),\"\")","v":0},{"$f":"IF(A11<>\"\",IFERROR(VLOOKUP(AP11,Tabelas!B:D,3,0),0),\"\")","v":12},{"$f":"IF(A11<>\"\",IFERROR(VLOOKUP(AQ11,Tabelas!B:D,3,0),0),\"\")","v":12},{"$f":"IF(AND(A11<>\"\",E11=\"Ebserh\"),SUM(AR11:BV11)+COUNTIF(M11:AQ11,\"N*\")+COUNTIF(M11:AQ11,\"DN*\"),IF(AND(A11<>\"\",E11<>\"Ebserh\"),SUM(AR11:BV11),\"\"))","v":157},0,0,0,0,0,0,0]
["Denise Pereira Neto Stasiak",351918,69672,"ENF","EBSERH",36,null,null,null,48,null,null,null,"D6","DSR","D6",null,"D6",null,"D6","DSR",null,"D6",null,"D6","D6",null,"DSR","D6",null,null,"D6",null,null,"D6","DSR",null,"D6",null,null,"D6","DSR","D6",{"$f":"IF(A12<>\"\",IFERROR(VLOOKUP(M12,Tabelas!B:D,3,0),0),\"\")","v":0},{"$f":"IF(A12<>\"\",IFERROR(VLOOKUP(N12,Tabelas!B:D,3,0),0),\"\")","v":12},{"$f":"IF(A12<>\"\",IFERROR(VLOOKUP(O12,Tabelas!B:D,3,0),0),\"\")","v":0},{"$f":"IF(A12<>\"\",IFERROR(VLOOKUP(P12,Tabelas!B:D,3,0),0),\"\")","v":12},{"$f":"IF(A12<>\"\",IFERROR(VLOOKUP(Q12,Tabelas!B:D,3,0),0),\"\")","v":0},{"$f":"IF(A12<>\"\",IFERROR(VLOOKUP(R12,Tabelas!B:D,3,0),0),\"\")","v":12},{"$f":"IF(A12<>\"\",IFERROR(VLOOKUP(S12,Tabelas!B:D,3,0),0),\"\")","v":0},{"$f":"IF(A12<>\"\",IFERROR(VLOOKUP(T12,Tabelas!B:D,3,0),0),\"\")","v":12},{"$f":"IF(A12<>\"\",IFERROR(VLOOKUP(U12,Tabelas!B:D,3,0),0),\"\")","v":0},{"$f":"IF(A12<>\"\",IFERROR(VLOOKUP(V12,Tabelas!B:D,3,0),0),\"\")","v":0},{"$f":"IF(A12<>\"\",IFERROR(VLOOKUP(W12,Tabelas!B:D,3,0),0),\"\")","v":12},{"$f":"IF(A12<>\"\",IFERROR(VLOOKUP(X12,Tabelas!B:D,3,0),0),\"\")","v":0},{"$f":"IF(A12<>\"\",IFERROR(VLOOKUP(Y12,Tabelas!B:D,3,0),0),\"\")","v":12},{"$f":"IF(A12<>\"\",IFERROR(VLOOKUP(Z12,Tabelas!B:D,3,0),0),\"\")","v":12},{"$f":"IF(A12<>\"\",IFERROR(VLOOKUP(AA12,Tabelas!B:D,3,0),0),\"\")","v":0},{"$f":"IF(A12<>\"\",IFERROR(VLOOKUP(AB12,Tabelas!B:D,3,0),0),\"\")","v":0},{"$f":"IF(A12<>\"\",IFERROR(VLOOKUP(AC12,Tabelas!B:D,3,0),0),\"\")","v":12},{"$f":"IF(A12<>\"\",IFERROR(VLOOKUP(AD12,Tabelas!B:D,3,0),0),\"\")","v":0},{"$f":"IF(A12<>\"\",IFERROR(VLOOKUP(AE12,Tabelas!B:D,3,0),0),\"\")","v":0},{"$f":"IF(A12<>\"\",IFERROR(VLOOKUP(AF12,Tabelas!B:D,3,0),0),\"\")","v":12},{"$f":"IF(A12<>\"\",IFERROR(VLOOKUP(AG12,Tabelas!B:D,3,0),0),\"\")","v":0},{"$f":"IF(A12<>\"\",IFERROR(VLOOKUP(AH12,Tabelas!B:D,3,0),0),\"\")","v":0},{"$f":"IF(A12<>\"\",IFERROR(VLOOKUP(AI12,Tabelas!B:D,3,0),0),\"\")","v":12},{"$f":"IF(A12<>\"\",IFERROR(VLOOKUP(AJ12,Tabelas!B:D,3,0),0),\"\")","v":0},{"$f":"IF(A12<>\"\",IFERROR(VLOOKUP(AK12,Tabelas!B:D,3,0),0),\"\")","v":0},{"$f":"IF(A12<>\"\",IFERROR(VLOOKUP(AL12,Tabelas!B:D,3,0),0),\"\")","v":12},{"$f":"IF(A12<>\"\",IFERROR(VLOOKUP(AM12,Tabelas!B:D,3,0),0),\"\")","v":0},{"$f":"IF(A12<>\"\",IFERROR(VLOOKUP(AN12,Tabelas!B:D,3,0),0),\"\")","v":0},{"$f":"IF(A12<>\"\",IFERROR(VLOOKUP(AO12,Tabelas!B:D,3,0),0),\"\")","v":12},{"$f":"IF(A12<>\"\",IFERROR(VLOOKUP(AP12,Tabelas!B:D,3,0),0),\"\")","v":0},{"$f":"IF(A12<>\"\",IFERROR(VLOOKUP(AQ12,Tabelas!B:D,3,0),0),\"\")","v":12},156,0,0,0,0,0,0,0]
["Rosilei da Silva da Rosa",3052079,367532,"ENF","EBSERH",36,null,null,null,46,null,null,null,"DSR","D6",null,"D6",null,null,null,"D6","DSR","D6",null,"D6",null,null,"D6","DSR","D6",null,null,"D6",null,"D6","DSR","D6",null,"D6","D6",null,"DSR","D6"]
["Letícia Cabral Domingos da Rosa",1451516,91679,"ENF","EBSERH",36,null,null,null,46,null,null,"DSR","D6","D6",null,null,"D6",null,"D6","DSR",null,null,"D6",null,"D6",null,"DSR","D6",null,"D6","D6",null,null,"D6","DSR","D6",null,"D6",null,"D6","DSR",null,{"$f":"IF(A14<>\"\",IFERROR(VLOOKUP(M14,Tabelas!B:D,3,0),0),\"\")","v":0},{"$f":"IF(A14<>\"\",IFERROR(VLOOKUP(N14,Tabelas!B:D,3,0),0),\"\")","v":12},{"$f":"IF(A14<>\"\",IFERROR(VLOOKUP(O14,Tabelas!B:D,3,0),0),\"\")","v":12},{"$f":"IF(A14<>\"\",IFERROR(VLOOKUP(P14,Tabelas!B:D,3,0),0),\"\")","v":0},{"$f":"IF(A14<>\"\",IFERROR(VLOOKUP(Q14,Tabelas!B:D,3,0),0),\"\")","v":0},{"$f":"IF(A14<>\"\",IFERROR(VLOOKUP(R14,Tabelas!B:D,3,0),0),\"\")","v":12},{"$f":"IF(A14<>\"\",IFERROR(VLOOKUP(S14,Tabelas!B:D,3,0),0),\"\")","v":0},{"$f":"IF(A14<>\"\",IFERROR(VLOOKUP(T14,Tabelas!B:D,3,0),0),\"\")","v":12},{"$f":"IF(A14<>\"\",IFERROR(VLOOKUP(U14,Tabelas!B:D,3,0),0),\"\")","v":0},{"$f":"IF(A14<>\"\",IFERROR(VLOOKUP(V14,Tabelas!B:D,3,0),0),\"\")","v":0},{"$f":"IF(A14<>\"\",IFERROR(VLOOKUP(W14,Tabelas!B:D,3,0),0),\"\")","v":0},{"$f":"IF(A14<>\"\",IFERROR(VLOOKUP(X14,Tabelas!B:D,3,0),0),\"\")","v":12},{"$f":"IF(A14<>\"\",IFERROR(VLOOKUP(Y14,Tabelas!B:D,3,0),0),\"\")","v":0},{"$f":"IF(A14<>\"\",IFERROR(VLOOKUP(Z14,Tabelas!B:D,3,0),0),\"\")","v":12},{"$f":"IF(A14<>\"\",IFERROR(VLOOKUP(AA14,Tabelas!B:D,3,0),0),\"\")","v":0},{"$f":"IF(A14<>\"\",IFERROR(VLOOKUP(AB14,Tabelas!B:D,3,0),0),\"\")","v":0},{"$f":"IF(A14<>\"\",IFERROR(VLOOKUP(AC14,Tabelas!B:D,3,0),0),\"\")","v":12},{"$f":"IF(A14<>\"\",IFERROR(VLOOKUP(AD14,Tabelas!B:D,3,0),0),\"\")","v":0},{"$f":"IF(A14<>\"\",IFERROR(VLOOKUP(AE14,Tabelas!B:D,3,0),0),\"\")","v":12},{"$f":"IF(A14<>\"\",IFERROR(VLOOKUP(AF14,Tabelas!B:D,3,0),0),\"\")","v":12},{"$f":"IF(A14<>\"\",IFERROR(VLOOKUP(AG14,Tabelas!B:D,3,0),0),\"\")","v":0},{"$f":"IF(A14<>\"\",IFERROR(VLOOKUP(AH14,Tabelas!B:D,3,0),0),\"\")","v":0},{"$f":"IF(A14<>\"\",IFERROR(VLOOKUP(AI14,Tabelas!B:D,3,0),0),\"\")","v":12},{"$f":"IF(A14<>\"\",IFERROR(VLOOKUP(AJ14,Tabelas!B:D,3,0),0),\"\")","v":0},{"$f":"IF(A14<>\"\",IFERROR(VLOOKUP(AK14,Tabelas!B:D,3,0),0),\"\")","v":12},{"$f":"IF(A14<>\"\",IFERROR(VLOOKUP(AL14,Tabelas!B:D,3,0),0),\"\")","v":0},{"$f":"IF(A14<>\"\",IFERROR(VLOOKUP(AM14,Tabelas!B:D,3,0),0),\"\")","v":12},{"$f":"IF(A14<>\"\",IFERROR(VLOOKUP(AN14,Tabelas!B:D,3,0),0),\"\")","v":0},{"$f":"IF(A14<>\"\",IFERROR(VLOOKUP(AO14,Tabelas!B:D,3,0),0),\"\")","v":12},{"$f":"IF(A14<>\"\",IFERROR(VLOOKUP(AP14,Tabelas!B:D,3,0),0),\"\")","v":0},{"$f":"IF(A14<>\"\",IFERROR(VLOOKUP(AQ14,Tabelas!B:D,3,0),0),\"\")","v":0},156,0,0,0,0,0,0,0]
["Maria Aparecida V. Texeira",null,null,null,null,null,null,null,null,null,null,null,null,null,null,null,null,null,"M15",null,null,null,"D6","D6",null,null,"D6",null,null,"D6","D6",null,"D6",null,null,"D6",null,"D6",null,"D6",null,"D6"]
["Michelini Fátima da Silva",1449476,null,"ENF","EBSERH",36,null,null,null,49,null,null,"L","L","L","L","L","L","L","FO","DSR",null,"D6","D6",null,null,"D6","DSR",null,"D6","D6",null,"D6",null,"DSR","D6",null,"D6",null,"D6",null,"D6","DSR",{"$f":"IF(A16<>\"\",IFERROR(VLOOKUP(M16,Tabelas!B:D,3,0),0),\"\")","v":0},{"$f":"IF(A16<>\"\",IFERROR(VLOOKUP(N16,Tabelas!B:D,3,0),0),\"\")","v":0},{"$f":"IF(A16<>\"\",IFERROR(VLOOKUP(O16,Tabelas!B:D,3,0),0),\"\")","v":0},{"$f":"IF(A16<>\"\",IFERROR(VLOOKUP(P16,Tabelas!B:D,3,0),0),\"\")","v":0},{"$f":"IF(A16<>\"\",IFERROR(VLOOKUP(Q16,Tabelas!B:D,3,0),0),\"\")","v":0},{"$f":"IF(A16<>\"\",IFERROR(VLOOKUP(R16,Tabelas!B:D,3,0),0),\"\")","v":0},{"$f":"IF(A16<>\"\",IFERROR(VLOOKUP(S16,Tabelas!B:D,3,0),0),\"\")","v":0},{"$f":"IF(A16<>\"\",IFERROR(VLOOKUP(T16,Tabelas!B:D,3,0),0),\"\")","v":0},{"$f":"IF(A16<>\"\",IFERROR(VLOOKUP(U16,Tabelas!B:D,3,0),0),\"\")","v":0},{"$f":"IF(A16<>\"\",IFERROR(VLOOKUP(V16,Tabelas!B:D,3,0),0),\"\")","v":0},{"$f":"IF(A16<>\"\",IFERROR(VLOOKUP(W16,Tabelas!B:D,3,0),0),\"\")","v":12},{"$f":"IF(A16<>\"\",IFERROR(VLOOKUP(X16,Tabelas!B:D,3,0),0),\"\")","v":12},{"$f":"IF(A16<>\"\",IFERROR(VLOOKUP(Y16,Tabelas!B:D,3,0),0),\"\")","v":0},{"$f":"IF(A16<>\"\",IFERROR(VLOOKUP(Z16,Tabelas!B:D,3,0),0),\"\")","v":0},{"$f":"IF(A16<>\"\",IFERROR(VLOOKUP(AA16,Tabelas!B:D,3,0),0),\"\")","v":12},{"$f":"IF(A16<>\"\",IFERROR(VLOOKUP(AB16,Tabelas!B:D,3,0),0),\"\")","v":0},{"$f":"IF(A16<>\"\",IFERROR(VLOOKUP(AC16,Tabelas!B:D,3,0),0),\"\")","v":0},{"$f":"IF(A16<>\"\",IFERROR(VLOOKUP(AD16,Tabelas!B:D,3,0),0),\"\")","v":12},{"$f":"IF(A16<>\"\",IFERROR(VLOOKUP(AE16,Tabelas!B:D,3,0),0),\"\")","v":12},{"$f":"IF(A16<>\"\",IFERROR(VLOOKUP(AF16,Tabelas!B:D,3,0),0),\"\")","v":0},{"$f":"IF(A16<>\"\",IFERROR(VLOOKUP(AG16,Tabelas!B:D,3,0),0),\"\")","v":12},{"$f":"IF(A16<>\"\",IFERROR(VLOOKUP(AH16,Tabelas!B:D,3,0),0),\"\")","v":0},{"$f":"IF(A16<>\"\",IFERROR(VLOOKUP(AI16,Tabelas!B:D,3,0),0),\"\")","v":0},{"$f":"IF(A16<>\"\",IFERROR(VLOOKUP(AJ16,Tabelas!B:D,3,0),0),\"\")","v":12},{"$f":"IF(A16<>\"\",IFERROR(VLOOKUP(AK16,Tabelas!B:D,3,0),0),\"\")","v":0},{"$f":"IF(A16<>\"\",IFERROR(VLOOKUP(AL16,Tabelas!B:D,3,0),0),\"\")","v":12},{"$f":"IF(A16<>\"\",IFERROR(VLOOKUP(AM16,Tabelas!B:D,3,0),0),\"\")","v":0},{"$f":"IF(A16<>\"\",IFERROR(VLOOKUP(AN16,Tabelas!B:D,3,0),0),\"\")","v":12},{"$f":"IF(A16<>\"\",IFERROR(VLOOKUP(AO16,Tabelas!B:D,3,0),0),\"\")","v":0},{"$f":"IF(A16<>\"\",IFERROR(VLOOKUP(AP16,Tabelas!B:D,3,0),0),\"\")","v":12},{"$f":"IF(A16<>\"\",IFERROR(VLOOKUP(AQ16,Tabelas!B:D,3,0),0),\"\")","v":0},120,7,0,0,0,0,0,8]
["Enfermeiros Noturno"]
["Amarildo Maçaneiro",3183551,null,"ENF","EBSERH",36,null,null,null,null,54,null,"L","L","DSR","N8","N8",null,null,"N8","DSR","N8",null,null,null,"N8",null,"DSR","N8",null,null,"N8",null,"N8","N8",null,null,"N8",null,null,"N8","DSR","CH12"]
["Isabela Ubaldo Lowen",1518546,62269,"ENF","RJU",30,null,null,null,null,57,null,null,"DSR","N8",null,null,"N8",null,null,"N8",null,null,"N8",null,null,"N8","DSR",null,"N8",null,null,"N8",null,"DSR","N8",null,null,"N8",null,null,"N8","DSR",{"$f":"IF(A19<>\"\",IFERROR(VLOOKUP(M19,Tabelas!B:D,3,0),0),\"\")","v":0},{"$f":"IF(A19<>\"\",IFERROR(VLOOKUP(N19,Tabelas!B:D,3,0),0),\"\")","v":0},{"$f":"IF(A19<>\"\",IFERROR(VLOOKUP(O19,Tabelas!B:D,3,0),0),\"\")","v":12},{"$f":"IF(A19<>\"\",IFERROR(VLOOKUP(P19,Tabelas!B:D,3,0),0),\"\")","v":0},{"$f":"IF(A19<>\"\",IFERROR(VLOOKUP(Q19,Tabelas!B:D,3,0),0),\"\")","v":0},{"$f":"IF(A19<>\"\",IFERROR(VLOOKUP(R19,Tabelas!B:D,3,0),0),\"\")","v":12},{"$f":"IF(A19<>\"\",IFERROR(VLOOKUP(S19,Tabelas!B:D,3,0),0),\"\")","v":0},{"$f":"IF(A19<>\"\",IFERROR(VLOOKUP(T19,Tabelas!B:D,3,0),0),\"\")","v":0},{"$f":"IF(A19<>\"\",IFERROR(VLOOKUP(U19,Tabelas!B:D,3,0),0),\"\")","v":12},{"$f":"IF(A19<>\"\",IFERROR(VLOOKUP(V19,Tabelas!B:D,3,0),0),\"\")","v":0},{"$f":"IF(A19<>\"\",IFERROR(VLOOKUP(W19,Tabelas!B:D,3,0),0),\"\")","v":0},{"$f":"IF(A19<>\"\",IFERROR(VLOOKUP(X19,Tabelas!B:D,3,0),0),\"\")","v":12},{"$f":"IF(A19<>\"\",IFERROR(VLOOKUP(Y19,Tabelas!B:D,3,0),0),\"\")","v":0},{"$f":"IF(A19<>\"\",IFERROR(VLOOKUP(Z19,Tabelas!B:D,3,0),0),\"\")","v":0},{"$f":"IF(A19<>\"\",IFERROR(VLOOKUP(AA19,Tabelas!B:D,3,0),0),\"\")","v":12},{"$f":"IF(A19<>\"\",IFERROR(VLOOKUP(AB19,Tabelas!B:D,3,0),0),\"\")","v":0},{"$f":"IF(A19<>\"\",IFERROR(VLOOKUP(AC19,Tabelas!B:D,3,0),0),\"\")","v":0},{"$f":"IF(A19<>\"\",IFERROR(VLOOKUP(AD19,Tabelas!B:D,3,0),0),\"\")","v":12},{"$f":"IF(A19<>\"\",IFERROR(VLOOKUP(AE19,Tabelas!B:D,3,0),0),\"\")","v":0},{"$f":"IF(A19<>\"\",IFERROR(VLOOKUP(AF19,Tabelas!B:D,3,0),0),\"\")","v":0},{"$f":"IF(A19<>\"\",IFERROR(VLOOKUP(AG19,Tabelas!B:D,3,0),0),\"\")","v":12},{"$f":"IF(A19<>\"\",IFERROR(VLOOKUP(AH19,Tabelas!B:D,3,0),0),\"\")","v":0},{"$f":"IF(A19<>\"\",IFERROR(VLOOKUP(AI19,Tabelas!B:D,3,0),0),\"\")","v":0},{"$f":"IF(A19<>\"\",IFERROR(VLOOKUP(AJ19,Tabelas!B:D,3,0),0),\"\")","v":12},{"$f":"IF(A19<>\"\",IFERROR(VLOOKUP(AK19,Tabelas!B:D,3,0),0),\"\")","v":0},{"$f":"IF(A19<>\"\",IFERROR(VLOOKUP(AL19,Tabelas!B:D,3,0),0),\"\")","v":0},{"$f":"IF(A19<>\"\",IFERROR(VLOOKUP(AM19,Tabelas!B:D,3,0),0),\"\")","v":12},{"$f":"IF(A19<>\"\",IFERROR(VLOOKUP(AN19,Tabelas!B:D,3,0),0),\"\")","v":0},{"$f":"IF(A19<>\"\",IFERROR(VLOOKUP(AO19,Tabelas!B:D,3,0),0),\"\")","v":0},{"$f":"IF(A19<>\"\",IFERROR(VLOOKUP(AP19,Tabelas!B:D,3,0),0),\"\")","v":12},{"$f":"IF(A19<>\"\",IFERROR(VLOOKUP(AQ19,Tabelas!B:D,3,0),0),\"\")","v":0},120,0,0,0,0,0,0,0]
["Jenifer Regina Crispim",3189566,null,"ENF","EBSERH",36,null,null,null,47,55,null,null,"N8","DSR","N8",null,"N8","N8",null,"D6","DSR","N8",null,"N8",null,null,"N8","DSR","N8",null,"CH-12",null,"N8","DSR",null,"N8",null,null,"N8",null,"DSR","N8"]
["Zélma Gulart de Lima",3189439,72703,"ENF","EBSERH",36,null,null,null,null,56,null,"N8","DSR","N8",null,null,null,"N8","DSR","N8",null,"N8","N8",null,"N8","DSR","N8",null,null,"N8",null,"N8",null,"DSR","N8",null,null,"N8",null,"N8","DSR","N8",{"$f":"IF(A21<>\"\",IFERROR(VLOOKUP(M21,Tabelas!B:D,3,0),0),\"\")","v":12},{"$f":"IF(A21<>\"\",IFERROR(VLOOKUP(N21,Tabelas!B:D,3,0),0),\"\")","v":0},{"$f":"IF(A21<>\"\",IFERROR(VLOOKUP(O21,Tabelas!B:D,3,0),0),\"\")","v":12},{"$f":"IF(A21<>\"\",IFERROR(VLOOKUP(P21,Tabelas!B:D,3,0),0),\"\")","v":0},{"$f":"IF(A21<>\"\",IFERROR(VLOOKUP(Q21,Tabelas!B:D,3,0),0),\"\")","v":0},{"$f":"IF(A21<>\"\",IFERROR(VLOOKUP(R21,Tabelas!B:D,3,0),0),\"\")","v":0},{"$f":"IF(A21<>\"\",IFERROR(VLOOKUP(S21,Tabelas!B:D,3,0),0),\"\")","v":12},{"$f":"IF(A21<>\"\",IFERROR(VLOOKUP(T21,Tabelas!B:D,3,0),0),\"\")","v":0},{"$f":"IF(A21<>\"\",IFERROR(VLOOKUP(U21,Tabelas!B:D,3,0),0),\"\")","v":12},{"$f":"IF(A21<>\"\",IFERROR(VLOOKUP(V21,Tabelas!B:D,3,0),0),\"\")","v":0},{"$f":"IF(A21<>\"\",IFERROR(VLOOKUP(W21,Tabelas!B:D,3,0),0),\"\")","v":12},{"$f":"IF(A21<>\"\",IFERROR(VLOOKUP(X21,Tabelas!B:D,3,0),0),\"\")","v":12},{"$f":"IF(A21<>\"\",IFERROR(VLOOKUP(Y21,Tabelas!B:D,3,0),0),\"\")","v":0},{"$f":"IF(A21<>\"\",IFERROR(VLOOKUP(Z21,Tabelas!B:D,3,0),0),\"\")","v":12},{"$f":"IF(A21<>\"\",IFERROR(VLOOKUP(AA21,Tabelas!B:D,3,0),0),\"\")","v":0},{"$f":"IF(A21<>\"\",IFERROR(VLOOKUP(AB21,Tabelas!B:D,3,0),0),\"\")","v":12},{"$f":"IF(A21<>\"\",IFERROR(VLOOKUP(AC21,Tabelas!B:D,3,0),0),\"\")","v":0},{"$f":"IF(A21<>\"\",IFERROR(VLOOKUP(AD21,Tabelas!B:D,3,0),0),\"\")","v":0},{"$f":"IF(A21<>\"\",IFERROR(VLOOKUP(AE21,Tabelas!B:D,3,0),0),\"\")","v":12},{"$f":"IF(A21<>\"\",IFERROR(VLOOKUP(AF21,Tabelas!B:D,3,0),0),\"\")","v":0},{"$f":"IF(A21<>\"\",IFERROR(VLOOKUP(AG21,Tabelas!B:D,3,0),0),\"\")","v":12},{"$f":"IF(A21<>\"\",IFERROR(VLOOKUP(AH21,Tabelas!B:D,3,0),0),\"\")","v":0},{"$f":"IF(A21<>\"\",IFERROR(VLOOKUP(AI21,Tabelas!B:D,3,0),0),\"\")","v":0},{"$f":"IF(A21<>\"\",IFERROR(VLOOKUP(AJ21,Tabelas!B:D,3,0),0),\"\")","v":12},{"$f":"IF(A21<>\"\",IFERROR(VLOOKUP(AK21,Tabelas!B:D,3,0),0),\"\")","v":0},{"$f":"IF(A21<>\"\",IFERROR(VLOOKUP(AL21,Tabelas!B:D,3,0),0),\"\")","v":0},{"$f":"IF(A21<>\"\",IFERROR(VLOOKUP(AM21,Tabelas!B:D,3,0),0),\"\")","v":12},{"$f":"IF(A21<>\"\",IFERROR(VLOOKUP(AN21,Tabelas!B:D,3,0),0),\"\")","v":0},{"$f":"IF(A21<>\"\",IFERROR(VLOOKUP(AO21,Tabelas!B:D,3,0),0),\"\")","v":12},{"$f":"IF(A21<>\"\",IFERROR(VLOOKUP(AP21,Tabelas!B:D,3,0),0),\"\")","v":0},{"$f":"IF(A21<>\"\",IFERROR(VLOOKUP(AQ21,Tabelas!B:D,3,0),0),\"\")","v":12},182,0,0,0,0,0,0,0]
["TE/AUX DIURNO"]
["Adriana Graziela Severo",null,null,"TE","EBSERH",36,null,32,null,46,null,null,"DSR","D6","T15","T15","T15","T15","T15",null,"DSR","T15","T15","T15","T15","T15","D6","DSR",null,"T15","T15","T15","T15","D6","DSR",null,"T15","T15","T15","T15","D6","DSR","T15"]
["Aline Vasconcelos Brasil",1068101,222199,"TE","EBSERH",36,null,null,null,47,null,null,null,"DSR","D6",null,"D6",null,"D6",null,"D6","DSR",null,null,"D6",null,"D6","DSR","D6",null,null,"D6",null,"D6","DSR","D6",null,"D6",null,"D6",null,"DSR","D6",{"$f":"IF(#REF!<>\"\",IFERROR(VLOOKUP(M24,Tabelas!B:D,3,0),0),\"\")","v":{"$error":"#REF!"}},{"$f":"IF(#REF!<>\"\",IFERROR(VLOOKUP(N24,Tabelas!B:D,3,0),0),\"\")","v":{"$error":"#REF!"}},{"$f":"IF(#REF!<>\"\",IFERROR(VLOOKUP(O24,Tabelas!B:D,3,0),0),\"\")","v":{"$error":"#REF!"}},{"$f":"IF(#REF!<>\"\",IFERROR(VLOOKUP(P24,Tabelas!B:D,3,0),0),\"\")","v":{"$error":"#REF!"}},{"$f":"IF(#REF!<>\"\",IFERROR(VLOOKUP(Q24,Tabelas!B:D,3,0),0),\"\")","v":{"$error":"#REF!"}},{"$f":"IF(#REF!<>\"\",IFERROR(VLOOKUP(R24,Tabelas!B:D,3,0),0),\"\")","v":{"$error":"#REF!"}},{"$f":"IF(#REF!<>\"\",IFERROR(VLOOKUP(S24,Tabelas!B:D,3,0),0),\"\")","v":{"$error":"#REF!"}},{"$f":"IF(#REF!<>\"\",IFERROR(VLOOKUP(T24,Tabelas!B:D,3,0),0),\"\")","v":{"$error":"#REF!"}},{"$f":"IF(#REF!<>\"\",IFERROR(VLOOKUP(U24,Tabelas!B:D,3,0),0),\"\")","v":{"$error":"#REF!"}},{"$f":"IF(#REF!<>\"\",IFERROR(VLOOKUP(V24,Tabelas!B:D,3,0),0),\"\")","v":{"$error":"#REF!"}},{"$f":"IF(#REF!<>\"\",IFERROR(VLOOKUP(W24,Tabelas!B:D,3,0),0),\"\")","v":{"$error":"#REF!"}},{"$f":"IF(#REF!<>\"\",IFERROR(VLOOKUP(X24,Tabelas!B:D,3,0),0),\"\")","v":{"$error":"#REF!"}},{"$f":"IF(#REF!<>\"\",IFERROR(VLOOKUP(Y24,Tabelas!B:D,3,0),0),\"\")","v":{"$error":"#REF!"}},{"$f":"IF(#REF!<>\"\",IFERROR(VLOOKUP(Z24,Tabelas!B:D,3,0),0),\"\")","v":{"$error":"#REF!"}},{"$f":"IF(#REF!<>\"\",IFERROR(VLOOKUP(AA24,Tabelas!B:D,3,0),0),\"\")","v":{"$error":"#REF!"}},{"$f":"IF(#REF!<>\"\",IFERROR(VLOOKUP(AB24,Tabelas!B:D,3,0),0),\"\")","v":{"$error":"#REF!"}},{"$f":"IF(#REF!<>\"\",IFERROR(VLOOKUP(AC24,Tabelas!B:D,3,0),0),\"\")","v":{"$error":"#REF!"}},{"$f":"IF(#REF!<>\"\",IFERROR(VLOOKUP(AD24,Tabelas!B:D,3,0),0),\"\")","v":{"$error":"#REF!"}},{"$f":"IF(#REF!<>\"\",IFERROR(VLOOKUP(AE24,Tabelas!B:D,3,0),0),\"\")","v":{"$error":"#REF!"}},{"$f":"IF(#REF!<>\"\",IFERROR(VLOOKUP(AF24,Tabelas!B:D,3,0),0),\"\")","v":{"$error":"#REF!"}},{"$f":"IF(#REF!<>\"\",IFERROR(VLOOKUP(AG24,Tabelas!B:D,3,0),0),\"\")","v":{"$error":"#REF!"}},{"$f":"IF(#REF!<>\"\",IFERROR(VLOOKUP(AH24,Tabelas!B:D,3,0),0),\"\")","v":{"$error":"#REF!"}},{"$f":"IF(#REF!<>\"\",IFERROR(VLOOKUP(AI24,Tabelas!B:D,3,0),0),\"\")","v":{"$error":"#REF!"}},{"$f":"IF(#REF!<>\"\",IFERROR(VLOOKUP(AJ24,Tabelas!B:D,3,0),0),\"\")","v":{"$error":"#REF!"}},{"$f":"IF(#REF!<>\"\",IFERROR(VLOOKUP(AK24,Tabelas!B:D,3,0),0),\"\")","v":{"$error":"#REF!"}},{"$f":"IF(#REF!<>\"\",IFERROR(VLOOKUP(AL24,Tabelas!B:D,3,0),0),\"\")","v":{"$error":"#REF!"}},{"$f":"IF(#REF!<>\"\",IFERROR(VLOOKUP(AM24,Tabelas!B:D,3,0),0),\"\")","v":{"$error":"#REF!"}},{"$f":"IF(#REF!<>\"\",IFERROR(VLOOKUP(AN24,Tabelas!B:D,3,0),0),\"\")","v":{"$error":"#REF!"}},{"$f":"IF(#REF!<>\"\",IFERROR(VLOOKUP(AO24,Tabelas!B:D,3,0),0),\"\")","v":{"$error":"#REF!"}},{"$f":"IF(#REF!<>\"\",IFERROR(VLOOKUP(AP24,Tabelas!B:D,3,0),0),\"\")","v":{"$error":"#REF!"}},{"$f":"IF(#REF!<>\"\",IFERROR(VLOOKUP(AQ24,Tabelas!B:D,3,0),0),\"\")","v":{"$error":"#REF!"}},156,null,{"$f":"IF(#REF!<>\"\",COUNTIF(M24:AQ24,\"AB*\"),\"\")","v":{"$error":"#REF!"}},{"$f":"IF(#REF!<>\"\",COUNTIF(M24:AQ24,\"FE\"),\"\")","v":{"$error":"#REF!"}},{"$f":"IF(#REF!<>\"\",COUNTIF(M24:AQ24,\"LC\"),\"\")","v":{"$error":"#REF!"}},{"$f":"IF(#REF!<>\"\",COUNTIF(M24:AQ24,\"CH*\"),\"\")","v":{"$error":"#REF!"}},{"$f":"IF(#REF!<>\"\",COUNTIF(M24:AQ24,\"AF1\")+COUNTIF(M24:AQ24,\"AF2\")+COUNTIF(M24:AQ24,\"AF3\")+COUNTIF(M24:AQ24,\"AF4\")+COUNTIF(M24:AQ24,\"AF5\")+COUNTIF(M24:AQ24,\"AF6\")+COUNTIF(M24:AQ24,\"AF7\")+COUNTIF(M24:AQ24,\"AF8\")+COUNTIF(M24:AQ24,\"AF9\")+COUNTIF(M24:AQ24,\"AF10\")+COUNTIF(M24:AQ24,\"AF11\")+COUNTIF(M24:AQ24,\"AF12\")+COUNTIF(M24:AQ24,\"AF13\")+COUNTIF(M24:AQ24,\"AF14\"),\"\")","v":{"$error":"#REF!"}},{"$f":"IF(#REF!<>\"\",COUNTIF(M24:AQ24,\"CH*\")+COUNTIF(M24:AQ24,\"L\")+COUNTIF(M24:AQ24,\"LM\")+COUNTIF(M24:AQ24,\"LP\")+COUNTIF(M24:AQ24,\"LC\")+COUNTIF(M24:AQ24,\"AB*\")+COUNTIF(M24:AQ24,\"AF1\")+COUNTIF(M24:AQ24,\"AF2\")+COUNTIF(M24:AQ24,\"AF3\")+COUNTIF(M24:AQ24,\"AF4\")+COUNTIF(M24:AQ24,\"AF5\")+COUNTIF(M24:AQ24,\"AF6\")+COUNTIF(M24:AQ24,\"AF7\")+COUNTIF(M24:AQ24,\"AF8\")+COUNTIF(M24:AQ24,\"AF9\")+COUNTIF(M24:AQ24,\"AF10\")+COUNTIF(M24:AQ24,\"AF11\")+COUNTIF(M24:AQ24,\"AF12\")+COUNTIF(M24:AQ24,\"AF13\")+COUNTIF(M24:AQ24,\"AF14\")+COUNTIF(M24:AQ24,\"RC\")+COUNTIF(M24:AQ24,\"FO\")+COUNTIF(M24:AQ24,\"FE\"),\"\")","v":{"$error":"#REF!"}}]
["Alexandra da Silva",null,null,"TE","EBSERH",36,25,null,null,48,null,null,null,"DSR","M15","M15","M15","M15","M15","D6","DSR","M15","M15","M15","M15","M15",null,"D6","DSR","M15","M15","M15","M15",null,"D6","DSR","M15","M15","M15","M15","D6","DSR","M15"]
["Ariane Silva dos Santos Ludvig",null,null,"TE","EBSERH",36,null,null,null,49,null,null,"D6","DSR",null,"D6",null,"D6",null,null,"DSR","D6",null,"D6",null,null,"D6","DSR","D6",null,"D6","D6",null,"D6","DSR","D6",null,null,null,"D6",null,"D6","DSR"]
["Claudia de Fatima da Silva Vargas",3192708,null,"TE","EBSERH",36,null,null,null,46,null,null,"D6","DSR",null,null,"D6",null,"D6",null,"D6","DSR","D6",null,"D6",null,"D6","DSR","D6",null,"D6",null,"D6",null,"D6","DSR","D6",null,"D6",null,null,"DSR",null,{"$f":"IF(#REF!<>\"\",IFERROR(VLOOKUP(M27,Tabelas!B:D,3,0),0),\"\")","v":{"$error":"#REF!"}},{"$f":"IF(#REF!<>\"\",IFERROR(VLOOKUP(N27,Tabelas!B:D,3,0),0),\"\")","v":{"$error":"#REF!"}},{"$f":"IF(#REF!<>\"\",IFERROR(VLOOKUP(O27,Tabelas!B:D,3,0),0),\"\")","v":{"$error":"#REF!"}},{"$f":"IF(#REF!<>\"\",IFERROR(VLOOKUP(P27,Tabelas!B:D,3,0),0),\"\")","v":{"$error":"#REF!"}},{"$f":"IF(#REF!<>\"\",IFERROR(VLOOKUP(Q27,Tabelas!B:D,3,0),0),\"\")","v":{"$error":"#REF!"}},{"$f":"IF(#REF!<>\"\",IFERROR(VLOOKUP(R27,Tabelas!B:D,3,0),0),\"\")","v":{"$error":"#REF!"}},{"$f":"IF(#REF!<>\"\",IFERROR(VLOOKUP(S27,Tabelas!B:D,3,0),0),\"\")","v":{"$error":"#REF!"}},{"$f":"IF(#REF!<>\"\",IFERROR(VLOOKUP(T27,Tabelas!B:D,3,0),0),\"\")","v":{"$error":"#REF!"}},{"$f":"IF(#REF!<>\"\",IFERROR(VLOOKUP(U27,Tabelas!B:D,3,0),0),\"\")","v":{"$error":"#REF!"}},{"$f":"IF(#REF!<>\"\",IFERROR(VLOOKUP(V27,Tabelas!B:D,3,0),0),\"\")","v":{"$error":"#REF!"}},{"$f":"IF(#REF!<>\"\",IFERROR(VLOOKUP(W27,Tabelas!B:D,3,0),0),\"\")","v":{"$error":"#REF!"}},{"$f":"IF(#REF!<>\"\",IFERROR(VLOOKUP(X27,Tabelas!B:D,3,0),0),\"\")","v":{"$error":"#REF!"}},{"$f":"IF(#REF!<>\"\",IFERROR(VLOOKUP(Y27,Tabelas!B:D,3,0),0),\"\")","v":{"$error":"#REF!"}},{"$f":"IF(#REF!<>\"\",IFERROR(VLOOKUP(Z27,Tabelas!B:D,3,0),0),\"\")","v":{"$error":"#REF!"}},{"$f":"IF(#REF!<>\"\",IFERROR(VLOOKUP(AA27,Tabelas!B:D,3,0),0),\"\")","v":{"$error":"#REF!"}},{"$f":"IF(#REF!<>\"\",IFERROR(VLOOKUP(AB27,Tabelas!B:D,3,0),0),\"\")","v":{"$error":"#REF!"}},{"$f":"IF(#REF!<>\"\",IFERROR(VLOOKUP(AC27,Tabelas!B:D,3,0),0),\"\")","v":{"$error":"#REF!"}},{"$f":"IF(#REF!<>\"\",IFERROR(VLOOKUP(AD27,Tabelas!B:D,3,0),0),\"\")","v":{"$error":"#REF!"}},{"$f":"IF(#REF!<>\"\",IFERROR(VLOOKUP(AE27,Tabelas!B:D,3,0),0),\"\")","v":{"$error":"#REF!"}},{"$f":"IF(#REF!<>\"\",IFERROR(VLOOKUP(AF27,Tabelas!B:D,3,0),0),\"\")","v":{"$error":"#REF!"}},{"$f":"IF(#REF!<>\"\",IFERROR(VLOOKUP(AG27,Tabelas!B:D,3,0),0),\"\")","v":{"$error":"#REF!"}},{"$f":"IF(#REF!<>\"\",IFERROR(VLOOKUP(AH27,Tabelas!B:D,3,0),0),\"\")","v":{"$error":"#REF!"}},{"$f":"IF(#REF!<>\"\",IFERROR(VLOOKUP(AI27,Tabelas!B:D,3,0),0),\"\")","v":{"$error":"#REF!"}},{"$f":"IF(#REF!<>\"\",IFERROR(VLOOKUP(AJ27,Tabelas!B:D,3,0),0),\"\")","v":{"$error":"#REF!"}},{"$f":"IF(#REF!<>\"\",IFERROR(VLOOKUP(AK27,Tabelas!B:D,3,0),0),\"\")","v":{"$error":"#REF!"}},{"$f":"IF(#REF!<>\"\",IFERROR(VLOOKUP(AL27,Tabelas!B:D,3,0),0),\"\")","v":{"$error":"#REF!"}},{"$f":"IF(#REF!<>\"\",IFERROR(VLOOKUP(AM27,Tabelas!B:D,3,0),0),\"\")","v":{"$error":"#REF!"}},{"$f":"IF(#REF!<>\"\",IFERROR(VLOOKUP(AN27,Tabelas!B:D,3,0),0),\"\")","v":{"$error":"#REF!"}},{"$f":"IF(#REF!<>\"\",IFERROR(VLOOKUP(AO27,Tabelas!B:D,3,0),0),\"\")","v":{"$error":"#REF!"}},{"$f":"IF(#REF!<>\"\",IFERROR(VLOOKUP(AP27,Tabelas!B:D,3,0),0),\"\")","v":{"$error":"#REF!"}},{"$f":"IF(#REF!<>\"\",IFERROR(VLOOKUP(AQ27,Tabelas!B:D,3,0),0),\"\")","v":{"$error":"#REF!"}},156,null,{"$f":"IF(#REF!<>\"\",COUNTIF(M27:AQ27,\"AB*\"),\"\")","v":{"$error":"#REF!"}},{"$f":"IF(#REF!<>\"\",COUNTIF(M27:AQ27,\"FE\"),\"\")","v":{"$error":"#REF!"}},{"$f":"IF(#REF!<>\"\",COUNTIF(M27:AQ27,\"LC\"),\"\")","v":{"$error":"#REF!"}},{"$f":"IF(#REF!<>\"\",COUNTIF(M27:AQ27,\"CH*\"),\"\")","v":{"$error":"#REF!"}},{"$f":"IF(#REF!<>\"\",COUNTIF(M27:AQ27,\"AF1\")+COUNTIF(M27:AQ27,\"AF2\")+COUNTIF(M27:AQ27,\"AF3\")+COUNTIF(M27:AQ27,\"AF4\")+COUNTIF(M27:AQ27,\"AF5\")+COUNTIF(M27:AQ27,\"AF6\")+COUNTIF(M27:AQ27,\"AF7\")+COUNTIF(M27:AQ27,\"AF8\")+COUNTIF(M27:AQ27,\"AF9\")+COUNTIF(M27:AQ27,\"AF10\")+COUNTIF(M27:AQ27,\"AF11\")+COUNTIF(M27:AQ27,\"AF12\")+COUNTIF(M27:AQ27,\"AF13\")+COUNTIF(M27:AQ27,\"AF14\"),\"\")","v":{"$error":"#REF!"}},{"$f":"IF(#REF!<>\"\",COUNTIF(M27:AQ27,\"CH*\")+COUNTIF(M27:AQ27,\"L\")+COUNTIF(M27:AQ27,\"LM\")+COUNTIF(M27:AQ27,\"LP\")+COUNTIF(M27:AQ27,\"LC\")+COUNTIF(M27:AQ27,\"AB*\")+COUNTIF(M27:AQ27,\"AF1\")+COUNTIF(M27:AQ27,\"AF2\")+COUNTIF(M27:AQ27,\"AF3\")+COUNTIF(M27:AQ27,\"AF4\")+COUNTIF(M27:AQ27,\"AF5\")+COUNTIF(M27:AQ27,\"AF6\")+COUNTIF(M27:AQ27,\"AF7\")+COUNTIF(M27:AQ27,\"AF8\")+COUNTIF(M27:AQ27,\"AF9\")+COUNTIF(M27:AQ27,\"AF10\")+COUNTIF(M27:AQ27,\"AF11\")+COUNTIF(M27:AQ27,\"AF12\")+COUNTIF(M27:AQ27,\"AF13\")+COUNTIF(M27:AQ27,\"AF14\")+COUNTIF(M27:AQ27,\"RC\")+COUNTIF(M27:AQ27,\"FO\")+COUNTIF(M27:AQ27,\"FE\"),\"\")","v":{"$error":"#REF!"}}]
["Cirley Silva",3192572,null,"TE","EBSERH",36,null,null,null,47,null,null,null,"D6","DSR","D6",null,null,"D6",null,"D6","DSR","D6",null,null,null,null,"D6","DSR","D6",null,"D6",null,"D6","DSR","D6",null,"D6",null,"D6",null,"DSR","D6",{"$f":"IF(#REF!<>\"\",IFERROR(VLOOKUP(M28,Tabelas!B:D,3,0),0),\"\")","v":{"$error":"#REF!"}},{"$f":"IF(#REF!<>\"\",IFERROR(VLOOKUP(N28,Tabelas!B:D,3,0),0),\"\")","v":{"$error":"#REF!"}},{"$f":"IF(#REF!<>\"\",IFERROR(VLOOKUP(O28,Tabelas!B:D,3,0),0),\"\")","v":{"$error":"#REF!"}},{"$f":"IF(#REF!<>\"\",IFERROR(VLOOKUP(P28,Tabelas!B:D,3,0),0),\"\")","v":{"$error":"#REF!"}},{"$f":"IF(#REF!<>\"\",IFERROR(VLOOKUP(Q28,Tabelas!B:D,3,0),0),\"\")","v":{"$error":"#REF!"}},{"$f":"IF(#REF!<>\"\",IFERROR(VLOOKUP(R28,Tabelas!B:D,3,0),0),\"\")","v":{"$error":"#REF!"}},{"$f":"IF(#REF!<>\"\",IFERROR(VLOOKUP(S28,Tabelas!B:D,3,0),0),\"\")","v":{"$error":"#REF!"}},{"$f":"IF(#REF!<>\"\",IFERROR(VLOOKUP(T28,Tabelas!B:D,3,0),0),\"\")","v":{"$error":"#REF!"}},{"$f":"IF(#REF!<>\"\",IFERROR(VLOOKUP(U28,Tabelas!B:D,3,0),0),\"\")","v":{"$error":"#REF!"}},{"$f":"IF(#REF!<>\"\",IFERROR(VLOOKUP(V28,Tabelas!B:D,3,0),0),\"\")","v":{"$error":"#REF!"}},{"$f":"IF(#REF!<>\"\",IFERROR(VLOOKUP(W28,Tabelas!B:D,3,0),0),\"\")","v":{"$error":"#REF!"}},{"$f":"IF(#REF!<>\"\",IFERROR(VLOOKUP(X28,Tabelas!B:D,3,0),0),\"\")","v":{"$error":"#REF!"}},{"$f":"IF(#REF!<>\"\",IFERROR(VLOOKUP(Y28,Tabelas!B:D,3,0),0),\"\")","v":{"$error":"#REF!"}},{"$f":"IF(#REF!<>\"\",IFERROR(VLOOKUP(Z28,Tabelas!B:D,3,0),0),\"\")","v":{"$error":"#REF!"}},{"$f":"IF(#REF!<>\"\",IFERROR(VLOOKUP(AA28,Tabelas!B:D,3,0),0),\"\")","v":{"$error":"#REF!"}},{"$f":"IF(#REF!<>\"\",IFERROR(VLOOKUP(AB28,Tabelas!B:D,3,0),0),\"\")","v":{"$error":"#REF!"}},{"$f":"IF(#REF!<>\"\",IFERROR(VLOOKUP(AC28,Tabelas!B:D,3,0),0),\"\")","v":{"$error":"#REF!"}},{"$f":"IF(#REF!<>\"\",IFERROR(VLOOKUP(AD28,Tabelas!B:D,3,0),0),\"\")","v":{"$error":"#REF!"}},{"$f":"IF(#REF!<>\"\",IFERROR(VLOOKUP(AE28,Tabelas!B:D,3,0),0),\"\")","v":{"$error":"#REF!"}},{"$f":"IF(#REF!<>\"\",IFERROR(VLOOKUP(AF28,Tabelas!B:D,3,0),0),\"\")","v":{"$error":"#REF!"}},{"$f":"IF(#REF!<>\"\",IFERROR(VLOOKUP(AG28,Tabelas!B:D,3,0),0),\"\")","v":{"$error":"#REF!"}},{"$f":"IF(#REF!<>\"\",IFERROR(VLOOKUP(AH28,Tabelas!B:D,3,0),0),\"\")","v":{"$error":"#REF!"}},{"$f":"IF(#REF!<>\"\",IFERROR(VLOOKUP(AI28,Tabelas!B:D,3,0),0),\"\")","v":{"$error":"#REF!"}},{"$f":"IF(#REF!<>\"\",IFERROR(VLOOKUP(AJ28,Tabelas!B:D,3,0),0),\"\")","v":{"$error":"#REF!"}},{"$f":"IF(#REF!<>\"\",IFERROR(VLOOKUP(AK28,Tabelas!B:D,3,0),0),\"\")","v":{"$error":"#REF!"}},{"$f":"IF(#REF!<>\"\",IFERROR(VLOOKUP(AL28,Tabelas!B:D,3,0),0),\"\")","v":{"$error":"#REF!"}},{"$f":"IF(#REF!<>\"\",IFERROR(VLOOKUP(AM28,Tabelas!B:D,3,0),0),\"\")","v":{"$error":"#REF!"}},{"$f":"IF(#REF!<>\"\",IFERROR(VLOOKUP(AN28,Tabelas!B:D,3,0),0),\"\")","v":{"$error":"#REF!"}},{"$f":"IF(#REF!<>\"\",IFERROR(VLOOKUP(AO28,Tabelas!B:D,3,0),0),\"\")","v":{"$error":"#REF!"}},{"$f":"IF(#REF!<>\"\",IFERROR(VLOOKUP(AP28,Tabelas!B:D,3,0),0),\"\")","v":{"$error":"#REF!"}},{"$f":"IF(#REF!<>\"\",IFERROR(VLOOKUP(AQ28,Tabelas!B:D,3,0),0),\"\")","v":{"$error":"#REF!"}},156,null,{"$f":"IF(#REF!<>\"\",COUNTIF(M28:AQ28,\"AB*\"),\"\")","v":{"$error":"#REF!"}},{"$f":"IF(#REF!<>\"\",COUNTIF(M28:AQ28,\"FE\"),\"\")","v":{"$error":"#REF!"}},{"$f":"IF(#REF!<>\"\",COUNTIF(M28:AQ28,\"LC\"),\"\")","v":{"$error":"#REF!"}},{"$f":"IF(#REF!<>\"\",COUNTIF(M28:AQ28,\"CH*\"),\"\")","v":{"$error":"#REF!"}},{"$f":"IF(#REF!<>\"\",COUNTIF(M28:AQ28,\"AF1\")+COUNTIF(M28:AQ28,\"AF2\")+COUNTIF(M28:AQ28,\"AF3\")+COUNTIF(M28:AQ28,\"AF4\")+COUNTIF(M28:AQ28,\"AF5\")+COUNTIF(M28:AQ28,\"AF6\")+COUNTIF(M28:AQ28,\"AF7\")+COUNTIF(M28:AQ28,\"AF8\")+COUNTIF(M28:AQ28,\"AF9\")+COUNTIF(M28:AQ28,\"AF10\")+COUNTIF(M28:AQ28,\"AF11\")+COUNTIF(M28:AQ28,\"AF12\")+COUNTIF(M28:AQ28,\"AF13\")+COUNTIF(M28:AQ28,\"AF14\"),\"\")","v":{"$error":"#REF!"}},{"$f":"IF(#REF!<>\"\",COUNTIF(M28:AQ28,\"CH*\")+COUNTIF(M28:AQ28,\"L\")+COUNTIF(M28:AQ28,\"LM\")+COUNTIF(M28:AQ28,\"LP\")+COUNTIF(M28:AQ28,\"LC\")+COUNTIF(M28:AQ28,\"AB*\")+COUNTIF(M28:AQ28,\"AF1\")+COUNTIF(M28:AQ28,\"AF2\")+COUNTIF(M28:AQ28,\"AF3\")+COUNTIF(M28:AQ28,\"AF4\")+COUNTIF(M28:AQ28,\"AF5\")+COUNTIF(M28:AQ28,\"AF6\")+COUNTIF(M28:AQ28,\"AF7\")+COUNTIF(M28:AQ28,\"AF8\")+COUNTIF(M28:AQ28,\"AF9\")+COUNTIF(M28:AQ28,\"AF10\")+COUNTIF(M28:AQ28,\"AF11\")+COUNTIF(M28:AQ28,\"AF12\")+COUNTIF(M28:AQ28,\"AF13\")+COUNTIF(M28:AQ28,\"AF14\")+COUNTIF(M28:AQ28,\"RC\")+COUNTIF(M28:AQ28,\"FO\")+COUNTIF(M28:AQ28,\"FE\"),\"\")","v":{"$error":"#REF!"}}]
["Flavia Gomes Luz",3193566,null,"TE","EBSERH",36,null,null,null,48,null,null,"D6","DSR","D6",null,"D6",null,"D6",null,"D6","DSR","D6",null,null,null,"D6","DSR","D6",null,"D6",null,"D6",null,"DSR","D6",null,"D6",null,null,null,"DSR","D6",{"$f":"IF(#REF!<>\"\",IFERROR(VLOOKUP(M29,Tabelas!B:D,3,0),0),\"\")","v":{"$error":"#REF!"}},{"$f":"IF(#REF!<>\"\",IFERROR(VLOOKUP(N29,Tabelas!B:D,3,0),0),\"\")","v":{"$error":"#REF!"}},{"$f":"IF(#REF!<>\"\",IFERROR(VLOOKUP(O29,Tabelas!B:D,3,0),0),\"\")","v":{"$error":"#REF!"}},{"$f":"IF(#REF!<>\"\",IFERROR(VLOOKUP(P29,Tabelas!B:D,3,0),0),\"\")","v":{"$error":"#REF!"}},{"$f":"IF(#REF!<>\"\",IFERROR(VLOOKUP(Q29,Tabelas!B:D,3,0),0),\"\")","v":{"$error":"#REF!"}},{"$f":"IF(#REF!<>\"\",IFERROR(VLOOKUP(R29,Tabelas!B:D,3,0),0),\"\")","v":{"$error":"#REF!"}},{"$f":"IF(#REF!<>\"\",IFERROR(VLOOKUP(S29,Tabelas!B:D,3,0),0),\"\")","v":{"$error":"#REF!"}},{"$f":"IF(#REF!<>\"\",IFERROR(VLOOKUP(T29,Tabelas!B:D,3,0),0),\"\")","v":{"$error":"#REF!"}},{"$f":"IF(#REF!<>\"\",IFERROR(VLOOKUP(U29,Tabelas!B:D,3,0),0),\"\")","v":{"$error":"#REF!"}},{"$f":"IF(#REF!<>\"\",IFERROR(VLOOKUP(V29,Tabelas!B:D,3,0),0),\"\")","v":{"$error":"#REF!"}},{"$f":"IF(#REF!<>\"\",IFERROR(VLOOKUP(W29,Tabelas!B:D,3,0),0),\"\")","v":{"$error":"#REF!"}},{"$f":"IF(#REF!<>\"\",IFERROR(VLOOKUP(X29,Tabelas!B:D,3,0),0),\"\")","v":{"$error":"#REF!"}},{"$f":"IF(#REF!<>\"\",IFERROR(VLOOKUP(Y29,Tabelas!B:D,3,0),0),\"\")","v":{"$error":"#REF!"}},{"$f":"IF(#REF!<>\"\",IFERROR(VLOOKUP(Z29,Tabelas!B:D,3,0),0),\"\")","v":{"$error":"#REF!"}},{"$f":"IF(#REF!<>\"\",IFERROR(VLOOKUP(AA29,Tabelas!B:D,3,0),0),\"\")","v":{"$error":"#REF!"}},{"$f":"IF(#REF!<>\"\",IFERROR(VLOOKUP(AB29,Tabelas!B:D,3,0),0),\"\")","v":{"$error":"#REF!"}},{"$f":"IF(#REF!<>\"\",IFERROR(VLOOKUP(AC29,Tabelas!B:D,3,0),0),\"\")","v":{"$error":"#REF!"}},{"$f":"IF(#REF!<>\"\",IFERROR(VLOOKUP(AD29,Tabelas!B:D,3,0),0),\"\")","v":{"$error":"#REF!"}},{"$f":"IF(#REF!<>\"\",IFERROR(VLOOKUP(AE29,Tabelas!B:D,3,0),0),\"\")","v":{"$error":"#REF!"}},{"$f":"IF(#REF!<>\"\",IFERROR(VLOOKUP(AF29,Tabelas!B:D,3,0),0),\"\")","v":{"$error":"#REF!"}},{"$f":"IF(#REF!<>\"\",IFERROR(VLOOKUP(AG29,Tabelas!B:D,3,0),0),\"\")","v":{"$error":"#REF!"}},{"$f":"IF(#REF!<>\"\",IFERROR(VLOOKUP(AH29,Tabelas!B:D,3,0),0),\"\")","v":{"$error":"#REF!"}},{"$f":"IF(#REF!<>\"\",IFERROR(VLOOKUP(AI29,Tabelas!B:D,3,0),0),\"\")","v":{"$error":"#REF!"}},{"$f":"IF(#REF!<>\"\",IFERROR(VLOOKUP(AJ29,Tabelas!B:D,3,0),0),\"\")","v":{"$error":"#REF!"}},{"$f":"IF(#REF!<>\"\",IFERROR(VLOOKUP(AK29,Tabelas!B:D,3,0),0),\"\")","v":{"$error":"#REF!"}},{"$f":"IF(#REF!<>\"\",IFERROR(VLOOKUP(AL29,Tabelas!B:D,3,0),0),\"\")","v":{"$error":"#REF!"}},{"$f":"IF(#REF!<>\"\",IFERROR(VLOOKUP(AM29,Tabelas!B:D,3,0),0),\"\")","v":{"$error":"#REF!"}},{"$f":"IF(#REF!<>\"\",IFERROR(VLOOKUP(AN29,Tabelas!B:D,3,0),0),\"\")","v":{"$error":"#REF!"}},{"$f":"IF(#REF!<>\"\",IFERROR(VLOOKUP(AO29,Tabelas!B:D,3,0),0),\"\")","v":{"$error":"#REF!"}},{"$f":"IF(#REF!<>\"\",IFERROR(VLOOKUP(AP29,Tabelas!B:D,3,0),0),\"\")","v":{"$error":"#REF!"}},{"$f":"IF(#REF!<>\"\",IFERROR(VLOOKUP(AQ29,Tabelas!B:D,3,0),0),\"\")","v":{"$error":"#REF!"}},156,null,{"$f":"IF(#REF!<>\"\",COUNTIF(M29:AQ29,\"AB*\"),\"\")","v":{"$error":"#REF!"}},{"$f":"IF(#REF!<>\"\",COUNTIF(M29:AQ29,\"FE\"),\"\")","v":{"$error":"#REF!"}},{"$f":"IF(#REF!<>\"\",COUNTIF(M29:AQ29,\"LC\"),\"\")","v":{"$error":"#REF!"}},{"$f":"IF(#REF!<>\"\",COUNTIF(M29:AQ29,\"CH*\"),\"\")","v":{"$error":"#REF!"}},{"$f":"IF(#REF!<>\"\",COUNTIF(M29:AQ29,\"AF1\")+COUNTIF(M29:AQ29,\"AF2\")+COUNTIF(M29:AQ29,\"AF3\")+COUNTIF(M29:AQ29,\"AF4\")+COUNTIF(M29:AQ29,\"AF5\")+COUNTIF(M29:AQ29,\"AF6\")+COUNTIF(M29:AQ29,\"AF7\")+COUNTIF(M29:AQ29,\"AF8\")+COUNTIF(M29:AQ29,\"AF9\")+COUNTIF(M29:AQ29,\"AF10\")+COUNTIF(M29:AQ29,\"AF11\")+COUNTIF(M29:AQ29,\"AF12\")+COUNTIF(M29:AQ29,\"AF13\")+COUNTIF(M29:AQ29,\"AF14\"),\"\")","v":{"$error":"#REF!"}},{"$f":"IF(#REF!<>\"\",COUNTIF(M29:AQ29,\"CH*\")+COUNTIF(M29:AQ29,\"L\")+COUNTIF(M29:AQ29,\"LM\")+COUNTIF(M29:AQ29,\"LP\")+COUNTIF(M29:AQ29,\"LC\")+COUNTIF(M29:AQ29,\"AB*\")+COUNTIF(M29:AQ29,\"AF1\")+COUNTIF(M29:AQ29,\"AF2\")+COUNTIF(M29:AQ29,\"AF3\")+COUNTIF(M29:AQ29,\"AF4\")+COUNTIF(M29:AQ29,\"AF5\")+COUNTIF(M29:AQ29,\"AF6\")+COUNTIF(M29:AQ29,\"AF7\")+COUNTIF(M29:AQ29,\"AF8\")+COUNTIF(M29:AQ29,\"AF9\")+COUNTIF(M29:AQ29,\"AF10\")+COUNTIF(M29:AQ29,\"AF11\")+COUNTIF(M29:AQ29,\"AF12\")+COUNTIF(M29:AQ29,\"AF13\")+COUNTIF(M29:AQ29,\"AF14\")+COUNTIF(M29:AQ29,\"RC\")+COUNTIF(M29:AQ29,\"FO\")+COUNTIF(M29:AQ29,\"FE\"),\"\")","v":{"$error":"#REF!"}}]
["Lusardo Lopes Peres",null,null,"TE","EBSERH",36,null,null,null,49,56,null,null,"D6","DSR","D6",null,"D6",null,"D6","DSR","D6",null,"D6",null,"D6",null,"DSR","D6",null,"D6",null,null,"D6","DSR","N8",null,null,null,"D6",null,"D6","DSR"]
["Otavino da Silva Junior",3192601,null,"TE","EBSERH",36,null,null,null,50,55,null,null,"D6",null,null,null,"D6",null,null,"DSR","D6",null,"D6",null,"D6",null,"D6","DSR","D6",null,"N8",null,null,"D6","DSR","D6",null,"D6",null,"D6","D6","DSR",{"$f":"IF(#REF!<>\"\",IFERROR(VLOOKUP(M31,Tabelas!B:D,3,0),0),\"\")","v":{"$error":"#REF!"}},{"$f":"IF(#REF!<>\"\",IFERROR(VLOOKUP(N31,Tabelas!B:D,3,0),0),\"\")","v":{"$error":"#REF!"}},{"$f":"IF(#REF!<>\"\",IFERROR(VLOOKUP(O31,Tabelas!B:D,3,0),0),\"\")","v":{"$error":"#REF!"}},{"$f":"IF(#REF!<>\"\",IFERROR(VLOOKUP(P31,Tabelas!B:D,3,0),0),\"\")","v":{"$error":"#REF!"}},{"$f":"IF(#REF!<>\"\",IFERROR(VLOOKUP(Q31,Tabelas!B:D,3,0),0),\"\")","v":{"$error":"#REF!"}},{"$f":"IF(#REF!<>\"\",IFERROR(VLOOKUP(R31,Tabelas!B:D,3,0),0),\"\")","v":{"$error":"#REF!"}},{"$f":"IF(#REF!<>\"\",IFERROR(VLOOKUP(S31,Tabelas!B:D,3,0),0),\"\")","v":{"$error":"#REF!"}},{"$f":"IF(#REF!<>\"\",IFERROR(VLOOKUP(T31,Tabelas!B:D,3,0),0),\"\")","v":{"$error":"#REF!"}},{"$f":"IF(#REF!<>\"\",IFERROR(VLOOKUP(U31,Tabelas!B:D,3,0),0),\"\")","v":{"$error":"#REF!"}},{"$f":"IF(#REF!<>\"\",IFERROR(VLOOKUP(V31,Tabelas!B:D,3,0),0),\"\")","v":{"$error":"#REF!"}},{"$f":"IF(#REF!<>\"\",IFERROR(VLOOKUP(W31,Tabelas!B:D,3,0),0),\"\")","v":{"$error":"#REF!"}},{"$f":"IF(#REF!<>\"\",IFERROR(VLOOKUP(X31,Tabelas!B:D,3,0),0),\"\")","v":{"$error":"#REF!"}},{"$f":"IF(#REF!<>\"\",IFERROR(VLOOKUP(Y31,Tabelas!B:D,3,0),0),\"\")","v":{"$error":"#REF!"}},{"$f":"IF(#REF!<>\"\",IFERROR(VLOOKUP(Z31,Tabelas!B:D,3,0),0),\"\")","v":{"$error":"#REF!"}},{"$f":"IF(#REF!<>\"\",IFERROR(VLOOKUP(AA31,Tabelas!B:D,3,0),0),\"\")","v":{"$error":"#REF!"}},{"$f":"IF(#REF!<>\"\",IFERROR(VLOOKUP(AB31,Tabelas!B:D,3,0),0),\"\")","v":{"$error":"#REF!"}},{"$f":"IF(#REF!<>\"\",IFERROR(VLOOKUP(AC31,Tabelas!B:D,3,0),0),\"\")","v":{"$error":"#REF!"}},{"$f":"IF(#REF!<>\"\",IFERROR(VLOOKUP(AD31,Tabelas!B:D,3,0),0),\"\")","v":{"$error":"#REF!"}},{"$f":"IF(#REF!<>\"\",IFERROR(VLOOKUP(AE31,Tabelas!B:D,3,0),0),\"\")","v":{"$error":"#REF!"}},{"$f":"IF(#REF!<>\"\",IFERROR(VLOOKUP(AF31,Tabelas!B:D,3,0),0),\"\")","v":{"$error":"#REF!"}},{"$f":"IF(#REF!<>\"\",IFERROR(VLOOKUP(AG31,Tabelas!B:D,3,0),0),\"\")","v":{"$error":"#REF!"}},{"$f":"IF(#REF!<>\"\",IFERROR(VLOOKUP(AH31,Tabelas!B:D,3,0),0),\"\")","v":{"$error":"#REF!"}},{"$f":"IF(#REF!<>\"\",IFERROR(VLOOKUP(AI31,Tabelas!B:D,3,0),0),\"\")","v":{"$error":"#REF!"}},{"$f":"IF(#REF!<>\"\",IFERROR(VLOOKUP(AJ31,Tabelas!B:D,3,0),0),\"\")","v":{"$error":"#REF!"}},{"$f":"IF(#REF!<>\"\",IFERROR(VLOOKUP(AK31,Tabelas!B:D,3,0),0),\"\")","v":{"$error":"#REF!"}},{"$f":"IF(#REF!<>\"\",IFERROR(VLOOKUP(AL31,Tabelas!B:D,3,0),0),\"\")","v":{"$error":"#REF!"}},{"$f":"IF(#REF!<>\"\",IFERROR(VLOOKUP(AM31,Tabelas!B:D,3,0),0),\"\")","v":{"$error":"#REF!"}},{"$f":"IF(#REF!<>\"\",IFERROR(VLOOKUP(AN31,Tabelas!B:D,3,0),0),\"\")","v":{"$error":"#REF!"}},{"$f":"IF(#REF!<>\"\",IFERROR(VLOOKUP(AO31,Tabelas!B:D,3,0),0),\"\")","v":{"$error":"#REF!"}},{"$f":"IF(#REF!<>\"\",IFERROR(VLOOKUP(AP31,Tabelas!B:D,3,0),0),\"\")","v":{"$error":"#REF!"}},{"$f":"IF(#REF!<>\"\",IFERROR(VLOOKUP(AQ31,Tabelas!B:D,3,0),0),\"\")","v":{"$error":"#REF!"}},156,null,{"$f":"IF(#REF!<>\"\",COUNTIF(M31:AQ31,\"AB*\"),\"\")","v":{"$error":"#REF!"}},{"$f":"IF(#REF!<>\"\",COUNTIF(M31:AQ31,\"FE\"),\"\")","v":{"$error":"#REF!"}},{"$f":"IF(#REF!<>\"\",COUNTIF(M31:AQ31,\"LC\"),\"\")","v":{"$error":"#REF!"}},{"$f":"IF(#REF!<>\"\",COUNTIF(M31:AQ31,\"CH*\"),\"\")","v":{"$error":"#REF!"}},{"$f":"IF(#REF!<>\"\",COUNTIF(M31:AQ31,\"AF1\")+COUNTIF(M31:AQ31,\"AF2\")+COUNTIF(M31:AQ31,\"AF3\")+COUNTIF(M31:AQ31,\"AF4\")+COUNTIF(M31:AQ31,\"AF5\")+COUNTIF(M31:AQ31,\"AF6\")+COUNTIF(M31:AQ31,\"AF7\")+COUNTIF(M31:AQ31,\"AF8\")+COUNTIF(M31:AQ31,\"AF9\")+COUNTIF(M31:AQ31,\"AF10\")+COUNTIF(M31:AQ31,\"AF11\")+COUNTIF(M31:AQ31,\"AF12\")+COUNTIF(M31:AQ31,\"AF13\")+COUNTIF(M31:AQ31,\"AF14\"),\"\")","v":{"$error":"#REF!"}},{"$f":"IF(#REF!<>\"\",COUNTIF(M31:AQ31,\"CH*\")+COUNTIF(M31:AQ31,\"L\")+COUNTIF(M31:AQ31,\"LM\")+COUNTIF(M31:AQ31,\"LP\")+COUNTIF(M31:AQ31,\"LC\")+COUNTIF(M31:AQ31,\"AB*\")+COUNTIF(M31:AQ31,\"AF1\")+COUNTIF(M31:AQ31,\"AF2\")+COUNTIF(M31:AQ31,\"AF3\")+COUNTIF(M31:AQ31,\"AF4\")+COUNTIF(M31:AQ31,\"AF5\")+COUNTIF(M31:AQ31,\"AF6\")+COUNTIF(M31:AQ31,\"AF7\")+COUNTIF(M31:AQ31,\"AF8\")+COUNTIF(M31:AQ31,\"AF9\")+COUNTIF(M31:AQ31,\"AF10\")+COUNTIF(M31:AQ31,\"AF11\")+COUNTIF(M31:AQ31,\"AF12\")+COUNTIF(M31:AQ31,\"AF13\")+COUNTIF(M31:AQ31,\"AF14\")+COUNTIF(M31:AQ31,\"RC\")+COUNTIF(M31:AQ31,\"FO\")+COUNTIF(M31:AQ31,\"FE\"),\"\")","v":{"$error":"#REF!"}}]
["Rodolf Pradella",3049071,null,"TE","EBSERH",36,null,null,null,46,null,null,"D6","DSR","D6",null,"D6",null,null,"D6","DSR","D6",null,"D6",null,"D6",null,"D6","DSR","D6",null,null,"D6",null,"DSR","D6",null,null,"D6",null,null,"D6","DSR",{"$f":"IF(#REF!<>\"\",IFERROR(VLOOKUP(M32,Tabelas!B:D,3,0),0),\"\")","v":{"$error":"#REF!"}},{"$f":"IF(#REF!<>\"\",IFERROR(VLOOKUP(N32,Tabelas!B:D,3,0),0),\"\")","v":{"$error":"#REF!"}},{"$f":"IF(#REF!<>\"\",IFERROR(VLOOKUP(O32,Tabelas!B:D,3,0),0),\"\")","v":{"$error":"#REF!"}},{"$f":"IF(#REF!<>\"\",IFERROR(VLOOKUP(P32,Tabelas!B:D,3,0),0),\"\")","v":{"$error":"#REF!"}},{"$f":"IF(#REF!<>\"\",IFERROR(VLOOKUP(Q32,Tabelas!B:D,3,0),0),\"\")","v":{"$error":"#REF!"}},{"$f":"IF(#REF!<>\"\",IFERROR(VLOOKUP(R32,Tabelas!B:D,3,0),0),\"\")","v":{"$error":"#REF!"}},{"$f":"IF(#REF!<>\"\",IFERROR(VLOOKUP(S32,Tabelas!B:D,3,0),0),\"\")","v":{"$error":"#REF!"}},{"$f":"IF(#REF!<>\"\",IFERROR(VLOOKUP(T32,Tabelas!B:D,3,0),0),\"\")","v":{"$error":"#REF!"}},{"$f":"IF(#REF!<>\"\",IFERROR(VLOOKUP(U32,Tabelas!B:D,3,0),0),\"\")","v":{"$error":"#REF!"}},{"$f":"IF(#REF!<>\"\",IFERROR(VLOOKUP(V32,Tabelas!B:D,3,0),0),\"\")","v":{"$error":"#REF!"}},{"$f":"IF(#REF!<>\"\",IFERROR(VLOOKUP(W32,Tabelas!B:D,3,0),0),\"\")","v":{"$error":"#REF!"}},{"$f":"IF(#REF!<>\"\",IFERROR(VLOOKUP(X32,Tabelas!B:D,3,0),0),\"\")","v":{"$error":"#REF!"}},{"$f":"IF(#REF!<>\"\",IFERROR(VLOOKUP(Y32,Tabelas!B:D,3,0),0),\"\")","v":{"$error":"#REF!"}},{"$f":"IF(#REF!<>\"\",IFERROR(VLOOKUP(Z32,Tabelas!B:D,3,0),0),\"\")","v":{"$error":"#REF!"}},{"$f":"IF(#REF!<>\"\",IFERROR(VLOOKUP(AA32,Tabelas!B:D,3,0),0),\"\")","v":{"$error":"#REF!"}},{"$f":"IF(#REF!<>\"\",IFERROR(VLOOKUP(AB32,Tabelas!B:D,3,0),0),\"\")","v":{"$error":"#REF!"}},{"$f":"IF(#REF!<>\"\",IFERROR(VLOOKUP(AC32,Tabelas!B:D,3,0),0),\"\")","v":{"$error":"#REF!"}},{"$f":"IF(#REF!<>\"\",IFERROR(VLOOKUP(AD32,Tabelas!B:D,3,0),0),\"\")","v":{"$error":"#REF!"}},{"$f":"IF(#REF!<>\"\",IFERROR(VLOOKUP(AE32,Tabelas!B:D,3,0),0),\"\")","v":{"$error":"#REF!"}},{"$f":"IF(#REF!<>\"\",IFERROR(VLOOKUP(AF32,Tabelas!B:D,3,0),0),\"\")","v":{"$error":"#REF!"}},{"$f":"IF(#REF!<>\"\",IFERROR(VLOOKUP(AG32,Tabelas!B:D,3,0),0),\"\")","v":{"$error":"#REF!"}},{"$f":"IF(#REF!<>\"\",IFERROR(VLOOKUP(AH32,Tabelas!B:D,3,0),0),\"\")","v":{"$error":"#REF!"}},{"$f":"IF(#REF!<>\"\",IFERROR(VLOOKUP(AI32,Tabelas!B:D,3,0),0),\"\")","v":{"$error":"#REF!"}},{"$f":"IF(#REF!<>\"\",IFERROR(VLOOKUP(AJ32,Tabelas!B:D,3,0),0),\"\")","v":{"$error":"#REF!"}},{"$f":"IF(#REF!<>\"\",IFERROR(VLOOKUP(AK32,Tabelas!B:D,3,0),0),\"\")","v":{"$error":"#REF!"}},{"$f":"IF(#REF!<>\"\",IFERROR(VLOOKUP(AL32,Tabelas!B:D,3,0),0),\"\")","v":{"$error":"#REF!"}},{"$f":"IF(#REF!<>\"\",IFERROR(VLOOKUP(AM32,Tabelas!B:D,3,0),0),\"\")","v":{"$error":"#REF!"}},{"$f":"IF(#REF!<>\"\",IFERROR(VLOOKUP(AN32,Tabelas!B:D,3,0),0),\"\")","v":{"$error":"#REF!"}},{"$f":"IF(#REF!<>\"\",IFERROR(VLOOKUP(AO32,Tabelas!B:D,3,0),0),\"\")","v":{"$error":"#REF!"}},{"$f":"IF(#REF!<>\"\",IFERROR(VLOOKUP(AP32,Tabelas!B:D,3,0),0),\"\")","v":{"$error":"#REF!"}},{"$f":"IF(#REF!<>\"\",IFERROR(VLOOKUP(AQ32,Tabelas!B:D,3,0),0),\"\")","v":{"$error":"#REF!"}},156,null,{"$f":"IF(#REF!<>\"\",COUNTIF(M32:AQ32,\"AB*\"),\"\")","v":{"$error":"#REF!"}},{"$f":"IF(#REF!<>\"\",COUNTIF(M32:AQ32,\"FE\"),\"\")","v":{"$error":"#REF!"}},{"$f":"IF(#REF!<>\"\",COUNTIF(M32:AQ32,\"LC\"),\"\")","v":{"$error":"#REF!"}},{"$f":"IF(#REF!<>\"\",COUNTIF(M32:AQ32,\"CH*\"),\"\")","v":{"$error":"#REF!"}},{"$f":"IF(#REF!<>\"\",COUNTIF(M32:AQ32,\"AF1\")+COUNTIF(M32:AQ32,\"AF2\")+COUNTIF(M32:AQ32,\"AF3\")+COUNTIF(M32:AQ32,\"AF4\")+COUNTIF(M32:AQ32,\"AF5\")+COUNTIF(M32:AQ32,\"AF6\")+COUNTIF(M32:AQ32,\"AF7\")+COUNTIF(M32:AQ32,\"AF8\")+COUNTIF(M32:AQ32,\"AF9\")+COUNTIF(M32:AQ32,\"AF10\")+COUNTIF(M32:AQ32,\"AF11\")+COUNTIF(M32:AQ32,\"AF12\")+COUNTIF(M32:AQ32,\"AF13\")+COUNTIF(M32:AQ32,\"AF14\"),\"\")","v":{"$error":"#REF!"}},{"$f":"IF(#REF!<>\"\",COUNTIF(M32:AQ32,\"CH*\")+COUNTIF(M32:AQ32,\"L\")+COUNTIF(M32:AQ32,\"LM\")+COUNTIF(M32:AQ32,\"LP\")+COUNTIF(M32:AQ32,\"LC\")+COUNTIF(M32:AQ32,\"AB*\")+COUNTIF(M32:AQ32,\"AF1\")+COUNTIF(M32:AQ32,\"AF2\")+COUNTIF(M32:AQ32,\"AF3\")+COUNTIF(M32:AQ32,\"AF4\")+COUNTIF(M32:AQ32,\"AF5\")+COUNTIF(M32:AQ32,\"AF6\")+COUNTIF(M32:AQ32,\"AF7\")+COUNTIF(M32:AQ32,\"AF8\")+COUNTIF(M32:AQ32,\"AF9\")+COUNTIF(M32:AQ32,\"AF10\")+COUNTIF(M32:AQ32,\"AF11\")+COUNTIF(M32:AQ32,\"AF12\")+COUNTIF(M32:AQ32,\"AF13\")+COUNTIF(M32:AQ32,\"AF14\")+COUNTIF(M32:AQ32,\"RC\")+COUNTIF(M32:AQ32,\"FO\")+COUNTIF(M32:AQ32,\"FE\"),\"\")","v":{"$error":"#REF!"}}]
["Elaine Cristina Wouff",null,null,null,null,null,null,null,null,null,null,null,null,null,null,null,null,null,"M15",null,null,null,"D6",null,null,"D6",null,"D6",null,"D6",null,"D6","N8",null,null,"N8",null,"D6",null,null,"D6",null,"D6"]
["Josiane Marilene Richeter",null,null,null,null,null,null,null,null,null,null,null,null,null,null,null,null,null,"M15",null,null,"M15","M15","M15","M15","M15","D6",null,"M15","M15","M15","M15","M15",null,"D6","M15","M15","M15","M15","M15",null,null,"M15"]
["Tatiane Casagrande",null,null,null,null,null,null,null,null,null,null,null,null,null,null,null,null,null,"M15",null,null,"D6",null,"D6",null,null,"D6",null,null,"D6",null,null,"D6","D6",null,"D6","D6",null,null,"D6",null,"D6"]
["Shirley Machado",null,null,null,null,null,null,null,null,null,null,null,null,null,null,null,null,null,"M15",null,null,"D6","D6",null,"D6",null,null,null,"D6",null,"D6",null,null,null,"D6",null,null,"D6","D6",null,"D6",null,"D6"]
["Tania Maria Fae",3192566,null,"TE","EBSERH",36,null,null,null,47,null,null,"DSR","D6","DSR","D6",null,"D6",null,"D6","DSR",null,"D6",null,"D6",null,null,"DSR","D6",null,"D6",null,"D6",null,"D6","DSR","D6",null,null,null,"D6","D6","DSR",{"$f":"IF(#REF!<>\"\",IFERROR(VLOOKUP(M37,Tabelas!B:D,3,0),0),\"\")","v":{"$error":"#REF!"}},{"$f":"IF(#REF!<>\"\",IFERROR(VLOOKUP(N37,Tabelas!B:D,3,0),0),\"\")","v":{"$error":"#REF!"}},{"$f":"IF(#REF!<>\"\",IFERROR(VLOOKUP(O37,Tabelas!B:D,3,0),0),\"\")","v":{"$error":"#REF!"}},{"$f":"IF(#REF!<>\"\",IFERROR(VLOOKUP(P37,Tabelas!B:D,3,0),0),\"\")","v":{"$error":"#REF!"}},{"$f":"IF(#REF!<>\"\",IFERROR(VLOOKUP(Q37,Tabelas!B:D,3,0),0),\"\")","v":{"$error":"#REF!"}},{"$f":"IF(#REF!<>\"\",IFERROR(VLOOKUP(R37,Tabelas!B:D,3,0),0),\"\")","v":{"$error":"#REF!"}},{"$f":"IF(#REF!<>\"\",IFERROR(VLOOKUP(S37,Tabelas!B:D,3,0),0),\"\")","v":{"$error":"#REF!"}},{"$f":"IF(#REF!<>\"\",IFERROR(VLOOKUP(T37,Tabelas!B:D,3,0),0),\"\")","v":{"$error":"#REF!"}},{"$f":"IF(#REF!<>\"\",IFERROR(VLOOKUP(U37,Tabelas!B:D,3,0),0),\"\")","v":{"$error":"#REF!"}},{"$f":"IF(#REF!<>\"\",IFERROR(VLOOKUP(V37,Tabelas!B:D,3,0),0),\"\")","v":{"$error":"#REF!"}},{"$f":"IF(#REF!<>\"\",IFERROR(VLOOKUP(W37,Tabelas!B:D,3,0),0),\"\")","v":{"$error":"#REF!"}},{"$f":"IF(#REF!<>\"\",IFERROR(VLOOKUP(X37,Tabelas!B:D,3,0),0),\"\")","v":{"$error":"#REF!"}},{"$f":"IF(#REF!<>\"\",IFERROR(VLOOKUP(Y37,Tabelas!B:D,3,0),0),\"\")","v":{"$error":"#REF!"}},{"$f":"IF(#REF!<>\"\",IFERROR(VLOOKUP(Z37,Tabelas!B:D,3,0),0),\"\")","v":{"$error":"#REF!"}},{"$f":"IF(#REF!<>\"\",IFERROR(VLOOKUP(AA37,Tabelas!B:D,3,0),0),\"\")","v":{"$error":"#REF!"}},{"$f":"IF(#REF!<>\"\",IFERROR(VLOOKUP(AB37,Tabelas!B:D,3,0),0),\"\")","v":{"$error":"#REF!"}},{"$f":"IF(#REF!<>\"\",IFERROR(VLOOKUP(AC37,Tabelas!B:D,3,0),0),\"\")","v":{"$error":"#REF!"}},{"$f":"IF(#REF!<>\"\",IFERROR(VLOOKUP(AD37,Tabelas!B:D,3,0),0),\"\")","v":{"$error":"#REF!"}},{"$f":"IF(#REF!<>\"\",IFERROR(VLOOKUP(AE37,Tabelas!B:D,3,0),0),\"\")","v":{"$error":"#REF!"}},{"$f":"IF(#REF!<>\"\",IFERROR(VLOOKUP(AF37,Tabelas!B:D,3,0),0),\"\")","v":{"$error":"#REF!"}},{"$f":"IF(#REF!<>\"\",IFERROR(VLOOKUP(AG37,Tabelas!B:D,3,0),0),\"\")","v":{"$error":"#REF!"}},{"$f":"IF(#REF!<>\"\",IFERROR(VLOOKUP(AH37,Tabelas!B:D,3,0),0),\"\")","v":{"$error":"#REF!"}},{"$f":"IF(#REF!<>\"\",IFERROR(VLOOKUP(AI37,Tabelas!B:D,3,0),0),\"\")","v":{"$error":"#REF!"}},{"$f":"IF(#REF!<>\"\",IFERROR(VLOOKUP(AJ37,Tabelas!B:D,3,0),0),\"\")","v":{"$error":"#REF!"}},{"$f":"IF(#REF!<>\"\",IFERROR(VLOOKUP(AK37,Tabelas!B:D,3,0),0),\"\")","v":{"$error":"#REF!"}},{"$f":"IF(#REF!<>\"\",IFERROR(VLOOKUP(AL37,Tabelas!B:D,3,0),0),\"\")","v":{"$error":"#REF!"}},{"$f":"IF(#REF!<>\"\",IFERROR(VLOOKUP(AM37,Tabelas!B:D,3,0),0),\"\")","v":{"$error":"#REF!"}},{"$f":"IF(#REF!<>\"\",IFERROR(VLOOKUP(AN37,Tabelas!B:D,3,0),0),\"\")","v":{"$error":"#REF!"}},{"$f":"IF(#REF!<>\"\",IFERROR(VLOOKUP(AO37,Tabelas!B:D,3,0),0),\"\")","v":{"$error":"#REF!"}},{"$f":"IF(#REF!<>\"\",IFERROR(VLOOKUP(AP37,Tabelas!B:D,3,0),0),\"\")","v":{"$error":"#REF!"}},{"$f":"IF(#REF!<>\"\",IFERROR(VLOOKUP(AQ37,Tabelas!B:D,3,0),0),\"\")","v":{"$error":"#REF!"}},156,null,{"$f":"IF(#REF!<>\"\",COUNTIF(M37:AQ37,\"AB*\"),\"\")","v":{"$error":"#REF!"}},{"$f":"IF(#REF!<>\"\",COUNTIF(M37:AQ37,\"FE\"),\"\")","v":{"$error":"#REF!"}},{"$f":"IF(#REF!<>\"\",COUNTIF(M37:AQ37,\"LC\"),\"\")","v":{"$error":"#REF!"}},{"$f":"IF(#REF!<>\"\",COUNTIF(M37:AQ37,\"CH*\"),\"\")","v":{"$error":"#REF!"}},{"$f":"IF(#REF!<>\"\",COUNTIF(M37:AQ37,\"AF1\")+COUNTIF(M37:AQ37,\"AF2\")+COUNTIF(M37:AQ37,\"AF3\")+COUNTIF(M37:AQ37,\"AF4\")+COUNTIF(M37:AQ37,\"AF5\")+COUNTIF(M37:AQ37,\"AF6\")+COUNTIF(M37:AQ37,\"AF7\")+COUNTIF(M37:AQ37,\"AF8\")+COUNTIF(M37:AQ37,\"AF9\")+COUNTIF(M37:AQ37,\"AF10\")+COUNTIF(M37:AQ37,\"AF11\")+COUNTIF(M37:AQ37,\"AF12\")+COUNTIF(M37:AQ37,\"AF13\")+COUNTIF(M37:AQ37,\"AF14\"),\"\")","v":{"$error":"#REF!"}},{"$f":"IF(#REF!<>\"\",COUNTIF(M37:AQ37,\"CH*\")+COUNTIF(M37:AQ37,\"L\")+COUNTIF(M37:AQ37,\"LM\")+COUNTIF(M37:AQ37,\"LP\")+COUNTIF(M37:AQ37,\"LC\")+COUNTIF(M37:AQ37,\"AB*\")+COUNTIF(M37:AQ37,\"AF1\")+COUNTIF(M37:AQ37,\"AF2\")+COUNTIF(M37:AQ37,\"AF3\")+COUNTIF(M37:AQ37,\"AF4\")+COUNTIF(M37:AQ37,\"AF5\")+COUNTIF(M37:AQ37,\"AF6\")+COUNTIF(M37:AQ37,\"AF7\")+COUNTIF(M37:AQ37,\"AF8\")+COUNTIF(M37:AQ37,\"AF9\")+COUNTIF(M37:AQ37,\"AF10\")+COUNTIF(M37:AQ37,\"AF11\")+COUNTIF(M37:AQ37,\"AF12\")+COUNTIF(M37:AQ37,\"AF13\")+COUNTIF(M37:AQ37,\"AF14\")+COUNTIF(M37:AQ37,\"RC\")+COUNTIF(M37:AQ37,\"FO\")+COUNTIF(M37:AQ37,\"FE\"),\"\")","v":{"$error":"#REF!"}}]
["TE/AUX NOTURNO"]
["Ana Claudia Pinto Brandão",3126952,null,"TE","EBSERH",36,null,null,null,48,53,null,null,"N8","DSR","N8",null,"N8",null,"N8","DSR","N8","N8",null,null,"N8",null,"DSR","N8",null,null,"N8",null,null,"N8","DSR",null,"N8",null,"N8",null,"DSR","D6"]
["Karina Mendes",3192532,null,"TE","EBSERH",36,null,null,null,null,54,null,"N8","DSR","N8",null,"N8",null,"N8","N8","DSR",null,"N8",null,null,"N8",null,"DSR","N8",null,"N8",null,null,"N8","DSR",null,null,null,"N8",null,"N8","DSR","N8"]
["Yara Filomena Werner da Silva",1519087,null,"TE","EBSERH",36,null,null,null,null,55,null,"N8","DSR","CH-12","N8",null,null,"N8",null,"DSR","N8",null,null,"N8",null,null,"N8","DSR",null,"N8",null,null,"N8","DSR",null,"N8",null,null,"N8","N8","DSR","N8",{"$f":"IF(#REF!<>\"\",IFERROR(VLOOKUP(M41,Tabelas!B:D,3,0),0),\"\")","v":{"$error":"#REF!"}},{"$f":"IF(#REF!<>\"\",IFERROR(VLOOKUP(N41,Tabelas!B:D,3,0),0),\"\")","v":{"$error":"#REF!"}},{"$f":"IF(#REF!<>\"\",IFERROR(VLOOKUP(O41,Tabelas!B:D,3,0),0),\"\")","v":{"$error":"#REF!"}},{"$f":"IF(#REF!<>\"\",IFERROR(VLOOKUP(P41,Tabelas!B:D,3,0),0),\"\")","v":{"$error":"#REF!"}},{"$f":"IF(#REF!<>\"\",IFERROR(VLOOKUP(Q41,Tabelas!B:D,3,0),0),\"\")","v":{"$error":"#REF!"}},{"$f":"IF(#REF!<>\"\",IFERROR(VLOOKUP(R41,Tabelas!B:D,3,0),0),\"\")","v":{"$error":"#REF!"}},{"$f":"IF(#REF!<>\"\",IFERROR(VLOOKUP(S41,Tabelas!B:D,3,0),0),\"\")","v":{"$error":"#REF!"}},{"$f":"IF(#REF!<>\"\",IFERROR(VLOOKUP(T41,Tabelas!B:D,3,0),0),\"\")","v":{"$error":"#REF!"}},{"$f":"IF(#REF!<>\"\",IFERROR(VLOOKUP(U41,Tabelas!B:D,3,0),0),\"\")","v":{"$error":"#REF!"}},{"$f":"IF(#REF!<>\"\",IFERROR(VLOOKUP(V41,Tabelas!B:D,3,0),0),\"\")","v":{"$error":"#REF!"}},{"$f":"IF(#REF!<>\"\",IFERROR(VLOOKUP(W41,Tabelas!B:D,3,0),0),\"\")","v":{"$error":"#REF!"}},{"$f":"IF(#REF!<>\"\",IFERROR(VLOOKUP(X41,Tabelas!B:D,3,0),0),\"\")","v":{"$error":"#REF!"}},{"$f":"IF(#REF!<>\"\",IFERROR(VLOOKUP(Y41,Tabelas!B:D,3,0),0),\"\")","v":{"$error":"#REF!"}},{"$f":"IF(#REF!<>\"\",IFERROR(VLOOKUP(Z41,Tabelas!B:D,3,0),0),\"\")","v":{"$error":"#REF!"}},{"$f":"IF(#REF!<>\"\",IFERROR(VLOOKUP(AA41,Tabelas!B:D,3,0),0),\"\")","v":{"$error":"#REF!"}},{"$f":"IF(#REF!<>\"\",IFERROR(VLOOKUP(AB41,Tabelas!B:D,3,0),0),\"\")","v":{"$error":"#REF!"}},{"$f":"IF(#REF!<>\"\",IFERROR(VLOOKUP(AC41,Tabelas!B:D,3,0),0),\"\")","v":{"$error":"#REF!"}},{"$f":"IF(#REF!<>\"\",IFERROR(VLOOKUP(AD41,Tabelas!B:D,3,0),0),\"\")","v":{"$error":"#REF!"}},{"$f":"IF(#REF!<>\"\",IFERROR(VLOOKUP(AE41,Tabelas!B:D,3,0),0),\"\")","v":{"$error":"#REF!"}},{"$f":"IF(#REF!<>\"\",IFERROR(VLOOKUP(AF41,Tabelas!B:D,3,0),0),\"\")","v":{"$error":"#REF!"}},{"$f":"IF(#REF!<>\"\",IFERROR(VLOOKUP(AG41,Tabelas!B:D,3,0),0),\"\")","v":{"$error":"#REF!"}},{"$f":"IF(#REF!<>\"\",IFERROR(VLOOKUP(AH41,Tabelas!B:D,3,0),0),\"\")","v":{"$error":"#REF!"}},{"$f":"IF(#REF!<>\"\",IFERROR(VLOOKUP(AI41,Tabelas!B:D,3,0),0),\"\")","v":{"$error":"#REF!"}},{"$f":"IF(#REF!<>\"\",IFERROR(VLOOKUP(AJ41,Tabelas!B:D,3,0),0),\"\")","v":{"$error":"#REF!"}},{"$f":"IF(#REF!<>\"\",IFERROR(VLOOKUP(AK41,Tabelas!B:D,3,0),0),\"\")","v":{"$error":"#REF!"}},{"$f":"IF(#REF!<>\"\",IFERROR(VLOOKUP(AL41,Tabelas!B:D,3,0),0),\"\")","v":{"$error":"#REF!"}},{"$f":"IF(#REF!<>\"\",IFERROR(VLOOKUP(AM41,Tabelas!B:D,3,0),0),\"\")","v":{"$error":"#REF!"}},{"$f":"IF(#REF!<>\"\",IFERROR(VLOOKUP(AN41,Tabelas!B:D,3,0),0),\"\")","v":{"$error":"#REF!"}},{"$f":"IF(#REF!<>\"\",IFERROR(VLOOKUP(AO41,Tabelas!B:D,3,0),0),\"\")","v":{"$error":"#REF!"}},{"$f":"IF(#REF!<>\"\",IFERROR(VLOOKUP(AP41,Tabelas!B:D,3,0),0),\"\")","v":{"$error":"#REF!"}},{"$f":"IF(#REF!<>\"\",IFERROR(VLOOKUP(AQ41,Tabelas!B:D,3,0),0),\"\")","v":{"$error":"#REF!"}},144,null,{"$f":"IF(#REF!<>\"\",COUNTIF(M41:AQ41,\"AB*\"),\"\")","v":{"$error":"#REF!"}},{"$f":"IF(#REF!<>\"\",COUNTIF(M41:AQ41,\"FE\"),\"\")","v":{"$error":"#REF!"}},{"$f":"IF(#REF!<>\"\",COUNTIF(M41:AQ41,\"LC\"),\"\")","v":{"$error":"#REF!"}},{"$f":"IF(#REF!<>\"\",COUNTIF(M41:AQ41,\"CH*\"),\"\")","v":{"$error":"#REF!"}},{"$f":"IF(#REF!<>\"\",COUNTIF(M41:AQ41,\"AF1\")+COUNTIF(M41:AQ41,\"AF2\")+COUNTIF(M41:AQ41,\"AF3\")+COUNTIF(M41:AQ41,\"AF4\")+COUNTIF(M41:AQ41,\"AF5\")+COUNTIF(M41:AQ41,\"AF6\")+COUNTIF(M41:AQ41,\"AF7\")+COUNTIF(M41:AQ41,\"AF8\")+COUNTIF(M41:AQ41,\"AF9\")+COUNTIF(M41:AQ41,\"AF10\")+COUNTIF(M41:AQ41,\"AF11\")+COUNTIF(M41:AQ41,\"AF12\")+COUNTIF(M41:AQ41,\"AF13\")+COUNTIF(M41:AQ41,\"AF14\"),\"\")","v":{"$error":"#REF!"}},{"$f":"IF(#REF!<>\"\",COUNTIF(M41:AQ41,\"CH*\")+COUNTIF(M41:AQ41,\"L\")+COUNTIF(M41:AQ41,\"LM\")+COUNTIF(M41:AQ41,\"LP\")+COUNTIF(M41:AQ41,\"LC\")+COUNTIF(M41:AQ41,\"AB*\")+COUNTIF(M41:AQ41,\"AF1\")+COUNTIF(M41:AQ41,\"AF2\")+COUNTIF(M41:AQ41,\"AF3\")+COUNTIF(M41:AQ41,\"AF4\")+COUNTIF(M41:AQ41,\"AF5\")+COUNTIF(M41:AQ41,\"AF6\")+COUNTIF(M41:AQ41,\"AF7\")+COUNTIF(M41:AQ41,\"AF8\")+COUNTIF(M41:AQ41,\"AF9\")+COUNTIF(M41:AQ41,\"AF10\")+COUNTIF(M41:AQ41,\"AF11\")+COUNTIF(M41:AQ41,\"AF12\")+COUNTIF(M41:AQ41,\"AF13\")+COUNTIF(M41:AQ41,\"AF14\")+COUNTIF(M41:AQ41,\"RC\")+COUNTIF(M41:AQ41,\"FO\")+COUNTIF(M41:AQ41,\"FE\"),\"\")","v":{"$error":"#REF!"}}]
["Maria Lucicleide Silva Modesto",3190403,null,"TE","EBSERH",36,null,null,null,null,54,null,null,"N8",null,null,"N8",null,"CH-12","N8","DSR",null,null,"N8",null,"N8",null,"DSR","N8",null,null,"N8",null,null,"N8","DSR","N8",null,null,null,"N8","DSR","N8",{"$f":"IF(#REF!<>\"\",IFERROR(VLOOKUP(M42,Tabelas!B:D,3,0),0),\"\")","v":{"$error":"#REF!"}},{"$f":"IF(#REF!<>\"\",IFERROR(VLOOKUP(N42,Tabelas!B:D,3,0),0),\"\")","v":{"$error":"#REF!"}},{"$f":"IF(#REF!<>\"\",IFERROR(VLOOKUP(O42,Tabelas!B:D,3,0),0),\"\")","v":{"$error":"#REF!"}},{"$f":"IF(#REF!<>\"\",IFERROR(VLOOKUP(P42,Tabelas!B:D,3,0),0),\"\")","v":{"$error":"#REF!"}},{"$f":"IF(#REF!<>\"\",IFERROR(VLOOKUP(Q42,Tabelas!B:D,3,0),0),\"\")","v":{"$error":"#REF!"}},{"$f":"IF(#REF!<>\"\",IFERROR(VLOOKUP(R42,Tabelas!B:D,3,0),0),\"\")","v":{"$error":"#REF!"}},{"$f":"IF(#REF!<>\"\",IFERROR(VLOOKUP(S42,Tabelas!B:D,3,0),0),\"\")","v":{"$error":"#REF!"}},{"$f":"IF(#REF!<>\"\",IFERROR(VLOOKUP(T42,Tabelas!B:D,3,0),0),\"\")","v":{"$error":"#REF!"}},{"$f":"IF(#REF!<>\"\",IFERROR(VLOOKUP(U42,Tabelas!B:D,3,0),0),\"\")","v":{"$error":"#REF!"}},{"$f":"IF(#REF!<>\"\",IFERROR(VLOOKUP(V42,Tabelas!B:D,3,0),0),\"\")","v":{"$error":"#REF!"}},{"$f":"IF(#REF!<>\"\",IFERROR(VLOOKUP(W42,Tabelas!B:D,3,0),0),\"\")","v":{"$error":"#REF!"}},{"$f":"IF(#REF!<>\"\",IFERROR(VLOOKUP(X42,Tabelas!B:D,3,0),0),\"\")","v":{"$error":"#REF!"}},{"$f":"IF(#REF!<>\"\",IFERROR(VLOOKUP(Y42,Tabelas!B:D,3,0),0),\"\")","v":{"$error":"#REF!"}},{"$f":"IF(#REF!<>\"\",IFERROR(VLOOKUP(Z42,Tabelas!B:D,3,0),0),\"\")","v":{"$error":"#REF!"}},{"$f":"IF(#REF!<>\"\",IFERROR(VLOOKUP(AA42,Tabelas!B:D,3,0),0),\"\")","v":{"$error":"#REF!"}},{"$f":"IF(#REF!<>\"\",IFERROR(VLOOKUP(AB42,Tabelas!B:D,3,0),0),\"\")","v":{"$error":"#REF!"}},{"$f":"IF(#REF!<>\"\",IFERROR(VLOOKUP(AC42,Tabelas!B:D,3,0),0),\"\")","v":{"$error":"#REF!"}},{"$f":"IF(#REF!<>\"\",IFERROR(VLOOKUP(AD42,Tabelas!B:D,3,0),0),\"\")","v":{"$error":"#REF!"}},{"$f":"IF(#REF!<>\"\",IFERROR(VLOOKUP(AE42,Tabelas!B:D,3,0),0),\"\")","v":{"$error":"#REF!"}},{"$f":"IF(#REF!<>\"\",IFERROR(VLOOKUP(AF42,Tabelas!B:D,3,0),0),\"\")","v":{"$error":"#REF!"}},{"$f":"IF(#REF!<>\"\",IFERROR(VLOOKUP(AG42,Tabelas!B:D,3,0),0),\"\")","v":{"$error":"#REF!"}},{"$f":"IF(#REF!<>\"\",IFERROR(VLOOKUP(AH42,Tabelas!B:D,3,0),0),\"\")","v":{"$error":"#REF!"}},{"$f":"IF(#REF!<>\"\",IFERROR(VLOOKUP(AI42,Tabelas!B:D,3,0),0),\"\")","v":{"$error":"#REF!"}},{"$f":"IF(#REF!<>\"\",IFERROR(VLOOKUP(AJ42,Tabelas!B:D,3,0),0),\"\")","v":{"$error":"#REF!"}},{"$f":"IF(#REF!<>\"\",IFERROR(VLOOKUP(AK42,Tabelas!B:D,3,0),0),\"\")","v":{"$error":"#REF!"}},{"$f":"IF(#REF!<>\"\",IFERROR(VLOOKUP(AL42,Tabelas!B:D,3,0),0),\"\")","v":{"$error":"#REF!"}},{"$f":"IF(#REF!<>\"\",IFERROR(VLOOKUP(AM42,Tabelas!B:D,3,0),0),\"\")","v":{"$error":"#REF!"}},{"$f":"IF(#REF!<>\"\",IFERROR(VLOOKUP(AN42,Tabelas!B:D,3,0),0),\"\")","v":{"$error":"#REF!"}},{"$f":"IF(#REF!<>\"\",IFERROR(VLOOKUP(AO42,Tabelas!B:D,3,0),0),\"\")","v":{"$error":"#REF!"}},{"$f":"IF(#REF!<>\"\",IFERROR(VLOOKUP(AP42,Tabelas!B:D,3,0),0),\"\")","v":{"$error":"#REF!"}},{"$f":"IF(#REF!<>\"\",IFERROR(VLOOKUP(AQ42,Tabelas!B:D,3,0),0),\"\")","v":{"$error":"#REF!"}},144,null,{"$f":"IF(#REF!<>\"\",COUNTIF(M42:AQ42,\"AB*\"),\"\")","v":{"$error":"#REF!"}},{"$f":"IF(#REF!<>\"\",COUNTIF(M42:AQ42,\"FE\"),\"\")","v":{"$error":"#REF!"}},{"$f":"IF(#REF!<>\"\",COUNTIF(M42:AQ42,\"LC\"),\"\")","v":{"$error":"#REF!"}},{"$f":"IF(#REF!<>\"\",COUNTIF(M42:AQ42,\"CH*\"),\"\")","v":{"$error":"#REF!"}},{"$f":"IF(#REF!<>\"\",COUNTIF(M42:AQ42,\"AF1\")+COUNTIF(M42:AQ42,\"AF2\")+COUNTIF(M42:AQ42,\"AF3\")+COUNTIF(M42:AQ42,\"AF4\")+COUNTIF(M42:AQ42,\"AF5\")+COUNTIF(M42:AQ42,\"AF6\")+COUNTIF(M42:AQ42,\"AF7\")+COUNTIF(M42:AQ42,\"AF8\")+COUNTIF(M42:AQ42,\"AF9\")+COUNTIF(M42:AQ42,\"AF10\")+COUNTIF(M42:AQ42,\"AF11\")+COUNTIF(M42:AQ42,\"AF12\")+COUNTIF(M42:AQ42,\"AF13\")+COUNTIF(M42:AQ42,\"AF14\"),\"\")","v":{"$error":"#REF!"}},{"$f":"IF(#REF!<>\"\",COUNTIF(M42:AQ42,\"CH*\")+COUNTIF(M42:AQ42,\"L\")+COUNTIF(M42:AQ42,\"LM\")+COUNTIF(M42:AQ42,\"LP\")+COUNTIF(M42:AQ42,\"LC\")+COUNTIF(M42:AQ42,\"AB*\")+COUNTIF(M42:AQ42,\"AF1\")+COUNTIF(M42:AQ42,\"AF2\")+COUNTIF(M42:AQ42,\"AF3\")+COUNTIF(M42:AQ42,\"AF4\")+COUNTIF(M42:AQ42,\"AF5\")+COUNTIF(M42:AQ42,\"AF6\")+COUNTIF(M42:AQ42,\"AF7\")+COUNTIF(M42:AQ42,\"AF8\")+COUNTIF(M42:AQ42,\"AF9\")+COUNTIF(M42:AQ42,\"AF10\")+COUNTIF(M42:AQ42,\"AF11\")+COUNTIF(M42:AQ42,\"AF12\")+COUNTIF(M42:AQ42,\"AF13\")+COUNTIF(M42:AQ42,\"AF14\")+COUNTIF(M42:AQ42,\"RC\")+COUNTIF(M42:AQ42,\"FO\")+COUNTIF(M42:AQ42,\"FE\"),\"\")","v":{"$error":"#REF!"}}]
["Michelli Melo da Rosa",2083377,348457,"TE","RJU",30,null,null,null,null,55,null,null,"DSR","N8",null,null,"N8",null,null,"N8","DSR",null,"N8",null,null,"N8","DSR",null,"N8",null,null,"N8",null,"DSR","N8",null,null,"N8",null,null,"N8","DSR",{"$f":"IF(#REF!<>\"\",IFERROR(VLOOKUP(M43,Tabelas!B:D,3,0),0),\"\")","v":{"$error":"#REF!"}},{"$f":"IF(#REF!<>\"\",IFERROR(VLOOKUP(N43,Tabelas!B:D,3,0),0),\"\")","v":{"$error":"#REF!"}},{"$f":"IF(#REF!<>\"\",IFERROR(VLOOKUP(O43,Tabelas!B:D,3,0),0),\"\")","v":{"$error":"#REF!"}},{"$f":"IF(#REF!<>\"\",IFERROR(VLOOKUP(P43,Tabelas!B:D,3,0),0),\"\")","v":{"$error":"#REF!"}},{"$f":"IF(#REF!<>\"\",IFERROR(VLOOKUP(Q43,Tabelas!B:D,3,0),0),\"\")","v":{"$error":"#REF!"}},{"$f":"IF(#REF!<>\"\",IFERROR(VLOOKUP(R43,Tabelas!B:D,3,0),0),\"\")","v":{"$error":"#REF!"}},{"$f":"IF(#REF!<>\"\",IFERROR(VLOOKUP(S43,Tabelas!B:D,3,0),0),\"\")","v":{"$error":"#REF!"}},{"$f":"IF(#REF!<>\"\",IFERROR(VLOOKUP(T43,Tabelas!B:D,3,0),0),\"\")","v":{"$error":"#REF!"}},{"$f":"IF(#REF!<>\"\",IFERROR(VLOOKUP(U43,Tabelas!B:D,3,0),0),\"\")","v":{"$error":"#REF!"}},{"$f":"IF(#REF!<>\"\",IFERROR(VLOOKUP(V43,Tabelas!B:D,3,0),0),\"\")","v":{"$error":"#REF!"}},{"$f":"IF(#REF!<>\"\",IFERROR(VLOOKUP(W43,Tabelas!B:D,3,0),0),\"\")","v":{"$error":"#REF!"}},{"$f":"IF(#REF!<>\"\",IFERROR(VLOOKUP(X43,Tabelas!B:D,3,0),0),\"\")","v":{"$error":"#REF!"}},{"$f":"IF(#REF!<>\"\",IFERROR(VLOOKUP(Y43,Tabelas!B:D,3,0),0),\"\")","v":{"$error":"#REF!"}},{"$f":"IF(#REF!<>\"\",IFERROR(VLOOKUP(Z43,Tabelas!B:D,3,0),0),\"\")","v":{"$error":"#REF!"}},{"$f":"IF(#REF!<>\"\",IFERROR(VLOOKUP(AA43,Tabelas!B:D,3,0),0),\"\")","v":{"$error":"#REF!"}},{"$f":"IF(#REF!<>\"\",IFERROR(VLOOKUP(AB43,Tabelas!B:D,3,0),0),\"\")","v":{"$error":"#REF!"}},{"$f":"IF(#REF!<>\"\",IFERROR(VLOOKUP(AC43,Tabelas!B:D,3,0),0),\"\")","v":{"$error":"#REF!"}},{"$f":"IF(#REF!<>\"\",IFERROR(VLOOKUP(AD43,Tabelas!B:D,3,0),0),\"\")","v":{"$error":"#REF!"}},{"$f":"IF(#REF!<>\"\",IFERROR(VLOOKUP(AE43,Tabelas!B:D,3,0),0),\"\")","v":{"$error":"#REF!"}},{"$f":"IF(#REF!<>\"\",IFERROR(VLOOKUP(AF43,Tabelas!B:D,3,0),0),\"\")","v":{"$error":"#REF!"}},{"$f":"IF(#REF!<>\"\",IFERROR(VLOOKUP(AG43,Tabelas!B:D,3,0),0),\"\")","v":{"$error":"#REF!"}},{"$f":"IF(#REF!<>\"\",IFERROR(VLOOKUP(AH43,Tabelas!B:D,3,0),0),\"\")","v":{"$error":"#REF!"}},{"$f":"IF(#REF!<>\"\",IFERROR(VLOOKUP(AI43,Tabelas!B:D,3,0),0),\"\")","v":{"$error":"#REF!"}},{"$f":"IF(#REF!<>\"\",IFERROR(VLOOKUP(AJ43,Tabelas!B:D,3,0),0),\"\")","v":{"$error":"#REF!"}},{"$f":"IF(#REF!<>\"\",IFERROR(VLOOKUP(AK43,Tabelas!B:D,3,0),0),\"\")","v":{"$error":"#REF!"}},{"$f":"IF(#REF!<>\"\",IFERROR(VLOOKUP(AL43,Tabelas!B:D,3,0),0),\"\")","v":{"$error":"#REF!"}},{"$f":"IF(#REF!<>\"\",IFERROR(VLOOKUP(AM43,Tabelas!B:D,3,0),0),\"\")","v":{"$error":"#REF!"}},{"$f":"IF(#REF!<>\"\",IFERROR(VLOOKUP(AN43,Tabelas!B:D,3,0),0),\"\")","v":{"$error":"#REF!"}},{"$f":"IF(#REF!<>\"\",IFERROR(VLOOKUP(AO43,Tabelas!B:D,3,0),0),\"\")","v":{"$error":"#REF!"}},{"$f":"IF(#REF!<>\"\",IFERROR(VLOOKUP(AP43,Tabelas!B:D,3,0),0),\"\")","v":{"$error":"#REF!"}},{"$f":"IF(#REF!<>\"\",IFERROR(VLOOKUP(AQ43,Tabelas!B:D,3,0),0),\"\")","v":{"$error":"#REF!"}},120,null,{"$f":"IF(#REF!<>\"\",COUNTIF(M43:AQ43,\"AB*\"),\"\")","v":{"$error":"#REF!"}},{"$f":"IF(#REF!<>\"\",COUNTIF(M43:AQ43,\"FE\"),\"\")","v":{"$error":"#REF!"}},{"$f":"IF(#REF!<>\"\",COUNTIF(M43:AQ43,\"LC\"),\"\")","v":{"$error":"#REF!"}},{"$f":"IF(#REF!<>\"\",COUNTIF(M43:AQ43,\"CH*\"),\"\")","v":{"$error":"#REF!"}},{"$f":"IF(#REF!<>\"\",COUNTIF(M43:AQ43,\"AF1\")+COUNTIF(M43:AQ43,\"AF2\")+COUNTIF(M43:AQ43,\"AF3\")+COUNTIF(M43:AQ43,\"AF4\")+COUNTIF(M43:AQ43,\"AF5\")+COUNTIF(M43:AQ43,\"AF6\")+COUNTIF(M43:AQ43,\"AF7\")+COUNTIF(M43:AQ43,\"AF8\")+COUNTIF(M43:AQ43,\"AF9\")+COUNTIF(M43:AQ43,\"AF10\")+COUNTIF(M43:AQ43,\"AF11\")+COUNTIF(M43:AQ43,\"AF12\")+COUNTIF(M43:AQ43,\"AF13\")+COUNTIF(M43:AQ43,\"AF14\"),\"\")","v":{"$error":"#REF!"}},{"$f":"IF(#REF!<>\"\",COUNTIF(M43:AQ43,\"CH*\")+COUNTIF(M43:AQ43,\"L\")+COUNTIF(M43:AQ43,\"LM\")+COUNTIF(M43:AQ43,\"LP\")+COUNTIF(M43:AQ43,\"LC\")+COUNTIF(M43:AQ43,\"AB*\")+COUNTIF(M43:AQ43,\"AF1\")+COUNTIF(M43:AQ43,\"AF2\")+COUNTIF(M43:AQ43,\"AF3\")+COUNTIF(M43:AQ43,\"AF4\")+COUNTIF(M43:AQ43,\"AF5\")+COUNTIF(M43:AQ43,\"AF6\")+COUNTIF(M43:AQ43,\"AF7\")+COUNTIF(M43:AQ43,\"AF8\")+COUNTIF(M43:AQ43,\"AF9\")+COUNTIF(M43:AQ43,\"AF10\")+COUNTIF(M43:AQ43,\"AF11\")+COUNTIF(M43:AQ43,\"AF12\")+COUNTIF(M43:AQ43,\"AF13\")+COUNTIF(M43:AQ43,\"AF14\")+COUNTIF(M43:AQ43,\"RC\")+COUNTIF(M43:AQ43,\"FO\")+COUNTIF(M43:AQ43,\"FE\"),\"\")","v":{"$error":"#REF!"}}]
["Rejane Borges Boeira",3190408,275911,"TE","EBSERH",36,null,null,null,null,53,null,null,"N8","DSR","N8",null,null,null,null,"N8","DSR","N8",null,"N8",null,"N8","DSR",null,null,"N8",null,"N8",null,"N8",null,"CH-12","N8",null,"N8",null,"DSR","CH12",{"$f":"IF(#REF!<>\"\",IFERROR(VLOOKUP(M44,Tabelas!B:D,3,0),0),\"\")","v":{"$error":"#REF!"}},{"$f":"IF(#REF!<>\"\",IFERROR(VLOOKUP(N44,Tabelas!B:D,3,0),0),\"\")","v":{"$error":"#REF!"}},{"$f":"IF(#REF!<>\"\",IFERROR(VLOOKUP(O44,Tabelas!B:D,3,0),0),\"\")","v":{"$error":"#REF!"}},{"$f":"IF(#REF!<>\"\",IFERROR(VLOOKUP(P44,Tabelas!B:D,3,0),0),\"\")","v":{"$error":"#REF!"}},{"$f":"IF(#REF!<>\"\",IFERROR(VLOOKUP(Q44,Tabelas!B:D,3,0),0),\"\")","v":{"$error":"#REF!"}},{"$f":"IF(#REF!<>\"\",IFERROR(VLOOKUP(R44,Tabelas!B:D,3,0),0),\"\")","v":{"$error":"#REF!"}},{"$f":"IF(#REF!<>\"\",IFERROR(VLOOKUP(S44,Tabelas!B:D,3,0),0),\"\")","v":{"$error":"#REF!"}},{"$f":"IF(#REF!<>\"\",IFERROR(VLOOKUP(T44,Tabelas!B:D,3,0),0),\"\")","v":{"$error":"#REF!"}},{"$f":"IF(#REF!<>\"\",IFERROR(VLOOKUP(U44,Tabelas!B:D,3,0),0),\"\")","v":{"$error":"#REF!"}},{"$f":"IF(#REF!<>\"\",IFERROR(VLOOKUP(V44,Tabelas!B:D,3,0),0),\"\")","v":{"$error":"#REF!"}},{"$f":"IF(#REF!<>\"\",IFERROR(VLOOKUP(W44,Tabelas!B:D,3,0),0),\"\")","v":{"$error":"#REF!"}},{"$f":"IF(#REF!<>\"\",IFERROR(VLOOKUP(X44,Tabelas!B:D,3,0),0),\"\")","v":{"$error":"#REF!"}},{"$f":"IF(#REF!<>\"\",IFERROR(VLOOKUP(Y44,Tabelas!B:D,3,0),0),\"\")","v":{"$error":"#REF!"}},{"$f":"IF(#REF!<>\"\",IFERROR(VLOOKUP(Z44,Tabelas!B:D,3,0),0),\"\")","v":{"$error":"#REF!"}},{"$f":"IF(#REF!<>\"\",IFERROR(VLOOKUP(AA44,Tabelas!B:D,3,0),0),\"\")","v":{"$error":"#REF!"}},{"$f":"IF(#REF!<>\"\",IFERROR(VLOOKUP(AB44,Tabelas!B:D,3,0),0),\"\")","v":{"$error":"#REF!"}},{"$f":"IF(#REF!<>\"\",IFERROR(VLOOKUP(AC44,Tabelas!B:D,3,0),0),\"\")","v":{"$error":"#REF!"}},{"$f":"IF(#REF!<>\"\",IFERROR(VLOOKUP(AD44,Tabelas!B:D,3,0),0),\"\")","v":{"$error":"#REF!"}},{"$f":"IF(#REF!<>\"\",IFERROR(VLOOKUP(AE44,Tabelas!B:D,3,0),0),\"\")","v":{"$error":"#REF!"}},{"$f":"IF(#REF!<>\"\",IFERROR(VLOOKUP(AF44,Tabelas!B:D,3,0),0),\"\")","v":{"$error":"#REF!"}},{"$f":"IF(#REF!<>\"\",IFERROR(VLOOKUP(AG44,Tabelas!B:D,3,0),0),\"\")","v":{"$error":"#REF!"}},{"$f":"IF(#REF!<>\"\",IFERROR(VLOOKUP(AH44,Tabelas!B:D,3,0),0),\"\")","v":{"$error":"#REF!"}},{"$f":"IF(#REF!<>\"\",IFERROR(VLOOKUP(AI44,Tabelas!B:D,3,0),0),\"\")","v":{"$error":"#REF!"}},{"$f":"IF(#REF!<>\"\",IFERROR(VLOOKUP(AJ44,Tabelas!B:D,3,0),0),\"\")","v":{"$error":"#REF!"}},{"$f":"IF(#REF!<>\"\",IFERROR(VLOOKUP(AK44,Tabelas!B:D,3,0),0),\"\")","v":{"$error":"#REF!"}},{"$f":"IF(#REF!<>\"\",IFERROR(VLOOKUP(AL44,Tabelas!B:D,3,0),0),\"\")","v":{"$error":"#REF!"}},{"$f":"IF(#REF!<>\"\",IFERROR(VLOOKUP(AM44,Tabelas!B:D,3,0),0),\"\")","v":{"$error":"#REF!"}},{"$f":"IF(#REF!<>\"\",IFERROR(VLOOKUP(AN44,Tabelas!B:D,3,0),0),\"\")","v":{"$error":"#REF!"}},{"$f":"IF(#REF!<>\"\",IFERROR(VLOOKUP(AO44,Tabelas!B:D,3,0),0),\"\")","v":{"$error":"#REF!"}},{"$f":"IF(#REF!<>\"\",IFERROR(VLOOKUP(AP44,Tabelas!B:D,3,0),0),\"\")","v":{"$error":"#REF!"}},{"$f":"IF(#REF!<>\"\",IFERROR(VLOOKUP(AQ44,Tabelas!B:D,3,0),0),\"\")","v":{"$error":"#REF!"}},144,null,{"$f":"IF(#REF!<>\"\",COUNTIF(M44:AQ44,\"AB*\"),\"\")","v":{"$error":"#REF!"}},{"$f":"IF(#REF!<>\"\",COUNTIF(M44:AQ44,\"FE\"),\"\")","v":{"$error":"#REF!"}},{"$f":"IF(#REF!<>\"\",COUNTIF(M44:AQ44,\"LC\"),\"\")","v":{"$error":"#REF!"}},{"$f":"IF(#REF!<>\"\",COUNTIF(M44:AQ44,\"CH*\"),\"\")","v":{"$error":"#REF!"}},{"$f":"IF(#REF!<>\"\",COUNTIF(M44:AQ44,\"AF1\")+COUNTIF(M44:AQ44,\"AF2\")+COUNTIF(M44:AQ44,\"AF3\")+COUNTIF(M44:AQ44,\"AF4\")+COUNTIF(M44:AQ44,\"AF5\")+COUNTIF(M44:AQ44,\"AF6\")+COUNTIF(M44:AQ44,\"AF7\")+COUNTIF(M44:AQ44,\"AF8\")+COUNTIF(M44:AQ44,\"AF9\")+COUNTIF(M44:AQ44,\"AF10\")+COUNTIF(M44:AQ44,\"AF11\")+COUNTIF(M44:AQ44,\"AF12\")+COUNTIF(M44:AQ44,\"AF13\")+COUNTIF(M44:AQ44,\"AF14\"),\"\")","v":{"$error":"#REF!"}},{"$f":"IF(#REF!<>\"\",COUNTIF(M44:AQ44,\"CH*\")+COUNTIF(M44:AQ44,\"L\")+COUNTIF(M44:AQ44,\"LM\")+COUNTIF(M44:AQ44,\"LP\")+COUNTIF(M44:AQ44,\"LC\")+COUNTIF(M44:AQ44,\"AB*\")+COUNTIF(M44:AQ44,\"AF1\")+COUNTIF(M44:AQ44,\"AF2\")+COUNTIF(M44:AQ44,\"AF3\")+COUNTIF(M44:AQ44,\"AF4\")+COUNTIF(M44:AQ44,\"AF5\")+COUNTIF(M44:AQ44,\"AF6\")+COUNTIF(M44:AQ44,\"AF7\")+COUNTIF(M44:AQ44,\"AF8\")+COUNTIF(M44:AQ44,\"AF9\")+COUNTIF(M44:AQ44,\"AF10\")+COUNTIF(M44:AQ44,\"AF11\")+COUNTIF(M44:AQ44,\"AF12\")+COUNTIF(M44:AQ44,\"AF13\")+COUNTIF(M44:AQ44,\"AF14\")+COUNTIF(M44:AQ44,\"RC\")+COUNTIF(M44:AQ44,\"FO\")+COUNTIF(M44:AQ44,\"FE\"),\"\")","v":{"$error":"#REF!"}}]
["Ricardo Valentin",2703725,539616,"TE","RJU",30,null,null,null,null,57,null,null,"DSR","N8",null,null,"N8",null,null,"N8","DSR",null,"N8",null,null,"N8","DSR",null,"N8",null,null,"N8",null,"DSR","N8",null,null,"N8",null,null,"N8","DSR",{"$f":"IF(#REF!<>\"\",IFERROR(VLOOKUP(M45,Tabelas!B:D,3,0),0),\"\")","v":{"$error":"#REF!"}},{"$f":"IF(#REF!<>\"\",IFERROR(VLOOKUP(N45,Tabelas!B:D,3,0),0),\"\")","v":{"$error":"#REF!"}},{"$f":"IF(#REF!<>\"\",IFERROR(VLOOKUP(O45,Tabelas!B:D,3,0),0),\"\")","v":{"$error":"#REF!"}},{"$f":"IF(#REF!<>\"\",IFERROR(VLOOKUP(P45,Tabelas!B:D,3,0),0),\"\")","v":{"$error":"#REF!"}},{"$f":"IF(#REF!<>\"\",IFERROR(VLOOKUP(Q45,Tabelas!B:D,3,0),0),\"\")","v":{"$error":"#REF!"}},{"$f":"IF(#REF!<>\"\",IFERROR(VLOOKUP(R45,Tabelas!B:D,3,0),0),\"\")","v":{"$error":"#REF!"}},{"$f":"IF(#REF!<>\"\",IFERROR(VLOOKUP(S45,Tabelas!B:D,3,0),0),\"\")","v":{"$error":"#REF!"}},{"$f":"IF(#REF!<>\"\",IFERROR(VLOOKUP(T45,Tabelas!B:D,3,0),0),\"\")","v":{"$error":"#REF!"}},{"$f":"IF(#REF!<>\"\",IFERROR(VLOOKUP(U45,Tabelas!B:D,3,0),0),\"\")","v":{"$error":"#REF!"}},{"$f":"IF(#REF!<>\"\",IFERROR(VLOOKUP(V45,Tabelas!B:D,3,0),0),\"\")","v":{"$error":"#REF!"}},{"$f":"IF(#REF!<>\"\",IFERROR(VLOOKUP(W45,Tabelas!B:D,3,0),0),\"\")","v":{"$error":"#REF!"}},{"$f":"IF(#REF!<>\"\",IFERROR(VLOOKUP(X45,Tabelas!B:D,3,0),0),\"\")","v":{"$error":"#REF!"}},{"$f":"IF(#REF!<>\"\",IFERROR(VLOOKUP(Y45,Tabelas!B:D,3,0),0),\"\")","v":{"$error":"#REF!"}},{"$f":"IF(#REF!<>\"\",IFERROR(VLOOKUP(Z45,Tabelas!B:D,3,0),0),\"\")","v":{"$error":"#REF!"}},{"$f":"IF(#REF!<>\"\",IFERROR(VLOOKUP(AA45,Tabelas!B:D,3,0),0),\"\")","v":{"$error":"#REF!"}},{"$f":"IF(#REF!<>\"\",IFERROR(VLOOKUP(AB45,Tabelas!B:D,3,0),0),\"\")","v":{"$error":"#REF!"}},{"$f":"IF(#REF!<>\"\",IFERROR(VLOOKUP(AC45,Tabelas!B:D,3,0),0),\"\")","v":{"$error":"#REF!"}},{"$f":"IF(#REF!<>\"\",IFERROR(VLOOKUP(AD45,Tabelas!B:D,3,0),0),\"\")","v":{"$error":"#REF!"}},{"$f":"IF(#REF!<>\"\",IFERROR(VLOOKUP(AE45,Tabelas!B:D,3,0),0),\"\")","v":{"$error":"#REF!"}},{"$f":"IF(#REF!<>\"\",IFERROR(VLOOKUP(AF45,Tabelas!B:D,3,0),0),\"\")","v":{"$error":"#REF!"}},{"$f":"IF(#REF!<>\"\",IFERROR(VLOOKUP(AG45,Tabelas!B:D,3,0),0),\"\")","v":{"$error":"#REF!"}},{"$f":"IF(#REF!<>\"\",IFERROR(VLOOKUP(AH45,Tabelas!B:D,3,0),0),\"\")","v":{"$error":"#REF!"}},{"$f":"IF(#REF!<>\"\",IFERROR(VLOOKUP(AI45,Tabelas!B:D,3,0),0),\"\")","v":{"$error":"#REF!"}},{"$f":"IF(#REF!<>\"\",IFERROR(VLOOKUP(AJ45,Tabelas!B:D,3,0),0),\"\")","v":{"$error":"#REF!"}},{"$f":"IF(#REF!<>\"\",IFERROR(VLOOKUP(AK45,Tabelas!B:D,3,0),0),\"\")","v":{"$error":"#REF!"}},{"$f":"IF(#REF!<>\"\",IFERROR(VLOOKUP(AL45,Tabelas!B:D,3,0),0),\"\")","v":{"$error":"#REF!"}},{"$f":"IF(#REF!<>\"\",IFERROR(VLOOKUP(AM45,Tabelas!B:D,3,0),0),\"\")","v":{"$error":"#REF!"}},{"$f":"IF(#REF!<>\"\",IFERROR(VLOOKUP(AN45,Tabelas!B:D,3,0),0),\"\")","v":{"$error":"#REF!"}},{"$f":"IF(#REF!<>\"\",IFERROR(VLOOKUP(AO45,Tabelas!B:D,3,0),0),\"\")","v":{"$error":"#REF!"}},{"$f":"IF(#REF!<>\"\",IFERROR(VLOOKUP(AP45,Tabelas!B:D,3,0),0),\"\")","v":{"$error":"#REF!"}},{"$f":"IF(#REF!<>\"\",IFERROR(VLOOKUP(AQ45,Tabelas!B:D,3,0),0),\"\")","v":{"$error":"#REF!"}},120,null,{"$f":"IF(#REF!<>\"\",COUNTIF(M45:AQ45,\"AB*\"),\"\")","v":{"$error":"#REF!"}},{"$f":"IF(#REF!<>\"\",COUNTIF(M45:AQ45,\"FE\"),\"\")","v":{"$error":"#REF!"}},{"$f":"IF(#REF!<>\"\",COUNTIF(M45:AQ45,\"LC\"),\"\")","v":{"$error":"#REF!"}},{"$f":"IF(#REF!<>\"\",COUNTIF(M45:AQ45,\"CH*\"),\"\")","v":{"$error":"#REF!"}},{"$f":"IF(#REF!<>\"\",COUNTIF(M45:AQ45,\"AF1\")+COUNTIF(M45:AQ45,\"AF2\")+COUNTIF(M45:AQ45,\"AF3\")+COUNTIF(M45:AQ45,\"AF4\")+COUNTIF(M45:AQ45,\"AF5\")+COUNTIF(M45:AQ45,\"AF6\")+COUNTIF(M45:AQ45,\"AF7\")+COUNTIF(M45:AQ45,\"AF8\")+COUNTIF(M45:AQ45,\"AF9\")+COUNTIF(M45:AQ45,\"AF10\")+COUNTIF(M45:AQ45,\"AF11\")+COUNTIF(M45:AQ45,\"AF12\")+COUNTIF(M45:AQ45,\"AF13\")+COUNTIF(M45:AQ45,\"AF14\"),\"\")","v":{"$error":"#REF!"}},{"$f":"IF(#REF!<>\"\",COUNTIF(M45:AQ45,\"CH*\")+COUNTIF(M45:AQ45,\"L\")+COUNTIF(M45:AQ45,\"LM\")+COUNTIF(M45:AQ45,\"LP\")+COUNTIF(M45:AQ45,\"LC\")+COUNTIF(M45:AQ45,\"AB*\")+COUNTIF(M45:AQ45,\"AF1\")+COUNTIF(M45:AQ45,\"AF2\")+COUNTIF(M45:AQ45,\"AF3\")+COUNTIF(M45:AQ45,\"AF4\")+COUNTIF(M45:AQ45,\"AF5\")+COUNTIF(M45:AQ45,\"AF6\")+COUNTIF(M45:AQ45,\"AF7\")+COUNTIF(M45:AQ45,\"AF8\")+COUNTIF(M45:AQ45,\"AF9\")+COUNTIF(M45:AQ45,\"AF10\")+COUNTIF(M45:AQ45,\"AF11\")+COUNTIF(M45:AQ45,\"AF12\")+COUNTIF(M45:AQ45,\"AF13\")+COUNTIF(M45:AQ45,\"AF14\")+COUNTIF(M45:AQ45,\"RC\")+COUNTIF(M45:AQ45,\"FO\")+COUNTIF(M45:AQ45,\"FE\"),\"\")","v":{"$error":"#REF!"}}]
["Tâmara Santana",3076212,null,"TE","EBSERH",36,null,null,null,null,57,null,"N8","DSR",null,"N8",null,null,"N8",null,"DSR","N8",null,null,"N8",null,null,"N8","DSR","N8",null,null,null,"N8","DSR",null,"N8","N8",null,"N8","CH-12","N8","DSR",{"$f":"IF(#REF!<>\"\",IFERROR(VLOOKUP(M46,Tabelas!B:D,3,0),0),\"\")","v":{"$error":"#REF!"}},{"$f":"IF(#REF!<>\"\",IFERROR(VLOOKUP(N46,Tabelas!B:D,3,0),0),\"\")","v":{"$error":"#REF!"}},{"$f":"IF(#REF!<>\"\",IFERROR(VLOOKUP(O46,Tabelas!B:D,3,0),0),\"\")","v":{"$error":"#REF!"}},{"$f":"IF(#REF!<>\"\",IFERROR(VLOOKUP(P46,Tabelas!B:D,3,0),0),\"\")","v":{"$error":"#REF!"}},{"$f":"IF(#REF!<>\"\",IFERROR(VLOOKUP(Q46,Tabelas!B:D,3,0),0),\"\")","v":{"$error":"#REF!"}},{"$f":"IF(#REF!<>\"\",IFERROR(VLOOKUP(R46,Tabelas!B:D,3,0),0),\"\")","v":{"$error":"#REF!"}},{"$f":"IF(#REF!<>\"\",IFERROR(VLOOKUP(S46,Tabelas!B:D,3,0),0),\"\")","v":{"$error":"#REF!"}},{"$f":"IF(#REF!<>\"\",IFERROR(VLOOKUP(T46,Tabelas!B:D,3,0),0),\"\")","v":{"$error":"#REF!"}},{"$f":"IF(#REF!<>\"\",IFERROR(VLOOKUP(U46,Tabelas!B:D,3,0),0),\"\")","v":{"$error":"#REF!"}},{"$f":"IF(#REF!<>\"\",IFERROR(VLOOKUP(V46,Tabelas!B:D,3,0),0),\"\")","v":{"$error":"#REF!"}},{"$f":"IF(#REF!<>\"\",IFERROR(VLOOKUP(W46,Tabelas!B:D,3,0),0),\"\")","v":{"$error":"#REF!"}},{"$f":"IF(#REF!<>\"\",IFERROR(VLOOKUP(X46,Tabelas!B:D,3,0),0),\"\")","v":{"$error":"#REF!"}},{"$f":"IF(#REF!<>\"\",IFERROR(VLOOKUP(Y46,Tabelas!B:D,3,0),0),\"\")","v":{"$error":"#REF!"}},{"$f":"IF(#REF!<>\"\",IFERROR(VLOOKUP(Z46,Tabelas!B:D,3,0),0),\"\")","v":{"$error":"#REF!"}},{"$f":"IF(#REF!<>\"\",IFERROR(VLOOKUP(AA46,Tabelas!B:D,3,0),0),\"\")","v":{"$error":"#REF!"}},{"$f":"IF(#REF!<>\"\",IFERROR(VLOOKUP(AB46,Tabelas!B:D,3,0),0),\"\")","v":{"$error":"#REF!"}},{"$f":"IF(#REF!<>\"\",IFERROR(VLOOKUP(AC46,Tabelas!B:D,3,0),0),\"\")","v":{"$error":"#REF!"}},{"$f":"IF(#REF!<>\"\",IFERROR(VLOOKUP(AD46,Tabelas!B:D,3,0),0),\"\")","v":{"$error":"#REF!"}},{"$f":"IF(#REF!<>\"\",IFERROR(VLOOKUP(AE46,Tabelas!B:D,3,0),0),\"\")","v":{"$error":"#REF!"}},{"$f":"IF(#REF!<>\"\",IFERROR(VLOOKUP(AF46,Tabelas!B:D,3,0),0),\"\")","v":{"$error":"#REF!"}},{"$f":"IF(#REF!<>\"\",IFERROR(VLOOKUP(AG46,Tabelas!B:D,3,0),0),\"\")","v":{"$error":"#REF!"}},{"$f":"IF(#REF!<>\"\",IFERROR(VLOOKUP(AH46,Tabelas!B:D,3,0),0),\"\")","v":{"$error":"#REF!"}},{"$f":"IF(#REF!<>\"\",IFERROR(VLOOKUP(AI46,Tabelas!B:D,3,0),0),\"\")","v":{"$error":"#REF!"}},{"$f":"IF(#REF!<>\"\",IFERROR(VLOOKUP(AJ46,Tabelas!B:D,3,0),0),\"\")","v":{"$error":"#REF!"}},{"$f":"IF(#REF!<>\"\",IFERROR(VLOOKUP(AK46,Tabelas!B:D,3,0),0),\"\")","v":{"$error":"#REF!"}},{"$f":"IF(#REF!<>\"\",IFERROR(VLOOKUP(AL46,Tabelas!B:D,3,0),0),\"\")","v":{"$error":"#REF!"}},{"$f":"IF(#REF!<>\"\",IFERROR(VLOOKUP(AM46,Tabelas!B:D,3,0),0),\"\")","v":{"$error":"#REF!"}},{"$f":"IF(#REF!<>\"\",IFERROR(VLOOKUP(AN46,Tabelas!B:D,3,0),0),\"\")","v":{"$error":"#REF!"}},{"$f":"IF(#REF!<>\"\",IFERROR(VLOOKUP(AO46,Tabelas!B:D,3,0),0),\"\")","v":{"$error":"#REF!"}},{"$f":"IF(#REF!<>\"\",IFERROR(VLOOKUP(AP46,Tabelas!B:D,3,0),0),\"\")","v":{"$error":"#REF!"}},{"$f":"IF(#REF!<>\"\",IFERROR(VLOOKUP(AQ46,Tabelas!B:D,3,0),0),\"\")","v":{"$error":"#REF!"}},144,null,{"$f":"IF(#REF!<>\"\",COUNTIF(M46:AQ46,\"AB*\"),\"\")","v":{"$error":"#REF!"}},{"$f":"IF(#REF!<>\"\",COUNTIF(M46:AQ46,\"FE\"),\"\")","v":{"$error":"#REF!"}},{"$f":"IF(#REF!<>\"\",COUNTIF(M46:AQ46,\"LC\"),\"\")","v":{"$error":"#REF!"}},{"$f":"IF(#REF!<>\"\",COUNTIF(M46:AQ46,\"CH*\"),\"\")","v":{"$error":"#REF!"}},{"$f":"IF(#REF!<>\"\",COUNTIF(M46:AQ46,\"AF1\")+COUNTIF(M46:AQ46,\"AF2\")+COUNTIF(M46:AQ46,\"AF3\")+COUNTIF(M46:AQ46,\"AF4\")+COUNTIF(M46:AQ46,\"AF5\")+COUNTIF(M46:AQ46,\"AF6\")+COUNTIF(M46:AQ46,\"AF7\")+COUNTIF(M46:AQ46,\"AF8\")+COUNTIF(M46:AQ46,\"AF9\")+COUNTIF(M46:AQ46,\"AF10\")+COUNTIF(M46:AQ46,\"AF11\")+COUNTIF(M46:AQ46,\"AF12\")+COUNTIF(M46:AQ46,\"AF13\")+COUNTIF(M46:AQ46,\"AF14\"),\"\")","v":{"$error":"#REF!"}},{"$f":"IF(#REF!<>\"\",COUNTIF(M46:AQ46,\"CH*\")+COUNTIF(M46:AQ46,\"L\")+COUNTIF(M46:AQ46,\"LM\")+COUNTIF(M46:AQ46,\"LP\")+COUNTIF(M46:AQ46,\"LC\")+COUNTIF(M46:AQ46,\"AB*\")+COUNTIF(M46:AQ46,\"AF1\")+COUNTIF(M46:AQ46,\"AF2\")+COUNTIF(M46:AQ46,\"AF3\")+COUNTIF(M46:AQ46,\"AF4\")+COUNTIF(M46:AQ46,\"AF5\")+COUNTIF(M46:AQ46,\"AF6\")+COUNTIF(M46:AQ46,\"AF7\")+COUNTIF(M46:AQ46,\"AF8\")+COUNTIF(M46:AQ46,\"AF9\")+COUNTIF(M46:AQ46,\"AF10\")+COUNTIF(M46:AQ46,\"AF11\")+COUNTIF(M46:AQ46,\"AF12\")+COUNTIF(M46:AQ46,\"AF13\")+COUNTIF(M46:AQ46,\"AF14\")+COUNTIF(M46:AQ46,\"RC\")+COUNTIF(M46:AQ46,\"FO\")+COUNTIF(M46:AQ46,\"FE\"),\"\")","v":{"$error":"#REF!"}}]
["TOTAL PROFISSIONAIS MATUTINO",null,null,null,null,null,null,null,null,null,null,null,{"$f":"IF(COUNTIF(M9:M46,\"M*\")+ COUNTIF(M9:M46, \"D*\")-COUNTIF(M9:M46,\"DSR\")<>0,COUNTIF(M9:M46,\"M*\")+ COUNTIF(M9:M46, \"D*\")-COUNTIF(M9:M46,\"DSR\"),\"\")","v":6},7,7,9,8,8,13,6,6,11,13,12,9,9,10,7,11,12,13,10,11,8,9,12,9,12,9,12,8,10,12,null,null,null,null,null,null,null,null,null,null,null,null,null,null,null,null,null,null,null,null,null,null,null,null,null,null,null,null,null,null,null,{"$f":"SUM(BW9:BW46)","v":3112},7,{"$error":"#REF!"},{"$error":"#REF!"},{"$error":"#REF!"},{"$error":"#REF!"},{"$error":"#REF!"},{"$error":"#REF!"}]
["TOTAL DE PROFISSIONAIS VESPERTINO",null,null,null,null,null,null,null,null,null,null,null,{"$f":"IF(COUNTIF(M9:M46,\"MT*\") + COUNTIF(M9:M46, \"D*\") + COUNTIF(M9:M46,\"T*\")-COUNTIF(M9:M46,\"DSR\")<>0,COUNTIF(M9:M46,\"MT*\") + COUNTIF(M9:M46, \"D*\") + COUNTIF(M9:M46,\"T*\")-COUNTIF(M9:M46,\"DSR\"),\"\")","v":6},7,6,8,7,7,7,6,6,9,11,10,7,8,10,7,9,10,12,8,10,8,9,10,7,10,7,11,8,10,11,{"$f":"IF(A48<>\"\",IFERROR(VLOOKUP(M48,Tabelas!B:D,3,0),0),\"\")","v":0},{"$f":"IF(A48<>\"\",IFERROR(VLOOKUP(N48,Tabelas!B:D,3,0),0),\"\")","v":0},{"$f":"IF(A48<>\"\",IFERROR(VLOOKUP(O48,Tabelas!B:D,3,0),0),\"\")","v":0},{"$f":"IF(A48<>\"\",IFERROR(VLOOKUP(P48,Tabelas!B:D,3,0),0),\"\")","v":0},{"$f":"IF(A48<>\"\",IFERROR(VLOOKUP(Q48,Tabelas!B:D,3,0),0),\"\")","v":0},{"$f":"IF(A48<>\"\",IFERROR(VLOOKUP(R48,Tabelas!B:D,3,0),0),\"\")","v":0},{"$f":"IF(A48<>\"\",IFERROR(VLOOKUP(S48,Tabelas!B:D,3,0),0),\"\")","v":0},{"$f":"IF(A48<>\"\",IFERROR(VLOOKUP(T48,Tabelas!B:D,3,0),0),\"\")","v":0},{"$f":"IF(A48<>\"\",IFERROR(VLOOKUP(U48,Tabelas!B:D,3,0),0),\"\")","v":0},{"$f":"IF(A48<>\"\",IFERROR(VLOOKUP(V48,Tabelas!B:D,3,0),0),\"\")","v":0},{"$f":"IF(A48<>\"\",IFERROR(VLOOKUP(W48,Tabelas!B:D,3,0),0),\"\")","v":0},{"$f":"IF(A48<>\"\",IFERROR(VLOOKUP(X48,Tabelas!B:D,3,0),0),\"\")","v":0},{"$f":"IF(A48<>\"\",IFERROR(VLOOKUP(Y48,Tabelas!B:D,3,0),0),\"\")","v":0},{"$f":"IF(A48<>\"\",IFERROR(VLOOKUP(Z48,Tabelas!B:D,3,0),0),\"\")","v":0},{"$f":"IF(A48<>\"\",IFERROR(VLOOKUP(AA48,Tabelas!B:D,3,0),0),\"\")","v":0},{"$f":"IF(A48<>\"\",IFERROR(VLOOKUP(AB48,Tabelas!B:D,3,0),0),\"\")","v":0},{"$f":"IF(A48<>\"\",IFERROR(VLOOKUP(AC48,Tabelas!B:D,3,0),0),\"\")","v":0},{"$f":"IF(A48<>\"\",IFERROR(VLOOKUP(AD48,Tabelas!B:D,3,0),0),\"\")","v":0},{"$f":"IF(A48<>\"\",IFERROR(VLOOKUP(AE48,Tabelas!B:D,3,0),0),\"\")","v":0},{"$f":"IF(A48<>\"\",IFERROR(VLOOKUP(AF48,Tabelas!B:D,3,0),0),\"\")","v":0},{"$f":"IF(A48<>\"\",IFERROR(VLOOKUP(AG48,Tabelas!B:D,3,0),0),\"\")","v":0},{"$f":"IF(A48<>\"\",IFERROR(VLOOKUP(AH48,Tabelas!B:D,3,0),0),\"\")","v":0},{"$f":"IF(A48<>\"\",IFERROR(VLOOKUP(AI48,Tabelas!B:D,3,0),0),\"\")","v":0},{"$f":"IF(A48<>\"\",IFERROR(VLOOKUP(AJ48,Tabelas!B:D,3,0),0),\"\")","v":0},{"$f":"IF(A48<>\"\",IFERROR(VLOOKUP(AK48,Tabelas!B:D,3,0),0),\"\")","v":0},{"$f":"IF(A48<>\"\",IFERROR(VLOOKUP(AL48,Tabelas!B:D,3,0),0),\"\")","v":0},{"$f":"IF(A48<>\"\",IFERROR(VLOOKUP(AM48,Tabelas!B:D,3,0),0),\"\")","v":0},{"$f":"IF(A48<>\"\",IFERROR(VLOOKUP(AN48,Tabelas!B:D,3,0),0),\"\")","v":0},{"$f":"IF(A48<>\"\",IFERROR(VLOOKUP(AO48,Tabelas!B:D,3,0),0),\"\")","v":0},{"$f":"IF(A48<>\"\",IFERROR(VLOOKUP(AP48,Tabelas!B:D,3,0),0),\"\")","v":0},{"$f":"IF(A48<>\"\",IFERROR(VLOOKUP(AQ48,Tabelas!B:D,3,0),0),\"\")","v":0}]
["TOTAL DE PROFISSIONAIS NOTURNO",null,null,null,null,null,null,null,null,null,null,null,{"$f":"IF(COUNTIF(M9:M48,\"N?*\") + COUNTIF(M9:M48, \"DN*\")<>0,COUNTIF(M9:M48,\"N?*\") + COUNTIF(M9:M48, \"DN*\"),\"\")","v":4},4,5,6,3,5,5,4,5,4,5,5,5,5,4,4,4,5,4,4,6,5,4,6,4,4,5,6,5,4,5,{"$f":"IF(A49<>\"\",IFERROR(VLOOKUP(M49,Tabelas!B:D,3,0),0),\"\")","v":0},{"$f":"IF(A49<>\"\",IFERROR(VLOOKUP(N49,Tabelas!B:D,3,0),0),\"\")","v":0},{"$f":"IF(A49<>\"\",IFERROR(VLOOKUP(O49,Tabelas!B:D,3,0),0),\"\")","v":0},{"$f":"IF(A49<>\"\",IFERROR(VLOOKUP(P49,Tabelas!B:D,3,0),0),\"\")","v":0},{"$f":"IF(A49<>\"\",IFERROR(VLOOKUP(Q49,Tabelas!B:D,3,0),0),\"\")","v":0},{"$f":"IF(A49<>\"\",IFERROR(VLOOKUP(R49,Tabelas!B:D,3,0),0),\"\")","v":0},{"$f":"IF(A49<>\"\",IFERROR(VLOOKUP(S49,Tabelas!B:D,3,0),0),\"\")","v":0},{"$f":"IF(A49<>\"\",IFERROR(VLOOKUP(T49,Tabelas!B:D,3,0),0),\"\")","v":0},{"$f":"IF(A49<>\"\",IFERROR(VLOOKUP(U49,Tabelas!B:D,3,0),0),\"\")","v":0},{"$f":"IF(A49<>\"\",IFERROR(VLOOKUP(V49,Tabelas!B:D,3,0),0),\"\")","v":0},{"$f":"IF(A49<>\"\",IFERROR(VLOOKUP(W49,Tabelas!B:D,3,0),0),\"\")","v":0},{"$f":"IF(A49<>\"\",IFERROR(VLOOKUP(X49,Tabelas!B:D,3,0),0),\"\")","v":0},{"$f":"IF(A49<>\"\",IFERROR(VLOOKUP(Y49,Tabelas!B:D,3,0),0),\"\")","v":0},{"$f":"IF(A49<>\"\",IFERROR(VLOOKUP(Z49,Tabelas!B:D,3,0),0),\"\")","v":0},{"$f":"IF(A49<>\"\",IFERROR(VLOOKUP(AA49,Tabelas!B:D,3,0),0),\"\")","v":0},{"$f":"IF(A49<>\"\",IFERROR(VLOOKUP(AB49,Tabelas!B:D,3,0),0),\"\")","v":0},{"$f":"IF(A49<>\"\",IFERROR(VLOOKUP(AC49,Tabelas!B:D,3,0),0),\"\")","v":0},{"$f":"IF(A49<>\"\",IFERROR(VLOOKUP(AD49,Tabelas!B:D,3,0),0),\"\")","v":0},{"$f":"IF(A49<>\"\",IFERROR(VLOOKUP(AE49,Tabelas!B:D,3,0),0),\"\")","v":0},{"$f":"IF(A49<>\"\",IFERROR(VLOOKUP(AF49,Tabelas!B:D,3,0),0),\"\")","v":0},{"$f":"IF(A49<>\"\",IFERROR(VLOOKUP(AG49,Tabelas!B:D,3,0),0),\"\")","v":0},{"$f":"IF(A49<>\"\",IFERROR(VLOOKUP(AH49,Tabelas!B:D,3,0),0),\"\")","v":0},{"$f":"IF(A49<>\"\",IFERROR(VLOOKUP(AI49,Tabelas!B:D,3,0),0),\"\")","v":0},{"$f":"IF(A49<>\"\",IFERROR(VLOOKUP(AJ49,Tabelas!B:D,3,0),0),\"\")","v":0},{"$f":"IF(A49<>\"\",IFERROR(VLOOKUP(AK49,Tabelas!B:D,3,0),0),\"\")","v":0},{"$f":"IF(A49<>\"\",IFERROR(VLOOKUP(AL49,Tabelas!B:D,3,0),0),\"\")","v":0},{"$f":"IF(A49<>\"\",IFERROR(VLOOKUP(AM49,Tabelas!B:D,3,0),0),\"\")","v":0},{"$f":"IF(A49<>\"\",IFERROR(VLOOKUP(AN49,Tabelas!B:D,3,0),0),\"\")","v":0},{"$f":"IF(A49<>\"\",IFERROR(VLOOKUP(AO49,Tabelas!B:D,3,0),0),\"\")","v":0},{"$f":"IF(A49<>\"\",IFERROR(VLOOKUP(AP49,Tabelas!B:D,3,0),0),\"\")","v":0},{"$f":"IF(A49<>\"\",IFERROR(VLOOKUP(AQ49,Tabelas!B:D,3,0),0),\"\")","v":0}]
[null,null,null,null,null,null,null,null,null,null,null,null,null,null,null,null,null,null,null,null,null,null,null,null,null,null,null,null,null,null,null,null,null,null,null,null,null,null,null,null,null,null,null,{"$f":"IF(A50<>\"\",IFERROR(VLOOKUP(M50,Tabelas!B:D,3,0),0),\"\")","v":""},{"$f":"IF(A50<>\"\",IFERROR(VLOOKUP(N50,Tabelas!B:D,3,0),0),\"\")","v":""},{"$f":"IF(A50<>\"\",IFERROR(VLOOKUP(O50,Tabelas!B:D,3,0),0),\"\")","v":""},{"$f":"IF(A50<>\"\",IFERROR(VLOOKUP(P50,Tabelas!B:D,3,0),0),\"\")","v":""},{"$f":"IF(A50<>\"\",IFERROR(VLOOKUP(Q50,Tabelas!B:D,3,0),0),\"\")","v":""},{"$f":"IF(A50<>\"\",IFERROR(VLOOKUP(R50,Tabelas!B:D,3,0),0),\"\")","v":""},{"$f":"IF(A50<>\"\",IFERROR(VLOOKUP(S50,Tabelas!B:D,3,0),0),\"\")","v":""},{"$f":"IF(A50<>\"\",IFERROR(VLOOKUP(T50,Tabelas!B:D,3,0),0),\"\")","v":""},{"$f":"IF(A50<>\"\",IFERROR(VLOOKUP(U50,Tabelas!B:D,3,0),0),\"\")","v":""},{"$f":"IF(A50<>\"\",IFERROR(VLOOKUP(V50,Tabelas!B:D,3,0),0),\"\")","v":""},{"$f":"IF(A50<>\"\",IFERROR(VLOOKUP(W50,Tabelas!B:D,3,0),0),\"\")","v":""},{"$f":"IF(A50<>\"\",IFERROR(VLOOKUP(X50,Tabelas!B:D,3,0),0),\"\")","v":""},{"$f":"IF(A50<>\"\",IFERROR(VLOOKUP(Y50,Tabelas!B:D,3,0),0),\"\")","v":""},{"$f":"IF(A50<>\"\",IFERROR(VLOOKUP(Z50,Tabelas!B:D,3,0),0),\"\")","v":""},{"$f":"IF(A50<>\"\",IFERROR(VLOOKUP(AA50,Tabelas!B:D,3,0),0),\"\")","v":""},{"$f":"IF(A50<>\"\",IFERROR(VLOOKUP(AB50,Tabelas!B:D,3,0),0),\"\")","v":""},{"$f":"IF(A50<>\"\",IFERROR(VLOOKUP(AC50,Tabelas!B:D,3,0),0),\"\")","v":""},{"$f":"IF(A50<>\"\",IFERROR(VLOOKUP(AD50,Tabelas!B:D,3,0),0),\"\")","v":""},{"$f":"IF(A50<>\"\",IFERROR(VLOOKUP(AE50,Tabelas!B:D,3,0),0),\"\")","v":""},{"$f":"IF(A50<>\"\",IFERROR(VLOOKUP(AF50,Tabelas!B:D,3,0),0),\"\")","v":""},{"$f":"IF(A50<>\"\",IFERROR(VLOOKUP(AG50,Tabelas!B:D,3,0),0),\"\")","v":""},{"$f":"IF(A50<>\"\",IFERROR(VLOOKUP(AH50,Tabelas!B:D,3,0),0),\"\")","v":""},{"$f":"IF(A50<>\"\",IFERROR(VLOOKUP(AI50,Tabelas!B:D,3,0),0),\"\")","v":""},{"$f":"IF(A50<>\"\",IFERROR(VLOOKUP(AJ50,Tabelas!B:D,3,0),0),\"\")","v":""},{"$f":"IF(A50<>\"\",IFERROR(VLOOKUP(AK50,Tabelas!B:D,3,0),0),\"\")","v":""},{"$f":"IF(A50<>\"\",IFERROR(VLOOKUP(AL50,Tabelas!B:D,3,0),0),\"\")","v":""},{"$f":"IF(A50<>\"\",IFERROR(VLOOKUP(AM50,Tabelas!B:D,3,0),0),\"\")","v":""},{"$f":"IF(A50<>\"\",IFERROR(VLOOKUP(AN50,Tabelas!B:D,3,0),0),\"\")","v":""},{"$f":"IF(A50<>\"\",IFERROR(VLOOKUP(AO50,Tabelas!B:D,3,0),0),\"\")","v":""},{"$f":"IF(A50<>\"\",IFERROR(VLOOKUP(AP50,Tabelas!B:D,3,0),0),\"\")","v":""},{"$f":"IF(A50<>\"\",IFERROR(VLOOKUP(AQ50,Tabelas!B:D,3,0),0),\"\")","v":""}]
["Legenda:"]
["Licença Maternidade","LM","Férias",null,null,null,null,null,null,"FE",null,"Ponto Facultativo",null,null,null,null,null,null,null,"PF","Manhã *",null,null,null,null,null,null,"M","Diurno (8 hrs) *",null,null,null,null,null,null,"MT"]
["Licença Paternidade","LP","Feriado",null,null,null,null,null,null,"FD",null,"Abono **",null,null,null,null,null,null,null,"AB","Tarde *",null,null,null,null,null,null,"T","Dia/ noite (24 hrs) *",null,null,null,null,null,null,"DN"]
["Licença Médica/Odontológica","L","Descanso Semanal Remunerado",null,null,null,null,null,null,"DSR",null,"Compensação de Horas***",null,null,null,null,null,null,null,"CH","Plantão Dia (12 hrs) *",null,null,null,null,null,null,"D"]
["Licença Capacitação","LC","Recesso",null,null,null,null,null,null,"RC",null,"Afastamento**",null,null,null,null,null,null,null,"AF","Plantão Noite (12 hrs) *",null,null,null,null,null,null,"N"]
[]
["OBSERVAÇÕES:"]
["* Para inserção das legendas referentes às jornadas de trabalho, verificar a Tabela 1 do Anexo do Memorando-Circular - SEI nº   25 /2018/CAP/DGP-EBSERH."]
["** Para inserção das legendas referentes aos Afastamentos previstos em lei e às Compensações de horas, verificar a Tabela 2 do Anexo do Memorando-Circular - SEI nº   25 /2018/CAP/DGP-EBSERH."]

{"sheet":"Planilha1","index":8,"n_rows":0,"n_cols":0,"rows_kept":0,"cut":false,"hidden":false,"merged":[]}

{"sheet":"Setembro","index":9,"n_rows":48,"n_cols":82,"rows_kept":48,"cut":false,"hidden":false,"merged":[[40,20,40,26],[41,2,41,8],[41,9,41,10],[41,11,41,18],[41,20,41,26],[40,2,40,8],[40,9,40,10],[42,20,42,26],[43,2,43,8],[43,9,43,10],[43,11,43,18],[43,20,43,26],[35,0,35,11],[36,0,36,11],[37,0,37,11],[42,2,42,8],[42,9,42,10],[42,11,42,18],[40,11,40,18],[1,0,1,42],[2,0,2,42],[3,0,3,42],[4,1,4,20],[4,23,4,34],[4,37,4,42],[5,6,5,11],[6,76,7,76],[6,77,7,77],[6,78,7,78],[6,79,7,79],[6,6,7,6],[6,7,7,7],[6,8,7,8],[6,11,7,11],[6,9,7,9],[6,10,7,10],[6,80,7,80],[6,81,7,81],[5,12,5,42],[5,43,5,73],[5,75,5,81],[5,74,7,74],[6,75,7,75],[35,79,37,79],[35,80,37,80],[35,81,37,81],[40,28,40,34],[41,28,41,34],[35,74,37,74],[35,75,37,75],[35,76,37,76],[35,77,37,77],[35,78,37,78]]}
[]
[]
["NOME DO HU"]
["ESCALA MENSAL DE TRABALHO"]
["DIVISÃO /SETOR/UNIDADE:",null,null,null,null,null,null,null,null,null,null,null,null,null,null,null,null,null,null,null,null,"MÊS:",null,"Setembro",null,null,null,null,null,null,null,null,null,null,null,"ANO:",null,2019]
["NOME COMPLETO","SIAPE","     Registro Conselho Classe","Cargo","Vínculo","    C.H Sem","INTERVALO",null,null,null,null,null,"DIAS DO MÊS",null,null,null,null,null,null,null,null,null,null,null,null,null,null,null,null,null,null,null,null,null,null,null,null,null,null,null,null,null,null,"CÁLCULO DAS HORAS",null,null,null,null,null,null,null,null,null,null,null,null,null,null,null,null,null,null,null,null,null,null,null,null,null,null,null,null,null,null,"CH Men.","Dias"]
[null,null,null,null,null,null,"15' M","15' T","15' N","1H D","1H N","2H",1,2,3,4,5,6,7,8,9,10,11,12,13,14,15,16,17,18,19,20,21,22,23,24,25,{"$f":"IF(DAY(DATE(AL5,VLOOKUP(X5,Tabelas!M:N,2,0)+1,1)-1)>=26,26,\"\")","v":26},{"$f":"IF(DAY(DATE(AL5,VLOOKUP(X5,Tabelas!M:N,2,0)+1,1)-1)>=27,27,\"\")","v":27},{"$f":"IF(DAY(DATE(AL5,VLOOKUP(X5,Tabelas!M:N,2,0)+1,1)-1)>=28,28,\"\")","v":28},{"$f":"IF(DAY(DATE(AL5,VLOOKUP(X5,Tabelas!M:N,2,0)+1,1)-1)>=29,29,\"\")","v":29},{"$f":"IF(DAY(DATE(AL5,VLOOKUP(X5,Tabelas!M:N,2,0)+1,1)-1)>=30,30,\"\")","v":30},{"$f":"IF(DAY(DATE(AL5,VLOOKUP(X5,Tabelas!M:N,2,0)+1,1)-1)>=31,31,\"\")","v":""},null,null,null,null,null,null,null,null,null,null,null,null,null,null,null,null,null,null,null,null,null,null,null,null,null,null,null,null,null,null,null,null,"LM/LP/L","AB","FE","LC","CH","AF  "," Total Afast."]
[null,null,null,null,null,null,null,null,null,null,null,null,{"$f":"IF(M7<>\"\",IFERROR(VLOOKUP(WEEKDAY(CONCATENATE(M7,$X$5,$AL$5)),Tabelas!$I:$J,2,0),\"\"),\"\")","v":"DOM"},{"$f":"IF(N7<>\"\",IFERROR(VLOOKUP(WEEKDAY(CONCATENATE(N7,$X$5,$AL$5)),Tabelas!$I:$J,2,0),\"\"),\"\")","v":"SEG"},{"$f":"IF(O7<>\"\",IFERROR(VLOOKUP(WEEKDAY(CONCATENATE(O7,$X$5,$AL$5)),Tabelas!$I:$J,2,0),\"\"),\"\")","v":"TER"},{"$f":"IF(P7<>\"\",IFERROR(VLOOKUP(WEEKDAY(CONCATENATE(P7,$X$5,$AL$5)),Tabelas!$I:$J,2,0),\"\"),\"\")","v":"QUA"},{"$f":"IF(Q7<>\"\",IFERROR(VLOOKUP(WEEKDAY(CONCATENATE(Q7,$X$5,$AL$5)),Tabelas!$I:$J,2,0),\"\"),\"\")","v":"QUI"},{"$f":"IF(R7<>\"\",IFERROR(VLOOKUP(WEEKDAY(CONCATENATE(R7,$X$5,$AL$5)),Tabelas!$I:$J,2,0),\"\"),\"\")","v":"SEX"},{"$f":"IF(S7<>\"\",IFERROR(VLOOKUP(WEEKDAY(CONCATENATE(S7,$X$5,$AL$5)),Tabelas!$I:$J,2,0),\"\"),\"\")","v":"SAB"},{"$f":"IF(T7<>\"\",IFERROR(VLOOKUP(WEEKDAY(CONCATENATE(T7,$X$5,$AL$5)),Tabelas!$I:$J,2,0),\"\"),\"\")","v":"DOM"},{"$f":"IF(U7<>\"\",IFERROR(VLOOKUP(WEEKDAY(CONCATENATE(U7,$X$5,$AL$5)),Tabelas!$I:$J,2,0),\"\"),\"\")","v":"SEG"},{"$f":"IF(V7<>\"\",IFERROR(VLOOKUP(WEEKDAY(CONCATENATE(V7,$X$5,$AL$5)),Tabelas!$I:$J,2,0),\"\"),\"\")","v":"TER"},{"$f":"IF(W7<>\"\",IFERROR(VLOOKUP(WEEKDAY(CONCATENATE(W7,$X$5,$AL$5)),Tabelas!$I:$J,2,0),\"\"),\"\")","v":"QUA"},{"$f":"IF(X7<>\"\",IFERROR(VLOOKUP(WEEKDAY(CONCATENATE(X7,$X$5,$AL$5)),Tabelas!$I:$J,2,0),\"\"),\"\")","v":"QUI"},{"$f":"IF(Y7<>\"\",IFERROR(VLOOKUP(WEEKDAY(CONCATENATE(Y7,$X$5,$AL$5)),Tabelas!$I:$J,2,0),\"\"),\"\")","v":"SEX"},{"$f":"IF(Z7<>\"\",IFERROR(VLOOKUP(WEEKDAY(CONCATENATE(Z7,$X$5,$AL$5)),Tabelas!$I:$J,2,0),\"\"),\"\")","v":"SAB"},{"$f":"IF(AA7<>\"\",IFERROR(VLOOKUP(WEEKDAY(CONCATENATE(AA7,$X$5,$AL$5)),Tabelas!$I:$J,2,0),\"\"),\"\")","v":"DOM"},{"$f":"IF(AB7<>\"\",IFERROR(VLOOKUP(WEEKDAY(CONCATENATE(AB7,$X$5,$AL$5)),Tabelas!$I:$J,2,0),\"\"),\"\")","v":"SEG"},{"$f":"IF(AC7<>\"\",IFERROR(VLOOKUP(WEEKDAY(CONCATENATE(AC7,$X$5,$AL$5)),Tabelas!$I:$J,2,0),\"\"),\"\")","v":"TER"},{"$f":"IF(AD7<>\"\",IFERROR(VLOOKUP(WEEKDAY(CONCATENATE(AD7,$X$5,$AL$5)),Tabelas!$I:$J,2,0),\"\"),\"\")","v":"QUA"},{"$f":"IF(AE7<>\"\",IFERROR(VLOOKUP(WEEKDAY(CONCATENATE(AE7,$X$5,$AL$5)),Tabelas!$I:$J,2,0),\"\"),\"\")","v":"QUI"},{"$f":"IF(AF7<>\"\",IFERROR(VLOOKUP(WEEKDAY(CONCATENATE(AF7,$X$5,$AL$5)),Tabelas!$I:$J,2,0),\"\"),\"\")","v":"SEX"},{"$f":"IF(AG7<>\"\",IFERROR(VLOOKUP(WEEKDAY(CONCATENATE(AG7,$X$5,$AL$5)),Tabelas!$I:$J,2,0),\"\"),\"\")","v":"SAB"},{"$f":"IF(AH7<>\"\",IFERROR(VLOOKUP(WEEKDAY(CONCATENATE(AH7,$X$5,$AL$5)),Tabelas!$I:$J,2,0),\"\"),\"\")","v":"DOM"},{"$f":"IF(AI7<>\"\",IFERROR(VLOOKUP(WEEKDAY(CONCATENATE(AI7,$X$5,$AL$5)),Tabelas!$I:$J,2,0),\"\"),\"\")","v":"SEG"},{"$f":"IF(AJ7<>\"\",IFERROR(VLOOKUP(WEEKDAY(CONCATENATE(AJ7,$X$5,$AL$5)),Tabelas!$I:$J,2,0),\"\"),\"\")","v":"TER"},{"$f":"IF(AK7<>\"\",IFERROR(VLOOKUP(WEEKDAY(CONCATENATE(AK7,$X$5,$AL$5)),Tabelas!$I:$J,2,0),\"\"),\"\")","v":"QUA"},{"$f":"IF(AL7<>\"\",IFERROR(VLOOKUP(WEEKDAY(CONCATENATE(AL7,$X$5,$AL$5)),Tabelas!$I:$J,2,0),\"\"),\"\")","v":"QUI"},{"$f":"IF(AM7<>\"\",IFERROR(VLOOKUP(WEEKDAY(CONCATENATE(AM7,$X$5,$AL$5)),Tabelas!$I:$J,2,0),\"\"),\"\")","v":"SEX"},{"$f":"IF(AN7<>\"\",IFERROR(VLOOKUP(WEEKDAY(CONCATENATE(AN7,$X$5,$AL$5)),Tabelas!$I:$J,2,0),\"\"),\"\")","v":"SAB"},{"$f":"IF(AO7<>\"\",IFERROR(VLOOKUP(WEEKDAY(CONCATENATE(AO7,$X$5,$AL$5)),Tabelas!$I:$J,2,0),\"\"),\"\")","v":"DOM"},{"$f":"IF(AP7<>\"\",IFERROR(VLOOKUP(WEEKDAY(CONCATENATE(AP7,$X$5,$AL$5)),Tabelas!$I:$J,2,0),\"\"),\"\")","v":"SEG"},{"$f":"IF(AQ7<>\"\",IFERROR(VLOOKUP(WEEKDAY(CONCATENATE(AQ7,$X$5,$AL$5)),Tabelas!$I:$J,2,0),\"\"),\"\")","v":""},1,2,3,4,5,6,7,8,9,10,11,12,13,14,15,16,17,18,19,20,21,22,23,24,25,26,27,28,29,30,31]
["FULANO 1",1,null,null,null,null,null,null,null,null,null,null,null,null,null,null,null,null,null,null,null,null,null,null,null,null,null,null,null,null,null,null,null,null,null,null,null,null,null,null,null,null,null,{"$f":"IF(A9<>\"\",IFERROR(VLOOKUP(M9,Tabelas!B:D,3,0),0),\"\")","v":0},{"$f":"IF(A9<>\"\",IFERROR(VLOOKUP(N9,Tabelas!B:D,3,0),0),\"\")","v":0},{"$f":"IF(A9<>\"\",IFERROR(VLOOKUP(O9,Tabelas!B:D,3,0),0),\"\")","v":0},{"$f":"IF(A9<>\"\",IFERROR(VLOOKUP(P9,Tabelas!B:D,3,0),0),\"\")","v":0},{"$f":"IF(A9<>\"\",IFERROR(VLOOKUP(Q9,Tabelas!B:D,3,0),0),\"\")","v":0},{"$f":"IF(A9<>\"\",IFERROR(VLOOKUP(R9,Tabelas!B:D,3,0),0),\"\")","v":0},{"$f":"IF(A9<>\"\",IFERROR(VLOOKUP(S9,Tabelas!B:D,3,0),0),\"\")","v":0},{"$f":"IF(A9<>\"\",IFERROR(VLOOKUP(T9,Tabelas!B:D,3,0),0),\"\")","v":0},{"$f":"IF(A9<>\"\",IFERROR(VLOOKUP(U9,Tabelas!B:D,3,0),0),\"\")","v":0},{"$f":"IF(A9<>\"\",IFERROR(VLOOKUP(V9,Tabelas!B:D,3,0),0),\"\")","v":0},{"$f":"IF(A9<>\"\",IFERROR(VLOOKUP(W9,Tabelas!B:D,3,0),0),\"\")","v":0},{"$f":"IF(A9<>\"\",IFERROR(VLOOKUP(X9,Tabelas!B:D,3,0),0),\"\")","v":0},{"$f":"IF(A9<>\"\",IFERROR(VLOOKUP(Y9,Tabelas!B:D,3,0),0),\"\")","v":0},{"$f":"IF(A9<>\"\",IFERROR(VLOOKUP(Z9,Tabelas!B:D,3,0),0),\"\")","v":0},{"$f":"IF(A9<>\"\",IFERROR(VLOOKUP(AA9,Tabelas!B:D,3,0),0),\"\")","v":0},{"$f":"IF(A9<>\"\",IFERROR(VLOOKUP(AB9,Tabelas!B:D,3,0),0),\"\")","v":0},{"$f":"IF(A9<>\"\",IFERROR(VLOOKUP(AC9,Tabelas!B:D,3,0),0),\"\")","v":0},{"$f":"IF(A9<>\"\",IFERROR(VLOOKUP(AD9,Tabelas!B:D,3,0),0),\"\")","v":0},{"$f":"IF(A9<>\"\",IFERROR(VLOOKUP(AE9,Tabelas!B:D,3,0),0),\"\")","v":0},{"$f":"IF(A9<>\"\",IFERROR(VLOOKUP(AF9,Tabelas!B:D,3,0),0),\"\")","v":0},{"$f":"IF(A9<>\"\",IFERROR(VLOOKUP(AG9,Tabelas!B:D,3,0),0),\"\")","v":0},{"$f":"IF(A9<>\"\",IFERROR(VLOOKUP(AH9,Tabelas!B:D,3,0),0),\"\")","v":0},{"$f":"IF(A9<>\"\",IFERROR(VLOOKUP(AI9,Tabelas!B:D,3,0),0),\"\")","v":0},{"$f":"IF(A9<>\"\",IFERROR(VLOOKUP(AJ9,Tabelas!B:D,3,0),0),\"\")","v":0},{"$f":"IF(A9<>\"\",IFERROR(VLOOKUP(AK9,Tabelas!B:D,3,0),0),\"\")","v":0},{"$f":"IF(A9<>\"\",IFERROR(VLOOKUP(AL9,Tabelas!B:D,3,0),0),\"\")","v":0},{"$f":"IF(A9<>\"\",IFERROR(VLOOKUP(AM9,Tabelas!B:D,3,0),0),\"\")","v":0},{"$f":"IF(A9<>\"\",IFERROR(VLOOKUP(AN9,Tabelas!B:D,3,0),0),\"\")","v":0},{"$f":"IF(A9<>\"\",IFERROR(VLOOKUP(AO9,Tabelas!B:D,3,0),0),\"\")","v":0},{"$f":"IF(A9<>\"\",IFERROR(VLOOKUP(AP9,Tabelas!B:D,3,0),0),\"\")","v":0},{"$f":"IF(A9<>\"\",IFERROR(VLOOKUP(AQ9,Tabelas!B:D,3,0),0),\"\")","v":0},{"$f":"IF(AND(A9<>\"\",E9=\"Ebserh\"),SUM(AR9:BV9)+COUNTIF(M9:AQ9,\"N*\")+COUNTIF(M9:AQ9,\"DN*\"),IF(AND(A9<>\"\",E9<>\"Ebserh\"),SUM(AR9:BV9),\"\"))","v":0},{"$f":"IF(A9<>\"\",COUNTIF(M9:AQ9,\"LM\")+COUNTIF(M9:AQ9,\"L\")+COUNTIF(M9:AQ9,\"LP\"),\"\")","v":0},{"$f":"IF(A9<>\"\",COUNTIF(M9:AQ9,\"AB*\"),\"\")","v":0},{"$f":"IF(A9<>\"\",COUNTIF(M9:AQ9,\"FE\"),\"\")","v":0},{"$f":"IF(A9<>\"\",COUNTIF(M9:AQ9,\"LC\"),\"\")","v":0},{"$f":"IF(A9<>\"\",COUNTIF(M9:AQ9,\"CH*\"),\"\")","v":0},{"$f":"IF(A9<>\"\",COUNTIF(M9:AQ9,\"AF1\")+COUNTIF(M9:AQ9,\"AF2\")+COUNTIF(M9:AQ9,\"AF3\")+COUNTIF(M9:AQ9,\"AF4\")+COUNTIF(M9:AQ9,\"AF5\")+COUNTIF(M9:AQ9,\"AF6\")+COUNTIF(M9:AQ9,\"AF7\")+COUNTIF(M9:AQ9,\"AF8\")+COUNTIF(M9:AQ9,\"AF9\")+COUNTIF(M9:AQ9,\"AF10\")+COUNTIF(M9:AQ9,\"AF11\")+COUNTIF(M9:AQ9,\"AF12\")+COUNTIF(M9:AQ9,\"AF13\")+COUNTIF(M9:AQ9,\"AF14\"),\"\")","v":0},{"$f":"IF(A9<>\"\",COUNTIF(M9:AQ9,\"CH*\")+COUNTIF(M9:AQ9,\"L\")+COUNTIF(M9:AQ9,\"LM\")+COUNTIF(M9:AQ9,\"LP\")+COUNTIF(M9:AQ9,\"LC\")+COUNTIF(M9:AQ9,\"AB*\")+COUNTIF(M9:AQ9,\"AF1\")+COUNTIF(M9:AQ9,\"AF2\")+COUNTIF(M9:AQ9,\"AF3\")+COUNTIF(M9:AQ9,\"AF4\")+COUNTIF(M9:AQ9,\"AF5\")+COUNTIF(M9:AQ9,\"AF6\")+COUNTIF(M9:AQ9,\"AF7\")+COUNTIF(M9:AQ9,\"AF8\")+COUNTIF(M9:AQ9,\"AF9\")+COUNTIF(M9:AQ9,\"AF10\")+COUNTIF(M9:AQ9,\"AF11\")+COUNTIF(M9:AQ9,\"AF12\")+COUNTIF(M9:AQ9,\"AF13\")+COUNTIF(M9:AQ9,\"AF14\")+COUNTIF(M9:AQ9,\"RC\")+COUNTIF(M9:AQ9,\"FO\")+COUNTIF(M9:AQ9,\"FE\"),\"\")","v":0}]
["FULANO 2",2,null,null,null,null,null,null,null,null,null,null,null,null,null,null,null,null,null,null,null,null,null,null,null,null,null,null,null,null,null,null,null,null,null,null,null,null,null,null,null,null,null,{"$f":"IF(A10<>\"\",IFERROR(VLOOKUP(M10,Tabelas!B:D,3,0),0),\"\")","v":0},{"$f":"IF(A10<>\"\",IFERROR(VLOOKUP(N10,Tabelas!B:D,3,0),0),\"\")","v":0},{"$f":"IF(A10<>\"\",IFERROR(VLOOKUP(O10,Tabelas!B:D,3,0),0),\"\")","v":0},{"$f":"IF(A10<>\"\",IFERROR(VLOOKUP(P10,Tabelas!B:D,3,0),0),\"\")","v":0},{"$f":"IF(A10<>\"\",IFERROR(VLOOKUP(Q10,Tabelas!B:D,3,0),0),\"\")","v":0},{"$f":"IF(A10<>\"\",IFERROR(VLOOKUP(R10,Tabelas!B:D,3,0),0),\"\")","v":0},{"$f":"IF(A10<>\"\",IFERROR(VLOOKUP(S10,Tabelas!B:D,3,0),0),\"\")","v":0},{"$f":"IF(A10<>\"\",IFERROR(VLOOKUP(T10,Tabelas!B:D,3,0),0),\"\")","v":0},{"$f":"IF(A10<>\"\",IFERROR(VLOOKUP(U10,Tabelas!B:D,3,0),0),\"\")","v":0},{"$f":"IF(A10<>\"\",IFERROR(VLOOKUP(V10,Tabelas!B:D,3,0),0),\"\")","v":0},{"$f":"IF(A10<>\"\",IFERROR(VLOOKUP(W10,Tabelas!B:D,3,0),0),\"\")","v":0},{"$f":"IF(A10<>\"\",IFERROR(VLOOKUP(X10,Tabelas!B:D,3,0),0),\"\")","v":0},{"$f":"IF(A10<>\"\",IFERROR(VLOOKUP(Y10,Tabelas!B:D,3,0),0),\"\")","v":0},{"$f":"IF(A10<>\"\",IFERROR(VLOOKUP(Z10,Tabelas!B:D,3,0),0),\"\")","v":0},{"$f":"IF(A10<>\"\",IFERROR(VLOOKUP(AA10,Tabelas!B:D,3,0),0),\"\")","v":0},{"$f":"IF(A10<>\"\",IFERROR(VLOOKUP(AB10,Tabelas!B:D,3,0),0),\"\")","v":0},{"$f":"IF(A10<>\"\",IFERROR(VLOOKUP(AC10,Tabelas!B:D,3,0),0),\"\")","v":0},{"$f":"IF(A10<>\"\",IFERROR(VLOOKUP(AD10,Tabelas!B:D,3,0),0),\"\")","v":0},{"$f":"IF(A10<>\"\",IFERROR(VLOOKUP(AE10,Tabelas!B:D,3,0),0),\"\")","v":0},{"$f":"IF(A10<>\"\",IFERROR(VLOOKUP(AF10,Tabelas!B:D,3,0),0),\"\")","v":0},{"$f":"IF(A10<>\"\",IFERROR(VLOOKUP(AG10,Tabelas!B:D,3,0),0),\"\")","v":0},{"$f":"IF(A10<>\"\",IFERROR(VLOOKUP(AH10,Tabelas!B:D,3,0),0),\"\")","v":0},{"$f":"IF(A10<>\"\",IFERROR(VLOOKUP(AI10,Tabelas!B:D,3,0),0),\"\")","v":0},{"$f":"IF(A10<>\"\",IFERROR(VLOOKUP(AJ10,Tabelas!B:D,3,0),0),\"\")","v":0},{"$f":"IF(A10<>\"\",IFERROR(VLOOKUP(AK10,Tabelas!B:D,3,0),0),\"\")","v":0},{"$f":"IF(A10<>\"\",IFERROR(VLOOKUP(AL10,Tabelas!B:D,3,0),0),\"\")","v":0},{"$f":"IF(A10<>\"\",IFERROR(VLOOKUP(AM10,Tabelas!B:D,3,0),0),\"\")","v":0},{"$f":"IF(A10<>\"\",IFERROR(VLOOKUP(AN10,Tabelas!B:D,3,0),0),\"\")","v":0},{"$f":"IF(A10<>\"\",IFERROR(VLOOKUP(AO10,Tabelas!B:D,3,0),0),\"\")","v":0},{"$f":"IF(A10<>\"\",IFERROR(VLOOKUP(AP10,Tabelas!B:D,3,0),0),\"\")","v":0},{"$f":"IF(A10<>\"\",IFERROR(VLOOKUP(AQ10,Tabelas!B:D,3,0),0),\"\")","v":0},0,0,0,0,0,0,0,0]
["FULANO 3",3,null,null,null,null,null,null,null,null,null,null,null,null,null,null,null,null,null,null,null,null,null,null,null,null,null,null,null,null,null,null,null,null,null,null,null,null,null,null,null,null,null,{"$f":"IF(A11<>\"\",IFERROR(VLOOKUP(M11,Tabelas!B:D,3,0),0),\"\")","v":0},{"$f":"IF(A11<>\"\",IFERROR(VLOOKUP(N11,Tabelas!B:D,3,0),0),\"\")","v":0},{"$f":"IF(A11<>\"\",IFERROR(VLOOKUP(O11,Tabelas!B:D,3,0),0),\"\")","v":0},{"$f":"IF(A11<>\"\",IFERROR(VLOOKUP(P11,Tabelas!B:D,3,0),0),\"\")","v":0},{"$f":"IF(A11<>\"\",IFERROR(VLOOKUP(Q11,Tabelas!B:D,3,0),0),\"\")","v":0},{"$f":"IF(A11<>\"\",IFERROR(VLOOKUP(R11,Tabelas!B:D,3,0),0),\"\")","v":0},{"$f":"IF(A11<>\"\",IFERROR(VLOOKUP(S11,Tabelas!B:D,3,0),0),\"\")","v":0},{"$f":"IF(A11<>\"\",IFERROR(VLOOKUP(T11,Tabelas!B:D,3,0),0),\"\")","v":0},{"$f":"IF(A11<>\"\",IFERROR(VLOOKUP(U11,Tabelas!B:D,3,0),0),\"\")","v":0},{"$f":"IF(A11<>\"\",IFERROR(VLOOKUP(V11,Tabelas!B:D,3,0),0),\"\")","v":0},{"$f":"IF(A11<>\"\",IFERROR(VLOOKUP(W11,Tabelas!B:D,3,0),0),\"\")","v":0},{"$f":"IF(A11<>\"\",IFERROR(VLOOKUP(X11,Tabelas!B:D,3,0),0),\"\")","v":0},{"$f":"IF(A11<>\"\",IFERROR(VLOOKUP(Y11,Tabelas!B:D,3,0),0),\"\")","v":0},{"$f":"IF(A11<>\"\",IFERROR(VLOOKUP(Z11,Tabelas!B:D,3,0),0),\"\")","v":0},{"$f":"IF(A11<>\"\",IFERROR(VLOOKUP(AA11,Tabelas!B:D,3,0),0),\"\")","v":0},{"$f":"IF(A11<>\"\",IFERROR(VLOOKUP(AB11,Tabelas!B:D,3,0),0),\"\")","v":0},{"$f":"IF(A11<>\"\",IFERROR(VLOOKUP(AC11,Tabelas!B:D,3,0),0),\"\")","v":0},{"$f":"IF(A11<>\"\",IFERROR(VLOOKUP(AD11,Tabelas!B:D,3,0),0),\"\")","v":0},{"$f":"IF(A11<>\"\",IFERROR(VLOOKUP(AE11,Tabelas!B:D,3,0),0),\"\")","v":0},{"$f":"IF(A11<>\"\",IFERROR(VLOOKUP(AF11,Tabelas!B:D,3,0),0),\"\")","v":0},{"$f":"IF(A11<>\"\",IFERROR(VLOOKUP(AG11,Tabelas!B:D,3,0),0),\"\")","v":0},{"$f":"IF(A11<>\"\",IFERROR(VLOOKUP(AH11,Tabelas!B:D,3,0),0),\"\")","v":0},{"$f":"IF(A11<>\"\",IFERROR(VLOOKUP(AI11,Tabelas!B:D,3,0),0),\"\")","v":0},{"$f":"IF(A11<>\"\",IFERROR(VLOOKUP(AJ11,Tabelas!B:D,3,0),0),\"\")","v":0},{"$f":"IF(A11<>\"\",IFERROR(VLOOKUP(AK11,Tabelas!B:D,3,0),0),\"\")","v":0},{"$f":"IF(A11<>\"\",IFERROR(VLOOKUP(AL11,Tabelas!B:D,3,0),0),\"\")","v":0},{"$f":"IF(A11<>\"\",IFERROR(VLOOKUP(AM11,Tabelas!B:D,3,0),0),\"\")","v":0},{"$f":"IF(A11<>\"\",IFERROR(VLOOKUP(AN11,Tabelas!B:D,3,0),0),\"\")","v":0},{"$f":"IF(A11<>\"\",IFERROR(VLOOKUP(AO11,Tabelas!B:D,3,0),0),\"\")","v":0},{"$f":"IF(A11<>\"\",IFERROR(VLOOKUP(AP11,Tabelas!B:D,3,0),0),\"\")","v":0},{"$f":"IF(A11<>\"\",IFERROR(VLOOKUP(AQ11,Tabelas!B:D,3,0),0),\"\")","v":0},0,0,0,0,0,0,0,0]
["FULANO 4",4,null,null,null,null,null,null,null,null,null,null,null,null,null,null,null,null,null,null,null,null,null,null,null,null,null,null,null,null,null,null,null,null,null,null,null,null,null,null,null,null,null,{"$f":"IF(A12<>\"\",IFERROR(VLOOKUP(M12,Tabelas!B:D,3,0),0),\"\")","v":0},{"$f":"IF(A12<>\"\",IFERROR(VLOOKUP(N12,Tabelas!B:D,3,0),0),\"\")","v":0},{"$f":"IF(A12<>\"\",IFERROR(VLOOKUP(O12,Tabelas!B:D,3,0),0),\"\")","v":0},{"$f":"IF(A12<>\"\",IFERROR(VLOOKUP(P12,Tabelas!B:D,3,0),0),\"\")","v":0},{"$f":"IF(A12<>\"\",IFERROR(VLOOKUP(Q12,Tabelas!B:D,3,0),0),\"\")","v":0},{"$f":"IF(A12<>\"\",IFERROR(VLOOKUP(R12,Tabelas!B:D,3,0),0),\"\")","v":0},{"$f":"IF(A12<>\"\",IFERROR(VLOOKUP(S12,Tabelas!B:D,3,0),0),\"\")","v":0},{"$f":"IF(A12<>\"\",IFERROR(VLOOKUP(T12,Tabelas!B:D,3,0),0),\"\")","v":0},{"$f":"IF(A12<>\"\",IFERROR(VLOOKUP(U12,Tabelas!B:D,3,0),0),\"\")","v":0},{"$f":"IF(A12<>\"\",IFERROR(VLOOKUP(V12,Tabelas!B:D,3,0),0),\"\")","v":0},{"$f":"IF(A12<>\"\",IFERROR(VLOOKUP(W12,Tabelas!B:D,3,0),0),\"\")","v":0},{"$f":"IF(A12<>\"\",IFERROR(VLOOKUP(X12,Tabelas!B:D,3,0),0),\"\")","v":0},{"$f":"IF(A12<>\"\",IFERROR(VLOOKUP(Y12,Tabelas!B:D,3,0),0),\"\")","v":0},{"$f":"IF(A12<>\"\",IFERROR(VLOOKUP(Z12,Tabelas!B:D,3,0),0),\"\")","v":0},{"$f":"IF(A12<>\"\",IFERROR(VLOOKUP(AA12,Tabelas!B:D,3,0),0),\"\")","v":0},{"$f":"IF(A12<>\"\",IFERROR(VLOOKUP(AB12,Tabelas!B:D,3,0),0),\"\")","v":0},{"$f":"IF(A12<>\"\",IFERROR(VLOOKUP(AC12,Tabelas!B:D,3,0),0),\"\")","v":0},{"$f":"IF(A12<>\"\",IFERROR(VLOOKUP(AD12,Tabelas!B:D,3,0),0),\"\")","v":0},{"$f":"IF(A12<>\"\",IFERROR(VLOOKUP(AE12,Tabelas!B:D,3,0),0),\"\")","v":0},{"$f":"IF(A12<>\"\",IFERROR(VLOOKUP(AF12,Tabelas!B:D,3,0),0),\"\")","v":0},{"$f":"IF(A12<>\"\",IFERROR(VLOOKUP(AG12,Tabelas!B:D,3,0),0),\"\")","v":0},{"$f":"IF(A12<>\"\",IFERROR(VLOOKUP(AH12,Tabelas!B:D,3,0),0),\"\")","v":0},{"$f":"IF(A12<>\"\",IFERROR(VLOOKUP(AI12,Tabelas!B:D,3,0),0),\"\")","v":0},{"$f":"IF(A12<>\"\",IFERROR(VLOOKUP(AJ12,Tabelas!B:D,3,0),0),\"\")","v":0},{"$f":"IF(A12<>\"\",IFERROR(VLOOKUP(AK12,Tabelas!B:D,3,0),0),\"\")","v":0},{"$f":"IF(A12<>\"\",IFERROR(VLOOKUP(AL12,Tabelas!B:D,3,0),0),\"\")","v":0},{"$f":"IF(A12<>\"\",IFERROR(VLOOKUP(AM12,Tabelas!B:D,3,0),0),\"\")","v":0},{"$f":"IF(A12<>\"\",IFERROR(VLOOKUP(AN12,Tabelas!B:D,3,0),0),\"\")","v":0},{"$f":"IF(A12<>\"\",IFERROR(VLOOKUP(AO12,Tabelas!B:D,3,0),0),\"\")","v":0},{"$f":"IF(A12<>\"\",IFERROR(VLOOKUP(AP12,Tabelas!B:D,3,0),0),\"\")","v":0},{"$f":"IF(A12<>\"\",IFERROR(VLOOKUP(AQ12,Tabelas!B:D,3,0),0),\"\")","v":0},0,0,0,0,0,0,0,0]
["FULANO 5",5,null,null,null,null,null,null,null,null,null,null,null,null,null,null,null,null,null,null,null,null,null,null,null,null,null,null,null,null,null,null,null,null,null,null,null,null,null,null,null,null,null,{"$f":"IF(A13<>\"\",IFERROR(VLOOKUP(M13,Tabelas!B:D,3,0),0),\"\")","v":0},{"$f":"IF(A13<>\"\",IFERROR(VLOOKUP(N13,Tabelas!B:D,3,0),0),\"\")","v":0},{"$f":"IF(A13<>\"\",IFERROR(VLOOKUP(O13,Tabelas!B:D,3,0),0),\"\")","v":0},{"$f":"IF(A13<>\"\",IFERROR(VLOOKUP(P13,Tabelas!B:D,3,0),0),\"\")","v":0},{"$f":"IF(A13<>\"\",IFERROR(VLOOKUP(Q13,Tabelas!B:D,3,0),0),\"\")","v":0},{"$f":"IF(A13<>\"\",IFERROR(VLOOKUP(R13,Tabelas!B:D,3,0),0),\"\")","v":0},{"$f":"IF(A13<>\"\",IFERROR(VLOOKUP(S13,Tabelas!B:D,3,0),0),\"\")","v":0},{"$f":"IF(A13<>\"\",IFERROR(VLOOKUP(T13,Tabelas!B:D,3,0),0),\"\")","v":0},{"$f":"IF(A13<>\"\",IFERROR(VLOOKUP(U13,Tabelas!B:D,3,0),0),\"\")","v":0},{"$f":"IF(A13<>\"\",IFERROR(VLOOKUP(V13,Tabelas!B:D,3,0),0),\"\")","v":0},{"$f":"IF(A13<>\"\",IFERROR(VLOOKUP(W13,Tabelas!B:D,3,0),0),\"\")","v":0},{"$f":"IF(A13<>\"\",IFERROR(VLOOKUP(X13,Tabelas!B:D,3,0),0),\"\")","v":0},{"$f":"IF(A13<>\"\",IFERROR(VLOOKUP(Y13,Tabelas!B:D,3,0),0),\"\")","v":0},{"$f":"IF(A13<>\"\",IFERROR(VLOOKUP(Z13,Tabelas!B:D,3,0),0),\"\")","v":0},{"$f":"IF(A13<>\"\",IFERROR(VLOOKUP(AA13,Tabelas!B:D,3,0),0),\"\")","v":0},{"$f":"IF(A13<>\"\",IFERROR(VLOOKUP(AB13,Tabelas!B:D,3,0),0),\"\")","v":0},{"$f":"IF(A13<>\"\",IFERROR(VLOOKUP(AC13,Tabelas!B:D,3,0),0),\"\")","v":0},{"$f":"IF(A13<>\"\",IFERROR(VLOOKUP(AD13,Tabelas!B:D,3,0),0),\"\")","v":0},{"$f":"IF(A13<>\"\",IFERROR(VLOOKUP(AE13,Tabelas!B:D,3,0),0),\"\")","v":0},{"$f":"IF(A13<>\"\",IFERROR(VLOOKUP(AF13,Tabelas!B:D,3,0),0),\"\")","v":0},{"$f":"IF(A13<>\"\",IFERROR(VLOOKUP(AG13,Tabelas!B:D,3,0),0),\"\")","v":0},{"$f":"IF(A13<>\"\",IFERROR(VLOOKUP(AH13,Tabelas!B:D,3,0),0),\"\")","v":0},{"$f":"IF(A13<>\"\",IFERROR(VLOOKUP(AI13,Tabelas!B:D,3,0),0),\"\")","v":0},{"$f":"IF(A13<>\"\",IFERROR(VLOOKUP(AJ13,Tabelas!B:D,3,0),0),\"\")","v":0},{"$f":"IF(A13<>\"\",IFERROR(VLOOKUP(AK13,Tabelas!B:D,3,0),0),\"\")","v":0},{"$f":"IF(A13<>\"\",IFERROR(VLOOKUP(AL13,Tabelas!B:D,3,0),0),\"\")","v":0},{"$f":"IF(A13<>\"\",IFERROR(VLOOKUP(AM13,Tabelas!B:D,3,0),0),\"\")","v":0},{"$f":"IF(A13<>\"\",IFERROR(VLOOKUP(AN13,Tabelas!B:D,3,0),0),\"\")","v":0},{"$f":"IF(A13<>\"\",IFERROR(VLOOKUP(AO13,Tabelas!B:D,3,0),0),\"\")","v":0},{"$f":"IF(A13<>\"\",IFERROR(VLOOKUP(AP13,Tabelas!B:D,3,0),0),\"\")","v":0},{"$f":"IF(A13<>\"\",IFERROR(VLOOKUP(AQ13,Tabelas!B:D,3,0),0),\"\")","v":0},0,0,0,0,0,0,0,0]
["FULANO 6",6,null,null,null,null,null,null,null,null,null,null,null,null,null,null,null,null,null,null,null,null,null,null,null,null,null,null,null,null,null,null,null,null,null,null,null,null,null,null,null,null,null,{"$f":"IF(A14<>\"\",IFERROR(VLOOKUP(M14,Tabelas!B:D,3,0),0),\"\")","v":0},{"$f":"IF(A14<>\"\",IFERROR(VLOOKUP(N14,Tabelas!B:D,3,0),0),\"\")","v":0},{"$f":"IF(A14<>\"\",IFERROR(VLOOKUP(O14,Tabelas!B:D,3,0),0),\"\")","v":0},{"$f":"IF(A14<>\"\",IFERROR(VLOOKUP(P14,Tabelas!B:D,3,0),0),\"\")","v":0},{"$f":"IF(A14<>\"\",IFERROR(VLOOKUP(Q14,Tabelas!B:D,3,0),0),\"\")","v":0},{"$f":"IF(A14<>\"\",IFERROR(VLOOKUP(R14,Tabelas!B:D,3,0),0),\"\")","v":0},{"$f":"IF(A14<>\"\",IFERROR(VLOOKUP(S14,Tabelas!B:D,3,0),0),\"\")","v":0},{"$f":"IF(A14<>\"\",IFERROR(VLOOKUP(T14,Tabelas!B:D,3,0),0),\"\")","v":0},{"$f":"IF(A14<>\"\",IFERROR(VLOOKUP(U14,Tabelas!B:D,3,0),0),\"\")","v":0},{"$f":"IF(A14<>\"\",IFERROR(VLOOKUP(V14,Tabelas!B:D,3,0),0),\"\")","v":0},{"$f":"IF(A14<>\"\",IFERROR(VLOOKUP(W14,Tabelas!B:D,3,0),0),\"\")","v":0},{"$f":"IF(A14<>\"\",IFERROR(VLOOKUP(X14,Tabelas!B:D,3,0),0),\"\")","v":0},{"$f":"IF(A14<>\"\",IFERROR(VLOOKUP(Y14,Tabelas!B:D,3,0),0),\"\")","v":0},{"$f":"IF(A14<>\"\",IFERROR(VLOOKUP(Z14,Tabelas!B:D,3,0),0),\"\")","v":0},{"$f":"IF(A14<>\"\",IFERROR(VLOOKUP(AA14,Tabelas!B:D,3,0),0),\"\")","v":0},{"$f":"IF(A14<>\"\",IFERROR(VLOOKUP(AB14,Tabelas!B:D,3,0),0),\"\")","v":0},{"$f":"IF(A14<>\"\",IFERROR(VLOOKUP(AC14,Tabelas!B:D,3,0),0),\"\")","v":0},{"$f":"IF(A14<>\"\",IFERROR(VLOOKUP(AD14,Tabelas!B:D,3,0),0),\"\")","v":0},{"$f":"IF(A14<>\"\",IFERROR(VLOOKUP(AE14,Tabelas!B:D,3,0),0),\"\")","v":0},{"$f":"IF(A14<>\"\",IFERROR(VLOOKUP(AF14,Tabelas!B:D,3,0),0),\"\")","v":0},{"$f":"IF(A14<>\"\",IFERROR(VLOOKUP(AG14,Tabelas!B:D,3,0),0),\"\")","v":0},{"$f":"IF(A14<>\"\",IFERROR(VLOOKUP(AH14,Tabelas!B:D,3,0),0),\"\")","v":0},{"$f":"IF(A14<>\"\",IFERROR(VLOOKUP(AI14,Tabelas!B:D,3,0),0),\"\")","v":0},{"$f":"IF(A14<>\"\",IFERROR(VLOOKUP(AJ14,Tabelas!B:D,3,0),0),\"\")","v":0},{"$f":"IF(A14<>\"\",IFERROR(VLOOKUP(AK14,Tabelas!B:D,3,0),0),\"\")","v":0},{"$f":"IF(A14<>\"\",IFERROR(VLOOKUP(AL14,Tabelas!B:D,3,0),0),\"\")","v":0},{"$f":"IF(A14<>\"\",IFERROR(VLOOKUP(AM14,Tabelas!B:D,3,0),0),\"\")","v":0},{"$f":"IF(A14<>\"\",IFERROR(VLOOKUP(AN14,Tabelas!B:D,3,0),0),\"\")","v":0},{"$f":"IF(A14<>\"\",IFERROR(VLOOKUP(AO14,Tabelas!B:D,3,0),0),\"\")","v":0},{"$f":"IF(A14<>\"\",IFERROR(VLOOKUP(AP14,Tabelas!B:D,3,0),0),\"\")","v":0},{"$f":"IF(A14<>\"\",IFERROR(VLOOKUP(AQ14,Tabelas!B:D,3,0),0),\"\")","v":0},0,0,0,0,0,0,0,0]
["FULANO 7",7,null,null,null,null,null,null,null,null,null,null,null,null,null,null,null,null,null,null,null,null,null,null,null,null,null,null,null,null,null,null,null,null,null,null,null,null,null,null,null,null,null,{"$f":"IF(A15<>\"\",IFERROR(VLOOKUP(M15,Tabelas!B:D,3,0),0),\"\")","v":0},{"$f":"IF(A15<>\"\",IFERROR(VLOOKUP(N15,Tabelas!B:D,3,0),0),\"\")","v":0},{"$f":"IF(A15<>\"\",IFERROR(VLOOKUP(O15,Tabelas!B:D,3,0),0),\"\")","v":0},{"$f":"IF(A15<>\"\",IFERROR(VLOOKUP(P15,Tabelas!B:D,3,0),0),\"\")","v":0},{"$f":"IF(A15<>\"\",IFERROR(VLOOKUP(Q15,Tabelas!B:D,3,0),0),\"\")","v":0},{"$f":"IF(A15<>\"\",IFERROR(VLOOKUP(R15,Tabelas!B:D,3,0),0),\"\")","v":0},{"$f":"IF(A15<>\"\",IFERROR(VLOOKUP(S15,Tabelas!B:D,3,0),0),\"\")","v":0},{"$f":"IF(A15<>\"\",IFERROR(VLOOKUP(T15,Tabelas!B:D,3,0),0),\"\")","v":0},{"$f":"IF(A15<>\"\",IFERROR(VLOOKUP(U15,Tabelas!B:D,3,0),0),\"\")","v":0},{"$f":"IF(A15<>\"\",IFERROR(VLOOKUP(V15,Tabelas!B:D,3,0),0),\"\")","v":0},{"$f":"IF(A15<>\"\",IFERROR(VLOOKUP(W15,Tabelas!B:D,3,0),0),\"\")","v":0},{"$f":"IF(A15<>\"\",IFERROR(VLOOKUP(X15,Tabelas!B:D,3,0),0),\"\")","v":0},{"$f":"IF(A15<>\"\",IFERROR(VLOOKUP(Y15,Tabelas!B:D,3,0),0),\"\")","v":0},{"$f":"IF(A15<>\"\",IFERROR(VLOOKUP(Z15,Tabelas!B:D,3,0),0),\"\")","v":0},{"$f":"IF(A15<>\"\",IFERROR(VLOOKUP(AA15,Tabelas!B:D,3,0),0),\"\")","v":0},{"$f":"IF(A15<>\"\",IFERROR(VLOOKUP(AB15,Tabelas!B:D,3,0),0),\"\")","v":0},{"$f":"IF(A15<>\"\",IFERROR(VLOOKUP(AC15,Tabelas!B:D,3,0),0),\"\")","v":0},{"$f":"IF(A15<>\"\",IFERROR(VLOOKUP(AD15,Tabelas!B:D,3,0),0),\"\")","v":0},{"$f":"IF(A15<>\"\",IFERROR(VLOOKUP(AE15,Tabelas!B:D,3,0),0),\"\")","v":0},{"$f":"IF(A15<>\"\",IFERROR(VLOOKUP(AF15,Tabelas!B:D,3,0),0),\"\")","v":0},{"$f":"IF(A15<>\"\",IFERROR(VLOOKUP(AG15,Tabelas!B:D,3,0),0),\"\")","v":0},{"$f":"IF(A15<>\"\",IFERROR(VLOOKUP(AH15,Tabelas!B:D,3,0),0),\"\")","v":0},{"$f":"IF(A15<>\"\",IFERROR(VLOOKUP(AI15,Tabelas!B:D,3,0),0),\"\")","v":0},{"$f":"IF(A15<>\"\",IFERROR(VLOOKUP(AJ15,Tabelas!B:D,3,0),0),\"\")","v":0},{"$f":"IF(A15<>\"\",IFERROR(VLOOKUP(AK15,Tabelas!B:D,3,0),0),\"\")","v":0},{"$f":"IF(A15<>\"\",IFERROR(VLOOKUP(AL15,Tabelas!B:D,3,0),0),\"\")","v":0},{"$f":"IF(A15<>\"\",IFERROR(VLOOKUP(AM15,Tabelas!B:D,3,0),0),\"\")","v":0},{"$f":"IF(A15<>\"\",IFERROR(VLOOKUP(AN15,Tabelas!B:D,3,0),0),\"\")","v":0},{"$f":"IF(A15<>\"\",IFERROR(VLOOKUP(AO15,Tabelas!B:D,3,0),0),\"\")","v":0},{"$f":"IF(A15<>\"\",IFERROR(VLOOKUP(AP15,Tabelas!B:D,3,0),0),\"\")","v":0},{"$f":"IF(A15<>\"\",IFERROR(VLOOKUP(AQ15,Tabelas!B:D,3,0),0),\"\")","v":0},0,0,0,0,0,0,0,0]
["FULANO 8",8,null,null,null,null,null,null,null,null,null,null,null,null,null,null,null,null,null,null,null,null,null,null,null,null,null,null,null,null,null,null,null,null,null,null,null,null,null,null,null,null,null,{"$f":"IF(A16<>\"\",IFERROR(VLOOKUP(M16,Tabelas!B:D,3,0),0),\"\")","v":0},{"$f":"IF(A16<>\"\",IFERROR(VLOOKUP(N16,Tabelas!B:D,3,0),0),\"\")","v":0},{"$f":"IF(A16<>\"\",IFERROR(VLOOKUP(O16,Tabelas!B:D,3,0),0),\"\")","v":0},{"$f":"IF(A16<>\"\",IFERROR(VLOOKUP(P16,Tabelas!B:D,3,0),0),\"\")","v":0},{"$f":"IF(A16<>\"\",IFERROR(VLOOKUP(Q16,Tabelas!B:D,3,0),0),\"\")","v":0},{"$f":"IF(A16<>\"\",IFERROR(VLOOKUP(R16,Tabelas!B:D,3,0),0),\"\")","v":0},{"$f":"IF(A16<>\"\",IFERROR(VLOOKUP(S16,Tabelas!B:D,3,0),0),\"\")","v":0},{"$f":"IF(A16<>\"\",IFERROR(VLOOKUP(T16,Tabelas!B:D,3,0),0),\"\")","v":0},{"$f":"IF(A16<>\"\",IFERROR(VLOOKUP(U16,Tabelas!B:D,3,0),0),\"\")","v":0},{"$f":"IF(A16<>\"\",IFERROR(VLOOKUP(V16,Tabelas!B:D,3,0),0),\"\")","v":0},{"$f":"IF(A16<>\"\",IFERROR(VLOOKUP(W16,Tabelas!B:D,3,0),0),\"\")","v":0},{"$f":"IF(A16<>\"\",IFERROR(VLOOKUP(X16,Tabelas!B:D,3,0),0),\"\")","v":0},{"$f":"IF(A16<>\"\",IFERROR(VLOOKUP(Y16,Tabelas!B:D,3,0),0),\"\")","v":0},{"$f":"IF(A16<>\"\",IFERROR(VLOOKUP(Z16,Tabelas!B:D,3,0),0),\"\")","v":0},{"$f":"IF(A16<>\"\",IFERROR(VLOOKUP(AA16,Tabelas!B:D,3,0),0),\"\")","v":0},{"$f":"IF(A16<>\"\",IFERROR(VLOOKUP(AB16,Tabelas!B:D,3,0),0),\"\")","v":0},{"$f":"IF(A16<>\"\",IFERROR(VLOOKUP(AC16,Tabelas!B:D,3,0),0),\"\")","v":0},{"$f":"IF(A16<>\"\",IFERROR(VLOOKUP(AD16,Tabelas!B:D,3,0),0),\"\")","v":0},{"$f":"IF(A16<>\"\",IFERROR(VLOOKUP(AE16,Tabelas!B:D,3,0),0),\"\")","v":0},{"$f":"IF(A16<>\"\",IFERROR(VLOOKUP(AF16,Tabelas!B:D,3,0),0),\"\")","v":0},{"$f":"IF(A16<>\"\",IFERROR(VLOOKUP(AG16,Tabelas!B:D,3,0),0),\"\")","v":0},{"$f":"IF(A16<>\"\",IFERROR(VLOOKUP(AH16,Tabelas!B:D,3,0),0),\"\")","v":0},{"$f":"IF(A16<>\"\",IFERROR(VLOOKUP(AI16,Tabelas!B:D,3,0),0),\"\")","v":0},{"$f":"IF(A16<>\"\",IFERROR(VLOOKUP(AJ16,Tabelas!B:D,3,0),0),\"\")","v":0},{"$f":"IF(A16<>\"\",IFERROR(VLOOKUP(AK16,Tabelas!B:D,3,0),0),\"\")","v":0},{"$f":"IF(A16<>\"\",IFERROR(VLOOKUP(AL16,Tabelas!B:D,3,0),0),\"\")","v":0},{"$f":"IF(A16<>\"\",IFERROR(VLOOKUP(AM16,Tabelas!B:D,3,0),0),\"\")","v":0},{"$f":"IF(A16<>\"\",IFERROR(VLOOKUP(AN16,Tabelas!B:D,3,0),0),\"\")","v":0},{"$f":"IF(A16<>\"\",IFERROR(VLOOKUP(AO16,Tabelas!B:D,3,0),0),\"\")","v":0},{"$f":"IF(A16<>\"\",IFERROR(VLOOKUP(AP16,Tabelas!B:D,3,0),0),\"\")","v":0},{"$f":"IF(A16<>\"\",IFERROR(VLOOKUP(AQ16,Tabelas!B:D,3,0),0),\"\")","v":0},0,0,0,0,0,0,0,0]
["FULANO 9",9,null,null,null,null,null,null,null,null,null,null,null,null,null,null,null,null,null,null,null,null,null,null,null,null,null,null,null,null,null,null,null,null,null,null,null,null,null,null,null,null,null,{"$f":"IF(A17<>\"\",IFERROR(VLOOKUP(M17,Tabelas!B:D,3,0),0),\"\")","v":0},{"$f":"IF(A17<>\"\",IFERROR(VLOOKUP(N17,Tabelas!B:D,3,0),0),\"\")","v":0},{"$f":"IF(A17<>\"\",IFERROR(VLOOKUP(O17,Tabelas!B:D,3,0),0),\"\")","v":0},{"$f":"IF(A17<>\"\",IFERROR(VLOOKUP(P17,Tabelas!B:D,3,0),0),\"\")","v":0},{"$f":"IF(A17<>\"\",IFERROR(VLOOKUP(Q17,Tabelas!B:D,3,0),0),\"\")","v":0},{"$f":"IF(A17<>\"\",IFERROR(VLOOKUP(R17,Tabelas!B:D,3,0),0),\"\")","v":0},{"$f":"IF(A17<>\"\",IFERROR(VLOOKUP(S17,Tabelas!B:D,3,0),0),\"\")","v":0},{"$f":"IF(A17<>\"\",IFERROR(VLOOKUP(T17,Tabelas!B:D,3,0),0),\"\")","v":0},{"$f":"IF(A17<>\"\",IFERROR(VLOOKUP(U17,Tabelas!B:D,3,0),0),\"\")","v":0},{"$f":"IF(A17<>\"\",IFERROR(VLOOKUP(V17,Tabelas!B:D,3,0),0),\"\")","v":0},{"$f":"IF(A17<>\"\",IFERROR(VLOOKUP(W17,Tabelas!B:D,3,0),0),\"\")","v":0},{"$f":"IF(A17<>\"\",IFERROR(VLOOKUP(X17,Tabelas!B:D,3,0),0),\"\")","v":0},{"$f":"IF(A17<>\"\",IFERROR(VLOOKUP(Y17,Tabelas!B:D,3,0),0),\"\")","v":0},{"$f":"IF(A17<>\"\",IFERROR(VLOOKUP(Z17,Tabelas!B:D,3,0),0),\"\")","v":0},{"$f":"IF(A17<>\"\",IFERROR(VLOOKUP(AA17,Tabelas!B:D,3,0),0),\"\")","v":0},{"$f":"IF(A17<>\"\",IFERROR(VLOOKUP(AB17,Tabelas!B:D,3,0),0),\"\")","v":0},{"$f":"IF(A17<>\"\",IFERROR(VLOOKUP(AC17,Tabelas!B:D,3,0),0),\"\")","v":0},{"$f":"IF(A17<>\"\",IFERROR(VLOOKUP(AD17,Tabelas!B:D,3,0),0),\"\")","v":0},{"$f":"IF(A17<>\"\",IFERROR(VLOOKUP(AE17,Tabelas!B:D,3,0),0),\"\")","v":0},{"$f":"IF(A17<>\"\",IFERROR(VLOOKUP(AF17,Tabelas!B:D,3,0),0),\"\")","v":0},{"$f":"IF(A17<>\"\",IFERROR(VLOOKUP(AG17,Tabelas!B:D,3,0),0),\"\")","v":0},{"$f":"IF(A17<>\"\",IFERROR(VLOOKUP(AH17,Tabelas!B:D,3,0),0),\"\")","v":0},{"$f":"IF(A17<>\"\",IFERROR(VLOOKUP(AI17,Tabelas!B:D,3,0),0),\"\")","v":0},{"$f":"IF(A17<>\"\",IFERROR(VLOOKUP(AJ17,Tabelas!B:D,3,0),0),\"\")","v":0},{"$f":"IF(A17<>\"\",IFERROR(VLOOKUP(AK17,Tabelas!B:D,3,0),0),\"\")","v":0},{"$f":"IF(A17<>\"\",IFERROR(VLOOKUP(AL17,Tabelas!B:D,3,0),0),\"\")","v":0},{"$f":"IF(A17<>\"\",IFERROR(VLOOKUP(AM17,Tabelas!B:D,3,0),0),\"\")","v":0},{"$f":"IF(A17<>\"\",IFERROR(VLOOKUP(AN17,Tabelas!B:D,3,0),0),\"\")","v":0},{"$f":"IF(A17<>\"\",IFERROR(VLOOKUP(AO17,Tabelas!B:D,3,0),0),\"\")","v":0},{"$f":"IF(A17<>\"\",IFERROR(VLOOKUP(AP17,Tabelas!B:D,3,0),0),\"\")","v":0},{"$f":"IF(A17<>\"\",IFERROR(VLOOKUP(AQ17,Tabelas!B:D,3,0),0),\"\")","v":0},0,0,0,0,0,0,0,0]
["FULANO 10",10,null,null,null,null,null,null,null,null,null,null,null,null,null,null,null,null,null,null,null,null,null,null,null,null,null,null,null,null,null,null,null,null,null,null,null,null,null,null,null,null,null,{"$f":"IF(A18<>\"\",IFERROR(VLOOKUP(M18,Tabelas!B:D,3,0),0),\"\")","v":0},{"$f":"IF(A18<>\"\",IFERROR(VLOOKUP(N18,Tabelas!B:D,3,0),0),\"\")","v":0},{"$f":"IF(A18<>\"\",IFERROR(VLOOKUP(O18,Tabelas!B:D,3,0),0),\"\")","v":0},{"$f":"IF(A18<>\"\",IFERROR(VLOOKUP(P18,Tabelas!B:D,3,0),0),\"\")","v":0},{"$f":"IF(A18<>\"\",IFERROR(VLOOKUP(Q18,Tabelas!B:D,3,0),0),\"\")","v":0},{"$f":"IF(A18<>\"\",IFERROR(VLOOKUP(R18,Tabelas!B:D,3,0),0),\"\")","v":0},{"$f":"IF(A18<>\"\",IFERROR(VLOOKUP(S18,Tabelas!B:D,3,0),0),\"\")","v":0},{"$f":"IF(A18<>\"\",IFERROR(VLOOKUP(T18,Tabelas!B:D,3,0),0),\"\")","v":0},{"$f":"IF(A18<>\"\",IFERROR(VLOOKUP(U18,Tabelas!B:D,3,0),0),\"\")","v":0},{"$f":"IF(A18<>\"\",IFERROR(VLOOKUP(V18,Tabelas!B:D,3,0),0),\"\")","v":0},{"$f":"IF(A18<>\"\",IFERROR(VLOOKUP(W18,Tabelas!B:D,3,0),0),\"\")","v":0},{"$f":"IF(A18<>\"\",IFERROR(VLOOKUP(X18,Tabelas!B:D,3,0),0),\"\")","v":0},{"$f":"IF(A18<>\"\",IFERROR(VLOOKUP(Y18,Tabelas!B:D,3,0),0),\"\")","v":0},{"$f":"IF(A18<>\"\",IFERROR(VLOOKUP(Z18,Tabelas!B:D,3,0),0),\"\")","v":0},{"$f":"IF(A18<>\"\",IFERROR(VLOOKUP(AA18,Tabelas!B:D,3,0),0),\"\")","v":0},{"$f":"IF(A18<>\"\",IFERROR(VLOOKUP(AB18,Tabelas!B:D,3,0),0),\"\")","v":0},{"$f":"IF(A18<>\"\",IFERROR(VLOOKUP(AC18,Tabelas!B:D,3,0),0),\"\")","v":0},{"$f":"IF(A18<>\"\",IFERROR(VLOOKUP(AD18,Tabelas!B:D,3,0),0),\"\")","v":0},{"$f":"IF(A18<>\"\",IFERROR(VLOOKUP(AE18,Tabelas!B:D,3,0),0),\"\")","v":0},{"$f":"IF(A18<>\"\",IFERROR(VLOOKUP(AF18,Tabelas!B:D,3,0),0),\"\")","v":0},{"$f":"IF(A18<>\"\",IFERROR(VLOOKUP(AG18,Tabelas!B:D,3,0),0),\"\")","v":0},{"$f":"IF(A18<>\"\",IFERROR(VLOOKUP(AH18,Tabelas!B:D,3,0),0),\"\")","v":0},{"$f":"IF(A18<>\"\",IFERROR(VLOOKUP(AI18,Tabelas!B:D,3,0),0),\"\")","v":0},{"$f":"IF(A18<>\"\",IFERROR(VLOOKUP(AJ18,Tabelas!B:D,3,0),0),\"\")","v":0},{"$f":"IF(A18<>\"\",IFERROR(VLOOKUP(AK18,Tabelas!B:D,3,0),0),\"\")","v":0},{"$f":"IF(A18<>\"\",IFERROR(VLOOKUP(AL18,Tabelas!B:D,3,0),0),\"\")","v":0},{"$f":"IF(A18<>\"\",IFERROR(VLOOKUP(AM18,Tabelas!B:D,3,0),0),\"\")","v":0},{"$f":"IF(A18<>\"\",IFERROR(VLOOKUP(AN18,Tabelas!B:D,3,0),0),\"\")","v":0},{"$f":"IF(A18<>\"\",IFERROR(VLOOKUP(AO18,Tabelas!B:D,3,0),0),\"\")","v":0},{"$f":"IF(A18<>\"\",IFERROR(VLOOKUP(AP18,Tabelas!B:D,3,0),0),\"\")","v":0},{"$f":"IF(A18<>\"\",IFERROR(VLOOKUP(AQ18,Tabelas!B:D,3,0),0),\"\")","v":0},0,0,0,0,0,0,0,0]
["FULANO 11",11,null,null,null,null,null,null,null,null,null,null,null,null,null,null,null,null,null,null,null,null,null,null,null,null,null,null,null,null,null,null,null,null,null,null,null,null,null,null,null,null,null,{"$f":"IF(A19<>\"\",IFERROR(VLOOKUP(M19,Tabelas!B:D,3,0),0),\"\")","v":0},{"$f":"IF(A19<>\"\",IFERROR(VLOOKUP(N19,Tabelas!B:D,3,0),0),\"\")","v":0},{"$f":"IF(A19<>\"\",IFERROR(VLOOKUP(O19,Tabelas!B:D,3,0),0),\"\")","v":0},{"$f":"IF(A19<>\"\",IFERROR(VLOOKUP(P19,Tabelas!B:D,3,0),0),\"\")","v":0},{"$f":"IF(A19<>\"\",IFERROR(VLOOKUP(Q19,Tabelas!B:D,3,0),0),\"\")","v":0},{"$f":"IF(A19<>\"\",IFERROR(VLOOKUP(R19,Tabelas!B:D,3,0),0),\"\")","v":0},{"$f":"IF(A19<>\"\",IFERROR(VLOOKUP(S19,Tabelas!B:D,3,0),0),\"\")","v":0},{"$f":"IF(A19<>\"\",IFERROR(VLOOKUP(T19,Tabelas!B:D,3,0),0),\"\")","v":0},{"$f":"IF(A19<>\"\",IFERROR(VLOOKUP(U19,Tabelas!B:D,3,0),0),\"\")","v":0},{"$f":"IF(A19<>\"\",IFERROR(VLOOKUP(V19,Tabelas!B:D,3,0),0),\"\")","v":0},{"$f":"IF(A19<>\"\",IFERROR(VLOOKUP(W19,Tabelas!B:D,3,0),0),\"\")","v":0},{"$f":"IF(A19<>\"\",IFERROR(VLOOKUP(X19,Tabelas!B:D,3,0),0),\"\")","v":0},{"$f":"IF(A19<>\"\",IFERROR(VLOOKUP(Y19,Tabelas!B:D,3,0),0),\"\")","v":0},{"$f":"IF(A19<>\"\",IFERROR(VLOOKUP(Z19,Tabelas!B:D,3,0),0),\"\")","v":0},{"$f":"IF(A19<>\"\",IFERROR(VLOOKUP(AA19,Tabelas!B:D,3,0),0),\"\")","v":0},{"$f":"IF(A19<>\"\",IFERROR(VLOOKUP(AB19,Tabelas!B:D,3,0),0),\"\")","v":0},{"$f":"IF(A19<>\"\",IFERROR(VLOOKUP(AC19,Tabelas!B:D,3,0),0),\"\")","v":0},{"$f":"IF(A19<>\"\",IFERROR(VLOOKUP(AD19,Tabelas!B:D,3,0),0),\"\")","v":0},{"$f":"IF(A19<>\"\",IFERROR(VLOOKUP(AE19,Tabelas!B:D,3,0),0),\"\")","v":0},{"$f":"IF(A19<>\"\",IFERROR(VLOOKUP(AF19,Tabelas!B:D,3,0),0),\"\")","v":0},{"$f":"IF(A19<>\"\",IFERROR(VLOOKUP(AG19,Tabelas!B:D,3,0),0),\"\")","v":0},{"$f":"IF(A19<>\"\",IFERROR(VLOOKUP(AH19,Tabelas!B:D,3,0),0),\"\")","v":0},{"$f":"IF(A19<>\"\",IFERROR(VLOOKUP(AI19,Tabelas!B:D,3,0),0),\"\")","v":0},{"$f":"IF(A19<>\"\",IFERROR(VLOOKUP(AJ19,Tabelas!B:D,3,0),0),\"\")","v":0},{"$f":"IF(A19<>\"\",IFERROR(VLOOKUP(AK19,Tabelas!B:D,3,0),0),\"\")","v":0},{"$f":"IF(A19<>\"\",IFERROR(VLOOKUP(AL19,Tabelas!B:D,3,0),0),\"\")","v":0},{"$f":"IF(A19<>\"\",IFERROR(VLOOKUP(AM19,Tabelas!B:D,3,0),0),\"\")","v":0},{"$f":"IF(A19<>\"\",IFERROR(VLOOKUP(AN19,Tabelas!B:D,3,0),0),\"\")","v":0},{"$f":"IF(A19<>\"\",IFERROR(VLOOKUP(AO19,Tabelas!B:D,3,0),0),\"\")","v":0},{"$f":"IF(A19<>\"\",IFERROR(VLOOKUP(AP19,Tabelas!B:D,3,0),0),\"\")","v":0},{"$f":"IF(A19<>\"\",IFERROR(VLOOKUP(AQ19,Tabelas!B:D,3,0),0),\"\")","v":0},0,0,0,0,0,0,0,0]
["FULANO 12",12,null,null,null,null,null,null,null,null,null,null,null,null,null,null,null,null,null,null,null,null,null,null,null,null,null,null,null,null,null,null,null,null,null,null,null,null,null,null,null,null,null,{"$f":"IF(A20<>\"\",IFERROR(VLOOKUP(M20,Tabelas!B:D,3,0),0),\"\")","v":0},{"$f":"IF(A20<>\"\",IFERROR(VLOOKUP(N20,Tabelas!B:D,3,0),0),\"\")","v":0},{"$f":"IF(A20<>\"\",IFERROR(VLOOKUP(O20,Tabelas!B:D,3,0),0),\"\")","v":0},{"$f":"IF(A20<>\"\",IFERROR(VLOOKUP(P20,Tabelas!B:D,3,0),0),\"\")","v":0},{"$f":"IF(A20<>\"\",IFERROR(VLOOKUP(Q20,Tabelas!B:D,3,0),0),\"\")","v":0},{"$f":"IF(A20<>\"\",IFERROR(VLOOKUP(R20,Tabelas!B:D,3,0),0),\"\")","v":0},{"$f":"IF(A20<>\"\",IFERROR(VLOOKUP(S20,Tabelas!B:D,3,0),0),\"\")","v":0},{"$f":"IF(A20<>\"\",IFERROR(VLOOKUP(T20,Tabelas!B:D,3,0),0),\"\")","v":0},{"$f":"IF(A20<>\"\",IFERROR(VLOOKUP(U20,Tabelas!B:D,3,0),0),\"\")","v":0},{"$f":"IF(A20<>\"\",IFERROR(VLOOKUP(V20,Tabelas!B:D,3,0),0),\"\")","v":0},{"$f":"IF(A20<>\"\",IFERROR(VLOOKUP(W20,Tabelas!B:D,3,0),0),\"\")","v":0},{"$f":"IF(A20<>\"\",IFERROR(VLOOKUP(X20,Tabelas!B:D,3,0),0),\"\")","v":0},{"$f":"IF(A20<>\"\",IFERROR(VLOOKUP(Y20,Tabelas!B:D,3,0),0),\"\")","v":0},{"$f":"IF(A20<>\"\",IFERROR(VLOOKUP(Z20,Tabelas!B:D,3,0),0),\"\")","v":0},{"$f":"IF(A20<>\"\",IFERROR(VLOOKUP(AA20,Tabelas!B:D,3,0),0),\"\")","v":0},{"$f":"IF(A20<>\"\",IFERROR(VLOOKUP(AB20,Tabelas!B:D,3,0),0),\"\")","v":0},{"$f":"IF(A20<>\"\",IFERROR(VLOOKUP(AC20,Tabelas!B:D,3,0),0),\"\")","v":0},{"$f":"IF(A20<>\"\",IFERROR(VLOOKUP(AD20,Tabelas!B:D,3,0),0),\"\")","v":0},{"$f":"IF(A20<>\"\",IFERROR(VLOOKUP(AE20,Tabelas!B:D,3,0),0),\"\")","v":0},{"$f":"IF(A20<>\"\",IFERROR(VLOOKUP(AF20,Tabelas!B:D,3,0),0),\"\")","v":0},{"$f":"IF(A20<>\"\",IFERROR(VLOOKUP(AG20,Tabelas!B:D,3,0),0),\"\")","v":0},{"$f":"IF(A20<>\"\",IFERROR(VLOOKUP(AH20,Tabelas!B:D,3,0),0),\"\")","v":0},{"$f":"IF(A20<>\"\",IFERROR(VLOOKUP(AI20,Tabelas!B:D,3,0),0),\"\")","v":0},{"$f":"IF(A20<>\"\",IFERROR(VLOOKUP(AJ20,Tabelas!B:D,3,0),0),\"\")","v":0},{"$f":"IF(A20<>\"\",IFERROR(VLOOKUP(AK20,Tabelas!B:D,3,0),0),\"\")","v":0},{"$f":"IF(A20<>\"\",IFERROR(VLOOKUP(AL20,Tabelas!B:D,3,0),0),\"\")","v":0},{"$f":"IF(A20<>\"\",IFERROR(VLOOKUP(AM20,Tabelas!B:D,3,0),0),\"\")","v":0},{"$f":"IF(A20<>\"\",IFERROR(VLOOKUP(AN20,Tabelas!B:D,3,0),0),\"\")","v":0},{"$f":"IF(A20<>\"\",IFERROR(VLOOKUP(AO20,Tabelas!B:D,3,0),0),\"\")","v":0},{"$f":"IF(A20<>\"\",IFERROR(VLOOKUP(AP20,Tabelas!B:D,3,0),0),\"\")","v":0},{"$f":"IF(A20<>\"\",IFERROR(VLOOKUP(AQ20,Tabelas!B:D,3,0),0),\"\")","v":0},0,0,0,0,0,0,0,0]
["FULANO 13",13,null,null,null,null,null,null,null,null,null,null,null,null,null,null,null,null,null,null,null,null,null,null,null,null,null,null,null,null,null,null,null,null,null,null,null,null,null,null,null,null,null,{"$f":"IF(A21<>\"\",IFERROR(VLOOKUP(M21,Tabelas!B:D,3,0),0),\"\")","v":0},{"$f":"IF(A21<>\"\",IFERROR(VLOOKUP(N21,Tabelas!B:D,3,0),0),\"\")","v":0},{"$f":"IF(A21<>\"\",IFERROR(VLOOKUP(O21,Tabelas!B:D,3,0),0),\"\")","v":0},{"$f":"IF(A21<>\"\",IFERROR(VLOOKUP(P21,Tabelas!B:D,3,0),0),\"\")","v":0},{"$f":"IF(A21<>\"\",IFERROR(VLOOKUP(Q21,Tabelas!B:D,3,0),0),\"\")","v":0},{"$f":"IF(A21<>\"\",IFERROR(VLOOKUP(R21,Tabelas!B:D,3,0),0),\"\")","v":0},{"$f":"IF(A21<>\"\",IFERROR(VLOOKUP(S21,Tabelas!B:D,3,0),0),\"\")","v":0},{"$f":"IF(A21<>\"\",IFERROR(VLOOKUP(T21,Tabelas!B:D,3,0),0),\"\")","v":0},{"$f":"IF(A21<>\"\",IFERROR(VLOOKUP(U21,Tabelas!B:D,3,0),0),\"\")","v":0},{"$f":"IF(A21<>\"\",IFERROR(VLOOKUP(V21,Tabelas!B:D,3,0),0),\"\")","v":0},{"$f":"IF(A21<>\"\",IFERROR(VLOOKUP(W21,Tabelas!B:D,3,0),0),\"\")","v":0},{"$f":"IF(A21<>\"\",IFERROR(VLOOKUP(X21,Tabelas!B:D,3,0),0),\"\")","v":0},{"$f":"IF(A21<>\"\",IFERROR(VLOOKUP(Y21,Tabelas!B:D,3,0),0),\"\")","v":0},{"$f":"IF(A21<>\"\",IFERROR(VLOOKUP(Z21,Tabelas!B:D,3,0),0),\"\")","v":0},{"$f":"IF(A21<>\"\",IFERROR(VLOOKUP(AA21,Tabelas!B:D,3,0),0),\"\")","v":0},{"$f":"IF(A21<>\"\",IFERROR(VLOOKUP(AB21,Tabelas!B:D,3,0),0),\"\")","v":0},{"$f":"IF(A21<>\"\",IFERROR(VLOOKUP(AC21,Tabelas!B:D,3,0),0),\"\")","v":0},{"$f":"IF(A21<>\"\",IFERROR(VLOOKUP(AD21,Tabelas!B:D,3,0),0),\"\")","v":0},{"$f":"IF(A21<>\"\",IFERROR(VLOOKUP(AE21,Tabelas!B:D,3,0),0),\"\")","v":0},{"$f":"IF(A21<>\"\",IFERROR(VLOOKUP(AF21,Tabelas!B:D,3,0),0),\"\")","v":0},{"$f":"IF(A21<>\"\",IFERROR(VLOOKUP(AG21,Tabelas!B:D,3,0),0),\"\")","v":0},{"$f":"IF(A21<>\"\",IFERROR(VLOOKUP(AH21,Tabelas!B:D,3,0),0),\"\")","v":0},{"$f":"IF(A21<>\"\",IFERROR(VLOOKUP(AI21,Tabelas!B:D,3,0),0),\"\")","v":0},{"$f":"IF(A21<>\"\",IFERROR(VLOOKUP(AJ21,Tabelas!B:D,3,0),0),\"\")","v":0},{"$f":"IF(A21<>\"\",IFERROR(VLOOKUP(AK21,Tabelas!B:D,3,0),0),\"\")","v":0},{"$f":"IF(A21<>\"\",IFERROR(VLOOKUP(AL21,Tabelas!B:D,3,0),0),\"\")","v":0},{"$f":"IF(A21<>\"\",IFERROR(VLOOKUP(AM21,Tabelas!B:D,3,0),0),\"\")","v":0},{"$f":"IF(A21<>\"\",IFERROR(VLOOKUP(AN21,Tabelas!B:D,3,0),0),\"\")","v":0},{"$f":"IF(A21<>\"\",IFERROR(VLOOKUP(AO21,Tabelas!B:D,3,0),0),\"\")","v":0},{"$f":"IF(A21<>\"\",IFERROR(VLOOKUP(AP21,Tabelas!B:D,3,0),0),\"\")","v":0},{"$f":"IF(A21<>\"\",IFERROR(VLOOKUP(AQ21,Tabelas!B:D,3,0),0),\"\")","v":0},0,0,0,0,0,0,0,0]
["FULANO 14",14,null,null,null,null,null,null,null,null,null,null,null,null,null,null,null,null,null,null,null,null,null,null,null,null,null,null,null,null,null,null,null,null,null,null,null,null,null,null,null,null,null,{"$f":"IF(A22<>\"\",IFERROR(VLOOKUP(M22,Tabelas!B:D,3,0),0),\"\")","v":0},{"$f":"IF(A22<>\"\",IFERROR(VLOOKUP(N22,Tabelas!B:D,3,0),0),\"\")","v":0},{"$f":"IF(A22<>\"\",IFERROR(VLOOKUP(O22,Tabelas!B:D,3,0),0),\"\")","v":0},{"$f":"IF(A22<>\"\",IFERROR(VLOOKUP(P22,Tabelas!B:D,3,0),0),\"\")","v":0},{"$f":"IF(A22<>\"\",IFERROR(VLOOKUP(Q22,Tabelas!B:D,3,0),0),\"\")","v":0},{"$f":"IF(A22<>\"\",IFERROR(VLOOKUP(R22,Tabelas!B:D,3,0),0),\"\")","v":0},{"$f":"IF(A22<>\"\",IFERROR(VLOOKUP(S22,Tabelas!B:D,3,0),0),\"\")","v":0},{"$f":"IF(A22<>\"\",IFERROR(VLOOKUP(T22,Tabelas!B:D,3,0),0),\"\")","v":0},{"$f":"IF(A22<>\"\",IFERROR(VLOOKUP(U22,Tabelas!B:D,3,0),0),\"\")","v":0},{"$f":"IF(A22<>\"\",IFERROR(VLOOKUP(V22,Tabelas!B:D,3,0),0),\"\")","v":0},{"$f":"IF(A22<>\"\",IFERROR(VLOOKUP(W22,Tabelas!B:D,3,0),0),\"\")","v":0},{"$f":"IF(A22<>\"\",IFERROR(VLOOKUP(X22,Tabelas!B:D,3,0),0),\"\")","v":0},{"$f":"IF(A22<>\"\",IFERROR(VLOOKUP(Y22,Tabelas!B:D,3,0),0),\"\")","v":0},{"$f":"IF(A22<>\"\",IFERROR(VLOOKUP(Z22,Tabelas!B:D,3,0),0),\"\")","v":0},{"$f":"IF(A22<>\"\",IFERROR(VLOOKUP(AA22,Tabelas!B:D,3,0),0),\"\")","v":0},{"$f":"IF(A22<>\"\",IFERROR(VLOOKUP(AB22,Tabelas!B:D,3,0),0),\"\")","v":0},{"$f":"IF(A22<>\"\",IFERROR(VLOOKUP(AC22,Tabelas!B:D,3,0),0),\"\")","v":0},{"$f":"IF(A22<>\"\",IFERROR(VLOOKUP(AD22,Tabelas!B:D,3,0),0),\"\")","v":0},{"$f":"IF(A22<>\"\",IFERROR(VLOOKUP(AE22,Tabelas!B:D,3,0),0),\"\")","v":0},{"$f":"IF(A22<>\"\",IFERROR(VLOOKUP(AF22,Tabelas!B:D,3,0),0),\"\")","v":0},{"$f":"IF(A22<>\"\",IFERROR(VLOOKUP(AG22,Tabelas!B:D,3,0),0),\"\")","v":0},{"$f":"IF(A22<>\"\",IFERROR(VLOOKUP(AH22,Tabelas!B:D,3,0),0),\"\")","v":0},{"$f":"IF(A22<>\"\",IFERROR(VLOOKUP(AI22,Tabelas!B:D,3,0),0),\"\")","v":0},{"$f":"IF(A22<>\"\",IFERROR(VLOOKUP(AJ22,Tabelas!B:D,3,0),0),\"\")","v":0},{"$f":"IF(A22<>\"\",IFERROR(VLOOKUP(AK22,Tabelas!B:D,3,0),0),\"\")","v":0},{"$f":"IF(A22<>\"\",IFERROR(VLOOKUP(AL22,Tabelas!B:D,3,0),0),\"\")","v":0},{"$f":"IF(A22<>\"\",IFERROR(VLOOKUP(AM22,Tabelas!B:D,3,0),0),\"\")","v":0},{"$f":"IF(A22<>\"\",IFERROR(VLOOKUP(AN22,Tabelas!B:D,3,0),0),\"\")","v":0},{"$f":"IF(A22<>\"\",IFERROR(VLOOKUP(AO22,Tabelas!B:D,3,0),0),\"\")","v":0},{"$f":"IF(A22<>\"\",IFERROR(VLOOKUP(AP22,Tabelas!B:D,3,0),0),\"\")","v":0},{"$f":"IF(A22<>\"\",IFERROR(VLOOKUP(AQ22,Tabelas!B:D,3,0),0),\"\")","v":0},0,0,0,0,0,0,0,0]
["FULANO 15",15,null,null,null,null,null,null,null,null,null,null,null,null,null,null,null,null,null,null,null,null,null,null,null,null,null,null,null,null,null,null,null,null,null,null,null,null,null,null,null,null,null,{"$f":"IF(A23<>\"\",IFERROR(VLOOKUP(M23,Tabelas!B:D,3,0),0),\"\")","v":0},{"$f":"IF(A23<>\"\",IFERROR(VLOOKUP(N23,Tabelas!B:D,3,0),0),\"\")","v":0},{"$f":"IF(A23<>\"\",IFERROR(VLOOKUP(O23,Tabelas!B:D,3,0),0),\"\")","v":0},{"$f":"IF(A23<>\"\",IFERROR(VLOOKUP(P23,Tabelas!B:D,3,0),0),\"\")","v":0},{"$f":"IF(A23<>\"\",IFERROR(VLOOKUP(Q23,Tabelas!B:D,3,0),0),\"\")","v":0},{"$f":"IF(A23<>\"\",IFERROR(VLOOKUP(R23,Tabelas!B:D,3,0),0),\"\")","v":0},{"$f":"IF(A23<>\"\",IFERROR(VLOOKUP(S23,Tabelas!B:D,3,0),0),\"\")","v":0},{"$f":"IF(A23<>\"\",IFERROR(VLOOKUP(T23,Tabelas!B:D,3,0),0),\"\")","v":0},{"$f":"IF(A23<>\"\",IFERROR(VLOOKUP(U23,Tabelas!B:D,3,0),0),\"\")","v":0},{"$f":"IF(A23<>\"\",IFERROR(VLOOKUP(V23,Tabelas!B:D,3,0),0),\"\")","v":0},{"$f":"IF(A23<>\"\",IFERROR(VLOOKUP(W23,Tabelas!B:D,3,0),0),\"\")","v":0},{"$f":"IF(A23<>\"\",IFERROR(VLOOKUP(X23,Tabelas!B:D,3,0),0),\"\")","v":0},{"$f":"IF(A23<>\"\",IFERROR(VLOOKUP(Y23,Tabelas!B:D,3,0),0),\"\")","v":0},{"$f":"IF(A23<>\"\",IFERROR(VLOOKUP(Z23,Tabelas!B:D,3,0),0),\"\")","v":0},{"$f":"IF(A23<>\"\",IFERROR(VLOOKUP(AA23,Tabelas!B:D,3,0),0),\"\")","v":0},{"$f":"IF(A23<>\"\",IFERROR(VLOOKUP(AB23,Tabelas!B:D,3,0),0),\"\")","v":0},{"$f":"IF(A23<>\"\",IFERROR(VLOOKUP(AC23,Tabelas!B:D,3,0),0),\"\")","v":0},{"$f":"IF(A23<>\"\",IFERROR(VLOOKUP(AD23,Tabelas!B:D,3,0),0),\"\")","v":0},{"$f":"IF(A23<>\"\",IFERROR(VLOOKUP(AE23,Tabelas!B:D,3,0),0),\"\")","v":0},{"$f":"IF(A23<>\"\",IFERROR(VLOOKUP(AF23,Tabelas!B:D,3,0),0),\"\")","v":0},{"$f":"IF(A23<>\"\",IFERROR(VLOOKUP(AG23,Tabelas!B:D,3,0),0),\"\")","v":0},{"$f":"IF(A23<>\"\",IFERROR(VLOOKUP(AH23,Tabelas!B:D,3,0),0),\"\")","v":0},{"$f":"IF(A23<>\"\",IFERROR(VLOOKUP(AI23,Tabelas!B:D,3,0),0),\"\")","v":0},{"$f":"IF(A23<>\"\",IFERROR(VLOOKUP(AJ23,Tabelas!B:D,3,0),0),\"\")","v":0},{"$f":"IF(A23<>\"\",IFERROR(VLOOKUP(AK23,Tabelas!B:D,3,0),0),\"\")","v":0},{"$f":"IF(A23<>\"\",IFERROR(VLOOKUP(AL23,Tabelas!B:D,3,0),0),\"\")","v":0},{"$f":"IF(A23<>\"\",IFERROR(VLOOKUP(AM23,Tabelas!B:D,3,0),0),\"\")","v":0},{"$f":"IF(A23<>\"\",IFERROR(VLOOKUP(AN23,Tabelas!B:D,3,0),0),\"\")","v":0},{"$f":"IF(A23<>\"\",IFERROR(VLOOKUP(AO23,Tabelas!B:D,3,0),0),\"\")","v":0},{"$f":"IF(A23<>\"\",IFERROR(VLOOKUP(AP23,Tabelas!B:D,3,0),0),\"\")","v":0},{"$f":"IF(A23<>\"\",IFERROR(VLOOKUP(AQ23,Tabelas!B:D,3,0),0),\"\")","v":0},0,0,0,0,0,0,0,0]
["FULANO 16",16,null,null,null,null,null,null,null,null,null,null,null,null,null,null,null,null,null,null,null,null,null,null,null,null,null,null,null,null,null,null,null,null,null,null,null,null,null,null,null,null,null,{"$f":"IF(A24<>\"\",IFERROR(VLOOKUP(M24,Tabelas!B:D,3,0),0),\"\")","v":0},{"$f":"IF(A24<>\"\",IFERROR(VLOOKUP(N24,Tabelas!B:D,3,0),0),\"\")","v":0},{"$f":"IF(A24<>\"\",IFERROR(VLOOKUP(O24,Tabelas!B:D,3,0),0),\"\")","v":0},{"$f":"IF(A24<>\"\",IFERROR(VLOOKUP(P24,Tabelas!B:D,3,0),0),\"\")","v":0},{"$f":"IF(A24<>\"\",IFERROR(VLOOKUP(Q24,Tabelas!B:D,3,0),0),\"\")","v":0},{"$f":"IF(A24<>\"\",IFERROR(VLOOKUP(R24,Tabelas!B:D,3,0),0),\"\")","v":0},{"$f":"IF(A24<>\"\",IFERROR(VLOOKUP(S24,Tabelas!B:D,3,0),0),\"\")","v":0},{"$f":"IF(A24<>\"\",IFERROR(VLOOKUP(T24,Tabelas!B:D,3,0),0),\"\")","v":0},{"$f":"IF(A24<>\"\",IFERROR(VLOOKUP(U24,Tabelas!B:D,3,0),0),\"\")","v":0},{"$f":"IF(A24<>\"\",IFERROR(VLOOKUP(V24,Tabelas!B:D,3,0),0),\"\")","v":0},{"$f":"IF(A24<>\"\",IFERROR(VLOOKUP(W24,Tabelas!B:D,3,0),0),\"\")","v":0},{"$f":"IF(A24<>\"\",IFERROR(VLOOKUP(X24,Tabelas!B:D,3,0),0),\"\")","v":0},{"$f":"IF(A24<>\"\",IFERROR(VLOOKUP(Y24,Tabelas!B:D,3,0),0),\"\")","v":0},{"$f":"IF(A24<>\"\",IFERROR(VLOOKUP(Z24,Tabelas!B:D,3,0),0),\"\")","v":0},{"$f":"IF(A24<>\"\",IFERROR(VLOOKUP(AA24,Tabelas!B:D,3,0),0),\"\")","v":0},{"$f":"IF(A24<>\"\",IFERROR(VLOOKUP(AB24,Tabelas!B:D,3,0),0),\"\")","v":0},{"$f":"IF(A24<>\"\",IFERROR(VLOOKUP(AC24,Tabelas!B:D,3,0),0),\"\")","v":0},{"$f":"IF(A24<>\"\",IFERROR(VLOOKUP(AD24,Tabelas!B:D,3,0),0),\"\")","v":0},{"$f":"IF(A24<>\"\",IFERROR(VLOOKUP(AE24,Tabelas!B:D,3,0),0),\"\")","v":0},{"$f":"IF(A24<>\"\",IFERROR(VLOOKUP(AF24,Tabelas!B:D,3,0),0),\"\")","v":0},{"$f":"IF(A24<>\"\",IFERROR(VLOOKUP(AG24,Tabelas!B:D,3,0),0),\"\")","v":0},{"$f":"IF(A24<>\"\",IFERROR(VLOOKUP(AH24,Tabelas!B:D,3,0),0),\"\")","v":0},{"$f":"IF(A24<>\"\",IFERROR(VLOOKUP(AI24,Tabelas!B:D,3,0),0),\"\")","v":0},{"$f":"IF(A24<>\"\",IFERROR(VLOOKUP(AJ24,Tabelas!B:D,3,0),0),\"\")","v":0},{"$f":"IF(A24<>\"\",IFERROR(VLOOKUP(AK24,Tabelas!B:D,3,0),0),\"\")","v":0},{"$f":"IF(A24<>\"\",IFERROR(VLOOKUP(AL24,Tabelas!B:D,3,0),0),\"\")","v":0},{"$f":"IF(A24<>\"\",IFERROR(VLOOKUP(AM24,Tabelas!B:D,3,0),0),\"\")","v":0},{"$f":"IF(A24<>\"\",IFERROR(VLOOKUP(AN24,Tabelas!B:D,3,0),0),\"\")","v":0},{"$f":"IF(A24<>\"\",IFERROR(VLOOKUP(AO24,Tabelas!B:D,3,0),0),\"\")","v":0},{"$f":"IF(A24<>\"\",IFERROR(VLOOKUP(AP24,Tabelas!B:D,3,0),0),\"\")","v":0},{"$f":"IF(A24<>\"\",IFERROR(VLOOKUP(AQ24,Tabelas!B:D,3,0),0),\"\")","v":0},0,0,0,0,0,0,0,0]
["FULANO 17",17,null,null,null,null,null,null,null,null,null,null,null,null,null,null,null,null,null,null,null,null,null,null,null,null,null,null,null,null,null,null,null,null,null,null,null,null,null,null,null,null,null,{"$f":"IF(A25<>\"\",IFERROR(VLOOKUP(M25,Tabelas!B:D,3,0),0),\"\")","v":0},{"$f":"IF(A25<>\"\",IFERROR(VLOOKUP(N25,Tabelas!B:D,3,0),0),\"\")","v":0},{"$f":"IF(A25<>\"\",IFERROR(VLOOKUP(O25,Tabelas!B:D,3,0),0),\"\")","v":0},{"$f":"IF(A25<>\"\",IFERROR(VLOOKUP(P25,Tabelas!B:D,3,0),0),\"\")","v":0},{"$f":"IF(A25<>\"\",IFERROR(VLOOKUP(Q25,Tabelas!B:D,3,0),0),\"\")","v":0},{"$f":"IF(A25<>\"\",IFERROR(VLOOKUP(R25,Tabelas!B:D,3,0),0),\"\")","v":0},{"$f":"IF(A25<>\"\",IFERROR(VLOOKUP(S25,Tabelas!B:D,3,0),0),\"\")","v":0},{"$f":"IF(A25<>\"\",IFERROR(VLOOKUP(T25,Tabelas!B:D,3,0),0),\"\")","v":0},{"$f":"IF(A25<>\"\",IFERROR(VLOOKUP(U25,Tabelas!B:D,3,0),0),\"\")","v":0},{"$f":"IF(A25<>\"\",IFERROR(VLOOKUP(V25,Tabelas!B:D,3,0),0),\"\")","v":0},{"$f":"IF(A25<>\"\",IFERROR(VLOOKUP(W25,Tabelas!B:D,3,0),0),\"\")","v":0},{"$f":"IF(A25<>\"\",IFERROR(VLOOKUP(X25,Tabelas!B:D,3,0),0),\"\")","v":0},{"$f":"IF(A25<>\"\",IFERROR(VLOOKUP(Y25,Tabelas!B:D,3,0),0),\"\")","v":0},{"$f":"IF(A25<>\"\",IFERROR(VLOOKUP(Z25,Tabelas!B:D,3,0),0),\"\")","v":0},{"$f":"IF(A25<>\"\",IFERROR(VLOOKUP(AA25,Tabelas!B:D,3,0),0),\"\")","v":0},{"$f":"IF(A25<>\"\",IFERROR(VLOOKUP(AB25,Tabelas!B:D,3,0),0),\"\")","v":0},{"$f":"IF(A25<>\"\",IFERROR(VLOOKUP(AC25,Tabelas!B:D,3,0),0),\"\")","v":0},{"$f":"IF(A25<>\"\",IFERROR(VLOOKUP(AD25,Tabelas!B:D,3,0),0),\"\")","v":0},{"$f":"IF(A25<>\"\",IFERROR(VLOOKUP(AE25,Tabelas!B:D,3,0),0),\"\")","v":0},{"$f":"IF(A25<>\"\",IFERROR(VLOOKUP(AF25,Tabelas!B:D,3,0),0),\"\")","v":0},{"$f":"IF(A25<>\"\",IFERROR(VLOOKUP(AG25,Tabelas!B:D,3,0),0),\"\")","v":0},{"$f":"IF(A25<>\"\",IFERROR(VLOOKUP(AH25,Tabelas!B:D,3,0),0),\"\")","v":0},{"$f":"IF(A25<>\"\",IFERROR(VLOOKUP(AI25,Tabelas!B:D,3,0),0),\"\")","v":0},{"$f":"IF(A25<>\"\",IFERROR(VLOOKUP(AJ25,Tabelas!B:D,3,0),0),\"\")","v":0},{"$f":"IF(A25<>\"\",IFERROR(VLOOKUP(AK25,Tabelas!B:D,3,0),0),\"\")","v":0},{"$f":"IF(A25<>\"\",IFERROR(VLOOKUP(AL25,Tabelas!B:D,3,0),0),\"\")","v":0},{"$f":"IF(A25<>\"\",IFERROR(VLOOKUP(AM25,Tabelas!B:D,3,0),0),\"\")","v":0},{"$f":"IF(A25<>\"\",IFERROR(VLOOKUP(AN25,Tabelas!B:D,3,0),0),\"\")","v":0},{"$f":"IF(A25<>\"\",IFERROR(VLOOKUP(AO25,Tabelas!B:D,3,0),0),\"\")","v":0},{"$f":"IF(A25<>\"\",IFERROR(VLOOKUP(AP25,Tabelas!B:D,3,0),0),\"\")","v":0},{"$f":"IF(A25<>\"\",IFERROR(VLOOKUP(AQ25,Tabelas!B:D,3,0),0),\"\")","v":0},0,0,0,0,0,0,0,0]
["FULANO 18",18,null,null,null,null,null,null,null,null,null,null,null,null,null,null,null,null,null,null,null,null,null,null,null,null,null,null,null,null,null,null,null,null,null,null,null,null,null,null,null,null,null,{"$f":"IF(A26<>\"\",IFERROR(VLOOKUP(M26,Tabelas!B:D,3,0),0),\"\")","v":0},{"$f":"IF(A26<>\"\",IFERROR(VLOOKUP(N26,Tabelas!B:D,3,0),0),\"\")","v":0},{"$f":"IF(A26<>\"\",IFERROR(VLOOKUP(O26,Tabelas!B:D,3,0),0),\"\")","v":0},{"$f":"IF(A26<>\"\",IFERROR(VLOOKUP(P26,Tabelas!B:D,3,0),0),\"\")","v":0},{"$f":"IF(A26<>\"\",IFERROR(VLOOKUP(Q26,Tabelas!B:D,3,0),0),\"\")","v":0},{"$f":"IF(A26<>\"\",IFERROR(VLOOKUP(R26,Tabelas!B:D,3,0),0),\"\")","v":0},{"$f":"IF(A26<>\"\",IFERROR(VLOOKUP(S26,Tabelas!B:D,3,0),0),\"\")","v":0},{"$f":"IF(A26<>\"\",IFERROR(VLOOKUP(T26,Tabelas!B:D,3,0),0),\"\")","v":0},{"$f":"IF(A26<>\"\",IFERROR(VLOOKUP(U26,Tabelas!B:D,3,0),0),\"\")","v":0},{"$f":"IF(A26<>\"\",IFERROR(VLOOKUP(V26,Tabelas!B:D,3,0),0),\"\")","v":0},{"$f":"IF(A26<>\"\",IFERROR(VLOOKUP(W26,Tabelas!B:D,3,0),0),\"\")","v":0},{"$f":"IF(A26<>\"\",IFERROR(VLOOKUP(X26,Tabelas!B:D,3,0),0),\"\")","v":0},{"$f":"IF(A26<>\"\",IFERROR(VLOOKUP(Y26,Tabelas!B:D,3,0),0),\"\")","v":0},{"$f":"IF(A26<>\"\",IFERROR(VLOOKUP(Z26,Tabelas!B:D,3,0),0),\"\")","v":0},{"$f":"IF(A26<>\"\",IFERROR(VLOOKUP(AA26,Tabelas!B:D,3,0),0),\"\")","v":0},{"$f":"IF(A26<>\"\",IFERROR(VLOOKUP(AB26,Tabelas!B:D,3,0),0),\"\")","v":0},{"$f":"IF(A26<>\"\",IFERROR(VLOOKUP(AC26,Tabelas!B:D,3,0),0),\"\")","v":0},{"$f":"IF(A26<>\"\",IFERROR(VLOOKUP(AD26,Tabelas!B:D,3,0),0),\"\")","v":0},{"$f":"IF(A26<>\"\",IFERROR(VLOOKUP(AE26,Tabelas!B:D,3,0),0),\"\")","v":0},{"$f":"IF(A26<>\"\",IFERROR(VLOOKUP(AF26,Tabelas!B:D,3,0),0),\"\")","v":0},{"$f":"IF(A26<>\"\",IFERROR(VLOOKUP(AG26,Tabelas!B:D,3,0),0),\"\")","v":0},{"$f":"IF(A26<>\"\",IFERROR(VLOOKUP(AH26,Tabelas!B:D,3,0),0),\"\")","v":0},{"$f":"IF(A26<>\"\",IFERROR(VLOOKUP(AI26,Tabelas!B:D,3,0),0),\"\")","v":0},{"$f":"IF(A26<>\"\",IFERROR(VLOOKUP(AJ26,Tabelas!B:D,3,0),0),\"\")","v":0},{"$f":"IF(A26<>\"\",IFERROR(VLOOKUP(AK26,Tabelas!B:D,3,0),0),\"\")","v":0},{"$f":"IF(A26<>\"\",IFERROR(VLOOKUP(AL26,Tabelas!B:D,3,0),0),\"\")","v":0},{"$f":"IF(A26<>\"\",IFERROR(VLOOKUP(AM26,Tabelas!B:D,3,0),0),\"\")","v":0},{"$f":"IF(A26<>\"\",IFERROR(VLOOKUP(AN26,Tabelas!B:D,3,0),0),\"\")","v":0},{"$f":"IF(A26<>\"\",IFERROR(VLOOKUP(AO26,Tabelas!B:D,3,0),0),\"\")","v":0},{"$f":"IF(A26<>\"\",IFERROR(VLOOKUP(AP26,Tabelas!B:D,3,0),0),\"\")","v":0},{"$f":"IF(A26<>\"\",IFERROR(VLOOKUP(AQ26,Tabelas!B:D,3,0),0),\"\")","v":0},0,0,0,0,0,0,0,0]
["FULANO 19",19,null,null,null,null,null,null,null,null,null,null,null,null,null,null,null,null,null,null,null,null,null,null,null,null,null,null,null,null,null,null,null,null,null,null,null,null,null,null,null,null,null,{"$f":"IF(A27<>\"\",IFERROR(VLOOKUP(M27,Tabelas!B:D,3,0),0),\"\")","v":0},{"$f":"IF(A27<>\"\",IFERROR(VLOOKUP(N27,Tabelas!B:D,3,0),0),\"\")","v":0},{"$f":"IF(A27<>\"\",IFERROR(VLOOKUP(O27,Tabelas!B:D,3,0),0),\"\")","v":0},{"$f":"IF(A27<>\"\",IFERROR(VLOOKUP(P27,Tabelas!B:D,3,0),0),\"\")","v":0},{"$f":"IF(A27<>\"\",IFERROR(VLOOKUP(Q27,Tabelas!B:D,3,0),0),\"\")","v":0},{"$f":"IF(A27<>\"\",IFERROR(VLOOKUP(R27,Tabelas!B:D,3,0),0),\"\")","v":0},{"$f":"IF(A27<>\"\",IFERROR(VLOOKUP(S27,Tabelas!B:D,3,0),0),\"\")","v":0},{"$f":"IF(A27<>\"\",IFERROR(VLOOKUP(T27,Tabelas!B:D,3,0),0),\"\")","v":0},{"$f":"IF(A27<>\"\",IFERROR(VLOOKUP(U27,Tabelas!B:D,3,0),0),\"\")","v":0},{"$f":"IF(A27<>\"\",IFERROR(VLOOKUP(V27,Tabelas!B:D,3,0),0),\"\")","v":0},{"$f":"IF(A27<>\"\",IFERROR(VLOOKUP(W27,Tabelas!B:D,3,0),0),\"\")","v":0},{"$f":"IF(A27<>\"\",IFERROR(VLOOKUP(X27,Tabelas!B:D,3,0),0),\"\")","v":0},{"$f":"IF(A27<>\"\",IFERROR(VLOOKUP(Y27,Tabelas!B:D,3,0),0),\"\")","v":0},{"$f":"IF(A27<>\"\",IFERROR(VLOOKUP(Z27,Tabelas!B:D,3,0),0),\"\")","v":0},{"$f":"IF(A27<>\"\",IFERROR(VLOOKUP(AA27,Tabelas!B:D,3,0),0),\"\")","v":0},{"$f":"IF(A27<>\"\",IFERROR(VLOOKUP(AB27,Tabelas!B:D,3,0),0),\"\")","v":0},{"$f":"IF(A27<>\"\",IFERROR(VLOOKUP(AC27,Tabelas!B:D,3,0),0),\"\")","v":0},{"$f":"IF(A27<>\"\",IFERROR(VLOOKUP(AD27,Tabelas!B:D,3,0),0),\"\")","v":0},{"$f":"IF(A27<>\"\",IFERROR(VLOOKUP(AE27,Tabelas!B:D,3,0),0),\"\")","v":0},{"$f":"IF(A27<>\"\",IFERROR(VLOOKUP(AF27,Tabelas!B:D,3,0),0),\"\")","v":0},{"$f":"IF(A27<>\"\",IFERROR(VLOOKUP(AG27,Tabelas!B:D,3,0),0),\"\")","v":0},{"$f":"IF(A27<>\"\",IFERROR(VLOOKUP(AH27,Tabelas!B:D,3,0),0),\"\")","v":0},{"$f":"IF(A27<>\"\",IFERROR(VLOOKUP(AI27,Tabelas!B:D,3,0),0),\"\")","v":0},{"$f":"IF(A27<>\"\",IFERROR(VLOOKUP(AJ27,Tabelas!B:D,3,0),0),\"\")","v":0},{"$f":"IF(A27<>\"\",IFERROR(VLOOKUP(AK27,Tabelas!B:D,3,0),0),\"\")","v":0},{"$f":"IF(A27<>\"\",IFERROR(VLOOKUP(AL27,Tabelas!B:D,3,0),0),\"\")","v":0},{"$f":"IF(A27<>\"\",IFERROR(VLOOKUP(AM27,Tabelas!B:D,3,0),0),\"\")","v":0},{"$f":"IF(A27<>\"\",IFERROR(VLOOKUP(AN27,Tabelas!B:D,3,0),0),\"\")","v":0},{"$f":"IF(A27<>\"\",IFERROR(VLOOKUP(AO27,Tabelas!B:D,3,0),0),\"\")","v":0},{"$f":"IF(A27<>\"\",IFERROR(VLOOKUP(AP27,Tabelas!B:D,3,0),0),\"\")","v":0},{"$f":"IF(A27<>\"\",IFERROR(VLOOKUP(AQ27,Tabelas!B:D,3,0),0),\"\")","v":0},0,0,0,0,0,0,0,0]
["FULANO 20",20,null,null,null,null,null,null,null,null,null,null,null,null,null,null,null,null,null,null,null,null,null,null,null,null,null,null,null,null,null,null,null,null,null,null,null,null,null,null,null,null,null,{"$f":"IF(A28<>\"\",IFERROR(VLOOKUP(M28,Tabelas!B:D,3,0),0),\"\")","v":0},{"$f":"IF(A28<>\"\",IFERROR(VLOOKUP(N28,Tabelas!B:D,3,0),0),\"\")","v":0},{"$f":"IF(A28<>\"\",IFERROR(VLOOKUP(O28,Tabelas!B:D,3,0),0),\"\")","v":0},{"$f":"IF(A28<>\"\",IFERROR(VLOOKUP(P28,Tabelas!B:D,3,0),0),\"\")","v":0},{"$f":"IF(A28<>\"\",IFERROR(VLOOKUP(Q28,Tabelas!B:D,3,0),0),\"\")","v":0},{"$f":"IF(A28<>\"\",IFERROR(VLOOKUP(R28,Tabelas!B:D,3,0),0),\"\")","v":0},{"$f":"IF(A28<>\"\",IFERROR(VLOOKUP(S28,Tabelas!B:D,3,0),0),\"\")","v":0},{"$f":"IF(A28<>\"\",IFERROR(VLOOKUP(T28,Tabelas!B:D,3,0),0),\"\")","v":0},{"$f":"IF(A28<>\"\",IFERROR(VLOOKUP(U28,Tabelas!B:D,3,0),0),\"\")","v":0},{"$f":"IF(A28<>\"\",IFERROR(VLOOKUP(V28,Tabelas!B:D,3,0),0),\"\")","v":0},{"$f":"IF(A28<>\"\",IFERROR(VLOOKUP(W28,Tabelas!B:D,3,0),0),\"\")","v":0},{"$f":"IF(A28<>\"\",IFERROR(VLOOKUP(X28,Tabelas!B:D,3,0),0),\"\")","v":0},{"$f":"IF(A28<>\"\",IFERROR(VLOOKUP(Y28,Tabelas!B:D,3,0),0),\"\")","v":0},{"$f":"IF(A28<>\"\",IFERROR(VLOOKUP(Z28,Tabelas!B:D,3,0),0),\"\")","v":0},{"$f":"IF(A28<>\"\",IFERROR(VLOOKUP(AA28,Tabelas!B:D,3,0),0),\"\")","v":0},{"$f":"IF(A28<>\"\",IFERROR(VLOOKUP(AB28,Tabelas!B:D,3,0),0),\"\")","v":0},{"$f":"IF(A28<>\"\",IFERROR(VLOOKUP(AC28,Tabelas!B:D,3,0),0),\"\")","v":0},{"$f":"IF(A28<>\"\",IFERROR(VLOOKUP(AD28,Tabelas!B:D,3,0),0),\"\")","v":0},{"$f":"IF(A28<>\"\",IFERROR(VLOOKUP(AE28,Tabelas!B:D,3,0),0),\"\")","v":0},{"$f":"IF(A28<>\"\",IFERROR(VLOOKUP(AF28,Tabelas!B:D,3,0),0),\"\")","v":0},{"$f":"IF(A28<>\"\",IFERROR(VLOOKUP(AG28,Tabelas!B:D,3,0),0),\"\")","v":0},{"$f":"IF(A28<>\"\",IFERROR(VLOOKUP(AH28,Tabelas!B:D,3,0),0),\"\")","v":0},{"$f":"IF(A28<>\"\",IFERROR(VLOOKUP(AI28,Tabelas!B:D,3,0),0),\"\")","v":0},{"$f":"IF(A28<>\"\",IFERROR(VLOOKUP(AJ28,Tabelas!B:D,3,0),0),\"\")","v":0},{"$f":"IF(A28<>\"\",IFERROR(VLOOKUP(AK28,Tabelas!B:D,3,0),0),\"\")","v":0},{"$f":"IF(A28<>\"\",IFERROR(VLOOKUP(AL28,Tabelas!B:D,3,0),0),\"\")","v":0},{"$f":"IF(A28<>\"\",IFERROR(VLOOKUP(AM28,Tabelas!B:D,3,0),0),\"\")","v":0},{"$f":"IF(A28<>\"\",IFERROR(VLOOKUP(AN28,Tabelas!B:D,3,0),0),\"\")","v":0},{"$f":"IF(A28<>\"\",IFERROR(VLOOKUP(AO28,Tabelas!B:D,3,0),0),\"\")","v":0},{"$f":"IF(A28<>\"\",IFERROR(VLOOKUP(AP28,Tabelas!B:D,3,0),0),\"\")","v":0},{"$f":"IF(A28<>\"\",IFERROR(VLOOKUP(AQ28,Tabelas!B:D,3,0),0),\"\")","v":0},0,0,0,0,0,0,0,0]
["FULANO 21",21,null,null,null,null,null,null,null,null,null,null,null,null,null,null,null,null,null,null,null,null,null,null,null,null,null,null,null,null,null,null,null,null,null,null,null,null,null,null,null,null,null,{"$f":"IF(A29<>\"\",IFERROR(VLOOKUP(M29,Tabelas!B:D,3,0),0),\"\")","v":0},{"$f":"IF(A29<>\"\",IFERROR(VLOOKUP(N29,Tabelas!B:D,3,0),0),\"\")","v":0},{"$f":"IF(A29<>\"\",IFERROR(VLOOKUP(O29,Tabelas!B:D,3,0),0),\"\")","v":0},{"$f":"IF(A29<>\"\",IFERROR(VLOOKUP(P29,Tabelas!B:D,3,0),0),\"\")","v":0},{"$f":"IF(A29<>\"\",IFERROR(VLOOKUP(Q29,Tabelas!B:D,3,0),0),\"\")","v":0},{"$f":"IF(A29<>\"\",IFERROR(VLOOKUP(R29,Tabelas!B:D,3,0),0),\"\")","v":0},{"$f":"IF(A29<>\"\",IFERROR(VLOOKUP(S29,Tabelas!B:D,3,0),0),\"\")","v":0},{"$f":"IF(A29<>\"\",IFERROR(VLOOKUP(T29,Tabelas!B:D,3,0),0),\"\")","v":0},{"$f":"IF(A29<>\"\",IFERROR(VLOOKUP(U29,Tabelas!B:D,3,0),0),\"\")","v":0},{"$f":"IF(A29<>\"\",IFERROR(VLOOKUP(V29,Tabelas!B:D,3,0),0),\"\")","v":0},{"$f":"IF(A29<>\"\",IFERROR(VLOOKUP(W29,Tabelas!B:D,3,0),0),\"\")","v":0},{"$f":"IF(A29<>\"\",IFERROR(VLOOKUP(X29,Tabelas!B:D,3,0),0),\"\")","v":0},{"$f":"IF(A29<>\"\",IFERROR(VLOOKUP(Y29,Tabelas!B:D,3,0),0),\"\")","v":0},{"$f":"IF(A29<>\"\",IFERROR(VLOOKUP(Z29,Tabelas!B:D,3,0),0),\"\")","v":0},{"$f":"IF(A29<>\"\",IFERROR(VLOOKUP(AA29,Tabelas!B:D,3,0),0),\"\")","v":0},{"$f":"IF(A29<>\"\",IFERROR(VLOOKUP(AB29,Tabelas!B:D,3,0),0),\"\")","v":0},{"$f":"IF(A29<>\"\",IFERROR(VLOOKUP(AC29,Tabelas!B:D,3,0),0),\"\")","v":0},{"$f":"IF(A29<>\"\",IFERROR(VLOOKUP(AD29,Tabelas!B:D,3,0),0),\"\")","v":0},{"$f":"IF(A29<>\"\",IFERROR(VLOOKUP(AE29,Tabelas!B:D,3,0),0),\"\")","v":0},{"$f":"IF(A29<>\"\",IFERROR(VLOOKUP(AF29,Tabelas!B:D,3,0),0),\"\")","v":0},{"$f":"IF(A29<>\"\",IFERROR(VLOOKUP(AG29,Tabelas!B:D,3,0),0),\"\")","v":0},{"$f":"IF(A29<>\"\",IFERROR(VLOOKUP(AH29,Tabelas!B:D,3,0),0),\"\")","v":0},{"$f":"IF(A29<>\"\",IFERROR(VLOOKUP(AI29,Tabelas!B:D,3,0),0),\"\")","v":0},{"$f":"IF(A29<>\"\",IFERROR(VLOOKUP(AJ29,Tabelas!B:D,3,0),0),\"\")","v":0},{"$f":"IF(A29<>\"\",IFERROR(VLOOKUP(AK29,Tabelas!B:D,3,0),0),\"\")","v":0},{"$f":"IF(A29<>\"\",IFERROR(VLOOKUP(AL29,Tabelas!B:D,3,0),0),\"\")","v":0},{"$f":"IF(A29<>\"\",IFERROR(VLOOKUP(AM29,Tabelas!B:D,3,0),0),\"\")","v":0},{"$f":"IF(A29<>\"\",IFERROR(VLOOKUP(AN29,Tabelas!B:D,3,0),0),\"\")","v":0},{"$f":"IF(A29<>\"\",IFERROR(VLOOKUP(AO29,Tabelas!B:D,3,0),0),\"\")","v":0},{"$f":"IF(A29<>\"\",IFERROR(VLOOKUP(AP29,Tabelas!B:D,3,0),0),\"\")","v":0},{"$f":"IF(A29<>\"\",IFERROR(VLOOKUP(AQ29,Tabelas!B:D,3,0),0),\"\")","v":0},0,0,0,0,0,0,0,0]
["FULANO 22",22,null,null,null,null,null,null,null,null,null,null,null,null,null,null,null,null,null,null,null,null,null,null,null,null,null,null,null,null,null,null,null,null,null,null,null,null,null,null,null,null,null,{"$f":"IF(A30<>\"\",IFERROR(VLOOKUP(M30,Tabelas!B:D,3,0),0),\"\")","v":0},{"$f":"IF(A30<>\"\",IFERROR(VLOOKUP(N30,Tabelas!B:D,3,0),0),\"\")","v":0},{"$f":"IF(A30<>\"\",IFERROR(VLOOKUP(O30,Tabelas!B:D,3,0),0),\"\")","v":0},{"$f":"IF(A30<>\"\",IFERROR(VLOOKUP(P30,Tabelas!B:D,3,0),0),\"\")","v":0},{"$f":"IF(A30<>\"\",IFERROR(VLOOKUP(Q30,Tabelas!B:D,3,0),0),\"\")","v":0},{"$f":"IF(A30<>\"\",IFERROR(VLOOKUP(R30,Tabelas!B:D,3,0),0),\"\")","v":0},{"$f":"IF(A30<>\"\",IFERROR(VLOOKUP(S30,Tabelas!B:D,3,0),0),\"\")","v":0},{"$f":"IF(A30<>\"\",IFERROR(VLOOKUP(T30,Tabelas!B:D,3,0),0),\"\")","v":0},{"$f":"IF(A30<>\"\",IFERROR(VLOOKUP(U30,Tabelas!B:D,3,0),0),\"\")","v":0},{"$f":"IF(A30<>\"\",IFERROR(VLOOKUP(V30,Tabelas!B:D,3,0),0),\"\")","v":0},{"$f":"IF(A30<>\"\",IFERROR(VLOOKUP(W30,Tabelas!B:D,3,0),0),\"\")","v":0},{"$f":"IF(A30<>\"\",IFERROR(VLOOKUP(X30,Tabelas!B:D,3,0),0),\"\")","v":0},{"$f":"IF(A30<>\"\",IFERROR(VLOOKUP(Y30,Tabelas!B:D,3,0),0),\"\")","v":0},{"$f":"IF(A30<>\"\",IFERROR(VLOOKUP(Z30,Tabelas!B:D,3,0),0),\"\")","v":0},{"$f":"IF(A30<>\"\",IFERROR(VLOOKUP(AA30,Tabelas!B:D,3,0),0),\"\")","v":0},{"$f":"IF(A30<>\"\",IFERROR(VLOOKUP(AB30,Tabelas!B:D,3,0),0),\"\")","v":0},{"$f":"IF(A30<>\"\",IFERROR(VLOOKUP(AC30,Tabelas!B:D,3,0),0),\"\")","v":0},{"$f":"IF(A30<>\"\",IFERROR(VLOOKUP(AD30,Tabelas!B:D,3,0),0),\"\")","v":0},{"$f":"IF(A30<>\"\",IFERROR(VLOOKUP(AE30,Tabelas!B:D,3,0),0),\"\")","v":0},{"$f":"IF(A30<>\"\",IFERROR(VLOOKUP(AF30,Tabelas!B:D,3,0),0),\"\")","v":0},{"$f":"IF(A30<>\"\",IFERROR(VLOOKUP(AG30,Tabelas!B:D,3,0),0),\"\")","v":0},{"$f":"IF(A30<>\"\",IFERROR(VLOOKUP(AH30,Tabelas!B:D,3,0),0),\"\")","v":0},{"$f":"IF(A30<>\"\",IFERROR(VLOOKUP(AI30,Tabelas!B:D,3,0),0),\"\")","v":0},{"$f":"IF(A30<>\"\",IFERROR(VLOOKUP(AJ30,Tabelas!B:D,3,0),0),\"\")","v":0},{"$f":"IF(A30<>\"\",IFERROR(VLOOKUP(AK30,Tabelas!B:D,3,0),0),\"\")","v":0},{"$f":"IF(A30<>\"\",IFERROR(VLOOKUP(AL30,Tabelas!B:D,3,0),0),\"\")","v":0},{"$f":"IF(A30<>\"\",IFERROR(VLOOKUP(AM30,Tabelas!B:D,3,0),0),\"\")","v":0},{"$f":"IF(A30<>\"\",IFERROR(VLOOKUP(AN30,Tabelas!B:D,3,0),0),\"\")","v":0},{"$f":"IF(A30<>\"\",IFERROR(VLOOKUP(AO30,Tabelas!B:D,3,0),0),\"\")","v":0},{"$f":"IF(A30<>\"\",IFERROR(VLOOKUP(AP30,Tabelas!B:D,3,0),0),\"\")","v":0},{"$f":"IF(A30<>\"\",IFERROR(VLOOKUP(AQ30,Tabelas!B:D,3,0),0),\"\")","v":0},0,0,0,0,0,0,0,0]
["FULANO 23",23,null,null,null,null,null,null,null,null,null,null,null,null,null,null,null,null,null,null,null,null,null,null,null,null,null,null,null,null,null,null,null,null,null,null,null,null,null,null,null,null,null,{"$f":"IF(A31<>\"\",IFERROR(VLOOKUP(M31,Tabelas!B:D,3,0),0),\"\")","v":0},{"$f":"IF(A31<>\"\",IFERROR(VLOOKUP(N31,Tabelas!B:D,3,0),0),\"\")","v":0},{"$f":"IF(A31<>\"\",IFERROR(VLOOKUP(O31,Tabelas!B:D,3,0),0),\"\")","v":0},{"$f":"IF(A31<>\"\",IFERROR(VLOOKUP(P31,Tabelas!B:D,3,0),0),\"\")","v":0},{"$f":"IF(A31<>\"\",IFERROR(VLOOKUP(Q31,Tabelas!B:D,3,0),0),\"\")","v":0},{"$f":"IF(A31<>\"\",IFERROR(VLOOKUP(R31,Tabelas!B:D,3,0),0),\"\")","v":0},{"$f":"IF(A31<>\"\",IFERROR(VLOOKUP(S31,Tabelas!B:D,3,0),0),\"\")","v":0},{"$f":"IF(A31<>\"\",IFERROR(VLOOKUP(T31,Tabelas!B:D,3,0),0),\"\")","v":0},{"$f":"IF(A31<>\"\",IFERROR(VLOOKUP(U31,Tabelas!B:D,3,0),0),\"\")","v":0},{"$f":"IF(A31<>\"\",IFERROR(VLOOKUP(V31,Tabelas!B:D,3,0),0),\"\")","v":0},{"$f":"IF(A31<>\"\",IFERROR(VLOOKUP(W31,Tabelas!B:D,3,0),0),\"\")","v":0},{"$f":"IF(A31<>\"\",IFERROR(VLOOKUP(X31,Tabelas!B:D,3,0),0),\"\")","v":0},{"$f":"IF(A31<>\"\",IFERROR(VLOOKUP(Y31,Tabelas!B:D,3,0),0),\"\")","v":0},{"$f":"IF(A31<>\"\",IFERROR(VLOOKUP(Z31,Tabelas!B:D,3,0),0),\"\")","v":0},{"$f":"IF(A31<>\"\",IFERROR(VLOOKUP(AA31,Tabelas!B:D,3,0),0),\"\")","v":0},{"$f":"IF(A31<>\"\",IFERROR(VLOOKUP(AB31,Tabelas!B:D,3,0),0),\"\")","v":0},{"$f":"IF(A31<>\"\",IFERROR(VLOOKUP(AC31,Tabelas!B:D,3,0),0),\"\")","v":0},{"$f":"IF(A31<>\"\",IFERROR(VLOOKUP(AD31,Tabelas!B:D,3,0),0),\"\")","v":0},{"$f":"IF(A31<>\"\",IFERROR(VLOOKUP(AE31,Tabelas!B:D,3,0),0),\"\")","v":0},{"$f":"IF(A31<>\"\",IFERROR(VLOOKUP(AF31,Tabelas!B:D,3,0),0),\"\")","v":0},{"$f":"IF(A31<>\"\",IFERROR(VLOOKUP(AG31,Tabelas!B:D,3,0),0),\"\")","v":0},{"$f":"IF(A31<>\"\",IFERROR(VLOOKUP(AH31,Tabelas!B:D,3,0),0),\"\")","v":0},{"$f":"IF(A31<>\"\",IFERROR(VLOOKUP(AI31,Tabelas!B:D,3,0),0),\"\")","v":0},{"$f":"IF(A31<>\"\",IFERROR(VLOOKUP(AJ31,Tabelas!B:D,3,0),0),\"\")","v":0},{"$f":"IF(A31<>\"\",IFERROR(VLOOKUP(AK31,Tabelas!B:D,3,0),0),\"\")","v":0},{"$f":"IF(A31<>\"\",IFERROR(VLOOKUP(AL31,Tabelas!B:D,3,0),0),\"\")","v":0},{"$f":"IF(A31<>\"\",IFERROR(VLOOKUP(AM31,Tabelas!B:D,3,0),0),\"\")","v":0},{"$f":"IF(A31<>\"\",IFERROR(VLOOKUP(AN31,Tabelas!B:D,3,0),0),\"\")","v":0},{"$f":"IF(A31<>\"\",IFERROR(VLOOKUP(AO31,Tabelas!B:D,3,0),0),\"\")","v":0},{"$f":"IF(A31<>\"\",IFERROR(VLOOKUP(AP31,Tabelas!B:D,3,0),0),\"\")","v":0},{"$f":"IF(A31<>\"\",IFERROR(VLOOKUP(AQ31,Tabelas!B:D,3,0),0),\"\")","v":0},0,0,0,0,0,0,0,0]
["FULANO 24",24,null,null,null,null,null,null,null,null,null,null,null,null,null,null,null,null,null,null,null,null,null,null,null,null,null,null,null,null,null,null,null,null,null,null,null,null,null,null,null,null,null,{"$f":"IF(A32<>\"\",IFERROR(VLOOKUP(M32,Tabelas!B:D,3,0),0),\"\")","v":0},{"$f":"IF(A32<>\"\",IFERROR(VLOOKUP(N32,Tabelas!B:D,3,0),0),\"\")","v":0},{"$f":"IF(A32<>\"\",IFERROR(VLOOKUP(O32,Tabelas!B:D,3,0),0),\"\")","v":0},{"$f":"IF(A32<>\"\",IFERROR(VLOOKUP(P32,Tabelas!B:D,3,0),0),\"\")","v":0},{"$f":"IF(A32<>\"\",IFERROR(VLOOKUP(Q32,Tabelas!B:D,3,0),0),\"\")","v":0},{"$f":"IF(A32<>\"\",IFERROR(VLOOKUP(R32,Tabelas!B:D,3,0),0),\"\")","v":0},{"$f":"IF(A32<>\"\",IFERROR(VLOOKUP(S32,Tabelas!B:D,3,0),0),\"\")","v":0},{"$f":"IF(A32<>\"\",IFERROR(VLOOKUP(T32,Tabelas!B:D,3,0),0),\"\")","v":0},{"$f":"IF(A32<>\"\",IFERROR(VLOOKUP(U32,Tabelas!B:D,3,0),0),\"\")","v":0},{"$f":"IF(A32<>\"\",IFERROR(VLOOKUP(V32,Tabelas!B:D,3,0),0),\"\")","v":0},{"$f":"IF(A32<>\"\",IFERROR(VLOOKUP(W32,Tabelas!B:D,3,0),0),\"\")","v":0},{"$f":"IF(A32<>\"\",IFERROR(VLOOKUP(X32,Tabelas!B:D,3,0),0),\"\")","v":0},{"$f":"IF(A32<>\"\",IFERROR(VLOOKUP(Y32,Tabelas!B:D,3,0),0),\"\")","v":0},{"$f":"IF(A32<>\"\",IFERROR(VLOOKUP(Z32,Tabelas!B:D,3,0),0),\"\")","v":0},{"$f":"IF(A32<>\"\",IFERROR(VLOOKUP(AA32,Tabelas!B:D,3,0),0),\"\")","v":0},{"$f":"IF(A32<>\"\",IFERROR(VLOOKUP(AB32,Tabelas!B:D,3,0),0),\"\")","v":0},{"$f":"IF(A32<>\"\",IFERROR(VLOOKUP(AC32,Tabelas!B:D,3,0),0),\"\")","v":0},{"$f":"IF(A32<>\"\",IFERROR(VLOOKUP(AD32,Tabelas!B:D,3,0),0),\"\")","v":0},{"$f":"IF(A32<>\"\",IFERROR(VLOOKUP(AE32,Tabelas!B:D,3,0),0),\"\")","v":0},{"$f":"IF(A32<>\"\",IFERROR(VLOOKUP(AF32,Tabelas!B:D,3,0),0),\"\")","v":0},{"$f":"IF(A32<>\"\",IFERROR(VLOOKUP(AG32,Tabelas!B:D,3,0),0),\"\")","v":0},{"$f":"IF(A32<>\"\",IFERROR(VLOOKUP(AH32,Tabelas!B:D,3,0),0),\"\")","v":0},{"$f":"IF(A32<>\"\",IFERROR(VLOOKUP(AI32,Tabelas!B:D,3,0),0),\"\")","v":0},{"$f":"IF(A32<>\"\",IFERROR(VLOOKUP(AJ32,Tabelas!B:D,3,0),0),\"\")","v":0},{"$f":"IF(A32<>\"\",IFERROR(VLOOKUP(AK32,Tabelas!B:D,3,0),0),\"\")","v":0},{"$f":"IF(A32<>\"\",IFERROR(VLOOKUP(AL32,Tabelas!B:D,3,0),0),\"\")","v":0},{"$f":"IF(A32<>\"\",IFERROR(VLOOKUP(AM32,Tabelas!B:D,3,0),0),\"\")","v":0},{"$f":"IF(A32<>\"\",IFERROR(VLOOKUP(AN32,Tabelas!B:D,3,0),0),\"\")","v":0},{"$f":"IF(A32<>\"\",IFERROR(VLOOKUP(AO32,Tabelas!B:D,3,0),0),\"\")","v":0},{"$f":"IF(A32<>\"\",IFERROR(VLOOKUP(AP32,Tabelas!B:D,3,0),0),\"\")","v":0},{"$f":"IF(A32<>\"\",IFERROR(VLOOKUP(AQ32,Tabelas!B:D,3,0),0),\"\")","v":0},0,0,0,0,0,0,0,0]
["FULANO 25",25,null,null,null,null,null,null,null,null,null,null,null,null,null,null,null,null,null,null,null,null,null,null,null,null,null,null,null,null,null,null,null,null,null,null,null,null,null,null,null,null,null,{"$f":"IF(A33<>\"\",IFERROR(VLOOKUP(M33,Tabelas!B:D,3,0),0),\"\")","v":0},{"$f":"IF(A33<>\"\",IFERROR(VLOOKUP(N33,Tabelas!B:D,3,0),0),\"\")","v":0},{"$f":"IF(A33<>\"\",IFERROR(VLOOKUP(O33,Tabelas!B:D,3,0),0),\"\")","v":0},{"$f":"IF(A33<>\"\",IFERROR(VLOOKUP(P33,Tabelas!B:D,3,0),0),\"\")","v":0},{"$f":"IF(A33<>\"\",IFERROR(VLOOKUP(Q33,Tabelas!B:D,3,0),0),\"\")","v":0},{"$f":"IF(A33<>\"\",IFERROR(VLOOKUP(R33,Tabelas!B:D,3,0),0),\"\")","v":0},{"$f":"IF(A33<>\"\",IFERROR(VLOOKUP(S33,Tabelas!B:D,3,0),0),\"\")","v":0},{"$f":"IF(A33<>\"\",IFERROR(VLOOKUP(T33,Tabelas!B:D,3,0),0),\"\")","v":0},{"$f":"IF(A33<>\"\",IFERROR(VLOOKUP(U33,Tabelas!B:D,3,0),0),\"\")","v":0},{"$f":"IF(A33<>\"\",IFERROR(VLOOKUP(V33,Tabelas!B:D,3,0),0),\"\")","v":0},{"$f":"IF(A33<>\"\",IFERROR(VLOOKUP(W33,Tabelas!B:D,3,0),0),\"\")","v":0},{"$f":"IF(A33<>\"\",IFERROR(VLOOKUP(X33,Tabelas!B:D,3,0),0),\"\")","v":0},{"$f":"IF(A33<>\"\",IFERROR(VLOOKUP(Y33,Tabelas!B:D,3,0),0),\"\")","v":0},{"$f":"IF(A33<>\"\",IFERROR(VLOOKUP(Z33,Tabelas!B:D,3,0),0),\"\")","v":0},{"$f":"IF(A33<>\"\",IFERROR(VLOOKUP(AA33,Tabelas!B:D,3,0),0),\"\")","v":0},{"$f":"IF(A33<>\"\",IFERROR(VLOOKUP(AB33,Tabelas!B:D,3,0),0),\"\")","v":0},{"$f":"IF(A33<>\"\",IFERROR(VLOOKUP(AC33,Tabelas!B:D,3,0),0),\"\")","v":0},{"$f":"IF(A33<>\"\",IFERROR(VLOOKUP(AD33,Tabelas!B:D,3,0),0),\"\")","v":0},{"$f":"IF(A33<>\"\",IFERROR(VLOOKUP(AE33,Tabelas!B:D,3,0),0),\"\")","v":0},{"$f":"IF(A33<>\"\",IFERROR(VLOOKUP(AF33,Tabelas!B:D,3,0),0),\"\")","v":0},{"$f":"IF(A33<>\"\",IFERROR(VLOOKUP(AG33,Tabelas!B:D,3,0),0),\"\")","v":0},{"$f":"IF(A33<>\"\",IFERROR(VLOOKUP(AH33,Tabelas!B:D,3,0),0),\"\")","v":0},{"$f":"IF(A33<>\"\",IFERROR(VLOOKUP(AI33,Tabelas!B:D,3,0),0),\"\")","v":0},{"$f":"IF(A33<>\"\",IFERROR(VLOOKUP(AJ33,Tabelas!B:D,3,0),0),\"\")","v":0},{"$f":"IF(A33<>\"\",IFERROR(VLOOKUP(AK33,Tabelas!B:D,3,0),0),\"\")","v":0},{"$f":"IF(A33<>\"\",IFERROR(VLOOKUP(AL33,Tabelas!B:D,3,0),0),\"\")","v":0},{"$f":"IF(A33<>\"\",IFERROR(VLOOKUP(AM33,Tabelas!B:D,3,0),0),\"\")","v":0},{"$f":"IF(A33<>\"\",IFERROR(VLOOKUP(AN33,Tabelas!B:D,3,0),0),\"\")","v":0},{"$f":"IF(A33<>\"\",IFERROR(VLOOKUP(AO33,Tabelas!B:D,3,0),0),\"\")","v":0},{"$f":"IF(A33<>\"\",IFERROR(VLOOKUP(AP33,Tabelas!B:D,3,0),0),\"\")","v":0},{"$f":"IF(A33<>\"\",IFERROR(VLOOKUP(AQ33,Tabelas!B:D,3,0),0),\"\")","v":0},0,0,0,0,0,0,0,0]
["FULANO 26",26,null,null,null,null,null,null,null,null,null,null,null,null,null,null,null,null,null,null,null,null,null,null,null,null,null,null,null,null,null,null,null,null,null,null,null,null,null,null,null,null,null,{"$f":"IF(A34<>\"\",IFERROR(VLOOKUP(M34,Tabelas!B:D,3,0),0),\"\")","v":0},{"$f":"IF(A34<>\"\",IFERROR(VLOOKUP(N34,Tabelas!B:D,3,0),0),\"\")","v":0},{"$f":"IF(A34<>\"\",IFERROR(VLOOKUP(O34,Tabelas!B:D,3,0),0),\"\")","v":0},{"$f":"IF(A34<>\"\",IFERROR(VLOOKUP(P34,Tabelas!B:D,3,0),0),\"\")","v":0},{"$f":"IF(A34<>\"\",IFERROR(VLOOKUP(Q34,Tabelas!B:D,3,0),0),\"\")","v":0},{"$f":"IF(A34<>\"\",IFERROR(VLOOKUP(R34,Tabelas!B:D,3,0),0),\"\")","v":0},{"$f":"IF(A34<>\"\",IFERROR(VLOOKUP(S34,Tabelas!B:D,3,0),0),\"\")","v":0},{"$f":"IF(A34<>\"\",IFERROR(VLOOKUP(T34,Tabelas!B:D,3,0),0),\"\")","v":0},{"$f":"IF(A34<>\"\",IFERROR(VLOOKUP(U34,Tabelas!B:D,3,0),0),\"\")","v":0},{"$f":"IF(A34<>\"\",IFERROR(VLOOKUP(V34,Tabelas!B:D,3,0),0),\"\")","v":0},{"$f":"IF(A34<>\"\",IFERROR(VLOOKUP(W34,Tabelas!B:D,3,0),0),\"\")","v":0},{"$f":"IF(A34<>\"\",IFERROR(VLOOKUP(X34,Tabelas!B:D,3,0),0),\"\")","v":0},{"$f":"IF(A34<>\"\",IFERROR(VLOOKUP(Y34,Tabelas!B:D,3,0),0),\"\")","v":0},{"$f":"IF(A34<>\"\",IFERROR(VLOOKUP(Z34,Tabelas!B:D,3,0),0),\"\")","v":0},{"$f":"IF(A34<>\"\",IFERROR(VLOOKUP(AA34,Tabelas!B:D,3,0),0),\"\")","v":0},{"$f":"IF(A34<>\"\",IFERROR(VLOOKUP(AB34,Tabelas!B:D,3,0),0),\"\")","v":0},{"$f":"IF(A34<>\"\",IFERROR(VLOOKUP(AC34,Tabelas!B:D,3,0),0),\"\")","v":0},{"$f":"IF(A34<>\"\",IFERROR(VLOOKUP(AD34,Tabelas!B:D,3,0),0),\"\")","v":0},{"$f":"IF(A34<>\"\",IFERROR(VLOOKUP(AE34,Tabelas!B:D,3,0),0),\"\")","v":0},{"$f":"IF(A34<>\"\",IFERROR(VLOOKUP(AF34,Tabelas!B:D,3,0),0),\"\")","v":0},{"$f":"IF(A34<>\"\",IFERROR(VLOOKUP(AG34,Tabelas!B:D,3,0),0),\"\")","v":0},{"$f":"IF(A34<>\"\",IFERROR(VLOOKUP(AH34,Tabelas!B:D,3,0),0),\"\")","v":0},{"$f":"IF(A34<>\"\",IFERROR(VLOOKUP(AI34,Tabelas!B:D,3,0),0),\"\")","v":0},{"$f":"IF(A34<>\"\",IFERROR(VLOOKUP(AJ34,Tabelas!B:D,3,0),0),\"\")","v":0},{"$f":"IF(A34<>\"\",IFERROR(VLOOKUP(AK34,Tabelas!B:D,3,0),0),\"\")","v":0},{"$f":"IF(A34<>\"\",IFERROR(VLOOKUP(AL34,Tabelas!B:D,3,0),0),\"\")","v":0},{"$f":"IF(A34<>\"\",IFERROR(VLOOKUP(AM34,Tabelas!B:D,3,0),0),\"\")","v":0},{"$f":"IF(A34<>\"\",IFERROR(VLOOKUP(AN34,Tabelas!B:D,3,0),0),\"\")","v":0},{"$f":"IF(A34<>\"\",IFERROR(VLOOKUP(AO34,Tabelas!B:D,3,0),0),\"\")","v":0},{"$f":"IF(A34<>\"\",IFERROR(VLOOKUP(AP34,Tabelas!B:D,3,0),0),\"\")","v":0},{"$f":"IF(A34<>\"\",IFERROR(VLOOKUP(AQ34,Tabelas!B:D,3,0),0),\"\")","v":0},0,0,0,0,0,0,0,0]
["FULANO 27",27,null,null,null,null,null,null,null,null,null,null,null,null,null,null,null,null,null,null,null,null,null,null,null,null,null,null,null,null,null,null,null,null,null,null,null,null,null,null,null,null,null,{"$f":"IF(A35<>\"\",IFERROR(VLOOKUP(M35,Tabelas!B:D,3,0),0),\"\")","v":0},{"$f":"IF(A35<>\"\",IFERROR(VLOOKUP(N35,Tabelas!B:D,3,0),0),\"\")","v":0},{"$f":"IF(A35<>\"\",IFERROR(VLOOKUP(O35,Tabelas!B:D,3,0),0),\"\")","v":0},{"$f":"IF(A35<>\"\",IFERROR(VLOOKUP(P35,Tabelas!B:D,3,0),0),\"\")","v":0},{"$f":"IF(A35<>\"\",IFERROR(VLOOKUP(Q35,Tabelas!B:D,3,0),0),\"\")","v":0},{"$f":"IF(A35<>\"\",IFERROR(VLOOKUP(R35,Tabelas!B:D,3,0),0),\"\")","v":0},{"$f":"IF(A35<>\"\",IFERROR(VLOOKUP(S35,Tabelas!B:D,3,0),0),\"\")","v":0},{"$f":"IF(A35<>\"\",IFERROR(VLOOKUP(T35,Tabelas!B:D,3,0),0),\"\")","v":0},{"$f":"IF(A35<>\"\",IFERROR(VLOOKUP(U35,Tabelas!B:D,3,0),0),\"\")","v":0},{"$f":"IF(A35<>\"\",IFERROR(VLOOKUP(V35,Tabelas!B:D,3,0),0),\"\")","v":0},{"$f":"IF(A35<>\"\",IFERROR(VLOOKUP(W35,Tabelas!B:D,3,0),0),\"\")","v":0},{"$f":"IF(A35<>\"\",IFERROR(VLOOKUP(X35,Tabelas!B:D,3,0),0),\"\")","v":0},{"$f":"IF(A35<>\"\",IFERROR(VLOOKUP(Y35,Tabelas!B:D,3,0),0),\"\")","v":0},{"$f":"IF(A35<>\"\",IFERROR(VLOOKUP(Z35,Tabelas!B:D,3,0),0),\"\")","v":0},{"$f":"IF(A35<>\"\",IFERROR(VLOOKUP(AA35,Tabelas!B:D,3,0),0),\"\")","v":0},{"$f":"IF(A35<>\"\",IFERROR(VLOOKUP(AB35,Tabelas!B:D,3,0),0),\"\")","v":0},{"$f":"IF(A35<>\"\",IFERROR(VLOOKUP(AC35,Tabelas!B:D,3,0),0),\"\")","v":0},{"$f":"IF(A35<>\"\",IFERROR(VLOOKUP(AD35,Tabelas!B:D,3,0),0),\"\")","v":0},{"$f":"IF(A35<>\"\",IFERROR(VLOOKUP(AE35,Tabelas!B:D,3,0),0),\"\")","v":0},{"$f":"IF(A35<>\"\",IFERROR(VLOOKUP(AF35,Tabelas!B:D,3,0),0),\"\")","v":0},{"$f":"IF(A35<>\"\",IFERROR(VLOOKUP(AG35,Tabelas!B:D,3,0),0),\"\")","v":0},{"$f":"IF(A35<>\"\",IFERROR(VLOOKUP(AH35,Tabelas!B:D,3,0),0),\"\")","v":0},{"$f":"IF(A35<>\"\",IFERROR(VLOOKUP(AI35,Tabelas!B:D,3,0),0),\"\")","v":0},{"$f":"IF(A35<>\"\",IFERROR(VLOOKUP(AJ35,Tabelas!B:D,3,0),0),\"\")","v":0},{"$f":"IF(A35<>\"\",IFERROR(VLOOKUP(AK35,Tabelas!B:D,3,0),0),\"\")","v":0},{"$f":"IF(A35<>\"\",IFERROR(VLOOKUP(AL35,Tabelas!B:D,3,0),0),\"\")","v":0},{"$f":"IF(A35<>\"\",IFERROR(VLOOKUP(AM35,Tabelas!B:D,3,0),0),\"\")","v":0},{"$f":"IF(A35<>\"\",IFERROR(VLOOKUP(AN35,Tabelas!B:D,3,0),0),\"\")","v":0},{"$f":"IF(A35<>\"\",IFERROR(VLOOKUP(AO35,Tabelas!B:D,3,0),0),\"\")","v":0},{"$f":"IF(A35<>\"\",IFERROR(VLOOKUP(AP35,Tabelas!B:D,3,0),0),\"\")","v":0},{"$f":"IF(A35<>\"\",IFERROR(VLOOKUP(AQ35,Tabelas!B:D,3,0),0),\"\")","v":0},0,0,0,0,0,0,0,0]
["TOTAL PROFISSIONAIS MATUTINO",null,null,null,null,null,null,null,null,null,null,null,{"$f":"IF(COUNTIF(M9:M35,\"M*\")+ COUNTIF(M9:M35, \"D*\")-COUNTIF(M9:M35,\"DSR\")<>0,COUNTIF(M9:M35,\"M*\")+ COUNTIF(M9:M35, \"D*\")-COUNTIF(M9:M35,\"DSR\"),\"\")","v":""},"","","","","","","","","","","","","","","","","","","","","","","","","","","","","","",null,null,null,null,null,null,null,null,null,null,null,null,null,null,null,null,null,null,null,null,null,null,null,null,null,null,null,null,null,null,null,{"$f":"SUM(BW9:BW35)","v":0},0,0,0,0,0,0,0]
["TOTAL DE PROFISSIONAIS VESPERTINO",null,null,null,null,null,null,null,null,null,null,null,{"$f":"IF(COUNTIF(M9:M35,\"MT*\") + COUNTIF(M9:M35, \"D*\") + COUNTIF(M9:M35,\"T*\")-COUNTIF(M9:M35,\"DSR\")<>0,COUNTIF(M9:M35,\"MT*\") + COUNTIF(M9:M35, \"D*\") + COUNTIF(M9:M35,\"T*\")-COUNTIF(M9:M35,\"DSR\"),\"\")","v":""},"","","","","","","","","","","","","","","","","","","","","","","","","","","","","","",{"$f":"IF(A37<>\"\",IFERROR(VLOOKUP(M37,Tabelas!B:D,3,0),0),\"\")","v":0},{"$f":"IF(A37<>\"\",IFERROR(VLOOKUP(N37,Tabelas!B:D,3,0),0),\"\")","v":0},{"$f":"IF(A37<>\"\",IFERROR(VLOOKUP(O37,Tabelas!B:D,3,0),0),\"\")","v":0},{"$f":"IF(A37<>\"\",IFERROR(VLOOKUP(P37,Tabelas!B:D,3,0),0),\"\")","v":0},{"$f":"IF(A37<>\"\",IFERROR(VLOOKUP(Q37,Tabelas!B:D,3,0),0),\"\")","v":0},{"$f":"IF(A37<>\"\",IFERROR(VLOOKUP(R37,Tabelas!B:D,3,0),0),\"\")","v":0},{"$f":"IF(A37<>\"\",IFERROR(VLOOKUP(S37,Tabelas!B:D,3,0),0),\"\")","v":0},{"$f":"IF(A37<>\"\",IFERROR(VLOOKUP(T37,Tabelas!B:D,3,0),0),\"\")","v":0},{"$f":"IF(A37<>\"\",IFERROR(VLOOKUP(U37,Tabelas!B:D,3,0),0),\"\")","v":0},{"$f":"IF(A37<>\"\",IFERROR(VLOOKUP(V37,Tabelas!B:D,3,0),0),\"\")","v":0},{"$f":"IF(A37<>\"\",IFERROR(VLOOKUP(W37,Tabelas!B:D,3,0),0),\"\")","v":0},{"$f":"IF(A37<>\"\",IFERROR(VLOOKUP(X37,Tabelas!B:D,3,0),0),\"\")","v":0},{"$f":"IF(A37<>\"\",IFERROR(VLOOKUP(Y37,Tabelas!B:D,3,0),0),\"\")","v":0},{"$f":"IF(A37<>\"\",IFERROR(VLOOKUP(Z37,Tabelas!B:D,3,0),0),\"\")","v":0},{"$f":"IF(A37<>\"\",IFERROR(VLOOKUP(AA37,Tabelas!B:D,3,0),0),\"\")","v":0},{"$f":"IF(A37<>\"\",IFERROR(VLOOKUP(AB37,Tabelas!B:D,3,0),0),\"\")","v":0},{"$f":"IF(A37<>\"\",IFERROR(VLOOKUP(AC37,Tabelas!B:D,3,0),0),\"\")","v":0},{"$f":"IF(A37<>\"\",IFERROR(VLOOKUP(AD37,Tabelas!B:D,3,0),0),\"\")","v":0},{"$f":"IF(A37<>\"\",IFERROR(VLOOKUP(AE37,Tabelas!B:D,3,0),0),\"\")","v":0},{"$f":"IF(A37<>\"\",IFERROR(VLOOKUP(AF37,Tabelas!B:D,3,0),0),\"\")","v":0},{"$f":"IF(A37<>\"\",IFERROR(VLOOKUP(AG37,Tabelas!B:D,3,0),0),\"\")","v":0},{"$f":"IF(A37<>\"\",IFERROR(VLOOKUP(AH37,Tabelas!B:D,3,0),0),\"\")","v":0},{"$f":"IF(A37<>\"\",IFERROR(VLOOKUP(AI37,Tabelas!B:D,3,0),0),\"\")","v":0},{"$f":"IF(A37<>\"\",IFERROR(VLOOKUP(AJ37,Tabelas!B:D,3,0),0),\"\")","v":0},{"$f":"IF(A37<>\"\",IFERROR(VLOOKUP(AK37,Tabelas!B:D,3,0),0),\"\")","v":0},{"$f":"IF(A37<>\"\",IFERROR(VLOOKUP(AL37,Tabelas!B:D,3,0),0),\"\")","v":0},{"$f":"IF(A37<>\"\",IFERROR(VLOOKUP(AM37,Tabelas!B:D,3,0),0),\"\")","v":0},{"$f":"IF(A37<>\"\",IFERROR(VLOOKUP(AN37,Tabelas!B:D,3,0),0),\"\")","v":0},{"$f":"IF(A37<>\"\",IFERROR(VLOOKUP(AO37,Tabelas!B:D,3,0),0),\"\")","v":0},{"$f":"IF(A37<>\"\",IFERROR(VLOOKUP(AP37,Tabelas!B:D,3,0),0),\"\")","v":0},{"$f":"IF(A37<>\"\",IFERROR(VLOOKUP(AQ37,Tabelas!B:D,3,0),0),\"\")","v":0}]
["TOTAL DE PROFISSIONAIS NOTURNO",null,null,null,null,null,null,null,null,null,null,null,{"$f":"IF(COUNTIF(M9:M37,\"N?*\") + COUNTIF(M9:M37, \"DN*\")<>0,COUNTIF(M9:M37,\"N?*\") + COUNTIF(M9:M37, \"DN*\"),\"\")","v":""},"","","","","","","","","","","","","","","","","","","","","","","","","","","","","","",{"$f":"IF(A38<>\"\",IFERROR(VLOOKUP(M38,Tabelas!B:D,3,0),0),\"\")","v":0},{"$f":"IF(A38<>\"\",IFERROR(VLOOKUP(N38,Tabelas!B:D,3,0),0),\"\")","v":0},{"$f":"IF(A38<>\"\",IFERROR(VLOOKUP(O38,Tabelas!B:D,3,0),0),\"\")","v":0},{"$f":"IF(A38<>\"\",IFERROR(VLOOKUP(P38,Tabelas!B:D,3,0),0),\"\")","v":0},{"$f":"IF(A38<>\"\",IFERROR(VLOOKUP(Q38,Tabelas!B:D,3,0),0),\"\")","v":0},{"$f":"IF(A38<>\"\",IFERROR(VLOOKUP(R38,Tabelas!B:D,3,0),0),\"\")","v":0},{"$f":"IF(A38<>\"\",IFERROR(VLOOKUP(S38,Tabelas!B:D,3,0),0),\"\")","v":0},{"$f":"IF(A38<>\"\",IFERROR(VLOOKUP(T38,Tabelas!B:D,3,0),0),\"\")","v":0},{"$f":"IF(A38<>\"\",IFERROR(VLOOKUP(U38,Tabelas!B:D,3,0),0),\"\")","v":0},{"$f":"IF(A38<>\"\",IFERROR(VLOOKUP(V38,Tabelas!B:D,3,0),0),\"\")","v":0},{"$f":"IF(A38<>\"\",IFERROR(VLOOKUP(W38,Tabelas!B:D,3,0),0),\"\")","v":0},{"$f":"IF(A38<>\"\",IFERROR(VLOOKUP(X38,Tabelas!B:D,3,0),0),\"\")","v":0},{"$f":"IF(A38<>\"\",IFERROR(VLOOKUP(Y38,Tabelas!B:D,3,0),0),\"\")","v":0},{"$f":"IF(A38<>\"\",IFERROR(VLOOKUP(Z38,Tabelas!B:D,3,0),0),\"\")","v":0},{"$f":"IF(A38<>\"\",IFERROR(VLOOKUP(AA38,Tabelas!B:D,3,0),0),\"\")","v":0},{"$f":"IF(A38<>\"\",IFERROR(VLOOKUP(AB38,Tabelas!B:D,3,0),0),\"\")","v":0},{"$f":"IF(A38<>\"\",IFERROR(VLOOKUP(AC38,Tabelas!B:D,3,0),0),\"\")","v":0},{"$f":"IF(A38<>\"\",IFERROR(VLOOKUP(AD38,Tabelas!B:D,3,0),0),\"\")","v":0},{"$f":"IF(A38<>\"\",IFERROR(VLOOKUP(AE38,Tabelas!B:D,3,0),0),\"\")","v":0},{"$f":"IF(A38<>\"\",IFERROR(VLOOKUP(AF38,Tabelas!B:D,3,0),0),\"\")","v":0},{"$f":"IF(A38<>\"\",IFERROR(VLOOKUP(AG38,Tabelas!B:D,3,0),0),\"\")","v":0},{"$f":"IF(A38<>\"\",IFERROR(VLOOKUP(AH38,Tabelas!B:D,3,0),0),\"\")","v":0},{"$f":"IF(A38<>\"\",IFERROR(VLOOKUP(AI38,Tabelas!B:D,3,0),0),\"\")","v":0},{"$f":"IF(A38<>\"\",IFERROR(VLOOKUP(AJ38,Tabelas!B:D,3,0),0),\"\")","v":0},{"$f":"IF(A38<>\"\",IFERROR(VLOOKUP(AK38,Tabelas!B:D,3,0),0),\"\")","v":0},{"$f":"IF(A38<>\"\",IFERROR(VLOOKUP(AL38,Tabelas!B:D,3,0),0),\"\")","v":0},{"$f":"IF(A38<>\"\",IFERROR(VLOOKUP(AM38,Tabelas!B:D,3,0),0),\"\")","v":0},{"$f":"IF(A38<>\"\",IFERROR(VLOOKUP(AN38,Tabelas!B:D,3,0),0),\"\")","v":0},{"$f":"IF(A38<>\"\",IFERROR(VLOOKUP(AO38,Tabelas!B:D,3,0),0),\"\")","v":0},{"$f":"IF(A38<>\"\",IFERROR(VLOOKUP(AP38,Tabelas!B:D,3,0),0),\"\")","v":0},{"$f":"IF(A38<>\"\",IFERROR(VLOOKUP(AQ38,Tabelas!B:D,3,0),0),\"\")","v":0}]
[null,null,null,null,null,null,null,null,null,null,null,null,null,null,null,null,null,null,null,null,null,null,null,null,null,null,null,null,null,null,null,null,null,null,null,null,null,null,null,null,null,null,null,{"$f":"IF(A39<>\"\",IFERROR(VLOOKUP(M39,Tabelas!B:D,3,0),0),\"\")","v":""},{"$f":"IF(A39<>\"\",IFERROR(VLOOKUP(N39,Tabelas!B:D,3,0),0),\"\")","v":""},{"$f":"IF(A39<>\"\",IFERROR(VLOOKUP(O39,Tabelas!B:D,3,0),0),\"\")","v":""},{"$f":"IF(A39<>\"\",IFERROR(VLOOKUP(P39,Tabelas!B:D,3,0),0),\"\")","v":""},{"$f":"IF(A39<>\"\",IFERROR(VLOOKUP(Q39,Tabelas!B:D,3,0),0),\"\")","v":""},{"$f":"IF(A39<>\"\",IFERROR(VLOOKUP(R39,Tabelas!B:D,3,0),0),\"\")","v":""},{"$f":"IF(A39<>\"\",IFERROR(VLOOKUP(S39,Tabelas!B:D,3,0),0),\"\")","v":""},{"$f":"IF(A39<>\"\",IFERROR(VLOOKUP(T39,Tabelas!B:D,3,0),0),\"\")","v":""},{"$f":"IF(A39<>\"\",IFERROR(VLOOKUP(U39,Tabelas!B:D,3,0),0),\"\")","v":""},{"$f":"IF(A39<>\"\",IFERROR(VLOOKUP(V39,Tabelas!B:D,3,0),0),\"\")","v":""},{"$f":"IF(A39<>\"\",IFERROR(VLOOKUP(W39,Tabelas!B:D,3,0),0),\"\")","v":""},{"$f":"IF(A39<>\"\",IFERROR(VLOOKUP(X39,Tabelas!B:D,3,0),0),\"\")","v":""},{"$f":"IF(A39<>\"\",IFERROR(VLOOKUP(Y39,Tabelas!B:D,3,0),0),\"\")","v":""},{"$f":"IF(A39<>\"\",IFERROR(VLOOKUP(Z39,Tabelas!B:D,3,0),0),\"\")","v":""},{"$f":"IF(A39<>\"\",IFERROR(VLOOKUP(AA39,Tabelas!B:D,3,0),0),\"\")","v":""},{"$f":"IF(A39<>\"\",IFERROR(VLOOKUP(AB39,Tabelas!B:D,3,0),0),\"\")","v":""},{"$f":"IF(A39<>\"\",IFERROR(VLOOKUP(AC39,Tabelas!B:D,3,0),0),\"\")","v":""},{"$f":"IF(A39<>\"\",IFERROR(VLOOKUP(AD39,Tabelas!B:D,3,0),0),\"\")","v":""},{"$f":"IF(A39<>\"\",IFERROR(VLOOKUP(AE39,Tabelas!B:D,3,0),0),\"\")","v":""},{"$f":"IF(A39<>\"\",IFERROR(VLOOKUP(AF39,Tabelas!B:D,3,0),0),\"\")","v":""},{"$f":"IF(A39<>\"\",IFERROR(VLOOKUP(AG39,Tabelas!B:D,3,0),0),\"\")","v":""},{"$f":"IF(A39<>\"\",IFERROR(VLOOKUP(AH39,Tabelas!B:D,3,0),0),\"\")","v":""},{"$f":"IF(A39<>\"\",IFERROR(VLOOKUP(AI39,Tabelas!B:D,3,0),0),\"\")","v":""},{"$f":"IF(A39<>\"\",IFERROR(VLOOKUP(AJ39,Tabelas!B:D,3,0),0),\"\")","v":""},{"$f":"IF(A39<>\"\",IFERROR(VLOOKUP(AK39,Tabelas!B:D,3,0),0),\"\")","v":""},{"$f":"IF(A39<>\"\",IFERROR(VLOOKUP(AL39,Tabelas!B:D,3,0),0),\"\")","v":""},{"$f":"IF(A39<>\"\",IFERROR(VLOOKUP(AM39,Tabelas!B:D,3,0),0),\"\")","v":""},{"$f":"IF(A39<>\"\",IFERROR(VLOOKUP(AN39,Tabelas!B:D,3,0),0),\"\")","v":""},{"$f":"IF(A39<>\"\",IFERROR(VLOOKUP(AO39,Tabelas!B:D,3,0),0),\"\")","v":""},{"$f":"IF(A39<>\"\",IFERROR(VLOOKUP(AP39,Tabelas!B:D,3,0),0),\"\")","v":""},{"$f":"IF(A39<>\"\",IFERROR(VLOOKUP(AQ39,Tabelas!B:D,3,0),0),\"\")","v":""}]
["Legenda:"]
["Licença Maternidade","LM","Férias",null,null,null,null,null,null,"FE",null,"Ponto Facultativo",null,null,null,null,null,null,null,"PF","Manhã *",null,null,null,null,null,null,"M","Diurno (8 hrs) *",null,null,null,null,null,null,"MT"]
["Licença Paternidade","LP","Feriado",null,null,null,null,null,null,"FD",null,"Abono **",null,null,null,null,null,null,null,"AB","Tarde *",null,null,null,null,null,null,"T","Dia/ noite (24 hrs) *",null,null,null,null,null,null,"DN"]
["Licença Médica/Odontológica","L","Descanso Semanal Remunerado",null,null,null,null,null,null,"DSR",null,"Compensação de Horas***",null,null,null,null,null,null,null,"CH","Plantão Dia (12 hrs) *",null,null,null,null,null,null,"D"]
["Licença Capacitação","LC","Recesso",null,null,null,null,null,null,"RC",null,"Afastamento**",null,null,null,null,null,null,null,"AF","Plantão Noite (12 hrs) *",null,null,null,null,null,null,"N"]
[]
["OBSERVAÇÕES:"]
["* Para inserção das legendas referentes às jornadas de trabalho, verificar a Tabela 1 do Anexo do Memorando-Circular - SEI nº   25 /2018/CAP/DGP-EBSERH."]
["** Para inserção das legendas referentes aos Afastamentos previstos em lei e às Compensações de horas, verificar a Tabela 2 do Anexo do Memorando-Circular - SEI nº   25 /2018/CAP/DGP-EBSERH."]

{"sheet":"Outubro","index":10,"n_rows":55,"n_cols":82,"rows_kept":55,"cut":false,"hidden":false,"merged":[[43,2,43,8],[43,9,43,10],[43,11,43,18],[43,20,43,26],[1,0,1,42],[2,0,2,42],[3,0,3,42],[4,1,4,20],[4,23,4,34],[4,37,4,42],[5,6,5,11],[6,6,7,6],[6,7,7,7],[6,8,7,8],[6,11,7,11],[6,9,7,9],[6,10,7,10],[6,80,7,80],[6,81,7,81],[5,12,5,42],[5,43,5,73],[5,75,5,81],[5,74,7,74],[6,75,7,75],[6,76,7,76],[6,77,7,77],[6,78,7,78],[6,79,7,79],[35,79,37,79],[35,80,37,80],[35,81,37,81],[35,74,37,74],[35,75,37,75],[35,76,37,76],[35,77,37,77],[35,78,37,78]]}
[]
[]
[]
["ESCALA MENSAL DE TRABALHO"]
["DIVISÃO /SETOR/UNIDADE:",null,null,null,null,null,null,null,null,null,null,null,null,null,null,null,null,null,null,null,null,"MÊS:",null,"Outubro",null,null,null,null,null,null,null,null,null,null,null,"ANO:",null,2020]
["NOME COMPLETO","SIAPE","     Registro Conselho Classe","Cargo","Vínculo","    C.H Sem","INTERVALO",null,null,null,null,null,"DIAS DO MÊS",null,null,null,null,null,null,null,null,null,null,null,null,null,null,null,null,null,null,null,null,null,null,null,null,null,null,null,null,null,null,"CÁLCULO DAS HORAS",null,null,null,null,null,null,null,null,null,null,null,null,null,null,null,null,null,null,null,null,null,null,null,null,null,null,null,null,null,null,"CH Men.","Dias"]
[null,null,null,null,null,null,"15' M","15' T","15' N","1H D","1H N","2H",1,2,3,4,5,6,7,8,9,10,11,12,13,14,15,16,17,18,19,20,21,22,23,24,25,{"$f":"IF(DAY(DATE(AL5,VLOOKUP(X5,Tabelas!M:N,2,0)+1,1)-1)>=26,26,\"\")","v":26},{"$f":"IF(DAY(DATE(AL5,VLOOKUP(X5,Tabelas!M:N,2,0)+1,1)-1)>=27,27,\"\")","v":27},{"$f":"IF(DAY(DATE(AL5,VLOOKUP(X5,Tabelas!M:N,2,0)+1,1)-1)>=28,28,\"\")","v":28},{"$f":"IF(DAY(DATE(AL5,VLOOKUP(X5,Tabelas!M:N,2,0)+1,1)-1)>=29,29,\"\")","v":29},{"$f":"IF(DAY(DATE(AL5,VLOOKUP(X5,Tabelas!M:N,2,0)+1,1)-1)>=30,30,\"\")","v":30},{"$f":"IF(DAY(DATE(AL5,VLOOKUP(X5,Tabelas!M:N,2,0)+1,1)-1)>=31,31,\"\")","v":31},null,null,null,null,null,null,null,null,null,null,null,null,null,null,null,null,null,null,null,null,null,null,null,null,null,null,null,null,null,null,null,null,"LM/LP/L","AB","FE","LC","CH","AF  "," Total Afast."]
[null,null,null,null,null,null,null,null,null,null,null,null,{"$f":"IF(M7<>\"\",IFERROR(VLOOKUP(WEEKDAY(CONCATENATE(M7,$X$5,$AL$5)),Tabelas!$I:$J,2,0),\"\"),\"\")","v":"QUI"},{"$f":"IF(N7<>\"\",IFERROR(VLOOKUP(WEEKDAY(CONCATENATE(N7,$X$5,$AL$5)),Tabelas!$I:$J,2,0),\"\"),\"\")","v":"SEX"},{"$f":"IF(O7<>\"\",IFERROR(VLOOKUP(WEEKDAY(CONCATENATE(O7,$X$5,$AL$5)),Tabelas!$I:$J,2,0),\"\"),\"\")","v":"SAB"},{"$f":"IF(P7<>\"\",IFERROR(VLOOKUP(WEEKDAY(CONCATENATE(P7,$X$5,$AL$5)),Tabelas!$I:$J,2,0),\"\"),\"\")","v":"DOM"},{"$f":"IF(Q7<>\"\",IFERROR(VLOOKUP(WEEKDAY(CONCATENATE(Q7,$X$5,$AL$5)),Tabelas!$I:$J,2,0),\"\"),\"\")","v":"SEG"},{"$f":"IF(R7<>\"\",IFERROR(VLOOKUP(WEEKDAY(CONCATENATE(R7,$X$5,$AL$5)),Tabelas!$I:$J,2,0),\"\"),\"\")","v":"TER"},{"$f":"IF(S7<>\"\",IFERROR(VLOOKUP(WEEKDAY(CONCATENATE(S7,$X$5,$AL$5)),Tabelas!$I:$J,2,0),\"\"),\"\")","v":"QUA"},{"$f":"IF(T7<>\"\",IFERROR(VLOOKUP(WEEKDAY(CONCATENATE(T7,$X$5,$AL$5)),Tabelas!$I:$J,2,0),\"\"),\"\")","v":"QUI"},{"$f":"IF(U7<>\"\",IFERROR(VLOOKUP(WEEKDAY(CONCATENATE(U7,$X$5,$AL$5)),Tabelas!$I:$J,2,0),\"\"),\"\")","v":"SEX"},{"$f":"IF(V7<>\"\",IFERROR(VLOOKUP(WEEKDAY(CONCATENATE(V7,$X$5,$AL$5)),Tabelas!$I:$J,2,0),\"\"),\"\")","v":"SAB"},{"$f":"IF(W7<>\"\",IFERROR(VLOOKUP(WEEKDAY(CONCATENATE(W7,$X$5,$AL$5)),Tabelas!$I:$J,2,0),\"\"),\"\")","v":"DOM"},{"$f":"IF(X7<>\"\",IFERROR(VLOOKUP(WEEKDAY(CONCATENATE(X7,$X$5,$AL$5)),Tabelas!$I:$J,2,0),\"\"),\"\")","v":"SEG"},{"$f":"IF(Y7<>\"\",IFERROR(VLOOKUP(WEEKDAY(CONCATENATE(Y7,$X$5,$AL$5)),Tabelas!$I:$J,2,0),\"\"),\"\")","v":"TER"},{"$f":"IF(Z7<>\"\",IFERROR(VLOOKUP(WEEKDAY(CONCATENATE(Z7,$X$5,$AL$5)),Tabelas!$I:$J,2,0),\"\"),\"\")","v":"QUA"},{"$f":"IF(AA7<>\"\",IFERROR(VLOOKUP(WEEKDAY(CONCATENATE(AA7,$X$5,$AL$5)),Tabelas!$I:$J,2,0),\"\"),\"\")","v":"QUI"},{"$f":"IF(AB7<>\"\",IFERROR(VLOOKUP(WEEKDAY(CONCATENATE(AB7,$X$5,$AL$5)),Tabelas!$I:$J,2,0),\"\"),\"\")","v":"SEX"},{"$f":"IF(AC7<>\"\",IFERROR(VLOOKUP(WEEKDAY(CONCATENATE(AC7,$X$5,$AL$5)),Tabelas!$I:$J,2,0),\"\"),\"\")","v":"SAB"},{"$f":"IF(AD7<>\"\",IFERROR(VLOOKUP(WEEKDAY(CONCATENATE(AD7,$X$5,$AL$5)),Tabelas!$I:$J,2,0),\"\"),\"\")","v":"DOM"},{"$f":"IF(AE7<>\"\",IFERROR(VLOOKUP(WEEKDAY(CONCATENATE(AE7,$X$5,$AL$5)),Tabelas!$I:$J,2,0),\"\"),\"\")","v":"SEG"},{"$f":"IF(AF7<>\"\",IFERROR(VLOOKUP(WEEKDAY(CONCATENATE(AF7,$X$5,$AL$5)),Tabelas!$I:$J,2,0),\"\"),\"\")","v":"TER"},{"$f":"IF(AG7<>\"\",IFERROR(VLOOKUP(WEEKDAY(CONCATENATE(AG7,$X$5,$AL$5)),Tabelas!$I:$J,2,0),\"\"),\"\")","v":"QUA"},{"$f":"IF(AH7<>\"\",IFERROR(VLOOKUP(WEEKDAY(CONCATENATE(AH7,$X$5,$AL$5)),Tabelas!$I:$J,2,0),\"\"),\"\")","v":"QUI"},{"$f":"IF(AI7<>\"\",IFERROR(VLOOKUP(WEEKDAY(CONCATENATE(AI7,$X$5,$AL$5)),Tabelas!$I:$J,2,0),\"\"),\"\")","v":"SEX"},{"$f":"IF(AJ7<>\"\",IFERROR(VLOOKUP(WEEKDAY(CONCATENATE(AJ7,$X$5,$AL$5)),Tabelas!$I:$J,2,0),\"\"),\"\")","v":"SAB"},{"$f":"IF(AK7<>\"\",IFERROR(VLOOKUP(WEEKDAY(CONCATENATE(AK7,$X$5,$AL$5)),Tabelas!$I:$J,2,0),\"\"),\"\")","v":"DOM"},{"$f":"IF(AL7<>\"\",IFERROR(VLOOKUP(WEEKDAY(CONCATENATE(AL7,$X$5,$AL$5)),Tabelas!$I:$J,2,0),\"\"),\"\")","v":"SEG"},{"$f":"IF(AM7<>\"\",IFERROR(VLOOKUP(WEEKDAY(CONCATENATE(AM7,$X$5,$AL$5)),Tabelas!$I:$J,2,0),\"\"),\"\")","v":"TER"},{"$f":"IF(AN7<>\"\",IFERROR(VLOOKUP(WEEKDAY(CONCATENATE(AN7,$X$5,$AL$5)),Tabelas!$I:$J,2,0),\"\"),\"\")","v":"QUA"},{"$f":"IF(AO7<>\"\",IFERROR(VLOOKUP(WEEKDAY(CONCATENATE(AO7,$X$5,$AL$5)),Tabelas!$I:$J,2,0),\"\"),\"\")","v":"QUI"},{"$f":"IF(AP7<>\"\",IFERROR(VLOOKUP(WEEKDAY(CONCATENATE(AP7,$X$5,$AL$5)),Tabelas!$I:$J,2,0),\"\"),\"\")","v":"SEX"},{"$f":"IF(AQ7<>\"\",IFERROR(VLOOKUP(WEEKDAY(CONCATENATE(AQ7,$X$5,$AL$5)),Tabelas!$I:$J,2,0),\"\"),\"\")","v":"SAB"},1,2,3,4,5,6,7,8,9,10,11,12,13,14,15,16,17,18,19,20,21,22,23,24,25,26,27,28,29,30,31]
["Adriano José Barbosa",1859318,null,null,null,null,null,null,null,null,null,null,null,null,null,null,null,null,null,null,null,null,null,null,null,null,null,null,null,null,null,null,null,null,null,null,null,null,null,null,null,null,null,{"$f":"IF(A9<>\"\",IFERROR(VLOOKUP(M9,Tabelas!B:D,3,0),0),\"\")","v":0},{"$f":"IF(A9<>\"\",IFERROR(VLOOKUP(N9,Tabelas!B:D,3,0),0),\"\")","v":0},{"$f":"IF(A9<>\"\",IFERROR(VLOOKUP(O9,Tabelas!B:D,3,0),0),\"\")","v":0},{"$f":"IF(A9<>\"\",IFERROR(VLOOKUP(P9,Tabelas!B:D,3,0),0),\"\")","v":0},{"$f":"IF(A9<>\"\",IFERROR(VLOOKUP(Q9,Tabelas!B:D,3,0),0),\"\")","v":0},{"$f":"IF(A9<>\"\",IFERROR(VLOOKUP(R9,Tabelas!B:D,3,0),0),\"\")","v":0},{"$f":"IF(A9<>\"\",IFERROR(VLOOKUP(S9,Tabelas!B:D,3,0),0),\"\")","v":0},{"$f":"IF(A9<>\"\",IFERROR(VLOOKUP(T9,Tabelas!B:D,3,0),0),\"\")","v":0},{"$f":"IF(A9<>\"\",IFERROR(VLOOKUP(U9,Tabelas!B:D,3,0),0),\"\")","v":0},{"$f":"IF(A9<>\"\",IFERROR(VLOOKUP(V9,Tabelas!B:D,3,0),0),\"\")","v":0},{"$f":"IF(A9<>\"\",IFERROR(VLOOKUP(W9,Tabelas!B:D,3,0),0),\"\")","v":0},{"$f":"IF(A9<>\"\",IFERROR(VLOOKUP(X9,Tabelas!B:D,3,0),0),\"\")","v":0},{"$f":"IF(A9<>\"\",IFERROR(VLOOKUP(Y9,Tabelas!B:D,3,0),0),\"\")","v":0},{"$f":"IF(A9<>\"\",IFERROR(VLOOKUP(Z9,Tabelas!B:D,3,0),0),\"\")","v":0},{"$f":"IF(A9<>\"\",IFERROR(VLOOKUP(AA9,Tabelas!B:D,3,0),0),\"\")","v":0},{"$f":"IF(A9<>\"\",IFERROR(VLOOKUP(AB9,Tabelas!B:D,3,0),0),\"\")","v":0},{"$f":"IF(A9<>\"\",IFERROR(VLOOKUP(AC9,Tabelas!B:D,3,0),0),\"\")","v":0},{"$f":"IF(A9<>\"\",IFERROR(VLOOKUP(AD9,Tabelas!B:D,3,0),0),\"\")","v":0},{"$f":"IF(A9<>\"\",IFERROR(VLOOKUP(AE9,Tabelas!B:D,3,0),0),\"\")","v":0},{"$f":"IF(A9<>\"\",IFERROR(VLOOKUP(AF9,Tabelas!B:D,3,0),0),\"\")","v":0},{"$f":"IF(A9<>\"\",IFERROR(VLOOKUP(AG9,Tabelas!B:D,3,0),0),\"\")","v":0},{"$f":"IF(A9<>\"\",IFERROR(VLOOKUP(AH9,Tabelas!B:D,3,0),0),\"\")","v":0},{"$f":"IF(A9<>\"\",IFERROR(VLOOKUP(AI9,Tabelas!B:D,3,0),0),\"\")","v":0},{"$f":"IF(A9<>\"\",IFERROR(VLOOKUP(AJ9,Tabelas!B:D,3,0),0),\"\")","v":0},{"$f":"IF(A9<>\"\",IFERROR(VLOOKUP(AK9,Tabelas!B:D,3,0),0),\"\")","v":0},{"$f":"IF(A9<>\"\",IFERROR(VLOOKUP(AL9,Tabelas!B:D,3,0),0),\"\")","v":0},{"$f":"IF(A9<>\"\",IFERROR(VLOOKUP(AM9,Tabelas!B:D,3,0),0),\"\")","v":0},{"$f":"IF(A9<>\"\",IFERROR(VLOOKUP(AN9,Tabelas!B:D,3,0),0),\"\")","v":0},{"$f":"IF(A9<>\"\",IFERROR(VLOOKUP(AO9,Tabelas!B:D,3,0),0),\"\")","v":0},{"$f":"IF(A9<>\"\",IFERROR(VLOOKUP(AP9,Tabelas!B:D,3,0),0),\"\")","v":0},{"$f":"IF(A9<>\"\",IFERROR(VLOOKUP(AQ9,Tabelas!B:D,3,0),0),\"\")","v":0},{"$f":"IF(AND(A9<>\"\",E9=\"Ebserh\"),SUM(AR9:BV9)+COUNTIF(M9:AQ9,\"N*\")+COUNTIF(M9:AQ9,\"DN*\"),IF(AND(A9<>\"\",E9<>\"Ebserh\"),SUM(AR9:BV9),\"\"))","v":0},{"$f":"IF(A9<>\"\",COUNTIF(M9:AQ9,\"LM\")+COUNTIF(M9:AQ9,\"L\")+COUNTIF(M9:AQ9,\"LP\"),\"\")","v":0},{"$f":"IF(A9<>\"\",COUNTIF(M9:AQ9,\"AB*\"),\"\")","v":0},{"$f":"IF(A9<>\"\",COUNTIF(M9:AQ9,\"FE\"),\"\")","v":0},{"$f":"IF(A9<>\"\",COUNTIF(M9:AQ9,\"LC\"),\"\")","v":0},{"$f":"IF(A9<>\"\",COUNTIF(M9:AQ9,\"CH*\"),\"\")","v":0},{"$f":"IF(A9<>\"\",COUNTIF(M9:AQ9,\"AF1\")+COUNTIF(M9:AQ9,\"AF2\")+COUNTIF(M9:AQ9,\"AF3\")+COUNTIF(M9:AQ9,\"AF4\")+COUNTIF(M9:AQ9,\"AF5\")+COUNTIF(M9:AQ9,\"AF6\")+COUNTIF(M9:AQ9,\"AF7\")+COUNTIF(M9:AQ9,\"AF8\")+COUNTIF(M9:AQ9,\"AF9\")+COUNTIF(M9:AQ9,\"AF10\")+COUNTIF(M9:AQ9,\"AF11\")+COUNTIF(M9:AQ9,\"AF12\")+COUNTIF(M9:AQ9,\"AF13\")+COUNTIF(M9:AQ9,\"AF14\"),\"\")","v":0},{"$f":"IF(A9<>\"\",COUNTIF(M9:AQ9,\"CH*\")+COUNTIF(M9:AQ9,\"L\")+COUNTIF(M9:AQ9,\"LM\")+COUNTIF(M9:AQ9,\"LP\")+COUNTIF(M9:AQ9,\"LC\")+COUNTIF(M9:AQ9,\"AB*\")+COUNTIF(M9:AQ9,\"AF1\")+COUNTIF(M9:AQ9,\"AF2\")+COUNTIF(M9:AQ9,\"AF3\")+COUNTIF(M9:AQ9,\"AF4\")+COUNTIF(M9:AQ9,\"AF5\")+COUNTIF(M9:AQ9,\"AF6\")+COUNTIF(M9:AQ9,\"AF7\")+COUNTIF(M9:AQ9,\"AF8\")+COUNTIF(M9:AQ9,\"AF9\")+COUNTIF(M9:AQ9,\"AF10\")+COUNTIF(M9:AQ9,\"AF11\")+COUNTIF(M9:AQ9,\"AF12\")+COUNTIF(M9:AQ9,\"AF13\")+COUNTIF(M9:AQ9,\"AF14\")+COUNTIF(M9:AQ9,\"RC\")+COUNTIF(M9:AQ9,\"FO\")+COUNTIF(M9:AQ9,\"FE\"),\"\")","v":0}]
["Benoni Sidinei Brizolla",3192627,null,null,null,null,null,null,null,null,null,null,null,null,null,null,null,null,null,null,null,null,null,null,null,null,null,null,null,null,null,null,null,null,null,null,null,null,null,null,null,null,null,{"$f":"IF(A10<>\"\",IFERROR(VLOOKUP(M10,Tabelas!B:D,3,0),0),\"\")","v":0},{"$f":"IF(A10<>\"\",IFERROR(VLOOKUP(N10,Tabelas!B:D,3,0),0),\"\")","v":0},{"$f":"IF(A10<>\"\",IFERROR(VLOOKUP(O10,Tabelas!B:D,3,0),0),\"\")","v":0},{"$f":"IF(A10<>\"\",IFERROR(VLOOKUP(P10,Tabelas!B:D,3,0),0),\"\")","v":0},{"$f":"IF(A10<>\"\",IFERROR(VLOOKUP(Q10,Tabelas!B:D,3,0),0),\"\")","v":0},{"$f":"IF(A10<>\"\",IFERROR(VLOOKUP(R10,Tabelas!B:D,3,0),0),\"\")","v":0},{"$f":"IF(A10<>\"\",IFERROR(VLOOKUP(S10,Tabelas!B:D,3,0),0),\"\")","v":0},{"$f":"IF(A10<>\"\",IFERROR(VLOOKUP(T10,Tabelas!B:D,3,0),0),\"\")","v":0},{"$f":"IF(A10<>\"\",IFERROR(VLOOKUP(U10,Tabelas!B:D,3,0),0),\"\")","v":0},{"$f":"IF(A10<>\"\",IFERROR(VLOOKUP(V10,Tabelas!B:D,3,0),0),\"\")","v":0},{"$f":"IF(A10<>\"\",IFERROR(VLOOKUP(W10,Tabelas!B:D,3,0),0),\"\")","v":0},{"$f":"IF(A10<>\"\",IFERROR(VLOOKUP(X10,Tabelas!B:D,3,0),0),\"\")","v":0},{"$f":"IF(A10<>\"\",IFERROR(VLOOKUP(Y10,Tabelas!B:D,3,0),0),\"\")","v":0},{"$f":"IF(A10<>\"\",IFERROR(VLOOKUP(Z10,Tabelas!B:D,3,0),0),\"\")","v":0},{"$f":"IF(A10<>\"\",IFERROR(VLOOKUP(AA10,Tabelas!B:D,3,0),0),\"\")","v":0},{"$f":"IF(A10<>\"\",IFERROR(VLOOKUP(AB10,Tabelas!B:D,3,0),0),\"\")","v":0},{"$f":"IF(A10<>\"\",IFERROR(VLOOKUP(AC10,Tabelas!B:D,3,0),0),\"\")","v":0},{"$f":"IF(A10<>\"\",IFERROR(VLOOKUP(AD10,Tabelas!B:D,3,0),0),\"\")","v":0},{"$f":"IF(A10<>\"\",IFERROR(VLOOKUP(AE10,Tabelas!B:D,3,0),0),\"\")","v":0},{"$f":"IF(A10<>\"\",IFERROR(VLOOKUP(AF10,Tabelas!B:D,3,0),0),\"\")","v":0},{"$f":"IF(A10<>\"\",IFERROR(VLOOKUP(AG10,Tabelas!B:D,3,0),0),\"\")","v":0},{"$f":"IF(A10<>\"\",IFERROR(VLOOKUP(AH10,Tabelas!B:D,3,0),0),\"\")","v":0},{"$f":"IF(A10<>\"\",IFERROR(VLOOKUP(AI10,Tabelas!B:D,3,0),0),\"\")","v":0},{"$f":"IF(A10<>\"\",IFERROR(VLOOKUP(AJ10,Tabelas!B:D,3,0),0),\"\")","v":0},{"$f":"IF(A10<>\"\",IFERROR(VLOOKUP(AK10,Tabelas!B:D,3,0),0),\"\")","v":0},{"$f":"IF(A10<>\"\",IFERROR(VLOOKUP(AL10,Tabelas!B:D,3,0),0),\"\")","v":0},{"$f":"IF(A10<>\"\",IFERROR(VLOOKUP(AM10,Tabelas!B:D,3,0),0),\"\")","v":0},{"$f":"IF(A10<>\"\",IFERROR(VLOOKUP(AN10,Tabelas!B:D,3,0),0),\"\")","v":0},{"$f":"IF(A10<>\"\",IFERROR(VLOOKUP(AO10,Tabelas!B:D,3,0),0),\"\")","v":0},{"$f":"IF(A10<>\"\",IFERROR(VLOOKUP(AP10,Tabelas!B:D,3,0),0),\"\")","v":0},{"$f":"IF(A10<>\"\",IFERROR(VLOOKUP(AQ10,Tabelas!B:D,3,0),0),\"\")","v":0},0,0,0,0,0,0,0,0]
["Denise Pereira Neto Stasiak",351918,null,null,null,null,null,null,null,null,null,null,null,null,null,null,null,null,null,null,null,null,null,null,null,null,null,null,null,null,null,null,null,null,null,null,null,null,null,null,null,null,null,{"$f":"IF(A11<>\"\",IFERROR(VLOOKUP(M11,Tabelas!B:D,3,0),0),\"\")","v":0},{"$f":"IF(A11<>\"\",IFERROR(VLOOKUP(N11,Tabelas!B:D,3,0),0),\"\")","v":0},{"$f":"IF(A11<>\"\",IFERROR(VLOOKUP(O11,Tabelas!B:D,3,0),0),\"\")","v":0},{"$f":"IF(A11<>\"\",IFERROR(VLOOKUP(P11,Tabelas!B:D,3,0),0),\"\")","v":0},{"$f":"IF(A11<>\"\",IFERROR(VLOOKUP(Q11,Tabelas!B:D,3,0),0),\"\")","v":0},{"$f":"IF(A11<>\"\",IFERROR(VLOOKUP(R11,Tabelas!B:D,3,0),0),\"\")","v":0},{"$f":"IF(A11<>\"\",IFERROR(VLOOKUP(S11,Tabelas!B:D,3,0),0),\"\")","v":0},{"$f":"IF(A11<>\"\",IFERROR(VLOOKUP(T11,Tabelas!B:D,3,0),0),\"\")","v":0},{"$f":"IF(A11<>\"\",IFERROR(VLOOKUP(U11,Tabelas!B:D,3,0),0),\"\")","v":0},{"$f":"IF(A11<>\"\",IFERROR(VLOOKUP(V11,Tabelas!B:D,3,0),0),\"\")","v":0},{"$f":"IF(A11<>\"\",IFERROR(VLOOKUP(W11,Tabelas!B:D,3,0),0),\"\")","v":0},{"$f":"IF(A11<>\"\",IFERROR(VLOOKUP(X11,Tabelas!B:D,3,0),0),\"\")","v":0},{"$f":"IF(A11<>\"\",IFERROR(VLOOKUP(Y11,Tabelas!B:D,3,0),0),\"\")","v":0},{"$f":"IF(A11<>\"\",IFERROR(VLOOKUP(Z11,Tabelas!B:D,3,0),0),\"\")","v":0},{"$f":"IF(A11<>\"\",IFERROR(VLOOKUP(AA11,Tabelas!B:D,3,0),0),\"\")","v":0},{"$f":"IF(A11<>\"\",IFERROR(VLOOKUP(AB11,Tabelas!B:D,3,0),0),\"\")","v":0},{"$f":"IF(A11<>\"\",IFERROR(VLOOKUP(AC11,Tabelas!B:D,3,0),0),\"\")","v":0},{"$f":"IF(A11<>\"\",IFERROR(VLOOKUP(AD11,Tabelas!B:D,3,0),0),\"\")","v":0},{"$f":"IF(A11<>\"\",IFERROR(VLOOKUP(AE11,Tabelas!B:D,3,0),0),\"\")","v":0},{"$f":"IF(A11<>\"\",IFERROR(VLOOKUP(AF11,Tabelas!B:D,3,0),0),\"\")","v":0},{"$f":"IF(A11<>\"\",IFERROR(VLOOKUP(AG11,Tabelas!B:D,3,0),0),\"\")","v":0},{"$f":"IF(A11<>\"\",IFERROR(VLOOKUP(AH11,Tabelas!B:D,3,0),0),\"\")","v":0},{"$f":"IF(A11<>\"\",IFERROR(VLOOKUP(AI11,Tabelas!B:D,3,0),0),\"\")","v":0},{"$f":"IF(A11<>\"\",IFERROR(VLOOKUP(AJ11,Tabelas!B:D,3,0),0),\"\")","v":0},{"$f":"IF(A11<>\"\",IFERROR(VLOOKUP(AK11,Tabelas!B:D,3,0),0),\"\")","v":0},{"$f":"IF(A11<>\"\",IFERROR(VLOOKUP(AL11,Tabelas!B:D,3,0),0),\"\")","v":0},{"$f":"IF(A11<>\"\",IFERROR(VLOOKUP(AM11,Tabelas!B:D,3,0),0),\"\")","v":0},{"$f":"IF(A11<>\"\",IFERROR(VLOOKUP(AN11,Tabelas!B:D,3,0),0),\"\")","v":0},{"$f":"IF(A11<>\"\",IFERROR(VLOOKUP(AO11,Tabelas!B:D,3,0),0),\"\")","v":0},{"$f":"IF(A11<>\"\",IFERROR(VLOOKUP(AP11,Tabelas!B:D,3,0),0),\"\")","v":0},{"$f":"IF(A11<>\"\",IFERROR(VLOOKUP(AQ11,Tabelas!B:D,3,0),0),\"\")","v":0},0,0,0,0,0,0,0,0]
["Letícia Cabral Domingos da Rosa",1451516,null,null,null,null,null,null,null,null,null,null,null,null,null,null,null,null,null,null,null,null,null,null,null,null,null,null,null,null,null,null,null,null,null,null,null,null,null,null,null,null,null,{"$f":"IF(A12<>\"\",IFERROR(VLOOKUP(M12,Tabelas!B:D,3,0),0),\"\")","v":0},{"$f":"IF(A12<>\"\",IFERROR(VLOOKUP(N12,Tabelas!B:D,3,0),0),\"\")","v":0},{"$f":"IF(A12<>\"\",IFERROR(VLOOKUP(O12,Tabelas!B:D,3,0),0),\"\")","v":0},{"$f":"IF(A12<>\"\",IFERROR(VLOOKUP(P12,Tabelas!B:D,3,0),0),\"\")","v":0},{"$f":"IF(A12<>\"\",IFERROR(VLOOKUP(Q12,Tabelas!B:D,3,0),0),\"\")","v":0},{"$f":"IF(A12<>\"\",IFERROR(VLOOKUP(R12,Tabelas!B:D,3,0),0),\"\")","v":0},{"$f":"IF(A12<>\"\",IFERROR(VLOOKUP(S12,Tabelas!B:D,3,0),0),\"\")","v":0},{"$f":"IF(A12<>\"\",IFERROR(VLOOKUP(T12,Tabelas!B:D,3,0),0),\"\")","v":0},{"$f":"IF(A12<>\"\",IFERROR(VLOOKUP(U12,Tabelas!B:D,3,0),0),\"\")","v":0},{"$f":"IF(A12<>\"\",IFERROR(VLOOKUP(V12,Tabelas!B:D,3,0),0),\"\")","v":0},{"$f":"IF(A12<>\"\",IFERROR(VLOOKUP(W12,Tabelas!B:D,3,0),0),\"\")","v":0},{"$f":"IF(A12<>\"\",IFERROR(VLOOKUP(X12,Tabelas!B:D,3,0),0),\"\")","v":0},{"$f":"IF(A12<>\"\",IFERROR(VLOOKUP(Y12,Tabelas!B:D,3,0),0),\"\")","v":0},{"$f":"IF(A12<>\"\",IFERROR(VLOOKUP(Z12,Tabelas!B:D,3,0),0),\"\")","v":0},{"$f":"IF(A12<>\"\",IFERROR(VLOOKUP(AA12,Tabelas!B:D,3,0),0),\"\")","v":0},{"$f":"IF(A12<>\"\",IFERROR(VLOOKUP(AB12,Tabelas!B:D,3,0),0),\"\")","v":0},{"$f":"IF(A12<>\"\",IFERROR(VLOOKUP(AC12,Tabelas!B:D,3,0),0),\"\")","v":0},{"$f":"IF(A12<>\"\",IFERROR(VLOOKUP(AD12,Tabelas!B:D,3,0),0),\"\")","v":0},{"$f":"IF(A12<>\"\",IFERROR(VLOOKUP(AE12,Tabelas!B:D,3,0),0),\"\")","v":0},{"$f":"IF(A12<>\"\",IFERROR(VLOOKUP(AF12,Tabelas!B:D,3,0),0),\"\")","v":0},{"$f":"IF(A12<>\"\",IFERROR(VLOOKUP(AG12,Tabelas!B:D,3,0),0),\"\")","v":0},{"$f":"IF(A12<>\"\",IFERROR(VLOOKUP(AH12,Tabelas!B:D,3,0),0),\"\")","v":0},{"$f":"IF(A12<>\"\",IFERROR(VLOOKUP(AI12,Tabelas!B:D,3,0),0),\"\")","v":0},{"$f":"IF(A12<>\"\",IFERROR(VLOOKUP(AJ12,Tabelas!B:D,3,0),0),\"\")","v":0},{"$f":"IF(A12<>\"\",IFERROR(VLOOKUP(AK12,Tabelas!B:D,3,0),0),\"\")","v":0},{"$f":"IF(A12<>\"\",IFERROR(VLOOKUP(AL12,Tabelas!B:D,3,0),0),\"\")","v":0},{"$f":"IF(A12<>\"\",IFERROR(VLOOKUP(AM12,Tabelas!B:D,3,0),0),\"\")","v":0},{"$f":"IF(A12<>\"\",IFERROR(VLOOKUP(AN12,Tabelas!B:D,3,0),0),\"\")","v":0},{"$f":"IF(A12<>\"\",IFERROR(VLOOKUP(AO12,Tabelas!B:D,3,0),0),\"\")","v":0},{"$f":"IF(A12<>\"\",IFERROR(VLOOKUP(AP12,Tabelas!B:D,3,0),0),\"\")","v":0},{"$f":"IF(A12<>\"\",IFERROR(VLOOKUP(AQ12,Tabelas!B:D,3,0),0),\"\")","v":0},0,0,0,0,0,0,0,0]
["Maria Aparecida",1449476,null,null,null,null,null,null,null,null,null,null,null,null,null,null,null,null,null,null,null,null,null,null,null,null,null,null,null,null,null,null,null,null,null,null,null,null,null,null,null,null,null,{"$f":"IF(A13<>\"\",IFERROR(VLOOKUP(M13,Tabelas!B:D,3,0),0),\"\")","v":0},{"$f":"IF(A13<>\"\",IFERROR(VLOOKUP(N13,Tabelas!B:D,3,0),0),\"\")","v":0},{"$f":"IF(A13<>\"\",IFERROR(VLOOKUP(O13,Tabelas!B:D,3,0),0),\"\")","v":0},{"$f":"IF(A13<>\"\",IFERROR(VLOOKUP(P13,Tabelas!B:D,3,0),0),\"\")","v":0},{"$f":"IF(A13<>\"\",IFERROR(VLOOKUP(Q13,Tabelas!B:D,3,0),0),\"\")","v":0},{"$f":"IF(A13<>\"\",IFERROR(VLOOKUP(R13,Tabelas!B:D,3,0),0),\"\")","v":0},{"$f":"IF(A13<>\"\",IFERROR(VLOOKUP(S13,Tabelas!B:D,3,0),0),\"\")","v":0},{"$f":"IF(A13<>\"\",IFERROR(VLOOKUP(T13,Tabelas!B:D,3,0),0),\"\")","v":0},{"$f":"IF(A13<>\"\",IFERROR(VLOOKUP(U13,Tabelas!B:D,3,0),0),\"\")","v":0},{"$f":"IF(A13<>\"\",IFERROR(VLOOKUP(V13,Tabelas!B:D,3,0),0),\"\")","v":0},{"$f":"IF(A13<>\"\",IFERROR(VLOOKUP(W13,Tabelas!B:D,3,0),0),\"\")","v":0},{"$f":"IF(A13<>\"\",IFERROR(VLOOKUP(X13,Tabelas!B:D,3,0),0),\"\")","v":0},{"$f":"IF(A13<>\"\",IFERROR(VLOOKUP(Y13,Tabelas!B:D,3,0),0),\"\")","v":0},{"$f":"IF(A13<>\"\",IFERROR(VLOOKUP(Z13,Tabelas!B:D,3,0),0),\"\")","v":0},{"$f":"IF(A13<>\"\",IFERROR(VLOOKUP(AA13,Tabelas!B:D,3,0),0),\"\")","v":0},{"$f":"IF(A13<>\"\",IFERROR(VLOOKUP(AB13,Tabelas!B:D,3,0),0),\"\")","v":0},{"$f":"IF(A13<>\"\",IFERROR(VLOOKUP(AC13,Tabelas!B:D,3,0),0),\"\")","v":0},{"$f":"IF(A13<>\"\",IFERROR(VLOOKUP(AD13,Tabelas!B:D,3,0),0),\"\")","v":0},{"$f":"IF(A13<>\"\",IFERROR(VLOOKUP(AE13,Tabelas!B:D,3,0),0),\"\")","v":0},{"$f":"IF(A13<>\"\",IFERROR(VLOOKUP(AF13,Tabelas!B:D,3,0),0),\"\")","v":0},{"$f":"IF(A13<>\"\",IFERROR(VLOOKUP(AG13,Tabelas!B:D,3,0),0),\"\")","v":0},{"$f":"IF(A13<>\"\",IFERROR(VLOOKUP(AH13,Tabelas!B:D,3,0),0),\"\")","v":0},{"$f":"IF(A13<>\"\",IFERROR(VLOOKUP(AI13,Tabelas!B:D,3,0),0),\"\")","v":0},{"$f":"IF(A13<>\"\",IFERROR(VLOOKUP(AJ13,Tabelas!B:D,3,0),0),\"\")","v":0},{"$f":"IF(A13<>\"\",IFERROR(VLOOKUP(AK13,Tabelas!B:D,3,0),0),\"\")","v":0},{"$f":"IF(A13<>\"\",IFERROR(VLOOKUP(AL13,Tabelas!B:D,3,0),0),\"\")","v":0},{"$f":"IF(A13<>\"\",IFERROR(VLOOKUP(AM13,Tabelas!B:D,3,0),0),\"\")","v":0},{"$f":"IF(A13<>\"\",IFERROR(VLOOKUP(AN13,Tabelas!B:D,3,0),0),\"\")","v":0},{"$f":"IF(A13<>\"\",IFERROR(VLOOKUP(AO13,Tabelas!B:D,3,0),0),\"\")","v":0},{"$f":"IF(A13<>\"\",IFERROR(VLOOKUP(AP13,Tabelas!B:D,3,0),0),\"\")","v":0},{"$f":"IF(A13<>\"\",IFERROR(VLOOKUP(AQ13,Tabelas!B:D,3,0),0),\"\")","v":0},0,0,0,0,0,0,0,0]
["Rosilei da Silva da Rosa",null,null,null,null,null,null,null,null,null,null,null,null,null,null,null,null,null,null,null,null,null,null,null,null,null,null,null,null,null,null,null,null,null,null,null,null,null,null,null,null,null,null,{"$f":"IF(A14<>\"\",IFERROR(VLOOKUP(M14,Tabelas!B:D,3,0),0),\"\")","v":0},{"$f":"IF(A14<>\"\",IFERROR(VLOOKUP(N14,Tabelas!B:D,3,0),0),\"\")","v":0},{"$f":"IF(A14<>\"\",IFERROR(VLOOKUP(O14,Tabelas!B:D,3,0),0),\"\")","v":0},{"$f":"IF(A14<>\"\",IFERROR(VLOOKUP(P14,Tabelas!B:D,3,0),0),\"\")","v":0},{"$f":"IF(A14<>\"\",IFERROR(VLOOKUP(Q14,Tabelas!B:D,3,0),0),\"\")","v":0},{"$f":"IF(A14<>\"\",IFERROR(VLOOKUP(R14,Tabelas!B:D,3,0),0),\"\")","v":0},{"$f":"IF(A14<>\"\",IFERROR(VLOOKUP(S14,Tabelas!B:D,3,0),0),\"\")","v":0},{"$f":"IF(A14<>\"\",IFERROR(VLOOKUP(T14,Tabelas!B:D,3,0),0),\"\")","v":0},{"$f":"IF(A14<>\"\",IFERROR(VLOOKUP(U14,Tabelas!B:D,3,0),0),\"\")","v":0},{"$f":"IF(A14<>\"\",IFERROR(VLOOKUP(V14,Tabelas!B:D,3,0),0),\"\")","v":0},{"$f":"IF(A14<>\"\",IFERROR(VLOOKUP(W14,Tabelas!B:D,3,0),0),\"\")","v":0},{"$f":"IF(A14<>\"\",IFERROR(VLOOKUP(X14,Tabelas!B:D,3,0),0),\"\")","v":0},{"$f":"IF(A14<>\"\",IFERROR(VLOOKUP(Y14,Tabelas!B:D,3,0),0),\"\")","v":0},{"$f":"IF(A14<>\"\",IFERROR(VLOOKUP(Z14,Tabelas!B:D,3,0),0),\"\")","v":0},{"$f":"IF(A14<>\"\",IFERROR(VLOOKUP(AA14,Tabelas!B:D,3,0),0),\"\")","v":0},{"$f":"IF(A14<>\"\",IFERROR(VLOOKUP(AB14,Tabelas!B:D,3,0),0),\"\")","v":0},{"$f":"IF(A14<>\"\",IFERROR(VLOOKUP(AC14,Tabelas!B:D,3,0),0),\"\")","v":0},{"$f":"IF(A14<>\"\",IFERROR(VLOOKUP(AD14,Tabelas!B:D,3,0),0),\"\")","v":0},{"$f":"IF(A14<>\"\",IFERROR(VLOOKUP(AE14,Tabelas!B:D,3,0),0),\"\")","v":0},{"$f":"IF(A14<>\"\",IFERROR(VLOOKUP(AF14,Tabelas!B:D,3,0),0),\"\")","v":0},{"$f":"IF(A14<>\"\",IFERROR(VLOOKUP(AG14,Tabelas!B:D,3,0),0),\"\")","v":0},{"$f":"IF(A14<>\"\",IFERROR(VLOOKUP(AH14,Tabelas!B:D,3,0),0),\"\")","v":0},{"$f":"IF(A14<>\"\",IFERROR(VLOOKUP(AI14,Tabelas!B:D,3,0),0),\"\")","v":0},{"$f":"IF(A14<>\"\",IFERROR(VLOOKUP(AJ14,Tabelas!B:D,3,0),0),\"\")","v":0},{"$f":"IF(A14<>\"\",IFERROR(VLOOKUP(AK14,Tabelas!B:D,3,0),0),\"\")","v":0},{"$f":"IF(A14<>\"\",IFERROR(VLOOKUP(AL14,Tabelas!B:D,3,0),0),\"\")","v":0},{"$f":"IF(A14<>\"\",IFERROR(VLOOKUP(AM14,Tabelas!B:D,3,0),0),\"\")","v":0},{"$f":"IF(A14<>\"\",IFERROR(VLOOKUP(AN14,Tabelas!B:D,3,0),0),\"\")","v":0},{"$f":"IF(A14<>\"\",IFERROR(VLOOKUP(AO14,Tabelas!B:D,3,0),0),\"\")","v":0},{"$f":"IF(A14<>\"\",IFERROR(VLOOKUP(AP14,Tabelas!B:D,3,0),0),\"\")","v":0},{"$f":"IF(A14<>\"\",IFERROR(VLOOKUP(AQ14,Tabelas!B:D,3,0),0),\"\")","v":0},0,0,0,0,0,0,0,0]
[null,null,null,null,null,null,null,null,null,null,null,null,null,null,null,null,null,null,null,null,null,null,null,null,null,null,null,null,null,null,null,null,null,null,null,null,null,null,null,null,null,null,null,{"$f":"IF(A15<>\"\",IFERROR(VLOOKUP(M15,Tabelas!B:D,3,0),0),\"\")","v":""},{"$f":"IF(A15<>\"\",IFERROR(VLOOKUP(N15,Tabelas!B:D,3,0),0),\"\")","v":""},{"$f":"IF(A15<>\"\",IFERROR(VLOOKUP(O15,Tabelas!B:D,3,0),0),\"\")","v":""},{"$f":"IF(A15<>\"\",IFERROR(VLOOKUP(P15,Tabelas!B:D,3,0),0),\"\")","v":""},{"$f":"IF(A15<>\"\",IFERROR(VLOOKUP(Q15,Tabelas!B:D,3,0),0),\"\")","v":""},{"$f":"IF(A15<>\"\",IFERROR(VLOOKUP(R15,Tabelas!B:D,3,0),0),\"\")","v":""},{"$f":"IF(A15<>\"\",IFERROR(VLOOKUP(S15,Tabelas!B:D,3,0),0),\"\")","v":""},{"$f":"IF(A15<>\"\",IFERROR(VLOOKUP(T15,Tabelas!B:D,3,0),0),\"\")","v":""},{"$f":"IF(A15<>\"\",IFERROR(VLOOKUP(U15,Tabelas!B:D,3,0),0),\"\")","v":""},{"$f":"IF(A15<>\"\",IFERROR(VLOOKUP(V15,Tabelas!B:D,3,0),0),\"\")","v":""},{"$f":"IF(A15<>\"\",IFERROR(VLOOKUP(W15,Tabelas!B:D,3,0),0),\"\")","v":""},{"$f":"IF(A15<>\"\",IFERROR(VLOOKUP(X15,Tabelas!B:D,3,0),0),\"\")","v":""},{"$f":"IF(A15<>\"\",IFERROR(VLOOKUP(Y15,Tabelas!B:D,3,0),0),\"\")","v":""},{"$f":"IF(A15<>\"\",IFERROR(VLOOKUP(Z15,Tabelas!B:D,3,0),0),\"\")","v":""},{"$f":"IF(A15<>\"\",IFERROR(VLOOKUP(AA15,Tabelas!B:D,3,0),0),\"\")","v":""},{"$f":"IF(A15<>\"\",IFERROR(VLOOKUP(AB15,Tabelas!B:D,3,0),0),\"\")","v":""},{"$f":"IF(A15<>\"\",IFERROR(VLOOKUP(AC15,Tabelas!B:D,3,0),0),\"\")","v":""},{"$f":"IF(A15<>\"\",IFERROR(VLOOKUP(AD15,Tabelas!B:D,3,0),0),\"\")","v":""},{"$f":"IF(A15<>\"\",IFERROR(VLOOKUP(AE15,Tabelas!B:D,3,0),0),\"\")","v":""},{"$f":"IF(A15<>\"\",IFERROR(VLOOKUP(AF15,Tabelas!B:D,3,0),0),\"\")","v":""},{"$f":"IF(A15<>\"\",IFERROR(VLOOKUP(AG15,Tabelas!B:D,3,0),0),\"\")","v":""},{"$f":"IF(A15<>\"\",IFERROR(VLOOKUP(AH15,Tabelas!B:D,3,0),0),\"\")","v":""},{"$f":"IF(A15<>\"\",IFERROR(VLOOKUP(AI15,Tabelas!B:D,3,0),0),\"\")","v":""},{"$f":"IF(A15<>\"\",IFERROR(VLOOKUP(AJ15,Tabelas!B:D,3,0),0),\"\")","v":""},{"$f":"IF(A15<>\"\",IFERROR(VLOOKUP(AK15,Tabelas!B:D,3,0),0),\"\")","v":""},{"$f":"IF(A15<>\"\",IFERROR(VLOOKUP(AL15,Tabelas!B:D,3,0),0),\"\")","v":""},{"$f":"IF(A15<>\"\",IFERROR(VLOOKUP(AM15,Tabelas!B:D,3,0),0),\"\")","v":""},{"$f":"IF(A15<>\"\",IFERROR(VLOOKUP(AN15,Tabelas!B:D,3,0),0),\"\")","v":""},{"$f":"IF(A15<>\"\",IFERROR(VLOOKUP(AO15,Tabelas!B:D,3,0),0),\"\")","v":""},{"$f":"IF(A15<>\"\",IFERROR(VLOOKUP(AP15,Tabelas!B:D,3,0),0),\"\")","v":""},{"$f":"IF(A15<>\"\",IFERROR(VLOOKUP(AQ15,Tabelas!B:D,3,0),0),\"\")","v":""},"","","","","","","",""]
["Amarildo Maçaneiro",3183551,null,null,null,null,null,null,null,null,null,null,null,null,null,null,null,null,null,null,null,null,null,null,null,null,null,null,null,null,null,null,null,null,null,null,null,null,null,null,null,null,null,{"$f":"IF(A16<>\"\",IFERROR(VLOOKUP(M16,Tabelas!B:D,3,0),0),\"\")","v":0},{"$f":"IF(A16<>\"\",IFERROR(VLOOKUP(N16,Tabelas!B:D,3,0),0),\"\")","v":0},{"$f":"IF(A16<>\"\",IFERROR(VLOOKUP(O16,Tabelas!B:D,3,0),0),\"\")","v":0},{"$f":"IF(A16<>\"\",IFERROR(VLOOKUP(P16,Tabelas!B:D,3,0),0),\"\")","v":0},{"$f":"IF(A16<>\"\",IFERROR(VLOOKUP(Q16,Tabelas!B:D,3,0),0),\"\")","v":0},{"$f":"IF(A16<>\"\",IFERROR(VLOOKUP(R16,Tabelas!B:D,3,0),0),\"\")","v":0},{"$f":"IF(A16<>\"\",IFERROR(VLOOKUP(S16,Tabelas!B:D,3,0),0),\"\")","v":0},{"$f":"IF(A16<>\"\",IFERROR(VLOOKUP(T16,Tabelas!B:D,3,0),0),\"\")","v":0},{"$f":"IF(A16<>\"\",IFERROR(VLOOKUP(U16,Tabelas!B:D,3,0),0),\"\")","v":0},{"$f":"IF(A16<>\"\",IFERROR(VLOOKUP(V16,Tabelas!B:D,3,0),0),\"\")","v":0},{"$f":"IF(A16<>\"\",IFERROR(VLOOKUP(W16,Tabelas!B:D,3,0),0),\"\")","v":0},{"$f":"IF(A16<>\"\",IFERROR(VLOOKUP(X16,Tabelas!B:D,3,0),0),\"\")","v":0},{"$f":"IF(A16<>\"\",IFERROR(VLOOKUP(Y16,Tabelas!B:D,3,0),0),\"\")","v":0},{"$f":"IF(A16<>\"\",IFERROR(VLOOKUP(Z16,Tabelas!B:D,3,0),0),\"\")","v":0},{"$f":"IF(A16<>\"\",IFERROR(VLOOKUP(AA16,Tabelas!B:D,3,0),0),\"\")","v":0},{"$f":"IF(A16<>\"\",IFERROR(VLOOKUP(AB16,Tabelas!B:D,3,0),0),\"\")","v":0},{"$f":"IF(A16<>\"\",IFERROR(VLOOKUP(AC16,Tabelas!B:D,3,0),0),\"\")","v":0},{"$f":"IF(A16<>\"\",IFERROR(VLOOKUP(AD16,Tabelas!B:D,3,0),0),\"\")","v":0},{"$f":"IF(A16<>\"\",IFERROR(VLOOKUP(AE16,Tabelas!B:D,3,0),0),\"\")","v":0},{"$f":"IF(A16<>\"\",IFERROR(VLOOKUP(AF16,Tabelas!B:D,3,0),0),\"\")","v":0},{"$f":"IF(A16<>\"\",IFERROR(VLOOKUP(AG16,Tabelas!B:D,3,0),0),\"\")","v":0},{"$f":"IF(A16<>\"\",IFERROR(VLOOKUP(AH16,Tabelas!B:D,3,0),0),\"\")","v":0},{"$f":"IF(A16<>\"\",IFERROR(VLOOKUP(AI16,Tabelas!B:D,3,0),0),\"\")","v":0},{"$f":"IF(A16<>\"\",IFERROR(VLOOKUP(AJ16,Tabelas!B:D,3,0),0),\"\")","v":0},{"$f":"IF(A16<>\"\",IFERROR(VLOOKUP(AK16,Tabelas!B:D,3,0),0),\"\")","v":0},{"$f":"IF(A16<>\"\",IFERROR(VLOOKUP(AL16,Tabelas!B:D,3,0),0),\"\")","v":0},{"$f":"IF(A16<>\"\",IFERROR(VLOOKUP(AM16,Tabelas!B:D,3,0),0),\"\")","v":0},{"$f":"IF(A16<>\"\",IFERROR(VLOOKUP(AN16,Tabelas!B:D,3,0),0),\"\")","v":0},{"$f":"IF(A16<>\"\",IFERROR(VLOOKUP(AO16,Tabelas!B:D,3,0),0),\"\")","v":0},{"$f":"IF(A16<>\"\",IFERROR(VLOOKUP(AP16,Tabelas!B:D,3,0),0),\"\")","v":0},{"$f":"IF(A16<>\"\",IFERROR(VLOOKUP(AQ16,Tabelas!B:D,3,0),0),\"\")","v":0},0,0,0,0,0,0,0,0]
["Isabela Ubaldo Lowen",1518546,null,null,null,null,null,null,null,null,null,null,null,null,null,null,null,null,null,null,null,null,null,null,null,null,null,null,null,null,null,null,null,null,null,null,null,null,null,null,null,null,null,{"$f":"IF(A17<>\"\",IFERROR(VLOOKUP(M17,Tabelas!B:D,3,0),0),\"\")","v":0},{"$f":"IF(A17<>\"\",IFERROR(VLOOKUP(N17,Tabelas!B:D,3,0),0),\"\")","v":0},{"$f":"IF(A17<>\"\",IFERROR(VLOOKUP(O17,Tabelas!B:D,3,0),0),\"\")","v":0},{"$f":"IF(A17<>\"\",IFERROR(VLOOKUP(P17,Tabelas!B:D,3,0),0),\"\")","v":0},{"$f":"IF(A17<>\"\",IFERROR(VLOOKUP(Q17,Tabelas!B:D,3,0),0),\"\")","v":0},{"$f":"IF(A17<>\"\",IFERROR(VLOOKUP(R17,Tabelas!B:D,3,0),0),\"\")","v":0},{"$f":"IF(A17<>\"\",IFERROR(VLOOKUP(S17,Tabelas!B:D,3,0),0),\"\")","v":0},{"$f":"IF(A17<>\"\",IFERROR(VLOOKUP(T17,Tabelas!B:D,3,0),0),\"\")","v":0},{"$f":"IF(A17<>\"\",IFERROR(VLOOKUP(U17,Tabelas!B:D,3,0),0),\"\")","v":0},{"$f":"IF(A17<>\"\",IFERROR(VLOOKUP(V17,Tabelas!B:D,3,0),0),\"\")","v":0},{"$f":"IF(A17<>\"\",IFERROR(VLOOKUP(W17,Tabelas!B:D,3,0),0),\"\")","v":0},{"$f":"IF(A17<>\"\",IFERROR(VLOOKUP(X17,Tabelas!B:D,3,0),0),\"\")","v":0},{"$f":"IF(A17<>\"\",IFERROR(VLOOKUP(Y17,Tabelas!B:D,3,0),0),\"\")","v":0},{"$f":"IF(A17<>\"\",IFERROR(VLOOKUP(Z17,Tabelas!B:D,3,0),0),\"\")","v":0},{"$f":"IF(A17<>\"\",IFERROR(VLOOKUP(AA17,Tabelas!B:D,3,0),0),\"\")","v":0},{"$f":"IF(A17<>\"\",IFERROR(VLOOKUP(AB17,Tabelas!B:D,3,0),0),\"\")","v":0},{"$f":"IF(A17<>\"\",IFERROR(VLOOKUP(AC17,Tabelas!B:D,3,0),0),\"\")","v":0},{"$f":"IF(A17<>\"\",IFERROR(VLOOKUP(AD17,Tabelas!B:D,3,0),0),\"\")","v":0},{"$f":"IF(A17<>\"\",IFERROR(VLOOKUP(AE17,Tabelas!B:D,3,0),0),\"\")","v":0},{"$f":"IF(A17<>\"\",IFERROR(VLOOKUP(AF17,Tabelas!B:D,3,0),0),\"\")","v":0},{"$f":"IF(A17<>\"\",IFERROR(VLOOKUP(AG17,Tabelas!B:D,3,0),0),\"\")","v":0},{"$f":"IF(A17<>\"\",IFERROR(VLOOKUP(AH17,Tabelas!B:D,3,0),0),\"\")","v":0},{"$f":"IF(A17<>\"\",IFERROR(VLOOKUP(AI17,Tabelas!B:D,3,0),0),\"\")","v":0},{"$f":"IF(A17<>\"\",IFERROR(VLOOKUP(AJ17,Tabelas!B:D,3,0),0),\"\")","v":0},{"$f":"IF(A17<>\"\",IFERROR(VLOOKUP(AK17,Tabelas!B:D,3,0),0),\"\")","v":0},{"$f":"IF(A17<>\"\",IFERROR(VLOOKUP(AL17,Tabelas!B:D,3,0),0),\"\")","v":0},{"$f":"IF(A17<>\"\",IFERROR(VLOOKUP(AM17,Tabelas!B:D,3,0),0),\"\")","v":0},{"$f":"IF(A17<>\"\",IFERROR(VLOOKUP(AN17,Tabelas!B:D,3,0),0),\"\")","v":0},{"$f":"IF(A17<>\"\",IFERROR(VLOOKUP(AO17,Tabelas!B:D,3,0),0),\"\")","v":0},{"$f":"IF(A17<>\"\",IFERROR(VLOOKUP(AP17,Tabelas!B:D,3,0),0),\"\")","v":0},{"$f":"IF(A17<>\"\",IFERROR(VLOOKUP(AQ17,Tabelas!B:D,3,0),0),\"\")","v":0},0,0,0,0,0,0,0,0]
["Jenifer Regina Crispim",3189566,null,null,null,null,null,null,null,null,null,null,null,null,null,null,null,null,null,null,null,null,null,null,null,null,null,null,null,null,null,null,null,null,null,null,null,null,null,null,null,null,null,{"$f":"IF(A18<>\"\",IFERROR(VLOOKUP(M18,Tabelas!B:D,3,0),0),\"\")","v":0},{"$f":"IF(A18<>\"\",IFERROR(VLOOKUP(N18,Tabelas!B:D,3,0),0),\"\")","v":0},{"$f":"IF(A18<>\"\",IFERROR(VLOOKUP(O18,Tabelas!B:D,3,0),0),\"\")","v":0},{"$f":"IF(A18<>\"\",IFERROR(VLOOKUP(P18,Tabelas!B:D,3,0),0),\"\")","v":0},{"$f":"IF(A18<>\"\",IFERROR(VLOOKUP(Q18,Tabelas!B:D,3,0),0),\"\")","v":0},{"$f":"IF(A18<>\"\",IFERROR(VLOOKUP(R18,Tabelas!B:D,3,0),0),\"\")","v":0},{"$f":"IF(A18<>\"\",IFERROR(VLOOKUP(S18,Tabelas!B:D,3,0),0),\"\")","v":0},{"$f":"IF(A18<>\"\",IFERROR(VLOOKUP(T18,Tabelas!B:D,3,0),0),\"\")","v":0},{"$f":"IF(A18<>\"\",IFERROR(VLOOKUP(U18,Tabelas!B:D,3,0),0),\"\")","v":0},{"$f":"IF(A18<>\"\",IFERROR(VLOOKUP(V18,Tabelas!B:D,3,0),0),\"\")","v":0},{"$f":"IF(A18<>\"\",IFERROR(VLOOKUP(W18,Tabelas!B:D,3,0),0),\"\")","v":0},{"$f":"IF(A18<>\"\",IFERROR(VLOOKUP(X18,Tabelas!B:D,3,0),0),\"\")","v":0},{"$f":"IF(A18<>\"\",IFERROR(VLOOKUP(Y18,Tabelas!B:D,3,0),0),\"\")","v":0},{"$f":"IF(A18<>\"\",IFERROR(VLOOKUP(Z18,Tabelas!B:D,3,0),0),\"\")","v":0},{"$f":"IF(A18<>\"\",IFERROR(VLOOKUP(AA18,Tabelas!B:D,3,0),0),\"\")","v":0},{"$f":"IF(A18<>\"\",IFERROR(VLOOKUP(AB18,Tabelas!B:D,3,0),0),\"\")","v":0},{"$f":"IF(A18<>\"\",IFERROR(VLOOKUP(AC18,Tabelas!B:D,3,0),0),\"\")","v":0},{"$f":"IF(A18<>\"\",IFERROR(VLOOKUP(AD18,Tabelas!B:D,3,0),0),\"\")","v":0},{"$f":"IF(A18<>\"\",IFERROR(VLOOKUP(AE18,Tabelas!B:D,3,0),0),\"\")","v":0},{"$f":"IF(A18<>\"\",IFERROR(VLOOKUP(AF18,Tabelas!B:D,3,0),0),\"\")","v":0},{"$f":"IF(A18<>\"\",IFERROR(VLOOKUP(AG18,Tabelas!B:D,3,0),0),\"\")","v":0},{"$f":"IF(A18<>\"\",IFERROR(VLOOKUP(AH18,Tabelas!B:D,3,0),0),\"\")","v":0},{"$f":"IF(A18<>\"\",IFERROR(VLOOKUP(AI18,Tabelas!B:D,3,0),0),\"\")","v":0},{"$f":"IF(A18<>\"\",IFERROR(VLOOKUP(AJ18,Tabelas!B:D,3,0),0),\"\")","v":0},{"$f":"IF(A18<>\"\",IFERROR(VLOOKUP(AK18,Tabelas!B:D,3,0),0),\"\")","v":0},{"$f":"IF(A18<>\"\",IFERROR(VLOOKUP(AL18,Tabelas!B:D,3,0),0),\"\")","v":0},{"$f":"IF(A18<>\"\",IFERROR(VLOOKUP(AM18,Tabelas!B:D,3,0),0),\"\")","v":0},{"$f":"IF(A18<>\"\",IFERROR(VLOOKUP(AN18,Tabelas!B:D,3,0),0),\"\")","v":0},{"$f":"IF(A18<>\"\",IFERROR(VLOOKUP(AO18,Tabelas!B:D,3,0),0),\"\")","v":0},{"$f":"IF(A18<>\"\",IFERROR(VLOOKUP(AP18,Tabelas!B:D,3,0),0),\"\")","v":0},{"$f":"IF(A18<>\"\",IFERROR(VLOOKUP(AQ18,Tabelas!B:D,3,0),0),\"\")","v":0},0,0,0,0,0,0,0,0]
["Zélma Gulart de Lima",3189439,null,null,null,null,null,null,null,null,null,null,null,null,null,null,null,null,null,null,null,null,null,null,null,null,null,null,null,null,null,null,null,null,null,null,null,null,null,null,null,null,null,{"$f":"IF(A19<>\"\",IFERROR(VLOOKUP(M19,Tabelas!B:D,3,0),0),\"\")","v":0},{"$f":"IF(A19<>\"\",IFERROR(VLOOKUP(N19,Tabelas!B:D,3,0),0),\"\")","v":0},{"$f":"IF(A19<>\"\",IFERROR(VLOOKUP(O19,Tabelas!B:D,3,0),0),\"\")","v":0},{"$f":"IF(A19<>\"\",IFERROR(VLOOKUP(P19,Tabelas!B:D,3,0),0),\"\")","v":0},{"$f":"IF(A19<>\"\",IFERROR(VLOOKUP(Q19,Tabelas!B:D,3,0),0),\"\")","v":0},{"$f":"IF(A19<>\"\",IFERROR(VLOOKUP(R19,Tabelas!B:D,3,0),0),\"\")","v":0},{"$f":"IF(A19<>\"\",IFERROR(VLOOKUP(S19,Tabelas!B:D,3,0),0),\"\")","v":0},{"$f":"IF(A19<>\"\",IFERROR(VLOOKUP(T19,Tabelas!B:D,3,0),0),\"\")","v":0},{"$f":"IF(A19<>\"\",IFERROR(VLOOKUP(U19,Tabelas!B:D,3,0),0),\"\")","v":0},{"$f":"IF(A19<>\"\",IFERROR(VLOOKUP(V19,Tabelas!B:D,3,0),0),\"\")","v":0},{"$f":"IF(A19<>\"\",IFERROR(VLOOKUP(W19,Tabelas!B:D,3,0),0),\"\")","v":0},{"$f":"IF(A19<>\"\",IFERROR(VLOOKUP(X19,Tabelas!B:D,3,0),0),\"\")","v":0},{"$f":"IF(A19<>\"\",IFERROR(VLOOKUP(Y19,Tabelas!B:D,3,0),0),\"\")","v":0},{"$f":"IF(A19<>\"\",IFERROR(VLOOKUP(Z19,Tabelas!B:D,3,0),0),\"\")","v":0},{"$f":"IF(A19<>\"\",IFERROR(VLOOKUP(AA19,Tabelas!B:D,3,0),0),\"\")","v":0},{"$f":"IF(A19<>\"\",IFERROR(VLOOKUP(AB19,Tabelas!B:D,3,0),0),\"\")","v":0},{"$f":"IF(A19<>\"\",IFERROR(VLOOKUP(AC19,Tabelas!B:D,3,0),0),\"\")","v":0},{"$f":"IF(A19<>\"\",IFERROR(VLOOKUP(AD19,Tabelas!B:D,3,0),0),\"\")","v":0},{"$f":"IF(A19<>\"\",IFERROR(VLOOKUP(AE19,Tabelas!B:D,3,0),0),\"\")","v":0},{"$f":"IF(A19<>\"\",IFERROR(VLOOKUP(AF19,Tabelas!B:D,3,0),0),\"\")","v":0},{"$f":"IF(A19<>\"\",IFERROR(VLOOKUP(AG19,Tabelas!B:D,3,0),0),\"\")","v":0},{"$f":"IF(A19<>\"\",IFERROR(VLOOKUP(AH19,Tabelas!B:D,3,0),0),\"\")","v":0},{"$f":"IF(A19<>\"\",IFERROR(VLOOKUP(AI19,Tabelas!B:D,3,0),0),\"\")","v":0},{"$f":"IF(A19<>\"\",IFERROR(VLOOKUP(AJ19,Tabelas!B:D,3,0),0),\"\")","v":0},{"$f":"IF(A19<>\"\",IFERROR(VLOOKUP(AK19,Tabelas!B:D,3,0),0),\"\")","v":0},{"$f":"IF(A19<>\"\",IFERROR(VLOOKUP(AL19,Tabelas!B:D,3,0),0),\"\")","v":0},{"$f":"IF(A19<>\"\",IFERROR(VLOOKUP(AM19,Tabelas!B:D,3,0),0),\"\")","v":0},{"$f":"IF(A19<>\"\",IFERROR(VLOOKUP(AN19,Tabelas!B:D,3,0),0),\"\")","v":0},{"$f":"IF(A19<>\"\",IFERROR(VLOOKUP(AO19,Tabelas!B:D,3,0),0),\"\")","v":0},{"$f":"IF(A19<>\"\",IFERROR(VLOOKUP(AP19,Tabelas!B:D,3,0),0),\"\")","v":0},{"$f":"IF(A19<>\"\",IFERROR(VLOOKUP(AQ19,Tabelas!B:D,3,0),0),\"\")","v":0},0,0,0,0,0,0,0,0]
[null,null,null,null,null,null,null,null,null,null,null,null,null,null,null,null,null,null,null,null,null,null,null,null,null,null,null,null,null,null,null,null,null,null,null,null,null,null,null,null,null,null,null,{"$f":"IF(A20<>\"\",IFERROR(VLOOKUP(M20,Tabelas!B:D,3,0),0),\"\")","v":""},{"$f":"IF(A20<>\"\",IFERROR(VLOOKUP(N20,Tabelas!B:D,3,0),0),\"\")","v":""},{"$f":"IF(A20<>\"\",IFERROR(VLOOKUP(O20,Tabelas!B:D,3,0),0),\"\")","v":""},{"$f":"IF(A20<>\"\",IFERROR(VLOOKUP(P20,Tabelas!B:D,3,0),0),\"\")","v":""},{"$f":"IF(A20<>\"\",IFERROR(VLOOKUP(Q20,Tabelas!B:D,3,0),0),\"\")","v":""},{"$f":"IF(A20<>\"\",IFERROR(VLOOKUP(R20,Tabelas!B:D,3,0),0),\"\")","v":""},{"$f":"IF(A20<>\"\",IFERROR(VLOOKUP(S20,Tabelas!B:D,3,0),0),\"\")","v":""},{"$f":"IF(A20<>\"\",IFERROR(VLOOKUP(T20,Tabelas!B:D,3,0),0),\"\")","v":""},{"$f":"IF(A20<>\"\",IFERROR(VLOOKUP(U20,Tabelas!B:D,3,0),0),\"\")","v":""},{"$f":"IF(A20<>\"\",IFERROR(VLOOKUP(V20,Tabelas!B:D,3,0),0),\"\")","v":""},{"$f":"IF(A20<>\"\",IFERROR(VLOOKUP(W20,Tabelas!B:D,3,0),0),\"\")","v":""},{"$f":"IF(A20<>\"\",IFERROR(VLOOKUP(X20,Tabelas!B:D,3,0),0),\"\")","v":""},{"$f":"IF(A20<>\"\",IFERROR(VLOOKUP(Y20,Tabelas!B:D,3,0),0),\"\")","v":""},{"$f":"IF(A20<>\"\",IFERROR(VLOOKUP(Z20,Tabelas!B:D,3,0),0),\"\")","v":""},{"$f":"IF(A20<>\"\",IFERROR(VLOOKUP(AA20,Tabelas!B:D,3,0),0),\"\")","v":""},{"$f":"IF(A20<>\"\",IFERROR(VLOOKUP(AB20,Tabelas!B:D,3,0),0),\"\")","v":""},{"$f":"IF(A20<>\"\",IFERROR(VLOOKUP(AC20,Tabelas!B:D,3,0),0),\"\")","v":""},{"$f":"IF(A20<>\"\",IFERROR(VLOOKUP(AD20,Tabelas!B:D,3,0),0),\"\")","v":""},{"$f":"IF(A20<>\"\",IFERROR(VLOOKUP(AE20,Tabelas!B:D,3,0),0),\"\")","v":""},{"$f":"IF(A20<>\"\",IFERROR(VLOOKUP(AF20,Tabelas!B:D,3,0),0),\"\")","v":""},{"$f":"IF(A20<>\"\",IFERROR(VLOOKUP(AG20,Tabelas!B:D,3,0),0),\"\")","v":""},{"$f":"IF(A20<>\"\",IFERROR(VLOOKUP(AH20,Tabelas!B:D,3,0),0),\"\")","v":""},{"$f":"IF(A20<>\"\",IFERROR(VLOOKUP(AI20,Tabelas!B:D,3,0),0),\"\")","v":""},{"$f":"IF(A20<>\"\",IFERROR(VLOOKUP(AJ20,Tabelas!B:D,3,0),0),\"\")","v":""},{"$f":"IF(A20<>\"\",IFERROR(VLOOKUP(AK20,Tabelas!B:D,3,0),0),\"\")","v":""},{"$f":"IF(A20<>\"\",IFERROR(VLOOKUP(AL20,Tabelas!B:D,3,0),0),\"\")","v":""},{"$f":"IF(A20<>\"\",IFERROR(VLOOKUP(AM20,Tabelas!B:D,3,0),0),\"\")","v":""},{"$f":"IF(A20<>\"\",IFERROR(VLOOKUP(AN20,Tabelas!B:D,3,0),0),\"\")","v":""},{"$f":"IF(A20<>\"\",IFERROR(VLOOKUP(AO20,Tabelas!B:D,3,0),0),\"\")","v":""},{"$f":"IF(A20<>\"\",IFERROR(VLOOKUP(AP20,Tabelas!B:D,3,0),0),\"\")","v":""},{"$f":"IF(A20<>\"\",IFERROR(VLOOKUP(AQ20,Tabelas!B:D,3,0),0),\"\")","v":""},"","","","","","","",""]
["Adriana Graziela Severo",null,null,null,null,null,null,null,null,null,null,null,null,null,null,null,null,null,null,null,null,null,null,null,null,null,null,null,null,null,null,null,null,null,null,null,null,null,null,null,null,null,null,{"$f":"IF(A21<>\"\",IFERROR(VLOOKUP(M21,Tabelas!B:D,3,0),0),\"\")","v":0},{"$f":"IF(A21<>\"\",IFERROR(VLOOKUP(N21,Tabelas!B:D,3,0),0),\"\")","v":0},{"$f":"IF(A21<>\"\",IFERROR(VLOOKUP(O21,Tabelas!B:D,3,0),0),\"\")","v":0},{"$f":"IF(A21<>\"\",IFERROR(VLOOKUP(P21,Tabelas!B:D,3,0),0),\"\")","v":0},{"$f":"IF(A21<>\"\",IFERROR(VLOOKUP(Q21,Tabelas!B:D,3,0),0),\"\")","v":0},{"$f":"IF(A21<>\"\",IFERROR(VLOOKUP(R21,Tabelas!B:D,3,0),0),\"\")","v":0},{"$f":"IF(A21<>\"\",IFERROR(VLOOKUP(S21,Tabelas!B:D,3,0),0),\"\")","v":0},{"$f":"IF(A21<>\"\",IFERROR(VLOOKUP(T21,Tabelas!B:D,3,0),0),\"\")","v":0},{"$f":"IF(A21<>\"\",IFERROR(VLOOKUP(U21,Tabelas!B:D,3,0),0),\"\")","v":0},{"$f":"IF(A21<>\"\",IFERROR(VLOOKUP(V21,Tabelas!B:D,3,0),0),\"\")","v":0},{"$f":"IF(A21<>\"\",IFERROR(VLOOKUP(W21,Tabelas!B:D,3,0),0),\"\")","v":0},{"$f":"IF(A21<>\"\",IFERROR(VLOOKUP(X21,Tabelas!B:D,3,0),0),\"\")","v":0},{"$f":"IF(A21<>\"\",IFERROR(VLOOKUP(Y21,Tabelas!B:D,3,0),0),\"\")","v":0},{"$f":"IF(A21<>\"\",IFERROR(VLOOKUP(Z21,Tabelas!B:D,3,0),0),\"\")","v":0},{"$f":"IF(A21<>\"\",IFERROR(VLOOKUP(AA21,Tabelas!B:D,3,0),0),\"\")","v":0},{"$f":"IF(A21<>\"\",IFERROR(VLOOKUP(AB21,Tabelas!B:D,3,0),0),\"\")","v":0},{"$f":"IF(A21<>\"\",IFERROR(VLOOKUP(AC21,Tabelas!B:D,3,0),0),\"\")","v":0},{"$f":"IF(A21<>\"\",IFERROR(VLOOKUP(AD21,Tabelas!B:D,3,0),0),\"\")","v":0},{"$f":"IF(A21<>\"\",IFERROR(VLOOKUP(AE21,Tabelas!B:D,3,0),0),\"\")","v":0},{"$f":"IF(A21<>\"\",IFERROR(VLOOKUP(AF21,Tabelas!B:D,3,0),0),\"\")","v":0},{"$f":"IF(A21<>\"\",IFERROR(VLOOKUP(AG21,Tabelas!B:D,3,0),0),\"\")","v":0},{"$f":"IF(A21<>\"\",IFERROR(VLOOKUP(AH21,Tabelas!B:D,3,0),0),\"\")","v":0},{"$f":"IF(A21<>\"\",IFERROR(VLOOKUP(AI21,Tabelas!B:D,3,0),0),\"\")","v":0},{"$f":"IF(A21<>\"\",IFERROR(VLOOKUP(AJ21,Tabelas!B:D,3,0),0),\"\")","v":0},{"$f":"IF(A21<>\"\",IFERROR(VLOOKUP(AK21,Tabelas!B:D,3,0),0),\"\")","v":0},{"$f":"IF(A21<>\"\",IFERROR(VLOOKUP(AL21,Tabelas!B:D,3,0),0),\"\")","v":0},{"$f":"IF(A21<>\"\",IFERROR(VLOOKUP(AM21,Tabelas!B:D,3,0),0),\"\")","v":0},{"$f":"IF(A21<>\"\",IFERROR(VLOOKUP(AN21,Tabelas!B:D,3,0),0),\"\")","v":0},{"$f":"IF(A21<>\"\",IFERROR(VLOOKUP(AO21,Tabelas!B:D,3,0),0),\"\")","v":0},{"$f":"IF(A21<>\"\",IFERROR(VLOOKUP(AP21,Tabelas!B:D,3,0),0),\"\")","v":0},{"$f":"IF(A21<>\"\",IFERROR(VLOOKUP(AQ21,Tabelas!B:D,3,0),0),\"\")","v":0},0,0,0,0,0,0,0,0]
["Débora de Medeiros",null,null,null,null,null,null,null,null,null,null,null,null,null,null,null,null,null,null,null,null,null,null,null,null,null,null,null,null,null,null,null,null,null,null,null,null,null,null,null,null,null,null,{"$f":"IF(A22<>\"\",IFERROR(VLOOKUP(M22,Tabelas!B:D,3,0),0),\"\")","v":0},{"$f":"IF(A22<>\"\",IFERROR(VLOOKUP(N22,Tabelas!B:D,3,0),0),\"\")","v":0},{"$f":"IF(A22<>\"\",IFERROR(VLOOKUP(O22,Tabelas!B:D,3,0),0),\"\")","v":0},{"$f":"IF(A22<>\"\",IFERROR(VLOOKUP(P22,Tabelas!B:D,3,0),0),\"\")","v":0},{"$f":"IF(A22<>\"\",IFERROR(VLOOKUP(Q22,Tabelas!B:D,3,0),0),\"\")","v":0},{"$f":"IF(A22<>\"\",IFERROR(VLOOKUP(R22,Tabelas!B:D,3,0),0),\"\")","v":0},{"$f":"IF(A22<>\"\",IFERROR(VLOOKUP(S22,Tabelas!B:D,3,0),0),\"\")","v":0},{"$f":"IF(A22<>\"\",IFERROR(VLOOKUP(T22,Tabelas!B:D,3,0),0),\"\")","v":0},{"$f":"IF(A22<>\"\",IFERROR(VLOOKUP(U22,Tabelas!B:D,3,0),0),\"\")","v":0},{"$f":"IF(A22<>\"\",IFERROR(VLOOKUP(V22,Tabelas!B:D,3,0),0),\"\")","v":0},{"$f":"IF(A22<>\"\",IFERROR(VLOOKUP(W22,Tabelas!B:D,3,0),0),\"\")","v":0},{"$f":"IF(A22<>\"\",IFERROR(VLOOKUP(X22,Tabelas!B:D,3,0),0),\"\")","v":0},{"$f":"IF(A22<>\"\",IFERROR(VLOOKUP(Y22,Tabelas!B:D,3,0),0),\"\")","v":0},{"$f":"IF(A22<>\"\",IFERROR(VLOOKUP(Z22,Tabelas!B:D,3,0),0),\"\")","v":0},{"$f":"IF(A22<>\"\",IFERROR(VLOOKUP(AA22,Tabelas!B:D,3,0),0),\"\")","v":0},{"$f":"IF(A22<>\"\",IFERROR(VLOOKUP(AB22,Tabelas!B:D,3,0),0),\"\")","v":0},{"$f":"IF(A22<>\"\",IFERROR(VLOOKUP(AC22,Tabelas!B:D,3,0),0),\"\")","v":0},{"$f":"IF(A22<>\"\",IFERROR(VLOOKUP(AD22,Tabelas!B:D,3,0),0),\"\")","v":0},{"$f":"IF(A22<>\"\",IFERROR(VLOOKUP(AE22,Tabelas!B:D,3,0),0),\"\")","v":0},{"$f":"IF(A22<>\"\",IFERROR(VLOOKUP(AF22,Tabelas!B:D,3,0),0),\"\")","v":0},{"$f":"IF(A22<>\"\",IFERROR(VLOOKUP(AG22,Tabelas!B:D,3,0),0),\"\")","v":0},{"$f":"IF(A22<>\"\",IFERROR(VLOOKUP(AH22,Tabelas!B:D,3,0),0),\"\")","v":0},{"$f":"IF(A22<>\"\",IFERROR(VLOOKUP(AI22,Tabelas!B:D,3,0),0),\"\")","v":0},{"$f":"IF(A22<>\"\",IFERROR(VLOOKUP(AJ22,Tabelas!B:D,3,0),0),\"\")","v":0},{"$f":"IF(A22<>\"\",IFERROR(VLOOKUP(AK22,Tabelas!B:D,3,0),0),\"\")","v":0},{"$f":"IF(A22<>\"\",IFERROR(VLOOKUP(AL22,Tabelas!B:D,3,0),0),\"\")","v":0},{"$f":"IF(A22<>\"\",IFERROR(VLOOKUP(AM22,Tabelas!B:D,3,0),0),\"\")","v":0},{"$f":"IF(A22<>\"\",IFERROR(VLOOKUP(AN22,Tabelas!B:D,3,0),0),\"\")","v":0},{"$f":"IF(A22<>\"\",IFERROR(VLOOKUP(AO22,Tabelas!B:D,3,0),0),\"\")","v":0},{"$f":"IF(A22<>\"\",IFERROR(VLOOKUP(AP22,Tabelas!B:D,3,0),0),\"\")","v":0},{"$f":"IF(A22<>\"\",IFERROR(VLOOKUP(AQ22,Tabelas!B:D,3,0),0),\"\")","v":0},0,0,0,0,0,0,0,0]
["Aline Vasconcelos Brasil",1068101,null,null,null,null,null,null,null,null,null,null,null,null,null,null,null,null,null,null,null,null,null,null,null,null,null,null,null,null,null,null,null,null,null,null,null,null,null,null,null,null,null,{"$f":"IF(A23<>\"\",IFERROR(VLOOKUP(M23,Tabelas!B:D,3,0),0),\"\")","v":0},{"$f":"IF(A23<>\"\",IFERROR(VLOOKUP(N23,Tabelas!B:D,3,0),0),\"\")","v":0},{"$f":"IF(A23<>\"\",IFERROR(VLOOKUP(O23,Tabelas!B:D,3,0),0),\"\")","v":0},{"$f":"IF(A23<>\"\",IFERROR(VLOOKUP(P23,Tabelas!B:D,3,0),0),\"\")","v":0},{"$f":"IF(A23<>\"\",IFERROR(VLOOKUP(Q23,Tabelas!B:D,3,0),0),\"\")","v":0},{"$f":"IF(A23<>\"\",IFERROR(VLOOKUP(R23,Tabelas!B:D,3,0),0),\"\")","v":0},{"$f":"IF(A23<>\"\",IFERROR(VLOOKUP(S23,Tabelas!B:D,3,0),0),\"\")","v":0},{"$f":"IF(A23<>\"\",IFERROR(VLOOKUP(T23,Tabelas!B:D,3,0),0),\"\")","v":0},{"$f":"IF(A23<>\"\",IFERROR(VLOOKUP(U23,Tabelas!B:D,3,0),0),\"\")","v":0},{"$f":"IF(A23<>\"\",IFERROR(VLOOKUP(V23,Tabelas!B:D,3,0),0),\"\")","v":0},{"$f":"IF(A23<>\"\",IFERROR(VLOOKUP(W23,Tabelas!B:D,3,0),0),\"\")","v":0},{"$f":"IF(A23<>\"\",IFERROR(VLOOKUP(X23,Tabelas!B:D,3,0),0),\"\")","v":0},{"$f":"IF(A23<>\"\",IFERROR(VLOOKUP(Y23,Tabelas!B:D,3,0),0),\"\")","v":0},{"$f":"IF(A23<>\"\",IFERROR(VLOOKUP(Z23,Tabelas!B:D,3,0),0),\"\")","v":0},{"$f":"IF(A23<>\"\",IFERROR(VLOOKUP(AA23,Tabelas!B:D,3,0),0),\"\")","v":0},{"$f":"IF(A23<>\"\",IFERROR(VLOOKUP(AB23,Tabelas!B:D,3,0),0),\"\")","v":0},{"$f":"IF(A23<>\"\",IFERROR(VLOOKUP(AC23,Tabelas!B:D,3,0),0),\"\")","v":0},{"$f":"IF(A23<>\"\",IFERROR(VLOOKUP(AD23,Tabelas!B:D,3,0),0),\"\")","v":0},{"$f":"IF(A23<>\"\",IFERROR(VLOOKUP(AE23,Tabelas!B:D,3,0),0),\"\")","v":0},{"$f":"IF(A23<>\"\",IFERROR(VLOOKUP(AF23,Tabelas!B:D,3,0),0),\"\")","v":0},{"$f":"IF(A23<>\"\",IFERROR(VLOOKUP(AG23,Tabelas!B:D,3,0),0),\"\")","v":0},{"$f":"IF(A23<>\"\",IFERROR(VLOOKUP(AH23,Tabelas!B:D,3,0),0),\"\")","v":0},{"$f":"IF(A23<>\"\",IFERROR(VLOOKUP(AI23,Tabelas!B:D,3,0),0),\"\")","v":0},{"$f":"IF(A23<>\"\",IFERROR(VLOOKUP(AJ23,Tabelas!B:D,3,0),0),\"\")","v":0},{"$f":"IF(A23<>\"\",IFERROR(VLOOKUP(AK23,Tabelas!B:D,3,0),0),\"\")","v":0},{"$f":"IF(A23<>\"\",IFERROR(VLOOKUP(AL23,Tabelas!B:D,3,0),0),\"\")","v":0},{"$f":"IF(A23<>\"\",IFERROR(VLOOKUP(AM23,Tabelas!B:D,3,0),0),\"\")","v":0},{"$f":"IF(A23<>\"\",IFERROR(VLOOKUP(AN23,Tabelas!B:D,3,0),0),\"\")","v":0},{"$f":"IF(A23<>\"\",IFERROR(VLOOKUP(AO23,Tabelas!B:D,3,0),0),\"\")","v":0},{"$f":"IF(A23<>\"\",IFERROR(VLOOKUP(AP23,Tabelas!B:D,3,0),0),\"\")","v":0},{"$f":"IF(A23<>\"\",IFERROR(VLOOKUP(AQ23,Tabelas!B:D,3,0),0),\"\")","v":0},0,0,0,0,0,0,0,0]
["Ariane Silva dos Santos Ludvig",null,null,null,null,null,null,null,null,null,null,null,null,null,null,null,null,null,null,null,null,null,null,null,null,null,null,null,null,null,null,null,null,null,null,null,null,null,null,null,null,null,null,{"$f":"IF(A24<>\"\",IFERROR(VLOOKUP(M24,Tabelas!B:D,3,0),0),\"\")","v":0},{"$f":"IF(A24<>\"\",IFERROR(VLOOKUP(N24,Tabelas!B:D,3,0),0),\"\")","v":0},{"$f":"IF(A24<>\"\",IFERROR(VLOOKUP(O24,Tabelas!B:D,3,0),0),\"\")","v":0},{"$f":"IF(A24<>\"\",IFERROR(VLOOKUP(P24,Tabelas!B:D,3,0),0),\"\")","v":0},{"$f":"IF(A24<>\"\",IFERROR(VLOOKUP(Q24,Tabelas!B:D,3,0),0),\"\")","v":0},{"$f":"IF(A24<>\"\",IFERROR(VLOOKUP(R24,Tabelas!B:D,3,0),0),\"\")","v":0},{"$f":"IF(A24<>\"\",IFERROR(VLOOKUP(S24,Tabelas!B:D,3,0),0),\"\")","v":0},{"$f":"IF(A24<>\"\",IFERROR(VLOOKUP(T24,Tabelas!B:D,3,0),0),\"\")","v":0},{"$f":"IF(A24<>\"\",IFERROR(VLOOKUP(U24,Tabelas!B:D,3,0),0),\"\")","v":0},{"$f":"IF(A24<>\"\",IFERROR(VLOOKUP(V24,Tabelas!B:D,3,0),0),\"\")","v":0},{"$f":"IF(A24<>\"\",IFERROR(VLOOKUP(W24,Tabelas!B:D,3,0),0),\"\")","v":0},{"$f":"IF(A24<>\"\",IFERROR(VLOOKUP(X24,Tabelas!B:D,3,0),0),\"\")","v":0},{"$f":"IF(A24<>\"\",IFERROR(VLOOKUP(Y24,Tabelas!B:D,3,0),0),\"\")","v":0},{"$f":"IF(A24<>\"\",IFERROR(VLOOKUP(Z24,Tabelas!B:D,3,0),0),\"\")","v":0},{"$f":"IF(A24<>\"\",IFERROR(VLOOKUP(AA24,Tabelas!B:D,3,0),0),\"\")","v":0},{"$f":"IF(A24<>\"\",IFERROR(VLOOKUP(AB24,Tabelas!B:D,3,0),0),\"\")","v":0},{"$f":"IF(A24<>\"\",IFERROR(VLOOKUP(AC24,Tabelas!B:D,3,0),0),\"\")","v":0},{"$f":"IF(A24<>\"\",IFERROR(VLOOKUP(AD24,Tabelas!B:D,3,0),0),\"\")","v":0},{"$f":"IF(A24<>\"\",IFERROR(VLOOKUP(AE24,Tabelas!B:D,3,0),0),\"\")","v":0},{"$f":"IF(A24<>\"\",IFERROR(VLOOKUP(AF24,Tabelas!B:D,3,0),0),\"\")","v":0},{"$f":"IF(A24<>\"\",IFERROR(VLOOKUP(AG24,Tabelas!B:D,3,0),0),\"\")","v":0},{"$f":"IF(A24<>\"\",IFERROR(VLOOKUP(AH24,Tabelas!B:D,3,0),0),\"\")","v":0},{"$f":"IF(A24<>\"\",IFERROR(VLOOKUP(AI24,Tabelas!B:D,3,0),0),\"\")","v":0},{"$f":"IF(A24<>\"\",IFERROR(VLOOKUP(AJ24,Tabelas!B:D,3,0),0),\"\")","v":0},{"$f":"IF(A24<>\"\",IFERROR(VLOOKUP(AK24,Tabelas!B:D,3,0),0),\"\")","v":0},{"$f":"IF(A24<>\"\",IFERROR(VLOOKUP(AL24,Tabelas!B:D,3,0),0),\"\")","v":0},{"$f":"IF(A24<>\"\",IFERROR(VLOOKUP(AM24,Tabelas!B:D,3,0),0),\"\")","v":0},{"$f":"IF(A24<>\"\",IFERROR(VLOOKUP(AN24,Tabelas!B:D,3,0),0),\"\")","v":0},{"$f":"IF(A24<>\"\",IFERROR(VLOOKUP(AO24,Tabelas!B:D,3,0),0),\"\")","v":0},{"$f":"IF(A24<>\"\",IFERROR(VLOOKUP(AP24,Tabelas!B:D,3,0),0),\"\")","v":0},{"$f":"IF(A24<>\"\",IFERROR(VLOOKUP(AQ24,Tabelas!B:D,3,0),0),\"\")","v":0},0,0,0,0,0,0,0,0]
["Cirley Silva",3192572,null,null,null,null,null,null,null,null,null,null,null,null,null,null,null,null,null,null,null,null,null,null,null,null,null,null,null,null,null,null,null,null,null,null,null,null,null,null,null,null,null,{"$f":"IF(A25<>\"\",IFERROR(VLOOKUP(M25,Tabelas!B:D,3,0),0),\"\")","v":0},{"$f":"IF(A25<>\"\",IFERROR(VLOOKUP(N25,Tabelas!B:D,3,0),0),\"\")","v":0},{"$f":"IF(A25<>\"\",IFERROR(VLOOKUP(O25,Tabelas!B:D,3,0),0),\"\")","v":0},{"$f":"IF(A25<>\"\",IFERROR(VLOOKUP(P25,Tabelas!B:D,3,0),0),\"\")","v":0},{"$f":"IF(A25<>\"\",IFERROR(VLOOKUP(Q25,Tabelas!B:D,3,0),0),\"\")","v":0},{"$f":"IF(A25<>\"\",IFERROR(VLOOKUP(R25,Tabelas!B:D,3,0),0),\"\")","v":0},{"$f":"IF(A25<>\"\",IFERROR(VLOOKUP(S25,Tabelas!B:D,3,0),0),\"\")","v":0},{"$f":"IF(A25<>\"\",IFERROR(VLOOKUP(T25,Tabelas!B:D,3,0),0),\"\")","v":0},{"$f":"IF(A25<>\"\",IFERROR(VLOOKUP(U25,Tabelas!B:D,3,0),0),\"\")","v":0},{"$f":"IF(A25<>\"\",IFERROR(VLOOKUP(V25,Tabelas!B:D,3,0),0),\"\")","v":0},{"$f":"IF(A25<>\"\",IFERROR(VLOOKUP(W25,Tabelas!B:D,3,0),0),\"\")","v":0},{"$f":"IF(A25<>\"\",IFERROR(VLOOKUP(X25,Tabelas!B:D,3,0),0),\"\")","v":0},{"$f":"IF(A25<>\"\",IFERROR(VLOOKUP(Y25,Tabelas!B:D,3,0),0),\"\")","v":0},{"$f":"IF(A25<>\"\",IFERROR(VLOOKUP(Z25,Tabelas!B:D,3,0),0),\"\")","v":0},{"$f":"IF(A25<>\"\",IFERROR(VLOOKUP(AA25,Tabelas!B:D,3,0),0),\"\")","v":0},{"$f":"IF(A25<>\"\",IFERROR(VLOOKUP(AB25,Tabelas!B:D,3,0),0),\"\")","v":0},{"$f":"IF(A25<>\"\",IFERROR(VLOOKUP(AC25,Tabelas!B:D,3,0),0),\"\")","v":0},{"$f":"IF(A25<>\"\",IFERROR(VLOOKUP(AD25,Tabelas!B:D,3,0),0),\"\")","v":0},{"$f":"IF(A25<>\"\",IFERROR(VLOOKUP(AE25,Tabelas!B:D,3,0),0),\"\")","v":0},{"$f":"IF(A25<>\"\",IFERROR(VLOOKUP(AF25,Tabelas!B:D,3,0),0),\"\")","v":0},{"$f":"IF(A25<>\"\",IFERROR(VLOOKUP(AG25,Tabelas!B:D,3,0),0),\"\")","v":0},{"$f":"IF(A25<>\"\",IFERROR(VLOOKUP(AH25,Tabelas!B:D,3,0),0),\"\")","v":0},{"$f":"IF(A25<>\"\",IFERROR(VLOOKUP(AI25,Tabelas!B:D,3,0),0),\"\")","v":0},{"$f":"IF(A25<>\"\",IFERROR(VLOOKUP(AJ25,Tabelas!B:D,3,0),0),\"\")","v":0},{"$f":"IF(A25<>\"\",IFERROR(VLOOKUP(AK25,Tabelas!B:D,3,0),0),\"\")","v":0},{"$f":"IF(A25<>\"\",IFERROR(VLOOKUP(AL25,Tabelas!B:D,3,0),0),\"\")","v":0},{"$f":"IF(A25<>\"\",IFERROR(VLOOKUP(AM25,Tabelas!B:D,3,0),0),\"\")","v":0},{"$f":"IF(A25<>\"\",IFERROR(VLOOKUP(AN25,Tabelas!B:D,3,0),0),\"\")","v":0},{"$f":"IF(A25<>\"\",IFERROR(VLOOKUP(AO25,Tabelas!B:D,3,0),0),\"\")","v":0},{"$f":"IF(A25<>\"\",IFERROR(VLOOKUP(AP25,Tabelas!B:D,3,0),0),\"\")","v":0},{"$f":"IF(A25<>\"\",IFERROR(VLOOKUP(AQ25,Tabelas!B:D,3,0),0),\"\")","v":0},0,0,0,0,0,0,0,0]
["Claudia de Fatima da Silva Vargas",3192708,null,null,null,null,null,null,null,null,null,null,null,null,null,null,null,null,null,null,null,null,null,null,null,null,null,null,null,null,null,null,null,null,null,null,null,null,null,null,null,null,null,{"$f":"IF(A26<>\"\",IFERROR(VLOOKUP(M26,Tabelas!B:D,3,0),0),\"\")","v":0},{"$f":"IF(A26<>\"\",IFERROR(VLOOKUP(N26,Tabelas!B:D,3,0),0),\"\")","v":0},{"$f":"IF(A26<>\"\",IFERROR(VLOOKUP(O26,Tabelas!B:D,3,0),0),\"\")","v":0},{"$f":"IF(A26<>\"\",IFERROR(VLOOKUP(P26,Tabelas!B:D,3,0),0),\"\")","v":0},{"$f":"IF(A26<>\"\",IFERROR(VLOOKUP(Q26,Tabelas!B:D,3,0),0),\"\")","v":0},{"$f":"IF(A26<>\"\",IFERROR(VLOOKUP(R26,Tabelas!B:D,3,0),0),\"\")","v":0},{"$f":"IF(A26<>\"\",IFERROR(VLOOKUP(S26,Tabelas!B:D,3,0),0),\"\")","v":0},{"$f":"IF(A26<>\"\",IFERROR(VLOOKUP(T26,Tabelas!B:D,3,0),0),\"\")","v":0},{"$f":"IF(A26<>\"\",IFERROR(VLOOKUP(U26,Tabelas!B:D,3,0),0),\"\")","v":0},{"$f":"IF(A26<>\"\",IFERROR(VLOOKUP(V26,Tabelas!B:D,3,0),0),\"\")","v":0},{"$f":"IF(A26<>\"\",IFERROR(VLOOKUP(W26,Tabelas!B:D,3,0),0),\"\")","v":0},{"$f":"IF(A26<>\"\",IFERROR(VLOOKUP(X26,Tabelas!B:D,3,0),0),\"\")","v":0},{"$f":"IF(A26<>\"\",IFERROR(VLOOKUP(Y26,Tabelas!B:D,3,0),0),\"\")","v":0},{"$f":"IF(A26<>\"\",IFERROR(VLOOKUP(Z26,Tabelas!B:D,3,0),0),\"\")","v":0},{"$f":"IF(A26<>\"\",IFERROR(VLOOKUP(AA26,Tabelas!B:D,3,0),0),\"\")","v":0},{"$f":"IF(A26<>\"\",IFERROR(VLOOKUP(AB26,Tabelas!B:D,3,0),0),\"\")","v":0},{"$f":"IF(A26<>\"\",IFERROR(VLOOKUP(AC26,Tabelas!B:D,3,0),0),\"\")","v":0},{"$f":"IF(A26<>\"\",IFERROR(VLOOKUP(AD26,Tabelas!B:D,3,0),0),\"\")","v":0},{"$f":"IF(A26<>\"\",IFERROR(VLOOKUP(AE26,Tabelas!B:D,3,0),0),\"\")","v":0},{"$f":"IF(A26<>\"\",IFERROR(VLOOKUP(AF26,Tabelas!B:D,3,0),0),\"\")","v":0},{"$f":"IF(A26<>\"\",IFERROR(VLOOKUP(AG26,Tabelas!B:D,3,0),0),\"\")","v":0},{"$f":"IF(A26<>\"\",IFERROR(VLOOKUP(AH26,Tabelas!B:D,3,0),0),\"\")","v":0},{"$f":"IF(A26<>\"\",IFERROR(VLOOKUP(AI26,Tabelas!B:D,3,0),0),\"\")","v":0},{"$f":"IF(A26<>\"\",IFERROR(VLOOKUP(AJ26,Tabelas!B:D,3,0),0),\"\")","v":0},{"$f":"IF(A26<>\"\",IFERROR(VLOOKUP(AK26,Tabelas!B:D,3,0),0),\"\")","v":0},{"$f":"IF(A26<>\"\",IFERROR(VLOOKUP(AL26,Tabelas!B:D,3,0),0),\"\")","v":0},{"$f":"IF(A26<>\"\",IFERROR(VLOOKUP(AM26,Tabelas!B:D,3,0),0),\"\")","v":0},{"$f":"IF(A26<>\"\",IFERROR(VLOOKUP(AN26,Tabelas!B:D,3,0),0),\"\")","v":0},{"$f":"IF(A26<>\"\",IFERROR(VLOOKUP(AO26,Tabelas!B:D,3,0),0),\"\")","v":0},{"$f":"IF(A26<>\"\",IFERROR(VLOOKUP(AP26,Tabelas!B:D,3,0),0),\"\")","v":0},{"$f":"IF(A26<>\"\",IFERROR(VLOOKUP(AQ26,Tabelas!B:D,3,0),0),\"\")","v":0},0,0,0,0,0,0,0,0]
["Josiane Marilene",null,null,null,null,null,null,null,null,null,null,null,null,null,null,null,null,null,null,null,null,null,null,null,null,null,null,null,null,null,null,null,null,null,null,null,null,null,null,null,null,null,null,{"$f":"IF(A27<>\"\",IFERROR(VLOOKUP(M27,Tabelas!B:D,3,0),0),\"\")","v":0},{"$f":"IF(A27<>\"\",IFERROR(VLOOKUP(N27,Tabelas!B:D,3,0),0),\"\")","v":0},{"$f":"IF(A27<>\"\",IFERROR(VLOOKUP(O27,Tabelas!B:D,3,0),0),\"\")","v":0},{"$f":"IF(A27<>\"\",IFERROR(VLOOKUP(P27,Tabelas!B:D,3,0),0),\"\")","v":0},{"$f":"IF(A27<>\"\",IFERROR(VLOOKUP(Q27,Tabelas!B:D,3,0),0),\"\")","v":0},{"$f":"IF(A27<>\"\",IFERROR(VLOOKUP(R27,Tabelas!B:D,3,0),0),\"\")","v":0},{"$f":"IF(A27<>\"\",IFERROR(VLOOKUP(S27,Tabelas!B:D,3,0),0),\"\")","v":0},{"$f":"IF(A27<>\"\",IFERROR(VLOOKUP(T27,Tabelas!B:D,3,0),0),\"\")","v":0},{"$f":"IF(A27<>\"\",IFERROR(VLOOKUP(U27,Tabelas!B:D,3,0),0),\"\")","v":0},{"$f":"IF(A27<>\"\",IFERROR(VLOOKUP(V27,Tabelas!B:D,3,0),0),\"\")","v":0},{"$f":"IF(A27<>\"\",IFERROR(VLOOKUP(W27,Tabelas!B:D,3,0),0),\"\")","v":0},{"$f":"IF(A27<>\"\",IFERROR(VLOOKUP(X27,Tabelas!B:D,3,0),0),\"\")","v":0},{"$f":"IF(A27<>\"\",IFERROR(VLOOKUP(Y27,Tabelas!B:D,3,0),0),\"\")","v":0},{"$f":"IF(A27<>\"\",IFERROR(VLOOKUP(Z27,Tabelas!B:D,3,0),0),\"\")","v":0},{"$f":"IF(A27<>\"\",IFERROR(VLOOKUP(AA27,Tabelas!B:D,3,0),0),\"\")","v":0},{"$f":"IF(A27<>\"\",IFERROR(VLOOKUP(AB27,Tabelas!B:D,3,0),0),\"\")","v":0},{"$f":"IF(A27<>\"\",IFERROR(VLOOKUP(AC27,Tabelas!B:D,3,0),0),\"\")","v":0},{"$f":"IF(A27<>\"\",IFERROR(VLOOKUP(AD27,Tabelas!B:D,3,0),0),\"\")","v":0},{"$f":"IF(A27<>\"\",IFERROR(VLOOKUP(AE27,Tabelas!B:D,3,0),0),\"\")","v":0},{"$f":"IF(A27<>\"\",IFERROR(VLOOKUP(AF27,Tabelas!B:D,3,0),0),\"\")","v":0},{"$f":"IF(A27<>\"\",IFERROR(VLOOKUP(AG27,Tabelas!B:D,3,0),0),\"\")","v":0},{"$f":"IF(A27<>\"\",IFERROR(VLOOKUP(AH27,Tabelas!B:D,3,0),0),\"\")","v":0},{"$f":"IF(A27<>\"\",IFERROR(VLOOKUP(AI27,Tabelas!B:D,3,0),0),\"\")","v":0},{"$f":"IF(A27<>\"\",IFERROR(VLOOKUP(AJ27,Tabelas!B:D,3,0),0),\"\")","v":0},{"$f":"IF(A27<>\"\",IFERROR(VLOOKUP(AK27,Tabelas!B:D,3,0),0),\"\")","v":0},{"$f":"IF(A27<>\"\",IFERROR(VLOOKUP(AL27,Tabelas!B:D,3,0),0),\"\")","v":0},{"$f":"IF(A27<>\"\",IFERROR(VLOOKUP(AM27,Tabelas!B:D,3,0),0),\"\")","v":0},{"$f":"IF(A27<>\"\",IFERROR(VLOOKUP(AN27,Tabelas!B:D,3,0),0),\"\")","v":0},{"$f":"IF(A27<>\"\",IFERROR(VLOOKUP(AO27,Tabelas!B:D,3,0),0),\"\")","v":0},{"$f":"IF(A27<>\"\",IFERROR(VLOOKUP(AP27,Tabelas!B:D,3,0),0),\"\")","v":0},{"$f":"IF(A27<>\"\",IFERROR(VLOOKUP(AQ27,Tabelas!B:D,3,0),0),\"\")","v":0},0,0,0,0,0,0,0,0]
["Flavia Gomes Luz",3193566,null,null,null,null,null,null,null,null,null,null,null,null,null,null,null,null,null,null,null,null,null,null,null,null,null,null,null,null,null,null,null,null,null,null,null,null,null,null,null,null,null,{"$f":"IF(A28<>\"\",IFERROR(VLOOKUP(M28,Tabelas!B:D,3,0),0),\"\")","v":0},{"$f":"IF(A28<>\"\",IFERROR(VLOOKUP(N28,Tabelas!B:D,3,0),0),\"\")","v":0},{"$f":"IF(A28<>\"\",IFERROR(VLOOKUP(O28,Tabelas!B:D,3,0),0),\"\")","v":0},{"$f":"IF(A28<>\"\",IFERROR(VLOOKUP(P28,Tabelas!B:D,3,0),0),\"\")","v":0},{"$f":"IF(A28<>\"\",IFERROR(VLOOKUP(Q28,Tabelas!B:D,3,0),0),\"\")","v":0},{"$f":"IF(A28<>\"\",IFERROR(VLOOKUP(R28,Tabelas!B:D,3,0),0),\"\")","v":0},{"$f":"IF(A28<>\"\",IFERROR(VLOOKUP(S28,Tabelas!B:D,3,0),0),\"\")","v":0},{"$f":"IF(A28<>\"\",IFERROR(VLOOKUP(T28,Tabelas!B:D,3,0),0),\"\")","v":0},{"$f":"IF(A28<>\"\",IFERROR(VLOOKUP(U28,Tabelas!B:D,3,0),0),\"\")","v":0},{"$f":"IF(A28<>\"\",IFERROR(VLOOKUP(V28,Tabelas!B:D,3,0),0),\"\")","v":0},{"$f":"IF(A28<>\"\",IFERROR(VLOOKUP(W28,Tabelas!B:D,3,0),0),\"\")","v":0},{"$f":"IF(A28<>\"\",IFERROR(VLOOKUP(X28,Tabelas!B:D,3,0),0),\"\")","v":0},{"$f":"IF(A28<>\"\",IFERROR(VLOOKUP(Y28,Tabelas!B:D,3,0),0),\"\")","v":0},{"$f":"IF(A28<>\"\",IFERROR(VLOOKUP(Z28,Tabelas!B:D,3,0),0),\"\")","v":0},{"$f":"IF(A28<>\"\",IFERROR(VLOOKUP(AA28,Tabelas!B:D,3,0),0),\"\")","v":0},{"$f":"IF(A28<>\"\",IFERROR(VLOOKUP(AB28,Tabelas!B:D,3,0),0),\"\")","v":0},{"$f":"IF(A28<>\"\",IFERROR(VLOOKUP(AC28,Tabelas!B:D,3,0),0),\"\")","v":0},{"$f":"IF(A28<>\"\",IFERROR(VLOOKUP(AD28,Tabelas!B:D,3,0),0),\"\")","v":0},{"$f":"IF(A28<>\"\",IFERROR(VLOOKUP(AE28,Tabelas!B:D,3,0),0),\"\")","v":0},{"$f":"IF(A28<>\"\",IFERROR(VLOOKUP(AF28,Tabelas!B:D,3,0),0),\"\")","v":0},{"$f":"IF(A28<>\"\",IFERROR(VLOOKUP(AG28,Tabelas!B:D,3,0),0),\"\")","v":0},{"$f":"IF(A28<>\"\",IFERROR(VLOOKUP(AH28,Tabelas!B:D,3,0),0),\"\")","v":0},{"$f":"IF(A28<>\"\",IFERROR(VLOOKUP(AI28,Tabelas!B:D,3,0),0),\"\")","v":0},{"$f":"IF(A28<>\"\",IFERROR(VLOOKUP(AJ28,Tabelas!B:D,3,0),0),\"\")","v":0},{"$f":"IF(A28<>\"\",IFERROR(VLOOKUP(AK28,Tabelas!B:D,3,0),0),\"\")","v":0},{"$f":"IF(A28<>\"\",IFERROR(VLOOKUP(AL28,Tabelas!B:D,3,0),0),\"\")","v":0},{"$f":"IF(A28<>\"\",IFERROR(VLOOKUP(AM28,Tabelas!B:D,3,0),0),\"\")","v":0},{"$f":"IF(A28<>\"\",IFERROR(VLOOKUP(AN28,Tabelas!B:D,3,0),0),\"\")","v":0},{"$f":"IF(A28<>\"\",IFERROR(VLOOKUP(AO28,Tabelas!B:D,3,0),0),\"\")","v":0},{"$f":"IF(A28<>\"\",IFERROR(VLOOKUP(AP28,Tabelas!B:D,3,0),0),\"\")","v":0},{"$f":"IF(A28<>\"\",IFERROR(VLOOKUP(AQ28,Tabelas!B:D,3,0),0),\"\")","v":0},0,0,0,0,0,0,0,0]
["Maraisa Aparecida",null,null,null,null,null,null,null,null,null,null,null,null,null,null,null,null,null,null,null,null,null,null,null,null,null,null,null,null,null,null,null,null,null,null,null,null,null,null,null,null,null,null,{"$f":"IF(A29<>\"\",IFERROR(VLOOKUP(M29,Tabelas!B:D,3,0),0),\"\")","v":0},{"$f":"IF(A29<>\"\",IFERROR(VLOOKUP(N29,Tabelas!B:D,3,0),0),\"\")","v":0},{"$f":"IF(A29<>\"\",IFERROR(VLOOKUP(O29,Tabelas!B:D,3,0),0),\"\")","v":0},{"$f":"IF(A29<>\"\",IFERROR(VLOOKUP(P29,Tabelas!B:D,3,0),0),\"\")","v":0},{"$f":"IF(A29<>\"\",IFERROR(VLOOKUP(Q29,Tabelas!B:D,3,0),0),\"\")","v":0},{"$f":"IF(A29<>\"\",IFERROR(VLOOKUP(R29,Tabelas!B:D,3,0),0),\"\")","v":0},{"$f":"IF(A29<>\"\",IFERROR(VLOOKUP(S29,Tabelas!B:D,3,0),0),\"\")","v":0},{"$f":"IF(A29<>\"\",IFERROR(VLOOKUP(T29,Tabelas!B:D,3,0),0),\"\")","v":0},{"$f":"IF(A29<>\"\",IFERROR(VLOOKUP(U29,Tabelas!B:D,3,0),0),\"\")","v":0},{"$f":"IF(A29<>\"\",IFERROR(VLOOKUP(V29,Tabelas!B:D,3,0),0),\"\")","v":0},{"$f":"IF(A29<>\"\",IFERROR(VLOOKUP(W29,Tabelas!B:D,3,0),0),\"\")","v":0},{"$f":"IF(A29<>\"\",IFERROR(VLOOKUP(X29,Tabelas!B:D,3,0),0),\"\")","v":0},{"$f":"IF(A29<>\"\",IFERROR(VLOOKUP(Y29,Tabelas!B:D,3,0),0),\"\")","v":0},{"$f":"IF(A29<>\"\",IFERROR(VLOOKUP(Z29,Tabelas!B:D,3,0),0),\"\")","v":0},{"$f":"IF(A29<>\"\",IFERROR(VLOOKUP(AA29,Tabelas!B:D,3,0),0),\"\")","v":0},{"$f":"IF(A29<>\"\",IFERROR(VLOOKUP(AB29,Tabelas!B:D,3,0),0),\"\")","v":0},{"$f":"IF(A29<>\"\",IFERROR(VLOOKUP(AC29,Tabelas!B:D,3,0),0),\"\")","v":0},{"$f":"IF(A29<>\"\",IFERROR(VLOOKUP(AD29,Tabelas!B:D,3,0),0),\"\")","v":0},{"$f":"IF(A29<>\"\",IFERROR(VLOOKUP(AE29,Tabelas!B:D,3,0),0),\"\")","v":0},{"$f":"IF(A29<>\"\",IFERROR(VLOOKUP(AF29,Tabelas!B:D,3,0),0),\"\")","v":0},{"$f":"IF(A29<>\"\",IFERROR(VLOOKUP(AG29,Tabelas!B:D,3,0),0),\"\")","v":0},{"$f":"IF(A29<>\"\",IFERROR(VLOOKUP(AH29,Tabelas!B:D,3,0),0),\"\")","v":0},{"$f":"IF(A29<>\"\",IFERROR(VLOOKUP(AI29,Tabelas!B:D,3,0),0),\"\")","v":0},{"$f":"IF(A29<>\"\",IFERROR(VLOOKUP(AJ29,Tabelas!B:D,3,0),0),\"\")","v":0},{"$f":"IF(A29<>\"\",IFERROR(VLOOKUP(AK29,Tabelas!B:D,3,0),0),\"\")","v":0},{"$f":"IF(A29<>\"\",IFERROR(VLOOKUP(AL29,Tabelas!B:D,3,0),0),\"\")","v":0},{"$f":"IF(A29<>\"\",IFERROR(VLOOKUP(AM29,Tabelas!B:D,3,0),0),\"\")","v":0},{"$f":"IF(A29<>\"\",IFERROR(VLOOKUP(AN29,Tabelas!B:D,3,0),0),\"\")","v":0},{"$f":"IF(A29<>\"\",IFERROR(VLOOKUP(AO29,Tabelas!B:D,3,0),0),\"\")","v":0},{"$f":"IF(A29<>\"\",IFERROR(VLOOKUP(AP29,Tabelas!B:D,3,0),0),\"\")","v":0},{"$f":"IF(A29<>\"\",IFERROR(VLOOKUP(AQ29,Tabelas!B:D,3,0),0),\"\")","v":0},0,0,0,0,0,0,0,0]
["Lusardo Lopes Peres",3192592,null,null,null,null,null,null,null,null,null,null,null,null,null,null,null,null,null,null,null,null,null,null,null,null,null,null,null,null,null,null,null,null,null,null,null,null,null,null,null,null,null,{"$f":"IF(A30<>\"\",IFERROR(VLOOKUP(M30,Tabelas!B:D,3,0),0),\"\")","v":0},{"$f":"IF(A30<>\"\",IFERROR(VLOOKUP(N30,Tabelas!B:D,3,0),0),\"\")","v":0},{"$f":"IF(A30<>\"\",IFERROR(VLOOKUP(O30,Tabelas!B:D,3,0),0),\"\")","v":0},{"$f":"IF(A30<>\"\",IFERROR(VLOOKUP(P30,Tabelas!B:D,3,0),0),\"\")","v":0},{"$f":"IF(A30<>\"\",IFERROR(VLOOKUP(Q30,Tabelas!B:D,3,0),0),\"\")","v":0},{"$f":"IF(A30<>\"\",IFERROR(VLOOKUP(R30,Tabelas!B:D,3,0),0),\"\")","v":0},{"$f":"IF(A30<>\"\",IFERROR(VLOOKUP(S30,Tabelas!B:D,3,0),0),\"\")","v":0},{"$f":"IF(A30<>\"\",IFERROR(VLOOKUP(T30,Tabelas!B:D,3,0),0),\"\")","v":0},{"$f":"IF(A30<>\"\",IFERROR(VLOOKUP(U30,Tabelas!B:D,3,0),0),\"\")","v":0},{"$f":"IF(A30<>\"\",IFERROR(VLOOKUP(V30,Tabelas!B:D,3,0),0),\"\")","v":0},{"$f":"IF(A30<>\"\",IFERROR(VLOOKUP(W30,Tabelas!B:D,3,0),0),\"\")","v":0},{"$f":"IF(A30<>\"\",IFERROR(VLOOKUP(X30,Tabelas!B:D,3,0),0),\"\")","v":0},{"$f":"IF(A30<>\"\",IFERROR(VLOOKUP(Y30,Tabelas!B:D,3,0),0),\"\")","v":0},{"$f":"IF(A30<>\"\",IFERROR(VLOOKUP(Z30,Tabelas!B:D,3,0),0),\"\")","v":0},{"$f":"IF(A30<>\"\",IFERROR(VLOOKUP(AA30,Tabelas!B:D,3,0),0),\"\")","v":0},{"$f":"IF(A30<>\"\",IFERROR(VLOOKUP(AB30,Tabelas!B:D,3,0),0),\"\")","v":0},{"$f":"IF(A30<>\"\",IFERROR(VLOOKUP(AC30,Tabelas!B:D,3,0),0),\"\")","v":0},{"$f":"IF(A30<>\"\",IFERROR(VLOOKUP(AD30,Tabelas!B:D,3,0),0),\"\")","v":0},{"$f":"IF(A30<>\"\",IFERROR(VLOOKUP(AE30,Tabelas!B:D,3,0),0),\"\")","v":0},{"$f":"IF(A30<>\"\",IFERROR(VLOOKUP(AF30,Tabelas!B:D,3,0),0),\"\")","v":0},{"$f":"IF(A30<>\"\",IFERROR(VLOOKUP(AG30,Tabelas!B:D,3,0),0),\"\")","v":0},{"$f":"IF(A30<>\"\",IFERROR(VLOOKUP(AH30,Tabelas!B:D,3,0),0),\"\")","v":0},{"$f":"IF(A30<>\"\",IFERROR(VLOOKUP(AI30,Tabelas!B:D,3,0),0),\"\")","v":0},{"$f":"IF(A30<>\"\",IFERROR(VLOOKUP(AJ30,Tabelas!B:D,3,0),0),\"\")","v":0},{"$f":"IF(A30<>\"\",IFERROR(VLOOKUP(AK30,Tabelas!B:D,3,0),0),\"\")","v":0},{"$f":"IF(A30<>\"\",IFERROR(VLOOKUP(AL30,Tabelas!B:D,3,0),0),\"\")","v":0},{"$f":"IF(A30<>\"\",IFERROR(VLOOKUP(AM30,Tabelas!B:D,3,0),0),\"\")","v":0},{"$f":"IF(A30<>\"\",IFERROR(VLOOKUP(AN30,Tabelas!B:D,3,0),0),\"\")","v":0},{"$f":"IF(A30<>\"\",IFERROR(VLOOKUP(AO30,Tabelas!B:D,3,0),0),\"\")","v":0},{"$f":"IF(A30<>\"\",IFERROR(VLOOKUP(AP30,Tabelas!B:D,3,0),0),\"\")","v":0},{"$f":"IF(A30<>\"\",IFERROR(VLOOKUP(AQ30,Tabelas!B:D,3,0),0),\"\")","v":0},0,0,0,0,0,0,0,0]
["Otavino da Silva Junior",3192601,null,null,null,null,null,null,null,null,null,null,null,null,null,null,null,null,null,null,null,null,null,null,null,null,null,null,null,null,null,null,null,null,null,null,null,null,null,null,null,null,null,{"$f":"IF(A31<>\"\",IFERROR(VLOOKUP(M31,Tabelas!B:D,3,0),0),\"\")","v":0},{"$f":"IF(A31<>\"\",IFERROR(VLOOKUP(N31,Tabelas!B:D,3,0),0),\"\")","v":0},{"$f":"IF(A31<>\"\",IFERROR(VLOOKUP(O31,Tabelas!B:D,3,0),0),\"\")","v":0},{"$f":"IF(A31<>\"\",IFERROR(VLOOKUP(P31,Tabelas!B:D,3,0),0),\"\")","v":0},{"$f":"IF(A31<>\"\",IFERROR(VLOOKUP(Q31,Tabelas!B:D,3,0),0),\"\")","v":0},{"$f":"IF(A31<>\"\",IFERROR(VLOOKUP(R31,Tabelas!B:D,3,0),0),\"\")","v":0},{"$f":"IF(A31<>\"\",IFERROR(VLOOKUP(S31,Tabelas!B:D,3,0),0),\"\")","v":0},{"$f":"IF(A31<>\"\",IFERROR(VLOOKUP(T31,Tabelas!B:D,3,0),0),\"\")","v":0},{"$f":"IF(A31<>\"\",IFERROR(VLOOKUP(U31,Tabelas!B:D,3,0),0),\"\")","v":0},{"$f":"IF(A31<>\"\",IFERROR(VLOOKUP(V31,Tabelas!B:D,3,0),0),\"\")","v":0},{"$f":"IF(A31<>\"\",IFERROR(VLOOKUP(W31,Tabelas!B:D,3,0),0),\"\")","v":0},{"$f":"IF(A31<>\"\",IFERROR(VLOOKUP(X31,Tabelas!B:D,3,0),0),\"\")","v":0},{"$f":"IF(A31<>\"\",IFERROR(VLOOKUP(Y31,Tabelas!B:D,3,0),0),\"\")","v":0},{"$f":"IF(A31<>\"\",IFERROR(VLOOKUP(Z31,Tabelas!B:D,3,0),0),\"\")","v":0},{"$f":"IF(A31<>\"\",IFERROR(VLOOKUP(AA31,Tabelas!B:D,3,0),0),\"\")","v":0},{"$f":"IF(A31<>\"\",IFERROR(VLOOKUP(AB31,Tabelas!B:D,3,0),0),\"\")","v":0},{"$f":"IF(A31<>\"\",IFERROR(VLOOKUP(AC31,Tabelas!B:D,3,0),0),\"\")","v":0},{"$f":"IF(A31<>\"\",IFERROR(VLOOKUP(AD31,Tabelas!B:D,3,0),0),\"\")","v":0},{"$f":"IF(A31<>\"\",IFERROR(VLOOKUP(AE31,Tabelas!B:D,3,0),0),\"\")","v":0},{"$f":"IF(A31<>\"\",IFERROR(VLOOKUP(AF31,Tabelas!B:D,3,0),0),\"\")","v":0},{"$f":"IF(A31<>\"\",IFERROR(VLOOKUP(AG31,Tabelas!B:D,3,0),0),\"\")","v":0},{"$f":"IF(A31<>\"\",IFERROR(VLOOKUP(AH31,Tabelas!B:D,3,0),0),\"\")","v":0},{"$f":"IF(A31<>\"\",IFERROR(VLOOKUP(AI31,Tabelas!B:D,3,0),0),\"\")","v":0},{"$f":"IF(A31<>\"\",IFERROR(VLOOKUP(AJ31,Tabelas!B:D,3,0),0),\"\")","v":0},{"$f":"IF(A31<>\"\",IFERROR(VLOOKUP(AK31,Tabelas!B:D,3,0),0),\"\")","v":0},{"$f":"IF(A31<>\"\",IFERROR(VLOOKUP(AL31,Tabelas!B:D,3,0),0),\"\")","v":0},{"$f":"IF(A31<>\"\",IFERROR(VLOOKUP(AM31,Tabelas!B:D,3,0),0),\"\")","v":0},{"$f":"IF(A31<>\"\",IFERROR(VLOOKUP(AN31,Tabelas!B:D,3,0),0),\"\")","v":0},{"$f":"IF(A31<>\"\",IFERROR(VLOOKUP(AO31,Tabelas!B:D,3,0),0),\"\")","v":0},{"$f":"IF(A31<>\"\",IFERROR(VLOOKUP(AP31,Tabelas!B:D,3,0),0),\"\")","v":0},{"$f":"IF(A31<>\"\",IFERROR(VLOOKUP(AQ31,Tabelas!B:D,3,0),0),\"\")","v":0},0,0,0,0,0,0,0,0]
["Rodolf Pradella",3049071,null,null,null,null,null,null,null,null,null,null,null,null,null,null,null,null,null,null,null,null,null,null,null,null,null,null,null,null,null,null,null,null,null,null,null,null,null,null,null,null,null,{"$f":"IF(A32<>\"\",IFERROR(VLOOKUP(M32,Tabelas!B:D,3,0),0),\"\")","v":0},{"$f":"IF(A32<>\"\",IFERROR(VLOOKUP(N32,Tabelas!B:D,3,0),0),\"\")","v":0},{"$f":"IF(A32<>\"\",IFERROR(VLOOKUP(O32,Tabelas!B:D,3,0),0),\"\")","v":0},{"$f":"IF(A32<>\"\",IFERROR(VLOOKUP(P32,Tabelas!B:D,3,0),0),\"\")","v":0},{"$f":"IF(A32<>\"\",IFERROR(VLOOKUP(Q32,Tabelas!B:D,3,0),0),\"\")","v":0},{"$f":"IF(A32<>\"\",IFERROR(VLOOKUP(R32,Tabelas!B:D,3,0),0),\"\")","v":0},{"$f":"IF(A32<>\"\",IFERROR(VLOOKUP(S32,Tabelas!B:D,3,0),0),\"\")","v":0},{"$f":"IF(A32<>\"\",IFERROR(VLOOKUP(T32,Tabelas!B:D,3,0),0),\"\")","v":0},{"$f":"IF(A32<>\"\",IFERROR(VLOOKUP(U32,Tabelas!B:D,3,0),0),\"\")","v":0},{"$f":"IF(A32<>\"\",IFERROR(VLOOKUP(V32,Tabelas!B:D,3,0),0),\"\")","v":0},{"$f":"IF(A32<>\"\",IFERROR(VLOOKUP(W32,Tabelas!B:D,3,0),0),\"\")","v":0},{"$f":"IF(A32<>\"\",IFERROR(VLOOKUP(X32,Tabelas!B:D,3,0),0),\"\")","v":0},{"$f":"IF(A32<>\"\",IFERROR(VLOOKUP(Y32,Tabelas!B:D,3,0),0),\"\")","v":0},{"$f":"IF(A32<>\"\",IFERROR(VLOOKUP(Z32,Tabelas!B:D,3,0),0),\"\")","v":0},{"$f":"IF(A32<>\"\",IFERROR(VLOOKUP(AA32,Tabelas!B:D,3,0),0),\"\")","v":0},{"$f":"IF(A32<>\"\",IFERROR(VLOOKUP(AB32,Tabelas!B:D,3,0),0),\"\")","v":0},{"$f":"IF(A32<>\"\",IFERROR(VLOOKUP(AC32,Tabelas!B:D,3,0),0),\"\")","v":0},{"$f":"IF(A32<>\"\",IFERROR(VLOOKUP(AD32,Tabelas!B:D,3,0),0),\"\")","v":0},{"$f":"IF(A32<>\"\",IFERROR(VLOOKUP(AE32,Tabelas!B:D,3,0),0),\"\")","v":0},{"$f":"IF(A32<>\"\",IFERROR(VLOOKUP(AF32,Tabelas!B:D,3,0),0),\"\")","v":0},{"$f":"IF(A32<>\"\",IFERROR(VLOOKUP(AG32,Tabelas!B:D,3,0),0),\"\")","v":0},{"$f":"IF(A32<>\"\",IFERROR(VLOOKUP(AH32,Tabelas!B:D,3,0),0),\"\")","v":0},{"$f":"IF(A32<>\"\",IFERROR(VLOOKUP(AI32,Tabelas!B:D,3,0),0),\"\")","v":0},{"$f":"IF(A32<>\"\",IFERROR(VLOOKUP(AJ32,Tabelas!B:D,3,0),0),\"\")","v":0},{"$f":"IF(A32<>\"\",IFERROR(VLOOKUP(AK32,Tabelas!B:D,3,0),0),\"\")","v":0},{"$f":"IF(A32<>\"\",IFERROR(VLOOKUP(AL32,Tabelas!B:D,3,0),0),\"\")","v":0},{"$f":"IF(A32<>\"\",IFERROR(VLOOKUP(AM32,Tabelas!B:D,3,0),0),\"\")","v":0},{"$f":"IF(A32<>\"\",IFERROR(VLOOKUP(AN32,Tabelas!B:D,3,0),0),\"\")","v":0},{"$f":"IF(A32<>\"\",IFERROR(VLOOKUP(AO32,Tabelas!B:D,3,0),0),\"\")","v":0},{"$f":"IF(A32<>\"\",IFERROR(VLOOKUP(AP32,Tabelas!B:D,3,0),0),\"\")","v":0},{"$f":"IF(A32<>\"\",IFERROR(VLOOKUP(AQ32,Tabelas!B:D,3,0),0),\"\")","v":0},0,0,0,0,0,0,0,0]
["Tatiane Garcia Corrêa",null,null,null,null,null,null,null,null,null,null,null,null,null,null,null,null,null,null,null,null,null,null,null,null,null,null,null,null,null,null,null,null,null,null,null,null,null,null,null,null,null,null,{"$f":"IF(A33<>\"\",IFERROR(VLOOKUP(M33,Tabelas!B:D,3,0),0),\"\")","v":0},{"$f":"IF(A33<>\"\",IFERROR(VLOOKUP(N33,Tabelas!B:D,3,0),0),\"\")","v":0},{"$f":"IF(A33<>\"\",IFERROR(VLOOKUP(O33,Tabelas!B:D,3,0),0),\"\")","v":0},{"$f":"IF(A33<>\"\",IFERROR(VLOOKUP(P33,Tabelas!B:D,3,0),0),\"\")","v":0},{"$f":"IF(A33<>\"\",IFERROR(VLOOKUP(Q33,Tabelas!B:D,3,0),0),\"\")","v":0},{"$f":"IF(A33<>\"\",IFERROR(VLOOKUP(R33,Tabelas!B:D,3,0),0),\"\")","v":0},{"$f":"IF(A33<>\"\",IFERROR(VLOOKUP(S33,Tabelas!B:D,3,0),0),\"\")","v":0},{"$f":"IF(A33<>\"\",IFERROR(VLOOKUP(T33,Tabelas!B:D,3,0),0),\"\")","v":0},{"$f":"IF(A33<>\"\",IFERROR(VLOOKUP(U33,Tabelas!B:D,3,0),0),\"\")","v":0},{"$f":"IF(A33<>\"\",IFERROR(VLOOKUP(V33,Tabelas!B:D,3,0),0),\"\")","v":0},{"$f":"IF(A33<>\"\",IFERROR(VLOOKUP(W33,Tabelas!B:D,3,0),0),\"\")","v":0},{"$f":"IF(A33<>\"\",IFERROR(VLOOKUP(X33,Tabelas!B:D,3,0),0),\"\")","v":0},{"$f":"IF(A33<>\"\",IFERROR(VLOOKUP(Y33,Tabelas!B:D,3,0),0),\"\")","v":0},{"$f":"IF(A33<>\"\",IFERROR(VLOOKUP(Z33,Tabelas!B:D,3,0),0),\"\")","v":0},{"$f":"IF(A33<>\"\",IFERROR(VLOOKUP(AA33,Tabelas!B:D,3,0),0),\"\")","v":0},{"$f":"IF(A33<>\"\",IFERROR(VLOOKUP(AB33,Tabelas!B:D,3,0),0),\"\")","v":0},{"$f":"IF(A33<>\"\",IFERROR(VLOOKUP(AC33,Tabelas!B:D,3,0),0),\"\")","v":0},{"$f":"IF(A33<>\"\",IFERROR(VLOOKUP(AD33,Tabelas!B:D,3,0),0),\"\")","v":0},{"$f":"IF(A33<>\"\",IFERROR(VLOOKUP(AE33,Tabelas!B:D,3,0),0),\"\")","v":0},{"$f":"IF(A33<>\"\",IFERROR(VLOOKUP(AF33,Tabelas!B:D,3,0),0),\"\")","v":0},{"$f":"IF(A33<>\"\",IFERROR(VLOOKUP(AG33,Tabelas!B:D,3,0),0),\"\")","v":0},{"$f":"IF(A33<>\"\",IFERROR(VLOOKUP(AH33,Tabelas!B:D,3,0),0),\"\")","v":0},{"$f":"IF(A33<>\"\",IFERROR(VLOOKUP(AI33,Tabelas!B:D,3,0),0),\"\")","v":0},{"$f":"IF(A33<>\"\",IFERROR(VLOOKUP(AJ33,Tabelas!B:D,3,0),0),\"\")","v":0},{"$f":"IF(A33<>\"\",IFERROR(VLOOKUP(AK33,Tabelas!B:D,3,0),0),\"\")","v":0},{"$f":"IF(A33<>\"\",IFERROR(VLOOKUP(AL33,Tabelas!B:D,3,0),0),\"\")","v":0},{"$f":"IF(A33<>\"\",IFERROR(VLOOKUP(AM33,Tabelas!B:D,3,0),0),\"\")","v":0},{"$f":"IF(A33<>\"\",IFERROR(VLOOKUP(AN33,Tabelas!B:D,3,0),0),\"\")","v":0},{"$f":"IF(A33<>\"\",IFERROR(VLOOKUP(AO33,Tabelas!B:D,3,0),0),\"\")","v":0},{"$f":"IF(A33<>\"\",IFERROR(VLOOKUP(AP33,Tabelas!B:D,3,0),0),\"\")","v":0},{"$f":"IF(A33<>\"\",IFERROR(VLOOKUP(AQ33,Tabelas!B:D,3,0),0),\"\")","v":0},0,0,0,0,0,0,0,0]
["Tania Maria Fae",3192566,null,null,null,null,null,null,null,null,null,null,null,null,null,null,null,null,null,null,null,null,null,null,null,null,null,null,null,null,null,null,null,null,null,null,null,null,null,null,null,null,null,{"$f":"IF(A34<>\"\",IFERROR(VLOOKUP(M34,Tabelas!B:D,3,0),0),\"\")","v":0},{"$f":"IF(A34<>\"\",IFERROR(VLOOKUP(N34,Tabelas!B:D,3,0),0),\"\")","v":0},{"$f":"IF(A34<>\"\",IFERROR(VLOOKUP(O34,Tabelas!B:D,3,0),0),\"\")","v":0},{"$f":"IF(A34<>\"\",IFERROR(VLOOKUP(P34,Tabelas!B:D,3,0),0),\"\")","v":0},{"$f":"IF(A34<>\"\",IFERROR(VLOOKUP(Q34,Tabelas!B:D,3,0),0),\"\")","v":0},{"$f":"IF(A34<>\"\",IFERROR(VLOOKUP(R34,Tabelas!B:D,3,0),0),\"\")","v":0},{"$f":"IF(A34<>\"\",IFERROR(VLOOKUP(S34,Tabelas!B:D,3,0),0),\"\")","v":0},{"$f":"IF(A34<>\"\",IFERROR(VLOOKUP(T34,Tabelas!B:D,3,0),0),\"\")","v":0},{"$f":"IF(A34<>\"\",IFERROR(VLOOKUP(U34,Tabelas!B:D,3,0),0),\"\")","v":0},{"$f":"IF(A34<>\"\",IFERROR(VLOOKUP(V34,Tabelas!B:D,3,0),0),\"\")","v":0},{"$f":"IF(A34<>\"\",IFERROR(VLOOKUP(W34,Tabelas!B:D,3,0),0),\"\")","v":0},{"$f":"IF(A34<>\"\",IFERROR(VLOOKUP(X34,Tabelas!B:D,3,0),0),\"\")","v":0},{"$f":"IF(A34<>\"\",IFERROR(VLOOKUP(Y34,Tabelas!B:D,3,0),0),\"\")","v":0},{"$f":"IF(A34<>\"\",IFERROR(VLOOKUP(Z34,Tabelas!B:D,3,0),0),\"\")","v":0},{"$f":"IF(A34<>\"\",IFERROR(VLOOKUP(AA34,Tabelas!B:D,3,0),0),\"\")","v":0},{"$f":"IF(A34<>\"\",IFERROR(VLOOKUP(AB34,Tabelas!B:D,3,0),0),\"\")","v":0},{"$f":"IF(A34<>\"\",IFERROR(VLOOKUP(AC34,Tabelas!B:D,3,0),0),\"\")","v":0},{"$f":"IF(A34<>\"\",IFERROR(VLOOKUP(AD34,Tabelas!B:D,3,0),0),\"\")","v":0},{"$f":"IF(A34<>\"\",IFERROR(VLOOKUP(AE34,Tabelas!B:D,3,0),0),\"\")","v":0},{"$f":"IF(A34<>\"\",IFERROR(VLOOKUP(AF34,Tabelas!B:D,3,0),0),\"\")","v":0},{"$f":"IF(A34<>\"\",IFERROR(VLOOKUP(AG34,Tabelas!B:D,3,0),0),\"\")","v":0},{"$f":"IF(A34<>\"\",IFERROR(VLOOKUP(AH34,Tabelas!B:D,3,0),0),\"\")","v":0},{"$f":"IF(A34<>\"\",IFERROR(VLOOKUP(AI34,Tabelas!B:D,3,0),0),\"\")","v":0},{"$f":"IF(A34<>\"\",IFERROR(VLOOKUP(AJ34,Tabelas!B:D,3,0),0),\"\")","v":0},{"$f":"IF(A34<>\"\",IFERROR(VLOOKUP(AK34,Tabelas!B:D,3,0),0),\"\")","v":0},{"$f":"IF(A34<>\"\",IFERROR(VLOOKUP(AL34,Tabelas!B:D,3,0),0),\"\")","v":0},{"$f":"IF(A34<>\"\",IFERROR(VLOOKUP(AM34,Tabelas!B:D,3,0),0),\"\")","v":0},{"$f":"IF(A34<>\"\",IFERROR(VLOOKUP(AN34,Tabelas!B:D,3,0),0),\"\")","v":0},{"$f":"IF(A34<>\"\",IFERROR(VLOOKUP(AO34,Tabelas!B:D,3,0),0),\"\")","v":0},{"$f":"IF(A34<>\"\",IFERROR(VLOOKUP(AP34,Tabelas!B:D,3,0),0),\"\")","v":0},{"$f":"IF(A34<>\"\",IFERROR(VLOOKUP(AQ34,Tabelas!B:D,3,0),0),\"\")","v":0},0,0,0,0,0,0,0,0]
["Ana Claudia Pinto Brandão",null,null,null,null,null,null,null,null,null,null,null,null,null,null,null,null,null,null,null,null,null,null,null,null,null,null,null,null,null,null,null,null,null,null,null,null,null,null,null,null,null,null,{"$f":"IF(A42<>\"\",IFERROR(VLOOKUP(M35,Tabelas!B:D,3,0),0),\"\")","v":0},{"$f":"IF(A42<>\"\",IFERROR(VLOOKUP(N35,Tabelas!B:D,3,0),0),\"\")","v":0},{"$f":"IF(A42<>\"\",IFERROR(VLOOKUP(O35,Tabelas!B:D,3,0),0),\"\")","v":0},{"$f":"IF(A42<>\"\",IFERROR(VLOOKUP(P35,Tabelas!B:D,3,0),0),\"\")","v":0},{"$f":"IF(A42<>\"\",IFERROR(VLOOKUP(Q35,Tabelas!B:D,3,0),0),\"\")","v":0},{"$f":"IF(A42<>\"\",IFERROR(VLOOKUP(R35,Tabelas!B:D,3,0),0),\"\")","v":0},{"$f":"IF(A42<>\"\",IFERROR(VLOOKUP(S35,Tabelas!B:D,3,0),0),\"\")","v":0},{"$f":"IF(A42<>\"\",IFERROR(VLOOKUP(T35,Tabelas!B:D,3,0),0),\"\")","v":0},{"$f":"IF(A42<>\"\",IFERROR(VLOOKUP(U35,Tabelas!B:D,3,0),0),\"\")","v":0},{"$f":"IF(A42<>\"\",IFERROR(VLOOKUP(V35,Tabelas!B:D,3,0),0),\"\")","v":0},{"$f":"IF(A42<>\"\",IFERROR(VLOOKUP(W35,Tabelas!B:D,3,0),0),\"\")","v":0},{"$f":"IF(A42<>\"\",IFERROR(VLOOKUP(X35,Tabelas!B:D,3,0),0),\"\")","v":0},{"$f":"IF(A42<>\"\",IFERROR(VLOOKUP(Y35,Tabelas!B:D,3,0),0),\"\")","v":0},{"$f":"IF(A42<>\"\",IFERROR(VLOOKUP(Z35,Tabelas!B:D,3,0),0),\"\")","v":0},{"$f":"IF(A42<>\"\",IFERROR(VLOOKUP(AA35,Tabelas!B:D,3,0),0),\"\")","v":0},{"$f":"IF(A42<>\"\",IFERROR(VLOOKUP(AB35,Tabelas!B:D,3,0),0),\"\")","v":0},{"$f":"IF(A42<>\"\",IFERROR(VLOOKUP(AC35,Tabelas!B:D,3,0),0),\"\")","v":0},{"$f":"IF(A42<>\"\",IFERROR(VLOOKUP(AD35,Tabelas!B:D,3,0),0),\"\")","v":0},{"$f":"IF(A42<>\"\",IFERROR(VLOOKUP(AE35,Tabelas!B:D,3,0),0),\"\")","v":0},{"$f":"IF(A42<>\"\",IFERROR(VLOOKUP(AF35,Tabelas!B:D,3,0),0),\"\")","v":0},{"$f":"IF(A42<>\"\",IFERROR(VLOOKUP(AG35,Tabelas!B:D,3,0),0),\"\")","v":0},{"$f":"IF(A42<>\"\",IFERROR(VLOOKUP(AH35,Tabelas!B:D,3,0),0),\"\")","v":0},{"$f":"IF(A42<>\"\",IFERROR(VLOOKUP(AI35,Tabelas!B:D,3,0),0),\"\")","v":0},{"$f":"IF(A42<>\"\",IFERROR(VLOOKUP(AJ35,Tabelas!B:D,3,0),0),\"\")","v":0},{"$f":"IF(A42<>\"\",IFERROR(VLOOKUP(AK35,Tabelas!B:D,3,0),0),\"\")","v":0},{"$f":"IF(A42<>\"\",IFERROR(VLOOKUP(AL35,Tabelas!B:D,3,0),0),\"\")","v":0},{"$f":"IF(A42<>\"\",IFERROR(VLOOKUP(AM35,Tabelas!B:D,3,0),0),\"\")","v":0},{"$f":"IF(A42<>\"\",IFERROR(VLOOKUP(AN35,Tabelas!B:D,3,0),0),\"\")","v":0},{"$f":"IF(A42<>\"\",IFERROR(VLOOKUP(AO35,Tabelas!B:D,3,0),0),\"\")","v":0},{"$f":"IF(A42<>\"\",IFERROR(VLOOKUP(AP35,Tabelas!B:D,3,0),0),\"\")","v":0},{"$f":"IF(A42<>\"\",IFERROR(VLOOKUP(AQ35,Tabelas!B:D,3,0),0),\"\")","v":0},{"$f":"IF(AND(A42<>\"\",E35=\"Ebserh\"),SUM(AR35:BV35)+COUNTIF(M35:AQ35,\"N*\")+COUNTIF(M35:AQ35,\"DN*\"),IF(AND(A42<>\"\",E35<>\"Ebserh\"),SUM(AR35:BV35),\"\"))","v":0},{"$f":"IF(A42<>\"\",COUNTIF(M35:AQ35,\"LM\")+COUNTIF(M35:AQ35,\"L\")+COUNTIF(M35:AQ35,\"LP\"),\"\")","v":0},{"$f":"IF(A42<>\"\",COUNTIF(M35:AQ35,\"AB*\"),\"\")","v":0},{"$f":"IF(A42<>\"\",COUNTIF(M35:AQ35,\"FE\"),\"\")","v":0},{"$f":"IF(A42<>\"\",COUNTIF(M35:AQ35,\"LC\"),\"\")","v":0},{"$f":"IF(A42<>\"\",COUNTIF(M35:AQ35,\"CH*\"),\"\")","v":0},{"$f":"IF(A42<>\"\",COUNTIF(M35:AQ35,\"AF1\")+COUNTIF(M35:AQ35,\"AF2\")+COUNTIF(M35:AQ35,\"AF3\")+COUNTIF(M35:AQ35,\"AF4\")+COUNTIF(M35:AQ35,\"AF5\")+COUNTIF(M35:AQ35,\"AF6\")+COUNTIF(M35:AQ35,\"AF7\")+COUNTIF(M35:AQ35,\"AF8\")+COUNTIF(M35:AQ35,\"AF9\")+COUNTIF(M35:AQ35,\"AF10\")+COUNTIF(M35:AQ35,\"AF11\")+COUNTIF(M35:AQ35,\"AF12\")+COUNTIF(M35:AQ35,\"AF13\")+COUNTIF(M35:AQ35,\"AF14\"),\"\")","v":0},{"$f":"IF(A42<>\"\",COUNTIF(M35:AQ35,\"CH*\")+COUNTIF(M35:AQ35,\"L\")+COUNTIF(M35:AQ35,\"LM\")+COUNTIF(M35:AQ35,\"LP\")+COUNTIF(M35:AQ35,\"LC\")+COUNTIF(M35:AQ35,\"AB*\")+COUNTIF(M35:AQ35,\"AF1\")+COUNTIF(M35:AQ35,\"AF2\")+COUNTIF(M35:AQ35,\"AF3\")+COUNTIF(M35:AQ35,\"AF4\")+COUNTIF(M35:AQ35,\"AF5\")+COUNTIF(M35:AQ35,\"AF6\")+COUNTIF(M35:AQ35,\"AF7\")+COUNTIF(M35:AQ35,\"AF8\")+COUNTIF(M35:AQ35,\"AF9\")+COUNTIF(M35:AQ35,\"AF10\")+COUNTIF(M35:AQ35,\"AF11\")+COUNTIF(M35:AQ35,\"AF12\")+COUNTIF(M35:AQ35,\"AF13\")+COUNTIF(M35:AQ35,\"AF14\")+COUNTIF(M35:AQ35,\"RC\")+COUNTIF(M35:AQ35,\"FO\")+COUNTIF(M35:AQ35,\"FE\"),\"\")","v":0}]
["Karina Mendes",null,null,null,null,null,null,null,null,null,null,null,{"$f":"IF(COUNTIF(M9:M35,\"M*\")+ COUNTIF(M9:M35, \"D*\")-COUNTIF(M9:M35,\"DSR\")<>0,COUNTIF(M9:M35,\"M*\")+ COUNTIF(M9:M35, \"D*\")-COUNTIF(M9:M35,\"DSR\"),\"\")","v":""},"","","","","","","","","","","","","","","","","","","","","","","","","","","","","","",null,null,null,null,null,null,null,null,null,null,null,null,null,null,null,null,null,null,null,null,null,null,null,null,null,null,null,null,null,null,null,{"$f":"SUM(BW9:BW35)","v":0},0,0,0,0,0,0,0]
["Rejane Borges Boeira",null,null,null,null,null,null,null,null,null,null,null,{"$f":"IF(COUNTIF(M9:M35,\"MT*\") + COUNTIF(M9:M35, \"D*\") + COUNTIF(M9:M35,\"T*\")-COUNTIF(M9:M35,\"DSR\")<>0,COUNTIF(M9:M35,\"MT*\") + COUNTIF(M9:M35, \"D*\") + COUNTIF(M9:M35,\"T*\")-COUNTIF(M9:M35,\"DSR\"),\"\")","v":""},"","","","","","","","","","","","","","","","","","","","","","","","","","","","","","",{"$f":"IF(A44<>\"\",IFERROR(VLOOKUP(M37,Tabelas!B:D,3,0),0),\"\")","v":0},{"$f":"IF(A44<>\"\",IFERROR(VLOOKUP(N37,Tabelas!B:D,3,0),0),\"\")","v":0},{"$f":"IF(A44<>\"\",IFERROR(VLOOKUP(O37,Tabelas!B:D,3,0),0),\"\")","v":0},{"$f":"IF(A44<>\"\",IFERROR(VLOOKUP(P37,Tabelas!B:D,3,0),0),\"\")","v":0},{"$f":"IF(A44<>\"\",IFERROR(VLOOKUP(Q37,Tabelas!B:D,3,0),0),\"\")","v":0},{"$f":"IF(A44<>\"\",IFERROR(VLOOKUP(R37,Tabelas!B:D,3,0),0),\"\")","v":0},{"$f":"IF(A44<>\"\",IFERROR(VLOOKUP(S37,Tabelas!B:D,3,0),0),\"\")","v":0},{"$f":"IF(A44<>\"\",IFERROR(VLOOKUP(T37,Tabelas!B:D,3,0),0),\"\")","v":0},{"$f":"IF(A44<>\"\",IFERROR(VLOOKUP(U37,Tabelas!B:D,3,0),0),\"\")","v":0},{"$f":"IF(A44<>\"\",IFERROR(VLOOKUP(V37,Tabelas!B:D,3,0),0),\"\")","v":0},{"$f":"IF(A44<>\"\",IFERROR(VLOOKUP(W37,Tabelas!B:D,3,0),0),\"\")","v":0},{"$f":"IF(A44<>\"\",IFERROR(VLOOKUP(X37,Tabelas!B:D,3,0),0),\"\")","v":0},{"$f":"IF(A44<>\"\",IFERROR(VLOOKUP(Y37,Tabelas!B:D,3,0),0),\"\")","v":0},{"$f":"IF(A44<>\"\",IFERROR(VLOOKUP(Z37,Tabelas!B:D,3,0),0),\"\")","v":0},{"$f":"IF(A44<>\"\",IFERROR(VLOOKUP(AA37,Tabelas!B:D,3,0),0),\"\")","v":0},{"$f":"IF(A44<>\"\",IFERROR(VLOOKUP(AB37,Tabelas!B:D,3,0),0),\"\")","v":0},{"$f":"IF(A44<>\"\",IFERROR(VLOOKUP(AC37,Tabelas!B:D,3,0),0),\"\")","v":0},{"$f":"IF(A44<>\"\",IFERROR(VLOOKUP(AD37,Tabelas!B:D,3,0),0),\"\")","v":0},{"$f":"IF(A44<>\"\",IFERROR(VLOOKUP(AE37,Tabelas!B:D,3,0),0),\"\")","v":0},{"$f":"IF(A44<>\"\",IFERROR(VLOOKUP(AF37,Tabelas!B:D,3,0),0),\"\")","v":0},{"$f":"IF(A44<>\"\",IFERROR(VLOOKUP(AG37,Tabelas!B:D,3,0),0),\"\")","v":0},{"$f":"IF(A44<>\"\",IFERROR(VLOOKUP(AH37,Tabelas!B:D,3,0),0),\"\")","v":0},{"$f":"IF(A44<>\"\",IFERROR(VLOOKUP(AI37,Tabelas!B:D,3,0),0),\"\")","v":0},{"$f":"IF(A44<>\"\",IFERROR(VLOOKUP(AJ37,Tabelas!B:D,3,0),0),\"\")","v":0},{"$f":"IF(A44<>\"\",IFERROR(VLOOKUP(AK37,Tabelas!B:D,3,0),0),\"\")","v":0},{"$f":"IF(A44<>\"\",IFERROR(VLOOKUP(AL37,Tabelas!B:D,3,0),0),\"\")","v":0},{"$f":"IF(A44<>\"\",IFERROR(VLOOKUP(AM37,Tabelas!B:D,3,0),0),\"\")","v":0},{"$f":"IF(A44<>\"\",IFERROR(VLOOKUP(AN37,Tabelas!B:D,3,0),0),\"\")","v":0},{"$f":"IF(A44<>\"\",IFERROR(VLOOKUP(AO37,Tabelas!B:D,3,0),0),\"\")","v":0},{"$f":"IF(A44<>\"\",IFERROR(VLOOKUP(AP37,Tabelas!B:D,3,0),0),\"\")","v":0},{"$f":"IF(A44<>\"\",IFERROR(VLOOKUP(AQ37,Tabelas!B:D,3,0),0),\"\")","v":0}]
["Ricardo Valentin",null,null,null,null,null,null,null,null,null,null,null,{"$f":"IF(COUNTIF(M9:M37,\"N?*\") + COUNTIF(M9:M37, \"DN*\")<>0,COUNTIF(M9:M37,\"N?*\") + COUNTIF(M9:M37, \"DN*\"),\"\")","v":""},"","","","","","","","","","","","","","","","","","","","","","","","","","","","","","",{"$f":"IF(A45<>\"\",IFERROR(VLOOKUP(M38,Tabelas!B:D,3,0),0),\"\")","v":0},{"$f":"IF(A45<>\"\",IFERROR(VLOOKUP(N38,Tabelas!B:D,3,0),0),\"\")","v":0},{"$f":"IF(A45<>\"\",IFERROR(VLOOKUP(O38,Tabelas!B:D,3,0),0),\"\")","v":0},{"$f":"IF(A45<>\"\",IFERROR(VLOOKUP(P38,Tabelas!B:D,3,0),0),\"\")","v":0},{"$f":"IF(A45<>\"\",IFERROR(VLOOKUP(Q38,Tabelas!B:D,3,0),0),\"\")","v":0},{"$f":"IF(A45<>\"\",IFERROR(VLOOKUP(R38,Tabelas!B:D,3,0),0),\"\")","v":0},{"$f":"IF(A45<>\"\",IFERROR(VLOOKUP(S38,Tabelas!B:D,3,0),0),\"\")","v":0},{"$f":"IF(A45<>\"\",IFERROR(VLOOKUP(T38,Tabelas!B:D,3,0),0),\"\")","v":0},{"$f":"IF(A45<>\"\",IFERROR(VLOOKUP(U38,Tabelas!B:D,3,0),0),\"\")","v":0},{"$f":"IF(A45<>\"\",IFERROR(VLOOKUP(V38,Tabelas!B:D,3,0),0),\"\")","v":0},{"$f":"IF(A45<>\"\",IFERROR(VLOOKUP(W38,Tabelas!B:D,3,0),0),\"\")","v":0},{"$f":"IF(A45<>\"\",IFERROR(VLOOKUP(X38,Tabelas!B:D,3,0),0),\"\")","v":0},{"$f":"IF(A45<>\"\",IFERROR(VLOOKUP(Y38,Tabelas!B:D,3,0),0),\"\")","v":0},{"$f":"IF(A45<>\"\",IFERROR(VLOOKUP(Z38,Tabelas!B:D,3,0),0),\"\")","v":0},{"$f":"IF(A45<>\"\",IFERROR(VLOOKUP(AA38,Tabelas!B:D,3,0),0),\"\")","v":0},{"$f":"IF(A45<>\"\",IFERROR(VLOOKUP(AB38,Tabelas!B:D,3,0),0),\"\")","v":0},{"$f":"IF(A45<>\"\",IFERROR(VLOOKUP(AC38,Tabelas!B:D,3,0),0),\"\")","v":0},{"$f":"IF(A45<>\"\",IFERROR(VLOOKUP(AD38,Tabelas!B:D,3,0),0),\"\")","v":0},{"$f":"IF(A45<>\"\",IFERROR(VLOOKUP(AE38,Tabelas!B:D,3,0),0),\"\")","v":0},{"$f":"IF(A45<>\"\",IFERROR(VLOOKUP(AF38,Tabelas!B:D,3,0),0),\"\")","v":0},{"$f":"IF(A45<>\"\",IFERROR(VLOOKUP(AG38,Tabelas!B:D,3,0),0),\"\")","v":0},{"$f":"IF(A45<>\"\",IFERROR(VLOOKUP(AH38,Tabelas!B:D,3,0),0),\"\")","v":0},{"$f":"IF(A45<>\"\",IFERROR(VLOOKUP(AI38,Tabelas!B:D,3,0),0),\"\")","v":0},{"$f":"IF(A45<>\"\",IFERROR(VLOOKUP(AJ38,Tabelas!B:D,3,0),0),\"\")","v":0},{"$f":"IF(A45<>\"\",IFERROR(VLOOKUP(AK38,Tabelas!B:D,3,0),0),\"\")","v":0},{"$f":"IF(A45<>\"\",IFERROR(VLOOKUP(AL38,Tabelas!B:D,3,0),0),\"\")","v":0},{"$f":"IF(A45<>\"\",IFERROR(VLOOKUP(AM38,Tabelas!B:D,3,0),0),\"\")","v":0},{"$f":"IF(A45<>\"\",IFERROR(VLOOKUP(AN38,Tabelas!B:D,3,0),0),\"\")","v":0},{"$f":"IF(A45<>\"\",IFERROR(VLOOKUP(AO38,Tabelas!B:D,3,0),0),\"\")","v":0},{"$f":"IF(A45<>\"\",IFERROR(VLOOKUP(AP38,Tabelas!B:D,3,0),0),\"\")","v":0},{"$f":"IF(A45<>\"\",IFERROR(VLOOKUP(AQ38,Tabelas!B:D,3,0),0),\"\")","v":0}]
["Tâmara Santana",null,null,null,null,null,null,null,null,null,null,null,{"$f":"IF(COUNTIF(M12:M38,\"M*\")+ COUNTIF(M12:M38, \"D*\")-COUNTIF(M12:M38,\"DSR\")<>0,COUNTIF(M12:M38,\"M*\")+ COUNTIF(M12:M38, \"D*\")-COUNTIF(M12:M38,\"DSR\"),\"\")","v":""},"","","","","","","","","","","","","","","","","","","","","","","","","","","","","","",{"$f":"IF(A46<>\"\",IFERROR(VLOOKUP(M39,Tabelas!B:D,3,0),0),\"\")","v":""},{"$f":"IF(A46<>\"\",IFERROR(VLOOKUP(N39,Tabelas!B:D,3,0),0),\"\")","v":""},{"$f":"IF(A46<>\"\",IFERROR(VLOOKUP(O39,Tabelas!B:D,3,0),0),\"\")","v":""},{"$f":"IF(A46<>\"\",IFERROR(VLOOKUP(P39,Tabelas!B:D,3,0),0),\"\")","v":""},{"$f":"IF(A46<>\"\",IFERROR(VLOOKUP(Q39,Tabelas!B:D,3,0),0),\"\")","v":""},{"$f":"IF(A46<>\"\",IFERROR(VLOOKUP(R39,Tabelas!B:D,3,0),0),\"\")","v":""},{"$f":"IF(A46<>\"\",IFERROR(VLOOKUP(S39,Tabelas!B:D,3,0),0),\"\")","v":""},{"$f":"IF(A46<>\"\",IFERROR(VLOOKUP(T39,Tabelas!B:D,3,0),0),\"\")","v":""},{"$f":"IF(A46<>\"\",IFERROR(VLOOKUP(U39,Tabelas!B:D,3,0),0),\"\")","v":""},{"$f":"IF(A46<>\"\",IFERROR(VLOOKUP(V39,Tabelas!B:D,3,0),0),\"\")","v":""},{"$f":"IF(A46<>\"\",IFERROR(VLOOKUP(W39,Tabelas!B:D,3,0),0),\"\")","v":""},{"$f":"IF(A46<>\"\",IFERROR(VLOOKUP(X39,Tabelas!B:D,3,0),0),\"\")","v":""},{"$f":"IF(A46<>\"\",IFERROR(VLOOKUP(Y39,Tabelas!B:D,3,0),0),\"\")","v":""},{"$f":"IF(A46<>\"\",IFERROR(VLOOKUP(Z39,Tabelas!B:D,3,0),0),\"\")","v":""},{"$f":"IF(A46<>\"\",IFERROR(VLOOKUP(AA39,Tabelas!B:D,3,0),0),\"\")","v":""},{"$f":"IF(A46<>\"\",IFERROR(VLOOKUP(AB39,Tabelas!B:D,3,0),0),\"\")","v":""},{"$f":"IF(A46<>\"\",IFERROR(VLOOKUP(AC39,Tabelas!B:D,3,0),0),\"\")","v":""},{"$f":"IF(A46<>\"\",IFERROR(VLOOKUP(AD39,Tabelas!B:D,3,0),0),\"\")","v":""},{"$f":"IF(A46<>\"\",IFERROR(VLOOKUP(AE39,Tabelas!B:D,3,0),0),\"\")","v":""},{"$f":"IF(A46<>\"\",IFERROR(VLOOKUP(AF39,Tabelas!B:D,3,0),0),\"\")","v":""},{"$f":"IF(A46<>\"\",IFERROR(VLOOKUP(AG39,Tabelas!B:D,3,0),0),\"\")","v":""},{"$f":"IF(A46<>\"\",IFERROR(VLOOKUP(AH39,Tabelas!B:D,3,0),0),\"\")","v":""},{"$f":"IF(A46<>\"\",IFERROR(VLOOKUP(AI39,Tabelas!B:D,3,0),0),\"\")","v":""},{"$f":"IF(A46<>\"\",IFERROR(VLOOKUP(AJ39,Tabelas!B:D,3,0),0),\"\")","v":""},{"$f":"IF(A46<>\"\",IFERROR(VLOOKUP(AK39,Tabelas!B:D,3,0),0),\"\")","v":""},{"$f":"IF(A46<>\"\",IFERROR(VLOOKUP(AL39,Tabelas!B:D,3,0),0),\"\")","v":""},{"$f":"IF(A46<>\"\",IFERROR(VLOOKUP(AM39,Tabelas!B:D,3,0),0),\"\")","v":""},{"$f":"IF(A46<>\"\",IFERROR(VLOOKUP(AN39,Tabelas!B:D,3,0),0),\"\")","v":""},{"$f":"IF(A46<>\"\",IFERROR(VLOOKUP(AO39,Tabelas!B:D,3,0),0),\"\")","v":""},{"$f":"IF(A46<>\"\",IFERROR(VLOOKUP(AP39,Tabelas!B:D,3,0),0),\"\")","v":""},{"$f":"IF(A46<>\"\",IFERROR(VLOOKUP(AQ39,Tabelas!B:D,3,0),0),\"\")","v":""}]
["Maria Lucicleide Silva Modesto",null,null,null,null,null,null,null,null,null,null,null,{"$f":"IF(COUNTIF(M12:M38,\"MT*\") + COUNTIF(M12:M38, \"D*\") + COUNTIF(M12:M38,\"T*\")-COUNTIF(M12:M38,\"DSR\")<>0,COUNTIF(M12:M38,\"MT*\") + COUNTIF(M12:M38, \"D*\") + COUNTIF(M12:M38,\"T*\")-COUNTIF(M12:M38,\"DSR\"),\"\")","v":""},"","","","","","","","","","","","","","","","","","","","","","","","","","","","","",""]
["Michelli Melo da Rosa",null,null,null,null,null,null,null,null,null,null,null,{"$f":"IF(COUNTIF(M14:M40,\"M*\")+ COUNTIF(M14:M40, \"D*\")-COUNTIF(M14:M40,\"DSR\")<>0,COUNTIF(M14:M40,\"M*\")+ COUNTIF(M14:M40, \"D*\")-COUNTIF(M14:M40,\"DSR\"),\"\")","v":""},"","","","","","","","","","","","","","","","","","","","","","","","","","","","","",""]
["Yara Filomena Werner da Silva",null,null,null,null,null,null,null,null,null,null,null,{"$f":"IF(COUNTIF(M14:M40,\"MT*\") + COUNTIF(M14:M40, \"D*\") + COUNTIF(M14:M40,\"T*\")-COUNTIF(M14:M40,\"DSR\")<>0,COUNTIF(M14:M40,\"MT*\") + COUNTIF(M14:M40, \"D*\") + COUNTIF(M14:M40,\"T*\")-COUNTIF(M14:M40,\"DSR\"),\"\")","v":""},"","","","","","","","","","","","","","","","","","","","","","","","","","","","","",""]
["TOTAL PROFISSIONAIS MATUTINO",null,null,null,null,null,null,null,null,null,null,null,{"$f":"IF(COUNTIF(M14:M42,\"N?*\") + COUNTIF(M14:M42, \"DN*\")<>0,COUNTIF(M14:M42,\"N?*\") + COUNTIF(M14:M42, \"DN*\"),\"\")","v":""},"","","","","","","","","","","","","","","","","","","","","","","","","","","","","",""]
["TOTAL DE PROFISSIONAIS VESPERTINO","LC","Recesso",null,null,null,null,null,null,"RC",null,"Afastamento**",null,null,null,null,null,null,null,"AF","Plantão Noite (12 hrs) *",null,null,null,null,null,null,"N"]
["TOTAL DE PROFISSIONAIS NOTURNO"]
[]
["Legenda:"]
["Licença Maternidade"]
["Licença Paternidade"]
["Licença Médica/Odontológica"]
["Licença Capacitação"]
[]
["OBSERVAÇÕES:"]
["* Para inserção das legendas referentes às jornadas de trabalho, verificar a Tabela 1 do Anexo do Memorando-Circular - SEI nº   25 /2018/CAP/DGP-EBSERH."]
["** Para inserção das legendas referentes aos Afastamentos previstos em lei e às Compensações de horas, verificar a Tabela 2 do Anexo do Memorando-Circular - SEI nº   25 /2018/CAP/DGP-EBSERH."]

{"sheet":"Novembro","index":11,"n_rows":48,"n_cols":82,"rows_kept":48,"cut":false,"hidden":false,"merged":[[40,20,40,26],[41,2,41,8],[41,9,41,10],[41,11,41,18],[41,20,41,26],[40,2,40,8],[40,9,40,10],[42,20,42,26],[43,2,43,8],[43,9,43,10],[43,11,43,18],[43,20,43,26],[35,0,35,11],[36,0,36,11],[37,0,37,11],[42,2,42,8],[42,9,42,10],[42,11,42,18],[40,11,40,18],[1,0,1,42],[2,0,2,42],[3,0,3,42],[4,1,4,20],[4,23,4,34],[4,37,4,42],[5,6,5,11],[6,76,7,76],[6,77,7,77],[6,78,7,78],[6,79,7,79],[6,6,7,6],[6,7,7,7],[6,8,7,8],[6,11,7,11],[6,9,7,9],[6,10,7,10],[6,80,7,80],[6,81,7,81],[5,12,5,42],[5,43,5,73],[5,75,5,81],[5,74,7,74],[6,75,7,75],[35,79,37,79],[35,80,37,80],[35,81,37,81],[40,28,40,34],[41,28,41,34],[35,74,37,74],[35,75,37,75],[35,76,37,76],[35,77,37,77],[35,78,37,78]]}
[]
[]
["NOME DO HU"]
["ESCALA MENSAL DE TRABALHO"]
["DIVISÃO /SETOR/UNIDADE:",null,null,null,null,null,null,null,null,null,null,null,null,null,null,null,null,null,null,null,null,"MÊS:",null,"Novembro",null,null,null,null,null,null,null,null,null,null,null,"ANO:",null,2019]
["NOME COMPLETO","SIAPE","     Registro Conselho Classe","Cargo","Vínculo","    C.H Sem","INTERVALO",null,null,null,null,null,"DIAS DO MÊS",null,null,null,null,null,null,null,null,null,null,null,null,null,null,null,null,null,null,null,null,null,null,null,null,null,null,null,null,null,null,"CÁLCULO DAS HORAS",null,null,null,null,null,null,null,null,null,null,null,null,null,null,null,null,null,null,null,null,null,null,null,null,null,null,null,null,null,null,"CH Men.","Dias"]
[null,null,null,null,null,null,"15' M","15' T","15' N","1H D","1H N","2H",1,2,3,4,5,6,7,8,9,10,11,12,13,14,15,16,17,18,19,20,21,22,23,24,25,{"$f":"IF(DAY(DATE(AL5,VLOOKUP(X5,Tabelas!M:N,2,0)+1,1)-1)>=26,26,\"\")","v":26},{"$f":"IF(DAY(DATE(AL5,VLOOKUP(X5,Tabelas!M:N,2,0)+1,1)-1)>=27,27,\"\")","v":27},{"$f":"IF(DAY(DATE(AL5,VLOOKUP(X5,Tabelas!M:N,2,0)+1,1)-1)>=28,28,\"\")","v":28},{"$f":"IF(DAY(DATE(AL5,VLOOKUP(X5,Tabelas!M:N,2,0)+1,1)-1)>=29,29,\"\")","v":29},{"$f":"IF(DAY(DATE(AL5,VLOOKUP(X5,Tabelas!M:N,2,0)+1,1)-1)>=30,30,\"\")","v":30},{"$f":"IF(DAY(DATE(AL5,VLOOKUP(X5,Tabelas!M:N,2,0)+1,1)-1)>=31,31,\"\")","v":""},null,null,null,null,null,null,null,null,null,null,null,null,null,null,null,null,null,null,null,null,null,null,null,null,null,null,null,null,null,null,null,null,"LM/LP/L","AB","FE","LC","CH","AF  "," Total Afast."]
[null,null,null,null,null,null,null,null,null,null,null,null,{"$f":"IF(M7<>\"\",IFERROR(VLOOKUP(WEEKDAY(CONCATENATE(M7,$X$5,$AL$5)),Tabelas!$I:$J,2,0),\"\"),\"\")","v":"SEX"},{"$f":"IF(N7<>\"\",IFERROR(VLOOKUP(WEEKDAY(CONCATENATE(N7,$X$5,$AL$5)),Tabelas!$I:$J,2,0),\"\"),\"\")","v":"SAB"},{"$f":"IF(O7<>\"\",IFERROR(VLOOKUP(WEEKDAY(CONCATENATE(O7,$X$5,$AL$5)),Tabelas!$I:$J,2,0),\"\"),\"\")","v":"DOM"},{"$f":"IF(P7<>\"\",IFERROR(VLOOKUP(WEEKDAY(CONCATENATE(P7,$X$5,$AL$5)),Tabelas!$I:$J,2,0),\"\"),\"\")","v":"SEG"},{"$f":"IF(Q7<>\"\",IFERROR(VLOOKUP(WEEKDAY(CONCATENATE(Q7,$X$5,$AL$5)),Tabelas!$I:$J,2,0),\"\"),\"\")","v":"TER"},{"$f":"IF(R7<>\"\",IFERROR(VLOOKUP(WEEKDAY(CONCATENATE(R7,$X$5,$AL$5)),Tabelas!$I:$J,2,0),\"\"),\"\")","v":"QUA"},{"$f":"IF(S7<>\"\",IFERROR(VLOOKUP(WEEKDAY(CONCATENATE(S7,$X$5,$AL$5)),Tabelas!$I:$J,2,0),\"\"),\"\")","v":"QUI"},{"$f":"IF(T7<>\"\",IFERROR(VLOOKUP(WEEKDAY(CONCATENATE(T7,$X$5,$AL$5)),Tabelas!$I:$J,2,0),\"\"),\"\")","v":"SEX"},{"$f":"IF(U7<>\"\",IFERROR(VLOOKUP(WEEKDAY(CONCATENATE(U7,$X$5,$AL$5)),Tabelas!$I:$J,2,0),\"\"),\"\")","v":"SAB"},{"$f":"IF(V7<>\"\",IFERROR(VLOOKUP(WEEKDAY(CONCATENATE(V7,$X$5,$AL$5)),Tabelas!$I:$J,2,0),\"\"),\"\")","v":"DOM"},{"$f":"IF(W7<>\"\",IFERROR(VLOOKUP(WEEKDAY(CONCATENATE(W7,$X$5,$AL$5)),Tabelas!$I:$J,2,0),\"\"),\"\")","v":"SEG"},{"$f":"IF(X7<>\"\",IFERROR(VLOOKUP(WEEKDAY(CONCATENATE(X7,$X$5,$AL$5)),Tabelas!$I:$J,2,0),\"\"),\"\")","v":"TER"},{"$f":"IF(Y7<>\"\",IFERROR(VLOOKUP(WEEKDAY(CONCATENATE(Y7,$X$5,$AL$5)),Tabelas!$I:$J,2,0),\"\"),\"\")","v":"QUA"},{"$f":"IF(Z7<>\"\",IFERROR(VLOOKUP(WEEKDAY(CONCATENATE(Z7,$X$5,$AL$5)),Tabelas!$I:$J,2,0),\"\"),\"\")","v":"QUI"},{"$f":"IF(AA7<>\"\",IFERROR(VLOOKUP(WEEKDAY(CONCATENATE(AA7,$X$5,$AL$5)),Tabelas!$I:$J,2,0),\"\"),\"\")","v":"SEX"},{"$f":"IF(AB7<>\"\",IFERROR(VLOOKUP(WEEKDAY(CONCATENATE(AB7,$X$5,$AL$5)),Tabelas!$I:$J,2,0),\"\"),\"\")","v":"SAB"},{"$f":"IF(AC7<>\"\",IFERROR(VLOOKUP(WEEKDAY(CONCATENATE(AC7,$X$5,$AL$5)),Tabelas!$I:$J,2,0),\"\"),\"\")","v":"DOM"},{"$f":"IF(AD7<>\"\",IFERROR(VLOOKUP(WEEKDAY(CONCATENATE(AD7,$X$5,$AL$5)),Tabelas!$I:$J,2,0),\"\"),\"\")","v":"SEG"},{"$f":"IF(AE7<>\"\",IFERROR(VLOOKUP(WEEKDAY(CONCATENATE(AE7,$X$5,$AL$5)),Tabelas!$I:$J,2,0),\"\"),\"\")","v":"TER"},{"$f":"IF(AF7<>\"\",IFERROR(VLOOKUP(WEEKDAY(CONCATENATE(AF7,$X$5,$AL$5)),Tabelas!$I:$J,2,0),\"\"),\"\")","v":"QUA"},{"$f":"IF(AG7<>\"\",IFERROR(VLOOKUP(WEEKDAY(CONCATENATE(AG7,$X$5,$AL$5)),Tabelas!$I:$J,2,0),\"\"),\"\")","v":"QUI"},{"$f":"IF(AH7<>\"\",IFERROR(VLOOKUP(WEEKDAY(CONCATENATE(AH7,$X$5,$AL$5)),Tabelas!$I:$J,2,0),\"\"),\"\")","v":"SEX"},{"$f":"IF(AI7<>\"\",IFERROR(VLOOKUP(WEEKDAY(CONCATENATE(AI7,$X$5,$AL$5)),Tabelas!$I:$J,2,0),\"\"),\"\")","v":"SAB"},{"$f":"IF(AJ7<>\"\",IFERROR(VLOOKUP(WEEKDAY(CONCATENATE(AJ7,$X$5,$AL$5)),Tabelas!$I:$J,2,0),\"\"),\"\")","v":"DOM"},{"$f":"IF(AK7<>\"\",IFERROR(VLOOKUP(WEEKDAY(CONCATENATE(AK7,$X$5,$AL$5)),Tabelas!$I:$J,2,0),\"\"),\"\")","v":"SEG"},{"$f":"IF(AL7<>\"\",IFERROR(VLOOKUP(WEEKDAY(CONCATENATE(AL7,$X$5,$AL$5)),Tabelas!$I:$J,2,0),\"\"),\"\")","v":"TER"},{"$f":"IF(AM7<>\"\",IFERROR(VLOOKUP(WEEKDAY(CONCATENATE(AM7,$X$5,$AL$5)),Tabelas!$I:$J,2,0),\"\"),\"\")","v":"QUA"},{"$f":"IF(AN7<>\"\",IFERROR(VLOOKUP(WEEKDAY(CONCATENATE(AN7,$X$5,$AL$5)),Tabelas!$I:$J,2,0),\"\"),\"\")","v":"QUI"},{"$f":"IF(AO7<>\"\",IFERROR(VLOOKUP(WEEKDAY(CONCATENATE(AO7,$X$5,$AL$5)),Tabelas!$I:$J,2,0),\"\"),\"\")","v":"SEX"},{"$f":"IF(AP7<>\"\",IFERROR(VLOOKUP(WEEKDAY(CONCATENATE(AP7,$X$5,$AL$5)),Tabelas!$I:$J,2,0),\"\"),\"\")","v":"SAB"},{"$f":"IF(AQ7<>\"\",IFERROR(VLOOKUP(WEEKDAY(CONCATENATE(AQ7,$X$5,$AL$5)),Tabelas!$I:$J,2,0),\"\"),\"\")","v":""},1,2,3,4,5,6,7,8,9,10,11,12,13,14,15,16,17,18,19,20,21,22,23,24,25,26,27,28,29,30,31]
["FULANO 1",1,null,null,null,null,null,null,null,null,null,null,null,null,null,null,null,null,null,null,null,null,null,null,null,null,null,null,null,null,null,null,null,null,null,null,null,null,null,null,null,null,null,{"$f":"IF(A9<>\"\",IFERROR(VLOOKUP(M9,Tabelas!B:D,3,0),0),\"\")","v":0},{"$f":"IF(A9<>\"\",IFERROR(VLOOKUP(N9,Tabelas!B:D,3,0),0),\"\")","v":0},{"$f":"IF(A9<>\"\",IFERROR(VLOOKUP(O9,Tabelas!B:D,3,0),0),\"\")","v":0},{"$f":"IF(A9<>\"\",IFERROR(VLOOKUP(P9,Tabelas!B:D,3,0),0),\"\")","v":0},{"$f":"IF(A9<>\"\",IFERROR(VLOOKUP(Q9,Tabelas!B:D,3,0),0),\"\")","v":0},{"$f":"IF(A9<>\"\",IFERROR(VLOOKUP(R9,Tabelas!B:D,3,0),0),\"\")","v":0},{"$f":"IF(A9<>\"\",IFERROR(VLOOKUP(S9,Tabelas!B:D,3,0),0),\"\")","v":0},{"$f":"IF(A9<>\"\",IFERROR(VLOOKUP(T9,Tabelas!B:D,3,0),0),\"\")","v":0},{"$f":"IF(A9<>\"\",IFERROR(VLOOKUP(U9,Tabelas!B:D,3,0),0),\"\")","v":0},{"$f":"IF(A9<>\"\",IFERROR(VLOOKUP(V9,Tabelas!B:D,3,0),0),\"\")","v":0},{"$f":"IF(A9<>\"\",IFERROR(VLOOKUP(W9,Tabelas!B:D,3,0),0),\"\")","v":0},{"$f":"IF(A9<>\"\",IFERROR(VLOOKUP(X9,Tabelas!B:D,3,0),0),\"\")","v":0},{"$f":"IF(A9<>\"\",IFERROR(VLOOKUP(Y9,Tabelas!B:D,3,0),0),\"\")","v":0},{"$f":"IF(A9<>\"\",IFERROR(VLOOKUP(Z9,Tabelas!B:D,3,0),0),\"\")","v":0},{"$f":"IF(A9<>\"\",IFERROR(VLOOKUP(AA9,Tabelas!B:D,3,0),0),\"\")","v":0},{"$f":"IF(A9<>\"\",IFERROR(VLOOKUP(AB9,Tabelas!B:D,3,0),0),\"\")","v":0},{"$f":"IF(A9<>\"\",IFERROR(VLOOKUP(AC9,Tabelas!B:D,3,0),0),\"\")","v":0},{"$f":"IF(A9<>\"\",IFERROR(VLOOKUP(AD9,Tabelas!B:D,3,0),0),\"\")","v":0},{"$f":"IF(A9<>\"\",IFERROR(VLOOKUP(AE9,Tabelas!B:D,3,0),0),\"\")","v":0},{"$f":"IF(A9<>\"\",IFERROR(VLOOKUP(AF9,Tabelas!B:D,3,0),0),\"\")","v":0},{"$f":"IF(A9<>\"\",IFERROR(VLOOKUP(AG9,Tabelas!B:D,3,0),0),\"\")","v":0},{"$f":"IF(A9<>\"\",IFERROR(VLOOKUP(AH9,Tabelas!B:D,3,0),0),\"\")","v":0},{"$f":"IF(A9<>\"\",IFERROR(VLOOKUP(AI9,Tabelas!B:D,3,0),0),\"\")","v":0},{"$f":"IF(A9<>\"\",IFERROR(VLOOKUP(AJ9,Tabelas!B:D,3,0),0),\"\")","v":0},{"$f":"IF(A9<>\"\",IFERROR(VLOOKUP(AK9,Tabelas!B:D,3,0),0),\"\")","v":0},{"$f":"IF(A9<>\"\",IFERROR(VLOOKUP(AL9,Tabelas!B:D,3,0),0),\"\")","v":0},{"$f":"IF(A9<>\"\",IFERROR(VLOOKUP(AM9,Tabelas!B:D,3,0),0),\"\")","v":0},{"$f":"IF(A9<>\"\",IFERROR(VLOOKUP(AN9,Tabelas!B:D,3,0),0),\"\")","v":0},{"$f":"IF(A9<>\"\",IFERROR(VLOOKUP(AO9,Tabelas!B:D,3,0),0),\"\")","v":0},{"$f":"IF(A9<>\"\",IFERROR(VLOOKUP(AP9,Tabelas!B:D,3,0),0),\"\")","v":0},{"$f":"IF(A9<>\"\",IFERROR(VLOOKUP(AQ9,Tabelas!B:D,3,0),0),\"\")","v":0},{"$f":"IF(AND(A9<>\"\",E9=\"Ebserh\"),SUM(AR9:BV9)+COUNTIF(M9:AQ9,\"N*\")+COUNTIF(M9:AQ9,\"DN*\"),IF(AND(A9<>\"\",E9<>\"Ebserh\"),SUM(AR9:BV9),\"\"))","v":0},{"$f":"IF(A9<>\"\",COUNTIF(M9:AQ9,\"LM\")+COUNTIF(M9:AQ9,\"L\")+COUNTIF(M9:AQ9,\"LP\"),\"\")","v":0},{"$f":"IF(A9<>\"\",COUNTIF(M9:AQ9,\"AB*\"),\"\")","v":0},{"$f":"IF(A9<>\"\",COUNTIF(M9:AQ9,\"FE\"),\"\")","v":0},{"$f":"IF(A9<>\"\",COUNTIF(M9:AQ9,\"LC\"),\"\")","v":0},{"$f":"IF(A9<>\"\",COUNTIF(M9:AQ9,\"CH*\"),\"\")","v":0},{"$f":"IF(A9<>\"\",COUNTIF(M9:AQ9,\"AF1\")+COUNTIF(M9:AQ9,\"AF2\")+COUNTIF(M9:AQ9,\"AF3\")+COUNTIF(M9:AQ9,\"AF4\")+COUNTIF(M9:AQ9,\"AF5\")+COUNTIF(M9:AQ9,\"AF6\")+COUNTIF(M9:AQ9,\"AF7\")+COUNTIF(M9:AQ9,\"AF8\")+COUNTIF(M9:AQ9,\"AF9\")+COUNTIF(M9:AQ9,\"AF10\")+COUNTIF(M9:AQ9,\"AF11\")+COUNTIF(M9:AQ9,\"AF12\")+COUNTIF(M9:AQ9,\"AF13\")+COUNTIF(M9:AQ9,\"AF14\"),\"\")","v":0},{"$f":"IF(A9<>\"\",COUNTIF(M9:AQ9,\"CH*\")+COUNTIF(M9:AQ9,\"L\")+COUNTIF(M9:AQ9,\"LM\")+COUNTIF(M9:AQ9,\"LP\")+COUNTIF(M9:AQ9,\"LC\")+COUNTIF(M9:AQ9,\"AB*\")+COUNTIF(M9:AQ9,\"AF1\")+COUNTIF(M9:AQ9,\"AF2\")+COUNTIF(M9:AQ9,\"AF3\")+COUNTIF(M9:AQ9,\"AF4\")+COUNTIF(M9:AQ9,\"AF5\")+COUNTIF(M9:AQ9,\"AF6\")+COUNTIF(M9:AQ9,\"AF7\")+COUNTIF(M9:AQ9,\"AF8\")+COUNTIF(M9:AQ9,\"AF9\")+COUNTIF(M9:AQ9,\"AF10\")+COUNTIF(M9:AQ9,\"AF11\")+COUNTIF(M9:AQ9,\"AF12\")+COUNTIF(M9:AQ9,\"AF13\")+COUNTIF(M9:AQ9,\"AF14\")+COUNTIF(M9:AQ9,\"RC\")+COUNTIF(M9:AQ9,\"FO\")+COUNTIF(M9:AQ9,\"FE\"),\"\")","v":0}]
["FULANO 2",2,null,null,null,null,null,null,null,null,null,null,null,null,null,null,null,null,null,null,null,null,null,null,null,null,null,null,null,null,null,null,null,null,null,null,null,null,null,null,null,null,null,{"$f":"IF(A10<>\"\",IFERROR(VLOOKUP(M10,Tabelas!B:D,3,0),0),\"\")","v":0},{"$f":"IF(A10<>\"\",IFERROR(VLOOKUP(N10,Tabelas!B:D,3,0),0),\"\")","v":0},{"$f":"IF(A10<>\"\",IFERROR(VLOOKUP(O10,Tabelas!B:D,3,0),0),\"\")","v":0},{"$f":"IF(A10<>\"\",IFERROR(VLOOKUP(P10,Tabelas!B:D,3,0),0),\"\")","v":0},{"$f":"IF(A10<>\"\",IFERROR(VLOOKUP(Q10,Tabelas!B:D,3,0),0),\"\")","v":0},{"$f":"IF(A10<>\"\",IFERROR(VLOOKUP(R10,Tabelas!B:D,3,0),0),\"\")","v":0},{"$f":"IF(A10<>\"\",IFERROR(VLOOKUP(S10,Tabelas!B:D,3,0),0),\"\")","v":0},{"$f":"IF(A10<>\"\",IFERROR(VLOOKUP(T10,Tabelas!B:D,3,0),0),\"\")","v":0},{"$f":"IF(A10<>\"\",IFERROR(VLOOKUP(U10,Tabelas!B:D,3,0),0),\"\")","v":0},{"$f":"IF(A10<>\"\",IFERROR(VLOOKUP(V10,Tabelas!B:D,3,0),0),\"\")","v":0},{"$f":"IF(A10<>\"\",IFERROR(VLOOKUP(W10,Tabelas!B:D,3,0),0),\"\")","v":0},{"$f":"IF(A10<>\"\",IFERROR(VLOOKUP(X10,Tabelas!B:D,3,0),0),\"\")","v":0},{"$f":"IF(A10<>\"\",IFERROR(VLOOKUP(Y10,Tabelas!B:D,3,0),0),\"\")","v":0},{"$f":"IF(A10<>\"\",IFERROR(VLOOKUP(Z10,Tabelas!B:D,3,0),0),\"\")","v":0},{"$f":"IF(A10<>\"\",IFERROR(VLOOKUP(AA10,Tabelas!B:D,3,0),0),\"\")","v":0},{"$f":"IF(A10<>\"\",IFERROR(VLOOKUP(AB10,Tabelas!B:D,3,0),0),\"\")","v":0},{"$f":"IF(A10<>\"\",IFERROR(VLOOKUP(AC10,Tabelas!B:D,3,0),0),\"\")","v":0},{"$f":"IF(A10<>\"\",IFERROR(VLOOKUP(AD10,Tabelas!B:D,3,0),0),\"\")","v":0},{"$f":"IF(A10<>\"\",IFERROR(VLOOKUP(AE10,Tabelas!B:D,3,0),0),\"\")","v":0},{"$f":"IF(A10<>\"\",IFERROR(VLOOKUP(AF10,Tabelas!B:D,3,0),0),\"\")","v":0},{"$f":"IF(A10<>\"\",IFERROR(VLOOKUP(AG10,Tabelas!B:D,3,0),0),\"\")","v":0},{"$f":"IF(A10<>\"\",IFERROR(VLOOKUP(AH10,Tabelas!B:D,3,0),0),\"\")","v":0},{"$f":"IF(A10<>\"\",IFERROR(VLOOKUP(AI10,Tabelas!B:D,3,0),0),\"\")","v":0},{"$f":"IF(A10<>\"\",IFERROR(VLOOKUP(AJ10,Tabelas!B:D,3,0),0),\"\")","v":0},{"$f":"IF(A10<>\"\",IFERROR(VLOOKUP(AK10,Tabelas!B:D,3,0),0),\"\")","v":0},{"$f":"IF(A10<>\"\",IFERROR(VLOOKUP(AL10,Tabelas!B:D,3,0),0),\"\")","v":0},{"$f":"IF(A10<>\"\",IFERROR(VLOOKUP(AM10,Tabelas!B:D,3,0),0),\"\")","v":0},{"$f":"IF(A10<>\"\",IFERROR(VLOOKUP(AN10,Tabelas!B:D,3,0),0),\"\")","v":0},{"$f":"IF(A10<>\"\",IFERROR(VLOOKUP(AO10,Tabelas!B:D,3,0),0),\"\")","v":0},{"$f":"IF(A10<>\"\",IFERROR(VLOOKUP(AP10,Tabelas!B:D,3,0),0),\"\")","v":0},{"$f":"IF(A10<>\"\",IFERROR(VLOOKUP(AQ10,Tabelas!B:D,3,0),0),\"\")","v":0},0,0,0,0,0,0,0,0]
["FULANO 3",3,null,null,null,null,null,null,null,null,null,null,null,null,null,null,null,null,null,null,null,null,null,null,null,null,null,null,null,null,null,null,null,null,null,null,null,null,null,null,null,null,null,{"$f":"IF(A11<>\"\",IFERROR(VLOOKUP(M11,Tabelas!B:D,3,0),0),\"\")","v":0},{"$f":"IF(A11<>\"\",IFERROR(VLOOKUP(N11,Tabelas!B:D,3,0),0),\"\")","v":0},{"$f":"IF(A11<>\"\",IFERROR(VLOOKUP(O11,Tabelas!B:D,3,0),0),\"\")","v":0},{"$f":"IF(A11<>\"\",IFERROR(VLOOKUP(P11,Tabelas!B:D,3,0),0),\"\")","v":0},{"$f":"IF(A11<>\"\",IFERROR(VLOOKUP(Q11,Tabelas!B:D,3,0),0),\"\")","v":0},{"$f":"IF(A11<>\"\",IFERROR(VLOOKUP(R11,Tabelas!B:D,3,0),0),\"\")","v":0},{"$f":"IF(A11<>\"\",IFERROR(VLOOKUP(S11,Tabelas!B:D,3,0),0),\"\")","v":0},{"$f":"IF(A11<>\"\",IFERROR(VLOOKUP(T11,Tabelas!B:D,3,0),0),\"\")","v":0},{"$f":"IF(A11<>\"\",IFERROR(VLOOKUP(U11,Tabelas!B:D,3,0),0),\"\")","v":0},{"$f":"IF(A11<>\"\",IFERROR(VLOOKUP(V11,Tabelas!B:D,3,0),0),\"\")","v":0},{"$f":"IF(A11<>\"\",IFERROR(VLOOKUP(W11,Tabelas!B:D,3,0),0),\"\")","v":0},{"$f":"IF(A11<>\"\",IFERROR(VLOOKUP(X11,Tabelas!B:D,3,0),0),\"\")","v":0},{"$f":"IF(A11<>\"\",IFERROR(VLOOKUP(Y11,Tabelas!B:D,3,0),0),\"\")","v":0},{"$f":"IF(A11<>\"\",IFERROR(VLOOKUP(Z11,Tabelas!B:D,3,0),0),\"\")","v":0},{"$f":"IF(A11<>\"\",IFERROR(VLOOKUP(AA11,Tabelas!B:D,3,0),0),\"\")","v":0},{"$f":"IF(A11<>\"\",IFERROR(VLOOKUP(AB11,Tabelas!B:D,3,0),0),\"\")","v":0},{"$f":"IF(A11<>\"\",IFERROR(VLOOKUP(AC11,Tabelas!B:D,3,0),0),\"\")","v":0},{"$f":"IF(A11<>\"\",IFERROR(VLOOKUP(AD11,Tabelas!B:D,3,0),0),\"\")","v":0},{"$f":"IF(A11<>\"\",IFERROR(VLOOKUP(AE11,Tabelas!B:D,3,0),0),\"\")","v":0},{"$f":"IF(A11<>\"\",IFERROR(VLOOKUP(AF11,Tabelas!B:D,3,0),0),\"\")","v":0},{"$f":"IF(A11<>\"\",IFERROR(VLOOKUP(AG11,Tabelas!B:D,3,0),0),\"\")","v":0},{"$f":"IF(A11<>\"\",IFERROR(VLOOKUP(AH11,Tabelas!B:D,3,0),0),\"\")","v":0},{"$f":"IF(A11<>\"\",IFERROR(VLOOKUP(AI11,Tabelas!B:D,3,0),0),\"\")","v":0},{"$f":"IF(A11<>\"\",IFERROR(VLOOKUP(AJ11,Tabelas!B:D,3,0),0),\"\")","v":0},{"$f":"IF(A11<>\"\",IFERROR(VLOOKUP(AK11,Tabelas!B:D,3,0),0),\"\")","v":0},{"$f":"IF(A11<>\"\",IFERROR(VLOOKUP(AL11,Tabelas!B:D,3,0),0),\"\")","v":0},{"$f":"IF(A11<>\"\",IFERROR(VLOOKUP(AM11,Tabelas!B:D,3,0),0),\"\")","v":0},{"$f":"IF(A11<>\"\",IFERROR(VLOOKUP(AN11,Tabelas!B:D,3,0),0),\"\")","v":0},{"$f":"IF(A11<>\"\",IFERROR(VLOOKUP(AO11,Tabelas!B:D,3,0),0),\"\")","v":0},{"$f":"IF(A11<>\"\",IFERROR(VLOOKUP(AP11,Tabelas!B:D,3,0),0),\"\")","v":0},{"$f":"IF(A11<>\"\",IFERROR(VLOOKUP(AQ11,Tabelas!B:D,3,0),0),\"\")","v":0},0,0,0,0,0,0,0,0]
["FULANO 4",4,null,null,null,null,null,null,null,null,null,null,null,null,null,null,null,null,null,null,null,null,null,null,null,null,null,null,null,null,null,null,null,null,null,null,null,null,null,null,null,null,null,{"$f":"IF(A12<>\"\",IFERROR(VLOOKUP(M12,Tabelas!B:D,3,0),0),\"\")","v":0},{"$f":"IF(A12<>\"\",IFERROR(VLOOKUP(N12,Tabelas!B:D,3,0),0),\"\")","v":0},{"$f":"IF(A12<>\"\",IFERROR(VLOOKUP(O12,Tabelas!B:D,3,0),0),\"\")","v":0},{"$f":"IF(A12<>\"\",IFERROR(VLOOKUP(P12,Tabelas!B:D,3,0),0),\"\")","v":0},{"$f":"IF(A12<>\"\",IFERROR(VLOOKUP(Q12,Tabelas!B:D,3,0),0),\"\")","v":0},{"$f":"IF(A12<>\"\",IFERROR(VLOOKUP(R12,Tabelas!B:D,3,0),0),\"\")","v":0},{"$f":"IF(A12<>\"\",IFERROR(VLOOKUP(S12,Tabelas!B:D,3,0),0),\"\")","v":0},{"$f":"IF(A12<>\"\",IFERROR(VLOOKUP(T12,Tabelas!B:D,3,0),0),\"\")","v":0},{"$f":"IF(A12<>\"\",IFERROR(VLOOKUP(U12,Tabelas!B:D,3,0),0),\"\")","v":0},{"$f":"IF(A12<>\"\",IFERROR(VLOOKUP(V12,Tabelas!B:D,3,0),0),\"\")","v":0},{"$f":"IF(A12<>\"\",IFERROR(VLOOKUP(W12,Tabelas!B:D,3,0),0),\"\")","v":0},{"$f":"IF(A12<>\"\",IFERROR(VLOOKUP(X12,Tabelas!B:D,3,0),0),\"\")","v":0},{"$f":"IF(A12<>\"\",IFERROR(VLOOKUP(Y12,Tabelas!B:D,3,0),0),\"\")","v":0},{"$f":"IF(A12<>\"\",IFERROR(VLOOKUP(Z12,Tabelas!B:D,3,0),0),\"\")","v":0},{"$f":"IF(A12<>\"\",IFERROR(VLOOKUP(AA12,Tabelas!B:D,3,0),0),\"\")","v":0},{"$f":"IF(A12<>\"\",IFERROR(VLOOKUP(AB12,Tabelas!B:D,3,0),0),\"\")","v":0},{"$f":"IF(A12<>\"\",IFERROR(VLOOKUP(AC12,Tabelas!B:D,3,0),0),\"\")","v":0},{"$f":"IF(A12<>\"\",IFERROR(VLOOKUP(AD12,Tabelas!B:D,3,0),0),\"\")","v":0},{"$f":"IF(A12<>\"\",IFERROR(VLOOKUP(AE12,Tabelas!B:D,3,0),0),\"\")","v":0},{"$f":"IF(A12<>\"\",IFERROR(VLOOKUP(AF12,Tabelas!B:D,3,0),0),\"\")","v":0},{"$f":"IF(A12<>\"\",IFERROR(VLOOKUP(AG12,Tabelas!B:D,3,0),0),\"\")","v":0},{"$f":"IF(A12<>\"\",IFERROR(VLOOKUP(AH12,Tabelas!B:D,3,0),0),\"\")","v":0},{"$f":"IF(A12<>\"\",IFERROR(VLOOKUP(AI12,Tabelas!B:D,3,0),0),\"\")","v":0},{"$f":"IF(A12<>\"\",IFERROR(VLOOKUP(AJ12,Tabelas!B:D,3,0),0),\"\")","v":0},{"$f":"IF(A12<>\"\",IFERROR(VLOOKUP(AK12,Tabelas!B:D,3,0),0),\"\")","v":0},{"$f":"IF(A12<>\"\",IFERROR(VLOOKUP(AL12,Tabelas!B:D,3,0),0),\"\")","v":0},{"$f":"IF(A12<>\"\",IFERROR(VLOOKUP(AM12,Tabelas!B:D,3,0),0),\"\")","v":0},{"$f":"IF(A12<>\"\",IFERROR(VLOOKUP(AN12,Tabelas!B:D,3,0),0),\"\")","v":0},{"$f":"IF(A12<>\"\",IFERROR(VLOOKUP(AO12,Tabelas!B:D,3,0),0),\"\")","v":0},{"$f":"IF(A12<>\"\",IFERROR(VLOOKUP(AP12,Tabelas!B:D,3,0),0),\"\")","v":0},{"$f":"IF(A12<>\"\",IFERROR(VLOOKUP(AQ12,Tabelas!B:D,3,0),0),\"\")","v":0},0,0,0,0,0,0,0,0]
["FULANO 5",5,null,null,null,null,null,null,null,null,null,null,null,null,null,null,null,null,null,null,null,null,null,null,null,null,null,null,null,null,null,null,null,null,null,null,null,null,null,null,null,null,null,{"$f":"IF(A13<>\"\",IFERROR(VLOOKUP(M13,Tabelas!B:D,3,0),0),\"\")","v":0},{"$f":"IF(A13<>\"\",IFERROR(VLOOKUP(N13,Tabelas!B:D,3,0),0),\"\")","v":0},{"$f":"IF(A13<>\"\",IFERROR(VLOOKUP(O13,Tabelas!B:D,3,0),0),\"\")","v":0},{"$f":"IF(A13<>\"\",IFERROR(VLOOKUP(P13,Tabelas!B:D,3,0),0),\"\")","v":0},{"$f":"IF(A13<>\"\",IFERROR(VLOOKUP(Q13,Tabelas!B:D,3,0),0),\"\")","v":0},{"$f":"IF(A13<>\"\",IFERROR(VLOOKUP(R13,Tabelas!B:D,3,0),0),\"\")","v":0},{"$f":"IF(A13<>\"\",IFERROR(VLOOKUP(S13,Tabelas!B:D,3,0),0),\"\")","v":0},{"$f":"IF(A13<>\"\",IFERROR(VLOOKUP(T13,Tabelas!B:D,3,0),0),\"\")","v":0},{"$f":"IF(A13<>\"\",IFERROR(VLOOKUP(U13,Tabelas!B:D,3,0),0),\"\")","v":0},{"$f":"IF(A13<>\"\",IFERROR(VLOOKUP(V13,Tabelas!B:D,3,0),0),\"\")","v":0},{"$f":"IF(A13<>\"\",IFERROR(VLOOKUP(W13,Tabelas!B:D,3,0),0),\"\")","v":0},{"$f":"IF(A13<>\"\",IFERROR(VLOOKUP(X13,Tabelas!B:D,3,0),0),\"\")","v":0},{"$f":"IF(A13<>\"\",IFERROR(VLOOKUP(Y13,Tabelas!B:D,3,0),0),\"\")","v":0},{"$f":"IF(A13<>\"\",IFERROR(VLOOKUP(Z13,Tabelas!B:D,3,0),0),\"\")","v":0},{"$f":"IF(A13<>\"\",IFERROR(VLOOKUP(AA13,Tabelas!B:D,3,0),0),\"\")","v":0},{"$f":"IF(A13<>\"\",IFERROR(VLOOKUP(AB13,Tabelas!B:D,3,0),0),\"\")","v":0},{"$f":"IF(A13<>\"\",IFERROR(VLOOKUP(AC13,Tabelas!B:D,3,0),0),\"\")","v":0},{"$f":"IF(A13<>\"\",IFERROR(VLOOKUP(AD13,Tabelas!B:D,3,0),0),\"\")","v":0},{"$f":"IF(A13<>\"\",IFERROR(VLOOKUP(AE13,Tabelas!B:D,3,0),0),\"\")","v":0},{"$f":"IF(A13<>\"\",IFERROR(VLOOKUP(AF13,Tabelas!B:D,3,0),0),\"\")","v":0},{"$f":"IF(A13<>\"\",IFERROR(VLOOKUP(AG13,Tabelas!B:D,3,0),0),\"\")","v":0},{"$f":"IF(A13<>\"\",IFERROR(VLOOKUP(AH13,Tabelas!B:D,3,0),0),\"\")","v":0},{"$f":"IF(A13<>\"\",IFERROR(VLOOKUP(AI13,Tabelas!B:D,3,0),0),\"\")","v":0},{"$f":"IF(A13<>\"\",IFERROR(VLOOKUP(AJ13,Tabelas!B:D,3,0),0),\"\")","v":0},{"$f":"IF(A13<>\"\",IFERROR(VLOOKUP(AK13,Tabelas!B:D,3,0),0),\"\")","v":0},{"$f":"IF(A13<>\"\",IFERROR(VLOOKUP(AL13,Tabelas!B:D,3,0),0),\"\")","v":0},{"$f":"IF(A13<>\"\",IFERROR(VLOOKUP(AM13,Tabelas!B:D,3,0),0),\"\")","v":0},{"$f":"IF(A13<>\"\",IFERROR(VLOOKUP(AN13,Tabelas!B:D,3,0),0),\"\")","v":0},{"$f":"IF(A13<>\"\",IFERROR(VLOOKUP(AO13,Tabelas!B:D,3,0),0),\"\")","v":0},{"$f":"IF(A13<>\"\",IFERROR(VLOOKUP(AP13,Tabelas!B:D,3,0),0),\"\")","v":0},{"$f":"IF(A13<>\"\",IFERROR(VLOOKUP(AQ13,Tabelas!B:D,3,0),0),\"\")","v":0},0,0,0,0,0,0,0,0]
["FULANO 6",6,null,null,null,null,null,null,null,null,null,null,null,null,null,null,null,null,null,null,null,null,null,null,null,null,null,null,null,null,null,null,null,null,null,null,null,null,null,null,null,null,null,{"$f":"IF(A14<>\"\",IFERROR(VLOOKUP(M14,Tabelas!B:D,3,0),0),\"\")","v":0},{"$f":"IF(A14<>\"\",IFERROR(VLOOKUP(N14,Tabelas!B:D,3,0),0),\"\")","v":0},{"$f":"IF(A14<>\"\",IFERROR(VLOOKUP(O14,Tabelas!B:D,3,0),0),\"\")","v":0},{"$f":"IF(A14<>\"\",IFERROR(VLOOKUP(P14,Tabelas!B:D,3,0),0),\"\")","v":0},{"$f":"IF(A14<>\"\",IFERROR(VLOOKUP(Q14,Tabelas!B:D,3,0),0),\"\")","v":0},{"$f":"IF(A14<>\"\",IFERROR(VLOOKUP(R14,Tabelas!B:D,3,0),0),\"\")","v":0},{"$f":"IF(A14<>\"\",IFERROR(VLOOKUP(S14,Tabelas!B:D,3,0),0),\"\")","v":0},{"$f":"IF(A14<>\"\",IFERROR(VLOOKUP(T14,Tabelas!B:D,3,0),0),\"\")","v":0},{"$f":"IF(A14<>\"\",IFERROR(VLOOKUP(U14,Tabelas!B:D,3,0),0),\"\")","v":0},{"$f":"IF(A14<>\"\",IFERROR(VLOOKUP(V14,Tabelas!B:D,3,0),0),\"\")","v":0},{"$f":"IF(A14<>\"\",IFERROR(VLOOKUP(W14,Tabelas!B:D,3,0),0),\"\")","v":0},{"$f":"IF(A14<>\"\",IFERROR(VLOOKUP(X14,Tabelas!B:D,3,0),0),\"\")","v":0},{"$f":"IF(A14<>\"\",IFERROR(VLOOKUP(Y14,Tabelas!B:D,3,0),0),\"\")","v":0},{"$f":"IF(A14<>\"\",IFERROR(VLOOKUP(Z14,Tabelas!B:D,3,0),0),\"\")","v":0},{"$f":"IF(A14<>\"\",IFERROR(VLOOKUP(AA14,Tabelas!B:D,3,0),0),\"\")","v":0},{"$f":"IF(A14<>\"\",IFERROR(VLOOKUP(AB14,Tabelas!B:D,3,0),0),\"\")","v":0},{"$f":"IF(A14<>\"\",IFERROR(VLOOKUP(AC14,Tabelas!B:D,3,0),0),\"\")","v":0},{"$f":"IF(A14<>\"\",IFERROR(VLOOKUP(AD14,Tabelas!B:D,3,0),0),\"\")","v":0},{"$f":"IF(A14<>\"\",IFERROR(VLOOKUP(AE14,Tabelas!B:D,3,0),0),\"\")","v":0},{"$f":"IF(A14<>\"\",IFERROR(VLOOKUP(AF14,Tabelas!B:D,3,0),0),\"\")","v":0},{"$f":"IF(A14<>\"\",IFERROR(VLOOKUP(AG14,Tabelas!B:D,3,0),0),\"\")","v":0},{"$f":"IF(A14<>\"\",IFERROR(VLOOKUP(AH14,Tabelas!B:D,3,0),0),\"\")","v":0},{"$f":"IF(A14<>\"\",IFERROR(VLOOKUP(AI14,Tabelas!B:D,3,0),0),\"\")","v":0},{"$f":"IF(A14<>\"\",IFERROR(VLOOKUP(AJ14,Tabelas!B:D,3,0),0),\"\")","v":0},{"$f":"IF(A14<>\"\",IFERROR(VLOOKUP(AK14,Tabelas!B:D,3,0),0),\"\")","v":0},{"$f":"IF(A14<>\"\",IFERROR(VLOOKUP(AL14,Tabelas!B:D,3,0),0),\"\")","v":0},{"$f":"IF(A14<>\"\",IFERROR(VLOOKUP(AM14,Tabelas!B:D,3,0),0),\"\")","v":0},{"$f":"IF(A14<>\"\",IFERROR(VLOOKUP(AN14,Tabelas!B:D,3,0),0),\"\")","v":0},{"$f":"IF(A14<>\"\",IFERROR(VLOOKUP(AO14,Tabelas!B:D,3,0),0),\"\")","v":0},{"$f":"IF(A14<>\"\",IFERROR(VLOOKUP(AP14,Tabelas!B:D,3,0),0),\"\")","v":0},{"$f":"IF(A14<>\"\",IFERROR(VLOOKUP(AQ14,Tabelas!B:D,3,0),0),\"\")","v":0},0,0,0,0,0,0,0,0]
["FULANO 7",7,null,null,null,null,null,null,null,null,null,null,null,null,null,null,null,null,null,null,null,null,null,null,null,null,null,null,null,null,null,null,null,null,null,null,null,null,null,null,null,null,null,{"$f":"IF(A15<>\"\",IFERROR(VLOOKUP(M15,Tabelas!B:D,3,0),0),\"\")","v":0},{"$f":"IF(A15<>\"\",IFERROR(VLOOKUP(N15,Tabelas!B:D,3,0),0),\"\")","v":0},{"$f":"IF(A15<>\"\",IFERROR(VLOOKUP(O15,Tabelas!B:D,3,0),0),\"\")","v":0},{"$f":"IF(A15<>\"\",IFERROR(VLOOKUP(P15,Tabelas!B:D,3,0),0),\"\")","v":0},{"$f":"IF(A15<>\"\",IFERROR(VLOOKUP(Q15,Tabelas!B:D,3,0),0),\"\")","v":0},{"$f":"IF(A15<>\"\",IFERROR(VLOOKUP(R15,Tabelas!B:D,3,0),0),\"\")","v":0},{"$f":"IF(A15<>\"\",IFERROR(VLOOKUP(S15,Tabelas!B:D,3,0),0),\"\")","v":0},{"$f":"IF(A15<>\"\",IFERROR(VLOOKUP(T15,Tabelas!B:D,3,0),0),\"\")","v":0},{"$f":"IF(A15<>\"\",IFERROR(VLOOKUP(U15,Tabelas!B:D,3,0),0),\"\")","v":0},{"$f":"IF(A15<>\"\",IFERROR(VLOOKUP(V15,Tabelas!B:D,3,0),0),\"\")","v":0},{"$f":"IF(A15<>\"\",IFERROR(VLOOKUP(W15,Tabelas!B:D,3,0),0),\"\")","v":0},{"$f":"IF(A15<>\"\",IFERROR(VLOOKUP(X15,Tabelas!B:D,3,0),0),\"\")","v":0},{"$f":"IF(A15<>\"\",IFERROR(VLOOKUP(Y15,Tabelas!B:D,3,0),0),\"\")","v":0},{"$f":"IF(A15<>\"\",IFERROR(VLOOKUP(Z15,Tabelas!B:D,3,0),0),\"\")","v":0},{"$f":"IF(A15<>\"\",IFERROR(VLOOKUP(AA15,Tabelas!B:D,3,0),0),\"\")","v":0},{"$f":"IF(A15<>\"\",IFERROR(VLOOKUP(AB15,Tabelas!B:D,3,0),0),\"\")","v":0},{"$f":"IF(A15<>\"\",IFERROR(VLOOKUP(AC15,Tabelas!B:D,3,0),0),\"\")","v":0},{"$f":"IF(A15<>\"\",IFERROR(VLOOKUP(AD15,Tabelas!B:D,3,0),0),\"\")","v":0},{"$f":"IF(A15<>\"\",IFERROR(VLOOKUP(AE15,Tabelas!B:D,3,0),0),\"\")","v":0},{"$f":"IF(A15<>\"\",IFERROR(VLOOKUP(AF15,Tabelas!B:D,3,0),0),\"\")","v":0},{"$f":"IF(A15<>\"\",IFERROR(VLOOKUP(AG15,Tabelas!B:D,3,0),0),\"\")","v":0},{"$f":"IF(A15<>\"\",IFERROR(VLOOKUP(AH15,Tabelas!B:D,3,0),0),\"\")","v":0},{"$f":"IF(A15<>\"\",IFERROR(VLOOKUP(AI15,Tabelas!B:D,3,0),0),\"\")","v":0},{"$f":"IF(A15<>\"\",IFERROR(VLOOKUP(AJ15,Tabelas!B:D,3,0),0),\"\")","v":0},{"$f":"IF(A15<>\"\",IFERROR(VLOOKUP(AK15,Tabelas!B:D,3,0),0),\"\")","v":0},{"$f":"IF(A15<>\"\",IFERROR(VLOOKUP(AL15,Tabelas!B:D,3,0),0),\"\")","v":0},{"$f":"IF(A15<>\"\",IFERROR(VLOOKUP(AM15,Tabelas!B:D,3,0),0),\"\")","v":0},{"$f":"IF(A15<>\"\",IFERROR(VLOOKUP(AN15,Tabelas!B:D,3,0),0),\"\")","v":0},{"$f":"IF(A15<>\"\",IFERROR(VLOOKUP(AO15,Tabelas!B:D,3,0),0),\"\")","v":0},{"$f":"IF(A15<>\"\",IFERROR(VLOOKUP(AP15,Tabelas!B:D,3,0),0),\"\")","v":0},{"$f":"IF(A15<>\"\",IFERROR(VLOOKUP(AQ15,Tabelas!B:D,3,0),0),\"\")","v":0},0,0,0,0,0,0,0,0]
["FULANO 8",8,null,null,null,null,null,null,null,null,null,null,null,null,null,null,null,null,null,null,null,null,null,null,null,null,null,null,null,null,null,null,null,null,null,null,null,null,null,null,null,null,null,{"$f":"IF(A16<>\"\",IFERROR(VLOOKUP(M16,Tabelas!B:D,3,0),0),\"\")","v":0},{"$f":"IF(A16<>\"\",IFERROR(VLOOKUP(N16,Tabelas!B:D,3,0),0),\"\")","v":0},{"$f":"IF(A16<>\"\",IFERROR(VLOOKUP(O16,Tabelas!B:D,3,0),0),\"\")","v":0},{"$f":"IF(A16<>\"\",IFERROR(VLOOKUP(P16,Tabelas!B:D,3,0),0),\"\")","v":0},{"$f":"IF(A16<>\"\",IFERROR(VLOOKUP(Q16,Tabelas!B:D,3,0),0),\"\")","v":0},{"$f":"IF(A16<>\"\",IFERROR(VLOOKUP(R16,Tabelas!B:D,3,0),0),\"\")","v":0},{"$f":"IF(A16<>\"\",IFERROR(VLOOKUP(S16,Tabelas!B:D,3,0),0),\"\")","v":0},{"$f":"IF(A16<>\"\",IFERROR(VLOOKUP(T16,Tabelas!B:D,3,0),0),\"\")","v":0},{"$f":"IF(A16<>\"\",IFERROR(VLOOKUP(U16,Tabelas!B:D,3,0),0),\"\")","v":0},{"$f":"IF(A16<>\"\",IFERROR(VLOOKUP(V16,Tabelas!B:D,3,0),0),\"\")","v":0},{"$f":"IF(A16<>\"\",IFERROR(VLOOKUP(W16,Tabelas!B:D,3,0),0),\"\")","v":0},{"$f":"IF(A16<>\"\",IFERROR(VLOOKUP(X16,Tabelas!B:D,3,0),0),\"\")","v":0},{"$f":"IF(A16<>\"\",IFERROR(VLOOKUP(Y16,Tabelas!B:D,3,0),0),\"\")","v":0},{"$f":"IF(A16<>\"\",IFERROR(VLOOKUP(Z16,Tabelas!B:D,3,0),0),\"\")","v":0},{"$f":"IF(A16<>\"\",IFERROR(VLOOKUP(AA16,Tabelas!B:D,3,0),0),\"\")","v":0},{"$f":"IF(A16<>\"\",IFERROR(VLOOKUP(AB16,Tabelas!B:D,3,0),0),\"\")","v":0},{"$f":"IF(A16<>\"\",IFERROR(VLOOKUP(AC16,Tabelas!B:D,3,0),0),\"\")","v":0},{"$f":"IF(A16<>\"\",IFERROR(VLOOKUP(AD16,Tabelas!B:D,3,0),0),\"\")","v":0},{"$f":"IF(A16<>\"\",IFERROR(VLOOKUP(AE16,Tabelas!B:D,3,0),0),\"\")","v":0},{"$f":"IF(A16<>\"\",IFERROR(VLOOKUP(AF16,Tabelas!B:D,3,0),0),\"\")","v":0},{"$f":"IF(A16<>\"\",IFERROR(VLOOKUP(AG16,Tabelas!B:D,3,0),0),\"\")","v":0},{"$f":"IF(A16<>\"\",IFERROR(VLOOKUP(AH16,Tabelas!B:D,3,0),0),\"\")","v":0},{"$f":"IF(A16<>\"\",IFERROR(VLOOKUP(AI16,Tabelas!B:D,3,0),0),\"\")","v":0},{"$f":"IF(A16<>\"\",IFERROR(VLOOKUP(AJ16,Tabelas!B:D,3,0),0),\"\")","v":0},{"$f":"IF(A16<>\"\",IFERROR(VLOOKUP(AK16,Tabelas!B:D,3,0),0),\"\")","v":0},{"$f":"IF(A16<>\"\",IFERROR(VLOOKUP(AL16,Tabelas!B:D,3,0),0),\"\")","v":0},{"$f":"IF(A16<>\"\",IFERROR(VLOOKUP(AM16,Tabelas!B:D,3,0),0),\"\")","v":0},{"$f":"IF(A16<>\"\",IFERROR(VLOOKUP(AN16,Tabelas!B:D,3,0),0),\"\")","v":0},{"$f":"IF(A16<>\"\",IFERROR(VLOOKUP(AO16,Tabelas!B:D,3,0),0),\"\")","v":0},{"$f":"IF(A16<>\"\",IFERROR(VLOOKUP(AP16,Tabelas!B:D,3,0),0),\"\")","v":0},{"$f":"IF(A16<>\"\",IFERROR(VLOOKUP(AQ16,Tabelas!B:D,3,0),0),\"\")","v":0},0,0,0,0,0,0,0,0]
["FULANO 9",9,null,null,null,null,null,null,null,null,null,null,null,null,null,null,null,null,null,null,null,null,null,null,null,null,null,null,null,null,null,null,null,null,null,null,null,null,null,null,null,null,null,{"$f":"IF(A17<>\"\",IFERROR(VLOOKUP(M17,Tabelas!B:D,3,0),0),\"\")","v":0},{"$f":"IF(A17<>\"\",IFERROR(VLOOKUP(N17,Tabelas!B:D,3,0),0),\"\")","v":0},{"$f":"IF(A17<>\"\",IFERROR(VLOOKUP(O17,Tabelas!B:D,3,0),0),\"\")","v":0},{"$f":"IF(A17<>\"\",IFERROR(VLOOKUP(P17,Tabelas!B:D,3,0),0),\"\")","v":0},{"$f":"IF(A17<>\"\",IFERROR(VLOOKUP(Q17,Tabelas!B:D,3,0),0),\"\")","v":0},{"$f":"IF(A17<>\"\",IFERROR(VLOOKUP(R17,Tabelas!B:D,3,0),0),\"\")","v":0},{"$f":"IF(A17<>\"\",IFERROR(VLOOKUP(S17,Tabelas!B:D,3,0),0),\"\")","v":0},{"$f":"IF(A17<>\"\",IFERROR(VLOOKUP(T17,Tabelas!B:D,3,0),0),\"\")","v":0},{"$f":"IF(A17<>\"\",IFERROR(VLOOKUP(U17,Tabelas!B:D,3,0),0),\"\")","v":0},{"$f":"IF(A17<>\"\",IFERROR(VLOOKUP(V17,Tabelas!B:D,3,0),0),\"\")","v":0},{"$f":"IF(A17<>\"\",IFERROR(VLOOKUP(W17,Tabelas!B:D,3,0),0),\"\")","v":0},{"$f":"IF(A17<>\"\",IFERROR(VLOOKUP(X17,Tabelas!B:D,3,0),0),\"\")","v":0},{"$f":"IF(A17<>\"\",IFERROR(VLOOKUP(Y17,Tabelas!B:D,3,0),0),\"\")","v":0},{"$f":"IF(A17<>\"\",IFERROR(VLOOKUP(Z17,Tabelas!B:D,3,0),0),\"\")","v":0},{"$f":"IF(A17<>\"\",IFERROR(VLOOKUP(AA17,Tabelas!B:D,3,0),0),\"\")","v":0},{"$f":"IF(A17<>\"\",IFERROR(VLOOKUP(AB17,Tabelas!B:D,3,0),0),\"\")","v":0},{"$f":"IF(A17<>\"\",IFERROR(VLOOKUP(AC17,Tabelas!B:D,3,0),0),\"\")","v":0},{"$f":"IF(A17<>\"\",IFERROR(VLOOKUP(AD17,Tabelas!B:D,3,0),0),\"\")","v":0},{"$f":"IF(A17<>\"\",IFERROR(VLOOKUP(AE17,Tabelas!B:D,3,0),0),\"\")","v":0},{"$f":"IF(A17<>\"\",IFERROR(VLOOKUP(AF17,Tabelas!B:D,3,0),0),\"\")","v":0},{"$f":"IF(A17<>\"\",IFERROR(VLOOKUP(AG17,Tabelas!B:D,3,0),0),\"\")","v":0},{"$f":"IF(A17<>\"\",IFERROR(VLOOKUP(AH17,Tabelas!B:D,3,0),0),\"\")","v":0},{"$f":"IF(A17<>\"\",IFERROR(VLOOKUP(AI17,Tabelas!B:D,3,0),0),\"\")","v":0},{"$f":"IF(A17<>\"\",IFERROR(VLOOKUP(AJ17,Tabelas!B:D,3,0),0),\"\")","v":0},{"$f":"IF(A17<>\"\",IFERROR(VLOOKUP(AK17,Tabelas!B:D,3,0),0),\"\")","v":0},{"$f":"IF(A17<>\"\",IFERROR(VLOOKUP(AL17,Tabelas!B:D,3,0),0),\"\")","v":0},{"$f":"IF(A17<>\"\",IFERROR(VLOOKUP(AM17,Tabelas!B:D,3,0),0),\"\")","v":0},{"$f":"IF(A17<>\"\",IFERROR(VLOOKUP(AN17,Tabelas!B:D,3,0),0),\"\")","v":0},{"$f":"IF(A17<>\"\",IFERROR(VLOOKUP(AO17,Tabelas!B:D,3,0),0),\"\")","v":0},{"$f":"IF(A17<>\"\",IFERROR(VLOOKUP(AP17,Tabelas!B:D,3,0),0),\"\")","v":0},{"$f":"IF(A17<>\"\",IFERROR(VLOOKUP(AQ17,Tabelas!B:D,3,0),0),\"\")","v":0},0,0,0,0,0,0,0,0]
["FULANO 10",10,null,null,null,null,null,null,null,null,null,null,null,null,null,null,null,null,null,null,null,null,null,null,null,null,null,null,null,null,null,null,null,null,null,null,null,null,null,null,null,null,null,{"$f":"IF(A18<>\"\",IFERROR(VLOOKUP(M18,Tabelas!B:D,3,0),0),\"\")","v":0},{"$f":"IF(A18<>\"\",IFERROR(VLOOKUP(N18,Tabelas!B:D,3,0),0),\"\")","v":0},{"$f":"IF(A18<>\"\",IFERROR(VLOOKUP(O18,Tabelas!B:D,3,0),0),\"\")","v":0},{"$f":"IF(A18<>\"\",IFERROR(VLOOKUP(P18,Tabelas!B:D,3,0),0),\"\")","v":0},{"$f":"IF(A18<>\"\",IFERROR(VLOOKUP(Q18,Tabelas!B:D,3,0),0),\"\")","v":0},{"$f":"IF(A18<>\"\",IFERROR(VLOOKUP(R18,Tabelas!B:D,3,0),0),\"\")","v":0},{"$f":"IF(A18<>\"\",IFERROR(VLOOKUP(S18,Tabelas!B:D,3,0),0),\"\")","v":0},{"$f":"IF(A18<>\"\",IFERROR(VLOOKUP(T18,Tabelas!B:D,3,0),0),\"\")","v":0},{"$f":"IF(A18<>\"\",IFERROR(VLOOKUP(U18,Tabelas!B:D,3,0),0),\"\")","v":0},{"$f":"IF(A18<>\"\",IFERROR(VLOOKUP(V18,Tabelas!B:D,3,0),0),\"\")","v":0},{"$f":"IF(A18<>\"\",IFERROR(VLOOKUP(W18,Tabelas!B:D,3,0),0),\"\")","v":0},{"$f":"IF(A18<>\"\",IFERROR(VLOOKUP(X18,Tabelas!B:D,3,0),0),\"\")","v":0},{"$f":"IF(A18<>\"\",IFERROR(VLOOKUP(Y18,Tabelas!B:D,3,0),0),\"\")","v":0},{"$f":"IF(A18<>\"\",IFERROR(VLOOKUP(Z18,Tabelas!B:D,3,0),0),\"\")","v":0},{"$f":"IF(A18<>\"\",IFERROR(VLOOKUP(AA18,Tabelas!B:D,3,0),0),\"\")","v":0},{"$f":"IF(A18<>\"\",IFERROR(VLOOKUP(AB18,Tabelas!B:D,3,0),0),\"\")","v":0},{"$f":"IF(A18<>\"\",IFERROR(VLOOKUP(AC18,Tabelas!B:D,3,0),0),\"\")","v":0},{"$f":"IF(A18<>\"\",IFERROR(VLOOKUP(AD18,Tabelas!B:D,3,0),0),\"\")","v":0},{"$f":"IF(A18<>\"\",IFERROR(VLOOKUP(AE18,Tabelas!B:D,3,0),0),\"\")","v":0},{"$f":"IF(A18<>\"\",IFERROR(VLOOKUP(AF18,Tabelas!B:D,3,0),0),\"\")","v":0},{"$f":"IF(A18<>\"\",IFERROR(VLOOKUP(AG18,Tabelas!B:D,3,0),0),\"\")","v":0},{"$f":"IF(A18<>\"\",IFERROR(VLOOKUP(AH18,Tabelas!B:D,3,0),0),\"\")","v":0},{"$f":"IF(A18<>\"\",IFERROR(VLOOKUP(AI18,Tabelas!B:D,3,0),0),\"\")","v":0},{"$f":"IF(A18<>\"\",IFERROR(VLOOKUP(AJ18,Tabelas!B:D,3,0),0),\"\")","v":0},{"$f":"IF(A18<>\"\",IFERROR(VLOOKUP(AK18,Tabelas!B:D,3,0),0),\"\")","v":0},{"$f":"IF(A18<>\"\",IFERROR(VLOOKUP(AL18,Tabelas!B:D,3,0),0),\"\")","v":0},{"$f":"IF(A18<>\"\",IFERROR(VLOOKUP(AM18,Tabelas!B:D,3,0),0),\"\")","v":0},{"$f":"IF(A18<>\"\",IFERROR(VLOOKUP(AN18,Tabelas!B:D,3,0),0),\"\")","v":0},{"$f":"IF(A18<>\"\",IFERROR(VLOOKUP(AO18,Tabelas!B:D,3,0),0),\"\")","v":0},{"$f":"IF(A18<>\"\",IFERROR(VLOOKUP(AP18,Tabelas!B:D,3,0),0),\"\")","v":0},{"$f":"IF(A18<>\"\",IFERROR(VLOOKUP(AQ18,Tabelas!B:D,3,0),0),\"\")","v":0},0,0,0,0,0,0,0,0]
["FULANO 11",11,null,null,null,null,null,null,null,null,null,null,null,null,null,null,null,null,null,null,null,null,null,null,null,null,null,null,null,null,null,null,null,null,null,null,null,null,null,null,null,null,null,{"$f":"IF(A19<>\"\",IFERROR(VLOOKUP(M19,Tabelas!B:D,3,0),0),\"\")","v":0},{"$f":"IF(A19<>\"\",IFERROR(VLOOKUP(N19,Tabelas!B:D,3,0),0),\"\")","v":0},{"$f":"IF(A19<>\"\",IFERROR(VLOOKUP(O19,Tabelas!B:D,3,0),0),\"\")","v":0},{"$f":"IF(A19<>\"\",IFERROR(VLOOKUP(P19,Tabelas!B:D,3,0),0),\"\")","v":0},{"$f":"IF(A19<>\"\",IFERROR(VLOOKUP(Q19,Tabelas!B:D,3,0),0),\"\")","v":0},{"$f":"IF(A19<>\"\",IFERROR(VLOOKUP(R19,Tabelas!B:D,3,0),0),\"\")","v":0},{"$f":"IF(A19<>\"\",IFERROR(VLOOKUP(S19,Tabelas!B:D,3,0),0),\"\")","v":0},{"$f":"IF(A19<>\"\",IFERROR(VLOOKUP(T19,Tabelas!B:D,3,0),0),\"\")","v":0},{"$f":"IF(A19<>\"\",IFERROR(VLOOKUP(U19,Tabelas!B:D,3,0),0),\"\")","v":0},{"$f":"IF(A19<>\"\",IFERROR(VLOOKUP(V19,Tabelas!B:D,3,0),0),\"\")","v":0},{"$f":"IF(A19<>\"\",IFERROR(VLOOKUP(W19,Tabelas!B:D,3,0),0),\"\")","v":0},{"$f":"IF(A19<>\"\",IFERROR(VLOOKUP(X19,Tabelas!B:D,3,0),0),\"\")","v":0},{"$f":"IF(A19<>\"\",IFERROR(VLOOKUP(Y19,Tabelas!B:D,3,0),0),\"\")","v":0},{"$f":"IF(A19<>\"\",IFERROR(VLOOKUP(Z19,Tabelas!B:D,3,0),0),\"\")","v":0},{"$f":"IF(A19<>\"\",IFERROR(VLOOKUP(AA19,Tabelas!B:D,3,0),0),\"\")","v":0},{"$f":"IF(A19<>\"\",IFERROR(VLOOKUP(AB19,Tabelas!B:D,3,0),0),\"\")","v":0},{"$f":"IF(A19<>\"\",IFERROR(VLOOKUP(AC19,Tabelas!B:D,3,0),0),\"\")","v":0},{"$f":"IF(A19<>\"\",IFERROR(VLOOKUP(AD19,Tabelas!B:D,3,0),0),\"\")","v":0},{"$f":"IF(A19<>\"\",IFERROR(VLOOKUP(AE19,Tabelas!B:D,3,0),0),\"\")","v":0},{"$f":"IF(A19<>\"\",IFERROR(VLOOKUP(AF19,Tabelas!B:D,3,0),0),\"\")","v":0},{"$f":"IF(A19<>\"\",IFERROR(VLOOKUP(AG19,Tabelas!B:D,3,0),0),\"\")","v":0},{"$f":"IF(A19<>\"\",IFERROR(VLOOKUP(AH19,Tabelas!B:D,3,0),0),\"\")","v":0},{"$f":"IF(A19<>\"\",IFERROR(VLOOKUP(AI19,Tabelas!B:D,3,0),0),\"\")","v":0},{"$f":"IF(A19<>\"\",IFERROR(VLOOKUP(AJ19,Tabelas!B:D,3,0),0),\"\")","v":0},{"$f":"IF(A19<>\"\",IFERROR(VLOOKUP(AK19,Tabelas!B:D,3,0),0),\"\")","v":0},{"$f":"IF(A19<>\"\",IFERROR(VLOOKUP(AL19,Tabelas!B:D,3,0),0),\"\")","v":0},{"$f":"IF(A19<>\"\",IFERROR(VLOOKUP(AM19,Tabelas!B:D,3,0),0),\"\")","v":0},{"$f":"IF(A19<>\"\",IFERROR(VLOOKUP(AN19,Tabelas!B:D,3,0),0),\"\")","v":0},{"$f":"IF(A19<>\"\",IFERROR(VLOOKUP(AO19,Tabelas!B:D,3,0),0),\"\")","v":0},{"$f":"IF(A19<>\"\",IFERROR(VLOOKUP(AP19,Tabelas!B:D,3,0),0),\"\")","v":0},{"$f":"IF(A19<>\"\",IFERROR(VLOOKUP(AQ19,Tabelas!B:D,3,0),0),\"\")","v":0},0,0,0,0,0,0,0,0]
["FULANO 12",12,null,null,null,null,null,null,null,null,null,null,null,null,null,null,null,null,null,null,null,null,null,null,null,null,null,null,null,null,null,null,null,null,null,null,null,null,null,null,null,null,null,{"$f":"IF(A20<>\"\",IFERROR(VLOOKUP(M20,Tabelas!B:D,3,0),0),\"\")","v":0},{"$f":"IF(A20<>\"\",IFERROR(VLOOKUP(N20,Tabelas!B:D,3,0),0),\"\")","v":0},{"$f":"IF(A20<>\"\",IFERROR(VLOOKUP(O20,Tabelas!B:D,3,0),0),\"\")","v":0},{"$f":"IF(A20<>\"\",IFERROR(VLOOKUP(P20,Tabelas!B:D,3,0),0),\"\")","v":0},{"$f":"IF(A20<>\"\",IFERROR(VLOOKUP(Q20,Tabelas!B:D,3,0),0),\"\")","v":0},{"$f":"IF(A20<>\"\",IFERROR(VLOOKUP(R20,Tabelas!B:D,3,0),0),\"\")","v":0},{"$f":"IF(A20<>\"\",IFERROR(VLOOKUP(S20,Tabelas!B:D,3,0),0),\"\")","v":0},{"$f":"IF(A20<>\"\",IFERROR(VLOOKUP(T20,Tabelas!B:D,3,0),0),\"\")","v":0},{"$f":"IF(A20<>\"\",IFERROR(VLOOKUP(U20,Tabelas!B:D,3,0),0),\"\")","v":0},{"$f":"IF(A20<>\"\",IFERROR(VLOOKUP(V20,Tabelas!B:D,3,0),0),\"\")","v":0},{"$f":"IF(A20<>\"\",IFERROR(VLOOKUP(W20,Tabelas!B:D,3,0),0),\"\")","v":0},{"$f":"IF(A20<>\"\",IFERROR(VLOOKUP(X20,Tabelas!B:D,3,0),0),\"\")","v":0},{"$f":"IF(A20<>\"\",IFERROR(VLOOKUP(Y20,Tabelas!B:D,3,0),0),\"\")","v":0},{"$f":"IF(A20<>\"\",IFERROR(VLOOKUP(Z20,Tabelas!B:D,3,0),0),\"\")","v":0},{"$f":"IF(A20<>\"\",IFERROR(VLOOKUP(AA20,Tabelas!B:D,3,0),0),\"\")","v":0},{"$f":"IF(A20<>\"\",IFERROR(VLOOKUP(AB20,Tabelas!B:D,3,0),0),\"\")","v":0},{"$f":"IF(A20<>\"\",IFERROR(VLOOKUP(AC20,Tabelas!B:D,3,0),0),\"\")","v":0},{"$f":"IF(A20<>\"\",IFERROR(VLOOKUP(AD20,Tabelas!B:D,3,0),0),\"\")","v":0},{"$f":"IF(A20<>\"\",IFERROR(VLOOKUP(AE20,Tabelas!B:D,3,0),0),\"\")","v":0},{"$f":"IF(A20<>\"\",IFERROR(VLOOKUP(AF20,Tabelas!B:D,3,0),0),\"\")","v":0},{"$f":"IF(A20<>\"\",IFERROR(VLOOKUP(AG20,Tabelas!B:D,3,0),0),\"\")","v":0},{"$f":"IF(A20<>\"\",IFERROR(VLOOKUP(AH20,Tabelas!B:D,3,0),0),\"\")","v":0},{"$f":"IF(A20<>\"\",IFERROR(VLOOKUP(AI20,Tabelas!B:D,3,0),0),\"\")","v":0},{"$f":"IF(A20<>\"\",IFERROR(VLOOKUP(AJ20,Tabelas!B:D,3,0),0),\"\")","v":0},{"$f":"IF(A20<>\"\",IFERROR(VLOOKUP(AK20,Tabelas!B:D,3,0),0),\"\")","v":0},{"$f":"IF(A20<>\"\",IFERROR(VLOOKUP(AL20,Tabelas!B:D,3,0),0),\"\")","v":0},{"$f":"IF(A20<>\"\",IFERROR(VLOOKUP(AM20,Tabelas!B:D,3,0),0),\"\")","v":0},{"$f":"IF(A20<>\"\",IFERROR(VLOOKUP(AN20,Tabelas!B:D,3,0),0),\"\")","v":0},{"$f":"IF(A20<>\"\",IFERROR(VLOOKUP(AO20,Tabelas!B:D,3,0),0),\"\")","v":0},{"$f":"IF(A20<>\"\",IFERROR(VLOOKUP(AP20,Tabelas!B:D,3,0),0),\"\")","v":0},{"$f":"IF(A20<>\"\",IFERROR(VLOOKUP(AQ20,Tabelas!B:D,3,0),0),\"\")","v":0},0,0,0,0,0,0,0,0]
["FULANO 13",13,null,null,null,null,null,null,null,null,null,null,null,null,null,null,null,null,null,null,null,null,null,null,null,null,null,null,null,null,null,null,null,null,null,null,null,null,null,null,null,null,null,{"$f":"IF(A21<>\"\",IFERROR(VLOOKUP(M21,Tabelas!B:D,3,0),0),\"\")","v":0},{"$f":"IF(A21<>\"\",IFERROR(VLOOKUP(N21,Tabelas!B:D,3,0),0),\"\")","v":0},{"$f":"IF(A21<>\"\",IFERROR(VLOOKUP(O21,Tabelas!B:D,3,0),0),\"\")","v":0},{"$f":"IF(A21<>\"\",IFERROR(VLOOKUP(P21,Tabelas!B:D,3,0),0),\"\")","v":0},{"$f":"IF(A21<>\"\",IFERROR(VLOOKUP(Q21,Tabelas!B:D,3,0),0),\"\")","v":0},{"$f":"IF(A21<>\"\",IFERROR(VLOOKUP(R21,Tabelas!B:D,3,0),0),\"\")","v":0},{"$f":"IF(A21<>\"\",IFERROR(VLOOKUP(S21,Tabelas!B:D,3,0),0),\"\")","v":0},{"$f":"IF(A21<>\"\",IFERROR(VLOOKUP(T21,Tabelas!B:D,3,0),0),\"\")","v":0},{"$f":"IF(A21<>\"\",IFERROR(VLOOKUP(U21,Tabelas!B:D,3,0),0),\"\")","v":0},{"$f":"IF(A21<>\"\",IFERROR(VLOOKUP(V21,Tabelas!B:D,3,0),0),\"\")","v":0},{"$f":"IF(A21<>\"\",IFERROR(VLOOKUP(W21,Tabelas!B:D,3,0),0),\"\")","v":0},{"$f":"IF(A21<>\"\",IFERROR(VLOOKUP(X21,Tabelas!B:D,3,0),0),\"\")","v":0},{"$f":"IF(A21<>\"\",IFERROR(VLOOKUP(Y21,Tabelas!B:D,3,0),0),\"\")","v":0},{"$f":"IF(A21<>\"\",IFERROR(VLOOKUP(Z21,Tabelas!B:D,3,0),0),\"\")","v":0},{"$f":"IF(A21<>\"\",IFERROR(VLOOKUP(AA21,Tabelas!B:D,3,0),0),\"\")","v":0},{"$f":"IF(A21<>\"\",IFERROR(VLOOKUP(AB21,Tabelas!B:D,3,0),0),\"\")","v":0},{"$f":"IF(A21<>\"\",IFERROR(VLOOKUP(AC21,Tabelas!B:D,3,0),0),\"\")","v":0},{"$f":"IF(A21<>\"\",IFERROR(VLOOKUP(AD21,Tabelas!B:D,3,0),0),\"\")","v":0},{"$f":"IF(A21<>\"\",IFERROR(VLOOKUP(AE21,Tabelas!B:D,3,0),0),\"\")","v":0},{"$f":"IF(A21<>\"\",IFERROR(VLOOKUP(AF21,Tabelas!B:D,3,0),0),\"\")","v":0},{"$f":"IF(A21<>\"\",IFERROR(VLOOKUP(AG21,Tabelas!B:D,3,0),0),\"\")","v":0},{"$f":"IF(A21<>\"\",IFERROR(VLOOKUP(AH21,Tabelas!B:D,3,0),0),\"\")","v":0},{"$f":"IF(A21<>\"\",IFERROR(VLOOKUP(AI21,Tabelas!B:D,3,0),0),\"\")","v":0},{"$f":"IF(A21<>\"\",IFERROR(VLOOKUP(AJ21,Tabelas!B:D,3,0),0),\"\")","v":0},{"$f":"IF(A21<>\"\",IFERROR(VLOOKUP(AK21,Tabelas!B:D,3,0),0),\"\")","v":0},{"$f":"IF(A21<>\"\",IFERROR(VLOOKUP(AL21,Tabelas!B:D,3,0),0),\"\")","v":0},{"$f":"IF(A21<>\"\",IFERROR(VLOOKUP(AM21,Tabelas!B:D,3,0),0),\"\")","v":0},{"$f":"IF(A21<>\"\",IFERROR(VLOOKUP(AN21,Tabelas!B:D,3,0),0),\"\")","v":0},{"$f":"IF(A21<>\"\",IFERROR(VLOOKUP(AO21,Tabelas!B:D,3,0),0),\"\")","v":0},{"$f":"IF(A21<>\"\",IFERROR(VLOOKUP(AP21,Tabelas!B:D,3,0),0),\"\")","v":0},{"$f":"IF(A21<>\"\",IFERROR(VLOOKUP(AQ21,Tabelas!B:D,3,0),0),\"\")","v":0},0,0,0,0,0,0,0,0]
["FULANO 14",14,null,null,null,null,null,null,null,null,null,null,null,null,null,null,null,null,null,null,null,null,null,null,null,null,null,null,null,null,null,null,null,null,null,null,null,null,null,null,null,null,null,{"$f":"IF(A22<>\"\",IFERROR(VLOOKUP(M22,Tabelas!B:D,3,0),0),\"\")","v":0},{"$f":"IF(A22<>\"\",IFERROR(VLOOKUP(N22,Tabelas!B:D,3,0),0),\"\")","v":0},{"$f":"IF(A22<>\"\",IFERROR(VLOOKUP(O22,Tabelas!B:D,3,0),0),\"\")","v":0},{"$f":"IF(A22<>\"\",IFERROR(VLOOKUP(P22,Tabelas!B:D,3,0),0),\"\")","v":0},{"$f":"IF(A22<>\"\",IFERROR(VLOOKUP(Q22,Tabelas!B:D,3,0),0),\"\")","v":0},{"$f":"IF(A22<>\"\",IFERROR(VLOOKUP(R22,Tabelas!B:D,3,0),0),\"\")","v":0},{"$f":"IF(A22<>\"\",IFERROR(VLOOKUP(S22,Tabelas!B:D,3,0),0),\"\")","v":0},{"$f":"IF(A22<>\"\",IFERROR(VLOOKUP(T22,Tabelas!B:D,3,0),0),\"\")","v":0},{"$f":"IF(A22<>\"\",IFERROR(VLOOKUP(U22,Tabelas!B:D,3,0),0),\"\")","v":0},{"$f":"IF(A22<>\"\",IFERROR(VLOOKUP(V22,Tabelas!B:D,3,0),0),\"\")","v":0},{"$f":"IF(A22<>\"\",IFERROR(VLOOKUP(W22,Tabelas!B:D,3,0),0),\"\")","v":0},{"$f":"IF(A22<>\"\",IFERROR(VLOOKUP(X22,Tabelas!B:D,3,0),0),\"\")","v":0},{"$f":"IF(A22<>\"\",IFERROR(VLOOKUP(Y22,Tabelas!B:D,3,0),0),\"\")","v":0},{"$f":"IF(A22<>\"\",IFERROR(VLOOKUP(Z22,Tabelas!B:D,3,0),0),\"\")","v":0},{"$f":"IF(A22<>\"\",IFERROR(VLOOKUP(AA22,Tabelas!B:D,3,0),0),\"\")","v":0},{"$f":"IF(A22<>\"\",IFERROR(VLOOKUP(AB22,Tabelas!B:D,3,0),0),\"\")","v":0},{"$f":"IF(A22<>\"\",IFERROR(VLOOKUP(AC22,Tabelas!B:D,3,0),0),\"\")","v":0},{"$f":"IF(A22<>\"\",IFERROR(VLOOKUP(AD22,Tabelas!B:D,3,0),0),\"\")","v":0},{"$f":"IF(A22<>\"\",IFERROR(VLOOKUP(AE22,Tabelas!B:D,3,0),0),\"\")","v":0},{"$f":"IF(A22<>\"\",IFERROR(VLOOKUP(AF22,Tabelas!B:D,3,0),0),\"\")","v":0},{"$f":"IF(A22<>\"\",IFERROR(VLOOKUP(AG22,Tabelas!B:D,3,0),0),\"\")","v":0},{"$f":"IF(A22<>\"\",IFERROR(VLOOKUP(AH22,Tabelas!B:D,3,0),0),\"\")","v":0},{"$f":"IF(A22<>\"\",IFERROR(VLOOKUP(AI22,Tabelas!B:D,3,0),0),\"\")","v":0},{"$f":"IF(A22<>\"\",IFERROR(VLOOKUP(AJ22,Tabelas!B:D,3,0),0),\"\")","v":0},{"$f":"IF(A22<>\"\",IFERROR(VLOOKUP(AK22,Tabelas!B:D,3,0),0),\"\")","v":0},{"$f":"IF(A22<>\"\",IFERROR(VLOOKUP(AL22,Tabelas!B:D,3,0),0),\"\")","v":0},{"$f":"IF(A22<>\"\",IFERROR(VLOOKUP(AM22,Tabelas!B:D,3,0),0),\"\")","v":0},{"$f":"IF(A22<>\"\",IFERROR(VLOOKUP(AN22,Tabelas!B:D,3,0),0),\"\")","v":0},{"$f":"IF(A22<>\"\",IFERROR(VLOOKUP(AO22,Tabelas!B:D,3,0),0),\"\")","v":0},{"$f":"IF(A22<>\"\",IFERROR(VLOOKUP(AP22,Tabelas!B:D,3,0),0),\"\")","v":0},{"$f":"IF(A22<>\"\",IFERROR(VLOOKUP(AQ22,Tabelas!B:D,3,0),0),\"\")","v":0},0,0,0,0,0,0,0,0]
["FULANO 15",15,null,null,null,null,null,null,null,null,null,null,null,null,null,null,null,null,null,null,null,null,null,null,null,null,null,null,null,null,null,null,null,null,null,null,null,null,null,null,null,null,null,{"$f":"IF(A23<>\"\",IFERROR(VLOOKUP(M23,Tabelas!B:D,3,0),0),\"\")","v":0},{"$f":"IF(A23<>\"\",IFERROR(VLOOKUP(N23,Tabelas!B:D,3,0),0),\"\")","v":0},{"$f":"IF(A23<>\"\",IFERROR(VLOOKUP(O23,Tabelas!B:D,3,0),0),\"\")","v":0},{"$f":"IF(A23<>\"\",IFERROR(VLOOKUP(P23,Tabelas!B:D,3,0),0),\"\")","v":0},{"$f":"IF(A23<>\"\",IFERROR(VLOOKUP(Q23,Tabelas!B:D,3,0),0),\"\")","v":0},{"$f":"IF(A23<>\"\",IFERROR(VLOOKUP(R23,Tabelas!B:D,3,0),0),\"\")","v":0},{"$f":"IF(A23<>\"\",IFERROR(VLOOKUP(S23,Tabelas!B:D,3,0),0),\"\")","v":0},{"$f":"IF(A23<>\"\",IFERROR(VLOOKUP(T23,Tabelas!B:D,3,0),0),\"\")","v":0},{"$f":"IF(A23<>\"\",IFERROR(VLOOKUP(U23,Tabelas!B:D,3,0),0),\"\")","v":0},{"$f":"IF(A23<>\"\",IFERROR(VLOOKUP(V23,Tabelas!B:D,3,0),0),\"\")","v":0},{"$f":"IF(A23<>\"\",IFERROR(VLOOKUP(W23,Tabelas!B:D,3,0),0),\"\")","v":0},{"$f":"IF(A23<>\"\",IFERROR(VLOOKUP(X23,Tabelas!B:D,3,0),0),\"\")","v":0},{"$f":"IF(A23<>\"\",IFERROR(VLOOKUP(Y23,Tabelas!B:D,3,0),0),\"\")","v":0},{"$f":"IF(A23<>\"\",IFERROR(VLOOKUP(Z23,Tabelas!B:D,3,0),0),\"\")","v":0},{"$f":"IF(A23<>\"\",IFERROR(VLOOKUP(AA23,Tabelas!B:D,3,0),0),\"\")","v":0},{"$f":"IF(A23<>\"\",IFERROR(VLOOKUP(AB23,Tabelas!B:D,3,0),0),\"\")","v":0},{"$f":"IF(A23<>\"\",IFERROR(VLOOKUP(AC23,Tabelas!B:D,3,0),0),\"\")","v":0},{"$f":"IF(A23<>\"\",IFERROR(VLOOKUP(AD23,Tabelas!B:D,3,0),0),\"\")","v":0},{"$f":"IF(A23<>\"\",IFERROR(VLOOKUP(AE23,Tabelas!B:D,3,0),0),\"\")","v":0},{"$f":"IF(A23<>\"\",IFERROR(VLOOKUP(AF23,Tabelas!B:D,3,0),0),\"\")","v":0},{"$f":"IF(A23<>\"\",IFERROR(VLOOKUP(AG23,Tabelas!B:D,3,0),0),\"\")","v":0},{"$f":"IF(A23<>\"\",IFERROR(VLOOKUP(AH23,Tabelas!B:D,3,0),0),\"\")","v":0},{"$f":"IF(A23<>\"\",IFERROR(VLOOKUP(AI23,Tabelas!B:D,3,0),0),\"\")","v":0},{"$f":"IF(A23<>\"\",IFERROR(VLOOKUP(AJ23,Tabelas!B:D,3,0),0),\"\")","v":0},{"$f":"IF(A23<>\"\",IFERROR(VLOOKUP(AK23,Tabelas!B:D,3,0),0),\"\")","v":0},{"$f":"IF(A23<>\"\",IFERROR(VLOOKUP(AL23,Tabelas!B:D,3,0),0),\"\")","v":0},{"$f":"IF(A23<>\"\",IFERROR(VLOOKUP(AM23,Tabelas!B:D,3,0),0),\"\")","v":0},{"$f":"IF(A23<>\"\",IFERROR(VLOOKUP(AN23,Tabelas!B:D,3,0),0),\"\")","v":0},{"$f":"IF(A23<>\"\",IFERROR(VLOOKUP(AO23,Tabelas!B:D,3,0),0),\"\")","v":0},{"$f":"IF(A23<>\"\",IFERROR(VLOOKUP(AP23,Tabelas!B:D,3,0),0),\"\")","v":0},{"$f":"IF(A23<>\"\",IFERROR(VLOOKUP(AQ23,Tabelas!B:D,3,0),0),\"\")","v":0},0,0,0,0,0,0,0,0]
["FULANO 16",16,null,null,null,null,null,null,null,null,null,null,null,null,null,null,null,null,null,null,null,null,null,null,null,null,null,null,null,null,null,null,null,null,null,null,null,null,null,null,null,null,null,{"$f":"IF(A24<>\"\",IFERROR(VLOOKUP(M24,Tabelas!B:D,3,0),0),\"\")","v":0},{"$f":"IF(A24<>\"\",IFERROR(VLOOKUP(N24,Tabelas!B:D,3,0),0),\"\")","v":0},{"$f":"IF(A24<>\"\",IFERROR(VLOOKUP(O24,Tabelas!B:D,3,0),0),\"\")","v":0},{"$f":"IF(A24<>\"\",IFERROR(VLOOKUP(P24,Tabelas!B:D,3,0),0),\"\")","v":0},{"$f":"IF(A24<>\"\",IFERROR(VLOOKUP(Q24,Tabelas!B:D,3,0),0),\"\")","v":0},{"$f":"IF(A24<>\"\",IFERROR(VLOOKUP(R24,Tabelas!B:D,3,0),0),\"\")","v":0},{"$f":"IF(A24<>\"\",IFERROR(VLOOKUP(S24,Tabelas!B:D,3,0),0),\"\")","v":0},{"$f":"IF(A24<>\"\",IFERROR(VLOOKUP(T24,Tabelas!B:D,3,0),0),\"\")","v":0},{"$f":"IF(A24<>\"\",IFERROR(VLOOKUP(U24,Tabelas!B:D,3,0),0),\"\")","v":0},{"$f":"IF(A24<>\"\",IFERROR(VLOOKUP(V24,Tabelas!B:D,3,0),0),\"\")","v":0},{"$f":"IF(A24<>\"\",IFERROR(VLOOKUP(W24,Tabelas!B:D,3,0),0),\"\")","v":0},{"$f":"IF(A24<>\"\",IFERROR(VLOOKUP(X24,Tabelas!B:D,3,0),0),\"\")","v":0},{"$f":"IF(A24<>\"\",IFERROR(VLOOKUP(Y24,Tabelas!B:D,3,0),0),\"\")","v":0},{"$f":"IF(A24<>\"\",IFERROR(VLOOKUP(Z24,Tabelas!B:D,3,0),0),\"\")","v":0},{"$f":"IF(A24<>\"\",IFERROR(VLOOKUP(AA24,Tabelas!B:D,3,0),0),\"\")","v":0},{"$f":"IF(A24<>\"\",IFERROR(VLOOKUP(AB24,Tabelas!B:D,3,0),0),\"\")","v":0},{"$f":"IF(A24<>\"\",IFERROR(VLOOKUP(AC24,Tabelas!B:D,3,0),0),\"\")","v":0},{"$f":"IF(A24<>\"\",IFERROR(VLOOKUP(AD24,Tabelas!B:D,3,0),0),\"\")","v":0},{"$f":"IF(A24<>\"\",IFERROR(VLOOKUP(AE24,Tabelas!B:D,3,0),0),\"\")","v":0},{"$f":"IF(A24<>\"\",IFERROR(VLOOKUP(AF24,Tabelas!B:D,3,0),0),\"\")","v":0},{"$f":"IF(A24<>\"\",IFERROR(VLOOKUP(AG24,Tabelas!B:D,3,0),0),\"\")","v":0},{"$f":"IF(A24<>\"\",IFERROR(VLOOKUP(AH24,Tabelas!B:D,3,0),0),\"\")","v":0},{"$f":"IF(A24<>\"\",IFERROR(VLOOKUP(AI24,Tabelas!B:D,3,0),0),\"\")","v":0},{"$f":"IF(A24<>\"\",IFERROR(VLOOKUP(AJ24,Tabelas!B:D,3,0),0),\"\")","v":0},{"$f":"IF(A24<>\"\",IFERROR(VLOOKUP(AK24,Tabelas!B:D,3,0),0),\"\")","v":0},{"$f":"IF(A24<>\"\",IFERROR(VLOOKUP(AL24,Tabelas!B:D,3,0),0),\"\")","v":0},{"$f":"IF(A24<>\"\",IFERROR(VLOOKUP(AM24,Tabelas!B:D,3,0),0),\"\")","v":0},{"$f":"IF(A24<>\"\",IFERROR(VLOOKUP(AN24,Tabelas!B:D,3,0),0),\"\")","v":0},{"$f":"IF(A24<>\"\",IFERROR(VLOOKUP(AO24,Tabelas!B:D,3,0),0),\"\")","v":0},{"$f":"IF(A24<>\"\",IFERROR(VLOOKUP(AP24,Tabelas!B:D,3,0),0),\"\")","v":0},{"$f":"IF(A24<>\"\",IFERROR(VLOOKUP(AQ24,Tabelas!B:D,3,0),0),\"\")","v":0},0,0,0,0,0,0,0,0]
["FULANO 17",17,null,null,null,null,null,null,null,null,null,null,null,null,null,null,null,null,null,null,null,null,null,null,null,null,null,null,null,null,null,null,null,null,null,null,null,null,null,null,null,null,null,{"$f":"IF(A25<>\"\",IFERROR(VLOOKUP(M25,Tabelas!B:D,3,0),0),\"\")","v":0},{"$f":"IF(A25<>\"\",IFERROR(VLOOKUP(N25,Tabelas!B:D,3,0),0),\"\")","v":0},{"$f":"IF(A25<>\"\",IFERROR(VLOOKUP(O25,Tabelas!B:D,3,0),0),\"\")","v":0},{"$f":"IF(A25<>\"\",IFERROR(VLOOKUP(P25,Tabelas!B:D,3,0),0),\"\")","v":0},{"$f":"IF(A25<>\"\",IFERROR(VLOOKUP(Q25,Tabelas!B:D,3,0),0),\"\")","v":0},{"$f":"IF(A25<>\"\",IFERROR(VLOOKUP(R25,Tabelas!B:D,3,0),0),\"\")","v":0},{"$f":"IF(A25<>\"\",IFERROR(VLOOKUP(S25,Tabelas!B:D,3,0),0),\"\")","v":0},{"$f":"IF(A25<>\"\",IFERROR(VLOOKUP(T25,Tabelas!B:D,3,0),0),\"\")","v":0},{"$f":"IF(A25<>\"\",IFERROR(VLOOKUP(U25,Tabelas!B:D,3,0),0),\"\")","v":0},{"$f":"IF(A25<>\"\",IFERROR(VLOOKUP(V25,Tabelas!B:D,3,0),0),\"\")","v":0},{"$f":"IF(A25<>\"\",IFERROR(VLOOKUP(W25,Tabelas!B:D,3,0),0),\"\")","v":0},{"$f":"IF(A25<>\"\",IFERROR(VLOOKUP(X25,Tabelas!B:D,3,0),0),\"\")","v":0},{"$f":"IF(A25<>\"\",IFERROR(VLOOKUP(Y25,Tabelas!B:D,3,0),0),\"\")","v":0},{"$f":"IF(A25<>\"\",IFERROR(VLOOKUP(Z25,Tabelas!B:D,3,0),0),\"\")","v":0},{"$f":"IF(A25<>\"\",IFERROR(VLOOKUP(AA25,Tabelas!B:D,3,0),0),\"\")","v":0},{"$f":"IF(A25<>\"\",IFERROR(VLOOKUP(AB25,Tabelas!B:D,3,0),0),\"\")","v":0},{"$f":"IF(A25<>\"\",IFERROR(VLOOKUP(AC25,Tabelas!B:D,3,0),0),\"\")","v":0},{"$f":"IF(A25<>\"\",IFERROR(VLOOKUP(AD25,Tabelas!B:D,3,0),0),\"\")","v":0},{"$f":"IF(A25<>\"\",IFERROR(VLOOKUP(AE25,Tabelas!B:D,3,0),0),\"\")","v":0},{"$f":"IF(A25<>\"\",IFERROR(VLOOKUP(AF25,Tabelas!B:D,3,0),0),\"\")","v":0},{"$f":"IF(A25<>\"\",IFERROR(VLOOKUP(AG25,Tabelas!B:D,3,0),0),\"\")","v":0},{"$f":"IF(A25<>\"\",IFERROR(VLOOKUP(AH25,Tabelas!B:D,3,0),0),\"\")","v":0},{"$f":"IF(A25<>\"\",IFERROR(VLOOKUP(AI25,Tabelas!B:D,3,0),0),\"\")","v":0},{"$f":"IF(A25<>\"\",IFERROR(VLOOKUP(AJ25,Tabelas!B:D,3,0),0),\"\")","v":0},{"$f":"IF(A25<>\"\",IFERROR(VLOOKUP(AK25,Tabelas!B:D,3,0),0),\"\")","v":0},{"$f":"IF(A25<>\"\",IFERROR(VLOOKUP(AL25,Tabelas!B:D,3,0),0),\"\")","v":0},{"$f":"IF(A25<>\"\",IFERROR(VLOOKUP(AM25,Tabelas!B:D,3,0),0),\"\")","v":0},{"$f":"IF(A25<>\"\",IFERROR(VLOOKUP(AN25,Tabelas!B:D,3,0),0),\"\")","v":0},{"$f":"IF(A25<>\"\",IFERROR(VLOOKUP(AO25,Tabelas!B:D,3,0),0),\"\")","v":0},{"$f":"IF(A25<>\"\",IFERROR(VLOOKUP(AP25,Tabelas!B:D,3,0),0),\"\")","v":0},{"$f":"IF(A25<>\"\",IFERROR(VLOOKUP(AQ25,Tabelas!B:D,3,0),0),\"\")","v":0},0,0,0,0,0,0,0,0]
["FULANO 18",18,null,null,null,null,null,null,null,null,null,null,null,null,null,null,null,null,null,null,null,null,null,null,null,null,null,null,null,null,null,null,null,null,null,null,null,null,null,null,null,null,null,{"$f":"IF(A26<>\"\",IFERROR(VLOOKUP(M26,Tabelas!B:D,3,0),0),\"\")","v":0},{"$f":"IF(A26<>\"\",IFERROR(VLOOKUP(N26,Tabelas!B:D,3,0),0),\"\")","v":0},{"$f":"IF(A26<>\"\",IFERROR(VLOOKUP(O26,Tabelas!B:D,3,0),0),\"\")","v":0},{"$f":"IF(A26<>\"\",IFERROR(VLOOKUP(P26,Tabelas!B:D,3,0),0),\"\")","v":0},{"$f":"IF(A26<>\"\",IFERROR(VLOOKUP(Q26,Tabelas!B:D,3,0),0),\"\")","v":0},{"$f":"IF(A26<>\"\",IFERROR(VLOOKUP(R26,Tabelas!B:D,3,0),0),\"\")","v":0},{"$f":"IF(A26<>\"\",IFERROR(VLOOKUP(S26,Tabelas!B:D,3,0),0),\"\")","v":0},{"$f":"IF(A26<>\"\",IFERROR(VLOOKUP(T26,Tabelas!B:D,3,0),0),\"\")","v":0},{"$f":"IF(A26<>\"\",IFERROR(VLOOKUP(U26,Tabelas!B:D,3,0),0),\"\")","v":0},{"$f":"IF(A26<>\"\",IFERROR(VLOOKUP(V26,Tabelas!B:D,3,0),0),\"\")","v":0},{"$f":"IF(A26<>\"\",IFERROR(VLOOKUP(W26,Tabelas!B:D,3,0),0),\"\")","v":0},{"$f":"IF(A26<>\"\",IFERROR(VLOOKUP(X26,Tabelas!B:D,3,0),0),\"\")","v":0},{"$f":"IF(A26<>\"\",IFERROR(VLOOKUP(Y26,Tabelas!B:D,3,0),0),\"\")","v":0},{"$f":"IF(A26<>\"\",IFERROR(VLOOKUP(Z26,Tabelas!B:D,3,0),0),\"\")","v":0},{"$f":"IF(A26<>\"\",IFERROR(VLOOKUP(AA26,Tabelas!B:D,3,0),0),\"\")","v":0},{"$f":"IF(A26<>\"\",IFERROR(VLOOKUP(AB26,Tabelas!B:D,3,0),0),\"\")","v":0},{"$f":"IF(A26<>\"\",IFERROR(VLOOKUP(AC26,Tabelas!B:D,3,0),0),\"\")","v":0},{"$f":"IF(A26<>\"\",IFERROR(VLOOKUP(AD26,Tabelas!B:D,3,0),0),\"\")","v":0},{"$f":"IF(A26<>\"\",IFERROR(VLOOKUP(AE26,Tabelas!B:D,3,0),0),\"\")","v":0},{"$f":"IF(A26<>\"\",IFERROR(VLOOKUP(AF26,Tabelas!B:D,3,0),0),\"\")","v":0},{"$f":"IF(A26<>\"\",IFERROR(VLOOKUP(AG26,Tabelas!B:D,3,0),0),\"\")","v":0},{"$f":"IF(A26<>\"\",IFERROR(VLOOKUP(AH26,Tabelas!B:D,3,0),0),\"\")","v":0},{"$f":"IF(A26<>\"\",IFERROR(VLOOKUP(AI26,Tabelas!B:D,3,0),0),\"\")","v":0},{"$f":"IF(A26<>\"\",IFERROR(VLOOKUP(AJ26,Tabelas!B:D,3,0),0),\"\")","v":0},{"$f":"IF(A26<>\"\",IFERROR(VLOOKUP(AK26,Tabelas!B:D,3,0),0),\"\")","v":0},{"$f":"IF(A26<>\"\",IFERROR(VLOOKUP(AL26,Tabelas!B:D,3,0),0),\"\")","v":0},{"$f":"IF(A26<>\"\",IFERROR(VLOOKUP(AM26,Tabelas!B:D,3,0),0),\"\")","v":0},{"$f":"IF(A26<>\"\",IFERROR(VLOOKUP(AN26,Tabelas!B:D,3,0),0),\"\")","v":0},{"$f":"IF(A26<>\"\",IFERROR(VLOOKUP(AO26,Tabelas!B:D,3,0),0),\"\")","v":0},{"$f":"IF(A26<>\"\",IFERROR(VLOOKUP(AP26,Tabelas!B:D,3,0),0),\"\")","v":0},{"$f":"IF(A26<>\"\",IFERROR(VLOOKUP(AQ26,Tabelas!B:D,3,0),0),\"\")","v":0},0,0,0,0,0,0,0,0]
["FULANO 19",19,null,null,null,null,null,null,null,null,null,null,null,null,null,null,null,null,null,null,null,null,null,null,null,null,null,null,null,null,null,null,null,null,null,null,null,null,null,null,null,null,null,{"$f":"IF(A27<>\"\",IFERROR(VLOOKUP(M27,Tabelas!B:D,3,0),0),\"\")","v":0},{"$f":"IF(A27<>\"\",IFERROR(VLOOKUP(N27,Tabelas!B:D,3,0),0),\"\")","v":0},{"$f":"IF(A27<>\"\",IFERROR(VLOOKUP(O27,Tabelas!B:D,3,0),0),\"\")","v":0},{"$f":"IF(A27<>\"\",IFERROR(VLOOKUP(P27,Tabelas!B:D,3,0),0),\"\")","v":0},{"$f":"IF(A27<>\"\",IFERROR(VLOOKUP(Q27,Tabelas!B:D,3,0),0),\"\")","v":0},{"$f":"IF(A27<>\"\",IFERROR(VLOOKUP(R27,Tabelas!B:D,3,0),0),\"\")","v":0},{"$f":"IF(A27<>\"\",IFERROR(VLOOKUP(S27,Tabelas!B:D,3,0),0),\"\")","v":0},{"$f":"IF(A27<>\"\",IFERROR(VLOOKUP(T27,Tabelas!B:D,3,0),0),\"\")","v":0},{"$f":"IF(A27<>\"\",IFERROR(VLOOKUP(U27,Tabelas!B:D,3,0),0),\"\")","v":0},{"$f":"IF(A27<>\"\",IFERROR(VLOOKUP(V27,Tabelas!B:D,3,0),0),\"\")","v":0},{"$f":"IF(A27<>\"\",IFERROR(VLOOKUP(W27,Tabelas!B:D,3,0),0),\"\")","v":0},{"$f":"IF(A27<>\"\",IFERROR(VLOOKUP(X27,Tabelas!B:D,3,0),0),\"\")","v":0},{"$f":"IF(A27<>\"\",IFERROR(VLOOKUP(Y27,Tabelas!B:D,3,0),0),\"\")","v":0},{"$f":"IF(A27<>\"\",IFERROR(VLOOKUP(Z27,Tabelas!B:D,3,0),0),\"\")","v":0},{"$f":"IF(A27<>\"\",IFERROR(VLOOKUP(AA27,Tabelas!B:D,3,0),0),\"\")","v":0},{"$f":"IF(A27<>\"\",IFERROR(VLOOKUP(AB27,Tabelas!B:D,3,0),0),\"\")","v":0},{"$f":"IF(A27<>\"\",IFERROR(VLOOKUP(AC27,Tabelas!B:D,3,0),0),\"\")","v":0},{"$f":"IF(A27<>\"\",IFERROR(VLOOKUP(AD27,Tabelas!B:D,3,0),0),\"\")","v":0},{"$f":"IF(A27<>\"\",IFERROR(VLOOKUP(AE27,Tabelas!B:D,3,0),0),\"\")","v":0},{"$f":"IF(A27<>\"\",IFERROR(VLOOKUP(AF27,Tabelas!B:D,3,0),0),\"\")","v":0},{"$f":"IF(A27<>\"\",IFERROR(VLOOKUP(AG27,Tabelas!B:D,3,0),0),\"\")","v":0},{"$f":"IF(A27<>\"\",IFERROR(VLOOKUP(AH27,Tabelas!B:D,3,0),0),\"\")","v":0},{"$f":"IF(A27<>\"\",IFERROR(VLOOKUP(AI27,Tabelas!B:D,3,0),0),\"\")","v":0},{"$f":"IF(A27<>\"\",IFERROR(VLOOKUP(AJ27,Tabelas!B:D,3,0),0),\"\")","v":0},{"$f":"IF(A27<>\"\",IFERROR(VLOOKUP(AK27,Tabelas!B:D,3,0),0),\"\")","v":0},{"$f":"IF(A27<>\"\",IFERROR(VLOOKUP(AL27,Tabelas!B:D,3,0),0),\"\")","v":0},{"$f":"IF(A27<>\"\",IFERROR(VLOOKUP(AM27,Tabelas!B:D,3,0),0),\"\")","v":0},{"$f":"IF(A27<>\"\",IFERROR(VLOOKUP(AN27,Tabelas!B:D,3,0),0),\"\")","v":0},{"$f":"IF(A27<>\"\",IFERROR(VLOOKUP(AO27,Tabelas!B:D,3,0),0),\"\")","v":0},{"$f":"IF(A27<>\"\",IFERROR(VLOOKUP(AP27,Tabelas!B:D,3,0),0),\"\")","v":0},{"$f":"IF(A27<>\"\",IFERROR(VLOOKUP(AQ27,Tabelas!B:D,3,0),0),\"\")","v":0},0,0,0,0,0,0,0,0]
["FULANO 20",20,null,null,null,null,null,null,null,null,null,null,null,null,null,null,null,null,null,null,null,null,null,null,null,null,null,null,null,null,null,null,null,null,null,null,null,null,null,null,null,null,null,{"$f":"IF(A28<>\"\",IFERROR(VLOOKUP(M28,Tabelas!B:D,3,0),0),\"\")","v":0},{"$f":"IF(A28<>\"\",IFERROR(VLOOKUP(N28,Tabelas!B:D,3,0),0),\"\")","v":0},{"$f":"IF(A28<>\"\",IFERROR(VLOOKUP(O28,Tabelas!B:D,3,0),0),\"\")","v":0},{"$f":"IF(A28<>\"\",IFERROR(VLOOKUP(P28,Tabelas!B:D,3,0),0),\"\")","v":0},{"$f":"IF(A28<>\"\",IFERROR(VLOOKUP(Q28,Tabelas!B:D,3,0),0),\"\")","v":0},{"$f":"IF(A28<>\"\",IFERROR(VLOOKUP(R28,Tabelas!B:D,3,0),0),\"\")","v":0},{"$f":"IF(A28<>\"\",IFERROR(VLOOKUP(S28,Tabelas!B:D,3,0),0),\"\")","v":0},{"$f":"IF(A28<>\"\",IFERROR(VLOOKUP(T28,Tabelas!B:D,3,0),0),\"\")","v":0},{"$f":"IF(A28<>\"\",IFERROR(VLOOKUP(U28,Tabelas!B:D,3,0),0),\"\")","v":0},{"$f":"IF(A28<>\"\",IFERROR(VLOOKUP(V28,Tabelas!B:D,3,0),0),\"\")","v":0},{"$f":"IF(A28<>\"\",IFERROR(VLOOKUP(W28,Tabelas!B:D,3,0),0),\"\")","v":0},{"$f":"IF(A28<>\"\",IFERROR(VLOOKUP(X28,Tabelas!B:D,3,0),0),\"\")","v":0},{"$f":"IF(A28<>\"\",IFERROR(VLOOKUP(Y28,Tabelas!B:D,3,0),0),\"\")","v":0},{"$f":"IF(A28<>\"\",IFERROR(VLOOKUP(Z28,Tabelas!B:D,3,0),0),\"\")","v":0},{"$f":"IF(A28<>\"\",IFERROR(VLOOKUP(AA28,Tabelas!B:D,3,0),0),\"\")","v":0},{"$f":"IF(A28<>\"\",IFERROR(VLOOKUP(AB28,Tabelas!B:D,3,0),0),\"\")","v":0},{"$f":"IF(A28<>\"\",IFERROR(VLOOKUP(AC28,Tabelas!B:D,3,0),0),\"\")","v":0},{"$f":"IF(A28<>\"\",IFERROR(VLOOKUP(AD28,Tabelas!B:D,3,0),0),\"\")","v":0},{"$f":"IF(A28<>\"\",IFERROR(VLOOKUP(AE28,Tabelas!B:D,3,0),0),\"\")","v":0},{"$f":"IF(A28<>\"\",IFERROR(VLOOKUP(AF28,Tabelas!B:D,3,0),0),\"\")","v":0},{"$f":"IF(A28<>\"\",IFERROR(VLOOKUP(AG28,Tabelas!B:D,3,0),0),\"\")","v":0},{"$f":"IF(A28<>\"\",IFERROR(VLOOKUP(AH28,Tabelas!B:D,3,0),0),\"\")","v":0},{"$f":"IF(A28<>\"\",IFERROR(VLOOKUP(AI28,Tabelas!B:D,3,0),0),\"\")","v":0},{"$f":"IF(A28<>\"\",IFERROR(VLOOKUP(AJ28,Tabelas!B:D,3,0),0),\"\")","v":0},{"$f":"IF(A28<>\"\",IFERROR(VLOOKUP(AK28,Tabelas!B:D,3,0),0),\"\")","v":0},{"$f":"IF(A28<>\"\",IFERROR(VLOOKUP(AL28,Tabelas!B:D,3,0),0),\"\")","v":0},{"$f":"IF(A28<>\"\",IFERROR(VLOOKUP(AM28,Tabelas!B:D,3,0),0),\"\")","v":0},{"$f":"IF(A28<>\"\",IFERROR(VLOOKUP(AN28,Tabelas!B:D,3,0),0),\"\")","v":0},{"$f":"IF(A28<>\"\",IFERROR(VLOOKUP(AO28,Tabelas!B:D,3,0),0),\"\")","v":0},{"$f":"IF(A28<>\"\",IFERROR(VLOOKUP(AP28,Tabelas!B:D,3,0),0),\"\")","v":0},{"$f":"IF(A28<>\"\",IFERROR(VLOOKUP(AQ28,Tabelas!B:D,3,0),0),\"\")","v":0},0,0,0,0,0,0,0,0]
["FULANO 21",21,null,null,null,null,null,null,null,null,null,null,null,null,null,null,null,null,null,null,null,null,null,null,null,null,null,null,null,null,null,null,null,null,null,null,null,null,null,null,null,null,null,{"$f":"IF(A29<>\"\",IFERROR(VLOOKUP(M29,Tabelas!B:D,3,0),0),\"\")","v":0},{"$f":"IF(A29<>\"\",IFERROR(VLOOKUP(N29,Tabelas!B:D,3,0),0),\"\")","v":0},{"$f":"IF(A29<>\"\",IFERROR(VLOOKUP(O29,Tabelas!B:D,3,0),0),\"\")","v":0},{"$f":"IF(A29<>\"\",IFERROR(VLOOKUP(P29,Tabelas!B:D,3,0),0),\"\")","v":0},{"$f":"IF(A29<>\"\",IFERROR(VLOOKUP(Q29,Tabelas!B:D,3,0),0),\"\")","v":0},{"$f":"IF(A29<>\"\",IFERROR(VLOOKUP(R29,Tabelas!B:D,3,0),0),\"\")","v":0},{"$f":"IF(A29<>\"\",IFERROR(VLOOKUP(S29,Tabelas!B:D,3,0),0),\"\")","v":0},{"$f":"IF(A29<>\"\",IFERROR(VLOOKUP(T29,Tabelas!B:D,3,0),0),\"\")","v":0},{"$f":"IF(A29<>\"\",IFERROR(VLOOKUP(U29,Tabelas!B:D,3,0),0),\"\")","v":0},{"$f":"IF(A29<>\"\",IFERROR(VLOOKUP(V29,Tabelas!B:D,3,0),0),\"\")","v":0},{"$f":"IF(A29<>\"\",IFERROR(VLOOKUP(W29,Tabelas!B:D,3,0),0),\"\")","v":0},{"$f":"IF(A29<>\"\",IFERROR(VLOOKUP(X29,Tabelas!B:D,3,0),0),\"\")","v":0},{"$f":"IF(A29<>\"\",IFERROR(VLOOKUP(Y29,Tabelas!B:D,3,0),0),\"\")","v":0},{"$f":"IF(A29<>\"\",IFERROR(VLOOKUP(Z29,Tabelas!B:D,3,0),0),\"\")","v":0},{"$f":"IF(A29<>\"\",IFERROR(VLOOKUP(AA29,Tabelas!B:D,3,0),0),\"\")","v":0},{"$f":"IF(A29<>\"\",IFERROR(VLOOKUP(AB29,Tabelas!B:D,3,0),0),\"\")","v":0},{"$f":"IF(A29<>\"\",IFERROR(VLOOKUP(AC29,Tabelas!B:D,3,0),0),\"\")","v":0},{"$f":"IF(A29<>\"\",IFERROR(VLOOKUP(AD29,Tabelas!B:D,3,0),0),\"\")","v":0},{"$f":"IF(A29<>\"\",IFERROR(VLOOKUP(AE29,Tabelas!B:D,3,0),0),\"\")","v":0},{"$f":"IF(A29<>\"\",IFERROR(VLOOKUP(AF29,Tabelas!B:D,3,0),0),\"\")","v":0},{"$f":"IF(A29<>\"\",IFERROR(VLOOKUP(AG29,Tabelas!B:D,3,0),0),\"\")","v":0},{"$f":"IF(A29<>\"\",IFERROR(VLOOKUP(AH29,Tabelas!B:D,3,0),0),\"\")","v":0},{"$f":"IF(A29<>\"\",IFERROR(VLOOKUP(AI29,Tabelas!B:D,3,0),0),\"\")","v":0},{"$f":"IF(A29<>\"\",IFERROR(VLOOKUP(AJ29,Tabelas!B:D,3,0),0),\"\")","v":0},{"$f":"IF(A29<>\"\",IFERROR(VLOOKUP(AK29,Tabelas!B:D,3,0),0),\"\")","v":0},{"$f":"IF(A29<>\"\",IFERROR(VLOOKUP(AL29,Tabelas!B:D,3,0),0),\"\")","v":0},{"$f":"IF(A29<>\"\",IFERROR(VLOOKUP(AM29,Tabelas!B:D,3,0),0),\"\")","v":0},{"$f":"IF(A29<>\"\",IFERROR(VLOOKUP(AN29,Tabelas!B:D,3,0),0),\"\")","v":0},{"$f":"IF(A29<>\"\",IFERROR(VLOOKUP(AO29,Tabelas!B:D,3,0),0),\"\")","v":0},{"$f":"IF(A29<>\"\",IFERROR(VLOOKUP(AP29,Tabelas!B:D,3,0),0),\"\")","v":0},{"$f":"IF(A29<>\"\",IFERROR(VLOOKUP(AQ29,Tabelas!B:D,3,0),0),\"\")","v":0},0,0,0,0,0,0,0,0]
["FULANO 22",22,null,null,null,null,null,null,null,null,null,null,null,null,null,null,null,null,null,null,null,null,null,null,null,null,null,null,null,null,null,null,null,null,null,null,null,null,null,null,null,null,null,{"$f":"IF(A30<>\"\",IFERROR(VLOOKUP(M30,Tabelas!B:D,3,0),0),\"\")","v":0},{"$f":"IF(A30<>\"\",IFERROR(VLOOKUP(N30,Tabelas!B:D,3,0),0),\"\")","v":0},{"$f":"IF(A30<>\"\",IFERROR(VLOOKUP(O30,Tabelas!B:D,3,0),0),\"\")","v":0},{"$f":"IF(A30<>\"\",IFERROR(VLOOKUP(P30,Tabelas!B:D,3,0),0),\"\")","v":0},{"$f":"IF(A30<>\"\",IFERROR(VLOOKUP(Q30,Tabelas!B:D,3,0),0),\"\")","v":0},{"$f":"IF(A30<>\"\",IFERROR(VLOOKUP(R30,Tabelas!B:D,3,0),0),\"\")","v":0},{"$f":"IF(A30<>\"\",IFERROR(VLOOKUP(S30,Tabelas!B:D,3,0),0),\"\")","v":0},{"$f":"IF(A30<>\"\",IFERROR(VLOOKUP(T30,Tabelas!B:D,3,0),0),\"\")","v":0},{"$f":"IF(A30<>\"\",IFERROR(VLOOKUP(U30,Tabelas!B:D,3,0),0),\"\")","v":0},{"$f":"IF(A30<>\"\",IFERROR(VLOOKUP(V30,Tabelas!B:D,3,0),0),\"\")","v":0},{"$f":"IF(A30<>\"\",IFERROR(VLOOKUP(W30,Tabelas!B:D,3,0),0),\"\")","v":0},{"$f":"IF(A30<>\"\",IFERROR(VLOOKUP(X30,Tabelas!B:D,3,0),0),\"\")","v":0},{"$f":"IF(A30<>\"\",IFERROR(VLOOKUP(Y30,Tabelas!B:D,3,0),0),\"\")","v":0},{"$f":"IF(A30<>\"\",IFERROR(VLOOKUP(Z30,Tabelas!B:D,3,0),0),\"\")","v":0},{"$f":"IF(A30<>\"\",IFERROR(VLOOKUP(AA30,Tabelas!B:D,3,0),0),\"\")","v":0},{"$f":"IF(A30<>\"\",IFERROR(VLOOKUP(AB30,Tabelas!B:D,3,0),0),\"\")","v":0},{"$f":"IF(A30<>\"\",IFERROR(VLOOKUP(AC30,Tabelas!B:D,3,0),0),\"\")","v":0},{"$f":"IF(A30<>\"\",IFERROR(VLOOKUP(AD30,Tabelas!B:D,3,0),0),\"\")","v":0},{"$f":"IF(A30<>\"\",IFERROR(VLOOKUP(AE30,Tabelas!B:D,3,0),0),\"\")","v":0},{"$f":"IF(A30<>\"\",IFERROR(VLOOKUP(AF30,Tabelas!B:D,3,0),0),\"\")","v":0},{"$f":"IF(A30<>\"\",IFERROR(VLOOKUP(AG30,Tabelas!B:D,3,0),0),\"\")","v":0},{"$f":"IF(A30<>\"\",IFERROR(VLOOKUP(AH30,Tabelas!B:D,3,0),0),\"\")","v":0},{"$f":"IF(A30<>\"\",IFERROR(VLOOKUP(AI30,Tabelas!B:D,3,0),0),\"\")","v":0},{"$f":"IF(A30<>\"\",IFERROR(VLOOKUP(AJ30,Tabelas!B:D,3,0),0),\"\")","v":0},{"$f":"IF(A30<>\"\",IFERROR(VLOOKUP(AK30,Tabelas!B:D,3,0),0),\"\")","v":0},{"$f":"IF(A30<>\"\",IFERROR(VLOOKUP(AL30,Tabelas!B:D,3,0),0),\"\")","v":0},{"$f":"IF(A30<>\"\",IFERROR(VLOOKUP(AM30,Tabelas!B:D,3,0),0),\"\")","v":0},{"$f":"IF(A30<>\"\",IFERROR(VLOOKUP(AN30,Tabelas!B:D,3,0),0),\"\")","v":0},{"$f":"IF(A30<>\"\",IFERROR(VLOOKUP(AO30,Tabelas!B:D,3,0),0),\"\")","v":0},{"$f":"IF(A30<>\"\",IFERROR(VLOOKUP(AP30,Tabelas!B:D,3,0),0),\"\")","v":0},{"$f":"IF(A30<>\"\",IFERROR(VLOOKUP(AQ30,Tabelas!B:D,3,0),0),\"\")","v":0},0,0,0,0,0,0,0,0]
["FULANO 23",23,null,null,null,null,null,null,null,null,null,null,null,null,null,null,null,null,null,null,null,null,null,null,null,null,null,null,null,null,null,null,null,null,null,null,null,null,null,null,null,null,null,{"$f":"IF(A31<>\"\",IFERROR(VLOOKUP(M31,Tabelas!B:D,3,0),0),\"\")","v":0},{"$f":"IF(A31<>\"\",IFERROR(VLOOKUP(N31,Tabelas!B:D,3,0),0),\"\")","v":0},{"$f":"IF(A31<>\"\",IFERROR(VLOOKUP(O31,Tabelas!B:D,3,0),0),\"\")","v":0},{"$f":"IF(A31<>\"\",IFERROR(VLOOKUP(P31,Tabelas!B:D,3,0),0),\"\")","v":0},{"$f":"IF(A31<>\"\",IFERROR(VLOOKUP(Q31,Tabelas!B:D,3,0),0),\"\")","v":0},{"$f":"IF(A31<>\"\",IFERROR(VLOOKUP(R31,Tabelas!B:D,3,0),0),\"\")","v":0},{"$f":"IF(A31<>\"\",IFERROR(VLOOKUP(S31,Tabelas!B:D,3,0),0),\"\")","v":0},{"$f":"IF(A31<>\"\",IFERROR(VLOOKUP(T31,Tabelas!B:D,3,0),0),\"\")","v":0},{"$f":"IF(A31<>\"\",IFERROR(VLOOKUP(U31,Tabelas!B:D,3,0),0),\"\")","v":0},{"$f":"IF(A31<>\"\",IFERROR(VLOOKUP(V31,Tabelas!B:D,3,0),0),\"\")","v":0},{"$f":"IF(A31<>\"\",IFERROR(VLOOKUP(W31,Tabelas!B:D,3,0),0),\"\")","v":0},{"$f":"IF(A31<>\"\",IFERROR(VLOOKUP(X31,Tabelas!B:D,3,0),0),\"\")","v":0},{"$f":"IF(A31<>\"\",IFERROR(VLOOKUP(Y31,Tabelas!B:D,3,0),0),\"\")","v":0},{"$f":"IF(A31<>\"\",IFERROR(VLOOKUP(Z31,Tabelas!B:D,3,0),0),\"\")","v":0},{"$f":"IF(A31<>\"\",IFERROR(VLOOKUP(AA31,Tabelas!B:D,3,0),0),\"\")","v":0},{"$f":"IF(A31<>\"\",IFERROR(VLOOKUP(AB31,Tabelas!B:D,3,0),0),\"\")","v":0},{"$f":"IF(A31<>\"\",IFERROR(VLOOKUP(AC31,Tabelas!B:D,3,0),0),\"\")","v":0},{"$f":"IF(A31<>\"\",IFERROR(VLOOKUP(AD31,Tabelas!B:D,3,0),0),\"\")","v":0},{"$f":"IF(A31<>\"\",IFERROR(VLOOKUP(AE31,Tabelas!B:D,3,0),0),\"\")","v":0},{"$f":"IF(A31<>\"\",IFERROR(VLOOKUP(AF31,Tabelas!B:D,3,0),0),\"\")","v":0},{"$f":"IF(A31<>\"\",IFERROR(VLOOKUP(AG31,Tabelas!B:D,3,0),0),\"\")","v":0},{"$f":"IF(A31<>\"\",IFERROR(VLOOKUP(AH31,Tabelas!B:D,3,0),0),\"\")","v":0},{"$f":"IF(A31<>\"\",IFERROR(VLOOKUP(AI31,Tabelas!B:D,3,0),0),\"\")","v":0},{"$f":"IF(A31<>\"\",IFERROR(VLOOKUP(AJ31,Tabelas!B:D,3,0),0),\"\")","v":0},{"$f":"IF(A31<>\"\",IFERROR(VLOOKUP(AK31,Tabelas!B:D,3,0),0),\"\")","v":0},{"$f":"IF(A31<>\"\",IFERROR(VLOOKUP(AL31,Tabelas!B:D,3,0),0),\"\")","v":0},{"$f":"IF(A31<>\"\",IFERROR(VLOOKUP(AM31,Tabelas!B:D,3,0),0),\"\")","v":0},{"$f":"IF(A31<>\"\",IFERROR(VLOOKUP(AN31,Tabelas!B:D,3,0),0),\"\")","v":0},{"$f":"IF(A31<>\"\",IFERROR(VLOOKUP(AO31,Tabelas!B:D,3,0),0),\"\")","v":0},{"$f":"IF(A31<>\"\",IFERROR(VLOOKUP(AP31,Tabelas!B:D,3,0),0),\"\")","v":0},{"$f":"IF(A31<>\"\",IFERROR(VLOOKUP(AQ31,Tabelas!B:D,3,0),0),\"\")","v":0},0,0,0,0,0,0,0,0]
["FULANO 24",24,null,null,null,null,null,null,null,null,null,null,null,null,null,null,null,null,null,null,null,null,null,null,null,null,null,null,null,null,null,null,null,null,null,null,null,null,null,null,null,null,null,{"$f":"IF(A32<>\"\",IFERROR(VLOOKUP(M32,Tabelas!B:D,3,0),0),\"\")","v":0},{"$f":"IF(A32<>\"\",IFERROR(VLOOKUP(N32,Tabelas!B:D,3,0),0),\"\")","v":0},{"$f":"IF(A32<>\"\",IFERROR(VLOOKUP(O32,Tabelas!B:D,3,0),0),\"\")","v":0},{"$f":"IF(A32<>\"\",IFERROR(VLOOKUP(P32,Tabelas!B:D,3,0),0),\"\")","v":0},{"$f":"IF(A32<>\"\",IFERROR(VLOOKUP(Q32,Tabelas!B:D,3,0),0),\"\")","v":0},{"$f":"IF(A32<>\"\",IFERROR(VLOOKUP(R32,Tabelas!B:D,3,0),0),\"\")","v":0},{"$f":"IF(A32<>\"\",IFERROR(VLOOKUP(S32,Tabelas!B:D,3,0),0),\"\")","v":0},{"$f":"IF(A32<>\"\",IFERROR(VLOOKUP(T32,Tabelas!B:D,3,0),0),\"\")","v":0},{"$f":"IF(A32<>\"\",IFERROR(VLOOKUP(U32,Tabelas!B:D,3,0),0),\"\")","v":0},{"$f":"IF(A32<>\"\",IFERROR(VLOOKUP(V32,Tabelas!B:D,3,0),0),\"\")","v":0},{"$f":"IF(A32<>\"\",IFERROR(VLOOKUP(W32,Tabelas!B:D,3,0),0),\"\")","v":0},{"$f":"IF(A32<>\"\",IFERROR(VLOOKUP(X32,Tabelas!B:D,3,0),0),\"\")","v":0},{"$f":"IF(A32<>\"\",IFERROR(VLOOKUP(Y32,Tabelas!B:D,3,0),0),\"\")","v":0},{"$f":"IF(A32<>\"\",IFERROR(VLOOKUP(Z32,Tabelas!B:D,3,0),0),\"\")","v":0},{"$f":"IF(A32<>\"\",IFERROR(VLOOKUP(AA32,Tabelas!B:D,3,0),0),\"\")","v":0},{"$f":"IF(A32<>\"\",IFERROR(VLOOKUP(AB32,Tabelas!B:D,3,0),0),\"\")","v":0},{"$f":"IF(A32<>\"\",IFERROR(VLOOKUP(AC32,Tabelas!B:D,3,0),0),\"\")","v":0},{"$f":"IF(A32<>\"\",IFERROR(VLOOKUP(AD32,Tabelas!B:D,3,0),0),\"\")","v":0},{"$f":"IF(A32<>\"\",IFERROR(VLOOKUP(AE32,Tabelas!B:D,3,0),0),\"\")","v":0},{"$f":"IF(A32<>\"\",IFERROR(VLOOKUP(AF32,Tabelas!B:D,3,0),0),\"\")","v":0},{"$f":"IF(A32<>\"\",IFERROR(VLOOKUP(AG32,Tabelas!B:D,3,0),0),\"\")","v":0},{"$f":"IF(A32<>\"\",IFERROR(VLOOKUP(AH32,Tabelas!B:D,3,0),0),\"\")","v":0},{"$f":"IF(A32<>\"\",IFERROR(VLOOKUP(AI32,Tabelas!B:D,3,0),0),\"\")","v":0},{"$f":"IF(A32<>\"\",IFERROR(VLOOKUP(AJ32,Tabelas!B:D,3,0),0),\"\")","v":0},{"$f":"IF(A32<>\"\",IFERROR(VLOOKUP(AK32,Tabelas!B:D,3,0),0),\"\")","v":0},{"$f":"IF(A32<>\"\",IFERROR(VLOOKUP(AL32,Tabelas!B:D,3,0),0),\"\")","v":0},{"$f":"IF(A32<>\"\",IFERROR(VLOOKUP(AM32,Tabelas!B:D,3,0),0),\"\")","v":0},{"$f":"IF(A32<>\"\",IFERROR(VLOOKUP(AN32,Tabelas!B:D,3,0),0),\"\")","v":0},{"$f":"IF(A32<>\"\",IFERROR(VLOOKUP(AO32,Tabelas!B:D,3,0),0),\"\")","v":0},{"$f":"IF(A32<>\"\",IFERROR(VLOOKUP(AP32,Tabelas!B:D,3,0),0),\"\")","v":0},{"$f":"IF(A32<>\"\",IFERROR(VLOOKUP(AQ32,Tabelas!B:D,3,0),0),\"\")","v":0},0,0,0,0,0,0,0,0]
["FULANO 25",25,null,null,null,null,null,null,null,null,null,null,null,null,null,null,null,null,null,null,null,null,null,null,null,null,null,null,null,null,null,null,null,null,null,null,null,null,null,null,null,null,null,{"$f":"IF(A33<>\"\",IFERROR(VLOOKUP(M33,Tabelas!B:D,3,0),0),\"\")","v":0},{"$f":"IF(A33<>\"\",IFERROR(VLOOKUP(N33,Tabelas!B:D,3,0),0),\"\")","v":0},{"$f":"IF(A33<>\"\",IFERROR(VLOOKUP(O33,Tabelas!B:D,3,0),0),\"\")","v":0},{"$f":"IF(A33<>\"\",IFERROR(VLOOKUP(P33,Tabelas!B:D,3,0),0),\"\")","v":0},{"$f":"IF(A33<>\"\",IFERROR(VLOOKUP(Q33,Tabelas!B:D,3,0),0),\"\")","v":0},{"$f":"IF(A33<>\"\",IFERROR(VLOOKUP(R33,Tabelas!B:D,3,0),0),\"\")","v":0},{"$f":"IF(A33<>\"\",IFERROR(VLOOKUP(S33,Tabelas!B:D,3,0),0),\"\")","v":0},{"$f":"IF(A33<>\"\",IFERROR(VLOOKUP(T33,Tabelas!B:D,3,0),0),\"\")","v":0},{"$f":"IF(A33<>\"\",IFERROR(VLOOKUP(U33,Tabelas!B:D,3,0),0),\"\")","v":0},{"$f":"IF(A33<>\"\",IFERROR(VLOOKUP(V33,Tabelas!B:D,3,0),0),\"\")","v":0},{"$f":"IF(A33<>\"\",IFERROR(VLOOKUP(W33,Tabelas!B:D,3,0),0),\"\")","v":0},{"$f":"IF(A33<>\"\",IFERROR(VLOOKUP(X33,Tabelas!B:D,3,0),0),\"\")","v":0},{"$f":"IF(A33<>\"\",IFERROR(VLOOKUP(Y33,Tabelas!B:D,3,0),0),\"\")","v":0},{"$f":"IF(A33<>\"\",IFERROR(VLOOKUP(Z33,Tabelas!B:D,3,0),0),\"\")","v":0},{"$f":"IF(A33<>\"\",IFERROR(VLOOKUP(AA33,Tabelas!B:D,3,0),0),\"\")","v":0},{"$f":"IF(A33<>\"\",IFERROR(VLOOKUP(AB33,Tabelas!B:D,3,0),0),\"\")","v":0},{"$f":"IF(A33<>\"\",IFERROR(VLOOKUP(AC33,Tabelas!B:D,3,0),0),\"\")","v":0},{"$f":"IF(A33<>\"\",IFERROR(VLOOKUP(AD33,Tabelas!B:D,3,0),0),\"\")","v":0},{"$f":"IF(A33<>\"\",IFERROR(VLOOKUP(AE33,Tabelas!B:D,3,0),0),\"\")","v":0},{"$f":"IF(A33<>\"\",IFERROR(VLOOKUP(AF33,Tabelas!B:D,3,0),0),\"\")","v":0},{"$f":"IF(A33<>\"\",IFERROR(VLOOKUP(AG33,Tabelas!B:D,3,0),0),\"\")","v":0},{"$f":"IF(A33<>\"\",IFERROR(VLOOKUP(AH33,Tabelas!B:D,3,0),0),\"\")","v":0},{"$f":"IF(A33<>\"\",IFERROR(VLOOKUP(AI33,Tabelas!B:D,3,0),0),\"\")","v":0},{"$f":"IF(A33<>\"\",IFERROR(VLOOKUP(AJ33,Tabelas!B:D,3,0),0),\"\")","v":0},{"$f":"IF(A33<>\"\",IFERROR(VLOOKUP(AK33,Tabelas!B:D,3,0),0),\"\")","v":0},{"$f":"IF(A33<>\"\",IFERROR(VLOOKUP(AL33,Tabelas!B:D,3,0),0),\"\")","v":0},{"$f":"IF(A33<>\"\",IFERROR(VLOOKUP(AM33,Tabelas!B:D,3,0),0),\"\")","v":0},{"$f":"IF(A33<>\"\",IFERROR(VLOOKUP(AN33,Tabelas!B:D,3,0),0),\"\")","v":0},{"$f":"IF(A33<>\"\",IFERROR(VLOOKUP(AO33,Tabelas!B:D,3,0),0),\"\")","v":0},{"$f":"IF(A33<>\"\",IFERROR(VLOOKUP(AP33,Tabelas!B:D,3,0),0),\"\")","v":0},{"$f":"IF(A33<>\"\",IFERROR(VLOOKUP(AQ33,Tabelas!B:D,3,0),0),\"\")","v":0},0,0,0,0,0,0,0,0]
["FULANO 26",26,null,null,null,null,null,null,null,null,null,null,null,null,null,null,null,null,null,null,null,null,null,null,null,null,null,null,null,null,null,null,null,null,null,null,null,null,null,null,null,null,null,{"$f":"IF(A34<>\"\",IFERROR(VLOOKUP(M34,Tabelas!B:D,3,0),0),\"\")","v":0},{"$f":"IF(A34<>\"\",IFERROR(VLOOKUP(N34,Tabelas!B:D,3,0),0),\"\")","v":0},{"$f":"IF(A34<>\"\",IFERROR(VLOOKUP(O34,Tabelas!B:D,3,0),0),\"\")","v":0},{"$f":"IF(A34<>\"\",IFERROR(VLOOKUP(P34,Tabelas!B:D,3,0),0),\"\")","v":0},{"$f":"IF(A34<>\"\",IFERROR(VLOOKUP(Q34,Tabelas!B:D,3,0),0),\"\")","v":0},{"$f":"IF(A34<>\"\",IFERROR(VLOOKUP(R34,Tabelas!B:D,3,0),0),\"\")","v":0},{"$f":"IF(A34<>\"\",IFERROR(VLOOKUP(S34,Tabelas!B:D,3,0),0),\"\")","v":0},{"$f":"IF(A34<>\"\",IFERROR(VLOOKUP(T34,Tabelas!B:D,3,0),0),\"\")","v":0},{"$f":"IF(A34<>\"\",IFERROR(VLOOKUP(U34,Tabelas!B:D,3,0),0),\"\")","v":0},{"$f":"IF(A34<>\"\",IFERROR(VLOOKUP(V34,Tabelas!B:D,3,0),0),\"\")","v":0},{"$f":"IF(A34<>\"\",IFERROR(VLOOKUP(W34,Tabelas!B:D,3,0),0),\"\")","v":0},{"$f":"IF(A34<>\"\",IFERROR(VLOOKUP(X34,Tabelas!B:D,3,0),0),\"\")","v":0},{"$f":"IF(A34<>\"\",IFERROR(VLOOKUP(Y34,Tabelas!B:D,3,0),0),\"\")","v":0},{"$f":"IF(A34<>\"\",IFERROR(VLOOKUP(Z34,Tabelas!B:D,3,0),0),\"\")","v":0},{"$f":"IF(A34<>\"\",IFERROR(VLOOKUP(AA34,Tabelas!B:D,3,0),0),\"\")","v":0},{"$f":"IF(A34<>\"\",IFERROR(VLOOKUP(AB34,Tabelas!B:D,3,0),0),\"\")","v":0},{"$f":"IF(A34<>\"\",IFERROR(VLOOKUP(AC34,Tabelas!B:D,3,0),0),\"\")","v":0},{"$f":"IF(A34<>\"\",IFERROR(VLOOKUP(AD34,Tabelas!B:D,3,0),0),\"\")","v":0},{"$f":"IF(A34<>\"\",IFERROR(VLOOKUP(AE34,Tabelas!B:D,3,0),0),\"\")","v":0},{"$f":"IF(A34<>\"\",IFERROR(VLOOKUP(AF34,Tabelas!B:D,3,0),0),\"\")","v":0},{"$f":"IF(A34<>\"\",IFERROR(VLOOKUP(AG34,Tabelas!B:D,3,0),0),\"\")","v":0},{"$f":"IF(A34<>\"\",IFERROR(VLOOKUP(AH34,Tabelas!B:D,3,0),0),\"\")","v":0},{"$f":"IF(A34<>\"\",IFERROR(VLOOKUP(AI34,Tabelas!B:D,3,0),0),\"\")","v":0},{"$f":"IF(A34<>\"\",IFERROR(VLOOKUP(AJ34,Tabelas!B:D,3,0),0),\"\")","v":0},{"$f":"IF(A34<>\"\",IFERROR(VLOOKUP(AK34,Tabelas!B:D,3,0),0),\"\")","v":0},{"$f":"IF(A34<>\"\",IFERROR(VLOOKUP(AL34,Tabelas!B:D,3,0),0),\"\")","v":0},{"$f":"IF(A34<>\"\",IFERROR(VLOOKUP(AM34,Tabelas!B:D,3,0),0),\"\")","v":0},{"$f":"IF(A34<>\"\",IFERROR(VLOOKUP(AN34,Tabelas!B:D,3,0),0),\"\")","v":0},{"$f":"IF(A34<>\"\",IFERROR(VLOOKUP(AO34,Tabelas!B:D,3,0),0),\"\")","v":0},{"$f":"IF(A34<>\"\",IFERROR(VLOOKUP(AP34,Tabelas!B:D,3,0),0),\"\")","v":0},{"$f":"IF(A34<>\"\",IFERROR(VLOOKUP(AQ34,Tabelas!B:D,3,0),0),\"\")","v":0},0,0,0,0,0,0,0,0]
["FULANO 27",27,null,null,null,null,null,null,null,null,null,null,null,null,null,null,null,null,null,null,null,null,null,null,null,null,null,null,null,null,null,null,null,null,null,null,null,null,null,null,null,null,null,{"$f":"IF(A35<>\"\",IFERROR(VLOOKUP(M35,Tabelas!B:D,3,0),0),\"\")","v":0},{"$f":"IF(A35<>\"\",IFERROR(VLOOKUP(N35,Tabelas!B:D,3,0),0),\"\")","v":0},{"$f":"IF(A35<>\"\",IFERROR(VLOOKUP(O35,Tabelas!B:D,3,0),0),\"\")","v":0},{"$f":"IF(A35<>\"\",IFERROR(VLOOKUP(P35,Tabelas!B:D,3,0),0),\"\")","v":0},{"$f":"IF(A35<>\"\",IFERROR(VLOOKUP(Q35,Tabelas!B:D,3,0),0),\"\")","v":0},{"$f":"IF(A35<>\"\",IFERROR(VLOOKUP(R35,Tabelas!B:D,3,0),0),\"\")","v":0},{"$f":"IF(A35<>\"\",IFERROR(VLOOKUP(S35,Tabelas!B:D,3,0),0),\"\")","v":0},{"$f":"IF(A35<>\"\",IFERROR(VLOOKUP(T35,Tabelas!B:D,3,0),0),\"\")","v":0},{"$f":"IF(A35<>\"\",IFERROR(VLOOKUP(U35,Tabelas!B:D,3,0),0),\"\")","v":0},{"$f":"IF(A35<>\"\",IFERROR(VLOOKUP(V35,Tabelas!B:D,3,0),0),\"\")","v":0},{"$f":"IF(A35<>\"\",IFERROR(VLOOKUP(W35,Tabelas!B:D,3,0),0),\"\")","v":0},{"$f":"IF(A35<>\"\",IFERROR(VLOOKUP(X35,Tabelas!B:D,3,0),0),\"\")","v":0},{"$f":"IF(A35<>\"\",IFERROR(VLOOKUP(Y35,Tabelas!B:D,3,0),0),\"\")","v":0},{"$f":"IF(A35<>\"\",IFERROR(VLOOKUP(Z35,Tabelas!B:D,3,0),0),\"\")","v":0},{"$f":"IF(A35<>\"\",IFERROR(VLOOKUP(AA35,Tabelas!B:D,3,0),0),\"\")","v":0},{"$f":"IF(A35<>\"\",IFERROR(VLOOKUP(AB35,Tabelas!B:D,3,0),0),\"\")","v":0},{"$f":"IF(A35<>\"\",IFERROR(VLOOKUP(AC35,Tabelas!B:D,3,0),0),\"\")","v":0},{"$f":"IF(A35<>\"\",IFERROR(VLOOKUP(AD35,Tabelas!B:D,3,0),0),\"\")","v":0},{"$f":"IF(A35<>\"\",IFERROR(VLOOKUP(AE35,Tabelas!B:D,3,0),0),\"\")","v":0},{"$f":"IF(A35<>\"\",IFERROR(VLOOKUP(AF35,Tabelas!B:D,3,0),0),\"\")","v":0},{"$f":"IF(A35<>\"\",IFERROR(VLOOKUP(AG35,Tabelas!B:D,3,0),0),\"\")","v":0},{"$f":"IF(A35<>\"\",IFERROR(VLOOKUP(AH35,Tabelas!B:D,3,0),0),\"\")","v":0},{"$f":"IF(A35<>\"\",IFERROR(VLOOKUP(AI35,Tabelas!B:D,3,0),0),\"\")","v":0},{"$f":"IF(A35<>\"\",IFERROR(VLOOKUP(AJ35,Tabelas!B:D,3,0),0),\"\")","v":0},{"$f":"IF(A35<>\"\",IFERROR(VLOOKUP(AK35,Tabelas!B:D,3,0),0),\"\")","v":0},{"$f":"IF(A35<>\"\",IFERROR(VLOOKUP(AL35,Tabelas!B:D,3,0),0),\"\")","v":0},{"$f":"IF(A35<>\"\",IFERROR(VLOOKUP(AM35,Tabelas!B:D,3,0),0),\"\")","v":0},{"$f":"IF(A35<>\"\",IFERROR(VLOOKUP(AN35,Tabelas!B:D,3,0),0),\"\")","v":0},{"$f":"IF(A35<>\"\",IFERROR(VLOOKUP(AO35,Tabelas!B:D,3,0),0),\"\")","v":0},{"$f":"IF(A35<>\"\",IFERROR(VLOOKUP(AP35,Tabelas!B:D,3,0),0),\"\")","v":0},{"$f":"IF(A35<>\"\",IFERROR(VLOOKUP(AQ35,Tabelas!B:D,3,0),0),\"\")","v":0},0,0,0,0,0,0,0,0]
["TOTAL PROFISSIONAIS MATUTINO",null,null,null,null,null,null,null,null,null,null,null,{"$f":"IF(COUNTIF(M9:M35,\"M*\")+ COUNTIF(M9:M35, \"D*\")-COUNTIF(M9:M35,\"DSR\")<>0,COUNTIF(M9:M35,\"M*\")+ COUNTIF(M9:M35, \"D*\")-COUNTIF(M9:M35,\"DSR\"),\"\")","v":""},"","","","","","","","","","","","","","","","","","","","","","","","","","","","","","",null,null,null,null,null,null,null,null,null,null,null,null,null,null,null,null,null,null,null,null,null,null,null,null,null,null,null,null,null,null,null,{"$f":"SUM(BW9:BW35)","v":0},0,0,0,0,0,0,0]
["TOTAL DE PROFISSIONAIS VESPERTINO",null,null,null,null,null,null,null,null,null,null,null,{"$f":"IF(COUNTIF(M9:M35,\"MT*\") + COUNTIF(M9:M35, \"D*\") + COUNTIF(M9:M35,\"T*\")-COUNTIF(M9:M35,\"DSR\")<>0,COUNTIF(M9:M35,\"MT*\") + COUNTIF(M9:M35, \"D*\") + COUNTIF(M9:M35,\"T*\")-COUNTIF(M9:M35,\"DSR\"),\"\")","v":""},"","","","","","","","","","","","","","","","","","","","","","","","","","","","","","",{"$f":"IF(A37<>\"\",IFERROR(VLOOKUP(M37,Tabelas!B:D,3,0),0),\"\")","v":0},{"$f":"IF(A37<>\"\",IFERROR(VLOOKUP(N37,Tabelas!B:D,3,0),0),\"\")","v":0},{"$f":"IF(A37<>\"\",IFERROR(VLOOKUP(O37,Tabelas!B:D,3,0),0),\"\")","v":0},{"$f":"IF(A37<>\"\",IFERROR(VLOOKUP(P37,Tabelas!B:D,3,0),0),\"\")","v":0},{"$f":"IF(A37<>\"\",IFERROR(VLOOKUP(Q37,Tabelas!B:D,3,0),0),\"\")","v":0},{"$f":"IF(A37<>\"\",IFERROR(VLOOKUP(R37,Tabelas!B:D,3,0),0),\"\")","v":0},{"$f":"IF(A37<>\"\",IFERROR(VLOOKUP(S37,Tabelas!B:D,3,0),0),\"\")","v":0},{"$f":"IF(A37<>\"\",IFERROR(VLOOKUP(T37,Tabelas!B:D,3,0),0),\"\")","v":0},{"$f":"IF(A37<>\"\",IFERROR(VLOOKUP(U37,Tabelas!B:D,3,0),0),\"\")","v":0},{"$f":"IF(A37<>\"\",IFERROR(VLOOKUP(V37,Tabelas!B:D,3,0),0),\"\")","v":0},{"$f":"IF(A37<>\"\",IFERROR(VLOOKUP(W37,Tabelas!B:D,3,0),0),\"\")","v":0},{"$f":"IF(A37<>\"\",IFERROR(VLOOKUP(X37,Tabelas!B:D,3,0),0),\"\")","v":0},{"$f":"IF(A37<>\"\",IFERROR(VLOOKUP(Y37,Tabelas!B:D,3,0),0),\"\")","v":0},{"$f":"IF(A37<>\"\",IFERROR(VLOOKUP(Z37,Tabelas!B:D,3,0),0),\"\")","v":0},{"$f":"IF(A37<>\"\",IFERROR(VLOOKUP(AA37,Tabelas!B:D,3,0),0),\"\")","v":0},{"$f":"IF(A37<>\"\",IFERROR(VLOOKUP(AB37,Tabelas!B:D,3,0),0),\"\")","v":0},{"$f":"IF(A37<>\"\",IFERROR(VLOOKUP(AC37,Tabelas!B:D,3,0),0),\"\")","v":0},{"$f":"IF(A37<>\"\",IFERROR(VLOOKUP(AD37,Tabelas!B:D,3,0),0),\"\")","v":0},{"$f":"IF(A37<>\"\",IFERROR(VLOOKUP(AE37,Tabelas!B:D,3,0),0),\"\")","v":0},{"$f":"IF(A37<>\"\",IFERROR(VLOOKUP(AF37,Tabelas!B:D,3,0),0),\"\")","v":0},{"$f":"IF(A37<>\"\",IFERROR(VLOOKUP(AG37,Tabelas!B:D,3,0),0),\"\")","v":0},{"$f":"IF(A37<>\"\",IFERROR(VLOOKUP(AH37,Tabelas!B:D,3,0),0),\"\")","v":0},{"$f":"IF(A37<>\"\",IFERROR(VLOOKUP(AI37,Tabelas!B:D,3,0),0),\"\")","v":0},{"$f":"IF(A37<>\"\",IFERROR(VLOOKUP(AJ37,Tabelas!B:D,3,0),0),\"\")","v":0},{"$f":"IF(A37<>\"\",IFERROR(VLOOKUP(AK37,Tabelas!B:D,3,0),0),\"\")","v":0},{"$f":"IF(A37<>\"\",IFERROR(VLOOKUP(AL37,Tabelas!B:D,3,0),0),\"\")","v":0},{"$f":"IF(A37<>\"\",IFERROR(VLOOKUP(AM37,Tabelas!B:D,3,0),0),\"\")","v":0},{"$f":"IF(A37<>\"\",IFERROR(VLOOKUP(AN37,Tabelas!B:D,3,0),0),\"\")","v":0},{"$f":"IF(A37<>\"\",IFERROR(VLOOKUP(AO37,Tabelas!B:D,3,0),0),\"\")","v":0},{"$f":"IF(A37<>\"\",IFERROR(VLOOKUP(AP37,Tabelas!B:D,3,0),0),\"\")","v":0},{"$f":"IF(A37<>\"\",IFERROR(VLOOKUP(AQ37,Tabelas!B:D,3,0),0),\"\")","v":0}]
["TOTAL DE PROFISSIONAIS NOTURNO",null,null,null,null,null,null,null,null,null,null,null,{"$f":"IF(COUNTIF(M9:M37,\"N?*\") + COUNTIF(M9:M37, \"DN*\")<>0,COUNTIF(M9:M37,\"N?*\") + COUNTIF(M9:M37, \"DN*\"),\"\")","v":""},"","","","","","","","","","","","","","","","","","","","","","","","","","","","","","",{"$f":"IF(A38<>\"\",IFERROR(VLOOKUP(M38,Tabelas!B:D,3,0),0),\"\")","v":0},{"$f":"IF(A38<>\"\",IFERROR(VLOOKUP(N38,Tabelas!B:D,3,0),0),\"\")","v":0},{"$f":"IF(A38<>\"\",IFERROR(VLOOKUP(O38,Tabelas!B:D,3,0),0),\"\")","v":0},{"$f":"IF(A38<>\"\",IFERROR(VLOOKUP(P38,Tabelas!B:D,3,0),0),\"\")","v":0},{"$f":"IF(A38<>\"\",IFERROR(VLOOKUP(Q38,Tabelas!B:D,3,0),0),\"\")","v":0},{"$f":"IF(A38<>\"\",IFERROR(VLOOKUP(R38,Tabelas!B:D,3,0),0),\"\")","v":0},{"$f":"IF(A38<>\"\",IFERROR(VLOOKUP(S38,Tabelas!B:D,3,0),0),\"\")","v":0},{"$f":"IF(A38<>\"\",IFERROR(VLOOKUP(T38,Tabelas!B:D,3,0),0),\"\")","v":0},{"$f":"IF(A38<>\"\",IFERROR(VLOOKUP(U38,Tabelas!B:D,3,0),0),\"\")","v":0},{"$f":"IF(A38<>\"\",IFERROR(VLOOKUP(V38,Tabelas!B:D,3,0),0),\"\")","v":0},{"$f":"IF(A38<>\"\",IFERROR(VLOOKUP(W38,Tabelas!B:D,3,0),0),\"\")","v":0},{"$f":"IF(A38<>\"\",IFERROR(VLOOKUP(X38,Tabelas!B:D,3,0),0),\"\")","v":0},{"$f":"IF(A38<>\"\",IFERROR(VLOOKUP(Y38,Tabelas!B:D,3,0),0),\"\")","v":0},{"$f":"IF(A38<>\"\",IFERROR(VLOOKUP(Z38,Tabelas!B:D,3,0),0),\"\")","v":0},{"$f":"IF(A38<>\"\",IFERROR(VLOOKUP(AA38,Tabelas!B:D,3,0),0),\"\")","v":0},{"$f":"IF(A38<>\"\",IFERROR(VLOOKUP(AB38,Tabelas!B:D,3,0),0),\"\")","v":0},{"$f":"IF(A38<>\"\",IFERROR(VLOOKUP(AC38,Tabelas!B:D,3,0),0),\"\")","v":0},{"$f":"IF(A38<>\"\",IFERROR(VLOOKUP(AD38,Tabelas!B:D,3,0),0),\"\")","v":0},{"$f":"IF(A38<>\"\",IFERROR(VLOOKUP(AE38,Tabelas!B:D,3,0),0),\"\")","v":0},{"$f":"IF(A38<>\"\",IFERROR(VLOOKUP(AF38,Tabelas!B:D,3,0),0),\"\")","v":0},{"$f":"IF(A38<>\"\",IFERROR(VLOOKUP(AG38,Tabelas!B:D,3,0),0),\"\")","v":0},{"$f":"IF(A38<>\"\",IFERROR(VLOOKUP(AH38,Tabelas!B:D,3,0),0),\"\")","v":0},{"$f":"IF(A38<>\"\",IFERROR(VLOOKUP(AI38,Tabelas!B:D,3,0),0),\"\")","v":0},{"$f":"IF(A38<>\"\",IFERROR(VLOOKUP(AJ38,Tabelas!B:D,3,0),0),\"\")","v":0},{"$f":"IF(A38<>\"\",IFERROR(VLOOKUP(AK38,Tabelas!B:D,3,0),0),\"\")","v":0},{"$f":"IF(A38<>\"\",IFERROR(VLOOKUP(AL38,Tabelas!B:D,3,0),0),\"\")","v":0},{"$f":"IF(A38<>\"\",IFERROR(VLOOKUP(AM38,Tabelas!B:D,3,0),0),\"\")","v":0},{"$f":"IF(A38<>\"\",IFERROR(VLOOKUP(AN38,Tabelas!B:D,3,0),0),\"\")","v":0},{"$f":"IF(A38<>\"\",IFERROR(VLOOKUP(AO38,Tabelas!B:D,3,0),0),\"\")","v":0},{"$f":"IF(A38<>\"\",IFERROR(VLOOKUP(AP38,Tabelas!B:D,3,0),0),\"\")","v":0},{"$f":"IF(A38<>\"\",IFERROR(VLOOKUP(AQ38,Tabelas!B:D,3,0),0),\"\")","v":0}]
[null,null,null,null,null,null,null,null,null,null,null,null,null,null,null,null,null,null,null,null,null,null,null,null,null,null,null,null,null,null,null,null,null,null,null,null,null,null,null,null,null,null,null,{"$f":"IF(A39<>\"\",IFERROR(VLOOKUP(M39,Tabelas!B:D,3,0),0),\"\")","v":""},{"$f":"IF(A39<>\"\",IFERROR(VLOOKUP(N39,Tabelas!B:D,3,0),0),\"\")","v":""},{"$f":"IF(A39<>\"\",IFERROR(VLOOKUP(O39,Tabelas!B:D,3,0),0),\"\")","v":""},{"$f":"IF(A39<>\"\",IFERROR(VLOOKUP(P39,Tabelas!B:D,3,0),0),\"\")","v":""},{"$f":"IF(A39<>\"\",IFERROR(VLOOKUP(Q39,Tabelas!B:D,3,0),0),\"\")","v":""},{"$f":"IF(A39<>\"\",IFERROR(VLOOKUP(R39,Tabelas!B:D,3,0),0),\"\")","v":""},{"$f":"IF(A39<>\"\",IFERROR(VLOOKUP(S39,Tabelas!B:D,3,0),0),\"\")","v":""},{"$f":"IF(A39<>\"\",IFERROR(VLOOKUP(T39,Tabelas!B:D,3,0),0),\"\")","v":""},{"$f":"IF(A39<>\"\",IFERROR(VLOOKUP(U39,Tabelas!B:D,3,0),0),\"\")","v":""},{"$f":"IF(A39<>\"\",IFERROR(VLOOKUP(V39,Tabelas!B:D,3,0),0),\"\")","v":""},{"$f":"IF(A39<>\"\",IFERROR(VLOOKUP(W39,Tabelas!B:D,3,0),0),\"\")","v":""},{"$f":"IF(A39<>\"\",IFERROR(VLOOKUP(X39,Tabelas!B:D,3,0),0),\"\")","v":""},{"$f":"IF(A39<>\"\",IFERROR(VLOOKUP(Y39,Tabelas!B:D,3,0),0),\"\")","v":""},{"$f":"IF(A39<>\"\",IFERROR(VLOOKUP(Z39,Tabelas!B:D,3,0),0),\"\")","v":""},{"$f":"IF(A39<>\"\",IFERROR(VLOOKUP(AA39,Tabelas!B:D,3,0),0),\"\")","v":""},{"$f":"IF(A39<>\"\",IFERROR(VLOOKUP(AB39,Tabelas!B:D,3,0),0),\"\")","v":""},{"$f":"IF(A39<>\"\",IFERROR(VLOOKUP(AC39,Tabelas!B:D,3,0),0),\"\")","v":""},{"$f":"IF(A39<>\"\",IFERROR(VLOOKUP(AD39,Tabelas!B:D,3,0),0),\"\")","v":""},{"$f":"IF(A39<>\"\",IFERROR(VLOOKUP(AE39,Tabelas!B:D,3,0),0),\"\")","v":""},{"$f":"IF(A39<>\"\",IFERROR(VLOOKUP(AF39,Tabelas!B:D,3,0),0),\"\")","v":""},{"$f":"IF(A39<>\"\",IFERROR(VLOOKUP(AG39,Tabelas!B:D,3,0),0),\"\")","v":""},{"$f":"IF(A39<>\"\",IFERROR(VLOOKUP(AH39,Tabelas!B:D,3,0),0),\"\")","v":""},{"$f":"IF(A39<>\"\",IFERROR(VLOOKUP(AI39,Tabelas!B:D,3,0),0),\"\")","v":""},{"$f":"IF(A39<>\"\",IFERROR(VLOOKUP(AJ39,Tabelas!B:D,3,0),0),\"\")","v":""},{"$f":"IF(A39<>\"\",IFERROR(VLOOKUP(AK39,Tabelas!B:D,3,0),0),\"\")","v":""},{"$f":"IF(A39<>\"\",IFERROR(VLOOKUP(AL39,Tabelas!B:D,3,0),0),\"\")","v":""},{"$f":"IF(A39<>\"\",IFERROR(VLOOKUP(AM39,Tabelas!B:D,3,0),0),\"\")","v":""},{"$f":"IF(A39<>\"\",IFERROR(VLOOKUP(AN39,Tabelas!B:D,3,0),0),\"\")","v":""},{"$f":"IF(A39<>\"\",IFERROR(VLOOKUP(AO39,Tabelas!B:D,3,0),0),\"\")","v":""},{"$f":"IF(A39<>\"\",IFERROR(VLOOKUP(AP39,Tabelas!B:D,3,0),0),\"\")","v":""},{"$f":"IF(A39<>\"\",IFERROR(VLOOKUP(AQ39,Tabelas!B:D,3,0),0),\"\")","v":""}]
["Legenda:"]
["Licença Maternidade","LM","Férias",null,null,null,null,null,null,"FE",null,"Ponto Facultativo",null,null,null,null,null,null,null,"PF","Manhã *",null,null,null,null,null,null,"M","Diurno (8 hrs) *",null,null,null,null,null,null,"MT"]
["Licença Paternidade","LP","Feriado",null,null,null,null,null,null,"FD",null,"Abono **",null,null,null,null,null,null,null,"AB","Tarde *",null,null,null,null,null,null,"T","Dia/ noite (24 hrs) *",null,null,null,null,null,null,"DN"]
["Licença Médica/Odontológica","L","Descanso Semanal Remunerado",null,null,null,null,null,null,"DSR",null,"Compensação de Horas***",null,null,null,null,null,null,null,"CH","Plantão Dia (12 hrs) *",null,null,null,null,null,null,"D"]
["Licença Capacitação","LC","Recesso",null,null,null,null,null,null,"RC",null,"Afastamento**",null,null,null,null,null,null,null,"AF","Plantão Noite (12 hrs) *",null,null,null,null,null,null,"N"]
[]
["OBSERVAÇÕES:"]
["* Para inserção das legendas referentes às jornadas de trabalho, verificar a Tabela 1 do Anexo do Memorando-Circular - SEI nº   25 /2018/CAP/DGP-EBSERH."]
["** Para inserção das legendas referentes aos Afastamentos previstos em lei e às Compensações de horas, verificar a Tabela 2 do Anexo do Memorando-Circular - SEI nº   25 /2018/CAP/DGP-EBSERH."]

{"sheet":"Dezembro","index":12,"n_rows":60,"n_cols":82,"rows_kept":60,"cut":false,"hidden":false,"merged":[[53,28,53,34],[52,28,52,34],[52,20,52,26],[44,74,46,74],[5,74,7,74],[5,43,5,73],[5,12,5,42],[53,20,53,26],[54,20,54,26],[55,2,55,8],[55,9,55,10],[55,11,55,18],[55,20,55,26],[47,0,47,11],[48,0,48,11],[49,0,49,11],[54,2,54,8],[54,9,54,10],[54,11,54,18],[52,11,52,18],[53,2,53,8],[53,9,53,10],[53,11,53,18],[52,2,52,8],[52,9,52,10],[1,0,1,42],[2,0,2,42],[3,0,3,42],[4,1,4,20],[4,23,4,34],[4,37,4,42],[6,80,7,80],[6,81,7,81],[5,75,5,81],[6,75,7,75],[5,6,5,11],[6,76,7,76],[6,77,7,77],[6,78,7,78],[6,79,7,79],[6,6,7,6],[6,7,7,7],[6,8,7,8],[6,11,7,11],[6,9,7,9],[6,10,7,10]]}
[]
[]
["HU UFSC/CM1"]
[]
["DIVISÃO /SETOR/UNIDADE:","CLÍNICA MÉDICA I",null,null,null,null,null,null,null,null,null,null,null,null,null,null,null,null,null,null,null,"MÊS:",null,"Maio",null,null,null,null,null,null,null,null,null,null,null,"ANO:",null,2021]
["NOME COMPLETO","3203+B6:B39906","Registro Conselho Classe","Cargo","Vínculo","C.H Sem","INTERVALO",null,null,null,null,null,"DIAS DO MÊS",null,null,null,null,null,null,null,null,null,null,null,null,null,null,null,null,null,null,null,null,null,null,null,null,null,null,null,null,null,null,"CÁLCULO DAS HORAS",null,null,null,null,null,null,null,null,null,null,null,null,null,null,null,null,null,null,null,null,null,null,null,null,null,null,null,null,null,null,"CH Men.","Dias"]
[null,null,null,null,null,null,"15' M","15' T","15' N","1H D","1H N","2H",1,2,3,4,5,6,7,8,9,10,11,12,13,14,15,16,17,18,19,20,21,22,23,24,25,{"$f":"IF(DAY(DATE(AL5,VLOOKUP(X5,Tabelas!M:N,2,0)+1,1)-1)>=26,26,\"\")","v":26},{"$f":"IF(DAY(DATE(AL5,VLOOKUP(X5,Tabelas!M:N,2,0)+1,1)-1)>=27,27,\"\")","v":27},{"$f":"IF(DAY(DATE(AL5,VLOOKUP(X5,Tabelas!M:N,2,0)+1,1)-1)>=28,28,\"\")","v":28},{"$f":"IF(DAY(DATE(AL5,VLOOKUP(X5,Tabelas!M:N,2,0)+1,1)-1)>=29,29,\"\")","v":29},30,31,null,null,null,null,null,null,null,null,null,null,null,null,null,null,null,null,null,null,null,null,null,null,null,null,null,null,null,null,null,null,null,null,"LM/LP/L","AB","FE","LC","CH","AF  "," Total Afast."]
[null,null,null,null,null,null,null,null,null,null,null,null,{"$f":"IF(M7<>\"\",IFERROR(VLOOKUP(WEEKDAY(CONCATENATE(M7,$X$5,$AL$5)),Tabelas!$I:$J,2,0),\"\"),\"\")","v":"SAB"},{"$f":"IF(N7<>\"\",IFERROR(VLOOKUP(WEEKDAY(CONCATENATE(N7,$X$5,$AL$5)),Tabelas!$I:$J,2,0),\"\"),\"\")","v":"DOM"},{"$f":"IF(O7<>\"\",IFERROR(VLOOKUP(WEEKDAY(CONCATENATE(O7,$X$5,$AL$5)),Tabelas!$I:$J,2,0),\"\"),\"\")","v":"SEG"},{"$f":"IF(P7<>\"\",IFERROR(VLOOKUP(WEEKDAY(CONCATENATE(P7,$X$5,$AL$5)),Tabelas!$I:$J,2,0),\"\"),\"\")","v":"TER"},{"$f":"IF(Q7<>\"\",IFERROR(VLOOKUP(WEEKDAY(CONCATENATE(Q7,$X$5,$AL$5)),Tabelas!$I:$J,2,0),\"\"),\"\")","v":"QUA"},{"$f":"IF(R7<>\"\",IFERROR(VLOOKUP(WEEKDAY(CONCATENATE(R7,$X$5,$AL$5)),Tabelas!$I:$J,2,0),\"\"),\"\")","v":"QUI"},{"$f":"IF(S7<>\"\",IFERROR(VLOOKUP(WEEKDAY(CONCATENATE(S7,$X$5,$AL$5)),Tabelas!$I:$J,2,0),\"\"),\"\")","v":"SEX"},{"$f":"IF(T7<>\"\",IFERROR(VLOOKUP(WEEKDAY(CONCATENATE(T7,$X$5,$AL$5)),Tabelas!$I:$J,2,0),\"\"),\"\")","v":"SAB"},{"$f":"IF(U7<>\"\",IFERROR(VLOOKUP(WEEKDAY(CONCATENATE(U7,$X$5,$AL$5)),Tabelas!$I:$J,2,0),\"\"),\"\")","v":"DOM"},{"$f":"IF(V7<>\"\",IFERROR(VLOOKUP(WEEKDAY(CONCATENATE(V7,$X$5,$AL$5)),Tabelas!$I:$J,2,0),\"\"),\"\")","v":"SEG"},{"$f":"IF(W7<>\"\",IFERROR(VLOOKUP(WEEKDAY(CONCATENATE(W7,$X$5,$AL$5)),Tabelas!$I:$J,2,0),\"\"),\"\")","v":"TER"},{"$f":"IF(X7<>\"\",IFERROR(VLOOKUP(WEEKDAY(CONCATENATE(X7,$X$5,$AL$5)),Tabelas!$I:$J,2,0),\"\"),\"\")","v":"QUA"},{"$f":"IF(Y7<>\"\",IFERROR(VLOOKUP(WEEKDAY(CONCATENATE(Y7,$X$5,$AL$5)),Tabelas!$I:$J,2,0),\"\"),\"\")","v":"QUI"},{"$f":"IF(Z7<>\"\",IFERROR(VLOOKUP(WEEKDAY(CONCATENATE(Z7,$X$5,$AL$5)),Tabelas!$I:$J,2,0),\"\"),\"\")","v":"SEX"},{"$f":"IF(AA7<>\"\",IFERROR(VLOOKUP(WEEKDAY(CONCATENATE(AA7,$X$5,$AL$5)),Tabelas!$I:$J,2,0),\"\"),\"\")","v":"SAB"},{"$f":"IF(AB7<>\"\",IFERROR(VLOOKUP(WEEKDAY(CONCATENATE(AB7,$X$5,$AL$5)),Tabelas!$I:$J,2,0),\"\"),\"\")","v":"DOM"},{"$f":"IF(AC7<>\"\",IFERROR(VLOOKUP(WEEKDAY(CONCATENATE(AC7,$X$5,$AL$5)),Tabelas!$I:$J,2,0),\"\"),\"\")","v":"SEG"},{"$f":"IF(AD7<>\"\",IFERROR(VLOOKUP(WEEKDAY(CONCATENATE(AD7,$X$5,$AL$5)),Tabelas!$I:$J,2,0),\"\"),\"\")","v":"TER"},{"$f":"IF(AE7<>\"\",IFERROR(VLOOKUP(WEEKDAY(CONCATENATE(AE7,$X$5,$AL$5)),Tabelas!$I:$J,2,0),\"\"),\"\")","v":"QUA"},{"$f":"IF(AF7<>\"\",IFERROR(VLOOKUP(WEEKDAY(CONCATENATE(AF7,$X$5,$AL$5)),Tabelas!$I:$J,2,0),\"\"),\"\")","v":"QUI"},{"$f":"IF(AG7<>\"\",IFERROR(VLOOKUP(WEEKDAY(CONCATENATE(AG7,$X$5,$AL$5)),Tabelas!$I:$J,2,0),\"\"),\"\")","v":"SEX"},{"$f":"IF(AH7<>\"\",IFERROR(VLOOKUP(WEEKDAY(CONCATENATE(AH7,$X$5,$AL$5)),Tabelas!$I:$J,2,0),\"\"),\"\")","v":"SAB"},{"$f":"IF(AI7<>\"\",IFERROR(VLOOKUP(WEEKDAY(CONCATENATE(AI7,$X$5,$AL$5)),Tabelas!$I:$J,2,0),\"\"),\"\")","v":"DOM"},{"$f":"IF(AJ7<>\"\",IFERROR(VLOOKUP(WEEKDAY(CONCATENATE(AJ7,$X$5,$AL$5)),Tabelas!$I:$J,2,0),\"\"),\"\")","v":"SEG"},{"$f":"IF(AK7<>\"\",IFERROR(VLOOKUP(WEEKDAY(CONCATENATE(AK7,$X$5,$AL$5)),Tabelas!$I:$J,2,0),\"\"),\"\")","v":"TER"},{"$f":"IF(AL7<>\"\",IFERROR(VLOOKUP(WEEKDAY(CONCATENATE(AL7,$X$5,$AL$5)),Tabelas!$I:$J,2,0),\"\"),\"\")","v":"QUA"},{"$f":"IF(AM7<>\"\",IFERROR(VLOOKUP(WEEKDAY(CONCATENATE(AM7,$X$5,$AL$5)),Tabelas!$I:$J,2,0),\"\"),\"\")","v":"QUI"},{"$f":"IF(AN7<>\"\",IFERROR(VLOOKUP(WEEKDAY(CONCATENATE(AN7,$X$5,$AL$5)),Tabelas!$I:$J,2,0),\"\"),\"\")","v":"SEX"},{"$f":"IF(AO7<>\"\",IFERROR(VLOOKUP(WEEKDAY(CONCATENATE(AO7,$X$5,$AL$5)),Tabelas!$I:$J,2,0),\"\"),\"\")","v":"SAB"},"DOM",{"$f":"IF(AQ7<>\"\",IFERROR(VLOOKUP(WEEKDAY(CONCATENATE(AQ7,$X$5,$AL$5)),Tabelas!$I:$J,2,0),\"\"),\"\")","v":"SEG"},1,2,3,4,5,6,7,8,9,10,11,12,13,14,15,16,17,18,19,20,21,22,23,24,25,26,27,28,29,30,31]
["Enfermeiros",null,null,null,null,null,null,null,null,null,null,null,null,null,null,null,null,null,null,null,null,null,null,null,null,null,null,null,null,null,null,null,null,null,null,null,null,null,null,null,null,null,null,null,null,null,null,null,null,null,null,null,null,null,null,null,null,null,null,null,null,null,null,null,null,null,null,null,null,null,null,null,null,null,null,{"$f":"IF(#REF!<>\"\",COUNTIF(M10:AQ10,\"LM\")+COUNTIF(M10:AQ10,\"L\")+COUNTIF(M10:AQ10,\"LP\"),\"\")","v":{"$error":"#REF!"}},{"$f":"IF(#REF!<>\"\",COUNTIF(M10:AQ10,\"AB*\"),\"\")","v":{"$error":"#REF!"}},{"$f":"IF(#REF!<>\"\",COUNTIF(M10:AQ10,\"FE\"),\"\")","v":{"$error":"#REF!"}},{"$f":"IF(#REF!<>\"\",COUNTIF(M10:AQ10,\"LC\"),\"\")","v":{"$error":"#REF!"}},{"$f":"IF(#REF!<>\"\",COUNTIF(M10:AQ10,\"CH*\"),\"\")","v":{"$error":"#REF!"}},{"$f":"IF(#REF!<>\"\",COUNTIF(M10:AQ10,\"AF1\")+COUNTIF(M10:AQ10,\"AF2\")+COUNTIF(M10:AQ10,\"AF3\")+COUNTIF(M10:AQ10,\"AF4\")+COUNTIF(M10:AQ10,\"AF5\")+COUNTIF(M10:AQ10,\"AF6\")+COUNTIF(M10:AQ10,\"AF7\")+COUNTIF(M10:AQ10,\"AF8\")+COUNTIF(M10:AQ10,\"AF9\")+COUNTIF(M10:AQ10,\"AF10\")+COUNTIF(M10:AQ10,\"AF11\")+COUNTIF(M10:AQ10,\"AF12\")+COUNTIF(M10:AQ10,\"AF13\")+COUNTIF(M10:AQ10,\"AF14\"),\"\")","v":{"$error":"#REF!"}},{"$f":"IF(#REF!<>\"\",COUNTIF(M10:AQ10,\"CH*\")+COUNTIF(M10:AQ10,\"L\")+COUNTIF(M10:AQ10,\"LM\")+COUNTIF(M10:AQ10,\"LP\")+COUNTIF(M10:AQ10,\"LC\")+COUNTIF(M10:AQ10,\"AB*\")+COUNTIF(M10:AQ10,\"AF1\")+COUNTIF(M10:AQ10,\"AF2\")+COUNTIF(M10:AQ10,\"AF3\")+COUNTIF(M10:AQ10,\"AF4\")+COUNTIF(M10:AQ10,\"AF5\")+COUNTIF(M10:AQ10,\"AF6\")+COUNTIF(M10:AQ10,\"AF7\")+COUNTIF(M10:AQ10,\"AF8\")+COUNTIF(M10:AQ10,\"AF9\")+COUNTIF(M10:AQ10,\"AF10\")+COUNTIF(M10:AQ10,\"AF11\")+COUNTIF(M10:AQ10,\"AF12\")+COUNTIF(M10:AQ10,\"AF13\")+COUNTIF(M10:AQ10,\"AF14\")+COUNTIF(M10:AQ10,\"RC\")+COUNTIF(M10:AQ10,\"FO\")+COUNTIF(M10:AQ10,\"FE\"),\"\")","v":{"$error":"#REF!"}}]
["Letícia Cabral Domingos da Rosa",1451516,91679,"ENF","EBSERH",36,null,null,null,null,null,null,null,null,"M15","D6","M15","M15","M15",null,"DSR","M15","M15","M15","M15","D6",null,"DSR","D6","M15","M15","M15","M15",null,"DSR","M15","M15","M15","M15","D6",null,"DSR","M15",null,null,null,null,null,null,null,null,null,null,null,null,null,null,null,null,null,null,null,null,null,null,null,null,null,null,null,null,null,null,null,null,{"$f":"IF(A12<>\"\",COUNTIF(M12:AQ12,\"LM\")+COUNTIF(M12:AQ12,\"L\")+COUNTIF(M12:AQ12,\"LP\"),\"\")","v":0},{"$f":"IF(A12<>\"\",COUNTIF(M12:AQ12,\"AB*\"),\"\")","v":0},{"$f":"IF(A12<>\"\",COUNTIF(M12:AQ12,\"FE\"),\"\")","v":0},{"$f":"IF(A12<>\"\",COUNTIF(M12:AQ12,\"LC\"),\"\")","v":0},{"$f":"IF(A12<>\"\",COUNTIF(M12:AQ12,\"CH*\"),\"\")","v":1},{"$f":"IF(A12<>\"\",COUNTIF(M12:AQ12,\"AF1\")+COUNTIF(M12:AQ12,\"AF2\")+COUNTIF(M12:AQ12,\"AF3\")+COUNTIF(M12:AQ12,\"AF4\")+COUNTIF(M12:AQ12,\"AF5\")+COUNTIF(M12:AQ12,\"AF6\")+COUNTIF(M12:AQ12,\"AF7\")+COUNTIF(M12:AQ12,\"AF8\")+COUNTIF(M12:AQ12,\"AF9\")+COUNTIF(M12:AQ12,\"AF10\")+COUNTIF(M12:AQ12,\"AF11\")+COUNTIF(M12:AQ12,\"AF12\")+COUNTIF(M12:AQ12,\"AF13\")+COUNTIF(M12:AQ12,\"AF14\"),\"\")","v":0},{"$f":"IF(A12<>\"\",COUNTIF(M12:AQ12,\"CH*\")+COUNTIF(M12:AQ12,\"L\")+COUNTIF(M12:AQ12,\"LM\")+COUNTIF(M12:AQ12,\"LP\")+COUNTIF(M12:AQ12,\"LC\")+COUNTIF(M12:AQ12,\"AB*\")+COUNTIF(M12:AQ12,\"AF1\")+COUNTIF(M12:AQ12,\"AF2\")+COUNTIF(M12:AQ12,\"AF3\")+COUNTIF(M12:AQ12,\"AF4\")+COUNTIF(M12:AQ12,\"AF5\")+COUNTIF(M12:AQ12,\"AF6\")+COUNTIF(M12:AQ12,\"AF7\")+COUNTIF(M12:AQ12,\"AF8\")+COUNTIF(M12:AQ12,\"AF9\")+COUNTIF(M12:AQ12,\"AF10\")+COUNTIF(M12:AQ12,\"AF11\")+COUNTIF(M12:AQ12,\"AF12\")+COUNTIF(M12:AQ12,\"AF13\")+COUNTIF(M12:AQ12,\"AF14\")+COUNTIF(M12:AQ12,\"RC\")+COUNTIF(M12:AQ12,\"FO\")+COUNTIF(M12:AQ12,\"FE\"),\"\")","v":1}]
[" Gleber Fabiano Pires Silveira",3211595,264712,"ENF","EBSERH",36,null,null,null,null,null,null,null,"DSR","D6",null,"M15","D6",null,null,"D6","DSR",null,"CH-12",null,"D6",null,"DSR",null,"D6","CH-12",null,"D6",null,"DSR","D6",null,"D6",null,"D6","DSR","D6",null,null,null,null,null,null,null,null,null,null,null,null,null,null,null,null,null,null,null,null,null,null,null,null,null,null,null,null,null,null,null,null,150,{"$f":"IF(A13<>\"\",COUNTIF(M13:AQ13,\"LM\")+COUNTIF(M13:AQ13,\"L\")+COUNTIF(M13:AQ13,\"LP\"),\"\")","v":0},{"$f":"IF(A13<>\"\",COUNTIF(M13:AQ13,\"AB*\"),\"\")","v":0},{"$f":"IF(A13<>\"\",COUNTIF(M13:AQ13,\"FE\"),\"\")","v":0},{"$f":"IF(A13<>\"\",COUNTIF(M13:AQ13,\"LC\"),\"\")","v":0},{"$f":"IF(A13<>\"\",COUNTIF(M13:AQ13,\"CH*\"),\"\")","v":0},{"$f":"IF(A13<>\"\",COUNTIF(M13:AQ13,\"AF1\")+COUNTIF(M13:AQ13,\"AF2\")+COUNTIF(M13:AQ13,\"AF3\")+COUNTIF(M13:AQ13,\"AF4\")+COUNTIF(M13:AQ13,\"AF5\")+COUNTIF(M13:AQ13,\"AF6\")+COUNTIF(M13:AQ13,\"AF7\")+COUNTIF(M13:AQ13,\"AF8\")+COUNTIF(M13:AQ13,\"AF9\")+COUNTIF(M13:AQ13,\"AF10\")+COUNTIF(M13:AQ13,\"AF11\")+COUNTIF(M13:AQ13,\"AF12\")+COUNTIF(M13:AQ13,\"AF13\")+COUNTIF(M13:AQ13,\"AF14\"),\"\")","v":0},{"$f":"IF(A13<>\"\",COUNTIF(M13:AQ13,\"CH*\")+COUNTIF(M13:AQ13,\"L\")+COUNTIF(M13:AQ13,\"LM\")+COUNTIF(M13:AQ13,\"LP\")+COUNTIF(M13:AQ13,\"LC\")+COUNTIF(M13:AQ13,\"AB*\")+COUNTIF(M13:AQ13,\"AF1\")+COUNTIF(M13:AQ13,\"AF2\")+COUNTIF(M13:AQ13,\"AF3\")+COUNTIF(M13:AQ13,\"AF4\")+COUNTIF(M13:AQ13,\"AF5\")+COUNTIF(M13:AQ13,\"AF6\")+COUNTIF(M13:AQ13,\"AF7\")+COUNTIF(M13:AQ13,\"AF8\")+COUNTIF(M13:AQ13,\"AF9\")+COUNTIF(M13:AQ13,\"AF10\")+COUNTIF(M13:AQ13,\"AF11\")+COUNTIF(M13:AQ13,\"AF12\")+COUNTIF(M13:AQ13,\"AF13\")+COUNTIF(M13:AQ13,\"AF14\")+COUNTIF(M13:AQ13,\"RC\")+COUNTIF(M13:AQ13,\"FO\")+COUNTIF(M13:AQ13,\"FE\"),\"\")","v":0}]
["Adriano José  Barbosa",185931,201524,"ENF","EBSERH",36,null,null,null,null,null,null,"D6","D6","DSR","M15","D6",null,"D6","D6","DSR","D6",null,"D6",null,"D6",null,"N8","DSR",null,"D6",null,"CH-12",null,"DSR",null,null,null,null,null,"DSR","D6",null,null,null,null,null,null,null,null,null,null,null,null,null,null,null,null,null,null,null,null,null,null,null,null,null,null,null,null,null,null,null,null,150,{"$f":"IF(A10<>\"\",COUNTIF(#REF!,\"LM\")+COUNTIF(#REF!,\"L\")+COUNTIF(#REF!,\"LP\"),\"\")","v":{"$error":"#REF!"}},{"$f":"IF(A10<>\"\",COUNTIF(#REF!,\"AB*\"),\"\")","v":{"$error":"#REF!"}},{"$f":"IF(A10<>\"\",COUNTIF(#REF!,\"FE\"),\"\")","v":{"$error":"#REF!"}},{"$f":"IF(A10<>\"\",COUNTIF(#REF!,\"LC\"),\"\")","v":{"$error":"#REF!"}},{"$f":"IF(A10<>\"\",COUNTIF(#REF!,\"CH*\"),\"\")","v":{"$error":"#REF!"}},{"$f":"IF(A10<>\"\",COUNTIF(#REF!,\"AF1\")+COUNTIF(#REF!,\"AF2\")+COUNTIF(#REF!,\"AF3\")+COUNTIF(#REF!,\"AF4\")+COUNTIF(#REF!,\"AF5\")+COUNTIF(#REF!,\"AF6\")+COUNTIF(#REF!,\"AF7\")+COUNTIF(#REF!,\"AF8\")+COUNTIF(#REF!,\"AF9\")+COUNTIF(#REF!,\"AF10\")+COUNTIF(#REF!,\"AF11\")+COUNTIF(#REF!,\"AF12\")+COUNTIF(#REF!,\"AF13\")+COUNTIF(#REF!,\"AF14\"),\"\")","v":{"$error":"#REF!"}},{"$f":"IF(A10<>\"\",COUNTIF(#REF!,\"CH*\")+COUNTIF(#REF!,\"L\")+COUNTIF(#REF!,\"LM\")+COUNTIF(#REF!,\"LP\")+COUNTIF(#REF!,\"LC\")+COUNTIF(#REF!,\"AB*\")+COUNTIF(#REF!,\"AF1\")+COUNTIF(#REF!,\"AF2\")+COUNTIF(#REF!,\"AF3\")+COUNTIF(#REF!,\"AF4\")+COUNTIF(#REF!,\"AF5\")+COUNTIF(#REF!,\"AF6\")+COUNTIF(#REF!,\"AF7\")+COUNTIF(#REF!,\"AF8\")+COUNTIF(#REF!,\"AF9\")+COUNTIF(#REF!,\"AF10\")+COUNTIF(#REF!,\"AF11\")+COUNTIF(#REF!,\"AF12\")+COUNTIF(#REF!,\"AF13\")+COUNTIF(#REF!,\"AF14\")+COUNTIF(#REF!,\"RC\")+COUNTIF(#REF!,\"FO\")+COUNTIF(#REF!,\"FE\"),\"\")","v":{"$error":"#REF!"}}]
["Daniela Pozzebom Caurio",3219628,88645,"ENF","EBSERH",36,null,null,null,null,null,null,"DSR","D6",null,"D6",null,"D6",null,"D6","DSR",null,"D6",null,"D6",null,"M15","D6","DSR","D6",null,null,null,"D6","DSR",null,"D6",null,"D6",null,"D6","DSR",null,null,null,null,null,null,null,null,null,null,null,null,null,null,null,null,null,null,null,null,null,null,null,null,null,null,null,null,null,null,null,null,150,{"$f":"IF(A14<>\"\",COUNTIF(M14:AQ14,\"LM\")+COUNTIF(M14:AQ14,\"L\")+COUNTIF(M14:AQ14,\"LP\"),\"\")","v":0},{"$f":"IF(A14<>\"\",COUNTIF(M14:AQ14,\"AB*\"),\"\")","v":0},{"$f":"IF(A14<>\"\",COUNTIF(M14:AQ14,\"FE\"),\"\")","v":0},{"$f":"IF(A14<>\"\",COUNTIF(M14:AQ14,\"LC\"),\"\")","v":0},{"$f":"IF(A14<>\"\",COUNTIF(M14:AQ14,\"CH*\"),\"\")","v":0},{"$f":"IF(A14<>\"\",COUNTIF(M14:AQ14,\"AF1\")+COUNTIF(M14:AQ14,\"AF2\")+COUNTIF(M14:AQ14,\"AF3\")+COUNTIF(M14:AQ14,\"AF4\")+COUNTIF(M14:AQ14,\"AF5\")+COUNTIF(M14:AQ14,\"AF6\")+COUNTIF(M14:AQ14,\"AF7\")+COUNTIF(M14:AQ14,\"AF8\")+COUNTIF(M14:AQ14,\"AF9\")+COUNTIF(M14:AQ14,\"AF10\")+COUNTIF(M14:AQ14,\"AF11\")+COUNTIF(M14:AQ14,\"AF12\")+COUNTIF(M14:AQ14,\"AF13\")+COUNTIF(M14:AQ14,\"AF14\"),\"\")","v":0},{"$f":"IF(A14<>\"\",COUNTIF(M14:AQ14,\"CH*\")+COUNTIF(M14:AQ14,\"L\")+COUNTIF(M14:AQ14,\"LM\")+COUNTIF(M14:AQ14,\"LP\")+COUNTIF(M14:AQ14,\"LC\")+COUNTIF(M14:AQ14,\"AB*\")+COUNTIF(M14:AQ14,\"AF1\")+COUNTIF(M14:AQ14,\"AF2\")+COUNTIF(M14:AQ14,\"AF3\")+COUNTIF(M14:AQ14,\"AF4\")+COUNTIF(M14:AQ14,\"AF5\")+COUNTIF(M14:AQ14,\"AF6\")+COUNTIF(M14:AQ14,\"AF7\")+COUNTIF(M14:AQ14,\"AF8\")+COUNTIF(M14:AQ14,\"AF9\")+COUNTIF(M14:AQ14,\"AF10\")+COUNTIF(M14:AQ14,\"AF11\")+COUNTIF(M14:AQ14,\"AF12\")+COUNTIF(M14:AQ14,\"AF13\")+COUNTIF(M14:AQ14,\"AF14\")+COUNTIF(M14:AQ14,\"RC\")+COUNTIF(M14:AQ14,\"FO\")+COUNTIF(M14:AQ14,\"FE\"),\"\")","v":0}]
["Maria Aparecida V. Texeira",144947,96696,"ENF","EBSERH",36,null,null,null,null,null,null,null,"DSR",null,"D6",null,"D6",null,null,"DSR","D6",null,"D6",null,null,null,"D6","DSR","D6",null,"D6",null,"D6","DSR","D6",null,"D6",null,"D6","D6","DSR","M15",null,null,null,null,null,null,null,null,null,null,null,null,null,null,null,null,null,null,null,null,null,null,null,null,null,null,null,null,null,null,null,150,{"$f":"IF(A18<>\"\",COUNTIF(M18:AQ18,\"LM\")+COUNTIF(M18:AQ18,\"L\")+COUNTIF(M18:AQ18,\"LP\"),\"\")","v":0},{"$f":"IF(A18<>\"\",COUNTIF(M18:AQ18,\"AB*\"),\"\")","v":0},{"$f":"IF(A18<>\"\",COUNTIF(M18:AQ18,\"FE\"),\"\")","v":0},{"$f":"IF(A18<>\"\",COUNTIF(M18:AQ18,\"LC\"),\"\")","v":0},{"$f":"IF(A18<>\"\",COUNTIF(M18:AQ18,\"CH*\"),\"\")","v":1},{"$f":"IF(A18<>\"\",COUNTIF(M18:AQ18,\"AF1\")+COUNTIF(M18:AQ18,\"AF2\")+COUNTIF(M18:AQ18,\"AF3\")+COUNTIF(M18:AQ18,\"AF4\")+COUNTIF(M18:AQ18,\"AF5\")+COUNTIF(M18:AQ18,\"AF6\")+COUNTIF(M18:AQ18,\"AF7\")+COUNTIF(M18:AQ18,\"AF8\")+COUNTIF(M18:AQ18,\"AF9\")+COUNTIF(M18:AQ18,\"AF10\")+COUNTIF(M18:AQ18,\"AF11\")+COUNTIF(M18:AQ18,\"AF12\")+COUNTIF(M18:AQ18,\"AF13\")+COUNTIF(M18:AQ18,\"AF14\"),\"\")","v":0},{"$f":"IF(A18<>\"\",COUNTIF(M18:AQ18,\"CH*\")+COUNTIF(M18:AQ18,\"L\")+COUNTIF(M18:AQ18,\"LM\")+COUNTIF(M18:AQ18,\"LP\")+COUNTIF(M18:AQ18,\"LC\")+COUNTIF(M18:AQ18,\"AB*\")+COUNTIF(M18:AQ18,\"AF1\")+COUNTIF(M18:AQ18,\"AF2\")+COUNTIF(M18:AQ18,\"AF3\")+COUNTIF(M18:AQ18,\"AF4\")+COUNTIF(M18:AQ18,\"AF5\")+COUNTIF(M18:AQ18,\"AF6\")+COUNTIF(M18:AQ18,\"AF7\")+COUNTIF(M18:AQ18,\"AF8\")+COUNTIF(M18:AQ18,\"AF9\")+COUNTIF(M18:AQ18,\"AF10\")+COUNTIF(M18:AQ18,\"AF11\")+COUNTIF(M18:AQ18,\"AF12\")+COUNTIF(M18:AQ18,\"AF13\")+COUNTIF(M18:AQ18,\"AF14\")+COUNTIF(M18:AQ18,\"RC\")+COUNTIF(M18:AQ18,\"FO\")+COUNTIF(M18:AQ18,\"FE\"),\"\")","v":1}]
["Rosilei da Silva da Rosa",305207,70769,"ENF","EBSERH",36,null,null,null,null,null,null,"D6","DSR","D6",null,null,null,"M15",null,"D6","DSR","CH-12",null,"D6",null,"D6","DSR","D6",null,"D6",null,"D6",null,"D6","DSR","D6",null,"D6",null,null,"DSR","D6",null,null,null,null,null,null,null,null,null,null,null,null,null,null,null,null,null,null,null,null,null,null,null,null,null,null,null,null,null,null,null,150,{"$f":"IF(A19<>\"\",COUNTIF(M19:AQ19,\"LM\")+COUNTIF(M19:AQ19,\"L\")+COUNTIF(M19:AQ19,\"LP\"),\"\")","v":0},{"$f":"IF(A19<>\"\",COUNTIF(M19:AQ19,\"AB*\"),\"\")","v":0},{"$f":"IF(A19<>\"\",COUNTIF(M19:AQ19,\"FE\"),\"\")","v":0},{"$f":"IF(A19<>\"\",COUNTIF(M19:AQ19,\"LC\"),\"\")","v":0},{"$f":"IF(A19<>\"\",COUNTIF(M19:AQ19,\"CH*\"),\"\")","v":2},{"$f":"IF(A19<>\"\",COUNTIF(M19:AQ19,\"AF1\")+COUNTIF(M19:AQ19,\"AF2\")+COUNTIF(M19:AQ19,\"AF3\")+COUNTIF(M19:AQ19,\"AF4\")+COUNTIF(M19:AQ19,\"AF5\")+COUNTIF(M19:AQ19,\"AF6\")+COUNTIF(M19:AQ19,\"AF7\")+COUNTIF(M19:AQ19,\"AF8\")+COUNTIF(M19:AQ19,\"AF9\")+COUNTIF(M19:AQ19,\"AF10\")+COUNTIF(M19:AQ19,\"AF11\")+COUNTIF(M19:AQ19,\"AF12\")+COUNTIF(M19:AQ19,\"AF13\")+COUNTIF(M19:AQ19,\"AF14\"),\"\")","v":0},{"$f":"IF(A19<>\"\",COUNTIF(M19:AQ19,\"CH*\")+COUNTIF(M19:AQ19,\"L\")+COUNTIF(M19:AQ19,\"LM\")+COUNTIF(M19:AQ19,\"LP\")+COUNTIF(M19:AQ19,\"LC\")+COUNTIF(M19:AQ19,\"AB*\")+COUNTIF(M19:AQ19,\"AF1\")+COUNTIF(M19:AQ19,\"AF2\")+COUNTIF(M19:AQ19,\"AF3\")+COUNTIF(M19:AQ19,\"AF4\")+COUNTIF(M19:AQ19,\"AF5\")+COUNTIF(M19:AQ19,\"AF6\")+COUNTIF(M19:AQ19,\"AF7\")+COUNTIF(M19:AQ19,\"AF8\")+COUNTIF(M19:AQ19,\"AF9\")+COUNTIF(M19:AQ19,\"AF10\")+COUNTIF(M19:AQ19,\"AF11\")+COUNTIF(M19:AQ19,\"AF12\")+COUNTIF(M19:AQ19,\"AF13\")+COUNTIF(M19:AQ19,\"AF14\")+COUNTIF(M19:AQ19,\"RC\")+COUNTIF(M19:AQ19,\"FO\")+COUNTIF(M19:AQ19,\"FE\"),\"\")","v":2}]
["Viviane Silva Negreiros",3211711,198522,"ENF","EBSERH",36,null,null,null,null,null,null,null,null,"M15",null,"D6",null,"D6",null,"DSR",null,"D6",null,"D6",null,"D6","DSR","D6",null,null,"D6","D6",null,"D6","DSR","D6",null,"D6",null,null,"DSR","D6",null,null,null,null,null,null,null,null,null,null,null,null,null,null,null,null,null,null,null,null,null,null,null,null,null,null,null,null,null,null,null,150,{"$f":"IF(A21<>\"\",COUNTIF(M21:AQ21,\"LM\")+COUNTIF(M21:AQ21,\"L\")+COUNTIF(M21:AQ21,\"LP\"),\"\")","v":0},{"$f":"IF(A21<>\"\",COUNTIF(M21:AQ21,\"AB*\"),\"\")","v":0},{"$f":"IF(A21<>\"\",COUNTIF(M21:AQ21,\"FE\"),\"\")","v":0},{"$f":"IF(A21<>\"\",COUNTIF(M21:AQ21,\"LC\"),\"\")","v":0},{"$f":"IF(A21<>\"\",COUNTIF(M21:AQ21,\"CH*\"),\"\")","v":3},{"$f":"IF(A21<>\"\",COUNTIF(M21:AQ21,\"AF1\")+COUNTIF(M21:AQ21,\"AF2\")+COUNTIF(M21:AQ21,\"AF3\")+COUNTIF(M21:AQ21,\"AF4\")+COUNTIF(M21:AQ21,\"AF5\")+COUNTIF(M21:AQ21,\"AF6\")+COUNTIF(M21:AQ21,\"AF7\")+COUNTIF(M21:AQ21,\"AF8\")+COUNTIF(M21:AQ21,\"AF9\")+COUNTIF(M21:AQ21,\"AF10\")+COUNTIF(M21:AQ21,\"AF11\")+COUNTIF(M21:AQ21,\"AF12\")+COUNTIF(M21:AQ21,\"AF13\")+COUNTIF(M21:AQ21,\"AF14\"),\"\")","v":0},{"$f":"IF(A21<>\"\",COUNTIF(M21:AQ21,\"CH*\")+COUNTIF(M21:AQ21,\"L\")+COUNTIF(M21:AQ21,\"LM\")+COUNTIF(M21:AQ21,\"LP\")+COUNTIF(M21:AQ21,\"LC\")+COUNTIF(M21:AQ21,\"AB*\")+COUNTIF(M21:AQ21,\"AF1\")+COUNTIF(M21:AQ21,\"AF2\")+COUNTIF(M21:AQ21,\"AF3\")+COUNTIF(M21:AQ21,\"AF4\")+COUNTIF(M21:AQ21,\"AF5\")+COUNTIF(M21:AQ21,\"AF6\")+COUNTIF(M21:AQ21,\"AF7\")+COUNTIF(M21:AQ21,\"AF8\")+COUNTIF(M21:AQ21,\"AF9\")+COUNTIF(M21:AQ21,\"AF10\")+COUNTIF(M21:AQ21,\"AF11\")+COUNTIF(M21:AQ21,\"AF12\")+COUNTIF(M21:AQ21,\"AF13\")+COUNTIF(M21:AQ21,\"AF14\")+COUNTIF(M21:AQ21,\"RC\")+COUNTIF(M21:AQ21,\"FO\")+COUNTIF(M21:AQ21,\"FE\"),\"\")","v":3}]
["Isabela Ubaldo Lowen",151854,62269,"ENF","RJU",30,null,null,null,null,null,null,null,null,"N8",null,null,"N8",null,null,"N8",null,null,"N8",null,null,"N8",null,null,"N8",null,null,"N8",null,null,"N8",null,null,"N8",null,null,"N8",null,null,null,null,null,null,null,null,null,null,null,null,null,null,null,null,null,null,null,null,null,null,null,null,null,null,null,null,null,null,null,null,120]
["Jenifer Regina Crispim",318956,360460,"ENF","EBSERH",36,null,null,null,null,null,null,"N8",null,null,"N8","N8",null,null,"N8",null,null,"N8",null,null,"N8",null,"N8",null,null,"N8",null,"N8",null,null,"N8",null,"N8",null,null,"N8",null,"CH-6",null,null,null,null,null,null,null,null,null,null,null,null,null,null,null,null,null,null,null,null,null,null,null,null,null,null,null,null,null,null,null,150,{"$f":"IF(A24<>\"\",COUNTIF(M24:AQ24,\"LM\")+COUNTIF(M24:AQ24,\"L\")+COUNTIF(M24:AQ24,\"LP\"),\"\")","v":31},{"$f":"IF(A24<>\"\",COUNTIF(M24:AQ24,\"AB*\"),\"\")","v":0},{"$f":"IF(A24<>\"\",COUNTIF(M24:AQ24,\"FE\"),\"\")","v":0},{"$f":"IF(A24<>\"\",COUNTIF(M24:AQ24,\"LC\"),\"\")","v":0},{"$f":"IF(A24<>\"\",COUNTIF(M24:AQ24,\"CH*\"),\"\")","v":0},{"$f":"IF(A24<>\"\",COUNTIF(M24:AQ24,\"AF1\")+COUNTIF(M24:AQ24,\"AF2\")+COUNTIF(M24:AQ24,\"AF3\")+COUNTIF(M24:AQ24,\"AF4\")+COUNTIF(M24:AQ24,\"AF5\")+COUNTIF(M24:AQ24,\"AF6\")+COUNTIF(M24:AQ24,\"AF7\")+COUNTIF(M24:AQ24,\"AF8\")+COUNTIF(M24:AQ24,\"AF9\")+COUNTIF(M24:AQ24,\"AF10\")+COUNTIF(M24:AQ24,\"AF11\")+COUNTIF(M24:AQ24,\"AF12\")+COUNTIF(M24:AQ24,\"AF13\")+COUNTIF(M24:AQ24,\"AF14\"),\"\")","v":0},{"$f":"IF(A24<>\"\",COUNTIF(M24:AQ24,\"CH*\")+COUNTIF(M24:AQ24,\"L\")+COUNTIF(M24:AQ24,\"LM\")+COUNTIF(M24:AQ24,\"LP\")+COUNTIF(M24:AQ24,\"LC\")+COUNTIF(M24:AQ24,\"AB*\")+COUNTIF(M24:AQ24,\"AF1\")+COUNTIF(M24:AQ24,\"AF2\")+COUNTIF(M24:AQ24,\"AF3\")+COUNTIF(M24:AQ24,\"AF4\")+COUNTIF(M24:AQ24,\"AF5\")+COUNTIF(M24:AQ24,\"AF6\")+COUNTIF(M24:AQ24,\"AF7\")+COUNTIF(M24:AQ24,\"AF8\")+COUNTIF(M24:AQ24,\"AF9\")+COUNTIF(M24:AQ24,\"AF10\")+COUNTIF(M24:AQ24,\"AF11\")+COUNTIF(M24:AQ24,\"AF12\")+COUNTIF(M24:AQ24,\"AF13\")+COUNTIF(M24:AQ24,\"AF14\")+COUNTIF(M24:AQ24,\"RC\")+COUNTIF(M24:AQ24,\"FO\")+COUNTIF(M24:AQ24,\"FE\"),\"\")","v":31}]
["Marcello Maciel Nogueira ",2412620,369716,"ENF","EBSERH",36,null,null,null,null,null,null,null,"N8",null,"N8",null,null,"N8",null,null,"N8",null,null,"N8",null,"CH-12",null,"N8","N8",null,"N8",null,"N8",null,null,"N8",null,"N8",null,null,"N8","CH-6",null,null,null,null,null,null,null,null,null,null,null,null,null,null,null,null,null,null,null,null,null,null,null,null,null,null,null,null,null,null,null,150,{"$f":"IF(A25<>\"\",COUNTIF(M25:AQ25,\"LM\")+COUNTIF(M25:AQ25,\"L\")+COUNTIF(M25:AQ25,\"LP\"),\"\")","v":0},{"$f":"IF(A25<>\"\",COUNTIF(M25:AQ25,\"AB*\"),\"\")","v":0},{"$f":"IF(A25<>\"\",COUNTIF(M25:AQ25,\"FE\"),\"\")","v":0},{"$f":"IF(A25<>\"\",COUNTIF(M25:AQ25,\"LC\"),\"\")","v":0},{"$f":"IF(A25<>\"\",COUNTIF(M25:AQ25,\"CH*\"),\"\")","v":0},{"$f":"IF(A25<>\"\",COUNTIF(M25:AQ25,\"AF1\")+COUNTIF(M25:AQ25,\"AF2\")+COUNTIF(M25:AQ25,\"AF3\")+COUNTIF(M25:AQ25,\"AF4\")+COUNTIF(M25:AQ25,\"AF5\")+COUNTIF(M25:AQ25,\"AF6\")+COUNTIF(M25:AQ25,\"AF7\")+COUNTIF(M25:AQ25,\"AF8\")+COUNTIF(M25:AQ25,\"AF9\")+COUNTIF(M25:AQ25,\"AF10\")+COUNTIF(M25:AQ25,\"AF11\")+COUNTIF(M25:AQ25,\"AF12\")+COUNTIF(M25:AQ25,\"AF13\")+COUNTIF(M25:AQ25,\"AF14\"),\"\")","v":0},{"$f":"IF(A25<>\"\",COUNTIF(M25:AQ25,\"CH*\")+COUNTIF(M25:AQ25,\"L\")+COUNTIF(M25:AQ25,\"LM\")+COUNTIF(M25:AQ25,\"LP\")+COUNTIF(M25:AQ25,\"LC\")+COUNTIF(M25:AQ25,\"AB*\")+COUNTIF(M25:AQ25,\"AF1\")+COUNTIF(M25:AQ25,\"AF2\")+COUNTIF(M25:AQ25,\"AF3\")+COUNTIF(M25:AQ25,\"AF4\")+COUNTIF(M25:AQ25,\"AF5\")+COUNTIF(M25:AQ25,\"AF6\")+COUNTIF(M25:AQ25,\"AF7\")+COUNTIF(M25:AQ25,\"AF8\")+COUNTIF(M25:AQ25,\"AF9\")+COUNTIF(M25:AQ25,\"AF10\")+COUNTIF(M25:AQ25,\"AF11\")+COUNTIF(M25:AQ25,\"AF12\")+COUNTIF(M25:AQ25,\"AF13\")+COUNTIF(M25:AQ25,\"AF14\")+COUNTIF(M25:AQ25,\"RC\")+COUNTIF(M25:AQ25,\"FO\")+COUNTIF(M25:AQ25,\"FE\"),\"\")","v":0}]
["Patrícia Lima ",3230221,105762,"ENF","EBSERH",36,null,null,null,null,null,null,null,null,null,null,"N8","N8",null,"N8","N8",null,"N8",null,"N8",null,null,null,"N8",null,null,"N8",null,null,"N8",null,null,"N8",null,"N8","CH-6",null,"N8",null,null,null,null,null,null,null,null,null,null,null,null,null,null,null,null,null,null,null,null,null,null,null,null,null,null,null,null,null,null,null,150]
["Zélma Gulart de Lima",318943,72703,"ENF","EBSERH",36,null,null,null,null,null,null,"N8",null,"N8",null,null,null,"N8",null,null,"N8",null,"N8",null,"CH-12","CH-12",null,"CH-6",null,"N8",null,null,"N8",null,null,"N8",null,null,null,"N8",null,"N8",null,null,null,null,null,null,null,null,null,null,null,null,null,null,null,null,null,null,null,null,null,null,null,null,null,null,null,null,null,null,null,150,{"$f":"IF(A40<>\"\",COUNTIF(#REF!,\"LM\")+COUNTIF(#REF!,\"L\")+COUNTIF(#REF!,\"LP\"),\"\")","v":{"$error":"#REF!"}},{"$f":"IF(A40<>\"\",COUNTIF(#REF!,\"AB*\"),\"\")","v":{"$error":"#REF!"}},{"$f":"IF(A40<>\"\",COUNTIF(#REF!,\"FE\"),\"\")","v":{"$error":"#REF!"}},{"$f":"IF(A40<>\"\",COUNTIF(#REF!,\"LC\"),\"\")","v":{"$error":"#REF!"}},{"$f":"IF(A40<>\"\",COUNTIF(#REF!,\"CH*\"),\"\")","v":{"$error":"#REF!"}},{"$f":"IF(A40<>\"\",COUNTIF(#REF!,\"AF1\")+COUNTIF(#REF!,\"AF2\")+COUNTIF(#REF!,\"AF3\")+COUNTIF(#REF!,\"AF4\")+COUNTIF(#REF!,\"AF5\")+COUNTIF(#REF!,\"AF6\")+COUNTIF(#REF!,\"AF7\")+COUNTIF(#REF!,\"AF8\")+COUNTIF(#REF!,\"AF9\")+COUNTIF(#REF!,\"AF10\")+COUNTIF(#REF!,\"AF11\")+COUNTIF(#REF!,\"AF12\")+COUNTIF(#REF!,\"AF13\")+COUNTIF(#REF!,\"AF14\"),\"\")","v":{"$error":"#REF!"}},{"$f":"IF(A40<>\"\",COUNTIF(#REF!,\"CH*\")+COUNTIF(#REF!,\"L\")+COUNTIF(#REF!,\"LM\")+COUNTIF(#REF!,\"LP\")+COUNTIF(#REF!,\"LC\")+COUNTIF(#REF!,\"AB*\")+COUNTIF(#REF!,\"AF1\")+COUNTIF(#REF!,\"AF2\")+COUNTIF(#REF!,\"AF3\")+COUNTIF(#REF!,\"AF4\")+COUNTIF(#REF!,\"AF5\")+COUNTIF(#REF!,\"AF6\")+COUNTIF(#REF!,\"AF7\")+COUNTIF(#REF!,\"AF8\")+COUNTIF(#REF!,\"AF9\")+COUNTIF(#REF!,\"AF10\")+COUNTIF(#REF!,\"AF11\")+COUNTIF(#REF!,\"AF12\")+COUNTIF(#REF!,\"AF13\")+COUNTIF(#REF!,\"AF14\")+COUNTIF(#REF!,\"RC\")+COUNTIF(#REF!,\"FO\")+COUNTIF(#REF!,\"FE\"),\"\")","v":{"$error":"#REF!"}}]
["Andréia Goulart Maba Martins",null,null,"ENF","EBSERH",36,null,null,null,null,null,null,"L","L","L","L","L","L","L","L","L","L","L","L","L","L","L","L","L","L","L","L","L","L","L","L","L","L","L","L","L","L","L",null,null,null,null,null,null,null,null,null,null,null,null,null,null,null,null,null,null,null,null,null,null,null,null,null,null,null,null,null,null,null,"L"]
["Técnicos Enfermagem",null,null,null,null,null,null,null,null,null,null,null,null,null,null,null,null,null,null,null,null,null,null,null,null,null,null,null,null,null,null,null,null,null,null,null,null,null,null,null,null,null,null,null,null,null,null,null,null,null,null,null,null,null,null,null,null,null,null,null,null,null,null,null,null,null,null,null,null,null,null,null,null,null,null,{"$f":"IF(A26<>\"\",COUNTIF(M26:AQ26,\"LM\")+COUNTIF(M26:AQ26,\"L\")+COUNTIF(M26:AQ26,\"LP\"),\"\")","v":0},{"$f":"IF(A26<>\"\",COUNTIF(M26:AQ26,\"AB*\"),\"\")","v":0},{"$f":"IF(A26<>\"\",COUNTIF(M26:AQ26,\"FE\"),\"\")","v":0},{"$f":"IF(A26<>\"\",COUNTIF(M26:AQ26,\"LC\"),\"\")","v":0},{"$f":"IF(A26<>\"\",COUNTIF(M26:AQ26,\"CH*\"),\"\")","v":0},{"$f":"IF(A26<>\"\",COUNTIF(M26:AQ26,\"AF1\")+COUNTIF(M26:AQ26,\"AF2\")+COUNTIF(M26:AQ26,\"AF3\")+COUNTIF(M26:AQ26,\"AF4\")+COUNTIF(M26:AQ26,\"AF5\")+COUNTIF(M26:AQ26,\"AF6\")+COUNTIF(M26:AQ26,\"AF7\")+COUNTIF(M26:AQ26,\"AF8\")+COUNTIF(M26:AQ26,\"AF9\")+COUNTIF(M26:AQ26,\"AF10\")+COUNTIF(M26:AQ26,\"AF11\")+COUNTIF(M26:AQ26,\"AF12\")+COUNTIF(M26:AQ26,\"AF13\")+COUNTIF(M26:AQ26,\"AF14\"),\"\")","v":0},{"$f":"IF(A26<>\"\",COUNTIF(M26:AQ26,\"CH*\")+COUNTIF(M26:AQ26,\"L\")+COUNTIF(M26:AQ26,\"LM\")+COUNTIF(M26:AQ26,\"LP\")+COUNTIF(M26:AQ26,\"LC\")+COUNTIF(M26:AQ26,\"AB*\")+COUNTIF(M26:AQ26,\"AF1\")+COUNTIF(M26:AQ26,\"AF2\")+COUNTIF(M26:AQ26,\"AF3\")+COUNTIF(M26:AQ26,\"AF4\")+COUNTIF(M26:AQ26,\"AF5\")+COUNTIF(M26:AQ26,\"AF6\")+COUNTIF(M26:AQ26,\"AF7\")+COUNTIF(M26:AQ26,\"AF8\")+COUNTIF(M26:AQ26,\"AF9\")+COUNTIF(M26:AQ26,\"AF10\")+COUNTIF(M26:AQ26,\"AF11\")+COUNTIF(M26:AQ26,\"AF12\")+COUNTIF(M26:AQ26,\"AF13\")+COUNTIF(M26:AQ26,\"AF14\")+COUNTIF(M26:AQ26,\"RC\")+COUNTIF(M26:AQ26,\"FO\")+COUNTIF(M26:AQ26,\"FE\"),\"\")","v":0}]
["Aline Vasconcelos Brasil",106810,222199,"TENF","EBSERH",36,null,null,null,null,null,null,"L","L","L","L","L","L","L","L","L","L","L","L","L","L","L","L","L","L","L","L","L","L","L","L","L","L","L","L","L","L","L",null,null,null,null,null,null,null,null,null,null,null,null,null,null,null,null,null,null,null,null,null,null,null,null,null,null,null,null,null,null,null,"L",{"$f":"IF(#REF!<>\"\",COUNTIF(#REF!,\"LM\")+COUNTIF(#REF!,\"L\")+COUNTIF(#REF!,\"LP\"),\"\")","v":{"$error":"#REF!"}},{"$f":"IF(#REF!<>\"\",COUNTIF(#REF!,\"AB*\"),\"\")","v":{"$error":"#REF!"}},{"$f":"IF(#REF!<>\"\",COUNTIF(#REF!,\"FE\"),\"\")","v":{"$error":"#REF!"}},{"$f":"IF(#REF!<>\"\",COUNTIF(#REF!,\"LC\"),\"\")","v":{"$error":"#REF!"}},{"$f":"IF(#REF!<>\"\",COUNTIF(#REF!,\"CH*\"),\"\")","v":{"$error":"#REF!"}},{"$f":"IF(#REF!<>\"\",COUNTIF(#REF!,\"AF1\")+COUNTIF(#REF!,\"AF2\")+COUNTIF(#REF!,\"AF3\")+COUNTIF(#REF!,\"AF4\")+COUNTIF(#REF!,\"AF5\")+COUNTIF(#REF!,\"AF6\")+COUNTIF(#REF!,\"AF7\")+COUNTIF(#REF!,\"AF8\")+COUNTIF(#REF!,\"AF9\")+COUNTIF(#REF!,\"AF10\")+COUNTIF(#REF!,\"AF11\")+COUNTIF(#REF!,\"AF12\")+COUNTIF(#REF!,\"AF13\")+COUNTIF(#REF!,\"AF14\"),\"\")","v":{"$error":"#REF!"}},{"$f":"IF(#REF!<>\"\",COUNTIF(#REF!,\"CH*\")+COUNTIF(#REF!,\"L\")+COUNTIF(#REF!,\"LM\")+COUNTIF(#REF!,\"LP\")+COUNTIF(#REF!,\"LC\")+COUNTIF(#REF!,\"AB*\")+COUNTIF(#REF!,\"AF1\")+COUNTIF(#REF!,\"AF2\")+COUNTIF(#REF!,\"AF3\")+COUNTIF(#REF!,\"AF4\")+COUNTIF(#REF!,\"AF5\")+COUNTIF(#REF!,\"AF6\")+COUNTIF(#REF!,\"AF7\")+COUNTIF(#REF!,\"AF8\")+COUNTIF(#REF!,\"AF9\")+COUNTIF(#REF!,\"AF10\")+COUNTIF(#REF!,\"AF11\")+COUNTIF(#REF!,\"AF12\")+COUNTIF(#REF!,\"AF13\")+COUNTIF(#REF!,\"AF14\")+COUNTIF(#REF!,\"RC\")+COUNTIF(#REF!,\"FO\")+COUNTIF(#REF!,\"FE\"),\"\")","v":{"$error":"#REF!"}}]
["Cirley Silva",319257,9686,"TENF","EBSERH",36,null,null,null,null,null,null,"DSR","D6","M15",null,null,null,null,"D6","DSR","D6",null,"D6",null,"D6",null,"DSR",null,"D6",null,"D6",null,"D6","DSR","D6",null,null,null,"D6","DSR","D6","D6",null,null,null,null,null,null,null,null,null,null,null,null,null,null,null,null,null,null,null,null,null,null,null,null,null,null,null,null,null,null,null,150]
["Claudia de Fatima da Silva",319270,745418,"TENF","EBSERH",36,null,null,null,null,null,null,null,"D6","DSR","D6",null,"D6",null,"D6","DSR","D6",null,"D6",null,"D6",null,"D6","DSR","D6",null,"D6",null,"D6","DSR","D6",null,"M15",null,null,null,"DSR",null,null,null,null,null,null,null,null,null,null,null,null,null,null,null,null,null,null,null,null,null,null,null,null,null,null,null,null,null,null,null,null,150]
["Débora Silva Viegas ",3212418,403955,"TENF","EBSERH",36,null,null,null,null,null,null,null,"DSR",null,null,"D6",null,"D6",null,"D6","DSR","M15",null,"D6",null,"D6","DSR",null,null,"D6",null,"D6",null,"D6",null,"D6",null,"D6",null,"D6","DSR","N8",null,null,null,null,null,null,null,null,null,null,null,null,null,null,null,null,null,null,null,null,null,null,null,null,null,null,null,null,null,null,null,150]
["Flavia Gomes Luz",319356,408383,"TENF","EBSERH",36,null,null,null,null,null,null,"D6","DSR",null,"M15",null,null,null,null,"DSR","D6",null,"D6",null,"D6",null,"D6","DSR","D6",null,"D6",null,"D6","DSR","D6",null,"D6",null,"D6","DSR","D6",null,null,null,null,null,null,null,null,null,null,null,null,null,null,null,null,null,null,null,null,null,null,null,null,null,null,null,null,null,null,null,null,150]
["Josiane Marilene Richter",3202045,328135,"TEnf","EBSERH",36,null,null,null,null,null,null,"D6","DSR","D6",null,"D6",null,"D6",null,"DSR",null,"D6",null,"D6",null,"D6","DSR","D6",null,"D6",null,"D6",null,"D6",null,"D6",null,"M15",null,null,"DSR",null,null,null,null,null,null,null,null,null,null,null,null,null,null,null,null,null,null,null,null,null,null,null,null,null,null,null,null,null,null,null,null,150,null,{"$f":"IF(A36<>\"\",COUNTIF(M36:AQ36,\"AB*\"),\"\")","v":0},{"$f":"IF(A36<>\"\",COUNTIF(M36:AQ36,\"FE\"),\"\")","v":0},{"$f":"IF(A36<>\"\",COUNTIF(M36:AQ36,\"LC\"),\"\")","v":0},{"$f":"IF(A36<>\"\",COUNTIF(M36:AQ36,\"CH*\"),\"\")","v":1},{"$f":"IF(A36<>\"\",COUNTIF(M36:AQ36,\"AF1\")+COUNTIF(M36:AQ36,\"AF2\")+COUNTIF(M36:AQ36,\"AF3\")+COUNTIF(M36:AQ36,\"AF4\")+COUNTIF(M36:AQ36,\"AF5\")+COUNTIF(M36:AQ36,\"AF6\")+COUNTIF(M36:AQ36,\"AF7\")+COUNTIF(M36:AQ36,\"AF8\")+COUNTIF(M36:AQ36,\"AF9\")+COUNTIF(M36:AQ36,\"AF10\")+COUNTIF(M36:AQ36,\"AF11\")+COUNTIF(M36:AQ36,\"AF12\")+COUNTIF(M36:AQ36,\"AF13\")+COUNTIF(M36:AQ36,\"AF14\"),\"\")","v":0},{"$f":"IF(A36<>\"\",COUNTIF(M36:AQ36,\"CH*\")+COUNTIF(M36:AQ36,\"L\")+COUNTIF(M36:AQ36,\"LM\")+COUNTIF(M36:AQ36,\"LP\")+COUNTIF(M36:AQ36,\"LC\")+COUNTIF(M36:AQ36,\"AB*\")+COUNTIF(M36:AQ36,\"AF1\")+COUNTIF(M36:AQ36,\"AF2\")+COUNTIF(M36:AQ36,\"AF3\")+COUNTIF(M36:AQ36,\"AF4\")+COUNTIF(M36:AQ36,\"AF5\")+COUNTIF(M36:AQ36,\"AF6\")+COUNTIF(M36:AQ36,\"AF7\")+COUNTIF(M36:AQ36,\"AF8\")+COUNTIF(M36:AQ36,\"AF9\")+COUNTIF(M36:AQ36,\"AF10\")+COUNTIF(M36:AQ36,\"AF11\")+COUNTIF(M36:AQ36,\"AF12\")+COUNTIF(M36:AQ36,\"AF13\")+COUNTIF(M36:AQ36,\"AF14\")+COUNTIF(M36:AQ36,\"RC\")+COUNTIF(M36:AQ36,\"FO\")+COUNTIF(M36:AQ36,\"FE\"),\"\")","v":1}]
["Otavino da Silva Junior",319260,1043255,"TENF","EBSERH",36,null,null,null,null,null,null,"D6","DSR","D6","D6",null,"M15",null,"D6","DSR","D6",null,null,null,"D6",null,"DSR",null,"D6",null,null,null,"DSR","D6",null,null,"D6",null,"D6","D6","DSR","D6",null,null,null,null,null,null,null,null,null,null,null,null,null,null,null,null,null,null,null,null,null,null,null,null,null,null,null,null,null,null,null,150,{"$f":"IF(A37<>\"\",COUNTIF(M37:AQ37,\"LM\")+COUNTIF(M37:AQ37,\"L\")+COUNTIF(M37:AQ37,\"LP\"),\"\")","v":0}]
["Rodolf Pradella",304907,780354,"TENF","EBSERH",36,null,null,null,null,null,null,null,"DSR",null,"D6",null,"D6","D6",null,"D6","M15",null,"D6",null,"D6",null,null,"D6",null,"D6",null,null,null,"DSR","D6",null,"D6",null,null,"D6","DSR","D6",null,null,null,null,null,null,null,null,null,null,null,null,null,null,null,null,null,null,null,null,null,null,null,null,null,null,null,null,null,null,null,150,{"$f":"IF(#REF!<>\"\",COUNTIF(#REF!,\"LM\")+COUNTIF(#REF!,\"L\")+COUNTIF(#REF!,\"LP\"),\"\")","v":{"$error":"#REF!"}},{"$f":"IF(#REF!<>\"\",COUNTIF(#REF!,\"AB*\"),\"\")","v":{"$error":"#REF!"}},{"$f":"IF(#REF!<>\"\",COUNTIF(#REF!,\"FE\"),\"\")","v":{"$error":"#REF!"}},{"$f":"IF(#REF!<>\"\",COUNTIF(#REF!,\"LC\"),\"\")","v":{"$error":"#REF!"}},{"$f":"IF(#REF!<>\"\",COUNTIF(#REF!,\"CH*\"),\"\")","v":{"$error":"#REF!"}},{"$f":"IF(#REF!<>\"\",COUNTIF(#REF!,\"AF1\")+COUNTIF(#REF!,\"AF2\")+COUNTIF(#REF!,\"AF3\")+COUNTIF(#REF!,\"AF4\")+COUNTIF(#REF!,\"AF5\")+COUNTIF(#REF!,\"AF6\")+COUNTIF(#REF!,\"AF7\")+COUNTIF(#REF!,\"AF8\")+COUNTIF(#REF!,\"AF9\")+COUNTIF(#REF!,\"AF10\")+COUNTIF(#REF!,\"AF11\")+COUNTIF(#REF!,\"AF12\")+COUNTIF(#REF!,\"AF13\")+COUNTIF(#REF!,\"AF14\"),\"\")","v":{"$error":"#REF!"}},{"$f":"IF(#REF!<>\"\",COUNTIF(#REF!,\"CH*\")+COUNTIF(#REF!,\"L\")+COUNTIF(#REF!,\"LM\")+COUNTIF(#REF!,\"LP\")+COUNTIF(#REF!,\"LC\")+COUNTIF(#REF!,\"AB*\")+COUNTIF(#REF!,\"AF1\")+COUNTIF(#REF!,\"AF2\")+COUNTIF(#REF!,\"AF3\")+COUNTIF(#REF!,\"AF4\")+COUNTIF(#REF!,\"AF5\")+COUNTIF(#REF!,\"AF6\")+COUNTIF(#REF!,\"AF7\")+COUNTIF(#REF!,\"AF8\")+COUNTIF(#REF!,\"AF9\")+COUNTIF(#REF!,\"AF10\")+COUNTIF(#REF!,\"AF11\")+COUNTIF(#REF!,\"AF12\")+COUNTIF(#REF!,\"AF13\")+COUNTIF(#REF!,\"AF14\")+COUNTIF(#REF!,\"RC\")+COUNTIF(#REF!,\"FO\")+COUNTIF(#REF!,\"FE\"),\"\")","v":{"$error":"#REF!"}}]
["Sandra da Silva",3212871,331896,"TENF","EBSERH",36,null,null,null,null,null,null,"D6","DSR","D6",null,"D6","M15",null,null,null,"DSR","D6",null,"D6",null,"DSR","D6","D6",null,"D6",null,null,null,"D6",null,"D6",null,"D6",null,null,"DSR","D6",null,null,null,null,null,null,null,null,null,null,null,null,null,null,null,null,null,null,null,null,null,null,null,null,null,null,null,null,null,null,null,150,{"$f":"IF(A42<>\"\",COUNTIF(M42:AQ42,\"LM\")+COUNTIF(M42:AQ42,\"L\")+COUNTIF(M42:AQ42,\"LP\"),\"\")","v":0},{"$f":"IF(A42<>\"\",COUNTIF(M42:AQ42,\"AB*\"),\"\")","v":0},{"$f":"IF(A42<>\"\",COUNTIF(M42:AQ42,\"FE\"),\"\")","v":8},{"$f":"IF(A42<>\"\",COUNTIF(M42:AQ42,\"LC\"),\"\")","v":0},{"$f":"IF(A42<>\"\",COUNTIF(M42:AQ42,\"CH*\"),\"\")","v":1},{"$f":"IF(A42<>\"\",COUNTIF(M42:AQ42,\"AF1\")+COUNTIF(M42:AQ42,\"AF2\")+COUNTIF(M42:AQ42,\"AF3\")+COUNTIF(M42:AQ42,\"AF4\")+COUNTIF(M42:AQ42,\"AF5\")+COUNTIF(M42:AQ42,\"AF6\")+COUNTIF(M42:AQ42,\"AF7\")+COUNTIF(M42:AQ42,\"AF8\")+COUNTIF(M42:AQ42,\"AF9\")+COUNTIF(M42:AQ42,\"AF10\")+COUNTIF(M42:AQ42,\"AF11\")+COUNTIF(M42:AQ42,\"AF12\")+COUNTIF(M42:AQ42,\"AF13\")+COUNTIF(M42:AQ42,\"AF14\"),\"\")","v":0},{"$f":"IF(A42<>\"\",COUNTIF(M42:AQ42,\"CH*\")+COUNTIF(M42:AQ42,\"L\")+COUNTIF(M42:AQ42,\"LM\")+COUNTIF(M42:AQ42,\"LP\")+COUNTIF(M42:AQ42,\"LC\")+COUNTIF(M42:AQ42,\"AB*\")+COUNTIF(M42:AQ42,\"AF1\")+COUNTIF(M42:AQ42,\"AF2\")+COUNTIF(M42:AQ42,\"AF3\")+COUNTIF(M42:AQ42,\"AF4\")+COUNTIF(M42:AQ42,\"AF5\")+COUNTIF(M42:AQ42,\"AF6\")+COUNTIF(M42:AQ42,\"AF7\")+COUNTIF(M42:AQ42,\"AF8\")+COUNTIF(M42:AQ42,\"AF9\")+COUNTIF(M42:AQ42,\"AF10\")+COUNTIF(M42:AQ42,\"AF11\")+COUNTIF(M42:AQ42,\"AF12\")+COUNTIF(M42:AQ42,\"AF13\")+COUNTIF(M42:AQ42,\"AF14\")+COUNTIF(M42:AQ42,\"RC\")+COUNTIF(M42:AQ42,\"FO\")+COUNTIF(M42:AQ42,\"FE\"),\"\")","v":9}]
["Tania Maria Fae",319256,559886,"TENF","EBSERH",36,null,null,null,null,null,null,null,"D6","DSR","D6",null,"D6",null,null,"D6","DSR","D6",null,"D6",null,"D6","DSR","M15",null,null,null,"D6","N8","DSR",null,"D6",null,"D6",null,"D6","DSR",null,null,null,null,null,null,null,null,null,null,null,null,null,null,null,null,null,null,null,null,null,null,null,null,null,null,null,null,null,null,null,null,150]
["Tatiane Garcia",3203906,150563,"TENF","EBSERH",36,null,null,null,null,null,null,null,"DSR","D6",null,"D6",null,"D6",null,"D6","DSR","D6",null,"D6",null,"D6","DSR","D6",null,"D6",null,"D6",null,"DSR",null,null,null,"D6",null,null,"D6","M15",null,null,null,null,null,null,null,null,null,null,null,null,null,null,null,null,null,null,null,null,null,null,null,null,null,null,null,null,null,null,null,150,{"$f":"IF(A41<>\"\",COUNTIF(M41:AQ41,\"LM\")+COUNTIF(M41:AQ41,\"L\")+COUNTIF(M41:AQ41,\"LP\"),\"\")","v":0},{"$f":"IF(A41<>\"\",COUNTIF(M41:AQ41,\"AB*\"),\"\")","v":0},{"$f":"IF(A41<>\"\",COUNTIF(M41:AQ41,\"FE\"),\"\")","v":0},{"$f":"IF(A41<>\"\",COUNTIF(M41:AQ41,\"LC\"),\"\")","v":0},{"$f":"IF(A41<>\"\",COUNTIF(M41:AQ41,\"CH*\"),\"\")","v":1},{"$f":"IF(A41<>\"\",COUNTIF(M41:AQ41,\"AF1\")+COUNTIF(M41:AQ41,\"AF2\")+COUNTIF(M41:AQ41,\"AF3\")+COUNTIF(M41:AQ41,\"AF4\")+COUNTIF(M41:AQ41,\"AF5\")+COUNTIF(M41:AQ41,\"AF6\")+COUNTIF(M41:AQ41,\"AF7\")+COUNTIF(M41:AQ41,\"AF8\")+COUNTIF(M41:AQ41,\"AF9\")+COUNTIF(M41:AQ41,\"AF10\")+COUNTIF(M41:AQ41,\"AF11\")+COUNTIF(M41:AQ41,\"AF12\")+COUNTIF(M41:AQ41,\"AF13\")+COUNTIF(M41:AQ41,\"AF14\"),\"\")","v":0},{"$f":"IF(A41<>\"\",COUNTIF(M41:AQ41,\"CH*\")+COUNTIF(M41:AQ41,\"L\")+COUNTIF(M41:AQ41,\"LM\")+COUNTIF(M41:AQ41,\"LP\")+COUNTIF(M41:AQ41,\"LC\")+COUNTIF(M41:AQ41,\"AB*\")+COUNTIF(M41:AQ41,\"AF1\")+COUNTIF(M41:AQ41,\"AF2\")+COUNTIF(M41:AQ41,\"AF3\")+COUNTIF(M41:AQ41,\"AF4\")+COUNTIF(M41:AQ41,\"AF5\")+COUNTIF(M41:AQ41,\"AF6\")+COUNTIF(M41:AQ41,\"AF7\")+COUNTIF(M41:AQ41,\"AF8\")+COUNTIF(M41:AQ41,\"AF9\")+COUNTIF(M41:AQ41,\"AF10\")+COUNTIF(M41:AQ41,\"AF11\")+COUNTIF(M41:AQ41,\"AF12\")+COUNTIF(M41:AQ41,\"AF13\")+COUNTIF(M41:AQ41,\"AF14\")+COUNTIF(M41:AQ41,\"RC\")+COUNTIF(M41:AQ41,\"FO\")+COUNTIF(M41:AQ41,\"FE\"),\"\")","v":1}]
["Viviane Fátima França",621762,3219709,"TENF","EBSERH",36,null,null,null,null,null,null,"D6","DSR",null,null,null,"D6",null,"D6","DSR","D6",null,"M15",null,null,null,"D6","DSR","D6",null,"D6",null,"D6","DSR","D6",null,"D6",null,"D6","DSR","D6",null,null,null,null,null,null,null,null,null,null,null,null,null,null,null,null,null,null,null,null,null,null,null,null,null,null,null,null,null,null,null,null,150,{"$f":"IF(A43<>\"\",COUNTIF(M43:AQ43,\"LM\")+COUNTIF(M43:AQ43,\"L\")+COUNTIF(M43:AQ43,\"LP\"),\"\")","v":0},{"$f":"IF(A43<>\"\",COUNTIF(M43:AQ43,\"AB*\"),\"\")","v":0},{"$f":"IF(A43<>\"\",COUNTIF(M43:AQ43,\"FE\"),\"\")","v":0},{"$f":"IF(A43<>\"\",COUNTIF(M43:AQ43,\"LC\"),\"\")","v":0},{"$f":"IF(A43<>\"\",COUNTIF(M43:AQ43,\"CH*\"),\"\")","v":1},{"$f":"IF(A43<>\"\",COUNTIF(M43:AQ43,\"AF1\")+COUNTIF(M43:AQ43,\"AF2\")+COUNTIF(M43:AQ43,\"AF3\")+COUNTIF(M43:AQ43,\"AF4\")+COUNTIF(M43:AQ43,\"AF5\")+COUNTIF(M43:AQ43,\"AF6\")+COUNTIF(M43:AQ43,\"AF7\")+COUNTIF(M43:AQ43,\"AF8\")+COUNTIF(M43:AQ43,\"AF9\")+COUNTIF(M43:AQ43,\"AF10\")+COUNTIF(M43:AQ43,\"AF11\")+COUNTIF(M43:AQ43,\"AF12\")+COUNTIF(M43:AQ43,\"AF13\")+COUNTIF(M43:AQ43,\"AF14\"),\"\")","v":0},{"$f":"IF(A43<>\"\",COUNTIF(M43:AQ43,\"CH*\")+COUNTIF(M43:AQ43,\"L\")+COUNTIF(M43:AQ43,\"LM\")+COUNTIF(M43:AQ43,\"LP\")+COUNTIF(M43:AQ43,\"LC\")+COUNTIF(M43:AQ43,\"AB*\")+COUNTIF(M43:AQ43,\"AF1\")+COUNTIF(M43:AQ43,\"AF2\")+COUNTIF(M43:AQ43,\"AF3\")+COUNTIF(M43:AQ43,\"AF4\")+COUNTIF(M43:AQ43,\"AF5\")+COUNTIF(M43:AQ43,\"AF6\")+COUNTIF(M43:AQ43,\"AF7\")+COUNTIF(M43:AQ43,\"AF8\")+COUNTIF(M43:AQ43,\"AF9\")+COUNTIF(M43:AQ43,\"AF10\")+COUNTIF(M43:AQ43,\"AF11\")+COUNTIF(M43:AQ43,\"AF12\")+COUNTIF(M43:AQ43,\"AF13\")+COUNTIF(M43:AQ43,\"AF14\")+COUNTIF(M43:AQ43,\"RC\")+COUNTIF(M43:AQ43,\"FO\")+COUNTIF(M43:AQ43,\"FE\"),\"\")","v":1}]
["Ana Claudia Pinto Brandão",312695,868737,"TENF","EBSERH",36,null,null,null,null,null,null,null,"N8",null,null,"N8",null,null,"N8",null,null,"N8","N8",null,"N8",null,null,"N8",null,"N8","N8",null,null,"N8",null,null,"N8",null,null,"N8",null,"CH-6",null,null,null,null,null,null,null,null,null,null,null,null,null,null,null,null,null,null,null,null,null,null,null,null,null,null,null,null,null,null,null,150,{"$f":"IF(A39<>\"\",COUNTIF(#REF!,\"LM\")+COUNTIF(#REF!,\"L\")+COUNTIF(#REF!,\"LP\"),\"\")","v":{"$error":"#REF!"}},{"$f":"IF(A39<>\"\",COUNTIF(#REF!,\"AB*\"),\"\")","v":{"$error":"#REF!"}},{"$f":"IF(A39<>\"\",COUNTIF(#REF!,\"FE\"),\"\")","v":{"$error":"#REF!"}},{"$f":"IF(A39<>\"\",COUNTIF(#REF!,\"LC\"),\"\")","v":{"$error":"#REF!"}},{"$f":"IF(A39<>\"\",COUNTIF(#REF!,\"CH*\"),\"\")","v":{"$error":"#REF!"}},{"$f":"IF(A39<>\"\",COUNTIF(#REF!,\"AF1\")+COUNTIF(#REF!,\"AF2\")+COUNTIF(#REF!,\"AF3\")+COUNTIF(#REF!,\"AF4\")+COUNTIF(#REF!,\"AF5\")+COUNTIF(#REF!,\"AF6\")+COUNTIF(#REF!,\"AF7\")+COUNTIF(#REF!,\"AF8\")+COUNTIF(#REF!,\"AF9\")+COUNTIF(#REF!,\"AF10\")+COUNTIF(#REF!,\"AF11\")+COUNTIF(#REF!,\"AF12\")+COUNTIF(#REF!,\"AF13\")+COUNTIF(#REF!,\"AF14\"),\"\")","v":{"$error":"#REF!"}},{"$f":"IF(A39<>\"\",COUNTIF(#REF!,\"CH*\")+COUNTIF(#REF!,\"L\")+COUNTIF(#REF!,\"LM\")+COUNTIF(#REF!,\"LP\")+COUNTIF(#REF!,\"LC\")+COUNTIF(#REF!,\"AB*\")+COUNTIF(#REF!,\"AF1\")+COUNTIF(#REF!,\"AF2\")+COUNTIF(#REF!,\"AF3\")+COUNTIF(#REF!,\"AF4\")+COUNTIF(#REF!,\"AF5\")+COUNTIF(#REF!,\"AF6\")+COUNTIF(#REF!,\"AF7\")+COUNTIF(#REF!,\"AF8\")+COUNTIF(#REF!,\"AF9\")+COUNTIF(#REF!,\"AF10\")+COUNTIF(#REF!,\"AF11\")+COUNTIF(#REF!,\"AF12\")+COUNTIF(#REF!,\"AF13\")+COUNTIF(#REF!,\"AF14\")+COUNTIF(#REF!,\"RC\")+COUNTIF(#REF!,\"FO\")+COUNTIF(#REF!,\"FE\"),\"\")","v":{"$error":"#REF!"}}]
["Rejane Borges Boeira",319040,275911,"TENF","EBSERH",36,null,null,null,null,null,null,"N8","N8",null,null,null,"CH-12",null,"N8",null,null,"N8",null,null,"N8","CH-6",null,"N8",null,null,"N8",null,"N8",null,null,null,"N8",null,"N8","N8",null,null,null,null,null,null,null,null,null,null,null,null,null,null,null,null,null,null,null,null,null,null,null,null,null,null,null,null,null,null,null,null,null,150]
["Marco Aurélio Santos",1356693,134345,"AENF","RJU",30,null,null,null,null,null,null,null,null,"N8",null,null,"N8",null,null,"N8",null,null,"N8",null,null,"N8",null,null,"N8",null,null,"N8",null,null,"N8",null,null,"N8",null,null,"N8",null,null,null,null,null,null,null,null,null,null,null,null,null,null,null,null,null,null,null,null,null,null,null,null,null,null,null,null,null,null,null,null,120]
["Michelli Melo da Rosa",208337,348457,"TENF","RJU",30,null,null,null,null,null,null,null,null,"N8",null,null,"N8",null,null,"N8",null,null,"N8",null,null,"N8",null,null,"N8",null,null,"N8",null,null,"N8",null,null,"N8",null,null,"N8",null,null,null,null,null,null,null,null,null,null,null,null,null,null,null,null,null,null,null,null,null,null,null,null,null,null,null,null,null,null,null,null,120]
["Ricardo Valentin",270372,539616,"TENF","RJU",30,null,null,null,null,null,null,null,null,"N8",null,null,"N8",null,null,"N8",null,null,"N8",null,null,"N8",null,null,"N8",null,null,"N8",null,null,"N8",null,null,"N8",null,null,"N8",null,null,null,null,null,null,null,null,null,null,null,null,null,null,null,null,null,null,null,null,null,null,null,null,null,null,null,null,null,null,null,null,120]
["Lusardo Lopes Peres",319259,206136,"TENF","EBSERH",36,null,null,null,null,null,null,null,null,"N8",null,"N8",null,"N8",null,null,null,"N8",null,"N8",null,"N8",null,"N8",null,"N8",null,"N8",null,"N8",null,"N8",null,"CH-6",null,"N8",null,null,null,null,null,null,null,null,null,null,null,null,null,null,null,null,null,null,null,null,null,null,null,null,null,null,null,null,null,null,null,null,null,150,{"$f":"IF(#REF!<>\"\",COUNTIF(AG44:AQ44,\"LM\")+COUNTIF(AG44:AQ44,\"L\")+COUNTIF(AG44:AQ44,\"LP\"),\"\")","v":{"$error":"#REF!"}},{"$f":"IF(#REF!<>\"\",COUNTIF(AG44:AQ44,\"AB*\"),\"\")","v":{"$error":"#REF!"}},{"$f":"IF(#REF!<>\"\",COUNTIF(AG44:AQ44,\"FE\"),\"\")","v":{"$error":"#REF!"}},{"$f":"IF(#REF!<>\"\",COUNTIF(AG44:AQ44,\"LC\"),\"\")","v":{"$error":"#REF!"}},{"$f":"IF(#REF!<>\"\",COUNTIF(AG44:AQ44,\"CH*\"),\"\")","v":{"$error":"#REF!"}},{"$f":"IF(#REF!<>\"\",COUNTIF(AG44:AQ44,\"AF1\")+COUNTIF(AG44:AQ44,\"AF2\")+COUNTIF(AG44:AQ44,\"AF3\")+COUNTIF(AG44:AQ44,\"AF4\")+COUNTIF(AG44:AQ44,\"AF5\")+COUNTIF(AG44:AQ44,\"AF6\")+COUNTIF(AG44:AQ44,\"AF7\")+COUNTIF(AG44:AQ44,\"AF8\")+COUNTIF(AG44:AQ44,\"AF9\")+COUNTIF(AG44:AQ44,\"AF10\")+COUNTIF(AG44:AQ44,\"AF11\")+COUNTIF(AG44:AQ44,\"AF12\")+COUNTIF(AG44:AQ44,\"AF13\")+COUNTIF(AG44:AQ44,\"AF14\"),\"\")","v":{"$error":"#REF!"}},{"$f":"IF(#REF!<>\"\",COUNTIF(AG44:AQ44,\"CH*\")+COUNTIF(AG44:AQ44,\"L\")+COUNTIF(AG44:AQ44,\"LM\")+COUNTIF(AG44:AQ44,\"LP\")+COUNTIF(AG44:AQ44,\"LC\")+COUNTIF(AG44:AQ44,\"AB*\")+COUNTIF(AG44:AQ44,\"AF1\")+COUNTIF(AG44:AQ44,\"AF2\")+COUNTIF(AG44:AQ44,\"AF3\")+COUNTIF(AG44:AQ44,\"AF4\")+COUNTIF(AG44:AQ44,\"AF5\")+COUNTIF(AG44:AQ44,\"AF6\")+COUNTIF(AG44:AQ44,\"AF7\")+COUNTIF(AG44:AQ44,\"AF8\")+COUNTIF(AG44:AQ44,\"AF9\")+COUNTIF(AG44:AQ44,\"AF10\")+COUNTIF(AG44:AQ44,\"AF11\")+COUNTIF(AG44:AQ44,\"AF12\")+COUNTIF(AG44:AQ44,\"AF13\")+COUNTIF(AG44:AQ44,\"AF14\")+COUNTIF(AG44:AQ44,\"RC\")+COUNTIF(AG44:AQ44,\"FO\")+COUNTIF(AG44:AQ44,\"FE\"),\"\")","v":{"$error":"#REF!"}}]
["Karina Mendes",303781,10630218,"TENF","EBSERH",36,null,null,null,null,null,null,"N8",null,null,"N8","N8",null,"N8",null,null,"N8","CH-12",null,"N8","N8",null,"N8",null,null,null,null,null,null,null,"Fe","Fe","Fe","Fe","Fe","Fe","Fe","Fe",null,null,null,null,null,null,null,null,null,null,null,null,null,null,null,null,null,null,null,null,null,null,null,null,null,null,null,null,null,null,null,108,{"$f":"IF(#REF!<>\"\",COUNTIF(#REF!,\"LM\")+COUNTIF(#REF!,\"L\")+COUNTIF(#REF!,\"LP\"),\"\")","v":{"$error":"#REF!"}},{"$f":"IF(#REF!<>\"\",COUNTIF(#REF!,\"AB*\"),\"\")","v":{"$error":"#REF!"}},{"$f":"IF(#REF!<>\"\",COUNTIF(#REF!,\"FE\"),\"\")","v":{"$error":"#REF!"}},{"$f":"IF(#REF!<>\"\",COUNTIF(#REF!,\"LC\"),\"\")","v":{"$error":"#REF!"}},{"$f":"IF(#REF!<>\"\",COUNTIF(#REF!,\"CH*\"),\"\")","v":{"$error":"#REF!"}},{"$f":"IF(#REF!<>\"\",COUNTIF(#REF!,\"AF1\")+COUNTIF(#REF!,\"AF2\")+COUNTIF(#REF!,\"AF3\")+COUNTIF(#REF!,\"AF4\")+COUNTIF(#REF!,\"AF5\")+COUNTIF(#REF!,\"AF6\")+COUNTIF(#REF!,\"AF7\")+COUNTIF(#REF!,\"AF8\")+COUNTIF(#REF!,\"AF9\")+COUNTIF(#REF!,\"AF10\")+COUNTIF(#REF!,\"AF11\")+COUNTIF(#REF!,\"AF12\")+COUNTIF(#REF!,\"AF13\")+COUNTIF(#REF!,\"AF14\"),\"\")","v":{"$error":"#REF!"}},{"$f":"IF(#REF!<>\"\",COUNTIF(#REF!,\"CH*\")+COUNTIF(#REF!,\"L\")+COUNTIF(#REF!,\"LM\")+COUNTIF(#REF!,\"LP\")+COUNTIF(#REF!,\"LC\")+COUNTIF(#REF!,\"AB*\")+COUNTIF(#REF!,\"AF1\")+COUNTIF(#REF!,\"AF2\")+COUNTIF(#REF!,\"AF3\")+COUNTIF(#REF!,\"AF4\")+COUNTIF(#REF!,\"AF5\")+COUNTIF(#REF!,\"AF6\")+COUNTIF(#REF!,\"AF7\")+COUNTIF(#REF!,\"AF8\")+COUNTIF(#REF!,\"AF9\")+COUNTIF(#REF!,\"AF10\")+COUNTIF(#REF!,\"AF11\")+COUNTIF(#REF!,\"AF12\")+COUNTIF(#REF!,\"AF13\")+COUNTIF(#REF!,\"AF14\")+COUNTIF(#REF!,\"RC\")+COUNTIF(#REF!,\"FO\")+COUNTIF(#REF!,\"FE\"),\"\")","v":{"$error":"#REF!"}}]
["Maria Lucicleide Silva Modesto",319040,376149,"TENF","EBSERH",36,null,null,null,null,null,null,"N8",null,null,"N8",null,null,null,"N8",null,"N8","CH-6",null,"N8",null,null,"N8",null,null,"N8","N8",null,null,"N8",null,"N8",null,null,"N8",null,null,"N8",null,null,null,null,null,null,null,null,null,null,null,null,null,null,null,null,null,null,null,null,null,null,null,null,null,null,null,null,null,null,null,150,{"$f":"IF(A46<>\"\",COUNTIF(M46:AQ46,\"LM\")+COUNTIF(M46:AQ46,\"L\")+COUNTIF(M46:AQ46,\"LP\"),\"\")","v":""},{"$f":"IF(A46<>\"\",COUNTIF(M46:AQ46,\"AB*\"),\"\")","v":""},{"$f":"IF(A46<>\"\",COUNTIF(M46:AQ46,\"FE\"),\"\")","v":""},{"$f":"IF(A46<>\"\",COUNTIF(M46:AQ46,\"LC\"),\"\")","v":""},{"$f":"IF(A46<>\"\",COUNTIF(M46:AQ46,\"CH*\"),\"\")","v":""},{"$f":"IF(A46<>\"\",COUNTIF(M46:AQ46,\"AF1\")+COUNTIF(M46:AQ46,\"AF2\")+COUNTIF(M46:AQ46,\"AF3\")+COUNTIF(M46:AQ46,\"AF4\")+COUNTIF(M46:AQ46,\"AF5\")+COUNTIF(M46:AQ46,\"AF6\")+COUNTIF(M46:AQ46,\"AF7\")+COUNTIF(M46:AQ46,\"AF8\")+COUNTIF(M46:AQ46,\"AF9\")+COUNTIF(M46:AQ46,\"AF10\")+COUNTIF(M46:AQ46,\"AF11\")+COUNTIF(M46:AQ46,\"AF12\")+COUNTIF(M46:AQ46,\"AF13\")+COUNTIF(M46:AQ46,\"AF14\"),\"\")","v":""},{"$f":"IF(A46<>\"\",COUNTIF(M46:AQ46,\"CH*\")+COUNTIF(M46:AQ46,\"L\")+COUNTIF(M46:AQ46,\"LM\")+COUNTIF(M46:AQ46,\"LP\")+COUNTIF(M46:AQ46,\"LC\")+COUNTIF(M46:AQ46,\"AB*\")+COUNTIF(M46:AQ46,\"AF1\")+COUNTIF(M46:AQ46,\"AF2\")+COUNTIF(M46:AQ46,\"AF3\")+COUNTIF(M46:AQ46,\"AF4\")+COUNTIF(M46:AQ46,\"AF5\")+COUNTIF(M46:AQ46,\"AF6\")+COUNTIF(M46:AQ46,\"AF7\")+COUNTIF(M46:AQ46,\"AF8\")+COUNTIF(M46:AQ46,\"AF9\")+COUNTIF(M46:AQ46,\"AF10\")+COUNTIF(M46:AQ46,\"AF11\")+COUNTIF(M46:AQ46,\"AF12\")+COUNTIF(M46:AQ46,\"AF13\")+COUNTIF(M46:AQ46,\"AF14\")+COUNTIF(M46:AQ46,\"RC\")+COUNTIF(M46:AQ46,\"FO\")+COUNTIF(M46:AQ46,\"FE\"),\"\")","v":""}]
["Tamara Santana",307621,1275714,"TENF","EBSERH",36,null,null,null,null,null,null,"N8","N8",null,"N8",null,null,"N8",null,null,"N8",null,null,null,"N8",null,"N8",null,"N8",null,null,null,"N8",null,null,"N8","N8",null,"N8",null,null,"N8",null,null,null,null,null,null,null,null,null,null,null,null,null,null,null,null,null,null,null,null,null,null,null,null,null,null,null,null,null,null,null,150]
[]
[]
[]
["TOTAL PROFISSIONAIS MATUTINO",null,null,null,null,null,null,null,null,null,null,null,{"$f":"SUM(AA60)","v":0}]
["TOTAL DE PROFISSIONAIS VESPERTINO"]
["TOTAL DE PROFISSIONAIS NOTURNO"]
[]
["Legenda:"]
["Licença Maternidade","LM","Férias",null,null,null,null,null,null,"FE",null,"Ponto Facultativo",null,null,null,null,null,null,null,"PF","Manhã *",null,null,null,null,null,null,"M","Diurno (8 hrs) *",null,null,null,null,null,null,"MT"]
["Licença Paternidade","LP","Feriado",null,null,null,null,null,null,"FD",null,"Abono **",null,null,null,null,null,null,null,"AB","Tarde *",null,null,null,null,null,null,"T","Dia/ noite (24 hrs) *",null,null,null,null,null,null,"DN"]
["Licença Médica/Odontológica","L","Descanso Semanal Remunerado",null,null,null,null,null,null,"DSR",null,"Compensação de Horas***",null,null,null,null,null,null,null,"CH","Plantão Dia (12 hrs) *",null,null,null,null,null,null,"D"]
["Licença Capacitação","LC","Recesso",null,null,null,null,null,null,"RC",null,"Afastamento**",null,null,null,null,null,null,null,"AF","Plantão Noite (12 hrs) *",null,null,null,null,null,null,"N"]
[]
["OBSERVAÇÕES:"]
["* Para inserção das legendas referentes às jornadas de trabalho, verificar a Tabela 1 do Anexo do Memorando-Circular - SEI nº   25 /2018/CAP/DGP-EBSERH."]
["** Para inserção das legendas referentes aos Afastamentos previstos em lei e às Compensações de horas, verificar a Tabela 2 do Anexo do Memorando-Circular - SEI nº   25 /2018/CAP/DGP-EBSERH."]

{"sheet":"Planilha2","index":13,"n_rows":0,"n_cols":0,"rows_kept":0,"cut":false,"hidden":false,"merged":[]}

{"sheet":"Planilha3","index":14,"n_rows":0,"n_cols":0,"rows_kept":0,"cut":false,"hidden":false,"merged":[]}

{"sheet":"Planilha4","index":15,"n_rows":0,"n_cols":0,"rows_kept":0,"cut":false,"hidden":false,"merged":[]}

{"sheet":"Tabelas","index":16,"n_rows":110,"n_cols":18,"rows_kept":110,"cut":false,"hidden":true,"merged":[[0,15,0,17],[72,0,109,0],[1,0,71,0],[1,16,4,16],[1,17,14,17],[5,16,10,16],[11,16,14,16],[22,16,28,16],[15,17,21,17],[22,17,33,17],[29,16,33,16],[34,17,39,17]]}
[null,"Legenda","Descrição","CH",null,null,"Ebserh",null,"Dias da Semana",null,null,"Ano","Mês",null,null,"Intervalos"]
["Turno de Trabalho",null,null,null,null,null,"RJU",null,1,"DOM",null,2016,"Janeiro",1,null,25,"M","15 MINUTOS"]
[null,"M8","Matutino 04h",4,null,null,null,null,2,"SEG",null,2017,"Fevereiro",2,null,26]
[null,"M9","Matutino 04h",4,null,null,null,null,3,"TER",null,2018,"Março",3,null,27]
[null,"M10","Matutino 04h",4,null,null,null,null,4,"QUA",null,2019,"Abril",4,null,28]
[null,"M11","Matutino 04h",4,null,null,null,null,5,"QUI",null,2020,"Maio",5,null,29,"T"]
[null,"M12","Matutino 04h",4,null,null,null,null,6,"SEX",null,2021,"Junho",6,null,30]
[null,"M13","Matutino 06h",6,null,null,null,null,7,"SAB",null,2022,"Julho",7,null,31]
[null,"M14","Matutino 06h",6,null,null,null,null,null,null,null,2023,"Agosto",8,null,32]
[null,"M15","Matutino 06h",6,null,null,null,null,null,null,null,2024,"Setembro",9,null,33]
[null,"M16","Matutino 06h",6,null,null,null,null,null,null,null,2025,"Outubro",10,null,34]
[null,"M17","Matutino 06h",6,null,null,null,null,null,null,null,null,"Novembro",11,null,35,"N"]
[null,"M18","Matutino 06h",6,null,null,null,null,null,null,null,null,"Dezembro",12,null,36]
[null,null,null,null,null,null,null,null,null,null,null,null,null,null,null,37]
[null,"T9","Vespertino 04h",4,null,null,null,null,null,null,null,null,null,null,null,38]
[null,"T10","Vespertino 04h",4,null,null,null,null,null,null,null,null,null,null,null,39,null,"30 MINUTOS"]
[null,"T11","Vespertino 04h",4,null,null,null,null,null,null,null,null,null,null,null,40]
[null,"T12","Vespertino 04h",4,null,null,null,null,null,null,null,null,null,null,null,41]
[null,"T13","Vespertino 06h",6,null,null,null,null,null,null,null,null,null,null,null,42]
[null,"T14","Vespertino 06h",6,null,null,null,null,null,null,null,null,null,null,null,43]
[null,"T15","Vespertino 06h",6,null,null,null,null,null,null,null,null,null,null,null,44]
[null,"T16","Vespertino 06h",6,null,null,null,null,null,null,null,null,null,null,null,45]
[null,"T17","Vespertino 06h",6,null,null,null,null,null,null,null,null,null,null,null,46,"D","01 H DIA/NOITE "]
[null,"T18","Vespertino 06h",6,null,null,null,null,null,null,null,null,null,null,null,47]
[null,"T19","Vespertino 06h",6,null,null,null,null,null,null,null,null,null,null,null,48]
[null,null,null,null,null,null,null,null,null,null,null,null,null,null,null,49]
[null,"MT15","Diurno 08h",8,null,null,null,null,null,null,null,null,null,null,null,50]
[null,"MT16","Diurno 08h",8,null,null,null,null,null,null,null,null,null,null,null,51]
[null,"MT17","Diurno 08h",8,null,null,null,null,null,null,null,null,null,null,null,52]
[null,"MT18","Diurno 08h",8,null,null,null,null,null,null,null,null,null,null,null,53,"N"]
[null,"MT19","Diurno 08h",8,null,null,null,null,null,null,null,null,null,null,null,54]
[null,"MT20","Diurno 08h",8,null,null,null,null,null,null,null,null,null,null,null,55]
[null,"MT21","Diurno 08h",8,null,null,null,null,null,null,null,null,null,null,null,56]
[null,"MT22","Diurno 08h",8,null,null,null,null,null,null,null,null,null,null,null,57]
[null,"MT23","Diurno 08h",8,null,null,null,null,null,null,null,null,null,null,null,58,null,"02 H"]
[null,"MT24","Diurno 08h",8,null,null,null,null,null,null,null,null,null,null,null,59]
[null,"MT25","Diurno 08h",8,null,null,null,null,null,null,null,null,null,null,null,60]
[null,"MT26","Diurno 08h",8,null,null,null,null,null,null,null,null,null,null,null,61]
[null,"MT27","Diurno 08h",8,null,null,null,null,null,null,null,null,null,null,null,62]
[null,"MT28","Diurno 08h",8,null,null,null,null,null,null,null,null,null,null,null,63]
[null,"MT29","Diurno 08h",8]
[null,"MT30","Diurno 08h",8]
[null,"MT31","Diurno 08h",8]
[null,"MT32","Diurno 08h",8]
[null,"MT33","Diurno 08h",8]
[null,"MT34","Diurno 08h",8]
[null,"MT35","Diurno 08h",8]
[null,"MT36","Diurno 08h",8]
[null,"MT37","Diurno 08h",8]
[null,"MT38","Diurno 08h",8]
[null,"MT39","Diurno 08h",8]
[null,"MT40","Diurno 08h",8]
[null,"MT41","Diurno 08h",8]
[null,"MT42","Diurno 08h",8]
[null,"MT43","Diurno 08h",8]
[]
[null,"N5","Noturno 12h",6]
[null,"N6","Noturno 12h",12]
[null,"N7","Noturno 12h",12]
[null,"N8","Noturno 12h",12]
[null,"N9","Noturno 12h",12]
[null,"N10","Noturno 12h",12]
[]
[null,"D5","Diurno 12h",12]
[null,"D6","Diurno 12h",12]
[null,"D7","Diurno 12h",12]
[null,"D8","Diurno 12h",12]
[]
[null,"DN4","Diurno/Noturno -24H",24]
[null,"DN5","Diurno/Noturno -24H",24]
[null,"DN6","Diurno/Noturno -24H",24]
[]
["Afastamentos legais e compensação de horas","DSR","Descanso Semanal Remunerado",0]
[null,"FE","Férias",0]
[null,"FD","Feriado",0]
[null,"CH+4","Compensação de horas faltas",4]
[null,"CH+6","Compensação de horas faltas",6]
[null,"CH+8","Compensação de horas faltas",8]
[null,"CH+12","Compensação de horas faltas",12]
[null,"CH+24","Compensação de horas faltas",24]
[null,"CH-4","Compensação de horas excedentes",0]
[null,"CH-6","Compensação de horas excedentes",0]
[null,"CH-8","Compensação de horas excedentes",0]
[null,"CH-12","Compensação de horas excedentes",0]
[null,"CH-24","Compensação de horas excedentes",0]
[null,"AB4","Abono ACT",4]
[null,"AB6","Abono ACT",6]
[null,"AB8","Abono ACT",8]
[null,"AB12","Abono ACT",12]
[null,"AB24","Abono ACT",24]
[null,"L","Licença Médica e Odontológica",0]
[null,"LM","Licença-Maternidade",0]
[null,"LP","Licença-Paternicade",0]
[null,"LC","Licença para Capacitação",0]
[null,"RC","Recesso",0]
[null,"PF","Ponto Facultativo",0]
[null,"AF1","Licença por acidente de trabalho",0]
[null,"AF2","Licença gala de 8 (oito) dias consecutivos a contar da data do casamento, ou da data do registro, em cartório, da União Estável",0]
[null,"AF3","Licença por morte de familiar",0]
[null,"AF4","Licença sem remuneração para tratar de interesse particular",0]
[null,"AF5","Licença para acompanhamento de familiar, filhos menores ou pais maiores de 60 (sessenta) anos",0]
[null,"AF6","Licença para exercício de mandato de cargo de direção em entidade Sindical representativa dos empregados da EBSERH (art.543, parágrafo 2º da CLT)",0]
[null,"AF7","Licença para atividade política (Lei 7.664/88, artigo 25)",0]
[null,"AF8","Doação de sangue por um dia em cada seis meses de trabalho",0]
[null,"AF9","Alistamento eleitoral, até 2 (dois) dias, consecutivos ou não",0]
[null,"AF10","Depoimento em inquérito policial ou processo judicial",0]
[null,"AF11","Convocação para o Júri, funções da Justiça Eleitoral desde que amparada em lei, apresentação militar e outros serviços legalmente obrigatórios",0]
[null,"AF12","Realização de provas de exame vestibular",0]
[null,"AF13","Participação em reuniões da Comissão de Negociação",0]
[null,"AF14","Outras ausências permitidas por Lei ou em razão de Acordo ou Convenção Coletiva",0]