{"text_format":"1","workbook":"xlsx","n_sheets":13,"sheets":["Janeiro","Fevereiro","Março","Abril","Maio","Junho","Julho","Agosto","Setembro","Outubro","Novembro","Dezembro","Tabelas"],"not_rendered":{"charts":0,"images":1,"macros":0,"external_links":0,"defined_names":12,"comments":1,"pivot_tables":0},"unopened":[],"bounds":{"document_bytes":16777216,"sheet_cells":100000,"rows_first":2000,"rows_last":500,"rows_between":2000,"halvings":0,"cell_chars":16384,"cell_head_chars":4096},"cells_cut":0,"cells_raw":0,"read":"whole","date_system":"1900"}

{"sheet":"Janeiro","index":0,"n_rows":76,"n_cols":68,"rows_kept":76,"cut":false,"hidden":false,"merged":[[70,14,70,20],[71,2,71,5],[71,6,71,12],[71,14,71,20],[70,2,70,5],[70,6,70,12],[5,6,5,36],[5,37,5,67],[68,22,68,28],[69,22,69,28],[1,0,1,36],[2,0,2,36],[3,0,3,36],[4,1,4,14],[4,17,4,28],[4,31,4,36],[68,14,68,20],[69,2,69,5],[69,6,69,12],[69,14,69,20],[68,2,68,5],[68,6,68,12]]}
[]
[]
["UEC"]
["ESCALA MENSAL DE TRABALHO"]
[null,null,null,null,null,null,null,null,null,null,null,null,null,null,null,"MÊS:",null,"Janeiro",null,null,null,null,null,null,null,null,null,null,null,"ANO:",null,2022]
[null,"SIAPE","     Registro Conselho Classe","Cargo","Vínculo","    C.H Sem","DIAS DO MÊS",null,null,null,null,null,null,null,null,null,null,null,null,null,null,null,null,null,null,null,null,null,null,null,null,null,null,null,null,null,null,"CÁLCULO DAS HORAS"]
[null,null,null,null,null,null,1,2,3,4,5,6,7,8,9,10,11,12,13,14,15,16,17,18,19,20,21,22,23,24,25,{"$f":"IF(DAY(DATE(AF5,VLOOKUP(R5,Tabelas!M:N,2,0)+1,1)-1)>=26,26,\"\")","v":26},{"$f":"IF(DAY(DATE(AF5,VLOOKUP(R5,Tabelas!M:N,2,0)+1,1)-1)>=27,27,\"\")","v":27},{"$f":"IF(DAY(DATE(AF5,VLOOKUP(R5,Tabelas!M:N,2,0)+1,1)-1)>=28,28,\"\")","v":28},{"$f":"IF(DAY(DATE(AF5,VLOOKUP(R5,Tabelas!M:N,2,0)+1,1)-1)>=29,29,\"\")","v":29},{"$f":"IF(DAY(DATE(AF5,VLOOKUP(R5,Tabelas!M:N,2,0)+1,1)-1)>=30,30,\"\")","v":30},{"$f":"IF(DAY(DATE(AF5,VLOOKUP(R5,Tabelas!M:N,2,0)+1,1)-1)>=31,31,\"\")","v":31}]
["DEMATOLOGIA ",null,null,null,null,null,{"$f":"IF(G7<>\"\",IFERROR(VLOOKUP(WEEKDAY(CONCATENATE(G7,$R$5,$AF$5)),Tabelas!$I:$J,2,0),\"\"),\"\")","v":""},{"$f":"IF(H7<>\"\",IFERROR(VLOOKUP(WEEKDAY(CONCATENATE(H7,$R$5,$AF$5)),Tabelas!$I:$J,2,0),\"\"),\"\")","v":""},{"$f":"IF(I7<>\"\",IFERROR(VLOOKUP(WEEKDAY(CONCATENATE(I7,$R$5,$AF$5)),Tabelas!$I:$J,2,0),\"\"),\"\")","v":""},{"$f":"IF(J7<>\"\",IFERROR(VLOOKUP(WEEKDAY(CONCATENATE(J7,$R$5,$AF$5)),Tabelas!$I:$J,2,0),\"\"),\"\")","v":""},{"$f":"IF(K7<>\"\",IFERROR(VLOOKUP(WEEKDAY(CONCATENATE(K7,$R$5,$AF$5)),Tabelas!$I:$J,2,0),\"\"),\"\")","v":""},{"$f":"IF(L7<>\"\",IFERROR(VLOOKUP(WEEKDAY(CONCATENATE(L7,$R$5,$AF$5)),Tabelas!$I:$J,2,0),\"\"),\"\")","v":""},{"$f":"IF(M7<>\"\",IFERROR(VLOOKUP(WEEKDAY(CONCATENATE(M7,$R$5,$AF$5)),Tabelas!$I:$J,2,0),\"\"),\"\")","v":""},{"$f":"IF(N7<>\"\",IFERROR(VLOOKUP(WEEKDAY(CONCATENATE(N7,$R$5,$AF$5)),Tabelas!$I:$J,2,0),\"\"),\"\")","v":""},{"$f":"IF(O7<>\"\",IFERROR(VLOOKUP(WEEKDAY(CONCATENATE(O7,$R$5,$AF$5)),Tabelas!$I:$J,2,0),\"\"),\"\")","v":""},{"$f":"IF(P7<>\"\",IFERROR(VLOOKUP(WEEKDAY(CONCATENATE(P7,$R$5,$AF$5)),Tabelas!$I:$J,2,0),\"\"),\"\")","v":""},{"$f":"IF(Q7<>\"\",IFERROR(VLOOKUP(WEEKDAY(CONCATENATE(Q7,$R$5,$AF$5)),Tabelas!$I:$J,2,0),\"\"),\"\")","v":""},{"$f":"IF(R7<>\"\",IFERROR(VLOOKUP(WEEKDAY(CONCATENATE(R7,$R$5,$AF$5)),Tabelas!$I:$J,2,0),\"\"),\"\")","v":""},{"$f":"IF(S7<>\"\",IFERROR(VLOOKUP(WEEKDAY(CONCATENATE(S7,$R$5,$AF$5)),Tabelas!$I:$J,2,0),\"\"),\"\")","v":""},{"$f":"IF(T7<>\"\",IFERROR(VLOOKUP(WEEKDAY(CONCATENATE(T7,$R$5,$AF$5)),Tabelas!$I:$J,2,0),\"\"),\"\")","v":""},{"$f":"IF(U7<>\"\",IFERROR(VLOOKUP(WEEKDAY(CONCATENATE(U7,$R$5,$AF$5)),Tabelas!$I:$J,2,0),\"\"),\"\")","v":""},{"$f":"IF(V7<>\"\",IFERROR(VLOOKUP(WEEKDAY(CONCATENATE(V7,$R$5,$AF$5)),Tabelas!$I:$J,2,0),\"\"),\"\")","v":""},{"$f":"IF(W7<>\"\",IFERROR(VLOOKUP(WEEKDAY(CONCATENATE(W7,$R$5,$AF$5)),Tabelas!$I:$J,2,0),\"\"),\"\")","v":""},{"$f":"IF(X7<>\"\",IFERROR(VLOOKUP(WEEKDAY(CONCATENATE(X7,$R$5,$AF$5)),Tabelas!$I:$J,2,0),\"\"),\"\")","v":""},{"$f":"IF(Y7<>\"\",IFERROR(VLOOKUP(WEEKDAY(CONCATENATE(Y7,$R$5,$AF$5)),Tabelas!$I:$J,2,0),\"\"),\"\")","v":""},{"$f":"IF(Z7<>\"\",IFERROR(VLOOKUP(WEEKDAY(CONCATENATE(Z7,$R$5,$AF$5)),Tabelas!$I:$J,2,0),\"\"),\"\")","v":""},{"$f":"IF(AA7<>\"\",IFERROR(VLOOKUP(WEEKDAY(CONCATENATE(AA7,$R$5,$AF$5)),Tabelas!$I:$J,2,0),\"\"),\"\")","v":""},{"$f":"IF(AB7<>\"\",IFERROR(VLOOKUP(WEEKDAY(CONCATENATE(AB7,$R$5,$AF$5)),Tabelas!$I:$J,2,0),\"\"),\"\")","v":""},{"$f":"IF(AC7<>\"\",IFERROR(VLOOKUP(WEEKDAY(CONCATENATE(AC7,$R$5,$AF$5)),Tabelas!$I:$J,2,0),\"\"),\"\")","v":""},{"$f":"IF(AD7<>\"\",IFERROR(VLOOKUP(WEEKDAY(CONCATENATE(AD7,$R$5,$AF$5)),Tabelas!$I:$J,2,0),\"\"),\"\")","v":""},{"$f":"IF(AE7<>\"\",IFERROR(VLOOKUP(WEEKDAY(CONCATENATE(AE7,$R$5,$AF$5)),Tabelas!$I:$J,2,0),\"\"),\"\")","v":""},{"$f":"IF(AF7<>\"\",IFERROR(VLOOKUP(WEEKDAY(CONCATENATE(AF7,$R$5,$AF$5)),Tabelas!$I:$J,2,0),\"\"),\"\")","v":""},{"$f":"IF(AG7<>\"\",IFERROR(VLOOKUP(WEEKDAY(CONCATENATE(AG7,$R$5,$AF$5)),Tabelas!$I:$J,2,0),\"\"),\"\")","v":""},{"$f":"IF(AH7<>\"\",IFERROR(VLOOKUP(WEEKDAY(CONCATENATE(AH7,$R$5,$AF$5)),Tabelas!$I:$J,2,0),\"\"),\"\")","v":""},{"$f":"IF(AI7<>\"\",IFERROR(VLOOKUP(WEEKDAY(CONCATENATE(AI7,$R$5,$AF$5)),Tabelas!$I:$J,2,0),\"\"),\"\")","v":""},{"$f":"IF(AJ7<>\"\",IFERROR(VLOOKUP(WEEKDAY(CONCATENATE(AJ7,$R$5,$AF$5)),Tabelas!$I:$J,2,0),\"\"),\"\")","v":""},{"$f":"IF(AK7<>\"\",IFERROR(VLOOKUP(WEEKDAY(CONCATENATE(AK7,$R$5,$AF$5)),Tabelas!$I:$J,2,0),\"\"),\"\")","v":""},1,2,3,4,5,6,7,8,9,10,11,12,13,14,15,16,17,18,19,20,21,22,23,24,25,26,27,28,29,30,31]
["Álvaro Thadeu Bender",2455919,4391,"Médico","RJU",10,null,null,"T15",null,"FE",null,null,null,null,"T15",null,"T15",null,null,null,null,"T15",null,"T15",null,null,null,null,"T15",null,"T15",null,null,null,null,"T15",{"$f":"IF(A9<>\"\",IFERROR(VLOOKUP(G9,Tabelas!B:D,3,0),0),\"\")","v":0},{"$f":"IF(A9<>\"\",IFERROR(VLOOKUP(H9,Tabelas!B:D,3,0),0),\"\")","v":0},{"$f":"IF(A9<>\"\",IFERROR(VLOOKUP(I9,Tabelas!B:D,3,0),0),\"\")","v":6},{"$f":"IF(A9<>\"\",IFERROR(VLOOKUP(J9,Tabelas!B:D,3,0),0),\"\")","v":0},{"$f":"IF(A9<>\"\",IFERROR(VLOOKUP(K9,Tabelas!B:D,3,0),0),\"\")","v":0},{"$f":"IF(A9<>\"\",IFERROR(VLOOKUP(L9,Tabelas!B:D,3,0),0),\"\")","v":0},{"$f":"IF(A9<>\"\",IFERROR(VLOOKUP(M9,Tabelas!B:D,3,0),0),\"\")","v":0},{"$f":"IF(A9<>\"\",IFERROR(VLOOKUP(N9,Tabelas!B:D,3,0),0),\"\")","v":0},{"$f":"IF(A9<>\"\",IFERROR(VLOOKUP(O9,Tabelas!B:D,3,0),0),\"\")","v":0},{"$f":"IF(A9<>\"\",IFERROR(VLOOKUP(P9,Tabelas!B:D,3,0),0),\"\")","v":6},{"$f":"IF(A9<>\"\",IFERROR(VLOOKUP(Q9,Tabelas!B:D,3,0),0),\"\")","v":0},{"$f":"IF(A9<>\"\",IFERROR(VLOOKUP(R9,Tabelas!B:D,3,0),0),\"\")","v":6},{"$f":"IF(A9<>\"\",IFERROR(VLOOKUP(S9,Tabelas!B:D,3,0),0),\"\")","v":0},{"$f":"IF(A9<>\"\",IFERROR(VLOOKUP(T9,Tabelas!B:D,3,0),0),\"\")","v":0},{"$f":"IF(A9<>\"\",IFERROR(VLOOKUP(U9,Tabelas!B:D,3,0),0),\"\")","v":0},{"$f":"IF(A9<>\"\",IFERROR(VLOOKUP(V9,Tabelas!B:D,3,0),0),\"\")","v":0},{"$f":"IF(A9<>\"\",IFERROR(VLOOKUP(W9,Tabelas!B:D,3,0),0),\"\")","v":6},{"$f":"IF(A9<>\"\",IFERROR(VLOOKUP(X9,Tabelas!B:D,3,0),0),\"\")","v":0},{"$f":"IF(A9<>\"\",IFERROR(VLOOKUP(Y9,Tabelas!B:D,3,0),0),\"\")","v":6},{"$f":"IF(A9<>\"\",IFERROR(VLOOKUP(Z9,Tabelas!B:D,3,0),0),\"\")","v":0},{"$f":"IF(A9<>\"\",IFERROR(VLOOKUP(AA9,Tabelas!B:D,3,0),0),\"\")","v":0},{"$f":"IF(A9<>\"\",IFERROR(VLOOKUP(AB9,Tabelas!B:D,3,0),0),\"\")","v":0},{"$f":"IF(A9<>\"\",IFERROR(VLOOKUP(AC9,Tabelas!B:D,3,0),0),\"\")","v":0},{"$f":"IF(A9<>\"\",IFERROR(VLOOKUP(AD9,Tabelas!B:D,3,0),0),\"\")","v":6},{"$f":"IF(A9<>\"\",IFERROR(VLOOKUP(AE9,Tabelas!B:D,3,0),0),\"\")","v":0},{"$f":"IF(A9<>\"\",IFERROR(VLOOKUP(AF9,Tabelas!B:D,3,0),0),\"\")","v":6},{"$f":"IF(A9<>\"\",IFERROR(VLOOKUP(AG9,Tabelas!B:D,3,0),0),\"\")","v":0},{"$f":"IF(A9<>\"\",IFERROR(VLOOKUP(AH9,Tabelas!B:D,3,0),0),\"\")","v":0},{"$f":"IF(A9<>\"\",IFERROR(VLOOKUP(AI9,Tabelas!B:D,3,0),0),\"\")","v":0},{"$f":"IF(A9<>\"\",IFERROR(VLOOKUP(AJ9,Tabelas!B:D,3,0),0),\"\")","v":0},{"$f":"IF(A9<>\"\",IFERROR(VLOOKUP(AK9,Tabelas!B:D,3,0),0),\"\")","v":6}]
["Leonardo Simas Abi Saad",3604455,13918,"Médico","RJU",30,null,null,"T15","T15","T15","T15","M15",null,null,"T15","T15","T15","T15","M15",null,null,"T15","T15","T15","T15","M15",null,null,"T15","T15","T15","T15","M15",null,null,"T15",{"$f":"IF(A10<>\"\",IFERROR(VLOOKUP(G10,Tabelas!B:D,3,0),0),\"\")","v":0},{"$f":"IF(A10<>\"\",IFERROR(VLOOKUP(H10,Tabelas!B:D,3,0),0),\"\")","v":0},{"$f":"IF(A10<>\"\",IFERROR(VLOOKUP(I10,Tabelas!B:D,3,0),0),\"\")","v":6},{"$f":"IF(A10<>\"\",IFERROR(VLOOKUP(J10,Tabelas!B:D,3,0),0),\"\")","v":6},{"$f":"IF(A10<>\"\",IFERROR(VLOOKUP(K10,Tabelas!B:D,3,0),0),\"\")","v":6},{"$f":"IF(A10<>\"\",IFERROR(VLOOKUP(L10,Tabelas!B:D,3,0),0),\"\")","v":6},{"$f":"IF(A10<>\"\",IFERROR(VLOOKUP(M10,Tabelas!B:D,3,0),0),\"\")","v":6},{"$f":"IF(A10<>\"\",IFERROR(VLOOKUP(N10,Tabelas!B:D,3,0),0),\"\")","v":0},{"$f":"IF(A10<>\"\",IFERROR(VLOOKUP(O10,Tabelas!B:D,3,0),0),\"\")","v":0},{"$f":"IF(A10<>\"\",IFERROR(VLOOKUP(P10,Tabelas!B:D,3,0),0),\"\")","v":6},{"$f":"IF(A10<>\"\",IFERROR(VLOOKUP(Q10,Tabelas!B:D,3,0),0),\"\")","v":6},{"$f":"IF(A10<>\"\",IFERROR(VLOOKUP(R10,Tabelas!B:D,3,0),0),\"\")","v":6},{"$f":"IF(A10<>\"\",IFERROR(VLOOKUP(S10,Tabelas!B:D,3,0),0),\"\")","v":6},{"$f":"IF(A10<>\"\",IFERROR(VLOOKUP(T10,Tabelas!B:D,3,0),0),\"\")","v":6},{"$f":"IF(A10<>\"\",IFERROR(VLOOKUP(U10,Tabelas!B:D,3,0),0),\"\")","v":0},{"$f":"IF(A10<>\"\",IFERROR(VLOOKUP(V10,Tabelas!B:D,3,0),0),\"\")","v":0},{"$f":"IF(A10<>\"\",IFERROR(VLOOKUP(W10,Tabelas!B:D,3,0),0),\"\")","v":6},{"$f":"IF(A10<>\"\",IFERROR(VLOOKUP(X10,Tabelas!B:D,3,0),0),\"\")","v":6},{"$f":"IF(A10<>\"\",IFERROR(VLOOKUP(Y10,Tabelas!B:D,3,0),0),\"\")","v":6},{"$f":"IF(A10<>\"\",IFERROR(VLOOKUP(Z10,Tabelas!B:D,3,0),0),\"\")","v":6},{"$f":"IF(A10<>\"\",IFERROR(VLOOKUP(AA10,Tabelas!B:D,3,0),0),\"\")","v":6},{"$f":"IF(A10<>\"\",IFERROR(VLOOKUP(AB10,Tabelas!B:D,3,0),0),\"\")","v":0},{"$f":"IF(A10<>\"\",IFERROR(VLOOKUP(AC10,Tabelas!B:D,3,0),0),\"\")","v":0},{"$f":"IF(A10<>\"\",IFERROR(VLOOKUP(AD10,Tabelas!B:D,3,0),0),\"\")","v":6},{"$f":"IF(A10<>\"\",IFERROR(VLOOKUP(AE10,Tabelas!B:D,3,0),0),\"\")","v":6},{"$f":"IF(A10<>\"\",IFERROR(VLOOKUP(AF10,Tabelas!B:D,3,0),0),\"\")","v":6},{"$f":"IF(A10<>\"\",IFERROR(VLOOKUP(AG10,Tabelas!B:D,3,0),0),\"\")","v":6},{"$f":"IF(A10<>\"\",IFERROR(VLOOKUP(AH10,Tabelas!B:D,3,0),0),\"\")","v":6},{"$f":"IF(A10<>\"\",IFERROR(VLOOKUP(AI10,Tabelas!B:D,3,0),0),\"\")","v":0},{"$f":"IF(A10<>\"\",IFERROR(VLOOKUP(AJ10,Tabelas!B:D,3,0),0),\"\")","v":0},{"$f":"IF(A10<>\"\",IFERROR(VLOOKUP(AK10,Tabelas!B:D,3,0),0),\"\")","v":6}]
["Oscar Cardoso Dimatos ",2841698,16451,"Médico","RJU",40,null,null,"FE","FE","FE","FE","FE",null,null,"FE","FE","FE","T15","T15",null,null,"T15",null,"T15","T15","T15",null,null,"T15",null,"T15","T15","T15",null,null,"T15",{"$f":"IF(A11<>\"\",IFERROR(VLOOKUP(G11,Tabelas!B:D,3,0),0),\"\")","v":0},{"$f":"IF(A11<>\"\",IFERROR(VLOOKUP(H11,Tabelas!B:D,3,0),0),\"\")","v":0},{"$f":"IF(A11<>\"\",IFERROR(VLOOKUP(I11,Tabelas!B:D,3,0),0),\"\")","v":0},{"$f":"IF(A11<>\"\",IFERROR(VLOOKUP(J11,Tabelas!B:D,3,0),0),\"\")","v":0},{"$f":"IF(A11<>\"\",IFERROR(VLOOKUP(K11,Tabelas!B:D,3,0),0),\"\")","v":0},{"$f":"IF(A11<>\"\",IFERROR(VLOOKUP(L11,Tabelas!B:D,3,0),0),\"\")","v":0},{"$f":"IF(A11<>\"\",IFERROR(VLOOKUP(M11,Tabelas!B:D,3,0),0),\"\")","v":0},{"$f":"IF(A11<>\"\",IFERROR(VLOOKUP(N11,Tabelas!B:D,3,0),0),\"\")","v":0},{"$f":"IF(A11<>\"\",IFERROR(VLOOKUP(O11,Tabelas!B:D,3,0),0),\"\")","v":0},{"$f":"IF(A11<>\"\",IFERROR(VLOOKUP(P11,Tabelas!B:D,3,0),0),\"\")","v":0},{"$f":"IF(A11<>\"\",IFERROR(VLOOKUP(Q11,Tabelas!B:D,3,0),0),\"\")","v":0},{"$f":"IF(A11<>\"\",IFERROR(VLOOKUP(R11,Tabelas!B:D,3,0),0),\"\")","v":0},{"$f":"IF(A11<>\"\",IFERROR(VLOOKUP(S11,Tabelas!B:D,3,0),0),\"\")","v":6},{"$f":"IF(A11<>\"\",IFERROR(VLOOKUP(T11,Tabelas!B:D,3,0),0),\"\")","v":6},{"$f":"IF(A11<>\"\",IFERROR(VLOOKUP(U11,Tabelas!B:D,3,0),0),\"\")","v":0},{"$f":"IF(A11<>\"\",IFERROR(VLOOKUP(V11,Tabelas!B:D,3,0),0),\"\")","v":0},{"$f":"IF(A11<>\"\",IFERROR(VLOOKUP(W11,Tabelas!B:D,3,0),0),\"\")","v":6},{"$f":"IF(A11<>\"\",IFERROR(VLOOKUP(X11,Tabelas!B:D,3,0),0),\"\")","v":0},{"$f":"IF(A11<>\"\",IFERROR(VLOOKUP(Y11,Tabelas!B:D,3,0),0),\"\")","v":6},{"$f":"IF(A11<>\"\",IFERROR(VLOOKUP(Z11,Tabelas!B:D,3,0),0),\"\")","v":6},{"$f":"IF(A11<>\"\",IFERROR(VLOOKUP(AA11,Tabelas!B:D,3,0),0),\"\")","v":6},{"$f":"IF(A11<>\"\",IFERROR(VLOOKUP(AB11,Tabelas!B:D,3,0),0),\"\")","v":0},{"$f":"IF(A11<>\"\",IFERROR(VLOOKUP(AC11,Tabelas!B:D,3,0),0),\"\")","v":0},{"$f":"IF(A11<>\"\",IFERROR(VLOOKUP(AD11,Tabelas!B:D,3,0),0),\"\")","v":6},{"$f":"IF(A11<>\"\",IFERROR(VLOOKUP(AE11,Tabelas!B:D,3,0),0),\"\")","v":0},{"$f":"IF(A11<>\"\",IFERROR(VLOOKUP(AF11,Tabelas!B:D,3,0),0),\"\")","v":6},{"$f":"IF(A11<>\"\",IFERROR(VLOOKUP(AG11,Tabelas!B:D,3,0),0),\"\")","v":6},{"$f":"IF(A11<>\"\",IFERROR(VLOOKUP(AH11,Tabelas!B:D,3,0),0),\"\")","v":6},{"$f":"IF(A11<>\"\",IFERROR(VLOOKUP(AI11,Tabelas!B:D,3,0),0),\"\")","v":0},{"$f":"IF(A11<>\"\",IFERROR(VLOOKUP(AJ11,Tabelas!B:D,3,0),0),\"\")","v":0},{"$f":"IF(A11<>\"\",IFERROR(VLOOKUP(AK11,Tabelas!B:D,3,0),0),\"\")","v":6}]
["Ariel Cordova Rosa",1361412,23372,"Médico","EBSERH",24,null,null,"M15","T15","M15","M15",null,null,null,"M15","T15","M15","M15",null,null,null,"M15","T15","M15","M15",null,null,null,"M15","T15","M15","M15",null,null,null,"M15",{"$f":"IF(A12<>\"\",IFERROR(VLOOKUP(G12,Tabelas!B:D,3,0),0),\"\")","v":0},{"$f":"IF(A12<>\"\",IFERROR(VLOOKUP(H12,Tabelas!B:D,3,0),0),\"\")","v":0},{"$f":"IF(A12<>\"\",IFERROR(VLOOKUP(I12,Tabelas!B:D,3,0),0),\"\")","v":6},{"$f":"IF(A12<>\"\",IFERROR(VLOOKUP(J12,Tabelas!B:D,3,0),0),\"\")","v":6},{"$f":"IF(A12<>\"\",IFERROR(VLOOKUP(K12,Tabelas!B:D,3,0),0),\"\")","v":6},{"$f":"IF(A12<>\"\",IFERROR(VLOOKUP(L12,Tabelas!B:D,3,0),0),\"\")","v":6},{"$f":"IF(A12<>\"\",IFERROR(VLOOKUP(M12,Tabelas!B:D,3,0),0),\"\")","v":0},{"$f":"IF(A12<>\"\",IFERROR(VLOOKUP(N12,Tabelas!B:D,3,0),0),\"\")","v":0},{"$f":"IF(A12<>\"\",IFERROR(VLOOKUP(O12,Tabelas!B:D,3,0),0),\"\")","v":0},{"$f":"IF(A12<>\"\",IFERROR(VLOOKUP(P12,Tabelas!B:D,3,0),0),\"\")","v":6},{"$f":"IF(A12<>\"\",IFERROR(VLOOKUP(Q12,Tabelas!B:D,3,0),0),\"\")","v":6},{"$f":"IF(A12<>\"\",IFERROR(VLOOKUP(R12,Tabelas!B:D,3,0),0),\"\")","v":6},{"$f":"IF(A12<>\"\",IFERROR(VLOOKUP(S12,Tabelas!B:D,3,0),0),\"\")","v":6},{"$f":"IF(A12<>\"\",IFERROR(VLOOKUP(T12,Tabelas!B:D,3,0),0),\"\")","v":0},{"$f":"IF(A12<>\"\",IFERROR(VLOOKUP(U12,Tabelas!B:D,3,0),0),\"\")","v":0},{"$f":"IF(A12<>\"\",IFERROR(VLOOKUP(V12,Tabelas!B:D,3,0),0),\"\")","v":0},{"$f":"IF(A12<>\"\",IFERROR(VLOOKUP(W12,Tabelas!B:D,3,0),0),\"\")","v":6},{"$f":"IF(A12<>\"\",IFERROR(VLOOKUP(X12,Tabelas!B:D,3,0),0),\"\")","v":6},{"$f":"IF(A12<>\"\",IFERROR(VLOOKUP(Y12,Tabelas!B:D,3,0),0),\"\")","v":6},{"$f":"IF(A12<>\"\",IFERROR(VLOOKUP(Z12,Tabelas!B:D,3,0),0),\"\")","v":6},{"$f":"IF(A12<>\"\",IFERROR(VLOOKUP(AA12,Tabelas!B:D,3,0),0),\"\")","v":0},{"$f":"IF(A12<>\"\",IFERROR(VLOOKUP(AB12,Tabelas!B:D,3,0),0),\"\")","v":0},{"$f":"IF(A12<>\"\",IFERROR(VLOOKUP(AC12,Tabelas!B:D,3,0),0),\"\")","v":0},{"$f":"IF(A12<>\"\",IFERROR(VLOOKUP(AD12,Tabelas!B:D,3,0),0),\"\")","v":6},{"$f":"IF(A12<>\"\",IFERROR(VLOOKUP(AE12,Tabelas!B:D,3,0),0),\"\")","v":6},{"$f":"IF(A12<>\"\",IFERROR(VLOOKUP(AF12,Tabelas!B:D,3,0),0),\"\")","v":6},{"$f":"IF(A12<>\"\",IFERROR(VLOOKUP(AG12,Tabelas!B:D,3,0),0),\"\")","v":6},{"$f":"IF(A12<>\"\",IFERROR(VLOOKUP(AH12,Tabelas!B:D,3,0),0),\"\")","v":0},{"$f":"IF(A12<>\"\",IFERROR(VLOOKUP(AI12,Tabelas!B:D,3,0),0),\"\")","v":0},{"$f":"IF(A12<>\"\",IFERROR(VLOOKUP(AJ12,Tabelas!B:D,3,0),0),\"\")","v":0},{"$f":"IF(A12<>\"\",IFERROR(VLOOKUP(AK12,Tabelas!B:D,3,0),0),\"\")","v":6}]
["Shirley Maximo de Souza",2060635,2775,"Médico","EBSERH",24,null,null,"M15","M15",null,"M15","D6",null,null,"M15","M15",null,"M15","D6",null,null,"M15","M15",null,"M15","D6",null,null,"M15","M15",null,"M15","D6",null,null,"M15",{"$f":"IF(A13<>\"\",IFERROR(VLOOKUP(G13,Tabelas!B:D,3,0),0),\"\")","v":0},{"$f":"IF(A13<>\"\",IFERROR(VLOOKUP(H13,Tabelas!B:D,3,0),0),\"\")","v":0},{"$f":"IF(A13<>\"\",IFERROR(VLOOKUP(I13,Tabelas!B:D,3,0),0),\"\")","v":6},{"$f":"IF(A13<>\"\",IFERROR(VLOOKUP(J13,Tabelas!B:D,3,0),0),\"\")","v":6},{"$f":"IF(A13<>\"\",IFERROR(VLOOKUP(K13,Tabelas!B:D,3,0),0),\"\")","v":0},{"$f":"IF(A13<>\"\",IFERROR(VLOOKUP(L13,Tabelas!B:D,3,0),0),\"\")","v":6},{"$f":"IF(A13<>\"\",IFERROR(VLOOKUP(M13,Tabelas!B:D,3,0),0),\"\")","v":12},{"$f":"IF(A13<>\"\",IFERROR(VLOOKUP(N13,Tabelas!B:D,3,0),0),\"\")","v":0},{"$f":"IF(A13<>\"\",IFERROR(VLOOKUP(O13,Tabelas!B:D,3,0),0),\"\")","v":0},{"$f":"IF(A13<>\"\",IFERROR(VLOOKUP(P13,Tabelas!B:D,3,0),0),\"\")","v":6},{"$f":"IF(A13<>\"\",IFERROR(VLOOKUP(Q13,Tabelas!B:D,3,0),0),\"\")","v":6},{"$f":"IF(A13<>\"\",IFERROR(VLOOKUP(R13,Tabelas!B:D,3,0),0),\"\")","v":0},{"$f":"IF(A13<>\"\",IFERROR(VLOOKUP(S13,Tabelas!B:D,3,0),0),\"\")","v":6},{"$f":"IF(A13<>\"\",IFERROR(VLOOKUP(T13,Tabelas!B:D,3,0),0),\"\")","v":12},{"$f":"IF(A13<>\"\",IFERROR(VLOOKUP(U13,Tabelas!B:D,3,0),0),\"\")","v":0},{"$f":"IF(A13<>\"\",IFERROR(VLOOKUP(V13,Tabelas!B:D,3,0),0),\"\")","v":0},{"$f":"IF(A13<>\"\",IFERROR(VLOOKUP(W13,Tabelas!B:D,3,0),0),\"\")","v":6},{"$f":"IF(A13<>\"\",IFERROR(VLOOKUP(X13,Tabelas!B:D,3,0),0),\"\")","v":6},{"$f":"IF(A13<>\"\",IFERROR(VLOOKUP(Y13,Tabelas!B:D,3,0),0),\"\")","v":0},{"$f":"IF(A13<>\"\",IFERROR(VLOOKUP(Z13,Tabelas!B:D,3,0),0),\"\")","v":6},{"$f":"IF(A13<>\"\",IFERROR(VLOOKUP(AA13,Tabelas!B:D,3,0),0),\"\")","v":12},{"$f":"IF(A13<>\"\",IFERROR(VLOOKUP(AB13,Tabelas!B:D,3,0),0),\"\")","v":0},{"$f":"IF(A13<>\"\",IFERROR(VLOOKUP(AC13,Tabelas!B:D,3,0),0),\"\")","v":0},{"$f":"IF(A13<>\"\",IFERROR(VLOOKUP(AD13,Tabelas!B:D,3,0),0),\"\")","v":6},{"$f":"IF(A13<>\"\",IFERROR(VLOOKUP(AE13,Tabelas!B:D,3,0),0),\"\")","v":6},{"$f":"IF(A13<>\"\",IFERROR(VLOOKUP(AF13,Tabelas!B:D,3,0),0),\"\")","v":0},{"$f":"IF(A13<>\"\",IFERROR(VLOOKUP(AG13,Tabelas!B:D,3,0),0),\"\")","v":6},{"$f":"IF(A13<>\"\",IFERROR(VLOOKUP(AH13,Tabelas!B:D,3,0),0),\"\")","v":12},{"$f":"IF(A13<>\"\",IFERROR(VLOOKUP(AI13,Tabelas!B:D,3,0),0),\"\")","v":0},{"$f":"IF(A13<>\"\",IFERROR(VLOOKUP(AJ13,Tabelas!B:D,3,0),0),\"\")","v":0},{"$f":"IF(A13<>\"\",IFERROR(VLOOKUP(AK13,Tabelas!B:D,3,0),0),\"\")","v":6}]
["ACUPUNTURA ",null,null,null,null,null,null,null,null,null,null,null,null,null,null,null,null,null,null,null,null,null,null,null,null,null,null,null,null,null,null,null,null,null,null,null,null,{"$f":"IF(A14<>\"\",IFERROR(VLOOKUP(G14,Tabelas!B:D,3,0),0),\"\")","v":0},{"$f":"IF(A14<>\"\",IFERROR(VLOOKUP(H14,Tabelas!B:D,3,0),0),\"\")","v":0},{"$f":"IF(A14<>\"\",IFERROR(VLOOKUP(I14,Tabelas!B:D,3,0),0),\"\")","v":0},{"$f":"IF(A14<>\"\",IFERROR(VLOOKUP(J14,Tabelas!B:D,3,0),0),\"\")","v":0},{"$f":"IF(A14<>\"\",IFERROR(VLOOKUP(K14,Tabelas!B:D,3,0),0),\"\")","v":0},{"$f":"IF(A14<>\"\",IFERROR(VLOOKUP(L14,Tabelas!B:D,3,0),0),\"\")","v":0},{"$f":"IF(A14<>\"\",IFERROR(VLOOKUP(M14,Tabelas!B:D,3,0),0),\"\")","v":0},{"$f":"IF(A14<>\"\",IFERROR(VLOOKUP(N14,Tabelas!B:D,3,0),0),\"\")","v":0},{"$f":"IF(A14<>\"\",IFERROR(VLOOKUP(O14,Tabelas!B:D,3,0),0),\"\")","v":0},{"$f":"IF(A14<>\"\",IFERROR(VLOOKUP(P14,Tabelas!B:D,3,0),0),\"\")","v":0},{"$f":"IF(A14<>\"\",IFERROR(VLOOKUP(Q14,Tabelas!B:D,3,0),0),\"\")","v":0},{"$f":"IF(A14<>\"\",IFERROR(VLOOKUP(R14,Tabelas!B:D,3,0),0),\"\")","v":0},{"$f":"IF(A14<>\"\",IFERROR(VLOOKUP(S14,Tabelas!B:D,3,0),0),\"\")","v":0},{"$f":"IF(A14<>\"\",IFERROR(VLOOKUP(T14,Tabelas!B:D,3,0),0),\"\")","v":0},{"$f":"IF(A14<>\"\",IFERROR(VLOOKUP(U14,Tabelas!B:D,3,0),0),\"\")","v":0},{"$f":"IF(A14<>\"\",IFERROR(VLOOKUP(V14,Tabelas!B:D,3,0),0),\"\")","v":0},{"$f":"IF(A14<>\"\",IFERROR(VLOOKUP(W14,Tabelas!B:D,3,0),0),\"\")","v":0},{"$f":"IF(A14<>\"\",IFERROR(VLOOKUP(X14,Tabelas!B:D,3,0),0),\"\")","v":0},{"$f":"IF(A14<>\"\",IFERROR(VLOOKUP(Y14,Tabelas!B:D,3,0),0),\"\")","v":0},{"$f":"IF(A14<>\"\",IFERROR(VLOOKUP(Z14,Tabelas!B:D,3,0),0),\"\")","v":0},{"$f":"IF(A14<>\"\",IFERROR(VLOOKUP(AA14,Tabelas!B:D,3,0),0),\"\")","v":0},{"$f":"IF(A14<>\"\",IFERROR(VLOOKUP(AB14,Tabelas!B:D,3,0),0),\"\")","v":0},{"$f":"IF(A14<>\"\",IFERROR(VLOOKUP(AC14,Tabelas!B:D,3,0),0),\"\")","v":0},{"$f":"IF(A14<>\"\",IFERROR(VLOOKUP(AD14,Tabelas!B:D,3,0),0),\"\")","v":0},{"$f":"IF(A14<>\"\",IFERROR(VLOOKUP(AE14,Tabelas!B:D,3,0),0),\"\")","v":0},{"$f":"IF(A14<>\"\",IFERROR(VLOOKUP(AF14,Tabelas!B:D,3,0),0),\"\")","v":0},{"$f":"IF(A14<>\"\",IFERROR(VLOOKUP(AG14,Tabelas!B:D,3,0),0),\"\")","v":0},{"$f":"IF(A14<>\"\",IFERROR(VLOOKUP(AH14,Tabelas!B:D,3,0),0),\"\")","v":0},{"$f":"IF(A14<>\"\",IFERROR(VLOOKUP(AI14,Tabelas!B:D,3,0),0),\"\")","v":0},{"$f":"IF(A14<>\"\",IFERROR(VLOOKUP(AJ14,Tabelas!B:D,3,0),0),\"\")","v":0},{"$f":"IF(A14<>\"\",IFERROR(VLOOKUP(AK14,Tabelas!B:D,3,0),0),\"\")","v":0}]
["Ari Ojeda Ocampo Moré",2116216,13369,"Médico","RJU",30,null,null,"FE","FE","FE","FE","FE",null,null,"D6","D6",null,"D6",null,null,null,"D6","D6",null,"D6",null,null,null,"D6","D6",null,"D6",null,null,null,"D6",{"$f":"IF(A15<>\"\",IFERROR(VLOOKUP(G15,Tabelas!B:D,3,0),0),\"\")","v":0},{"$f":"IF(A15<>\"\",IFERROR(VLOOKUP(H15,Tabelas!B:D,3,0),0),\"\")","v":0},{"$f":"IF(A15<>\"\",IFERROR(VLOOKUP(I15,Tabelas!B:D,3,0),0),\"\")","v":0},{"$f":"IF(A15<>\"\",IFERROR(VLOOKUP(J15,Tabelas!B:D,3,0),0),\"\")","v":0},{"$f":"IF(A15<>\"\",IFERROR(VLOOKUP(K15,Tabelas!B:D,3,0),0),\"\")","v":0},{"$f":"IF(A15<>\"\",IFERROR(VLOOKUP(L15,Tabelas!B:D,3,0),0),\"\")","v":0},{"$f":"IF(A15<>\"\",IFERROR(VLOOKUP(M15,Tabelas!B:D,3,0),0),\"\")","v":0},{"$f":"IF(A15<>\"\",IFERROR(VLOOKUP(N15,Tabelas!B:D,3,0),0),\"\")","v":0},{"$f":"IF(A15<>\"\",IFERROR(VLOOKUP(O15,Tabelas!B:D,3,0),0),\"\")","v":0},{"$f":"IF(A15<>\"\",IFERROR(VLOOKUP(P15,Tabelas!B:D,3,0),0),\"\")","v":12},{"$f":"IF(A15<>\"\",IFERROR(VLOOKUP(Q15,Tabelas!B:D,3,0),0),\"\")","v":12},{"$f":"IF(A15<>\"\",IFERROR(VLOOKUP(R15,Tabelas!B:D,3,0),0),\"\")","v":0},{"$f":"IF(A15<>\"\",IFERROR(VLOOKUP(S15,Tabelas!B:D,3,0),0),\"\")","v":12},{"$f":"IF(A15<>\"\",IFERROR(VLOOKUP(T15,Tabelas!B:D,3,0),0),\"\")","v":0},{"$f":"IF(A15<>\"\",IFERROR(VLOOKUP(U15,Tabelas!B:D,3,0),0),\"\")","v":0},{"$f":"IF(A15<>\"\",IFERROR(VLOOKUP(V15,Tabelas!B:D,3,0),0),\"\")","v":0},{"$f":"IF(A15<>\"\",IFERROR(VLOOKUP(W15,Tabelas!B:D,3,0),0),\"\")","v":12},{"$f":"IF(A15<>\"\",IFERROR(VLOOKUP(X15,Tabelas!B:D,3,0),0),\"\")","v":12},{"$f":"IF(A15<>\"\",IFERROR(VLOOKUP(Y15,Tabelas!B:D,3,0),0),\"\")","v":0},{"$f":"IF(A15<>\"\",IFERROR(VLOOKUP(Z15,Tabelas!B:D,3,0),0),\"\")","v":12},{"$f":"IF(A15<>\"\",IFERROR(VLOOKUP(AA15,Tabelas!B:D,3,0),0),\"\")","v":0},{"$f":"IF(A15<>\"\",IFERROR(VLOOKUP(AB15,Tabelas!B:D,3,0),0),\"\")","v":0},{"$f":"IF(A15<>\"\",IFERROR(VLOOKUP(AC15,Tabelas!B:D,3,0),0),\"\")","v":0},{"$f":"IF(A15<>\"\",IFERROR(VLOOKUP(AD15,Tabelas!B:D,3,0),0),\"\")","v":12},{"$f":"IF(A15<>\"\",IFERROR(VLOOKUP(AE15,Tabelas!B:D,3,0),0),\"\")","v":12},{"$f":"IF(A15<>\"\",IFERROR(VLOOKUP(AF15,Tabelas!B:D,3,0),0),\"\")","v":0},{"$f":"IF(A15<>\"\",IFERROR(VLOOKUP(AG15,Tabelas!B:D,3,0),0),\"\")","v":12},{"$f":"IF(A15<>\"\",IFERROR(VLOOKUP(AH15,Tabelas!B:D,3,0),0),\"\")","v":0},{"$f":"IF(A15<>\"\",IFERROR(VLOOKUP(AI15,Tabelas!B:D,3,0),0),\"\")","v":0},{"$f":"IF(A15<>\"\",IFERROR(VLOOKUP(AJ15,Tabelas!B:D,3,0),0),\"\")","v":0},{"$f":"IF(A15<>\"\",IFERROR(VLOOKUP(AK15,Tabelas!B:D,3,0),0),\"\")","v":12}]
["Cesar Paulo Semionato",1158471,3535,"Médico","RJU",30,null,null,"D6","D6",null,"D6",null,null,null,"D6","D6",null,"D6",null,null,null,"D6","FE","FE","FE","FE",null,null,"FE","FE","FE","FE","FE",null,null,"D7",{"$f":"IF(A16<>\"\",IFERROR(VLOOKUP(G16,Tabelas!B:D,3,0),0),\"\")","v":0},{"$f":"IF(A16<>\"\",IFERROR(VLOOKUP(H16,Tabelas!B:D,3,0),0),\"\")","v":0},{"$f":"IF(A16<>\"\",IFERROR(VLOOKUP(I16,Tabelas!B:D,3,0),0),\"\")","v":12},{"$f":"IF(A16<>\"\",IFERROR(VLOOKUP(J16,Tabelas!B:D,3,0),0),\"\")","v":12},{"$f":"IF(A16<>\"\",IFERROR(VLOOKUP(K16,Tabelas!B:D,3,0),0),\"\")","v":0},{"$f":"IF(A16<>\"\",IFERROR(VLOOKUP(L16,Tabelas!B:D,3,0),0),\"\")","v":12},{"$f":"IF(A16<>\"\",IFERROR(VLOOKUP(M16,Tabelas!B:D,3,0),0),\"\")","v":0},{"$f":"IF(A16<>\"\",IFERROR(VLOOKUP(N16,Tabelas!B:D,3,0),0),\"\")","v":0},{"$f":"IF(A16<>\"\",IFERROR(VLOOKUP(O16,Tabelas!B:D,3,0),0),\"\")","v":0},{"$f":"IF(A16<>\"\",IFERROR(VLOOKUP(P16,Tabelas!B:D,3,0),0),\"\")","v":12},{"$f":"IF(A16<>\"\",IFERROR(VLOOKUP(Q16,Tabelas!B:D,3,0),0),\"\")","v":12},{"$f":"IF(A16<>\"\",IFERROR(VLOOKUP(R16,Tabelas!B:D,3,0),0),\"\")","v":0},{"$f":"IF(A16<>\"\",IFERROR(VLOOKUP(S16,Tabelas!B:D,3,0),0),\"\")","v":12},{"$f":"IF(A16<>\"\",IFERROR(VLOOKUP(T16,Tabelas!B:D,3,0),0),\"\")","v":0},{"$f":"IF(A16<>\"\",IFERROR(VLOOKUP(U16,Tabelas!B:D,3,0),0),\"\")","v":0},{"$f":"IF(A16<>\"\",IFERROR(VLOOKUP(V16,Tabelas!B:D,3,0),0),\"\")","v":0},{"$f":"IF(A16<>\"\",IFERROR(VLOOKUP(W16,Tabelas!B:D,3,0),0),\"\")","v":12},{"$f":"IF(A16<>\"\",IFERROR(VLOOKUP(X16,Tabelas!B:D,3,0),0),\"\")","v":0},{"$f":"IF(A16<>\"\",IFERROR(VLOOKUP(Y16,Tabelas!B:D,3,0),0),\"\")","v":0},{"$f":"IF(A16<>\"\",IFERROR(VLOOKUP(Z16,Tabelas!B:D,3,0),0),\"\")","v":0},{"$f":"IF(A16<>\"\",IFERROR(VLOOKUP(AA16,Tabelas!B:D,3,0),0),\"\")","v":0},{"$f":"IF(A16<>\"\",IFERROR(VLOOKUP(AB16,Tabelas!B:D,3,0),0),\"\")","v":0},{"$f":"IF(A16<>\"\",IFERROR(VLOOKUP(AC16,Tabelas!B:D,3,0),0),\"\")","v":0},{"$f":"IF(A16<>\"\",IFERROR(VLOOKUP(AD16,Tabelas!B:D,3,0),0),\"\")","v":0},{"$f":"IF(A16<>\"\",IFERROR(VLOOKUP(AE16,Tabelas!B:D,3,0),0),\"\")","v":0},{"$f":"IF(A16<>\"\",IFERROR(VLOOKUP(AF16,Tabelas!B:D,3,0),0),\"\")","v":0},{"$f":"IF(A16<>\"\",IFERROR(VLOOKUP(AG16,Tabelas!B:D,3,0),0),\"\")","v":0},{"$f":"IF(A16<>\"\",IFERROR(VLOOKUP(AH16,Tabelas!B:D,3,0),0),\"\")","v":0},{"$f":"IF(A16<>\"\",IFERROR(VLOOKUP(AI16,Tabelas!B:D,3,0),0),\"\")","v":0},{"$f":"IF(A16<>\"\",IFERROR(VLOOKUP(AJ16,Tabelas!B:D,3,0),0),\"\")","v":0},{"$f":"IF(A16<>\"\",IFERROR(VLOOKUP(AK16,Tabelas!B:D,3,0),0),\"\")","v":12}]
["Joao Eduardo Martins Teixeira",3144885,27906,"Médico","EBSERH",24,null,null,"M15","T15","M15","M15",null,null,null,"M15","T15","M15","M15",null,null,null,"M15","T15","M15","M15",null,null,null,"M15","T15","M15","M15",null,null,null,"M15",{"$f":"IF(A17<>\"\",IFERROR(VLOOKUP(G17,Tabelas!B:D,3,0),0),\"\")","v":0},{"$f":"IF(A17<>\"\",IFERROR(VLOOKUP(H17,Tabelas!B:D,3,0),0),\"\")","v":0},{"$f":"IF(A17<>\"\",IFERROR(VLOOKUP(I17,Tabelas!B:D,3,0),0),\"\")","v":6},{"$f":"IF(A17<>\"\",IFERROR(VLOOKUP(J17,Tabelas!B:D,3,0),0),\"\")","v":6},{"$f":"IF(A17<>\"\",IFERROR(VLOOKUP(K17,Tabelas!B:D,3,0),0),\"\")","v":6},{"$f":"IF(A17<>\"\",IFERROR(VLOOKUP(L17,Tabelas!B:D,3,0),0),\"\")","v":6},{"$f":"IF(A17<>\"\",IFERROR(VLOOKUP(M17,Tabelas!B:D,3,0),0),\"\")","v":0},{"$f":"IF(A17<>\"\",IFERROR(VLOOKUP(N17,Tabelas!B:D,3,0),0),\"\")","v":0},{"$f":"IF(A17<>\"\",IFERROR(VLOOKUP(O17,Tabelas!B:D,3,0),0),\"\")","v":0},{"$f":"IF(A17<>\"\",IFERROR(VLOOKUP(P17,Tabelas!B:D,3,0),0),\"\")","v":6},{"$f":"IF(A17<>\"\",IFERROR(VLOOKUP(Q17,Tabelas!B:D,3,0),0),\"\")","v":6},{"$f":"IF(A17<>\"\",IFERROR(VLOOKUP(R17,Tabelas!B:D,3,0),0),\"\")","v":6},{"$f":"IF(A17<>\"\",IFERROR(VLOOKUP(S17,Tabelas!B:D,3,0),0),\"\")","v":6},{"$f":"IF(A17<>\"\",IFERROR(VLOOKUP(T17,Tabelas!B:D,3,0),0),\"\")","v":0},{"$f":"IF(A17<>\"\",IFERROR(VLOOKUP(U17,Tabelas!B:D,3,0),0),\"\")","v":0},{"$f":"IF(A17<>\"\",IFERROR(VLOOKUP(V17,Tabelas!B:D,3,0),0),\"\")","v":0},{"$f":"IF(A17<>\"\",IFERROR(VLOOKUP(W17,Tabelas!B:D,3,0),0),\"\")","v":6},{"$f":"IF(A17<>\"\",IFERROR(VLOOKUP(X17,Tabelas!B:D,3,0),0),\"\")","v":6},{"$f":"IF(A17<>\"\",IFERROR(VLOOKUP(Y17,Tabelas!B:D,3,0),0),\"\")","v":6},{"$f":"IF(A17<>\"\",IFERROR(VLOOKUP(Z17,Tabelas!B:D,3,0),0),\"\")","v":6},{"$f":"IF(A17<>\"\",IFERROR(VLOOKUP(AA17,Tabelas!B:D,3,0),0),\"\")","v":0},{"$f":"IF(A17<>\"\",IFERROR(VLOOKUP(AB17,Tabelas!B:D,3,0),0),\"\")","v":0},{"$f":"IF(A17<>\"\",IFERROR(VLOOKUP(AC17,Tabelas!B:D,3,0),0),\"\")","v":0},{"$f":"IF(A17<>\"\",IFERROR(VLOOKUP(AD17,Tabelas!B:D,3,0),0),\"\")","v":6},{"$f":"IF(A17<>\"\",IFERROR(VLOOKUP(AE17,Tabelas!B:D,3,0),0),\"\")","v":6},{"$f":"IF(A17<>\"\",IFERROR(VLOOKUP(AF17,Tabelas!B:D,3,0),0),\"\")","v":6},{"$f":"IF(A17<>\"\",IFERROR(VLOOKUP(AG17,Tabelas!B:D,3,0),0),\"\")","v":6},{"$f":"IF(A17<>\"\",IFERROR(VLOOKUP(AH17,Tabelas!B:D,3,0),0),\"\")","v":0},{"$f":"IF(A17<>\"\",IFERROR(VLOOKUP(AI17,Tabelas!B:D,3,0),0),\"\")","v":0},{"$f":"IF(A17<>\"\",IFERROR(VLOOKUP(AJ17,Tabelas!B:D,3,0),0),\"\")","v":0},{"$f":"IF(A17<>\"\",IFERROR(VLOOKUP(AK17,Tabelas!B:D,3,0),0),\"\")","v":6}]
["Luciana Kiehl Noronha ",1441915,24335,"Médico","EBSERH",24,null,null,"FE","FE","FE","FE","FE",null,null,"FE","FE","FE","FE","FE",null,null,"FE","FE","FE","FE","FE",null,null,"FE","FE","FE","FE","FE",null,null,"FE",{"$f":"IF(A18<>\"\",IFERROR(VLOOKUP(G18,Tabelas!B:D,3,0),0),\"\")","v":0},{"$f":"IF(A18<>\"\",IFERROR(VLOOKUP(H18,Tabelas!B:D,3,0),0),\"\")","v":0},{"$f":"IF(A18<>\"\",IFERROR(VLOOKUP(I18,Tabelas!B:D,3,0),0),\"\")","v":0},{"$f":"IF(A18<>\"\",IFERROR(VLOOKUP(J18,Tabelas!B:D,3,0),0),\"\")","v":0},{"$f":"IF(A18<>\"\",IFERROR(VLOOKUP(K18,Tabelas!B:D,3,0),0),\"\")","v":0},{"$f":"IF(A18<>\"\",IFERROR(VLOOKUP(L18,Tabelas!B:D,3,0),0),\"\")","v":0},{"$f":"IF(A18<>\"\",IFERROR(VLOOKUP(M18,Tabelas!B:D,3,0),0),\"\")","v":0},{"$f":"IF(A18<>\"\",IFERROR(VLOOKUP(N18,Tabelas!B:D,3,0),0),\"\")","v":0},{"$f":"IF(A18<>\"\",IFERROR(VLOOKUP(O18,Tabelas!B:D,3,0),0),\"\")","v":0},{"$f":"IF(A18<>\"\",IFERROR(VLOOKUP(P18,Tabelas!B:D,3,0),0),\"\")","v":0},{"$f":"IF(A18<>\"\",IFERROR(VLOOKUP(Q18,Tabelas!B:D,3,0),0),\"\")","v":0},{"$f":"IF(A18<>\"\",IFERROR(VLOOKUP(R18,Tabelas!B:D,3,0),0),\"\")","v":0},{"$f":"IF(A18<>\"\",IFERROR(VLOOKUP(S18,Tabelas!B:D,3,0),0),\"\")","v":0},{"$f":"IF(A18<>\"\",IFERROR(VLOOKUP(T18,Tabelas!B:D,3,0),0),\"\")","v":0},{"$f":"IF(A18<>\"\",IFERROR(VLOOKUP(U18,Tabelas!B:D,3,0),0),\"\")","v":0},{"$f":"IF(A18<>\"\",IFERROR(VLOOKUP(V18,Tabelas!B:D,3,0),0),\"\")","v":0},{"$f":"IF(A18<>\"\",IFERROR(VLOOKUP(W18,Tabelas!B:D,3,0),0),\"\")","v":0},{"$f":"IF(A18<>\"\",IFERROR(VLOOKUP(X18,Tabelas!B:D,3,0),0),\"\")","v":0},{"$f":"IF(A18<>\"\",IFERROR(VLOOKUP(Y18,Tabelas!B:D,3,0),0),\"\")","v":0},{"$f":"IF(A18<>\"\",IFERROR(VLOOKUP(Z18,Tabelas!B:D,3,0),0),\"\")","v":0},{"$f":"IF(A18<>\"\",IFERROR(VLOOKUP(AA18,Tabelas!B:D,3,0),0),\"\")","v":0},{"$f":"IF(A18<>\"\",IFERROR(VLOOKUP(AB18,Tabelas!B:D,3,0),0),\"\")","v":0},{"$f":"IF(A18<>\"\",IFERROR(VLOOKUP(AC18,Tabelas!B:D,3,0),0),\"\")","v":0},{"$f":"IF(A18<>\"\",IFERROR(VLOOKUP(AD18,Tabelas!B:D,3,0),0),\"\")","v":0},{"$f":"IF(A18<>\"\",IFERROR(VLOOKUP(AE18,Tabelas!B:D,3,0),0),\"\")","v":0},{"$f":"IF(A18<>\"\",IFERROR(VLOOKUP(AF18,Tabelas!B:D,3,0),0),\"\")","v":0},{"$f":"IF(A18<>\"\",IFERROR(VLOOKUP(AG18,Tabelas!B:D,3,0),0),\"\")","v":0},{"$f":"IF(A18<>\"\",IFERROR(VLOOKUP(AH18,Tabelas!B:D,3,0),0),\"\")","v":0},{"$f":"IF(A18<>\"\",IFERROR(VLOOKUP(AI18,Tabelas!B:D,3,0),0),\"\")","v":0},{"$f":"IF(A18<>\"\",IFERROR(VLOOKUP(AJ18,Tabelas!B:D,3,0),0),\"\")","v":0},{"$f":"IF(A18<>\"\",IFERROR(VLOOKUP(AK18,Tabelas!B:D,3,0),0),\"\")","v":0}]
["CARDIOLOGIA ",null,null,null,null,null,null,null,null,null,null,null,null,null,null,null,null,null,null,null,null,null,null,null,null,null,null,null,null,null,null,null,null,null,null,null,null,{"$f":"IF(A19<>\"\",IFERROR(VLOOKUP(G19,Tabelas!B:D,3,0),0),\"\")","v":0},{"$f":"IF(A19<>\"\",IFERROR(VLOOKUP(H19,Tabelas!B:D,3,0),0),\"\")","v":0},{"$f":"IF(A19<>\"\",IFERROR(VLOOKUP(I19,Tabelas!B:D,3,0),0),\"\")","v":0},{"$f":"IF(A19<>\"\",IFERROR(VLOOKUP(J19,Tabelas!B:D,3,0),0),\"\")","v":0},{"$f":"IF(A19<>\"\",IFERROR(VLOOKUP(K19,Tabelas!B:D,3,0),0),\"\")","v":0},{"$f":"IF(A19<>\"\",IFERROR(VLOOKUP(L19,Tabelas!B:D,3,0),0),\"\")","v":0},{"$f":"IF(A19<>\"\",IFERROR(VLOOKUP(M19,Tabelas!B:D,3,0),0),\"\")","v":0},{"$f":"IF(A19<>\"\",IFERROR(VLOOKUP(N19,Tabelas!B:D,3,0),0),\"\")","v":0},{"$f":"IF(A19<>\"\",IFERROR(VLOOKUP(O19,Tabelas!B:D,3,0),0),\"\")","v":0},{"$f":"IF(A19<>\"\",IFERROR(VLOOKUP(P19,Tabelas!B:D,3,0),0),\"\")","v":0},{"$f":"IF(A19<>\"\",IFERROR(VLOOKUP(Q19,Tabelas!B:D,3,0),0),\"\")","v":0},{"$f":"IF(A19<>\"\",IFERROR(VLOOKUP(R19,Tabelas!B:D,3,0),0),\"\")","v":0},{"$f":"IF(A19<>\"\",IFERROR(VLOOKUP(S19,Tabelas!B:D,3,0),0),\"\")","v":0},{"$f":"IF(A19<>\"\",IFERROR(VLOOKUP(T19,Tabelas!B:D,3,0),0),\"\")","v":0},{"$f":"IF(A19<>\"\",IFERROR(VLOOKUP(U19,Tabelas!B:D,3,0),0),\"\")","v":0},{"$f":"IF(A19<>\"\",IFERROR(VLOOKUP(V19,Tabelas!B:D,3,0),0),\"\")","v":0},{"$f":"IF(A19<>\"\",IFERROR(VLOOKUP(W19,Tabelas!B:D,3,0),0),\"\")","v":0},{"$f":"IF(A19<>\"\",IFERROR(VLOOKUP(X19,Tabelas!B:D,3,0),0),\"\")","v":0},{"$f":"IF(A19<>\"\",IFERROR(VLOOKUP(Y19,Tabelas!B:D,3,0),0),\"\")","v":0},{"$f":"IF(A19<>\"\",IFERROR(VLOOKUP(Z19,Tabelas!B:D,3,0),0),\"\")","v":0},{"$f":"IF(A19<>\"\",IFERROR(VLOOKUP(AA19,Tabelas!B:D,3,0),0),\"\")","v":0},{"$f":"IF(A19<>\"\",IFERROR(VLOOKUP(AB19,Tabelas!B:D,3,0),0),\"\")","v":0},{"$f":"IF(A19<>\"\",IFERROR(VLOOKUP(AC19,Tabelas!B:D,3,0),0),\"\")","v":0},{"$f":"IF(A19<>\"\",IFERROR(VLOOKUP(AD19,Tabelas!B:D,3,0),0),\"\")","v":0},{"$f":"IF(A19<>\"\",IFERROR(VLOOKUP(AE19,Tabelas!B:D,3,0),0),\"\")","v":0},{"$f":"IF(A19<>\"\",IFERROR(VLOOKUP(AF19,Tabelas!B:D,3,0),0),\"\")","v":0},{"$f":"IF(A19<>\"\",IFERROR(VLOOKUP(AG19,Tabelas!B:D,3,0),0),\"\")","v":0},{"$f":"IF(A19<>\"\",IFERROR(VLOOKUP(AH19,Tabelas!B:D,3,0),0),\"\")","v":0},{"$f":"IF(A19<>\"\",IFERROR(VLOOKUP(AI19,Tabelas!B:D,3,0),0),\"\")","v":0},{"$f":"IF(A19<>\"\",IFERROR(VLOOKUP(AJ19,Tabelas!B:D,3,0),0),\"\")","v":0},{"$f":"IF(A19<>\"\",IFERROR(VLOOKUP(AK19,Tabelas!B:D,3,0),0),\"\")","v":0}]
["Aurelio Pacheco Costa Filho ",1160449,5182,"Médico","RJU",20,null,null,null,null,"FE","FE","FE",null,null,"FE","FE","FE","FE","FE",null,null,"FE","FE","D6",null,"D6",null,null,null,null,"D6",null,"D6",null,null,null,{"$f":"IF(A20<>\"\",IFERROR(VLOOKUP(G20,Tabelas!B:D,3,0),0),\"\")","v":0},{"$f":"IF(A20<>\"\",IFERROR(VLOOKUP(H20,Tabelas!B:D,3,0),0),\"\")","v":0},{"$f":"IF(A20<>\"\",IFERROR(VLOOKUP(I20,Tabelas!B:D,3,0),0),\"\")","v":0},{"$f":"IF(A20<>\"\",IFERROR(VLOOKUP(J20,Tabelas!B:D,3,0),0),\"\")","v":0},{"$f":"IF(A20<>\"\",IFERROR(VLOOKUP(K20,Tabelas!B:D,3,0),0),\"\")","v":0},{"$f":"IF(A20<>\"\",IFERROR(VLOOKUP(L20,Tabelas!B:D,3,0),0),\"\")","v":0},{"$f":"IF(A20<>\"\",IFERROR(VLOOKUP(M20,Tabelas!B:D,3,0),0),\"\")","v":0},{"$f":"IF(A20<>\"\",IFERROR(VLOOKUP(N20,Tabelas!B:D,3,0),0),\"\")","v":0},{"$f":"IF(A20<>\"\",IFERROR(VLOOKUP(O20,Tabelas!B:D,3,0),0),\"\")","v":0},{"$f":"IF(A20<>\"\",IFERROR(VLOOKUP(P20,Tabelas!B:D,3,0),0),\"\")","v":0},{"$f":"IF(A20<>\"\",IFERROR(VLOOKUP(Q20,Tabelas!B:D,3,0),0),\"\")","v":0},{"$f":"IF(A20<>\"\",IFERROR(VLOOKUP(R20,Tabelas!B:D,3,0),0),\"\")","v":0},{"$f":"IF(A20<>\"\",IFERROR(VLOOKUP(S20,Tabelas!B:D,3,0),0),\"\")","v":0},{"$f":"IF(A20<>\"\",IFERROR(VLOOKUP(T20,Tabelas!B:D,3,0),0),\"\")","v":0},{"$f":"IF(A20<>\"\",IFERROR(VLOOKUP(U20,Tabelas!B:D,3,0),0),\"\")","v":0},{"$f":"IF(A20<>\"\",IFERROR(VLOOKUP(V20,Tabelas!B:D,3,0),0),\"\")","v":0},{"$f":"IF(A20<>\"\",IFERROR(VLOOKUP(W20,Tabelas!B:D,3,0),0),\"\")","v":0},{"$f":"IF(A20<>\"\",IFERROR(VLOOKUP(X20,Tabelas!B:D,3,0),0),\"\")","v":0},{"$f":"IF(A20<>\"\",IFERROR(VLOOKUP(Y20,Tabelas!B:D,3,0),0),\"\")","v":12},{"$f":"IF(A20<>\"\",IFERROR(VLOOKUP(Z20,Tabelas!B:D,3,0),0),\"\")","v":0},{"$f":"IF(A20<>\"\",IFERROR(VLOOKUP(AA20,Tabelas!B:D,3,0),0),\"\")","v":12},{"$f":"IF(A20<>\"\",IFERROR(VLOOKUP(AB20,Tabelas!B:D,3,0),0),\"\")","v":0},{"$f":"IF(A20<>\"\",IFERROR(VLOOKUP(AC20,Tabelas!B:D,3,0),0),\"\")","v":0},{"$f":"IF(A20<>\"\",IFERROR(VLOOKUP(AD20,Tabelas!B:D,3,0),0),\"\")","v":0},{"$f":"IF(A20<>\"\",IFERROR(VLOOKUP(AE20,Tabelas!B:D,3,0),0),\"\")","v":0},{"$f":"IF(A20<>\"\",IFERROR(VLOOKUP(AF20,Tabelas!B:D,3,0),0),\"\")","v":12},{"$f":"IF(A20<>\"\",IFERROR(VLOOKUP(AG20,Tabelas!B:D,3,0),0),\"\")","v":0},{"$f":"IF(A20<>\"\",IFERROR(VLOOKUP(AH20,Tabelas!B:D,3,0),0),\"\")","v":12},{"$f":"IF(A20<>\"\",IFERROR(VLOOKUP(AI20,Tabelas!B:D,3,0),0),\"\")","v":0},{"$f":"IF(A20<>\"\",IFERROR(VLOOKUP(AJ20,Tabelas!B:D,3,0),0),\"\")","v":0},{"$f":"IF(A20<>\"\",IFERROR(VLOOKUP(AK20,Tabelas!B:D,3,0),0),\"\")","v":0}]
["Roberto Henrique Heinisch",1159126,3907,"Mécico","RJU",20,null,null,"T15","T15","T15","FE","FE",null,null,"FE","FE","FE","FE","FE",null,null,"FE","FE","FE","FE","FE",null,null,"FE","FE","FE","FE","FE",null,null,"FE",{"$f":"IF(A21<>\"\",IFERROR(VLOOKUP(G21,Tabelas!B:D,3,0),0),\"\")","v":0},{"$f":"IF(A21<>\"\",IFERROR(VLOOKUP(H21,Tabelas!B:D,3,0),0),\"\")","v":0},{"$f":"IF(A21<>\"\",IFERROR(VLOOKUP(I21,Tabelas!B:D,3,0),0),\"\")","v":6},{"$f":"IF(A21<>\"\",IFERROR(VLOOKUP(J21,Tabelas!B:D,3,0),0),\"\")","v":6},{"$f":"IF(A21<>\"\",IFERROR(VLOOKUP(K21,Tabelas!B:D,3,0),0),\"\")","v":6},{"$f":"IF(A21<>\"\",IFERROR(VLOOKUP(L21,Tabelas!B:D,3,0),0),\"\")","v":0},{"$f":"IF(A21<>\"\",IFERROR(VLOOKUP(M21,Tabelas!B:D,3,0),0),\"\")","v":0},{"$f":"IF(A21<>\"\",IFERROR(VLOOKUP(N21,Tabelas!B:D,3,0),0),\"\")","v":0},{"$f":"IF(A21<>\"\",IFERROR(VLOOKUP(O21,Tabelas!B:D,3,0),0),\"\")","v":0},{"$f":"IF(A21<>\"\",IFERROR(VLOOKUP(P21,Tabelas!B:D,3,0),0),\"\")","v":0},{"$f":"IF(A21<>\"\",IFERROR(VLOOKUP(Q21,Tabelas!B:D,3,0),0),\"\")","v":0},{"$f":"IF(A21<>\"\",IFERROR(VLOOKUP(R21,Tabelas!B:D,3,0),0),\"\")","v":0},{"$f":"IF(A21<>\"\",IFERROR(VLOOKUP(S21,Tabelas!B:D,3,0),0),\"\")","v":0},{"$f":"IF(A21<>\"\",IFERROR(VLOOKUP(T21,Tabelas!B:D,3,0),0),\"\")","v":0},{"$f":"IF(A21<>\"\",IFERROR(VLOOKUP(U21,Tabelas!B:D,3,0),0),\"\")","v":0},{"$f":"IF(A21<>\"\",IFERROR(VLOOKUP(V21,Tabelas!B:D,3,0),0),\"\")","v":0},{"$f":"IF(A21<>\"\",IFERROR(VLOOKUP(W21,Tabelas!B:D,3,0),0),\"\")","v":0},{"$f":"IF(A21<>\"\",IFERROR(VLOOKUP(X21,Tabelas!B:D,3,0),0),\"\")","v":0},{"$f":"IF(A21<>\"\",IFERROR(VLOOKUP(Y21,Tabelas!B:D,3,0),0),\"\")","v":0},{"$f":"IF(A21<>\"\",IFERROR(VLOOKUP(Z21,Tabelas!B:D,3,0),0),\"\")","v":0},{"$f":"IF(A21<>\"\",IFERROR(VLOOKUP(AA21,Tabelas!B:D,3,0),0),\"\")","v":0},{"$f":"IF(A21<>\"\",IFERROR(VLOOKUP(AB21,Tabelas!B:D,3,0),0),\"\")","v":0},{"$f":"IF(A21<>\"\",IFERROR(VLOOKUP(AC21,Tabelas!B:D,3,0),0),\"\")","v":0},{"$f":"IF(A21<>\"\",IFERROR(VLOOKUP(AD21,Tabelas!B:D,3,0),0),\"\")","v":0},{"$f":"IF(A21<>\"\",IFERROR(VLOOKUP(AE21,Tabelas!B:D,3,0),0),\"\")","v":0},{"$f":"IF(A21<>\"\",IFERROR(VLOOKUP(AF21,Tabelas!B:D,3,0),0),\"\")","v":0},{"$f":"IF(A21<>\"\",IFERROR(VLOOKUP(AG21,Tabelas!B:D,3,0),0),\"\")","v":0},{"$f":"IF(A21<>\"\",IFERROR(VLOOKUP(AH21,Tabelas!B:D,3,0),0),\"\")","v":0},{"$f":"IF(A21<>\"\",IFERROR(VLOOKUP(AI21,Tabelas!B:D,3,0),0),\"\")","v":0},{"$f":"IF(A21<>\"\",IFERROR(VLOOKUP(AJ21,Tabelas!B:D,3,0),0),\"\")","v":0},{"$f":"IF(A21<>\"\",IFERROR(VLOOKUP(AK21,Tabelas!B:D,3,0),0),\"\")","v":0}]
["Alexandre Dias de Oliveira ",1919092,24293,"Médico ","EBSERH",24,null,null,null,"M15","M15","M15","M15",null,null,null,"M15","M15","M15","M15",null,null,null,"M15","M15","M15","M15",null,null,null,"FE","FE","FE","FE",null,null,"FE",{"$f":"IF(A22<>\"\",IFERROR(VLOOKUP(G22,Tabelas!B:D,3,0),0),\"\")","v":0},{"$f":"IF(A22<>\"\",IFERROR(VLOOKUP(H22,Tabelas!B:D,3,0),0),\"\")","v":0},{"$f":"IF(A22<>\"\",IFERROR(VLOOKUP(I22,Tabelas!B:D,3,0),0),\"\")","v":0},{"$f":"IF(A22<>\"\",IFERROR(VLOOKUP(J22,Tabelas!B:D,3,0),0),\"\")","v":6},{"$f":"IF(A22<>\"\",IFERROR(VLOOKUP(K22,Tabelas!B:D,3,0),0),\"\")","v":6},{"$f":"IF(A22<>\"\",IFERROR(VLOOKUP(L22,Tabelas!B:D,3,0),0),\"\")","v":6},{"$f":"IF(A22<>\"\",IFERROR(VLOOKUP(M22,Tabelas!B:D,3,0),0),\"\")","v":6},{"$f":"IF(A22<>\"\",IFERROR(VLOOKUP(N22,Tabelas!B:D,3,0),0),\"\")","v":0},{"$f":"IF(A22<>\"\",IFERROR(VLOOKUP(O22,Tabelas!B:D,3,0),0),\"\")","v":0},{"$f":"IF(A22<>\"\",IFERROR(VLOOKUP(P22,Tabelas!B:D,3,0),0),\"\")","v":0},{"$f":"IF(A22<>\"\",IFERROR(VLOOKUP(Q22,Tabelas!B:D,3,0),0),\"\")","v":6},{"$f":"IF(A22<>\"\",IFERROR(VLOOKUP(R22,Tabelas!B:D,3,0),0),\"\")","v":6},{"$f":"IF(A22<>\"\",IFERROR(VLOOKUP(S22,Tabelas!B:D,3,0),0),\"\")","v":6},{"$f":"IF(A22<>\"\",IFERROR(VLOOKUP(T22,Tabelas!B:D,3,0),0),\"\")","v":6},{"$f":"IF(A22<>\"\",IFERROR(VLOOKUP(U22,Tabelas!B:D,3,0),0),\"\")","v":0},{"$f":"IF(A22<>\"\",IFERROR(VLOOKUP(V22,Tabelas!B:D,3,0),0),\"\")","v":0},{"$f":"IF(A22<>\"\",IFERROR(VLOOKUP(W22,Tabelas!B:D,3,0),0),\"\")","v":0},{"$f":"IF(A22<>\"\",IFERROR(VLOOKUP(X22,Tabelas!B:D,3,0),0),\"\")","v":6},{"$f":"IF(A22<>\"\",IFERROR(VLOOKUP(Y22,Tabelas!B:D,3,0),0),\"\")","v":6},{"$f":"IF(A22<>\"\",IFERROR(VLOOKUP(Z22,Tabelas!B:D,3,0),0),\"\")","v":6},{"$f":"IF(A22<>\"\",IFERROR(VLOOKUP(AA22,Tabelas!B:D,3,0),0),\"\")","v":6},{"$f":"IF(A22<>\"\",IFERROR(VLOOKUP(AB22,Tabelas!B:D,3,0),0),\"\")","v":0},{"$f":"IF(A22<>\"\",IFERROR(VLOOKUP(AC22,Tabelas!B:D,3,0),0),\"\")","v":0},{"$f":"IF(A22<>\"\",IFERROR(VLOOKUP(AD22,Tabelas!B:D,3,0),0),\"\")","v":0},{"$f":"IF(A22<>\"\",IFERROR(VLOOKUP(AE22,Tabelas!B:D,3,0),0),\"\")","v":0},{"$f":"IF(A22<>\"\",IFERROR(VLOOKUP(AF22,Tabelas!B:D,3,0),0),\"\")","v":0},{"$f":"IF(A22<>\"\",IFERROR(VLOOKUP(AG22,Tabelas!B:D,3,0),0),\"\")","v":0},{"$f":"IF(A22<>\"\",IFERROR(VLOOKUP(AH22,Tabelas!B:D,3,0),0),\"\")","v":0},{"$f":"IF(A22<>\"\",IFERROR(VLOOKUP(AI22,Tabelas!B:D,3,0),0),\"\")","v":0},{"$f":"IF(A22<>\"\",IFERROR(VLOOKUP(AJ22,Tabelas!B:D,3,0),0),\"\")","v":0},{"$f":"IF(A22<>\"\",IFERROR(VLOOKUP(AK22,Tabelas!B:D,3,0),0),\"\")","v":0}]
["Thais Rossoni Weber da Silva ",2676080,14819,"Médico","RJU",20,null,null,"D6","T15",null,null,null,null,null,"D6","T15",null,null,null,null,null,"D6","T15",null,null,null,null,null,"D6","T15",null,null,null,null,null,"D6"]
["Gabriel Dotta",1212525,17906,"Médico","EBSERH",24,null,null,null,"M15","M15","M15","M15",null,null,null,"M15","M15","M15","M15",null,null,null,"M15","M15","M15","M15",null,null,null,"M15","M15","M15","M15",null,null,null,{"$f":"IF(A24<>\"\",IFERROR(VLOOKUP(G24,Tabelas!B:D,3,0),0),\"\")","v":0},{"$f":"IF(A24<>\"\",IFERROR(VLOOKUP(H24,Tabelas!B:D,3,0),0),\"\")","v":0},{"$f":"IF(A24<>\"\",IFERROR(VLOOKUP(I24,Tabelas!B:D,3,0),0),\"\")","v":0},{"$f":"IF(A24<>\"\",IFERROR(VLOOKUP(J24,Tabelas!B:D,3,0),0),\"\")","v":6},{"$f":"IF(A24<>\"\",IFERROR(VLOOKUP(K24,Tabelas!B:D,3,0),0),\"\")","v":6},{"$f":"IF(A24<>\"\",IFERROR(VLOOKUP(L24,Tabelas!B:D,3,0),0),\"\")","v":6},{"$f":"IF(A24<>\"\",IFERROR(VLOOKUP(M24,Tabelas!B:D,3,0),0),\"\")","v":6},{"$f":"IF(A24<>\"\",IFERROR(VLOOKUP(N24,Tabelas!B:D,3,0),0),\"\")","v":0},{"$f":"IF(A24<>\"\",IFERROR(VLOOKUP(O24,Tabelas!B:D,3,0),0),\"\")","v":0},{"$f":"IF(A24<>\"\",IFERROR(VLOOKUP(P24,Tabelas!B:D,3,0),0),\"\")","v":0},{"$f":"IF(A24<>\"\",IFERROR(VLOOKUP(Q24,Tabelas!B:D,3,0),0),\"\")","v":6},{"$f":"IF(A24<>\"\",IFERROR(VLOOKUP(R24,Tabelas!B:D,3,0),0),\"\")","v":6},{"$f":"IF(A24<>\"\",IFERROR(VLOOKUP(S24,Tabelas!B:D,3,0),0),\"\")","v":6},{"$f":"IF(A24<>\"\",IFERROR(VLOOKUP(T24,Tabelas!B:D,3,0),0),\"\")","v":6},{"$f":"IF(A24<>\"\",IFERROR(VLOOKUP(U24,Tabelas!B:D,3,0),0),\"\")","v":0},{"$f":"IF(A24<>\"\",IFERROR(VLOOKUP(V24,Tabelas!B:D,3,0),0),\"\")","v":0},{"$f":"IF(A24<>\"\",IFERROR(VLOOKUP(W24,Tabelas!B:D,3,0),0),\"\")","v":0},{"$f":"IF(A24<>\"\",IFERROR(VLOOKUP(X24,Tabelas!B:D,3,0),0),\"\")","v":6},{"$f":"IF(A24<>\"\",IFERROR(VLOOKUP(Y24,Tabelas!B:D,3,0),0),\"\")","v":6},{"$f":"IF(A24<>\"\",IFERROR(VLOOKUP(Z24,Tabelas!B:D,3,0),0),\"\")","v":6},{"$f":"IF(A24<>\"\",IFERROR(VLOOKUP(AA24,Tabelas!B:D,3,0),0),\"\")","v":6},{"$f":"IF(A24<>\"\",IFERROR(VLOOKUP(AB24,Tabelas!B:D,3,0),0),\"\")","v":0},{"$f":"IF(A24<>\"\",IFERROR(VLOOKUP(AC24,Tabelas!B:D,3,0),0),\"\")","v":0},{"$f":"IF(A24<>\"\",IFERROR(VLOOKUP(AD24,Tabelas!B:D,3,0),0),\"\")","v":0},{"$f":"IF(A24<>\"\",IFERROR(VLOOKUP(AE24,Tabelas!B:D,3,0),0),\"\")","v":6},{"$f":"IF(A24<>\"\",IFERROR(VLOOKUP(AF24,Tabelas!B:D,3,0),0),\"\")","v":6},{"$f":"IF(A24<>\"\",IFERROR(VLOOKUP(AG24,Tabelas!B:D,3,0),0),\"\")","v":6},{"$f":"IF(A24<>\"\",IFERROR(VLOOKUP(AH24,Tabelas!B:D,3,0),0),\"\")","v":6},{"$f":"IF(A24<>\"\",IFERROR(VLOOKUP(AI24,Tabelas!B:D,3,0),0),\"\")","v":0},{"$f":"IF(A24<>\"\",IFERROR(VLOOKUP(AJ24,Tabelas!B:D,3,0),0),\"\")","v":0},{"$f":"IF(A24<>\"\",IFERROR(VLOOKUP(AK24,Tabelas!B:D,3,0),0),\"\")","v":0}]
["Ademilson Rogerio Ferreira",1088725,16287,"Médico","EBSERH",24,null,null,"D6",null,"M15",null,"M15",null,null,"D6",null,"M15",null,"M15",null,null,"D6",null,"M15",null,"M15",null,null,"D6",null,"M15",null,"M15",null,null,"D6",{"$f":"IF(A25<>\"\",IFERROR(VLOOKUP(G25,Tabelas!B:D,3,0),0),\"\")","v":0},{"$f":"IF(A25<>\"\",IFERROR(VLOOKUP(H25,Tabelas!B:D,3,0),0),\"\")","v":0},{"$f":"IF(A25<>\"\",IFERROR(VLOOKUP(I25,Tabelas!B:D,3,0),0),\"\")","v":12},{"$f":"IF(A25<>\"\",IFERROR(VLOOKUP(J25,Tabelas!B:D,3,0),0),\"\")","v":0},{"$f":"IF(A25<>\"\",IFERROR(VLOOKUP(K25,Tabelas!B:D,3,0),0),\"\")","v":6},{"$f":"IF(A25<>\"\",IFERROR(VLOOKUP(L25,Tabelas!B:D,3,0),0),\"\")","v":0},{"$f":"IF(A25<>\"\",IFERROR(VLOOKUP(M25,Tabelas!B:D,3,0),0),\"\")","v":6},{"$f":"IF(A25<>\"\",IFERROR(VLOOKUP(N25,Tabelas!B:D,3,0),0),\"\")","v":0},{"$f":"IF(A25<>\"\",IFERROR(VLOOKUP(O25,Tabelas!B:D,3,0),0),\"\")","v":0},{"$f":"IF(A25<>\"\",IFERROR(VLOOKUP(P25,Tabelas!B:D,3,0),0),\"\")","v":12},{"$f":"IF(A25<>\"\",IFERROR(VLOOKUP(Q25,Tabelas!B:D,3,0),0),\"\")","v":0},{"$f":"IF(A25<>\"\",IFERROR(VLOOKUP(R25,Tabelas!B:D,3,0),0),\"\")","v":6},{"$f":"IF(A25<>\"\",IFERROR(VLOOKUP(S25,Tabelas!B:D,3,0),0),\"\")","v":0},{"$f":"IF(A25<>\"\",IFERROR(VLOOKUP(T25,Tabelas!B:D,3,0),0),\"\")","v":6},{"$f":"IF(A25<>\"\",IFERROR(VLOOKUP(U25,Tabelas!B:D,3,0),0),\"\")","v":0},{"$f":"IF(A25<>\"\",IFERROR(VLOOKUP(V25,Tabelas!B:D,3,0),0),\"\")","v":0},{"$f":"IF(A25<>\"\",IFERROR(VLOOKUP(W25,Tabelas!B:D,3,0),0),\"\")","v":12},{"$f":"IF(A25<>\"\",IFERROR(VLOOKUP(X25,Tabelas!B:D,3,0),0),\"\")","v":0},{"$f":"IF(A25<>\"\",IFERROR(VLOOKUP(Y25,Tabelas!B:D,3,0),0),\"\")","v":6},{"$f":"IF(A25<>\"\",IFERROR(VLOOKUP(Z25,Tabelas!B:D,3,0),0),\"\")","v":0},{"$f":"IF(A25<>\"\",IFERROR(VLOOKUP(AA25,Tabelas!B:D,3,0),0),\"\")","v":6},{"$f":"IF(A25<>\"\",IFERROR(VLOOKUP(AB25,Tabelas!B:D,3,0),0),\"\")","v":0},{"$f":"IF(A25<>\"\",IFERROR(VLOOKUP(AC25,Tabelas!B:D,3,0),0),\"\")","v":0},{"$f":"IF(A25<>\"\",IFERROR(VLOOKUP(AD25,Tabelas!B:D,3,0),0),\"\")","v":12},{"$f":"IF(A25<>\"\",IFERROR(VLOOKUP(AE25,Tabelas!B:D,3,0),0),\"\")","v":0},{"$f":"IF(A25<>\"\",IFERROR(VLOOKUP(AF25,Tabelas!B:D,3,0),0),\"\")","v":6},{"$f":"IF(A25<>\"\",IFERROR(VLOOKUP(AG25,Tabelas!B:D,3,0),0),\"\")","v":0},{"$f":"IF(A25<>\"\",IFERROR(VLOOKUP(AH25,Tabelas!B:D,3,0),0),\"\")","v":6},{"$f":"IF(A25<>\"\",IFERROR(VLOOKUP(AI25,Tabelas!B:D,3,0),0),\"\")","v":0},{"$f":"IF(A25<>\"\",IFERROR(VLOOKUP(AJ25,Tabelas!B:D,3,0),0),\"\")","v":0},{"$f":"IF(A25<>\"\",IFERROR(VLOOKUP(AK25,Tabelas!B:D,3,0),0),\"\")","v":12}]
["PNEUMOLOGIA ",null,null,null,null,null,null,null,null,null,null,null,null,null,null,null,null,null,null,null,null,null,null,null,null,null,null,null,null,null,null,null,null,null,null,null,null,{"$f":"IF(A26<>\"\",IFERROR(VLOOKUP(G26,Tabelas!B:D,3,0),0),\"\")","v":0},{"$f":"IF(A26<>\"\",IFERROR(VLOOKUP(H26,Tabelas!B:D,3,0),0),\"\")","v":0},{"$f":"IF(A26<>\"\",IFERROR(VLOOKUP(I26,Tabelas!B:D,3,0),0),\"\")","v":0},{"$f":"IF(A26<>\"\",IFERROR(VLOOKUP(J26,Tabelas!B:D,3,0),0),\"\")","v":0},{"$f":"IF(A26<>\"\",IFERROR(VLOOKUP(K26,Tabelas!B:D,3,0),0),\"\")","v":0},{"$f":"IF(A26<>\"\",IFERROR(VLOOKUP(L26,Tabelas!B:D,3,0),0),\"\")","v":0},{"$f":"IF(A26<>\"\",IFERROR(VLOOKUP(M26,Tabelas!B:D,3,0),0),\"\")","v":0},{"$f":"IF(A26<>\"\",IFERROR(VLOOKUP(N26,Tabelas!B:D,3,0),0),\"\")","v":0},{"$f":"IF(A26<>\"\",IFERROR(VLOOKUP(O26,Tabelas!B:D,3,0),0),\"\")","v":0},{"$f":"IF(A26<>\"\",IFERROR(VLOOKUP(P26,Tabelas!B:D,3,0),0),\"\")","v":0},{"$f":"IF(A26<>\"\",IFERROR(VLOOKUP(Q26,Tabelas!B:D,3,0),0),\"\")","v":0},{"$f":"IF(A26<>\"\",IFERROR(VLOOKUP(R26,Tabelas!B:D,3,0),0),\"\")","v":0},{"$f":"IF(A26<>\"\",IFERROR(VLOOKUP(S26,Tabelas!B:D,3,0),0),\"\")","v":0},{"$f":"IF(A26<>\"\",IFERROR(VLOOKUP(T26,Tabelas!B:D,3,0),0),\"\")","v":0},{"$f":"IF(A26<>\"\",IFERROR(VLOOKUP(U26,Tabelas!B:D,3,0),0),\"\")","v":0},{"$f":"IF(A26<>\"\",IFERROR(VLOOKUP(V26,Tabelas!B:D,3,0),0),\"\")","v":0},{"$f":"IF(A26<>\"\",IFERROR(VLOOKUP(W26,Tabelas!B:D,3,0),0),\"\")","v":0},{"$f":"IF(A26<>\"\",IFERROR(VLOOKUP(X26,Tabelas!B:D,3,0),0),\"\")","v":0},{"$f":"IF(A26<>\"\",IFERROR(VLOOKUP(Y26,Tabelas!B:D,3,0),0),\"\")","v":0},{"$f":"IF(A26<>\"\",IFERROR(VLOOKUP(Z26,Tabelas!B:D,3,0),0),\"\")","v":0},{"$f":"IF(A26<>\"\",IFERROR(VLOOKUP(AA26,Tabelas!B:D,3,0),0),\"\")","v":0},{"$f":"IF(A26<>\"\",IFERROR(VLOOKUP(AB26,Tabelas!B:D,3,0),0),\"\")","v":0},{"$f":"IF(A26<>\"\",IFERROR(VLOOKUP(AC26,Tabelas!B:D,3,0),0),\"\")","v":0},{"$f":"IF(A26<>\"\",IFERROR(VLOOKUP(AD26,Tabelas!B:D,3,0),0),\"\")","v":0},{"$f":"IF(A26<>\"\",IFERROR(VLOOKUP(AE26,Tabelas!B:D,3,0),0),\"\")","v":0},{"$f":"IF(A26<>\"\",IFERROR(VLOOKUP(AF26,Tabelas!B:D,3,0),0),\"\")","v":0},{"$f":"IF(A26<>\"\",IFERROR(VLOOKUP(AG26,Tabelas!B:D,3,0),0),\"\")","v":0},{"$f":"IF(A26<>\"\",IFERROR(VLOOKUP(AH26,Tabelas!B:D,3,0),0),\"\")","v":0},{"$f":"IF(A26<>\"\",IFERROR(VLOOKUP(AI26,Tabelas!B:D,3,0),0),\"\")","v":0},{"$f":"IF(A26<>\"\",IFERROR(VLOOKUP(AJ26,Tabelas!B:D,3,0),0),\"\")","v":0},{"$f":"IF(A26<>\"\",IFERROR(VLOOKUP(AK26,Tabelas!B:D,3,0),0),\"\")","v":0}]
["Elaine Cristina Caon de Souza Bulsing ",2270829,15054,"Médico","RJU",40,null,null,"D6","D6","D6","D6","M15",null,null,"D6","D6","D6","D6","M15",null,null,"D6","D6","D6","D6","M15",null,null,"FE","FE","FE","FE","FE",null,null,"FE",{"$f":"IF(A27<>\"\",IFERROR(VLOOKUP(G27,Tabelas!B:D,3,0),0),\"\")","v":0},{"$f":"IF(A27<>\"\",IFERROR(VLOOKUP(H27,Tabelas!B:D,3,0),0),\"\")","v":0},{"$f":"IF(A27<>\"\",IFERROR(VLOOKUP(I27,Tabelas!B:D,3,0),0),\"\")","v":12},{"$f":"IF(A27<>\"\",IFERROR(VLOOKUP(J27,Tabelas!B:D,3,0),0),\"\")","v":12},{"$f":"IF(A27<>\"\",IFERROR(VLOOKUP(K27,Tabelas!B:D,3,0),0),\"\")","v":12},{"$f":"IF(A27<>\"\",IFERROR(VLOOKUP(L27,Tabelas!B:D,3,0),0),\"\")","v":12},{"$f":"IF(A27<>\"\",IFERROR(VLOOKUP(M27,Tabelas!B:D,3,0),0),\"\")","v":6},{"$f":"IF(A27<>\"\",IFERROR(VLOOKUP(N27,Tabelas!B:D,3,0),0),\"\")","v":0},{"$f":"IF(A27<>\"\",IFERROR(VLOOKUP(O27,Tabelas!B:D,3,0),0),\"\")","v":0},{"$f":"IF(A27<>\"\",IFERROR(VLOOKUP(P27,Tabelas!B:D,3,0),0),\"\")","v":12},{"$f":"IF(A27<>\"\",IFERROR(VLOOKUP(Q27,Tabelas!B:D,3,0),0),\"\")","v":12},{"$f":"IF(A27<>\"\",IFERROR(VLOOKUP(R27,Tabelas!B:D,3,0),0),\"\")","v":12},{"$f":"IF(A27<>\"\",IFERROR(VLOOKUP(S27,Tabelas!B:D,3,0),0),\"\")","v":12},{"$f":"IF(A27<>\"\",IFERROR(VLOOKUP(T27,Tabelas!B:D,3,0),0),\"\")","v":6},{"$f":"IF(A27<>\"\",IFERROR(VLOOKUP(U27,Tabelas!B:D,3,0),0),\"\")","v":0},{"$f":"IF(A27<>\"\",IFERROR(VLOOKUP(V27,Tabelas!B:D,3,0),0),\"\")","v":0},{"$f":"IF(A27<>\"\",IFERROR(VLOOKUP(W27,Tabelas!B:D,3,0),0),\"\")","v":12},{"$f":"IF(A27<>\"\",IFERROR(VLOOKUP(X27,Tabelas!B:D,3,0),0),\"\")","v":12},{"$f":"IF(A27<>\"\",IFERROR(VLOOKUP(Y27,Tabelas!B:D,3,0),0),\"\")","v":12},{"$f":"IF(A27<>\"\",IFERROR(VLOOKUP(Z27,Tabelas!B:D,3,0),0),\"\")","v":12},{"$f":"IF(A27<>\"\",IFERROR(VLOOKUP(AA27,Tabelas!B:D,3,0),0),\"\")","v":6},{"$f":"IF(A27<>\"\",IFERROR(VLOOKUP(AB27,Tabelas!B:D,3,0),0),\"\")","v":0},{"$f":"IF(A27<>\"\",IFERROR(VLOOKUP(AC27,Tabelas!B:D,3,0),0),\"\")","v":0},{"$f":"IF(A27<>\"\",IFERROR(VLOOKUP(AD27,Tabelas!B:D,3,0),0),\"\")","v":0},{"$f":"IF(A27<>\"\",IFERROR(VLOOKUP(AE27,Tabelas!B:D,3,0),0),\"\")","v":0},{"$f":"IF(A27<>\"\",IFERROR(VLOOKUP(AF27,Tabelas!B:D,3,0),0),\"\")","v":0},{"$f":"IF(A27<>\"\",IFERROR(VLOOKUP(AG27,Tabelas!B:D,3,0),0),\"\")","v":0},{"$f":"IF(A27<>\"\",IFERROR(VLOOKUP(AH27,Tabelas!B:D,3,0),0),\"\")","v":0},{"$f":"IF(A27<>\"\",IFERROR(VLOOKUP(AI27,Tabelas!B:D,3,0),0),\"\")","v":0},{"$f":"IF(A27<>\"\",IFERROR(VLOOKUP(AJ27,Tabelas!B:D,3,0),0),\"\")","v":0},{"$f":"IF(A27<>\"\",IFERROR(VLOOKUP(AK27,Tabelas!B:D,3,0),0),\"\")","v":0}]
["Roger Pirath Rodrigues ",1440902,10218,"Médico","RJU",20,null,null,"FE","FE","FE","FE","FE",null,null,"FE","FE","FE","FE","M15",null,null,"M15","M15","M15","T15","M15",null,null,"M15","M15","M15","T15","M15",null,null,"M15",{"$f":"IF(A28<>\"\",IFERROR(VLOOKUP(G28,Tabelas!B:D,3,0),0),\"\")","v":0},{"$f":"IF(A28<>\"\",IFERROR(VLOOKUP(H28,Tabelas!B:D,3,0),0),\"\")","v":0},{"$f":"IF(A28<>\"\",IFERROR(VLOOKUP(I28,Tabelas!B:D,3,0),0),\"\")","v":0},{"$f":"IF(A28<>\"\",IFERROR(VLOOKUP(J28,Tabelas!B:D,3,0),0),\"\")","v":0},{"$f":"IF(A28<>\"\",IFERROR(VLOOKUP(K28,Tabelas!B:D,3,0),0),\"\")","v":0},{"$f":"IF(A28<>\"\",IFERROR(VLOOKUP(L28,Tabelas!B:D,3,0),0),\"\")","v":0},{"$f":"IF(A28<>\"\",IFERROR(VLOOKUP(M28,Tabelas!B:D,3,0),0),\"\")","v":0},{"$f":"IF(A28<>\"\",IFERROR(VLOOKUP(N28,Tabelas!B:D,3,0),0),\"\")","v":0},{"$f":"IF(A28<>\"\",IFERROR(VLOOKUP(O28,Tabelas!B:D,3,0),0),\"\")","v":0},{"$f":"IF(A28<>\"\",IFERROR(VLOOKUP(P28,Tabelas!B:D,3,0),0),\"\")","v":0},{"$f":"IF(A28<>\"\",IFERROR(VLOOKUP(Q28,Tabelas!B:D,3,0),0),\"\")","v":0},{"$f":"IF(A28<>\"\",IFERROR(VLOOKUP(R28,Tabelas!B:D,3,0),0),\"\")","v":0},{"$f":"IF(A28<>\"\",IFERROR(VLOOKUP(S28,Tabelas!B:D,3,0),0),\"\")","v":0},{"$f":"IF(A28<>\"\",IFERROR(VLOOKUP(T28,Tabelas!B:D,3,0),0),\"\")","v":6},{"$f":"IF(A28<>\"\",IFERROR(VLOOKUP(U28,Tabelas!B:D,3,0),0),\"\")","v":0},{"$f":"IF(A28<>\"\",IFERROR(VLOOKUP(V28,Tabelas!B:D,3,0),0),\"\")","v":0},{"$f":"IF(A28<>\"\",IFERROR(VLOOKUP(W28,Tabelas!B:D,3,0),0),\"\")","v":6},{"$f":"IF(A28<>\"\",IFERROR(VLOOKUP(X28,Tabelas!B:D,3,0),0),\"\")","v":6},{"$f":"IF(A28<>\"\",IFERROR(VLOOKUP(Y28,Tabelas!B:D,3,0),0),\"\")","v":6},{"$f":"IF(A28<>\"\",IFERROR(VLOOKUP(Z28,Tabelas!B:D,3,0),0),\"\")","v":6},{"$f":"IF(A28<>\"\",IFERROR(VLOOKUP(AA28,Tabelas!B:D,3,0),0),\"\")","v":6},{"$f":"IF(A28<>\"\",IFERROR(VLOOKUP(AB28,Tabelas!B:D,3,0),0),\"\")","v":0},{"$f":"IF(A28<>\"\",IFERROR(VLOOKUP(AC28,Tabelas!B:D,3,0),0),\"\")","v":0},{"$f":"IF(A28<>\"\",IFERROR(VLOOKUP(AD28,Tabelas!B:D,3,0),0),\"\")","v":6},{"$f":"IF(A28<>\"\",IFERROR(VLOOKUP(AE28,Tabelas!B:D,3,0),0),\"\")","v":6},{"$f":"IF(A28<>\"\",IFERROR(VLOOKUP(AF28,Tabelas!B:D,3,0),0),\"\")","v":6},{"$f":"IF(A28<>\"\",IFERROR(VLOOKUP(AG28,Tabelas!B:D,3,0),0),\"\")","v":6},{"$f":"IF(A28<>\"\",IFERROR(VLOOKUP(AH28,Tabelas!B:D,3,0),0),\"\")","v":6},{"$f":"IF(A28<>\"\",IFERROR(VLOOKUP(AI28,Tabelas!B:D,3,0),0),\"\")","v":0},{"$f":"IF(A28<>\"\",IFERROR(VLOOKUP(AJ28,Tabelas!B:D,3,0),0),\"\")","v":0},{"$f":"IF(A28<>\"\",IFERROR(VLOOKUP(AK28,Tabelas!B:D,3,0),0),\"\")","v":6}]
["Rosimeri Maureci da Silva ",4160231,5465,"Médico","RJU",40,null,null,"FE","FE","FE","FE","FE",null,null,"FE","FE","FE","FE","FE",null,null,"FE","FE","FE","FE","FE",null,null,"FE","FE","FE","FE","FE",null,null,"FE",{"$f":"IF(A29<>\"\",IFERROR(VLOOKUP(G29,Tabelas!B:D,3,0),0),\"\")","v":0},{"$f":"IF(A29<>\"\",IFERROR(VLOOKUP(H29,Tabelas!B:D,3,0),0),\"\")","v":0},{"$f":"IF(A29<>\"\",IFERROR(VLOOKUP(I29,Tabelas!B:D,3,0),0),\"\")","v":0},{"$f":"IF(A29<>\"\",IFERROR(VLOOKUP(J29,Tabelas!B:D,3,0),0),\"\")","v":0},{"$f":"IF(A29<>\"\",IFERROR(VLOOKUP(K29,Tabelas!B:D,3,0),0),\"\")","v":0},{"$f":"IF(A29<>\"\",IFERROR(VLOOKUP(L29,Tabelas!B:D,3,0),0),\"\")","v":0},{"$f":"IF(A29<>\"\",IFERROR(VLOOKUP(M29,Tabelas!B:D,3,0),0),\"\")","v":0},{"$f":"IF(A29<>\"\",IFERROR(VLOOKUP(N29,Tabelas!B:D,3,0),0),\"\")","v":0},{"$f":"IF(A29<>\"\",IFERROR(VLOOKUP(O29,Tabelas!B:D,3,0),0),\"\")","v":0},{"$f":"IF(A29<>\"\",IFERROR(VLOOKUP(P29,Tabelas!B:D,3,0),0),\"\")","v":0},{"$f":"IF(A29<>\"\",IFERROR(VLOOKUP(Q29,Tabelas!B:D,3,0),0),\"\")","v":0},{"$f":"IF(A29<>\"\",IFERROR(VLOOKUP(R29,Tabelas!B:D,3,0),0),\"\")","v":0},{"$f":"IF(A29<>\"\",IFERROR(VLOOKUP(S29,Tabelas!B:D,3,0),0),\"\")","v":0},{"$f":"IF(A29<>\"\",IFERROR(VLOOKUP(T29,Tabelas!B:D,3,0),0),\"\")","v":0},{"$f":"IF(A29<>\"\",IFERROR(VLOOKUP(U29,Tabelas!B:D,3,0),0),\"\")","v":0},{"$f":"IF(A29<>\"\",IFERROR(VLOOKUP(V29,Tabelas!B:D,3,0),0),\"\")","v":0},{"$f":"IF(A29<>\"\",IFERROR(VLOOKUP(W29,Tabelas!B:D,3,0),0),\"\")","v":0},{"$f":"IF(A29<>\"\",IFERROR(VLOOKUP(X29,Tabelas!B:D,3,0),0),\"\")","v":0},{"$f":"IF(A29<>\"\",IFERROR(VLOOKUP(Y29,Tabelas!B:D,3,0),0),\"\")","v":0},{"$f":"IF(A29<>\"\",IFERROR(VLOOKUP(Z29,Tabelas!B:D,3,0),0),\"\")","v":0},{"$f":"IF(A29<>\"\",IFERROR(VLOOKUP(AA29,Tabelas!B:D,3,0),0),\"\")","v":0},{"$f":"IF(A29<>\"\",IFERROR(VLOOKUP(AB29,Tabelas!B:D,3,0),0),\"\")","v":0},{"$f":"IF(A29<>\"\",IFERROR(VLOOKUP(AC29,Tabelas!B:D,3,0),0),\"\")","v":0},{"$f":"IF(A29<>\"\",IFERROR(VLOOKUP(AD29,Tabelas!B:D,3,0),0),\"\")","v":0},{"$f":"IF(A29<>\"\",IFERROR(VLOOKUP(AE29,Tabelas!B:D,3,0),0),\"\")","v":0},{"$f":"IF(A29<>\"\",IFERROR(VLOOKUP(AF29,Tabelas!B:D,3,0),0),\"\")","v":0},{"$f":"IF(A29<>\"\",IFERROR(VLOOKUP(AG29,Tabelas!B:D,3,0),0),\"\")","v":0},{"$f":"IF(A29<>\"\",IFERROR(VLOOKUP(AH29,Tabelas!B:D,3,0),0),\"\")","v":0},{"$f":"IF(A29<>\"\",IFERROR(VLOOKUP(AI29,Tabelas!B:D,3,0),0),\"\")","v":0},{"$f":"IF(A29<>\"\",IFERROR(VLOOKUP(AJ29,Tabelas!B:D,3,0),0),\"\")","v":0},{"$f":"IF(A29<>\"\",IFERROR(VLOOKUP(AK29,Tabelas!B:D,3,0),0),\"\")","v":0}]
["Manuela Brisot Felisbino ",1675761,14805,"Médico","EBSERH",24,null,null,"LM","LM","LM","LM","LM",null,null,"LM","LM","LM","LM","LM",null,null,"LM","LM","LM","LM","LM",null,null,"LM","LM","LM","LM","LM",null,null,"LM",{"$f":"IF(A30<>\"\",IFERROR(VLOOKUP(G30,Tabelas!B:D,3,0),0),\"\")","v":0},{"$f":"IF(A30<>\"\",IFERROR(VLOOKUP(H30,Tabelas!B:D,3,0),0),\"\")","v":0},{"$f":"IF(A30<>\"\",IFERROR(VLOOKUP(I30,Tabelas!B:D,3,0),0),\"\")","v":0},{"$f":"IF(A30<>\"\",IFERROR(VLOOKUP(J30,Tabelas!B:D,3,0),0),\"\")","v":0},{"$f":"IF(A30<>\"\",IFERROR(VLOOKUP(K30,Tabelas!B:D,3,0),0),\"\")","v":0},{"$f":"IF(A30<>\"\",IFERROR(VLOOKUP(L30,Tabelas!B:D,3,0),0),\"\")","v":0},{"$f":"IF(A30<>\"\",IFERROR(VLOOKUP(M30,Tabelas!B:D,3,0),0),\"\")","v":0},{"$f":"IF(A30<>\"\",IFERROR(VLOOKUP(N30,Tabelas!B:D,3,0),0),\"\")","v":0},{"$f":"IF(A30<>\"\",IFERROR(VLOOKUP(O30,Tabelas!B:D,3,0),0),\"\")","v":0},{"$f":"IF(A30<>\"\",IFERROR(VLOOKUP(P30,Tabelas!B:D,3,0),0),\"\")","v":0},{"$f":"IF(A30<>\"\",IFERROR(VLOOKUP(Q30,Tabelas!B:D,3,0),0),\"\")","v":0},{"$f":"IF(A30<>\"\",IFERROR(VLOOKUP(R30,Tabelas!B:D,3,0),0),\"\")","v":0},{"$f":"IF(A30<>\"\",IFERROR(VLOOKUP(S30,Tabelas!B:D,3,0),0),\"\")","v":0},{"$f":"IF(A30<>\"\",IFERROR(VLOOKUP(T30,Tabelas!B:D,3,0),0),\"\")","v":0},{"$f":"IF(A30<>\"\",IFERROR(VLOOKUP(U30,Tabelas!B:D,3,0),0),\"\")","v":0},{"$f":"IF(A30<>\"\",IFERROR(VLOOKUP(V30,Tabelas!B:D,3,0),0),\"\")","v":0},{"$f":"IF(A30<>\"\",IFERROR(VLOOKUP(W30,Tabelas!B:D,3,0),0),\"\")","v":0},{"$f":"IF(A30<>\"\",IFERROR(VLOOKUP(X30,Tabelas!B:D,3,0),0),\"\")","v":0},{"$f":"IF(A30<>\"\",IFERROR(VLOOKUP(Y30,Tabelas!B:D,3,0),0),\"\")","v":0},{"$f":"IF(A30<>\"\",IFERROR(VLOOKUP(Z30,Tabelas!B:D,3,0),0),\"\")","v":0},{"$f":"IF(A30<>\"\",IFERROR(VLOOKUP(AA30,Tabelas!B:D,3,0),0),\"\")","v":0},{"$f":"IF(A30<>\"\",IFERROR(VLOOKUP(AB30,Tabelas!B:D,3,0),0),\"\")","v":0},{"$f":"IF(A30<>\"\",IFERROR(VLOOKUP(AC30,Tabelas!B:D,3,0),0),\"\")","v":0},{"$f":"IF(A30<>\"\",IFERROR(VLOOKUP(AD30,Tabelas!B:D,3,0),0),\"\")","v":0},{"$f":"IF(A30<>\"\",IFERROR(VLOOKUP(AE30,Tabelas!B:D,3,0),0),\"\")","v":0},{"$f":"IF(A30<>\"\",IFERROR(VLOOKUP(AF30,Tabelas!B:D,3,0),0),\"\")","v":0},{"$f":"IF(A30<>\"\",IFERROR(VLOOKUP(AG30,Tabelas!B:D,3,0),0),\"\")","v":0},{"$f":"IF(A30<>\"\",IFERROR(VLOOKUP(AH30,Tabelas!B:D,3,0),0),\"\")","v":0},{"$f":"IF(A30<>\"\",IFERROR(VLOOKUP(AI30,Tabelas!B:D,3,0),0),\"\")","v":0},{"$f":"IF(A30<>\"\",IFERROR(VLOOKUP(AJ30,Tabelas!B:D,3,0),0),\"\")","v":0},{"$f":"IF(A30<>\"\",IFERROR(VLOOKUP(AK30,Tabelas!B:D,3,0),0),\"\")","v":0}]
["Pablo Moritz ",2312594,6566,"Médico","RJU",20,null,null,"M15","T15","M15","M15","M15",null,null,"M15","T15","M15","M15","M15",null,null,"FE","FE","FE","FE","FE",null,null,"FE","FE","FE","FE","FE",null,null,"FE",{"$f":"IF(A31<>\"\",IFERROR(VLOOKUP(G31,Tabelas!B:D,3,0),0),\"\")","v":0},{"$f":"IF(A31<>\"\",IFERROR(VLOOKUP(H31,Tabelas!B:D,3,0),0),\"\")","v":0},{"$f":"IF(A31<>\"\",IFERROR(VLOOKUP(I31,Tabelas!B:D,3,0),0),\"\")","v":6},{"$f":"IF(A31<>\"\",IFERROR(VLOOKUP(J31,Tabelas!B:D,3,0),0),\"\")","v":6},{"$f":"IF(A31<>\"\",IFERROR(VLOOKUP(K31,Tabelas!B:D,3,0),0),\"\")","v":6},{"$f":"IF(A31<>\"\",IFERROR(VLOOKUP(L31,Tabelas!B:D,3,0),0),\"\")","v":6},{"$f":"IF(A31<>\"\",IFERROR(VLOOKUP(M31,Tabelas!B:D,3,0),0),\"\")","v":6},{"$f":"IF(A31<>\"\",IFERROR(VLOOKUP(N31,Tabelas!B:D,3,0),0),\"\")","v":0},{"$f":"IF(A31<>\"\",IFERROR(VLOOKUP(O31,Tabelas!B:D,3,0),0),\"\")","v":0},{"$f":"IF(A31<>\"\",IFERROR(VLOOKUP(P31,Tabelas!B:D,3,0),0),\"\")","v":6},{"$f":"IF(A31<>\"\",IFERROR(VLOOKUP(Q31,Tabelas!B:D,3,0),0),\"\")","v":6},{"$f":"IF(A31<>\"\",IFERROR(VLOOKUP(R31,Tabelas!B:D,3,0),0),\"\")","v":6},{"$f":"IF(A31<>\"\",IFERROR(VLOOKUP(S31,Tabelas!B:D,3,0),0),\"\")","v":6},{"$f":"IF(A31<>\"\",IFERROR(VLOOKUP(T31,Tabelas!B:D,3,0),0),\"\")","v":6},{"$f":"IF(A31<>\"\",IFERROR(VLOOKUP(U31,Tabelas!B:D,3,0),0),\"\")","v":0},{"$f":"IF(A31<>\"\",IFERROR(VLOOKUP(V31,Tabelas!B:D,3,0),0),\"\")","v":0},{"$f":"IF(A31<>\"\",IFERROR(VLOOKUP(W31,Tabelas!B:D,3,0),0),\"\")","v":0},{"$f":"IF(A31<>\"\",IFERROR(VLOOKUP(X31,Tabelas!B:D,3,0),0),\"\")","v":0},{"$f":"IF(A31<>\"\",IFERROR(VLOOKUP(Y31,Tabelas!B:D,3,0),0),\"\")","v":0},{"$f":"IF(A31<>\"\",IFERROR(VLOOKUP(Z31,Tabelas!B:D,3,0),0),\"\")","v":0},{"$f":"IF(A31<>\"\",IFERROR(VLOOKUP(AA31,Tabelas!B:D,3,0),0),\"\")","v":0},{"$f":"IF(A31<>\"\",IFERROR(VLOOKUP(AB31,Tabelas!B:D,3,0),0),\"\")","v":0},{"$f":"IF(A31<>\"\",IFERROR(VLOOKUP(AC31,Tabelas!B:D,3,0),0),\"\")","v":0},{"$f":"IF(A31<>\"\",IFERROR(VLOOKUP(AD31,Tabelas!B:D,3,0),0),\"\")","v":0},{"$f":"IF(A31<>\"\",IFERROR(VLOOKUP(AE31,Tabelas!B:D,3,0),0),\"\")","v":0},{"$f":"IF(A31<>\"\",IFERROR(VLOOKUP(AF31,Tabelas!B:D,3,0),0),\"\")","v":0},{"$f":"IF(A31<>\"\",IFERROR(VLOOKUP(AG31,Tabelas!B:D,3,0),0),\"\")","v":0},{"$f":"IF(A31<>\"\",IFERROR(VLOOKUP(AH31,Tabelas!B:D,3,0),0),\"\")","v":0},{"$f":"IF(A31<>\"\",IFERROR(VLOOKUP(AI31,Tabelas!B:D,3,0),0),\"\")","v":0},{"$f":"IF(A31<>\"\",IFERROR(VLOOKUP(AJ31,Tabelas!B:D,3,0),0),\"\")","v":0},{"$f":"IF(A31<>\"\",IFERROR(VLOOKUP(AK31,Tabelas!B:D,3,0),0),\"\")","v":0}]
["ENDOCRINOLOGIA ",null,null,null,null,null,null,null,null,null,null,null,null,null,null,null,null,null,null,null,null,null,null,null,null,null,null,null,null,null,null,null,null,null,null,null,null,{"$f":"IF(A32<>\"\",IFERROR(VLOOKUP(G32,Tabelas!B:D,3,0),0),\"\")","v":0},{"$f":"IF(A32<>\"\",IFERROR(VLOOKUP(H32,Tabelas!B:D,3,0),0),\"\")","v":0},{"$f":"IF(A32<>\"\",IFERROR(VLOOKUP(I32,Tabelas!B:D,3,0),0),\"\")","v":0},{"$f":"IF(A32<>\"\",IFERROR(VLOOKUP(J32,Tabelas!B:D,3,0),0),\"\")","v":0},{"$f":"IF(A32<>\"\",IFERROR(VLOOKUP(K32,Tabelas!B:D,3,0),0),\"\")","v":0},{"$f":"IF(A32<>\"\",IFERROR(VLOOKUP(L32,Tabelas!B:D,3,0),0),\"\")","v":0},{"$f":"IF(A32<>\"\",IFERROR(VLOOKUP(M32,Tabelas!B:D,3,0),0),\"\")","v":0},{"$f":"IF(A32<>\"\",IFERROR(VLOOKUP(N32,Tabelas!B:D,3,0),0),\"\")","v":0},{"$f":"IF(A32<>\"\",IFERROR(VLOOKUP(O32,Tabelas!B:D,3,0),0),\"\")","v":0},{"$f":"IF(A32<>\"\",IFERROR(VLOOKUP(P32,Tabelas!B:D,3,0),0),\"\")","v":0},{"$f":"IF(A32<>\"\",IFERROR(VLOOKUP(Q32,Tabelas!B:D,3,0),0),\"\")","v":0},{"$f":"IF(A32<>\"\",IFERROR(VLOOKUP(R32,Tabelas!B:D,3,0),0),\"\")","v":0},{"$f":"IF(A32<>\"\",IFERROR(VLOOKUP(S32,Tabelas!B:D,3,0),0),\"\")","v":0},{"$f":"IF(A32<>\"\",IFERROR(VLOOKUP(T32,Tabelas!B:D,3,0),0),\"\")","v":0},{"$f":"IF(A32<>\"\",IFERROR(VLOOKUP(U32,Tabelas!B:D,3,0),0),\"\")","v":0},{"$f":"IF(A32<>\"\",IFERROR(VLOOKUP(V32,Tabelas!B:D,3,0),0),\"\")","v":0},{"$f":"IF(A32<>\"\",IFERROR(VLOOKUP(W32,Tabelas!B:D,3,0),0),\"\")","v":0},{"$f":"IF(A32<>\"\",IFERROR(VLOOKUP(X32,Tabelas!B:D,3,0),0),\"\")","v":0},{"$f":"IF(A32<>\"\",IFERROR(VLOOKUP(Y32,Tabelas!B:D,3,0),0),\"\")","v":0},{"$f":"IF(A32<>\"\",IFERROR(VLOOKUP(Z32,Tabelas!B:D,3,0),0),\"\")","v":0},{"$f":"IF(A32<>\"\",IFERROR(VLOOKUP(AA32,Tabelas!B:D,3,0),0),\"\")","v":0},{"$f":"IF(A32<>\"\",IFERROR(VLOOKUP(AB32,Tabelas!B:D,3,0),0),\"\")","v":0},{"$f":"IF(A32<>\"\",IFERROR(VLOOKUP(AC32,Tabelas!B:D,3,0),0),\"\")","v":0},{"$f":"IF(A32<>\"\",IFERROR(VLOOKUP(AD32,Tabelas!B:D,3,0),0),\"\")","v":0},{"$f":"IF(A32<>\"\",IFERROR(VLOOKUP(AE32,Tabelas!B:D,3,0),0),\"\")","v":0},{"$f":"IF(A32<>\"\",IFERROR(VLOOKUP(AF32,Tabelas!B:D,3,0),0),\"\")","v":0},{"$f":"IF(A32<>\"\",IFERROR(VLOOKUP(AG32,Tabelas!B:D,3,0),0),\"\")","v":0},{"$f":"IF(A32<>\"\",IFERROR(VLOOKUP(AH32,Tabelas!B:D,3,0),0),\"\")","v":0},{"$f":"IF(A32<>\"\",IFERROR(VLOOKUP(AI32,Tabelas!B:D,3,0),0),\"\")","v":0},{"$f":"IF(A32<>\"\",IFERROR(VLOOKUP(AJ32,Tabelas!B:D,3,0),0),\"\")","v":0},{"$f":"IF(A32<>\"\",IFERROR(VLOOKUP(AK32,Tabelas!B:D,3,0),0),\"\")","v":0}]
["Emerson Leonildo Marques",2442492,10981,"Médico","RJU",30,null,null,"FE","FE","FE","FE","FE",null,null,"FE","FE","FE","FE","FE",null,null,"M15","M15","T15","M15","T15",null,null,"M15","M15","T15","M15","T15",null,null,"M15",{"$f":"IF(A33<>\"\",IFERROR(VLOOKUP(G33,Tabelas!B:D,3,0),0),\"\")","v":0},{"$f":"IF(A33<>\"\",IFERROR(VLOOKUP(H33,Tabelas!B:D,3,0),0),\"\")","v":0},{"$f":"IF(A33<>\"\",IFERROR(VLOOKUP(I33,Tabelas!B:D,3,0),0),\"\")","v":0},{"$f":"IF(A33<>\"\",IFERROR(VLOOKUP(J33,Tabelas!B:D,3,0),0),\"\")","v":0},{"$f":"IF(A33<>\"\",IFERROR(VLOOKUP(K33,Tabelas!B:D,3,0),0),\"\")","v":0},{"$f":"IF(A33<>\"\",IFERROR(VLOOKUP(L33,Tabelas!B:D,3,0),0),\"\")","v":0},{"$f":"IF(A33<>\"\",IFERROR(VLOOKUP(M33,Tabelas!B:D,3,0),0),\"\")","v":0},{"$f":"IF(A33<>\"\",IFERROR(VLOOKUP(N33,Tabelas!B:D,3,0),0),\"\")","v":0},{"$f":"IF(A33<>\"\",IFERROR(VLOOKUP(O33,Tabelas!B:D,3,0),0),\"\")","v":0},{"$f":"IF(A33<>\"\",IFERROR(VLOOKUP(P33,Tabelas!B:D,3,0),0),\"\")","v":0},{"$f":"IF(A33<>\"\",IFERROR(VLOOKUP(Q33,Tabelas!B:D,3,0),0),\"\")","v":0},{"$f":"IF(A33<>\"\",IFERROR(VLOOKUP(R33,Tabelas!B:D,3,0),0),\"\")","v":0},{"$f":"IF(A33<>\"\",IFERROR(VLOOKUP(S33,Tabelas!B:D,3,0),0),\"\")","v":0},{"$f":"IF(A33<>\"\",IFERROR(VLOOKUP(T33,Tabelas!B:D,3,0),0),\"\")","v":0},{"$f":"IF(A33<>\"\",IFERROR(VLOOKUP(U33,Tabelas!B:D,3,0),0),\"\")","v":0},{"$f":"IF(A33<>\"\",IFERROR(VLOOKUP(V33,Tabelas!B:D,3,0),0),\"\")","v":0},{"$f":"IF(A33<>\"\",IFERROR(VLOOKUP(W33,Tabelas!B:D,3,0),0),\"\")","v":6},{"$f":"IF(A33<>\"\",IFERROR(VLOOKUP(X33,Tabelas!B:D,3,0),0),\"\")","v":6},{"$f":"IF(A33<>\"\",IFERROR(VLOOKUP(Y33,Tabelas!B:D,3,0),0),\"\")","v":6},{"$f":"IF(A33<>\"\",IFERROR(VLOOKUP(Z33,Tabelas!B:D,3,0),0),\"\")","v":6},{"$f":"IF(A33<>\"\",IFERROR(VLOOKUP(AA33,Tabelas!B:D,3,0),0),\"\")","v":6},{"$f":"IF(A33<>\"\",IFERROR(VLOOKUP(AB33,Tabelas!B:D,3,0),0),\"\")","v":0},{"$f":"IF(A33<>\"\",IFERROR(VLOOKUP(AC33,Tabelas!B:D,3,0),0),\"\")","v":0},{"$f":"IF(A33<>\"\",IFERROR(VLOOKUP(AD33,Tabelas!B:D,3,0),0),\"\")","v":6},{"$f":"IF(A33<>\"\",IFERROR(VLOOKUP(AE33,Tabelas!B:D,3,0),0),\"\")","v":6},{"$f":"IF(A33<>\"\",IFERROR(VLOOKUP(AF33,Tabelas!B:D,3,0),0),\"\")","v":6},{"$f":"IF(A33<>\"\",IFERROR(VLOOKUP(AG33,Tabelas!B:D,3,0),0),\"\")","v":6},{"$f":"IF(A33<>\"\",IFERROR(VLOOKUP(AH33,Tabelas!B:D,3,0),0),\"\")","v":6},{"$f":"IF(A33<>\"\",IFERROR(VLOOKUP(AI33,Tabelas!B:D,3,0),0),\"\")","v":0},{"$f":"IF(A33<>\"\",IFERROR(VLOOKUP(AJ33,Tabelas!B:D,3,0),0),\"\")","v":0},{"$f":"IF(A33<>\"\",IFERROR(VLOOKUP(AK33,Tabelas!B:D,3,0),0),\"\")","v":6}]
["Giovani Colombo",1361629,6745,"Médico","RJU",30,null,null,"FE","FE","FE","FE","FE",null,null,"M15","T15","M15","M15","M15",null,null,"M15","T15","M15","M15","M15",null,null,"M15","T15","M15","M15","M15",null,null,"M15",{"$f":"IF(A34<>\"\",IFERROR(VLOOKUP(G34,Tabelas!B:D,3,0),0),\"\")","v":0},{"$f":"IF(A34<>\"\",IFERROR(VLOOKUP(H34,Tabelas!B:D,3,0),0),\"\")","v":0},{"$f":"IF(A34<>\"\",IFERROR(VLOOKUP(I34,Tabelas!B:D,3,0),0),\"\")","v":0},{"$f":"IF(A34<>\"\",IFERROR(VLOOKUP(J34,Tabelas!B:D,3,0),0),\"\")","v":0},{"$f":"IF(A34<>\"\",IFERROR(VLOOKUP(K34,Tabelas!B:D,3,0),0),\"\")","v":0},{"$f":"IF(A34<>\"\",IFERROR(VLOOKUP(L34,Tabelas!B:D,3,0),0),\"\")","v":0},{"$f":"IF(A34<>\"\",IFERROR(VLOOKUP(M34,Tabelas!B:D,3,0),0),\"\")","v":0},{"$f":"IF(A34<>\"\",IFERROR(VLOOKUP(N34,Tabelas!B:D,3,0),0),\"\")","v":0},{"$f":"IF(A34<>\"\",IFERROR(VLOOKUP(O34,Tabelas!B:D,3,0),0),\"\")","v":0},{"$f":"IF(A34<>\"\",IFERROR(VLOOKUP(P34,Tabelas!B:D,3,0),0),\"\")","v":6},{"$f":"IF(A34<>\"\",IFERROR(VLOOKUP(Q34,Tabelas!B:D,3,0),0),\"\")","v":6},{"$f":"IF(A34<>\"\",IFERROR(VLOOKUP(R34,Tabelas!B:D,3,0),0),\"\")","v":6},{"$f":"IF(A34<>\"\",IFERROR(VLOOKUP(S34,Tabelas!B:D,3,0),0),\"\")","v":6},{"$f":"IF(A34<>\"\",IFERROR(VLOOKUP(T34,Tabelas!B:D,3,0),0),\"\")","v":6},{"$f":"IF(A34<>\"\",IFERROR(VLOOKUP(U34,Tabelas!B:D,3,0),0),\"\")","v":0},{"$f":"IF(A34<>\"\",IFERROR(VLOOKUP(V34,Tabelas!B:D,3,0),0),\"\")","v":0},{"$f":"IF(A34<>\"\",IFERROR(VLOOKUP(W34,Tabelas!B:D,3,0),0),\"\")","v":6},{"$f":"IF(A34<>\"\",IFERROR(VLOOKUP(X34,Tabelas!B:D,3,0),0),\"\")","v":6},{"$f":"IF(A34<>\"\",IFERROR(VLOOKUP(Y34,Tabelas!B:D,3,0),0),\"\")","v":6},{"$f":"IF(A34<>\"\",IFERROR(VLOOKUP(Z34,Tabelas!B:D,3,0),0),\"\")","v":6},{"$f":"IF(A34<>\"\",IFERROR(VLOOKUP(AA34,Tabelas!B:D,3,0),0),\"\")","v":6},{"$f":"IF(A34<>\"\",IFERROR(VLOOKUP(AB34,Tabelas!B:D,3,0),0),\"\")","v":0},{"$f":"IF(A34<>\"\",IFERROR(VLOOKUP(AC34,Tabelas!B:D,3,0),0),\"\")","v":0},{"$f":"IF(A34<>\"\",IFERROR(VLOOKUP(AD34,Tabelas!B:D,3,0),0),\"\")","v":6},{"$f":"IF(A34<>\"\",IFERROR(VLOOKUP(AE34,Tabelas!B:D,3,0),0),\"\")","v":6},{"$f":"IF(A34<>\"\",IFERROR(VLOOKUP(AF34,Tabelas!B:D,3,0),0),\"\")","v":6},{"$f":"IF(A34<>\"\",IFERROR(VLOOKUP(AG34,Tabelas!B:D,3,0),0),\"\")","v":6},{"$f":"IF(A34<>\"\",IFERROR(VLOOKUP(AH34,Tabelas!B:D,3,0),0),\"\")","v":6},{"$f":"IF(A34<>\"\",IFERROR(VLOOKUP(AI34,Tabelas!B:D,3,0),0),\"\")","v":0},{"$f":"IF(A34<>\"\",IFERROR(VLOOKUP(AJ34,Tabelas!B:D,3,0),0),\"\")","v":0},{"$f":"IF(A34<>\"\",IFERROR(VLOOKUP(AK34,Tabelas!B:D,3,0),0),\"\")","v":6}]
["Marcelo Ronsoni ",3603274,16049,"Médico","RJU",30,null,null,"T15","M15","T15","M15","M15",null,null,"T15","M15","T15","M15","M15",null,null,"T15","M15","T15","M15","M15",null,null,"T15","M15","T15","M15","M15",null,null,"T15",{"$f":"IF(A35<>\"\",IFERROR(VLOOKUP(G35,Tabelas!B:D,3,0),0),\"\")","v":0},{"$f":"IF(A35<>\"\",IFERROR(VLOOKUP(H35,Tabelas!B:D,3,0),0),\"\")","v":0},{"$f":"IF(A35<>\"\",IFERROR(VLOOKUP(I35,Tabelas!B:D,3,0),0),\"\")","v":6},{"$f":"IF(A35<>\"\",IFERROR(VLOOKUP(J35,Tabelas!B:D,3,0),0),\"\")","v":6},{"$f":"IF(A35<>\"\",IFERROR(VLOOKUP(K35,Tabelas!B:D,3,0),0),\"\")","v":6},{"$f":"IF(A35<>\"\",IFERROR(VLOOKUP(L35,Tabelas!B:D,3,0),0),\"\")","v":6},{"$f":"IF(A35<>\"\",IFERROR(VLOOKUP(M35,Tabelas!B:D,3,0),0),\"\")","v":6},{"$f":"IF(A35<>\"\",IFERROR(VLOOKUP(N35,Tabelas!B:D,3,0),0),\"\")","v":0},{"$f":"IF(A35<>\"\",IFERROR(VLOOKUP(O35,Tabelas!B:D,3,0),0),\"\")","v":0},{"$f":"IF(A35<>\"\",IFERROR(VLOOKUP(P35,Tabelas!B:D,3,0),0),\"\")","v":6},{"$f":"IF(A35<>\"\",IFERROR(VLOOKUP(Q35,Tabelas!B:D,3,0),0),\"\")","v":6},{"$f":"IF(A35<>\"\",IFERROR(VLOOKUP(R35,Tabelas!B:D,3,0),0),\"\")","v":6},{"$f":"IF(A35<>\"\",IFERROR(VLOOKUP(S35,Tabelas!B:D,3,0),0),\"\")","v":6},{"$f":"IF(A35<>\"\",IFERROR(VLOOKUP(T35,Tabelas!B:D,3,0),0),\"\")","v":6},{"$f":"IF(A35<>\"\",IFERROR(VLOOKUP(U35,Tabelas!B:D,3,0),0),\"\")","v":0},{"$f":"IF(A35<>\"\",IFERROR(VLOOKUP(V35,Tabelas!B:D,3,0),0),\"\")","v":0},{"$f":"IF(A35<>\"\",IFERROR(VLOOKUP(W35,Tabelas!B:D,3,0),0),\"\")","v":6},{"$f":"IF(A35<>\"\",IFERROR(VLOOKUP(X35,Tabelas!B:D,3,0),0),\"\")","v":6},{"$f":"IF(A35<>\"\",IFERROR(VLOOKUP(Y35,Tabelas!B:D,3,0),0),\"\")","v":6},{"$f":"IF(A35<>\"\",IFERROR(VLOOKUP(Z35,Tabelas!B:D,3,0),0),\"\")","v":6},{"$f":"IF(A35<>\"\",IFERROR(VLOOKUP(AA35,Tabelas!B:D,3,0),0),\"\")","v":6},{"$f":"IF(A35<>\"\",IFERROR(VLOOKUP(AB35,Tabelas!B:D,3,0),0),\"\")","v":0},{"$f":"IF(A35<>\"\",IFERROR(VLOOKUP(AC35,Tabelas!B:D,3,0),0),\"\")","v":0},{"$f":"IF(A35<>\"\",IFERROR(VLOOKUP(AD35,Tabelas!B:D,3,0),0),\"\")","v":6},{"$f":"IF(A35<>\"\",IFERROR(VLOOKUP(AE35,Tabelas!B:D,3,0),0),\"\")","v":6},{"$f":"IF(A35<>\"\",IFERROR(VLOOKUP(AF35,Tabelas!B:D,3,0),0),\"\")","v":6},{"$f":"IF(A35<>\"\",IFERROR(VLOOKUP(AG35,Tabelas!B:D,3,0),0),\"\")","v":6},{"$f":"IF(A35<>\"\",IFERROR(VLOOKUP(AH35,Tabelas!B:D,3,0),0),\"\")","v":6},{"$f":"IF(A35<>\"\",IFERROR(VLOOKUP(AI35,Tabelas!B:D,3,0),0),\"\")","v":0},{"$f":"IF(A35<>\"\",IFERROR(VLOOKUP(AJ35,Tabelas!B:D,3,0),0),\"\")","v":0},{"$f":"IF(A35<>\"\",IFERROR(VLOOKUP(AK35,Tabelas!B:D,3,0),0),\"\")","v":6}]
["Julia Michels Ferreira",2483669,11398,"Médico","RJU",20,null,null,"FE","FE","FE",null,null,null,null,null,"D6","D6",null,null,null,null,null,"D6","D6",null,null,null,null,null,"D6","D6"]
["Guilherme Asmar Alencar",1369108,29256,"Médico","EBSERH",24,null,null,"D6",null,null,null,"D6",null,null,"D6",null,null,null,"D6",null,null,"D6",null,null,null,"D6",null,null,"D6",null,null,null,"D6",null,null,"D6"]
["Cristina Screiber de Oliveira ",1551454,10134,"Médico","RJU",20,null,null,null,null,null,"FE","FE",null,null,"FE","FE","FE","FE","FE",null,null,null,null,null,"T15",null,null,null,null,null,null,"T15"]
["Mariana Costa Silva Valente (GESTANTE = TRABALHO REMOTO)",1676055,15060,"Médico","EBSERH",24,null,null,null,"D6",null,"D6",null,null,null,null,"D6",null,"D6",null,null,null,null,"D6",null,"D6",null,null,null,null,"D6",null,"D6"]
["ALERGIA ",null,null,null,null,null,null,null,null,null,null,null,null,null,null,null,null,null,null,null,null,null,null,null,null,null,null,null,null,null,null,null,null,null,null,null,null,{"$f":"IF(A40<>\"\",IFERROR(VLOOKUP(G40,Tabelas!B:D,3,0),0),\"\")","v":0},{"$f":"IF(A40<>\"\",IFERROR(VLOOKUP(H40,Tabelas!B:D,3,0),0),\"\")","v":0},{"$f":"IF(A40<>\"\",IFERROR(VLOOKUP(I40,Tabelas!B:D,3,0),0),\"\")","v":0},{"$f":"IF(A40<>\"\",IFERROR(VLOOKUP(J40,Tabelas!B:D,3,0),0),\"\")","v":0},{"$f":"IF(A40<>\"\",IFERROR(VLOOKUP(K40,Tabelas!B:D,3,0),0),\"\")","v":0},{"$f":"IF(A40<>\"\",IFERROR(VLOOKUP(L40,Tabelas!B:D,3,0),0),\"\")","v":0},{"$f":"IF(A40<>\"\",IFERROR(VLOOKUP(M40,Tabelas!B:D,3,0),0),\"\")","v":0},{"$f":"IF(A40<>\"\",IFERROR(VLOOKUP(N40,Tabelas!B:D,3,0),0),\"\")","v":0},{"$f":"IF(A40<>\"\",IFERROR(VLOOKUP(O40,Tabelas!B:D,3,0),0),\"\")","v":0},{"$f":"IF(A40<>\"\",IFERROR(VLOOKUP(P40,Tabelas!B:D,3,0),0),\"\")","v":0},{"$f":"IF(A40<>\"\",IFERROR(VLOOKUP(Q40,Tabelas!B:D,3,0),0),\"\")","v":0},{"$f":"IF(A40<>\"\",IFERROR(VLOOKUP(R40,Tabelas!B:D,3,0),0),\"\")","v":0},{"$f":"IF(A40<>\"\",IFERROR(VLOOKUP(S40,Tabelas!B:D,3,0),0),\"\")","v":0},{"$f":"IF(A40<>\"\",IFERROR(VLOOKUP(T40,Tabelas!B:D,3,0),0),\"\")","v":0},{"$f":"IF(A40<>\"\",IFERROR(VLOOKUP(U40,Tabelas!B:D,3,0),0),\"\")","v":0},{"$f":"IF(A40<>\"\",IFERROR(VLOOKUP(V40,Tabelas!B:D,3,0),0),\"\")","v":0},{"$f":"IF(A40<>\"\",IFERROR(VLOOKUP(W40,Tabelas!B:D,3,0),0),\"\")","v":0},{"$f":"IF(A40<>\"\",IFERROR(VLOOKUP(X40,Tabelas!B:D,3,0),0),\"\")","v":0},{"$f":"IF(A40<>\"\",IFERROR(VLOOKUP(Y40,Tabelas!B:D,3,0),0),\"\")","v":0},{"$f":"IF(A40<>\"\",IFERROR(VLOOKUP(Z40,Tabelas!B:D,3,0),0),\"\")","v":0},{"$f":"IF(A40<>\"\",IFERROR(VLOOKUP(AA40,Tabelas!B:D,3,0),0),\"\")","v":0},{"$f":"IF(A40<>\"\",IFERROR(VLOOKUP(AB40,Tabelas!B:D,3,0),0),\"\")","v":0},{"$f":"IF(A40<>\"\",IFERROR(VLOOKUP(AC40,Tabelas!B:D,3,0),0),\"\")","v":0},{"$f":"IF(A40<>\"\",IFERROR(VLOOKUP(AD40,Tabelas!B:D,3,0),0),\"\")","v":0},{"$f":"IF(A40<>\"\",IFERROR(VLOOKUP(AE40,Tabelas!B:D,3,0),0),\"\")","v":0},{"$f":"IF(A40<>\"\",IFERROR(VLOOKUP(AF40,Tabelas!B:D,3,0),0),\"\")","v":0},{"$f":"IF(A40<>\"\",IFERROR(VLOOKUP(AG40,Tabelas!B:D,3,0),0),\"\")","v":0},{"$f":"IF(A40<>\"\",IFERROR(VLOOKUP(AH40,Tabelas!B:D,3,0),0),\"\")","v":0},{"$f":"IF(A40<>\"\",IFERROR(VLOOKUP(AI40,Tabelas!B:D,3,0),0),\"\")","v":0},{"$f":"IF(A40<>\"\",IFERROR(VLOOKUP(AJ40,Tabelas!B:D,3,0),0),\"\")","v":0},{"$f":"IF(A40<>\"\",IFERROR(VLOOKUP(AK40,Tabelas!B:D,3,0),0),\"\")","v":0}]
["Jane da Silva",2224909,8602,"Médico","RJU",40,null,null,"D6","D6","D6","D6","M15",null,null,"D6","D6","D6","D6","M15",null,null,"D6","D6","D6","D6","M15",null,null,"D6","D6","D6","D6","M15",null,null,"D6"]
["Anne-Rose Leopoldina Wuederkehr Bau ",3050861,21324,"Médico","EBSERH",24,null,null,"T15","T15",null,null,"D6",null,null,"FE","FE","FE","FE","FE",null,null,"FE","FE","FE","FE","FE",null,null,"FE","FE","FE","FE","FE",null,null,"T15"]
["CLINICA MÉDICA ",null,null,null,null,null,null,null,null,null,null,null,null,null,null,null,null,null,null,null,null,null,null,null,null,null,null,null,null,null,null,null,null,null,null,null,null,{"$f":"IF(A43<>\"\",IFERROR(VLOOKUP(G43,Tabelas!B:D,3,0),0),\"\")","v":0},{"$f":"IF(A43<>\"\",IFERROR(VLOOKUP(H43,Tabelas!B:D,3,0),0),\"\")","v":0},{"$f":"IF(A43<>\"\",IFERROR(VLOOKUP(I43,Tabelas!B:D,3,0),0),\"\")","v":0},{"$f":"IF(A43<>\"\",IFERROR(VLOOKUP(J43,Tabelas!B:D,3,0),0),\"\")","v":0},{"$f":"IF(A43<>\"\",IFERROR(VLOOKUP(K43,Tabelas!B:D,3,0),0),\"\")","v":0},{"$f":"IF(A43<>\"\",IFERROR(VLOOKUP(L43,Tabelas!B:D,3,0),0),\"\")","v":0},{"$f":"IF(A43<>\"\",IFERROR(VLOOKUP(M43,Tabelas!B:D,3,0),0),\"\")","v":0},{"$f":"IF(A43<>\"\",IFERROR(VLOOKUP(N43,Tabelas!B:D,3,0),0),\"\")","v":0},{"$f":"IF(A43<>\"\",IFERROR(VLOOKUP(O43,Tabelas!B:D,3,0),0),\"\")","v":0},{"$f":"IF(A43<>\"\",IFERROR(VLOOKUP(P43,Tabelas!B:D,3,0),0),\"\")","v":0},{"$f":"IF(A43<>\"\",IFERROR(VLOOKUP(Q43,Tabelas!B:D,3,0),0),\"\")","v":0},{"$f":"IF(A43<>\"\",IFERROR(VLOOKUP(R43,Tabelas!B:D,3,0),0),\"\")","v":0},{"$f":"IF(A43<>\"\",IFERROR(VLOOKUP(S43,Tabelas!B:D,3,0),0),\"\")","v":0},{"$f":"IF(A43<>\"\",IFERROR(VLOOKUP(T43,Tabelas!B:D,3,0),0),\"\")","v":0},{"$f":"IF(A43<>\"\",IFERROR(VLOOKUP(U43,Tabelas!B:D,3,0),0),\"\")","v":0},{"$f":"IF(A43<>\"\",IFERROR(VLOOKUP(V43,Tabelas!B:D,3,0),0),\"\")","v":0},{"$f":"IF(A43<>\"\",IFERROR(VLOOKUP(W43,Tabelas!B:D,3,0),0),\"\")","v":0},{"$f":"IF(A43<>\"\",IFERROR(VLOOKUP(X43,Tabelas!B:D,3,0),0),\"\")","v":0},{"$f":"IF(A43<>\"\",IFERROR(VLOOKUP(Y43,Tabelas!B:D,3,0),0),\"\")","v":0},{"$f":"IF(A43<>\"\",IFERROR(VLOOKUP(Z43,Tabelas!B:D,3,0),0),\"\")","v":0},{"$f":"IF(A43<>\"\",IFERROR(VLOOKUP(AA43,Tabelas!B:D,3,0),0),\"\")","v":0},{"$f":"IF(A43<>\"\",IFERROR(VLOOKUP(AB43,Tabelas!B:D,3,0),0),\"\")","v":0},{"$f":"IF(A43<>\"\",IFERROR(VLOOKUP(AC43,Tabelas!B:D,3,0),0),\"\")","v":0},{"$f":"IF(A43<>\"\",IFERROR(VLOOKUP(AD43,Tabelas!B:D,3,0),0),\"\")","v":0},{"$f":"IF(A43<>\"\",IFERROR(VLOOKUP(AE43,Tabelas!B:D,3,0),0),\"\")","v":0},{"$f":"IF(A43<>\"\",IFERROR(VLOOKUP(AF43,Tabelas!B:D,3,0),0),\"\")","v":0},{"$f":"IF(A43<>\"\",IFERROR(VLOOKUP(AG43,Tabelas!B:D,3,0),0),\"\")","v":0},{"$f":"IF(A43<>\"\",IFERROR(VLOOKUP(AH43,Tabelas!B:D,3,0),0),\"\")","v":0},{"$f":"IF(A43<>\"\",IFERROR(VLOOKUP(AI43,Tabelas!B:D,3,0),0),\"\")","v":0},{"$f":"IF(A43<>\"\",IFERROR(VLOOKUP(AJ43,Tabelas!B:D,3,0),0),\"\")","v":0},{"$f":"IF(A43<>\"\",IFERROR(VLOOKUP(AK43,Tabelas!B:D,3,0),0),\"\")","v":0}]
["Leonardo Jonk Staub ",2604396,14283,"Médico","RJU",40,null,null,"M15","M15","M15","M15","M15",null,null,"M15","M15","M15","M15","M15",null,null,"M15","M15","M15","M15","M15",null,null,"M15","M15","M15","M15","M15",null,null,"M15"]
["Mario Octavio Thá Marques ",2083850,15051,"Médico","RJU",30,null,null,"M15","M15","M15","M15","M15",null,null,"M15","LP","LP","LP","LP",null,null,"LP","LP","LP","LP","LP",null,null,"LP","LP","LP","LP","LP",null,null,"LP"]
["REUMATOLOGIA ",null,null,null,null,null,null,null,null,null,null,null,null,null,null,null,null,null,null,null,null,null,null,null,null,null,null,null,null,null,null,null,null,null,null,null,null,{"$f":"IF(A46<>\"\",IFERROR(VLOOKUP(G46,Tabelas!B:D,3,0),0),\"\")","v":0},{"$f":"IF(A46<>\"\",IFERROR(VLOOKUP(H46,Tabelas!B:D,3,0),0),\"\")","v":0},{"$f":"IF(A46<>\"\",IFERROR(VLOOKUP(I46,Tabelas!B:D,3,0),0),\"\")","v":0},{"$f":"IF(A46<>\"\",IFERROR(VLOOKUP(J46,Tabelas!B:D,3,0),0),\"\")","v":0},{"$f":"IF(A46<>\"\",IFERROR(VLOOKUP(K46,Tabelas!B:D,3,0),0),\"\")","v":0},{"$f":"IF(A46<>\"\",IFERROR(VLOOKUP(L46,Tabelas!B:D,3,0),0),\"\")","v":0},{"$f":"IF(A46<>\"\",IFERROR(VLOOKUP(M46,Tabelas!B:D,3,0),0),\"\")","v":0},{"$f":"IF(A46<>\"\",IFERROR(VLOOKUP(N46,Tabelas!B:D,3,0),0),\"\")","v":0},{"$f":"IF(A46<>\"\",IFERROR(VLOOKUP(O46,Tabelas!B:D,3,0),0),\"\")","v":0},{"$f":"IF(A46<>\"\",IFERROR(VLOOKUP(P46,Tabelas!B:D,3,0),0),\"\")","v":0},{"$f":"IF(A46<>\"\",IFERROR(VLOOKUP(Q46,Tabelas!B:D,3,0),0),\"\")","v":0},{"$f":"IF(A46<>\"\",IFERROR(VLOOKUP(R46,Tabelas!B:D,3,0),0),\"\")","v":0},{"$f":"IF(A46<>\"\",IFERROR(VLOOKUP(S46,Tabelas!B:D,3,0),0),\"\")","v":0},{"$f":"IF(A46<>\"\",IFERROR(VLOOKUP(T46,Tabelas!B:D,3,0),0),\"\")","v":0},{"$f":"IF(A46<>\"\",IFERROR(VLOOKUP(U46,Tabelas!B:D,3,0),0),\"\")","v":0},{"$f":"IF(A46<>\"\",IFERROR(VLOOKUP(V46,Tabelas!B:D,3,0),0),\"\")","v":0},{"$f":"IF(A46<>\"\",IFERROR(VLOOKUP(W46,Tabelas!B:D,3,0),0),\"\")","v":0},{"$f":"IF(A46<>\"\",IFERROR(VLOOKUP(X46,Tabelas!B:D,3,0),0),\"\")","v":0},{"$f":"IF(A46<>\"\",IFERROR(VLOOKUP(Y46,Tabelas!B:D,3,0),0),\"\")","v":0},{"$f":"IF(A46<>\"\",IFERROR(VLOOKUP(Z46,Tabelas!B:D,3,0),0),\"\")","v":0},{"$f":"IF(A46<>\"\",IFERROR(VLOOKUP(AA46,Tabelas!B:D,3,0),0),\"\")","v":0},{"$f":"IF(A46<>\"\",IFERROR(VLOOKUP(AB46,Tabelas!B:D,3,0),0),\"\")","v":0},{"$f":"IF(A46<>\"\",IFERROR(VLOOKUP(AC46,Tabelas!B:D,3,0),0),\"\")","v":0},{"$f":"IF(A46<>\"\",IFERROR(VLOOKUP(AD46,Tabelas!B:D,3,0),0),\"\")","v":0},{"$f":"IF(A46<>\"\",IFERROR(VLOOKUP(AE46,Tabelas!B:D,3,0),0),\"\")","v":0},{"$f":"IF(A46<>\"\",IFERROR(VLOOKUP(AF46,Tabelas!B:D,3,0),0),\"\")","v":0},{"$f":"IF(A46<>\"\",IFERROR(VLOOKUP(AG46,Tabelas!B:D,3,0),0),\"\")","v":0},{"$f":"IF(A46<>\"\",IFERROR(VLOOKUP(AH46,Tabelas!B:D,3,0),0),\"\")","v":0},{"$f":"IF(A46<>\"\",IFERROR(VLOOKUP(AI46,Tabelas!B:D,3,0),0),\"\")","v":0},{"$f":"IF(A46<>\"\",IFERROR(VLOOKUP(AJ46,Tabelas!B:D,3,0),0),\"\")","v":0},{"$f":"IF(A46<>\"\",IFERROR(VLOOKUP(AK46,Tabelas!B:D,3,0),0),\"\")","v":0}]
["Ivanio Alves Pereira ",278207,5081,"Médico","RJU",20,null,null,"D6","T15",null,"M15","M15",null,null,"D6","T15",null,"M15","M15",null,null,"D6","T15",null,"M15","M15",null,null,"D6","T15",null,"M15","M15",null,null,"D6"]
["Adriana Fontes Zimmermann ",1160584,4120,"Médico","RJU",20,null,null,"M15","M15",null,"M15",null,null,null,"M15","M15",null,"M15",null,null,null,"M15","M15",null,"M15",null,null,null,"M15","M15",null,"M15",null,null,null,"M15"]
["Andressa Miozzo Soares ",1219785,19011,"Médico","EBSERH",24,null,null,"FE","FE","FE","FE","FE",null,null,"FE","FE","FE","FE","FE",null,null,"D6",null,"T15","M15",null,null,null,"D6",null,"T15","M15",null,null,null,"D6"]
["Monique Kowalski Schmitz",3141340,10956,"Médico","EBSERH",24,null,null,"T15","T15",null,"D6",null,null,null,"T15","T15",null,"D6",null,null,null,"T15","T15",null,"D6",null,null,null,"T15","T15",null,"D6",null,null,null,"T15"]
["NEUROLOGIA ",null,null,null,null,null,null,null,null,null,null,null,null,null,null,null,null,null,null,null,null,null,null,null,null,null,null,null,null,null,null,null,null,null,null,null,null,{"$f":"IF(A51<>\"\",IFERROR(VLOOKUP(G51,Tabelas!B:D,3,0),0),\"\")","v":0},{"$f":"IF(A51<>\"\",IFERROR(VLOOKUP(H51,Tabelas!B:D,3,0),0),\"\")","v":0},{"$f":"IF(A51<>\"\",IFERROR(VLOOKUP(I51,Tabelas!B:D,3,0),0),\"\")","v":0},{"$f":"IF(A51<>\"\",IFERROR(VLOOKUP(J51,Tabelas!B:D,3,0),0),\"\")","v":0},{"$f":"IF(A51<>\"\",IFERROR(VLOOKUP(K51,Tabelas!B:D,3,0),0),\"\")","v":0},{"$f":"IF(A51<>\"\",IFERROR(VLOOKUP(L51,Tabelas!B:D,3,0),0),\"\")","v":0},{"$f":"IF(A51<>\"\",IFERROR(VLOOKUP(M51,Tabelas!B:D,3,0),0),\"\")","v":0},{"$f":"IF(A51<>\"\",IFERROR(VLOOKUP(N51,Tabelas!B:D,3,0),0),\"\")","v":0},{"$f":"IF(A51<>\"\",IFERROR(VLOOKUP(O51,Tabelas!B:D,3,0),0),\"\")","v":0},{"$f":"IF(A51<>\"\",IFERROR(VLOOKUP(P51,Tabelas!B:D,3,0),0),\"\")","v":0},{"$f":"IF(A51<>\"\",IFERROR(VLOOKUP(Q51,Tabelas!B:D,3,0),0),\"\")","v":0},{"$f":"IF(A51<>\"\",IFERROR(VLOOKUP(R51,Tabelas!B:D,3,0),0),\"\")","v":0},{"$f":"IF(A51<>\"\",IFERROR(VLOOKUP(S51,Tabelas!B:D,3,0),0),\"\")","v":0},{"$f":"IF(A51<>\"\",IFERROR(VLOOKUP(T51,Tabelas!B:D,3,0),0),\"\")","v":0},{"$f":"IF(A51<>\"\",IFERROR(VLOOKUP(U51,Tabelas!B:D,3,0),0),\"\")","v":0},{"$f":"IF(A51<>\"\",IFERROR(VLOOKUP(V51,Tabelas!B:D,3,0),0),\"\")","v":0},{"$f":"IF(A51<>\"\",IFERROR(VLOOKUP(W51,Tabelas!B:D,3,0),0),\"\")","v":0},{"$f":"IF(A51<>\"\",IFERROR(VLOOKUP(X51,Tabelas!B:D,3,0),0),\"\")","v":0},{"$f":"IF(A51<>\"\",IFERROR(VLOOKUP(Y51,Tabelas!B:D,3,0),0),\"\")","v":0},{"$f":"IF(A51<>\"\",IFERROR(VLOOKUP(Z51,Tabelas!B:D,3,0),0),\"\")","v":0},{"$f":"IF(A51<>\"\",IFERROR(VLOOKUP(AA51,Tabelas!B:D,3,0),0),\"\")","v":0},{"$f":"IF(A51<>\"\",IFERROR(VLOOKUP(AB51,Tabelas!B:D,3,0),0),\"\")","v":0},{"$f":"IF(A51<>\"\",IFERROR(VLOOKUP(AC51,Tabelas!B:D,3,0),0),\"\")","v":0},{"$f":"IF(A51<>\"\",IFERROR(VLOOKUP(AD51,Tabelas!B:D,3,0),0),\"\")","v":0},{"$f":"IF(A51<>\"\",IFERROR(VLOOKUP(AE51,Tabelas!B:D,3,0),0),\"\")","v":0},{"$f":"IF(A51<>\"\",IFERROR(VLOOKUP(AF51,Tabelas!B:D,3,0),0),\"\")","v":0},{"$f":"IF(A51<>\"\",IFERROR(VLOOKUP(AG51,Tabelas!B:D,3,0),0),\"\")","v":0},{"$f":"IF(A51<>\"\",IFERROR(VLOOKUP(AH51,Tabelas!B:D,3,0),0),\"\")","v":0},{"$f":"IF(A51<>\"\",IFERROR(VLOOKUP(AI51,Tabelas!B:D,3,0),0),\"\")","v":0},{"$f":"IF(A51<>\"\",IFERROR(VLOOKUP(AJ51,Tabelas!B:D,3,0),0),\"\")","v":0},{"$f":"IF(A51<>\"\",IFERROR(VLOOKUP(AK51,Tabelas!B:D,3,0),0),\"\")","v":0}]
["Luiz Paulo de Queiroz ",2158320,3155,"Médico","RJU",20,null,null,"FE","D6",null,"M15","M15",null,null,"T15","D6",null,"M15","M15",null,null,"T15","D6",null,"M15","M15",null,null,"T15","D6",null,"M15","M15",null,null,"T15"]
["Gisele Espíndola ",1524592,10886,"Médico","RJU",20,null,null,"FE","FE","FE","FE","FE",null,null,"FE","FE","FE","FE","FE",null,null,"FE","FE","FE","FE","FE",null,null,"FE","FE","FE","FE","FE",null,null,"FE"]
["Marcia Tatsch Cavagnollo",1922994,12168,"Médico","RJU",20,null,null,"FE","FE","FE","FE","FE",null,null,null,null,"T15","D6","M15",null,null,null,null,"T15","D6","M15",null,null,null,null,"T15","D6","M15"]
["Adaucto Wanderley da Nobrega Jr",1111792,12419,"Médico","EBSERH",24,null,null,null,"FE","FE","FE","FE",null,null,"FE","FE","FE","FE","FE",null,null,"FE","FE","FE","FE","FE",null,null,null,"M15","D6","M15"]
["Ricardo Goes Freitas ",1926676,18155,"Médico","EBSERH",24,null,null,null,null,"D6","D6","D6",null,null,null,null,"D6","D6","D6",null,null,null,null,"D6","D6","D6",null,null,null,null,"D6","D6","D6"]
["Edson Duarte Pillotto",3265216,12158,"Médico","EBSERH",24,null,null,null,null,"T15","M15","T15",null,null,null,null,"T15","M15","T15",null,null,null,null,"T15","M15","T15",null,null,null,null,"T15","M15","T15"]
["André Dias de Oliveira",1280965,1910,"Médico","EBSERH",24,null,null,"FE","FE","FE","FE","FE",null,null,"D6",null,"T15","M15",null,null,null,"D6",null,"T15","M15",null,null,null,"D6",null,"T15","M15",null,null,null,"D6"]
["INFECTOLOGIA ",null,null,null,null,null,null,null,null,null,null,null,null,null,null,null,null,null,null,null,null,null,null,null,null,null,null,null,null,null,null,null,null,null,null,null,null,{"$f":"IF(A59<>\"\",IFERROR(VLOOKUP(G59,Tabelas!B:D,3,0),0),\"\")","v":0},{"$f":"IF(A59<>\"\",IFERROR(VLOOKUP(H59,Tabelas!B:D,3,0),0),\"\")","v":0},{"$f":"IF(A59<>\"\",IFERROR(VLOOKUP(I59,Tabelas!B:D,3,0),0),\"\")","v":0},{"$f":"IF(A59<>\"\",IFERROR(VLOOKUP(J59,Tabelas!B:D,3,0),0),\"\")","v":0},{"$f":"IF(A59<>\"\",IFERROR(VLOOKUP(K59,Tabelas!B:D,3,0),0),\"\")","v":0},{"$f":"IF(A59<>\"\",IFERROR(VLOOKUP(L59,Tabelas!B:D,3,0),0),\"\")","v":0},{"$f":"IF(A59<>\"\",IFERROR(VLOOKUP(M59,Tabelas!B:D,3,0),0),\"\")","v":0},{"$f":"IF(A59<>\"\",IFERROR(VLOOKUP(N59,Tabelas!B:D,3,0),0),\"\")","v":0},{"$f":"IF(A59<>\"\",IFERROR(VLOOKUP(O59,Tabelas!B:D,3,0),0),\"\")","v":0},{"$f":"IF(A59<>\"\",IFERROR(VLOOKUP(P59,Tabelas!B:D,3,0),0),\"\")","v":0},{"$f":"IF(A59<>\"\",IFERROR(VLOOKUP(Q59,Tabelas!B:D,3,0),0),\"\")","v":0},{"$f":"IF(A59<>\"\",IFERROR(VLOOKUP(R59,Tabelas!B:D,3,0),0),\"\")","v":0},{"$f":"IF(A59<>\"\",IFERROR(VLOOKUP(S59,Tabelas!B:D,3,0),0),\"\")","v":0},{"$f":"IF(A59<>\"\",IFERROR(VLOOKUP(T59,Tabelas!B:D,3,0),0),\"\")","v":0},{"$f":"IF(A59<>\"\",IFERROR(VLOOKUP(U59,Tabelas!B:D,3,0),0),\"\")","v":0},{"$f":"IF(A59<>\"\",IFERROR(VLOOKUP(V59,Tabelas!B:D,3,0),0),\"\")","v":0},{"$f":"IF(A59<>\"\",IFERROR(VLOOKUP(W59,Tabelas!B:D,3,0),0),\"\")","v":0},{"$f":"IF(A59<>\"\",IFERROR(VLOOKUP(X59,Tabelas!B:D,3,0),0),\"\")","v":0},{"$f":"IF(A59<>\"\",IFERROR(VLOOKUP(Y59,Tabelas!B:D,3,0),0),\"\")","v":0},{"$f":"IF(A59<>\"\",IFERROR(VLOOKUP(Z59,Tabelas!B:D,3,0),0),\"\")","v":0},{"$f":"IF(A59<>\"\",IFERROR(VLOOKUP(AA59,Tabelas!B:D,3,0),0),\"\")","v":0},{"$f":"IF(A59<>\"\",IFERROR(VLOOKUP(AB59,Tabelas!B:D,3,0),0),\"\")","v":0},{"$f":"IF(A59<>\"\",IFERROR(VLOOKUP(AC59,Tabelas!B:D,3,0),0),\"\")","v":0},{"$f":"IF(A59<>\"\",IFERROR(VLOOKUP(AD59,Tabelas!B:D,3,0),0),\"\")","v":0},{"$f":"IF(A59<>\"\",IFERROR(VLOOKUP(AE59,Tabelas!B:D,3,0),0),\"\")","v":0},{"$f":"IF(A59<>\"\",IFERROR(VLOOKUP(AF59,Tabelas!B:D,3,0),0),\"\")","v":0},{"$f":"IF(A59<>\"\",IFERROR(VLOOKUP(AG59,Tabelas!B:D,3,0),0),\"\")","v":0},{"$f":"IF(A59<>\"\",IFERROR(VLOOKUP(AH59,Tabelas!B:D,3,0),0),\"\")","v":0},{"$f":"IF(A59<>\"\",IFERROR(VLOOKUP(AI59,Tabelas!B:D,3,0),0),\"\")","v":0},{"$f":"IF(A59<>\"\",IFERROR(VLOOKUP(AJ59,Tabelas!B:D,3,0),0),\"\")","v":0},{"$f":"IF(A59<>\"\",IFERROR(VLOOKUP(AK59,Tabelas!B:D,3,0),0),\"\")","v":0}]
["Patricia de Almeida Vanny",2140466,1280,"Médico","RJU",40,null,null,"M15","M15","M15","M15","M15",null,null,"M15","M15","M15","M15","M15",null,null,"M15","M15","M15","M15","M15",null,null,"M15","M15","M15","M15","M15",null,null,"FE"]
["HOMEOPATIA ",null,null,null,null,null,null,null,null,null,null,null,null,null,null,null,null,null,null,null,null,null,null,null,null,null,null,null,null,null,null,null,null,null,null,null,null,{"$f":"IF(A61<>\"\",IFERROR(VLOOKUP(G61,Tabelas!B:D,3,0),0),\"\")","v":0},{"$f":"IF(A61<>\"\",IFERROR(VLOOKUP(H61,Tabelas!B:D,3,0),0),\"\")","v":0},{"$f":"IF(A61<>\"\",IFERROR(VLOOKUP(I61,Tabelas!B:D,3,0),0),\"\")","v":0},{"$f":"IF(A61<>\"\",IFERROR(VLOOKUP(J61,Tabelas!B:D,3,0),0),\"\")","v":0},{"$f":"IF(A61<>\"\",IFERROR(VLOOKUP(K61,Tabelas!B:D,3,0),0),\"\")","v":0},{"$f":"IF(A61<>\"\",IFERROR(VLOOKUP(L61,Tabelas!B:D,3,0),0),\"\")","v":0},{"$f":"IF(A61<>\"\",IFERROR(VLOOKUP(M61,Tabelas!B:D,3,0),0),\"\")","v":0},{"$f":"IF(A61<>\"\",IFERROR(VLOOKUP(N61,Tabelas!B:D,3,0),0),\"\")","v":0},{"$f":"IF(A61<>\"\",IFERROR(VLOOKUP(O61,Tabelas!B:D,3,0),0),\"\")","v":0},{"$f":"IF(A61<>\"\",IFERROR(VLOOKUP(P61,Tabelas!B:D,3,0),0),\"\")","v":0},{"$f":"IF(A61<>\"\",IFERROR(VLOOKUP(Q61,Tabelas!B:D,3,0),0),\"\")","v":0},{"$f":"IF(A61<>\"\",IFERROR(VLOOKUP(R61,Tabelas!B:D,3,0),0),\"\")","v":0},{"$f":"IF(A61<>\"\",IFERROR(VLOOKUP(S61,Tabelas!B:D,3,0),0),\"\")","v":0},{"$f":"IF(A61<>\"\",IFERROR(VLOOKUP(T61,Tabelas!B:D,3,0),0),\"\")","v":0},{"$f":"IF(A61<>\"\",IFERROR(VLOOKUP(U61,Tabelas!B:D,3,0),0),\"\")","v":0},{"$f":"IF(A61<>\"\",IFERROR(VLOOKUP(V61,Tabelas!B:D,3,0),0),\"\")","v":0},{"$f":"IF(A61<>\"\",IFERROR(VLOOKUP(W61,Tabelas!B:D,3,0),0),\"\")","v":0},{"$f":"IF(A61<>\"\",IFERROR(VLOOKUP(X61,Tabelas!B:D,3,0),0),\"\")","v":0},{"$f":"IF(A61<>\"\",IFERROR(VLOOKUP(Y61,Tabelas!B:D,3,0),0),\"\")","v":0},{"$f":"IF(A61<>\"\",IFERROR(VLOOKUP(Z61,Tabelas!B:D,3,0),0),\"\")","v":0},{"$f":"IF(A61<>\"\",IFERROR(VLOOKUP(AA61,Tabelas!B:D,3,0),0),\"\")","v":0},{"$f":"IF(A61<>\"\",IFERROR(VLOOKUP(AB61,Tabelas!B:D,3,0),0),\"\")","v":0},{"$f":"IF(A61<>\"\",IFERROR(VLOOKUP(AC61,Tabelas!B:D,3,0),0),\"\")","v":0},{"$f":"IF(A61<>\"\",IFERROR(VLOOKUP(AD61,Tabelas!B:D,3,0),0),\"\")","v":0},{"$f":"IF(A61<>\"\",IFERROR(VLOOKUP(AE61,Tabelas!B:D,3,0),0),\"\")","v":0},{"$f":"IF(A61<>\"\",IFERROR(VLOOKUP(AF61,Tabelas!B:D,3,0),0),\"\")","v":0},{"$f":"IF(A61<>\"\",IFERROR(VLOOKUP(AG61,Tabelas!B:D,3,0),0),\"\")","v":0},{"$f":"IF(A61<>\"\",IFERROR(VLOOKUP(AH61,Tabelas!B:D,3,0),0),\"\")","v":0},{"$f":"IF(A61<>\"\",IFERROR(VLOOKUP(AI61,Tabelas!B:D,3,0),0),\"\")","v":0},{"$f":"IF(A61<>\"\",IFERROR(VLOOKUP(AJ61,Tabelas!B:D,3,0),0),\"\")","v":0},{"$f":"IF(A61<>\"\",IFERROR(VLOOKUP(AK61,Tabelas!B:D,3,0),0),\"\")","v":0}]
["Luis Carlos Esteves Grelle ",3133639,13438,"Médico","EBSERH",24,null,null,"FE","D6",null,"D6",null,null,null,"D6","D6",null,"D6",null,null,null,"D6","D6",null,"D6",null,null,null,"D6","D6",null,"D6",null,null,null,"D6",{"$f":"IF(A37<>\"\",IFERROR(VLOOKUP(G62,Tabelas!B:D,3,0),0),\"\")","v":0},{"$f":"IF(A37<>\"\",IFERROR(VLOOKUP(H62,Tabelas!B:D,3,0),0),\"\")","v":0},{"$f":"IF(A37<>\"\",IFERROR(VLOOKUP(I62,Tabelas!B:D,3,0),0),\"\")","v":0},{"$f":"IF(A37<>\"\",IFERROR(VLOOKUP(J62,Tabelas!B:D,3,0),0),\"\")","v":12},{"$f":"IF(A37<>\"\",IFERROR(VLOOKUP(K62,Tabelas!B:D,3,0),0),\"\")","v":0},{"$f":"IF(A37<>\"\",IFERROR(VLOOKUP(L62,Tabelas!B:D,3,0),0),\"\")","v":12},{"$f":"IF(A37<>\"\",IFERROR(VLOOKUP(M62,Tabelas!B:D,3,0),0),\"\")","v":0},{"$f":"IF(A37<>\"\",IFERROR(VLOOKUP(N62,Tabelas!B:D,3,0),0),\"\")","v":0},{"$f":"IF(A37<>\"\",IFERROR(VLOOKUP(O62,Tabelas!B:D,3,0),0),\"\")","v":0},{"$f":"IF(A37<>\"\",IFERROR(VLOOKUP(P62,Tabelas!B:D,3,0),0),\"\")","v":12},{"$f":"IF(A37<>\"\",IFERROR(VLOOKUP(Q62,Tabelas!B:D,3,0),0),\"\")","v":12},{"$f":"IF(A37<>\"\",IFERROR(VLOOKUP(R62,Tabelas!B:D,3,0),0),\"\")","v":0},{"$f":"IF(A37<>\"\",IFERROR(VLOOKUP(S62,Tabelas!B:D,3,0),0),\"\")","v":12},{"$f":"IF(A37<>\"\",IFERROR(VLOOKUP(T62,Tabelas!B:D,3,0),0),\"\")","v":0},{"$f":"IF(A37<>\"\",IFERROR(VLOOKUP(U62,Tabelas!B:D,3,0),0),\"\")","v":0},{"$f":"IF(A37<>\"\",IFERROR(VLOOKUP(V62,Tabelas!B:D,3,0),0),\"\")","v":0},{"$f":"IF(A37<>\"\",IFERROR(VLOOKUP(W62,Tabelas!B:D,3,0),0),\"\")","v":12},{"$f":"IF(A37<>\"\",IFERROR(VLOOKUP(X62,Tabelas!B:D,3,0),0),\"\")","v":12},{"$f":"IF(A37<>\"\",IFERROR(VLOOKUP(Y62,Tabelas!B:D,3,0),0),\"\")","v":0},{"$f":"IF(A37<>\"\",IFERROR(VLOOKUP(Z62,Tabelas!B:D,3,0),0),\"\")","v":12},{"$f":"IF(A37<>\"\",IFERROR(VLOOKUP(AA62,Tabelas!B:D,3,0),0),\"\")","v":0},{"$f":"IF(A37<>\"\",IFERROR(VLOOKUP(AB62,Tabelas!B:D,3,0),0),\"\")","v":0},{"$f":"IF(A37<>\"\",IFERROR(VLOOKUP(AC62,Tabelas!B:D,3,0),0),\"\")","v":0},{"$f":"IF(A37<>\"\",IFERROR(VLOOKUP(AD62,Tabelas!B:D,3,0),0),\"\")","v":12},{"$f":"IF(A37<>\"\",IFERROR(VLOOKUP(AE62,Tabelas!B:D,3,0),0),\"\")","v":12},{"$f":"IF(A37<>\"\",IFERROR(VLOOKUP(AF62,Tabelas!B:D,3,0),0),\"\")","v":0},{"$f":"IF(A37<>\"\",IFERROR(VLOOKUP(AG62,Tabelas!B:D,3,0),0),\"\")","v":12},{"$f":"IF(A37<>\"\",IFERROR(VLOOKUP(AH62,Tabelas!B:D,3,0),0),\"\")","v":0},{"$f":"IF(A37<>\"\",IFERROR(VLOOKUP(AI62,Tabelas!B:D,3,0),0),\"\")","v":0},{"$f":"IF(A37<>\"\",IFERROR(VLOOKUP(AJ62,Tabelas!B:D,3,0),0),\"\")","v":0},{"$f":"IF(A37<>\"\",IFERROR(VLOOKUP(AK62,Tabelas!B:D,3,0),0),\"\")","v":12}]
["GERIATRIA ",null,null,null,null,null,null,null,null,null,null,null,null,null,null,null,null,null,null,null,null,null,null,null,null,null,null,null,null,null,null,null,null,null,null,null,null,{"$f":"IF(A63<>\"\",IFERROR(VLOOKUP(G63,Tabelas!B:D,3,0),0),\"\")","v":0},{"$f":"IF(A63<>\"\",IFERROR(VLOOKUP(H63,Tabelas!B:D,3,0),0),\"\")","v":0},{"$f":"IF(A63<>\"\",IFERROR(VLOOKUP(I63,Tabelas!B:D,3,0),0),\"\")","v":0},{"$f":"IF(A63<>\"\",IFERROR(VLOOKUP(J63,Tabelas!B:D,3,0),0),\"\")","v":0},{"$f":"IF(A63<>\"\",IFERROR(VLOOKUP(K63,Tabelas!B:D,3,0),0),\"\")","v":0},{"$f":"IF(A63<>\"\",IFERROR(VLOOKUP(L63,Tabelas!B:D,3,0),0),\"\")","v":0},{"$f":"IF(A63<>\"\",IFERROR(VLOOKUP(M63,Tabelas!B:D,3,0),0),\"\")","v":0},{"$f":"IF(A63<>\"\",IFERROR(VLOOKUP(N63,Tabelas!B:D,3,0),0),\"\")","v":0},{"$f":"IF(A63<>\"\",IFERROR(VLOOKUP(O63,Tabelas!B:D,3,0),0),\"\")","v":0},{"$f":"IF(A63<>\"\",IFERROR(VLOOKUP(P63,Tabelas!B:D,3,0),0),\"\")","v":0},{"$f":"IF(A63<>\"\",IFERROR(VLOOKUP(Q63,Tabelas!B:D,3,0),0),\"\")","v":0},{"$f":"IF(A63<>\"\",IFERROR(VLOOKUP(R63,Tabelas!B:D,3,0),0),\"\")","v":0},{"$f":"IF(A63<>\"\",IFERROR(VLOOKUP(S63,Tabelas!B:D,3,0),0),\"\")","v":0},{"$f":"IF(A63<>\"\",IFERROR(VLOOKUP(T63,Tabelas!B:D,3,0),0),\"\")","v":0},{"$f":"IF(A63<>\"\",IFERROR(VLOOKUP(U63,Tabelas!B:D,3,0),0),\"\")","v":0},{"$f":"IF(A63<>\"\",IFERROR(VLOOKUP(V63,Tabelas!B:D,3,0),0),\"\")","v":0},{"$f":"IF(A63<>\"\",IFERROR(VLOOKUP(W63,Tabelas!B:D,3,0),0),\"\")","v":0},{"$f":"IF(A63<>\"\",IFERROR(VLOOKUP(X63,Tabelas!B:D,3,0),0),\"\")","v":0},{"$f":"IF(A63<>\"\",IFERROR(VLOOKUP(Y63,Tabelas!B:D,3,0),0),\"\")","v":0},{"$f":"IF(A63<>\"\",IFERROR(VLOOKUP(Z63,Tabelas!B:D,3,0),0),\"\")","v":0},{"$f":"IF(A63<>\"\",IFERROR(VLOOKUP(AA63,Tabelas!B:D,3,0),0),\"\")","v":0},{"$f":"IF(A63<>\"\",IFERROR(VLOOKUP(AB63,Tabelas!B:D,3,0),0),\"\")","v":0},{"$f":"IF(A63<>\"\",IFERROR(VLOOKUP(AC63,Tabelas!B:D,3,0),0),\"\")","v":0},{"$f":"IF(A63<>\"\",IFERROR(VLOOKUP(AD63,Tabelas!B:D,3,0),0),\"\")","v":0},{"$f":"IF(A63<>\"\",IFERROR(VLOOKUP(AE63,Tabelas!B:D,3,0),0),\"\")","v":0},{"$f":"IF(A63<>\"\",IFERROR(VLOOKUP(AF63,Tabelas!B:D,3,0),0),\"\")","v":0},{"$f":"IF(A63<>\"\",IFERROR(VLOOKUP(AG63,Tabelas!B:D,3,0),0),\"\")","v":0},{"$f":"IF(A63<>\"\",IFERROR(VLOOKUP(AH63,Tabelas!B:D,3,0),0),\"\")","v":0},{"$f":"IF(A63<>\"\",IFERROR(VLOOKUP(AI63,Tabelas!B:D,3,0),0),\"\")","v":0},{"$f":"IF(A63<>\"\",IFERROR(VLOOKUP(AJ63,Tabelas!B:D,3,0),0),\"\")","v":0},{"$f":"IF(A63<>\"\",IFERROR(VLOOKUP(AK63,Tabelas!B:D,3,0),0),\"\")","v":0}]
["Rodrigo Dagostini Derech",3053154,12632,"Médico","EBSERH",24,null,null,"FE","FE","FE","FE","FE",null,null,"FE","FE","FE","FE","FE",null,null,"FE",null,"T15",null,"D6",null,null,"T15",null,"T15",null,"D6",null,null,"T15"]
["                  CHEFE DE UNIDADE",null,null,null,null,null,null,null,null,null,null,null,null,null,null,null,null,null,null,null,null,null,null,null,null,null,null,null,null,null,null,null,null,null,null,null,null,{"$f":"IF(A65<>\"\",IFERROR(VLOOKUP(G65,Tabelas!B:D,3,0),0),\"\")","v":0},{"$f":"IF(A65<>\"\",IFERROR(VLOOKUP(H65,Tabelas!B:D,3,0),0),\"\")","v":0},{"$f":"IF(A65<>\"\",IFERROR(VLOOKUP(I65,Tabelas!B:D,3,0),0),\"\")","v":0},{"$f":"IF(A65<>\"\",IFERROR(VLOOKUP(J65,Tabelas!B:D,3,0),0),\"\")","v":0},{"$f":"IF(A65<>\"\",IFERROR(VLOOKUP(K65,Tabelas!B:D,3,0),0),\"\")","v":0},{"$f":"IF(A65<>\"\",IFERROR(VLOOKUP(L65,Tabelas!B:D,3,0),0),\"\")","v":0},{"$f":"IF(A65<>\"\",IFERROR(VLOOKUP(M65,Tabelas!B:D,3,0),0),\"\")","v":0},{"$f":"IF(A65<>\"\",IFERROR(VLOOKUP(N65,Tabelas!B:D,3,0),0),\"\")","v":0},{"$f":"IF(A65<>\"\",IFERROR(VLOOKUP(O65,Tabelas!B:D,3,0),0),\"\")","v":0},{"$f":"IF(A65<>\"\",IFERROR(VLOOKUP(P65,Tabelas!B:D,3,0),0),\"\")","v":0},{"$f":"IF(A65<>\"\",IFERROR(VLOOKUP(Q65,Tabelas!B:D,3,0),0),\"\")","v":0},{"$f":"IF(A65<>\"\",IFERROR(VLOOKUP(R65,Tabelas!B:D,3,0),0),\"\")","v":0},{"$f":"IF(A65<>\"\",IFERROR(VLOOKUP(S65,Tabelas!B:D,3,0),0),\"\")","v":0},{"$f":"IF(A65<>\"\",IFERROR(VLOOKUP(T65,Tabelas!B:D,3,0),0),\"\")","v":0},{"$f":"IF(A65<>\"\",IFERROR(VLOOKUP(U65,Tabelas!B:D,3,0),0),\"\")","v":0},{"$f":"IF(A65<>\"\",IFERROR(VLOOKUP(V65,Tabelas!B:D,3,0),0),\"\")","v":0},{"$f":"IF(A65<>\"\",IFERROR(VLOOKUP(W65,Tabelas!B:D,3,0),0),\"\")","v":0},{"$f":"IF(A65<>\"\",IFERROR(VLOOKUP(X65,Tabelas!B:D,3,0),0),\"\")","v":0},{"$f":"IF(A65<>\"\",IFERROR(VLOOKUP(Y65,Tabelas!B:D,3,0),0),\"\")","v":0},{"$f":"IF(A65<>\"\",IFERROR(VLOOKUP(Z65,Tabelas!B:D,3,0),0),\"\")","v":0},{"$f":"IF(A65<>\"\",IFERROR(VLOOKUP(AA65,Tabelas!B:D,3,0),0),\"\")","v":0},{"$f":"IF(A65<>\"\",IFERROR(VLOOKUP(AB65,Tabelas!B:D,3,0),0),\"\")","v":0},{"$f":"IF(A65<>\"\",IFERROR(VLOOKUP(AC65,Tabelas!B:D,3,0),0),\"\")","v":0},{"$f":"IF(A65<>\"\",IFERROR(VLOOKUP(AD65,Tabelas!B:D,3,0),0),\"\")","v":0},{"$f":"IF(A65<>\"\",IFERROR(VLOOKUP(AE65,Tabelas!B:D,3,0),0),\"\")","v":0},{"$f":"IF(A65<>\"\",IFERROR(VLOOKUP(AF65,Tabelas!B:D,3,0),0),\"\")","v":0},{"$f":"IF(A65<>\"\",IFERROR(VLOOKUP(AG65,Tabelas!B:D,3,0),0),\"\")","v":0},{"$f":"IF(A65<>\"\",IFERROR(VLOOKUP(AH65,Tabelas!B:D,3,0),0),\"\")","v":0},{"$f":"IF(A65<>\"\",IFERROR(VLOOKUP(AI65,Tabelas!B:D,3,0),0),\"\")","v":0},{"$f":"IF(A65<>\"\",IFERROR(VLOOKUP(AJ65,Tabelas!B:D,3,0),0),\"\")","v":0},{"$f":"IF(A65<>\"\",IFERROR(VLOOKUP(AK65,Tabelas!B:D,3,0),0),\"\")","v":0}]
["Luciana Bonnassis Burg ",3442495,10820,"Médico","RJU",40,null,null,"D6","M15","D6","D6","D6",null,null,"D6","M15","D6","D6","D6",null,null,"D6","M15","D6","D6","D6",null,null,"D6","M15","D6","D6","D6",null,null,"D6"]
[null,null,null,null,null,null,null,null,null,null,null,null,null,null,null,null,null,null,null,null,null,null,null,null,null,null,null,null,null,null,null,null,null,null,null,null,null,{"$f":"IF(A67<>\"\",IFERROR(VLOOKUP(G67,Tabelas!B:D,3,0),0),\"\")","v":""},{"$f":"IF(A67<>\"\",IFERROR(VLOOKUP(H67,Tabelas!B:D,3,0),0),\"\")","v":""},{"$f":"IF(A67<>\"\",IFERROR(VLOOKUP(I67,Tabelas!B:D,3,0),0),\"\")","v":""},{"$f":"IF(A67<>\"\",IFERROR(VLOOKUP(J67,Tabelas!B:D,3,0),0),\"\")","v":""},{"$f":"IF(A67<>\"\",IFERROR(VLOOKUP(K67,Tabelas!B:D,3,0),0),\"\")","v":""},{"$f":"IF(A67<>\"\",IFERROR(VLOOKUP(L67,Tabelas!B:D,3,0),0),\"\")","v":""},{"$f":"IF(A67<>\"\",IFERROR(VLOOKUP(M67,Tabelas!B:D,3,0),0),\"\")","v":""},{"$f":"IF(A67<>\"\",IFERROR(VLOOKUP(N67,Tabelas!B:D,3,0),0),\"\")","v":""},{"$f":"IF(A67<>\"\",IFERROR(VLOOKUP(O67,Tabelas!B:D,3,0),0),\"\")","v":""},{"$f":"IF(A67<>\"\",IFERROR(VLOOKUP(P67,Tabelas!B:D,3,0),0),\"\")","v":""},{"$f":"IF(A67<>\"\",IFERROR(VLOOKUP(Q67,Tabelas!B:D,3,0),0),\"\")","v":""},{"$f":"IF(A67<>\"\",IFERROR(VLOOKUP(R67,Tabelas!B:D,3,0),0),\"\")","v":""},{"$f":"IF(A67<>\"\",IFERROR(VLOOKUP(S67,Tabelas!B:D,3,0),0),\"\")","v":""},{"$f":"IF(A67<>\"\",IFERROR(VLOOKUP(T67,Tabelas!B:D,3,0),0),\"\")","v":""},{"$f":"IF(A67<>\"\",IFERROR(VLOOKUP(U67,Tabelas!B:D,3,0),0),\"\")","v":""},{"$f":"IF(A67<>\"\",IFERROR(VLOOKUP(V67,Tabelas!B:D,3,0),0),\"\")","v":""},{"$f":"IF(A67<>\"\",IFERROR(VLOOKUP(W67,Tabelas!B:D,3,0),0),\"\")","v":""},{"$f":"IF(A67<>\"\",IFERROR(VLOOKUP(X67,Tabelas!B:D,3,0),0),\"\")","v":""},{"$f":"IF(A67<>\"\",IFERROR(VLOOKUP(Y67,Tabelas!B:D,3,0),0),\"\")","v":""},{"$f":"IF(A67<>\"\",IFERROR(VLOOKUP(Z67,Tabelas!B:D,3,0),0),\"\")","v":""},{"$f":"IF(A67<>\"\",IFERROR(VLOOKUP(AA67,Tabelas!B:D,3,0),0),\"\")","v":""},{"$f":"IF(A67<>\"\",IFERROR(VLOOKUP(AB67,Tabelas!B:D,3,0),0),\"\")","v":""},{"$f":"IF(A67<>\"\",IFERROR(VLOOKUP(AC67,Tabelas!B:D,3,0),0),\"\")","v":""},{"$f":"IF(A67<>\"\",IFERROR(VLOOKUP(AD67,Tabelas!B:D,3,0),0),\"\")","v":""},{"$f":"IF(A67<>\"\",IFERROR(VLOOKUP(AE67,Tabelas!B:D,3,0),0),\"\")","v":""},{"$f":"IF(A67<>\"\",IFERROR(VLOOKUP(AF67,Tabelas!B:D,3,0),0),\"\")","v":""},{"$f":"IF(A67<>\"\",IFERROR(VLOOKUP(AG67,Tabelas!B:D,3,0),0),\"\")","v":""},{"$f":"IF(A67<>\"\",IFERROR(VLOOKUP(AH67,Tabelas!B:D,3,0),0),\"\")","v":""},{"$f":"IF(A67<>\"\",IFERROR(VLOOKUP(AI67,Tabelas!B:D,3,0),0),\"\")","v":""},{"$f":"IF(A67<>\"\",IFERROR(VLOOKUP(AJ67,Tabelas!B:D,3,0),0),\"\")","v":""},{"$f":"IF(A67<>\"\",IFERROR(VLOOKUP(AK67,Tabelas!B:D,3,0),0),\"\")","v":""}]
["Legenda:"]
["Licença Maternidade","LM","Férias",null,null,null,null,null,null,null,null,null,null,"PF","Manhã *",null,null,null,null,null,null,"M","Diurno (8 hrs) *",null,null,null,null,null,null,"MT"]
["Licença Paternidade","LP","Feriado",null,null,null,null,null,null,null,null,null,null,"AB","Tarde *",null,null,null,null,null,null,"T","Dia/ noite (24 hrs) *",null,null,null,null,null,null,"DN"]
["Licença Médica/Odontológica","L","Descanso Semanal Remunerado",null,null,null,null,null,null,null,null,null,null,"CH","Plantão Dia (12 hrs) *",null,null,null,null,null,null,"D"]
["Licença Capacitação","LC","Recesso",null,null,null,null,null,null,null,null,null,null,"AF","Plantão Noite (12 hrs) *",null,null,null,null,null,null,"N"]
[]
["OBSERVAÇÕES:"]
["* Para inserção das legendas referentes às jornadas de trabalho, verificar a Tabela 1 do Anexo do Memorando-Circular - SEI nº   25 /2018/CAP/DGP-EBSERH."]
["** Para inserção das legendas referentes aos Afastamentos previstos em lei e às Compensações de horas, verificar a Tabela 2 do Anexo do Memorando-Circular - SEI nº   25 /2018/CAP/DGP-EBSERH."]

{"sheet":"Fevereiro","index":1,"n_rows":76,"n_cols":65,"rows_kept":76,"cut":false,"hidden":false,"merged":[[70,14,70,20],[71,2,71,5],[71,6,71,12],[71,14,71,20],[70,2,70,5],[70,6,70,12],[5,6,5,33],[5,34,5,64],[68,22,68,28],[69,22,69,28],[1,0,1,33],[2,0,2,33],[3,0,3,33],[4,1,4,14],[4,17,4,28],[4,31,4,33],[68,14,68,20],[69,2,69,5],[69,6,69,12],[69,14,69,20],[68,2,68,5],[68,6,68,12]]}
[]
[]
["UEC"]
["ESCALA MENSAL DE TRABALHO"]
[null,null,null,null,null,null,null,null,null,null,null,null,null,null,null,"MÊS:",null,"Fevereiro",null,null,null,null,null,null,null,null,null,null,null,"ANO:",null,2022]
[null,"SIAPE","     Registro Conselho Classe","Cargo","Vínculo","    C.H Sem","DIAS DO MÊS",null,null,null,null,null,null,null,null,null,null,null,null,null,null,null,null,null,null,null,null,null,null,null,null,null,null,null,"CÁLCULO DAS HORAS"]
[null,null,null,null,null,null,1,2,3,4,5,6,7,8,9,10,11,12,13,14,15,16,17,18,19,20,21,22,23,24,25,{"$f":"IF(DAY(DATE(AF5,VLOOKUP(R5,Tabelas!M:N,2,0)+1,1)-1)>=26,26,\"\")","v":26},{"$f":"IF(DAY(DATE(AF5,VLOOKUP(R5,Tabelas!M:N,2,0)+1,1)-1)>=27,27,\"\")","v":27},{"$f":"IF(DAY(DATE(AF5,VLOOKUP(R5,Tabelas!M:N,2,0)+1,1)-1)>=28,28,\"\")","v":28}]
["DEMATOLOGIA ",null,null,null,null,null,{"$f":"IF(G7<>\"\",IFERROR(VLOOKUP(WEEKDAY(CONCATENATE(G7,$R$5,$AF$5)),Tabelas!$I:$J,2,0),\"\"),\"\")","v":""},{"$f":"IF(H7<>\"\",IFERROR(VLOOKUP(WEEKDAY(CONCATENATE(H7,$R$5,$AF$5)),Tabelas!$I:$J,2,0),\"\"),\"\")","v":""},{"$f":"IF(I7<>\"\",IFERROR(VLOOKUP(WEEKDAY(CONCATENATE(I7,$R$5,$AF$5)),Tabelas!$I:$J,2,0),\"\"),\"\")","v":""},{"$f":"IF(J7<>\"\",IFERROR(VLOOKUP(WEEKDAY(CONCATENATE(J7,$R$5,$AF$5)),Tabelas!$I:$J,2,0),\"\"),\"\")","v":""},{"$f":"IF(K7<>\"\",IFERROR(VLOOKUP(WEEKDAY(CONCATENATE(K7,$R$5,$AF$5)),Tabelas!$I:$J,2,0),\"\"),\"\")","v":""},{"$f":"IF(L7<>\"\",IFERROR(VLOOKUP(WEEKDAY(CONCATENATE(L7,$R$5,$AF$5)),Tabelas!$I:$J,2,0),\"\"),\"\")","v":""},{"$f":"IF(M7<>\"\",IFERROR(VLOOKUP(WEEKDAY(CONCATENATE(M7,$R$5,$AF$5)),Tabelas!$I:$J,2,0),\"\"),\"\")","v":""},{"$f":"IF(N7<>\"\",IFERROR(VLOOKUP(WEEKDAY(CONCATENATE(N7,$R$5,$AF$5)),Tabelas!$I:$J,2,0),\"\"),\"\")","v":""},{"$f":"IF(O7<>\"\",IFERROR(VLOOKUP(WEEKDAY(CONCATENATE(O7,$R$5,$AF$5)),Tabelas!$I:$J,2,0),\"\"),\"\")","v":""},{"$f":"IF(P7<>\"\",IFERROR(VLOOKUP(WEEKDAY(CONCATENATE(P7,$R$5,$AF$5)),Tabelas!$I:$J,2,0),\"\"),\"\")","v":""},{"$f":"IF(Q7<>\"\",IFERROR(VLOOKUP(WEEKDAY(CONCATENATE(Q7,$R$5,$AF$5)),Tabelas!$I:$J,2,0),\"\"),\"\")","v":""},{"$f":"IF(R7<>\"\",IFERROR(VLOOKUP(WEEKDAY(CONCATENATE(R7,$R$5,$AF$5)),Tabelas!$I:$J,2,0),\"\"),\"\")","v":""},{"$f":"IF(S7<>\"\",IFERROR(VLOOKUP(WEEKDAY(CONCATENATE(S7,$R$5,$AF$5)),Tabelas!$I:$J,2,0),\"\"),\"\")","v":""},{"$f":"IF(T7<>\"\",IFERROR(VLOOKUP(WEEKDAY(CONCATENATE(T7,$R$5,$AF$5)),Tabelas!$I:$J,2,0),\"\"),\"\")","v":""},{"$f":"IF(U7<>\"\",IFERROR(VLOOKUP(WEEKDAY(CONCATENATE(U7,$R$5,$AF$5)),Tabelas!$I:$J,2,0),\"\"),\"\")","v":""},{"$f":"IF(V7<>\"\",IFERROR(VLOOKUP(WEEKDAY(CONCATENATE(V7,$R$5,$AF$5)),Tabelas!$I:$J,2,0),\"\"),\"\")","v":""},{"$f":"IF(W7<>\"\",IFERROR(VLOOKUP(WEEKDAY(CONCATENATE(W7,$R$5,$AF$5)),Tabelas!$I:$J,2,0),\"\"),\"\")","v":""},{"$f":"IF(X7<>\"\",IFERROR(VLOOKUP(WEEKDAY(CONCATENATE(X7,$R$5,$AF$5)),Tabelas!$I:$J,2,0),\"\"),\"\")","v":""},{"$f":"IF(Y7<>\"\",IFERROR(VLOOKUP(WEEKDAY(CONCATENATE(Y7,$R$5,$AF$5)),Tabelas!$I:$J,2,0),\"\"),\"\")","v":""},{"$f":"IF(Z7<>\"\",IFERROR(VLOOKUP(WEEKDAY(CONCATENATE(Z7,$R$5,$AF$5)),Tabelas!$I:$J,2,0),\"\"),\"\")","v":""},{"$f":"IF(AA7<>\"\",IFERROR(VLOOKUP(WEEKDAY(CONCATENATE(AA7,$R$5,$AF$5)),Tabelas!$I:$J,2,0),\"\"),\"\")","v":""},{"$f":"IF(AB7<>\"\",IFERROR(VLOOKUP(WEEKDAY(CONCATENATE(AB7,$R$5,$AF$5)),Tabelas!$I:$J,2,0),\"\"),\"\")","v":""},{"$f":"IF(AC7<>\"\",IFERROR(VLOOKUP(WEEKDAY(CONCATENATE(AC7,$R$5,$AF$5)),Tabelas!$I:$J,2,0),\"\"),\"\")","v":""},{"$f":"IF(AD7<>\"\",IFERROR(VLOOKUP(WEEKDAY(CONCATENATE(AD7,$R$5,$AF$5)),Tabelas!$I:$J,2,0),\"\"),\"\")","v":""},{"$f":"IF(AE7<>\"\",IFERROR(VLOOKUP(WEEKDAY(CONCATENATE(AE7,$R$5,$AF$5)),Tabelas!$I:$J,2,0),\"\"),\"\")","v":""},{"$f":"IF(AF7<>\"\",IFERROR(VLOOKUP(WEEKDAY(CONCATENATE(AF7,$R$5,$AF$5)),Tabelas!$I:$J,2,0),\"\"),\"\")","v":""},{"$f":"IF(AG7<>\"\",IFERROR(VLOOKUP(WEEKDAY(CONCATENATE(AG7,$R$5,$AF$5)),Tabelas!$I:$J,2,0),\"\"),\"\")","v":""},{"$f":"IF(AH7<>\"\",IFERROR(VLOOKUP(WEEKDAY(CONCATENATE(AH7,$R$5,$AF$5)),Tabelas!$I:$J,2,0),\"\"),\"\")","v":""},1,2,3,4,5,6,7,8,9,10,11,12,13,14,15,16,17,18,19,20,21,22,23,24,25,26,27,28,29,30,31]
["Álvaro Thadeu Bender",2455919,4391,"Médico","RJU",10,null,"T15",null,null,null,null,"T15",null,"T15",null,null,null,null,"T15",null,"T15",null,null,null,null,"T15",null,"T15",null,null,null,null,"T15",{"$f":"IF(A9<>\"\",IFERROR(VLOOKUP(G9,Tabelas!B:D,3,0),0),\"\")","v":0},{"$f":"IF(A9<>\"\",IFERROR(VLOOKUP(H9,Tabelas!B:D,3,0),0),\"\")","v":6},{"$f":"IF(A9<>\"\",IFERROR(VLOOKUP(I9,Tabelas!B:D,3,0),0),\"\")","v":0},{"$f":"IF(A9<>\"\",IFERROR(VLOOKUP(J9,Tabelas!B:D,3,0),0),\"\")","v":0},{"$f":"IF(A9<>\"\",IFERROR(VLOOKUP(K9,Tabelas!B:D,3,0),0),\"\")","v":0},{"$f":"IF(A9<>\"\",IFERROR(VLOOKUP(L9,Tabelas!B:D,3,0),0),\"\")","v":0},{"$f":"IF(A9<>\"\",IFERROR(VLOOKUP(M9,Tabelas!B:D,3,0),0),\"\")","v":6},{"$f":"IF(A9<>\"\",IFERROR(VLOOKUP(N9,Tabelas!B:D,3,0),0),\"\")","v":0},{"$f":"IF(A9<>\"\",IFERROR(VLOOKUP(O9,Tabelas!B:D,3,0),0),\"\")","v":6},{"$f":"IF(A9<>\"\",IFERROR(VLOOKUP(P9,Tabelas!B:D,3,0),0),\"\")","v":0},{"$f":"IF(A9<>\"\",IFERROR(VLOOKUP(Q9,Tabelas!B:D,3,0),0),\"\")","v":0},{"$f":"IF(A9<>\"\",IFERROR(VLOOKUP(R9,Tabelas!B:D,3,0),0),\"\")","v":0},{"$f":"IF(A9<>\"\",IFERROR(VLOOKUP(S9,Tabelas!B:D,3,0),0),\"\")","v":0},{"$f":"IF(A9<>\"\",IFERROR(VLOOKUP(T9,Tabelas!B:D,3,0),0),\"\")","v":6},{"$f":"IF(A9<>\"\",IFERROR(VLOOKUP(U9,Tabelas!B:D,3,0),0),\"\")","v":0},{"$f":"IF(A9<>\"\",IFERROR(VLOOKUP(V9,Tabelas!B:D,3,0),0),\"\")","v":6},{"$f":"IF(A9<>\"\",IFERROR(VLOOKUP(W9,Tabelas!B:D,3,0),0),\"\")","v":0},{"$f":"IF(A9<>\"\",IFERROR(VLOOKUP(X9,Tabelas!B:D,3,0),0),\"\")","v":0},{"$f":"IF(A9<>\"\",IFERROR(VLOOKUP(Y9,Tabelas!B:D,3,0),0),\"\")","v":0},{"$f":"IF(A9<>\"\",IFERROR(VLOOKUP(Z9,Tabelas!B:D,3,0),0),\"\")","v":0},{"$f":"IF(A9<>\"\",IFERROR(VLOOKUP(AA9,Tabelas!B:D,3,0),0),\"\")","v":6},{"$f":"IF(A9<>\"\",IFERROR(VLOOKUP(AB9,Tabelas!B:D,3,0),0),\"\")","v":0},{"$f":"IF(A9<>\"\",IFERROR(VLOOKUP(AC9,Tabelas!B:D,3,0),0),\"\")","v":6},{"$f":"IF(A9<>\"\",IFERROR(VLOOKUP(AD9,Tabelas!B:D,3,0),0),\"\")","v":0},{"$f":"IF(A9<>\"\",IFERROR(VLOOKUP(AE9,Tabelas!B:D,3,0),0),\"\")","v":0},{"$f":"IF(A9<>\"\",IFERROR(VLOOKUP(AF9,Tabelas!B:D,3,0),0),\"\")","v":0},{"$f":"IF(A9<>\"\",IFERROR(VLOOKUP(AG9,Tabelas!B:D,3,0),0),\"\")","v":0},{"$f":"IF(A9<>\"\",IFERROR(VLOOKUP(AH9,Tabelas!B:D,3,0),0),\"\")","v":6},{"$f":"IF(A9<>\"\",IFERROR(VLOOKUP(#REF!,Tabelas!B:D,3,0),0),\"\")","v":0},{"$f":"IF(A9<>\"\",IFERROR(VLOOKUP(#REF!,Tabelas!B:D,3,0),0),\"\")","v":0},{"$f":"IF(A9<>\"\",IFERROR(VLOOKUP(#REF!,Tabelas!B:D,3,0),0),\"\")","v":0}]
["Leonardo Simas Abi Saad",3604455,13918,"Médico","RJU",30,"T15","T15","T15","M15",null,null,"T15","T15","T15","T15","M15",null,null,"T15","T15","T15","T15","M15",null,null,"T15","T15","T15","T15","M15",null,null,"T15",{"$f":"IF(A10<>\"\",IFERROR(VLOOKUP(G10,Tabelas!B:D,3,0),0),\"\")","v":6},{"$f":"IF(A10<>\"\",IFERROR(VLOOKUP(H10,Tabelas!B:D,3,0),0),\"\")","v":6},{"$f":"IF(A10<>\"\",IFERROR(VLOOKUP(I10,Tabelas!B:D,3,0),0),\"\")","v":6},{"$f":"IF(A10<>\"\",IFERROR(VLOOKUP(J10,Tabelas!B:D,3,0),0),\"\")","v":6},{"$f":"IF(A10<>\"\",IFERROR(VLOOKUP(K10,Tabelas!B:D,3,0),0),\"\")","v":0},{"$f":"IF(A10<>\"\",IFERROR(VLOOKUP(L10,Tabelas!B:D,3,0),0),\"\")","v":0},{"$f":"IF(A10<>\"\",IFERROR(VLOOKUP(M10,Tabelas!B:D,3,0),0),\"\")","v":6},{"$f":"IF(A10<>\"\",IFERROR(VLOOKUP(N10,Tabelas!B:D,3,0),0),\"\")","v":6},{"$f":"IF(A10<>\"\",IFERROR(VLOOKUP(O10,Tabelas!B:D,3,0),0),\"\")","v":6},{"$f":"IF(A10<>\"\",IFERROR(VLOOKUP(P10,Tabelas!B:D,3,0),0),\"\")","v":6},{"$f":"IF(A10<>\"\",IFERROR(VLOOKUP(Q10,Tabelas!B:D,3,0),0),\"\")","v":6},{"$f":"IF(A10<>\"\",IFERROR(VLOOKUP(R10,Tabelas!B:D,3,0),0),\"\")","v":0},{"$f":"IF(A10<>\"\",IFERROR(VLOOKUP(S10,Tabelas!B:D,3,0),0),\"\")","v":0},{"$f":"IF(A10<>\"\",IFERROR(VLOOKUP(T10,Tabelas!B:D,3,0),0),\"\")","v":6},{"$f":"IF(A10<>\"\",IFERROR(VLOOKUP(U10,Tabelas!B:D,3,0),0),\"\")","v":6},{"$f":"IF(A10<>\"\",IFERROR(VLOOKUP(V10,Tabelas!B:D,3,0),0),\"\")","v":6},{"$f":"IF(A10<>\"\",IFERROR(VLOOKUP(W10,Tabelas!B:D,3,0),0),\"\")","v":6},{"$f":"IF(A10<>\"\",IFERROR(VLOOKUP(X10,Tabelas!B:D,3,0),0),\"\")","v":6},{"$f":"IF(A10<>\"\",IFERROR(VLOOKUP(Y10,Tabelas!B:D,3,0),0),\"\")","v":0},{"$f":"IF(A10<>\"\",IFERROR(VLOOKUP(Z10,Tabelas!B:D,3,0),0),\"\")","v":0},{"$f":"IF(A10<>\"\",IFERROR(VLOOKUP(AA10,Tabelas!B:D,3,0),0),\"\")","v":6},{"$f":"IF(A10<>\"\",IFERROR(VLOOKUP(AB10,Tabelas!B:D,3,0),0),\"\")","v":6},{"$f":"IF(A10<>\"\",IFERROR(VLOOKUP(AC10,Tabelas!B:D,3,0),0),\"\")","v":6},{"$f":"IF(A10<>\"\",IFERROR(VLOOKUP(AD10,Tabelas!B:D,3,0),0),\"\")","v":6},{"$f":"IF(A10<>\"\",IFERROR(VLOOKUP(AE10,Tabelas!B:D,3,0),0),\"\")","v":6},{"$f":"IF(A10<>\"\",IFERROR(VLOOKUP(AF10,Tabelas!B:D,3,0),0),\"\")","v":0},{"$f":"IF(A10<>\"\",IFERROR(VLOOKUP(AG10,Tabelas!B:D,3,0),0),\"\")","v":0},{"$f":"IF(A10<>\"\",IFERROR(VLOOKUP(AH10,Tabelas!B:D,3,0),0),\"\")","v":6},{"$f":"IF(A10<>\"\",IFERROR(VLOOKUP(#REF!,Tabelas!B:D,3,0),0),\"\")","v":0},{"$f":"IF(A10<>\"\",IFERROR(VLOOKUP(#REF!,Tabelas!B:D,3,0),0),\"\")","v":0},{"$f":"IF(A10<>\"\",IFERROR(VLOOKUP(#REF!,Tabelas!B:D,3,0),0),\"\")","v":0}]
["Oscar Cardoso Dimatos ",2841698,16451,"Médico","RJU",20,null,"T15","T15","T15",null,null,"T15",null,"T15","T15","T15",null,null,"T15",null,"T15","T15","T15",null,null,"T15",null,"T15","T15","T15",null,null,"T15",{"$f":"IF(A11<>\"\",IFERROR(VLOOKUP(G11,Tabelas!B:D,3,0),0),\"\")","v":0},{"$f":"IF(A11<>\"\",IFERROR(VLOOKUP(H11,Tabelas!B:D,3,0),0),\"\")","v":6},{"$f":"IF(A11<>\"\",IFERROR(VLOOKUP(I11,Tabelas!B:D,3,0),0),\"\")","v":6},{"$f":"IF(A11<>\"\",IFERROR(VLOOKUP(J11,Tabelas!B:D,3,0),0),\"\")","v":6},{"$f":"IF(A11<>\"\",IFERROR(VLOOKUP(K11,Tabelas!B:D,3,0),0),\"\")","v":0},{"$f":"IF(A11<>\"\",IFERROR(VLOOKUP(L11,Tabelas!B:D,3,0),0),\"\")","v":0},{"$f":"IF(A11<>\"\",IFERROR(VLOOKUP(M11,Tabelas!B:D,3,0),0),\"\")","v":6},{"$f":"IF(A11<>\"\",IFERROR(VLOOKUP(N11,Tabelas!B:D,3,0),0),\"\")","v":0},{"$f":"IF(A11<>\"\",IFERROR(VLOOKUP(O11,Tabelas!B:D,3,0),0),\"\")","v":6},{"$f":"IF(A11<>\"\",IFERROR(VLOOKUP(P11,Tabelas!B:D,3,0),0),\"\")","v":6},{"$f":"IF(A11<>\"\",IFERROR(VLOOKUP(Q11,Tabelas!B:D,3,0),0),\"\")","v":6},{"$f":"IF(A11<>\"\",IFERROR(VLOOKUP(R11,Tabelas!B:D,3,0),0),\"\")","v":0},{"$f":"IF(A11<>\"\",IFERROR(VLOOKUP(S11,Tabelas!B:D,3,0),0),\"\")","v":0},{"$f":"IF(A11<>\"\",IFERROR(VLOOKUP(T11,Tabelas!B:D,3,0),0),\"\")","v":6},{"$f":"IF(A11<>\"\",IFERROR(VLOOKUP(U11,Tabelas!B:D,3,0),0),\"\")","v":0},{"$f":"IF(A11<>\"\",IFERROR(VLOOKUP(V11,Tabelas!B:D,3,0),0),\"\")","v":6},{"$f":"IF(A11<>\"\",IFERROR(VLOOKUP(W11,Tabelas!B:D,3,0),0),\"\")","v":6},{"$f":"IF(A11<>\"\",IFERROR(VLOOKUP(X11,Tabelas!B:D,3,0),0),\"\")","v":6},{"$f":"IF(A11<>\"\",IFERROR(VLOOKUP(Y11,Tabelas!B:D,3,0),0),\"\")","v":0},{"$f":"IF(A11<>\"\",IFERROR(VLOOKUP(Z11,Tabelas!B:D,3,0),0),\"\")","v":0},{"$f":"IF(A11<>\"\",IFERROR(VLOOKUP(AA11,Tabelas!B:D,3,0),0),\"\")","v":6},{"$f":"IF(A11<>\"\",IFERROR(VLOOKUP(AB11,Tabelas!B:D,3,0),0),\"\")","v":0},{"$f":"IF(A11<>\"\",IFERROR(VLOOKUP(AC11,Tabelas!B:D,3,0),0),\"\")","v":6},{"$f":"IF(A11<>\"\",IFERROR(VLOOKUP(AD11,Tabelas!B:D,3,0),0),\"\")","v":6},{"$f":"IF(A11<>\"\",IFERROR(VLOOKUP(AE11,Tabelas!B:D,3,0),0),\"\")","v":6},{"$f":"IF(A11<>\"\",IFERROR(VLOOKUP(AF11,Tabelas!B:D,3,0),0),\"\")","v":0},{"$f":"IF(A11<>\"\",IFERROR(VLOOKUP(AG11,Tabelas!B:D,3,0),0),\"\")","v":0},{"$f":"IF(A11<>\"\",IFERROR(VLOOKUP(AH11,Tabelas!B:D,3,0),0),\"\")","v":6},{"$f":"IF(A11<>\"\",IFERROR(VLOOKUP(#REF!,Tabelas!B:D,3,0),0),\"\")","v":0},{"$f":"IF(A11<>\"\",IFERROR(VLOOKUP(#REF!,Tabelas!B:D,3,0),0),\"\")","v":0},{"$f":"IF(A11<>\"\",IFERROR(VLOOKUP(#REF!,Tabelas!B:D,3,0),0),\"\")","v":0}]
["Ariel Cordova Rosa",1361412,23372,"Médico","EBSERH",24,"T15","M15","M15",null,null,null,"M15","T15","M15","M15",null,null,null,"M15","T15","M15","M15",null,null,null,"M15","T15","M15","M15",null,null,null,"M15",{"$f":"IF(A12<>\"\",IFERROR(VLOOKUP(G12,Tabelas!B:D,3,0),0),\"\")","v":6},{"$f":"IF(A12<>\"\",IFERROR(VLOOKUP(H12,Tabelas!B:D,3,0),0),\"\")","v":6},{"$f":"IF(A12<>\"\",IFERROR(VLOOKUP(I12,Tabelas!B:D,3,0),0),\"\")","v":6},{"$f":"IF(A12<>\"\",IFERROR(VLOOKUP(J12,Tabelas!B:D,3,0),0),\"\")","v":0},{"$f":"IF(A12<>\"\",IFERROR(VLOOKUP(K12,Tabelas!B:D,3,0),0),\"\")","v":0},{"$f":"IF(A12<>\"\",IFERROR(VLOOKUP(L12,Tabelas!B:D,3,0),0),\"\")","v":0},{"$f":"IF(A12<>\"\",IFERROR(VLOOKUP(M12,Tabelas!B:D,3,0),0),\"\")","v":6},{"$f":"IF(A12<>\"\",IFERROR(VLOOKUP(N12,Tabelas!B:D,3,0),0),\"\")","v":6},{"$f":"IF(A12<>\"\",IFERROR(VLOOKUP(O12,Tabelas!B:D,3,0),0),\"\")","v":6},{"$f":"IF(A12<>\"\",IFERROR(VLOOKUP(P12,Tabelas!B:D,3,0),0),\"\")","v":6},{"$f":"IF(A12<>\"\",IFERROR(VLOOKUP(Q12,Tabelas!B:D,3,0),0),\"\")","v":0},{"$f":"IF(A12<>\"\",IFERROR(VLOOKUP(R12,Tabelas!B:D,3,0),0),\"\")","v":0},{"$f":"IF(A12<>\"\",IFERROR(VLOOKUP(S12,Tabelas!B:D,3,0),0),\"\")","v":0},{"$f":"IF(A12<>\"\",IFERROR(VLOOKUP(T12,Tabelas!B:D,3,0),0),\"\")","v":6},{"$f":"IF(A12<>\"\",IFERROR(VLOOKUP(U12,Tabelas!B:D,3,0),0),\"\")","v":6},{"$f":"IF(A12<>\"\",IFERROR(VLOOKUP(V12,Tabelas!B:D,3,0),0),\"\")","v":6},{"$f":"IF(A12<>\"\",IFERROR(VLOOKUP(W12,Tabelas!B:D,3,0),0),\"\")","v":6},{"$f":"IF(A12<>\"\",IFERROR(VLOOKUP(X12,Tabelas!B:D,3,0),0),\"\")","v":0},{"$f":"IF(A12<>\"\",IFERROR(VLOOKUP(Y12,Tabelas!B:D,3,0),0),\"\")","v":0},{"$f":"IF(A12<>\"\",IFERROR(VLOOKUP(Z12,Tabelas!B:D,3,0),0),\"\")","v":0},{"$f":"IF(A12<>\"\",IFERROR(VLOOKUP(AA12,Tabelas!B:D,3,0),0),\"\")","v":6},{"$f":"IF(A12<>\"\",IFERROR(VLOOKUP(AB12,Tabelas!B:D,3,0),0),\"\")","v":6},{"$f":"IF(A12<>\"\",IFERROR(VLOOKUP(AC12,Tabelas!B:D,3,0),0),\"\")","v":6},{"$f":"IF(A12<>\"\",IFERROR(VLOOKUP(AD12,Tabelas!B:D,3,0),0),\"\")","v":6},{"$f":"IF(A12<>\"\",IFERROR(VLOOKUP(AE12,Tabelas!B:D,3,0),0),\"\")","v":0},{"$f":"IF(A12<>\"\",IFERROR(VLOOKUP(AF12,Tabelas!B:D,3,0),0),\"\")","v":0},{"$f":"IF(A12<>\"\",IFERROR(VLOOKUP(AG12,Tabelas!B:D,3,0),0),\"\")","v":0},{"$f":"IF(A12<>\"\",IFERROR(VLOOKUP(AH12,Tabelas!B:D,3,0),0),\"\")","v":6},{"$f":"IF(A12<>\"\",IFERROR(VLOOKUP(#REF!,Tabelas!B:D,3,0),0),\"\")","v":0},{"$f":"IF(A12<>\"\",IFERROR(VLOOKUP(#REF!,Tabelas!B:D,3,0),0),\"\")","v":0},{"$f":"IF(A12<>\"\",IFERROR(VLOOKUP(#REF!,Tabelas!B:D,3,0),0),\"\")","v":0}]
["Shirley Maximo de Souza",2060635,2775,"Médico","EBSERH",24,"M15",null,"M15","D6",null,null,"M15","M15",null,"M15","D6",null,null,"M15","M15",null,"M15","D6",null,null,"M15","M15",null,"M15","D6",null,null,"M15",{"$f":"IF(A13<>\"\",IFERROR(VLOOKUP(G13,Tabelas!B:D,3,0),0),\"\")","v":6},{"$f":"IF(A13<>\"\",IFERROR(VLOOKUP(H13,Tabelas!B:D,3,0),0),\"\")","v":0},{"$f":"IF(A13<>\"\",IFERROR(VLOOKUP(I13,Tabelas!B:D,3,0),0),\"\")","v":6},{"$f":"IF(A13<>\"\",IFERROR(VLOOKUP(J13,Tabelas!B:D,3,0),0),\"\")","v":12},{"$f":"IF(A13<>\"\",IFERROR(VLOOKUP(K13,Tabelas!B:D,3,0),0),\"\")","v":0},{"$f":"IF(A13<>\"\",IFERROR(VLOOKUP(L13,Tabelas!B:D,3,0),0),\"\")","v":0},{"$f":"IF(A13<>\"\",IFERROR(VLOOKUP(M13,Tabelas!B:D,3,0),0),\"\")","v":6},{"$f":"IF(A13<>\"\",IFERROR(VLOOKUP(N13,Tabelas!B:D,3,0),0),\"\")","v":6},{"$f":"IF(A13<>\"\",IFERROR(VLOOKUP(O13,Tabelas!B:D,3,0),0),\"\")","v":0},{"$f":"IF(A13<>\"\",IFERROR(VLOOKUP(P13,Tabelas!B:D,3,0),0),\"\")","v":6},{"$f":"IF(A13<>\"\",IFERROR(VLOOKUP(Q13,Tabelas!B:D,3,0),0),\"\")","v":12},{"$f":"IF(A13<>\"\",IFERROR(VLOOKUP(R13,Tabelas!B:D,3,0),0),\"\")","v":0},{"$f":"IF(A13<>\"\",IFERROR(VLOOKUP(S13,Tabelas!B:D,3,0),0),\"\")","v":0},{"$f":"IF(A13<>\"\",IFERROR(VLOOKUP(T13,Tabelas!B:D,3,0),0),\"\")","v":6},{"$f":"IF(A13<>\"\",IFERROR(VLOOKUP(U13,Tabelas!B:D,3,0),0),\"\")","v":6},{"$f":"IF(A13<>\"\",IFERROR(VLOOKUP(V13,Tabelas!B:D,3,0),0),\"\")","v":0},{"$f":"IF(A13<>\"\",IFERROR(VLOOKUP(W13,Tabelas!B:D,3,0),0),\"\")","v":6},{"$f":"IF(A13<>\"\",IFERROR(VLOOKUP(X13,Tabelas!B:D,3,0),0),\"\")","v":12},{"$f":"IF(A13<>\"\",IFERROR(VLOOKUP(Y13,Tabelas!B:D,3,0),0),\"\")","v":0},{"$f":"IF(A13<>\"\",IFERROR(VLOOKUP(Z13,Tabelas!B:D,3,0),0),\"\")","v":0},{"$f":"IF(A13<>\"\",IFERROR(VLOOKUP(AA13,Tabelas!B:D,3,0),0),\"\")","v":6},{"$f":"IF(A13<>\"\",IFERROR(VLOOKUP(AB13,Tabelas!B:D,3,0),0),\"\")","v":6},{"$f":"IF(A13<>\"\",IFERROR(VLOOKUP(AC13,Tabelas!B:D,3,0),0),\"\")","v":0},{"$f":"IF(A13<>\"\",IFERROR(VLOOKUP(AD13,Tabelas!B:D,3,0),0),\"\")","v":6},{"$f":"IF(A13<>\"\",IFERROR(VLOOKUP(AE13,Tabelas!B:D,3,0),0),\"\")","v":12},{"$f":"IF(A13<>\"\",IFERROR(VLOOKUP(AF13,Tabelas!B:D,3,0),0),\"\")","v":0},{"$f":"IF(A13<>\"\",IFERROR(VLOOKUP(AG13,Tabelas!B:D,3,0),0),\"\")","v":0},{"$f":"IF(A13<>\"\",IFERROR(VLOOKUP(AH13,Tabelas!B:D,3,0),0),\"\")","v":6},{"$f":"IF(A13<>\"\",IFERROR(VLOOKUP(#REF!,Tabelas!B:D,3,0),0),\"\")","v":0},{"$f":"IF(A13<>\"\",IFERROR(VLOOKUP(#REF!,Tabelas!B:D,3,0),0),\"\")","v":0},{"$f":"IF(A13<>\"\",IFERROR(VLOOKUP(#REF!,Tabelas!B:D,3,0),0),\"\")","v":0}]
["ACUPUNTURA ",null,null,null,null,null,null,null,null,null,null,null,null,null,null,null,null,null,null,null,null,null,null,null,null,null,null,null,null,null,null,null,null,null,{"$f":"IF(A14<>\"\",IFERROR(VLOOKUP(G14,Tabelas!B:D,3,0),0),\"\")","v":0},{"$f":"IF(A14<>\"\",IFERROR(VLOOKUP(H14,Tabelas!B:D,3,0),0),\"\")","v":0},{"$f":"IF(A14<>\"\",IFERROR(VLOOKUP(I14,Tabelas!B:D,3,0),0),\"\")","v":0},{"$f":"IF(A14<>\"\",IFERROR(VLOOKUP(J14,Tabelas!B:D,3,0),0),\"\")","v":0},{"$f":"IF(A14<>\"\",IFERROR(VLOOKUP(K14,Tabelas!B:D,3,0),0),\"\")","v":0},{"$f":"IF(A14<>\"\",IFERROR(VLOOKUP(L14,Tabelas!B:D,3,0),0),\"\")","v":0},{"$f":"IF(A14<>\"\",IFERROR(VLOOKUP(M14,Tabelas!B:D,3,0),0),\"\")","v":0},{"$f":"IF(A14<>\"\",IFERROR(VLOOKUP(N14,Tabelas!B:D,3,0),0),\"\")","v":0},{"$f":"IF(A14<>\"\",IFERROR(VLOOKUP(O14,Tabelas!B:D,3,0),0),\"\")","v":0},{"$f":"IF(A14<>\"\",IFERROR(VLOOKUP(P14,Tabelas!B:D,3,0),0),\"\")","v":0},{"$f":"IF(A14<>\"\",IFERROR(VLOOKUP(Q14,Tabelas!B:D,3,0),0),\"\")","v":0},{"$f":"IF(A14<>\"\",IFERROR(VLOOKUP(R14,Tabelas!B:D,3,0),0),\"\")","v":0},{"$f":"IF(A14<>\"\",IFERROR(VLOOKUP(S14,Tabelas!B:D,3,0),0),\"\")","v":0},{"$f":"IF(A14<>\"\",IFERROR(VLOOKUP(T14,Tabelas!B:D,3,0),0),\"\")","v":0},{"$f":"IF(A14<>\"\",IFERROR(VLOOKUP(U14,Tabelas!B:D,3,0),0),\"\")","v":0},{"$f":"IF(A14<>\"\",IFERROR(VLOOKUP(V14,Tabelas!B:D,3,0),0),\"\")","v":0},{"$f":"IF(A14<>\"\",IFERROR(VLOOKUP(W14,Tabelas!B:D,3,0),0),\"\")","v":0},{"$f":"IF(A14<>\"\",IFERROR(VLOOKUP(X14,Tabelas!B:D,3,0),0),\"\")","v":0},{"$f":"IF(A14<>\"\",IFERROR(VLOOKUP(Y14,Tabelas!B:D,3,0),0),\"\")","v":0},{"$f":"IF(A14<>\"\",IFERROR(VLOOKUP(Z14,Tabelas!B:D,3,0),0),\"\")","v":0},{"$f":"IF(A14<>\"\",IFERROR(VLOOKUP(AA14,Tabelas!B:D,3,0),0),\"\")","v":0},{"$f":"IF(A14<>\"\",IFERROR(VLOOKUP(AB14,Tabelas!B:D,3,0),0),\"\")","v":0},{"$f":"IF(A14<>\"\",IFERROR(VLOOKUP(AC14,Tabelas!B:D,3,0),0),\"\")","v":0},{"$f":"IF(A14<>\"\",IFERROR(VLOOKUP(AD14,Tabelas!B:D,3,0),0),\"\")","v":0},{"$f":"IF(A14<>\"\",IFERROR(VLOOKUP(AE14,Tabelas!B:D,3,0),0),\"\")","v":0},{"$f":"IF(A14<>\"\",IFERROR(VLOOKUP(AF14,Tabelas!B:D,3,0),0),\"\")","v":0},{"$f":"IF(A14<>\"\",IFERROR(VLOOKUP(AG14,Tabelas!B:D,3,0),0),\"\")","v":0},{"$f":"IF(A14<>\"\",IFERROR(VLOOKUP(AH14,Tabelas!B:D,3,0),0),\"\")","v":0},{"$f":"IF(A14<>\"\",IFERROR(VLOOKUP(#REF!,Tabelas!B:D,3,0),0),\"\")","v":0},{"$f":"IF(A14<>\"\",IFERROR(VLOOKUP(#REF!,Tabelas!B:D,3,0),0),\"\")","v":0},{"$f":"IF(A14<>\"\",IFERROR(VLOOKUP(#REF!,Tabelas!B:D,3,0),0),\"\")","v":0}]
["Ari Ojeda Ocampo Moré",2116216,13369,"Médico","RJU",30,"D6",null,"D6",null,null,null,"D6","D6",null,"D6",null,null,null,"D6","D6",null,"D6",null,null,null,"D6","D6",null,"D6",null,null,null,"D6",{"$f":"IF(A15<>\"\",IFERROR(VLOOKUP(G15,Tabelas!B:D,3,0),0),\"\")","v":12},{"$f":"IF(A15<>\"\",IFERROR(VLOOKUP(H15,Tabelas!B:D,3,0),0),\"\")","v":0},{"$f":"IF(A15<>\"\",IFERROR(VLOOKUP(I15,Tabelas!B:D,3,0),0),\"\")","v":12},{"$f":"IF(A15<>\"\",IFERROR(VLOOKUP(J15,Tabelas!B:D,3,0),0),\"\")","v":0},{"$f":"IF(A15<>\"\",IFERROR(VLOOKUP(K15,Tabelas!B:D,3,0),0),\"\")","v":0},{"$f":"IF(A15<>\"\",IFERROR(VLOOKUP(L15,Tabelas!B:D,3,0),0),\"\")","v":0},{"$f":"IF(A15<>\"\",IFERROR(VLOOKUP(M15,Tabelas!B:D,3,0),0),\"\")","v":12},{"$f":"IF(A15<>\"\",IFERROR(VLOOKUP(N15,Tabelas!B:D,3,0),0),\"\")","v":12},{"$f":"IF(A15<>\"\",IFERROR(VLOOKUP(O15,Tabelas!B:D,3,0),0),\"\")","v":0},{"$f":"IF(A15<>\"\",IFERROR(VLOOKUP(P15,Tabelas!B:D,3,0),0),\"\")","v":12},{"$f":"IF(A15<>\"\",IFERROR(VLOOKUP(Q15,Tabelas!B:D,3,0),0),\"\")","v":0},{"$f":"IF(A15<>\"\",IFERROR(VLOOKUP(R15,Tabelas!B:D,3,0),0),\"\")","v":0},{"$f":"IF(A15<>\"\",IFERROR(VLOOKUP(S15,Tabelas!B:D,3,0),0),\"\")","v":0},{"$f":"IF(A15<>\"\",IFERROR(VLOOKUP(T15,Tabelas!B:D,3,0),0),\"\")","v":12},{"$f":"IF(A15<>\"\",IFERROR(VLOOKUP(U15,Tabelas!B:D,3,0),0),\"\")","v":12},{"$f":"IF(A15<>\"\",IFERROR(VLOOKUP(V15,Tabelas!B:D,3,0),0),\"\")","v":0},{"$f":"IF(A15<>\"\",IFERROR(VLOOKUP(W15,Tabelas!B:D,3,0),0),\"\")","v":12},{"$f":"IF(A15<>\"\",IFERROR(VLOOKUP(X15,Tabelas!B:D,3,0),0),\"\")","v":0},{"$f":"IF(A15<>\"\",IFERROR(VLOOKUP(Y15,Tabelas!B:D,3,0),0),\"\")","v":0},{"$f":"IF(A15<>\"\",IFERROR(VLOOKUP(Z15,Tabelas!B:D,3,0),0),\"\")","v":0},{"$f":"IF(A15<>\"\",IFERROR(VLOOKUP(AA15,Tabelas!B:D,3,0),0),\"\")","v":12},{"$f":"IF(A15<>\"\",IFERROR(VLOOKUP(AB15,Tabelas!B:D,3,0),0),\"\")","v":12},{"$f":"IF(A15<>\"\",IFERROR(VLOOKUP(AC15,Tabelas!B:D,3,0),0),\"\")","v":0},{"$f":"IF(A15<>\"\",IFERROR(VLOOKUP(AD15,Tabelas!B:D,3,0),0),\"\")","v":12},{"$f":"IF(A15<>\"\",IFERROR(VLOOKUP(AE15,Tabelas!B:D,3,0),0),\"\")","v":0},{"$f":"IF(A15<>\"\",IFERROR(VLOOKUP(AF15,Tabelas!B:D,3,0),0),\"\")","v":0},{"$f":"IF(A15<>\"\",IFERROR(VLOOKUP(AG15,Tabelas!B:D,3,0),0),\"\")","v":0},{"$f":"IF(A15<>\"\",IFERROR(VLOOKUP(AH15,Tabelas!B:D,3,0),0),\"\")","v":12},{"$f":"IF(A15<>\"\",IFERROR(VLOOKUP(#REF!,Tabelas!B:D,3,0),0),\"\")","v":0},{"$f":"IF(A15<>\"\",IFERROR(VLOOKUP(#REF!,Tabelas!B:D,3,0),0),\"\")","v":0},{"$f":"IF(A15<>\"\",IFERROR(VLOOKUP(#REF!,Tabelas!B:D,3,0),0),\"\")","v":0}]
["Cesar Paulo Semionato",1158471,3535,"Médico","RJU",30,"D6",null,"D6",null,null,null,"D6","D6",null,"D6",null,null,null,"D6","D6",null,"D6",null,null,null,"D6","D6",null,"D6",null,null,null,"D6",{"$f":"IF(A16<>\"\",IFERROR(VLOOKUP(G16,Tabelas!B:D,3,0),0),\"\")","v":12},{"$f":"IF(A16<>\"\",IFERROR(VLOOKUP(H16,Tabelas!B:D,3,0),0),\"\")","v":0},{"$f":"IF(A16<>\"\",IFERROR(VLOOKUP(I16,Tabelas!B:D,3,0),0),\"\")","v":12},{"$f":"IF(A16<>\"\",IFERROR(VLOOKUP(J16,Tabelas!B:D,3,0),0),\"\")","v":0},{"$f":"IF(A16<>\"\",IFERROR(VLOOKUP(K16,Tabelas!B:D,3,0),0),\"\")","v":0},{"$f":"IF(A16<>\"\",IFERROR(VLOOKUP(L16,Tabelas!B:D,3,0),0),\"\")","v":0},{"$f":"IF(A16<>\"\",IFERROR(VLOOKUP(M16,Tabelas!B:D,3,0),0),\"\")","v":12},{"$f":"IF(A16<>\"\",IFERROR(VLOOKUP(N16,Tabelas!B:D,3,0),0),\"\")","v":12},{"$f":"IF(A16<>\"\",IFERROR(VLOOKUP(O16,Tabelas!B:D,3,0),0),\"\")","v":0},{"$f":"IF(A16<>\"\",IFERROR(VLOOKUP(P16,Tabelas!B:D,3,0),0),\"\")","v":12},{"$f":"IF(A16<>\"\",IFERROR(VLOOKUP(Q16,Tabelas!B:D,3,0),0),\"\")","v":0},{"$f":"IF(A16<>\"\",IFERROR(VLOOKUP(R16,Tabelas!B:D,3,0),0),\"\")","v":0},{"$f":"IF(A16<>\"\",IFERROR(VLOOKUP(S16,Tabelas!B:D,3,0),0),\"\")","v":0},{"$f":"IF(A16<>\"\",IFERROR(VLOOKUP(T16,Tabelas!B:D,3,0),0),\"\")","v":12},{"$f":"IF(A16<>\"\",IFERROR(VLOOKUP(U16,Tabelas!B:D,3,0),0),\"\")","v":12},{"$f":"IF(A16<>\"\",IFERROR(VLOOKUP(V16,Tabelas!B:D,3,0),0),\"\")","v":0},{"$f":"IF(A16<>\"\",IFERROR(VLOOKUP(W16,Tabelas!B:D,3,0),0),\"\")","v":12},{"$f":"IF(A16<>\"\",IFERROR(VLOOKUP(X16,Tabelas!B:D,3,0),0),\"\")","v":0},{"$f":"IF(A16<>\"\",IFERROR(VLOOKUP(Y16,Tabelas!B:D,3,0),0),\"\")","v":0},{"$f":"IF(A16<>\"\",IFERROR(VLOOKUP(Z16,Tabelas!B:D,3,0),0),\"\")","v":0},{"$f":"IF(A16<>\"\",IFERROR(VLOOKUP(AA16,Tabelas!B:D,3,0),0),\"\")","v":12},{"$f":"IF(A16<>\"\",IFERROR(VLOOKUP(AB16,Tabelas!B:D,3,0),0),\"\")","v":12},{"$f":"IF(A16<>\"\",IFERROR(VLOOKUP(AC16,Tabelas!B:D,3,0),0),\"\")","v":0},{"$f":"IF(A16<>\"\",IFERROR(VLOOKUP(AD16,Tabelas!B:D,3,0),0),\"\")","v":12},{"$f":"IF(A16<>\"\",IFERROR(VLOOKUP(AE16,Tabelas!B:D,3,0),0),\"\")","v":0},{"$f":"IF(A16<>\"\",IFERROR(VLOOKUP(AF16,Tabelas!B:D,3,0),0),\"\")","v":0},{"$f":"IF(A16<>\"\",IFERROR(VLOOKUP(AG16,Tabelas!B:D,3,0),0),\"\")","v":0},{"$f":"IF(A16<>\"\",IFERROR(VLOOKUP(AH16,Tabelas!B:D,3,0),0),\"\")","v":12},{"$f":"IF(A16<>\"\",IFERROR(VLOOKUP(#REF!,Tabelas!B:D,3,0),0),\"\")","v":0},{"$f":"IF(A16<>\"\",IFERROR(VLOOKUP(#REF!,Tabelas!B:D,3,0),0),\"\")","v":0},{"$f":"IF(A16<>\"\",IFERROR(VLOOKUP(#REF!,Tabelas!B:D,3,0),0),\"\")","v":0}]
["Joao Eduardo Martins Teixeira",3144885,27906,"Médico","EBSERH",24,"T15","M15","M15",null,null,null,"M15","T15","M15","M15",null,null,null,"M15","T15","M15","M15",null,null,null,"M15","T15","M15","M15",null,null,null,"M15",{"$f":"IF(A17<>\"\",IFERROR(VLOOKUP(G17,Tabelas!B:D,3,0),0),\"\")","v":6},{"$f":"IF(A17<>\"\",IFERROR(VLOOKUP(H17,Tabelas!B:D,3,0),0),\"\")","v":6},{"$f":"IF(A17<>\"\",IFERROR(VLOOKUP(I17,Tabelas!B:D,3,0),0),\"\")","v":6},{"$f":"IF(A17<>\"\",IFERROR(VLOOKUP(J17,Tabelas!B:D,3,0),0),\"\")","v":0},{"$f":"IF(A17<>\"\",IFERROR(VLOOKUP(K17,Tabelas!B:D,3,0),0),\"\")","v":0},{"$f":"IF(A17<>\"\",IFERROR(VLOOKUP(L17,Tabelas!B:D,3,0),0),\"\")","v":0},{"$f":"IF(A17<>\"\",IFERROR(VLOOKUP(M17,Tabelas!B:D,3,0),0),\"\")","v":6},{"$f":"IF(A17<>\"\",IFERROR(VLOOKUP(N17,Tabelas!B:D,3,0),0),\"\")","v":6},{"$f":"IF(A17<>\"\",IFERROR(VLOOKUP(O17,Tabelas!B:D,3,0),0),\"\")","v":6},{"$f":"IF(A17<>\"\",IFERROR(VLOOKUP(P17,Tabelas!B:D,3,0),0),\"\")","v":6},{"$f":"IF(A17<>\"\",IFERROR(VLOOKUP(Q17,Tabelas!B:D,3,0),0),\"\")","v":0},{"$f":"IF(A17<>\"\",IFERROR(VLOOKUP(R17,Tabelas!B:D,3,0),0),\"\")","v":0},{"$f":"IF(A17<>\"\",IFERROR(VLOOKUP(S17,Tabelas!B:D,3,0),0),\"\")","v":0},{"$f":"IF(A17<>\"\",IFERROR(VLOOKUP(T17,Tabelas!B:D,3,0),0),\"\")","v":6},{"$f":"IF(A17<>\"\",IFERROR(VLOOKUP(U17,Tabelas!B:D,3,0),0),\"\")","v":6},{"$f":"IF(A17<>\"\",IFERROR(VLOOKUP(V17,Tabelas!B:D,3,0),0),\"\")","v":6},{"$f":"IF(A17<>\"\",IFERROR(VLOOKUP(W17,Tabelas!B:D,3,0),0),\"\")","v":6},{"$f":"IF(A17<>\"\",IFERROR(VLOOKUP(X17,Tabelas!B:D,3,0),0),\"\")","v":0},{"$f":"IF(A17<>\"\",IFERROR(VLOOKUP(Y17,Tabelas!B:D,3,0),0),\"\")","v":0},{"$f":"IF(A17<>\"\",IFERROR(VLOOKUP(Z17,Tabelas!B:D,3,0),0),\"\")","v":0},{"$f":"IF(A17<>\"\",IFERROR(VLOOKUP(AA17,Tabelas!B:D,3,0),0),\"\")","v":6},{"$f":"IF(A17<>\"\",IFERROR(VLOOKUP(AB17,Tabelas!B:D,3,0),0),\"\")","v":6},{"$f":"IF(A17<>\"\",IFERROR(VLOOKUP(AC17,Tabelas!B:D,3,0),0),\"\")","v":6},{"$f":"IF(A17<>\"\",IFERROR(VLOOKUP(AD17,Tabelas!B:D,3,0),0),\"\")","v":6},{"$f":"IF(A17<>\"\",IFERROR(VLOOKUP(AE17,Tabelas!B:D,3,0),0),\"\")","v":0},{"$f":"IF(A17<>\"\",IFERROR(VLOOKUP(AF17,Tabelas!B:D,3,0),0),\"\")","v":0},{"$f":"IF(A17<>\"\",IFERROR(VLOOKUP(AG17,Tabelas!B:D,3,0),0),\"\")","v":0},{"$f":"IF(A17<>\"\",IFERROR(VLOOKUP(AH17,Tabelas!B:D,3,0),0),\"\")","v":6},{"$f":"IF(A17<>\"\",IFERROR(VLOOKUP(#REF!,Tabelas!B:D,3,0),0),\"\")","v":0},{"$f":"IF(A17<>\"\",IFERROR(VLOOKUP(#REF!,Tabelas!B:D,3,0),0),\"\")","v":0},{"$f":"IF(A17<>\"\",IFERROR(VLOOKUP(#REF!,Tabelas!B:D,3,0),0),\"\")","v":0}]
["Luciana Kiehl Noronha ",1441915,24335,"Médico","EBSERH",24,"FE",null,"M15","D6",null,null,null,"D6",null,"M15","D6",null,null,null,"D6",null,"M15","D6",null,null,null,"D6",null,"M15","D6",null,null,null,{"$f":"IF(A18<>\"\",IFERROR(VLOOKUP(G18,Tabelas!B:D,3,0),0),\"\")","v":0},{"$f":"IF(A18<>\"\",IFERROR(VLOOKUP(H18,Tabelas!B:D,3,0),0),\"\")","v":0},{"$f":"IF(A18<>\"\",IFERROR(VLOOKUP(I18,Tabelas!B:D,3,0),0),\"\")","v":6},{"$f":"IF(A18<>\"\",IFERROR(VLOOKUP(J18,Tabelas!B:D,3,0),0),\"\")","v":12},{"$f":"IF(A18<>\"\",IFERROR(VLOOKUP(K18,Tabelas!B:D,3,0),0),\"\")","v":0},{"$f":"IF(A18<>\"\",IFERROR(VLOOKUP(L18,Tabelas!B:D,3,0),0),\"\")","v":0},{"$f":"IF(A18<>\"\",IFERROR(VLOOKUP(M18,Tabelas!B:D,3,0),0),\"\")","v":0},{"$f":"IF(A18<>\"\",IFERROR(VLOOKUP(N18,Tabelas!B:D,3,0),0),\"\")","v":12},{"$f":"IF(A18<>\"\",IFERROR(VLOOKUP(O18,Tabelas!B:D,3,0),0),\"\")","v":0},{"$f":"IF(A18<>\"\",IFERROR(VLOOKUP(P18,Tabelas!B:D,3,0),0),\"\")","v":6},{"$f":"IF(A18<>\"\",IFERROR(VLOOKUP(Q18,Tabelas!B:D,3,0),0),\"\")","v":12},{"$f":"IF(A18<>\"\",IFERROR(VLOOKUP(R18,Tabelas!B:D,3,0),0),\"\")","v":0},{"$f":"IF(A18<>\"\",IFERROR(VLOOKUP(S18,Tabelas!B:D,3,0),0),\"\")","v":0},{"$f":"IF(A18<>\"\",IFERROR(VLOOKUP(T18,Tabelas!B:D,3,0),0),\"\")","v":0},{"$f":"IF(A18<>\"\",IFERROR(VLOOKUP(U18,Tabelas!B:D,3,0),0),\"\")","v":12},{"$f":"IF(A18<>\"\",IFERROR(VLOOKUP(V18,Tabelas!B:D,3,0),0),\"\")","v":0},{"$f":"IF(A18<>\"\",IFERROR(VLOOKUP(W18,Tabelas!B:D,3,0),0),\"\")","v":6},{"$f":"IF(A18<>\"\",IFERROR(VLOOKUP(X18,Tabelas!B:D,3,0),0),\"\")","v":12},{"$f":"IF(A18<>\"\",IFERROR(VLOOKUP(Y18,Tabelas!B:D,3,0),0),\"\")","v":0},{"$f":"IF(A18<>\"\",IFERROR(VLOOKUP(Z18,Tabelas!B:D,3,0),0),\"\")","v":0},{"$f":"IF(A18<>\"\",IFERROR(VLOOKUP(AA18,Tabelas!B:D,3,0),0),\"\")","v":0},{"$f":"IF(A18<>\"\",IFERROR(VLOOKUP(AB18,Tabelas!B:D,3,0),0),\"\")","v":12},{"$f":"IF(A18<>\"\",IFERROR(VLOOKUP(AC18,Tabelas!B:D,3,0),0),\"\")","v":0},{"$f":"IF(A18<>\"\",IFERROR(VLOOKUP(AD18,Tabelas!B:D,3,0),0),\"\")","v":6},{"$f":"IF(A18<>\"\",IFERROR(VLOOKUP(AE18,Tabelas!B:D,3,0),0),\"\")","v":12},{"$f":"IF(A18<>\"\",IFERROR(VLOOKUP(AF18,Tabelas!B:D,3,0),0),\"\")","v":0},{"$f":"IF(A18<>\"\",IFERROR(VLOOKUP(AG18,Tabelas!B:D,3,0),0),\"\")","v":0},{"$f":"IF(A18<>\"\",IFERROR(VLOOKUP(AH18,Tabelas!B:D,3,0),0),\"\")","v":0},{"$f":"IF(A18<>\"\",IFERROR(VLOOKUP(#REF!,Tabelas!B:D,3,0),0),\"\")","v":0},{"$f":"IF(A18<>\"\",IFERROR(VLOOKUP(#REF!,Tabelas!B:D,3,0),0),\"\")","v":0},{"$f":"IF(A18<>\"\",IFERROR(VLOOKUP(#REF!,Tabelas!B:D,3,0),0),\"\")","v":0}]
["CARDIOLOGIA ",null,null,null,null,null,null,null,null,null,null,null,null,null,null,null,null,null,null,null,null,null,null,null,null,null,null,null,null,null,null,null,null,null,{"$f":"IF(A19<>\"\",IFERROR(VLOOKUP(G19,Tabelas!B:D,3,0),0),\"\")","v":0},{"$f":"IF(A19<>\"\",IFERROR(VLOOKUP(H19,Tabelas!B:D,3,0),0),\"\")","v":0},{"$f":"IF(A19<>\"\",IFERROR(VLOOKUP(I19,Tabelas!B:D,3,0),0),\"\")","v":0},{"$f":"IF(A19<>\"\",IFERROR(VLOOKUP(J19,Tabelas!B:D,3,0),0),\"\")","v":0},{"$f":"IF(A19<>\"\",IFERROR(VLOOKUP(K19,Tabelas!B:D,3,0),0),\"\")","v":0},{"$f":"IF(A19<>\"\",IFERROR(VLOOKUP(L19,Tabelas!B:D,3,0),0),\"\")","v":0},{"$f":"IF(A19<>\"\",IFERROR(VLOOKUP(M19,Tabelas!B:D,3,0),0),\"\")","v":0},{"$f":"IF(A19<>\"\",IFERROR(VLOOKUP(N19,Tabelas!B:D,3,0),0),\"\")","v":0},{"$f":"IF(A19<>\"\",IFERROR(VLOOKUP(O19,Tabelas!B:D,3,0),0),\"\")","v":0},{"$f":"IF(A19<>\"\",IFERROR(VLOOKUP(P19,Tabelas!B:D,3,0),0),\"\")","v":0},{"$f":"IF(A19<>\"\",IFERROR(VLOOKUP(Q19,Tabelas!B:D,3,0),0),\"\")","v":0},{"$f":"IF(A19<>\"\",IFERROR(VLOOKUP(R19,Tabelas!B:D,3,0),0),\"\")","v":0},{"$f":"IF(A19<>\"\",IFERROR(VLOOKUP(S19,Tabelas!B:D,3,0),0),\"\")","v":0},{"$f":"IF(A19<>\"\",IFERROR(VLOOKUP(T19,Tabelas!B:D,3,0),0),\"\")","v":0},{"$f":"IF(A19<>\"\",IFERROR(VLOOKUP(U19,Tabelas!B:D,3,0),0),\"\")","v":0},{"$f":"IF(A19<>\"\",IFERROR(VLOOKUP(V19,Tabelas!B:D,3,0),0),\"\")","v":0},{"$f":"IF(A19<>\"\",IFERROR(VLOOKUP(W19,Tabelas!B:D,3,0),0),\"\")","v":0},{"$f":"IF(A19<>\"\",IFERROR(VLOOKUP(X19,Tabelas!B:D,3,0),0),\"\")","v":0},{"$f":"IF(A19<>\"\",IFERROR(VLOOKUP(Y19,Tabelas!B:D,3,0),0),\"\")","v":0},{"$f":"IF(A19<>\"\",IFERROR(VLOOKUP(Z19,Tabelas!B:D,3,0),0),\"\")","v":0},{"$f":"IF(A19<>\"\",IFERROR(VLOOKUP(AA19,Tabelas!B:D,3,0),0),\"\")","v":0},{"$f":"IF(A19<>\"\",IFERROR(VLOOKUP(AB19,Tabelas!B:D,3,0),0),\"\")","v":0},{"$f":"IF(A19<>\"\",IFERROR(VLOOKUP(AC19,Tabelas!B:D,3,0),0),\"\")","v":0},{"$f":"IF(A19<>\"\",IFERROR(VLOOKUP(AD19,Tabelas!B:D,3,0),0),\"\")","v":0},{"$f":"IF(A19<>\"\",IFERROR(VLOOKUP(AE19,Tabelas!B:D,3,0),0),\"\")","v":0},{"$f":"IF(A19<>\"\",IFERROR(VLOOKUP(AF19,Tabelas!B:D,3,0),0),\"\")","v":0},{"$f":"IF(A19<>\"\",IFERROR(VLOOKUP(AG19,Tabelas!B:D,3,0),0),\"\")","v":0},{"$f":"IF(A19<>\"\",IFERROR(VLOOKUP(AH19,Tabelas!B:D,3,0),0),\"\")","v":0},{"$f":"IF(A19<>\"\",IFERROR(VLOOKUP(#REF!,Tabelas!B:D,3,0),0),\"\")","v":0},{"$f":"IF(A19<>\"\",IFERROR(VLOOKUP(#REF!,Tabelas!B:D,3,0),0),\"\")","v":0},{"$f":"IF(A19<>\"\",IFERROR(VLOOKUP(#REF!,Tabelas!B:D,3,0),0),\"\")","v":0}]
["Aurelio Pacheco Costa Filho ",1160449,5182,"Médico","RJU",20,null,"D6",null,"D6",null,null,null,null,"D6",null,"D6",null,null,null,null,"D6",null,"D6",null,null,null,null,"D6",null,"D6",null,null,null,{"$f":"IF(A20<>\"\",IFERROR(VLOOKUP(G20,Tabelas!B:D,3,0),0),\"\")","v":0},{"$f":"IF(A20<>\"\",IFERROR(VLOOKUP(H20,Tabelas!B:D,3,0),0),\"\")","v":12},{"$f":"IF(A20<>\"\",IFERROR(VLOOKUP(I20,Tabelas!B:D,3,0),0),\"\")","v":0},{"$f":"IF(A20<>\"\",IFERROR(VLOOKUP(J20,Tabelas!B:D,3,0),0),\"\")","v":12},{"$f":"IF(A20<>\"\",IFERROR(VLOOKUP(K20,Tabelas!B:D,3,0),0),\"\")","v":0},{"$f":"IF(A20<>\"\",IFERROR(VLOOKUP(L20,Tabelas!B:D,3,0),0),\"\")","v":0},{"$f":"IF(A20<>\"\",IFERROR(VLOOKUP(M20,Tabelas!B:D,3,0),0),\"\")","v":0},{"$f":"IF(A20<>\"\",IFERROR(VLOOKUP(N20,Tabelas!B:D,3,0),0),\"\")","v":0},{"$f":"IF(A20<>\"\",IFERROR(VLOOKUP(O20,Tabelas!B:D,3,0),0),\"\")","v":12},{"$f":"IF(A20<>\"\",IFERROR(VLOOKUP(P20,Tabelas!B:D,3,0),0),\"\")","v":0},{"$f":"IF(A20<>\"\",IFERROR(VLOOKUP(Q20,Tabelas!B:D,3,0),0),\"\")","v":12},{"$f":"IF(A20<>\"\",IFERROR(VLOOKUP(R20,Tabelas!B:D,3,0),0),\"\")","v":0},{"$f":"IF(A20<>\"\",IFERROR(VLOOKUP(S20,Tabelas!B:D,3,0),0),\"\")","v":0},{"$f":"IF(A20<>\"\",IFERROR(VLOOKUP(T20,Tabelas!B:D,3,0),0),\"\")","v":0},{"$f":"IF(A20<>\"\",IFERROR(VLOOKUP(U20,Tabelas!B:D,3,0),0),\"\")","v":0},{"$f":"IF(A20<>\"\",IFERROR(VLOOKUP(V20,Tabelas!B:D,3,0),0),\"\")","v":12},{"$f":"IF(A20<>\"\",IFERROR(VLOOKUP(W20,Tabelas!B:D,3,0),0),\"\")","v":0},{"$f":"IF(A20<>\"\",IFERROR(VLOOKUP(X20,Tabelas!B:D,3,0),0),\"\")","v":12},{"$f":"IF(A20<>\"\",IFERROR(VLOOKUP(Y20,Tabelas!B:D,3,0),0),\"\")","v":0},{"$f":"IF(A20<>\"\",IFERROR(VLOOKUP(Z20,Tabelas!B:D,3,0),0),\"\")","v":0},{"$f":"IF(A20<>\"\",IFERROR(VLOOKUP(AA20,Tabelas!B:D,3,0),0),\"\")","v":0},{"$f":"IF(A20<>\"\",IFERROR(VLOOKUP(AB20,Tabelas!B:D,3,0),0),\"\")","v":0},{"$f":"IF(A20<>\"\",IFERROR(VLOOKUP(AC20,Tabelas!B:D,3,0),0),\"\")","v":12},{"$f":"IF(A20<>\"\",IFERROR(VLOOKUP(AD20,Tabelas!B:D,3,0),0),\"\")","v":0},{"$f":"IF(A20<>\"\",IFERROR(VLOOKUP(AE20,Tabelas!B:D,3,0),0),\"\")","v":12},{"$f":"IF(A20<>\"\",IFERROR(VLOOKUP(AF20,Tabelas!B:D,3,0),0),\"\")","v":0},{"$f":"IF(A20<>\"\",IFERROR(VLOOKUP(AG20,Tabelas!B:D,3,0),0),\"\")","v":0},{"$f":"IF(A20<>\"\",IFERROR(VLOOKUP(AH20,Tabelas!B:D,3,0),0),\"\")","v":0},{"$f":"IF(A20<>\"\",IFERROR(VLOOKUP(#REF!,Tabelas!B:D,3,0),0),\"\")","v":0},{"$f":"IF(A20<>\"\",IFERROR(VLOOKUP(#REF!,Tabelas!B:D,3,0),0),\"\")","v":0},{"$f":"IF(A20<>\"\",IFERROR(VLOOKUP(#REF!,Tabelas!B:D,3,0),0),\"\")","v":0}]
["Roberto Henrique Heinisch",1159126,3907,"Mécico","RJU",20,"FE","FE","FE","FE",null,null,"T15","T15","T15","T15",null,null,null,"T15","T15","T15","T15",null,null,null,"T15","T15","T15","T15",null,null,null,"T15",{"$f":"IF(A21<>\"\",IFERROR(VLOOKUP(G21,Tabelas!B:D,3,0),0),\"\")","v":0},{"$f":"IF(A21<>\"\",IFERROR(VLOOKUP(H21,Tabelas!B:D,3,0),0),\"\")","v":0},{"$f":"IF(A21<>\"\",IFERROR(VLOOKUP(I21,Tabelas!B:D,3,0),0),\"\")","v":0},{"$f":"IF(A21<>\"\",IFERROR(VLOOKUP(J21,Tabelas!B:D,3,0),0),\"\")","v":0},{"$f":"IF(A21<>\"\",IFERROR(VLOOKUP(K21,Tabelas!B:D,3,0),0),\"\")","v":0},{"$f":"IF(A21<>\"\",IFERROR(VLOOKUP(L21,Tabelas!B:D,3,0),0),\"\")","v":0},{"$f":"IF(A21<>\"\",IFERROR(VLOOKUP(M21,Tabelas!B:D,3,0),0),\"\")","v":6},{"$f":"IF(A21<>\"\",IFERROR(VLOOKUP(N21,Tabelas!B:D,3,0),0),\"\")","v":6},{"$f":"IF(A21<>\"\",IFERROR(VLOOKUP(O21,Tabelas!B:D,3,0),0),\"\")","v":6},{"$f":"IF(A21<>\"\",IFERROR(VLOOKUP(P21,Tabelas!B:D,3,0),0),\"\")","v":6},{"$f":"IF(A21<>\"\",IFERROR(VLOOKUP(Q21,Tabelas!B:D,3,0),0),\"\")","v":0},{"$f":"IF(A21<>\"\",IFERROR(VLOOKUP(R21,Tabelas!B:D,3,0),0),\"\")","v":0},{"$f":"IF(A21<>\"\",IFERROR(VLOOKUP(S21,Tabelas!B:D,3,0),0),\"\")","v":0},{"$f":"IF(A21<>\"\",IFERROR(VLOOKUP(T21,Tabelas!B:D,3,0),0),\"\")","v":6},{"$f":"IF(A21<>\"\",IFERROR(VLOOKUP(U21,Tabelas!B:D,3,0),0),\"\")","v":6},{"$f":"IF(A21<>\"\",IFERROR(VLOOKUP(V21,Tabelas!B:D,3,0),0),\"\")","v":6},{"$f":"IF(A21<>\"\",IFERROR(VLOOKUP(W21,Tabelas!B:D,3,0),0),\"\")","v":6},{"$f":"IF(A21<>\"\",IFERROR(VLOOKUP(X21,Tabelas!B:D,3,0),0),\"\")","v":0},{"$f":"IF(A21<>\"\",IFERROR(VLOOKUP(Y21,Tabelas!B:D,3,0),0),\"\")","v":0},{"$f":"IF(A21<>\"\",IFERROR(VLOOKUP(Z21,Tabelas!B:D,3,0),0),\"\")","v":0},{"$f":"IF(A21<>\"\",IFERROR(VLOOKUP(AA21,Tabelas!B:D,3,0),0),\"\")","v":6},{"$f":"IF(A21<>\"\",IFERROR(VLOOKUP(AB21,Tabelas!B:D,3,0),0),\"\")","v":6},{"$f":"IF(A21<>\"\",IFERROR(VLOOKUP(AC21,Tabelas!B:D,3,0),0),\"\")","v":6},{"$f":"IF(A21<>\"\",IFERROR(VLOOKUP(AD21,Tabelas!B:D,3,0),0),\"\")","v":6},{"$f":"IF(A21<>\"\",IFERROR(VLOOKUP(AE21,Tabelas!B:D,3,0),0),\"\")","v":0},{"$f":"IF(A21<>\"\",IFERROR(VLOOKUP(AF21,Tabelas!B:D,3,0),0),\"\")","v":0},{"$f":"IF(A21<>\"\",IFERROR(VLOOKUP(AG21,Tabelas!B:D,3,0),0),\"\")","v":0},{"$f":"IF(A21<>\"\",IFERROR(VLOOKUP(AH21,Tabelas!B:D,3,0),0),\"\")","v":6},{"$f":"IF(A21<>\"\",IFERROR(VLOOKUP(#REF!,Tabelas!B:D,3,0),0),\"\")","v":0},{"$f":"IF(A21<>\"\",IFERROR(VLOOKUP(#REF!,Tabelas!B:D,3,0),0),\"\")","v":0},{"$f":"IF(A21<>\"\",IFERROR(VLOOKUP(#REF!,Tabelas!B:D,3,0),0),\"\")","v":0}]
["Alexandre Dias de Oliveira ",1919092,24293,"Médico ","EBSERH",24,"FE","FE","FE","FE",null,null,"FE","FE","M15","M15","M15",null,null,null,"M15","M15","M15","M15",null,null,null,"M15","M15","M15","M15",null,null,null,{"$f":"IF(A22<>\"\",IFERROR(VLOOKUP(G22,Tabelas!B:D,3,0),0),\"\")","v":0},{"$f":"IF(A22<>\"\",IFERROR(VLOOKUP(H22,Tabelas!B:D,3,0),0),\"\")","v":0},{"$f":"IF(A22<>\"\",IFERROR(VLOOKUP(I22,Tabelas!B:D,3,0),0),\"\")","v":0},{"$f":"IF(A22<>\"\",IFERROR(VLOOKUP(J22,Tabelas!B:D,3,0),0),\"\")","v":0},{"$f":"IF(A22<>\"\",IFERROR(VLOOKUP(K22,Tabelas!B:D,3,0),0),\"\")","v":0},{"$f":"IF(A22<>\"\",IFERROR(VLOOKUP(L22,Tabelas!B:D,3,0),0),\"\")","v":0},{"$f":"IF(A22<>\"\",IFERROR(VLOOKUP(M22,Tabelas!B:D,3,0),0),\"\")","v":0},{"$f":"IF(A22<>\"\",IFERROR(VLOOKUP(N22,Tabelas!B:D,3,0),0),\"\")","v":0},{"$f":"IF(A22<>\"\",IFERROR(VLOOKUP(O22,Tabelas!B:D,3,0),0),\"\")","v":6},{"$f":"IF(A22<>\"\",IFERROR(VLOOKUP(P22,Tabelas!B:D,3,0),0),\"\")","v":6},{"$f":"IF(A22<>\"\",IFERROR(VLOOKUP(Q22,Tabelas!B:D,3,0),0),\"\")","v":6},{"$f":"IF(A22<>\"\",IFERROR(VLOOKUP(R22,Tabelas!B:D,3,0),0),\"\")","v":0},{"$f":"IF(A22<>\"\",IFERROR(VLOOKUP(S22,Tabelas!B:D,3,0),0),\"\")","v":0},{"$f":"IF(A22<>\"\",IFERROR(VLOOKUP(T22,Tabelas!B:D,3,0),0),\"\")","v":0},{"$f":"IF(A22<>\"\",IFERROR(VLOOKUP(U22,Tabelas!B:D,3,0),0),\"\")","v":6},{"$f":"IF(A22<>\"\",IFERROR(VLOOKUP(V22,Tabelas!B:D,3,0),0),\"\")","v":6},{"$f":"IF(A22<>\"\",IFERROR(VLOOKUP(W22,Tabelas!B:D,3,0),0),\"\")","v":6},{"$f":"IF(A22<>\"\",IFERROR(VLOOKUP(X22,Tabelas!B:D,3,0),0),\"\")","v":6},{"$f":"IF(A22<>\"\",IFERROR(VLOOKUP(Y22,Tabelas!B:D,3,0),0),\"\")","v":0},{"$f":"IF(A22<>\"\",IFERROR(VLOOKUP(Z22,Tabelas!B:D,3,0),0),\"\")","v":0},{"$f":"IF(A22<>\"\",IFERROR(VLOOKUP(AA22,Tabelas!B:D,3,0),0),\"\")","v":0},{"$f":"IF(A22<>\"\",IFERROR(VLOOKUP(AB22,Tabelas!B:D,3,0),0),\"\")","v":6},{"$f":"IF(A22<>\"\",IFERROR(VLOOKUP(AC22,Tabelas!B:D,3,0),0),\"\")","v":6},{"$f":"IF(A22<>\"\",IFERROR(VLOOKUP(AD22,Tabelas!B:D,3,0),0),\"\")","v":6},{"$f":"IF(A22<>\"\",IFERROR(VLOOKUP(AE22,Tabelas!B:D,3,0),0),\"\")","v":6},{"$f":"IF(A22<>\"\",IFERROR(VLOOKUP(AF22,Tabelas!B:D,3,0),0),\"\")","v":0},{"$f":"IF(A22<>\"\",IFERROR(VLOOKUP(AG22,Tabelas!B:D,3,0),0),\"\")","v":0},{"$f":"IF(A22<>\"\",IFERROR(VLOOKUP(AH22,Tabelas!B:D,3,0),0),\"\")","v":0},{"$f":"IF(A22<>\"\",IFERROR(VLOOKUP(#REF!,Tabelas!B:D,3,0),0),\"\")","v":0},{"$f":"IF(A22<>\"\",IFERROR(VLOOKUP(#REF!,Tabelas!B:D,3,0),0),\"\")","v":0},{"$f":"IF(A22<>\"\",IFERROR(VLOOKUP(#REF!,Tabelas!B:D,3,0),0),\"\")","v":0}]
["Thais Rossoni Weber da Silva ",2676080,14819,"Médico","RJU",20,"T15",null,null,null,null,null,"D6","T15",null,null,null,null,null,"D6","T15",null,null,null,null,null,"D6","T15",null,null,null,null,null,"D6",{"$f":"IF(A23<>\"\",IFERROR(VLOOKUP(G23,Tabelas!B:D,3,0),0),\"\")","v":6},{"$f":"IF(A23<>\"\",IFERROR(VLOOKUP(H23,Tabelas!B:D,3,0),0),\"\")","v":0},{"$f":"IF(A23<>\"\",IFERROR(VLOOKUP(I23,Tabelas!B:D,3,0),0),\"\")","v":0},{"$f":"IF(A23<>\"\",IFERROR(VLOOKUP(J23,Tabelas!B:D,3,0),0),\"\")","v":0},{"$f":"IF(A23<>\"\",IFERROR(VLOOKUP(K23,Tabelas!B:D,3,0),0),\"\")","v":0},{"$f":"IF(A23<>\"\",IFERROR(VLOOKUP(L23,Tabelas!B:D,3,0),0),\"\")","v":0},{"$f":"IF(A23<>\"\",IFERROR(VLOOKUP(M23,Tabelas!B:D,3,0),0),\"\")","v":12},{"$f":"IF(A23<>\"\",IFERROR(VLOOKUP(N23,Tabelas!B:D,3,0),0),\"\")","v":6},{"$f":"IF(A23<>\"\",IFERROR(VLOOKUP(O23,Tabelas!B:D,3,0),0),\"\")","v":0},{"$f":"IF(A23<>\"\",IFERROR(VLOOKUP(P23,Tabelas!B:D,3,0),0),\"\")","v":0},{"$f":"IF(A23<>\"\",IFERROR(VLOOKUP(Q23,Tabelas!B:D,3,0),0),\"\")","v":0},{"$f":"IF(A23<>\"\",IFERROR(VLOOKUP(R23,Tabelas!B:D,3,0),0),\"\")","v":0},{"$f":"IF(A23<>\"\",IFERROR(VLOOKUP(S23,Tabelas!B:D,3,0),0),\"\")","v":0},{"$f":"IF(A23<>\"\",IFERROR(VLOOKUP(T23,Tabelas!B:D,3,0),0),\"\")","v":12},{"$f":"IF(A23<>\"\",IFERROR(VLOOKUP(U23,Tabelas!B:D,3,0),0),\"\")","v":6},{"$f":"IF(A23<>\"\",IFERROR(VLOOKUP(V23,Tabelas!B:D,3,0),0),\"\")","v":0},{"$f":"IF(A23<>\"\",IFERROR(VLOOKUP(W23,Tabelas!B:D,3,0),0),\"\")","v":0},{"$f":"IF(A23<>\"\",IFERROR(VLOOKUP(X23,Tabelas!B:D,3,0),0),\"\")","v":0},{"$f":"IF(A23<>\"\",IFERROR(VLOOKUP(Y23,Tabelas!B:D,3,0),0),\"\")","v":0},{"$f":"IF(A23<>\"\",IFERROR(VLOOKUP(Z23,Tabelas!B:D,3,0),0),\"\")","v":0},{"$f":"IF(A23<>\"\",IFERROR(VLOOKUP(AA23,Tabelas!B:D,3,0),0),\"\")","v":12},{"$f":"IF(A23<>\"\",IFERROR(VLOOKUP(AB23,Tabelas!B:D,3,0),0),\"\")","v":6},{"$f":"IF(A23<>\"\",IFERROR(VLOOKUP(AC23,Tabelas!B:D,3,0),0),\"\")","v":0},{"$f":"IF(A23<>\"\",IFERROR(VLOOKUP(AD23,Tabelas!B:D,3,0),0),\"\")","v":0},{"$f":"IF(A23<>\"\",IFERROR(VLOOKUP(AE23,Tabelas!B:D,3,0),0),\"\")","v":0},{"$f":"IF(A23<>\"\",IFERROR(VLOOKUP(AF23,Tabelas!B:D,3,0),0),\"\")","v":0},{"$f":"IF(A23<>\"\",IFERROR(VLOOKUP(AG23,Tabelas!B:D,3,0),0),\"\")","v":0},{"$f":"IF(A23<>\"\",IFERROR(VLOOKUP(AH23,Tabelas!B:D,3,0),0),\"\")","v":12},{"$f":"IF(A23<>\"\",IFERROR(VLOOKUP(#REF!,Tabelas!B:D,3,0),0),\"\")","v":0},{"$f":"IF(A23<>\"\",IFERROR(VLOOKUP(#REF!,Tabelas!B:D,3,0),0),\"\")","v":0},{"$f":"IF(A23<>\"\",IFERROR(VLOOKUP(#REF!,Tabelas!B:D,3,0),0),\"\")","v":0}]
["Gabriel Dotta",1212525,17906,"Médico","EBSERH",24,"M15","M15","M15","M15",null,null,null,"M15","M15","M15","M15",null,null,null,"M15","M15","M15","M15",null,null,null,"M15","M15","M15","M15",null,null,null,{"$f":"IF(A24<>\"\",IFERROR(VLOOKUP(G24,Tabelas!B:D,3,0),0),\"\")","v":6},{"$f":"IF(A24<>\"\",IFERROR(VLOOKUP(H24,Tabelas!B:D,3,0),0),\"\")","v":6},{"$f":"IF(A24<>\"\",IFERROR(VLOOKUP(I24,Tabelas!B:D,3,0),0),\"\")","v":6},{"$f":"IF(A24<>\"\",IFERROR(VLOOKUP(J24,Tabelas!B:D,3,0),0),\"\")","v":6},{"$f":"IF(A24<>\"\",IFERROR(VLOOKUP(K24,Tabelas!B:D,3,0),0),\"\")","v":0},{"$f":"IF(A24<>\"\",IFERROR(VLOOKUP(L24,Tabelas!B:D,3,0),0),\"\")","v":0},{"$f":"IF(A24<>\"\",IFERROR(VLOOKUP(M24,Tabelas!B:D,3,0),0),\"\")","v":0},{"$f":"IF(A24<>\"\",IFERROR(VLOOKUP(N24,Tabelas!B:D,3,0),0),\"\")","v":6},{"$f":"IF(A24<>\"\",IFERROR(VLOOKUP(O24,Tabelas!B:D,3,0),0),\"\")","v":6},{"$f":"IF(A24<>\"\",IFERROR(VLOOKUP(P24,Tabelas!B:D,3,0),0),\"\")","v":6},{"$f":"IF(A24<>\"\",IFERROR(VLOOKUP(Q24,Tabelas!B:D,3,0),0),\"\")","v":6},{"$f":"IF(A24<>\"\",IFERROR(VLOOKUP(R24,Tabelas!B:D,3,0),0),\"\")","v":0},{"$f":"IF(A24<>\"\",IFERROR(VLOOKUP(S24,Tabelas!B:D,3,0),0),\"\")","v":0},{"$f":"IF(A24<>\"\",IFERROR(VLOOKUP(T24,Tabelas!B:D,3,0),0),\"\")","v":0},{"$f":"IF(A24<>\"\",IFERROR(VLOOKUP(U24,Tabelas!B:D,3,0),0),\"\")","v":6},{"$f":"IF(A24<>\"\",IFERROR(VLOOKUP(V24,Tabelas!B:D,3,0),0),\"\")","v":6},{"$f":"IF(A24<>\"\",IFERROR(VLOOKUP(W24,Tabelas!B:D,3,0),0),\"\")","v":6},{"$f":"IF(A24<>\"\",IFERROR(VLOOKUP(X24,Tabelas!B:D,3,0),0),\"\")","v":6},{"$f":"IF(A24<>\"\",IFERROR(VLOOKUP(Y24,Tabelas!B:D,3,0),0),\"\")","v":0},{"$f":"IF(A24<>\"\",IFERROR(VLOOKUP(Z24,Tabelas!B:D,3,0),0),\"\")","v":0},{"$f":"IF(A24<>\"\",IFERROR(VLOOKUP(AA24,Tabelas!B:D,3,0),0),\"\")","v":0},{"$f":"IF(A24<>\"\",IFERROR(VLOOKUP(AB24,Tabelas!B:D,3,0),0),\"\")","v":6},{"$f":"IF(A24<>\"\",IFERROR(VLOOKUP(AC24,Tabelas!B:D,3,0),0),\"\")","v":6},{"$f":"IF(A24<>\"\",IFERROR(VLOOKUP(AD24,Tabelas!B:D,3,0),0),\"\")","v":6},{"$f":"IF(A24<>\"\",IFERROR(VLOOKUP(AE24,Tabelas!B:D,3,0),0),\"\")","v":6},{"$f":"IF(A24<>\"\",IFERROR(VLOOKUP(AF24,Tabelas!B:D,3,0),0),\"\")","v":0},{"$f":"IF(A24<>\"\",IFERROR(VLOOKUP(AG24,Tabelas!B:D,3,0),0),\"\")","v":0},{"$f":"IF(A24<>\"\",IFERROR(VLOOKUP(AH24,Tabelas!B:D,3,0),0),\"\")","v":0},{"$f":"IF(A24<>\"\",IFERROR(VLOOKUP(#REF!,Tabelas!B:D,3,0),0),\"\")","v":0},{"$f":"IF(A24<>\"\",IFERROR(VLOOKUP(#REF!,Tabelas!B:D,3,0),0),\"\")","v":0},{"$f":"IF(A24<>\"\",IFERROR(VLOOKUP(#REF!,Tabelas!B:D,3,0),0),\"\")","v":0}]
["Ademilson Rogerio Ferreira",1088725,16287,"Médico","EBSERH",24,null,"M15",null,"M15",null,null,"D6",null,"M15",null,"M15",null,null,"D6",null,"M15",null,"M15",null,null,"D6",null,"M15",null,"M15",null,null,"D6",{"$f":"IF(A25<>\"\",IFERROR(VLOOKUP(G25,Tabelas!B:D,3,0),0),\"\")","v":0},{"$f":"IF(A25<>\"\",IFERROR(VLOOKUP(H25,Tabelas!B:D,3,0),0),\"\")","v":6},{"$f":"IF(A25<>\"\",IFERROR(VLOOKUP(I25,Tabelas!B:D,3,0),0),\"\")","v":0},{"$f":"IF(A25<>\"\",IFERROR(VLOOKUP(J25,Tabelas!B:D,3,0),0),\"\")","v":6},{"$f":"IF(A25<>\"\",IFERROR(VLOOKUP(K25,Tabelas!B:D,3,0),0),\"\")","v":0},{"$f":"IF(A25<>\"\",IFERROR(VLOOKUP(L25,Tabelas!B:D,3,0),0),\"\")","v":0},{"$f":"IF(A25<>\"\",IFERROR(VLOOKUP(M25,Tabelas!B:D,3,0),0),\"\")","v":12},{"$f":"IF(A25<>\"\",IFERROR(VLOOKUP(N25,Tabelas!B:D,3,0),0),\"\")","v":0},{"$f":"IF(A25<>\"\",IFERROR(VLOOKUP(O25,Tabelas!B:D,3,0),0),\"\")","v":6},{"$f":"IF(A25<>\"\",IFERROR(VLOOKUP(P25,Tabelas!B:D,3,0),0),\"\")","v":0},{"$f":"IF(A25<>\"\",IFERROR(VLOOKUP(Q25,Tabelas!B:D,3,0),0),\"\")","v":6},{"$f":"IF(A25<>\"\",IFERROR(VLOOKUP(R25,Tabelas!B:D,3,0),0),\"\")","v":0},{"$f":"IF(A25<>\"\",IFERROR(VLOOKUP(S25,Tabelas!B:D,3,0),0),\"\")","v":0},{"$f":"IF(A25<>\"\",IFERROR(VLOOKUP(T25,Tabelas!B:D,3,0),0),\"\")","v":12},{"$f":"IF(A25<>\"\",IFERROR(VLOOKUP(U25,Tabelas!B:D,3,0),0),\"\")","v":0},{"$f":"IF(A25<>\"\",IFERROR(VLOOKUP(V25,Tabelas!B:D,3,0),0),\"\")","v":6},{"$f":"IF(A25<>\"\",IFERROR(VLOOKUP(W25,Tabelas!B:D,3,0),0),\"\")","v":0},{"$f":"IF(A25<>\"\",IFERROR(VLOOKUP(X25,Tabelas!B:D,3,0),0),\"\")","v":6},{"$f":"IF(A25<>\"\",IFERROR(VLOOKUP(Y25,Tabelas!B:D,3,0),0),\"\")","v":0},{"$f":"IF(A25<>\"\",IFERROR(VLOOKUP(Z25,Tabelas!B:D,3,0),0),\"\")","v":0},{"$f":"IF(A25<>\"\",IFERROR(VLOOKUP(AA25,Tabelas!B:D,3,0),0),\"\")","v":12},{"$f":"IF(A25<>\"\",IFERROR(VLOOKUP(AB25,Tabelas!B:D,3,0),0),\"\")","v":0},{"$f":"IF(A25<>\"\",IFERROR(VLOOKUP(AC25,Tabelas!B:D,3,0),0),\"\")","v":6},{"$f":"IF(A25<>\"\",IFERROR(VLOOKUP(AD25,Tabelas!B:D,3,0),0),\"\")","v":0},{"$f":"IF(A25<>\"\",IFERROR(VLOOKUP(AE25,Tabelas!B:D,3,0),0),\"\")","v":6},{"$f":"IF(A25<>\"\",IFERROR(VLOOKUP(AF25,Tabelas!B:D,3,0),0),\"\")","v":0},{"$f":"IF(A25<>\"\",IFERROR(VLOOKUP(AG25,Tabelas!B:D,3,0),0),\"\")","v":0},{"$f":"IF(A25<>\"\",IFERROR(VLOOKUP(AH25,Tabelas!B:D,3,0),0),\"\")","v":12},{"$f":"IF(A25<>\"\",IFERROR(VLOOKUP(#REF!,Tabelas!B:D,3,0),0),\"\")","v":0},{"$f":"IF(A25<>\"\",IFERROR(VLOOKUP(#REF!,Tabelas!B:D,3,0),0),\"\")","v":0},{"$f":"IF(A25<>\"\",IFERROR(VLOOKUP(#REF!,Tabelas!B:D,3,0),0),\"\")","v":0}]
["PNEUMOLOGIA ",null,null,null,null,null,null,null,null,null,null,null,null,null,null,null,null,null,null,null,null,null,null,null,null,null,null,null,null,null,null,null,null,null,{"$f":"IF(A26<>\"\",IFERROR(VLOOKUP(G26,Tabelas!B:D,3,0),0),\"\")","v":0},{"$f":"IF(A26<>\"\",IFERROR(VLOOKUP(H26,Tabelas!B:D,3,0),0),\"\")","v":0},{"$f":"IF(A26<>\"\",IFERROR(VLOOKUP(I26,Tabelas!B:D,3,0),0),\"\")","v":0},{"$f":"IF(A26<>\"\",IFERROR(VLOOKUP(J26,Tabelas!B:D,3,0),0),\"\")","v":0},{"$f":"IF(A26<>\"\",IFERROR(VLOOKUP(K26,Tabelas!B:D,3,0),0),\"\")","v":0},{"$f":"IF(A26<>\"\",IFERROR(VLOOKUP(L26,Tabelas!B:D,3,0),0),\"\")","v":0},{"$f":"IF(A26<>\"\",IFERROR(VLOOKUP(M26,Tabelas!B:D,3,0),0),\"\")","v":0},{"$f":"IF(A26<>\"\",IFERROR(VLOOKUP(N26,Tabelas!B:D,3,0),0),\"\")","v":0},{"$f":"IF(A26<>\"\",IFERROR(VLOOKUP(O26,Tabelas!B:D,3,0),0),\"\")","v":0},{"$f":"IF(A26<>\"\",IFERROR(VLOOKUP(P26,Tabelas!B:D,3,0),0),\"\")","v":0},{"$f":"IF(A26<>\"\",IFERROR(VLOOKUP(Q26,Tabelas!B:D,3,0),0),\"\")","v":0},{"$f":"IF(A26<>\"\",IFERROR(VLOOKUP(R26,Tabelas!B:D,3,0),0),\"\")","v":0},{"$f":"IF(A26<>\"\",IFERROR(VLOOKUP(S26,Tabelas!B:D,3,0),0),\"\")","v":0},{"$f":"IF(A26<>\"\",IFERROR(VLOOKUP(T26,Tabelas!B:D,3,0),0),\"\")","v":0},{"$f":"IF(A26<>\"\",IFERROR(VLOOKUP(U26,Tabelas!B:D,3,0),0),\"\")","v":0},{"$f":"IF(A26<>\"\",IFERROR(VLOOKUP(V26,Tabelas!B:D,3,0),0),\"\")","v":0},{"$f":"IF(A26<>\"\",IFERROR(VLOOKUP(W26,Tabelas!B:D,3,0),0),\"\")","v":0},{"$f":"IF(A26<>\"\",IFERROR(VLOOKUP(X26,Tabelas!B:D,3,0),0),\"\")","v":0},{"$f":"IF(A26<>\"\",IFERROR(VLOOKUP(Y26,Tabelas!B:D,3,0),0),\"\")","v":0},{"$f":"IF(A26<>\"\",IFERROR(VLOOKUP(Z26,Tabelas!B:D,3,0),0),\"\")","v":0},{"$f":"IF(A26<>\"\",IFERROR(VLOOKUP(AA26,Tabelas!B:D,3,0),0),\"\")","v":0},{"$f":"IF(A26<>\"\",IFERROR(VLOOKUP(AB26,Tabelas!B:D,3,0),0),\"\")","v":0},{"$f":"IF(A26<>\"\",IFERROR(VLOOKUP(AC26,Tabelas!B:D,3,0),0),\"\")","v":0},{"$f":"IF(A26<>\"\",IFERROR(VLOOKUP(AD26,Tabelas!B:D,3,0),0),\"\")","v":0},{"$f":"IF(A26<>\"\",IFERROR(VLOOKUP(AE26,Tabelas!B:D,3,0),0),\"\")","v":0},{"$f":"IF(A26<>\"\",IFERROR(VLOOKUP(AF26,Tabelas!B:D,3,0),0),\"\")","v":0},{"$f":"IF(A26<>\"\",IFERROR(VLOOKUP(AG26,Tabelas!B:D,3,0),0),\"\")","v":0},{"$f":"IF(A26<>\"\",IFERROR(VLOOKUP(AH26,Tabelas!B:D,3,0),0),\"\")","v":0},{"$f":"IF(A26<>\"\",IFERROR(VLOOKUP(#REF!,Tabelas!B:D,3,0),0),\"\")","v":0},{"$f":"IF(A26<>\"\",IFERROR(VLOOKUP(#REF!,Tabelas!B:D,3,0),0),\"\")","v":0},{"$f":"IF(A26<>\"\",IFERROR(VLOOKUP(#REF!,Tabelas!B:D,3,0),0),\"\")","v":0}]
["Elaine Cristina Caon de Souza Bulsing ",2270829,15054,"Médico","RJU",40,"FE","FE","FE","FE",null,null,"D6","D6","D6","D6","M15",null,null,"D6","D6","D6","D6","M15",null,null,"D6","D6","D6","D6","M15",null,null,"D6","D6","D6","D6","M15",{"$f":"IF(A27<>\"\",IFERROR(VLOOKUP(K27,Tabelas!B:D,3,0),0),\"\")","v":0},{"$f":"IF(A27<>\"\",IFERROR(VLOOKUP(L27,Tabelas!B:D,3,0),0),\"\")","v":0},{"$f":"IF(A27<>\"\",IFERROR(VLOOKUP(M27,Tabelas!B:D,3,0),0),\"\")","v":12},{"$f":"IF(A27<>\"\",IFERROR(VLOOKUP(N27,Tabelas!B:D,3,0),0),\"\")","v":12},{"$f":"IF(A27<>\"\",IFERROR(VLOOKUP(O27,Tabelas!B:D,3,0),0),\"\")","v":12},{"$f":"IF(A27<>\"\",IFERROR(VLOOKUP(P27,Tabelas!B:D,3,0),0),\"\")","v":12},{"$f":"IF(A27<>\"\",IFERROR(VLOOKUP(Q27,Tabelas!B:D,3,0),0),\"\")","v":6},{"$f":"IF(A27<>\"\",IFERROR(VLOOKUP(R27,Tabelas!B:D,3,0),0),\"\")","v":0},{"$f":"IF(A27<>\"\",IFERROR(VLOOKUP(S27,Tabelas!B:D,3,0),0),\"\")","v":0},{"$f":"IF(A27<>\"\",IFERROR(VLOOKUP(T27,Tabelas!B:D,3,0),0),\"\")","v":12},{"$f":"IF(A27<>\"\",IFERROR(VLOOKUP(U27,Tabelas!B:D,3,0),0),\"\")","v":12},{"$f":"IF(A27<>\"\",IFERROR(VLOOKUP(V27,Tabelas!B:D,3,0),0),\"\")","v":12},{"$f":"IF(A27<>\"\",IFERROR(VLOOKUP(W27,Tabelas!B:D,3,0),0),\"\")","v":12},{"$f":"IF(A27<>\"\",IFERROR(VLOOKUP(X27,Tabelas!B:D,3,0),0),\"\")","v":6},{"$f":"IF(A27<>\"\",IFERROR(VLOOKUP(Y27,Tabelas!B:D,3,0),0),\"\")","v":0},{"$f":"IF(A27<>\"\",IFERROR(VLOOKUP(Z27,Tabelas!B:D,3,0),0),\"\")","v":0},{"$f":"IF(A27<>\"\",IFERROR(VLOOKUP(AA27,Tabelas!B:D,3,0),0),\"\")","v":12},{"$f":"IF(A27<>\"\",IFERROR(VLOOKUP(AB27,Tabelas!B:D,3,0),0),\"\")","v":12},{"$f":"IF(A27<>\"\",IFERROR(VLOOKUP(AC27,Tabelas!B:D,3,0),0),\"\")","v":12},{"$f":"IF(A27<>\"\",IFERROR(VLOOKUP(AD27,Tabelas!B:D,3,0),0),\"\")","v":12},{"$f":"IF(A27<>\"\",IFERROR(VLOOKUP(AE27,Tabelas!B:D,3,0),0),\"\")","v":6},{"$f":"IF(A27<>\"\",IFERROR(VLOOKUP(AF27,Tabelas!B:D,3,0),0),\"\")","v":0},{"$f":"IF(A27<>\"\",IFERROR(VLOOKUP(AG27,Tabelas!B:D,3,0),0),\"\")","v":0},{"$f":"IF(A27<>\"\",IFERROR(VLOOKUP(AH27,Tabelas!B:D,3,0),0),\"\")","v":12},{"$f":"IF(A27<>\"\",IFERROR(VLOOKUP(#REF!,Tabelas!B:D,3,0),0),\"\")","v":0},{"$f":"IF(A27<>\"\",IFERROR(VLOOKUP(#REF!,Tabelas!B:D,3,0),0),\"\")","v":0},{"$f":"IF(A27<>\"\",IFERROR(VLOOKUP(#REF!,Tabelas!B:D,3,0),0),\"\")","v":0}]
["Roger Pirath Rodrigues ",1440902,10218,"Médico","RJU",20,"M15","M15","T15","M15",null,null,"M15","M15","M15","T15","M15",null,null,"M15","M15","M15","T15","M15",null,null,"M15","M15","M15","T15","M15",null,null,"M15","M15","M15","T15","M15",{"$f":"IF(A28<>\"\",IFERROR(VLOOKUP(K28,Tabelas!B:D,3,0),0),\"\")","v":0},{"$f":"IF(A28<>\"\",IFERROR(VLOOKUP(L28,Tabelas!B:D,3,0),0),\"\")","v":0},{"$f":"IF(A28<>\"\",IFERROR(VLOOKUP(M28,Tabelas!B:D,3,0),0),\"\")","v":6},{"$f":"IF(A28<>\"\",IFERROR(VLOOKUP(N28,Tabelas!B:D,3,0),0),\"\")","v":6},{"$f":"IF(A28<>\"\",IFERROR(VLOOKUP(O28,Tabelas!B:D,3,0),0),\"\")","v":6},{"$f":"IF(A28<>\"\",IFERROR(VLOOKUP(P28,Tabelas!B:D,3,0),0),\"\")","v":6},{"$f":"IF(A28<>\"\",IFERROR(VLOOKUP(Q28,Tabelas!B:D,3,0),0),\"\")","v":6},{"$f":"IF(A28<>\"\",IFERROR(VLOOKUP(R28,Tabelas!B:D,3,0),0),\"\")","v":0},{"$f":"IF(A28<>\"\",IFERROR(VLOOKUP(S28,Tabelas!B:D,3,0),0),\"\")","v":0},{"$f":"IF(A28<>\"\",IFERROR(VLOOKUP(T28,Tabelas!B:D,3,0),0),\"\")","v":6},{"$f":"IF(A28<>\"\",IFERROR(VLOOKUP(U28,Tabelas!B:D,3,0),0),\"\")","v":6},{"$f":"IF(A28<>\"\",IFERROR(VLOOKUP(V28,Tabelas!B:D,3,0),0),\"\")","v":6},{"$f":"IF(A28<>\"\",IFERROR(VLOOKUP(W28,Tabelas!B:D,3,0),0),\"\")","v":6},{"$f":"IF(A28<>\"\",IFERROR(VLOOKUP(X28,Tabelas!B:D,3,0),0),\"\")","v":6},{"$f":"IF(A28<>\"\",IFERROR(VLOOKUP(Y28,Tabelas!B:D,3,0),0),\"\")","v":0},{"$f":"IF(A28<>\"\",IFERROR(VLOOKUP(Z28,Tabelas!B:D,3,0),0),\"\")","v":0},{"$f":"IF(A28<>\"\",IFERROR(VLOOKUP(AA28,Tabelas!B:D,3,0),0),\"\")","v":6},{"$f":"IF(A28<>\"\",IFERROR(VLOOKUP(AB28,Tabelas!B:D,3,0),0),\"\")","v":6},{"$f":"IF(A28<>\"\",IFERROR(VLOOKUP(AC28,Tabelas!B:D,3,0),0),\"\")","v":6},{"$f":"IF(A28<>\"\",IFERROR(VLOOKUP(AD28,Tabelas!B:D,3,0),0),\"\")","v":6},{"$f":"IF(A28<>\"\",IFERROR(VLOOKUP(AE28,Tabelas!B:D,3,0),0),\"\")","v":6},{"$f":"IF(A28<>\"\",IFERROR(VLOOKUP(AF28,Tabelas!B:D,3,0),0),\"\")","v":0},{"$f":"IF(A28<>\"\",IFERROR(VLOOKUP(AG28,Tabelas!B:D,3,0),0),\"\")","v":0},{"$f":"IF(A28<>\"\",IFERROR(VLOOKUP(AH28,Tabelas!B:D,3,0),0),\"\")","v":6},{"$f":"IF(A28<>\"\",IFERROR(VLOOKUP(#REF!,Tabelas!B:D,3,0),0),\"\")","v":0},{"$f":"IF(A28<>\"\",IFERROR(VLOOKUP(#REF!,Tabelas!B:D,3,0),0),\"\")","v":0},{"$f":"IF(A28<>\"\",IFERROR(VLOOKUP(#REF!,Tabelas!B:D,3,0),0),\"\")","v":0}]
["Rosimeri Maureci da Silva ",4160231,5465,"Médico","RJU",40,"FE","D6","T15","M15",null,null,"D6","D6","D6","T15","M15",null,null,"D6","D6","D6","T15","M15",null,null,"D6","D6","D6","T15","M15",null,null,"D6","D6","D6","T15","M15",{"$f":"IF(A29<>\"\",IFERROR(VLOOKUP(K29,Tabelas!B:D,3,0),0),\"\")","v":0},{"$f":"IF(A29<>\"\",IFERROR(VLOOKUP(L29,Tabelas!B:D,3,0),0),\"\")","v":0},{"$f":"IF(A29<>\"\",IFERROR(VLOOKUP(M29,Tabelas!B:D,3,0),0),\"\")","v":12},{"$f":"IF(A29<>\"\",IFERROR(VLOOKUP(N29,Tabelas!B:D,3,0),0),\"\")","v":12},{"$f":"IF(A29<>\"\",IFERROR(VLOOKUP(O29,Tabelas!B:D,3,0),0),\"\")","v":12},{"$f":"IF(A29<>\"\",IFERROR(VLOOKUP(P29,Tabelas!B:D,3,0),0),\"\")","v":6},{"$f":"IF(A29<>\"\",IFERROR(VLOOKUP(Q29,Tabelas!B:D,3,0),0),\"\")","v":6},{"$f":"IF(A29<>\"\",IFERROR(VLOOKUP(R29,Tabelas!B:D,3,0),0),\"\")","v":0},{"$f":"IF(A29<>\"\",IFERROR(VLOOKUP(S29,Tabelas!B:D,3,0),0),\"\")","v":0},{"$f":"IF(A29<>\"\",IFERROR(VLOOKUP(T29,Tabelas!B:D,3,0),0),\"\")","v":12},{"$f":"IF(A29<>\"\",IFERROR(VLOOKUP(U29,Tabelas!B:D,3,0),0),\"\")","v":12},{"$f":"IF(A29<>\"\",IFERROR(VLOOKUP(V29,Tabelas!B:D,3,0),0),\"\")","v":12},{"$f":"IF(A29<>\"\",IFERROR(VLOOKUP(W29,Tabelas!B:D,3,0),0),\"\")","v":6},{"$f":"IF(A29<>\"\",IFERROR(VLOOKUP(X29,Tabelas!B:D,3,0),0),\"\")","v":6},{"$f":"IF(A29<>\"\",IFERROR(VLOOKUP(Y29,Tabelas!B:D,3,0),0),\"\")","v":0},{"$f":"IF(A29<>\"\",IFERROR(VLOOKUP(Z29,Tabelas!B:D,3,0),0),\"\")","v":0},{"$f":"IF(A29<>\"\",IFERROR(VLOOKUP(AA29,Tabelas!B:D,3,0),0),\"\")","v":12},{"$f":"IF(A29<>\"\",IFERROR(VLOOKUP(AB29,Tabelas!B:D,3,0),0),\"\")","v":12},{"$f":"IF(A29<>\"\",IFERROR(VLOOKUP(AC29,Tabelas!B:D,3,0),0),\"\")","v":12},{"$f":"IF(A29<>\"\",IFERROR(VLOOKUP(AD29,Tabelas!B:D,3,0),0),\"\")","v":6},{"$f":"IF(A29<>\"\",IFERROR(VLOOKUP(AE29,Tabelas!B:D,3,0),0),\"\")","v":6},{"$f":"IF(A29<>\"\",IFERROR(VLOOKUP(AF29,Tabelas!B:D,3,0),0),\"\")","v":0},{"$f":"IF(A29<>\"\",IFERROR(VLOOKUP(AG29,Tabelas!B:D,3,0),0),\"\")","v":0},{"$f":"IF(A29<>\"\",IFERROR(VLOOKUP(AH29,Tabelas!B:D,3,0),0),\"\")","v":12},{"$f":"IF(A29<>\"\",IFERROR(VLOOKUP(#REF!,Tabelas!B:D,3,0),0),\"\")","v":0},{"$f":"IF(A29<>\"\",IFERROR(VLOOKUP(#REF!,Tabelas!B:D,3,0),0),\"\")","v":0},{"$f":"IF(A29<>\"\",IFERROR(VLOOKUP(#REF!,Tabelas!B:D,3,0),0),\"\")","v":0}]
["Manuela Brisot Felisbino ",1675761,14805,"Médico","EBSERH",24,"LM","LM","LM","LM",null,null,"LM","LM","LM","LM","LM",null,null,"LM","LM","LM","LM","LM",null,null,"LM","LM","LM","LM","LM",null,null,"LM","M15","M15","M15","M15",{"$f":"IF(A30<>\"\",IFERROR(VLOOKUP(K30,Tabelas!B:D,3,0),0),\"\")","v":0},{"$f":"IF(A30<>\"\",IFERROR(VLOOKUP(L30,Tabelas!B:D,3,0),0),\"\")","v":0},{"$f":"IF(A30<>\"\",IFERROR(VLOOKUP(M30,Tabelas!B:D,3,0),0),\"\")","v":0},{"$f":"IF(A30<>\"\",IFERROR(VLOOKUP(N30,Tabelas!B:D,3,0),0),\"\")","v":0},{"$f":"IF(A30<>\"\",IFERROR(VLOOKUP(O30,Tabelas!B:D,3,0),0),\"\")","v":0},{"$f":"IF(A30<>\"\",IFERROR(VLOOKUP(P30,Tabelas!B:D,3,0),0),\"\")","v":0},{"$f":"IF(A30<>\"\",IFERROR(VLOOKUP(Q30,Tabelas!B:D,3,0),0),\"\")","v":0},{"$f":"IF(A30<>\"\",IFERROR(VLOOKUP(R30,Tabelas!B:D,3,0),0),\"\")","v":0},{"$f":"IF(A30<>\"\",IFERROR(VLOOKUP(S30,Tabelas!B:D,3,0),0),\"\")","v":0},{"$f":"IF(A30<>\"\",IFERROR(VLOOKUP(T30,Tabelas!B:D,3,0),0),\"\")","v":0},{"$f":"IF(A30<>\"\",IFERROR(VLOOKUP(U30,Tabelas!B:D,3,0),0),\"\")","v":0},{"$f":"IF(A30<>\"\",IFERROR(VLOOKUP(V30,Tabelas!B:D,3,0),0),\"\")","v":0},{"$f":"IF(A30<>\"\",IFERROR(VLOOKUP(W30,Tabelas!B:D,3,0),0),\"\")","v":0},{"$f":"IF(A30<>\"\",IFERROR(VLOOKUP(X30,Tabelas!B:D,3,0),0),\"\")","v":0},{"$f":"IF(A30<>\"\",IFERROR(VLOOKUP(Y30,Tabelas!B:D,3,0),0),\"\")","v":0},{"$f":"IF(A30<>\"\",IFERROR(VLOOKUP(Z30,Tabelas!B:D,3,0),0),\"\")","v":0},{"$f":"IF(A30<>\"\",IFERROR(VLOOKUP(AA30,Tabelas!B:D,3,0),0),\"\")","v":0},{"$f":"IF(A30<>\"\",IFERROR(VLOOKUP(AB30,Tabelas!B:D,3,0),0),\"\")","v":0},{"$f":"IF(A30<>\"\",IFERROR(VLOOKUP(AC30,Tabelas!B:D,3,0),0),\"\")","v":0},{"$f":"IF(A30<>\"\",IFERROR(VLOOKUP(AD30,Tabelas!B:D,3,0),0),\"\")","v":0},{"$f":"IF(A30<>\"\",IFERROR(VLOOKUP(AE30,Tabelas!B:D,3,0),0),\"\")","v":0},{"$f":"IF(A30<>\"\",IFERROR(VLOOKUP(AF30,Tabelas!B:D,3,0),0),\"\")","v":0},{"$f":"IF(A30<>\"\",IFERROR(VLOOKUP(AG30,Tabelas!B:D,3,0),0),\"\")","v":0},{"$f":"IF(A30<>\"\",IFERROR(VLOOKUP(AH30,Tabelas!B:D,3,0),0),\"\")","v":0},{"$f":"IF(A30<>\"\",IFERROR(VLOOKUP(#REF!,Tabelas!B:D,3,0),0),\"\")","v":0},{"$f":"IF(A30<>\"\",IFERROR(VLOOKUP(#REF!,Tabelas!B:D,3,0),0),\"\")","v":0},{"$f":"IF(A30<>\"\",IFERROR(VLOOKUP(#REF!,Tabelas!B:D,3,0),0),\"\")","v":0}]
["Pablo Moritz ",2312594,6566,"Médico","RJU",20,"T15","M15","M15","M15",null,null,"M15","T15","M15","M15","M15",null,null,"M15","T15","M15","M15","M15",null,null,"M15","T15","M15","M15","M15",null,null,"M15","T15","M15","M15","M15",{"$f":"IF(A31<>\"\",IFERROR(VLOOKUP(K31,Tabelas!B:D,3,0),0),\"\")","v":0},{"$f":"IF(A31<>\"\",IFERROR(VLOOKUP(L31,Tabelas!B:D,3,0),0),\"\")","v":0},{"$f":"IF(A31<>\"\",IFERROR(VLOOKUP(M31,Tabelas!B:D,3,0),0),\"\")","v":6},{"$f":"IF(A31<>\"\",IFERROR(VLOOKUP(N31,Tabelas!B:D,3,0),0),\"\")","v":6},{"$f":"IF(A31<>\"\",IFERROR(VLOOKUP(O31,Tabelas!B:D,3,0),0),\"\")","v":6},{"$f":"IF(A31<>\"\",IFERROR(VLOOKUP(P31,Tabelas!B:D,3,0),0),\"\")","v":6},{"$f":"IF(A31<>\"\",IFERROR(VLOOKUP(Q31,Tabelas!B:D,3,0),0),\"\")","v":6},{"$f":"IF(A31<>\"\",IFERROR(VLOOKUP(R31,Tabelas!B:D,3,0),0),\"\")","v":0},{"$f":"IF(A31<>\"\",IFERROR(VLOOKUP(S31,Tabelas!B:D,3,0),0),\"\")","v":0},{"$f":"IF(A31<>\"\",IFERROR(VLOOKUP(T31,Tabelas!B:D,3,0),0),\"\")","v":6},{"$f":"IF(A31<>\"\",IFERROR(VLOOKUP(U31,Tabelas!B:D,3,0),0),\"\")","v":6},{"$f":"IF(A31<>\"\",IFERROR(VLOOKUP(V31,Tabelas!B:D,3,0),0),\"\")","v":6},{"$f":"IF(A31<>\"\",IFERROR(VLOOKUP(W31,Tabelas!B:D,3,0),0),\"\")","v":6},{"$f":"IF(A31<>\"\",IFERROR(VLOOKUP(X31,Tabelas!B:D,3,0),0),\"\")","v":6},{"$f":"IF(A31<>\"\",IFERROR(VLOOKUP(Y31,Tabelas!B:D,3,0),0),\"\")","v":0},{"$f":"IF(A31<>\"\",IFERROR(VLOOKUP(Z31,Tabelas!B:D,3,0),0),\"\")","v":0},{"$f":"IF(A31<>\"\",IFERROR(VLOOKUP(AA31,Tabelas!B:D,3,0),0),\"\")","v":6},{"$f":"IF(A31<>\"\",IFERROR(VLOOKUP(AB31,Tabelas!B:D,3,0),0),\"\")","v":6},{"$f":"IF(A31<>\"\",IFERROR(VLOOKUP(AC31,Tabelas!B:D,3,0),0),\"\")","v":6},{"$f":"IF(A31<>\"\",IFERROR(VLOOKUP(AD31,Tabelas!B:D,3,0),0),\"\")","v":6},{"$f":"IF(A31<>\"\",IFERROR(VLOOKUP(AE31,Tabelas!B:D,3,0),0),\"\")","v":6},{"$f":"IF(A31<>\"\",IFERROR(VLOOKUP(AF31,Tabelas!B:D,3,0),0),\"\")","v":0},{"$f":"IF(A31<>\"\",IFERROR(VLOOKUP(AG31,Tabelas!B:D,3,0),0),\"\")","v":0},{"$f":"IF(A31<>\"\",IFERROR(VLOOKUP(AH31,Tabelas!B:D,3,0),0),\"\")","v":6},{"$f":"IF(A31<>\"\",IFERROR(VLOOKUP(#REF!,Tabelas!B:D,3,0),0),\"\")","v":0},{"$f":"IF(A31<>\"\",IFERROR(VLOOKUP(#REF!,Tabelas!B:D,3,0),0),\"\")","v":0},{"$f":"IF(A31<>\"\",IFERROR(VLOOKUP(#REF!,Tabelas!B:D,3,0),0),\"\")","v":0}]
["ENDOCRINOLOGIA ",null,null,null,null,null,null,null,null,null,null,null,null,null,null,null,null,null,null,null,null,null,null,null,null,null,null,null,null,null,null,null,null,null,{"$f":"IF(A32<>\"\",IFERROR(VLOOKUP(G32,Tabelas!B:D,3,0),0),\"\")","v":0},{"$f":"IF(A32<>\"\",IFERROR(VLOOKUP(H32,Tabelas!B:D,3,0),0),\"\")","v":0},{"$f":"IF(A32<>\"\",IFERROR(VLOOKUP(I32,Tabelas!B:D,3,0),0),\"\")","v":0},{"$f":"IF(A32<>\"\",IFERROR(VLOOKUP(J32,Tabelas!B:D,3,0),0),\"\")","v":0},{"$f":"IF(A32<>\"\",IFERROR(VLOOKUP(K32,Tabelas!B:D,3,0),0),\"\")","v":0},{"$f":"IF(A32<>\"\",IFERROR(VLOOKUP(L32,Tabelas!B:D,3,0),0),\"\")","v":0},{"$f":"IF(A32<>\"\",IFERROR(VLOOKUP(M32,Tabelas!B:D,3,0),0),\"\")","v":0},{"$f":"IF(A32<>\"\",IFERROR(VLOOKUP(N32,Tabelas!B:D,3,0),0),\"\")","v":0},{"$f":"IF(A32<>\"\",IFERROR(VLOOKUP(O32,Tabelas!B:D,3,0),0),\"\")","v":0},{"$f":"IF(A32<>\"\",IFERROR(VLOOKUP(P32,Tabelas!B:D,3,0),0),\"\")","v":0},{"$f":"IF(A32<>\"\",IFERROR(VLOOKUP(Q32,Tabelas!B:D,3,0),0),\"\")","v":0},{"$f":"IF(A32<>\"\",IFERROR(VLOOKUP(R32,Tabelas!B:D,3,0),0),\"\")","v":0},{"$f":"IF(A32<>\"\",IFERROR(VLOOKUP(S32,Tabelas!B:D,3,0),0),\"\")","v":0},{"$f":"IF(A32<>\"\",IFERROR(VLOOKUP(T32,Tabelas!B:D,3,0),0),\"\")","v":0},{"$f":"IF(A32<>\"\",IFERROR(VLOOKUP(U32,Tabelas!B:D,3,0),0),\"\")","v":0},{"$f":"IF(A32<>\"\",IFERROR(VLOOKUP(V32,Tabelas!B:D,3,0),0),\"\")","v":0},{"$f":"IF(A32<>\"\",IFERROR(VLOOKUP(W32,Tabelas!B:D,3,0),0),\"\")","v":0},{"$f":"IF(A32<>\"\",IFERROR(VLOOKUP(X32,Tabelas!B:D,3,0),0),\"\")","v":0},{"$f":"IF(A32<>\"\",IFERROR(VLOOKUP(Y32,Tabelas!B:D,3,0),0),\"\")","v":0},{"$f":"IF(A32<>\"\",IFERROR(VLOOKUP(Z32,Tabelas!B:D,3,0),0),\"\")","v":0},{"$f":"IF(A32<>\"\",IFERROR(VLOOKUP(AA32,Tabelas!B:D,3,0),0),\"\")","v":0},{"$f":"IF(A32<>\"\",IFERROR(VLOOKUP(AB32,Tabelas!B:D,3,0),0),\"\")","v":0},{"$f":"IF(A32<>\"\",IFERROR(VLOOKUP(AC32,Tabelas!B:D,3,0),0),\"\")","v":0},{"$f":"IF(A32<>\"\",IFERROR(VLOOKUP(AD32,Tabelas!B:D,3,0),0),\"\")","v":0},{"$f":"IF(A32<>\"\",IFERROR(VLOOKUP(AE32,Tabelas!B:D,3,0),0),\"\")","v":0},{"$f":"IF(A32<>\"\",IFERROR(VLOOKUP(AF32,Tabelas!B:D,3,0),0),\"\")","v":0},{"$f":"IF(A32<>\"\",IFERROR(VLOOKUP(AG32,Tabelas!B:D,3,0),0),\"\")","v":0},{"$f":"IF(A32<>\"\",IFERROR(VLOOKUP(AH32,Tabelas!B:D,3,0),0),\"\")","v":0},{"$f":"IF(A32<>\"\",IFERROR(VLOOKUP(#REF!,Tabelas!B:D,3,0),0),\"\")","v":0},{"$f":"IF(A32<>\"\",IFERROR(VLOOKUP(#REF!,Tabelas!B:D,3,0),0),\"\")","v":0},{"$f":"IF(A32<>\"\",IFERROR(VLOOKUP(#REF!,Tabelas!B:D,3,0),0),\"\")","v":0}]
["Emerson Leonildo Marques",2442492,10981,"Médico","RJU",30,"M15","T15","M15","T15",null,null,"M15","M15","T15","M15","T15",null,null,"M15","M15","T15","M15","T15",null,null,"M15","M15","T15","M15","T15",null,null,"M15",{"$f":"IF(A33<>\"\",IFERROR(VLOOKUP(G33,Tabelas!B:D,3,0),0),\"\")","v":6},{"$f":"IF(A33<>\"\",IFERROR(VLOOKUP(H33,Tabelas!B:D,3,0),0),\"\")","v":6},{"$f":"IF(A33<>\"\",IFERROR(VLOOKUP(I33,Tabelas!B:D,3,0),0),\"\")","v":6},{"$f":"IF(A33<>\"\",IFERROR(VLOOKUP(J33,Tabelas!B:D,3,0),0),\"\")","v":6},{"$f":"IF(A33<>\"\",IFERROR(VLOOKUP(K33,Tabelas!B:D,3,0),0),\"\")","v":0},{"$f":"IF(A33<>\"\",IFERROR(VLOOKUP(L33,Tabelas!B:D,3,0),0),\"\")","v":0},{"$f":"IF(A33<>\"\",IFERROR(VLOOKUP(M33,Tabelas!B:D,3,0),0),\"\")","v":6},{"$f":"IF(A33<>\"\",IFERROR(VLOOKUP(N33,Tabelas!B:D,3,0),0),\"\")","v":6},{"$f":"IF(A33<>\"\",IFERROR(VLOOKUP(O33,Tabelas!B:D,3,0),0),\"\")","v":6},{"$f":"IF(A33<>\"\",IFERROR(VLOOKUP(P33,Tabelas!B:D,3,0),0),\"\")","v":6},{"$f":"IF(A33<>\"\",IFERROR(VLOOKUP(Q33,Tabelas!B:D,3,0),0),\"\")","v":6},{"$f":"IF(A33<>\"\",IFERROR(VLOOKUP(R33,Tabelas!B:D,3,0),0),\"\")","v":0},{"$f":"IF(A33<>\"\",IFERROR(VLOOKUP(S33,Tabelas!B:D,3,0),0),\"\")","v":0},{"$f":"IF(A33<>\"\",IFERROR(VLOOKUP(T33,Tabelas!B:D,3,0),0),\"\")","v":6},{"$f":"IF(A33<>\"\",IFERROR(VLOOKUP(U33,Tabelas!B:D,3,0),0),\"\")","v":6},{"$f":"IF(A33<>\"\",IFERROR(VLOOKUP(V33,Tabelas!B:D,3,0),0),\"\")","v":6},{"$f":"IF(A33<>\"\",IFERROR(VLOOKUP(W33,Tabelas!B:D,3,0),0),\"\")","v":6},{"$f":"IF(A33<>\"\",IFERROR(VLOOKUP(X33,Tabelas!B:D,3,0),0),\"\")","v":6},{"$f":"IF(A33<>\"\",IFERROR(VLOOKUP(Y33,Tabelas!B:D,3,0),0),\"\")","v":0},{"$f":"IF(A33<>\"\",IFERROR(VLOOKUP(Z33,Tabelas!B:D,3,0),0),\"\")","v":0},{"$f":"IF(A33<>\"\",IFERROR(VLOOKUP(AA33,Tabelas!B:D,3,0),0),\"\")","v":6},{"$f":"IF(A33<>\"\",IFERROR(VLOOKUP(AB33,Tabelas!B:D,3,0),0),\"\")","v":6},{"$f":"IF(A33<>\"\",IFERROR(VLOOKUP(AC33,Tabelas!B:D,3,0),0),\"\")","v":6},{"$f":"IF(A33<>\"\",IFERROR(VLOOKUP(AD33,Tabelas!B:D,3,0),0),\"\")","v":6},{"$f":"IF(A33<>\"\",IFERROR(VLOOKUP(AE33,Tabelas!B:D,3,0),0),\"\")","v":6},{"$f":"IF(A33<>\"\",IFERROR(VLOOKUP(AF35,Tabelas!B:D,3,0),0),\"\")","v":0},{"$f":"IF(A33<>\"\",IFERROR(VLOOKUP(AG33,Tabelas!B:D,3,0),0),\"\")","v":0},{"$f":"IF(A33<>\"\",IFERROR(VLOOKUP(AH33,Tabelas!B:D,3,0),0),\"\")","v":6},{"$f":"IF(A33<>\"\",IFERROR(VLOOKUP(#REF!,Tabelas!B:D,3,0),0),\"\")","v":0},{"$f":"IF(A33<>\"\",IFERROR(VLOOKUP(#REF!,Tabelas!B:D,3,0),0),\"\")","v":0},{"$f":"IF(A33<>\"\",IFERROR(VLOOKUP(#REF!,Tabelas!B:D,3,0),0),\"\")","v":0}]
["Giovani Colombo",1361629,6745,"Médico","RJU",30,"T15","M15","M15","M15",null,null,"M15","T15","M15","M15","M15",null,null,"M15","T15","M15","M15","M15",null,null,"M15","T15","M15","M15","M15",null,null,"M15",{"$f":"IF(A34<>\"\",IFERROR(VLOOKUP(G34,Tabelas!B:D,3,0),0),\"\")","v":6},{"$f":"IF(A34<>\"\",IFERROR(VLOOKUP(H34,Tabelas!B:D,3,0),0),\"\")","v":6},{"$f":"IF(A34<>\"\",IFERROR(VLOOKUP(I34,Tabelas!B:D,3,0),0),\"\")","v":6},{"$f":"IF(A34<>\"\",IFERROR(VLOOKUP(J34,Tabelas!B:D,3,0),0),\"\")","v":6},{"$f":"IF(A34<>\"\",IFERROR(VLOOKUP(K34,Tabelas!B:D,3,0),0),\"\")","v":0},{"$f":"IF(A34<>\"\",IFERROR(VLOOKUP(L34,Tabelas!B:D,3,0),0),\"\")","v":0},{"$f":"IF(A34<>\"\",IFERROR(VLOOKUP(M34,Tabelas!B:D,3,0),0),\"\")","v":6},{"$f":"IF(A34<>\"\",IFERROR(VLOOKUP(N34,Tabelas!B:D,3,0),0),\"\")","v":6},{"$f":"IF(A34<>\"\",IFERROR(VLOOKUP(O34,Tabelas!B:D,3,0),0),\"\")","v":6},{"$f":"IF(A34<>\"\",IFERROR(VLOOKUP(P34,Tabelas!B:D,3,0),0),\"\")","v":6},{"$f":"IF(A34<>\"\",IFERROR(VLOOKUP(Q34,Tabelas!B:D,3,0),0),\"\")","v":6},{"$f":"IF(A34<>\"\",IFERROR(VLOOKUP(R34,Tabelas!B:D,3,0),0),\"\")","v":0},{"$f":"IF(A34<>\"\",IFERROR(VLOOKUP(S34,Tabelas!B:D,3,0),0),\"\")","v":0},{"$f":"IF(A34<>\"\",IFERROR(VLOOKUP(T34,Tabelas!B:D,3,0),0),\"\")","v":6},{"$f":"IF(A34<>\"\",IFERROR(VLOOKUP(U34,Tabelas!B:D,3,0),0),\"\")","v":6},{"$f":"IF(A34<>\"\",IFERROR(VLOOKUP(V34,Tabelas!B:D,3,0),0),\"\")","v":6},{"$f":"IF(A34<>\"\",IFERROR(VLOOKUP(W34,Tabelas!B:D,3,0),0),\"\")","v":6},{"$f":"IF(A34<>\"\",IFERROR(VLOOKUP(X34,Tabelas!B:D,3,0),0),\"\")","v":6},{"$f":"IF(A34<>\"\",IFERROR(VLOOKUP(Y34,Tabelas!B:D,3,0),0),\"\")","v":0},{"$f":"IF(A34<>\"\",IFERROR(VLOOKUP(Z34,Tabelas!B:D,3,0),0),\"\")","v":0},{"$f":"IF(A34<>\"\",IFERROR(VLOOKUP(AA34,Tabelas!B:D,3,0),0),\"\")","v":6},{"$f":"IF(A34<>\"\",IFERROR(VLOOKUP(AB34,Tabelas!B:D,3,0),0),\"\")","v":6},{"$f":"IF(A34<>\"\",IFERROR(VLOOKUP(AC34,Tabelas!B:D,3,0),0),\"\")","v":6},{"$f":"IF(A34<>\"\",IFERROR(VLOOKUP(AD34,Tabelas!B:D,3,0),0),\"\")","v":6},{"$f":"IF(A34<>\"\",IFERROR(VLOOKUP(AE34,Tabelas!B:D,3,0),0),\"\")","v":6},{"$f":"IF(A34<>\"\",IFERROR(VLOOKUP(AF34,Tabelas!B:D,3,0),0),\"\")","v":0},{"$f":"IF(A34<>\"\",IFERROR(VLOOKUP(AG34,Tabelas!B:D,3,0),0),\"\")","v":0},{"$f":"IF(A34<>\"\",IFERROR(VLOOKUP(AH34,Tabelas!B:D,3,0),0),\"\")","v":6},{"$f":"IF(A34<>\"\",IFERROR(VLOOKUP(#REF!,Tabelas!B:D,3,0),0),\"\")","v":0},{"$f":"IF(A34<>\"\",IFERROR(VLOOKUP(#REF!,Tabelas!B:D,3,0),0),\"\")","v":0},{"$f":"IF(A34<>\"\",IFERROR(VLOOKUP(#REF!,Tabelas!B:D,3,0),0),\"\")","v":0}]
["Marcelo Ronsoni ",3603274,16049,"Médico","RJU",30,"M15","T15","M15","M15",null,null,"T15","M15","T15","M15","M15",null,null,"T15","M15","T15","M15","M15",null,null,"T15","M15","T15","M15","M15",null,null,"T15"]
["Julia Michels Ferreira",2483669,11398,"Médico","RJU",20,"D6","D6",null,null,null,null,null,"D6","D6",null,null,null,null,null,"D6","D6",null,null,null,null,null,"D6","D6"]
["Guilherme Asmar Alencar",1369108,29256,"Médico","EBSERH",24,null,null,null,"D6",null,null,"D6",null,null,null,"D6",null,null,"D6",null,null,null,"D6",null,null,"D6",null,null,null,"D6",null,null,"D6"]
["Cristina Screiber de Oliveira ",1551454,10134,"Médico","RJU",20,null,null,"T15",null,null,null,null,null,null,"T15",null,null,null,null,null,null,"T15",null,null,null,null,null,null,"T15"]
["Mariana Costa Silva Valente (GESTANTE = TRABALHO REMOTO)",1676055,15060,"Médico","EBSERH",24,"D6",null,"D6",null,null,null,null,"D6",null,"D6",null,null,null,null,"D6","LM","LM","LM",null,null,"LM","LM","LM","LM","LM",null,null,"LM",{"$f":"IF(A39<>\"\",IFERROR(VLOOKUP(G39,Tabelas!B:D,3,0),0),\"\")","v":12},{"$f":"IF(A39<>\"\",IFERROR(VLOOKUP(H39,Tabelas!B:D,3,0),0),\"\")","v":0},{"$f":"IF(A39<>\"\",IFERROR(VLOOKUP(I39,Tabelas!B:D,3,0),0),\"\")","v":12},{"$f":"IF(A39<>\"\",IFERROR(VLOOKUP(J39,Tabelas!B:D,3,0),0),\"\")","v":0},{"$f":"IF(A39<>\"\",IFERROR(VLOOKUP(K39,Tabelas!B:D,3,0),0),\"\")","v":0},{"$f":"IF(A39<>\"\",IFERROR(VLOOKUP(L39,Tabelas!B:D,3,0),0),\"\")","v":0},{"$f":"IF(A39<>\"\",IFERROR(VLOOKUP(M39,Tabelas!B:D,3,0),0),\"\")","v":0},{"$f":"IF(A39<>\"\",IFERROR(VLOOKUP(N39,Tabelas!B:D,3,0),0),\"\")","v":12},{"$f":"IF(A39<>\"\",IFERROR(VLOOKUP(O39,Tabelas!B:D,3,0),0),\"\")","v":0},{"$f":"IF(A39<>\"\",IFERROR(VLOOKUP(P39,Tabelas!B:D,3,0),0),\"\")","v":12},{"$f":"IF(A39<>\"\",IFERROR(VLOOKUP(Q39,Tabelas!B:D,3,0),0),\"\")","v":0},{"$f":"IF(A39<>\"\",IFERROR(VLOOKUP(R39,Tabelas!B:D,3,0),0),\"\")","v":0},{"$f":"IF(A39<>\"\",IFERROR(VLOOKUP(S39,Tabelas!B:D,3,0),0),\"\")","v":0},{"$f":"IF(A39<>\"\",IFERROR(VLOOKUP(T39,Tabelas!B:D,3,0),0),\"\")","v":0},{"$f":"IF(A39<>\"\",IFERROR(VLOOKUP(U39,Tabelas!B:D,3,0),0),\"\")","v":12},{"$f":"IF(A39<>\"\",IFERROR(VLOOKUP(V39,Tabelas!B:D,3,0),0),\"\")","v":0},{"$f":"IF(A39<>\"\",IFERROR(VLOOKUP(W39,Tabelas!B:D,3,0),0),\"\")","v":0},{"$f":"IF(A39<>\"\",IFERROR(VLOOKUP(X39,Tabelas!B:D,3,0),0),\"\")","v":0},{"$f":"IF(A39<>\"\",IFERROR(VLOOKUP(Y39,Tabelas!B:D,3,0),0),\"\")","v":0},{"$f":"IF(A39<>\"\",IFERROR(VLOOKUP(Z39,Tabelas!B:D,3,0),0),\"\")","v":0},{"$f":"IF(A39<>\"\",IFERROR(VLOOKUP(AA39,Tabelas!B:D,3,0),0),\"\")","v":0},{"$f":"IF(A39<>\"\",IFERROR(VLOOKUP(AB39,Tabelas!B:D,3,0),0),\"\")","v":0},{"$f":"IF(A39<>\"\",IFERROR(VLOOKUP(AC39,Tabelas!B:D,3,0),0),\"\")","v":0},{"$f":"IF(A39<>\"\",IFERROR(VLOOKUP(AD39,Tabelas!B:D,3,0),0),\"\")","v":0},{"$f":"IF(A39<>\"\",IFERROR(VLOOKUP(AE39,Tabelas!B:D,3,0),0),\"\")","v":0},{"$f":"IF(A39<>\"\",IFERROR(VLOOKUP(AF39,Tabelas!B:D,3,0),0),\"\")","v":0},{"$f":"IF(A39<>\"\",IFERROR(VLOOKUP(AG39,Tabelas!B:D,3,0),0),\"\")","v":0},{"$f":"IF(A39<>\"\",IFERROR(VLOOKUP(AH39,Tabelas!B:D,3,0),0),\"\")","v":0},{"$f":"IF(A39<>\"\",IFERROR(VLOOKUP(#REF!,Tabelas!B:D,3,0),0),\"\")","v":0},{"$f":"IF(A39<>\"\",IFERROR(VLOOKUP(#REF!,Tabelas!B:D,3,0),0),\"\")","v":0},{"$f":"IF(A39<>\"\",IFERROR(VLOOKUP(#REF!,Tabelas!B:D,3,0),0),\"\")","v":0}]
["ALERGIA ",null,null,null,null,null,null,null,null,null,null,null,null,null,null,null,null,null,null,null,null,null,null,null,null,null,null,null,null,null,null,null,null,null,{"$f":"IF(A40<>\"\",IFERROR(VLOOKUP(G40,Tabelas!B:D,3,0),0),\"\")","v":0},{"$f":"IF(A40<>\"\",IFERROR(VLOOKUP(H40,Tabelas!B:D,3,0),0),\"\")","v":0},{"$f":"IF(A40<>\"\",IFERROR(VLOOKUP(I40,Tabelas!B:D,3,0),0),\"\")","v":0},{"$f":"IF(A40<>\"\",IFERROR(VLOOKUP(J40,Tabelas!B:D,3,0),0),\"\")","v":0},{"$f":"IF(A40<>\"\",IFERROR(VLOOKUP(K40,Tabelas!B:D,3,0),0),\"\")","v":0},{"$f":"IF(A40<>\"\",IFERROR(VLOOKUP(L40,Tabelas!B:D,3,0),0),\"\")","v":0},{"$f":"IF(A40<>\"\",IFERROR(VLOOKUP(M40,Tabelas!B:D,3,0),0),\"\")","v":0},{"$f":"IF(A40<>\"\",IFERROR(VLOOKUP(N40,Tabelas!B:D,3,0),0),\"\")","v":0},{"$f":"IF(A40<>\"\",IFERROR(VLOOKUP(O40,Tabelas!B:D,3,0),0),\"\")","v":0},{"$f":"IF(A40<>\"\",IFERROR(VLOOKUP(P40,Tabelas!B:D,3,0),0),\"\")","v":0},{"$f":"IF(A40<>\"\",IFERROR(VLOOKUP(Q40,Tabelas!B:D,3,0),0),\"\")","v":0},{"$f":"IF(A40<>\"\",IFERROR(VLOOKUP(R40,Tabelas!B:D,3,0),0),\"\")","v":0},{"$f":"IF(A40<>\"\",IFERROR(VLOOKUP(S40,Tabelas!B:D,3,0),0),\"\")","v":0},{"$f":"IF(A40<>\"\",IFERROR(VLOOKUP(T40,Tabelas!B:D,3,0),0),\"\")","v":0},{"$f":"IF(A40<>\"\",IFERROR(VLOOKUP(U40,Tabelas!B:D,3,0),0),\"\")","v":0},{"$f":"IF(A40<>\"\",IFERROR(VLOOKUP(V40,Tabelas!B:D,3,0),0),\"\")","v":0},{"$f":"IF(A40<>\"\",IFERROR(VLOOKUP(W40,Tabelas!B:D,3,0),0),\"\")","v":0},{"$f":"IF(A40<>\"\",IFERROR(VLOOKUP(X40,Tabelas!B:D,3,0),0),\"\")","v":0},{"$f":"IF(A40<>\"\",IFERROR(VLOOKUP(Y40,Tabelas!B:D,3,0),0),\"\")","v":0},{"$f":"IF(A40<>\"\",IFERROR(VLOOKUP(Z40,Tabelas!B:D,3,0),0),\"\")","v":0},{"$f":"IF(A40<>\"\",IFERROR(VLOOKUP(AA40,Tabelas!B:D,3,0),0),\"\")","v":0},{"$f":"IF(A40<>\"\",IFERROR(VLOOKUP(AB40,Tabelas!B:D,3,0),0),\"\")","v":0},{"$f":"IF(A40<>\"\",IFERROR(VLOOKUP(AC40,Tabelas!B:D,3,0),0),\"\")","v":0},{"$f":"IF(A40<>\"\",IFERROR(VLOOKUP(AD40,Tabelas!B:D,3,0),0),\"\")","v":0},{"$f":"IF(A40<>\"\",IFERROR(VLOOKUP(AE40,Tabelas!B:D,3,0),0),\"\")","v":0},{"$f":"IF(A40<>\"\",IFERROR(VLOOKUP(AF40,Tabelas!B:D,3,0),0),\"\")","v":0},{"$f":"IF(A40<>\"\",IFERROR(VLOOKUP(AG40,Tabelas!B:D,3,0),0),\"\")","v":0},{"$f":"IF(A40<>\"\",IFERROR(VLOOKUP(AH40,Tabelas!B:D,3,0),0),\"\")","v":0},{"$f":"IF(A40<>\"\",IFERROR(VLOOKUP(#REF!,Tabelas!B:D,3,0),0),\"\")","v":0},{"$f":"IF(A40<>\"\",IFERROR(VLOOKUP(#REF!,Tabelas!B:D,3,0),0),\"\")","v":0},{"$f":"IF(A40<>\"\",IFERROR(VLOOKUP(#REF!,Tabelas!B:D,3,0),0),\"\")","v":0}]
["Jane da Silva",2224909,8602,"Médico","RJU",40,"D6","D6","D6","M15",null,null,"D6","D6","D6","D6","M15",null,null,"D6","D6","D6","D6","M15",null,null,"D6","D6","D6","D6","M15",null,null,"D6"]
["Anne-Rose Leopoldina Wuederkehr Bau ",3050861,21324,"Médico","EBSERH",24,"T15",null,null,"D6",null,null,"T15","T15",null,null,"D6",null,null,"T15","T15",null,null,"D6",null,null,"T15","T15",null,null,"D6",null,null,"T15"]
["CLINICA MÉDICA ",null,null,null,null,null,null,null,null,null,null,null,null,null,null,null,null,null,null,null,null,null,null,null,null,null,null,null,null,null,null,null,null,null,{"$f":"IF(A43<>\"\",IFERROR(VLOOKUP(G43,Tabelas!B:D,3,0),0),\"\")","v":0},{"$f":"IF(A43<>\"\",IFERROR(VLOOKUP(H43,Tabelas!B:D,3,0),0),\"\")","v":0},{"$f":"IF(A43<>\"\",IFERROR(VLOOKUP(I43,Tabelas!B:D,3,0),0),\"\")","v":0},{"$f":"IF(A43<>\"\",IFERROR(VLOOKUP(J43,Tabelas!B:D,3,0),0),\"\")","v":0},{"$f":"IF(A43<>\"\",IFERROR(VLOOKUP(K43,Tabelas!B:D,3,0),0),\"\")","v":0},{"$f":"IF(A43<>\"\",IFERROR(VLOOKUP(L43,Tabelas!B:D,3,0),0),\"\")","v":0},{"$f":"IF(A43<>\"\",IFERROR(VLOOKUP(M43,Tabelas!B:D,3,0),0),\"\")","v":0},{"$f":"IF(A43<>\"\",IFERROR(VLOOKUP(N43,Tabelas!B:D,3,0),0),\"\")","v":0},{"$f":"IF(A43<>\"\",IFERROR(VLOOKUP(O43,Tabelas!B:D,3,0),0),\"\")","v":0},{"$f":"IF(A43<>\"\",IFERROR(VLOOKUP(P43,Tabelas!B:D,3,0),0),\"\")","v":0},{"$f":"IF(A43<>\"\",IFERROR(VLOOKUP(Q43,Tabelas!B:D,3,0),0),\"\")","v":0},{"$f":"IF(A43<>\"\",IFERROR(VLOOKUP(R43,Tabelas!B:D,3,0),0),\"\")","v":0},{"$f":"IF(A43<>\"\",IFERROR(VLOOKUP(S43,Tabelas!B:D,3,0),0),\"\")","v":0},{"$f":"IF(A43<>\"\",IFERROR(VLOOKUP(T43,Tabelas!B:D,3,0),0),\"\")","v":0},{"$f":"IF(A43<>\"\",IFERROR(VLOOKUP(U43,Tabelas!B:D,3,0),0),\"\")","v":0},{"$f":"IF(A43<>\"\",IFERROR(VLOOKUP(V43,Tabelas!B:D,3,0),0),\"\")","v":0},{"$f":"IF(A43<>\"\",IFERROR(VLOOKUP(W43,Tabelas!B:D,3,0),0),\"\")","v":0},{"$f":"IF(A43<>\"\",IFERROR(VLOOKUP(X43,Tabelas!B:D,3,0),0),\"\")","v":0},{"$f":"IF(A43<>\"\",IFERROR(VLOOKUP(Y43,Tabelas!B:D,3,0),0),\"\")","v":0},{"$f":"IF(A43<>\"\",IFERROR(VLOOKUP(Z43,Tabelas!B:D,3,0),0),\"\")","v":0},{"$f":"IF(A43<>\"\",IFERROR(VLOOKUP(AA43,Tabelas!B:D,3,0),0),\"\")","v":0},{"$f":"IF(A43<>\"\",IFERROR(VLOOKUP(AB43,Tabelas!B:D,3,0),0),\"\")","v":0},{"$f":"IF(A43<>\"\",IFERROR(VLOOKUP(AC43,Tabelas!B:D,3,0),0),\"\")","v":0},{"$f":"IF(A43<>\"\",IFERROR(VLOOKUP(AD43,Tabelas!B:D,3,0),0),\"\")","v":0},{"$f":"IF(A43<>\"\",IFERROR(VLOOKUP(AE43,Tabelas!B:D,3,0),0),\"\")","v":0},{"$f":"IF(A43<>\"\",IFERROR(VLOOKUP(AF43,Tabelas!B:D,3,0),0),\"\")","v":0},{"$f":"IF(A43<>\"\",IFERROR(VLOOKUP(AG43,Tabelas!B:D,3,0),0),\"\")","v":0},{"$f":"IF(A43<>\"\",IFERROR(VLOOKUP(AH43,Tabelas!B:D,3,0),0),\"\")","v":0},{"$f":"IF(A43<>\"\",IFERROR(VLOOKUP(#REF!,Tabelas!B:D,3,0),0),\"\")","v":0},{"$f":"IF(A43<>\"\",IFERROR(VLOOKUP(#REF!,Tabelas!B:D,3,0),0),\"\")","v":0},{"$f":"IF(A43<>\"\",IFERROR(VLOOKUP(#REF!,Tabelas!B:D,3,0),0),\"\")","v":0}]
["Leonardo Jonk Staub ",2604396,14283,"Médico","RJU",40,"M15","M15","M15","M15",null,null,"M15","M15","M15","M15","M15",null,null,"M15","M15","M15","M15","M15",null,null,"M15","M15","M15","M15","M15",null,null,"M15"]
["Mario Octavio Thá Marques ",2083850,15051,"Médico","RJU",30,"FE","FE","FE","FE",null,null,"FE","FE","FE","FE","FE",null,null,"M15","M15","M15","M15","M15",null,null,"M15","M15","M15","M15","M15",null,null,"M15"]
["REUMATOLOGIA ",null,null,null,null,null,null,null,null,null,null,null,null,null,null,null,null,null,null,null,null,null,null,null,null,null,null,null,null,null,null,null,null,null,{"$f":"IF(A46<>\"\",IFERROR(VLOOKUP(G46,Tabelas!B:D,3,0),0),\"\")","v":0},{"$f":"IF(A46<>\"\",IFERROR(VLOOKUP(H46,Tabelas!B:D,3,0),0),\"\")","v":0},{"$f":"IF(A46<>\"\",IFERROR(VLOOKUP(I46,Tabelas!B:D,3,0),0),\"\")","v":0},{"$f":"IF(A46<>\"\",IFERROR(VLOOKUP(J46,Tabelas!B:D,3,0),0),\"\")","v":0},{"$f":"IF(A46<>\"\",IFERROR(VLOOKUP(K46,Tabelas!B:D,3,0),0),\"\")","v":0},{"$f":"IF(A46<>\"\",IFERROR(VLOOKUP(L46,Tabelas!B:D,3,0),0),\"\")","v":0},{"$f":"IF(A46<>\"\",IFERROR(VLOOKUP(M46,Tabelas!B:D,3,0),0),\"\")","v":0},{"$f":"IF(A46<>\"\",IFERROR(VLOOKUP(N46,Tabelas!B:D,3,0),0),\"\")","v":0},{"$f":"IF(A46<>\"\",IFERROR(VLOOKUP(O46,Tabelas!B:D,3,0),0),\"\")","v":0},{"$f":"IF(A46<>\"\",IFERROR(VLOOKUP(P46,Tabelas!B:D,3,0),0),\"\")","v":0},{"$f":"IF(A46<>\"\",IFERROR(VLOOKUP(Q46,Tabelas!B:D,3,0),0),\"\")","v":0},{"$f":"IF(A46<>\"\",IFERROR(VLOOKUP(R46,Tabelas!B:D,3,0),0),\"\")","v":0},{"$f":"IF(A46<>\"\",IFERROR(VLOOKUP(S46,Tabelas!B:D,3,0),0),\"\")","v":0},{"$f":"IF(A46<>\"\",IFERROR(VLOOKUP(T46,Tabelas!B:D,3,0),0),\"\")","v":0},{"$f":"IF(A46<>\"\",IFERROR(VLOOKUP(U46,Tabelas!B:D,3,0),0),\"\")","v":0},{"$f":"IF(A46<>\"\",IFERROR(VLOOKUP(V46,Tabelas!B:D,3,0),0),\"\")","v":0},{"$f":"IF(A46<>\"\",IFERROR(VLOOKUP(W46,Tabelas!B:D,3,0),0),\"\")","v":0},{"$f":"IF(A46<>\"\",IFERROR(VLOOKUP(X46,Tabelas!B:D,3,0),0),\"\")","v":0},{"$f":"IF(A46<>\"\",IFERROR(VLOOKUP(Y46,Tabelas!B:D,3,0),0),\"\")","v":0},{"$f":"IF(A46<>\"\",IFERROR(VLOOKUP(Z46,Tabelas!B:D,3,0),0),\"\")","v":0},{"$f":"IF(A46<>\"\",IFERROR(VLOOKUP(AA46,Tabelas!B:D,3,0),0),\"\")","v":0},{"$f":"IF(A46<>\"\",IFERROR(VLOOKUP(AB46,Tabelas!B:D,3,0),0),\"\")","v":0},{"$f":"IF(A46<>\"\",IFERROR(VLOOKUP(AC46,Tabelas!B:D,3,0),0),\"\")","v":0},{"$f":"IF(A46<>\"\",IFERROR(VLOOKUP(AD46,Tabelas!B:D,3,0),0),\"\")","v":0},{"$f":"IF(A46<>\"\",IFERROR(VLOOKUP(AE46,Tabelas!B:D,3,0),0),\"\")","v":0},{"$f":"IF(A46<>\"\",IFERROR(VLOOKUP(AF46,Tabelas!B:D,3,0),0),\"\")","v":0},{"$f":"IF(A46<>\"\",IFERROR(VLOOKUP(AG46,Tabelas!B:D,3,0),0),\"\")","v":0},{"$f":"IF(A46<>\"\",IFERROR(VLOOKUP(AH46,Tabelas!B:D,3,0),0),\"\")","v":0},{"$f":"IF(A46<>\"\",IFERROR(VLOOKUP(#REF!,Tabelas!B:D,3,0),0),\"\")","v":0},{"$f":"IF(A46<>\"\",IFERROR(VLOOKUP(#REF!,Tabelas!B:D,3,0),0),\"\")","v":0},{"$f":"IF(A46<>\"\",IFERROR(VLOOKUP(#REF!,Tabelas!B:D,3,0),0),\"\")","v":0}]
["Ivanio Alves Pereira ",278207,5081,"Médico","RJU",20,"T15",null,"M15","M15",null,null,"D6","T15",null,"M15","M15",null,null,"D6","T15",null,"M15","M15",null,null,"D6","T15",null,"M15","M15",null,null,"D6"]
["Adriana Fontes Zimmermann ",1160584,4120,"Médico","RJU",20,"M15",null,"M15",null,null,null,"M15","M15",null,"M15",null,null,null,"M15","M15",null,"M15",null,null,null,"M15","M15",null,"M15",null,null,null,"M15"]
["Andressa Miozzo Soares ",1219785,19011,"Médico","EBSERH",24,null,"T15","M15",null,null,null,"D6",null,"T15","M15",null,null,null,"D6",null,"T15","M15",null,null,null,"D6",null,"T15","M15",null,null,null,"D6"]
["Monique Kowalski Schmitz",3141340,10956,"Médico","EBSERH",24,"T15",null,"D6",null,null,null,"T15","T15",null,"D6",null,null,null,"T15","T15",null,"D6",null,null,null,"T15","T15",null,"D6",null,null,null,"T15"]
["NEUROLOGIA ",null,null,null,null,null,null,null,null,null,null,null,null,null,null,null,null,null,null,null,null,null,null,null,null,null,null,null,null,null,null,null,null,null,{"$f":"IF(A51<>\"\",IFERROR(VLOOKUP(G51,Tabelas!B:D,3,0),0),\"\")","v":0},{"$f":"IF(A51<>\"\",IFERROR(VLOOKUP(H51,Tabelas!B:D,3,0),0),\"\")","v":0},{"$f":"IF(A51<>\"\",IFERROR(VLOOKUP(I51,Tabelas!B:D,3,0),0),\"\")","v":0},{"$f":"IF(A51<>\"\",IFERROR(VLOOKUP(J51,Tabelas!B:D,3,0),0),\"\")","v":0},{"$f":"IF(A51<>\"\",IFERROR(VLOOKUP(K51,Tabelas!B:D,3,0),0),\"\")","v":0},{"$f":"IF(A51<>\"\",IFERROR(VLOOKUP(L51,Tabelas!B:D,3,0),0),\"\")","v":0},{"$f":"IF(A51<>\"\",IFERROR(VLOOKUP(M51,Tabelas!B:D,3,0),0),\"\")","v":0},{"$f":"IF(A51<>\"\",IFERROR(VLOOKUP(N51,Tabelas!B:D,3,0),0),\"\")","v":0},{"$f":"IF(A51<>\"\",IFERROR(VLOOKUP(O51,Tabelas!B:D,3,0),0),\"\")","v":0},{"$f":"IF(A51<>\"\",IFERROR(VLOOKUP(P51,Tabelas!B:D,3,0),0),\"\")","v":0},{"$f":"IF(A51<>\"\",IFERROR(VLOOKUP(Q51,Tabelas!B:D,3,0),0),\"\")","v":0},{"$f":"IF(A51<>\"\",IFERROR(VLOOKUP(R51,Tabelas!B:D,3,0),0),\"\")","v":0},{"$f":"IF(A51<>\"\",IFERROR(VLOOKUP(S51,Tabelas!B:D,3,0),0),\"\")","v":0},{"$f":"IF(A51<>\"\",IFERROR(VLOOKUP(T51,Tabelas!B:D,3,0),0),\"\")","v":0},{"$f":"IF(A51<>\"\",IFERROR(VLOOKUP(U51,Tabelas!B:D,3,0),0),\"\")","v":0},{"$f":"IF(A51<>\"\",IFERROR(VLOOKUP(V51,Tabelas!B:D,3,0),0),\"\")","v":0},{"$f":"IF(A51<>\"\",IFERROR(VLOOKUP(W51,Tabelas!B:D,3,0),0),\"\")","v":0},{"$f":"IF(A51<>\"\",IFERROR(VLOOKUP(X51,Tabelas!B:D,3,0),0),\"\")","v":0},{"$f":"IF(A51<>\"\",IFERROR(VLOOKUP(Y51,Tabelas!B:D,3,0),0),\"\")","v":0},{"$f":"IF(A51<>\"\",IFERROR(VLOOKUP(Z51,Tabelas!B:D,3,0),0),\"\")","v":0},{"$f":"IF(A51<>\"\",IFERROR(VLOOKUP(AA51,Tabelas!B:D,3,0),0),\"\")","v":0},{"$f":"IF(A51<>\"\",IFERROR(VLOOKUP(AB51,Tabelas!B:D,3,0),0),\"\")","v":0},{"$f":"IF(A51<>\"\",IFERROR(VLOOKUP(AC51,Tabelas!B:D,3,0),0),\"\")","v":0},{"$f":"IF(A51<>\"\",IFERROR(VLOOKUP(AD51,Tabelas!B:D,3,0),0),\"\")","v":0},{"$f":"IF(A51<>\"\",IFERROR(VLOOKUP(AE51,Tabelas!B:D,3,0),0),\"\")","v":0},{"$f":"IF(A51<>\"\",IFERROR(VLOOKUP(AF51,Tabelas!B:D,3,0),0),\"\")","v":0},{"$f":"IF(A51<>\"\",IFERROR(VLOOKUP(AG51,Tabelas!B:D,3,0),0),\"\")","v":0},{"$f":"IF(A51<>\"\",IFERROR(VLOOKUP(AH51,Tabelas!B:D,3,0),0),\"\")","v":0},{"$f":"IF(A51<>\"\",IFERROR(VLOOKUP(#REF!,Tabelas!B:D,3,0),0),\"\")","v":0},{"$f":"IF(A51<>\"\",IFERROR(VLOOKUP(#REF!,Tabelas!B:D,3,0),0),\"\")","v":0},{"$f":"IF(A51<>\"\",IFERROR(VLOOKUP(#REF!,Tabelas!B:D,3,0),0),\"\")","v":0}]
["Luiz Paulo de Queiroz ",2158320,3155,"Médico","RJU",20,"D6",null,"M15","M15",null,null,"T15","D6",null,"M15","M15",null,null,"T15","D6",null,"M15","M15",null,null,"T15","D6",null,"M15","M15",null,null,"T15"]
["Gisele Espíndola ",1524592,10886,"Médico","RJU",20,"LC","D6","M15",null,null,null,null,"T15","D6","M15",null,null,null,null,"T15","D6","M15",null,null,null,null,"T15","D6","M15"]
["Marcia Tatsch Cavagnollo",1922994,12168,"Médico","RJU",20,null,"FE","FE","FE",null,null,"FE","FE","FE","FE","FE",null,null,null,null,"T15","D6","M15",null,null,null,null,"T15","D6","M15"]
["Adaucto Wanderley da Nobrega Jr",1111792,12419,"Médico","EBSERH",24,"M15","D6","M15",null,null,null,null,"M15","D6","M15",null,null,null,null,"M15","D6","M15",null,null,null,null,"M15","D6","M15"]
["Ricardo Goes Freitas ",1926676,18155,"Médico","EBSERH",24,null,"D6","D6","D6",null,null,null,null,"D6","D6","D6",null,null,null,null,"D6","D6","D6",null,null,null,null,"D6","D6","D6"]
["Edson Duarte Pillotto",3265216,12158,"Médico","EBSERH",24,null,"T15","M15","T15",null,null,null,null,"T15","M15","T15",null,null,null,null,"T15","M15","T15",null,null,null,null,"T15","M15","T15"]
["André Dias de Oliveira",1280965,1910,"Médico","EBSERH",24,null,"T15","M15",null,null,null,"D6",null,"T15","M15",null,null,null,"D6",null,"T15","M15",null,null,null,"D6",null,"T15","M15",null,null,null,"D6"]
["INFECTOLOGIA ",null,null,null,null,null,null,null,null,null,null,null,null,null,null,null,null,null,null,null,null,null,null,null,null,null,null,null,null,null,null,null,null,null,{"$f":"IF(A59<>\"\",IFERROR(VLOOKUP(G59,Tabelas!B:D,3,0),0),\"\")","v":0},{"$f":"IF(A59<>\"\",IFERROR(VLOOKUP(H59,Tabelas!B:D,3,0),0),\"\")","v":0},{"$f":"IF(A59<>\"\",IFERROR(VLOOKUP(I59,Tabelas!B:D,3,0),0),\"\")","v":0},{"$f":"IF(A59<>\"\",IFERROR(VLOOKUP(J59,Tabelas!B:D,3,0),0),\"\")","v":0},{"$f":"IF(A59<>\"\",IFERROR(VLOOKUP(K59,Tabelas!B:D,3,0),0),\"\")","v":0},{"$f":"IF(A59<>\"\",IFERROR(VLOOKUP(L59,Tabelas!B:D,3,0),0),\"\")","v":0},{"$f":"IF(A59<>\"\",IFERROR(VLOOKUP(M59,Tabelas!B:D,3,0),0),\"\")","v":0},{"$f":"IF(A59<>\"\",IFERROR(VLOOKUP(N59,Tabelas!B:D,3,0),0),\"\")","v":0},{"$f":"IF(A59<>\"\",IFERROR(VLOOKUP(O59,Tabelas!B:D,3,0),0),\"\")","v":0},{"$f":"IF(A59<>\"\",IFERROR(VLOOKUP(P59,Tabelas!B:D,3,0),0),\"\")","v":0},{"$f":"IF(A59<>\"\",IFERROR(VLOOKUP(Q59,Tabelas!B:D,3,0),0),\"\")","v":0},{"$f":"IF(A59<>\"\",IFERROR(VLOOKUP(R59,Tabelas!B:D,3,0),0),\"\")","v":0},{"$f":"IF(A59<>\"\",IFERROR(VLOOKUP(S59,Tabelas!B:D,3,0),0),\"\")","v":0},{"$f":"IF(A59<>\"\",IFERROR(VLOOKUP(T59,Tabelas!B:D,3,0),0),\"\")","v":0},{"$f":"IF(A59<>\"\",IFERROR(VLOOKUP(U59,Tabelas!B:D,3,0),0),\"\")","v":0},{"$f":"IF(A59<>\"\",IFERROR(VLOOKUP(V59,Tabelas!B:D,3,0),0),\"\")","v":0},{"$f":"IF(A59<>\"\",IFERROR(VLOOKUP(W59,Tabelas!B:D,3,0),0),\"\")","v":0},{"$f":"IF(A59<>\"\",IFERROR(VLOOKUP(X59,Tabelas!B:D,3,0),0),\"\")","v":0},{"$f":"IF(A59<>\"\",IFERROR(VLOOKUP(Y59,Tabelas!B:D,3,0),0),\"\")","v":0},{"$f":"IF(A59<>\"\",IFERROR(VLOOKUP(Z59,Tabelas!B:D,3,0),0),\"\")","v":0},{"$f":"IF(A59<>\"\",IFERROR(VLOOKUP(AA59,Tabelas!B:D,3,0),0),\"\")","v":0},{"$f":"IF(A59<>\"\",IFERROR(VLOOKUP(AB59,Tabelas!B:D,3,0),0),\"\")","v":0},{"$f":"IF(A59<>\"\",IFERROR(VLOOKUP(AC59,Tabelas!B:D,3,0),0),\"\")","v":0},{"$f":"IF(A59<>\"\",IFERROR(VLOOKUP(AD59,Tabelas!B:D,3,0),0),\"\")","v":0},{"$f":"IF(A59<>\"\",IFERROR(VLOOKUP(AE59,Tabelas!B:D,3,0),0),\"\")","v":0},{"$f":"IF(A59<>\"\",IFERROR(VLOOKUP(AF59,Tabelas!B:D,3,0),0),\"\")","v":0},{"$f":"IF(A59<>\"\",IFERROR(VLOOKUP(AG59,Tabelas!B:D,3,0),0),\"\")","v":0},{"$f":"IF(A59<>\"\",IFERROR(VLOOKUP(AH59,Tabelas!B:D,3,0),0),\"\")","v":0},{"$f":"IF(A59<>\"\",IFERROR(VLOOKUP(#REF!,Tabelas!B:D,3,0),0),\"\")","v":0},{"$f":"IF(A59<>\"\",IFERROR(VLOOKUP(#REF!,Tabelas!B:D,3,0),0),\"\")","v":0},{"$f":"IF(A59<>\"\",IFERROR(VLOOKUP(#REF!,Tabelas!B:D,3,0),0),\"\")","v":0}]
["Patricia de Almeida Vanny",2140466,1280,"Médico","RJU",40,"FE","FE","FE","FE",null,null,"M15","M15","M15","M15","M15",null,null,"M15","M15","M15","M15","M15",null,null,"M15","M15","M15","M15","M15",null,null,"M15"]
["HOMEOPATIA ",null,null,null,null,null,null,null,null,null,null,null,null,null,null,null,null,null,null,null,null,null,null,null,null,null,null,null,null,null,null,null,null,null,{"$f":"IF(A61<>\"\",IFERROR(VLOOKUP(G61,Tabelas!B:D,3,0),0),\"\")","v":0},{"$f":"IF(A61<>\"\",IFERROR(VLOOKUP(H61,Tabelas!B:D,3,0),0),\"\")","v":0},{"$f":"IF(A61<>\"\",IFERROR(VLOOKUP(I61,Tabelas!B:D,3,0),0),\"\")","v":0},{"$f":"IF(A61<>\"\",IFERROR(VLOOKUP(J61,Tabelas!B:D,3,0),0),\"\")","v":0},{"$f":"IF(A61<>\"\",IFERROR(VLOOKUP(K61,Tabelas!B:D,3,0),0),\"\")","v":0},{"$f":"IF(A61<>\"\",IFERROR(VLOOKUP(L61,Tabelas!B:D,3,0),0),\"\")","v":0},{"$f":"IF(A61<>\"\",IFERROR(VLOOKUP(M61,Tabelas!B:D,3,0),0),\"\")","v":0},{"$f":"IF(A61<>\"\",IFERROR(VLOOKUP(N61,Tabelas!B:D,3,0),0),\"\")","v":0},{"$f":"IF(A61<>\"\",IFERROR(VLOOKUP(O61,Tabelas!B:D,3,0),0),\"\")","v":0},{"$f":"IF(A61<>\"\",IFERROR(VLOOKUP(P61,Tabelas!B:D,3,0),0),\"\")","v":0},{"$f":"IF(A61<>\"\",IFERROR(VLOOKUP(Q61,Tabelas!B:D,3,0),0),\"\")","v":0},{"$f":"IF(A61<>\"\",IFERROR(VLOOKUP(R61,Tabelas!B:D,3,0),0),\"\")","v":0},{"$f":"IF(A61<>\"\",IFERROR(VLOOKUP(S61,Tabelas!B:D,3,0),0),\"\")","v":0},{"$f":"IF(A61<>\"\",IFERROR(VLOOKUP(T61,Tabelas!B:D,3,0),0),\"\")","v":0},{"$f":"IF(A61<>\"\",IFERROR(VLOOKUP(U61,Tabelas!B:D,3,0),0),\"\")","v":0},{"$f":"IF(A61<>\"\",IFERROR(VLOOKUP(V61,Tabelas!B:D,3,0),0),\"\")","v":0},{"$f":"IF(A61<>\"\",IFERROR(VLOOKUP(W61,Tabelas!B:D,3,0),0),\"\")","v":0},{"$f":"IF(A61<>\"\",IFERROR(VLOOKUP(X61,Tabelas!B:D,3,0),0),\"\")","v":0},{"$f":"IF(A61<>\"\",IFERROR(VLOOKUP(Y61,Tabelas!B:D,3,0),0),\"\")","v":0},{"$f":"IF(A61<>\"\",IFERROR(VLOOKUP(Z61,Tabelas!B:D,3,0),0),\"\")","v":0},{"$f":"IF(A61<>\"\",IFERROR(VLOOKUP(AA61,Tabelas!B:D,3,0),0),\"\")","v":0},{"$f":"IF(A61<>\"\",IFERROR(VLOOKUP(AB61,Tabelas!B:D,3,0),0),\"\")","v":0},{"$f":"IF(A61<>\"\",IFERROR(VLOOKUP(AC61,Tabelas!B:D,3,0),0),\"\")","v":0},{"$f":"IF(A61<>\"\",IFERROR(VLOOKUP(AD61,Tabelas!B:D,3,0),0),\"\")","v":0},{"$f":"IF(A61<>\"\",IFERROR(VLOOKUP(AE61,Tabelas!B:D,3,0),0),\"\")","v":0},{"$f":"IF(A61<>\"\",IFERROR(VLOOKUP(AF61,Tabelas!B:D,3,0),0),\"\")","v":0},{"$f":"IF(A61<>\"\",IFERROR(VLOOKUP(AG61,Tabelas!B:D,3,0),0),\"\")","v":0},{"$f":"IF(A61<>\"\",IFERROR(VLOOKUP(AH61,Tabelas!B:D,3,0),0),\"\")","v":0},{"$f":"IF(A61<>\"\",IFERROR(VLOOKUP(#REF!,Tabelas!B:D,3,0),0),\"\")","v":0},{"$f":"IF(A61<>\"\",IFERROR(VLOOKUP(#REF!,Tabelas!B:D,3,0),0),\"\")","v":0},{"$f":"IF(A61<>\"\",IFERROR(VLOOKUP(#REF!,Tabelas!B:D,3,0),0),\"\")","v":0}]
["Luis Carlos Esteves Grelle ",3133639,13438,"Médico","EBSERH",24,"D6",null,"D6",null,null,null,"D6","D6",null,"D6",null,null,null,"D6","D6",null,"D6",null,null,null,"D6","D6",null,"D6",null,null,null,"D6"]
["GERIATRIA ",null,null,null,null,null,null,null,null,null,null,null,null,null,null,null,null,null,null,null,null,null,null,null,null,null,null,null,null,null,null,null,null,null,{"$f":"IF(A63<>\"\",IFERROR(VLOOKUP(G63,Tabelas!B:D,3,0),0),\"\")","v":0},{"$f":"IF(A63<>\"\",IFERROR(VLOOKUP(H63,Tabelas!B:D,3,0),0),\"\")","v":0},{"$f":"IF(A63<>\"\",IFERROR(VLOOKUP(I63,Tabelas!B:D,3,0),0),\"\")","v":0},{"$f":"IF(A63<>\"\",IFERROR(VLOOKUP(J63,Tabelas!B:D,3,0),0),\"\")","v":0},{"$f":"IF(A63<>\"\",IFERROR(VLOOKUP(K63,Tabelas!B:D,3,0),0),\"\")","v":0},{"$f":"IF(A63<>\"\",IFERROR(VLOOKUP(L63,Tabelas!B:D,3,0),0),\"\")","v":0},{"$f":"IF(A63<>\"\",IFERROR(VLOOKUP(M63,Tabelas!B:D,3,0),0),\"\")","v":0},{"$f":"IF(A63<>\"\",IFERROR(VLOOKUP(N63,Tabelas!B:D,3,0),0),\"\")","v":0},{"$f":"IF(A63<>\"\",IFERROR(VLOOKUP(O63,Tabelas!B:D,3,0),0),\"\")","v":0},{"$f":"IF(A63<>\"\",IFERROR(VLOOKUP(P63,Tabelas!B:D,3,0),0),\"\")","v":0},{"$f":"IF(A63<>\"\",IFERROR(VLOOKUP(Q63,Tabelas!B:D,3,0),0),\"\")","v":0},{"$f":"IF(A63<>\"\",IFERROR(VLOOKUP(R63,Tabelas!B:D,3,0),0),\"\")","v":0},{"$f":"IF(A63<>\"\",IFERROR(VLOOKUP(S63,Tabelas!B:D,3,0),0),\"\")","v":0},{"$f":"IF(A63<>\"\",IFERROR(VLOOKUP(T63,Tabelas!B:D,3,0),0),\"\")","v":0},{"$f":"IF(A63<>\"\",IFERROR(VLOOKUP(U63,Tabelas!B:D,3,0),0),\"\")","v":0},{"$f":"IF(A63<>\"\",IFERROR(VLOOKUP(V63,Tabelas!B:D,3,0),0),\"\")","v":0},{"$f":"IF(A63<>\"\",IFERROR(VLOOKUP(W63,Tabelas!B:D,3,0),0),\"\")","v":0},{"$f":"IF(A63<>\"\",IFERROR(VLOOKUP(X63,Tabelas!B:D,3,0),0),\"\")","v":0},{"$f":"IF(A63<>\"\",IFERROR(VLOOKUP(Y63,Tabelas!B:D,3,0),0),\"\")","v":0},{"$f":"IF(A63<>\"\",IFERROR(VLOOKUP(Z63,Tabelas!B:D,3,0),0),\"\")","v":0},{"$f":"IF(A63<>\"\",IFERROR(VLOOKUP(AA63,Tabelas!B:D,3,0),0),\"\")","v":0},{"$f":"IF(A63<>\"\",IFERROR(VLOOKUP(AB63,Tabelas!B:D,3,0),0),\"\")","v":0},{"$f":"IF(A63<>\"\",IFERROR(VLOOKUP(AC63,Tabelas!B:D,3,0),0),\"\")","v":0},{"$f":"IF(A63<>\"\",IFERROR(VLOOKUP(AD63,Tabelas!B:D,3,0),0),\"\")","v":0},{"$f":"IF(A63<>\"\",IFERROR(VLOOKUP(AE63,Tabelas!B:D,3,0),0),\"\")","v":0},{"$f":"IF(A63<>\"\",IFERROR(VLOOKUP(AF63,Tabelas!B:D,3,0),0),\"\")","v":0},{"$f":"IF(A63<>\"\",IFERROR(VLOOKUP(AG63,Tabelas!B:D,3,0),0),\"\")","v":0},{"$f":"IF(A63<>\"\",IFERROR(VLOOKUP(AH63,Tabelas!B:D,3,0),0),\"\")","v":0},{"$f":"IF(A63<>\"\",IFERROR(VLOOKUP(#REF!,Tabelas!B:D,3,0),0),\"\")","v":0},{"$f":"IF(A63<>\"\",IFERROR(VLOOKUP(#REF!,Tabelas!B:D,3,0),0),\"\")","v":0},{"$f":"IF(A63<>\"\",IFERROR(VLOOKUP(#REF!,Tabelas!B:D,3,0),0),\"\")","v":0}]
["Rodrigo Dagostini Derech",3053154,12632,"Médico","EBSERH",24,null,"T15",null,"D6",null,null,"T15",null,"T15",null,"D6",null,null,"T15",null,"T15",null,"D6",null,null,"T15",null,"T15",null,"D6",null,null,"T15"]
["                  CHEFE DE UNIDADE",null,null,null,null,null,null,null,null,null,null,null,null,null,null,null,null,null,null,null,null,null,null,null,null,null,null,null,null,null,null,null,null,null,{"$f":"IF(A65<>\"\",IFERROR(VLOOKUP(G65,Tabelas!B:D,3,0),0),\"\")","v":0},{"$f":"IF(A65<>\"\",IFERROR(VLOOKUP(H65,Tabelas!B:D,3,0),0),\"\")","v":0},{"$f":"IF(A65<>\"\",IFERROR(VLOOKUP(I65,Tabelas!B:D,3,0),0),\"\")","v":0},{"$f":"IF(A65<>\"\",IFERROR(VLOOKUP(J65,Tabelas!B:D,3,0),0),\"\")","v":0},{"$f":"IF(A65<>\"\",IFERROR(VLOOKUP(K65,Tabelas!B:D,3,0),0),\"\")","v":0},{"$f":"IF(A65<>\"\",IFERROR(VLOOKUP(L65,Tabelas!B:D,3,0),0),\"\")","v":0},{"$f":"IF(A65<>\"\",IFERROR(VLOOKUP(M65,Tabelas!B:D,3,0),0),\"\")","v":0},{"$f":"IF(A65<>\"\",IFERROR(VLOOKUP(N65,Tabelas!B:D,3,0),0),\"\")","v":0},{"$f":"IF(A65<>\"\",IFERROR(VLOOKUP(O65,Tabelas!B:D,3,0),0),\"\")","v":0},{"$f":"IF(A65<>\"\",IFERROR(VLOOKUP(P65,Tabelas!B:D,3,0),0),\"\")","v":0},{"$f":"IF(A65<>\"\",IFERROR(VLOOKUP(Q65,Tabelas!B:D,3,0),0),\"\")","v":0},{"$f":"IF(A65<>\"\",IFERROR(VLOOKUP(R65,Tabelas!B:D,3,0),0),\"\")","v":0},{"$f":"IF(A65<>\"\",IFERROR(VLOOKUP(S65,Tabelas!B:D,3,0),0),\"\")","v":0},{"$f":"IF(A65<>\"\",IFERROR(VLOOKUP(T65,Tabelas!B:D,3,0),0),\"\")","v":0},{"$f":"IF(A65<>\"\",IFERROR(VLOOKUP(U65,Tabelas!B:D,3,0),0),\"\")","v":0},{"$f":"IF(A65<>\"\",IFERROR(VLOOKUP(V65,Tabelas!B:D,3,0),0),\"\")","v":0},{"$f":"IF(A65<>\"\",IFERROR(VLOOKUP(W65,Tabelas!B:D,3,0),0),\"\")","v":0},{"$f":"IF(A65<>\"\",IFERROR(VLOOKUP(X65,Tabelas!B:D,3,0),0),\"\")","v":0},{"$f":"IF(A65<>\"\",IFERROR(VLOOKUP(Y65,Tabelas!B:D,3,0),0),\"\")","v":0},{"$f":"IF(A65<>\"\",IFERROR(VLOOKUP(Z65,Tabelas!B:D,3,0),0),\"\")","v":0},{"$f":"IF(A65<>\"\",IFERROR(VLOOKUP(AA65,Tabelas!B:D,3,0),0),\"\")","v":0},{"$f":"IF(A65<>\"\",IFERROR(VLOOKUP(AB65,Tabelas!B:D,3,0),0),\"\")","v":0},{"$f":"IF(A65<>\"\",IFERROR(VLOOKUP(AC65,Tabelas!B:D,3,0),0),\"\")","v":0},{"$f":"IF(A65<>\"\",IFERROR(VLOOKUP(AD65,Tabelas!B:D,3,0),0),\"\")","v":0},{"$f":"IF(A65<>\"\",IFERROR(VLOOKUP(AE65,Tabelas!B:D,3,0),0),\"\")","v":0},{"$f":"IF(A65<>\"\",IFERROR(VLOOKUP(AF65,Tabelas!B:D,3,0),0),\"\")","v":0},{"$f":"IF(A65<>\"\",IFERROR(VLOOKUP(AG65,Tabelas!B:D,3,0),0),\"\")","v":0},{"$f":"IF(A65<>\"\",IFERROR(VLOOKUP(AH65,Tabelas!B:D,3,0),0),\"\")","v":0},{"$f":"IF(A65<>\"\",IFERROR(VLOOKUP(#REF!,Tabelas!B:D,3,0),0),\"\")","v":0},{"$f":"IF(A65<>\"\",IFERROR(VLOOKUP(#REF!,Tabelas!B:D,3,0),0),\"\")","v":0},{"$f":"IF(A65<>\"\",IFERROR(VLOOKUP(#REF!,Tabelas!B:D,3,0),0),\"\")","v":0}]
["Luciana Bonnassis Burg ",3442495,10820,"Médico","RJU",40,"M15","D6","D6","D6",null,null,"D6","M15","D6","D6","D6",null,null,"D6","M15","D6","D6","D6",null,null,"D6","M15","D6","D6","D6",null,null,"D6"]
[null,null,null,null,null,null,null,null,null,null,null,null,null,null,null,null,null,null,null,null,null,null,null,null,null,null,null,null,null,null,null,null,null,null,{"$f":"IF(A67<>\"\",IFERROR(VLOOKUP(G67,Tabelas!B:D,3,0),0),\"\")","v":""},{"$f":"IF(A67<>\"\",IFERROR(VLOOKUP(H67,Tabelas!B:D,3,0),0),\"\")","v":""},{"$f":"IF(A67<>\"\",IFERROR(VLOOKUP(I67,Tabelas!B:D,3,0),0),\"\")","v":""},{"$f":"IF(A67<>\"\",IFERROR(VLOOKUP(J67,Tabelas!B:D,3,0),0),\"\")","v":""},{"$f":"IF(A67<>\"\",IFERROR(VLOOKUP(K67,Tabelas!B:D,3,0),0),\"\")","v":""},{"$f":"IF(A67<>\"\",IFERROR(VLOOKUP(L67,Tabelas!B:D,3,0),0),\"\")","v":""},{"$f":"IF(A67<>\"\",IFERROR(VLOOKUP(M67,Tabelas!B:D,3,0),0),\"\")","v":""},{"$f":"IF(A67<>\"\",IFERROR(VLOOKUP(N67,Tabelas!B:D,3,0),0),\"\")","v":""},{"$f":"IF(A67<>\"\",IFERROR(VLOOKUP(O67,Tabelas!B:D,3,0),0),\"\")","v":""},{"$f":"IF(A67<>\"\",IFERROR(VLOOKUP(P67,Tabelas!B:D,3,0),0),\"\")","v":""},{"$f":"IF(A67<>\"\",IFERROR(VLOOKUP(Q67,Tabelas!B:D,3,0),0),\"\")","v":""},{"$f":"IF(A67<>\"\",IFERROR(VLOOKUP(R67,Tabelas!B:D,3,0),0),\"\")","v":""},{"$f":"IF(A67<>\"\",IFERROR(VLOOKUP(S67,Tabelas!B:D,3,0),0),\"\")","v":""},{"$f":"IF(A67<>\"\",IFERROR(VLOOKUP(T67,Tabelas!B:D,3,0),0),\"\")","v":""},{"$f":"IF(A67<>\"\",IFERROR(VLOOKUP(U67,Tabelas!B:D,3,0),0),\"\")","v":""},{"$f":"IF(A67<>\"\",IFERROR(VLOOKUP(V67,Tabelas!B:D,3,0),0),\"\")","v":""},{"$f":"IF(A67<>\"\",IFERROR(VLOOKUP(W67,Tabelas!B:D,3,0),0),\"\")","v":""},{"$f":"IF(A67<>\"\",IFERROR(VLOOKUP(X67,Tabelas!B:D,3,0),0),\"\")","v":""},{"$f":"IF(A67<>\"\",IFERROR(VLOOKUP(Y67,Tabelas!B:D,3,0),0),\"\")","v":""},{"$f":"IF(A67<>\"\",IFERROR(VLOOKUP(Z67,Tabelas!B:D,3,0),0),\"\")","v":""},{"$f":"IF(A67<>\"\",IFERROR(VLOOKUP(AA67,Tabelas!B:D,3,0),0),\"\")","v":""},{"$f":"IF(A67<>\"\",IFERROR(VLOOKUP(AB67,Tabelas!B:D,3,0),0),\"\")","v":""},{"$f":"IF(A67<>\"\",IFERROR(VLOOKUP(AC67,Tabelas!B:D,3,0),0),\"\")","v":""},{"$f":"IF(A67<>\"\",IFERROR(VLOOKUP(AD67,Tabelas!B:D,3,0),0),\"\")","v":""},{"$f":"IF(A67<>\"\",IFERROR(VLOOKUP(AE67,Tabelas!B:D,3,0),0),\"\")","v":""},{"$f":"IF(A67<>\"\",IFERROR(VLOOKUP(AF67,Tabelas!B:D,3,0),0),\"\")","v":""},{"$f":"IF(A67<>\"\",IFERROR(VLOOKUP(AG67,Tabelas!B:D,3,0),0),\"\")","v":""},{"$f":"IF(A67<>\"\",IFERROR(VLOOKUP(AH67,Tabelas!B:D,3,0),0),\"\")","v":""},{"$f":"IF(A67<>\"\",IFERROR(VLOOKUP(#REF!,Tabelas!B:D,3,0),0),\"\")","v":""},{"$f":"IF(A67<>\"\",IFERROR(VLOOKUP(#REF!,Tabelas!B:D,3,0),0),\"\")","v":""},{"$f":"IF(A67<>\"\",IFERROR(VLOOKUP(#REF!,Tabelas!B:D,3,0),0),\"\")","v":""}]
["Legenda:"]
["Licença Maternidade","LM","Férias",null,null,null,null,null,null,null,null,null,null,"PF","Manhã *",null,null,null,null,null,null,"M","Diurno (8 hrs) *",null,null,null,null,null,null,"MT"]
["Licença Paternidade","LP","Feriado",null,null,null,null,null,null,null,null,null,null,"AB","Tarde *",null,null,null,null,null,null,"T","Dia/ noite (24 hrs) *",null,null,null,null,null,null,"DN"]
["Licença Médica/Odontológica","L","Descanso Semanal Remunerado",null,null,null,null,null,null,null,null,null,null,"CH","Plantão Dia (12 hrs) *",null,null,null,null,null,null,"D"]
["Licença Capacitação","LC","Recesso",null,null,null,null,null,null,null,null,null,null,"AF","Plantão Noite (12 hrs) *",null,null,null,null,null,null,"N"]
[]
["OBSERVAÇÕES:"]
["* Para inserção das legendas referentes às jornadas de trabalho, verificar a Tabela 1 do Anexo do Memorando-Circular - SEI nº   25 /2018/CAP/DGP-EBSERH."]
["** Para inserção das legendas referentes aos Afastamentos previstos em lei e às Compensações de horas, verificar a Tabela 2 do Anexo do Memorando-Circular - SEI nº   25 /2018/CAP/DGP-EBSERH."]

{"sheet":"Março","index":2,"n_rows":76,"n_cols":68,"rows_kept":76,"cut":false,"hidden":false,"merged":[[70,14,70,20],[71,2,71,5],[71,6,71,12],[71,14,71,20],[70,2,70,5],[70,6,70,12],[5,6,5,36],[5,37,5,67],[68,22,68,28],[69,22,69,28],[1,0,1,36],[2,0,2,36],[3,0,3,36],[4,1,4,14],[4,17,4,28],[4,31,4,36],[68,14,68,20],[69,2,69,5],[69,6,69,12],[69,14,69,20],[68,2,68,5],[68,6,68,12]]}
[]
[]
["UEC "]
["ESCALA MENSAL DE TRABALHO"]
[null,null,null,null,null,null,null,null,null,null,null,null,null,null,null,"MÊS:",null,"Março",null,null,null,null,null,null,null,null,null,null,null,"ANO:",null,2022]
[null,"SIAPE","     Registro Conselho Classe","Cargo","Vínculo","    C.H Sem","DIAS DO MÊS",null,null,null,null,null,null,null,null,null,null,null,null,null,null,null,null,null,null,null,null,null,null,null,null,null,null,null,null,null,null,"CÁLCULO DAS HORAS"]
[null,null,null,null,null,null,1,2,3,4,5,6,7,8,9,10,11,12,13,14,15,16,17,18,19,20,21,22,23,24,25,{"$f":"IF(DAY(DATE(AF5,VLOOKUP(R5,Tabelas!M:N,2,0)+1,1)-1)>=26,26,\"\")","v":26},{"$f":"IF(DAY(DATE(AF5,VLOOKUP(R5,Tabelas!M:N,2,0)+1,1)-1)>=27,27,\"\")","v":27},{"$f":"IF(DAY(DATE(AF5,VLOOKUP(R5,Tabelas!M:N,2,0)+1,1)-1)>=28,28,\"\")","v":28},{"$f":"IF(DAY(DATE(AF5,VLOOKUP(R5,Tabelas!M:N,2,0)+1,1)-1)>=29,29,\"\")","v":29},{"$f":"IF(DAY(DATE(AF5,VLOOKUP(R5,Tabelas!M:N,2,0)+1,1)-1)>=30,30,\"\")","v":30},{"$f":"IF(DAY(DATE(AF5,VLOOKUP(R5,Tabelas!M:N,2,0)+1,1)-1)>=31,31,\"\")","v":31}]
["DEMATOLOGIA ",null,null,null,null,null,{"$f":"IF(G7<>\"\",IFERROR(VLOOKUP(WEEKDAY(CONCATENATE(G7,$R$5,$AF$5)),Tabelas!$I:$J,2,0),\"\"),\"\")","v":""},{"$f":"IF(H7<>\"\",IFERROR(VLOOKUP(WEEKDAY(CONCATENATE(H7,$R$5,$AF$5)),Tabelas!$I:$J,2,0),\"\"),\"\")","v":""},{"$f":"IF(I7<>\"\",IFERROR(VLOOKUP(WEEKDAY(CONCATENATE(I7,$R$5,$AF$5)),Tabelas!$I:$J,2,0),\"\"),\"\")","v":""},{"$f":"IF(J7<>\"\",IFERROR(VLOOKUP(WEEKDAY(CONCATENATE(J7,$R$5,$AF$5)),Tabelas!$I:$J,2,0),\"\"),\"\")","v":""},{"$f":"IF(K7<>\"\",IFERROR(VLOOKUP(WEEKDAY(CONCATENATE(K7,$R$5,$AF$5)),Tabelas!$I:$J,2,0),\"\"),\"\")","v":""},{"$f":"IF(L7<>\"\",IFERROR(VLOOKUP(WEEKDAY(CONCATENATE(L7,$R$5,$AF$5)),Tabelas!$I:$J,2,0),\"\"),\"\")","v":""},{"$f":"IF(M7<>\"\",IFERROR(VLOOKUP(WEEKDAY(CONCATENATE(M7,$R$5,$AF$5)),Tabelas!$I:$J,2,0),\"\"),\"\")","v":""},{"$f":"IF(N7<>\"\",IFERROR(VLOOKUP(WEEKDAY(CONCATENATE(N7,$R$5,$AF$5)),Tabelas!$I:$J,2,0),\"\"),\"\")","v":""},{"$f":"IF(O7<>\"\",IFERROR(VLOOKUP(WEEKDAY(CONCATENATE(O7,$R$5,$AF$5)),Tabelas!$I:$J,2,0),\"\"),\"\")","v":""},{"$f":"IF(P7<>\"\",IFERROR(VLOOKUP(WEEKDAY(CONCATENATE(P7,$R$5,$AF$5)),Tabelas!$I:$J,2,0),\"\"),\"\")","v":""},{"$f":"IF(Q7<>\"\",IFERROR(VLOOKUP(WEEKDAY(CONCATENATE(Q7,$R$5,$AF$5)),Tabelas!$I:$J,2,0),\"\"),\"\")","v":""},{"$f":"IF(R7<>\"\",IFERROR(VLOOKUP(WEEKDAY(CONCATENATE(R7,$R$5,$AF$5)),Tabelas!$I:$J,2,0),\"\"),\"\")","v":""},{"$f":"IF(S7<>\"\",IFERROR(VLOOKUP(WEEKDAY(CONCATENATE(S7,$R$5,$AF$5)),Tabelas!$I:$J,2,0),\"\"),\"\")","v":""},{"$f":"IF(T7<>\"\",IFERROR(VLOOKUP(WEEKDAY(CONCATENATE(T7,$R$5,$AF$5)),Tabelas!$I:$J,2,0),\"\"),\"\")","v":""},{"$f":"IF(U7<>\"\",IFERROR(VLOOKUP(WEEKDAY(CONCATENATE(U7,$R$5,$AF$5)),Tabelas!$I:$J,2,0),\"\"),\"\")","v":""},{"$f":"IF(V7<>\"\",IFERROR(VLOOKUP(WEEKDAY(CONCATENATE(V7,$R$5,$AF$5)),Tabelas!$I:$J,2,0),\"\"),\"\")","v":""},{"$f":"IF(W7<>\"\",IFERROR(VLOOKUP(WEEKDAY(CONCATENATE(W7,$R$5,$AF$5)),Tabelas!$I:$J,2,0),\"\"),\"\")","v":""},{"$f":"IF(X7<>\"\",IFERROR(VLOOKUP(WEEKDAY(CONCATENATE(X7,$R$5,$AF$5)),Tabelas!$I:$J,2,0),\"\"),\"\")","v":""},{"$f":"IF(Y7<>\"\",IFERROR(VLOOKUP(WEEKDAY(CONCATENATE(Y7,$R$5,$AF$5)),Tabelas!$I:$J,2,0),\"\"),\"\")","v":""},{"$f":"IF(Z7<>\"\",IFERROR(VLOOKUP(WEEKDAY(CONCATENATE(Z7,$R$5,$AF$5)),Tabelas!$I:$J,2,0),\"\"),\"\")","v":""},{"$f":"IF(AA7<>\"\",IFERROR(VLOOKUP(WEEKDAY(CONCATENATE(AA7,$R$5,$AF$5)),Tabelas!$I:$J,2,0),\"\"),\"\")","v":""},{"$f":"IF(AB7<>\"\",IFERROR(VLOOKUP(WEEKDAY(CONCATENATE(AB7,$R$5,$AF$5)),Tabelas!$I:$J,2,0),\"\"),\"\")","v":""},{"$f":"IF(AC7<>\"\",IFERROR(VLOOKUP(WEEKDAY(CONCATENATE(AC7,$R$5,$AF$5)),Tabelas!$I:$J,2,0),\"\"),\"\")","v":""},{"$f":"IF(AD7<>\"\",IFERROR(VLOOKUP(WEEKDAY(CONCATENATE(AD7,$R$5,$AF$5)),Tabelas!$I:$J,2,0),\"\"),\"\")","v":""},{"$f":"IF(AE7<>\"\",IFERROR(VLOOKUP(WEEKDAY(CONCATENATE(AE7,$R$5,$AF$5)),Tabelas!$I:$J,2,0),\"\"),\"\")","v":""},{"$f":"IF(AF7<>\"\",IFERROR(VLOOKUP(WEEKDAY(CONCATENATE(AF7,$R$5,$AF$5)),Tabelas!$I:$J,2,0),\"\"),\"\")","v":""},{"$f":"IF(AG7<>\"\",IFERROR(VLOOKUP(WEEKDAY(CONCATENATE(AG7,$R$5,$AF$5)),Tabelas!$I:$J,2,0),\"\"),\"\")","v":""},{"$f":"IF(AH7<>\"\",IFERROR(VLOOKUP(WEEKDAY(CONCATENATE(AH7,$R$5,$AF$5)),Tabelas!$I:$J,2,0),\"\"),\"\")","v":""},{"$f":"IF(AI7<>\"\",IFERROR(VLOOKUP(WEEKDAY(CONCATENATE(AI7,$R$5,$AF$5)),Tabelas!$I:$J,2,0),\"\"),\"\")","v":""},{"$f":"IF(AJ7<>\"\",IFERROR(VLOOKUP(WEEKDAY(CONCATENATE(AJ7,$R$5,$AF$5)),Tabelas!$I:$J,2,0),\"\"),\"\")","v":""},{"$f":"IF(AK7<>\"\",IFERROR(VLOOKUP(WEEKDAY(CONCATENATE(AK7,$R$5,$AF$5)),Tabelas!$I:$J,2,0),\"\"),\"\")","v":""},1,2,3,4,5,6,7,8,9,10,11,12,13,14,15,16,17,18,19,20,21,22,23,24,25,26,27,28,29,30,31]
["Álvaro Thadeu Bender",2455919,4391,"Médico","RJU",10,null,null,null,null,null,null,"T15","L",null,null,null,null,null,"L",null,"L",null,null,null,null,"L",null,"L",null,null,null,null,"L",null,"L",null,{"$f":"IF(A9<>\"\",IFERROR(VLOOKUP(G9,Tabelas!B:D,3,0),0),\"\")","v":0},{"$f":"IF(A9<>\"\",IFERROR(VLOOKUP(H9,Tabelas!B:D,3,0),0),\"\")","v":0},{"$f":"IF(A9<>\"\",IFERROR(VLOOKUP(I9,Tabelas!B:D,3,0),0),\"\")","v":0},{"$f":"IF(A9<>\"\",IFERROR(VLOOKUP(J9,Tabelas!B:D,3,0),0),\"\")","v":0},{"$f":"IF(A9<>\"\",IFERROR(VLOOKUP(K13,Tabelas!B:D,3,0),0),\"\")","v":0},{"$f":"IF(A9<>\"\",IFERROR(VLOOKUP(L9,Tabelas!B:D,3,0),0),\"\")","v":0},{"$f":"IF(A9<>\"\",IFERROR(VLOOKUP(M9,Tabelas!B:D,3,0),0),\"\")","v":6},{"$f":"IF(A9<>\"\",IFERROR(VLOOKUP(N9,Tabelas!B:D,3,0),0),\"\")","v":0},{"$f":"IF(A9<>\"\",IFERROR(VLOOKUP(O9,Tabelas!B:D,3,0),0),\"\")","v":0},{"$f":"IF(A9<>\"\",IFERROR(VLOOKUP(P9,Tabelas!B:D,3,0),0),\"\")","v":0},{"$f":"IF(A9<>\"\",IFERROR(VLOOKUP(Q9,Tabelas!B:D,3,0),0),\"\")","v":0},{"$f":"IF(A9<>\"\",IFERROR(VLOOKUP(R9,Tabelas!B:D,3,0),0),\"\")","v":0},{"$f":"IF(A9<>\"\",IFERROR(VLOOKUP(S9,Tabelas!B:D,3,0),0),\"\")","v":0},{"$f":"IF(A9<>\"\",IFERROR(VLOOKUP(T9,Tabelas!B:D,3,0),0),\"\")","v":0},{"$f":"IF(A9<>\"\",IFERROR(VLOOKUP(U9,Tabelas!B:D,3,0),0),\"\")","v":0},{"$f":"IF(A9<>\"\",IFERROR(VLOOKUP(V9,Tabelas!B:D,3,0),0),\"\")","v":0},{"$f":"IF(A9<>\"\",IFERROR(VLOOKUP(W9,Tabelas!B:D,3,0),0),\"\")","v":0},{"$f":"IF(A9<>\"\",IFERROR(VLOOKUP(X9,Tabelas!B:D,3,0),0),\"\")","v":0},{"$f":"IF(A9<>\"\",IFERROR(VLOOKUP(Y9,Tabelas!B:D,3,0),0),\"\")","v":0},{"$f":"IF(A9<>\"\",IFERROR(VLOOKUP(Z9,Tabelas!B:D,3,0),0),\"\")","v":0},{"$f":"IF(A9<>\"\",IFERROR(VLOOKUP(AA9,Tabelas!B:D,3,0),0),\"\")","v":0},{"$f":"IF(A9<>\"\",IFERROR(VLOOKUP(AB9,Tabelas!B:D,3,0),0),\"\")","v":0},{"$f":"IF(A9<>\"\",IFERROR(VLOOKUP(AC9,Tabelas!B:D,3,0),0),\"\")","v":0},{"$f":"IF(A9<>\"\",IFERROR(VLOOKUP(AD9,Tabelas!B:D,3,0),0),\"\")","v":0},{"$f":"IF(A9<>\"\",IFERROR(VLOOKUP(AE9,Tabelas!B:D,3,0),0),\"\")","v":0},{"$f":"IF(A9<>\"\",IFERROR(VLOOKUP(AF9,Tabelas!B:D,3,0),0),\"\")","v":0},{"$f":"IF(A9<>\"\",IFERROR(VLOOKUP(AG9,Tabelas!B:D,3,0),0),\"\")","v":0},{"$f":"IF(A9<>\"\",IFERROR(VLOOKUP(AH9,Tabelas!B:D,3,0),0),\"\")","v":0},{"$f":"IF(A9<>\"\",IFERROR(VLOOKUP(AI9,Tabelas!B:D,3,0),0),\"\")","v":0},{"$f":"IF(A9<>\"\",IFERROR(VLOOKUP(AJ9,Tabelas!B:D,3,0),0),\"\")","v":0},{"$f":"IF(A9<>\"\",IFERROR(VLOOKUP(AK9,Tabelas!B:D,3,0),0),\"\")","v":0}]
["Leonardo Simas Abi Saad",3604455,13918,"Médico","RJU",30,null,null,"T15","M15",null,null,"T15","T15","T15","T15","M15",null,null,"T15","T15","T15","T15","M15",null,null,"T15","T15",null,"T15","M15",null,null,"T15","T15","T15","T15",{"$f":"IF(A10<>\"\",IFERROR(VLOOKUP(G10,Tabelas!B:D,3,0),0),\"\")","v":0},{"$f":"IF(A10<>\"\",IFERROR(VLOOKUP(H10,Tabelas!B:D,3,0),0),\"\")","v":0},{"$f":"IF(A10<>\"\",IFERROR(VLOOKUP(I10,Tabelas!B:D,3,0),0),\"\")","v":6},{"$f":"IF(A10<>\"\",IFERROR(VLOOKUP(J10,Tabelas!B:D,3,0),0),\"\")","v":6},{"$f":"IF(A10<>\"\",IFERROR(VLOOKUP(K14,Tabelas!B:D,3,0),0),\"\")","v":0},{"$f":"IF(A10<>\"\",IFERROR(VLOOKUP(L10,Tabelas!B:D,3,0),0),\"\")","v":0},{"$f":"IF(A10<>\"\",IFERROR(VLOOKUP(M10,Tabelas!B:D,3,0),0),\"\")","v":6},{"$f":"IF(A10<>\"\",IFERROR(VLOOKUP(N10,Tabelas!B:D,3,0),0),\"\")","v":6},{"$f":"IF(A10<>\"\",IFERROR(VLOOKUP(O10,Tabelas!B:D,3,0),0),\"\")","v":6},{"$f":"IF(A10<>\"\",IFERROR(VLOOKUP(P10,Tabelas!B:D,3,0),0),\"\")","v":6},{"$f":"IF(A10<>\"\",IFERROR(VLOOKUP(Q10,Tabelas!B:D,3,0),0),\"\")","v":6},{"$f":"IF(A10<>\"\",IFERROR(VLOOKUP(R10,Tabelas!B:D,3,0),0),\"\")","v":0},{"$f":"IF(A10<>\"\",IFERROR(VLOOKUP(S10,Tabelas!B:D,3,0),0),\"\")","v":0},{"$f":"IF(A10<>\"\",IFERROR(VLOOKUP(T10,Tabelas!B:D,3,0),0),\"\")","v":6},{"$f":"IF(A10<>\"\",IFERROR(VLOOKUP(U10,Tabelas!B:D,3,0),0),\"\")","v":6},{"$f":"IF(A10<>\"\",IFERROR(VLOOKUP(V10,Tabelas!B:D,3,0),0),\"\")","v":6},{"$f":"IF(A10<>\"\",IFERROR(VLOOKUP(W10,Tabelas!B:D,3,0),0),\"\")","v":6},{"$f":"IF(A10<>\"\",IFERROR(VLOOKUP(X10,Tabelas!B:D,3,0),0),\"\")","v":6},{"$f":"IF(A10<>\"\",IFERROR(VLOOKUP(Y10,Tabelas!B:D,3,0),0),\"\")","v":0},{"$f":"IF(A10<>\"\",IFERROR(VLOOKUP(Z10,Tabelas!B:D,3,0),0),\"\")","v":0},{"$f":"IF(A10<>\"\",IFERROR(VLOOKUP(AA10,Tabelas!B:D,3,0),0),\"\")","v":6},{"$f":"IF(A10<>\"\",IFERROR(VLOOKUP(AB10,Tabelas!B:D,3,0),0),\"\")","v":6},{"$f":"IF(A10<>\"\",IFERROR(VLOOKUP(AC10,Tabelas!B:D,3,0),0),\"\")","v":0},{"$f":"IF(A10<>\"\",IFERROR(VLOOKUP(AD10,Tabelas!B:D,3,0),0),\"\")","v":6},{"$f":"IF(A10<>\"\",IFERROR(VLOOKUP(AE10,Tabelas!B:D,3,0),0),\"\")","v":6},{"$f":"IF(A10<>\"\",IFERROR(VLOOKUP(AF10,Tabelas!B:D,3,0),0),\"\")","v":0},{"$f":"IF(A10<>\"\",IFERROR(VLOOKUP(AG10,Tabelas!B:D,3,0),0),\"\")","v":0},{"$f":"IF(A10<>\"\",IFERROR(VLOOKUP(AH10,Tabelas!B:D,3,0),0),\"\")","v":6},{"$f":"IF(A10<>\"\",IFERROR(VLOOKUP(AI10,Tabelas!B:D,3,0),0),\"\")","v":6},{"$f":"IF(A10<>\"\",IFERROR(VLOOKUP(AJ10,Tabelas!B:D,3,0),0),\"\")","v":6},{"$f":"IF(A10<>\"\",IFERROR(VLOOKUP(AK10,Tabelas!B:D,3,0),0),\"\")","v":6}]
["Oscar Cardoso Dimatos ",2841698,16451,"Médico","RJU",20,null,null,"T15","T15",null,null,"T15",null,"T15","T15","T15",null,null,"T15",null,"T15","T15","T15",null,null,"T15",null,null,"T15","T15",null,null,"T15",null,"T15","T15",{"$f":"IF(A11<>\"\",IFERROR(VLOOKUP(G11,Tabelas!B:D,3,0),0),\"\")","v":0},{"$f":"IF(A11<>\"\",IFERROR(VLOOKUP(H11,Tabelas!B:D,3,0),0),\"\")","v":0},{"$f":"IF(A11<>\"\",IFERROR(VLOOKUP(I11,Tabelas!B:D,3,0),0),\"\")","v":6},{"$f":"IF(A11<>\"\",IFERROR(VLOOKUP(J11,Tabelas!B:D,3,0),0),\"\")","v":6},{"$f":"IF(A11<>\"\",IFERROR(VLOOKUP(K15,Tabelas!B:D,3,0),0),\"\")","v":0},{"$f":"IF(A11<>\"\",IFERROR(VLOOKUP(L11,Tabelas!B:D,3,0),0),\"\")","v":0},{"$f":"IF(A11<>\"\",IFERROR(VLOOKUP(M11,Tabelas!B:D,3,0),0),\"\")","v":6},{"$f":"IF(A11<>\"\",IFERROR(VLOOKUP(N11,Tabelas!B:D,3,0),0),\"\")","v":0},{"$f":"IF(A11<>\"\",IFERROR(VLOOKUP(O11,Tabelas!B:D,3,0),0),\"\")","v":6},{"$f":"IF(A11<>\"\",IFERROR(VLOOKUP(P11,Tabelas!B:D,3,0),0),\"\")","v":6},{"$f":"IF(A11<>\"\",IFERROR(VLOOKUP(Q11,Tabelas!B:D,3,0),0),\"\")","v":6},{"$f":"IF(A11<>\"\",IFERROR(VLOOKUP(R11,Tabelas!B:D,3,0),0),\"\")","v":0},{"$f":"IF(A11<>\"\",IFERROR(VLOOKUP(S11,Tabelas!B:D,3,0),0),\"\")","v":0},{"$f":"IF(A11<>\"\",IFERROR(VLOOKUP(T11,Tabelas!B:D,3,0),0),\"\")","v":6},{"$f":"IF(A11<>\"\",IFERROR(VLOOKUP(U11,Tabelas!B:D,3,0),0),\"\")","v":0},{"$f":"IF(A11<>\"\",IFERROR(VLOOKUP(V11,Tabelas!B:D,3,0),0),\"\")","v":6},{"$f":"IF(A11<>\"\",IFERROR(VLOOKUP(W11,Tabelas!B:D,3,0),0),\"\")","v":6},{"$f":"IF(A11<>\"\",IFERROR(VLOOKUP(X11,Tabelas!B:D,3,0),0),\"\")","v":6},{"$f":"IF(A11<>\"\",IFERROR(VLOOKUP(Y11,Tabelas!B:D,3,0),0),\"\")","v":0},{"$f":"IF(A11<>\"\",IFERROR(VLOOKUP(Z11,Tabelas!B:D,3,0),0),\"\")","v":0},{"$f":"IF(A11<>\"\",IFERROR(VLOOKUP(AA11,Tabelas!B:D,3,0),0),\"\")","v":6},{"$f":"IF(A11<>\"\",IFERROR(VLOOKUP(AB11,Tabelas!B:D,3,0),0),\"\")","v":0},{"$f":"IF(A11<>\"\",IFERROR(VLOOKUP(AC11,Tabelas!B:D,3,0),0),\"\")","v":0},{"$f":"IF(A11<>\"\",IFERROR(VLOOKUP(AD11,Tabelas!B:D,3,0),0),\"\")","v":6},{"$f":"IF(A11<>\"\",IFERROR(VLOOKUP(AE11,Tabelas!B:D,3,0),0),\"\")","v":6},{"$f":"IF(A11<>\"\",IFERROR(VLOOKUP(AF11,Tabelas!B:D,3,0),0),\"\")","v":0},{"$f":"IF(A11<>\"\",IFERROR(VLOOKUP(AG11,Tabelas!B:D,3,0),0),\"\")","v":0},{"$f":"IF(A11<>\"\",IFERROR(VLOOKUP(AH11,Tabelas!B:D,3,0),0),\"\")","v":6},{"$f":"IF(A11<>\"\",IFERROR(VLOOKUP(AI11,Tabelas!B:D,3,0),0),\"\")","v":0},{"$f":"IF(A11<>\"\",IFERROR(VLOOKUP(AJ11,Tabelas!B:D,3,0),0),\"\")","v":6},{"$f":"IF(A11<>\"\",IFERROR(VLOOKUP(AK11,Tabelas!B:D,3,0),0),\"\")","v":6}]
["Ariel Cordova Rosa",1361412,23372,"Médico","EBSERH",24,null,null,"M15",null,null,null,"M15","T15","M15","M15",null,null,null,"M15","T15","M15","M15",null,null,null,"M15","T15",null,"M15",null,null,null,"FE","FE","FE","FE",{"$f":"IF(A12<>\"\",IFERROR(VLOOKUP(G12,Tabelas!B:D,3,0),0),\"\")","v":0},{"$f":"IF(A12<>\"\",IFERROR(VLOOKUP(H12,Tabelas!B:D,3,0),0),\"\")","v":0},{"$f":"IF(A12<>\"\",IFERROR(VLOOKUP(I12,Tabelas!B:D,3,0),0),\"\")","v":6},{"$f":"IF(A12<>\"\",IFERROR(VLOOKUP(J12,Tabelas!B:D,3,0),0),\"\")","v":0},{"$f":"IF(A12<>\"\",IFERROR(VLOOKUP(K16,Tabelas!B:D,3,0),0),\"\")","v":0},{"$f":"IF(A12<>\"\",IFERROR(VLOOKUP(L12,Tabelas!B:D,3,0),0),\"\")","v":0},{"$f":"IF(A12<>\"\",IFERROR(VLOOKUP(M12,Tabelas!B:D,3,0),0),\"\")","v":6},{"$f":"IF(A12<>\"\",IFERROR(VLOOKUP(N12,Tabelas!B:D,3,0),0),\"\")","v":6},{"$f":"IF(A12<>\"\",IFERROR(VLOOKUP(O12,Tabelas!B:D,3,0),0),\"\")","v":6},{"$f":"IF(A12<>\"\",IFERROR(VLOOKUP(P12,Tabelas!B:D,3,0),0),\"\")","v":6},{"$f":"IF(A12<>\"\",IFERROR(VLOOKUP(Q12,Tabelas!B:D,3,0),0),\"\")","v":0},{"$f":"IF(A12<>\"\",IFERROR(VLOOKUP(R12,Tabelas!B:D,3,0),0),\"\")","v":0},{"$f":"IF(A12<>\"\",IFERROR(VLOOKUP(S12,Tabelas!B:D,3,0),0),\"\")","v":0},{"$f":"IF(A12<>\"\",IFERROR(VLOOKUP(T12,Tabelas!B:D,3,0),0),\"\")","v":6},{"$f":"IF(A12<>\"\",IFERROR(VLOOKUP(U12,Tabelas!B:D,3,0),0),\"\")","v":6},{"$f":"IF(A12<>\"\",IFERROR(VLOOKUP(V12,Tabelas!B:D,3,0),0),\"\")","v":6},{"$f":"IF(A12<>\"\",IFERROR(VLOOKUP(W12,Tabelas!B:D,3,0),0),\"\")","v":6},{"$f":"IF(A12<>\"\",IFERROR(VLOOKUP(X12,Tabelas!B:D,3,0),0),\"\")","v":0},{"$f":"IF(A12<>\"\",IFERROR(VLOOKUP(Y12,Tabelas!B:D,3,0),0),\"\")","v":0},{"$f":"IF(A12<>\"\",IFERROR(VLOOKUP(Z12,Tabelas!B:D,3,0),0),\"\")","v":0},{"$f":"IF(A12<>\"\",IFERROR(VLOOKUP(AA12,Tabelas!B:D,3,0),0),\"\")","v":6},{"$f":"IF(A12<>\"\",IFERROR(VLOOKUP(AB12,Tabelas!B:D,3,0),0),\"\")","v":6},{"$f":"IF(A12<>\"\",IFERROR(VLOOKUP(AC12,Tabelas!B:D,3,0),0),\"\")","v":0},{"$f":"IF(A12<>\"\",IFERROR(VLOOKUP(AD12,Tabelas!B:D,3,0),0),\"\")","v":6},{"$f":"IF(A12<>\"\",IFERROR(VLOOKUP(AE12,Tabelas!B:D,3,0),0),\"\")","v":0},{"$f":"IF(A12<>\"\",IFERROR(VLOOKUP(AF12,Tabelas!B:D,3,0),0),\"\")","v":0},{"$f":"IF(A12<>\"\",IFERROR(VLOOKUP(AG12,Tabelas!B:D,3,0),0),\"\")","v":0},{"$f":"IF(A12<>\"\",IFERROR(VLOOKUP(AH12,Tabelas!B:D,3,0),0),\"\")","v":0},{"$f":"IF(A12<>\"\",IFERROR(VLOOKUP(AI12,Tabelas!B:D,3,0),0),\"\")","v":0},{"$f":"IF(A12<>\"\",IFERROR(VLOOKUP(AJ12,Tabelas!B:D,3,0),0),\"\")","v":0},{"$f":"IF(A12<>\"\",IFERROR(VLOOKUP(AK12,Tabelas!B:D,3,0),0),\"\")","v":0}]
["Shirley Maximo de Souza",2060635,2775,"Médico","EBSERH",24,null,null,"FE","FE",null,null,"FE","FE","FE","FE","FE",null,null,"FE","FE","FE","FE","D6",null,null,"M15","M15",null,"M15","D6",null,null,"M15","M15",null,"M15",{"$f":"IF(A13<>\"\",IFERROR(VLOOKUP(G13,Tabelas!B:D,3,0),0),\"\")","v":0},{"$f":"IF(A13<>\"\",IFERROR(VLOOKUP(H13,Tabelas!B:D,3,0),0),\"\")","v":0},{"$f":"IF(A13<>\"\",IFERROR(VLOOKUP(I13,Tabelas!B:D,3,0),0),\"\")","v":0},{"$f":"IF(A13<>\"\",IFERROR(VLOOKUP(J13,Tabelas!B:D,3,0),0),\"\")","v":0},{"$f":"IF(A13<>\"\",IFERROR(VLOOKUP(K17,Tabelas!B:D,3,0),0),\"\")","v":0},{"$f":"IF(A13<>\"\",IFERROR(VLOOKUP(L13,Tabelas!B:D,3,0),0),\"\")","v":0},{"$f":"IF(A13<>\"\",IFERROR(VLOOKUP(M13,Tabelas!B:D,3,0),0),\"\")","v":0},{"$f":"IF(A13<>\"\",IFERROR(VLOOKUP(N13,Tabelas!B:D,3,0),0),\"\")","v":0},{"$f":"IF(A13<>\"\",IFERROR(VLOOKUP(O13,Tabelas!B:D,3,0),0),\"\")","v":0},{"$f":"IF(A13<>\"\",IFERROR(VLOOKUP(P13,Tabelas!B:D,3,0),0),\"\")","v":0},{"$f":"IF(A13<>\"\",IFERROR(VLOOKUP(Q13,Tabelas!B:D,3,0),0),\"\")","v":0},{"$f":"IF(A13<>\"\",IFERROR(VLOOKUP(R13,Tabelas!B:D,3,0),0),\"\")","v":0},{"$f":"IF(A13<>\"\",IFERROR(VLOOKUP(S13,Tabelas!B:D,3,0),0),\"\")","v":0},{"$f":"IF(A13<>\"\",IFERROR(VLOOKUP(T13,Tabelas!B:D,3,0),0),\"\")","v":0},{"$f":"IF(A13<>\"\",IFERROR(VLOOKUP(U13,Tabelas!B:D,3,0),0),\"\")","v":0},{"$f":"IF(A13<>\"\",IFERROR(VLOOKUP(V13,Tabelas!B:D,3,0),0),\"\")","v":0},{"$f":"IF(A13<>\"\",IFERROR(VLOOKUP(W13,Tabelas!B:D,3,0),0),\"\")","v":0},{"$f":"IF(A13<>\"\",IFERROR(VLOOKUP(X13,Tabelas!B:D,3,0),0),\"\")","v":12},{"$f":"IF(A13<>\"\",IFERROR(VLOOKUP(Y13,Tabelas!B:D,3,0),0),\"\")","v":0},{"$f":"IF(A13<>\"\",IFERROR(VLOOKUP(Z13,Tabelas!B:D,3,0),0),\"\")","v":0},{"$f":"IF(A13<>\"\",IFERROR(VLOOKUP(AA13,Tabelas!B:D,3,0),0),\"\")","v":6},{"$f":"IF(A13<>\"\",IFERROR(VLOOKUP(AB13,Tabelas!B:D,3,0),0),\"\")","v":6},{"$f":"IF(A13<>\"\",IFERROR(VLOOKUP(AC13,Tabelas!B:D,3,0),0),\"\")","v":0},{"$f":"IF(A13<>\"\",IFERROR(VLOOKUP(AD13,Tabelas!B:D,3,0),0),\"\")","v":6},{"$f":"IF(A13<>\"\",IFERROR(VLOOKUP(AE13,Tabelas!B:D,3,0),0),\"\")","v":12},{"$f":"IF(A13<>\"\",IFERROR(VLOOKUP(AF13,Tabelas!B:D,3,0),0),\"\")","v":0},{"$f":"IF(A13<>\"\",IFERROR(VLOOKUP(AG13,Tabelas!B:D,3,0),0),\"\")","v":0},{"$f":"IF(A13<>\"\",IFERROR(VLOOKUP(AH13,Tabelas!B:D,3,0),0),\"\")","v":6},{"$f":"IF(A13<>\"\",IFERROR(VLOOKUP(AI13,Tabelas!B:D,3,0),0),\"\")","v":6},{"$f":"IF(A13<>\"\",IFERROR(VLOOKUP(AJ13,Tabelas!B:D,3,0),0),\"\")","v":0},{"$f":"IF(A13<>\"\",IFERROR(VLOOKUP(AK13,Tabelas!B:D,3,0),0),\"\")","v":6}]
["ACUPUNTURA ",null,null,null,null,null,null,null,null,null,null,null,null,null,null,null,null,null,null,null,null,null,null,null,null,null,null,null,null,null,null,null,null,null,null,null,null,{"$f":"IF(A14<>\"\",IFERROR(VLOOKUP(J14,Tabelas!B:D,3,0),0),\"\")","v":0},{"$f":"IF(A14<>\"\",IFERROR(VLOOKUP(K14,Tabelas!B:D,3,0),0),\"\")","v":0},{"$f":"IF(A14<>\"\",IFERROR(VLOOKUP(L14,Tabelas!B:D,3,0),0),\"\")","v":0},{"$f":"IF(A14<>\"\",IFERROR(VLOOKUP(M14,Tabelas!B:D,3,0),0),\"\")","v":0},{"$f":"IF(A14<>\"\",IFERROR(VLOOKUP(N14,Tabelas!B:D,3,0),0),\"\")","v":0},{"$f":"IF(A14<>\"\",IFERROR(VLOOKUP(O14,Tabelas!B:D,3,0),0),\"\")","v":0},{"$f":"IF(A14<>\"\",IFERROR(VLOOKUP(P14,Tabelas!B:D,3,0),0),\"\")","v":0},{"$f":"IF(A14<>\"\",IFERROR(VLOOKUP(Q14,Tabelas!B:D,3,0),0),\"\")","v":0},{"$f":"IF(A14<>\"\",IFERROR(VLOOKUP(R14,Tabelas!B:D,3,0),0),\"\")","v":0},{"$f":"IF(A14<>\"\",IFERROR(VLOOKUP(S14,Tabelas!B:D,3,0),0),\"\")","v":0},{"$f":"IF(A14<>\"\",IFERROR(VLOOKUP(T14,Tabelas!B:D,3,0),0),\"\")","v":0},{"$f":"IF(A14<>\"\",IFERROR(VLOOKUP(U14,Tabelas!B:D,3,0),0),\"\")","v":0},{"$f":"IF(A14<>\"\",IFERROR(VLOOKUP(V14,Tabelas!B:D,3,0),0),\"\")","v":0},{"$f":"IF(A14<>\"\",IFERROR(VLOOKUP(W14,Tabelas!B:D,3,0),0),\"\")","v":0},{"$f":"IF(A14<>\"\",IFERROR(VLOOKUP(X14,Tabelas!B:D,3,0),0),\"\")","v":0},{"$f":"IF(A14<>\"\",IFERROR(VLOOKUP(Y14,Tabelas!B:D,3,0),0),\"\")","v":0},{"$f":"IF(A14<>\"\",IFERROR(VLOOKUP(Z14,Tabelas!B:D,3,0),0),\"\")","v":0},{"$f":"IF(A14<>\"\",IFERROR(VLOOKUP(AA14,Tabelas!B:D,3,0),0),\"\")","v":0},{"$f":"IF(A14<>\"\",IFERROR(VLOOKUP(AB14,Tabelas!B:D,3,0),0),\"\")","v":0},{"$f":"IF(A14<>\"\",IFERROR(VLOOKUP(AC14,Tabelas!B:D,3,0),0),\"\")","v":0},{"$f":"IF(A14<>\"\",IFERROR(VLOOKUP(AD14,Tabelas!B:D,3,0),0),\"\")","v":0},{"$f":"IF(A14<>\"\",IFERROR(VLOOKUP(AE14,Tabelas!B:D,3,0),0),\"\")","v":0},{"$f":"IF(A14<>\"\",IFERROR(VLOOKUP(AF14,Tabelas!B:D,3,0),0),\"\")","v":0},{"$f":"IF(A14<>\"\",IFERROR(VLOOKUP(AG14,Tabelas!B:D,3,0),0),\"\")","v":0},{"$f":"IF(A14<>\"\",IFERROR(VLOOKUP(AH14,Tabelas!B:D,3,0),0),\"\")","v":0},{"$f":"IF(A14<>\"\",IFERROR(VLOOKUP(#REF!,Tabelas!B:D,3,0),0),\"\")","v":0},{"$f":"IF(A14<>\"\",IFERROR(VLOOKUP(#REF!,Tabelas!B:D,3,0),0),\"\")","v":0},{"$f":"IF(A14<>\"\",IFERROR(VLOOKUP(#REF!,Tabelas!B:D,3,0),0),\"\")","v":0},{"$f":"IF(AND(A14<>\"\",E14=\"Ebserh\"),SUM(AI14:BM14)+COUNTIF(G14:AH14,\"N*\")+COUNTIF(G14:AH14,\"DN*\"),IF(AND(A14<>\"\",E14<>\"Ebserh\"),SUM(AI14:BM14),\"\"))","v":0},{"$f":"IF(A14<>\"\",COUNTIF(G14:AH14,\"LM\")+COUNTIF(G14:AH14,\"L\")+COUNTIF(G14:AH14,\"LP\"),\"\")","v":0},{"$f":"IF(A14<>\"\",COUNTIF(G14:AH14,\"AB*\"),\"\")","v":0}]
["Ari Ojeda Ocampo Moré",2116216,13369,"Médico","RJU",30,null,null,"D6",null,null,null,"D6","D6",null,"D6",null,null,null,"D6","D6",null,"D6",null,null,null,"D6","D6",null,"D6",null,null,null,"D6","D6",null,"D6",{"$f":"IF(A15<>\"\",IFERROR(VLOOKUP(G15,Tabelas!B:D,3,0),0),\"\")","v":0},{"$f":"IF(A15<>\"\",IFERROR(VLOOKUP(H15,Tabelas!B:D,3,0),0),\"\")","v":0},{"$f":"IF(A15<>\"\",IFERROR(VLOOKUP(I15,Tabelas!B:D,3,0),0),\"\")","v":12},{"$f":"IF(A15<>\"\",IFERROR(VLOOKUP(J15,Tabelas!B:D,3,0),0),\"\")","v":0},{"$f":"IF(A15<>\"\",IFERROR(VLOOKUP(K19,Tabelas!B:D,3,0),0),\"\")","v":0},{"$f":"IF(A15<>\"\",IFERROR(VLOOKUP(L15,Tabelas!B:D,3,0),0),\"\")","v":0},{"$f":"IF(A15<>\"\",IFERROR(VLOOKUP(M15,Tabelas!B:D,3,0),0),\"\")","v":12},{"$f":"IF(A15<>\"\",IFERROR(VLOOKUP(N15,Tabelas!B:D,3,0),0),\"\")","v":12},{"$f":"IF(A15<>\"\",IFERROR(VLOOKUP(O15,Tabelas!B:D,3,0),0),\"\")","v":0},{"$f":"IF(A15<>\"\",IFERROR(VLOOKUP(P15,Tabelas!B:D,3,0),0),\"\")","v":12},{"$f":"IF(A15<>\"\",IFERROR(VLOOKUP(Q15,Tabelas!B:D,3,0),0),\"\")","v":0},{"$f":"IF(A15<>\"\",IFERROR(VLOOKUP(R15,Tabelas!B:D,3,0),0),\"\")","v":0},{"$f":"IF(A15<>\"\",IFERROR(VLOOKUP(S15,Tabelas!B:D,3,0),0),\"\")","v":0},{"$f":"IF(A15<>\"\",IFERROR(VLOOKUP(T15,Tabelas!B:D,3,0),0),\"\")","v":12},{"$f":"IF(A15<>\"\",IFERROR(VLOOKUP(U15,Tabelas!B:D,3,0),0),\"\")","v":12},{"$f":"IF(A15<>\"\",IFERROR(VLOOKUP(V15,Tabelas!B:D,3,0),0),\"\")","v":0},{"$f":"IF(A15<>\"\",IFERROR(VLOOKUP(W15,Tabelas!B:D,3,0),0),\"\")","v":12},{"$f":"IF(A15<>\"\",IFERROR(VLOOKUP(X15,Tabelas!B:D,3,0),0),\"\")","v":0},{"$f":"IF(A15<>\"\",IFERROR(VLOOKUP(Y15,Tabelas!B:D,3,0),0),\"\")","v":0},{"$f":"IF(A15<>\"\",IFERROR(VLOOKUP(Z15,Tabelas!B:D,3,0),0),\"\")","v":0},{"$f":"IF(A15<>\"\",IFERROR(VLOOKUP(AA15,Tabelas!B:D,3,0),0),\"\")","v":12},{"$f":"IF(A15<>\"\",IFERROR(VLOOKUP(AB15,Tabelas!B:D,3,0),0),\"\")","v":12},{"$f":"IF(A15<>\"\",IFERROR(VLOOKUP(AC15,Tabelas!B:D,3,0),0),\"\")","v":0},{"$f":"IF(A15<>\"\",IFERROR(VLOOKUP(AD15,Tabelas!B:D,3,0),0),\"\")","v":12},{"$f":"IF(A15<>\"\",IFERROR(VLOOKUP(AE15,Tabelas!B:D,3,0),0),\"\")","v":0},{"$f":"IF(A15<>\"\",IFERROR(VLOOKUP(AF15,Tabelas!B:D,3,0),0),\"\")","v":0},{"$f":"IF(A15<>\"\",IFERROR(VLOOKUP(AG15,Tabelas!B:D,3,0),0),\"\")","v":0},{"$f":"IF(A15<>\"\",IFERROR(VLOOKUP(AH15,Tabelas!B:D,3,0),0),\"\")","v":12},{"$f":"IF(A15<>\"\",IFERROR(VLOOKUP(AI15,Tabelas!B:D,3,0),0),\"\")","v":12},{"$f":"IF(A15<>\"\",IFERROR(VLOOKUP(AJ15,Tabelas!B:D,3,0),0),\"\")","v":0},{"$f":"IF(A15<>\"\",IFERROR(VLOOKUP(AK15,Tabelas!B:D,3,0),0),\"\")","v":12}]
["Cesar Paulo Semionato",1158471,3535,"Médico","RJU",30,null,null,"D6",null,null,null,"D6","D6",null,"D6",null,null,null,"D6","D6",null,"D6",null,null,null,"D6","D6",null,"D6",null,null,null,"D6","D6",null,"D6",{"$f":"IF(A16<>\"\",IFERROR(VLOOKUP(G16,Tabelas!B:D,3,0),0),\"\")","v":0},{"$f":"IF(A16<>\"\",IFERROR(VLOOKUP(H16,Tabelas!B:D,3,0),0),\"\")","v":0},{"$f":"IF(A16<>\"\",IFERROR(VLOOKUP(I16,Tabelas!B:D,3,0),0),\"\")","v":12},{"$f":"IF(A16<>\"\",IFERROR(VLOOKUP(J16,Tabelas!B:D,3,0),0),\"\")","v":0},{"$f":"IF(A16<>\"\",IFERROR(VLOOKUP(K20,Tabelas!B:D,3,0),0),\"\")","v":0},{"$f":"IF(A16<>\"\",IFERROR(VLOOKUP(L16,Tabelas!B:D,3,0),0),\"\")","v":0},{"$f":"IF(A16<>\"\",IFERROR(VLOOKUP(M16,Tabelas!B:D,3,0),0),\"\")","v":12},{"$f":"IF(A16<>\"\",IFERROR(VLOOKUP(N16,Tabelas!B:D,3,0),0),\"\")","v":12},{"$f":"IF(A16<>\"\",IFERROR(VLOOKUP(O16,Tabelas!B:D,3,0),0),\"\")","v":0},{"$f":"IF(A16<>\"\",IFERROR(VLOOKUP(P16,Tabelas!B:D,3,0),0),\"\")","v":12},{"$f":"IF(A16<>\"\",IFERROR(VLOOKUP(Q16,Tabelas!B:D,3,0),0),\"\")","v":0},{"$f":"IF(A16<>\"\",IFERROR(VLOOKUP(R16,Tabelas!B:D,3,0),0),\"\")","v":0},{"$f":"IF(A16<>\"\",IFERROR(VLOOKUP(S16,Tabelas!B:D,3,0),0),\"\")","v":0},{"$f":"IF(A16<>\"\",IFERROR(VLOOKUP(T16,Tabelas!B:D,3,0),0),\"\")","v":12},{"$f":"IF(A16<>\"\",IFERROR(VLOOKUP(U16,Tabelas!B:D,3,0),0),\"\")","v":12},{"$f":"IF(A16<>\"\",IFERROR(VLOOKUP(V16,Tabelas!B:D,3,0),0),\"\")","v":0},{"$f":"IF(A16<>\"\",IFERROR(VLOOKUP(W16,Tabelas!B:D,3,0),0),\"\")","v":12},{"$f":"IF(A16<>\"\",IFERROR(VLOOKUP(X16,Tabelas!B:D,3,0),0),\"\")","v":0},{"$f":"IF(A16<>\"\",IFERROR(VLOOKUP(Y16,Tabelas!B:D,3,0),0),\"\")","v":0},{"$f":"IF(A16<>\"\",IFERROR(VLOOKUP(Z16,Tabelas!B:D,3,0),0),\"\")","v":0},{"$f":"IF(A16<>\"\",IFERROR(VLOOKUP(AA16,Tabelas!B:D,3,0),0),\"\")","v":12},{"$f":"IF(A16<>\"\",IFERROR(VLOOKUP(AB16,Tabelas!B:D,3,0),0),\"\")","v":12},{"$f":"IF(A16<>\"\",IFERROR(VLOOKUP(AC16,Tabelas!B:D,3,0),0),\"\")","v":0},{"$f":"IF(A16<>\"\",IFERROR(VLOOKUP(AD16,Tabelas!B:D,3,0),0),\"\")","v":12},{"$f":"IF(A16<>\"\",IFERROR(VLOOKUP(AE16,Tabelas!B:D,3,0),0),\"\")","v":0},{"$f":"IF(A16<>\"\",IFERROR(VLOOKUP(AF16,Tabelas!B:D,3,0),0),\"\")","v":0},{"$f":"IF(A16<>\"\",IFERROR(VLOOKUP(AG16,Tabelas!B:D,3,0),0),\"\")","v":0},{"$f":"IF(A16<>\"\",IFERROR(VLOOKUP(AH16,Tabelas!B:D,3,0),0),\"\")","v":12},{"$f":"IF(A16<>\"\",IFERROR(VLOOKUP(AI16,Tabelas!B:D,3,0),0),\"\")","v":12},{"$f":"IF(A16<>\"\",IFERROR(VLOOKUP(AJ16,Tabelas!B:D,3,0),0),\"\")","v":0},{"$f":"IF(A16<>\"\",IFERROR(VLOOKUP(AK16,Tabelas!B:D,3,0),0),\"\")","v":12}]
["Joao Eduardo Martins Teixeira",3144885,27906,"Médico","EBSERH",24,null,null,"M15",null,null,null,"M15","T15","M15","M15",null,null,null,"M15","T15","M15","M15",null,null,null,"M15","T15",null,"M15",null,null,null,"M15","T15","M15","M15",{"$f":"IF(A17<>\"\",IFERROR(VLOOKUP(G17,Tabelas!B:D,3,0),0),\"\")","v":0},{"$f":"IF(A17<>\"\",IFERROR(VLOOKUP(H17,Tabelas!B:D,3,0),0),\"\")","v":0},{"$f":"IF(A17<>\"\",IFERROR(VLOOKUP(I17,Tabelas!B:D,3,0),0),\"\")","v":6},{"$f":"IF(A17<>\"\",IFERROR(VLOOKUP(J17,Tabelas!B:D,3,0),0),\"\")","v":0},{"$f":"IF(A17<>\"\",IFERROR(VLOOKUP(K21,Tabelas!B:D,3,0),0),\"\")","v":0},{"$f":"IF(A17<>\"\",IFERROR(VLOOKUP(L17,Tabelas!B:D,3,0),0),\"\")","v":0},{"$f":"IF(A17<>\"\",IFERROR(VLOOKUP(M17,Tabelas!B:D,3,0),0),\"\")","v":6},{"$f":"IF(A17<>\"\",IFERROR(VLOOKUP(N17,Tabelas!B:D,3,0),0),\"\")","v":6},{"$f":"IF(A17<>\"\",IFERROR(VLOOKUP(O17,Tabelas!B:D,3,0),0),\"\")","v":6},{"$f":"IF(A17<>\"\",IFERROR(VLOOKUP(P17,Tabelas!B:D,3,0),0),\"\")","v":6},{"$f":"IF(A17<>\"\",IFERROR(VLOOKUP(Q17,Tabelas!B:D,3,0),0),\"\")","v":0},{"$f":"IF(A17<>\"\",IFERROR(VLOOKUP(R17,Tabelas!B:D,3,0),0),\"\")","v":0},{"$f":"IF(A17<>\"\",IFERROR(VLOOKUP(S17,Tabelas!B:D,3,0),0),\"\")","v":0},{"$f":"IF(A17<>\"\",IFERROR(VLOOKUP(T17,Tabelas!B:D,3,0),0),\"\")","v":6},{"$f":"IF(A17<>\"\",IFERROR(VLOOKUP(U17,Tabelas!B:D,3,0),0),\"\")","v":6},{"$f":"IF(A17<>\"\",IFERROR(VLOOKUP(V17,Tabelas!B:D,3,0),0),\"\")","v":6},{"$f":"IF(A17<>\"\",IFERROR(VLOOKUP(W17,Tabelas!B:D,3,0),0),\"\")","v":6},{"$f":"IF(A17<>\"\",IFERROR(VLOOKUP(X17,Tabelas!B:D,3,0),0),\"\")","v":0},{"$f":"IF(A17<>\"\",IFERROR(VLOOKUP(Y17,Tabelas!B:D,3,0),0),\"\")","v":0},{"$f":"IF(A17<>\"\",IFERROR(VLOOKUP(Z17,Tabelas!B:D,3,0),0),\"\")","v":0},{"$f":"IF(A17<>\"\",IFERROR(VLOOKUP(AA17,Tabelas!B:D,3,0),0),\"\")","v":6},{"$f":"IF(A17<>\"\",IFERROR(VLOOKUP(AB17,Tabelas!B:D,3,0),0),\"\")","v":6},{"$f":"IF(A17<>\"\",IFERROR(VLOOKUP(AC17,Tabelas!B:D,3,0),0),\"\")","v":0},{"$f":"IF(A17<>\"\",IFERROR(VLOOKUP(AD17,Tabelas!B:D,3,0),0),\"\")","v":6},{"$f":"IF(A17<>\"\",IFERROR(VLOOKUP(AE17,Tabelas!B:D,3,0),0),\"\")","v":0},{"$f":"IF(A17<>\"\",IFERROR(VLOOKUP(AF17,Tabelas!B:D,3,0),0),\"\")","v":0},{"$f":"IF(A17<>\"\",IFERROR(VLOOKUP(AG17,Tabelas!B:D,3,0),0),\"\")","v":0},{"$f":"IF(A17<>\"\",IFERROR(VLOOKUP(AH17,Tabelas!B:D,3,0),0),\"\")","v":6},{"$f":"IF(A17<>\"\",IFERROR(VLOOKUP(AI17,Tabelas!B:D,3,0),0),\"\")","v":6},{"$f":"IF(A17<>\"\",IFERROR(VLOOKUP(AJ17,Tabelas!B:D,3,0),0),\"\")","v":6},{"$f":"IF(A17<>\"\",IFERROR(VLOOKUP(AK17,Tabelas!B:D,3,0),0),\"\")","v":6}]
["Luciana Kiehl Noronha ",1441915,24335,"Médico","EBSERH",24,null,null,"M15","D6",null,null,null,"D6",null,"M15","D6",null,null,null,"D6",null,"M15","D6",null,null,null,"D6",null,"M15","D6",null,null,null,"D6",null,"M15",{"$f":"IF(A18<>\"\",IFERROR(VLOOKUP(G18,Tabelas!B:D,3,0),0),\"\")","v":0},{"$f":"IF(A18<>\"\",IFERROR(VLOOKUP(H18,Tabelas!B:D,3,0),0),\"\")","v":0},{"$f":"IF(A18<>\"\",IFERROR(VLOOKUP(I18,Tabelas!B:D,3,0),0),\"\")","v":6},{"$f":"IF(A18<>\"\",IFERROR(VLOOKUP(J18,Tabelas!B:D,3,0),0),\"\")","v":12},{"$f":"IF(A18<>\"\",IFERROR(VLOOKUP(K22,Tabelas!B:D,3,0),0),\"\")","v":0},{"$f":"IF(A18<>\"\",IFERROR(VLOOKUP(L18,Tabelas!B:D,3,0),0),\"\")","v":0},{"$f":"IF(A18<>\"\",IFERROR(VLOOKUP(M18,Tabelas!B:D,3,0),0),\"\")","v":0},{"$f":"IF(A18<>\"\",IFERROR(VLOOKUP(N18,Tabelas!B:D,3,0),0),\"\")","v":12},{"$f":"IF(A18<>\"\",IFERROR(VLOOKUP(O18,Tabelas!B:D,3,0),0),\"\")","v":0},{"$f":"IF(A18<>\"\",IFERROR(VLOOKUP(P18,Tabelas!B:D,3,0),0),\"\")","v":6},{"$f":"IF(A18<>\"\",IFERROR(VLOOKUP(Q18,Tabelas!B:D,3,0),0),\"\")","v":12},{"$f":"IF(A18<>\"\",IFERROR(VLOOKUP(R18,Tabelas!B:D,3,0),0),\"\")","v":0},{"$f":"IF(A18<>\"\",IFERROR(VLOOKUP(S18,Tabelas!B:D,3,0),0),\"\")","v":0},{"$f":"IF(A18<>\"\",IFERROR(VLOOKUP(T18,Tabelas!B:D,3,0),0),\"\")","v":0},{"$f":"IF(A18<>\"\",IFERROR(VLOOKUP(U18,Tabelas!B:D,3,0),0),\"\")","v":12},{"$f":"IF(A18<>\"\",IFERROR(VLOOKUP(V18,Tabelas!B:D,3,0),0),\"\")","v":0},{"$f":"IF(A18<>\"\",IFERROR(VLOOKUP(W18,Tabelas!B:D,3,0),0),\"\")","v":6},{"$f":"IF(A18<>\"\",IFERROR(VLOOKUP(X18,Tabelas!B:D,3,0),0),\"\")","v":12},{"$f":"IF(A18<>\"\",IFERROR(VLOOKUP(Y18,Tabelas!B:D,3,0),0),\"\")","v":0},{"$f":"IF(A18<>\"\",IFERROR(VLOOKUP(Z18,Tabelas!B:D,3,0),0),\"\")","v":0},{"$f":"IF(A18<>\"\",IFERROR(VLOOKUP(AA18,Tabelas!B:D,3,0),0),\"\")","v":0},{"$f":"IF(A18<>\"\",IFERROR(VLOOKUP(AB18,Tabelas!B:D,3,0),0),\"\")","v":12},{"$f":"IF(A18<>\"\",IFERROR(VLOOKUP(AC18,Tabelas!B:D,3,0),0),\"\")","v":0},{"$f":"IF(A18<>\"\",IFERROR(VLOOKUP(AD18,Tabelas!B:D,3,0),0),\"\")","v":6},{"$f":"IF(A18<>\"\",IFERROR(VLOOKUP(AE18,Tabelas!B:D,3,0),0),\"\")","v":12},{"$f":"IF(A18<>\"\",IFERROR(VLOOKUP(AF18,Tabelas!B:D,3,0),0),\"\")","v":0},{"$f":"IF(A18<>\"\",IFERROR(VLOOKUP(AG18,Tabelas!B:D,3,0),0),\"\")","v":0},{"$f":"IF(A18<>\"\",IFERROR(VLOOKUP(AH18,Tabelas!B:D,3,0),0),\"\")","v":0},{"$f":"IF(A18<>\"\",IFERROR(VLOOKUP(AI18,Tabelas!B:D,3,0),0),\"\")","v":12},{"$f":"IF(A18<>\"\",IFERROR(VLOOKUP(AJ18,Tabelas!B:D,3,0),0),\"\")","v":0},{"$f":"IF(A18<>\"\",IFERROR(VLOOKUP(AK18,Tabelas!B:D,3,0),0),\"\")","v":6}]
["CARDIOLOGIA ",null,null,null,null,null,null,null,null,null,null,null,null,null,null,null,null,null,null,null,null,null,null,null,null,null,null,null,null,null,null,null,null,null,null,null,null,{"$f":"IF(A19<>\"\",IFERROR(VLOOKUP(J19,Tabelas!B:D,3,0),0),\"\")","v":0},{"$f":"IF(A19<>\"\",IFERROR(VLOOKUP(K19,Tabelas!B:D,3,0),0),\"\")","v":0},{"$f":"IF(A19<>\"\",IFERROR(VLOOKUP(L19,Tabelas!B:D,3,0),0),\"\")","v":0},{"$f":"IF(A19<>\"\",IFERROR(VLOOKUP(M19,Tabelas!B:D,3,0),0),\"\")","v":0},{"$f":"IF(A19<>\"\",IFERROR(VLOOKUP(N19,Tabelas!B:D,3,0),0),\"\")","v":0},{"$f":"IF(A19<>\"\",IFERROR(VLOOKUP(O19,Tabelas!B:D,3,0),0),\"\")","v":0},{"$f":"IF(A19<>\"\",IFERROR(VLOOKUP(P19,Tabelas!B:D,3,0),0),\"\")","v":0},{"$f":"IF(A19<>\"\",IFERROR(VLOOKUP(Q19,Tabelas!B:D,3,0),0),\"\")","v":0},{"$f":"IF(A19<>\"\",IFERROR(VLOOKUP(R19,Tabelas!B:D,3,0),0),\"\")","v":0},{"$f":"IF(A19<>\"\",IFERROR(VLOOKUP(S19,Tabelas!B:D,3,0),0),\"\")","v":0},{"$f":"IF(A19<>\"\",IFERROR(VLOOKUP(T19,Tabelas!B:D,3,0),0),\"\")","v":0},{"$f":"IF(A19<>\"\",IFERROR(VLOOKUP(U19,Tabelas!B:D,3,0),0),\"\")","v":0},{"$f":"IF(A19<>\"\",IFERROR(VLOOKUP(V19,Tabelas!B:D,3,0),0),\"\")","v":0},{"$f":"IF(A19<>\"\",IFERROR(VLOOKUP(W19,Tabelas!B:D,3,0),0),\"\")","v":0},{"$f":"IF(A19<>\"\",IFERROR(VLOOKUP(X19,Tabelas!B:D,3,0),0),\"\")","v":0},{"$f":"IF(A19<>\"\",IFERROR(VLOOKUP(Y19,Tabelas!B:D,3,0),0),\"\")","v":0},{"$f":"IF(A19<>\"\",IFERROR(VLOOKUP(Z19,Tabelas!B:D,3,0),0),\"\")","v":0},{"$f":"IF(A19<>\"\",IFERROR(VLOOKUP(AA19,Tabelas!B:D,3,0),0),\"\")","v":0},{"$f":"IF(A19<>\"\",IFERROR(VLOOKUP(AB19,Tabelas!B:D,3,0),0),\"\")","v":0},{"$f":"IF(A19<>\"\",IFERROR(VLOOKUP(AC19,Tabelas!B:D,3,0),0),\"\")","v":0},{"$f":"IF(A19<>\"\",IFERROR(VLOOKUP(AD19,Tabelas!B:D,3,0),0),\"\")","v":0},{"$f":"IF(A19<>\"\",IFERROR(VLOOKUP(AE19,Tabelas!B:D,3,0),0),\"\")","v":0},{"$f":"IF(A19<>\"\",IFERROR(VLOOKUP(AF19,Tabelas!B:D,3,0),0),\"\")","v":0},{"$f":"IF(A19<>\"\",IFERROR(VLOOKUP(AG19,Tabelas!B:D,3,0),0),\"\")","v":0},{"$f":"IF(A19<>\"\",IFERROR(VLOOKUP(AH19,Tabelas!B:D,3,0),0),\"\")","v":0},{"$f":"IF(A19<>\"\",IFERROR(VLOOKUP(#REF!,Tabelas!B:D,3,0),0),\"\")","v":0},{"$f":"IF(A19<>\"\",IFERROR(VLOOKUP(#REF!,Tabelas!B:D,3,0),0),\"\")","v":0},{"$f":"IF(A19<>\"\",IFERROR(VLOOKUP(#REF!,Tabelas!B:D,3,0),0),\"\")","v":0},{"$f":"IF(AND(A19<>\"\",E19=\"Ebserh\"),SUM(AI19:BM19)+COUNTIF(G19:AH19,\"N*\")+COUNTIF(G19:AH19,\"DN*\"),IF(AND(A19<>\"\",E19<>\"Ebserh\"),SUM(AI19:BM19),\"\"))","v":0},{"$f":"IF(A19<>\"\",COUNTIF(G19:AH19,\"LM\")+COUNTIF(G19:AH19,\"L\")+COUNTIF(G19:AH19,\"LP\"),\"\")","v":0},{"$f":"IF(A19<>\"\",COUNTIF(G19:AH19,\"AB*\"),\"\")","v":0}]
["Aurelio Pacheco Costa Filho ",1160449,5182,"Médico","RJU",20,null,null,null,"D6",null,null,null,null,"D6",null,"D6",null,null,null,null,"D6",null,"D6",null,null,null,null,null,null,"D6",null,null,null,null,"D6",null,{"$f":"IF(A20<>\"\",IFERROR(VLOOKUP(G20,Tabelas!B:D,3,0),0),\"\")","v":0},{"$f":"IF(A20<>\"\",IFERROR(VLOOKUP(H20,Tabelas!B:D,3,0),0),\"\")","v":0},{"$f":"IF(A20<>\"\",IFERROR(VLOOKUP(I20,Tabelas!B:D,3,0),0),\"\")","v":0},{"$f":"IF(A20<>\"\",IFERROR(VLOOKUP(J20,Tabelas!B:D,3,0),0),\"\")","v":12},{"$f":"IF(A20<>\"\",IFERROR(VLOOKUP(K24,Tabelas!B:D,3,0),0),\"\")","v":0},{"$f":"IF(A20<>\"\",IFERROR(VLOOKUP(L20,Tabelas!B:D,3,0),0),\"\")","v":0},{"$f":"IF(A20<>\"\",IFERROR(VLOOKUP(M20,Tabelas!B:D,3,0),0),\"\")","v":0},{"$f":"IF(A20<>\"\",IFERROR(VLOOKUP(N20,Tabelas!B:D,3,0),0),\"\")","v":0},{"$f":"IF(A20<>\"\",IFERROR(VLOOKUP(O20,Tabelas!B:D,3,0),0),\"\")","v":12},{"$f":"IF(A20<>\"\",IFERROR(VLOOKUP(P20,Tabelas!B:D,3,0),0),\"\")","v":0},{"$f":"IF(A20<>\"\",IFERROR(VLOOKUP(Q20,Tabelas!B:D,3,0),0),\"\")","v":12},{"$f":"IF(A20<>\"\",IFERROR(VLOOKUP(R20,Tabelas!B:D,3,0),0),\"\")","v":0},{"$f":"IF(A20<>\"\",IFERROR(VLOOKUP(S20,Tabelas!B:D,3,0),0),\"\")","v":0},{"$f":"IF(A20<>\"\",IFERROR(VLOOKUP(T20,Tabelas!B:D,3,0),0),\"\")","v":0},{"$f":"IF(A20<>\"\",IFERROR(VLOOKUP(U20,Tabelas!B:D,3,0),0),\"\")","v":0},{"$f":"IF(A20<>\"\",IFERROR(VLOOKUP(V20,Tabelas!B:D,3,0),0),\"\")","v":12},{"$f":"IF(A20<>\"\",IFERROR(VLOOKUP(W20,Tabelas!B:D,3,0),0),\"\")","v":0},{"$f":"IF(A20<>\"\",IFERROR(VLOOKUP(X20,Tabelas!B:D,3,0),0),\"\")","v":12},{"$f":"IF(A20<>\"\",IFERROR(VLOOKUP(Y20,Tabelas!B:D,3,0),0),\"\")","v":0},{"$f":"IF(A20<>\"\",IFERROR(VLOOKUP(Z20,Tabelas!B:D,3,0),0),\"\")","v":0},{"$f":"IF(A20<>\"\",IFERROR(VLOOKUP(AA20,Tabelas!B:D,3,0),0),\"\")","v":0},{"$f":"IF(A20<>\"\",IFERROR(VLOOKUP(AB20,Tabelas!B:D,3,0),0),\"\")","v":0},{"$f":"IF(A20<>\"\",IFERROR(VLOOKUP(AC20,Tabelas!B:D,3,0),0),\"\")","v":0},{"$f":"IF(A20<>\"\",IFERROR(VLOOKUP(AD20,Tabelas!B:D,3,0),0),\"\")","v":0},{"$f":"IF(A20<>\"\",IFERROR(VLOOKUP(AE20,Tabelas!B:D,3,0),0),\"\")","v":12},{"$f":"IF(A20<>\"\",IFERROR(VLOOKUP(AF20,Tabelas!B:D,3,0),0),\"\")","v":0},{"$f":"IF(A20<>\"\",IFERROR(VLOOKUP(AG20,Tabelas!B:D,3,0),0),\"\")","v":0},{"$f":"IF(A20<>\"\",IFERROR(VLOOKUP(AH20,Tabelas!B:D,3,0),0),\"\")","v":0},{"$f":"IF(A20<>\"\",IFERROR(VLOOKUP(AI20,Tabelas!B:D,3,0),0),\"\")","v":0},{"$f":"IF(A20<>\"\",IFERROR(VLOOKUP(AJ20,Tabelas!B:D,3,0),0),\"\")","v":12},{"$f":"IF(A20<>\"\",IFERROR(VLOOKUP(AK20,Tabelas!B:D,3,0),0),\"\")","v":0}]
["Roberto Henrique Heinisch",1159126,3907,"Mécico","RJU",20,null,null,"T15",null,null,null,"T15","T15","T15","T15",null,null,null,"T15","T15","T15","T15",null,null,null,"T15","T15",null,"T15",null,null,null,"T15","T15","T15","T15",{"$f":"IF(A21<>\"\",IFERROR(VLOOKUP(G21,Tabelas!B:D,3,0),0),\"\")","v":0},{"$f":"IF(A21<>\"\",IFERROR(VLOOKUP(H21,Tabelas!B:D,3,0),0),\"\")","v":0},{"$f":"IF(A21<>\"\",IFERROR(VLOOKUP(I21,Tabelas!B:D,3,0),0),\"\")","v":6},{"$f":"IF(A21<>\"\",IFERROR(VLOOKUP(J21,Tabelas!B:D,3,0),0),\"\")","v":0},{"$f":"IF(A21<>\"\",IFERROR(VLOOKUP(K25,Tabelas!B:D,3,0),0),\"\")","v":0},{"$f":"IF(A21<>\"\",IFERROR(VLOOKUP(L21,Tabelas!B:D,3,0),0),\"\")","v":0},{"$f":"IF(A21<>\"\",IFERROR(VLOOKUP(M21,Tabelas!B:D,3,0),0),\"\")","v":6},{"$f":"IF(A21<>\"\",IFERROR(VLOOKUP(N21,Tabelas!B:D,3,0),0),\"\")","v":6},{"$f":"IF(A21<>\"\",IFERROR(VLOOKUP(O21,Tabelas!B:D,3,0),0),\"\")","v":6},{"$f":"IF(A21<>\"\",IFERROR(VLOOKUP(P21,Tabelas!B:D,3,0),0),\"\")","v":6},{"$f":"IF(A21<>\"\",IFERROR(VLOOKUP(Q21,Tabelas!B:D,3,0),0),\"\")","v":0},{"$f":"IF(A21<>\"\",IFERROR(VLOOKUP(R21,Tabelas!B:D,3,0),0),\"\")","v":0},{"$f":"IF(A21<>\"\",IFERROR(VLOOKUP(S21,Tabelas!B:D,3,0),0),\"\")","v":0},{"$f":"IF(A21<>\"\",IFERROR(VLOOKUP(T21,Tabelas!B:D,3,0),0),\"\")","v":6},{"$f":"IF(A21<>\"\",IFERROR(VLOOKUP(U21,Tabelas!B:D,3,0),0),\"\")","v":6},{"$f":"IF(A21<>\"\",IFERROR(VLOOKUP(V21,Tabelas!B:D,3,0),0),\"\")","v":6},{"$f":"IF(A21<>\"\",IFERROR(VLOOKUP(W21,Tabelas!B:D,3,0),0),\"\")","v":6},{"$f":"IF(A21<>\"\",IFERROR(VLOOKUP(X21,Tabelas!B:D,3,0),0),\"\")","v":0},{"$f":"IF(A21<>\"\",IFERROR(VLOOKUP(Y21,Tabelas!B:D,3,0),0),\"\")","v":0},{"$f":"IF(A21<>\"\",IFERROR(VLOOKUP(Z21,Tabelas!B:D,3,0),0),\"\")","v":0},{"$f":"IF(A21<>\"\",IFERROR(VLOOKUP(AA21,Tabelas!B:D,3,0),0),\"\")","v":6},{"$f":"IF(A21<>\"\",IFERROR(VLOOKUP(AB21,Tabelas!B:D,3,0),0),\"\")","v":6},{"$f":"IF(A21<>\"\",IFERROR(VLOOKUP(AC21,Tabelas!B:D,3,0),0),\"\")","v":0},{"$f":"IF(A21<>\"\",IFERROR(VLOOKUP(AD21,Tabelas!B:D,3,0),0),\"\")","v":6},{"$f":"IF(A21<>\"\",IFERROR(VLOOKUP(AE21,Tabelas!B:D,3,0),0),\"\")","v":0},{"$f":"IF(A21<>\"\",IFERROR(VLOOKUP(AF21,Tabelas!B:D,3,0),0),\"\")","v":0},{"$f":"IF(A21<>\"\",IFERROR(VLOOKUP(AG21,Tabelas!B:D,3,0),0),\"\")","v":0},{"$f":"IF(A21<>\"\",IFERROR(VLOOKUP(AH21,Tabelas!B:D,3,0),0),\"\")","v":6},{"$f":"IF(A21<>\"\",IFERROR(VLOOKUP(AI21,Tabelas!B:D,3,0),0),\"\")","v":6},{"$f":"IF(A21<>\"\",IFERROR(VLOOKUP(AJ21,Tabelas!B:D,3,0),0),\"\")","v":6},{"$f":"IF(A21<>\"\",IFERROR(VLOOKUP(AK21,Tabelas!B:D,3,0),0),\"\")","v":6}]
["Alexandre Dias de Oliveira ",1919092,24293,"Médico ","EBSERH",24,null,null,"M15","M15",null,null,null,"M15","M15","M15","M15",null,null,null,"M15","M15","M15","M15",null,null,null,"M15",null,"M15","M15",null,null,null,"M15","M15","M15",{"$f":"IF(A22<>\"\",IFERROR(VLOOKUP(G22,Tabelas!B:D,3,0),0),\"\")","v":0},{"$f":"IF(A22<>\"\",IFERROR(VLOOKUP(H22,Tabelas!B:D,3,0),0),\"\")","v":0},{"$f":"IF(A22<>\"\",IFERROR(VLOOKUP(I22,Tabelas!B:D,3,0),0),\"\")","v":6},{"$f":"IF(A22<>\"\",IFERROR(VLOOKUP(J22,Tabelas!B:D,3,0),0),\"\")","v":6},{"$f":"IF(A22<>\"\",IFERROR(VLOOKUP(K26,Tabelas!B:D,3,0),0),\"\")","v":0},{"$f":"IF(A22<>\"\",IFERROR(VLOOKUP(L22,Tabelas!B:D,3,0),0),\"\")","v":0},{"$f":"IF(A22<>\"\",IFERROR(VLOOKUP(M22,Tabelas!B:D,3,0),0),\"\")","v":0},{"$f":"IF(A22<>\"\",IFERROR(VLOOKUP(N22,Tabelas!B:D,3,0),0),\"\")","v":6},{"$f":"IF(A22<>\"\",IFERROR(VLOOKUP(O22,Tabelas!B:D,3,0),0),\"\")","v":6},{"$f":"IF(A22<>\"\",IFERROR(VLOOKUP(P22,Tabelas!B:D,3,0),0),\"\")","v":6},{"$f":"IF(A22<>\"\",IFERROR(VLOOKUP(Q22,Tabelas!B:D,3,0),0),\"\")","v":6},{"$f":"IF(A22<>\"\",IFERROR(VLOOKUP(R22,Tabelas!B:D,3,0),0),\"\")","v":0},{"$f":"IF(A22<>\"\",IFERROR(VLOOKUP(S22,Tabelas!B:D,3,0),0),\"\")","v":0},{"$f":"IF(A22<>\"\",IFERROR(VLOOKUP(T22,Tabelas!B:D,3,0),0),\"\")","v":0},{"$f":"IF(A22<>\"\",IFERROR(VLOOKUP(U22,Tabelas!B:D,3,0),0),\"\")","v":6},{"$f":"IF(A22<>\"\",IFERROR(VLOOKUP(V22,Tabelas!B:D,3,0),0),\"\")","v":6},{"$f":"IF(A22<>\"\",IFERROR(VLOOKUP(W22,Tabelas!B:D,3,0),0),\"\")","v":6},{"$f":"IF(A22<>\"\",IFERROR(VLOOKUP(X22,Tabelas!B:D,3,0),0),\"\")","v":6},{"$f":"IF(A22<>\"\",IFERROR(VLOOKUP(Y22,Tabelas!B:D,3,0),0),\"\")","v":0},{"$f":"IF(A22<>\"\",IFERROR(VLOOKUP(Z22,Tabelas!B:D,3,0),0),\"\")","v":0},{"$f":"IF(A22<>\"\",IFERROR(VLOOKUP(AA22,Tabelas!B:D,3,0),0),\"\")","v":0},{"$f":"IF(A22<>\"\",IFERROR(VLOOKUP(AB22,Tabelas!B:D,3,0),0),\"\")","v":6},{"$f":"IF(A22<>\"\",IFERROR(VLOOKUP(AC22,Tabelas!B:D,3,0),0),\"\")","v":0},{"$f":"IF(A22<>\"\",IFERROR(VLOOKUP(AD22,Tabelas!B:D,3,0),0),\"\")","v":6},{"$f":"IF(A22<>\"\",IFERROR(VLOOKUP(AE22,Tabelas!B:D,3,0),0),\"\")","v":6},{"$f":"IF(A22<>\"\",IFERROR(VLOOKUP(AF22,Tabelas!B:D,3,0),0),\"\")","v":0},{"$f":"IF(A22<>\"\",IFERROR(VLOOKUP(AG22,Tabelas!B:D,3,0),0),\"\")","v":0},{"$f":"IF(A22<>\"\",IFERROR(VLOOKUP(AH22,Tabelas!B:D,3,0),0),\"\")","v":0},{"$f":"IF(A22<>\"\",IFERROR(VLOOKUP(AI22,Tabelas!B:D,3,0),0),\"\")","v":6},{"$f":"IF(A22<>\"\",IFERROR(VLOOKUP(AJ22,Tabelas!B:D,3,0),0),\"\")","v":6},{"$f":"IF(A22<>\"\",IFERROR(VLOOKUP(AK22,Tabelas!B:D,3,0),0),\"\")","v":6}]
["Thais Rossoni Weber da Silva ",2676080,14819,"Médico","RJU",20,null,null,null,null,null,null,"D6","T15",null,null,null,null,null,"D6","T15",null,null,null,null,null,"D6","T15",null,null,null,null,null,"D6","T15",null,null,{"$f":"IF(A23<>\"\",IFERROR(VLOOKUP(G23,Tabelas!B:D,3,0),0),\"\")","v":0},{"$f":"IF(A23<>\"\",IFERROR(VLOOKUP(H23,Tabelas!B:D,3,0),0),\"\")","v":0},{"$f":"IF(A23<>\"\",IFERROR(VLOOKUP(I23,Tabelas!B:D,3,0),0),\"\")","v":0},{"$f":"IF(A23<>\"\",IFERROR(VLOOKUP(J23,Tabelas!B:D,3,0),0),\"\")","v":0},{"$f":"IF(A23<>\"\",IFERROR(VLOOKUP(K27,Tabelas!B:D,3,0),0),\"\")","v":0},{"$f":"IF(A23<>\"\",IFERROR(VLOOKUP(L23,Tabelas!B:D,3,0),0),\"\")","v":0},{"$f":"IF(A23<>\"\",IFERROR(VLOOKUP(M23,Tabelas!B:D,3,0),0),\"\")","v":12},{"$f":"IF(A23<>\"\",IFERROR(VLOOKUP(N23,Tabelas!B:D,3,0),0),\"\")","v":6},{"$f":"IF(A23<>\"\",IFERROR(VLOOKUP(O23,Tabelas!B:D,3,0),0),\"\")","v":0},{"$f":"IF(A23<>\"\",IFERROR(VLOOKUP(P23,Tabelas!B:D,3,0),0),\"\")","v":0},{"$f":"IF(A23<>\"\",IFERROR(VLOOKUP(Q23,Tabelas!B:D,3,0),0),\"\")","v":0},{"$f":"IF(A23<>\"\",IFERROR(VLOOKUP(R23,Tabelas!B:D,3,0),0),\"\")","v":0},{"$f":"IF(A23<>\"\",IFERROR(VLOOKUP(S23,Tabelas!B:D,3,0),0),\"\")","v":0},{"$f":"IF(A23<>\"\",IFERROR(VLOOKUP(T23,Tabelas!B:D,3,0),0),\"\")","v":12},{"$f":"IF(A23<>\"\",IFERROR(VLOOKUP(U23,Tabelas!B:D,3,0),0),\"\")","v":6},{"$f":"IF(A23<>\"\",IFERROR(VLOOKUP(V23,Tabelas!B:D,3,0),0),\"\")","v":0},{"$f":"IF(A23<>\"\",IFERROR(VLOOKUP(W23,Tabelas!B:D,3,0),0),\"\")","v":0},{"$f":"IF(A23<>\"\",IFERROR(VLOOKUP(X23,Tabelas!B:D,3,0),0),\"\")","v":0},{"$f":"IF(A23<>\"\",IFERROR(VLOOKUP(Y23,Tabelas!B:D,3,0),0),\"\")","v":0},{"$f":"IF(A23<>\"\",IFERROR(VLOOKUP(Z23,Tabelas!B:D,3,0),0),\"\")","v":0},{"$f":"IF(A23<>\"\",IFERROR(VLOOKUP(AA23,Tabelas!B:D,3,0),0),\"\")","v":12},{"$f":"IF(A23<>\"\",IFERROR(VLOOKUP(AB23,Tabelas!B:D,3,0),0),\"\")","v":6},{"$f":"IF(A23<>\"\",IFERROR(VLOOKUP(AC23,Tabelas!B:D,3,0),0),\"\")","v":0},{"$f":"IF(A23<>\"\",IFERROR(VLOOKUP(AD23,Tabelas!B:D,3,0),0),\"\")","v":0},{"$f":"IF(A23<>\"\",IFERROR(VLOOKUP(AE23,Tabelas!B:D,3,0),0),\"\")","v":0},{"$f":"IF(A23<>\"\",IFERROR(VLOOKUP(AF23,Tabelas!B:D,3,0),0),\"\")","v":0},{"$f":"IF(A23<>\"\",IFERROR(VLOOKUP(AG23,Tabelas!B:D,3,0),0),\"\")","v":0},{"$f":"IF(A23<>\"\",IFERROR(VLOOKUP(AH23,Tabelas!B:D,3,0),0),\"\")","v":12},{"$f":"IF(A23<>\"\",IFERROR(VLOOKUP(AI23,Tabelas!B:D,3,0),0),\"\")","v":6},{"$f":"IF(A23<>\"\",IFERROR(VLOOKUP(AJ23,Tabelas!B:D,3,0),0),\"\")","v":0},{"$f":"IF(A23<>\"\",IFERROR(VLOOKUP(AK23,Tabelas!B:D,3,0),0),\"\")","v":0}]
["Gabriel Dotta",1212525,17906,"Médico","EBSERH",24,null,null,"M15","M15",null,null,null,"M15","M15","M15","M15",null,null,null,"M15","M15","M15","M15",null,null,null,"M15",null,"M15","M15",null,null,null,"M15","M15","M15",{"$f":"IF(A24<>\"\",IFERROR(VLOOKUP(G24,Tabelas!B:D,3,0),0),\"\")","v":0},{"$f":"IF(A24<>\"\",IFERROR(VLOOKUP(H24,Tabelas!B:D,3,0),0),\"\")","v":0},{"$f":"IF(A24<>\"\",IFERROR(VLOOKUP(I24,Tabelas!B:D,3,0),0),\"\")","v":6},{"$f":"IF(A24<>\"\",IFERROR(VLOOKUP(J24,Tabelas!B:D,3,0),0),\"\")","v":6},{"$f":"IF(A24<>\"\",IFERROR(VLOOKUP(K28,Tabelas!B:D,3,0),0),\"\")","v":0},{"$f":"IF(A24<>\"\",IFERROR(VLOOKUP(L24,Tabelas!B:D,3,0),0),\"\")","v":0},{"$f":"IF(A24<>\"\",IFERROR(VLOOKUP(M24,Tabelas!B:D,3,0),0),\"\")","v":0},{"$f":"IF(A24<>\"\",IFERROR(VLOOKUP(N24,Tabelas!B:D,3,0),0),\"\")","v":6},{"$f":"IF(A24<>\"\",IFERROR(VLOOKUP(O24,Tabelas!B:D,3,0),0),\"\")","v":6},{"$f":"IF(A24<>\"\",IFERROR(VLOOKUP(P24,Tabelas!B:D,3,0),0),\"\")","v":6},{"$f":"IF(A24<>\"\",IFERROR(VLOOKUP(Q24,Tabelas!B:D,3,0),0),\"\")","v":6},{"$f":"IF(A24<>\"\",IFERROR(VLOOKUP(R24,Tabelas!B:D,3,0),0),\"\")","v":0},{"$f":"IF(A24<>\"\",IFERROR(VLOOKUP(S24,Tabelas!B:D,3,0),0),\"\")","v":0},{"$f":"IF(A24<>\"\",IFERROR(VLOOKUP(T24,Tabelas!B:D,3,0),0),\"\")","v":0},{"$f":"IF(A24<>\"\",IFERROR(VLOOKUP(U24,Tabelas!B:D,3,0),0),\"\")","v":6},{"$f":"IF(A24<>\"\",IFERROR(VLOOKUP(V24,Tabelas!B:D,3,0),0),\"\")","v":6},{"$f":"IF(A24<>\"\",IFERROR(VLOOKUP(W24,Tabelas!B:D,3,0),0),\"\")","v":6},{"$f":"IF(A24<>\"\",IFERROR(VLOOKUP(X24,Tabelas!B:D,3,0),0),\"\")","v":6},{"$f":"IF(A24<>\"\",IFERROR(VLOOKUP(Y24,Tabelas!B:D,3,0),0),\"\")","v":0},{"$f":"IF(A24<>\"\",IFERROR(VLOOKUP(Z24,Tabelas!B:D,3,0),0),\"\")","v":0},{"$f":"IF(A24<>\"\",IFERROR(VLOOKUP(AA24,Tabelas!B:D,3,0),0),\"\")","v":0},{"$f":"IF(A24<>\"\",IFERROR(VLOOKUP(AB24,Tabelas!B:D,3,0),0),\"\")","v":6},{"$f":"IF(A24<>\"\",IFERROR(VLOOKUP(AC24,Tabelas!B:D,3,0),0),\"\")","v":0},{"$f":"IF(A24<>\"\",IFERROR(VLOOKUP(AD24,Tabelas!B:D,3,0),0),\"\")","v":6},{"$f":"IF(A24<>\"\",IFERROR(VLOOKUP(AE24,Tabelas!B:D,3,0),0),\"\")","v":6},{"$f":"IF(A24<>\"\",IFERROR(VLOOKUP(AF24,Tabelas!B:D,3,0),0),\"\")","v":0},{"$f":"IF(A24<>\"\",IFERROR(VLOOKUP(AG24,Tabelas!B:D,3,0),0),\"\")","v":0},{"$f":"IF(A24<>\"\",IFERROR(VLOOKUP(AH24,Tabelas!B:D,3,0),0),\"\")","v":0},{"$f":"IF(A24<>\"\",IFERROR(VLOOKUP(AI24,Tabelas!B:D,3,0),0),\"\")","v":6},{"$f":"IF(A24<>\"\",IFERROR(VLOOKUP(AJ24,Tabelas!B:D,3,0),0),\"\")","v":6},{"$f":"IF(A24<>\"\",IFERROR(VLOOKUP(AK24,Tabelas!B:D,3,0),0),\"\")","v":6}]
["Ademilson Rogerio Ferreira",1088725,16287,"Médico","EBSERH",24,null,null,null,"M15",null,null,"D6",null,"M15",null,"M15",null,null,"D6",null,"M15",null,"M15",null,null,"D6",null,null,null,"M15",null,null,"D6",null,"M15",null,{"$f":"IF(A25<>\"\",IFERROR(VLOOKUP(G25,Tabelas!B:D,3,0),0),\"\")","v":0},{"$f":"IF(A25<>\"\",IFERROR(VLOOKUP(H25,Tabelas!B:D,3,0),0),\"\")","v":0},{"$f":"IF(A25<>\"\",IFERROR(VLOOKUP(I25,Tabelas!B:D,3,0),0),\"\")","v":0},{"$f":"IF(A25<>\"\",IFERROR(VLOOKUP(J25,Tabelas!B:D,3,0),0),\"\")","v":6},{"$f":"IF(A25<>\"\",IFERROR(VLOOKUP(K29,Tabelas!B:D,3,0),0),\"\")","v":0},{"$f":"IF(A25<>\"\",IFERROR(VLOOKUP(L25,Tabelas!B:D,3,0),0),\"\")","v":0},{"$f":"IF(A25<>\"\",IFERROR(VLOOKUP(M25,Tabelas!B:D,3,0),0),\"\")","v":12},{"$f":"IF(A25<>\"\",IFERROR(VLOOKUP(N25,Tabelas!B:D,3,0),0),\"\")","v":0},{"$f":"IF(A25<>\"\",IFERROR(VLOOKUP(O25,Tabelas!B:D,3,0),0),\"\")","v":6},{"$f":"IF(A25<>\"\",IFERROR(VLOOKUP(P25,Tabelas!B:D,3,0),0),\"\")","v":0},{"$f":"IF(A25<>\"\",IFERROR(VLOOKUP(Q25,Tabelas!B:D,3,0),0),\"\")","v":6},{"$f":"IF(A25<>\"\",IFERROR(VLOOKUP(R25,Tabelas!B:D,3,0),0),\"\")","v":0},{"$f":"IF(A25<>\"\",IFERROR(VLOOKUP(S25,Tabelas!B:D,3,0),0),\"\")","v":0},{"$f":"IF(A25<>\"\",IFERROR(VLOOKUP(T25,Tabelas!B:D,3,0),0),\"\")","v":12},{"$f":"IF(A25<>\"\",IFERROR(VLOOKUP(U25,Tabelas!B:D,3,0),0),\"\")","v":0},{"$f":"IF(A25<>\"\",IFERROR(VLOOKUP(V25,Tabelas!B:D,3,0),0),\"\")","v":6},{"$f":"IF(A25<>\"\",IFERROR(VLOOKUP(W25,Tabelas!B:D,3,0),0),\"\")","v":0},{"$f":"IF(A25<>\"\",IFERROR(VLOOKUP(X25,Tabelas!B:D,3,0),0),\"\")","v":6},{"$f":"IF(A25<>\"\",IFERROR(VLOOKUP(Y25,Tabelas!B:D,3,0),0),\"\")","v":0},{"$f":"IF(A25<>\"\",IFERROR(VLOOKUP(Z25,Tabelas!B:D,3,0),0),\"\")","v":0},{"$f":"IF(A25<>\"\",IFERROR(VLOOKUP(AA25,Tabelas!B:D,3,0),0),\"\")","v":12},{"$f":"IF(A25<>\"\",IFERROR(VLOOKUP(AB25,Tabelas!B:D,3,0),0),\"\")","v":0},{"$f":"IF(A25<>\"\",IFERROR(VLOOKUP(AC25,Tabelas!B:D,3,0),0),\"\")","v":0},{"$f":"IF(A25<>\"\",IFERROR(VLOOKUP(AD25,Tabelas!B:D,3,0),0),\"\")","v":0},{"$f":"IF(A25<>\"\",IFERROR(VLOOKUP(AE25,Tabelas!B:D,3,0),0),\"\")","v":6},{"$f":"IF(A25<>\"\",IFERROR(VLOOKUP(AF25,Tabelas!B:D,3,0),0),\"\")","v":0},{"$f":"IF(A25<>\"\",IFERROR(VLOOKUP(AG25,Tabelas!B:D,3,0),0),\"\")","v":0},{"$f":"IF(A25<>\"\",IFERROR(VLOOKUP(AH25,Tabelas!B:D,3,0),0),\"\")","v":12},{"$f":"IF(A25<>\"\",IFERROR(VLOOKUP(AI25,Tabelas!B:D,3,0),0),\"\")","v":0},{"$f":"IF(A25<>\"\",IFERROR(VLOOKUP(AJ25,Tabelas!B:D,3,0),0),\"\")","v":6},{"$f":"IF(A25<>\"\",IFERROR(VLOOKUP(AK25,Tabelas!B:D,3,0),0),\"\")","v":0}]
["PNEUMOLOGIA ",null,null,null,null,null,null,null,null,null,null,null,null,null,null,null,null,null,null,null,null,null,null,null,null,null,null,null,null,null,null,null,null,null,null,null,null,{"$f":"IF(A26<>\"\",IFERROR(VLOOKUP(J26,Tabelas!B:D,3,0),0),\"\")","v":0},{"$f":"IF(A26<>\"\",IFERROR(VLOOKUP(K26,Tabelas!B:D,3,0),0),\"\")","v":0},{"$f":"IF(A26<>\"\",IFERROR(VLOOKUP(L26,Tabelas!B:D,3,0),0),\"\")","v":0},{"$f":"IF(A26<>\"\",IFERROR(VLOOKUP(M26,Tabelas!B:D,3,0),0),\"\")","v":0},{"$f":"IF(A26<>\"\",IFERROR(VLOOKUP(N26,Tabelas!B:D,3,0),0),\"\")","v":0},{"$f":"IF(A26<>\"\",IFERROR(VLOOKUP(O26,Tabelas!B:D,3,0),0),\"\")","v":0},{"$f":"IF(A26<>\"\",IFERROR(VLOOKUP(P26,Tabelas!B:D,3,0),0),\"\")","v":0},{"$f":"IF(A26<>\"\",IFERROR(VLOOKUP(Q26,Tabelas!B:D,3,0),0),\"\")","v":0},{"$f":"IF(A26<>\"\",IFERROR(VLOOKUP(R26,Tabelas!B:D,3,0),0),\"\")","v":0},{"$f":"IF(A26<>\"\",IFERROR(VLOOKUP(S26,Tabelas!B:D,3,0),0),\"\")","v":0},{"$f":"IF(A26<>\"\",IFERROR(VLOOKUP(T26,Tabelas!B:D,3,0),0),\"\")","v":0},{"$f":"IF(A26<>\"\",IFERROR(VLOOKUP(U26,Tabelas!B:D,3,0),0),\"\")","v":0},{"$f":"IF(A26<>\"\",IFERROR(VLOOKUP(V26,Tabelas!B:D,3,0),0),\"\")","v":0},{"$f":"IF(A26<>\"\",IFERROR(VLOOKUP(W26,Tabelas!B:D,3,0),0),\"\")","v":0},{"$f":"IF(A26<>\"\",IFERROR(VLOOKUP(X26,Tabelas!B:D,3,0),0),\"\")","v":0},{"$f":"IF(A26<>\"\",IFERROR(VLOOKUP(Y26,Tabelas!B:D,3,0),0),\"\")","v":0},{"$f":"IF(A26<>\"\",IFERROR(VLOOKUP(Z26,Tabelas!B:D,3,0),0),\"\")","v":0},{"$f":"IF(A26<>\"\",IFERROR(VLOOKUP(AA26,Tabelas!B:D,3,0),0),\"\")","v":0},{"$f":"IF(A26<>\"\",IFERROR(VLOOKUP(AB26,Tabelas!B:D,3,0),0),\"\")","v":0},{"$f":"IF(A26<>\"\",IFERROR(VLOOKUP(AC26,Tabelas!B:D,3,0),0),\"\")","v":0},{"$f":"IF(A26<>\"\",IFERROR(VLOOKUP(AD26,Tabelas!B:D,3,0),0),\"\")","v":0},{"$f":"IF(A26<>\"\",IFERROR(VLOOKUP(AE26,Tabelas!B:D,3,0),0),\"\")","v":0},{"$f":"IF(A26<>\"\",IFERROR(VLOOKUP(AF26,Tabelas!B:D,3,0),0),\"\")","v":0},{"$f":"IF(A26<>\"\",IFERROR(VLOOKUP(AG26,Tabelas!B:D,3,0),0),\"\")","v":0},{"$f":"IF(A26<>\"\",IFERROR(VLOOKUP(AH26,Tabelas!B:D,3,0),0),\"\")","v":0},{"$f":"IF(A26<>\"\",IFERROR(VLOOKUP(#REF!,Tabelas!B:D,3,0),0),\"\")","v":0},{"$f":"IF(A26<>\"\",IFERROR(VLOOKUP(#REF!,Tabelas!B:D,3,0),0),\"\")","v":0},{"$f":"IF(A26<>\"\",IFERROR(VLOOKUP(#REF!,Tabelas!B:D,3,0),0),\"\")","v":0},{"$f":"IF(AND(A26<>\"\",E26=\"Ebserh\"),SUM(AI26:BM26)+COUNTIF(G26:AH26,\"N*\")+COUNTIF(G26:AH26,\"DN*\"),IF(AND(A26<>\"\",E26<>\"Ebserh\"),SUM(AI26:BM26),\"\"))","v":0},{"$f":"IF(A26<>\"\",COUNTIF(G26:AH26,\"LM\")+COUNTIF(G26:AH26,\"L\")+COUNTIF(G26:AH26,\"LP\"),\"\")","v":0},{"$f":"IF(A26<>\"\",COUNTIF(G26:AH26,\"AB*\"),\"\")","v":0}]
["Elaine Cristina Caon de Souza Bulsing ",2270829,15054,"Médico","RJU",40,null,null,"D6","M15",null,null,"D6","D6","D6","D6","M15",null,null,"D6","D6","D6","D6","M15",null,null,"D6","D6",null,"D6","M15",null,null,"D6","D6","D6","D6",{"$f":"IF(A27<>\"\",IFERROR(VLOOKUP(G27,Tabelas!B:D,3,0),0),\"\")","v":0},{"$f":"IF(A27<>\"\",IFERROR(VLOOKUP(H27,Tabelas!B:D,3,0),0),\"\")","v":0},{"$f":"IF(A27<>\"\",IFERROR(VLOOKUP(I27,Tabelas!B:D,3,0),0),\"\")","v":12},{"$f":"IF(A27<>\"\",IFERROR(VLOOKUP(J27,Tabelas!B:D,3,0),0),\"\")","v":6},{"$f":"IF(A27<>\"\",IFERROR(VLOOKUP(K31,Tabelas!B:D,3,0),0),\"\")","v":0},{"$f":"IF(A27<>\"\",IFERROR(VLOOKUP(L27,Tabelas!B:D,3,0),0),\"\")","v":0},{"$f":"IF(A27<>\"\",IFERROR(VLOOKUP(M27,Tabelas!B:D,3,0),0),\"\")","v":12},{"$f":"IF(A27<>\"\",IFERROR(VLOOKUP(N27,Tabelas!B:D,3,0),0),\"\")","v":12},{"$f":"IF(A27<>\"\",IFERROR(VLOOKUP(O27,Tabelas!B:D,3,0),0),\"\")","v":12},{"$f":"IF(A27<>\"\",IFERROR(VLOOKUP(P27,Tabelas!B:D,3,0),0),\"\")","v":12},{"$f":"IF(A27<>\"\",IFERROR(VLOOKUP(Q27,Tabelas!B:D,3,0),0),\"\")","v":6},{"$f":"IF(A27<>\"\",IFERROR(VLOOKUP(R27,Tabelas!B:D,3,0),0),\"\")","v":0},{"$f":"IF(A27<>\"\",IFERROR(VLOOKUP(S27,Tabelas!B:D,3,0),0),\"\")","v":0},{"$f":"IF(A27<>\"\",IFERROR(VLOOKUP(T27,Tabelas!B:D,3,0),0),\"\")","v":12},{"$f":"IF(A27<>\"\",IFERROR(VLOOKUP(U27,Tabelas!B:D,3,0),0),\"\")","v":12},{"$f":"IF(A27<>\"\",IFERROR(VLOOKUP(V27,Tabelas!B:D,3,0),0),\"\")","v":12},{"$f":"IF(A27<>\"\",IFERROR(VLOOKUP(W27,Tabelas!B:D,3,0),0),\"\")","v":12},{"$f":"IF(A27<>\"\",IFERROR(VLOOKUP(X27,Tabelas!B:D,3,0),0),\"\")","v":6},{"$f":"IF(A27<>\"\",IFERROR(VLOOKUP(Y27,Tabelas!B:D,3,0),0),\"\")","v":0},{"$f":"IF(A27<>\"\",IFERROR(VLOOKUP(Z27,Tabelas!B:D,3,0),0),\"\")","v":0},{"$f":"IF(A27<>\"\",IFERROR(VLOOKUP(AA27,Tabelas!B:D,3,0),0),\"\")","v":12},{"$f":"IF(A27<>\"\",IFERROR(VLOOKUP(AB27,Tabelas!B:D,3,0),0),\"\")","v":12},{"$f":"IF(A27<>\"\",IFERROR(VLOOKUP(AC27,Tabelas!B:D,3,0),0),\"\")","v":0},{"$f":"IF(A27<>\"\",IFERROR(VLOOKUP(AD27,Tabelas!B:D,3,0),0),\"\")","v":12},{"$f":"IF(A27<>\"\",IFERROR(VLOOKUP(AE27,Tabelas!B:D,3,0),0),\"\")","v":6},{"$f":"IF(A27<>\"\",IFERROR(VLOOKUP(AF27,Tabelas!B:D,3,0),0),\"\")","v":0},{"$f":"IF(A27<>\"\",IFERROR(VLOOKUP(AG27,Tabelas!B:D,3,0),0),\"\")","v":0},{"$f":"IF(A27<>\"\",IFERROR(VLOOKUP(AH27,Tabelas!B:D,3,0),0),\"\")","v":12},{"$f":"IF(A27<>\"\",IFERROR(VLOOKUP(AI27,Tabelas!B:D,3,0),0),\"\")","v":12},{"$f":"IF(A27<>\"\",IFERROR(VLOOKUP(AJ27,Tabelas!B:D,3,0),0),\"\")","v":12},{"$f":"IF(A27<>\"\",IFERROR(VLOOKUP(AK27,Tabelas!B:D,3,0),0),\"\")","v":12}]
["Roger Pirath Rodrigues ",1440902,10218,"Médico","RJU",20,null,null,"T15","M15",null,null,"M15","M15","M15","T15","M15",null,null,"M15","M15","M15","T15","M15",null,null,"M15","M15",null,"T15","M15",null,null,"M15","M15","M15","T15",{"$f":"IF(A28<>\"\",IFERROR(VLOOKUP(G28,Tabelas!B:D,3,0),0),\"\")","v":0},{"$f":"IF(A28<>\"\",IFERROR(VLOOKUP(H28,Tabelas!B:D,3,0),0),\"\")","v":0},{"$f":"IF(A28<>\"\",IFERROR(VLOOKUP(I28,Tabelas!B:D,3,0),0),\"\")","v":6},{"$f":"IF(A28<>\"\",IFERROR(VLOOKUP(J28,Tabelas!B:D,3,0),0),\"\")","v":6},{"$f":"IF(A28<>\"\",IFERROR(VLOOKUP(#REF!,Tabelas!B:D,3,0),0),\"\")","v":0},{"$f":"IF(A28<>\"\",IFERROR(VLOOKUP(L28,Tabelas!B:D,3,0),0),\"\")","v":0},{"$f":"IF(A28<>\"\",IFERROR(VLOOKUP(M28,Tabelas!B:D,3,0),0),\"\")","v":6},{"$f":"IF(A28<>\"\",IFERROR(VLOOKUP(N28,Tabelas!B:D,3,0),0),\"\")","v":6},{"$f":"IF(A28<>\"\",IFERROR(VLOOKUP(O28,Tabelas!B:D,3,0),0),\"\")","v":6},{"$f":"IF(A28<>\"\",IFERROR(VLOOKUP(P28,Tabelas!B:D,3,0),0),\"\")","v":6},{"$f":"IF(A28<>\"\",IFERROR(VLOOKUP(Q28,Tabelas!B:D,3,0),0),\"\")","v":6},{"$f":"IF(A28<>\"\",IFERROR(VLOOKUP(R28,Tabelas!B:D,3,0),0),\"\")","v":0},{"$f":"IF(A28<>\"\",IFERROR(VLOOKUP(S28,Tabelas!B:D,3,0),0),\"\")","v":0},{"$f":"IF(A28<>\"\",IFERROR(VLOOKUP(T28,Tabelas!B:D,3,0),0),\"\")","v":6},{"$f":"IF(A28<>\"\",IFERROR(VLOOKUP(U28,Tabelas!B:D,3,0),0),\"\")","v":6},{"$f":"IF(A28<>\"\",IFERROR(VLOOKUP(V28,Tabelas!B:D,3,0),0),\"\")","v":6},{"$f":"IF(A28<>\"\",IFERROR(VLOOKUP(W28,Tabelas!B:D,3,0),0),\"\")","v":6},{"$f":"IF(A28<>\"\",IFERROR(VLOOKUP(X28,Tabelas!B:D,3,0),0),\"\")","v":6},{"$f":"IF(A28<>\"\",IFERROR(VLOOKUP(Y28,Tabelas!B:D,3,0),0),\"\")","v":0},{"$f":"IF(A28<>\"\",IFERROR(VLOOKUP(Z28,Tabelas!B:D,3,0),0),\"\")","v":0},{"$f":"IF(A28<>\"\",IFERROR(VLOOKUP(AA28,Tabelas!B:D,3,0),0),\"\")","v":6},{"$f":"IF(A28<>\"\",IFERROR(VLOOKUP(AB28,Tabelas!B:D,3,0),0),\"\")","v":6},{"$f":"IF(A28<>\"\",IFERROR(VLOOKUP(AC28,Tabelas!B:D,3,0),0),\"\")","v":0},{"$f":"IF(A28<>\"\",IFERROR(VLOOKUP(AD28,Tabelas!B:D,3,0),0),\"\")","v":6},{"$f":"IF(A28<>\"\",IFERROR(VLOOKUP(AE28,Tabelas!B:D,3,0),0),\"\")","v":6},{"$f":"IF(A28<>\"\",IFERROR(VLOOKUP(AF28,Tabelas!B:D,3,0),0),\"\")","v":0},{"$f":"IF(A28<>\"\",IFERROR(VLOOKUP(AG28,Tabelas!B:D,3,0),0),\"\")","v":0},{"$f":"IF(A28<>\"\",IFERROR(VLOOKUP(AH28,Tabelas!B:D,3,0),0),\"\")","v":6},{"$f":"IF(A28<>\"\",IFERROR(VLOOKUP(AI28,Tabelas!B:D,3,0),0),\"\")","v":6},{"$f":"IF(A28<>\"\",IFERROR(VLOOKUP(AJ28,Tabelas!B:D,3,0),0),\"\")","v":6},{"$f":"IF(A28<>\"\",IFERROR(VLOOKUP(AK28,Tabelas!B:D,3,0),0),\"\")","v":6}]
["Rosimeri Maureci da Silva ",4160231,5465,"Médico","RJU",40,null,null,"T15","M15",null,null,"D6","D6","D6","T15","M15",null,null,"D6","D6","D6","T15","M15",null,null,"D6","D6",null,"T15","M15",null,null,"D6","D6","D6","T15",{"$f":"IF(A29<>\"\",IFERROR(VLOOKUP(G29,Tabelas!B:D,3,0),0),\"\")","v":0},{"$f":"IF(A29<>\"\",IFERROR(VLOOKUP(H29,Tabelas!B:D,3,0),0),\"\")","v":0},{"$f":"IF(A29<>\"\",IFERROR(VLOOKUP(I29,Tabelas!B:D,3,0),0),\"\")","v":6},{"$f":"IF(A29<>\"\",IFERROR(VLOOKUP(J29,Tabelas!B:D,3,0),0),\"\")","v":6},{"$f":"IF(A29<>\"\",IFERROR(VLOOKUP(#REF!,Tabelas!B:D,3,0),0),\"\")","v":0},{"$f":"IF(A29<>\"\",IFERROR(VLOOKUP(L29,Tabelas!B:D,3,0),0),\"\")","v":0},{"$f":"IF(A29<>\"\",IFERROR(VLOOKUP(M29,Tabelas!B:D,3,0),0),\"\")","v":12},{"$f":"IF(A29<>\"\",IFERROR(VLOOKUP(N29,Tabelas!B:D,3,0),0),\"\")","v":12},{"$f":"IF(A29<>\"\",IFERROR(VLOOKUP(O29,Tabelas!B:D,3,0),0),\"\")","v":12},{"$f":"IF(A29<>\"\",IFERROR(VLOOKUP(P29,Tabelas!B:D,3,0),0),\"\")","v":6},{"$f":"IF(A29<>\"\",IFERROR(VLOOKUP(Q29,Tabelas!B:D,3,0),0),\"\")","v":6},{"$f":"IF(A29<>\"\",IFERROR(VLOOKUP(R29,Tabelas!B:D,3,0),0),\"\")","v":0},{"$f":"IF(A29<>\"\",IFERROR(VLOOKUP(S29,Tabelas!B:D,3,0),0),\"\")","v":0},{"$f":"IF(A29<>\"\",IFERROR(VLOOKUP(T29,Tabelas!B:D,3,0),0),\"\")","v":12},{"$f":"IF(A29<>\"\",IFERROR(VLOOKUP(U29,Tabelas!B:D,3,0),0),\"\")","v":12},{"$f":"IF(A29<>\"\",IFERROR(VLOOKUP(V29,Tabelas!B:D,3,0),0),\"\")","v":12},{"$f":"IF(A29<>\"\",IFERROR(VLOOKUP(W29,Tabelas!B:D,3,0),0),\"\")","v":6},{"$f":"IF(A29<>\"\",IFERROR(VLOOKUP(X29,Tabelas!B:D,3,0),0),\"\")","v":6},{"$f":"IF(A29<>\"\",IFERROR(VLOOKUP(Y29,Tabelas!B:D,3,0),0),\"\")","v":0},{"$f":"IF(A29<>\"\",IFERROR(VLOOKUP(Z29,Tabelas!B:D,3,0),0),\"\")","v":0},{"$f":"IF(A29<>\"\",IFERROR(VLOOKUP(AA29,Tabelas!B:D,3,0),0),\"\")","v":12},{"$f":"IF(A29<>\"\",IFERROR(VLOOKUP(AB29,Tabelas!B:D,3,0),0),\"\")","v":12},{"$f":"IF(A29<>\"\",IFERROR(VLOOKUP(AC29,Tabelas!B:D,3,0),0),\"\")","v":0},{"$f":"IF(A29<>\"\",IFERROR(VLOOKUP(AD29,Tabelas!B:D,3,0),0),\"\")","v":6},{"$f":"IF(A29<>\"\",IFERROR(VLOOKUP(AE29,Tabelas!B:D,3,0),0),\"\")","v":6},{"$f":"IF(A29<>\"\",IFERROR(VLOOKUP(AF29,Tabelas!B:D,3,0),0),\"\")","v":0},{"$f":"IF(A29<>\"\",IFERROR(VLOOKUP(AG29,Tabelas!B:D,3,0),0),\"\")","v":0},{"$f":"IF(A29<>\"\",IFERROR(VLOOKUP(AH29,Tabelas!B:D,3,0),0),\"\")","v":12},{"$f":"IF(A29<>\"\",IFERROR(VLOOKUP(AI29,Tabelas!B:D,3,0),0),\"\")","v":12},{"$f":"IF(A29<>\"\",IFERROR(VLOOKUP(AJ29,Tabelas!B:D,3,0),0),\"\")","v":12},{"$f":"IF(A29<>\"\",IFERROR(VLOOKUP(AK29,Tabelas!B:D,3,0),0),\"\")","v":6}]
["Manuela Brisot Felisbino",1675761,14805,"Médico","EBSERH",24,null,null,"LM","LM",null,null,"LM","LM","LM","LM","LM",null,null,"LM","LM","LM","LM","LM",null,null,"LM","LM",null,"LM","LM",null,null,"LM","M15","M15","M15",{"$f":"IF(A30<>\"\",IFERROR(VLOOKUP(G30,Tabelas!B:D,3,0),0),\"\")","v":0},{"$f":"IF(A30<>\"\",IFERROR(VLOOKUP(H30,Tabelas!B:D,3,0),0),\"\")","v":0},{"$f":"IF(A30<>\"\",IFERROR(VLOOKUP(I30,Tabelas!B:D,3,0),0),\"\")","v":0},{"$f":"IF(A30<>\"\",IFERROR(VLOOKUP(J30,Tabelas!B:D,3,0),0),\"\")","v":0},{"$f":"IF(A30<>\"\",IFERROR(VLOOKUP(#REF!,Tabelas!B:D,3,0),0),\"\")","v":0},{"$f":"IF(A30<>\"\",IFERROR(VLOOKUP(L30,Tabelas!B:D,3,0),0),\"\")","v":0},{"$f":"IF(A30<>\"\",IFERROR(VLOOKUP(M30,Tabelas!B:D,3,0),0),\"\")","v":0},{"$f":"IF(A30<>\"\",IFERROR(VLOOKUP(N30,Tabelas!B:D,3,0),0),\"\")","v":0},{"$f":"IF(A30<>\"\",IFERROR(VLOOKUP(O30,Tabelas!B:D,3,0),0),\"\")","v":0},{"$f":"IF(A30<>\"\",IFERROR(VLOOKUP(P30,Tabelas!B:D,3,0),0),\"\")","v":0},{"$f":"IF(A30<>\"\",IFERROR(VLOOKUP(Q30,Tabelas!B:D,3,0),0),\"\")","v":0},{"$f":"IF(A30<>\"\",IFERROR(VLOOKUP(R30,Tabelas!B:D,3,0),0),\"\")","v":0},{"$f":"IF(A30<>\"\",IFERROR(VLOOKUP(S30,Tabelas!B:D,3,0),0),\"\")","v":0},{"$f":"IF(A30<>\"\",IFERROR(VLOOKUP(T30,Tabelas!B:D,3,0),0),\"\")","v":0},{"$f":"IF(A30<>\"\",IFERROR(VLOOKUP(U30,Tabelas!B:D,3,0),0),\"\")","v":0},{"$f":"IF(A30<>\"\",IFERROR(VLOOKUP(V30,Tabelas!B:D,3,0),0),\"\")","v":0},{"$f":"IF(A30<>\"\",IFERROR(VLOOKUP(W30,Tabelas!B:D,3,0),0),\"\")","v":0},{"$f":"IF(A30<>\"\",IFERROR(VLOOKUP(X30,Tabelas!B:D,3,0),0),\"\")","v":0},{"$f":"IF(A30<>\"\",IFERROR(VLOOKUP(Y30,Tabelas!B:D,3,0),0),\"\")","v":0},{"$f":"IF(A30<>\"\",IFERROR(VLOOKUP(Z30,Tabelas!B:D,3,0),0),\"\")","v":0},{"$f":"IF(A30<>\"\",IFERROR(VLOOKUP(AA30,Tabelas!B:D,3,0),0),\"\")","v":0},{"$f":"IF(A30<>\"\",IFERROR(VLOOKUP(AB30,Tabelas!B:D,3,0),0),\"\")","v":0},{"$f":"IF(A30<>\"\",IFERROR(VLOOKUP(AC30,Tabelas!B:D,3,0),0),\"\")","v":0},{"$f":"IF(A30<>\"\",IFERROR(VLOOKUP(AD30,Tabelas!B:D,3,0),0),\"\")","v":0},{"$f":"IF(A30<>\"\",IFERROR(VLOOKUP(AE30,Tabelas!B:D,3,0),0),\"\")","v":0},{"$f":"IF(A30<>\"\",IFERROR(VLOOKUP(AF30,Tabelas!B:D,3,0),0),\"\")","v":0},{"$f":"IF(A30<>\"\",IFERROR(VLOOKUP(AG30,Tabelas!B:D,3,0),0),\"\")","v":0},{"$f":"IF(A30<>\"\",IFERROR(VLOOKUP(AH30,Tabelas!B:D,3,0),0),\"\")","v":0},{"$f":"IF(A30<>\"\",IFERROR(VLOOKUP(AI30,Tabelas!B:D,3,0),0),\"\")","v":6},{"$f":"IF(A30<>\"\",IFERROR(VLOOKUP(AJ30,Tabelas!B:D,3,0),0),\"\")","v":6},{"$f":"IF(A30<>\"\",IFERROR(VLOOKUP(AK30,Tabelas!B:D,3,0),0),\"\")","v":6}]
["Pablo Moritz ",2312594,6566,"Médico","RJU",20,null,null,"M15","M15",null,null,"M15","T15","M15","M15","M15",null,null,"M15","T15","M15","M15","M15",null,null,"M15","T15",null,"M15","M15",null,null,"M15","T15","M15","M15",{"$f":"IF(A31<>\"\",IFERROR(VLOOKUP(G31,Tabelas!B:D,3,0),0),\"\")","v":0},{"$f":"IF(A31<>\"\",IFERROR(VLOOKUP(H31,Tabelas!B:D,3,0),0),\"\")","v":0},{"$f":"IF(A31<>\"\",IFERROR(VLOOKUP(I31,Tabelas!B:D,3,0),0),\"\")","v":6},{"$f":"IF(A31<>\"\",IFERROR(VLOOKUP(J31,Tabelas!B:D,3,0),0),\"\")","v":6},{"$f":"IF(A31<>\"\",IFERROR(VLOOKUP(#REF!,Tabelas!B:D,3,0),0),\"\")","v":0},{"$f":"IF(A31<>\"\",IFERROR(VLOOKUP(L31,Tabelas!B:D,3,0),0),\"\")","v":0},{"$f":"IF(A31<>\"\",IFERROR(VLOOKUP(M31,Tabelas!B:D,3,0),0),\"\")","v":6},{"$f":"IF(A31<>\"\",IFERROR(VLOOKUP(N31,Tabelas!B:D,3,0),0),\"\")","v":6},{"$f":"IF(A31<>\"\",IFERROR(VLOOKUP(O31,Tabelas!B:D,3,0),0),\"\")","v":6},{"$f":"IF(A31<>\"\",IFERROR(VLOOKUP(P31,Tabelas!B:D,3,0),0),\"\")","v":6},{"$f":"IF(A31<>\"\",IFERROR(VLOOKUP(Q31,Tabelas!B:D,3,0),0),\"\")","v":6},{"$f":"IF(A31<>\"\",IFERROR(VLOOKUP(R31,Tabelas!B:D,3,0),0),\"\")","v":0},{"$f":"IF(A31<>\"\",IFERROR(VLOOKUP(S31,Tabelas!B:D,3,0),0),\"\")","v":0},{"$f":"IF(A31<>\"\",IFERROR(VLOOKUP(T31,Tabelas!B:D,3,0),0),\"\")","v":6},{"$f":"IF(A31<>\"\",IFERROR(VLOOKUP(U31,Tabelas!B:D,3,0),0),\"\")","v":6},{"$f":"IF(A31<>\"\",IFERROR(VLOOKUP(V31,Tabelas!B:D,3,0),0),\"\")","v":6},{"$f":"IF(A31<>\"\",IFERROR(VLOOKUP(W31,Tabelas!B:D,3,0),0),\"\")","v":6},{"$f":"IF(A31<>\"\",IFERROR(VLOOKUP(X31,Tabelas!B:D,3,0),0),\"\")","v":6},{"$f":"IF(A31<>\"\",IFERROR(VLOOKUP(Y31,Tabelas!B:D,3,0),0),\"\")","v":0},{"$f":"IF(A31<>\"\",IFERROR(VLOOKUP(Z31,Tabelas!B:D,3,0),0),\"\")","v":0},{"$f":"IF(A31<>\"\",IFERROR(VLOOKUP(AA31,Tabelas!B:D,3,0),0),\"\")","v":6},{"$f":"IF(A31<>\"\",IFERROR(VLOOKUP(AB31,Tabelas!B:D,3,0),0),\"\")","v":6},{"$f":"IF(A31<>\"\",IFERROR(VLOOKUP(AC31,Tabelas!B:D,3,0),0),\"\")","v":0},{"$f":"IF(A31<>\"\",IFERROR(VLOOKUP(AD31,Tabelas!B:D,3,0),0),\"\")","v":6},{"$f":"IF(A31<>\"\",IFERROR(VLOOKUP(AE31,Tabelas!B:D,3,0),0),\"\")","v":6},{"$f":"IF(A31<>\"\",IFERROR(VLOOKUP(AF31,Tabelas!B:D,3,0),0),\"\")","v":0},{"$f":"IF(A31<>\"\",IFERROR(VLOOKUP(AG31,Tabelas!B:D,3,0),0),\"\")","v":0},{"$f":"IF(A31<>\"\",IFERROR(VLOOKUP(AH31,Tabelas!B:D,3,0),0),\"\")","v":6},{"$f":"IF(A31<>\"\",IFERROR(VLOOKUP(AI31,Tabelas!B:D,3,0),0),\"\")","v":6},{"$f":"IF(A31<>\"\",IFERROR(VLOOKUP(AJ31,Tabelas!B:D,3,0),0),\"\")","v":6},{"$f":"IF(A31<>\"\",IFERROR(VLOOKUP(AK31,Tabelas!B:D,3,0),0),\"\")","v":6}]
["ENDOCRINOLOGIA ",null,null,null,null,null,null,null,null,null,null,null,null,null,null,null,null,null,null,null,null,null,null,null,null,null,null,null,null,null,null,null,null,null,null,null,null,{"$f":"IF(A32<>\"\",IFERROR(VLOOKUP(J32,Tabelas!B:D,3,0),0),\"\")","v":0},{"$f":"IF(A32<>\"\",IFERROR(VLOOKUP(K32,Tabelas!B:D,3,0),0),\"\")","v":0},{"$f":"IF(A32<>\"\",IFERROR(VLOOKUP(L32,Tabelas!B:D,3,0),0),\"\")","v":0},{"$f":"IF(A32<>\"\",IFERROR(VLOOKUP(M32,Tabelas!B:D,3,0),0),\"\")","v":0},{"$f":"IF(A32<>\"\",IFERROR(VLOOKUP(N32,Tabelas!B:D,3,0),0),\"\")","v":0},{"$f":"IF(A32<>\"\",IFERROR(VLOOKUP(O32,Tabelas!B:D,3,0),0),\"\")","v":0},{"$f":"IF(A32<>\"\",IFERROR(VLOOKUP(P32,Tabelas!B:D,3,0),0),\"\")","v":0},{"$f":"IF(A32<>\"\",IFERROR(VLOOKUP(Q32,Tabelas!B:D,3,0),0),\"\")","v":0},{"$f":"IF(A32<>\"\",IFERROR(VLOOKUP(R32,Tabelas!B:D,3,0),0),\"\")","v":0},{"$f":"IF(A32<>\"\",IFERROR(VLOOKUP(S32,Tabelas!B:D,3,0),0),\"\")","v":0},{"$f":"IF(A32<>\"\",IFERROR(VLOOKUP(T32,Tabelas!B:D,3,0),0),\"\")","v":0},{"$f":"IF(A32<>\"\",IFERROR(VLOOKUP(U32,Tabelas!B:D,3,0),0),\"\")","v":0},{"$f":"IF(A32<>\"\",IFERROR(VLOOKUP(V32,Tabelas!B:D,3,0),0),\"\")","v":0},{"$f":"IF(A32<>\"\",IFERROR(VLOOKUP(W32,Tabelas!B:D,3,0),0),\"\")","v":0},{"$f":"IF(A32<>\"\",IFERROR(VLOOKUP(X32,Tabelas!B:D,3,0),0),\"\")","v":0},{"$f":"IF(A32<>\"\",IFERROR(VLOOKUP(Y32,Tabelas!B:D,3,0),0),\"\")","v":0},{"$f":"IF(A32<>\"\",IFERROR(VLOOKUP(Z32,Tabelas!B:D,3,0),0),\"\")","v":0},{"$f":"IF(A32<>\"\",IFERROR(VLOOKUP(AA32,Tabelas!B:D,3,0),0),\"\")","v":0},{"$f":"IF(A32<>\"\",IFERROR(VLOOKUP(AB32,Tabelas!B:D,3,0),0),\"\")","v":0},{"$f":"IF(A32<>\"\",IFERROR(VLOOKUP(AC32,Tabelas!B:D,3,0),0),\"\")","v":0},{"$f":"IF(A32<>\"\",IFERROR(VLOOKUP(AD32,Tabelas!B:D,3,0),0),\"\")","v":0},{"$f":"IF(A32<>\"\",IFERROR(VLOOKUP(AE32,Tabelas!B:D,3,0),0),\"\")","v":0},{"$f":"IF(A32<>\"\",IFERROR(VLOOKUP(AF32,Tabelas!B:D,3,0),0),\"\")","v":0},{"$f":"IF(A32<>\"\",IFERROR(VLOOKUP(AG32,Tabelas!B:D,3,0),0),\"\")","v":0},{"$f":"IF(A32<>\"\",IFERROR(VLOOKUP(AH32,Tabelas!B:D,3,0),0),\"\")","v":0},{"$f":"IF(A32<>\"\",IFERROR(VLOOKUP(#REF!,Tabelas!B:D,3,0),0),\"\")","v":0},{"$f":"IF(A32<>\"\",IFERROR(VLOOKUP(#REF!,Tabelas!B:D,3,0),0),\"\")","v":0},{"$f":"IF(A32<>\"\",IFERROR(VLOOKUP(#REF!,Tabelas!B:D,3,0),0),\"\")","v":0},{"$f":"IF(AND(A32<>\"\",E32=\"Ebserh\"),SUM(AI32:BM32)+COUNTIF(G32:AH32,\"N*\")+COUNTIF(G32:AH32,\"DN*\"),IF(AND(A32<>\"\",E32<>\"Ebserh\"),SUM(AI32:BM32),\"\"))","v":0},{"$f":"IF(A32<>\"\",COUNTIF(G32:AH32,\"LM\")+COUNTIF(G32:AH32,\"L\")+COUNTIF(G32:AH32,\"LP\"),\"\")","v":0},{"$f":"IF(A32<>\"\",COUNTIF(G32:AH32,\"AB*\"),\"\")","v":0}]
["Emerson Leonildo Marques",2442492,10981,"Médico","RJU",30,null,null,"M15","T15",null,null,"M15","M15","T15","M15","T15",null,null,"M15","M15","T15","M15","T15",null,null,"M15","M15",null,"M15","T15",null,null,"M15","M15","T15","M15"]
["Giovani Colombo",1361629,6745,"Médico","RJU",30,null,null,"M15","M15",null,null,"M15","T15","M15","M15","M15",null,null,"M15","T15","M15","M15","M15",null,null,"M15","T15",null,"M15","M15",null,null,"M15","T15","M15","M15",{"$f":"IF(A34<>\"\",IFERROR(VLOOKUP(G34,Tabelas!B:D,3,0),0),\"\")","v":0},{"$f":"IF(A34<>\"\",IFERROR(VLOOKUP(H34,Tabelas!B:D,3,0),0),\"\")","v":0},{"$f":"IF(A34<>\"\",IFERROR(VLOOKUP(I34,Tabelas!B:D,3,0),0),\"\")","v":6},{"$f":"IF(A34<>\"\",IFERROR(VLOOKUP(J34,Tabelas!B:D,3,0),0),\"\")","v":6},{"$f":"IF(A34<>\"\",IFERROR(VLOOKUP(K34,Tabelas!B:D,3,0),0),\"\")","v":0},{"$f":"IF(A34<>\"\",IFERROR(VLOOKUP(L34,Tabelas!B:D,3,0),0),\"\")","v":0},{"$f":"IF(A34<>\"\",IFERROR(VLOOKUP(M34,Tabelas!B:D,3,0),0),\"\")","v":6},{"$f":"IF(A34<>\"\",IFERROR(VLOOKUP(N34,Tabelas!B:D,3,0),0),\"\")","v":6},{"$f":"IF(A34<>\"\",IFERROR(VLOOKUP(O34,Tabelas!B:D,3,0),0),\"\")","v":6},{"$f":"IF(A34<>\"\",IFERROR(VLOOKUP(P34,Tabelas!B:D,3,0),0),\"\")","v":6},{"$f":"IF(A34<>\"\",IFERROR(VLOOKUP(Q34,Tabelas!B:D,3,0),0),\"\")","v":6},{"$f":"IF(A34<>\"\",IFERROR(VLOOKUP(R34,Tabelas!B:D,3,0),0),\"\")","v":0},{"$f":"IF(A34<>\"\",IFERROR(VLOOKUP(S34,Tabelas!B:D,3,0),0),\"\")","v":0},{"$f":"IF(A34<>\"\",IFERROR(VLOOKUP(T34,Tabelas!B:D,3,0),0),\"\")","v":6},{"$f":"IF(A34<>\"\",IFERROR(VLOOKUP(U34,Tabelas!B:D,3,0),0),\"\")","v":6},{"$f":"IF(A34<>\"\",IFERROR(VLOOKUP(V34,Tabelas!B:D,3,0),0),\"\")","v":6},{"$f":"IF(A34<>\"\",IFERROR(VLOOKUP(W34,Tabelas!B:D,3,0),0),\"\")","v":6},{"$f":"IF(A34<>\"\",IFERROR(VLOOKUP(X34,Tabelas!B:D,3,0),0),\"\")","v":6},{"$f":"IF(A34<>\"\",IFERROR(VLOOKUP(Y34,Tabelas!B:D,3,0),0),\"\")","v":0},{"$f":"IF(A34<>\"\",IFERROR(VLOOKUP(Z34,Tabelas!B:D,3,0),0),\"\")","v":0},{"$f":"IF(A34<>\"\",IFERROR(VLOOKUP(AA34,Tabelas!B:D,3,0),0),\"\")","v":6},{"$f":"IF(A34<>\"\",IFERROR(VLOOKUP(AB34,Tabelas!B:D,3,0),0),\"\")","v":6},{"$f":"IF(A34<>\"\",IFERROR(VLOOKUP(AC34,Tabelas!B:D,3,0),0),\"\")","v":0},{"$f":"IF(A34<>\"\",IFERROR(VLOOKUP(AD34,Tabelas!B:D,3,0),0),\"\")","v":6},{"$f":"IF(A34<>\"\",IFERROR(VLOOKUP(AE34,Tabelas!B:D,3,0),0),\"\")","v":6},{"$f":"IF(A34<>\"\",IFERROR(VLOOKUP(AF34,Tabelas!B:D,3,0),0),\"\")","v":0},{"$f":"IF(A34<>\"\",IFERROR(VLOOKUP(AG34,Tabelas!B:D,3,0),0),\"\")","v":0},{"$f":"IF(A34<>\"\",IFERROR(VLOOKUP(AH34,Tabelas!B:D,3,0),0),\"\")","v":6},{"$f":"IF(A34<>\"\",IFERROR(VLOOKUP(AI34,Tabelas!B:D,3,0),0),\"\")","v":6},{"$f":"IF(A34<>\"\",IFERROR(VLOOKUP(AJ34,Tabelas!B:D,3,0),0),\"\")","v":6},{"$f":"IF(A34<>\"\",IFERROR(VLOOKUP(AK34,Tabelas!B:D,3,0),0),\"\")","v":6}]
["Marcelo Ronsoni ",3603274,16049,"Médico","RJU",30,null,null,"M15","M15",null,null,"T15","M15","T15","M15","M15",null,null,"T15","M15","T15","M15","M15",null,null,"T15","M15",null,"M15","LC",null,null,"T15","M15","T15","M15"]
["Julia Michels Ferreira",2483669,11398,"Médico","RJU",20,null,null,null,null,null,null,null,"D6","D6",null,null,null,null,null,"D6","D6",null,null,null,null,null,"D6",null,null,null,null,null,null,"D6","D6"]
["Guilherme Asmar Alencar",1369108,29256,"Médico","EBSERH",24,null,null,null,"D6",null,null,"D6",null,null,null,"D6",null,null,"D6",null,null,null,"D6",null,null,"D6",null,null,null,"D6",null,null,"D6"]
["Cristina Screiber de Oliveira ",1551454,10134,"Médico","RJU",20,null,null,"T15",null,null,null,null,null,null,"T15",null,null,null,null,null,null,"T15",null,null,null,null,null,null,"T15",null,null,null,null,null,null,"T15"]
["Mariana Costa Silva Valente ",1676055,15060,"Médico","EBSERH",24,null,null,"LM",null,null,null,"LM","LM","LM","LM","LM",null,null,"LM","LM","LM","LM","LM",null,null,"LM","LM",null,"LM","LM",null,null,"LM","LM","LM","LM"]
["ALERGIA "]
["Jane da Silva",2224909,8602,"Médico","RJU",40,null,null,"D6","M15",null,null,"D6","D6","D6","D6","M15",null,null,"D6","D6","D6","D6","M15",null,null,"D6","D6",null,"D6","M15",null,null,"D6","D6","D6","D6"]
["Anne-Rose Leopoldina Wuederkehr Bau ",3050861,21324,"Médico","EBSERH",24,null,null,null,"FE",null,null,"FE","FE","FE","FE","FE",null,null,"FE","T15",null,null,"D6",null,null,"T15","T15",null,null,"D6",null,null,"T15","T15",null,null,{"$f":"IF(A42<>\"\",IFERROR(VLOOKUP(G42,Tabelas!B:D,3,0),0),\"\")","v":0},{"$f":"IF(A42<>\"\",IFERROR(VLOOKUP(H42,Tabelas!B:D,3,0),0),\"\")","v":0},{"$f":"IF(A42<>\"\",IFERROR(VLOOKUP(I42,Tabelas!B:D,3,0),0),\"\")","v":0},{"$f":"IF(A42<>\"\",IFERROR(VLOOKUP(J42,Tabelas!B:D,3,0),0),\"\")","v":0},{"$f":"IF(A42<>\"\",IFERROR(VLOOKUP(K42,Tabelas!B:D,3,0),0),\"\")","v":0},{"$f":"IF(A42<>\"\",IFERROR(VLOOKUP(L42,Tabelas!B:D,3,0),0),\"\")","v":0},{"$f":"IF(A42<>\"\",IFERROR(VLOOKUP(M42,Tabelas!B:D,3,0),0),\"\")","v":0},{"$f":"IF(A42<>\"\",IFERROR(VLOOKUP(N42,Tabelas!B:D,3,0),0),\"\")","v":0},{"$f":"IF(A42<>\"\",IFERROR(VLOOKUP(O42,Tabelas!B:D,3,0),0),\"\")","v":0},{"$f":"IF(A42<>\"\",IFERROR(VLOOKUP(P42,Tabelas!B:D,3,0),0),\"\")","v":0},{"$f":"IF(A42<>\"\",IFERROR(VLOOKUP(Q42,Tabelas!B:D,3,0),0),\"\")","v":0},{"$f":"IF(A42<>\"\",IFERROR(VLOOKUP(R42,Tabelas!B:D,3,0),0),\"\")","v":0},{"$f":"IF(A42<>\"\",IFERROR(VLOOKUP(S42,Tabelas!B:D,3,0),0),\"\")","v":0},{"$f":"IF(A42<>\"\",IFERROR(VLOOKUP(T42,Tabelas!B:D,3,0),0),\"\")","v":0},{"$f":"IF(A42<>\"\",IFERROR(VLOOKUP(U42,Tabelas!B:D,3,0),0),\"\")","v":6},{"$f":"IF(A42<>\"\",IFERROR(VLOOKUP(V42,Tabelas!B:D,3,0),0),\"\")","v":0},{"$f":"IF(A42<>\"\",IFERROR(VLOOKUP(W42,Tabelas!B:D,3,0),0),\"\")","v":0},{"$f":"IF(A42<>\"\",IFERROR(VLOOKUP(X42,Tabelas!B:D,3,0),0),\"\")","v":12},{"$f":"IF(A42<>\"\",IFERROR(VLOOKUP(Y42,Tabelas!B:D,3,0),0),\"\")","v":0},{"$f":"IF(A42<>\"\",IFERROR(VLOOKUP(Z42,Tabelas!B:D,3,0),0),\"\")","v":0},{"$f":"IF(A42<>\"\",IFERROR(VLOOKUP(AA42,Tabelas!B:D,3,0),0),\"\")","v":6},{"$f":"IF(A42<>\"\",IFERROR(VLOOKUP(AB42,Tabelas!B:D,3,0),0),\"\")","v":6},{"$f":"IF(A42<>\"\",IFERROR(VLOOKUP(AC42,Tabelas!B:D,3,0),0),\"\")","v":0},{"$f":"IF(A42<>\"\",IFERROR(VLOOKUP(AD42,Tabelas!B:D,3,0),0),\"\")","v":0},{"$f":"IF(A42<>\"\",IFERROR(VLOOKUP(AE42,Tabelas!B:D,3,0),0),\"\")","v":12},{"$f":"IF(A42<>\"\",IFERROR(VLOOKUP(AF42,Tabelas!B:D,3,0),0),\"\")","v":0},{"$f":"IF(A42<>\"\",IFERROR(VLOOKUP(AG42,Tabelas!B:D,3,0),0),\"\")","v":0},{"$f":"IF(A42<>\"\",IFERROR(VLOOKUP(AH42,Tabelas!B:D,3,0),0),\"\")","v":6},{"$f":"IF(A42<>\"\",IFERROR(VLOOKUP(AI42,Tabelas!B:D,3,0),0),\"\")","v":6},{"$f":"IF(A42<>\"\",IFERROR(VLOOKUP(AJ42,Tabelas!B:D,3,0),0),\"\")","v":0},{"$f":"IF(A42<>\"\",IFERROR(VLOOKUP(AK42,Tabelas!B:D,3,0),0),\"\")","v":0}]
["CLINICA MÉDICA "]
["Leonardo Jonk Staub ",2604396,14283,"Médico","RJU",40,null,null,"M15","M15",null,null,"FE","FE","FE","FE","FE",null,null,"M15","M15","M15","M15","M15",null,null,"M15","M15",null,"M15","M15",null,null,"M15","M15","M15","M15"]
["Mario Octavio Thá Marques ",2083850,15051,"Médico","RJU",30,null,null,"M15","M15",null,null,"M15","M15","M15","M15","M15",null,null,"M15","M15","M15","M15","M15",null,null,"M15","M15",null,"M15","M15",null,null,"M15","M15","M15","M15"]
["REUMATOLOGIA "]
["Ivanio Alves Pereira ",278207,5081,"Médico","RJU",20,null,null,"M15","M15",null,null,"D6","T15",null,"M15","M15",null,null,"D6","T15",null,"M15","M15",null,null,"D6","T15",null,"M15","M15",null,null,"D6","T15",null,"M15"]
["Adriana Fontes Zimmermann ",1160584,4120,"Médico","RJU",20,null,null,"M15",null,null,null,"M15","M15",null,"M15",null,null,null,"FE","FE","FE","FE","FE",null,null,"M15","M15",null,"M15",null,null,null,"M15","M15",null,"M15"]
["Andressa Miozzo Soares ",1219785,19011,"Médico","EBSERH",24,null,null,"M15",null,null,null,"D6",null,"T15","M15",null,null,null,"D6",null,"T15","M15",null,null,null,"D6",null,null,"M15",null,null,null,"D6",null,"T15","M15"]
["Monique Kowalski Schmitz",3141340,10956,"Médico","EBSERH",24,null,null,"D6",null,null,null,"T15","T15",null,"D6",null,null,null,"T15","T15",null,"D6",null,null,null,"T15","T15",null,"D6",null,null,null,"T15","T15",null,"D6"]
["NEUROLOGIA "]
["Luiz Paulo de Queiroz ",2158320,3155,"Médico","RJU",20,null,"LC","M15","M15",null,null,"T15","D6",null,"M15","M15",null,null,"T15","D6",null,"M15","M15",null,null,"T15","D6",null,"M15","M15",null,null,"T15","D6",null,"M15"]
["Gisele Espíndola ",1524592,10886,"Médico","RJU",20,null,null,"M15",null,null,null,null,"T15","D6","M15",null,null,null,null,"T15","D6","M15",null,null,null,null,"T15",null,"M15",null,null,null,null,"T15","D6","M15"]
["Marcia Tatsch Cavagnollo",1922994,12168,"Médico","RJU",20,null,null,"D6","M15",null,null,null,null,"T15","D6","M15",null,null,null,null,"T15","D6","M15",null,null,null,null,null,"D6","M15",null,null,null,null,"T15","D6"]
["Adaucto Wanderley da Nobrega Jr",1111792,12419,"Médico","EBSERH",24,null,null,"M15",null,null,null,null,"M15","D6","M15",null,null,null,null,"M15","D6","M15",null,null,null,null,"M15",null,"M15",null,null,null,null,"M15","D6","M15"]
["Ricardo Goes Freitas ",1926676,18155,"Médico","EBSERH",24,null,null,"D6","D6",null,null,null,null,"D6","D6","D6",null,null,null,null,"D6","D6","D6",null,null,null,null,null,"D6","D6",null,null,null,null,"D6","D6"]
["Edson Duarte Pillotto",3265216,12158,"Médico","EBSERH",24,null,null,"M15","T15",null,null,null,null,"T15","M15","T15",null,null,null,null,"T15","M15","T15",null,null,null,null,null,"M15","T15",null,null,null,null,"T15","M15"]
["André Dias de Oliveira",1280965,1910,"Médico","EBSERH",24,null,null,"M15",null,null,null,"D6",null,"T15","M15",null,null,null,"D6",null,"T15","M15",null,null,null,"D6",null,null,"M15",null,null,null,"D6",null,"T15","M15"]
["INFECTOLOGIA "]
["Patricia de Almeida Vanny",2140466,1280,"Médico","RJU",40,null,null,"M15","M15",null,null,"M15","M15","M15","M15","M15",null,null,"M15","M15","M15","M15","M15",null,null,"M15","M15",null,"M15","M15",null,null,"M15","M15","M15","M15"]
["HOMEOPATIA ",null,null,null,null,null,null,null,null,null,null,null,null,null,null,null,null,null,null,null,null,null,null,null,null,null,null,null,null,null,null,null,null,null,{"$f":"IF(A61<>\"\",IFERROR(VLOOKUP(G61,Tabelas!B:D,3,0),0),\"\")","v":0}]
["Luis Carlos Esteves Grelle ",3133639,13438,"Médico","EBSERH",24,null,null,"D6",null,null,null,"D6","D6",null,"D6",null,null,null,"D6","D6",null,"D6",null,null,null,"D6","D6",null,"D6",null,null,null,"D6","D6",null,"D6"]
["GERIATRIA ",null,null,null,null,null,null,null,null,null,null,null,null,null,null,null,null,null,null,null,null,null,null,null,null,null,null,null,null,null,null,null,null,null,{"$f":"IF(A63<>\"\",IFERROR(VLOOKUP(G63,Tabelas!B:D,3,0),0),\"\")","v":0}]
["Rodrigo Dagostini Derech",3053154,12632,"Médico","EBSERH",24,null,null,null,"D6",null,null,"T15",null,"T15",null,"D6",null,null,"T15",null,"T15",null,"D6",null,null,"T15",null,null,null,"D6",null,null,"T15",null,"T15"]
["                  CHEFE DE UNIDADE",null,null,null,null,null,null,null,null,null,null,null,null,null,null,null,null,null,null,null,null,null,null,null,null,null,null,null,null,null,null,null,null,null,{"$f":"IF(A65<>\"\",IFERROR(VLOOKUP(G65,Tabelas!B:D,3,0),0),\"\")","v":0}]
["Luciana Bonnassis Burg ",3442495,10820,"Médico","RJU",40,null,null,"D6","D6",null,null,"D6","M15","D6","D6","D6",null,null,"D6","M15","D6","D6","D6",null,null,"D6","M15",null,"D6","D6",null,null,"D6","M15","D6","D6"]
[null,null,null,null,null,null,null,null,null,null,null,null,null,null,null,null,null,null,null,null,null,null,null,null,null,null,null,null,null,null,null,null,null,null,null,null,null,{"$f":"IF(A67<>\"\",IFERROR(VLOOKUP(G67,Tabelas!B:D,3,0),0),\"\")","v":""},{"$f":"IF(A67<>\"\",IFERROR(VLOOKUP(H67,Tabelas!B:D,3,0),0),\"\")","v":""},{"$f":"IF(A67<>\"\",IFERROR(VLOOKUP(I67,Tabelas!B:D,3,0),0),\"\")","v":""},{"$f":"IF(A67<>\"\",IFERROR(VLOOKUP(J67,Tabelas!B:D,3,0),0),\"\")","v":""},{"$f":"IF(A67<>\"\",IFERROR(VLOOKUP(K67,Tabelas!B:D,3,0),0),\"\")","v":""},{"$f":"IF(A67<>\"\",IFERROR(VLOOKUP(L67,Tabelas!B:D,3,0),0),\"\")","v":""},{"$f":"IF(A67<>\"\",IFERROR(VLOOKUP(M67,Tabelas!B:D,3,0),0),\"\")","v":""},{"$f":"IF(A67<>\"\",IFERROR(VLOOKUP(N67,Tabelas!B:D,3,0),0),\"\")","v":""},{"$f":"IF(A67<>\"\",IFERROR(VLOOKUP(O67,Tabelas!B:D,3,0),0),\"\")","v":""},{"$f":"IF(A67<>\"\",IFERROR(VLOOKUP(P67,Tabelas!B:D,3,0),0),\"\")","v":""},{"$f":"IF(A67<>\"\",IFERROR(VLOOKUP(Q67,Tabelas!B:D,3,0),0),\"\")","v":""},{"$f":"IF(A67<>\"\",IFERROR(VLOOKUP(R67,Tabelas!B:D,3,0),0),\"\")","v":""},{"$f":"IF(A67<>\"\",IFERROR(VLOOKUP(S67,Tabelas!B:D,3,0),0),\"\")","v":""},{"$f":"IF(A67<>\"\",IFERROR(VLOOKUP(T67,Tabelas!B:D,3,0),0),\"\")","v":""},{"$f":"IF(A67<>\"\",IFERROR(VLOOKUP(U67,Tabelas!B:D,3,0),0),\"\")","v":""},{"$f":"IF(A67<>\"\",IFERROR(VLOOKUP(V67,Tabelas!B:D,3,0),0),\"\")","v":""},{"$f":"IF(A67<>\"\",IFERROR(VLOOKUP(W67,Tabelas!B:D,3,0),0),\"\")","v":""},{"$f":"IF(A67<>\"\",IFERROR(VLOOKUP(X67,Tabelas!B:D,3,0),0),\"\")","v":""},{"$f":"IF(A67<>\"\",IFERROR(VLOOKUP(Y67,Tabelas!B:D,3,0),0),\"\")","v":""},{"$f":"IF(A67<>\"\",IFERROR(VLOOKUP(Z67,Tabelas!B:D,3,0),0),\"\")","v":""},{"$f":"IF(A67<>\"\",IFERROR(VLOOKUP(AA67,Tabelas!B:D,3,0),0),\"\")","v":""},{"$f":"IF(A67<>\"\",IFERROR(VLOOKUP(AB67,Tabelas!B:D,3,0),0),\"\")","v":""},{"$f":"IF(A67<>\"\",IFERROR(VLOOKUP(AC67,Tabelas!B:D,3,0),0),\"\")","v":""},{"$f":"IF(A67<>\"\",IFERROR(VLOOKUP(AD67,Tabelas!B:D,3,0),0),\"\")","v":""},{"$f":"IF(A67<>\"\",IFERROR(VLOOKUP(AE67,Tabelas!B:D,3,0),0),\"\")","v":""},{"$f":"IF(A67<>\"\",IFERROR(VLOOKUP(AF67,Tabelas!B:D,3,0),0),\"\")","v":""},{"$f":"IF(A67<>\"\",IFERROR(VLOOKUP(AG67,Tabelas!B:D,3,0),0),\"\")","v":""},{"$f":"IF(A67<>\"\",IFERROR(VLOOKUP(AH67,Tabelas!B:D,3,0),0),\"\")","v":""},{"$f":"IF(A67<>\"\",IFERROR(VLOOKUP(AI67,Tabelas!B:D,3,0),0),\"\")","v":""},{"$f":"IF(A67<>\"\",IFERROR(VLOOKUP(AJ67,Tabelas!B:D,3,0),0),\"\")","v":""},{"$f":"IF(A67<>\"\",IFERROR(VLOOKUP(AK67,Tabelas!B:D,3,0),0),\"\")","v":""}]
["Legenda:"]
["Licença Maternidade","LM","Férias",null,null,null,null,null,null,null,null,null,null,"PF","Manhã *",null,null,null,null,null,null,"M","Diurno (8 hrs) *",null,null,null,null,null,null,"MT"]
["Licença Paternidade","LP","Feriado",null,null,null,null,null,null,null,null,null,null,"AB","Tarde *",null,null,null,null,null,null,"T","Dia/ noite (24 hrs) *",null,null,null,null,null,null,"DN"]
["Licença Médica/Odontológica","L","Descanso Semanal Remunerado",null,null,null,null,null,null,null,null,null,null,"CH","Plantão Dia (12 hrs) *",null,null,null,null,null,null,"D"]
["Licença Capacitação","LC","Recesso",null,null,null,null,null,null,null,null,null,null,"AF","Plantão Noite (12 hrs) *",null,null,null,null,null,null,"N"]
[]
["OBSERVAÇÕES:"]
["* Para inserção das legendas referentes às jornadas de trabalho, verificar a Tabela 1 do Anexo do Memorando-Circular - SEI nº   25 /2018/CAP/DGP-EBSERH."]
["** Para inserção das legendas referentes aos Afastamentos previstos em lei e às Compensações de horas, verificar a Tabela 2 do Anexo do Memorando-Circular - SEI nº   25 /2018/CAP/DGP-EBSERH."]

{"sheet":"Abril","index":3,"n_rows":80,"n_cols":88,"rows_kept":80,"cut":false,"hidden":false,"merged":[[75,2,75,5],[75,6,75,12],[75,14,75,20],[73,2,73,5],[74,2,74,5],[74,6,74,12],[74,14,74,20],[73,6,73,12],[73,14,73,20],[1,0,1,36],[2,0,2,36],[3,0,3,36],[4,1,4,14],[4,17,4,28],[4,31,4,36],[5,37,5,67],[57,0,57,5],[58,0,58,5],[72,22,72,28],[73,22,73,28],[72,2,72,5],[72,6,72,12],[72,14,72,20],[56,0,56,5],[5,6,5,36]]}
[]
[]
["UEC"]
["ESCALA MENSAL DE TRABALHO"]
["DIVISÃO /SETOR/UNIDADE:","UNIDADE DE ESPECIALIDADES CLÍNICAS ",null,null,null,null,null,null,null,null,null,null,null,null,null,"MÊS:",null,"Abril",null,null,null,null,null,null,null,null,null,null,null,"ANO:",null,2022]
["UNIDADE DE CLINICA MÉDIVA HU UFSC ","SIAPE","     Registro Conselho Classe","Cargo","Vínculo","    C.H Sem","DIAS DO MÊS",null,null,null,null,null,null,null,null,null,null,null,null,null,null,null,null,null,null,null,null,null,null,null,null,null,null,null,null,null,null,"CÁLCULO DAS HORAS"]
["NOME COMPLETO ",null,null,null,null,null,1,2,3,4,5,6,7,8,9,10,11,12,13,14,15,16,17,18,19,20,21,22,23,24,25,{"$f":"IF(DAY(DATE(AF5,VLOOKUP(R5,Tabelas!M:N,2,0)+1,1)-1)>=26,26,\"\")","v":26},{"$f":"IF(DAY(DATE(AF5,VLOOKUP(R5,Tabelas!M:N,2,0)+1,1)-1)>=27,27,\"\")","v":27},{"$f":"IF(DAY(DATE(AF5,VLOOKUP(R5,Tabelas!M:N,2,0)+1,1)-1)>=28,28,\"\")","v":28},{"$f":"IF(DAY(DATE(AF5,VLOOKUP(R5,Tabelas!M:N,2,0)+1,1)-1)>=29,29,\"\")","v":29},{"$f":"IF(DAY(DATE(AF5,VLOOKUP(R5,Tabelas!M:N,2,0)+1,1)-1)>=30,30,\"\")","v":30},{"$f":"IF(DAY(DATE(AF5,VLOOKUP(R5,Tabelas!M:N,2,0)+1,1)-1)>=31,31,\"\")","v":""}]
[null,null,null,null,null,null,{"$f":"IF(G7<>\"\",IFERROR(VLOOKUP(WEEKDAY(CONCATENATE(G7,$R$5,$AF$5)),Tabelas!$I:$J,2,0),\"\"),\"\")","v":""},{"$f":"IF(H7<>\"\",IFERROR(VLOOKUP(WEEKDAY(CONCATENATE(H7,$R$5,$AF$5)),Tabelas!$I:$J,2,0),\"\"),\"\")","v":""},{"$f":"IF(I7<>\"\",IFERROR(VLOOKUP(WEEKDAY(CONCATENATE(I7,$R$5,$AF$5)),Tabelas!$I:$J,2,0),\"\"),\"\")","v":""},{"$f":"IF(J7<>\"\",IFERROR(VLOOKUP(WEEKDAY(CONCATENATE(J7,$R$5,$AF$5)),Tabelas!$I:$J,2,0),\"\"),\"\")","v":""},{"$f":"IF(K7<>\"\",IFERROR(VLOOKUP(WEEKDAY(CONCATENATE(K7,$R$5,$AF$5)),Tabelas!$I:$J,2,0),\"\"),\"\")","v":""},{"$f":"IF(L7<>\"\",IFERROR(VLOOKUP(WEEKDAY(CONCATENATE(L7,$R$5,$AF$5)),Tabelas!$I:$J,2,0),\"\"),\"\")","v":""},{"$f":"IF(M7<>\"\",IFERROR(VLOOKUP(WEEKDAY(CONCATENATE(M7,$R$5,$AF$5)),Tabelas!$I:$J,2,0),\"\"),\"\")","v":""},{"$f":"IF(N7<>\"\",IFERROR(VLOOKUP(WEEKDAY(CONCATENATE(N7,$R$5,$AF$5)),Tabelas!$I:$J,2,0),\"\"),\"\")","v":""},{"$f":"IF(O7<>\"\",IFERROR(VLOOKUP(WEEKDAY(CONCATENATE(O7,$R$5,$AF$5)),Tabelas!$I:$J,2,0),\"\"),\"\")","v":""},{"$f":"IF(P7<>\"\",IFERROR(VLOOKUP(WEEKDAY(CONCATENATE(P7,$R$5,$AF$5)),Tabelas!$I:$J,2,0),\"\"),\"\")","v":""},{"$f":"IF(Q7<>\"\",IFERROR(VLOOKUP(WEEKDAY(CONCATENATE(Q7,$R$5,$AF$5)),Tabelas!$I:$J,2,0),\"\"),\"\")","v":""},{"$f":"IF(R7<>\"\",IFERROR(VLOOKUP(WEEKDAY(CONCATENATE(R7,$R$5,$AF$5)),Tabelas!$I:$J,2,0),\"\"),\"\")","v":""},{"$f":"IF(S7<>\"\",IFERROR(VLOOKUP(WEEKDAY(CONCATENATE(S7,$R$5,$AF$5)),Tabelas!$I:$J,2,0),\"\"),\"\")","v":""},{"$f":"IF(T7<>\"\",IFERROR(VLOOKUP(WEEKDAY(CONCATENATE(T7,$R$5,$AF$5)),Tabelas!$I:$J,2,0),\"\"),\"\")","v":""},{"$f":"IF(U7<>\"\",IFERROR(VLOOKUP(WEEKDAY(CONCATENATE(U7,$R$5,$AF$5)),Tabelas!$I:$J,2,0),\"\"),\"\")","v":""},{"$f":"IF(V7<>\"\",IFERROR(VLOOKUP(WEEKDAY(CONCATENATE(V7,$R$5,$AF$5)),Tabelas!$I:$J,2,0),\"\"),\"\")","v":""},{"$f":"IF(W7<>\"\",IFERROR(VLOOKUP(WEEKDAY(CONCATENATE(W7,$R$5,$AF$5)),Tabelas!$I:$J,2,0),\"\"),\"\")","v":""},{"$f":"IF(X7<>\"\",IFERROR(VLOOKUP(WEEKDAY(CONCATENATE(X7,$R$5,$AF$5)),Tabelas!$I:$J,2,0),\"\"),\"\")","v":""},{"$f":"IF(Y7<>\"\",IFERROR(VLOOKUP(WEEKDAY(CONCATENATE(Y7,$R$5,$AF$5)),Tabelas!$I:$J,2,0),\"\"),\"\")","v":""},{"$f":"IF(Z7<>\"\",IFERROR(VLOOKUP(WEEKDAY(CONCATENATE(Z7,$R$5,$AF$5)),Tabelas!$I:$J,2,0),\"\"),\"\")","v":""},{"$f":"IF(AA7<>\"\",IFERROR(VLOOKUP(WEEKDAY(CONCATENATE(AA7,$R$5,$AF$5)),Tabelas!$I:$J,2,0),\"\"),\"\")","v":""},{"$f":"IF(AB7<>\"\",IFERROR(VLOOKUP(WEEKDAY(CONCATENATE(AB7,$R$5,$AF$5)),Tabelas!$I:$J,2,0),\"\"),\"\")","v":""},{"$f":"IF(AC7<>\"\",IFERROR(VLOOKUP(WEEKDAY(CONCATENATE(AC7,$R$5,$AF$5)),Tabelas!$I:$J,2,0),\"\"),\"\")","v":""},{"$f":"IF(AD7<>\"\",IFERROR(VLOOKUP(WEEKDAY(CONCATENATE(AD7,$R$5,$AF$5)),Tabelas!$I:$J,2,0),\"\"),\"\")","v":""},{"$f":"IF(AE7<>\"\",IFERROR(VLOOKUP(WEEKDAY(CONCATENATE(AE7,$R$5,$AF$5)),Tabelas!$I:$J,2,0),\"\"),\"\")","v":""},{"$f":"IF(AF7<>\"\",IFERROR(VLOOKUP(WEEKDAY(CONCATENATE(AF7,$R$5,$AF$5)),Tabelas!$I:$J,2,0),\"\"),\"\")","v":""},{"$f":"IF(AG7<>\"\",IFERROR(VLOOKUP(WEEKDAY(CONCATENATE(AG7,$R$5,$AF$5)),Tabelas!$I:$J,2,0),\"\"),\"\")","v":""},{"$f":"IF(AH7<>\"\",IFERROR(VLOOKUP(WEEKDAY(CONCATENATE(AH7,$R$5,$AF$5)),Tabelas!$I:$J,2,0),\"\"),\"\")","v":""},{"$f":"IF(AI7<>\"\",IFERROR(VLOOKUP(WEEKDAY(CONCATENATE(AI7,$R$5,$AF$5)),Tabelas!$I:$J,2,0),\"\"),\"\")","v":""},{"$f":"IF(AJ7<>\"\",IFERROR(VLOOKUP(WEEKDAY(CONCATENATE(AJ7,$R$5,$AF$5)),Tabelas!$I:$J,2,0),\"\"),\"\")","v":""},{"$f":"IF(AK7<>\"\",IFERROR(VLOOKUP(WEEKDAY(CONCATENATE(AK7,$R$5,$AF$5)),Tabelas!$I:$J,2,0),\"\"),\"\")","v":""},1,2,3,4,5,6,7,8,9,10,11,12,13,14,15,16,17,18,19,20,21,22,23,24,25,26,27,28,29,30,31,null,null,null,null,null,null,null,null,null,null,null,null,null,null,null,null,null,null,null,"ÉDIVA "]
["Adaucto Wanderley da Nobrega Jr",1111792,12419,"Médico","EBSERH",24,null,null,null,null,"M15","D6","M15",null,null,null,null,"M15","D6","M15","FD",null,null,null,"M15","D6","FD",null,null,null,null,"M15","D6","M15",null,null,null,{"$f":"IF(A9<>\"\",IFERROR(VLOOKUP(G9,Tabelas!B:D,3,0),0),\"\")","v":0},{"$f":"IF(A9<>\"\",IFERROR(VLOOKUP(H9,Tabelas!B:D,3,0),0),\"\")","v":0},{"$f":"IF(A9<>\"\",IFERROR(VLOOKUP(I9,Tabelas!B:D,3,0),0),\"\")","v":0},{"$f":"IF(A9<>\"\",IFERROR(VLOOKUP(J9,Tabelas!B:D,3,0),0),\"\")","v":0},{"$f":"IF(A9<>\"\",IFERROR(VLOOKUP(K9,Tabelas!B:D,3,0),0),\"\")","v":6},{"$f":"IF(A9<>\"\",IFERROR(VLOOKUP(L9,Tabelas!B:D,3,0),0),\"\")","v":12},{"$f":"IF(A9<>\"\",IFERROR(VLOOKUP(M9,Tabelas!B:D,3,0),0),\"\")","v":6},{"$f":"IF(A9<>\"\",IFERROR(VLOOKUP(N9,Tabelas!B:D,3,0),0),\"\")","v":0},{"$f":"IF(A9<>\"\",IFERROR(VLOOKUP(O9,Tabelas!B:D,3,0),0),\"\")","v":0},{"$f":"IF(A9<>\"\",IFERROR(VLOOKUP(P9,Tabelas!B:D,3,0),0),\"\")","v":0},{"$f":"IF(A9<>\"\",IFERROR(VLOOKUP(Q9,Tabelas!B:D,3,0),0),\"\")","v":0},{"$f":"IF(A9<>\"\",IFERROR(VLOOKUP(R9,Tabelas!B:D,3,0),0),\"\")","v":6},{"$f":"IF(A9<>\"\",IFERROR(VLOOKUP(S9,Tabelas!B:D,3,0),0),\"\")","v":12},{"$f":"IF(A9<>\"\",IFERROR(VLOOKUP(T9,Tabelas!B:D,3,0),0),\"\")","v":6},{"$f":"IF(A9<>\"\",IFERROR(VLOOKUP(U9,Tabelas!B:D,3,0),0),\"\")","v":0},{"$f":"IF(A9<>\"\",IFERROR(VLOOKUP(V9,Tabelas!B:D,3,0),0),\"\")","v":0},{"$f":"IF(A9<>\"\",IFERROR(VLOOKUP(W9,Tabelas!B:D,3,0),0),\"\")","v":0},{"$f":"IF(A9<>\"\",IFERROR(VLOOKUP(X9,Tabelas!B:D,3,0),0),\"\")","v":0},{"$f":"IF(A9<>\"\",IFERROR(VLOOKUP(Y9,Tabelas!B:D,3,0),0),\"\")","v":6},{"$f":"IF(A9<>\"\",IFERROR(VLOOKUP(Z9,Tabelas!B:D,3,0),0),\"\")","v":12},{"$f":"IF(A9<>\"\",IFERROR(VLOOKUP(AA9,Tabelas!B:D,3,0),0),\"\")","v":0},{"$f":"IF(A9<>\"\",IFERROR(VLOOKUP(AB9,Tabelas!B:D,3,0),0),\"\")","v":0},{"$f":"IF(A9<>\"\",IFERROR(VLOOKUP(AC9,Tabelas!B:D,3,0),0),\"\")","v":0},{"$f":"IF(A9<>\"\",IFERROR(VLOOKUP(AD9,Tabelas!B:D,3,0),0),\"\")","v":0},{"$f":"IF(A9<>\"\",IFERROR(VLOOKUP(AE9,Tabelas!B:D,3,0),0),\"\")","v":0},{"$f":"IF(A9<>\"\",IFERROR(VLOOKUP(AF9,Tabelas!B:D,3,0),0),\"\")","v":6},{"$f":"IF(A9<>\"\",IFERROR(VLOOKUP(AG9,Tabelas!B:D,3,0),0),\"\")","v":12},{"$f":"IF(A9<>\"\",IFERROR(VLOOKUP(AH9,Tabelas!B:D,3,0),0),\"\")","v":6},{"$f":"IF(A9<>\"\",IFERROR(VLOOKUP(AI9,Tabelas!B:D,3,0),0),\"\")","v":0},{"$f":"IF(A9<>\"\",IFERROR(VLOOKUP(AJ9,Tabelas!B:D,3,0),0),\"\")","v":0},{"$f":"IF(A9<>\"\",IFERROR(VLOOKUP(AK9,Tabelas!B:D,3,0),0),\"\")","v":0}]
["Ademilson Rogerio Ferreira",1088725,16287,"Médico","EBSERH",24,"M15",null,null,"D6",null,"M15",null,"M15",null,null,"D6",null,"M15",null,"FD",null,null,"D6",null,"M15","FD","M15",null,null,"D6",null,"FE","FE","FE",null,null,{"$f":"IF(A10<>\"\",IFERROR(VLOOKUP(G10,Tabelas!B:D,3,0),0),\"\")","v":6},{"$f":"IF(A10<>\"\",IFERROR(VLOOKUP(H10,Tabelas!B:D,3,0),0),\"\")","v":0},{"$f":"IF(A10<>\"\",IFERROR(VLOOKUP(I10,Tabelas!B:D,3,0),0),\"\")","v":0},{"$f":"IF(A10<>\"\",IFERROR(VLOOKUP(J10,Tabelas!B:D,3,0),0),\"\")","v":12},{"$f":"IF(A10<>\"\",IFERROR(VLOOKUP(K10,Tabelas!B:D,3,0),0),\"\")","v":0},{"$f":"IF(A10<>\"\",IFERROR(VLOOKUP(L10,Tabelas!B:D,3,0),0),\"\")","v":6},{"$f":"IF(A10<>\"\",IFERROR(VLOOKUP(M10,Tabelas!B:D,3,0),0),\"\")","v":0},{"$f":"IF(A10<>\"\",IFERROR(VLOOKUP(N10,Tabelas!B:D,3,0),0),\"\")","v":6},{"$f":"IF(A10<>\"\",IFERROR(VLOOKUP(O10,Tabelas!B:D,3,0),0),\"\")","v":0},{"$f":"IF(A10<>\"\",IFERROR(VLOOKUP(P10,Tabelas!B:D,3,0),0),\"\")","v":0},{"$f":"IF(A10<>\"\",IFERROR(VLOOKUP(Q10,Tabelas!B:D,3,0),0),\"\")","v":12},{"$f":"IF(A10<>\"\",IFERROR(VLOOKUP(R10,Tabelas!B:D,3,0),0),\"\")","v":0},{"$f":"IF(A10<>\"\",IFERROR(VLOOKUP(S10,Tabelas!B:D,3,0),0),\"\")","v":6},{"$f":"IF(A10<>\"\",IFERROR(VLOOKUP(T10,Tabelas!B:D,3,0),0),\"\")","v":0},{"$f":"IF(A10<>\"\",IFERROR(VLOOKUP(U10,Tabelas!B:D,3,0),0),\"\")","v":0},{"$f":"IF(A10<>\"\",IFERROR(VLOOKUP(V10,Tabelas!B:D,3,0),0),\"\")","v":0},{"$f":"IF(A10<>\"\",IFERROR(VLOOKUP(W10,Tabelas!B:D,3,0),0),\"\")","v":0},{"$f":"IF(A10<>\"\",IFERROR(VLOOKUP(X10,Tabelas!B:D,3,0),0),\"\")","v":12},{"$f":"IF(A10<>\"\",IFERROR(VLOOKUP(Y10,Tabelas!B:D,3,0),0),\"\")","v":0},{"$f":"IF(A10<>\"\",IFERROR(VLOOKUP(Z10,Tabelas!B:D,3,0),0),\"\")","v":6},{"$f":"IF(A10<>\"\",IFERROR(VLOOKUP(AA10,Tabelas!B:D,3,0),0),\"\")","v":0},{"$f":"IF(A10<>\"\",IFERROR(VLOOKUP(AB10,Tabelas!B:D,3,0),0),\"\")","v":6},{"$f":"IF(A10<>\"\",IFERROR(VLOOKUP(AC10,Tabelas!B:D,3,0),0),\"\")","v":0},{"$f":"IF(A10<>\"\",IFERROR(VLOOKUP(AD10,Tabelas!B:D,3,0),0),\"\")","v":0},{"$f":"IF(A10<>\"\",IFERROR(VLOOKUP(AE10,Tabelas!B:D,3,0),0),\"\")","v":12},{"$f":"IF(A10<>\"\",IFERROR(VLOOKUP(AF10,Tabelas!B:D,3,0),0),\"\")","v":0},{"$f":"IF(A10<>\"\",IFERROR(VLOOKUP(AG10,Tabelas!B:D,3,0),0),\"\")","v":0},{"$f":"IF(A10<>\"\",IFERROR(VLOOKUP(AH10,Tabelas!B:D,3,0),0),\"\")","v":0},{"$f":"IF(A10<>\"\",IFERROR(VLOOKUP(AI10,Tabelas!B:D,3,0),0),\"\")","v":0},{"$f":"IF(A10<>\"\",IFERROR(VLOOKUP(AJ10,Tabelas!B:D,3,0),0),\"\")","v":0},{"$f":"IF(A10<>\"\",IFERROR(VLOOKUP(AK10,Tabelas!B:D,3,0),0),\"\")","v":0}]
["Adriana Fontes Zimmermann ",1160584,4120,"Médico","RJU",20,null,null,null,"M15","M15",null,"M15",null,null,null,"M15","M15",null,"M15","FD",null,null,"M15","M15",null,"FD",null,null,null,"M15","M15",null,"M15",null,null,null,{"$f":"IF(A11<>\"\",IFERROR(VLOOKUP(G11,Tabelas!B:D,3,0),0),\"\")","v":0},{"$f":"IF(A11<>\"\",IFERROR(VLOOKUP(H11,Tabelas!B:D,3,0),0),\"\")","v":0},{"$f":"IF(A11<>\"\",IFERROR(VLOOKUP(I11,Tabelas!B:D,3,0),0),\"\")","v":0},{"$f":"IF(A11<>\"\",IFERROR(VLOOKUP(J11,Tabelas!B:D,3,0),0),\"\")","v":6},{"$f":"IF(A11<>\"\",IFERROR(VLOOKUP(K11,Tabelas!B:D,3,0),0),\"\")","v":6},{"$f":"IF(A11<>\"\",IFERROR(VLOOKUP(L11,Tabelas!B:D,3,0),0),\"\")","v":0},{"$f":"IF(A11<>\"\",IFERROR(VLOOKUP(M11,Tabelas!B:D,3,0),0),\"\")","v":6},{"$f":"IF(A11<>\"\",IFERROR(VLOOKUP(N11,Tabelas!B:D,3,0),0),\"\")","v":0},{"$f":"IF(A11<>\"\",IFERROR(VLOOKUP(O11,Tabelas!B:D,3,0),0),\"\")","v":0},{"$f":"IF(A11<>\"\",IFERROR(VLOOKUP(P11,Tabelas!B:D,3,0),0),\"\")","v":0},{"$f":"IF(A11<>\"\",IFERROR(VLOOKUP(Q11,Tabelas!B:D,3,0),0),\"\")","v":6},{"$f":"IF(A11<>\"\",IFERROR(VLOOKUP(R11,Tabelas!B:D,3,0),0),\"\")","v":6},{"$f":"IF(A11<>\"\",IFERROR(VLOOKUP(S11,Tabelas!B:D,3,0),0),\"\")","v":0},{"$f":"IF(A11<>\"\",IFERROR(VLOOKUP(T11,Tabelas!B:D,3,0),0),\"\")","v":6},{"$f":"IF(A11<>\"\",IFERROR(VLOOKUP(U11,Tabelas!B:D,3,0),0),\"\")","v":0},{"$f":"IF(A11<>\"\",IFERROR(VLOOKUP(V11,Tabelas!B:D,3,0),0),\"\")","v":0},{"$f":"IF(A11<>\"\",IFERROR(VLOOKUP(W11,Tabelas!B:D,3,0),0),\"\")","v":0},{"$f":"IF(A11<>\"\",IFERROR(VLOOKUP(X11,Tabelas!B:D,3,0),0),\"\")","v":6},{"$f":"IF(A11<>\"\",IFERROR(VLOOKUP(Y11,Tabelas!B:D,3,0),0),\"\")","v":6},{"$f":"IF(A11<>\"\",IFERROR(VLOOKUP(Z11,Tabelas!B:D,3,0),0),\"\")","v":0},{"$f":"IF(A11<>\"\",IFERROR(VLOOKUP(AA11,Tabelas!B:D,3,0),0),\"\")","v":0},{"$f":"IF(A11<>\"\",IFERROR(VLOOKUP(AB11,Tabelas!B:D,3,0),0),\"\")","v":0},{"$f":"IF(A11<>\"\",IFERROR(VLOOKUP(AC11,Tabelas!B:D,3,0),0),\"\")","v":0},{"$f":"IF(A11<>\"\",IFERROR(VLOOKUP(AD11,Tabelas!B:D,3,0),0),\"\")","v":0},{"$f":"IF(A11<>\"\",IFERROR(VLOOKUP(AE11,Tabelas!B:D,3,0),0),\"\")","v":6},{"$f":"IF(A11<>\"\",IFERROR(VLOOKUP(AF11,Tabelas!B:D,3,0),0),\"\")","v":6},{"$f":"IF(A11<>\"\",IFERROR(VLOOKUP(AG11,Tabelas!B:D,3,0),0),\"\")","v":0},{"$f":"IF(A11<>\"\",IFERROR(VLOOKUP(AH11,Tabelas!B:D,3,0),0),\"\")","v":6},{"$f":"IF(A11<>\"\",IFERROR(VLOOKUP(AI11,Tabelas!B:D,3,0),0),\"\")","v":0},{"$f":"IF(A11<>\"\",IFERROR(VLOOKUP(AJ11,Tabelas!B:D,3,0),0),\"\")","v":0},{"$f":"IF(A11<>\"\",IFERROR(VLOOKUP(AK11,Tabelas!B:D,3,0),0),\"\")","v":0}]
["Alexandre Dias de Oliveira ",1919092,24293,"Médico ","EBSERH",24,"M15",null,null,null,"M15","M15","M15","M15",null,null,null,"M15","M15","M15","FD",null,null,null,"FE","FE","FD","FE",null,null,"FE","FE","FE","FE","FE"]
["Alvaro Thadeu Bender",2455919,4391,"Médico","RJU",10,null,null,null,"L",null,"L",null,null,null,null,"L",null,"L",null,"FD",null,null,"L",null,"L","FD",null,null,null,"L",null,"L",null,null,null,null,{"$f":"IF(A13<>\"\",IFERROR(VLOOKUP(G13,Tabelas!B:D,3,0),0),\"\")","v":0},{"$f":"IF(A13<>\"\",IFERROR(VLOOKUP(H13,Tabelas!B:D,3,0),0),\"\")","v":0},{"$f":"IF(A13<>\"\",IFERROR(VLOOKUP(I13,Tabelas!B:D,3,0),0),\"\")","v":0},{"$f":"IF(A13<>\"\",IFERROR(VLOOKUP(J13,Tabelas!B:D,3,0),0),\"\")","v":0},{"$f":"IF(A13<>\"\",IFERROR(VLOOKUP(K13,Tabelas!B:D,3,0),0),\"\")","v":0},{"$f":"IF(A13<>\"\",IFERROR(VLOOKUP(L13,Tabelas!B:D,3,0),0),\"\")","v":0},{"$f":"IF(A13<>\"\",IFERROR(VLOOKUP(M13,Tabelas!B:D,3,0),0),\"\")","v":0},{"$f":"IF(A13<>\"\",IFERROR(VLOOKUP(N13,Tabelas!B:D,3,0),0),\"\")","v":0},{"$f":"IF(A13<>\"\",IFERROR(VLOOKUP(O13,Tabelas!B:D,3,0),0),\"\")","v":0},{"$f":"IF(A13<>\"\",IFERROR(VLOOKUP(P13,Tabelas!B:D,3,0),0),\"\")","v":0},{"$f":"IF(A13<>\"\",IFERROR(VLOOKUP(Q13,Tabelas!B:D,3,0),0),\"\")","v":0},{"$f":"IF(A13<>\"\",IFERROR(VLOOKUP(R13,Tabelas!B:D,3,0),0),\"\")","v":0},{"$f":"IF(A13<>\"\",IFERROR(VLOOKUP(S13,Tabelas!B:D,3,0),0),\"\")","v":0},{"$f":"IF(A13<>\"\",IFERROR(VLOOKUP(T13,Tabelas!B:D,3,0),0),\"\")","v":0},{"$f":"IF(A13<>\"\",IFERROR(VLOOKUP(U13,Tabelas!B:D,3,0),0),\"\")","v":0},{"$f":"IF(A13<>\"\",IFERROR(VLOOKUP(V13,Tabelas!B:D,3,0),0),\"\")","v":0},{"$f":"IF(A13<>\"\",IFERROR(VLOOKUP(W13,Tabelas!B:D,3,0),0),\"\")","v":0},{"$f":"IF(A13<>\"\",IFERROR(VLOOKUP(X13,Tabelas!B:D,3,0),0),\"\")","v":0},{"$f":"IF(A13<>\"\",IFERROR(VLOOKUP(Y13,Tabelas!B:D,3,0),0),\"\")","v":0},{"$f":"IF(A13<>\"\",IFERROR(VLOOKUP(Z13,Tabelas!B:D,3,0),0),\"\")","v":0},{"$f":"IF(A13<>\"\",IFERROR(VLOOKUP(AA13,Tabelas!B:D,3,0),0),\"\")","v":0},{"$f":"IF(A13<>\"\",IFERROR(VLOOKUP(AB13,Tabelas!B:D,3,0),0),\"\")","v":0},{"$f":"IF(A13<>\"\",IFERROR(VLOOKUP(AC13,Tabelas!B:D,3,0),0),\"\")","v":0},{"$f":"IF(A13<>\"\",IFERROR(VLOOKUP(AD13,Tabelas!B:D,3,0),0),\"\")","v":0},{"$f":"IF(A13<>\"\",IFERROR(VLOOKUP(AE13,Tabelas!B:D,3,0),0),\"\")","v":0},{"$f":"IF(A13<>\"\",IFERROR(VLOOKUP(AF13,Tabelas!B:D,3,0),0),\"\")","v":0},{"$f":"IF(A13<>\"\",IFERROR(VLOOKUP(AG13,Tabelas!B:D,3,0),0),\"\")","v":0},{"$f":"IF(A13<>\"\",IFERROR(VLOOKUP(AH13,Tabelas!B:D,3,0),0),\"\")","v":0},{"$f":"IF(A13<>\"\",IFERROR(VLOOKUP(AI13,Tabelas!B:D,3,0),0),\"\")","v":0},{"$f":"IF(A13<>\"\",IFERROR(VLOOKUP(AJ13,Tabelas!B:D,3,0),0),\"\")","v":0},{"$f":"IF(A13<>\"\",IFERROR(VLOOKUP(AK13,Tabelas!B:D,3,0),0),\"\")","v":0}]
["André Dias de Oliveira",1280965,1910,"Médico","EBSERH",24,null,null,null,"D6",null,"T15","M15",null,null,null,"D6",null,"T15","M15","FD",null,null,"D6",null,"T15","FD",null,null,null,"FE","FE","FE","FE","FE",null,null,{"$f":"IF(A14<>\"\",IFERROR(VLOOKUP(G14,Tabelas!B:D,3,0),0),\"\")","v":0},{"$f":"IF(A14<>\"\",IFERROR(VLOOKUP(H14,Tabelas!B:D,3,0),0),\"\")","v":0},{"$f":"IF(A14<>\"\",IFERROR(VLOOKUP(I14,Tabelas!B:D,3,0),0),\"\")","v":0},{"$f":"IF(A14<>\"\",IFERROR(VLOOKUP(J14,Tabelas!B:D,3,0),0),\"\")","v":12},{"$f":"IF(A14<>\"\",IFERROR(VLOOKUP(K14,Tabelas!B:D,3,0),0),\"\")","v":0},{"$f":"IF(A14<>\"\",IFERROR(VLOOKUP(L14,Tabelas!B:D,3,0),0),\"\")","v":6},{"$f":"IF(A14<>\"\",IFERROR(VLOOKUP(M14,Tabelas!B:D,3,0),0),\"\")","v":6},{"$f":"IF(A14<>\"\",IFERROR(VLOOKUP(N14,Tabelas!B:D,3,0),0),\"\")","v":0},{"$f":"IF(A14<>\"\",IFERROR(VLOOKUP(O14,Tabelas!B:D,3,0),0),\"\")","v":0},{"$f":"IF(A14<>\"\",IFERROR(VLOOKUP(P14,Tabelas!B:D,3,0),0),\"\")","v":0},{"$f":"IF(A14<>\"\",IFERROR(VLOOKUP(Q14,Tabelas!B:D,3,0),0),\"\")","v":12},{"$f":"IF(A14<>\"\",IFERROR(VLOOKUP(R14,Tabelas!B:D,3,0),0),\"\")","v":0},{"$f":"IF(A14<>\"\",IFERROR(VLOOKUP(S14,Tabelas!B:D,3,0),0),\"\")","v":6},{"$f":"IF(A14<>\"\",IFERROR(VLOOKUP(T14,Tabelas!B:D,3,0),0),\"\")","v":6},{"$f":"IF(A14<>\"\",IFERROR(VLOOKUP(U14,Tabelas!B:D,3,0),0),\"\")","v":0},{"$f":"IF(A14<>\"\",IFERROR(VLOOKUP(V14,Tabelas!B:D,3,0),0),\"\")","v":0},{"$f":"IF(A14<>\"\",IFERROR(VLOOKUP(W14,Tabelas!B:D,3,0),0),\"\")","v":0},{"$f":"IF(A14<>\"\",IFERROR(VLOOKUP(X14,Tabelas!B:D,3,0),0),\"\")","v":12},{"$f":"IF(A14<>\"\",IFERROR(VLOOKUP(Y14,Tabelas!B:D,3,0),0),\"\")","v":0},{"$f":"IF(A14<>\"\",IFERROR(VLOOKUP(Z14,Tabelas!B:D,3,0),0),\"\")","v":6},{"$f":"IF(A14<>\"\",IFERROR(VLOOKUP(AA14,Tabelas!B:D,3,0),0),\"\")","v":0},{"$f":"IF(A14<>\"\",IFERROR(VLOOKUP(AB14,Tabelas!B:D,3,0),0),\"\")","v":0},{"$f":"IF(A14<>\"\",IFERROR(VLOOKUP(AC14,Tabelas!B:D,3,0),0),\"\")","v":0},{"$f":"IF(A14<>\"\",IFERROR(VLOOKUP(AD14,Tabelas!B:D,3,0),0),\"\")","v":0},{"$f":"IF(A14<>\"\",IFERROR(VLOOKUP(AE14,Tabelas!B:D,3,0),0),\"\")","v":0},{"$f":"IF(A14<>\"\",IFERROR(VLOOKUP(AF14,Tabelas!B:D,3,0),0),\"\")","v":0},{"$f":"IF(A14<>\"\",IFERROR(VLOOKUP(AG14,Tabelas!B:D,3,0),0),\"\")","v":0},{"$f":"IF(A14<>\"\",IFERROR(VLOOKUP(AH14,Tabelas!B:D,3,0),0),\"\")","v":0},{"$f":"IF(A14<>\"\",IFERROR(VLOOKUP(AI14,Tabelas!B:D,3,0),0),\"\")","v":0},{"$f":"IF(A14<>\"\",IFERROR(VLOOKUP(AJ14,Tabelas!B:D,3,0),0),\"\")","v":0},{"$f":"IF(A14<>\"\",IFERROR(VLOOKUP(AK14,Tabelas!B:D,3,0),0),\"\")","v":0}]
["Andressa Miozzo Soares ",1219785,19011,"Médico","EBSERH",24,"M15",null,null,null,"D6",null,"M15","M15",null,null,null,"D6",null,"M15","FD",null,null,null,"D6",null,"FD","M15",null,null,null,"D6",null,"M15","M15",null,null,{"$f":"IF(A15<>\"\",IFERROR(VLOOKUP(G15,Tabelas!B:D,3,0),0),\"\")","v":6},{"$f":"IF(A15<>\"\",IFERROR(VLOOKUP(H15,Tabelas!B:D,3,0),0),\"\")","v":0},{"$f":"IF(A15<>\"\",IFERROR(VLOOKUP(I15,Tabelas!B:D,3,0),0),\"\")","v":0},{"$f":"IF(A15<>\"\",IFERROR(VLOOKUP(J15,Tabelas!B:D,3,0),0),\"\")","v":0},{"$f":"IF(A15<>\"\",IFERROR(VLOOKUP(K15,Tabelas!B:D,3,0),0),\"\")","v":12},{"$f":"IF(A15<>\"\",IFERROR(VLOOKUP(L15,Tabelas!B:D,3,0),0),\"\")","v":0},{"$f":"IF(A15<>\"\",IFERROR(VLOOKUP(M15,Tabelas!B:D,3,0),0),\"\")","v":6},{"$f":"IF(A15<>\"\",IFERROR(VLOOKUP(N15,Tabelas!B:D,3,0),0),\"\")","v":6},{"$f":"IF(A15<>\"\",IFERROR(VLOOKUP(O15,Tabelas!B:D,3,0),0),\"\")","v":0},{"$f":"IF(A15<>\"\",IFERROR(VLOOKUP(P15,Tabelas!B:D,3,0),0),\"\")","v":0},{"$f":"IF(A15<>\"\",IFERROR(VLOOKUP(Q15,Tabelas!B:D,3,0),0),\"\")","v":0},{"$f":"IF(A15<>\"\",IFERROR(VLOOKUP(R15,Tabelas!B:D,3,0),0),\"\")","v":12},{"$f":"IF(A15<>\"\",IFERROR(VLOOKUP(S15,Tabelas!B:D,3,0),0),\"\")","v":0},{"$f":"IF(A15<>\"\",IFERROR(VLOOKUP(T15,Tabelas!B:D,3,0),0),\"\")","v":6},{"$f":"IF(A15<>\"\",IFERROR(VLOOKUP(U15,Tabelas!B:D,3,0),0),\"\")","v":0},{"$f":"IF(A15<>\"\",IFERROR(VLOOKUP(V15,Tabelas!B:D,3,0),0),\"\")","v":0},{"$f":"IF(A15<>\"\",IFERROR(VLOOKUP(W15,Tabelas!B:D,3,0),0),\"\")","v":0},{"$f":"IF(A15<>\"\",IFERROR(VLOOKUP(X15,Tabelas!B:D,3,0),0),\"\")","v":0},{"$f":"IF(A15<>\"\",IFERROR(VLOOKUP(Y15,Tabelas!B:D,3,0),0),\"\")","v":12},{"$f":"IF(A15<>\"\",IFERROR(VLOOKUP(Z15,Tabelas!B:D,3,0),0),\"\")","v":0},{"$f":"IF(A15<>\"\",IFERROR(VLOOKUP(AA15,Tabelas!B:D,3,0),0),\"\")","v":0},{"$f":"IF(A15<>\"\",IFERROR(VLOOKUP(AB15,Tabelas!B:D,3,0),0),\"\")","v":6},{"$f":"IF(A15<>\"\",IFERROR(VLOOKUP(AC15,Tabelas!B:D,3,0),0),\"\")","v":0},{"$f":"IF(A15<>\"\",IFERROR(VLOOKUP(AD15,Tabelas!B:D,3,0),0),\"\")","v":0},{"$f":"IF(A15<>\"\",IFERROR(VLOOKUP(AE15,Tabelas!B:D,3,0),0),\"\")","v":0},{"$f":"IF(A15<>\"\",IFERROR(VLOOKUP(AF15,Tabelas!B:D,3,0),0),\"\")","v":12},{"$f":"IF(A15<>\"\",IFERROR(VLOOKUP(AG15,Tabelas!B:D,3,0),0),\"\")","v":0},{"$f":"IF(A15<>\"\",IFERROR(VLOOKUP(AH15,Tabelas!B:D,3,0),0),\"\")","v":6},{"$f":"IF(A15<>\"\",IFERROR(VLOOKUP(AI15,Tabelas!B:D,3,0),0),\"\")","v":6},{"$f":"IF(A15<>\"\",IFERROR(VLOOKUP(AJ15,Tabelas!B:D,3,0),0),\"\")","v":0},{"$f":"IF(A15<>\"\",IFERROR(VLOOKUP(AK15,Tabelas!B:D,3,0),0),\"\")","v":0}]
["Anne-Rose Leopoldina Wuederkehr Bau ",3050861,21324,"Médico","EBSERH",24,"D6",null,null,"T15","T15",null,null,"D6",null,null,"T15","T15",null,null,"FD",null,null,"T15","T15","LC","FD","LC","LC",null,"T15","T15",null,null,"D6",null,null,{"$f":"IF(A16<>\"\",IFERROR(VLOOKUP(G16,Tabelas!B:D,3,0),0),\"\")","v":12},{"$f":"IF(A16<>\"\",IFERROR(VLOOKUP(H16,Tabelas!B:D,3,0),0),\"\")","v":0},{"$f":"IF(A16<>\"\",IFERROR(VLOOKUP(I16,Tabelas!B:D,3,0),0),\"\")","v":0},{"$f":"IF(A16<>\"\",IFERROR(VLOOKUP(J16,Tabelas!B:D,3,0),0),\"\")","v":6},{"$f":"IF(A16<>\"\",IFERROR(VLOOKUP(K16,Tabelas!B:D,3,0),0),\"\")","v":6},{"$f":"IF(A16<>\"\",IFERROR(VLOOKUP(L16,Tabelas!B:D,3,0),0),\"\")","v":0},{"$f":"IF(A16<>\"\",IFERROR(VLOOKUP(M16,Tabelas!B:D,3,0),0),\"\")","v":0},{"$f":"IF(A16<>\"\",IFERROR(VLOOKUP(N16,Tabelas!B:D,3,0),0),\"\")","v":12},{"$f":"IF(A16<>\"\",IFERROR(VLOOKUP(O16,Tabelas!B:D,3,0),0),\"\")","v":0},{"$f":"IF(A16<>\"\",IFERROR(VLOOKUP(P16,Tabelas!B:D,3,0),0),\"\")","v":0},{"$f":"IF(A16<>\"\",IFERROR(VLOOKUP(Q16,Tabelas!B:D,3,0),0),\"\")","v":6},{"$f":"IF(A16<>\"\",IFERROR(VLOOKUP(R16,Tabelas!B:D,3,0),0),\"\")","v":6},{"$f":"IF(A16<>\"\",IFERROR(VLOOKUP(S16,Tabelas!B:D,3,0),0),\"\")","v":0},{"$f":"IF(A16<>\"\",IFERROR(VLOOKUP(T16,Tabelas!B:D,3,0),0),\"\")","v":0},{"$f":"IF(A16<>\"\",IFERROR(VLOOKUP(U16,Tabelas!B:D,3,0),0),\"\")","v":0},{"$f":"IF(A16<>\"\",IFERROR(VLOOKUP(V16,Tabelas!B:D,3,0),0),\"\")","v":0},{"$f":"IF(A16<>\"\",IFERROR(VLOOKUP(W16,Tabelas!B:D,3,0),0),\"\")","v":0},{"$f":"IF(A16<>\"\",IFERROR(VLOOKUP(X16,Tabelas!B:D,3,0),0),\"\")","v":6},{"$f":"IF(A16<>\"\",IFERROR(VLOOKUP(Y16,Tabelas!B:D,3,0),0),\"\")","v":6},{"$f":"IF(A16<>\"\",IFERROR(VLOOKUP(Z16,Tabelas!B:D,3,0),0),\"\")","v":0},{"$f":"IF(A16<>\"\",IFERROR(VLOOKUP(AA16,Tabelas!B:D,3,0),0),\"\")","v":0},{"$f":"IF(A16<>\"\",IFERROR(VLOOKUP(AB16,Tabelas!B:D,3,0),0),\"\")","v":0},{"$f":"IF(A16<>\"\",IFERROR(VLOOKUP(AC16,Tabelas!B:D,3,0),0),\"\")","v":0},{"$f":"IF(A16<>\"\",IFERROR(VLOOKUP(AD16,Tabelas!B:D,3,0),0),\"\")","v":0},{"$f":"IF(A16<>\"\",IFERROR(VLOOKUP(AE16,Tabelas!B:D,3,0),0),\"\")","v":6},{"$f":"IF(A16<>\"\",IFERROR(VLOOKUP(AF16,Tabelas!B:D,3,0),0),\"\")","v":6},{"$f":"IF(A16<>\"\",IFERROR(VLOOKUP(AG16,Tabelas!B:D,3,0),0),\"\")","v":0},{"$f":"IF(A16<>\"\",IFERROR(VLOOKUP(AH16,Tabelas!B:D,3,0),0),\"\")","v":0},{"$f":"IF(A16<>\"\",IFERROR(VLOOKUP(AI16,Tabelas!B:D,3,0),0),\"\")","v":12},{"$f":"IF(A16<>\"\",IFERROR(VLOOKUP(AJ16,Tabelas!B:D,3,0),0),\"\")","v":0},{"$f":"IF(A16<>\"\",IFERROR(VLOOKUP(AK16,Tabelas!B:D,3,0),0),\"\")","v":0}]
["Ari Ojeda Ocampo Moré",2116216,13369,"Médico","RJU",30,null,null,null,"D6","D6",null,"D6",null,null,null,"D6","D6",null,"D6","FD",null,null,"D6","D6",null,"FD",null,null,null,"D6","D6",null,"D6",null,null,null,{"$f":"IF(A17<>\"\",IFERROR(VLOOKUP(G17,Tabelas!B:D,3,0),0),\"\")","v":0},{"$f":"IF(A17<>\"\",IFERROR(VLOOKUP(H17,Tabelas!B:D,3,0),0),\"\")","v":0},{"$f":"IF(A17<>\"\",IFERROR(VLOOKUP(I17,Tabelas!B:D,3,0),0),\"\")","v":0},{"$f":"IF(A17<>\"\",IFERROR(VLOOKUP(J17,Tabelas!B:D,3,0),0),\"\")","v":12},{"$f":"IF(A17<>\"\",IFERROR(VLOOKUP(K17,Tabelas!B:D,3,0),0),\"\")","v":12},{"$f":"IF(A17<>\"\",IFERROR(VLOOKUP(L17,Tabelas!B:D,3,0),0),\"\")","v":0},{"$f":"IF(A17<>\"\",IFERROR(VLOOKUP(M17,Tabelas!B:D,3,0),0),\"\")","v":12},{"$f":"IF(A17<>\"\",IFERROR(VLOOKUP(N17,Tabelas!B:D,3,0),0),\"\")","v":0},{"$f":"IF(A17<>\"\",IFERROR(VLOOKUP(O17,Tabelas!B:D,3,0),0),\"\")","v":0},{"$f":"IF(A17<>\"\",IFERROR(VLOOKUP(P17,Tabelas!B:D,3,0),0),\"\")","v":0},{"$f":"IF(A17<>\"\",IFERROR(VLOOKUP(Q17,Tabelas!B:D,3,0),0),\"\")","v":12},{"$f":"IF(A17<>\"\",IFERROR(VLOOKUP(R17,Tabelas!B:D,3,0),0),\"\")","v":12},{"$f":"IF(A17<>\"\",IFERROR(VLOOKUP(S17,Tabelas!B:D,3,0),0),\"\")","v":0},{"$f":"IF(A17<>\"\",IFERROR(VLOOKUP(T17,Tabelas!B:D,3,0),0),\"\")","v":12},{"$f":"IF(A17<>\"\",IFERROR(VLOOKUP(U17,Tabelas!B:D,3,0),0),\"\")","v":0},{"$f":"IF(A17<>\"\",IFERROR(VLOOKUP(V17,Tabelas!B:D,3,0),0),\"\")","v":0},{"$f":"IF(A17<>\"\",IFERROR(VLOOKUP(W17,Tabelas!B:D,3,0),0),\"\")","v":0},{"$f":"IF(A17<>\"\",IFERROR(VLOOKUP(X17,Tabelas!B:D,3,0),0),\"\")","v":12},{"$f":"IF(A17<>\"\",IFERROR(VLOOKUP(Y17,Tabelas!B:D,3,0),0),\"\")","v":12},{"$f":"IF(A17<>\"\",IFERROR(VLOOKUP(Z17,Tabelas!B:D,3,0),0),\"\")","v":0},{"$f":"IF(A17<>\"\",IFERROR(VLOOKUP(AA17,Tabelas!B:D,3,0),0),\"\")","v":0},{"$f":"IF(A17<>\"\",IFERROR(VLOOKUP(AB17,Tabelas!B:D,3,0),0),\"\")","v":0},{"$f":"IF(A17<>\"\",IFERROR(VLOOKUP(AC17,Tabelas!B:D,3,0),0),\"\")","v":0},{"$f":"IF(A17<>\"\",IFERROR(VLOOKUP(AD17,Tabelas!B:D,3,0),0),\"\")","v":0},{"$f":"IF(A17<>\"\",IFERROR(VLOOKUP(AE17,Tabelas!B:D,3,0),0),\"\")","v":12},{"$f":"IF(A17<>\"\",IFERROR(VLOOKUP(AF17,Tabelas!B:D,3,0),0),\"\")","v":12},{"$f":"IF(A17<>\"\",IFERROR(VLOOKUP(AG17,Tabelas!B:D,3,0),0),\"\")","v":0},{"$f":"IF(A17<>\"\",IFERROR(VLOOKUP(AH17,Tabelas!B:D,3,0),0),\"\")","v":12},{"$f":"IF(A17<>\"\",IFERROR(VLOOKUP(AI17,Tabelas!B:D,3,0),0),\"\")","v":0},{"$f":"IF(A17<>\"\",IFERROR(VLOOKUP(AJ17,Tabelas!B:D,3,0),0),\"\")","v":0},{"$f":"IF(A17<>\"\",IFERROR(VLOOKUP(AK17,Tabelas!B:D,3,0),0),\"\")","v":0}]
["Ariel Cordova Rosa",1361412,23372,"Médico","EBSERH",24,"FE",null,null,"M15","T15","M15","M15",null,null,null,"M15","T15","M15","M15","FD",null,null,"M15","T15","M15","FD",null,null,null,"M15","T15","M15","M15",null,null,null,{"$f":"IF(A18<>\"\",IFERROR(VLOOKUP(G18,Tabelas!B:D,3,0),0),\"\")","v":0},{"$f":"IF(A18<>\"\",IFERROR(VLOOKUP(H18,Tabelas!B:D,3,0),0),\"\")","v":0},{"$f":"IF(A18<>\"\",IFERROR(VLOOKUP(I18,Tabelas!B:D,3,0),0),\"\")","v":0},{"$f":"IF(A18<>\"\",IFERROR(VLOOKUP(J18,Tabelas!B:D,3,0),0),\"\")","v":6},{"$f":"IF(A18<>\"\",IFERROR(VLOOKUP(K18,Tabelas!B:D,3,0),0),\"\")","v":6},{"$f":"IF(A18<>\"\",IFERROR(VLOOKUP(L18,Tabelas!B:D,3,0),0),\"\")","v":6},{"$f":"IF(A18<>\"\",IFERROR(VLOOKUP(M18,Tabelas!B:D,3,0),0),\"\")","v":6},{"$f":"IF(A18<>\"\",IFERROR(VLOOKUP(N18,Tabelas!B:D,3,0),0),\"\")","v":0},{"$f":"IF(A18<>\"\",IFERROR(VLOOKUP(O18,Tabelas!B:D,3,0),0),\"\")","v":0},{"$f":"IF(A18<>\"\",IFERROR(VLOOKUP(P18,Tabelas!B:D,3,0),0),\"\")","v":0},{"$f":"IF(A18<>\"\",IFERROR(VLOOKUP(Q18,Tabelas!B:D,3,0),0),\"\")","v":6},{"$f":"IF(A18<>\"\",IFERROR(VLOOKUP(R18,Tabelas!B:D,3,0),0),\"\")","v":6},{"$f":"IF(A18<>\"\",IFERROR(VLOOKUP(S18,Tabelas!B:D,3,0),0),\"\")","v":6},{"$f":"IF(A18<>\"\",IFERROR(VLOOKUP(T18,Tabelas!B:D,3,0),0),\"\")","v":6},{"$f":"IF(A18<>\"\",IFERROR(VLOOKUP(U18,Tabelas!B:D,3,0),0),\"\")","v":0},{"$f":"IF(A18<>\"\",IFERROR(VLOOKUP(V18,Tabelas!B:D,3,0),0),\"\")","v":0},{"$f":"IF(A18<>\"\",IFERROR(VLOOKUP(W18,Tabelas!B:D,3,0),0),\"\")","v":0},{"$f":"IF(A18<>\"\",IFERROR(VLOOKUP(X18,Tabelas!B:D,3,0),0),\"\")","v":6},{"$f":"IF(A18<>\"\",IFERROR(VLOOKUP(Y18,Tabelas!B:D,3,0),0),\"\")","v":6},{"$f":"IF(A18<>\"\",IFERROR(VLOOKUP(Z18,Tabelas!B:D,3,0),0),\"\")","v":6},{"$f":"IF(A18<>\"\",IFERROR(VLOOKUP(AA18,Tabelas!B:D,3,0),0),\"\")","v":0},{"$f":"IF(A18<>\"\",IFERROR(VLOOKUP(AB18,Tabelas!B:D,3,0),0),\"\")","v":0},{"$f":"IF(A18<>\"\",IFERROR(VLOOKUP(AC18,Tabelas!B:D,3,0),0),\"\")","v":0},{"$f":"IF(A18<>\"\",IFERROR(VLOOKUP(AD18,Tabelas!B:D,3,0),0),\"\")","v":0},{"$f":"IF(A18<>\"\",IFERROR(VLOOKUP(AE18,Tabelas!B:D,3,0),0),\"\")","v":6},{"$f":"IF(A18<>\"\",IFERROR(VLOOKUP(AF18,Tabelas!B:D,3,0),0),\"\")","v":6},{"$f":"IF(A18<>\"\",IFERROR(VLOOKUP(AG18,Tabelas!B:D,3,0),0),\"\")","v":6},{"$f":"IF(A18<>\"\",IFERROR(VLOOKUP(AH18,Tabelas!B:D,3,0),0),\"\")","v":6},{"$f":"IF(A18<>\"\",IFERROR(VLOOKUP(AI18,Tabelas!B:D,3,0),0),\"\")","v":0},{"$f":"IF(A18<>\"\",IFERROR(VLOOKUP(AJ18,Tabelas!B:D,3,0),0),\"\")","v":0},{"$f":"IF(A18<>\"\",IFERROR(VLOOKUP(AK18,Tabelas!B:D,3,0),0),\"\")","v":0}]
["Aurelio Pacheco Costa Filho ",1160449,5182,"Médico","RJU",20,null,null,null,null,null,"D6",null,"FE",null,"FE","FE","FE","FE",null,"FD",null,null,null,null,"D6","FD","D6",null,null,null,null,"D6",null,"D6",null,null,{"$f":"IF(A19<>\"\",IFERROR(VLOOKUP(G19,Tabelas!B:D,3,0),0),\"\")","v":0},{"$f":"IF(A19<>\"\",IFERROR(VLOOKUP(H19,Tabelas!B:D,3,0),0),\"\")","v":0},{"$f":"IF(A19<>\"\",IFERROR(VLOOKUP(I19,Tabelas!B:D,3,0),0),\"\")","v":0},{"$f":"IF(A19<>\"\",IFERROR(VLOOKUP(J19,Tabelas!B:D,3,0),0),\"\")","v":0},{"$f":"IF(A19<>\"\",IFERROR(VLOOKUP(K19,Tabelas!B:D,3,0),0),\"\")","v":0},{"$f":"IF(A19<>\"\",IFERROR(VLOOKUP(L19,Tabelas!B:D,3,0),0),\"\")","v":12},{"$f":"IF(A19<>\"\",IFERROR(VLOOKUP(M19,Tabelas!B:D,3,0),0),\"\")","v":0},{"$f":"IF(A19<>\"\",IFERROR(VLOOKUP(N19,Tabelas!B:D,3,0),0),\"\")","v":0},{"$f":"IF(A19<>\"\",IFERROR(VLOOKUP(O19,Tabelas!B:D,3,0),0),\"\")","v":0},{"$f":"IF(A19<>\"\",IFERROR(VLOOKUP(P19,Tabelas!B:D,3,0),0),\"\")","v":0},{"$f":"IF(A19<>\"\",IFERROR(VLOOKUP(Q19,Tabelas!B:D,3,0),0),\"\")","v":0},{"$f":"IF(A19<>\"\",IFERROR(VLOOKUP(R19,Tabelas!B:D,3,0),0),\"\")","v":0},{"$f":"IF(A19<>\"\",IFERROR(VLOOKUP(S19,Tabelas!B:D,3,0),0),\"\")","v":0},{"$f":"IF(A19<>\"\",IFERROR(VLOOKUP(T19,Tabelas!B:D,3,0),0),\"\")","v":0},{"$f":"IF(A19<>\"\",IFERROR(VLOOKUP(U19,Tabelas!B:D,3,0),0),\"\")","v":0},{"$f":"IF(A19<>\"\",IFERROR(VLOOKUP(V19,Tabelas!B:D,3,0),0),\"\")","v":0},{"$f":"IF(A19<>\"\",IFERROR(VLOOKUP(W19,Tabelas!B:D,3,0),0),\"\")","v":0},{"$f":"IF(A19<>\"\",IFERROR(VLOOKUP(X19,Tabelas!B:D,3,0),0),\"\")","v":0},{"$f":"IF(A19<>\"\",IFERROR(VLOOKUP(Y19,Tabelas!B:D,3,0),0),\"\")","v":0},{"$f":"IF(A19<>\"\",IFERROR(VLOOKUP(Z19,Tabelas!B:D,3,0),0),\"\")","v":12},{"$f":"IF(A19<>\"\",IFERROR(VLOOKUP(AA19,Tabelas!B:D,3,0),0),\"\")","v":0},{"$f":"IF(A19<>\"\",IFERROR(VLOOKUP(AB19,Tabelas!B:D,3,0),0),\"\")","v":12},{"$f":"IF(A19<>\"\",IFERROR(VLOOKUP(AC19,Tabelas!B:D,3,0),0),\"\")","v":0},{"$f":"IF(A19<>\"\",IFERROR(VLOOKUP(AD19,Tabelas!B:D,3,0),0),\"\")","v":0},{"$f":"IF(A19<>\"\",IFERROR(VLOOKUP(AE19,Tabelas!B:D,3,0),0),\"\")","v":0},{"$f":"IF(A19<>\"\",IFERROR(VLOOKUP(AF19,Tabelas!B:D,3,0),0),\"\")","v":0},{"$f":"IF(A19<>\"\",IFERROR(VLOOKUP(AG19,Tabelas!B:D,3,0),0),\"\")","v":12},{"$f":"IF(A19<>\"\",IFERROR(VLOOKUP(AH19,Tabelas!B:D,3,0),0),\"\")","v":0},{"$f":"IF(A19<>\"\",IFERROR(VLOOKUP(AI19,Tabelas!B:D,3,0),0),\"\")","v":12},{"$f":"IF(A19<>\"\",IFERROR(VLOOKUP(AJ19,Tabelas!B:D,3,0),0),\"\")","v":0},{"$f":"IF(A19<>\"\",IFERROR(VLOOKUP(AK19,Tabelas!B:D,3,0),0),\"\")","v":0}]
["Cesar Paulo Semionato",1158471,3535,"Médico","RJU",30,null,null,null,"D6","D6",null,"D6",null,null,null,"D6","D6",null,"D6","FD",null,null,"D6","D6",null,"FD",null,null,null,"D6","D6",null,"D6",null,null,null,{"$f":"IF(A20<>\"\",IFERROR(VLOOKUP(G20,Tabelas!B:D,3,0),0),\"\")","v":0},{"$f":"IF(A20<>\"\",IFERROR(VLOOKUP(H20,Tabelas!B:D,3,0),0),\"\")","v":0},{"$f":"IF(A20<>\"\",IFERROR(VLOOKUP(I20,Tabelas!B:D,3,0),0),\"\")","v":0},{"$f":"IF(A20<>\"\",IFERROR(VLOOKUP(J20,Tabelas!B:D,3,0),0),\"\")","v":12},{"$f":"IF(A20<>\"\",IFERROR(VLOOKUP(K20,Tabelas!B:D,3,0),0),\"\")","v":12},{"$f":"IF(A20<>\"\",IFERROR(VLOOKUP(L20,Tabelas!B:D,3,0),0),\"\")","v":0},{"$f":"IF(A20<>\"\",IFERROR(VLOOKUP(M20,Tabelas!B:D,3,0),0),\"\")","v":12},{"$f":"IF(A20<>\"\",IFERROR(VLOOKUP(N20,Tabelas!B:D,3,0),0),\"\")","v":0},{"$f":"IF(A20<>\"\",IFERROR(VLOOKUP(O20,Tabelas!B:D,3,0),0),\"\")","v":0},{"$f":"IF(A20<>\"\",IFERROR(VLOOKUP(P20,Tabelas!B:D,3,0),0),\"\")","v":0},{"$f":"IF(A20<>\"\",IFERROR(VLOOKUP(Q20,Tabelas!B:D,3,0),0),\"\")","v":12},{"$f":"IF(A20<>\"\",IFERROR(VLOOKUP(R20,Tabelas!B:D,3,0),0),\"\")","v":12},{"$f":"IF(A20<>\"\",IFERROR(VLOOKUP(S20,Tabelas!B:D,3,0),0),\"\")","v":0},{"$f":"IF(A20<>\"\",IFERROR(VLOOKUP(T20,Tabelas!B:D,3,0),0),\"\")","v":12},{"$f":"IF(A20<>\"\",IFERROR(VLOOKUP(U20,Tabelas!B:D,3,0),0),\"\")","v":0},{"$f":"IF(A20<>\"\",IFERROR(VLOOKUP(V20,Tabelas!B:D,3,0),0),\"\")","v":0},{"$f":"IF(A20<>\"\",IFERROR(VLOOKUP(W20,Tabelas!B:D,3,0),0),\"\")","v":0},{"$f":"IF(A20<>\"\",IFERROR(VLOOKUP(X20,Tabelas!B:D,3,0),0),\"\")","v":12},{"$f":"IF(A20<>\"\",IFERROR(VLOOKUP(Y20,Tabelas!B:D,3,0),0),\"\")","v":12},{"$f":"IF(A20<>\"\",IFERROR(VLOOKUP(Z20,Tabelas!B:D,3,0),0),\"\")","v":0},{"$f":"IF(A20<>\"\",IFERROR(VLOOKUP(AA20,Tabelas!B:D,3,0),0),\"\")","v":0},{"$f":"IF(A20<>\"\",IFERROR(VLOOKUP(AB20,Tabelas!B:D,3,0),0),\"\")","v":0},{"$f":"IF(A20<>\"\",IFERROR(VLOOKUP(AC20,Tabelas!B:D,3,0),0),\"\")","v":0},{"$f":"IF(A20<>\"\",IFERROR(VLOOKUP(AD20,Tabelas!B:D,3,0),0),\"\")","v":0},{"$f":"IF(A20<>\"\",IFERROR(VLOOKUP(AE20,Tabelas!B:D,3,0),0),\"\")","v":12},{"$f":"IF(A20<>\"\",IFERROR(VLOOKUP(AF20,Tabelas!B:D,3,0),0),\"\")","v":12},{"$f":"IF(A20<>\"\",IFERROR(VLOOKUP(AG20,Tabelas!B:D,3,0),0),\"\")","v":0},{"$f":"IF(A20<>\"\",IFERROR(VLOOKUP(AH20,Tabelas!B:D,3,0),0),\"\")","v":12},{"$f":"IF(A20<>\"\",IFERROR(VLOOKUP(AI20,Tabelas!B:D,3,0),0),\"\")","v":0},{"$f":"IF(A20<>\"\",IFERROR(VLOOKUP(AJ20,Tabelas!B:D,3,0),0),\"\")","v":0},{"$f":"IF(A20<>\"\",IFERROR(VLOOKUP(AK20,Tabelas!B:D,3,0),0),\"\")","v":0}]
["Cristina Screiber de Oliveira ",1551454,10134,"Médico","RJU",20,null,null,null,null,null,null,"T15",null,null,null,null,null,null,"T15","FD",null,null,null,null,null,"FD",null,null,null,null,null,null,"T15",null,null,null,{"$f":"IF(A21<>\"\",IFERROR(VLOOKUP(G21,Tabelas!B:D,3,0),0),\"\")","v":0},{"$f":"IF(A21<>\"\",IFERROR(VLOOKUP(H21,Tabelas!B:D,3,0),0),\"\")","v":0},{"$f":"IF(A21<>\"\",IFERROR(VLOOKUP(I21,Tabelas!B:D,3,0),0),\"\")","v":0},{"$f":"IF(A21<>\"\",IFERROR(VLOOKUP(J21,Tabelas!B:D,3,0),0),\"\")","v":0},{"$f":"IF(A21<>\"\",IFERROR(VLOOKUP(K21,Tabelas!B:D,3,0),0),\"\")","v":0},{"$f":"IF(A21<>\"\",IFERROR(VLOOKUP(L21,Tabelas!B:D,3,0),0),\"\")","v":0},{"$f":"IF(A21<>\"\",IFERROR(VLOOKUP(M21,Tabelas!B:D,3,0),0),\"\")","v":6},{"$f":"IF(A21<>\"\",IFERROR(VLOOKUP(N21,Tabelas!B:D,3,0),0),\"\")","v":0},{"$f":"IF(A21<>\"\",IFERROR(VLOOKUP(O21,Tabelas!B:D,3,0),0),\"\")","v":0},{"$f":"IF(A21<>\"\",IFERROR(VLOOKUP(P21,Tabelas!B:D,3,0),0),\"\")","v":0},{"$f":"IF(A21<>\"\",IFERROR(VLOOKUP(Q21,Tabelas!B:D,3,0),0),\"\")","v":0},{"$f":"IF(A21<>\"\",IFERROR(VLOOKUP(R21,Tabelas!B:D,3,0),0),\"\")","v":0},{"$f":"IF(A21<>\"\",IFERROR(VLOOKUP(S21,Tabelas!B:D,3,0),0),\"\")","v":0},{"$f":"IF(A21<>\"\",IFERROR(VLOOKUP(T21,Tabelas!B:D,3,0),0),\"\")","v":6},{"$f":"IF(A21<>\"\",IFERROR(VLOOKUP(U21,Tabelas!B:D,3,0),0),\"\")","v":0},{"$f":"IF(A21<>\"\",IFERROR(VLOOKUP(V21,Tabelas!B:D,3,0),0),\"\")","v":0},{"$f":"IF(A21<>\"\",IFERROR(VLOOKUP(W21,Tabelas!B:D,3,0),0),\"\")","v":0},{"$f":"IF(A21<>\"\",IFERROR(VLOOKUP(X21,Tabelas!B:D,3,0),0),\"\")","v":0},{"$f":"IF(A21<>\"\",IFERROR(VLOOKUP(Y21,Tabelas!B:D,3,0),0),\"\")","v":0},{"$f":"IF(A21<>\"\",IFERROR(VLOOKUP(Z21,Tabelas!B:D,3,0),0),\"\")","v":0},{"$f":"IF(A21<>\"\",IFERROR(VLOOKUP(AA21,Tabelas!B:D,3,0),0),\"\")","v":0},{"$f":"IF(A21<>\"\",IFERROR(VLOOKUP(AB21,Tabelas!B:D,3,0),0),\"\")","v":0},{"$f":"IF(A21<>\"\",IFERROR(VLOOKUP(AC21,Tabelas!B:D,3,0),0),\"\")","v":0},{"$f":"IF(A21<>\"\",IFERROR(VLOOKUP(AD21,Tabelas!B:D,3,0),0),\"\")","v":0},{"$f":"IF(A21<>\"\",IFERROR(VLOOKUP(AE21,Tabelas!B:D,3,0),0),\"\")","v":0},{"$f":"IF(A21<>\"\",IFERROR(VLOOKUP(AF21,Tabelas!B:D,3,0),0),\"\")","v":0},{"$f":"IF(A21<>\"\",IFERROR(VLOOKUP(AG21,Tabelas!B:D,3,0),0),\"\")","v":0},{"$f":"IF(A21<>\"\",IFERROR(VLOOKUP(AH21,Tabelas!B:D,3,0),0),\"\")","v":6},{"$f":"IF(A21<>\"\",IFERROR(VLOOKUP(AI21,Tabelas!B:D,3,0),0),\"\")","v":0},{"$f":"IF(A21<>\"\",IFERROR(VLOOKUP(AJ21,Tabelas!B:D,3,0),0),\"\")","v":0},{"$f":"IF(A21<>\"\",IFERROR(VLOOKUP(AK21,Tabelas!B:D,3,0),0),\"\")","v":0}]
["Edson Duarte Pillotto",3265216,12158,"Médico","EBSERH",24,"T15",null,null,null,null,"T15","M15","T15",null,null,null,null,"T15","M15","FD",null,null,null,null,"T15","FD","T15",null,null,null,null,"T15","M15","T15",null,null,{"$f":"IF(A22<>\"\",IFERROR(VLOOKUP(G22,Tabelas!B:D,3,0),0),\"\")","v":6},{"$f":"IF(A22<>\"\",IFERROR(VLOOKUP(H22,Tabelas!B:D,3,0),0),\"\")","v":0},{"$f":"IF(A22<>\"\",IFERROR(VLOOKUP(I22,Tabelas!B:D,3,0),0),\"\")","v":0},{"$f":"IF(A22<>\"\",IFERROR(VLOOKUP(J22,Tabelas!B:D,3,0),0),\"\")","v":0},{"$f":"IF(A22<>\"\",IFERROR(VLOOKUP(K22,Tabelas!B:D,3,0),0),\"\")","v":0},{"$f":"IF(A22<>\"\",IFERROR(VLOOKUP(L22,Tabelas!B:D,3,0),0),\"\")","v":6},{"$f":"IF(A22<>\"\",IFERROR(VLOOKUP(M22,Tabelas!B:D,3,0),0),\"\")","v":6},{"$f":"IF(A22<>\"\",IFERROR(VLOOKUP(N22,Tabelas!B:D,3,0),0),\"\")","v":6},{"$f":"IF(A22<>\"\",IFERROR(VLOOKUP(O22,Tabelas!B:D,3,0),0),\"\")","v":0},{"$f":"IF(A22<>\"\",IFERROR(VLOOKUP(P22,Tabelas!B:D,3,0),0),\"\")","v":0},{"$f":"IF(A22<>\"\",IFERROR(VLOOKUP(Q22,Tabelas!B:D,3,0),0),\"\")","v":0},{"$f":"IF(A22<>\"\",IFERROR(VLOOKUP(R22,Tabelas!B:D,3,0),0),\"\")","v":0},{"$f":"IF(A22<>\"\",IFERROR(VLOOKUP(S22,Tabelas!B:D,3,0),0),\"\")","v":6},{"$f":"IF(A22<>\"\",IFERROR(VLOOKUP(T22,Tabelas!B:D,3,0),0),\"\")","v":6},{"$f":"IF(A22<>\"\",IFERROR(VLOOKUP(U22,Tabelas!B:D,3,0),0),\"\")","v":0},{"$f":"IF(A22<>\"\",IFERROR(VLOOKUP(V22,Tabelas!B:D,3,0),0),\"\")","v":0},{"$f":"IF(A22<>\"\",IFERROR(VLOOKUP(W22,Tabelas!B:D,3,0),0),\"\")","v":0},{"$f":"IF(A22<>\"\",IFERROR(VLOOKUP(X22,Tabelas!B:D,3,0),0),\"\")","v":0},{"$f":"IF(A22<>\"\",IFERROR(VLOOKUP(Y22,Tabelas!B:D,3,0),0),\"\")","v":0},{"$f":"IF(A22<>\"\",IFERROR(VLOOKUP(Z22,Tabelas!B:D,3,0),0),\"\")","v":6},{"$f":"IF(A22<>\"\",IFERROR(VLOOKUP(AA22,Tabelas!B:D,3,0),0),\"\")","v":0},{"$f":"IF(A22<>\"\",IFERROR(VLOOKUP(AB22,Tabelas!B:D,3,0),0),\"\")","v":6},{"$f":"IF(A22<>\"\",IFERROR(VLOOKUP(AC22,Tabelas!B:D,3,0),0),\"\")","v":0},{"$f":"IF(A22<>\"\",IFERROR(VLOOKUP(AD22,Tabelas!B:D,3,0),0),\"\")","v":0},{"$f":"IF(A22<>\"\",IFERROR(VLOOKUP(AE22,Tabelas!B:D,3,0),0),\"\")","v":0},{"$f":"IF(A22<>\"\",IFERROR(VLOOKUP(AF22,Tabelas!B:D,3,0),0),\"\")","v":0},{"$f":"IF(A22<>\"\",IFERROR(VLOOKUP(AG22,Tabelas!B:D,3,0),0),\"\")","v":6},{"$f":"IF(A22<>\"\",IFERROR(VLOOKUP(AH22,Tabelas!B:D,3,0),0),\"\")","v":6},{"$f":"IF(A22<>\"\",IFERROR(VLOOKUP(AI22,Tabelas!B:D,3,0),0),\"\")","v":6},{"$f":"IF(A22<>\"\",IFERROR(VLOOKUP(AJ22,Tabelas!B:D,3,0),0),\"\")","v":0},{"$f":"IF(A22<>\"\",IFERROR(VLOOKUP(AK22,Tabelas!B:D,3,0),0),\"\")","v":0}]
["Elaine Cristina Caon de Souza Bulsing ",2270829,15054,"Médico","RJU",40,"D6",null,null,"D6","D6","D6","D6","M15",null,null,"D6","D6","D6","D6","FD",null,null,"D6","D6","D6","FD","M15",null,null,"D6","D6","D6","D6","M15",null,null,{"$f":"IF(A23<>\"\",IFERROR(VLOOKUP(G23,Tabelas!B:D,3,0),0),\"\")","v":12},{"$f":"IF(A23<>\"\",IFERROR(VLOOKUP(H23,Tabelas!B:D,3,0),0),\"\")","v":0},{"$f":"IF(A23<>\"\",IFERROR(VLOOKUP(I23,Tabelas!B:D,3,0),0),\"\")","v":0},{"$f":"IF(A23<>\"\",IFERROR(VLOOKUP(J23,Tabelas!B:D,3,0),0),\"\")","v":12},{"$f":"IF(A23<>\"\",IFERROR(VLOOKUP(K23,Tabelas!B:D,3,0),0),\"\")","v":12},{"$f":"IF(A23<>\"\",IFERROR(VLOOKUP(L23,Tabelas!B:D,3,0),0),\"\")","v":12},{"$f":"IF(A23<>\"\",IFERROR(VLOOKUP(M23,Tabelas!B:D,3,0),0),\"\")","v":12},{"$f":"IF(A23<>\"\",IFERROR(VLOOKUP(N23,Tabelas!B:D,3,0),0),\"\")","v":6},{"$f":"IF(A23<>\"\",IFERROR(VLOOKUP(O23,Tabelas!B:D,3,0),0),\"\")","v":0},{"$f":"IF(A23<>\"\",IFERROR(VLOOKUP(P23,Tabelas!B:D,3,0),0),\"\")","v":0},{"$f":"IF(A23<>\"\",IFERROR(VLOOKUP(Q23,Tabelas!B:D,3,0),0),\"\")","v":12},{"$f":"IF(A23<>\"\",IFERROR(VLOOKUP(R23,Tabelas!B:D,3,0),0),\"\")","v":12},{"$f":"IF(A23<>\"\",IFERROR(VLOOKUP(S23,Tabelas!B:D,3,0),0),\"\")","v":12},{"$f":"IF(A23<>\"\",IFERROR(VLOOKUP(T23,Tabelas!B:D,3,0),0),\"\")","v":12},{"$f":"IF(A23<>\"\",IFERROR(VLOOKUP(U23,Tabelas!B:D,3,0),0),\"\")","v":0},{"$f":"IF(A23<>\"\",IFERROR(VLOOKUP(V23,Tabelas!B:D,3,0),0),\"\")","v":0},{"$f":"IF(A23<>\"\",IFERROR(VLOOKUP(W23,Tabelas!B:D,3,0),0),\"\")","v":0},{"$f":"IF(A23<>\"\",IFERROR(VLOOKUP(X23,Tabelas!B:D,3,0),0),\"\")","v":12},{"$f":"IF(A23<>\"\",IFERROR(VLOOKUP(Y23,Tabelas!B:D,3,0),0),\"\")","v":12},{"$f":"IF(A23<>\"\",IFERROR(VLOOKUP(Z23,Tabelas!B:D,3,0),0),\"\")","v":12},{"$f":"IF(A23<>\"\",IFERROR(VLOOKUP(AA23,Tabelas!B:D,3,0),0),\"\")","v":0},{"$f":"IF(A23<>\"\",IFERROR(VLOOKUP(AB23,Tabelas!B:D,3,0),0),\"\")","v":6},{"$f":"IF(A23<>\"\",IFERROR(VLOOKUP(AC23,Tabelas!B:D,3,0),0),\"\")","v":0},{"$f":"IF(A23<>\"\",IFERROR(VLOOKUP(AD23,Tabelas!B:D,3,0),0),\"\")","v":0},{"$f":"IF(A23<>\"\",IFERROR(VLOOKUP(AE23,Tabelas!B:D,3,0),0),\"\")","v":12},{"$f":"IF(A23<>\"\",IFERROR(VLOOKUP(AF23,Tabelas!B:D,3,0),0),\"\")","v":12},{"$f":"IF(A23<>\"\",IFERROR(VLOOKUP(AG23,Tabelas!B:D,3,0),0),\"\")","v":12},{"$f":"IF(A23<>\"\",IFERROR(VLOOKUP(AH23,Tabelas!B:D,3,0),0),\"\")","v":12},{"$f":"IF(A23<>\"\",IFERROR(VLOOKUP(AI23,Tabelas!B:D,3,0),0),\"\")","v":6},{"$f":"IF(A23<>\"\",IFERROR(VLOOKUP(AJ23,Tabelas!B:D,3,0),0),\"\")","v":0},{"$f":"IF(A23<>\"\",IFERROR(VLOOKUP(AK23,Tabelas!B:D,3,0),0),\"\")","v":0}]
["Emerson Leonildo Marques",2442492,10981,"Médico","RJU",30,"T15",null,null,"M15","M15","T15","M15","T15",null,null,"M15","M15","T15","M15","FD",null,null,"M15","M15","T15","FD","T15",null,null,"M15","M15","T15","M15","T15",null,null,{"$f":"IF(A24<>\"\",IFERROR(VLOOKUP(G24,Tabelas!B:D,3,0),0),\"\")","v":6},{"$f":"IF(A24<>\"\",IFERROR(VLOOKUP(H24,Tabelas!B:D,3,0),0),\"\")","v":0},{"$f":"IF(A24<>\"\",IFERROR(VLOOKUP(I24,Tabelas!B:D,3,0),0),\"\")","v":0},{"$f":"IF(A24<>\"\",IFERROR(VLOOKUP(J24,Tabelas!B:D,3,0),0),\"\")","v":6},{"$f":"IF(A24<>\"\",IFERROR(VLOOKUP(K24,Tabelas!B:D,3,0),0),\"\")","v":6},{"$f":"IF(A24<>\"\",IFERROR(VLOOKUP(L24,Tabelas!B:D,3,0),0),\"\")","v":6},{"$f":"IF(A24<>\"\",IFERROR(VLOOKUP(M24,Tabelas!B:D,3,0),0),\"\")","v":6},{"$f":"IF(A24<>\"\",IFERROR(VLOOKUP(N24,Tabelas!B:D,3,0),0),\"\")","v":6},{"$f":"IF(A24<>\"\",IFERROR(VLOOKUP(O24,Tabelas!B:D,3,0),0),\"\")","v":0},{"$f":"IF(A24<>\"\",IFERROR(VLOOKUP(P24,Tabelas!B:D,3,0),0),\"\")","v":0},{"$f":"IF(A24<>\"\",IFERROR(VLOOKUP(Q24,Tabelas!B:D,3,0),0),\"\")","v":6},{"$f":"IF(A24<>\"\",IFERROR(VLOOKUP(R24,Tabelas!B:D,3,0),0),\"\")","v":6},{"$f":"IF(A24<>\"\",IFERROR(VLOOKUP(S24,Tabelas!B:D,3,0),0),\"\")","v":6},{"$f":"IF(A24<>\"\",IFERROR(VLOOKUP(T24,Tabelas!B:D,3,0),0),\"\")","v":6},{"$f":"IF(A24<>\"\",IFERROR(VLOOKUP(U24,Tabelas!B:D,3,0),0),\"\")","v":0},{"$f":"IF(A24<>\"\",IFERROR(VLOOKUP(V24,Tabelas!B:D,3,0),0),\"\")","v":0},{"$f":"IF(A24<>\"\",IFERROR(VLOOKUP(W24,Tabelas!B:D,3,0),0),\"\")","v":0},{"$f":"IF(A24<>\"\",IFERROR(VLOOKUP(X24,Tabelas!B:D,3,0),0),\"\")","v":6},{"$f":"IF(A24<>\"\",IFERROR(VLOOKUP(Y24,Tabelas!B:D,3,0),0),\"\")","v":6},{"$f":"IF(A24<>\"\",IFERROR(VLOOKUP(Z24,Tabelas!B:D,3,0),0),\"\")","v":6},{"$f":"IF(A24<>\"\",IFERROR(VLOOKUP(AA24,Tabelas!B:D,3,0),0),\"\")","v":0},{"$f":"IF(A24<>\"\",IFERROR(VLOOKUP(AB24,Tabelas!B:D,3,0),0),\"\")","v":6},{"$f":"IF(A24<>\"\",IFERROR(VLOOKUP(AC24,Tabelas!B:D,3,0),0),\"\")","v":0},{"$f":"IF(A24<>\"\",IFERROR(VLOOKUP(AD24,Tabelas!B:D,3,0),0),\"\")","v":0},{"$f":"IF(A24<>\"\",IFERROR(VLOOKUP(AE24,Tabelas!B:D,3,0),0),\"\")","v":6},{"$f":"IF(A24<>\"\",IFERROR(VLOOKUP(AF24,Tabelas!B:D,3,0),0),\"\")","v":6},{"$f":"IF(A24<>\"\",IFERROR(VLOOKUP(AG24,Tabelas!B:D,3,0),0),\"\")","v":6},{"$f":"IF(A24<>\"\",IFERROR(VLOOKUP(AH24,Tabelas!B:D,3,0),0),\"\")","v":6},{"$f":"IF(A24<>\"\",IFERROR(VLOOKUP(AI24,Tabelas!B:D,3,0),0),\"\")","v":6},{"$f":"IF(A24<>\"\",IFERROR(VLOOKUP(AJ24,Tabelas!B:D,3,0),0),\"\")","v":0},{"$f":"IF(A24<>\"\",IFERROR(VLOOKUP(AK24,Tabelas!B:D,3,0),0),\"\")","v":0}]
["Gabriel Dotta",1212525,17906,"Médico","EBSERH",24,"M15",null,null,null,"M15","M15","M15","M15",null,null,null,"M15","M15","M15","FD",null,null,null,"M15","M15","FD","M15",null,null,null,"M15","M15","M15","M15",null,null,{"$f":"IF(A25<>\"\",IFERROR(VLOOKUP(G25,Tabelas!B:D,3,0),0),\"\")","v":6},{"$f":"IF(A25<>\"\",IFERROR(VLOOKUP(H25,Tabelas!B:D,3,0),0),\"\")","v":0},{"$f":"IF(A25<>\"\",IFERROR(VLOOKUP(I25,Tabelas!B:D,3,0),0),\"\")","v":0},{"$f":"IF(A25<>\"\",IFERROR(VLOOKUP(J25,Tabelas!B:D,3,0),0),\"\")","v":0},{"$f":"IF(A25<>\"\",IFERROR(VLOOKUP(K25,Tabelas!B:D,3,0),0),\"\")","v":6},{"$f":"IF(A25<>\"\",IFERROR(VLOOKUP(L25,Tabelas!B:D,3,0),0),\"\")","v":6},{"$f":"IF(A25<>\"\",IFERROR(VLOOKUP(M25,Tabelas!B:D,3,0),0),\"\")","v":6},{"$f":"IF(A25<>\"\",IFERROR(VLOOKUP(N25,Tabelas!B:D,3,0),0),\"\")","v":6},{"$f":"IF(A25<>\"\",IFERROR(VLOOKUP(O25,Tabelas!B:D,3,0),0),\"\")","v":0},{"$f":"IF(A25<>\"\",IFERROR(VLOOKUP(P25,Tabelas!B:D,3,0),0),\"\")","v":0},{"$f":"IF(A25<>\"\",IFERROR(VLOOKUP(Q25,Tabelas!B:D,3,0),0),\"\")","v":0},{"$f":"IF(A25<>\"\",IFERROR(VLOOKUP(R25,Tabelas!B:D,3,0),0),\"\")","v":6},{"$f":"IF(A25<>\"\",IFERROR(VLOOKUP(S25,Tabelas!B:D,3,0),0),\"\")","v":6},{"$f":"IF(A25<>\"\",IFERROR(VLOOKUP(T25,Tabelas!B:D,3,0),0),\"\")","v":6},{"$f":"IF(A25<>\"\",IFERROR(VLOOKUP(U25,Tabelas!B:D,3,0),0),\"\")","v":0},{"$f":"IF(A25<>\"\",IFERROR(VLOOKUP(V25,Tabelas!B:D,3,0),0),\"\")","v":0},{"$f":"IF(A25<>\"\",IFERROR(VLOOKUP(W25,Tabelas!B:D,3,0),0),\"\")","v":0},{"$f":"IF(A25<>\"\",IFERROR(VLOOKUP(X25,Tabelas!B:D,3,0),0),\"\")","v":0},{"$f":"IF(A25<>\"\",IFERROR(VLOOKUP(Y25,Tabelas!B:D,3,0),0),\"\")","v":6},{"$f":"IF(A25<>\"\",IFERROR(VLOOKUP(Z25,Tabelas!B:D,3,0),0),\"\")","v":6},{"$f":"IF(A25<>\"\",IFERROR(VLOOKUP(AA25,Tabelas!B:D,3,0),0),\"\")","v":0},{"$f":"IF(A25<>\"\",IFERROR(VLOOKUP(AB25,Tabelas!B:D,3,0),0),\"\")","v":6},{"$f":"IF(A25<>\"\",IFERROR(VLOOKUP(AC25,Tabelas!B:D,3,0),0),\"\")","v":0},{"$f":"IF(A25<>\"\",IFERROR(VLOOKUP(AD25,Tabelas!B:D,3,0),0),\"\")","v":0},{"$f":"IF(A25<>\"\",IFERROR(VLOOKUP(AE25,Tabelas!B:D,3,0),0),\"\")","v":0},{"$f":"IF(A25<>\"\",IFERROR(VLOOKUP(AF25,Tabelas!B:D,3,0),0),\"\")","v":6},{"$f":"IF(A25<>\"\",IFERROR(VLOOKUP(AG25,Tabelas!B:D,3,0),0),\"\")","v":6},{"$f":"IF(A25<>\"\",IFERROR(VLOOKUP(AH25,Tabelas!B:D,3,0),0),\"\")","v":6},{"$f":"IF(A25<>\"\",IFERROR(VLOOKUP(AI25,Tabelas!B:D,3,0),0),\"\")","v":6},{"$f":"IF(A25<>\"\",IFERROR(VLOOKUP(AJ25,Tabelas!B:D,3,0),0),\"\")","v":0},{"$f":"IF(A25<>\"\",IFERROR(VLOOKUP(AK25,Tabelas!B:D,3,0),0),\"\")","v":0}]
["Giovani Colombo",1361629,6745,"Médico","RJU",30,"M15",null,null,"M15","T15","M15","M15","M15",null,null,"M15","T15","M15","M15","FD",null,null,"M15","T15","M15","FD","M15",null,null,"M15","T15","M15","M15","LC",null,null,{"$f":"IF(A26<>\"\",IFERROR(VLOOKUP(G26,Tabelas!B:D,3,0),0),\"\")","v":6},{"$f":"IF(A26<>\"\",IFERROR(VLOOKUP(H26,Tabelas!B:D,3,0),0),\"\")","v":0},{"$f":"IF(A26<>\"\",IFERROR(VLOOKUP(I26,Tabelas!B:D,3,0),0),\"\")","v":0},{"$f":"IF(A26<>\"\",IFERROR(VLOOKUP(J26,Tabelas!B:D,3,0),0),\"\")","v":6},{"$f":"IF(A26<>\"\",IFERROR(VLOOKUP(K26,Tabelas!B:D,3,0),0),\"\")","v":6},{"$f":"IF(A26<>\"\",IFERROR(VLOOKUP(L26,Tabelas!B:D,3,0),0),\"\")","v":6},{"$f":"IF(A26<>\"\",IFERROR(VLOOKUP(M26,Tabelas!B:D,3,0),0),\"\")","v":6},{"$f":"IF(A26<>\"\",IFERROR(VLOOKUP(N26,Tabelas!B:D,3,0),0),\"\")","v":6},{"$f":"IF(A26<>\"\",IFERROR(VLOOKUP(O26,Tabelas!B:D,3,0),0),\"\")","v":0},{"$f":"IF(A26<>\"\",IFERROR(VLOOKUP(P26,Tabelas!B:D,3,0),0),\"\")","v":0},{"$f":"IF(A26<>\"\",IFERROR(VLOOKUP(Q26,Tabelas!B:D,3,0),0),\"\")","v":6},{"$f":"IF(A26<>\"\",IFERROR(VLOOKUP(R26,Tabelas!B:D,3,0),0),\"\")","v":6},{"$f":"IF(A26<>\"\",IFERROR(VLOOKUP(S26,Tabelas!B:D,3,0),0),\"\")","v":6},{"$f":"IF(A26<>\"\",IFERROR(VLOOKUP(T26,Tabelas!B:D,3,0),0),\"\")","v":6},{"$f":"IF(A26<>\"\",IFERROR(VLOOKUP(U26,Tabelas!B:D,3,0),0),\"\")","v":0},{"$f":"IF(A26<>\"\",IFERROR(VLOOKUP(V26,Tabelas!B:D,3,0),0),\"\")","v":0},{"$f":"IF(A26<>\"\",IFERROR(VLOOKUP(W26,Tabelas!B:D,3,0),0),\"\")","v":0},{"$f":"IF(A26<>\"\",IFERROR(VLOOKUP(X26,Tabelas!B:D,3,0),0),\"\")","v":6},{"$f":"IF(A26<>\"\",IFERROR(VLOOKUP(Y26,Tabelas!B:D,3,0),0),\"\")","v":6},{"$f":"IF(A26<>\"\",IFERROR(VLOOKUP(Z26,Tabelas!B:D,3,0),0),\"\")","v":6},{"$f":"IF(A26<>\"\",IFERROR(VLOOKUP(AA26,Tabelas!B:D,3,0),0),\"\")","v":0},{"$f":"IF(A26<>\"\",IFERROR(VLOOKUP(AB26,Tabelas!B:D,3,0),0),\"\")","v":6},{"$f":"IF(A26<>\"\",IFERROR(VLOOKUP(AC26,Tabelas!B:D,3,0),0),\"\")","v":0},{"$f":"IF(A26<>\"\",IFERROR(VLOOKUP(AD26,Tabelas!B:D,3,0),0),\"\")","v":0},{"$f":"IF(A26<>\"\",IFERROR(VLOOKUP(AE26,Tabelas!B:D,3,0),0),\"\")","v":6},{"$f":"IF(A26<>\"\",IFERROR(VLOOKUP(AF26,Tabelas!B:D,3,0),0),\"\")","v":6},{"$f":"IF(A26<>\"\",IFERROR(VLOOKUP(AG26,Tabelas!B:D,3,0),0),\"\")","v":6},{"$f":"IF(A26<>\"\",IFERROR(VLOOKUP(AH26,Tabelas!B:D,3,0),0),\"\")","v":6},{"$f":"IF(A26<>\"\",IFERROR(VLOOKUP(AI26,Tabelas!B:D,3,0),0),\"\")","v":0},{"$f":"IF(A26<>\"\",IFERROR(VLOOKUP(AJ26,Tabelas!B:D,3,0),0),\"\")","v":0},{"$f":"IF(A26<>\"\",IFERROR(VLOOKUP(AK26,Tabelas!B:D,3,0),0),\"\")","v":0}]
["Gisele Espíndola ",1524592,10886,"Médico","RJU",20,null,null,null,null,"T15","D6","M15",null,null,null,null,"T15","D6","M15","FD",null,null,null,"T15","D6","FD",null,null,null,null,"T15","D6","M15",null,null,null,{"$f":"IF(A27<>\"\",IFERROR(VLOOKUP(G27,Tabelas!B:D,3,0),0),\"\")","v":0},{"$f":"IF(A27<>\"\",IFERROR(VLOOKUP(H27,Tabelas!B:D,3,0),0),\"\")","v":0},{"$f":"IF(A27<>\"\",IFERROR(VLOOKUP(I27,Tabelas!B:D,3,0),0),\"\")","v":0},{"$f":"IF(A27<>\"\",IFERROR(VLOOKUP(J27,Tabelas!B:D,3,0),0),\"\")","v":0},{"$f":"IF(A27<>\"\",IFERROR(VLOOKUP(K27,Tabelas!B:D,3,0),0),\"\")","v":6},{"$f":"IF(A27<>\"\",IFERROR(VLOOKUP(L27,Tabelas!B:D,3,0),0),\"\")","v":12},{"$f":"IF(A27<>\"\",IFERROR(VLOOKUP(M27,Tabelas!B:D,3,0),0),\"\")","v":6},{"$f":"IF(A27<>\"\",IFERROR(VLOOKUP(N27,Tabelas!B:D,3,0),0),\"\")","v":0},{"$f":"IF(A27<>\"\",IFERROR(VLOOKUP(O27,Tabelas!B:D,3,0),0),\"\")","v":0},{"$f":"IF(A27<>\"\",IFERROR(VLOOKUP(P27,Tabelas!B:D,3,0),0),\"\")","v":0},{"$f":"IF(A27<>\"\",IFERROR(VLOOKUP(Q27,Tabelas!B:D,3,0),0),\"\")","v":0},{"$f":"IF(A27<>\"\",IFERROR(VLOOKUP(R27,Tabelas!B:D,3,0),0),\"\")","v":6},{"$f":"IF(A27<>\"\",IFERROR(VLOOKUP(S27,Tabelas!B:D,3,0),0),\"\")","v":12},{"$f":"IF(A27<>\"\",IFERROR(VLOOKUP(T27,Tabelas!B:D,3,0),0),\"\")","v":6},{"$f":"IF(A27<>\"\",IFERROR(VLOOKUP(U27,Tabelas!B:D,3,0),0),\"\")","v":0},{"$f":"IF(A27<>\"\",IFERROR(VLOOKUP(V27,Tabelas!B:D,3,0),0),\"\")","v":0},{"$f":"IF(A27<>\"\",IFERROR(VLOOKUP(W27,Tabelas!B:D,3,0),0),\"\")","v":0},{"$f":"IF(A27<>\"\",IFERROR(VLOOKUP(X27,Tabelas!B:D,3,0),0),\"\")","v":0},{"$f":"IF(A27<>\"\",IFERROR(VLOOKUP(Y27,Tabelas!B:D,3,0),0),\"\")","v":6},{"$f":"IF(A27<>\"\",IFERROR(VLOOKUP(Z27,Tabelas!B:D,3,0),0),\"\")","v":12},{"$f":"IF(A27<>\"\",IFERROR(VLOOKUP(AA27,Tabelas!B:D,3,0),0),\"\")","v":0},{"$f":"IF(A27<>\"\",IFERROR(VLOOKUP(AB27,Tabelas!B:D,3,0),0),\"\")","v":0},{"$f":"IF(A27<>\"\",IFERROR(VLOOKUP(AC27,Tabelas!B:D,3,0),0),\"\")","v":0},{"$f":"IF(A27<>\"\",IFERROR(VLOOKUP(AD27,Tabelas!B:D,3,0),0),\"\")","v":0},{"$f":"IF(A27<>\"\",IFERROR(VLOOKUP(AE27,Tabelas!B:D,3,0),0),\"\")","v":0},{"$f":"IF(A27<>\"\",IFERROR(VLOOKUP(AF27,Tabelas!B:D,3,0),0),\"\")","v":6},{"$f":"IF(A27<>\"\",IFERROR(VLOOKUP(AG27,Tabelas!B:D,3,0),0),\"\")","v":12},{"$f":"IF(A27<>\"\",IFERROR(VLOOKUP(AH27,Tabelas!B:D,3,0),0),\"\")","v":6},{"$f":"IF(A27<>\"\",IFERROR(VLOOKUP(AI27,Tabelas!B:D,3,0),0),\"\")","v":0},{"$f":"IF(A27<>\"\",IFERROR(VLOOKUP(AJ27,Tabelas!B:D,3,0),0),\"\")","v":0},{"$f":"IF(A27<>\"\",IFERROR(VLOOKUP(AK27,Tabelas!B:D,3,0),0),\"\")","v":0}]
["Guilherme Asmar Alencar",1369108,29256,"Médico","EBSERH",24,"D6",null,null,"D6",null,null,null,"D6",null,null,"D6",null,null,null,"FD",null,null,"D6",null,null,"FD","D6",null,null,"FE","FE","FE","FE","FE",null,null,{"$f":"IF(A28<>\"\",IFERROR(VLOOKUP(G28,Tabelas!B:D,3,0),0),\"\")","v":12},{"$f":"IF(A28<>\"\",IFERROR(VLOOKUP(H28,Tabelas!B:D,3,0),0),\"\")","v":0},{"$f":"IF(A28<>\"\",IFERROR(VLOOKUP(I28,Tabelas!B:D,3,0),0),\"\")","v":0},{"$f":"IF(A28<>\"\",IFERROR(VLOOKUP(J28,Tabelas!B:D,3,0),0),\"\")","v":12},{"$f":"IF(A28<>\"\",IFERROR(VLOOKUP(K28,Tabelas!B:D,3,0),0),\"\")","v":0},{"$f":"IF(A28<>\"\",IFERROR(VLOOKUP(L28,Tabelas!B:D,3,0),0),\"\")","v":0},{"$f":"IF(A28<>\"\",IFERROR(VLOOKUP(M28,Tabelas!B:D,3,0),0),\"\")","v":0},{"$f":"IF(A28<>\"\",IFERROR(VLOOKUP(N28,Tabelas!B:D,3,0),0),\"\")","v":12},{"$f":"IF(A28<>\"\",IFERROR(VLOOKUP(O28,Tabelas!B:D,3,0),0),\"\")","v":0},{"$f":"IF(A28<>\"\",IFERROR(VLOOKUP(P28,Tabelas!B:D,3,0),0),\"\")","v":0},{"$f":"IF(A28<>\"\",IFERROR(VLOOKUP(Q28,Tabelas!B:D,3,0),0),\"\")","v":12},{"$f":"IF(A28<>\"\",IFERROR(VLOOKUP(R28,Tabelas!B:D,3,0),0),\"\")","v":0},{"$f":"IF(A28<>\"\",IFERROR(VLOOKUP(S28,Tabelas!B:D,3,0),0),\"\")","v":0},{"$f":"IF(A28<>\"\",IFERROR(VLOOKUP(T28,Tabelas!B:D,3,0),0),\"\")","v":0},{"$f":"IF(A28<>\"\",IFERROR(VLOOKUP(U28,Tabelas!B:D,3,0),0),\"\")","v":0},{"$f":"IF(A28<>\"\",IFERROR(VLOOKUP(V28,Tabelas!B:D,3,0),0),\"\")","v":0},{"$f":"IF(A28<>\"\",IFERROR(VLOOKUP(W28,Tabelas!B:D,3,0),0),\"\")","v":0},{"$f":"IF(A28<>\"\",IFERROR(VLOOKUP(X28,Tabelas!B:D,3,0),0),\"\")","v":12},{"$f":"IF(A28<>\"\",IFERROR(VLOOKUP(Y28,Tabelas!B:D,3,0),0),\"\")","v":0},{"$f":"IF(A28<>\"\",IFERROR(VLOOKUP(Z28,Tabelas!B:D,3,0),0),\"\")","v":0},{"$f":"IF(A28<>\"\",IFERROR(VLOOKUP(AA28,Tabelas!B:D,3,0),0),\"\")","v":0},{"$f":"IF(A28<>\"\",IFERROR(VLOOKUP(AB28,Tabelas!B:D,3,0),0),\"\")","v":12},{"$f":"IF(A28<>\"\",IFERROR(VLOOKUP(AC28,Tabelas!B:D,3,0),0),\"\")","v":0},{"$f":"IF(A28<>\"\",IFERROR(VLOOKUP(AD28,Tabelas!B:D,3,0),0),\"\")","v":0},{"$f":"IF(A28<>\"\",IFERROR(VLOOKUP(AE28,Tabelas!B:D,3,0),0),\"\")","v":0},{"$f":"IF(A28<>\"\",IFERROR(VLOOKUP(AF28,Tabelas!B:D,3,0),0),\"\")","v":0},{"$f":"IF(A28<>\"\",IFERROR(VLOOKUP(AG28,Tabelas!B:D,3,0),0),\"\")","v":0},{"$f":"IF(A28<>\"\",IFERROR(VLOOKUP(AH28,Tabelas!B:D,3,0),0),\"\")","v":0},{"$f":"IF(A28<>\"\",IFERROR(VLOOKUP(AI28,Tabelas!B:D,3,0),0),\"\")","v":0},{"$f":"IF(A28<>\"\",IFERROR(VLOOKUP(AJ28,Tabelas!B:D,3,0),0),\"\")","v":0},{"$f":"IF(A28<>\"\",IFERROR(VLOOKUP(AK28,Tabelas!B:D,3,0),0),\"\")","v":0}]
["Ivanio Alves Pereira ",278207,5081,"Médico","RJU",20,"M15",null,null,"FE","FE","FE","FE","FE",null,null,"FE","FE","FE","M15","FD",null,null,"D6","T15",null,"FD","M15",null,null,"D6","T15",null,"M15","M15",null,null,{"$f":"IF(A29<>\"\",IFERROR(VLOOKUP(G29,Tabelas!B:D,3,0),0),\"\")","v":6},{"$f":"IF(A29<>\"\",IFERROR(VLOOKUP(H29,Tabelas!B:D,3,0),0),\"\")","v":0},{"$f":"IF(A29<>\"\",IFERROR(VLOOKUP(I29,Tabelas!B:D,3,0),0),\"\")","v":0},{"$f":"IF(A29<>\"\",IFERROR(VLOOKUP(J29,Tabelas!B:D,3,0),0),\"\")","v":0},{"$f":"IF(A29<>\"\",IFERROR(VLOOKUP(K29,Tabelas!B:D,3,0),0),\"\")","v":0},{"$f":"IF(A29<>\"\",IFERROR(VLOOKUP(L29,Tabelas!B:D,3,0),0),\"\")","v":0},{"$f":"IF(A29<>\"\",IFERROR(VLOOKUP(M29,Tabelas!B:D,3,0),0),\"\")","v":0},{"$f":"IF(A29<>\"\",IFERROR(VLOOKUP(N29,Tabelas!B:D,3,0),0),\"\")","v":0},{"$f":"IF(A29<>\"\",IFERROR(VLOOKUP(O29,Tabelas!B:D,3,0),0),\"\")","v":0},{"$f":"IF(A29<>\"\",IFERROR(VLOOKUP(P29,Tabelas!B:D,3,0),0),\"\")","v":0},{"$f":"IF(A29<>\"\",IFERROR(VLOOKUP(Q29,Tabelas!B:D,3,0),0),\"\")","v":0},{"$f":"IF(A29<>\"\",IFERROR(VLOOKUP(R29,Tabelas!B:D,3,0),0),\"\")","v":0},{"$f":"IF(A29<>\"\",IFERROR(VLOOKUP(S29,Tabelas!B:D,3,0),0),\"\")","v":0},{"$f":"IF(A29<>\"\",IFERROR(VLOOKUP(T29,Tabelas!B:D,3,0),0),\"\")","v":6},{"$f":"IF(A29<>\"\",IFERROR(VLOOKUP(U29,Tabelas!B:D,3,0),0),\"\")","v":0},{"$f":"IF(A29<>\"\",IFERROR(VLOOKUP(V29,Tabelas!B:D,3,0),0),\"\")","v":0},{"$f":"IF(A29<>\"\",IFERROR(VLOOKUP(W29,Tabelas!B:D,3,0),0),\"\")","v":0},{"$f":"IF(A29<>\"\",IFERROR(VLOOKUP(X29,Tabelas!B:D,3,0),0),\"\")","v":12},{"$f":"IF(A29<>\"\",IFERROR(VLOOKUP(Y29,Tabelas!B:D,3,0),0),\"\")","v":6},{"$f":"IF(A29<>\"\",IFERROR(VLOOKUP(Z29,Tabelas!B:D,3,0),0),\"\")","v":0},{"$f":"IF(A29<>\"\",IFERROR(VLOOKUP(#REF!,Tabelas!B:D,3,0),0),\"\")","v":0},{"$f":"IF(A29<>\"\",IFERROR(VLOOKUP(AB29,Tabelas!B:D,3,0),0),\"\")","v":6},{"$f":"IF(A29<>\"\",IFERROR(VLOOKUP(AC29,Tabelas!B:D,3,0),0),\"\")","v":0},{"$f":"IF(A29<>\"\",IFERROR(VLOOKUP(AD29,Tabelas!B:D,3,0),0),\"\")","v":0},{"$f":"IF(A29<>\"\",IFERROR(VLOOKUP(AE29,Tabelas!B:D,3,0),0),\"\")","v":12},{"$f":"IF(A29<>\"\",IFERROR(VLOOKUP(AF29,Tabelas!B:D,3,0),0),\"\")","v":6},{"$f":"IF(A29<>\"\",IFERROR(VLOOKUP(AG29,Tabelas!B:D,3,0),0),\"\")","v":0},{"$f":"IF(A29<>\"\",IFERROR(VLOOKUP(AH29,Tabelas!B:D,3,0),0),\"\")","v":6},{"$f":"IF(A29<>\"\",IFERROR(VLOOKUP(AI29,Tabelas!B:D,3,0),0),\"\")","v":6},{"$f":"IF(A29<>\"\",IFERROR(VLOOKUP(AJ29,Tabelas!B:D,3,0),0),\"\")","v":0},{"$f":"IF(A29<>\"\",IFERROR(VLOOKUP(AK29,Tabelas!B:D,3,0),0),\"\")","v":0}]
["Ivete Ioshiko Masukawa",1445581,1749,"Médico","RJU",20,null,null,null,null,"D6","M15","D6",null,null,null,null,"D6","M15","D6","FD",null,null,null,"D6","M15","FD",null,null,null,null,"D6","M15","D6"]
["Jane da Silva",2224909,8602,"Médico","RJU",40,"M15",null,null,"D6","D6","D6","D6","M15",null,null,"D6","D6","D6","D6","FD",null,null,"D6","D6","D6","FD","M15",null,null,"D6","D6","D6","D6","M15",null,null,{"$f":"IF(A31<>\"\",IFERROR(VLOOKUP(G31,Tabelas!B:D,3,0),0),\"\")","v":6},{"$f":"IF(A31<>\"\",IFERROR(VLOOKUP(H31,Tabelas!B:D,3,0),0),\"\")","v":0},{"$f":"IF(A31<>\"\",IFERROR(VLOOKUP(I31,Tabelas!B:D,3,0),0),\"\")","v":0},{"$f":"IF(A31<>\"\",IFERROR(VLOOKUP(J31,Tabelas!B:D,3,0),0),\"\")","v":12},{"$f":"IF(A31<>\"\",IFERROR(VLOOKUP(K31,Tabelas!B:D,3,0),0),\"\")","v":12},{"$f":"IF(A31<>\"\",IFERROR(VLOOKUP(L31,Tabelas!B:D,3,0),0),\"\")","v":12},{"$f":"IF(A31<>\"\",IFERROR(VLOOKUP(M31,Tabelas!B:D,3,0),0),\"\")","v":12},{"$f":"IF(A31<>\"\",IFERROR(VLOOKUP(N31,Tabelas!B:D,3,0),0),\"\")","v":6},{"$f":"IF(A31<>\"\",IFERROR(VLOOKUP(O31,Tabelas!B:D,3,0),0),\"\")","v":0},{"$f":"IF(A31<>\"\",IFERROR(VLOOKUP(P31,Tabelas!B:D,3,0),0),\"\")","v":0},{"$f":"IF(A31<>\"\",IFERROR(VLOOKUP(Q31,Tabelas!B:D,3,0),0),\"\")","v":12},{"$f":"IF(A31<>\"\",IFERROR(VLOOKUP(R31,Tabelas!B:D,3,0),0),\"\")","v":12},{"$f":"IF(A31<>\"\",IFERROR(VLOOKUP(S31,Tabelas!B:D,3,0),0),\"\")","v":12},{"$f":"IF(A31<>\"\",IFERROR(VLOOKUP(T31,Tabelas!B:D,3,0),0),\"\")","v":12},{"$f":"IF(A31<>\"\",IFERROR(VLOOKUP(U31,Tabelas!B:D,3,0),0),\"\")","v":0},{"$f":"IF(A31<>\"\",IFERROR(VLOOKUP(V31,Tabelas!B:D,3,0),0),\"\")","v":0},{"$f":"IF(A31<>\"\",IFERROR(VLOOKUP(W31,Tabelas!B:D,3,0),0),\"\")","v":0},{"$f":"IF(A31<>\"\",IFERROR(VLOOKUP(X31,Tabelas!B:D,3,0),0),\"\")","v":12},{"$f":"IF(A31<>\"\",IFERROR(VLOOKUP(Y31,Tabelas!B:D,3,0),0),\"\")","v":12},{"$f":"IF(A31<>\"\",IFERROR(VLOOKUP(Z31,Tabelas!B:D,3,0),0),\"\")","v":12},{"$f":"IF(A31<>\"\",IFERROR(VLOOKUP(AA31,Tabelas!B:D,3,0),0),\"\")","v":0},{"$f":"IF(A31<>\"\",IFERROR(VLOOKUP(AB31,Tabelas!B:D,3,0),0),\"\")","v":6},{"$f":"IF(A31<>\"\",IFERROR(VLOOKUP(AC31,Tabelas!B:D,3,0),0),\"\")","v":0},{"$f":"IF(A31<>\"\",IFERROR(VLOOKUP(AD31,Tabelas!B:D,3,0),0),\"\")","v":0},{"$f":"IF(A31<>\"\",IFERROR(VLOOKUP(AE31,Tabelas!B:D,3,0),0),\"\")","v":12},{"$f":"IF(A31<>\"\",IFERROR(VLOOKUP(AF31,Tabelas!B:D,3,0),0),\"\")","v":12},{"$f":"IF(A31<>\"\",IFERROR(VLOOKUP(AG31,Tabelas!B:D,3,0),0),\"\")","v":12},{"$f":"IF(A31<>\"\",IFERROR(VLOOKUP(AH31,Tabelas!B:D,3,0),0),\"\")","v":12},{"$f":"IF(A31<>\"\",IFERROR(VLOOKUP(AI31,Tabelas!B:D,3,0),0),\"\")","v":6},{"$f":"IF(A31<>\"\",IFERROR(VLOOKUP(AJ31,Tabelas!B:D,3,0),0),\"\")","v":0},{"$f":"IF(A31<>\"\",IFERROR(VLOOKUP(AK31,Tabelas!B:D,3,0),0),\"\")","v":0}]
["Joao Eduardo Martins Teixeira",3144885,27906,"Médico","EBSERH",24,null,null,null,"M15","T15","M15","M15",null,null,null,"M15","T15","M15","M15","FD",null,null,"M15","T15","M15","FD",null,null,null,"M15","T15","M15","M15",null,null,null,{"$f":"IF(A32<>\"\",IFERROR(VLOOKUP(G32,Tabelas!B:D,3,0),0),\"\")","v":0},{"$f":"IF(A32<>\"\",IFERROR(VLOOKUP(H32,Tabelas!B:D,3,0),0),\"\")","v":0},{"$f":"IF(A32<>\"\",IFERROR(VLOOKUP(I32,Tabelas!B:D,3,0),0),\"\")","v":0},{"$f":"IF(A32<>\"\",IFERROR(VLOOKUP(J32,Tabelas!B:D,3,0),0),\"\")","v":6},{"$f":"IF(A32<>\"\",IFERROR(VLOOKUP(K32,Tabelas!B:D,3,0),0),\"\")","v":6},{"$f":"IF(A32<>\"\",IFERROR(VLOOKUP(L32,Tabelas!B:D,3,0),0),\"\")","v":6},{"$f":"IF(A32<>\"\",IFERROR(VLOOKUP(M32,Tabelas!B:D,3,0),0),\"\")","v":6},{"$f":"IF(A32<>\"\",IFERROR(VLOOKUP(N32,Tabelas!B:D,3,0),0),\"\")","v":0},{"$f":"IF(A32<>\"\",IFERROR(VLOOKUP(O32,Tabelas!B:D,3,0),0),\"\")","v":0},{"$f":"IF(A32<>\"\",IFERROR(VLOOKUP(P32,Tabelas!B:D,3,0),0),\"\")","v":0},{"$f":"IF(A32<>\"\",IFERROR(VLOOKUP(Q32,Tabelas!B:D,3,0),0),\"\")","v":6},{"$f":"IF(A32<>\"\",IFERROR(VLOOKUP(R32,Tabelas!B:D,3,0),0),\"\")","v":6},{"$f":"IF(A32<>\"\",IFERROR(VLOOKUP(S32,Tabelas!B:D,3,0),0),\"\")","v":6},{"$f":"IF(A32<>\"\",IFERROR(VLOOKUP(T32,Tabelas!B:D,3,0),0),\"\")","v":6},{"$f":"IF(A32<>\"\",IFERROR(VLOOKUP(U32,Tabelas!B:D,3,0),0),\"\")","v":0},{"$f":"IF(A32<>\"\",IFERROR(VLOOKUP(V32,Tabelas!B:D,3,0),0),\"\")","v":0},{"$f":"IF(A32<>\"\",IFERROR(VLOOKUP(W32,Tabelas!B:D,3,0),0),\"\")","v":0},{"$f":"IF(A32<>\"\",IFERROR(VLOOKUP(X32,Tabelas!B:D,3,0),0),\"\")","v":6},{"$f":"IF(A32<>\"\",IFERROR(VLOOKUP(Y32,Tabelas!B:D,3,0),0),\"\")","v":6},{"$f":"IF(A32<>\"\",IFERROR(VLOOKUP(Z32,Tabelas!B:D,3,0),0),\"\")","v":6},{"$f":"IF(A32<>\"\",IFERROR(VLOOKUP(AA32,Tabelas!B:D,3,0),0),\"\")","v":0},{"$f":"IF(A32<>\"\",IFERROR(VLOOKUP(AB32,Tabelas!B:D,3,0),0),\"\")","v":0},{"$f":"IF(A32<>\"\",IFERROR(VLOOKUP(AC32,Tabelas!B:D,3,0),0),\"\")","v":0},{"$f":"IF(A32<>\"\",IFERROR(VLOOKUP(AD32,Tabelas!B:D,3,0),0),\"\")","v":0},{"$f":"IF(A32<>\"\",IFERROR(VLOOKUP(AE32,Tabelas!B:D,3,0),0),\"\")","v":6},{"$f":"IF(A32<>\"\",IFERROR(VLOOKUP(AF32,Tabelas!B:D,3,0),0),\"\")","v":6},{"$f":"IF(A32<>\"\",IFERROR(VLOOKUP(AG32,Tabelas!B:D,3,0),0),\"\")","v":6},{"$f":"IF(A32<>\"\",IFERROR(VLOOKUP(AH32,Tabelas!B:D,3,0),0),\"\")","v":6},{"$f":"IF(A32<>\"\",IFERROR(VLOOKUP(AI32,Tabelas!B:D,3,0),0),\"\")","v":0},{"$f":"IF(A32<>\"\",IFERROR(VLOOKUP(AJ32,Tabelas!B:D,3,0),0),\"\")","v":0},{"$f":"IF(A32<>\"\",IFERROR(VLOOKUP(AK32,Tabelas!B:D,3,0),0),\"\")","v":0}]
["Julia Michels Ferreira",2483669,11398,"Médico","RJU",20,null,null,null,null,"D6","D6",null,null,null,null,null,"D6","D6",null,"FD",null,null,null,"D6","D6","FD",null,null,null,null,"D6","D6",null,null,null,null,{"$f":"IF(A33<>\"\",IFERROR(VLOOKUP(G33,Tabelas!B:D,3,0),0),\"\")","v":0},{"$f":"IF(A33<>\"\",IFERROR(VLOOKUP(H33,Tabelas!B:D,3,0),0),\"\")","v":0},{"$f":"IF(A33<>\"\",IFERROR(VLOOKUP(I33,Tabelas!B:D,3,0),0),\"\")","v":0},{"$f":"IF(A33<>\"\",IFERROR(VLOOKUP(J33,Tabelas!B:D,3,0),0),\"\")","v":0},{"$f":"IF(A33<>\"\",IFERROR(VLOOKUP(K33,Tabelas!B:D,3,0),0),\"\")","v":12},{"$f":"IF(A33<>\"\",IFERROR(VLOOKUP(L33,Tabelas!B:D,3,0),0),\"\")","v":12},{"$f":"IF(A33<>\"\",IFERROR(VLOOKUP(M33,Tabelas!B:D,3,0),0),\"\")","v":0},{"$f":"IF(A33<>\"\",IFERROR(VLOOKUP(N33,Tabelas!B:D,3,0),0),\"\")","v":0},{"$f":"IF(A33<>\"\",IFERROR(VLOOKUP(O33,Tabelas!B:D,3,0),0),\"\")","v":0},{"$f":"IF(A33<>\"\",IFERROR(VLOOKUP(P33,Tabelas!B:D,3,0),0),\"\")","v":0},{"$f":"IF(A33<>\"\",IFERROR(VLOOKUP(Q33,Tabelas!B:D,3,0),0),\"\")","v":0},{"$f":"IF(A33<>\"\",IFERROR(VLOOKUP(R33,Tabelas!B:D,3,0),0),\"\")","v":12},{"$f":"IF(A33<>\"\",IFERROR(VLOOKUP(S33,Tabelas!B:D,3,0),0),\"\")","v":12},{"$f":"IF(A33<>\"\",IFERROR(VLOOKUP(T33,Tabelas!B:D,3,0),0),\"\")","v":0},{"$f":"IF(A33<>\"\",IFERROR(VLOOKUP(U33,Tabelas!B:D,3,0),0),\"\")","v":0},{"$f":"IF(A33<>\"\",IFERROR(VLOOKUP(V33,Tabelas!B:D,3,0),0),\"\")","v":0},{"$f":"IF(A33<>\"\",IFERROR(VLOOKUP(W33,Tabelas!B:D,3,0),0),\"\")","v":0},{"$f":"IF(A33<>\"\",IFERROR(VLOOKUP(X33,Tabelas!B:D,3,0),0),\"\")","v":0},{"$f":"IF(A33<>\"\",IFERROR(VLOOKUP(Y33,Tabelas!B:D,3,0),0),\"\")","v":12},{"$f":"IF(A33<>\"\",IFERROR(VLOOKUP(Z33,Tabelas!B:D,3,0),0),\"\")","v":12},{"$f":"IF(A33<>\"\",IFERROR(VLOOKUP(AA33,Tabelas!B:D,3,0),0),\"\")","v":0},{"$f":"IF(A33<>\"\",IFERROR(VLOOKUP(AB33,Tabelas!B:D,3,0),0),\"\")","v":0},{"$f":"IF(A33<>\"\",IFERROR(VLOOKUP(AC33,Tabelas!B:D,3,0),0),\"\")","v":0},{"$f":"IF(A33<>\"\",IFERROR(VLOOKUP(AD33,Tabelas!B:D,3,0),0),\"\")","v":0},{"$f":"IF(A33<>\"\",IFERROR(VLOOKUP(AE33,Tabelas!B:D,3,0),0),\"\")","v":0},{"$f":"IF(A33<>\"\",IFERROR(VLOOKUP(AF33,Tabelas!B:D,3,0),0),\"\")","v":12},{"$f":"IF(A33<>\"\",IFERROR(VLOOKUP(AG33,Tabelas!B:D,3,0),0),\"\")","v":12},{"$f":"IF(A33<>\"\",IFERROR(VLOOKUP(AH33,Tabelas!B:D,3,0),0),\"\")","v":0},{"$f":"IF(A33<>\"\",IFERROR(VLOOKUP(AI33,Tabelas!B:D,3,0),0),\"\")","v":0},{"$f":"IF(A33<>\"\",IFERROR(VLOOKUP(AJ33,Tabelas!B:D,3,0),0),\"\")","v":0},{"$f":"IF(A33<>\"\",IFERROR(VLOOKUP(AK33,Tabelas!B:D,3,0),0),\"\")","v":0}]
["Leonardo Jonk Staub ",2604396,14283,"Médico","RJU",30,"M15",null,null,"M15","M15","M15","M15","M15",null,null,"M15","M15","M15","M15","FD",null,null,"M15","M15","M15","FD","M15",null,null,"M15","M15","M15","M15","M15",null,null,{"$f":"IF(A34<>\"\",IFERROR(VLOOKUP(G34,Tabelas!B:D,3,0),0),\"\")","v":6},{"$f":"IF(A34<>\"\",IFERROR(VLOOKUP(H34,Tabelas!B:D,3,0),0),\"\")","v":0},{"$f":"IF(A34<>\"\",IFERROR(VLOOKUP(I34,Tabelas!B:D,3,0),0),\"\")","v":0},{"$f":"IF(A34<>\"\",IFERROR(VLOOKUP(J34,Tabelas!B:D,3,0),0),\"\")","v":6},{"$f":"IF(A34<>\"\",IFERROR(VLOOKUP(K34,Tabelas!B:D,3,0),0),\"\")","v":6},{"$f":"IF(A34<>\"\",IFERROR(VLOOKUP(L34,Tabelas!B:D,3,0),0),\"\")","v":6},{"$f":"IF(A34<>\"\",IFERROR(VLOOKUP(M34,Tabelas!B:D,3,0),0),\"\")","v":6},{"$f":"IF(A34<>\"\",IFERROR(VLOOKUP(N34,Tabelas!B:D,3,0),0),\"\")","v":6},{"$f":"IF(A34<>\"\",IFERROR(VLOOKUP(O34,Tabelas!B:D,3,0),0),\"\")","v":0},{"$f":"IF(A34<>\"\",IFERROR(VLOOKUP(P34,Tabelas!B:D,3,0),0),\"\")","v":0},{"$f":"IF(A34<>\"\",IFERROR(VLOOKUP(Q34,Tabelas!B:D,3,0),0),\"\")","v":6},{"$f":"IF(A34<>\"\",IFERROR(VLOOKUP(R34,Tabelas!B:D,3,0),0),\"\")","v":6},{"$f":"IF(A34<>\"\",IFERROR(VLOOKUP(S34,Tabelas!B:D,3,0),0),\"\")","v":6},{"$f":"IF(A34<>\"\",IFERROR(VLOOKUP(T34,Tabelas!B:D,3,0),0),\"\")","v":6},{"$f":"IF(A34<>\"\",IFERROR(VLOOKUP(U34,Tabelas!B:D,3,0),0),\"\")","v":0},{"$f":"IF(A34<>\"\",IFERROR(VLOOKUP(V34,Tabelas!B:D,3,0),0),\"\")","v":0},{"$f":"IF(A34<>\"\",IFERROR(VLOOKUP(W34,Tabelas!B:D,3,0),0),\"\")","v":0},{"$f":"IF(A34<>\"\",IFERROR(VLOOKUP(X34,Tabelas!B:D,3,0),0),\"\")","v":6},{"$f":"IF(A34<>\"\",IFERROR(VLOOKUP(Y34,Tabelas!B:D,3,0),0),\"\")","v":6},{"$f":"IF(A34<>\"\",IFERROR(VLOOKUP(Z34,Tabelas!B:D,3,0),0),\"\")","v":6},{"$f":"IF(A34<>\"\",IFERROR(VLOOKUP(AA35,Tabelas!B:D,3,0),0),\"\")","v":0},{"$f":"IF(A34<>\"\",IFERROR(VLOOKUP(AB34,Tabelas!B:D,3,0),0),\"\")","v":6},{"$f":"IF(A34<>\"\",IFERROR(VLOOKUP(AC34,Tabelas!B:D,3,0),0),\"\")","v":0},{"$f":"IF(A34<>\"\",IFERROR(VLOOKUP(AD34,Tabelas!B:D,3,0),0),\"\")","v":0},{"$f":"IF(A34<>\"\",IFERROR(VLOOKUP(AE34,Tabelas!B:D,3,0),0),\"\")","v":6},{"$f":"IF(A34<>\"\",IFERROR(VLOOKUP(AF34,Tabelas!B:D,3,0),0),\"\")","v":6},{"$f":"IF(A34<>\"\",IFERROR(VLOOKUP(AG34,Tabelas!B:D,3,0),0),\"\")","v":6},{"$f":"IF(A34<>\"\",IFERROR(VLOOKUP(AH34,Tabelas!B:D,3,0),0),\"\")","v":6},{"$f":"IF(A34<>\"\",IFERROR(VLOOKUP(AI34,Tabelas!B:D,3,0),0),\"\")","v":6},{"$f":"IF(A34<>\"\",IFERROR(VLOOKUP(AJ34,Tabelas!B:D,3,0),0),\"\")","v":0},{"$f":"IF(A34<>\"\",IFERROR(VLOOKUP(AK34,Tabelas!B:D,3,0),0),\"\")","v":0}]
["Leonardo Simas Abi Saad",3604455,13918,"Médico","RJU",30,"M15",null,null,"T15","T15","T15","T15","M15",null,null,"T15","T15","T15","T15","FD",null,null,"T15","T15","T15","FD","M15",null,null,"T15","FE","FE","FE","FE",null,null,{"$f":"IF(A35<>\"\",IFERROR(VLOOKUP(G35,Tabelas!B:D,3,0),0),\"\")","v":6},{"$f":"IF(A35<>\"\",IFERROR(VLOOKUP(H35,Tabelas!B:D,3,0),0),\"\")","v":0},{"$f":"IF(A35<>\"\",IFERROR(VLOOKUP(I35,Tabelas!B:D,3,0),0),\"\")","v":0},{"$f":"IF(A35<>\"\",IFERROR(VLOOKUP(J35,Tabelas!B:D,3,0),0),\"\")","v":6},{"$f":"IF(A35<>\"\",IFERROR(VLOOKUP(K35,Tabelas!B:D,3,0),0),\"\")","v":6},{"$f":"IF(A35<>\"\",IFERROR(VLOOKUP(L35,Tabelas!B:D,3,0),0),\"\")","v":6},{"$f":"IF(A35<>\"\",IFERROR(VLOOKUP(M35,Tabelas!B:D,3,0),0),\"\")","v":6},{"$f":"IF(A35<>\"\",IFERROR(VLOOKUP(N35,Tabelas!B:D,3,0),0),\"\")","v":6},{"$f":"IF(A35<>\"\",IFERROR(VLOOKUP(O35,Tabelas!B:D,3,0),0),\"\")","v":0},{"$f":"IF(A35<>\"\",IFERROR(VLOOKUP(P35,Tabelas!B:D,3,0),0),\"\")","v":0},{"$f":"IF(A35<>\"\",IFERROR(VLOOKUP(Q35,Tabelas!B:D,3,0),0),\"\")","v":6},{"$f":"IF(A35<>\"\",IFERROR(VLOOKUP(R35,Tabelas!B:D,3,0),0),\"\")","v":6},{"$f":"IF(A35<>\"\",IFERROR(VLOOKUP(S35,Tabelas!B:D,3,0),0),\"\")","v":6},{"$f":"IF(A35<>\"\",IFERROR(VLOOKUP(T35,Tabelas!B:D,3,0),0),\"\")","v":6},{"$f":"IF(A35<>\"\",IFERROR(VLOOKUP(U35,Tabelas!B:D,3,0),0),\"\")","v":0},{"$f":"IF(A35<>\"\",IFERROR(VLOOKUP(V35,Tabelas!B:D,3,0),0),\"\")","v":0},{"$f":"IF(A35<>\"\",IFERROR(VLOOKUP(W35,Tabelas!B:D,3,0),0),\"\")","v":0},{"$f":"IF(A35<>\"\",IFERROR(VLOOKUP(X35,Tabelas!B:D,3,0),0),\"\")","v":6},{"$f":"IF(A35<>\"\",IFERROR(VLOOKUP(Y35,Tabelas!B:D,3,0),0),\"\")","v":6},{"$f":"IF(A35<>\"\",IFERROR(VLOOKUP(Z35,Tabelas!B:D,3,0),0),\"\")","v":6},{"$f":"IF(A35<>\"\",IFERROR(VLOOKUP(AA35,Tabelas!B:D,3,0),0),\"\")","v":0},{"$f":"IF(A35<>\"\",IFERROR(VLOOKUP(AB35,Tabelas!B:D,3,0),0),\"\")","v":6},{"$f":"IF(A35<>\"\",IFERROR(VLOOKUP(AC35,Tabelas!B:D,3,0),0),\"\")","v":0},{"$f":"IF(A35<>\"\",IFERROR(VLOOKUP(AD35,Tabelas!B:D,3,0),0),\"\")","v":0},{"$f":"IF(A35<>\"\",IFERROR(VLOOKUP(AE35,Tabelas!B:D,3,0),0),\"\")","v":6},{"$f":"IF(A35<>\"\",IFERROR(VLOOKUP(AF35,Tabelas!B:D,3,0),0),\"\")","v":0},{"$f":"IF(A35<>\"\",IFERROR(VLOOKUP(AG35,Tabelas!B:D,3,0),0),\"\")","v":0},{"$f":"IF(A35<>\"\",IFERROR(VLOOKUP(AH35,Tabelas!B:D,3,0),0),\"\")","v":0},{"$f":"IF(A35<>\"\",IFERROR(VLOOKUP(AI35,Tabelas!B:D,3,0),0),\"\")","v":0},{"$f":"IF(A35<>\"\",IFERROR(VLOOKUP(AJ35,Tabelas!B:D,3,0),0),\"\")","v":0},{"$f":"IF(A35<>\"\",IFERROR(VLOOKUP(AK35,Tabelas!B:D,3,0),0),\"\")","v":0}]
["Luciana Kiehl Noronha ",1441915,24335,"Médico","EBSERH",24,"D6",null,null,null,"D6",null,"M15","D6",null,null,null,"D6",null,"M15","FD",null,null,null,"D6",null,"FD","D6",null,null,null,"D6",null,"M15","D6",null,null,{"$f":"IF(A36<>\"\",IFERROR(VLOOKUP(G36,Tabelas!B:D,3,0),0),\"\")","v":12},{"$f":"IF(A36<>\"\",IFERROR(VLOOKUP(H36,Tabelas!B:D,3,0),0),\"\")","v":0},{"$f":"IF(A36<>\"\",IFERROR(VLOOKUP(I36,Tabelas!B:D,3,0),0),\"\")","v":0},{"$f":"IF(A36<>\"\",IFERROR(VLOOKUP(J36,Tabelas!B:D,3,0),0),\"\")","v":0},{"$f":"IF(A36<>\"\",IFERROR(VLOOKUP(K36,Tabelas!B:D,3,0),0),\"\")","v":12},{"$f":"IF(A36<>\"\",IFERROR(VLOOKUP(L36,Tabelas!B:D,3,0),0),\"\")","v":0},{"$f":"IF(A36<>\"\",IFERROR(VLOOKUP(M36,Tabelas!B:D,3,0),0),\"\")","v":6},{"$f":"IF(A36<>\"\",IFERROR(VLOOKUP(N36,Tabelas!B:D,3,0),0),\"\")","v":12},{"$f":"IF(A36<>\"\",IFERROR(VLOOKUP(O36,Tabelas!B:D,3,0),0),\"\")","v":0},{"$f":"IF(A36<>\"\",IFERROR(VLOOKUP(P36,Tabelas!B:D,3,0),0),\"\")","v":0},{"$f":"IF(A36<>\"\",IFERROR(VLOOKUP(Q36,Tabelas!B:D,3,0),0),\"\")","v":0},{"$f":"IF(A36<>\"\",IFERROR(VLOOKUP(R36,Tabelas!B:D,3,0),0),\"\")","v":12},{"$f":"IF(A36<>\"\",IFERROR(VLOOKUP(S36,Tabelas!B:D,3,0),0),\"\")","v":0},{"$f":"IF(A36<>\"\",IFERROR(VLOOKUP(T36,Tabelas!B:D,3,0),0),\"\")","v":6},{"$f":"IF(A36<>\"\",IFERROR(VLOOKUP(U36,Tabelas!B:D,3,0),0),\"\")","v":0},{"$f":"IF(A36<>\"\",IFERROR(VLOOKUP(V36,Tabelas!B:D,3,0),0),\"\")","v":0},{"$f":"IF(A36<>\"\",IFERROR(VLOOKUP(W36,Tabelas!B:D,3,0),0),\"\")","v":0},{"$f":"IF(A36<>\"\",IFERROR(VLOOKUP(X36,Tabelas!B:D,3,0),0),\"\")","v":0},{"$f":"IF(A36<>\"\",IFERROR(VLOOKUP(Y36,Tabelas!B:D,3,0),0),\"\")","v":12},{"$f":"IF(A36<>\"\",IFERROR(VLOOKUP(Z36,Tabelas!B:D,3,0),0),\"\")","v":0},{"$f":"IF(A36<>\"\",IFERROR(VLOOKUP(AA36,Tabelas!B:D,3,0),0),\"\")","v":0},{"$f":"IF(A36<>\"\",IFERROR(VLOOKUP(AB36,Tabelas!B:D,3,0),0),\"\")","v":12},{"$f":"IF(A36<>\"\",IFERROR(VLOOKUP(AC36,Tabelas!B:D,3,0),0),\"\")","v":0},{"$f":"IF(A36<>\"\",IFERROR(VLOOKUP(AD36,Tabelas!B:D,3,0),0),\"\")","v":0},{"$f":"IF(A36<>\"\",IFERROR(VLOOKUP(AE36,Tabelas!B:D,3,0),0),\"\")","v":0},{"$f":"IF(A36<>\"\",IFERROR(VLOOKUP(AF36,Tabelas!B:D,3,0),0),\"\")","v":12},{"$f":"IF(A36<>\"\",IFERROR(VLOOKUP(AG36,Tabelas!B:D,3,0),0),\"\")","v":0},{"$f":"IF(A36<>\"\",IFERROR(VLOOKUP(AH36,Tabelas!B:D,3,0),0),\"\")","v":6},{"$f":"IF(A36<>\"\",IFERROR(VLOOKUP(AI36,Tabelas!B:D,3,0),0),\"\")","v":12},{"$f":"IF(A36<>\"\",IFERROR(VLOOKUP(AJ36,Tabelas!B:D,3,0),0),\"\")","v":0},{"$f":"IF(A36<>\"\",IFERROR(VLOOKUP(AK36,Tabelas!B:D,3,0),0),\"\")","v":0}]
["Luis Carlos Esteves Grelle ",3133639,13438,"Médico","EBSERH",24,null,null,null,"D6","D6",null,"D6",null,null,null,"D6","D6",null,"D6","FD",null,null,"D6","D6",null,"FD","D6",null,null,"D6","D6",null,"D6",null,null,null,{"$f":"IF(A37<>\"\",IFERROR(VLOOKUP(G37,Tabelas!B:D,3,0),0),\"\")","v":0},{"$f":"IF(A37<>\"\",IFERROR(VLOOKUP(H37,Tabelas!B:D,3,0),0),\"\")","v":0},{"$f":"IF(A37<>\"\",IFERROR(VLOOKUP(I37,Tabelas!B:D,3,0),0),\"\")","v":0},{"$f":"IF(A37<>\"\",IFERROR(VLOOKUP(J37,Tabelas!B:D,3,0),0),\"\")","v":12},{"$f":"IF(A37<>\"\",IFERROR(VLOOKUP(K37,Tabelas!B:D,3,0),0),\"\")","v":12},{"$f":"IF(A37<>\"\",IFERROR(VLOOKUP(L37,Tabelas!B:D,3,0),0),\"\")","v":0},{"$f":"IF(A37<>\"\",IFERROR(VLOOKUP(M37,Tabelas!B:D,3,0),0),\"\")","v":12},{"$f":"IF(A37<>\"\",IFERROR(VLOOKUP(N37,Tabelas!B:D,3,0),0),\"\")","v":0},{"$f":"IF(A37<>\"\",IFERROR(VLOOKUP(O37,Tabelas!B:D,3,0),0),\"\")","v":0},{"$f":"IF(A37<>\"\",IFERROR(VLOOKUP(P37,Tabelas!B:D,3,0),0),\"\")","v":0},{"$f":"IF(A37<>\"\",IFERROR(VLOOKUP(Q37,Tabelas!B:D,3,0),0),\"\")","v":12},{"$f":"IF(A37<>\"\",IFERROR(VLOOKUP(R37,Tabelas!B:D,3,0),0),\"\")","v":12},{"$f":"IF(A37<>\"\",IFERROR(VLOOKUP(S37,Tabelas!B:D,3,0),0),\"\")","v":0},{"$f":"IF(A37<>\"\",IFERROR(VLOOKUP(T37,Tabelas!B:D,3,0),0),\"\")","v":12},{"$f":"IF(A37<>\"\",IFERROR(VLOOKUP(U37,Tabelas!B:D,3,0),0),\"\")","v":0},{"$f":"IF(A37<>\"\",IFERROR(VLOOKUP(V37,Tabelas!B:D,3,0),0),\"\")","v":0},{"$f":"IF(A37<>\"\",IFERROR(VLOOKUP(W37,Tabelas!B:D,3,0),0),\"\")","v":0},{"$f":"IF(A37<>\"\",IFERROR(VLOOKUP(X37,Tabelas!B:D,3,0),0),\"\")","v":12},{"$f":"IF(A37<>\"\",IFERROR(VLOOKUP(Y37,Tabelas!B:D,3,0),0),\"\")","v":12},{"$f":"IF(A37<>\"\",IFERROR(VLOOKUP(Z37,Tabelas!B:D,3,0),0),\"\")","v":0},{"$f":"IF(A37<>\"\",IFERROR(VLOOKUP(AA37,Tabelas!B:D,3,0),0),\"\")","v":0},{"$f":"IF(A37<>\"\",IFERROR(VLOOKUP(AB37,Tabelas!B:D,3,0),0),\"\")","v":12},{"$f":"IF(A37<>\"\",IFERROR(VLOOKUP(AC37,Tabelas!B:D,3,0),0),\"\")","v":0},{"$f":"IF(A37<>\"\",IFERROR(VLOOKUP(AD37,Tabelas!B:D,3,0),0),\"\")","v":0},{"$f":"IF(A37<>\"\",IFERROR(VLOOKUP(AE37,Tabelas!B:D,3,0),0),\"\")","v":12},{"$f":"IF(A37<>\"\",IFERROR(VLOOKUP(AF37,Tabelas!B:D,3,0),0),\"\")","v":12},{"$f":"IF(A37<>\"\",IFERROR(VLOOKUP(AG37,Tabelas!B:D,3,0),0),\"\")","v":0},{"$f":"IF(A37<>\"\",IFERROR(VLOOKUP(AH37,Tabelas!B:D,3,0),0),\"\")","v":12},{"$f":"IF(A37<>\"\",IFERROR(VLOOKUP(AI37,Tabelas!B:D,3,0),0),\"\")","v":0},{"$f":"IF(A37<>\"\",IFERROR(VLOOKUP(AJ37,Tabelas!B:D,3,0),0),\"\")","v":0},{"$f":"IF(A37<>\"\",IFERROR(VLOOKUP(AK37,Tabelas!B:D,3,0),0),\"\")","v":0}]
["Luiz Paulo de Queiroz ",2158320,3155,"Médico","RJU",20,"M15",null,null,"T15","D6",null,"M15","M15",null,null,"T15","D6",null,"M15","FD",null,null,"T15","D6",null,"FD","M15",null,null,"T15","D6",null,"M15","M15",null,null,{"$f":"IF(A38<>\"\",IFERROR(VLOOKUP(G38,Tabelas!B:D,3,0),0),\"\")","v":6},{"$f":"IF(A38<>\"\",IFERROR(VLOOKUP(H38,Tabelas!B:D,3,0),0),\"\")","v":0},{"$f":"IF(A38<>\"\",IFERROR(VLOOKUP(I38,Tabelas!B:D,3,0),0),\"\")","v":0},{"$f":"IF(A38<>\"\",IFERROR(VLOOKUP(J38,Tabelas!B:D,3,0),0),\"\")","v":6},{"$f":"IF(A38<>\"\",IFERROR(VLOOKUP(K38,Tabelas!B:D,3,0),0),\"\")","v":12},{"$f":"IF(A38<>\"\",IFERROR(VLOOKUP(L38,Tabelas!B:D,3,0),0),\"\")","v":0},{"$f":"IF(A38<>\"\",IFERROR(VLOOKUP(M38,Tabelas!B:D,3,0),0),\"\")","v":6},{"$f":"IF(A38<>\"\",IFERROR(VLOOKUP(N38,Tabelas!B:D,3,0),0),\"\")","v":6},{"$f":"IF(A38<>\"\",IFERROR(VLOOKUP(O38,Tabelas!B:D,3,0),0),\"\")","v":0},{"$f":"IF(A38<>\"\",IFERROR(VLOOKUP(P38,Tabelas!B:D,3,0),0),\"\")","v":0},{"$f":"IF(A38<>\"\",IFERROR(VLOOKUP(Q38,Tabelas!B:D,3,0),0),\"\")","v":6},{"$f":"IF(A38<>\"\",IFERROR(VLOOKUP(R38,Tabelas!B:D,3,0),0),\"\")","v":12},{"$f":"IF(A38<>\"\",IFERROR(VLOOKUP(S38,Tabelas!B:D,3,0),0),\"\")","v":0},{"$f":"IF(A38<>\"\",IFERROR(VLOOKUP(T38,Tabelas!B:D,3,0),0),\"\")","v":6},{"$f":"IF(A38<>\"\",IFERROR(VLOOKUP(U38,Tabelas!B:D,3,0),0),\"\")","v":0},{"$f":"IF(A38<>\"\",IFERROR(VLOOKUP(V38,Tabelas!B:D,3,0),0),\"\")","v":0},{"$f":"IF(A38<>\"\",IFERROR(VLOOKUP(W38,Tabelas!B:D,3,0),0),\"\")","v":0},{"$f":"IF(A38<>\"\",IFERROR(VLOOKUP(X38,Tabelas!B:D,3,0),0),\"\")","v":6},{"$f":"IF(A38<>\"\",IFERROR(VLOOKUP(Y38,Tabelas!B:D,3,0),0),\"\")","v":12},{"$f":"IF(A38<>\"\",IFERROR(VLOOKUP(Z38,Tabelas!B:D,3,0),0),\"\")","v":0},{"$f":"IF(A38<>\"\",IFERROR(VLOOKUP(AA38,Tabelas!B:D,3,0),0),\"\")","v":0},{"$f":"IF(A38<>\"\",IFERROR(VLOOKUP(AB38,Tabelas!B:D,3,0),0),\"\")","v":6},{"$f":"IF(A38<>\"\",IFERROR(VLOOKUP(AC38,Tabelas!B:D,3,0),0),\"\")","v":0},{"$f":"IF(A38<>\"\",IFERROR(VLOOKUP(AD38,Tabelas!B:D,3,0),0),\"\")","v":0},{"$f":"IF(A38<>\"\",IFERROR(VLOOKUP(AE38,Tabelas!B:D,3,0),0),\"\")","v":6},{"$f":"IF(A38<>\"\",IFERROR(VLOOKUP(AF38,Tabelas!B:D,3,0),0),\"\")","v":12},{"$f":"IF(A38<>\"\",IFERROR(VLOOKUP(AG38,Tabelas!B:D,3,0),0),\"\")","v":0},{"$f":"IF(A38<>\"\",IFERROR(VLOOKUP(AH38,Tabelas!B:D,3,0),0),\"\")","v":6},{"$f":"IF(A38<>\"\",IFERROR(VLOOKUP(AI38,Tabelas!B:D,3,0),0),\"\")","v":6},{"$f":"IF(A38<>\"\",IFERROR(VLOOKUP(AJ38,Tabelas!B:D,3,0),0),\"\")","v":0},{"$f":"IF(A38<>\"\",IFERROR(VLOOKUP(AK38,Tabelas!B:D,3,0),0),\"\")","v":0}]
["Manuela Brisot Felisbino",1675761,14805,"Médico","EBSERH",24,"M15",null,null,"FE","FE","FE","FE","FE",null,null,"FE","FE","FE","FE","FD",null,null,"FE","FE","FE","FD","FE",null,null,"M15","M15","M15",null,"M15",null,null,{"$f":"IF(A39<>\"\",IFERROR(VLOOKUP(G39,Tabelas!B:D,3,0),0),\"\")","v":6},{"$f":"IF(A39<>\"\",IFERROR(VLOOKUP(H39,Tabelas!B:D,3,0),0),\"\")","v":0},{"$f":"IF(A39<>\"\",IFERROR(VLOOKUP(I39,Tabelas!B:D,3,0),0),\"\")","v":0},{"$f":"IF(A39<>\"\",IFERROR(VLOOKUP(J39,Tabelas!B:D,3,0),0),\"\")","v":0},{"$f":"IF(A39<>\"\",IFERROR(VLOOKUP(K39,Tabelas!B:D,3,0),0),\"\")","v":0},{"$f":"IF(A39<>\"\",IFERROR(VLOOKUP(L39,Tabelas!B:D,3,0),0),\"\")","v":0},{"$f":"IF(A39<>\"\",IFERROR(VLOOKUP(M39,Tabelas!B:D,3,0),0),\"\")","v":0},{"$f":"IF(A39<>\"\",IFERROR(VLOOKUP(N39,Tabelas!B:D,3,0),0),\"\")","v":0},{"$f":"IF(A39<>\"\",IFERROR(VLOOKUP(O39,Tabelas!B:D,3,0),0),\"\")","v":0},{"$f":"IF(A39<>\"\",IFERROR(VLOOKUP(P39,Tabelas!B:D,3,0),0),\"\")","v":0},{"$f":"IF(A39<>\"\",IFERROR(VLOOKUP(Q39,Tabelas!B:D,3,0),0),\"\")","v":0},{"$f":"IF(A39<>\"\",IFERROR(VLOOKUP(R39,Tabelas!B:D,3,0),0),\"\")","v":0},{"$f":"IF(A39<>\"\",IFERROR(VLOOKUP(S39,Tabelas!B:D,3,0),0),\"\")","v":0},{"$f":"IF(A39<>\"\",IFERROR(VLOOKUP(T39,Tabelas!B:D,3,0),0),\"\")","v":0},{"$f":"IF(A39<>\"\",IFERROR(VLOOKUP(U39,Tabelas!B:D,3,0),0),\"\")","v":0},{"$f":"IF(A39<>\"\",IFERROR(VLOOKUP(V39,Tabelas!B:D,3,0),0),\"\")","v":0},{"$f":"IF(A39<>\"\",IFERROR(VLOOKUP(W39,Tabelas!B:D,3,0),0),\"\")","v":0},{"$f":"IF(A39<>\"\",IFERROR(VLOOKUP(X39,Tabelas!B:D,3,0),0),\"\")","v":0},{"$f":"IF(A39<>\"\",IFERROR(VLOOKUP(Y39,Tabelas!B:D,3,0),0),\"\")","v":0},{"$f":"IF(A39<>\"\",IFERROR(VLOOKUP(Z39,Tabelas!B:D,3,0),0),\"\")","v":0},{"$f":"IF(A39<>\"\",IFERROR(VLOOKUP(AA39,Tabelas!B:D,3,0),0),\"\")","v":0},{"$f":"IF(A39<>\"\",IFERROR(VLOOKUP(AB39,Tabelas!B:D,3,0),0),\"\")","v":0},{"$f":"IF(A39<>\"\",IFERROR(VLOOKUP(AC39,Tabelas!B:D,3,0),0),\"\")","v":0},{"$f":"IF(A39<>\"\",IFERROR(VLOOKUP(AD39,Tabelas!B:D,3,0),0),\"\")","v":0},{"$f":"IF(A39<>\"\",IFERROR(VLOOKUP(AE39,Tabelas!B:D,3,0),0),\"\")","v":6},{"$f":"IF(A39<>\"\",IFERROR(VLOOKUP(AF39,Tabelas!B:D,3,0),0),\"\")","v":6},{"$f":"IF(A39<>\"\",IFERROR(VLOOKUP(AG39,Tabelas!B:D,3,0),0),\"\")","v":6},{"$f":"IF(A39<>\"\",IFERROR(VLOOKUP(AH39,Tabelas!B:D,3,0),0),\"\")","v":0},{"$f":"IF(A39<>\"\",IFERROR(VLOOKUP(AI39,Tabelas!B:D,3,0),0),\"\")","v":6},{"$f":"IF(A39<>\"\",IFERROR(VLOOKUP(AJ39,Tabelas!B:D,3,0),0),\"\")","v":0},{"$f":"IF(A39<>\"\",IFERROR(VLOOKUP(AK39,Tabelas!B:D,3,0),0),\"\")","v":0}]
["Marcelo Ronsoni ",3603274,16049,"Médico","RJU",30,"M15",null,null,"T15","M15","T15","M15","M15",null,null,"T15","M15","T15","M15","FD",null,null,"T15","M15","T15","FD","M15",null,null,"T15","M15","T15","M15","M15",null,null,{"$f":"IF(A40<>\"\",IFERROR(VLOOKUP(G40,Tabelas!B:D,3,0),0),\"\")","v":6},{"$f":"IF(A40<>\"\",IFERROR(VLOOKUP(H40,Tabelas!B:D,3,0),0),\"\")","v":0},{"$f":"IF(A40<>\"\",IFERROR(VLOOKUP(I40,Tabelas!B:D,3,0),0),\"\")","v":0},{"$f":"IF(A40<>\"\",IFERROR(VLOOKUP(J40,Tabelas!B:D,3,0),0),\"\")","v":6},{"$f":"IF(A40<>\"\",IFERROR(VLOOKUP(K40,Tabelas!B:D,3,0),0),\"\")","v":6},{"$f":"IF(A40<>\"\",IFERROR(VLOOKUP(L40,Tabelas!B:D,3,0),0),\"\")","v":6},{"$f":"IF(A40<>\"\",IFERROR(VLOOKUP(M40,Tabelas!B:D,3,0),0),\"\")","v":6},{"$f":"IF(A40<>\"\",IFERROR(VLOOKUP(N40,Tabelas!B:D,3,0),0),\"\")","v":6},{"$f":"IF(A40<>\"\",IFERROR(VLOOKUP(O40,Tabelas!B:D,3,0),0),\"\")","v":0},{"$f":"IF(A40<>\"\",IFERROR(VLOOKUP(P40,Tabelas!B:D,3,0),0),\"\")","v":0},{"$f":"IF(A40<>\"\",IFERROR(VLOOKUP(Q40,Tabelas!B:D,3,0),0),\"\")","v":6},{"$f":"IF(A40<>\"\",IFERROR(VLOOKUP(R40,Tabelas!B:D,3,0),0),\"\")","v":6},{"$f":"IF(A40<>\"\",IFERROR(VLOOKUP(S40,Tabelas!B:D,3,0),0),\"\")","v":6},{"$f":"IF(A40<>\"\",IFERROR(VLOOKUP(T40,Tabelas!B:D,3,0),0),\"\")","v":6},{"$f":"IF(A40<>\"\",IFERROR(VLOOKUP(U40,Tabelas!B:D,3,0),0),\"\")","v":0},{"$f":"IF(A40<>\"\",IFERROR(VLOOKUP(V40,Tabelas!B:D,3,0),0),\"\")","v":0},{"$f":"IF(A40<>\"\",IFERROR(VLOOKUP(W40,Tabelas!B:D,3,0),0),\"\")","v":0},{"$f":"IF(A40<>\"\",IFERROR(VLOOKUP(X40,Tabelas!B:D,3,0),0),\"\")","v":6},{"$f":"IF(A40<>\"\",IFERROR(VLOOKUP(Y40,Tabelas!B:D,3,0),0),\"\")","v":6},{"$f":"IF(A40<>\"\",IFERROR(VLOOKUP(Z40,Tabelas!B:D,3,0),0),\"\")","v":6},{"$f":"IF(A40<>\"\",IFERROR(VLOOKUP(AA40,Tabelas!B:D,3,0),0),\"\")","v":0},{"$f":"IF(A40<>\"\",IFERROR(VLOOKUP(AB40,Tabelas!B:D,3,0),0),\"\")","v":6},{"$f":"IF(A40<>\"\",IFERROR(VLOOKUP(AC40,Tabelas!B:D,3,0),0),\"\")","v":0},{"$f":"IF(A40<>\"\",IFERROR(VLOOKUP(AD40,Tabelas!B:D,3,0),0),\"\")","v":0},{"$f":"IF(A40<>\"\",IFERROR(VLOOKUP(AE40,Tabelas!B:D,3,0),0),\"\")","v":6},{"$f":"IF(A40<>\"\",IFERROR(VLOOKUP(AF40,Tabelas!B:D,3,0),0),\"\")","v":6},{"$f":"IF(A40<>\"\",IFERROR(VLOOKUP(AG40,Tabelas!B:D,3,0),0),\"\")","v":6},{"$f":"IF(A40<>\"\",IFERROR(VLOOKUP(AH40,Tabelas!B:D,3,0),0),\"\")","v":6},{"$f":"IF(A40<>\"\",IFERROR(VLOOKUP(AI40,Tabelas!B:D,3,0),0),\"\")","v":6},{"$f":"IF(A40<>\"\",IFERROR(VLOOKUP(AJ40,Tabelas!B:D,3,0),0),\"\")","v":0},{"$f":"IF(A40<>\"\",IFERROR(VLOOKUP(AK40,Tabelas!B:D,3,0),0),\"\")","v":0}]
["Marcia Tatsch Cavagnollo",1922994,12168,"Médico","RJU",20,"M15",null,null,null,null,"T15","D6","M15",null,null,null,null,"T15","D6","FD",null,null,null,null,"T15","FD","M15",null,null,null,null,"T15","D6","M15",null,null,{"$f":"IF(A41<>\"\",IFERROR(VLOOKUP(G41,Tabelas!B:D,3,0),0),\"\")","v":6},{"$f":"IF(A41<>\"\",IFERROR(VLOOKUP(H41,Tabelas!B:D,3,0),0),\"\")","v":0},{"$f":"IF(A41<>\"\",IFERROR(VLOOKUP(I41,Tabelas!B:D,3,0),0),\"\")","v":0},{"$f":"IF(A41<>\"\",IFERROR(VLOOKUP(J41,Tabelas!B:D,3,0),0),\"\")","v":0},{"$f":"IF(A41<>\"\",IFERROR(VLOOKUP(K41,Tabelas!B:D,3,0),0),\"\")","v":0},{"$f":"IF(A41<>\"\",IFERROR(VLOOKUP(L41,Tabelas!B:D,3,0),0),\"\")","v":6},{"$f":"IF(A41<>\"\",IFERROR(VLOOKUP(M41,Tabelas!B:D,3,0),0),\"\")","v":12},{"$f":"IF(A41<>\"\",IFERROR(VLOOKUP(N41,Tabelas!B:D,3,0),0),\"\")","v":6},{"$f":"IF(A41<>\"\",IFERROR(VLOOKUP(O41,Tabelas!B:D,3,0),0),\"\")","v":0},{"$f":"IF(A41<>\"\",IFERROR(VLOOKUP(P41,Tabelas!B:D,3,0),0),\"\")","v":0},{"$f":"IF(A41<>\"\",IFERROR(VLOOKUP(Q41,Tabelas!B:D,3,0),0),\"\")","v":0},{"$f":"IF(A41<>\"\",IFERROR(VLOOKUP(R41,Tabelas!B:D,3,0),0),\"\")","v":0},{"$f":"IF(A41<>\"\",IFERROR(VLOOKUP(S41,Tabelas!B:D,3,0),0),\"\")","v":6},{"$f":"IF(A41<>\"\",IFERROR(VLOOKUP(T41,Tabelas!B:D,3,0),0),\"\")","v":12},{"$f":"IF(A41<>\"\",IFERROR(VLOOKUP(U41,Tabelas!B:D,3,0),0),\"\")","v":0},{"$f":"IF(A41<>\"\",IFERROR(VLOOKUP(V41,Tabelas!B:D,3,0),0),\"\")","v":0},{"$f":"IF(A41<>\"\",IFERROR(VLOOKUP(W41,Tabelas!B:D,3,0),0),\"\")","v":0},{"$f":"IF(A41<>\"\",IFERROR(VLOOKUP(X41,Tabelas!B:D,3,0),0),\"\")","v":0},{"$f":"IF(A41<>\"\",IFERROR(VLOOKUP(Y41,Tabelas!B:D,3,0),0),\"\")","v":0},{"$f":"IF(A41<>\"\",IFERROR(VLOOKUP(Z41,Tabelas!B:D,3,0),0),\"\")","v":6},{"$f":"IF(A41<>\"\",IFERROR(VLOOKUP(AA41,Tabelas!B:D,3,0),0),\"\")","v":0},{"$f":"IF(A41<>\"\",IFERROR(VLOOKUP(AB41,Tabelas!B:D,3,0),0),\"\")","v":6},{"$f":"IF(A41<>\"\",IFERROR(VLOOKUP(AC41,Tabelas!B:D,3,0),0),\"\")","v":0},{"$f":"IF(A41<>\"\",IFERROR(VLOOKUP(AD41,Tabelas!B:D,3,0),0),\"\")","v":0},{"$f":"IF(A41<>\"\",IFERROR(VLOOKUP(AE41,Tabelas!B:D,3,0),0),\"\")","v":0},{"$f":"IF(A41<>\"\",IFERROR(VLOOKUP(AF41,Tabelas!B:D,3,0),0),\"\")","v":0},{"$f":"IF(A41<>\"\",IFERROR(VLOOKUP(AG41,Tabelas!B:D,3,0),0),\"\")","v":6},{"$f":"IF(A41<>\"\",IFERROR(VLOOKUP(AH41,Tabelas!B:D,3,0),0),\"\")","v":12},{"$f":"IF(A41<>\"\",IFERROR(VLOOKUP(AI41,Tabelas!B:D,3,0),0),\"\")","v":6},{"$f":"IF(A41<>\"\",IFERROR(VLOOKUP(AJ41,Tabelas!B:D,3,0),0),\"\")","v":0},{"$f":"IF(A41<>\"\",IFERROR(VLOOKUP(AK41,Tabelas!B:D,3,0),0),\"\")","v":0}]
["Mariana Costa Silva Valente ",1676055,15060,"Médico","EBSERH",24,null,null,null,null,"D6",null,"D6",null,null,null,null,"D6",null,"D6","FD",null,null,null,"D6",null,"FD",null,null,null,null,"D6",null,"D6",null,null,null,{"$f":"IF(A42<>\"\",IFERROR(VLOOKUP(G42,Tabelas!B:D,3,0),0),\"\")","v":0},{"$f":"IF(A42<>\"\",IFERROR(VLOOKUP(H42,Tabelas!B:D,3,0),0),\"\")","v":0},{"$f":"IF(A42<>\"\",IFERROR(VLOOKUP(I42,Tabelas!B:D,3,0),0),\"\")","v":0},{"$f":"IF(A42<>\"\",IFERROR(VLOOKUP(J42,Tabelas!B:D,3,0),0),\"\")","v":0},{"$f":"IF(A42<>\"\",IFERROR(VLOOKUP(K42,Tabelas!B:D,3,0),0),\"\")","v":12},{"$f":"IF(A42<>\"\",IFERROR(VLOOKUP(L42,Tabelas!B:D,3,0),0),\"\")","v":0},{"$f":"IF(A42<>\"\",IFERROR(VLOOKUP(M42,Tabelas!B:D,3,0),0),\"\")","v":12},{"$f":"IF(A42<>\"\",IFERROR(VLOOKUP(N42,Tabelas!B:D,3,0),0),\"\")","v":0},{"$f":"IF(A42<>\"\",IFERROR(VLOOKUP(O42,Tabelas!B:D,3,0),0),\"\")","v":0},{"$f":"IF(A42<>\"\",IFERROR(VLOOKUP(P42,Tabelas!B:D,3,0),0),\"\")","v":0},{"$f":"IF(A42<>\"\",IFERROR(VLOOKUP(Q42,Tabelas!B:D,3,0),0),\"\")","v":0},{"$f":"IF(A42<>\"\",IFERROR(VLOOKUP(R42,Tabelas!B:D,3,0),0),\"\")","v":12},{"$f":"IF(A42<>\"\",IFERROR(VLOOKUP(S42,Tabelas!B:D,3,0),0),\"\")","v":0},{"$f":"IF(A42<>\"\",IFERROR(VLOOKUP(T42,Tabelas!B:D,3,0),0),\"\")","v":12},{"$f":"IF(A42<>\"\",IFERROR(VLOOKUP(U42,Tabelas!B:D,3,0),0),\"\")","v":0},{"$f":"IF(A42<>\"\",IFERROR(VLOOKUP(V42,Tabelas!B:D,3,0),0),\"\")","v":0},{"$f":"IF(A42<>\"\",IFERROR(VLOOKUP(W42,Tabelas!B:D,3,0),0),\"\")","v":0},{"$f":"IF(A42<>\"\",IFERROR(VLOOKUP(X42,Tabelas!B:D,3,0),0),\"\")","v":0},{"$f":"IF(A42<>\"\",IFERROR(VLOOKUP(Y42,Tabelas!B:D,3,0),0),\"\")","v":12},{"$f":"IF(A42<>\"\",IFERROR(VLOOKUP(Z42,Tabelas!B:D,3,0),0),\"\")","v":0},{"$f":"IF(A42<>\"\",IFERROR(VLOOKUP(AA42,Tabelas!B:D,3,0),0),\"\")","v":0},{"$f":"IF(A42<>\"\",IFERROR(VLOOKUP(AB42,Tabelas!B:D,3,0),0),\"\")","v":0},{"$f":"IF(A42<>\"\",IFERROR(VLOOKUP(AC42,Tabelas!B:D,3,0),0),\"\")","v":0},{"$f":"IF(A42<>\"\",IFERROR(VLOOKUP(AD42,Tabelas!B:D,3,0),0),\"\")","v":0},{"$f":"IF(A42<>\"\",IFERROR(VLOOKUP(AE42,Tabelas!B:D,3,0),0),\"\")","v":0},{"$f":"IF(A42<>\"\",IFERROR(VLOOKUP(AF42,Tabelas!B:D,3,0),0),\"\")","v":12},{"$f":"IF(A42<>\"\",IFERROR(VLOOKUP(AG42,Tabelas!B:D,3,0),0),\"\")","v":0},{"$f":"IF(A42<>\"\",IFERROR(VLOOKUP(AH42,Tabelas!B:D,3,0),0),\"\")","v":12},{"$f":"IF(A42<>\"\",IFERROR(VLOOKUP(AI42,Tabelas!B:D,3,0),0),\"\")","v":0},{"$f":"IF(A42<>\"\",IFERROR(VLOOKUP(AJ42,Tabelas!B:D,3,0),0),\"\")","v":0},{"$f":"IF(A42<>\"\",IFERROR(VLOOKUP(AK42,Tabelas!B:D,3,0),0),\"\")","v":0}]
["Mario Octavio Thá Marques ",2083850,15051,"Médico","RJU",30,"M15",null,null,"M15","M15","M15","M15","M15",null,null,"M15","M15","M15","M15","FD",null,null,"M15","M15","M15","FD","M15",null,null,"M15","M15","M15","M15","M15",null,null,{"$f":"IF(A43<>\"\",IFERROR(VLOOKUP(G43,Tabelas!B:D,3,0),0),\"\")","v":6},{"$f":"IF(A43<>\"\",IFERROR(VLOOKUP(H43,Tabelas!B:D,3,0),0),\"\")","v":0},{"$f":"IF(A43<>\"\",IFERROR(VLOOKUP(I43,Tabelas!B:D,3,0),0),\"\")","v":0},{"$f":"IF(A43<>\"\",IFERROR(VLOOKUP(J43,Tabelas!B:D,3,0),0),\"\")","v":6},{"$f":"IF(A43<>\"\",IFERROR(VLOOKUP(K43,Tabelas!B:D,3,0),0),\"\")","v":6},{"$f":"IF(A43<>\"\",IFERROR(VLOOKUP(L43,Tabelas!B:D,3,0),0),\"\")","v":6},{"$f":"IF(A43<>\"\",IFERROR(VLOOKUP(M43,Tabelas!B:D,3,0),0),\"\")","v":6},{"$f":"IF(A43<>\"\",IFERROR(VLOOKUP(N43,Tabelas!B:D,3,0),0),\"\")","v":6},{"$f":"IF(A43<>\"\",IFERROR(VLOOKUP(O43,Tabelas!B:D,3,0),0),\"\")","v":0},{"$f":"IF(A43<>\"\",IFERROR(VLOOKUP(P43,Tabelas!B:D,3,0),0),\"\")","v":0},{"$f":"IF(A43<>\"\",IFERROR(VLOOKUP(Q43,Tabelas!B:D,3,0),0),\"\")","v":6},{"$f":"IF(A43<>\"\",IFERROR(VLOOKUP(R43,Tabelas!B:D,3,0),0),\"\")","v":6},{"$f":"IF(A43<>\"\",IFERROR(VLOOKUP(S43,Tabelas!B:D,3,0),0),\"\")","v":6},{"$f":"IF(A43<>\"\",IFERROR(VLOOKUP(T43,Tabelas!B:D,3,0),0),\"\")","v":6},{"$f":"IF(A43<>\"\",IFERROR(VLOOKUP(U43,Tabelas!B:D,3,0),0),\"\")","v":0},{"$f":"IF(A43<>\"\",IFERROR(VLOOKUP(V43,Tabelas!B:D,3,0),0),\"\")","v":0},{"$f":"IF(A43<>\"\",IFERROR(VLOOKUP(W43,Tabelas!B:D,3,0),0),\"\")","v":0},{"$f":"IF(A43<>\"\",IFERROR(VLOOKUP(X43,Tabelas!B:D,3,0),0),\"\")","v":6},{"$f":"IF(A43<>\"\",IFERROR(VLOOKUP(Y43,Tabelas!B:D,3,0),0),\"\")","v":6},{"$f":"IF(A43<>\"\",IFERROR(VLOOKUP(Z43,Tabelas!B:D,3,0),0),\"\")","v":6},{"$f":"IF(A43<>\"\",IFERROR(VLOOKUP(AA43,Tabelas!B:D,3,0),0),\"\")","v":0},{"$f":"IF(A43<>\"\",IFERROR(VLOOKUP(AB43,Tabelas!B:D,3,0),0),\"\")","v":6},{"$f":"IF(A43<>\"\",IFERROR(VLOOKUP(AC43,Tabelas!B:D,3,0),0),\"\")","v":0},{"$f":"IF(A43<>\"\",IFERROR(VLOOKUP(AD43,Tabelas!B:D,3,0),0),\"\")","v":0},{"$f":"IF(A43<>\"\",IFERROR(VLOOKUP(AE43,Tabelas!B:D,3,0),0),\"\")","v":6},{"$f":"IF(A43<>\"\",IFERROR(VLOOKUP(AF43,Tabelas!B:D,3,0),0),\"\")","v":6},{"$f":"IF(A43<>\"\",IFERROR(VLOOKUP(AG43,Tabelas!B:D,3,0),0),\"\")","v":6},{"$f":"IF(A43<>\"\",IFERROR(VLOOKUP(AH43,Tabelas!B:D,3,0),0),\"\")","v":6},{"$f":"IF(A43<>\"\",IFERROR(VLOOKUP(AI43,Tabelas!B:D,3,0),0),\"\")","v":6},{"$f":"IF(A43<>\"\",IFERROR(VLOOKUP(AJ43,Tabelas!B:D,3,0),0),\"\")","v":0},{"$f":"IF(A43<>\"\",IFERROR(VLOOKUP(AK43,Tabelas!B:D,3,0),0),\"\")","v":0}]
["Monique Kowalski Schmitz",3141340,10956,"Médico","EBSERH",24,null,null,null,"T15","T15",null,"D6",null,null,null,"T15","T15",null,"D6","FD",null,null,"T15","T15",null,"FD",null,null,null,"T15","T15",null,"FE","FE",null,null,{"$f":"IF(A44<>\"\",IFERROR(VLOOKUP(G44,Tabelas!B:D,3,0),0),\"\")","v":0},{"$f":"IF(A44<>\"\",IFERROR(VLOOKUP(H44,Tabelas!B:D,3,0),0),\"\")","v":0},{"$f":"IF(A44<>\"\",IFERROR(VLOOKUP(I44,Tabelas!B:D,3,0),0),\"\")","v":0},{"$f":"IF(A44<>\"\",IFERROR(VLOOKUP(J44,Tabelas!B:D,3,0),0),\"\")","v":6},{"$f":"IF(A44<>\"\",IFERROR(VLOOKUP(K44,Tabelas!B:D,3,0),0),\"\")","v":6},{"$f":"IF(A44<>\"\",IFERROR(VLOOKUP(L44,Tabelas!B:D,3,0),0),\"\")","v":0},{"$f":"IF(A44<>\"\",IFERROR(VLOOKUP(M44,Tabelas!B:D,3,0),0),\"\")","v":12},{"$f":"IF(A44<>\"\",IFERROR(VLOOKUP(N44,Tabelas!B:D,3,0),0),\"\")","v":0},{"$f":"IF(A44<>\"\",IFERROR(VLOOKUP(O44,Tabelas!B:D,3,0),0),\"\")","v":0},{"$f":"IF(A44<>\"\",IFERROR(VLOOKUP(P44,Tabelas!B:D,3,0),0),\"\")","v":0},{"$f":"IF(A44<>\"\",IFERROR(VLOOKUP(Q44,Tabelas!B:D,3,0),0),\"\")","v":6},{"$f":"IF(A44<>\"\",IFERROR(VLOOKUP(R44,Tabelas!B:D,3,0),0),\"\")","v":6},{"$f":"IF(A44<>\"\",IFERROR(VLOOKUP(S44,Tabelas!B:D,3,0),0),\"\")","v":0},{"$f":"IF(A44<>\"\",IFERROR(VLOOKUP(T44,Tabelas!B:D,3,0),0),\"\")","v":12},{"$f":"IF(A44<>\"\",IFERROR(VLOOKUP(U44,Tabelas!B:D,3,0),0),\"\")","v":0},{"$f":"IF(A44<>\"\",IFERROR(VLOOKUP(V44,Tabelas!B:D,3,0),0),\"\")","v":0},{"$f":"IF(A44<>\"\",IFERROR(VLOOKUP(W44,Tabelas!B:D,3,0),0),\"\")","v":0},{"$f":"IF(A44<>\"\",IFERROR(VLOOKUP(X44,Tabelas!B:D,3,0),0),\"\")","v":6},{"$f":"IF(A44<>\"\",IFERROR(VLOOKUP(Y44,Tabelas!B:D,3,0),0),\"\")","v":6},{"$f":"IF(A44<>\"\",IFERROR(VLOOKUP(Z44,Tabelas!B:D,3,0),0),\"\")","v":0},{"$f":"IF(A44<>\"\",IFERROR(VLOOKUP(AA44,Tabelas!B:D,3,0),0),\"\")","v":0},{"$f":"IF(A44<>\"\",IFERROR(VLOOKUP(AB44,Tabelas!B:D,3,0),0),\"\")","v":0},{"$f":"IF(A44<>\"\",IFERROR(VLOOKUP(AC44,Tabelas!B:D,3,0),0),\"\")","v":0},{"$f":"IF(A44<>\"\",IFERROR(VLOOKUP(AD44,Tabelas!B:D,3,0),0),\"\")","v":0},{"$f":"IF(A44<>\"\",IFERROR(VLOOKUP(AE44,Tabelas!B:D,3,0),0),\"\")","v":6},{"$f":"IF(A44<>\"\",IFERROR(VLOOKUP(AF44,Tabelas!B:D,3,0),0),\"\")","v":6},{"$f":"IF(A44<>\"\",IFERROR(VLOOKUP(AG44,Tabelas!B:D,3,0),0),\"\")","v":0},{"$f":"IF(A44<>\"\",IFERROR(VLOOKUP(AH44,Tabelas!B:D,3,0),0),\"\")","v":0},{"$f":"IF(A44<>\"\",IFERROR(VLOOKUP(AI44,Tabelas!B:D,3,0),0),\"\")","v":0},{"$f":"IF(A44<>\"\",IFERROR(VLOOKUP(AJ44,Tabelas!B:D,3,0),0),\"\")","v":0},{"$f":"IF(A44<>\"\",IFERROR(VLOOKUP(AK44,Tabelas!B:D,3,0),0),\"\")","v":0}]
["Oscar Cardoso Dimatos ",2841698,16451,"Médico","RJU",20,"T15",null,null,"FE","FE","FE","FE","FE",null,null,"FE","FE","FE","FE","FD",null,null,"T15",null,"T15","FD","T15",null,null,"T15",null,"T15","T15","T15",null,null,{"$f":"IF(A45<>\"\",IFERROR(VLOOKUP(G45,Tabelas!B:D,3,0),0),\"\")","v":6},{"$f":"IF(A45<>\"\",IFERROR(VLOOKUP(H45,Tabelas!B:D,3,0),0),\"\")","v":0},{"$f":"IF(A45<>\"\",IFERROR(VLOOKUP(I45,Tabelas!B:D,3,0),0),\"\")","v":0},{"$f":"IF(A45<>\"\",IFERROR(VLOOKUP(J45,Tabelas!B:D,3,0),0),\"\")","v":0},{"$f":"IF(A45<>\"\",IFERROR(VLOOKUP(K45,Tabelas!B:D,3,0),0),\"\")","v":0},{"$f":"IF(A45<>\"\",IFERROR(VLOOKUP(L45,Tabelas!B:D,3,0),0),\"\")","v":0},{"$f":"IF(A45<>\"\",IFERROR(VLOOKUP(M45,Tabelas!B:D,3,0),0),\"\")","v":0},{"$f":"IF(A45<>\"\",IFERROR(VLOOKUP(N45,Tabelas!B:D,3,0),0),\"\")","v":0},{"$f":"IF(A45<>\"\",IFERROR(VLOOKUP(O45,Tabelas!B:D,3,0),0),\"\")","v":0},{"$f":"IF(A45<>\"\",IFERROR(VLOOKUP(P45,Tabelas!B:D,3,0),0),\"\")","v":0},{"$f":"IF(A45<>\"\",IFERROR(VLOOKUP(Q45,Tabelas!B:D,3,0),0),\"\")","v":0},{"$f":"IF(A45<>\"\",IFERROR(VLOOKUP(R45,Tabelas!B:D,3,0),0),\"\")","v":0},{"$f":"IF(A45<>\"\",IFERROR(VLOOKUP(S45,Tabelas!B:D,3,0),0),\"\")","v":0},{"$f":"IF(A45<>\"\",IFERROR(VLOOKUP(T45,Tabelas!B:D,3,0),0),\"\")","v":0},{"$f":"IF(A45<>\"\",IFERROR(VLOOKUP(U45,Tabelas!B:D,3,0),0),\"\")","v":0},{"$f":"IF(A45<>\"\",IFERROR(VLOOKUP(V45,Tabelas!B:D,3,0),0),\"\")","v":0},{"$f":"IF(A45<>\"\",IFERROR(VLOOKUP(W45,Tabelas!B:D,3,0),0),\"\")","v":0},{"$f":"IF(A45<>\"\",IFERROR(VLOOKUP(X45,Tabelas!B:D,3,0),0),\"\")","v":6},{"$f":"IF(A45<>\"\",IFERROR(VLOOKUP(Y45,Tabelas!B:D,3,0),0),\"\")","v":0},{"$f":"IF(A45<>\"\",IFERROR(VLOOKUP(Z45,Tabelas!B:D,3,0),0),\"\")","v":6},{"$f":"IF(A45<>\"\",IFERROR(VLOOKUP(AA45,Tabelas!B:D,3,0),0),\"\")","v":0},{"$f":"IF(A45<>\"\",IFERROR(VLOOKUP(AB45,Tabelas!B:D,3,0),0),\"\")","v":6},{"$f":"IF(A45<>\"\",IFERROR(VLOOKUP(AC45,Tabelas!B:D,3,0),0),\"\")","v":0},{"$f":"IF(A45<>\"\",IFERROR(VLOOKUP(AD45,Tabelas!B:D,3,0),0),\"\")","v":0},{"$f":"IF(A45<>\"\",IFERROR(VLOOKUP(AE45,Tabelas!B:D,3,0),0),\"\")","v":6},{"$f":"IF(A45<>\"\",IFERROR(VLOOKUP(AF45,Tabelas!B:D,3,0),0),\"\")","v":0},{"$f":"IF(A45<>\"\",IFERROR(VLOOKUP(AG45,Tabelas!B:D,3,0),0),\"\")","v":6},{"$f":"IF(A45<>\"\",IFERROR(VLOOKUP(AH45,Tabelas!B:D,3,0),0),\"\")","v":6},{"$f":"IF(A45<>\"\",IFERROR(VLOOKUP(AI45,Tabelas!B:D,3,0),0),\"\")","v":6},{"$f":"IF(A45<>\"\",IFERROR(VLOOKUP(AJ45,Tabelas!B:D,3,0),0),\"\")","v":0},{"$f":"IF(A45<>\"\",IFERROR(VLOOKUP(AK45,Tabelas!B:D,3,0),0),\"\")","v":0}]
["Pablo Moritz ",2312594,6566,"Médico","RJU",20,"M15",null,null,"M15","T15","M15","M15","M15",null,null,"M15","T15","M15","M15","FD",null,null,"M15","T15","M15","FD","M15",null,null,"M15","T15","M15","M15","M15",null,null,{"$f":"IF(A46<>\"\",IFERROR(VLOOKUP(G46,Tabelas!B:D,3,0),0),\"\")","v":6},{"$f":"IF(A46<>\"\",IFERROR(VLOOKUP(H46,Tabelas!B:D,3,0),0),\"\")","v":0},{"$f":"IF(A46<>\"\",IFERROR(VLOOKUP(I46,Tabelas!B:D,3,0),0),\"\")","v":0},{"$f":"IF(A46<>\"\",IFERROR(VLOOKUP(J46,Tabelas!B:D,3,0),0),\"\")","v":6},{"$f":"IF(A46<>\"\",IFERROR(VLOOKUP(K46,Tabelas!B:D,3,0),0),\"\")","v":6},{"$f":"IF(A46<>\"\",IFERROR(VLOOKUP(L46,Tabelas!B:D,3,0),0),\"\")","v":6},{"$f":"IF(A46<>\"\",IFERROR(VLOOKUP(M46,Tabelas!B:D,3,0),0),\"\")","v":6},{"$f":"IF(A46<>\"\",IFERROR(VLOOKUP(N46,Tabelas!B:D,3,0),0),\"\")","v":6},{"$f":"IF(A46<>\"\",IFERROR(VLOOKUP(O46,Tabelas!B:D,3,0),0),\"\")","v":0},{"$f":"IF(A46<>\"\",IFERROR(VLOOKUP(P46,Tabelas!B:D,3,0),0),\"\")","v":0},{"$f":"IF(A46<>\"\",IFERROR(VLOOKUP(Q46,Tabelas!B:D,3,0),0),\"\")","v":6},{"$f":"IF(A46<>\"\",IFERROR(VLOOKUP(R46,Tabelas!B:D,3,0),0),\"\")","v":6},{"$f":"IF(A46<>\"\",IFERROR(VLOOKUP(S46,Tabelas!B:D,3,0),0),\"\")","v":6},{"$f":"IF(A46<>\"\",IFERROR(VLOOKUP(T46,Tabelas!B:D,3,0),0),\"\")","v":6},{"$f":"IF(A46<>\"\",IFERROR(VLOOKUP(U46,Tabelas!B:D,3,0),0),\"\")","v":0},{"$f":"IF(A46<>\"\",IFERROR(VLOOKUP(V46,Tabelas!B:D,3,0),0),\"\")","v":0},{"$f":"IF(A46<>\"\",IFERROR(VLOOKUP(W46,Tabelas!B:D,3,0),0),\"\")","v":0},{"$f":"IF(A46<>\"\",IFERROR(VLOOKUP(X46,Tabelas!B:D,3,0),0),\"\")","v":6},{"$f":"IF(A46<>\"\",IFERROR(VLOOKUP(Y46,Tabelas!B:D,3,0),0),\"\")","v":6},{"$f":"IF(A46<>\"\",IFERROR(VLOOKUP(Z46,Tabelas!B:D,3,0),0),\"\")","v":6},{"$f":"IF(A46<>\"\",IFERROR(VLOOKUP(AA46,Tabelas!B:D,3,0),0),\"\")","v":0},{"$f":"IF(A46<>\"\",IFERROR(VLOOKUP(AB46,Tabelas!B:D,3,0),0),\"\")","v":6},{"$f":"IF(A46<>\"\",IFERROR(VLOOKUP(AC46,Tabelas!B:D,3,0),0),\"\")","v":0},{"$f":"IF(A46<>\"\",IFERROR(VLOOKUP(AD46,Tabelas!B:D,3,0),0),\"\")","v":0},{"$f":"IF(A46<>\"\",IFERROR(VLOOKUP(AE46,Tabelas!B:D,3,0),0),\"\")","v":6},{"$f":"IF(A46<>\"\",IFERROR(VLOOKUP(AF46,Tabelas!B:D,3,0),0),\"\")","v":6},{"$f":"IF(A46<>\"\",IFERROR(VLOOKUP(AG46,Tabelas!B:D,3,0),0),\"\")","v":6},{"$f":"IF(A46<>\"\",IFERROR(VLOOKUP(AH46,Tabelas!B:D,3,0),0),\"\")","v":6},{"$f":"IF(A46<>\"\",IFERROR(VLOOKUP(AI46,Tabelas!B:D,3,0),0),\"\")","v":6},{"$f":"IF(A46<>\"\",IFERROR(VLOOKUP(AJ46,Tabelas!B:D,3,0),0),\"\")","v":0},{"$f":"IF(A46<>\"\",IFERROR(VLOOKUP(AK46,Tabelas!B:D,3,0),0),\"\")","v":0}]
["Patricia de Almeida Vanny",2140466,1280,"Médico","RJU",40,"M15","M15",null,"M15","M15","M15","M15","M15",null,null,"M15","M15","M15","M15","FD",null,null,"M15","M15","M15","FD","M15",null,null,"M15","M15","M15","M15","M15",null,null,{"$f":"IF(A47<>\"\",IFERROR(VLOOKUP(G47,Tabelas!B:D,3,0),0),\"\")","v":6},{"$f":"IF(A47<>\"\",IFERROR(VLOOKUP(H47,Tabelas!B:D,3,0),0),\"\")","v":6},{"$f":"IF(A47<>\"\",IFERROR(VLOOKUP(I47,Tabelas!B:D,3,0),0),\"\")","v":0},{"$f":"IF(A47<>\"\",IFERROR(VLOOKUP(J47,Tabelas!B:D,3,0),0),\"\")","v":6},{"$f":"IF(A47<>\"\",IFERROR(VLOOKUP(K47,Tabelas!B:D,3,0),0),\"\")","v":6},{"$f":"IF(A47<>\"\",IFERROR(VLOOKUP(L47,Tabelas!B:D,3,0),0),\"\")","v":6},{"$f":"IF(A47<>\"\",IFERROR(VLOOKUP(M47,Tabelas!B:D,3,0),0),\"\")","v":6},{"$f":"IF(A47<>\"\",IFERROR(VLOOKUP(N47,Tabelas!B:D,3,0),0),\"\")","v":6},{"$f":"IF(A47<>\"\",IFERROR(VLOOKUP(O47,Tabelas!B:D,3,0),0),\"\")","v":0},{"$f":"IF(A47<>\"\",IFERROR(VLOOKUP(P47,Tabelas!B:D,3,0),0),\"\")","v":0},{"$f":"IF(A47<>\"\",IFERROR(VLOOKUP(Q47,Tabelas!B:D,3,0),0),\"\")","v":6},{"$f":"IF(A47<>\"\",IFERROR(VLOOKUP(R47,Tabelas!B:D,3,0),0),\"\")","v":6},{"$f":"IF(A47<>\"\",IFERROR(VLOOKUP(S47,Tabelas!B:D,3,0),0),\"\")","v":6},{"$f":"IF(A47<>\"\",IFERROR(VLOOKUP(T47,Tabelas!B:D,3,0),0),\"\")","v":6},{"$f":"IF(A47<>\"\",IFERROR(VLOOKUP(U47,Tabelas!B:D,3,0),0),\"\")","v":0},{"$f":"IF(A47<>\"\",IFERROR(VLOOKUP(V47,Tabelas!B:D,3,0),0),\"\")","v":0},{"$f":"IF(A47<>\"\",IFERROR(VLOOKUP(W47,Tabelas!B:D,3,0),0),\"\")","v":0},{"$f":"IF(A47<>\"\",IFERROR(VLOOKUP(X47,Tabelas!B:D,3,0),0),\"\")","v":6},{"$f":"IF(A47<>\"\",IFERROR(VLOOKUP(Y47,Tabelas!B:D,3,0),0),\"\")","v":6},{"$f":"IF(A47<>\"\",IFERROR(VLOOKUP(Z47,Tabelas!B:D,3,0),0),\"\")","v":6},{"$f":"IF(A47<>\"\",IFERROR(VLOOKUP(AA47,Tabelas!B:D,3,0),0),\"\")","v":0},{"$f":"IF(A47<>\"\",IFERROR(VLOOKUP(AB47,Tabelas!B:D,3,0),0),\"\")","v":6},{"$f":"IF(A47<>\"\",IFERROR(VLOOKUP(AC47,Tabelas!B:D,3,0),0),\"\")","v":0},{"$f":"IF(A47<>\"\",IFERROR(VLOOKUP(AD47,Tabelas!B:D,3,0),0),\"\")","v":0},{"$f":"IF(A47<>\"\",IFERROR(VLOOKUP(AE47,Tabelas!B:D,3,0),0),\"\")","v":6},{"$f":"IF(A47<>\"\",IFERROR(VLOOKUP(AF47,Tabelas!B:D,3,0),0),\"\")","v":6},{"$f":"IF(A47<>\"\",IFERROR(VLOOKUP(AG47,Tabelas!B:D,3,0),0),\"\")","v":6},{"$f":"IF(A47<>\"\",IFERROR(VLOOKUP(AH47,Tabelas!B:D,3,0),0),\"\")","v":6},{"$f":"IF(A47<>\"\",IFERROR(VLOOKUP(AI47,Tabelas!B:D,3,0),0),\"\")","v":6},{"$f":"IF(A47<>\"\",IFERROR(VLOOKUP(AJ47,Tabelas!B:D,3,0),0),\"\")","v":0},{"$f":"IF(A47<>\"\",IFERROR(VLOOKUP(AK47,Tabelas!B:D,3,0),0),\"\")","v":0}]
["Ricardo Goes Freitas ",1926676,18155,"Médico","EBSERH",24,"D6",null,null,null,null,"D6","D6","D6",null,null,null,null,"D6","D6","FD",null,null,null,null,"D6","FD","D6",null,null,null,null,"D6","D6","D6",null,null,{"$f":"IF(A48<>\"\",IFERROR(VLOOKUP(G48,Tabelas!B:D,3,0),0),\"\")","v":12},{"$f":"IF(A48<>\"\",IFERROR(VLOOKUP(H48,Tabelas!B:D,3,0),0),\"\")","v":0},{"$f":"IF(A48<>\"\",IFERROR(VLOOKUP(I48,Tabelas!B:D,3,0),0),\"\")","v":0},{"$f":"IF(A48<>\"\",IFERROR(VLOOKUP(J48,Tabelas!B:D,3,0),0),\"\")","v":0},{"$f":"IF(A48<>\"\",IFERROR(VLOOKUP(K48,Tabelas!B:D,3,0),0),\"\")","v":0},{"$f":"IF(A48<>\"\",IFERROR(VLOOKUP(L48,Tabelas!B:D,3,0),0),\"\")","v":12},{"$f":"IF(A48<>\"\",IFERROR(VLOOKUP(M48,Tabelas!B:D,3,0),0),\"\")","v":12},{"$f":"IF(A48<>\"\",IFERROR(VLOOKUP(N48,Tabelas!B:D,3,0),0),\"\")","v":12},{"$f":"IF(A48<>\"\",IFERROR(VLOOKUP(O48,Tabelas!B:D,3,0),0),\"\")","v":0},{"$f":"IF(A48<>\"\",IFERROR(VLOOKUP(P48,Tabelas!B:D,3,0),0),\"\")","v":0},{"$f":"IF(A48<>\"\",IFERROR(VLOOKUP(Q48,Tabelas!B:D,3,0),0),\"\")","v":0},{"$f":"IF(A48<>\"\",IFERROR(VLOOKUP(R48,Tabelas!B:D,3,0),0),\"\")","v":0},{"$f":"IF(A48<>\"\",IFERROR(VLOOKUP(S48,Tabelas!B:D,3,0),0),\"\")","v":12},{"$f":"IF(A48<>\"\",IFERROR(VLOOKUP(T48,Tabelas!B:D,3,0),0),\"\")","v":12},{"$f":"IF(A48<>\"\",IFERROR(VLOOKUP(U48,Tabelas!B:D,3,0),0),\"\")","v":0},{"$f":"IF(A48<>\"\",IFERROR(VLOOKUP(V48,Tabelas!B:D,3,0),0),\"\")","v":0},{"$f":"IF(A48<>\"\",IFERROR(VLOOKUP(W48,Tabelas!B:D,3,0),0),\"\")","v":0},{"$f":"IF(A48<>\"\",IFERROR(VLOOKUP(X48,Tabelas!B:D,3,0),0),\"\")","v":0},{"$f":"IF(A48<>\"\",IFERROR(VLOOKUP(Y48,Tabelas!B:D,3,0),0),\"\")","v":0},{"$f":"IF(A48<>\"\",IFERROR(VLOOKUP(Z48,Tabelas!B:D,3,0),0),\"\")","v":12},{"$f":"IF(A48<>\"\",IFERROR(VLOOKUP(AA48,Tabelas!B:D,3,0),0),\"\")","v":0},{"$f":"IF(A48<>\"\",IFERROR(VLOOKUP(AB48,Tabelas!B:D,3,0),0),\"\")","v":12},{"$f":"IF(A48<>\"\",IFERROR(VLOOKUP(AC48,Tabelas!B:D,3,0),0),\"\")","v":0},{"$f":"IF(A48<>\"\",IFERROR(VLOOKUP(AD48,Tabelas!B:D,3,0),0),\"\")","v":0},{"$f":"IF(A48<>\"\",IFERROR(VLOOKUP(AE48,Tabelas!B:D,3,0),0),\"\")","v":0},{"$f":"IF(A48<>\"\",IFERROR(VLOOKUP(AF48,Tabelas!B:D,3,0),0),\"\")","v":0},{"$f":"IF(A48<>\"\",IFERROR(VLOOKUP(AG48,Tabelas!B:D,3,0),0),\"\")","v":12},{"$f":"IF(A48<>\"\",IFERROR(VLOOKUP(AH48,Tabelas!B:D,3,0),0),\"\")","v":12},{"$f":"IF(A48<>\"\",IFERROR(VLOOKUP(AI48,Tabelas!B:D,3,0),0),\"\")","v":12},{"$f":"IF(A48<>\"\",IFERROR(VLOOKUP(AJ48,Tabelas!B:D,3,0),0),\"\")","v":0},{"$f":"IF(A48<>\"\",IFERROR(VLOOKUP(AK48,Tabelas!B:D,3,0),0),\"\")","v":0}]
["Roberto Henrique Heinisch",1159126,3907,"Mécico","RJU",20,null,null,null,"T15","T15","T15","T15",null,null,null,"T15","T15","T15","T15","FD",null,null,"T15","T15","T15","FD",null,null,null,"T15","T15","T15","T15",null,null,null,{"$f":"IF(A49<>\"\",IFERROR(VLOOKUP(G49,Tabelas!B:D,3,0),0),\"\")","v":0},{"$f":"IF(A49<>\"\",IFERROR(VLOOKUP(H49,Tabelas!B:D,3,0),0),\"\")","v":0},{"$f":"IF(A49<>\"\",IFERROR(VLOOKUP(I49,Tabelas!B:D,3,0),0),\"\")","v":0},{"$f":"IF(A49<>\"\",IFERROR(VLOOKUP(J49,Tabelas!B:D,3,0),0),\"\")","v":6},{"$f":"IF(A49<>\"\",IFERROR(VLOOKUP(K49,Tabelas!B:D,3,0),0),\"\")","v":6},{"$f":"IF(A49<>\"\",IFERROR(VLOOKUP(L49,Tabelas!B:D,3,0),0),\"\")","v":6},{"$f":"IF(A49<>\"\",IFERROR(VLOOKUP(M49,Tabelas!B:D,3,0),0),\"\")","v":6},{"$f":"IF(A49<>\"\",IFERROR(VLOOKUP(N49,Tabelas!B:D,3,0),0),\"\")","v":0},{"$f":"IF(A49<>\"\",IFERROR(VLOOKUP(O49,Tabelas!B:D,3,0),0),\"\")","v":0},{"$f":"IF(A49<>\"\",IFERROR(VLOOKUP(P49,Tabelas!B:D,3,0),0),\"\")","v":0},{"$f":"IF(A49<>\"\",IFERROR(VLOOKUP(Q49,Tabelas!B:D,3,0),0),\"\")","v":6},{"$f":"IF(A49<>\"\",IFERROR(VLOOKUP(R49,Tabelas!B:D,3,0),0),\"\")","v":6},{"$f":"IF(A49<>\"\",IFERROR(VLOOKUP(S49,Tabelas!B:D,3,0),0),\"\")","v":6},{"$f":"IF(A49<>\"\",IFERROR(VLOOKUP(T49,Tabelas!B:D,3,0),0),\"\")","v":6},{"$f":"IF(A49<>\"\",IFERROR(VLOOKUP(U49,Tabelas!B:D,3,0),0),\"\")","v":0},{"$f":"IF(A49<>\"\",IFERROR(VLOOKUP(V49,Tabelas!B:D,3,0),0),\"\")","v":0},{"$f":"IF(A49<>\"\",IFERROR(VLOOKUP(W49,Tabelas!B:D,3,0),0),\"\")","v":0},{"$f":"IF(A49<>\"\",IFERROR(VLOOKUP(X49,Tabelas!B:D,3,0),0),\"\")","v":6},{"$f":"IF(A49<>\"\",IFERROR(VLOOKUP(Y49,Tabelas!B:D,3,0),0),\"\")","v":6},{"$f":"IF(A49<>\"\",IFERROR(VLOOKUP(Z49,Tabelas!B:D,3,0),0),\"\")","v":6},{"$f":"IF(A49<>\"\",IFERROR(VLOOKUP(AA49,Tabelas!B:D,3,0),0),\"\")","v":0},{"$f":"IF(A49<>\"\",IFERROR(VLOOKUP(AB49,Tabelas!B:D,3,0),0),\"\")","v":0},{"$f":"IF(A49<>\"\",IFERROR(VLOOKUP(AC49,Tabelas!B:D,3,0),0),\"\")","v":0},{"$f":"IF(A49<>\"\",IFERROR(VLOOKUP(AD49,Tabelas!B:D,3,0),0),\"\")","v":0},{"$f":"IF(A49<>\"\",IFERROR(VLOOKUP(AE49,Tabelas!B:D,3,0),0),\"\")","v":6},{"$f":"IF(A49<>\"\",IFERROR(VLOOKUP(AF49,Tabelas!B:D,3,0),0),\"\")","v":6},{"$f":"IF(A49<>\"\",IFERROR(VLOOKUP(AG49,Tabelas!B:D,3,0),0),\"\")","v":6},{"$f":"IF(A49<>\"\",IFERROR(VLOOKUP(AH49,Tabelas!B:D,3,0),0),\"\")","v":6},{"$f":"IF(A49<>\"\",IFERROR(VLOOKUP(AI49,Tabelas!B:D,3,0),0),\"\")","v":0},{"$f":"IF(A49<>\"\",IFERROR(VLOOKUP(AJ49,Tabelas!B:D,3,0),0),\"\")","v":0},{"$f":"IF(A49<>\"\",IFERROR(VLOOKUP(AK49,Tabelas!B:D,3,0),0),\"\")","v":0}]
["Rodrigo Dagostini Derech",3053154,12632,"Médico","EBSERH",24,"D6",null,null,"T15",null,"FE","FE","FE",null,null,"FE","FE","FE","FE","FD",null,null,"FE","FE","FE","FD","D6",null,null,"T15",null,"T15",null,"D6",null,null,{"$f":"IF(A50<>\"\",IFERROR(VLOOKUP(G50,Tabelas!B:D,3,0),0),\"\")","v":12},{"$f":"IF(A50<>\"\",IFERROR(VLOOKUP(H50,Tabelas!B:D,3,0),0),\"\")","v":0},{"$f":"IF(A50<>\"\",IFERROR(VLOOKUP(I50,Tabelas!B:D,3,0),0),\"\")","v":0},{"$f":"IF(A50<>\"\",IFERROR(VLOOKUP(J50,Tabelas!B:D,3,0),0),\"\")","v":6},{"$f":"IF(A50<>\"\",IFERROR(VLOOKUP(K50,Tabelas!B:D,3,0),0),\"\")","v":0},{"$f":"IF(A50<>\"\",IFERROR(VLOOKUP(L50,Tabelas!B:D,3,0),0),\"\")","v":0},{"$f":"IF(A50<>\"\",IFERROR(VLOOKUP(M50,Tabelas!B:D,3,0),0),\"\")","v":0},{"$f":"IF(A50<>\"\",IFERROR(VLOOKUP(N50,Tabelas!B:D,3,0),0),\"\")","v":0},{"$f":"IF(A50<>\"\",IFERROR(VLOOKUP(O50,Tabelas!B:D,3,0),0),\"\")","v":0},{"$f":"IF(A50<>\"\",IFERROR(VLOOKUP(P50,Tabelas!B:D,3,0),0),\"\")","v":0},{"$f":"IF(A50<>\"\",IFERROR(VLOOKUP(Q50,Tabelas!B:D,3,0),0),\"\")","v":0},{"$f":"IF(A50<>\"\",IFERROR(VLOOKUP(R50,Tabelas!B:D,3,0),0),\"\")","v":0},{"$f":"IF(A50<>\"\",IFERROR(VLOOKUP(S50,Tabelas!B:D,3,0),0),\"\")","v":0},{"$f":"IF(A50<>\"\",IFERROR(VLOOKUP(T50,Tabelas!B:D,3,0),0),\"\")","v":0},{"$f":"IF(A50<>\"\",IFERROR(VLOOKUP(U50,Tabelas!B:D,3,0),0),\"\")","v":0},{"$f":"IF(A50<>\"\",IFERROR(VLOOKUP(V50,Tabelas!B:D,3,0),0),\"\")","v":0},{"$f":"IF(A50<>\"\",IFERROR(VLOOKUP(W50,Tabelas!B:D,3,0),0),\"\")","v":0},{"$f":"IF(A50<>\"\",IFERROR(VLOOKUP(X50,Tabelas!B:D,3,0),0),\"\")","v":0},{"$f":"IF(A50<>\"\",IFERROR(VLOOKUP(Y50,Tabelas!B:D,3,0),0),\"\")","v":0},{"$f":"IF(A50<>\"\",IFERROR(VLOOKUP(Z50,Tabelas!B:D,3,0),0),\"\")","v":0},{"$f":"IF(A50<>\"\",IFERROR(VLOOKUP(AA50,Tabelas!B:D,3,0),0),\"\")","v":0},{"$f":"IF(A50<>\"\",IFERROR(VLOOKUP(AB50,Tabelas!B:D,3,0),0),\"\")","v":12},{"$f":"IF(A50<>\"\",IFERROR(VLOOKUP(AC50,Tabelas!B:D,3,0),0),\"\")","v":0},{"$f":"IF(A50<>\"\",IFERROR(VLOOKUP(AD50,Tabelas!B:D,3,0),0),\"\")","v":0},{"$f":"IF(A50<>\"\",IFERROR(VLOOKUP(AE50,Tabelas!B:D,3,0),0),\"\")","v":6},{"$f":"IF(A50<>\"\",IFERROR(VLOOKUP(AF50,Tabelas!B:D,3,0),0),\"\")","v":0},{"$f":"IF(A50<>\"\",IFERROR(VLOOKUP(AG50,Tabelas!B:D,3,0),0),\"\")","v":6},{"$f":"IF(A50<>\"\",IFERROR(VLOOKUP(AH50,Tabelas!B:D,3,0),0),\"\")","v":0},{"$f":"IF(A50<>\"\",IFERROR(VLOOKUP(AI50,Tabelas!B:D,3,0),0),\"\")","v":12},{"$f":"IF(A50<>\"\",IFERROR(VLOOKUP(AJ50,Tabelas!B:D,3,0),0),\"\")","v":0},{"$f":"IF(A50<>\"\",IFERROR(VLOOKUP(AK50,Tabelas!B:D,3,0),0),\"\")","v":0}]
["Roger Pirath Rodrigues ",1440902,10218,"Médico","RJU",20,"M15",null,null,"M15","M15","M15","T15","M15",null,null,"M15","M15","M15","T15","FD",null,null,"M15","M15","M15","FD","M15",null,null,"M15","M15","M15","T15","M15",null,null,{"$f":"IF(A51<>\"\",IFERROR(VLOOKUP(G51,Tabelas!B:D,3,0),0),\"\")","v":6},{"$f":"IF(A51<>\"\",IFERROR(VLOOKUP(H51,Tabelas!B:D,3,0),0),\"\")","v":0},{"$f":"IF(A51<>\"\",IFERROR(VLOOKUP(I51,Tabelas!B:D,3,0),0),\"\")","v":0},{"$f":"IF(A51<>\"\",IFERROR(VLOOKUP(J51,Tabelas!B:D,3,0),0),\"\")","v":6},{"$f":"IF(A51<>\"\",IFERROR(VLOOKUP(K51,Tabelas!B:D,3,0),0),\"\")","v":6},{"$f":"IF(A51<>\"\",IFERROR(VLOOKUP(L51,Tabelas!B:D,3,0),0),\"\")","v":6},{"$f":"IF(A51<>\"\",IFERROR(VLOOKUP(M51,Tabelas!B:D,3,0),0),\"\")","v":6},{"$f":"IF(A51<>\"\",IFERROR(VLOOKUP(N51,Tabelas!B:D,3,0),0),\"\")","v":6},{"$f":"IF(A51<>\"\",IFERROR(VLOOKUP(O51,Tabelas!B:D,3,0),0),\"\")","v":0},{"$f":"IF(A51<>\"\",IFERROR(VLOOKUP(P51,Tabelas!B:D,3,0),0),\"\")","v":0},{"$f":"IF(A51<>\"\",IFERROR(VLOOKUP(Q51,Tabelas!B:D,3,0),0),\"\")","v":6},{"$f":"IF(A51<>\"\",IFERROR(VLOOKUP(R51,Tabelas!B:D,3,0),0),\"\")","v":6},{"$f":"IF(A51<>\"\",IFERROR(VLOOKUP(S51,Tabelas!B:D,3,0),0),\"\")","v":6},{"$f":"IF(A51<>\"\",IFERROR(VLOOKUP(T51,Tabelas!B:D,3,0),0),\"\")","v":6},{"$f":"IF(A51<>\"\",IFERROR(VLOOKUP(U51,Tabelas!B:D,3,0),0),\"\")","v":0},{"$f":"IF(A51<>\"\",IFERROR(VLOOKUP(V51,Tabelas!B:D,3,0),0),\"\")","v":0},{"$f":"IF(A51<>\"\",IFERROR(VLOOKUP(W51,Tabelas!B:D,3,0),0),\"\")","v":0},{"$f":"IF(A51<>\"\",IFERROR(VLOOKUP(X51,Tabelas!B:D,3,0),0),\"\")","v":6},{"$f":"IF(A51<>\"\",IFERROR(VLOOKUP(Y51,Tabelas!B:D,3,0),0),\"\")","v":6},{"$f":"IF(A51<>\"\",IFERROR(VLOOKUP(Z51,Tabelas!B:D,3,0),0),\"\")","v":6},{"$f":"IF(A51<>\"\",IFERROR(VLOOKUP(AA51,Tabelas!B:D,3,0),0),\"\")","v":0},{"$f":"IF(A51<>\"\",IFERROR(VLOOKUP(AB51,Tabelas!B:D,3,0),0),\"\")","v":6},{"$f":"IF(A51<>\"\",IFERROR(VLOOKUP(AC51,Tabelas!B:D,3,0),0),\"\")","v":0},{"$f":"IF(A51<>\"\",IFERROR(VLOOKUP(AD51,Tabelas!B:D,3,0),0),\"\")","v":0},{"$f":"IF(A51<>\"\",IFERROR(VLOOKUP(AE51,Tabelas!B:D,3,0),0),\"\")","v":6},{"$f":"IF(A51<>\"\",IFERROR(VLOOKUP(AF51,Tabelas!B:D,3,0),0),\"\")","v":6},{"$f":"IF(A51<>\"\",IFERROR(VLOOKUP(AG51,Tabelas!B:D,3,0),0),\"\")","v":6},{"$f":"IF(A51<>\"\",IFERROR(VLOOKUP(AH51,Tabelas!B:D,3,0),0),\"\")","v":6},{"$f":"IF(A51<>\"\",IFERROR(VLOOKUP(AI51,Tabelas!B:D,3,0),0),\"\")","v":6},{"$f":"IF(A51<>\"\",IFERROR(VLOOKUP(AJ51,Tabelas!B:D,3,0),0),\"\")","v":0},{"$f":"IF(A51<>\"\",IFERROR(VLOOKUP(AK51,Tabelas!B:D,3,0),0),\"\")","v":0}]
["Rosimeri Maureci da Silva ",4160231,5465,"Médico","RJU",40,"M15",null,null,"D6","D6","D6","T15","M15",null,null,"D6","D6","D6","T15","FD",null,null,"D6","D6","D6","FD","M15",null,null,"D6","D6","D6","T15","M15",null,null,{"$f":"IF(A52<>\"\",IFERROR(VLOOKUP(G52,Tabelas!B:D,3,0),0),\"\")","v":6},{"$f":"IF(A52<>\"\",IFERROR(VLOOKUP(H52,Tabelas!B:D,3,0),0),\"\")","v":0},{"$f":"IF(A52<>\"\",IFERROR(VLOOKUP(I52,Tabelas!B:D,3,0),0),\"\")","v":0},{"$f":"IF(A52<>\"\",IFERROR(VLOOKUP(J52,Tabelas!B:D,3,0),0),\"\")","v":12},{"$f":"IF(A52<>\"\",IFERROR(VLOOKUP(K52,Tabelas!B:D,3,0),0),\"\")","v":12},{"$f":"IF(A52<>\"\",IFERROR(VLOOKUP(L52,Tabelas!B:D,3,0),0),\"\")","v":12},{"$f":"IF(A52<>\"\",IFERROR(VLOOKUP(M52,Tabelas!B:D,3,0),0),\"\")","v":6},{"$f":"IF(A52<>\"\",IFERROR(VLOOKUP(N52,Tabelas!B:D,3,0),0),\"\")","v":6},{"$f":"IF(A52<>\"\",IFERROR(VLOOKUP(O52,Tabelas!B:D,3,0),0),\"\")","v":0},{"$f":"IF(A52<>\"\",IFERROR(VLOOKUP(P52,Tabelas!B:D,3,0),0),\"\")","v":0},{"$f":"IF(A52<>\"\",IFERROR(VLOOKUP(Q52,Tabelas!B:D,3,0),0),\"\")","v":12},{"$f":"IF(A52<>\"\",IFERROR(VLOOKUP(R52,Tabelas!B:D,3,0),0),\"\")","v":12},{"$f":"IF(A52<>\"\",IFERROR(VLOOKUP(S52,Tabelas!B:D,3,0),0),\"\")","v":12},{"$f":"IF(A52<>\"\",IFERROR(VLOOKUP(T52,Tabelas!B:D,3,0),0),\"\")","v":6},{"$f":"IF(A52<>\"\",IFERROR(VLOOKUP(U52,Tabelas!B:D,3,0),0),\"\")","v":0},{"$f":"IF(A52<>\"\",IFERROR(VLOOKUP(V52,Tabelas!B:D,3,0),0),\"\")","v":0},{"$f":"IF(A52<>\"\",IFERROR(VLOOKUP(W52,Tabelas!B:D,3,0),0),\"\")","v":0},{"$f":"IF(A52<>\"\",IFERROR(VLOOKUP(X52,Tabelas!B:D,3,0),0),\"\")","v":12},{"$f":"IF(A52<>\"\",IFERROR(VLOOKUP(Y52,Tabelas!B:D,3,0),0),\"\")","v":12},{"$f":"IF(A52<>\"\",IFERROR(VLOOKUP(Z52,Tabelas!B:D,3,0),0),\"\")","v":12},{"$f":"IF(A52<>\"\",IFERROR(VLOOKUP(AA52,Tabelas!B:D,3,0),0),\"\")","v":0},{"$f":"IF(A52<>\"\",IFERROR(VLOOKUP(AB52,Tabelas!B:D,3,0),0),\"\")","v":6},{"$f":"IF(A52<>\"\",IFERROR(VLOOKUP(AC52,Tabelas!B:D,3,0),0),\"\")","v":0},{"$f":"IF(A52<>\"\",IFERROR(VLOOKUP(AD52,Tabelas!B:D,3,0),0),\"\")","v":0},{"$f":"IF(A52<>\"\",IFERROR(VLOOKUP(AE52,Tabelas!B:D,3,0),0),\"\")","v":12},{"$f":"IF(A52<>\"\",IFERROR(VLOOKUP(AF52,Tabelas!B:D,3,0),0),\"\")","v":12},{"$f":"IF(A52<>\"\",IFERROR(VLOOKUP(AG52,Tabelas!B:D,3,0),0),\"\")","v":12},{"$f":"IF(A52<>\"\",IFERROR(VLOOKUP(AH52,Tabelas!B:D,3,0),0),\"\")","v":6},{"$f":"IF(A52<>\"\",IFERROR(VLOOKUP(AI52,Tabelas!B:D,3,0),0),\"\")","v":6},{"$f":"IF(A52<>\"\",IFERROR(VLOOKUP(AJ52,Tabelas!B:D,3,0),0),\"\")","v":0},{"$f":"IF(A52<>\"\",IFERROR(VLOOKUP(AK52,Tabelas!B:D,3,0),0),\"\")","v":0}]
["Shirley Maximo de Souza",2060635,2775,"Médico","EBSERH",24,"D6",null,null,"M15","M15",null,"M15","D6",null,null,"M15","M15",null,"M15","FD",null,null,"M15","M15",null,"FD","D6",null,null,"M15","M15",null,"M15","D6",null,null,{"$f":"IF(A53<>\"\",IFERROR(VLOOKUP(G53,Tabelas!B:D,3,0),0),\"\")","v":12},{"$f":"IF(A53<>\"\",IFERROR(VLOOKUP(H53,Tabelas!B:D,3,0),0),\"\")","v":0},{"$f":"IF(A53<>\"\",IFERROR(VLOOKUP(I53,Tabelas!B:D,3,0),0),\"\")","v":0},{"$f":"IF(A53<>\"\",IFERROR(VLOOKUP(J53,Tabelas!B:D,3,0),0),\"\")","v":6},{"$f":"IF(A53<>\"\",IFERROR(VLOOKUP(K53,Tabelas!B:D,3,0),0),\"\")","v":6},{"$f":"IF(A53<>\"\",IFERROR(VLOOKUP(L53,Tabelas!B:D,3,0),0),\"\")","v":0},{"$f":"IF(A53<>\"\",IFERROR(VLOOKUP(M53,Tabelas!B:D,3,0),0),\"\")","v":6},{"$f":"IF(A53<>\"\",IFERROR(VLOOKUP(N53,Tabelas!B:D,3,0),0),\"\")","v":12},{"$f":"IF(A53<>\"\",IFERROR(VLOOKUP(O53,Tabelas!B:D,3,0),0),\"\")","v":0},{"$f":"IF(A53<>\"\",IFERROR(VLOOKUP(P53,Tabelas!B:D,3,0),0),\"\")","v":0},{"$f":"IF(A53<>\"\",IFERROR(VLOOKUP(Q53,Tabelas!B:D,3,0),0),\"\")","v":6},{"$f":"IF(A53<>\"\",IFERROR(VLOOKUP(R53,Tabelas!B:D,3,0),0),\"\")","v":6},{"$f":"IF(A53<>\"\",IFERROR(VLOOKUP(S53,Tabelas!B:D,3,0),0),\"\")","v":0},{"$f":"IF(A53<>\"\",IFERROR(VLOOKUP(T53,Tabelas!B:D,3,0),0),\"\")","v":6},{"$f":"IF(A53<>\"\",IFERROR(VLOOKUP(U53,Tabelas!B:D,3,0),0),\"\")","v":0},{"$f":"IF(A53<>\"\",IFERROR(VLOOKUP(V53,Tabelas!B:D,3,0),0),\"\")","v":0},{"$f":"IF(A53<>\"\",IFERROR(VLOOKUP(W53,Tabelas!B:D,3,0),0),\"\")","v":0},{"$f":"IF(A53<>\"\",IFERROR(VLOOKUP(X53,Tabelas!B:D,3,0),0),\"\")","v":6},{"$f":"IF(A53<>\"\",IFERROR(VLOOKUP(Y53,Tabelas!B:D,3,0),0),\"\")","v":6},{"$f":"IF(A53<>\"\",IFERROR(VLOOKUP(Z53,Tabelas!B:D,3,0),0),\"\")","v":0},{"$f":"IF(A53<>\"\",IFERROR(VLOOKUP(AA53,Tabelas!B:D,3,0),0),\"\")","v":0},{"$f":"IF(A53<>\"\",IFERROR(VLOOKUP(AB53,Tabelas!B:D,3,0),0),\"\")","v":12},{"$f":"IF(A53<>\"\",IFERROR(VLOOKUP(AC53,Tabelas!B:D,3,0),0),\"\")","v":0},{"$f":"IF(A53<>\"\",IFERROR(VLOOKUP(AD53,Tabelas!B:D,3,0),0),\"\")","v":0},{"$f":"IF(A53<>\"\",IFERROR(VLOOKUP(AE53,Tabelas!B:D,3,0),0),\"\")","v":6},{"$f":"IF(A53<>\"\",IFERROR(VLOOKUP(AF53,Tabelas!B:D,3,0),0),\"\")","v":6},{"$f":"IF(A53<>\"\",IFERROR(VLOOKUP(AG53,Tabelas!B:D,3,0),0),\"\")","v":0},{"$f":"IF(A53<>\"\",IFERROR(VLOOKUP(AH53,Tabelas!B:D,3,0),0),\"\")","v":6},{"$f":"IF(A53<>\"\",IFERROR(VLOOKUP(AI53,Tabelas!B:D,3,0),0),\"\")","v":12},{"$f":"IF(A53<>\"\",IFERROR(VLOOKUP(AJ53,Tabelas!B:D,3,0),0),\"\")","v":0},{"$f":"IF(A53<>\"\",IFERROR(VLOOKUP(AK53,Tabelas!B:D,3,0),0),\"\")","v":0}]
["Thais Rossoni Weber da Silva ",2676080,14819,"Médico","RJU",20,null,null,null,"D6","T15",null,null,null,null,null,"D6","T15",null,null,"FD",null,null,"D6","T15",null,"FD",null,null,null,"D6","T15",null,null,null,null,null,{"$f":"IF(A54<>\"\",IFERROR(VLOOKUP(G54,Tabelas!B:D,3,0),0),\"\")","v":0},{"$f":"IF(A54<>\"\",IFERROR(VLOOKUP(H54,Tabelas!B:D,3,0),0),\"\")","v":0},{"$f":"IF(A54<>\"\",IFERROR(VLOOKUP(I54,Tabelas!B:D,3,0),0),\"\")","v":0},{"$f":"IF(A54<>\"\",IFERROR(VLOOKUP(J54,Tabelas!B:D,3,0),0),\"\")","v":12},{"$f":"IF(A54<>\"\",IFERROR(VLOOKUP(K54,Tabelas!B:D,3,0),0),\"\")","v":6},{"$f":"IF(A54<>\"\",IFERROR(VLOOKUP(L54,Tabelas!B:D,3,0),0),\"\")","v":0},{"$f":"IF(A54<>\"\",IFERROR(VLOOKUP(M54,Tabelas!B:D,3,0),0),\"\")","v":0},{"$f":"IF(A54<>\"\",IFERROR(VLOOKUP(N54,Tabelas!B:D,3,0),0),\"\")","v":0},{"$f":"IF(A54<>\"\",IFERROR(VLOOKUP(O54,Tabelas!B:D,3,0),0),\"\")","v":0},{"$f":"IF(A54<>\"\",IFERROR(VLOOKUP(P54,Tabelas!B:D,3,0),0),\"\")","v":0},{"$f":"IF(A54<>\"\",IFERROR(VLOOKUP(Q54,Tabelas!B:D,3,0),0),\"\")","v":12},{"$f":"IF(A54<>\"\",IFERROR(VLOOKUP(R54,Tabelas!B:D,3,0),0),\"\")","v":6},{"$f":"IF(A54<>\"\",IFERROR(VLOOKUP(S54,Tabelas!B:D,3,0),0),\"\")","v":0},{"$f":"IF(A54<>\"\",IFERROR(VLOOKUP(T54,Tabelas!B:D,3,0),0),\"\")","v":0},{"$f":"IF(A54<>\"\",IFERROR(VLOOKUP(U54,Tabelas!B:D,3,0),0),\"\")","v":0},{"$f":"IF(A54<>\"\",IFERROR(VLOOKUP(V54,Tabelas!B:D,3,0),0),\"\")","v":0},{"$f":"IF(A54<>\"\",IFERROR(VLOOKUP(W54,Tabelas!B:D,3,0),0),\"\")","v":0},{"$f":"IF(A54<>\"\",IFERROR(VLOOKUP(X54,Tabelas!B:D,3,0),0),\"\")","v":12},{"$f":"IF(A54<>\"\",IFERROR(VLOOKUP(Y54,Tabelas!B:D,3,0),0),\"\")","v":6},{"$f":"IF(A54<>\"\",IFERROR(VLOOKUP(Z54,Tabelas!B:D,3,0),0),\"\")","v":0},{"$f":"IF(A54<>\"\",IFERROR(VLOOKUP(AA54,Tabelas!B:D,3,0),0),\"\")","v":0},{"$f":"IF(A54<>\"\",IFERROR(VLOOKUP(AB54,Tabelas!B:D,3,0),0),\"\")","v":0},{"$f":"IF(A54<>\"\",IFERROR(VLOOKUP(AC54,Tabelas!B:D,3,0),0),\"\")","v":0},{"$f":"IF(A54<>\"\",IFERROR(VLOOKUP(AD54,Tabelas!B:D,3,0),0),\"\")","v":0},{"$f":"IF(A54<>\"\",IFERROR(VLOOKUP(AE54,Tabelas!B:D,3,0),0),\"\")","v":12},{"$f":"IF(A54<>\"\",IFERROR(VLOOKUP(AF54,Tabelas!B:D,3,0),0),\"\")","v":6},{"$f":"IF(A54<>\"\",IFERROR(VLOOKUP(AG54,Tabelas!B:D,3,0),0),\"\")","v":0},{"$f":"IF(A54<>\"\",IFERROR(VLOOKUP(AH54,Tabelas!B:D,3,0),0),\"\")","v":0},{"$f":"IF(A54<>\"\",IFERROR(VLOOKUP(AI54,Tabelas!B:D,3,0),0),\"\")","v":0},{"$f":"IF(A54<>\"\",IFERROR(VLOOKUP(AJ54,Tabelas!B:D,3,0),0),\"\")","v":0},{"$f":"IF(A54<>\"\",IFERROR(VLOOKUP(AK54,Tabelas!B:D,3,0),0),\"\")","v":0}]
["                  CHEFE DE UNIDADE",null,null,null,null,null,null,null,null,null,null,null,null,null,null,null,null,null,null,null,"FD"]
["Luciana Bonnassis Burg ",3442495,10820,"Médico","RJU",40,"D6",null,null,"D6","M15","D6","D6","D6",null,null,"D6","M15","D6","D6","FD",null,null,"D6","M15","D6","FD","D6",null,null,"D6","M15","D6","D6","M15"]
["TOTAL PROFISSIONAIS MATUTINO",null,null,null,null,null,null,{"$f":"IF(COUNTIF(H36:H53,\"M*\")+ COUNTIF(H36:H53, \"D*\")-COUNTIF(H36:H53,\"DSR\")<>0,COUNTIF(H36:H53,\"M*\")+ COUNTIF(H36:H53, \"D*\")-COUNTIF(H36:H53,\"DSR\"),\"\")","v":1},{"$f":"IF(COUNTIF(I36:I53,\"M*\")+ COUNTIF(I36:I53, \"D*\")-COUNTIF(I36:I53,\"DSR\")<>0,COUNTIF(I36:I53,\"M*\")+ COUNTIF(I36:I53, \"D*\")-COUNTIF(I36:I53,\"DSR\"),\"\")","v":""},null,null,null,null,null,{"$f":"IF(COUNTIF(O36:O53,\"M*\")+ COUNTIF(O36:O53, \"D*\")-COUNTIF(O36:O53,\"DSR\")<>0,COUNTIF(O36:O53,\"M*\")+ COUNTIF(O36:O53, \"D*\")-COUNTIF(O36:O53,\"DSR\"),\"\")","v":""},{"$f":"IF(COUNTIF(P36:P53,\"M*\")+ COUNTIF(P36:P53, \"D*\")-COUNTIF(P36:P53,\"DSR\")<>0,COUNTIF(P36:P53,\"M*\")+ COUNTIF(P36:P53, \"D*\")-COUNTIF(P36:P53,\"DSR\"),\"\")","v":""},null,null,null,null,null,null,null,null,null,null,null,null,null,null,null,null,null,null,null,{"$f":"IF(COUNTIF(AJ36:AJ53,\"M*\")+ COUNTIF(AJ36:AJ53, \"D*\")-COUNTIF(AJ36:AJ53,\"DSR\")<>0,COUNTIF(AJ36:AJ53,\"M*\")+ COUNTIF(AJ36:AJ53, \"D*\")-COUNTIF(AJ36:AJ53,\"DSR\"),\"\")","v":""},{"$f":"IF(COUNTIF(AK36:AK53,\"M*\")+ COUNTIF(AK36:AK53, \"D*\")-COUNTIF(AK36:AK53,\"DSR\")<>0,COUNTIF(AK36:AK53,\"M*\")+ COUNTIF(AK36:AK53, \"D*\")-COUNTIF(AK36:AK53,\"DSR\"),\"\")","v":""}]
["TOTAL DE PROFISSIONAIS VESPERTINO",null,null,null,null,null,null,{"$f":"IF(COUNTIF(H36:H53,\"MT*\") + COUNTIF(H36:H53, \"D*\") + COUNTIF(H36:H53,\"T*\")-COUNTIF(H36:H53,\"DSR\")<>0,COUNTIF(H36:H53,\"MT*\") + COUNTIF(H36:H53, \"D*\") + COUNTIF(H36:H53,\"T*\")-COUNTIF(H36:H53,\"DSR\"),\"\")","v":""},{"$f":"IF(COUNTIF(I36:I53,\"MT*\") + COUNTIF(I36:I53, \"D*\") + COUNTIF(I36:I53,\"T*\")-COUNTIF(I36:I53,\"DSR\")<>0,COUNTIF(I36:I53,\"MT*\") + COUNTIF(I36:I53, \"D*\") + COUNTIF(I36:I53,\"T*\")-COUNTIF(I36:I53,\"DSR\"),\"\")","v":""},null,null,null,null,null,{"$f":"IF(COUNTIF(O36:O53,\"MT*\") + COUNTIF(O36:O53, \"D*\") + COUNTIF(O36:O53,\"T*\")-COUNTIF(O36:O53,\"DSR\")<>0,COUNTIF(O36:O53,\"MT*\") + COUNTIF(O36:O53, \"D*\") + COUNTIF(O36:O53,\"T*\")-COUNTIF(O36:O53,\"DSR\"),\"\")","v":""},{"$f":"IF(COUNTIF(P36:P53,\"MT*\") + COUNTIF(P36:P53, \"D*\") + COUNTIF(P36:P53,\"T*\")-COUNTIF(P36:P53,\"DSR\")<>0,COUNTIF(P36:P53,\"MT*\") + COUNTIF(P36:P53, \"D*\") + COUNTIF(P36:P53,\"T*\")-COUNTIF(P36:P53,\"DSR\"),\"\")","v":""},null,null,null,null,null,null,null,null,null,null,null,null,null,null,null,null,null,null,null,{"$f":"IF(COUNTIF(AJ36:AJ53,\"MT*\") + COUNTIF(AJ36:AJ53, \"D*\") + COUNTIF(AJ36:AJ53,\"T*\")-COUNTIF(AJ36:AJ53,\"DSR\")<>0,COUNTIF(AJ36:AJ53,\"MT*\") + COUNTIF(AJ36:AJ53, \"D*\") + COUNTIF(AJ36:AJ53,\"T*\")-COUNTIF(AJ36:AJ53,\"DSR\"),\"\")","v":""},{"$f":"IF(COUNTIF(AK36:AK53,\"MT*\") + COUNTIF(AK36:AK53, \"D*\") + COUNTIF(AK36:AK53,\"T*\")-COUNTIF(AK36:AK53,\"DSR\")<>0,COUNTIF(AK36:AK53,\"MT*\") + COUNTIF(AK36:AK53, \"D*\") + COUNTIF(AK36:AK53,\"T*\")-COUNTIF(AK36:AK53,\"DSR\"),\"\")","v":""},{"$f":"IF(A58<>\"\",IFERROR(VLOOKUP(G58,Tabelas!B:D,3,0),0),\"\")","v":0},{"$f":"IF(A58<>\"\",IFERROR(VLOOKUP(H58,Tabelas!B:D,3,0),0),\"\")","v":0},{"$f":"IF(A58<>\"\",IFERROR(VLOOKUP(I58,Tabelas!B:D,3,0),0),\"\")","v":0},{"$f":"IF(A58<>\"\",IFERROR(VLOOKUP(J58,Tabelas!B:D,3,0),0),\"\")","v":0},{"$f":"IF(A58<>\"\",IFERROR(VLOOKUP(K58,Tabelas!B:D,3,0),0),\"\")","v":0},{"$f":"IF(A58<>\"\",IFERROR(VLOOKUP(L58,Tabelas!B:D,3,0),0),\"\")","v":0},{"$f":"IF(A58<>\"\",IFERROR(VLOOKUP(M58,Tabelas!B:D,3,0),0),\"\")","v":0},{"$f":"IF(A58<>\"\",IFERROR(VLOOKUP(N58,Tabelas!B:D,3,0),0),\"\")","v":0},{"$f":"IF(A58<>\"\",IFERROR(VLOOKUP(O58,Tabelas!B:D,3,0),0),\"\")","v":0},{"$f":"IF(A58<>\"\",IFERROR(VLOOKUP(P58,Tabelas!B:D,3,0),0),\"\")","v":0},{"$f":"IF(A58<>\"\",IFERROR(VLOOKUP(Q58,Tabelas!B:D,3,0),0),\"\")","v":0},{"$f":"IF(A58<>\"\",IFERROR(VLOOKUP(R58,Tabelas!B:D,3,0),0),\"\")","v":0},{"$f":"IF(A58<>\"\",IFERROR(VLOOKUP(S58,Tabelas!B:D,3,0),0),\"\")","v":0},{"$f":"IF(A58<>\"\",IFERROR(VLOOKUP(T58,Tabelas!B:D,3,0),0),\"\")","v":0},{"$f":"IF(A58<>\"\",IFERROR(VLOOKUP(U58,Tabelas!B:D,3,0),0),\"\")","v":0},{"$f":"IF(A58<>\"\",IFERROR(VLOOKUP(V58,Tabelas!B:D,3,0),0),\"\")","v":0},{"$f":"IF(A58<>\"\",IFERROR(VLOOKUP(W58,Tabelas!B:D,3,0),0),\"\")","v":0},{"$f":"IF(A58<>\"\",IFERROR(VLOOKUP(X58,Tabelas!B:D,3,0),0),\"\")","v":0},{"$f":"IF(A58<>\"\",IFERROR(VLOOKUP(Y58,Tabelas!B:D,3,0),0),\"\")","v":0},{"$f":"IF(A58<>\"\",IFERROR(VLOOKUP(Z58,Tabelas!B:D,3,0),0),\"\")","v":0},{"$f":"IF(A58<>\"\",IFERROR(VLOOKUP(AA58,Tabelas!B:D,3,0),0),\"\")","v":0},{"$f":"IF(A58<>\"\",IFERROR(VLOOKUP(AB58,Tabelas!B:D,3,0),0),\"\")","v":0},{"$f":"IF(A58<>\"\",IFERROR(VLOOKUP(AC58,Tabelas!B:D,3,0),0),\"\")","v":0},{"$f":"IF(A58<>\"\",IFERROR(VLOOKUP(AD58,Tabelas!B:D,3,0),0),\"\")","v":0},{"$f":"IF(A58<>\"\",IFERROR(VLOOKUP(AE58,Tabelas!B:D,3,0),0),\"\")","v":0},{"$f":"IF(A58<>\"\",IFERROR(VLOOKUP(AF58,Tabelas!B:D,3,0),0),\"\")","v":0},{"$f":"IF(A58<>\"\",IFERROR(VLOOKUP(AG58,Tabelas!B:D,3,0),0),\"\")","v":0},{"$f":"IF(A58<>\"\",IFERROR(VLOOKUP(AH58,Tabelas!B:D,3,0),0),\"\")","v":0},{"$f":"IF(A58<>\"\",IFERROR(VLOOKUP(AI58,Tabelas!B:D,3,0),0),\"\")","v":0},{"$f":"IF(A58<>\"\",IFERROR(VLOOKUP(AJ58,Tabelas!B:D,3,0),0),\"\")","v":0},{"$f":"IF(A58<>\"\",IFERROR(VLOOKUP(AK58,Tabelas!B:D,3,0),0),\"\")","v":0}]
["TOTAL DE PROFISSIONAIS NOTURNO",null,null,null,null,null,{"$f":"IF(COUNTIF(G36:G58,\"N?*\") + COUNTIF(G36:G58, \"DN*\")<>0,COUNTIF(G36:G58,\"N?*\") + COUNTIF(G36:G58, \"DN*\"),\"\")","v":""},"","","","","","","","","",null,null,null,null,null,null,null,null,null,null,null,null,null,null,null,null,null,null,null,{"$f":"IF(COUNTIF(AJ36:AJ58,\"N?*\") + COUNTIF(AJ36:AJ58, \"DN*\")<>0,COUNTIF(AJ36:AJ58,\"N?*\") + COUNTIF(AJ36:AJ58, \"DN*\"),\"\")","v":""},{"$f":"IF(COUNTIF(AK36:AK58,\"N?*\") + COUNTIF(AK36:AK58, \"DN*\")<>0,COUNTIF(AK36:AK58,\"N?*\") + COUNTIF(AK36:AK58, \"DN*\"),\"\")","v":""},{"$f":"IF(A59<>\"\",IFERROR(VLOOKUP(G59,Tabelas!B:D,3,0),0),\"\")","v":0},{"$f":"IF(A59<>\"\",IFERROR(VLOOKUP(H59,Tabelas!B:D,3,0),0),\"\")","v":0},{"$f":"IF(A59<>\"\",IFERROR(VLOOKUP(I59,Tabelas!B:D,3,0),0),\"\")","v":0},{"$f":"IF(A59<>\"\",IFERROR(VLOOKUP(J59,Tabelas!B:D,3,0),0),\"\")","v":0},{"$f":"IF(A59<>\"\",IFERROR(VLOOKUP(K59,Tabelas!B:D,3,0),0),\"\")","v":0},{"$f":"IF(A59<>\"\",IFERROR(VLOOKUP(L59,Tabelas!B:D,3,0),0),\"\")","v":0},{"$f":"IF(A59<>\"\",IFERROR(VLOOKUP(M59,Tabelas!B:D,3,0),0),\"\")","v":0},{"$f":"IF(A59<>\"\",IFERROR(VLOOKUP(N59,Tabelas!B:D,3,0),0),\"\")","v":0},{"$f":"IF(A59<>\"\",IFERROR(VLOOKUP(O59,Tabelas!B:D,3,0),0),\"\")","v":0},{"$f":"IF(A59<>\"\",IFERROR(VLOOKUP(P59,Tabelas!B:D,3,0),0),\"\")","v":0},{"$f":"IF(A59<>\"\",IFERROR(VLOOKUP(Q59,Tabelas!B:D,3,0),0),\"\")","v":0},{"$f":"IF(A59<>\"\",IFERROR(VLOOKUP(R59,Tabelas!B:D,3,0),0),\"\")","v":0},{"$f":"IF(A59<>\"\",IFERROR(VLOOKUP(S59,Tabelas!B:D,3,0),0),\"\")","v":0},{"$f":"IF(A59<>\"\",IFERROR(VLOOKUP(T59,Tabelas!B:D,3,0),0),\"\")","v":0},{"$f":"IF(A59<>\"\",IFERROR(VLOOKUP(U59,Tabelas!B:D,3,0),0),\"\")","v":0},{"$f":"IF(A59<>\"\",IFERROR(VLOOKUP(V59,Tabelas!B:D,3,0),0),\"\")","v":0},{"$f":"IF(A59<>\"\",IFERROR(VLOOKUP(W59,Tabelas!B:D,3,0),0),\"\")","v":0},{"$f":"IF(A59<>\"\",IFERROR(VLOOKUP(X59,Tabelas!B:D,3,0),0),\"\")","v":0},{"$f":"IF(A59<>\"\",IFERROR(VLOOKUP(Y59,Tabelas!B:D,3,0),0),\"\")","v":0},{"$f":"IF(A59<>\"\",IFERROR(VLOOKUP(Z59,Tabelas!B:D,3,0),0),\"\")","v":0},{"$f":"IF(A59<>\"\",IFERROR(VLOOKUP(AA59,Tabelas!B:D,3,0),0),\"\")","v":0},{"$f":"IF(A59<>\"\",IFERROR(VLOOKUP(AB59,Tabelas!B:D,3,0),0),\"\")","v":0},{"$f":"IF(A59<>\"\",IFERROR(VLOOKUP(AC59,Tabelas!B:D,3,0),0),\"\")","v":0},{"$f":"IF(A59<>\"\",IFERROR(VLOOKUP(AD59,Tabelas!B:D,3,0),0),\"\")","v":0},{"$f":"IF(A59<>\"\",IFERROR(VLOOKUP(AE59,Tabelas!B:D,3,0),0),\"\")","v":0},{"$f":"IF(A59<>\"\",IFERROR(VLOOKUP(AF59,Tabelas!B:D,3,0),0),\"\")","v":0},{"$f":"IF(A59<>\"\",IFERROR(VLOOKUP(AG59,Tabelas!B:D,3,0),0),\"\")","v":0},{"$f":"IF(A59<>\"\",IFERROR(VLOOKUP(AH59,Tabelas!B:D,3,0),0),\"\")","v":0},{"$f":"IF(A59<>\"\",IFERROR(VLOOKUP(AI59,Tabelas!B:D,3,0),0),\"\")","v":0},{"$f":"IF(A59<>\"\",IFERROR(VLOOKUP(AJ59,Tabelas!B:D,3,0),0),\"\")","v":0},{"$f":"IF(A59<>\"\",IFERROR(VLOOKUP(AK59,Tabelas!B:D,3,0),0),\"\")","v":0}]
["SOBREAVISO","SIAPE","     Registro Conselho Classe","Cargo","Vínculo","    C.H Sem"]
["Pablo Moritz ",2312594,6566,"Médico","RJU",20,null,"SD","SD",null,null,null,null,null,null,null,null,null,null,null,"FD",null,null,null,null,null,"FD",null,null,null,null,null,null,null,null,"SD"]
["Roger Pirath Rodrigues ",1440902,10218,"Médico","RJU",20,null,null,null,null,null,null,null,null,"SD","SD",null,null,null,null,"FD",null,null,null,null,null,"FD"]
["Rosimeri Maureci da Silva ",4160231,5465,"Médico","RJU",40,null,null,null,null,null,null,null,null,null,null,null,null,null,null,"SD","SD","SD",null,null,null,"FD"]
["Elaine Cristina Caon de Souza Bulsing ",2270829,15054,"Médico","RJU",40,null,null,null,null,null,null,null,null,null,null,null,null,null,null,"FD",null,null,null,null,null,"SD",null,"SD","SD"]
["Luiz Paulo de Queiroz",2158320,3155,"Médico","RJU",20,null,null,null,null,null,null,null,null,"SD","SD",null,null,null,null,"FD",null,null,null,null,null,"FD",null,"SD","SD"]
["Thais Rossoni Weber da Silva ",2676080,14819,"Médico","RJU",20,null,null,null,null,null,null,null,null,"SD","SD",null,null,null,null,null,null,null,null,null,null,null,null,"SD","SD"]
["Ivanio Alves Pereira ",278207,5081,"Médico","RJU",20,null,null,null,null,null,null,null,null,null,null,null,null,null,null,null,null,null,null,null,null,null,null,"SD","SD"]
["Adriana Fontes Zimmermann ",1160584,4120,"Médico","RJU",20,null,"SD","SD",null,null,null,null,null,null,null,null,null,null,null,null,"SD","SD",null,null,null,null,null,null,null,null,null,null,null,null,"SD"]
["Aurelio Pacheco Costa Filho ",1160449,5182,"Médico","RJU",20,null,"SD","SD",null,null,null,null,null,null,null,null,null,null,null,"SD","SD","SD",null,null,null,"SD",null,null,null,null,null,null,null,null,"SD"]
[null,null,null,null,null,null,null,null,null,null,null,null,null,null,null,null,null,null,null,null,null,null,null,null,null,null,null,null,null,null,null,null,null,null,null,null,null,{"$f":"IF(A70<>\"\",IFERROR(VLOOKUP(G70,Tabelas!B:D,3,0),0),\"\")","v":""},{"$f":"IF(A70<>\"\",IFERROR(VLOOKUP(H70,Tabelas!B:D,3,0),0),\"\")","v":""},{"$f":"IF(A70<>\"\",IFERROR(VLOOKUP(I70,Tabelas!B:D,3,0),0),\"\")","v":""},{"$f":"IF(A70<>\"\",IFERROR(VLOOKUP(J70,Tabelas!B:D,3,0),0),\"\")","v":""},{"$f":"IF(A70<>\"\",IFERROR(VLOOKUP(K70,Tabelas!B:D,3,0),0),\"\")","v":""},{"$f":"IF(A70<>\"\",IFERROR(VLOOKUP(L70,Tabelas!B:D,3,0),0),\"\")","v":""},{"$f":"IF(A70<>\"\",IFERROR(VLOOKUP(M70,Tabelas!B:D,3,0),0),\"\")","v":""},{"$f":"IF(A70<>\"\",IFERROR(VLOOKUP(N70,Tabelas!B:D,3,0),0),\"\")","v":""},{"$f":"IF(A70<>\"\",IFERROR(VLOOKUP(O70,Tabelas!B:D,3,0),0),\"\")","v":""},{"$f":"IF(A70<>\"\",IFERROR(VLOOKUP(P70,Tabelas!B:D,3,0),0),\"\")","v":""},{"$f":"IF(A70<>\"\",IFERROR(VLOOKUP(Q70,Tabelas!B:D,3,0),0),\"\")","v":""},{"$f":"IF(A70<>\"\",IFERROR(VLOOKUP(R70,Tabelas!B:D,3,0),0),\"\")","v":""},{"$f":"IF(A70<>\"\",IFERROR(VLOOKUP(S70,Tabelas!B:D,3,0),0),\"\")","v":""},{"$f":"IF(A70<>\"\",IFERROR(VLOOKUP(T70,Tabelas!B:D,3,0),0),\"\")","v":""},{"$f":"IF(A70<>\"\",IFERROR(VLOOKUP(U70,Tabelas!B:D,3,0),0),\"\")","v":""},{"$f":"IF(A70<>\"\",IFERROR(VLOOKUP(V70,Tabelas!B:D,3,0),0),\"\")","v":""},{"$f":"IF(A70<>\"\",IFERROR(VLOOKUP(W70,Tabelas!B:D,3,0),0),\"\")","v":""},{"$f":"IF(A70<>\"\",IFERROR(VLOOKUP(X70,Tabelas!B:D,3,0),0),\"\")","v":""},{"$f":"IF(A70<>\"\",IFERROR(VLOOKUP(Y70,Tabelas!B:D,3,0),0),\"\")","v":""},{"$f":"IF(A70<>\"\",IFERROR(VLOOKUP(Z70,Tabelas!B:D,3,0),0),\"\")","v":""},{"$f":"IF(A70<>\"\",IFERROR(VLOOKUP(AA70,Tabelas!B:D,3,0),0),\"\")","v":""},{"$f":"IF(A70<>\"\",IFERROR(VLOOKUP(AB70,Tabelas!B:D,3,0),0),\"\")","v":""},{"$f":"IF(A70<>\"\",IFERROR(VLOOKUP(AC70,Tabelas!B:D,3,0),0),\"\")","v":""},{"$f":"IF(A70<>\"\",IFERROR(VLOOKUP(AD70,Tabelas!B:D,3,0),0),\"\")","v":""},{"$f":"IF(A70<>\"\",IFERROR(VLOOKUP(AE70,Tabelas!B:D,3,0),0),\"\")","v":""},{"$f":"IF(A70<>\"\",IFERROR(VLOOKUP(AF70,Tabelas!B:D,3,0),0),\"\")","v":""},{"$f":"IF(A70<>\"\",IFERROR(VLOOKUP(AG70,Tabelas!B:D,3,0),0),\"\")","v":""},{"$f":"IF(A70<>\"\",IFERROR(VLOOKUP(AH70,Tabelas!B:D,3,0),0),\"\")","v":""},{"$f":"IF(A70<>\"\",IFERROR(VLOOKUP(AI70,Tabelas!B:D,3,0),0),\"\")","v":""},{"$f":"IF(A70<>\"\",IFERROR(VLOOKUP(AJ70,Tabelas!B:D,3,0),0),\"\")","v":""},{"$f":"IF(A70<>\"\",IFERROR(VLOOKUP(AK70,Tabelas!B:D,3,0),0),\"\")","v":""}]
[null,null,null,null,null,null,null,null,null,null,null,null,null,null,null,null,null,null,null,null,null,null,null,null,null,null,null,null,null,null,null,null,null,null,null,null,null,{"$f":"IF(A71<>\"\",IFERROR(VLOOKUP(G71,Tabelas!B:D,3,0),0),\"\")","v":""},{"$f":"IF(A71<>\"\",IFERROR(VLOOKUP(H71,Tabelas!B:D,3,0),0),\"\")","v":""},{"$f":"IF(A71<>\"\",IFERROR(VLOOKUP(I71,Tabelas!B:D,3,0),0),\"\")","v":""},{"$f":"IF(A71<>\"\",IFERROR(VLOOKUP(J71,Tabelas!B:D,3,0),0),\"\")","v":""},{"$f":"IF(A71<>\"\",IFERROR(VLOOKUP(K71,Tabelas!B:D,3,0),0),\"\")","v":""},{"$f":"IF(A71<>\"\",IFERROR(VLOOKUP(L71,Tabelas!B:D,3,0),0),\"\")","v":""},{"$f":"IF(A71<>\"\",IFERROR(VLOOKUP(M71,Tabelas!B:D,3,0),0),\"\")","v":""},{"$f":"IF(A71<>\"\",IFERROR(VLOOKUP(N71,Tabelas!B:D,3,0),0),\"\")","v":""},{"$f":"IF(A71<>\"\",IFERROR(VLOOKUP(O71,Tabelas!B:D,3,0),0),\"\")","v":""},{"$f":"IF(A71<>\"\",IFERROR(VLOOKUP(P71,Tabelas!B:D,3,0),0),\"\")","v":""},{"$f":"IF(A71<>\"\",IFERROR(VLOOKUP(Q71,Tabelas!B:D,3,0),0),\"\")","v":""},{"$f":"IF(A71<>\"\",IFERROR(VLOOKUP(R71,Tabelas!B:D,3,0),0),\"\")","v":""},{"$f":"IF(A71<>\"\",IFERROR(VLOOKUP(S71,Tabelas!B:D,3,0),0),\"\")","v":""},{"$f":"IF(A71<>\"\",IFERROR(VLOOKUP(T71,Tabelas!B:D,3,0),0),\"\")","v":""},{"$f":"IF(A71<>\"\",IFERROR(VLOOKUP(U71,Tabelas!B:D,3,0),0),\"\")","v":""},{"$f":"IF(A71<>\"\",IFERROR(VLOOKUP(V71,Tabelas!B:D,3,0),0),\"\")","v":""},{"$f":"IF(A71<>\"\",IFERROR(VLOOKUP(W71,Tabelas!B:D,3,0),0),\"\")","v":""},{"$f":"IF(A71<>\"\",IFERROR(VLOOKUP(X71,Tabelas!B:D,3,0),0),\"\")","v":""},{"$f":"IF(A71<>\"\",IFERROR(VLOOKUP(Y71,Tabelas!B:D,3,0),0),\"\")","v":""},{"$f":"IF(A71<>\"\",IFERROR(VLOOKUP(Z71,Tabelas!B:D,3,0),0),\"\")","v":""},{"$f":"IF(A71<>\"\",IFERROR(VLOOKUP(AA71,Tabelas!B:D,3,0),0),\"\")","v":""},{"$f":"IF(A71<>\"\",IFERROR(VLOOKUP(AB71,Tabelas!B:D,3,0),0),\"\")","v":""},{"$f":"IF(A71<>\"\",IFERROR(VLOOKUP(AC71,Tabelas!B:D,3,0),0),\"\")","v":""},{"$f":"IF(A71<>\"\",IFERROR(VLOOKUP(AD71,Tabelas!B:D,3,0),0),\"\")","v":""},{"$f":"IF(A71<>\"\",IFERROR(VLOOKUP(AE71,Tabelas!B:D,3,0),0),\"\")","v":""},{"$f":"IF(A71<>\"\",IFERROR(VLOOKUP(AF71,Tabelas!B:D,3,0),0),\"\")","v":""},{"$f":"IF(A71<>\"\",IFERROR(VLOOKUP(AG71,Tabelas!B:D,3,0),0),\"\")","v":""},{"$f":"IF(A71<>\"\",IFERROR(VLOOKUP(AH71,Tabelas!B:D,3,0),0),\"\")","v":""},{"$f":"IF(A71<>\"\",IFERROR(VLOOKUP(AI71,Tabelas!B:D,3,0),0),\"\")","v":""},{"$f":"IF(A71<>\"\",IFERROR(VLOOKUP(AJ71,Tabelas!B:D,3,0),0),\"\")","v":""},{"$f":"IF(A71<>\"\",IFERROR(VLOOKUP(AK71,Tabelas!B:D,3,0),0),\"\")","v":""}]
["Legenda:"]
["Licença Maternidade","LM","Férias",null,null,null,null,null,null,null,null,null,null,"PF","Manhã *",null,null,null,null,null,null,"M","Diurno (8 hrs) *",null,null,null,null,null,null,"MT"]
["Licença Paternidade","LP","Feriado",null,null,null,null,null,null,null,null,null,null,"AB","Tarde *",null,null,null,null,null,null,"T","Dia/ noite (24 hrs) *",null,null,null,null,null,null,"DN"]
["Licença Médica/Odontológica","L","Descanso Semanal Remunerado",null,null,null,null,null,null,null,null,null,null,"CH","Plantão Dia (12 hrs) *",null,null,null,null,null,null,"D"]
["Licença Capacitação","LC","Recesso",null,null,null,null,null,null,null,null,null,null,"AF","Plantão Noite (12 hrs) *",null,null,null,null,null,null,"N"]
[]
["OBSERVAÇÕES:"]
["* Para inserção das legendas referentes às jornadas de trabalho, verificar a Tabela 1 do Anexo do Memorando-Circular - SEI nº   25 /2018/CAP/DGP-EBSERH."]
["** Para inserção das legendas referentes aos Afastamentos previstos em lei e às Compensações de horas, verificar a Tabela 2 do Anexo do Memorando-Circular - SEI nº   25 /2018/CAP/DGP-EBSERH."]

{"sheet":"Maio","index":4,"n_rows":89,"n_cols":68,"rows_kept":89,"cut":false,"hidden":false,"merged":[[70,2,70,5],[70,6,70,12],[70,14,70,20],[71,2,71,5],[71,6,71,12],[71,14,71,20],[69,2,69,5],[69,6,69,12],[69,14,69,20],[69,22,69,28],[68,2,68,5],[68,6,68,12],[68,14,68,20],[68,22,68,28],[5,6,5,36],[5,37,5,67],[1,0,1,36],[2,0,2,36],[3,0,3,36],[4,1,4,14],[4,17,4,28],[4,31,4,36]]}
[]
[]
["UEC"]
["ESCALA MENSAL DE TRABALHO"]
["DIVISÃO /SETOR/UNIDADE:",null,null,null,null,null,null,null,null,null,null,null,null,null,null,"MÊS:",null,"MAIO",null,null,null,null,null,null,null,null,null,null,null,"ANO:",null,2022]
["NOME COMPLETO","SIAPE","     Registro Conselho Classe","Cargo","Vínculo","    C.H Sem","DIAS DO MÊS",null,null,null,null,null,null,null,null,null,null,null,null,null,null,null,null,null,null,null,null,null,null,null,null,null,null,null,null,null,null,"CÁLCULO DAS HORAS"]
[null,null,null,null,null,null,1,2,3,4,5,6,7,8,9,10,11,12,13,14,15,16,17,18,19,20,21,22,23,24,25,{"$f":"IF(DAY(DATE(AF5,VLOOKUP(R5,Tabelas!M:N,2,0)+1,1)-1)>=26,26,\"\")","v":26},{"$f":"IF(DAY(DATE(AF5,VLOOKUP(R5,Tabelas!M:N,2,0)+1,1)-1)>=27,27,\"\")","v":27},{"$f":"IF(DAY(DATE(AF5,VLOOKUP(R5,Tabelas!M:N,2,0)+1,1)-1)>=28,28,\"\")","v":28},{"$f":"IF(DAY(DATE(AF5,VLOOKUP(R5,Tabelas!M:N,2,0)+1,1)-1)>=29,29,\"\")","v":29},{"$f":"IF(DAY(DATE(AF5,VLOOKUP(R5,Tabelas!M:N,2,0)+1,1)-1)>=30,30,\"\")","v":30},{"$f":"IF(DAY(DATE(AF5,VLOOKUP(R5,Tabelas!M:N,2,0)+1,1)-1)>=31,31,\"\")","v":31}]
[null,null,null,null,null,null,{"$f":"IF(G7<>\"\",IFERROR(VLOOKUP(WEEKDAY(CONCATENATE(G7,$R$5,$AF$5)),Tabelas!$I:$J,2,0),\"\"),\"\")","v":""},{"$f":"IF(H7<>\"\",IFERROR(VLOOKUP(WEEKDAY(CONCATENATE(H7,$R$5,$AF$5)),Tabelas!$I:$J,2,0),\"\"),\"\")","v":""},{"$f":"IF(I7<>\"\",IFERROR(VLOOKUP(WEEKDAY(CONCATENATE(I7,$R$5,$AF$5)),Tabelas!$I:$J,2,0),\"\"),\"\")","v":""},{"$f":"IF(J7<>\"\",IFERROR(VLOOKUP(WEEKDAY(CONCATENATE(J7,$R$5,$AF$5)),Tabelas!$I:$J,2,0),\"\"),\"\")","v":""},{"$f":"IF(K7<>\"\",IFERROR(VLOOKUP(WEEKDAY(CONCATENATE(K7,$R$5,$AF$5)),Tabelas!$I:$J,2,0),\"\"),\"\")","v":""},{"$f":"IF(L7<>\"\",IFERROR(VLOOKUP(WEEKDAY(CONCATENATE(L7,$R$5,$AF$5)),Tabelas!$I:$J,2,0),\"\"),\"\")","v":""},{"$f":"IF(M7<>\"\",IFERROR(VLOOKUP(WEEKDAY(CONCATENATE(M7,$R$5,$AF$5)),Tabelas!$I:$J,2,0),\"\"),\"\")","v":""},{"$f":"IF(N7<>\"\",IFERROR(VLOOKUP(WEEKDAY(CONCATENATE(N7,$R$5,$AF$5)),Tabelas!$I:$J,2,0),\"\"),\"\")","v":""},{"$f":"IF(O7<>\"\",IFERROR(VLOOKUP(WEEKDAY(CONCATENATE(O7,$R$5,$AF$5)),Tabelas!$I:$J,2,0),\"\"),\"\")","v":""},{"$f":"IF(P7<>\"\",IFERROR(VLOOKUP(WEEKDAY(CONCATENATE(P7,$R$5,$AF$5)),Tabelas!$I:$J,2,0),\"\"),\"\")","v":""},{"$f":"IF(Q7<>\"\",IFERROR(VLOOKUP(WEEKDAY(CONCATENATE(Q7,$R$5,$AF$5)),Tabelas!$I:$J,2,0),\"\"),\"\")","v":""},{"$f":"IF(R7<>\"\",IFERROR(VLOOKUP(WEEKDAY(CONCATENATE(R7,$R$5,$AF$5)),Tabelas!$I:$J,2,0),\"\"),\"\")","v":""},{"$f":"IF(S7<>\"\",IFERROR(VLOOKUP(WEEKDAY(CONCATENATE(S7,$R$5,$AF$5)),Tabelas!$I:$J,2,0),\"\"),\"\")","v":""},{"$f":"IF(T7<>\"\",IFERROR(VLOOKUP(WEEKDAY(CONCATENATE(T7,$R$5,$AF$5)),Tabelas!$I:$J,2,0),\"\"),\"\")","v":""},{"$f":"IF(U7<>\"\",IFERROR(VLOOKUP(WEEKDAY(CONCATENATE(U7,$R$5,$AF$5)),Tabelas!$I:$J,2,0),\"\"),\"\")","v":""},{"$f":"IF(V7<>\"\",IFERROR(VLOOKUP(WEEKDAY(CONCATENATE(V7,$R$5,$AF$5)),Tabelas!$I:$J,2,0),\"\"),\"\")","v":""},{"$f":"IF(W7<>\"\",IFERROR(VLOOKUP(WEEKDAY(CONCATENATE(W7,$R$5,$AF$5)),Tabelas!$I:$J,2,0),\"\"),\"\")","v":""},{"$f":"IF(X7<>\"\",IFERROR(VLOOKUP(WEEKDAY(CONCATENATE(X7,$R$5,$AF$5)),Tabelas!$I:$J,2,0),\"\"),\"\")","v":""},{"$f":"IF(Y7<>\"\",IFERROR(VLOOKUP(WEEKDAY(CONCATENATE(Y7,$R$5,$AF$5)),Tabelas!$I:$J,2,0),\"\"),\"\")","v":""},{"$f":"IF(Z7<>\"\",IFERROR(VLOOKUP(WEEKDAY(CONCATENATE(Z7,$R$5,$AF$5)),Tabelas!$I:$J,2,0),\"\"),\"\")","v":""},{"$f":"IF(AA7<>\"\",IFERROR(VLOOKUP(WEEKDAY(CONCATENATE(AA7,$R$5,$AF$5)),Tabelas!$I:$J,2,0),\"\"),\"\")","v":""},{"$f":"IF(AB7<>\"\",IFERROR(VLOOKUP(WEEKDAY(CONCATENATE(AB7,$R$5,$AF$5)),Tabelas!$I:$J,2,0),\"\"),\"\")","v":""},{"$f":"IF(AC7<>\"\",IFERROR(VLOOKUP(WEEKDAY(CONCATENATE(AC7,$R$5,$AF$5)),Tabelas!$I:$J,2,0),\"\"),\"\")","v":""},{"$f":"IF(AD7<>\"\",IFERROR(VLOOKUP(WEEKDAY(CONCATENATE(AD7,$R$5,$AF$5)),Tabelas!$I:$J,2,0),\"\"),\"\")","v":""},{"$f":"IF(AE7<>\"\",IFERROR(VLOOKUP(WEEKDAY(CONCATENATE(AE7,$R$5,$AF$5)),Tabelas!$I:$J,2,0),\"\"),\"\")","v":""},{"$f":"IF(AF7<>\"\",IFERROR(VLOOKUP(WEEKDAY(CONCATENATE(AF7,$R$5,$AF$5)),Tabelas!$I:$J,2,0),\"\"),\"\")","v":""},{"$f":"IF(AG7<>\"\",IFERROR(VLOOKUP(WEEKDAY(CONCATENATE(AG7,$R$5,$AF$5)),Tabelas!$I:$J,2,0),\"\"),\"\")","v":""},{"$f":"IF(AH7<>\"\",IFERROR(VLOOKUP(WEEKDAY(CONCATENATE(AH7,$R$5,$AF$5)),Tabelas!$I:$J,2,0),\"\"),\"\")","v":""},{"$f":"IF(AI7<>\"\",IFERROR(VLOOKUP(WEEKDAY(CONCATENATE(AI7,$R$5,$AF$5)),Tabelas!$I:$J,2,0),\"\"),\"\")","v":""},{"$f":"IF(AJ7<>\"\",IFERROR(VLOOKUP(WEEKDAY(CONCATENATE(AJ7,$R$5,$AF$5)),Tabelas!$I:$J,2,0),\"\"),\"\")","v":""},{"$f":"IF(AK7<>\"\",IFERROR(VLOOKUP(WEEKDAY(CONCATENATE(AK7,$R$5,$AF$5)),Tabelas!$I:$J,2,0),\"\"),\"\")","v":""},1,2,3,4,5,6,7,8,9,10,11,12,13,14,15,16,17,18,19,20,21,22,23,24,25,26,27,28,29,30,31]
["Adaucto Wanderley da Nobrega Jr",1111792,12419,"Médico","EBSERH",24,null,null,"M15","D6","M15",null,null,null,null,"M15","D6","M15",null,null,null,null,"M15","D6","M15",null,null,null,null,"M15","D6","M15",null,null,null,null,"M15"]
["Ademilson Rogerio Ferreira",1088725,16287,"Médico","EBSERH",24,"FE","FE","FE","FE","FE","FE","FE","FE","FE","FE","FE","FE","FE","FE","FE","FE","FE","FE","FE","FE","FE","FE","FE","FE","FE",null,"M15",null,null,"D6"]
["Adriana Fontes Zimmermann ",1160584,4120,"Médico","RJU",20,null,"M15","M15",null,"M15",null,null,null,"M15","M15",null,"M15",null,null,null,"M15","M15",null,"M15",null,null,null,"M15","M15",null,"M15",null,null,null,"M15","M15"]
["ALEXANDRE DIAS DE OLIVEIRA   ",1919092,24293,"Médico","EBSERH",24,"FE","FE","FE",null,"M15","M15",null,null,null,"M15","M15","M15","M15",null,null,null,"M15","M15","M15","M15",null,null,null,"M15","M15","M15","M15",null,null,null,"M15"]
["Alvaro Thadeu Bender",2455919,4391,"Médico","RJU",10,"L","L","L","L","L","L",null,null,"L","L","L","L","L",null,null,"L","L","L","L","L",null,null,"L","L","L","L","L",null,null,"L","L"]
["André Dias de Oliveira",1280965,1910,"Médico","EBSERH",24,"FE","FE",null,"T15","M15",null,null,null,"D6",null,"T15","M15",null,null,null,"D6",null,"FE","FE","FE","FE","FE","FE","FE","FE","FE","FE","FE","FE","FE","FE"]
["Andressa Miozzo Soares ",1219785,19011,"Médico","EBSERH",24,null,"D6",null,"T15","M15",null,null,null,"D6",null,"T15","LC","LC","LC",null,"D6",null,"T15","M15",null,null,null,"D6",null,"T15","M15",null,null,null,"D6"]
["Anne-Rose Leopoldina Wuederkehr Bau ",3050861,21324,"Médico","EBSERH",24,null,"T15","T15",null,null,"D6",null,null,"T15","T15",null,null,"D6",null,null,"T15","T15",null,null,"D6",null,null,"T15","T15",null,null,"D6",null,null,"T15","T15"]
["Ari Ojeda Ocampo Moré",2116216,13369,"Médico","RJU",30,null,"D6","D6",null,"D6",null,null,null,"D6","D6",null,"D6",null,null,null,"D6","D6",null,"D6",null,null,null,"D6","D6",null,"D6",null,null,null,"D6","D6"]
["Ariel Cordova Rosa",1361412,23372,"Médico","EBSERH",24,null,"M15","T15","M15","M15",null,null,null,"M15","T15","M15","M15",null,null,null,"FE","FE","FE","FE","FE","FE","FE","FE","FE","FE","FE","FE","FE","FE","FE","FE"]
["Aurelio Pacheco Costa Filho ",1160449,5182,"Médico","RJU",20,null,null,null,"D6",null,"D6",null,null,null,null,"D6",null,"D6",null,null,null,null,"D6",null,"D6",null,null,null,null,"D6",null,"D6"]
["Cesar Paulo Semionato",1158471,3535,"Médico","RJU",30,null,"M15","D6","D6","T15","M15",null,null,null,"M15","D6","D6","T15",null,null,null,"M15","D6","T15","M15",null,null,null,"M15","D6","T15","M15",null,null,null,"M15"]
["Cristina Screiber de Oliveira ",1551454,10134,"Médico","RJU",20,null,null,null,null,"T15",null,null,null,null,null,null,"T15",null,null,null,null,null,null,"T15",null,null,null,null,null,null,"T15"]
["Edson Duarte Pillotto",3265216,12158,"Médico","EBSERH",24,null,null,null,"T15","M15","T15",null,null,null,null,"T15","M15","T15",null,null,null,null,"T15","M15","T15",null,null,null,null,"T15","M15","T15"]
["Elaine Cristina Caon de Souza Bulsing ",2270829,15054,"Médico","RJU",40,null,"D6","D6","D6","D6","M15",null,null,"D6","D6","D6","D6","M15",null,null,"D6","D6","D6","D6","M15",null,null,"D6","D6","D6","D6","M15",null,null,"D6","D6"]
["Emerson Leonildo Marques",2442492,10981,"Médico","RJU",30,null,"M15","M15","T15","M15","T15",null,null,"M15","M15","T15","M15","T15",null,null,"M15","M15","T15","M15","T15",null,null,"M15","M15","T15","M15","T15",null,null,"M15","M15"]
["Gabriel Dotta",1212525,17906,"Médico","EBSERH",24,null,null,"M15","M15","M15","M15",null,null,null,"M15","M15","M15","M15",null,null,null,"M15","M15","M15","M15",null,null,null,"M15","M15","M15","M15",null,null,null,"M15"]
["Giovani Colombo",1361629,6745,"Médico","RJU",30,null,"M15","T15","M15","M15","M15",null,null,"M15","T15","M15","M15","M15",null,null,"M15","T15","M15","M15","M15",null,null,"M15","T15","M15","M15","M15",null,null,"M15","T15"]
["Gisele Espíndola ",1524592,10886,"Médico","RJU",20,null,null,"T15","D6","M15",null,null,null,null,"T15","D6","M15",null,null,null,null,"T15","D6","M15",null,null,null,null,"T15","D6","M15",null,null,null,null,"T15"]
["Guilherme Asmar Alencar",1369108,29256,"Médico","EBSERH",24,"FE","FE","FE","FE","FE","FE","FE","FE","FE","FE","FE","FE","FE","FE","FE","FE","FE","FE","FE","FE","FE","FE","FE","FE",null,null,"D6",null,null,"D6"]
["Ivanio Alves Pereira ",278207,5081,"Médico","RJU",20,null,"D6","T15",null,"M15","M15",null,null,"D6","T15",null,"M15","M15",null,null,"D6","T15",null,"M15","M15",null,null,"D6","T15",null,"M15","M15",null,null,"D6","T15"]
["Ivete Ioshiko Masukawa",1445581,1749,"Médico","RJU",20,null,null,"D6","M15","D6",null,null,null,null,"D6","M15","D6",null,null,null,null,"D6","M15","D6",null,null,null,null,"D6","M15","D6",null,null,null,null,"D6"]
["Jane da Silva",2224909,8602,"Médico","RJU",40,null,"D6","D6","D6","D6","M15",null,null,"D6","D6","D6","D6","M15",null,null,"D6","D6","D6","D6","M15",null,null,"D6","D6","D6","D6","M15",null,null,"D6","D6"]
["Joao Eduardo Martins Teixeira",3144885,27906,"Médico","EBSERH",24,null,"FE","FE","FE","FE","FE","FE","FE","FE","FE","FE","FE","FE","FE","FE","FE","FE","FE","FE","FE","FE","FE","FE","FE","FE","FE",null,null,null,"M15","M15"]
["Julia Michels Ferreira",2483669,11398,"Médico","RJU",20,null,null,"D6","D6",null,null,null,null,null,"D6","D6",null,null,null,null,null,"D6","D6",null,null,null,null,null,"D6","D6",null,null,null,null,null,"D6"]
["Leonardo Jonk Staub ",2604396,14283,"Médico","RJU",40,null,"M15","M15","M15","M15","M15",null,null,"M15","M15","M15","M15","M15",null,null,"M15","M15","M15","M15","M15",null,null,"M15","M15","M15","M15","M15",null,null,"M15","M15"]
["Leonardo Simas Abi Saad",3604455,13918,"Médico","RJU",30,null,"T15","T15","T15","T15","M15",null,null,"T15","T15","T15","T15","M15",null,null,"T15","T15","T15","T15","M15",null,null,"T15","T15","T15","T15","M15",null,null,"T15","T15"]
["Luciana Kiehl Noronha ",1441915,24335,"Médico","EBSERH",24,null,null,"D6",null,"M15","D6",null,null,null,"D6",null,"M15","D6",null,null,null,"D6",null,"M15","D6",null,null,null,"D6",null,"M15","D6",null,null,null,"D6"]
["Luis Carlos Esteves Grelle ",3133639,13438,"Médico","EBSERH",24,null,"D6","D6",null,"D6",null,null,null,"D6","D6",null,"D6",null,null,null,"D6","D6",null,"D6",null,null,null,"D6","D6",null,"D6",null,null,null,"D6","D6"]
["Luiz Paulo de Queiroz ",2158320,3155,"Médico","RJU",20,null,"T15","D6",null,"M15","M15",null,null,"T15","D6",null,"M15","M15",null,null,"L","L","L","L","L","L","L","L","L","L","L","L","L","L","L","L"]
["Manuela Brisot Felisbino",1675761,14805,"Médico","EBSERH",24,null,"T15","M15","M15","M15","M15",null,null,"T15","M15","M15","M15","M15",null,null,"T15","M15","M15","M15","M15",null,null,"T15","M15","M15","M15","M15",null,null,"T15","M15"]
["Marcelo Ronsoni ",3603274,16049,"Médico","RJU",30,null,"T15","M15","T15","M15","M15",null,null,"T15","M15","T15","M15","M15",null,null,"T15","M15","T15","M15","M15",null,null,"T15","M15","T15","M15","M15",null,null,"T15","M15"]
["Marcia Tatsch Cavagnollo",1922994,12168,"Médico","RJU",20,null,null,null,"T15","D6","M15",null,null,null,null,"T15","D6","M15",null,null,null,null,"T15","D6","M15",null,null,null,null,"T15","D6","M15"]
["Mariana Costa Silva Valente ",1676055,15060,"Médico","EBSERH",24,"LM","LM","LM","LM","LM","LM",null,null,"LM","LM","LM","LM","LM",null,null,"LM","LM","LM","LM","LM",null,null,"LM","LM","LM","LM","LM",null,null,"LM","LM"]
["Mario Octavio Thá Marques ",2083850,15051,"Médico","RJU",30,null,"M15","M15","M15","M15","M15",null,null,"M15","M15","M15","M15","M15",null,null,"M15","M15","M15","M15","M15",null,null,"M15","M15","M15","M15","M15",null,null,"M15","M15"]
["Monique Kowalski Schmitz",3141340,10956,"Médico","EBSERH",24,"FE","FE","FE","FE","FE",null,null,null,"T15","T15",null,"D6",null,null,null,"T15","T15",null,"D6",null,null,null,"T15","T15",null,"D6",null,null,null,"T15","T15"]
["Oscar Cardoso Dimatos ",2841698,16451,"Médico","RJU",20,null,"T15",null,"T15","T15","T15",null,null,"T15",null,"T15","T15","T15",null,null,"FE","FE","FE","FE","FE",null,null,"FE","FE","T15","D6","T15",null,null,"T15"]
["Pablo Moritz ",2312594,6566,"Médico","RJU",20,null,"M15","T15","M15","M15","M15",null,null,"M15","T15","M15","M15","M15",null,null,"M15","T15","M15","M15","M15",null,null,"M15","T15","M15","M15","M15",null,null,"M15","M15"]
["Patricia de Almeida Vanny",2140466,1280,"Médico","RJU",40,null,"M15","M15","M15","M15","M15",null,null,"M15","M15","M15","M15","M15",null,null,"M15","M15","M15","M15","M15",null,null,"M15","M15","M15","M15","M15",null,null,"M15","M15"]
["Ricardo Goes Freitas ",1926676,18155,"Médico","EBSERH",24,null,null,null,"FE","FE","FE","FE","FE","FE","FE","FE","FE","FE","FE","FE","FE","FE","FE","FE","FE","FE","FE","FE","FE","FE","FE","FE"]
["Rodrigo Dagostini Derech",3053154,12632,"Médico","EBSERH",24,null,"T15",null,"T15",null,"D6",null,null,"T15",null,"T15",null,"D6",null,null,"T15",null,"T15",null,"D6",null,null,"T15",null,"T15",null,"D6",null,null,"T15"]
["Roger Pirath Rodrigues ",1440902,10218,"Médico","RJU",20,null,"M15","M15","M15","T15","M15",null,null,"M15","M15","M15","LC","LC","LC","LC","LC","LC","LC","LC","LC",null,null,"M15","M15","M15","T15","M15",null,null,"M15","M15"]
["Rosimeri Maureci da Silva ",4160231,5465,"Médico","RJU",40,null,"D6","D6","D6","T15","M15",null,null,"D6","D6","D6","T15","M15",null,null,"D6","D6","D6","T15","M15",null,null,"D6","D6","D6","T15","M15",null,null,"D6","D6"]
["Shirley Maximo de Souza",2060635,2775,"Médico","EBSERH",24,null,"M15","M15",null,"M15","D6",null,null,"M15","M15",null,"M15","D6",null,null,"M15","M15",null,"M15","D6",null,null,"M15","M15",null,"M15","D6",null,null,"M15","M15"]
["Thais Rossoni Weber da Silva ",2676080,14819,"Médico","RJU",20,null,"D6","T15",null,null,null,null,null,"D6","T15",null,null,null,null,null,"D6","T15",null,null,null,null,null,"D6","T15",null,null,null,null,null,"D6","T15"]
["                  CHEFE DE UNIDADE"]
["Luciana Bonnassis Burg ",3442495,10820,"Médico","RJU",40,null,"D6","M15","D6","D6","D6",null,null,"D6","M15","D6","D6","D6",null,null,"D6","M15","D6","D6","D6",null,null,"D6","M15","D6","D6","D6",null,null,"D6","M15"]
["Adriana Fontes Zimmermann ",1160584,4120,"Médico","RJU",20]
["SOBREAVISO","SIAPE","     Registro Conselho Classe","Cargo","Vínculo","    C.H Sem"]
["Adriana Fontes Zimmermann ",1160584,4120,"Médico","RJU",20,null,null,null,null,null,null,"SD","SD",null,null,null,null,null,null,null,null,null,null,null,null,"SD","SD"]
["Aurelio Pacheco Costa Filho ",1160449,5182,"Médico","RJU",20,"SD",null,null,null,null,null,null,null,null,null,null,null,null,"SD","SD"]
["Elaine Cristina Caon de Souza Bulsing ",2270829,15054,"Médico","RJU",40,null,null,null,null,null,null,null,null,null,null,null,null,null,null,null,null,null,null,null,null,"SD","SD",null,null,null,null,null,"SD","SD"]
["Ivanio Alves Pereira ",278207,5081,"Médico","RJU",20,"SD",null,null,null,null,null,null,null,null,null,null,null,null,"SD","SD",null,null,null,null,null,null,null,null,null,null,null,null,"SD","SD"]
["Luiz Paulo de Queiroz",2158320,3155,"Médico","RJU",20,null,null,null,null,null,null,"SD","SD",null,null,null,null,null,"SD","SD"]
["Pablo Moritz ",2312594,6566,"Médico","RJU",20,"SD",null,null,null,null,null,null,null,null,null,null,null,null,null,null,null,null,null,null,null,null,null,null,null,null,null,null,null,"SD"]
["Roger Pirath Rodrigues ",1440902,10218,"Médico","RJU",20,null,null,null,null,null,null,"SD","SD",null,null,null,null,null,null,null,null,null,null,null,null,null,null,null,null,null,null,null,"SD"]
["Rosimeri Maureci da Silva ",4160231,5465,"Médico","RJU",40,null,null,null,null,null,null,null,null,null,null,null,null,null,"SD","SD"]
[]
[null,null,null,null,null,null,null,null,null,null,null,null,null,null,null,null,null,null,null,null,null,null,null,null,null,null,null,null,null,null,null,null,null,null,null,null,null,{"$f":"IF(A67<>\"\",IFERROR(VLOOKUP(G67,Tabelas!B:D,3,0),0),\"\")","v":""},{"$f":"IF(A67<>\"\",IFERROR(VLOOKUP(H67,Tabelas!B:D,3,0),0),\"\")","v":""},{"$f":"IF(A67<>\"\",IFERROR(VLOOKUP(I67,Tabelas!B:D,3,0),0),\"\")","v":""},{"$f":"IF(A67<>\"\",IFERROR(VLOOKUP(J67,Tabelas!B:D,3,0),0),\"\")","v":""},{"$f":"IF(A67<>\"\",IFERROR(VLOOKUP(K67,Tabelas!B:D,3,0),0),\"\")","v":""},{"$f":"IF(A67<>\"\",IFERROR(VLOOKUP(L67,Tabelas!B:D,3,0),0),\"\")","v":""},{"$f":"IF(A67<>\"\",IFERROR(VLOOKUP(M67,Tabelas!B:D,3,0),0),\"\")","v":""},{"$f":"IF(A67<>\"\",IFERROR(VLOOKUP(N67,Tabelas!B:D,3,0),0),\"\")","v":""},{"$f":"IF(A67<>\"\",IFERROR(VLOOKUP(O67,Tabelas!B:D,3,0),0),\"\")","v":""},{"$f":"IF(A67<>\"\",IFERROR(VLOOKUP(P67,Tabelas!B:D,3,0),0),\"\")","v":""},{"$f":"IF(A67<>\"\",IFERROR(VLOOKUP(Q67,Tabelas!B:D,3,0),0),\"\")","v":""},{"$f":"IF(A67<>\"\",IFERROR(VLOOKUP(R67,Tabelas!B:D,3,0),0),\"\")","v":""},{"$f":"IF(A67<>\"\",IFERROR(VLOOKUP(S67,Tabelas!B:D,3,0),0),\"\")","v":""},{"$f":"IF(A67<>\"\",IFERROR(VLOOKUP(T67,Tabelas!B:D,3,0),0),\"\")","v":""},{"$f":"IF(A67<>\"\",IFERROR(VLOOKUP(U67,Tabelas!B:D,3,0),0),\"\")","v":""},{"$f":"IF(A67<>\"\",IFERROR(VLOOKUP(V67,Tabelas!B:D,3,0),0),\"\")","v":""},{"$f":"IF(A67<>\"\",IFERROR(VLOOKUP(W67,Tabelas!B:D,3,0),0),\"\")","v":""},{"$f":"IF(A67<>\"\",IFERROR(VLOOKUP(X67,Tabelas!B:D,3,0),0),\"\")","v":""},{"$f":"IF(A67<>\"\",IFERROR(VLOOKUP(Y67,Tabelas!B:D,3,0),0),\"\")","v":""},{"$f":"IF(A67<>\"\",IFERROR(VLOOKUP(Z67,Tabelas!B:D,3,0),0),\"\")","v":""},{"$f":"IF(A67<>\"\",IFERROR(VLOOKUP(AA67,Tabelas!B:D,3,0),0),\"\")","v":""},{"$f":"IF(A67<>\"\",IFERROR(VLOOKUP(AB67,Tabelas!B:D,3,0),0),\"\")","v":""},{"$f":"IF(A67<>\"\",IFERROR(VLOOKUP(AC67,Tabelas!B:D,3,0),0),\"\")","v":""},{"$f":"IF(A67<>\"\",IFERROR(VLOOKUP(AD67,Tabelas!B:D,3,0),0),\"\")","v":""},{"$f":"IF(A67<>\"\",IFERROR(VLOOKUP(AE67,Tabelas!B:D,3,0),0),\"\")","v":""},{"$f":"IF(A67<>\"\",IFERROR(VLOOKUP(AF67,Tabelas!B:D,3,0),0),\"\")","v":""},{"$f":"IF(A67<>\"\",IFERROR(VLOOKUP(AG67,Tabelas!B:D,3,0),0),\"\")","v":""},{"$f":"IF(A67<>\"\",IFERROR(VLOOKUP(AH67,Tabelas!B:D,3,0),0),\"\")","v":""},{"$f":"IF(A67<>\"\",IFERROR(VLOOKUP(AI67,Tabelas!B:D,3,0),0),\"\")","v":""},{"$f":"IF(A67<>\"\",IFERROR(VLOOKUP(AJ67,Tabelas!B:D,3,0),0),\"\")","v":""},{"$f":"IF(A67<>\"\",IFERROR(VLOOKUP(AK67,Tabelas!B:D,3,0),0),\"\")","v":""}]
["Legenda:"]
["Licença Maternidade","LM","Férias",null,null,null,null,null,null,null,null,null,null,"PF","Manhã *",null,null,null,null,null,null,"M","Diurno (8 hrs) *",null,null,null,null,null,null,"MT"]
["Licença Paternidade","LP","Feriado",null,null,null,null,null,null,null,null,null,null,"AB","Tarde *",null,null,null,null,null,null,"T","Dia/ noite (24 hrs) *",null,null,null,null,null,null,"DN"]
["Licença Médica/Odontológica","L","Descanso Semanal Remunerado",null,null,null,null,null,null,null,null,null,null,"CH","Plantão Dia (12 hrs) *",null,null,null,null,null,null,"D"]
["Licença Capacitação","LC","Recesso",null,null,null,null,null,null,null,null,null,null,"AF","Plantão Noite (12 hrs) *",null,null,null,null,null,null,"N"]
[]
["OBSERVAÇÕES:"]
["* Para inserção das legendas referentes às jornadas de trabalho, verificar a Tabela 1 do Anexo do Memorando-Circular - SEI nº   25 /2018/CAP/DGP-EBSERH."]
["** Para inserção das legendas referentes aos Afastamentos previstos em lei e às Compensações de horas, verificar a Tabela 2 do Anexo do Memorando-Circular - SEI nº   25 /2018/CAP/DGP-EBSERH."]
[]
[]
[]
[]
[]
[]
[]
[]
[]
[]
[]
[]
[null,null,null,null,null,null,null,null,null,null,null,null,null,null,null,null,null,null,null,null,null,null,null,null,null,null,null,null,null,null,null,"aio "]

{"sheet":"Junho","index":5,"n_rows":78,"n_cols":82,"rows_kept":78,"cut":false,"hidden":false,"merged":[[72,2,72,8],[72,9,72,10],[72,11,72,18],[72,20,72,26],[73,2,73,8],[73,9,73,10],[73,11,73,18],[73,20,73,26],[71,2,71,8],[71,9,71,10],[71,11,71,18],[71,20,71,26],[71,28,71,34],[70,2,70,8],[70,9,70,10],[70,11,70,18],[70,20,70,26],[70,28,70,34],[1,0,1,42],[2,0,2,42],[3,0,3,42],[4,1,4,20],[4,23,4,34],[4,37,4,42],[5,6,5,11],[6,76,7,76],[6,77,7,77],[6,78,7,78],[6,79,7,79],[6,6,7,6],[6,7,7,7],[6,8,7,8],[6,11,7,11],[6,9,7,9],[6,10,7,10],[6,80,7,80],[6,81,7,81],[5,12,5,42],[5,43,5,73],[5,75,5,81],[5,74,7,74],[6,75,7,75]]}
[]
[]
["NOME DO HU"]
["ESCALA MENSAL DE TRABALHO"]
["DIVISÃO /SETOR/UNIDADE:",null,null,null,null,null,null,null,null,null,null,null,null,null,null,null,null,null,null,null,null,"MÊS:",null,"Junho",null,null,null,null,null,null,null,null,null,null,null,"ANO:",null,2022]
["NOME COMPLETO","SIAPE","     Registro Conselho Classe","Cargo","Vínculo","    C.H Sem","INTERVALO",null,null,null,null,null,"DIAS DO MÊS",null,null,null,null,null,null,null,null,null,null,null,null,null,null,null,null,null,null,null,null,null,null,null,null,null,null,null,null,null,null,"CÁLCULO DAS HORAS",null,null,null,null,null,null,null,null,null,null,null,null,null,null,null,null,null,null,null,null,null,null,null,null,null,null,null,null,null,null,"CH Men.","Dias"]
[null,null,null,null,null,null,"15' M","15' T","15' N","1H D","1H N","2H",1,2,3,4,5,6,7,8,9,10,11,12,13,14,15,16,17,18,19,20,21,22,23,24,25,{"$f":"IF(DAY(DATE(AL5,VLOOKUP(X5,Tabelas!M:N,2,0)+1,1)-1)>=26,26,\"\")","v":26},{"$f":"IF(DAY(DATE(AL5,VLOOKUP(X5,Tabelas!M:N,2,0)+1,1)-1)>=27,27,\"\")","v":27},{"$f":"IF(DAY(DATE(AL5,VLOOKUP(X5,Tabelas!M:N,2,0)+1,1)-1)>=28,28,\"\")","v":28},{"$f":"IF(DAY(DATE(AL5,VLOOKUP(X5,Tabelas!M:N,2,0)+1,1)-1)>=29,29,\"\")","v":29},{"$f":"IF(DAY(DATE(AL5,VLOOKUP(X5,Tabelas!M:N,2,0)+1,1)-1)>=30,30,\"\")","v":30},{"$f":"IF(DAY(DATE(AL5,VLOOKUP(X5,Tabelas!M:N,2,0)+1,1)-1)>=31,31,\"\")","v":""},null,null,null,null,null,null,null,null,null,null,null,null,null,null,null,null,null,null,null,null,null,null,null,null,null,null,null,null,null,null,null,null,"LM/LP/L","AB","FE","LC","CH","AF  "," Total Afast."]
[null,null,null,null,null,null,null,null,null,null,null,null,{"$f":"IF(M7<>\"\",IFERROR(VLOOKUP(WEEKDAY(CONCATENATE(M7,$X$5,$AL$5)),Tabelas!$I:$J,2,0),\"\"),\"\")","v":"QUA"},{"$f":"IF(N7<>\"\",IFERROR(VLOOKUP(WEEKDAY(CONCATENATE(N7,$X$5,$AL$5)),Tabelas!$I:$J,2,0),\"\"),\"\")","v":"QUI"},{"$f":"IF(O7<>\"\",IFERROR(VLOOKUP(WEEKDAY(CONCATENATE(O7,$X$5,$AL$5)),Tabelas!$I:$J,2,0),\"\"),\"\")","v":"SEX"},{"$f":"IF(P7<>\"\",IFERROR(VLOOKUP(WEEKDAY(CONCATENATE(P7,$X$5,$AL$5)),Tabelas!$I:$J,2,0),\"\"),\"\")","v":"SAB"},{"$f":"IF(Q7<>\"\",IFERROR(VLOOKUP(WEEKDAY(CONCATENATE(Q7,$X$5,$AL$5)),Tabelas!$I:$J,2,0),\"\"),\"\")","v":"DOM"},{"$f":"IF(R7<>\"\",IFERROR(VLOOKUP(WEEKDAY(CONCATENATE(R7,$X$5,$AL$5)),Tabelas!$I:$J,2,0),\"\"),\"\")","v":"SEG"},{"$f":"IF(S7<>\"\",IFERROR(VLOOKUP(WEEKDAY(CONCATENATE(S7,$X$5,$AL$5)),Tabelas!$I:$J,2,0),\"\"),\"\")","v":"TER"},{"$f":"IF(T7<>\"\",IFERROR(VLOOKUP(WEEKDAY(CONCATENATE(T7,$X$5,$AL$5)),Tabelas!$I:$J,2,0),\"\"),\"\")","v":"QUA"},{"$f":"IF(U7<>\"\",IFERROR(VLOOKUP(WEEKDAY(CONCATENATE(U7,$X$5,$AL$5)),Tabelas!$I:$J,2,0),\"\"),\"\")","v":"QUI"},{"$f":"IF(V7<>\"\",IFERROR(VLOOKUP(WEEKDAY(CONCATENATE(V7,$X$5,$AL$5)),Tabelas!$I:$J,2,0),\"\"),\"\")","v":"SEX"},{"$f":"IF(W7<>\"\",IFERROR(VLOOKUP(WEEKDAY(CONCATENATE(W7,$X$5,$AL$5)),Tabelas!$I:$J,2,0),\"\"),\"\")","v":"SAB"},{"$f":"IF(X7<>\"\",IFERROR(VLOOKUP(WEEKDAY(CONCATENATE(X7,$X$5,$AL$5)),Tabelas!$I:$J,2,0),\"\"),\"\")","v":"DOM"},{"$f":"IF(Y7<>\"\",IFERROR(VLOOKUP(WEEKDAY(CONCATENATE(Y7,$X$5,$AL$5)),Tabelas!$I:$J,2,0),\"\"),\"\")","v":"SEG"},{"$f":"IF(Z7<>\"\",IFERROR(VLOOKUP(WEEKDAY(CONCATENATE(Z7,$X$5,$AL$5)),Tabelas!$I:$J,2,0),\"\"),\"\")","v":"TER"},{"$f":"IF(AA7<>\"\",IFERROR(VLOOKUP(WEEKDAY(CONCATENATE(AA7,$X$5,$AL$5)),Tabelas!$I:$J,2,0),\"\"),\"\")","v":"QUA"},{"$f":"IF(AB7<>\"\",IFERROR(VLOOKUP(WEEKDAY(CONCATENATE(AB7,$X$5,$AL$5)),Tabelas!$I:$J,2,0),\"\"),\"\")","v":"QUI"},{"$f":"IF(AC7<>\"\",IFERROR(VLOOKUP(WEEKDAY(CONCATENATE(AC7,$X$5,$AL$5)),Tabelas!$I:$J,2,0),\"\"),\"\")","v":"SEX"},{"$f":"IF(AD7<>\"\",IFERROR(VLOOKUP(WEEKDAY(CONCATENATE(AD7,$X$5,$AL$5)),Tabelas!$I:$J,2,0),\"\"),\"\")","v":"SAB"},{"$f":"IF(AE7<>\"\",IFERROR(VLOOKUP(WEEKDAY(CONCATENATE(AE7,$X$5,$AL$5)),Tabelas!$I:$J,2,0),\"\"),\"\")","v":"DOM"},{"$f":"IF(AF7<>\"\",IFERROR(VLOOKUP(WEEKDAY(CONCATENATE(AF7,$X$5,$AL$5)),Tabelas!$I:$J,2,0),\"\"),\"\")","v":"SEG"},{"$f":"IF(AG7<>\"\",IFERROR(VLOOKUP(WEEKDAY(CONCATENATE(AG7,$X$5,$AL$5)),Tabelas!$I:$J,2,0),\"\"),\"\")","v":"TER"},{"$f":"IF(AH7<>\"\",IFERROR(VLOOKUP(WEEKDAY(CONCATENATE(AH7,$X$5,$AL$5)),Tabelas!$I:$J,2,0),\"\"),\"\")","v":"QUA"},{"$f":"IF(AI7<>\"\",IFERROR(VLOOKUP(WEEKDAY(CONCATENATE(AI7,$X$5,$AL$5)),Tabelas!$I:$J,2,0),\"\"),\"\")","v":"QUI"},{"$f":"IF(AJ7<>\"\",IFERROR(VLOOKUP(WEEKDAY(CONCATENATE(AJ7,$X$5,$AL$5)),Tabelas!$I:$J,2,0),\"\"),\"\")","v":"SEX"},{"$f":"IF(AK7<>\"\",IFERROR(VLOOKUP(WEEKDAY(CONCATENATE(AK7,$X$5,$AL$5)),Tabelas!$I:$J,2,0),\"\"),\"\")","v":"SAB"},{"$f":"IF(AL7<>\"\",IFERROR(VLOOKUP(WEEKDAY(CONCATENATE(AL7,$X$5,$AL$5)),Tabelas!$I:$J,2,0),\"\"),\"\")","v":"DOM"},{"$f":"IF(AM7<>\"\",IFERROR(VLOOKUP(WEEKDAY(CONCATENATE(AM7,$X$5,$AL$5)),Tabelas!$I:$J,2,0),\"\"),\"\")","v":"SEG"},{"$f":"IF(AN7<>\"\",IFERROR(VLOOKUP(WEEKDAY(CONCATENATE(AN7,$X$5,$AL$5)),Tabelas!$I:$J,2,0),\"\"),\"\")","v":"TER"},{"$f":"IF(AO7<>\"\",IFERROR(VLOOKUP(WEEKDAY(CONCATENATE(AO7,$X$5,$AL$5)),Tabelas!$I:$J,2,0),\"\"),\"\")","v":"QUA"},{"$f":"IF(AP7<>\"\",IFERROR(VLOOKUP(WEEKDAY(CONCATENATE(AP7,$X$5,$AL$5)),Tabelas!$I:$J,2,0),\"\"),\"\")","v":"QUI"},{"$f":"IF(AQ7<>\"\",IFERROR(VLOOKUP(WEEKDAY(CONCATENATE(AQ7,$X$5,$AL$5)),Tabelas!$I:$J,2,0),\"\"),\"\")","v":""},1,2,3,4,5,6,7,8,9,10,11,12,13,14,15,16,17,18,19,20,21,22,23,24,25,26,27,28,29,30,31]
["Adaucto Wanderley da Nobrega Jr",1111792,12419,"Médico","EBSERH",24]
["Ademilson Rogerio Ferreira",1088725,16287,"Médico","EBSERH",24]
["Adriana Fontes Zimmermann ",1160584,4120,"Médico","RJU",20]
["ALEXANDRE DIAS DE OLIVEIRA   ",1919092,24293,"Médico","EBSERH",24]
["Alvaro Thadeu Bender",2455919,4391,"Médico","RJU",10]
["André Dias de Oliveira",1280965,1910,"Médico","EBSERH",24]
["Andressa Miozzo Soares ",1219785,19011,"Médico","EBSERH",24]
["Anne-Rose Leopoldina Wuederkehr Bau ",3050861,21324,"Médico","EBSERH",24]
["Ari Ojeda Ocampo Moré",2116216,13369,"Médico","RJU",30]
["Ariel Cordova Rosa",1361412,23372,"Médico","EBSERH",24]
["Aurelio Pacheco Costa Filho ",1160449,5182,"Médico","RJU",20]
["Cesar Paulo Semionato",1158471,3535,"Médico","RJU",30]
["Cristina Screiber de Oliveira ",1551454,10134,"Médico","RJU",20]
["Edson Duarte Pillotto",3265216,12158,"Médico","EBSERH",24]
["Elaine Cristina Caon de Souza Bulsing ",2270829,15054,"Médico","RJU",40]
["Emerson Leonildo Marques",2442492,10981,"Médico","RJU",30]
["Gabriel Dotta",1212525,17906,"Médico","EBSERH",24]
["Giovani Colombo",1361629,6745,"Médico","RJU",30]
["Gisele Espíndola ",1524592,10886,"Médico","RJU",20]
["Guilherme Asmar Alencar",1369108,29256,"Médico","EBSERH",24]
["Ivanio Alves Pereira ",278207,5081,"Médico","RJU",20]
["Ivete Ioshiko Masukawa",1445581,1749,"Médico","RJU",20]
["Jane da Silva",2224909,8602,"Médico","RJU",40]
["Joao Eduardo Martins Teixeira",3144885,27906,"Médico","EBSERH",24]
["Julia Michels Ferreira",2483669,11398,"Médico","RJU",20]
["Leonardo Jonk Staub ",2604396,14283,"Médico","RJU",30]
["Leonardo Simas Abi Saad",3604455,13918,"Médico","RJU",30]
["Luciana Kiehl Noronha ",1441915,24335,"Médico","EBSERH",24]
["Luis Carlos Esteves Grelle ",3133639,13438,"Médico","EBSERH",24]
["Luiz Paulo de Queiroz ",2158320,3155,"Médico","RJU",20]
["Manuela Brisot Felisbino",1675761,14805,"Médico","EBSERH",24]
["Marcelo Ronsoni ",3603274,16049,"Médico","RJU",30]
["Marcia Tatsch Cavagnollo",1922994,12168,"Médico","RJU",20]
["Mariana Costa Silva Valente ",1676055,15060,"Médico","EBSERH",24]
["Mario Octavio Thá Marques ",2083850,15051,"Médico","RJU",30]
["Monique Kowalski Schmitz",3141340,10956,"Médico","EBSERH",24]
["Oscar Cardoso Dimatos ",2841698,16451,"Médico","RJU",20]
["Pablo Moritz ",2312594,6566,"Médico","RJU",20]
["Patricia de Almeida Vanny",2140466,1280,"Médico","RJU",40]
["Ricardo Goes Freitas ",1926676,18155,"Médico","EBSERH",24]
["Roberto Henrique Heinisch",1159126,3907,"Mécico","RJU",20]
["Rodrigo Dagostini Derech",3053154,12632,"Médico","EBSERH",24]
["Roger Pirath Rodrigues ",1440902,10218,"Médico","RJU",20]
["Rosimeri Maureci da Silva ",4160231,5465,"Médico","RJU",40]
["Shirley Maximo de Souza",2060635,2775,"Médico","EBSERH",24]
["Thais Rossoni Weber da Silva ",2676080,14819,"Médico","RJU",20]
["                  CHEFE DE UNIDADE"]
["Luciana Bonnassis Burg ",3442495,10820,"Médico","RJU",40]
["Adriana Fontes Zimmermann ",1160584,4120,"Médico","RJU",20]
["SOBREAVISO","SIAPE","     Registro Conselho Classe","Cargo","Vínculo","    C.H Sem"]
["Adriana Fontes Zimmermann ",1160584,4120,"Médico","RJU",20]
["Aurelio Pacheco Costa Filho ",1160449,5182,"Médico","RJU",20]
["Elaine Cristina Caon de Souza Bulsing ",2270829,15054,"Médico","RJU",40]
["Ivanio Alves Pereira ",278207,5081,"Médico","RJU",20]
["Luiz Paulo de Queiroz",2158320,3155,"Médico","RJU",20]
["Pablo Moritz ",2312594,6566,"Médico","RJU",20]
["Roger Pirath Rodrigues ",1440902,10218,"Médico","RJU",20]
["Rosimeri Maureci da Silva ",4160231,5465,"Médico","RJU",40]
["Thais Rossoni Weber da Silva ",2676080,14819,"Médico","RJU",20]
[]
[null,null,null,null,null,null,null,null,null,null,null,null,null,null,null,null,null,null,null,null,null,null,null,null,null,null,null,null,null,null,null,null,null,null,null,null,null,null,null,null,null,null,null,{"$f":"IF(A69<>\"\",IFERROR(VLOOKUP(M69,Tabelas!B:D,3,0),0),\"\")","v":""},{"$f":"IF(A69<>\"\",IFERROR(VLOOKUP(N69,Tabelas!B:D,3,0),0),\"\")","v":""},{"$f":"IF(A69<>\"\",IFERROR(VLOOKUP(O69,Tabelas!B:D,3,0),0),\"\")","v":""},{"$f":"IF(A69<>\"\",IFERROR(VLOOKUP(P69,Tabelas!B:D,3,0),0),\"\")","v":""},{"$f":"IF(A69<>\"\",IFERROR(VLOOKUP(Q69,Tabelas!B:D,3,0),0),\"\")","v":""},{"$f":"IF(A69<>\"\",IFERROR(VLOOKUP(R69,Tabelas!B:D,3,0),0),\"\")","v":""},{"$f":"IF(A69<>\"\",IFERROR(VLOOKUP(S69,Tabelas!B:D,3,0),0),\"\")","v":""},{"$f":"IF(A69<>\"\",IFERROR(VLOOKUP(T69,Tabelas!B:D,3,0),0),\"\")","v":""},{"$f":"IF(A69<>\"\",IFERROR(VLOOKUP(U69,Tabelas!B:D,3,0),0),\"\")","v":""},{"$f":"IF(A69<>\"\",IFERROR(VLOOKUP(V69,Tabelas!B:D,3,0),0),\"\")","v":""},{"$f":"IF(A69<>\"\",IFERROR(VLOOKUP(W69,Tabelas!B:D,3,0),0),\"\")","v":""},{"$f":"IF(A69<>\"\",IFERROR(VLOOKUP(X69,Tabelas!B:D,3,0),0),\"\")","v":""},{"$f":"IF(A69<>\"\",IFERROR(VLOOKUP(Y69,Tabelas!B:D,3,0),0),\"\")","v":""},{"$f":"IF(A69<>\"\",IFERROR(VLOOKUP(Z69,Tabelas!B:D,3,0),0),\"\")","v":""},{"$f":"IF(A69<>\"\",IFERROR(VLOOKUP(AA69,Tabelas!B:D,3,0),0),\"\")","v":""},{"$f":"IF(A69<>\"\",IFERROR(VLOOKUP(AB69,Tabelas!B:D,3,0),0),\"\")","v":""},{"$f":"IF(A69<>\"\",IFERROR(VLOOKUP(AC69,Tabelas!B:D,3,0),0),\"\")","v":""},{"$f":"IF(A69<>\"\",IFERROR(VLOOKUP(AD69,Tabelas!B:D,3,0),0),\"\")","v":""},{"$f":"IF(A69<>\"\",IFERROR(VLOOKUP(AE69,Tabelas!B:D,3,0),0),\"\")","v":""},{"$f":"IF(A69<>\"\",IFERROR(VLOOKUP(AF69,Tabelas!B:D,3,0),0),\"\")","v":""},{"$f":"IF(A69<>\"\",IFERROR(VLOOKUP(AG69,Tabelas!B:D,3,0),0),\"\")","v":""},{"$f":"IF(A69<>\"\",IFERROR(VLOOKUP(AH69,Tabelas!B:D,3,0),0),\"\")","v":""},{"$f":"IF(A69<>\"\",IFERROR(VLOOKUP(AI69,Tabelas!B:D,3,0),0),\"\")","v":""},{"$f":"IF(A69<>\"\",IFERROR(VLOOKUP(AJ69,Tabelas!B:D,3,0),0),\"\")","v":""},{"$f":"IF(A69<>\"\",IFERROR(VLOOKUP(AK69,Tabelas!B:D,3,0),0),\"\")","v":""},{"$f":"IF(A69<>\"\",IFERROR(VLOOKUP(AL69,Tabelas!B:D,3,0),0),\"\")","v":""},{"$f":"IF(A69<>\"\",IFERROR(VLOOKUP(AM69,Tabelas!B:D,3,0),0),\"\")","v":""},{"$f":"IF(A69<>\"\",IFERROR(VLOOKUP(AN69,Tabelas!B:D,3,0),0),\"\")","v":""},{"$f":"IF(A69<>\"\",IFERROR(VLOOKUP(AO69,Tabelas!B:D,3,0),0),\"\")","v":""},{"$f":"IF(A69<>\"\",IFERROR(VLOOKUP(AP69,Tabelas!B:D,3,0),0),\"\")","v":""},{"$f":"IF(A69<>\"\",IFERROR(VLOOKUP(AQ69,Tabelas!B:D,3,0),0),\"\")","v":""}]
["Legenda:"]
["Licença Maternidade","LM","Férias",null,null,null,null,null,null,"FE",null,"Ponto Facultativo",null,null,null,null,null,null,null,"PF","Manhã *",null,null,null,null,null,null,"M","Diurno (8 hrs) *",null,null,null,null,null,null,"MT"]
["Licença Paternidade","LP","Feriado",null,null,null,null,null,null,"FD",null,"Abono **",null,null,null,null,null,null,null,"AB","Tarde *",null,null,null,null,null,null,"T","Dia/ noite (24 hrs) *",null,null,null,null,null,null,"DN"]
["Licença Médica/Odontológica","L","Descanso Semanal Remunerado",null,null,null,null,null,null,"DSR",null,"Compensação de Horas***",null,null,null,null,null,null,null,"CH","Plantão Dia (12 hrs) *",null,null,null,null,null,null,"D"]
["Licença Capacitação","LC","Recesso",null,null,null,null,null,null,"RC",null,"Afastamento**",null,null,null,null,null,null,null,"AF","Plantão Noite (12 hrs) *",null,null,null,null,null,null,"N"]
[]
["OBSERVAÇÕES:"]
["* Para inserção das legendas referentes às jornadas de trabalho, verificar a Tabela 1 do Anexo do Memorando-Circular - SEI nº   25 /2018/CAP/DGP-EBSERH."]
["** Para inserção das legendas referentes aos Afastamentos previstos em lei e às Compensações de horas, verificar a Tabela 2 do Anexo do Memorando-Circular - SEI nº   25 /2018/CAP/DGP-EBSERH."]

{"sheet":"Julho","index":6,"n_rows":48,"n_cols":82,"rows_kept":48,"cut":false,"hidden":false,"merged":[[40,20,40,26],[41,2,41,8],[41,9,41,10],[41,11,41,18],[41,20,41,26],[40,2,40,8],[40,9,40,10],[42,20,42,26],[43,2,43,8],[43,9,43,10],[43,11,43,18],[43,20,43,26],[35,0,35,11],[36,0,36,11],[37,0,37,11],[42,2,42,8],[42,9,42,10],[42,11,42,18],[40,11,40,18],[1,0,1,42],[2,0,2,42],[3,0,3,42],[4,1,4,20],[4,23,4,34],[4,37,4,42],[5,6,5,11],[6,76,7,76],[6,77,7,77],[6,78,7,78],[6,79,7,79],[6,6,7,6],[6,7,7,7],[6,8,7,8],[6,11,7,11],[6,9,7,9],[6,10,7,10],[6,80,7,80],[6,81,7,81],[5,12,5,42],[5,43,5,73],[5,75,5,81],[5,74,7,74],[6,75,7,75],[35,79,37,79],[35,80,37,80],[35,81,37,81],[40,28,40,34],[41,28,41,34],[35,74,37,74],[35,75,37,75],[35,76,37,76],[35,77,37,77],[35,78,37,78]]}
[]
[]
["NOME DO HU"]
["ESCALA MENSAL DE TRABALHO"]
["DIVISÃO /SETOR/UNIDADE:",null,null,null,null,null,null,null,null,null,null,null,null,null,null,null,null,null,null,null,null,"MÊS:",null,"Julho",null,null,null,null,null,null,null,null,null,null,null,"ANO:",null,2019]
["NOME COMPLETO","SIAPE","     Registro Conselho Classe","Cargo","Vínculo","    C.H Sem","INTERVALO",null,null,null,null,null,"DIAS DO MÊS",null,null,null,null,null,null,null,null,null,null,null,null,null,null,null,null,null,null,null,null,null,null,null,null,null,null,null,null,null,null,"CÁLCULO DAS HORAS",null,null,null,null,null,null,null,null,null,null,null,null,null,null,null,null,null,null,null,null,null,null,null,null,null,null,null,null,null,null,"CH Men.","Dias"]
[null,null,null,null,null,null,"15' M","15' T","15' N","1H D","1H N","2H",1,2,3,4,5,6,7,8,9,10,11,12,13,14,15,16,17,18,19,20,21,22,23,24,25,{"$f":"IF(DAY(DATE(AL5,VLOOKUP(X5,Tabelas!M:N,2,0)+1,1)-1)>=26,26,\"\")","v":26},{"$f":"IF(DAY(DATE(AL5,VLOOKUP(X5,Tabelas!M:N,2,0)+1,1)-1)>=27,27,\"\")","v":27},{"$f":"IF(DAY(DATE(AL5,VLOOKUP(X5,Tabelas!M:N,2,0)+1,1)-1)>=28,28,\"\")","v":28},{"$f":"IF(DAY(DATE(AL5,VLOOKUP(X5,Tabelas!M:N,2,0)+1,1)-1)>=29,29,\"\")","v":29},{"$f":"IF(DAY(DATE(AL5,VLOOKUP(X5,Tabelas!M:N,2,0)+1,1)-1)>=30,30,\"\")","v":30},{"$f":"IF(DAY(DATE(AL5,VLOOKUP(X5,Tabelas!M:N,2,0)+1,1)-1)>=31,31,\"\")","v":31},null,null,null,null,null,null,null,null,null,null,null,null,null,null,null,null,null,null,null,null,null,null,null,null,null,null,null,null,null,null,null,null,"LM/LP/L","AB","FE","LC","CH","AF  "," Total Afast."]
[null,null,null,null,null,null,null,null,null,null,null,null,{"$f":"IF(M7<>\"\",IFERROR(VLOOKUP(WEEKDAY(CONCATENATE(M7,$X$5,$AL$5)),Tabelas!$I:$J,2,0),\"\"),\"\")","v":"SEG"},{"$f":"IF(N7<>\"\",IFERROR(VLOOKUP(WEEKDAY(CONCATENATE(N7,$X$5,$AL$5)),Tabelas!$I:$J,2,0),\"\"),\"\")","v":"TER"},{"$f":"IF(O7<>\"\",IFERROR(VLOOKUP(WEEKDAY(CONCATENATE(O7,$X$5,$AL$5)),Tabelas!$I:$J,2,0),\"\"),\"\")","v":"QUA"},{"$f":"IF(P7<>\"\",IFERROR(VLOOKUP(WEEKDAY(CONCATENATE(P7,$X$5,$AL$5)),Tabelas!$I:$J,2,0),\"\"),\"\")","v":"QUI"},{"$f":"IF(Q7<>\"\",IFERROR(VLOOKUP(WEEKDAY(CONCATENATE(Q7,$X$5,$AL$5)),Tabelas!$I:$J,2,0),\"\"),\"\")","v":"SEX"},{"$f":"IF(R7<>\"\",IFERROR(VLOOKUP(WEEKDAY(CONCATENATE(R7,$X$5,$AL$5)),Tabelas!$I:$J,2,0),\"\"),\"\")","v":"SAB"},{"$f":"IF(S7<>\"\",IFERROR(VLOOKUP(WEEKDAY(CONCATENATE(S7,$X$5,$AL$5)),Tabelas!$I:$J,2,0),\"\"),\"\")","v":"DOM"},{"$f":"IF(T7<>\"\",IFERROR(VLOOKUP(WEEKDAY(CONCATENATE(T7,$X$5,$AL$5)),Tabelas!$I:$J,2,0),\"\"),\"\")","v":"SEG"},{"$f":"IF(U7<>\"\",IFERROR(VLOOKUP(WEEKDAY(CONCATENATE(U7,$X$5,$AL$5)),Tabelas!$I:$J,2,0),\"\"),\"\")","v":"TER"},{"$f":"IF(V7<>\"\",IFERROR(VLOOKUP(WEEKDAY(CONCATENATE(V7,$X$5,$AL$5)),Tabelas!$I:$J,2,0),\"\"),\"\")","v":"QUA"},{"$f":"IF(W7<>\"\",IFERROR(VLOOKUP(WEEKDAY(CONCATENATE(W7,$X$5,$AL$5)),Tabelas!$I:$J,2,0),\"\"),\"\")","v":"QUI"},{"$f":"IF(X7<>\"\",IFERROR(VLOOKUP(WEEKDAY(CONCATENATE(X7,$X$5,$AL$5)),Tabelas!$I:$J,2,0),\"\"),\"\")","v":"SEX"},{"$f":"IF(Y7<>\"\",IFERROR(VLOOKUP(WEEKDAY(CONCATENATE(Y7,$X$5,$AL$5)),Tabelas!$I:$J,2,0),\"\"),\"\")","v":"SAB"},{"$f":"IF(Z7<>\"\",IFERROR(VLOOKUP(WEEKDAY(CONCATENATE(Z7,$X$5,$AL$5)),Tabelas!$I:$J,2,0),\"\"),\"\")","v":"DOM"},{"$f":"IF(AA7<>\"\",IFERROR(VLOOKUP(WEEKDAY(CONCATENATE(AA7,$X$5,$AL$5)),Tabelas!$I:$J,2,0),\"\"),\"\")","v":"SEG"},{"$f":"IF(AB7<>\"\",IFERROR(VLOOKUP(WEEKDAY(CONCATENATE(AB7,$X$5,$AL$5)),Tabelas!$I:$J,2,0),\"\"),\"\")","v":"TER"},{"$f":"IF(AC7<>\"\",IFERROR(VLOOKUP(WEEKDAY(CONCATENATE(AC7,$X$5,$AL$5)),Tabelas!$I:$J,2,0),\"\"),\"\")","v":"QUA"},{"$f":"IF(AD7<>\"\",IFERROR(VLOOKUP(WEEKDAY(CONCATENATE(AD7,$X$5,$AL$5)),Tabelas!$I:$J,2,0),\"\"),\"\")","v":"QUI"},{"$f":"IF(AE7<>\"\",IFERROR(VLOOKUP(WEEKDAY(CONCATENATE(AE7,$X$5,$AL$5)),Tabelas!$I:$J,2,0),\"\"),\"\")","v":"SEX"},{"$f":"IF(AF7<>\"\",IFERROR(VLOOKUP(WEEKDAY(CONCATENATE(AF7,$X$5,$AL$5)),Tabelas!$I:$J,2,0),\"\"),\"\")","v":"SAB"},{"$f":"IF(AG7<>\"\",IFERROR(VLOOKUP(WEEKDAY(CONCATENATE(AG7,$X$5,$AL$5)),Tabelas!$I:$J,2,0),\"\"),\"\")","v":"DOM"},{"$f":"IF(AH7<>\"\",IFERROR(VLOOKUP(WEEKDAY(CONCATENATE(AH7,$X$5,$AL$5)),Tabelas!$I:$J,2,0),\"\"),\"\")","v":"SEG"},{"$f":"IF(AI7<>\"\",IFERROR(VLOOKUP(WEEKDAY(CONCATENATE(AI7,$X$5,$AL$5)),Tabelas!$I:$J,2,0),\"\"),\"\")","v":"TER"},{"$f":"IF(AJ7<>\"\",IFERROR(VLOOKUP(WEEKDAY(CONCATENATE(AJ7,$X$5,$AL$5)),Tabelas!$I:$J,2,0),\"\"),\"\")","v":"QUA"},{"$f":"IF(AK7<>\"\",IFERROR(VLOOKUP(WEEKDAY(CONCATENATE(AK7,$X$5,$AL$5)),Tabelas!$I:$J,2,0),\"\"),\"\")","v":"QUI"},{"$f":"IF(AL7<>\"\",IFERROR(VLOOKUP(WEEKDAY(CONCATENATE(AL7,$X$5,$AL$5)),Tabelas!$I:$J,2,0),\"\"),\"\")","v":"SEX"},{"$f":"IF(AM7<>\"\",IFERROR(VLOOKUP(WEEKDAY(CONCATENATE(AM7,$X$5,$AL$5)),Tabelas!$I:$J,2,0),\"\"),\"\")","v":"SAB"},{"$f":"IF(AN7<>\"\",IFERROR(VLOOKUP(WEEKDAY(CONCATENATE(AN7,$X$5,$AL$5)),Tabelas!$I:$J,2,0),\"\"),\"\")","v":"DOM"},{"$f":"IF(AO7<>\"\",IFERROR(VLOOKUP(WEEKDAY(CONCATENATE(AO7,$X$5,$AL$5)),Tabelas!$I:$J,2,0),\"\"),\"\")","v":"SEG"},{"$f":"IF(AP7<>\"\",IFERROR(VLOOKUP(WEEKDAY(CONCATENATE(AP7,$X$5,$AL$5)),Tabelas!$I:$J,2,0),\"\"),\"\")","v":"TER"},{"$f":"IF(AQ7<>\"\",IFERROR(VLOOKUP(WEEKDAY(CONCATENATE(AQ7,$X$5,$AL$5)),Tabelas!$I:$J,2,0),\"\"),\"\")","v":"QUA"},1,2,3,4,5,6,7,8,9,10,11,12,13,14,15,16,17,18,19,20,21,22,23,24,25,26,27,28,29,30,31]
["FULANO 1",1,null,null,null,null,null,null,null,null,null,null,null,null,null,null,null,null,null,null,null,null,null,null,null,null,null,null,null,null,null,null,null,null,null,null,null,null,null,null,null,null,null,{"$f":"IF(A9<>\"\",IFERROR(VLOOKUP(M9,Tabelas!B:D,3,0),0),\"\")","v":0},{"$f":"IF(A9<>\"\",IFERROR(VLOOKUP(N9,Tabelas!B:D,3,0),0),\"\")","v":0},{"$f":"IF(A9<>\"\",IFERROR(VLOOKUP(O9,Tabelas!B:D,3,0),0),\"\")","v":0},{"$f":"IF(A9<>\"\",IFERROR(VLOOKUP(P9,Tabelas!B:D,3,0),0),\"\")","v":0},{"$f":"IF(A9<>\"\",IFERROR(VLOOKUP(Q9,Tabelas!B:D,3,0),0),\"\")","v":0},{"$f":"IF(A9<>\"\",IFERROR(VLOOKUP(R9,Tabelas!B:D,3,0),0),\"\")","v":0},{"$f":"IF(A9<>\"\",IFERROR(VLOOKUP(S9,Tabelas!B:D,3,0),0),\"\")","v":0},{"$f":"IF(A9<>\"\",IFERROR(VLOOKUP(T9,Tabelas!B:D,3,0),0),\"\")","v":0},{"$f":"IF(A9<>\"\",IFERROR(VLOOKUP(U9,Tabelas!B:D,3,0),0),\"\")","v":0},{"$f":"IF(A9<>\"\",IFERROR(VLOOKUP(V9,Tabelas!B:D,3,0),0),\"\")","v":0},{"$f":"IF(A9<>\"\",IFERROR(VLOOKUP(W9,Tabelas!B:D,3,0),0),\"\")","v":0},{"$f":"IF(A9<>\"\",IFERROR(VLOOKUP(X9,Tabelas!B:D,3,0),0),\"\")","v":0},{"$f":"IF(A9<>\"\",IFERROR(VLOOKUP(Y9,Tabelas!B:D,3,0),0),\"\")","v":0},{"$f":"IF(A9<>\"\",IFERROR(VLOOKUP(Z9,Tabelas!B:D,3,0),0),\"\")","v":0},{"$f":"IF(A9<>\"\",IFERROR(VLOOKUP(AA9,Tabelas!B:D,3,0),0),\"\")","v":0},{"$f":"IF(A9<>\"\",IFERROR(VLOOKUP(AB9,Tabelas!B:D,3,0),0),\"\")","v":0},{"$f":"IF(A9<>\"\",IFERROR(VLOOKUP(AC9,Tabelas!B:D,3,0),0),\"\")","v":0},{"$f":"IF(A9<>\"\",IFERROR(VLOOKUP(AD9,Tabelas!B:D,3,0),0),\"\")","v":0},{"$f":"IF(A9<>\"\",IFERROR(VLOOKUP(AE9,Tabelas!B:D,3,0),0),\"\")","v":0},{"$f":"IF(A9<>\"\",IFERROR(VLOOKUP(AF9,Tabelas!B:D,3,0),0),\"\")","v":0},{"$f":"IF(A9<>\"\",IFERROR(VLOOKUP(AG9,Tabelas!B:D,3,0),0),\"\")","v":0},{"$f":"IF(A9<>\"\",IFERROR(VLOOKUP(AH9,Tabelas!B:D,3,0),0),\"\")","v":0},{"$f":"IF(A9<>\"\",IFERROR(VLOOKUP(AI9,Tabelas!B:D,3,0),0),\"\")","v":0},{"$f":"IF(A9<>\"\",IFERROR(VLOOKUP(AJ9,Tabelas!B:D,3,0),0),\"\")","v":0},{"$f":"IF(A9<>\"\",IFERROR(VLOOKUP(AK9,Tabelas!B:D,3,0),0),\"\")","v":0},{"$f":"IF(A9<>\"\",IFERROR(VLOOKUP(AL9,Tabelas!B:D,3,0),0),\"\")","v":0},{"$f":"IF(A9<>\"\",IFERROR(VLOOKUP(AM9,Tabelas!B:D,3,0),0),\"\")","v":0},{"$f":"IF(A9<>\"\",IFERROR(VLOOKUP(AN9,Tabelas!B:D,3,0),0),\"\")","v":0},{"$f":"IF(A9<>\"\",IFERROR(VLOOKUP(AO9,Tabelas!B:D,3,0),0),\"\")","v":0},{"$f":"IF(A9<>\"\",IFERROR(VLOOKUP(AP9,Tabelas!B:D,3,0),0),\"\")","v":0},{"$f":"IF(A9<>\"\",IFERROR(VLOOKUP(AQ9,Tabelas!B:D,3,0),0),\"\")","v":0},{"$f":"IF(AND(A9<>\"\",E9=\"Ebserh\"),SUM(AR9:BV9)+COUNTIF(M9:AQ9,\"N*\")+COUNTIF(M9:AQ9,\"DN*\"),IF(AND(A9<>\"\",E9<>\"Ebserh\"),SUM(AR9:BV9),\"\"))","v":0},{"$f":"IF(A9<>\"\",COUNTIF(M9:AQ9,\"LM\")+COUNTIF(M9:AQ9,\"L\")+COUNTIF(M9:AQ9,\"LP\"),\"\")","v":0},{"$f":"IF(A9<>\"\",COUNTIF(M9:AQ9,\"AB*\"),\"\")","v":0},{"$f":"IF(A9<>\"\",COUNTIF(M9:AQ9,\"FE\"),\"\")","v":0},{"$f":"IF(A9<>\"\",COUNTIF(M9:AQ9,\"LC\"),\"\")","v":0},{"$f":"IF(A9<>\"\",COUNTIF(M9:AQ9,\"CH*\"),\"\")","v":0},{"$f":"IF(A9<>\"\",COUNTIF(M9:AQ9,\"AF1\")+COUNTIF(M9:AQ9,\"AF2\")+COUNTIF(M9:AQ9,\"AF3\")+COUNTIF(M9:AQ9,\"AF4\")+COUNTIF(M9:AQ9,\"AF5\")+COUNTIF(M9:AQ9,\"AF6\")+COUNTIF(M9:AQ9,\"AF7\")+COUNTIF(M9:AQ9,\"AF8\")+COUNTIF(M9:AQ9,\"AF9\")+COUNTIF(M9:AQ9,\"AF10\")+COUNTIF(M9:AQ9,\"AF11\")+COUNTIF(M9:AQ9,\"AF12\")+COUNTIF(M9:AQ9,\"AF13\")+COUNTIF(M9:AQ9,\"AF14\"),\"\")","v":0},{"$f":"IF(A9<>\"\",COUNTIF(M9:AQ9,\"CH*\")+COUNTIF(M9:AQ9,\"L\")+COUNTIF(M9:AQ9,\"LM\")+COUNTIF(M9:AQ9,\"LP\")+COUNTIF(M9:AQ9,\"LC\")+COUNTIF(M9:AQ9,\"AB*\")+COUNTIF(M9:AQ9,\"AF1\")+COUNTIF(M9:AQ9,\"AF2\")+COUNTIF(M9:AQ9,\"AF3\")+COUNTIF(M9:AQ9,\"AF4\")+COUNTIF(M9:AQ9,\"AF5\")+COUNTIF(M9:AQ9,\"AF6\")+COUNTIF(M9:AQ9,\"AF7\")+COUNTIF(M9:AQ9,\"AF8\")+COUNTIF(M9:AQ9,\"AF9\")+COUNTIF(M9:AQ9,\"AF10\")+COUNTIF(M9:AQ9,\"AF11\")+COUNTIF(M9:AQ9,\"AF12\")+COUNTIF(M9:AQ9,\"AF13\")+COUNTIF(M9:AQ9,\"AF14\")+COUNTIF(M9:AQ9,\"RC\")+COUNTIF(M9:AQ9,\"FO\")+COUNTIF(M9:AQ9,\"FE\"),\"\")","v":0}]
["FULANO 2",2,null,null,null,null,null,null,null,null,null,null,null,null,null,null,null,null,null,null,null,null,null,null,null,null,null,null,null,null,null,null,null,null,null,null,null,null,null,null,null,null,null,{"$f":"IF(A10<>\"\",IFERROR(VLOOKUP(M10,Tabelas!B:D,3,0),0),\"\")","v":0},{"$f":"IF(A10<>\"\",IFERROR(VLOOKUP(N10,Tabelas!B:D,3,0),0),\"\")","v":0},{"$f":"IF(A10<>\"\",IFERROR(VLOOKUP(O10,Tabelas!B:D,3,0),0),\"\")","v":0},{"$f":"IF(A10<>\"\",IFERROR(VLOOKUP(P10,Tabelas!B:D,3,0),0),\"\")","v":0},{"$f":"IF(A10<>\"\",IFERROR(VLOOKUP(Q10,Tabelas!B:D,3,0),0),\"\")","v":0},{"$f":"IF(A10<>\"\",IFERROR(VLOOKUP(R10,Tabelas!B:D,3,0),0),\"\")","v":0},{"$f":"IF(A10<>\"\",IFERROR(VLOOKUP(S10,Tabelas!B:D,3,0),0),\"\")","v":0},{"$f":"IF(A10<>\"\",IFERROR(VLOOKUP(T10,Tabelas!B:D,3,0),0),\"\")","v":0},{"$f":"IF(A10<>\"\",IFERROR(VLOOKUP(U10,Tabelas!B:D,3,0),0),\"\")","v":0},{"$f":"IF(A10<>\"\",IFERROR(VLOOKUP(V10,Tabelas!B:D,3,0),0),\"\")","v":0},{"$f":"IF(A10<>\"\",IFERROR(VLOOKUP(W10,Tabelas!B:D,3,0),0),\"\")","v":0},{"$f":"IF(A10<>\"\",IFERROR(VLOOKUP(X10,Tabelas!B:D,3,0),0),\"\")","v":0},{"$f":"IF(A10<>\"\",IFERROR(VLOOKUP(Y10,Tabelas!B:D,3,0),0),\"\")","v":0},{"$f":"IF(A10<>\"\",IFERROR(VLOOKUP(Z10,Tabelas!B:D,3,0),0),\"\")","v":0},{"$f":"IF(A10<>\"\",IFERROR(VLOOKUP(AA10,Tabelas!B:D,3,0),0),\"\")","v":0},{"$f":"IF(A10<>\"\",IFERROR(VLOOKUP(AB10,Tabelas!B:D,3,0),0),\"\")","v":0},{"$f":"IF(A10<>\"\",IFERROR(VLOOKUP(AC10,Tabelas!B:D,3,0),0),\"\")","v":0},{"$f":"IF(A10<>\"\",IFERROR(VLOOKUP(AD10,Tabelas!B:D,3,0),0),\"\")","v":0},{"$f":"IF(A10<>\"\",IFERROR(VLOOKUP(AE10,Tabelas!B:D,3,0),0),\"\")","v":0},{"$f":"IF(A10<>\"\",IFERROR(VLOOKUP(AF10,Tabelas!B:D,3,0),0),\"\")","v":0},{"$f":"IF(A10<>\"\",IFERROR(VLOOKUP(AG10,Tabelas!B:D,3,0),0),\"\")","v":0},{"$f":"IF(A10<>\"\",IFERROR(VLOOKUP(AH10,Tabelas!B:D,3,0),0),\"\")","v":0},{"$f":"IF(A10<>\"\",IFERROR(VLOOKUP(AI10,Tabelas!B:D,3,0),0),\"\")","v":0},{"$f":"IF(A10<>\"\",IFERROR(VLOOKUP(AJ10,Tabelas!B:D,3,0),0),\"\")","v":0},{"$f":"IF(A10<>\"\",IFERROR(VLOOKUP(AK10,Tabelas!B:D,3,0),0),\"\")","v":0},{"$f":"IF(A10<>\"\",IFERROR(VLOOKUP(AL10,Tabelas!B:D,3,0),0),\"\")","v":0},{"$f":"IF(A10<>\"\",IFERROR(VLOOKUP(AM10,Tabelas!B:D,3,0),0),\"\")","v":0},{"$f":"IF(A10<>\"\",IFERROR(VLOOKUP(AN10,Tabelas!B:D,3,0),0),\"\")","v":0},{"$f":"IF(A10<>\"\",IFERROR(VLOOKUP(AO10,Tabelas!B:D,3,0),0),\"\")","v":0},{"$f":"IF(A10<>\"\",IFERROR(VLOOKUP(AP10,Tabelas!B:D,3,0),0),\"\")","v":0},{"$f":"IF(A10<>\"\",IFERROR(VLOOKUP(AQ10,Tabelas!B:D,3,0),0),\"\")","v":0},0,0,0,0,0,0,0,0]
["FULANO 3",3,null,null,null,null,null,null,null,null,null,null,null,null,null,null,null,null,null,null,null,null,null,null,null,null,null,null,null,null,null,null,null,null,null,null,null,null,null,null,null,null,null,{"$f":"IF(A11<>\"\",IFERROR(VLOOKUP(M11,Tabelas!B:D,3,0),0),\"\")","v":0},{"$f":"IF(A11<>\"\",IFERROR(VLOOKUP(N11,Tabelas!B:D,3,0),0),\"\")","v":0},{"$f":"IF(A11<>\"\",IFERROR(VLOOKUP(O11,Tabelas!B:D,3,0),0),\"\")","v":0},{"$f":"IF(A11<>\"\",IFERROR(VLOOKUP(P11,Tabelas!B:D,3,0),0),\"\")","v":0},{"$f":"IF(A11<>\"\",IFERROR(VLOOKUP(Q11,Tabelas!B:D,3,0),0),\"\")","v":0},{"$f":"IF(A11<>\"\",IFERROR(VLOOKUP(R11,Tabelas!B:D,3,0),0),\"\")","v":0},{"$f":"IF(A11<>\"\",IFERROR(VLOOKUP(S11,Tabelas!B:D,3,0),0),\"\")","v":0},{"$f":"IF(A11<>\"\",IFERROR(VLOOKUP(T11,Tabelas!B:D,3,0),0),\"\")","v":0},{"$f":"IF(A11<>\"\",IFERROR(VLOOKUP(U11,Tabelas!B:D,3,0),0),\"\")","v":0},{"$f":"IF(A11<>\"\",IFERROR(VLOOKUP(V11,Tabelas!B:D,3,0),0),\"\")","v":0},{"$f":"IF(A11<>\"\",IFERROR(VLOOKUP(W11,Tabelas!B:D,3,0),0),\"\")","v":0},{"$f":"IF(A11<>\"\",IFERROR(VLOOKUP(X11,Tabelas!B:D,3,0),0),\"\")","v":0},{"$f":"IF(A11<>\"\",IFERROR(VLOOKUP(Y11,Tabelas!B:D,3,0),0),\"\")","v":0},{"$f":"IF(A11<>\"\",IFERROR(VLOOKUP(Z11,Tabelas!B:D,3,0),0),\"\")","v":0},{"$f":"IF(A11<>\"\",IFERROR(VLOOKUP(AA11,Tabelas!B:D,3,0),0),\"\")","v":0},{"$f":"IF(A11<>\"\",IFERROR(VLOOKUP(AB11,Tabelas!B:D,3,0),0),\"\")","v":0},{"$f":"IF(A11<>\"\",IFERROR(VLOOKUP(AC11,Tabelas!B:D,3,0),0),\"\")","v":0},{"$f":"IF(A11<>\"\",IFERROR(VLOOKUP(AD11,Tabelas!B:D,3,0),0),\"\")","v":0},{"$f":"IF(A11<>\"\",IFERROR(VLOOKUP(AE11,Tabelas!B:D,3,0),0),\"\")","v":0},{"$f":"IF(A11<>\"\",IFERROR(VLOOKUP(AF11,Tabelas!B:D,3,0),0),\"\")","v":0},{"$f":"IF(A11<>\"\",IFERROR(VLOOKUP(AG11,Tabelas!B:D,3,0),0),\"\")","v":0},{"$f":"IF(A11<>\"\",IFERROR(VLOOKUP(AH11,Tabelas!B:D,3,0),0),\"\")","v":0},{"$f":"IF(A11<>\"\",IFERROR(VLOOKUP(AI11,Tabelas!B:D,3,0),0),\"\")","v":0},{"$f":"IF(A11<>\"\",IFERROR(VLOOKUP(AJ11,Tabelas!B:D,3,0),0),\"\")","v":0},{"$f":"IF(A11<>\"\",IFERROR(VLOOKUP(AK11,Tabelas!B:D,3,0),0),\"\")","v":0},{"$f":"IF(A11<>\"\",IFERROR(VLOOKUP(AL11,Tabelas!B:D,3,0),0),\"\")","v":0},{"$f":"IF(A11<>\"\",IFERROR(VLOOKUP(AM11,Tabelas!B:D,3,0),0),\"\")","v":0},{"$f":"IF(A11<>\"\",IFERROR(VLOOKUP(AN11,Tabelas!B:D,3,0),0),\"\")","v":0},{"$f":"IF(A11<>\"\",IFERROR(VLOOKUP(AO11,Tabelas!B:D,3,0),0),\"\")","v":0},{"$f":"IF(A11<>\"\",IFERROR(VLOOKUP(AP11,Tabelas!B:D,3,0),0),\"\")","v":0},{"$f":"IF(A11<>\"\",IFERROR(VLOOKUP(AQ11,Tabelas!B:D,3,0),0),\"\")","v":0},0,0,0,0,0,0,0,0]
["FULANO 4",4,null,null,null,null,null,null,null,null,null,null,null,null,null,null,null,null,null,null,null,null,null,null,null,null,null,null,null,null,null,null,null,null,null,null,null,null,null,null,null,null,null,{"$f":"IF(A12<>\"\",IFERROR(VLOOKUP(M12,Tabelas!B:D,3,0),0),\"\")","v":0},{"$f":"IF(A12<>\"\",IFERROR(VLOOKUP(N12,Tabelas!B:D,3,0),0),\"\")","v":0},{"$f":"IF(A12<>\"\",IFERROR(VLOOKUP(O12,Tabelas!B:D,3,0),0),\"\")","v":0},{"$f":"IF(A12<>\"\",IFERROR(VLOOKUP(P12,Tabelas!B:D,3,0),0),\"\")","v":0},{"$f":"IF(A12<>\"\",IFERROR(VLOOKUP(Q12,Tabelas!B:D,3,0),0),\"\")","v":0},{"$f":"IF(A12<>\"\",IFERROR(VLOOKUP(R12,Tabelas!B:D,3,0),0),\"\")","v":0},{"$f":"IF(A12<>\"\",IFERROR(VLOOKUP(S12,Tabelas!B:D,3,0),0),\"\")","v":0},{"$f":"IF(A12<>\"\",IFERROR(VLOOKUP(T12,Tabelas!B:D,3,0),0),\"\")","v":0},{"$f":"IF(A12<>\"\",IFERROR(VLOOKUP(U12,Tabelas!B:D,3,0),0),\"\")","v":0},{"$f":"IF(A12<>\"\",IFERROR(VLOOKUP(V12,Tabelas!B:D,3,0),0),\"\")","v":0},{"$f":"IF(A12<>\"\",IFERROR(VLOOKUP(W12,Tabelas!B:D,3,0),0),\"\")","v":0},{"$f":"IF(A12<>\"\",IFERROR(VLOOKUP(X12,Tabelas!B:D,3,0),0),\"\")","v":0},{"$f":"IF(A12<>\"\",IFERROR(VLOOKUP(Y12,Tabelas!B:D,3,0),0),\"\")","v":0},{"$f":"IF(A12<>\"\",IFERROR(VLOOKUP(Z12,Tabelas!B:D,3,0),0),\"\")","v":0},{"$f":"IF(A12<>\"\",IFERROR(VLOOKUP(AA12,Tabelas!B:D,3,0),0),\"\")","v":0},{"$f":"IF(A12<>\"\",IFERROR(VLOOKUP(AB12,Tabelas!B:D,3,0),0),\"\")","v":0},{"$f":"IF(A12<>\"\",IFERROR(VLOOKUP(AC12,Tabelas!B:D,3,0),0),\"\")","v":0},{"$f":"IF(A12<>\"\",IFERROR(VLOOKUP(AD12,Tabelas!B:D,3,0),0),\"\")","v":0},{"$f":"IF(A12<>\"\",IFERROR(VLOOKUP(AE12,Tabelas!B:D,3,0),0),\"\")","v":0},{"$f":"IF(A12<>\"\",IFERROR(VLOOKUP(AF12,Tabelas!B:D,3,0),0),\"\")","v":0},{"$f":"IF(A12<>\"\",IFERROR(VLOOKUP(AG12,Tabelas!B:D,3,0),0),\"\")","v":0},{"$f":"IF(A12<>\"\",IFERROR(VLOOKUP(AH12,Tabelas!B:D,3,0),0),\"\")","v":0},{"$f":"IF(A12<>\"\",IFERROR(VLOOKUP(AI12,Tabelas!B:D,3,0),0),\"\")","v":0},{"$f":"IF(A12<>\"\",IFERROR(VLOOKUP(AJ12,Tabelas!B:D,3,0),0),\"\")","v":0},{"$f":"IF(A12<>\"\",IFERROR(VLOOKUP(AK12,Tabelas!B:D,3,0),0),\"\")","v":0},{"$f":"IF(A12<>\"\",IFERROR(VLOOKUP(AL12,Tabelas!B:D,3,0),0),\"\")","v":0},{"$f":"IF(A12<>\"\",IFERROR(VLOOKUP(AM12,Tabelas!B:D,3,0),0),\"\")","v":0},{"$f":"IF(A12<>\"\",IFERROR(VLOOKUP(AN12,Tabelas!B:D,3,0),0),\"\")","v":0},{"$f":"IF(A12<>\"\",IFERROR(VLOOKUP(AO12,Tabelas!B:D,3,0),0),\"\")","v":0},{"$f":"IF(A12<>\"\",IFERROR(VLOOKUP(AP12,Tabelas!B:D,3,0),0),\"\")","v":0},{"$f":"IF(A12<>\"\",IFERROR(VLOOKUP(AQ12,Tabelas!B:D,3,0),0),\"\")","v":0},0,0,0,0,0,0,0,0]
["FULANO 5",5,null,null,null,null,null,null,null,null,null,null,null,null,null,null,null,null,null,null,null,null,null,null,null,null,null,null,null,null,null,null,null,null,null,null,null,null,null,null,null,null,null,{"$f":"IF(A13<>\"\",IFERROR(VLOOKUP(M13,Tabelas!B:D,3,0),0),\"\")","v":0},{"$f":"IF(A13<>\"\",IFERROR(VLOOKUP(N13,Tabelas!B:D,3,0),0),\"\")","v":0},{"$f":"IF(A13<>\"\",IFERROR(VLOOKUP(O13,Tabelas!B:D,3,0),0),\"\")","v":0},{"$f":"IF(A13<>\"\",IFERROR(VLOOKUP(P13,Tabelas!B:D,3,0),0),\"\")","v":0},{"$f":"IF(A13<>\"\",IFERROR(VLOOKUP(Q13,Tabelas!B:D,3,0),0),\"\")","v":0},{"$f":"IF(A13<>\"\",IFERROR(VLOOKUP(R13,Tabelas!B:D,3,0),0),\"\")","v":0},{"$f":"IF(A13<>\"\",IFERROR(VLOOKUP(S13,Tabelas!B:D,3,0),0),\"\")","v":0},{"$f":"IF(A13<>\"\",IFERROR(VLOOKUP(T13,Tabelas!B:D,3,0),0),\"\")","v":0},{"$f":"IF(A13<>\"\",IFERROR(VLOOKUP(U13,Tabelas!B:D,3,0),0),\"\")","v":0},{"$f":"IF(A13<>\"\",IFERROR(VLOOKUP(V13,Tabelas!B:D,3,0),0),\"\")","v":0},{"$f":"IF(A13<>\"\",IFERROR(VLOOKUP(W13,Tabelas!B:D,3,0),0),\"\")","v":0},{"$f":"IF(A13<>\"\",IFERROR(VLOOKUP(X13,Tabelas!B:D,3,0),0),\"\")","v":0},{"$f":"IF(A13<>\"\",IFERROR(VLOOKUP(Y13,Tabelas!B:D,3,0),0),\"\")","v":0},{"$f":"IF(A13<>\"\",IFERROR(VLOOKUP(Z13,Tabelas!B:D,3,0),0),\"\")","v":0},{"$f":"IF(A13<>\"\",IFERROR(VLOOKUP(AA13,Tabelas!B:D,3,0),0),\"\")","v":0},{"$f":"IF(A13<>\"\",IFERROR(VLOOKUP(AB13,Tabelas!B:D,3,0),0),\"\")","v":0},{"$f":"IF(A13<>\"\",IFERROR(VLOOKUP(AC13,Tabelas!B:D,3,0),0),\"\")","v":0},{"$f":"IF(A13<>\"\",IFERROR(VLOOKUP(AD13,Tabelas!B:D,3,0),0),\"\")","v":0},{"$f":"IF(A13<>\"\",IFERROR(VLOOKUP(AE13,Tabelas!B:D,3,0),0),\"\")","v":0},{"$f":"IF(A13<>\"\",IFERROR(VLOOKUP(AF13,Tabelas!B:D,3,0),0),\"\")","v":0},{"$f":"IF(A13<>\"\",IFERROR(VLOOKUP(AG13,Tabelas!B:D,3,0),0),\"\")","v":0},{"$f":"IF(A13<>\"\",IFERROR(VLOOKUP(AH13,Tabelas!B:D,3,0),0),\"\")","v":0},{"$f":"IF(A13<>\"\",IFERROR(VLOOKUP(AI13,Tabelas!B:D,3,0),0),\"\")","v":0},{"$f":"IF(A13<>\"\",IFERROR(VLOOKUP(AJ13,Tabelas!B:D,3,0),0),\"\")","v":0},{"$f":"IF(A13<>\"\",IFERROR(VLOOKUP(AK13,Tabelas!B:D,3,0),0),\"\")","v":0},{"$f":"IF(A13<>\"\",IFERROR(VLOOKUP(AL13,Tabelas!B:D,3,0),0),\"\")","v":0},{"$f":"IF(A13<>\"\",IFERROR(VLOOKUP(AM13,Tabelas!B:D,3,0),0),\"\")","v":0},{"$f":"IF(A13<>\"\",IFERROR(VLOOKUP(AN13,Tabelas!B:D,3,0),0),\"\")","v":0},{"$f":"IF(A13<>\"\",IFERROR(VLOOKUP(AO13,Tabelas!B:D,3,0),0),\"\")","v":0},{"$f":"IF(A13<>\"\",IFERROR(VLOOKUP(AP13,Tabelas!B:D,3,0),0),\"\")","v":0},{"$f":"IF(A13<>\"\",IFERROR(VLOOKUP(AQ13,Tabelas!B:D,3,0),0),\"\")","v":0},0,0,0,0,0,0,0,0]
["FULANO 6",6,null,null,null,null,null,null,null,null,null,null,null,null,null,null,null,null,null,null,null,null,null,null,null,null,null,null,null,null,null,null,null,null,null,null,null,null,null,null,null,null,null,{"$f":"IF(A14<>\"\",IFERROR(VLOOKUP(M14,Tabelas!B:D,3,0),0),\"\")","v":0},{"$f":"IF(A14<>\"\",IFERROR(VLOOKUP(N14,Tabelas!B:D,3,0),0),\"\")","v":0},{"$f":"IF(A14<>\"\",IFERROR(VLOOKUP(O14,Tabelas!B:D,3,0),0),\"\")","v":0},{"$f":"IF(A14<>\"\",IFERROR(VLOOKUP(P14,Tabelas!B:D,3,0),0),\"\")","v":0},{"$f":"IF(A14<>\"\",IFERROR(VLOOKUP(Q14,Tabelas!B:D,3,0),0),\"\")","v":0},{"$f":"IF(A14<>\"\",IFERROR(VLOOKUP(R14,Tabelas!B:D,3,0),0),\"\")","v":0},{"$f":"IF(A14<>\"\",IFERROR(VLOOKUP(S14,Tabelas!B:D,3,0),0),\"\")","v":0},{"$f":"IF(A14<>\"\",IFERROR(VLOOKUP(T14,Tabelas!B:D,3,0),0),\"\")","v":0},{"$f":"IF(A14<>\"\",IFERROR(VLOOKUP(U14,Tabelas!B:D,3,0),0),\"\")","v":0},{"$f":"IF(A14<>\"\",IFERROR(VLOOKUP(V14,Tabelas!B:D,3,0),0),\"\")","v":0},{"$f":"IF(A14<>\"\",IFERROR(VLOOKUP(W14,Tabelas!B:D,3,0),0),\"\")","v":0},{"$f":"IF(A14<>\"\",IFERROR(VLOOKUP(X14,Tabelas!B:D,3,0),0),\"\")","v":0},{"$f":"IF(A14<>\"\",IFERROR(VLOOKUP(Y14,Tabelas!B:D,3,0),0),\"\")","v":0},{"$f":"IF(A14<>\"\",IFERROR(VLOOKUP(Z14,Tabelas!B:D,3,0),0),\"\")","v":0},{"$f":"IF(A14<>\"\",IFERROR(VLOOKUP(AA14,Tabelas!B:D,3,0),0),\"\")","v":0},{"$f":"IF(A14<>\"\",IFERROR(VLOOKUP(AB14,Tabelas!B:D,3,0),0),\"\")","v":0},{"$f":"IF(A14<>\"\",IFERROR(VLOOKUP(AC14,Tabelas!B:D,3,0),0),\"\")","v":0},{"$f":"IF(A14<>\"\",IFERROR(VLOOKUP(AD14,Tabelas!B:D,3,0),0),\"\")","v":0},{"$f":"IF(A14<>\"\",IFERROR(VLOOKUP(AE14,Tabelas!B:D,3,0),0),\"\")","v":0},{"$f":"IF(A14<>\"\",IFERROR(VLOOKUP(AF14,Tabelas!B:D,3,0),0),\"\")","v":0},{"$f":"IF(A14<>\"\",IFERROR(VLOOKUP(AG14,Tabelas!B:D,3,0),0),\"\")","v":0},{"$f":"IF(A14<>\"\",IFERROR(VLOOKUP(AH14,Tabelas!B:D,3,0),0),\"\")","v":0},{"$f":"IF(A14<>\"\",IFERROR(VLOOKUP(AI14,Tabelas!B:D,3,0),0),\"\")","v":0},{"$f":"IF(A14<>\"\",IFERROR(VLOOKUP(AJ14,Tabelas!B:D,3,0),0),\"\")","v":0},{"$f":"IF(A14<>\"\",IFERROR(VLOOKUP(AK14,Tabelas!B:D,3,0),0),\"\")","v":0},{"$f":"IF(A14<>\"\",IFERROR(VLOOKUP(AL14,Tabelas!B:D,3,0),0),\"\")","v":0},{"$f":"IF(A14<>\"\",IFERROR(VLOOKUP(AM14,Tabelas!B:D,3,0),0),\"\")","v":0},{"$f":"IF(A14<>\"\",IFERROR(VLOOKUP(AN14,Tabelas!B:D,3,0),0),\"\")","v":0},{"$f":"IF(A14<>\"\",IFERROR(VLOOKUP(AO14,Tabelas!B:D,3,0),0),\"\")","v":0},{"$f":"IF(A14<>\"\",IFERROR(VLOOKUP(AP14,Tabelas!B:D,3,0),0),\"\")","v":0},{"$f":"IF(A14<>\"\",IFERROR(VLOOKUP(AQ14,Tabelas!B:D,3,0),0),\"\")","v":0},0,0,0,0,0,0,0,0]
["FULANO 7",7,null,null,null,null,null,null,null,null,null,null,null,null,null,null,null,null,null,null,null,null,null,null,null,null,null,null,null,null,null,null,null,null,null,null,null,null,null,null,null,null,null,{"$f":"IF(A15<>\"\",IFERROR(VLOOKUP(M15,Tabelas!B:D,3,0),0),\"\")","v":0},{"$f":"IF(A15<>\"\",IFERROR(VLOOKUP(N15,Tabelas!B:D,3,0),0),\"\")","v":0},{"$f":"IF(A15<>\"\",IFERROR(VLOOKUP(O15,Tabelas!B:D,3,0),0),\"\")","v":0},{"$f":"IF(A15<>\"\",IFERROR(VLOOKUP(P15,Tabelas!B:D,3,0),0),\"\")","v":0},{"$f":"IF(A15<>\"\",IFERROR(VLOOKUP(Q15,Tabelas!B:D,3,0),0),\"\")","v":0},{"$f":"IF(A15<>\"\",IFERROR(VLOOKUP(R15,Tabelas!B:D,3,0),0),\"\")","v":0},{"$f":"IF(A15<>\"\",IFERROR(VLOOKUP(S15,Tabelas!B:D,3,0),0),\"\")","v":0},{"$f":"IF(A15<>\"\",IFERROR(VLOOKUP(T15,Tabelas!B:D,3,0),0),\"\")","v":0},{"$f":"IF(A15<>\"\",IFERROR(VLOOKUP(U15,Tabelas!B:D,3,0),0),\"\")","v":0},{"$f":"IF(A15<>\"\",IFERROR(VLOOKUP(V15,Tabelas!B:D,3,0),0),\"\")","v":0},{"$f":"IF(A15<>\"\",IFERROR(VLOOKUP(W15,Tabelas!B:D,3,0),0),\"\")","v":0},{"$f":"IF(A15<>\"\",IFERROR(VLOOKUP(X15,Tabelas!B:D,3,0),0),\"\")","v":0},{"$f":"IF(A15<>\"\",IFERROR(VLOOKUP(Y15,Tabelas!B:D,3,0),0),\"\")","v":0},{"$f":"IF(A15<>\"\",IFERROR(VLOOKUP(Z15,Tabelas!B:D,3,0),0),\"\")","v":0},{"$f":"IF(A15<>\"\",IFERROR(VLOOKUP(AA15,Tabelas!B:D,3,0),0),\"\")","v":0},{"$f":"IF(A15<>\"\",IFERROR(VLOOKUP(AB15,Tabelas!B:D,3,0),0),\"\")","v":0},{"$f":"IF(A15<>\"\",IFERROR(VLOOKUP(AC15,Tabelas!B:D,3,0),0),\"\")","v":0},{"$f":"IF(A15<>\"\",IFERROR(VLOOKUP(AD15,Tabelas!B:D,3,0),0),\"\")","v":0},{"$f":"IF(A15<>\"\",IFERROR(VLOOKUP(AE15,Tabelas!B:D,3,0),0),\"\")","v":0},{"$f":"IF(A15<>\"\",IFERROR(VLOOKUP(AF15,Tabelas!B:D,3,0),0),\"\")","v":0},{"$f":"IF(A15<>\"\",IFERROR(VLOOKUP(AG15,Tabelas!B:D,3,0),0),\"\")","v":0},{"$f":"IF(A15<>\"\",IFERROR(VLOOKUP(AH15,Tabelas!B:D,3,0),0),\"\")","v":0},{"$f":"IF(A15<>\"\",IFERROR(VLOOKUP(AI15,Tabelas!B:D,3,0),0),\"\")","v":0},{"$f":"IF(A15<>\"\",IFERROR(VLOOKUP(AJ15,Tabelas!B:D,3,0),0),\"\")","v":0},{"$f":"IF(A15<>\"\",IFERROR(VLOOKUP(AK15,Tabelas!B:D,3,0),0),\"\")","v":0},{"$f":"IF(A15<>\"\",IFERROR(VLOOKUP(AL15,Tabelas!B:D,3,0),0),\"\")","v":0},{"$f":"IF(A15<>\"\",IFERROR(VLOOKUP(AM15,Tabelas!B:D,3,0),0),\"\")","v":0},{"$f":"IF(A15<>\"\",IFERROR(VLOOKUP(AN15,Tabelas!B:D,3,0),0),\"\")","v":0},{"$f":"IF(A15<>\"\",IFERROR(VLOOKUP(AO15,Tabelas!B:D,3,0),0),\"\")","v":0},{"$f":"IF(A15<>\"\",IFERROR(VLOOKUP(AP15,Tabelas!B:D,3,0),0),\"\")","v":0},{"$f":"IF(A15<>\"\",IFERROR(VLOOKUP(AQ15,Tabelas!B:D,3,0),0),\"\")","v":0},0,0,0,0,0,0,0,0]
["FULANO 8",8,null,null,null,null,null,null,null,null,null,null,null,null,null,null,null,null,null,null,null,null,null,null,null,null,null,null,null,null,null,null,null,null,null,null,null,null,null,null,null,null,null,{"$f":"IF(A16<>\"\",IFERROR(VLOOKUP(M16,Tabelas!B:D,3,0),0),\"\")","v":0},{"$f":"IF(A16<>\"\",IFERROR(VLOOKUP(N16,Tabelas!B:D,3,0),0),\"\")","v":0},{"$f":"IF(A16<>\"\",IFERROR(VLOOKUP(O16,Tabelas!B:D,3,0),0),\"\")","v":0},{"$f":"IF(A16<>\"\",IFERROR(VLOOKUP(P16,Tabelas!B:D,3,0),0),\"\")","v":0},{"$f":"IF(A16<>\"\",IFERROR(VLOOKUP(Q16,Tabelas!B:D,3,0),0),\"\")","v":0},{"$f":"IF(A16<>\"\",IFERROR(VLOOKUP(R16,Tabelas!B:D,3,0),0),\"\")","v":0},{"$f":"IF(A16<>\"\",IFERROR(VLOOKUP(S16,Tabelas!B:D,3,0),0),\"\")","v":0},{"$f":"IF(A16<>\"\",IFERROR(VLOOKUP(T16,Tabelas!B:D,3,0),0),\"\")","v":0},{"$f":"IF(A16<>\"\",IFERROR(VLOOKUP(U16,Tabelas!B:D,3,0),0),\"\")","v":0},{"$f":"IF(A16<>\"\",IFERROR(VLOOKUP(V16,Tabelas!B:D,3,0),0),\"\")","v":0},{"$f":"IF(A16<>\"\",IFERROR(VLOOKUP(W16,Tabelas!B:D,3,0),0),\"\")","v":0},{"$f":"IF(A16<>\"\",IFERROR(VLOOKUP(X16,Tabelas!B:D,3,0),0),\"\")","v":0},{"$f":"IF(A16<>\"\",IFERROR(VLOOKUP(Y16,Tabelas!B:D,3,0),0),\"\")","v":0},{"$f":"IF(A16<>\"\",IFERROR(VLOOKUP(Z16,Tabelas!B:D,3,0),0),\"\")","v":0},{"$f":"IF(A16<>\"\",IFERROR(VLOOKUP(AA16,Tabelas!B:D,3,0),0),\"\")","v":0},{"$f":"IF(A16<>\"\",IFERROR(VLOOKUP(AB16,Tabelas!B:D,3,0),0),\"\")","v":0},{"$f":"IF(A16<>\"\",IFERROR(VLOOKUP(AC16,Tabelas!B:D,3,0),0),\"\")","v":0},{"$f":"IF(A16<>\"\",IFERROR(VLOOKUP(AD16,Tabelas!B:D,3,0),0),\"\")","v":0},{"$f":"IF(A16<>\"\",IFERROR(VLOOKUP(AE16,Tabelas!B:D,3,0),0),\"\")","v":0},{"$f":"IF(A16<>\"\",IFERROR(VLOOKUP(AF16,Tabelas!B:D,3,0),0),\"\")","v":0},{"$f":"IF(A16<>\"\",IFERROR(VLOOKUP(AG16,Tabelas!B:D,3,0),0),\"\")","v":0},{"$f":"IF(A16<>\"\",IFERROR(VLOOKUP(AH16,Tabelas!B:D,3,0),0),\"\")","v":0},{"$f":"IF(A16<>\"\",IFERROR(VLOOKUP(AI16,Tabelas!B:D,3,0),0),\"\")","v":0},{"$f":"IF(A16<>\"\",IFERROR(VLOOKUP(AJ16,Tabelas!B:D,3,0),0),\"\")","v":0},{"$f":"IF(A16<>\"\",IFERROR(VLOOKUP(AK16,Tabelas!B:D,3,0),0),\"\")","v":0},{"$f":"IF(A16<>\"\",IFERROR(VLOOKUP(AL16,Tabelas!B:D,3,0),0),\"\")","v":0},{"$f":"IF(A16<>\"\",IFERROR(VLOOKUP(AM16,Tabelas!B:D,3,0),0),\"\")","v":0},{"$f":"IF(A16<>\"\",IFERROR(VLOOKUP(AN16,Tabelas!B:D,3,0),0),\"\")","v":0},{"$f":"IF(A16<>\"\",IFERROR(VLOOKUP(AO16,Tabelas!B:D,3,0),0),\"\")","v":0},{"$f":"IF(A16<>\"\",IFERROR(VLOOKUP(AP16,Tabelas!B:D,3,0),0),\"\")","v":0},{"$f":"IF(A16<>\"\",IFERROR(VLOOKUP(AQ16,Tabelas!B:D,3,0),0),\"\")","v":0},0,0,0,0,0,0,0,0]
["FULANO 9",9,null,null,null,null,null,null,null,null,null,null,null,null,null,null,null,null,null,null,null,null,null,null,null,null,null,null,null,null,null,null,null,null,null,null,null,null,null,null,null,null,null,{"$f":"IF(A17<>\"\",IFERROR(VLOOKUP(M17,Tabelas!B:D,3,0),0),\"\")","v":0},{"$f":"IF(A17<>\"\",IFERROR(VLOOKUP(N17,Tabelas!B:D,3,0),0),\"\")","v":0},{"$f":"IF(A17<>\"\",IFERROR(VLOOKUP(O17,Tabelas!B:D,3,0),0),\"\")","v":0},{"$f":"IF(A17<>\"\",IFERROR(VLOOKUP(P17,Tabelas!B:D,3,0),0),\"\")","v":0},{"$f":"IF(A17<>\"\",IFERROR(VLOOKUP(Q17,Tabelas!B:D,3,0),0),\"\")","v":0},{"$f":"IF(A17<>\"\",IFERROR(VLOOKUP(R17,Tabelas!B:D,3,0),0),\"\")","v":0},{"$f":"IF(A17<>\"\",IFERROR(VLOOKUP(S17,Tabelas!B:D,3,0),0),\"\")","v":0},{"$f":"IF(A17<>\"\",IFERROR(VLOOKUP(T17,Tabelas!B:D,3,0),0),\"\")","v":0},{"$f":"IF(A17<>\"\",IFERROR(VLOOKUP(U17,Tabelas!B:D,3,0),0),\"\")","v":0},{"$f":"IF(A17<>\"\",IFERROR(VLOOKUP(V17,Tabelas!B:D,3,0),0),\"\")","v":0},{"$f":"IF(A17<>\"\",IFERROR(VLOOKUP(W17,Tabelas!B:D,3,0),0),\"\")","v":0},{"$f":"IF(A17<>\"\",IFERROR(VLOOKUP(X17,Tabelas!B:D,3,0),0),\"\")","v":0},{"$f":"IF(A17<>\"\",IFERROR(VLOOKUP(Y17,Tabelas!B:D,3,0),0),\"\")","v":0},{"$f":"IF(A17<>\"\",IFERROR(VLOOKUP(Z17,Tabelas!B:D,3,0),0),\"\")","v":0},{"$f":"IF(A17<>\"\",IFERROR(VLOOKUP(AA17,Tabelas!B:D,3,0),0),\"\")","v":0},{"$f":"IF(A17<>\"\",IFERROR(VLOOKUP(AB17,Tabelas!B:D,3,0),0),\"\")","v":0},{"$f":"IF(A17<>\"\",IFERROR(VLOOKUP(AC17,Tabelas!B:D,3,0),0),\"\")","v":0},{"$f":"IF(A17<>\"\",IFERROR(VLOOKUP(AD17,Tabelas!B:D,3,0),0),\"\")","v":0},{"$f":"IF(A17<>\"\",IFERROR(VLOOKUP(AE17,Tabelas!B:D,3,0),0),\"\")","v":0},{"$f":"IF(A17<>\"\",IFERROR(VLOOKUP(AF17,Tabelas!B:D,3,0),0),\"\")","v":0},{"$f":"IF(A17<>\"\",IFERROR(VLOOKUP(AG17,Tabelas!B:D,3,0),0),\"\")","v":0},{"$f":"IF(A17<>\"\",IFERROR(VLOOKUP(AH17,Tabelas!B:D,3,0),0),\"\")","v":0},{"$f":"IF(A17<>\"\",IFERROR(VLOOKUP(AI17,Tabelas!B:D,3,0),0),\"\")","v":0},{"$f":"IF(A17<>\"\",IFERROR(VLOOKUP(AJ17,Tabelas!B:D,3,0),0),\"\")","v":0},{"$f":"IF(A17<>\"\",IFERROR(VLOOKUP(AK17,Tabelas!B:D,3,0),0),\"\")","v":0},{"$f":"IF(A17<>\"\",IFERROR(VLOOKUP(AL17,Tabelas!B:D,3,0),0),\"\")","v":0},{"$f":"IF(A17<>\"\",IFERROR(VLOOKUP(AM17,Tabelas!B:D,3,0),0),\"\")","v":0},{"$f":"IF(A17<>\"\",IFERROR(VLOOKUP(AN17,Tabelas!B:D,3,0),0),\"\")","v":0},{"$f":"IF(A17<>\"\",IFERROR(VLOOKUP(AO17,Tabelas!B:D,3,0),0),\"\")","v":0},{"$f":"IF(A17<>\"\",IFERROR(VLOOKUP(AP17,Tabelas!B:D,3,0),0),\"\")","v":0},{"$f":"IF(A17<>\"\",IFERROR(VLOOKUP(AQ17,Tabelas!B:D,3,0),0),\"\")","v":0},0,0,0,0,0,0,0,0]
["FULANO 10",10,null,null,null,null,null,null,null,null,null,null,null,null,null,null,null,null,null,null,null,null,null,null,null,null,null,null,null,null,null,null,null,null,null,null,null,null,null,null,null,null,null,{"$f":"IF(A18<>\"\",IFERROR(VLOOKUP(M18,Tabelas!B:D,3,0),0),\"\")","v":0},{"$f":"IF(A18<>\"\",IFERROR(VLOOKUP(N18,Tabelas!B:D,3,0),0),\"\")","v":0},{"$f":"IF(A18<>\"\",IFERROR(VLOOKUP(O18,Tabelas!B:D,3,0),0),\"\")","v":0},{"$f":"IF(A18<>\"\",IFERROR(VLOOKUP(P18,Tabelas!B:D,3,0),0),\"\")","v":0},{"$f":"IF(A18<>\"\",IFERROR(VLOOKUP(Q18,Tabelas!B:D,3,0),0),\"\")","v":0},{"$f":"IF(A18<>\"\",IFERROR(VLOOKUP(R18,Tabelas!B:D,3,0),0),\"\")","v":0},{"$f":"IF(A18<>\"\",IFERROR(VLOOKUP(S18,Tabelas!B:D,3,0),0),\"\")","v":0},{"$f":"IF(A18<>\"\",IFERROR(VLOOKUP(T18,Tabelas!B:D,3,0),0),\"\")","v":0},{"$f":"IF(A18<>\"\",IFERROR(VLOOKUP(U18,Tabelas!B:D,3,0),0),\"\")","v":0},{"$f":"IF(A18<>\"\",IFERROR(VLOOKUP(V18,Tabelas!B:D,3,0),0),\"\")","v":0},{"$f":"IF(A18<>\"\",IFERROR(VLOOKUP(W18,Tabelas!B:D,3,0),0),\"\")","v":0},{"$f":"IF(A18<>\"\",IFERROR(VLOOKUP(X18,Tabelas!B:D,3,0),0),\"\")","v":0},{"$f":"IF(A18<>\"\",IFERROR(VLOOKUP(Y18,Tabelas!B:D,3,0),0),\"\")","v":0},{"$f":"IF(A18<>\"\",IFERROR(VLOOKUP(Z18,Tabelas!B:D,3,0),0),\"\")","v":0},{"$f":"IF(A18<>\"\",IFERROR(VLOOKUP(AA18,Tabelas!B:D,3,0),0),\"\")","v":0},{"$f":"IF(A18<>\"\",IFERROR(VLOOKUP(AB18,Tabelas!B:D,3,0),0),\"\")","v":0},{"$f":"IF(A18<>\"\",IFERROR(VLOOKUP(AC18,Tabelas!B:D,3,0),0),\"\")","v":0},{"$f":"IF(A18<>\"\",IFERROR(VLOOKUP(AD18,Tabelas!B:D,3,0),0),\"\")","v":0},{"$f":"IF(A18<>\"\",IFERROR(VLOOKUP(AE18,Tabelas!B:D,3,0),0),\"\")","v":0},{"$f":"IF(A18<>\"\",IFERROR(VLOOKUP(AF18,Tabelas!B:D,3,0),0),\"\")","v":0},{"$f":"IF(A18<>\"\",IFERROR(VLOOKUP(AG18,Tabelas!B:D,3,0),0),\"\")","v":0},{"$f":"IF(A18<>\"\",IFERROR(VLOOKUP(AH18,Tabelas!B:D,3,0),0),\"\")","v":0},{"$f":"IF(A18<>\"\",IFERROR(VLOOKUP(AI18,Tabelas!B:D,3,0),0),\"\")","v":0},{"$f":"IF(A18<>\"\",IFERROR(VLOOKUP(AJ18,Tabelas!B:D,3,0),0),\"\")","v":0},{"$f":"IF(A18<>\"\",IFERROR(VLOOKUP(AK18,Tabelas!B:D,3,0),0),\"\")","v":0},{"$f":"IF(A18<>\"\",IFERROR(VLOOKUP(AL18,Tabelas!B:D,3,0),0),\"\")","v":0},{"$f":"IF(A18<>\"\",IFERROR(VLOOKUP(AM18,Tabelas!B:D,3,0),0),\"\")","v":0},{"$f":"IF(A18<>\"\",IFERROR(VLOOKUP(AN18,Tabelas!B:D,3,0),0),\"\")","v":0},{"$f":"IF(A18<>\"\",IFERROR(VLOOKUP(AO18,Tabelas!B:D,3,0),0),\"\")","v":0},{"$f":"IF(A18<>\"\",IFERROR(VLOOKUP(AP18,Tabelas!B:D,3,0),0),\"\")","v":0},{"$f":"IF(A18<>\"\",IFERROR(VLOOKUP(AQ18,Tabelas!B:D,3,0),0),\"\")","v":0},0,0,0,0,0,0,0,0]
["FULANO 11",11,null,null,null,null,null,null,null,null,null,null,null,null,null,null,null,null,null,null,null,null,null,null,null,null,null,null,null,null,null,null,null,null,null,null,null,null,null,null,null,null,null,{"$f":"IF(A19<>\"\",IFERROR(VLOOKUP(M19,Tabelas!B:D,3,0),0),\"\")","v":0},{"$f":"IF(A19<>\"\",IFERROR(VLOOKUP(N19,Tabelas!B:D,3,0),0),\"\")","v":0},{"$f":"IF(A19<>\"\",IFERROR(VLOOKUP(O19,Tabelas!B:D,3,0),0),\"\")","v":0},{"$f":"IF(A19<>\"\",IFERROR(VLOOKUP(P19,Tabelas!B:D,3,0),0),\"\")","v":0},{"$f":"IF(A19<>\"\",IFERROR(VLOOKUP(Q19,Tabelas!B:D,3,0),0),\"\")","v":0},{"$f":"IF(A19<>\"\",IFERROR(VLOOKUP(R19,Tabelas!B:D,3,0),0),\"\")","v":0},{"$f":"IF(A19<>\"\",IFERROR(VLOOKUP(S19,Tabelas!B:D,3,0),0),\"\")","v":0},{"$f":"IF(A19<>\"\",IFERROR(VLOOKUP(T19,Tabelas!B:D,3,0),0),\"\")","v":0},{"$f":"IF(A19<>\"\",IFERROR(VLOOKUP(U19,Tabelas!B:D,3,0),0),\"\")","v":0},{"$f":"IF(A19<>\"\",IFERROR(VLOOKUP(V19,Tabelas!B:D,3,0),0),\"\")","v":0},{"$f":"IF(A19<>\"\",IFERROR(VLOOKUP(W19,Tabelas!B:D,3,0),0),\"\")","v":0},{"$f":"IF(A19<>\"\",IFERROR(VLOOKUP(X19,Tabelas!B:D,3,0),0),\"\")","v":0},{"$f":"IF(A19<>\"\",IFERROR(VLOOKUP(Y19,Tabelas!B:D,3,0),0),\"\")","v":0},{"$f":"IF(A19<>\"\",IFERROR(VLOOKUP(Z19,Tabelas!B:D,3,0),0),\"\")","v":0},{"$f":"IF(A19<>\"\",IFERROR(VLOOKUP(AA19,Tabelas!B:D,3,0),0),\"\")","v":0},{"$f":"IF(A19<>\"\",IFERROR(VLOOKUP(AB19,Tabelas!B:D,3,0),0),\"\")","v":0},{"$f":"IF(A19<>\"\",IFERROR(VLOOKUP(AC19,Tabelas!B:D,3,0),0),\"\")","v":0},{"$f":"IF(A19<>\"\",IFERROR(VLOOKUP(AD19,Tabelas!B:D,3,0),0),\"\")","v":0},{"$f":"IF(A19<>\"\",IFERROR(VLOOKUP(AE19,Tabelas!B:D,3,0),0),\"\")","v":0},{"$f":"IF(A19<>\"\",IFERROR(VLOOKUP(AF19,Tabelas!B:D,3,0),0),\"\")","v":0},{"$f":"IF(A19<>\"\",IFERROR(VLOOKUP(AG19,Tabelas!B:D,3,0),0),\"\")","v":0},{"$f":"IF(A19<>\"\",IFERROR(VLOOKUP(AH19,Tabelas!B:D,3,0),0),\"\")","v":0},{"$f":"IF(A19<>\"\",IFERROR(VLOOKUP(AI19,Tabelas!B:D,3,0),0),\"\")","v":0},{"$f":"IF(A19<>\"\",IFERROR(VLOOKUP(AJ19,Tabelas!B:D,3,0),0),\"\")","v":0},{"$f":"IF(A19<>\"\",IFERROR(VLOOKUP(AK19,Tabelas!B:D,3,0),0),\"\")","v":0},{"$f":"IF(A19<>\"\",IFERROR(VLOOKUP(AL19,Tabelas!B:D,3,0),0),\"\")","v":0},{"$f":"IF(A19<>\"\",IFERROR(VLOOKUP(AM19,Tabelas!B:D,3,0),0),\"\")","v":0},{"$f":"IF(A19<>\"\",IFERROR(VLOOKUP(AN19,Tabelas!B:D,3,0),0),\"\")","v":0},{"$f":"IF(A19<>\"\",IFERROR(VLOOKUP(AO19,Tabelas!B:D,3,0),0),\"\")","v":0},{"$f":"IF(A19<>\"\",IFERROR(VLOOKUP(AP19,Tabelas!B:D,3,0),0),\"\")","v":0},{"$f":"IF(A19<>\"\",IFERROR(VLOOKUP(AQ19,Tabelas!B:D,3,0),0),\"\")","v":0},0,0,0,0,0,0,0,0]
["FULANO 12",12,null,null,null,null,null,null,null,null,null,null,null,null,null,null,null,null,null,null,null,null,null,null,null,null,null,null,null,null,null,null,null,null,null,null,null,null,null,null,null,null,null,{"$f":"IF(A20<>\"\",IFERROR(VLOOKUP(M20,Tabelas!B:D,3,0),0),\"\")","v":0},{"$f":"IF(A20<>\"\",IFERROR(VLOOKUP(N20,Tabelas!B:D,3,0),0),\"\")","v":0},{"$f":"IF(A20<>\"\",IFERROR(VLOOKUP(O20,Tabelas!B:D,3,0),0),\"\")","v":0},{"$f":"IF(A20<>\"\",IFERROR(VLOOKUP(P20,Tabelas!B:D,3,0),0),\"\")","v":0},{"$f":"IF(A20<>\"\",IFERROR(VLOOKUP(Q20,Tabelas!B:D,3,0),0),\"\")","v":0},{"$f":"IF(A20<>\"\",IFERROR(VLOOKUP(R20,Tabelas!B:D,3,0),0),\"\")","v":0},{"$f":"IF(A20<>\"\",IFERROR(VLOOKUP(S20,Tabelas!B:D,3,0),0),\"\")","v":0},{"$f":"IF(A20<>\"\",IFERROR(VLOOKUP(T20,Tabelas!B:D,3,0),0),\"\")","v":0},{"$f":"IF(A20<>\"\",IFERROR(VLOOKUP(U20,Tabelas!B:D,3,0),0),\"\")","v":0},{"$f":"IF(A20<>\"\",IFERROR(VLOOKUP(V20,Tabelas!B:D,3,0),0),\"\")","v":0},{"$f":"IF(A20<>\"\",IFERROR(VLOOKUP(W20,Tabelas!B:D,3,0),0),\"\")","v":0},{"$f":"IF(A20<>\"\",IFERROR(VLOOKUP(X20,Tabelas!B:D,3,0),0),\"\")","v":0},{"$f":"IF(A20<>\"\",IFERROR(VLOOKUP(Y20,Tabelas!B:D,3,0),0),\"\")","v":0},{"$f":"IF(A20<>\"\",IFERROR(VLOOKUP(Z20,Tabelas!B:D,3,0),0),\"\")","v":0},{"$f":"IF(A20<>\"\",IFERROR(VLOOKUP(AA20,Tabelas!B:D,3,0),0),\"\")","v":0},{"$f":"IF(A20<>\"\",IFERROR(VLOOKUP(AB20,Tabelas!B:D,3,0),0),\"\")","v":0},{"$f":"IF(A20<>\"\",IFERROR(VLOOKUP(AC20,Tabelas!B:D,3,0),0),\"\")","v":0},{"$f":"IF(A20<>\"\",IFERROR(VLOOKUP(AD20,Tabelas!B:D,3,0),0),\"\")","v":0},{"$f":"IF(A20<>\"\",IFERROR(VLOOKUP(AE20,Tabelas!B:D,3,0),0),\"\")","v":0},{"$f":"IF(A20<>\"\",IFERROR(VLOOKUP(AF20,Tabelas!B:D,3,0),0),\"\")","v":0},{"$f":"IF(A20<>\"\",IFERROR(VLOOKUP(AG20,Tabelas!B:D,3,0),0),\"\")","v":0},{"$f":"IF(A20<>\"\",IFERROR(VLOOKUP(AH20,Tabelas!B:D,3,0),0),\"\")","v":0},{"$f":"IF(A20<>\"\",IFERROR(VLOOKUP(AI20,Tabelas!B:D,3,0),0),\"\")","v":0},{"$f":"IF(A20<>\"\",IFERROR(VLOOKUP(AJ20,Tabelas!B:D,3,0),0),\"\")","v":0},{"$f":"IF(A20<>\"\",IFERROR(VLOOKUP(AK20,Tabelas!B:D,3,0),0),\"\")","v":0},{"$f":"IF(A20<>\"\",IFERROR(VLOOKUP(AL20,Tabelas!B:D,3,0),0),\"\")","v":0},{"$f":"IF(A20<>\"\",IFERROR(VLOOKUP(AM20,Tabelas!B:D,3,0),0),\"\")","v":0},{"$f":"IF(A20<>\"\",IFERROR(VLOOKUP(AN20,Tabelas!B:D,3,0),0),\"\")","v":0},{"$f":"IF(A20<>\"\",IFERROR(VLOOKUP(AO20,Tabelas!B:D,3,0),0),\"\")","v":0},{"$f":"IF(A20<>\"\",IFERROR(VLOOKUP(AP20,Tabelas!B:D,3,0),0),\"\")","v":0},{"$f":"IF(A20<>\"\",IFERROR(VLOOKUP(AQ20,Tabelas!B:D,3,0),0),\"\")","v":0},0,0,0,0,0,0,0,0]
["FULANO 13",13,null,null,null,null,null,null,null,null,null,null,null,null,null,null,null,null,null,null,null,null,null,null,null,null,null,null,null,null,null,null,null,null,null,null,null,null,null,null,null,null,null,{"$f":"IF(A21<>\"\",IFERROR(VLOOKUP(M21,Tabelas!B:D,3,0),0),\"\")","v":0},{"$f":"IF(A21<>\"\",IFERROR(VLOOKUP(N21,Tabelas!B:D,3,0),0),\"\")","v":0},{"$f":"IF(A21<>\"\",IFERROR(VLOOKUP(O21,Tabelas!B:D,3,0),0),\"\")","v":0},{"$f":"IF(A21<>\"\",IFERROR(VLOOKUP(P21,Tabelas!B:D,3,0),0),\"\")","v":0},{"$f":"IF(A21<>\"\",IFERROR(VLOOKUP(Q21,Tabelas!B:D,3,0),0),\"\")","v":0},{"$f":"IF(A21<>\"\",IFERROR(VLOOKUP(R21,Tabelas!B:D,3,0),0),\"\")","v":0},{"$f":"IF(A21<>\"\",IFERROR(VLOOKUP(S21,Tabelas!B:D,3,0),0),\"\")","v":0},{"$f":"IF(A21<>\"\",IFERROR(VLOOKUP(T21,Tabelas!B:D,3,0),0),\"\")","v":0},{"$f":"IF(A21<>\"\",IFERROR(VLOOKUP(U21,Tabelas!B:D,3,0),0),\"\")","v":0},{"$f":"IF(A21<>\"\",IFERROR(VLOOKUP(V21,Tabelas!B:D,3,0),0),\"\")","v":0},{"$f":"IF(A21<>\"\",IFERROR(VLOOKUP(W21,Tabelas!B:D,3,0),0),\"\")","v":0},{"$f":"IF(A21<>\"\",IFERROR(VLOOKUP(X21,Tabelas!B:D,3,0),0),\"\")","v":0},{"$f":"IF(A21<>\"\",IFERROR(VLOOKUP(Y21,Tabelas!B:D,3,0),0),\"\")","v":0},{"$f":"IF(A21<>\"\",IFERROR(VLOOKUP(Z21,Tabelas!B:D,3,0),0),\"\")","v":0},{"$f":"IF(A21<>\"\",IFERROR(VLOOKUP(AA21,Tabelas!B:D,3,0),0),\"\")","v":0},{"$f":"IF(A21<>\"\",IFERROR(VLOOKUP(AB21,Tabelas!B:D,3,0),0),\"\")","v":0},{"$f":"IF(A21<>\"\",IFERROR(VLOOKUP(AC21,Tabelas!B:D,3,0),0),\"\")","v":0},{"$f":"IF(A21<>\"\",IFERROR(VLOOKUP(AD21,Tabelas!B:D,3,0),0),\"\")","v":0},{"$f":"IF(A21<>\"\",IFERROR(VLOOKUP(AE21,Tabelas!B:D,3,0),0),\"\")","v":0},{"$f":"IF(A21<>\"\",IFERROR(VLOOKUP(AF21,Tabelas!B:D,3,0),0),\"\")","v":0},{"$f":"IF(A21<>\"\",IFERROR(VLOOKUP(AG21,Tabelas!B:D,3,0),0),\"\")","v":0},{"$f":"IF(A21<>\"\",IFERROR(VLOOKUP(AH21,Tabelas!B:D,3,0),0),\"\")","v":0},{"$f":"IF(A21<>\"\",IFERROR(VLOOKUP(AI21,Tabelas!B:D,3,0),0),\"\")","v":0},{"$f":"IF(A21<>\"\",IFERROR(VLOOKUP(AJ21,Tabelas!B:D,3,0),0),\"\")","v":0},{"$f":"IF(A21<>\"\",IFERROR(VLOOKUP(AK21,Tabelas!B:D,3,0),0),\"\")","v":0},{"$f":"IF(A21<>\"\",IFERROR(VLOOKUP(AL21,Tabelas!B:D,3,0),0),\"\")","v":0},{"$f":"IF(A21<>\"\",IFERROR(VLOOKUP(AM21,Tabelas!B:D,3,0),0),\"\")","v":0},{"$f":"IF(A21<>\"\",IFERROR(VLOOKUP(AN21,Tabelas!B:D,3,0),0),\"\")","v":0},{"$f":"IF(A21<>\"\",IFERROR(VLOOKUP(AO21,Tabelas!B:D,3,0),0),\"\")","v":0},{"$f":"IF(A21<>\"\",IFERROR(VLOOKUP(AP21,Tabelas!B:D,3,0),0),\"\")","v":0},{"$f":"IF(A21<>\"\",IFERROR(VLOOKUP(AQ21,Tabelas!B:D,3,0),0),\"\")","v":0},0,0,0,0,0,0,0,0]
["FULANO 14",14,null,null,null,null,null,null,null,null,null,null,null,null,null,null,null,null,null,null,null,null,null,null,null,null,null,null,null,null,null,null,null,null,null,null,null,null,null,null,null,null,null,{"$f":"IF(A22<>\"\",IFERROR(VLOOKUP(M22,Tabelas!B:D,3,0),0),\"\")","v":0},{"$f":"IF(A22<>\"\",IFERROR(VLOOKUP(N22,Tabelas!B:D,3,0),0),\"\")","v":0},{"$f":"IF(A22<>\"\",IFERROR(VLOOKUP(O22,Tabelas!B:D,3,0),0),\"\")","v":0},{"$f":"IF(A22<>\"\",IFERROR(VLOOKUP(P22,Tabelas!B:D,3,0),0),\"\")","v":0},{"$f":"IF(A22<>\"\",IFERROR(VLOOKUP(Q22,Tabelas!B:D,3,0),0),\"\")","v":0},{"$f":"IF(A22<>\"\",IFERROR(VLOOKUP(R22,Tabelas!B:D,3,0),0),\"\")","v":0},{"$f":"IF(A22<>\"\",IFERROR(VLOOKUP(S22,Tabelas!B:D,3,0),0),\"\")","v":0},{"$f":"IF(A22<>\"\",IFERROR(VLOOKUP(T22,Tabelas!B:D,3,0),0),\"\")","v":0},{"$f":"IF(A22<>\"\",IFERROR(VLOOKUP(U22,Tabelas!B:D,3,0),0),\"\")","v":0},{"$f":"IF(A22<>\"\",IFERROR(VLOOKUP(V22,Tabelas!B:D,3,0),0),\"\")","v":0},{"$f":"IF(A22<>\"\",IFERROR(VLOOKUP(W22,Tabelas!B:D,3,0),0),\"\")","v":0},{"$f":"IF(A22<>\"\",IFERROR(VLOOKUP(X22,Tabelas!B:D,3,0),0),\"\")","v":0},{"$f":"IF(A22<>\"\",IFERROR(VLOOKUP(Y22,Tabelas!B:D,3,0),0),\"\")","v":0},{"$f":"IF(A22<>\"\",IFERROR(VLOOKUP(Z22,Tabelas!B:D,3,0),0),\"\")","v":0},{"$f":"IF(A22<>\"\",IFERROR(VLOOKUP(AA22,Tabelas!B:D,3,0),0),\"\")","v":0},{"$f":"IF(A22<>\"\",IFERROR(VLOOKUP(AB22,Tabelas!B:D,3,0),0),\"\")","v":0},{"$f":"IF(A22<>\"\",IFERROR(VLOOKUP(AC22,Tabelas!B:D,3,0),0),\"\")","v":0},{"$f":"IF(A22<>\"\",IFERROR(VLOOKUP(AD22,Tabelas!B:D,3,0),0),\"\")","v":0},{"$f":"IF(A22<>\"\",IFERROR(VLOOKUP(AE22,Tabelas!B:D,3,0),0),\"\")","v":0},{"$f":"IF(A22<>\"\",IFERROR(VLOOKUP(AF22,Tabelas!B:D,3,0),0),\"\")","v":0},{"$f":"IF(A22<>\"\",IFERROR(VLOOKUP(AG22,Tabelas!B:D,3,0),0),\"\")","v":0},{"$f":"IF(A22<>\"\",IFERROR(VLOOKUP(AH22,Tabelas!B:D,3,0),0),\"\")","v":0},{"$f":"IF(A22<>\"\",IFERROR(VLOOKUP(AI22,Tabelas!B:D,3,0),0),\"\")","v":0},{"$f":"IF(A22<>\"\",IFERROR(VLOOKUP(AJ22,Tabelas!B:D,3,0),0),\"\")","v":0},{"$f":"IF(A22<>\"\",IFERROR(VLOOKUP(AK22,Tabelas!B:D,3,0),0),\"\")","v":0},{"$f":"IF(A22<>\"\",IFERROR(VLOOKUP(AL22,Tabelas!B:D,3,0),0),\"\")","v":0},{"$f":"IF(A22<>\"\",IFERROR(VLOOKUP(AM22,Tabelas!B:D,3,0),0),\"\")","v":0},{"$f":"IF(A22<>\"\",IFERROR(VLOOKUP(AN22,Tabelas!B:D,3,0),0),\"\")","v":0},{"$f":"IF(A22<>\"\",IFERROR(VLOOKUP(AO22,Tabelas!B:D,3,0),0),\"\")","v":0},{"$f":"IF(A22<>\"\",IFERROR(VLOOKUP(AP22,Tabelas!B:D,3,0),0),\"\")","v":0},{"$f":"IF(A22<>\"\",IFERROR(VLOOKUP(AQ22,Tabelas!B:D,3,0),0),\"\")","v":0},0,0,0,0,0,0,0,0]
["FULANO 15",15,null,null,null,null,null,null,null,null,null,null,null,null,null,null,null,null,null,null,null,null,null,null,null,null,null,null,null,null,null,null,null,null,null,null,null,null,null,null,null,null,null,{"$f":"IF(A23<>\"\",IFERROR(VLOOKUP(M23,Tabelas!B:D,3,0),0),\"\")","v":0},{"$f":"IF(A23<>\"\",IFERROR(VLOOKUP(N23,Tabelas!B:D,3,0),0),\"\")","v":0},{"$f":"IF(A23<>\"\",IFERROR(VLOOKUP(O23,Tabelas!B:D,3,0),0),\"\")","v":0},{"$f":"IF(A23<>\"\",IFERROR(VLOOKUP(P23,Tabelas!B:D,3,0),0),\"\")","v":0},{"$f":"IF(A23<>\"\",IFERROR(VLOOKUP(Q23,Tabelas!B:D,3,0),0),\"\")","v":0},{"$f":"IF(A23<>\"\",IFERROR(VLOOKUP(R23,Tabelas!B:D,3,0),0),\"\")","v":0},{"$f":"IF(A23<>\"\",IFERROR(VLOOKUP(S23,Tabelas!B:D,3,0),0),\"\")","v":0},{"$f":"IF(A23<>\"\",IFERROR(VLOOKUP(T23,Tabelas!B:D,3,0),0),\"\")","v":0},{"$f":"IF(A23<>\"\",IFERROR(VLOOKUP(U23,Tabelas!B:D,3,0),0),\"\")","v":0},{"$f":"IF(A23<>\"\",IFERROR(VLOOKUP(V23,Tabelas!B:D,3,0),0),\"\")","v":0},{"$f":"IF(A23<>\"\",IFERROR(VLOOKUP(W23,Tabelas!B:D,3,0),0),\"\")","v":0},{"$f":"IF(A23<>\"\",IFERROR(VLOOKUP(X23,Tabelas!B:D,3,0),0),\"\")","v":0},{"$f":"IF(A23<>\"\",IFERROR(VLOOKUP(Y23,Tabelas!B:D,3,0),0),\"\")","v":0},{"$f":"IF(A23<>\"\",IFERROR(VLOOKUP(Z23,Tabelas!B:D,3,0),0),\"\")","v":0},{"$f":"IF(A23<>\"\",IFERROR(VLOOKUP(AA23,Tabelas!B:D,3,0),0),\"\")","v":0},{"$f":"IF(A23<>\"\",IFERROR(VLOOKUP(AB23,Tabelas!B:D,3,0),0),\"\")","v":0},{"$f":"IF(A23<>\"\",IFERROR(VLOOKUP(AC23,Tabelas!B:D,3,0),0),\"\")","v":0},{"$f":"IF(A23<>\"\",IFERROR(VLOOKUP(AD23,Tabelas!B:D,3,0),0),\"\")","v":0},{"$f":"IF(A23<>\"\",IFERROR(VLOOKUP(AE23,Tabelas!B:D,3,0),0),\"\")","v":0},{"$f":"IF(A23<>\"\",IFERROR(VLOOKUP(AF23,Tabelas!B:D,3,0),0),\"\")","v":0},{"$f":"IF(A23<>\"\",IFERROR(VLOOKUP(AG23,Tabelas!B:D,3,0),0),\"\")","v":0},{"$f":"IF(A23<>\"\",IFERROR(VLOOKUP(AH23,Tabelas!B:D,3,0),0),\"\")","v":0},{"$f":"IF(A23<>\"\",IFERROR(VLOOKUP(AI23,Tabelas!B:D,3,0),0),\"\")","v":0},{"$f":"IF(A23<>\"\",IFERROR(VLOOKUP(AJ23,Tabelas!B:D,3,0),0),\"\")","v":0},{"$f":"IF(A23<>\"\",IFERROR(VLOOKUP(AK23,Tabelas!B:D,3,0),0),\"\")","v":0},{"$f":"IF(A23<>\"\",IFERROR(VLOOKUP(AL23,Tabelas!B:D,3,0),0),\"\")","v":0},{"$f":"IF(A23<>\"\",IFERROR(VLOOKUP(AM23,Tabelas!B:D,3,0),0),\"\")","v":0},{"$f":"IF(A23<>\"\",IFERROR(VLOOKUP(AN23,Tabelas!B:D,3,0),0),\"\")","v":0},{"$f":"IF(A23<>\"\",IFERROR(VLOOKUP(AO23,Tabelas!B:D,3,0),0),\"\")","v":0},{"$f":"IF(A23<>\"\",IFERROR(VLOOKUP(AP23,Tabelas!B:D,3,0),0),\"\")","v":0},{"$f":"IF(A23<>\"\",IFERROR(VLOOKUP(AQ23,Tabelas!B:D,3,0),0),\"\")","v":0},0,0,0,0,0,0,0,0]
["FULANO 16",16,null,null,null,null,null,null,null,null,null,null,null,null,null,null,null,null,null,null,null,null,null,null,null,null,null,null,null,null,null,null,null,null,null,null,null,null,null,null,null,null,null,{"$f":"IF(A24<>\"\",IFERROR(VLOOKUP(M24,Tabelas!B:D,3,0),0),\"\")","v":0},{"$f":"IF(A24<>\"\",IFERROR(VLOOKUP(N24,Tabelas!B:D,3,0),0),\"\")","v":0},{"$f":"IF(A24<>\"\",IFERROR(VLOOKUP(O24,Tabelas!B:D,3,0),0),\"\")","v":0},{"$f":"IF(A24<>\"\",IFERROR(VLOOKUP(P24,Tabelas!B:D,3,0),0),\"\")","v":0},{"$f":"IF(A24<>\"\",IFERROR(VLOOKUP(Q24,Tabelas!B:D,3,0),0),\"\")","v":0},{"$f":"IF(A24<>\"\",IFERROR(VLOOKUP(R24,Tabelas!B:D,3,0),0),\"\")","v":0},{"$f":"IF(A24<>\"\",IFERROR(VLOOKUP(S24,Tabelas!B:D,3,0),0),\"\")","v":0},{"$f":"IF(A24<>\"\",IFERROR(VLOOKUP(T24,Tabelas!B:D,3,0),0),\"\")","v":0},{"$f":"IF(A24<>\"\",IFERROR(VLOOKUP(U24,Tabelas!B:D,3,0),0),\"\")","v":0},{"$f":"IF(A24<>\"\",IFERROR(VLOOKUP(V24,Tabelas!B:D,3,0),0),\"\")","v":0},{"$f":"IF(A24<>\"\",IFERROR(VLOOKUP(W24,Tabelas!B:D,3,0),0),\"\")","v":0},{"$f":"IF(A24<>\"\",IFERROR(VLOOKUP(X24,Tabelas!B:D,3,0),0),\"\")","v":0},{"$f":"IF(A24<>\"\",IFERROR(VLOOKUP(Y24,Tabelas!B:D,3,0),0),\"\")","v":0},{"$f":"IF(A24<>\"\",IFERROR(VLOOKUP(Z24,Tabelas!B:D,3,0),0),\"\")","v":0},{"$f":"IF(A24<>\"\",IFERROR(VLOOKUP(AA24,Tabelas!B:D,3,0),0),\"\")","v":0},{"$f":"IF(A24<>\"\",IFERROR(VLOOKUP(AB24,Tabelas!B:D,3,0),0),\"\")","v":0},{"$f":"IF(A24<>\"\",IFERROR(VLOOKUP(AC24,Tabelas!B:D,3,0),0),\"\")","v":0},{"$f":"IF(A24<>\"\",IFERROR(VLOOKUP(AD24,Tabelas!B:D,3,0),0),\"\")","v":0},{"$f":"IF(A24<>\"\",IFERROR(VLOOKUP(AE24,Tabelas!B:D,3,0),0),\"\")","v":0},{"$f":"IF(A24<>\"\",IFERROR(VLOOKUP(AF24,Tabelas!B:D,3,0),0),\"\")","v":0},{"$f":"IF(A24<>\"\",IFERROR(VLOOKUP(AG24,Tabelas!B:D,3,0),0),\"\")","v":0},{"$f":"IF(A24<>\"\",IFERROR(VLOOKUP(AH24,Tabelas!B:D,3,0),0),\"\")","v":0},{"$f":"IF(A24<>\"\",IFERROR(VLOOKUP(AI24,Tabelas!B:D,3,0),0),\"\")","v":0},{"$f":"IF(A24<>\"\",IFERROR(VLOOKUP(AJ24,Tabelas!B:D,3,0),0),\"\")","v":0},{"$f":"IF(A24<>\"\",IFERROR(VLOOKUP(AK24,Tabelas!B:D,3,0),0),\"\")","v":0},{"$f":"IF(A24<>\"\",IFERROR(VLOOKUP(AL24,Tabelas!B:D,3,0),0),\"\")","v":0},{"$f":"IF(A24<>\"\",IFERROR(VLOOKUP(AM24,Tabelas!B:D,3,0),0),\"\")","v":0},{"$f":"IF(A24<>\"\",IFERROR(VLOOKUP(AN24,Tabelas!B:D,3,0),0),\"\")","v":0},{"$f":"IF(A24<>\"\",IFERROR(VLOOKUP(AO24,Tabelas!B:D,3,0),0),\"\")","v":0},{"$f":"IF(A24<>\"\",IFERROR(VLOOKUP(AP24,Tabelas!B:D,3,0),0),\"\")","v":0},{"$f":"IF(A24<>\"\",IFERROR(VLOOKUP(AQ24,Tabelas!B:D,3,0),0),\"\")","v":0},0,0,0,0,0,0,0,0]
["FULANO 17",17,null,null,null,null,null,null,null,null,null,null,null,null,null,null,null,null,null,null,null,null,null,null,null,null,null,null,null,null,null,null,null,null,null,null,null,null,null,null,null,null,null,{"$f":"IF(A25<>\"\",IFERROR(VLOOKUP(M25,Tabelas!B:D,3,0),0),\"\")","v":0},{"$f":"IF(A25<>\"\",IFERROR(VLOOKUP(N25,Tabelas!B:D,3,0),0),\"\")","v":0},{"$f":"IF(A25<>\"\",IFERROR(VLOOKUP(O25,Tabelas!B:D,3,0),0),\"\")","v":0},{"$f":"IF(A25<>\"\",IFERROR(VLOOKUP(P25,Tabelas!B:D,3,0),0),\"\")","v":0},{"$f":"IF(A25<>\"\",IFERROR(VLOOKUP(Q25,Tabelas!B:D,3,0),0),\"\")","v":0},{"$f":"IF(A25<>\"\",IFERROR(VLOOKUP(R25,Tabelas!B:D,3,0),0),\"\")","v":0},{"$f":"IF(A25<>\"\",IFERROR(VLOOKUP(S25,Tabelas!B:D,3,0),0),\"\")","v":0},{"$f":"IF(A25<>\"\",IFERROR(VLOOKUP(T25,Tabelas!B:D,3,0),0),\"\")","v":0},{"$f":"IF(A25<>\"\",IFERROR(VLOOKUP(U25,Tabelas!B:D,3,0),0),\"\")","v":0},{"$f":"IF(A25<>\"\",IFERROR(VLOOKUP(V25,Tabelas!B:D,3,0),0),\"\")","v":0},{"$f":"IF(A25<>\"\",IFERROR(VLOOKUP(W25,Tabelas!B:D,3,0),0),\"\")","v":0},{"$f":"IF(A25<>\"\",IFERROR(VLOOKUP(X25,Tabelas!B:D,3,0),0),\"\")","v":0},{"$f":"IF(A25<>\"\",IFERROR(VLOOKUP(Y25,Tabelas!B:D,3,0),0),\"\")","v":0},{"$f":"IF(A25<>\"\",IFERROR(VLOOKUP(Z25,Tabelas!B:D,3,0),0),\"\")","v":0},{"$f":"IF(A25<>\"\",IFERROR(VLOOKUP(AA25,Tabelas!B:D,3,0),0),\"\")","v":0},{"$f":"IF(A25<>\"\",IFERROR(VLOOKUP(AB25,Tabelas!B:D,3,0),0),\"\")","v":0},{"$f":"IF(A25<>\"\",IFERROR(VLOOKUP(AC25,Tabelas!B:D,3,0),0),\"\")","v":0},{"$f":"IF(A25<>\"\",IFERROR(VLOOKUP(AD25,Tabelas!B:D,3,0),0),\"\")","v":0},{"$f":"IF(A25<>\"\",IFERROR(VLOOKUP(AE25,Tabelas!B:D,3,0),0),\"\")","v":0},{"$f":"IF(A25<>\"\",IFERROR(VLOOKUP(AF25,Tabelas!B:D,3,0),0),\"\")","v":0},{"$f":"IF(A25<>\"\",IFERROR(VLOOKUP(AG25,Tabelas!B:D,3,0),0),\"\")","v":0},{"$f":"IF(A25<>\"\",IFERROR(VLOOKUP(AH25,Tabelas!B:D,3,0),0),\"\")","v":0},{"$f":"IF(A25<>\"\",IFERROR(VLOOKUP(AI25,Tabelas!B:D,3,0),0),\"\")","v":0},{"$f":"IF(A25<>\"\",IFERROR(VLOOKUP(AJ25,Tabelas!B:D,3,0),0),\"\")","v":0},{"$f":"IF(A25<>\"\",IFERROR(VLOOKUP(AK25,Tabelas!B:D,3,0),0),\"\")","v":0},{"$f":"IF(A25<>\"\",IFERROR(VLOOKUP(AL25,Tabelas!B:D,3,0),0),\"\")","v":0},{"$f":"IF(A25<>\"\",IFERROR(VLOOKUP(AM25,Tabelas!B:D,3,0),0),\"\")","v":0},{"$f":"IF(A25<>\"\",IFERROR(VLOOKUP(AN25,Tabelas!B:D,3,0),0),\"\")","v":0},{"$f":"IF(A25<>\"\",IFERROR(VLOOKUP(AO25,Tabelas!B:D,3,0),0),\"\")","v":0},{"$f":"IF(A25<>\"\",IFERROR(VLOOKUP(AP25,Tabelas!B:D,3,0),0),\"\")","v":0},{"$f":"IF(A25<>\"\",IFERROR(VLOOKUP(AQ25,Tabelas!B:D,3,0),0),\"\")","v":0},0,0,0,0,0,0,0,0]
["FULANO 18",18,null,null,null,null,null,null,null,null,null,null,null,null,null,null,null,null,null,null,null,null,null,null,null,null,null,null,null,null,null,null,null,null,null,null,null,null,null,null,null,null,null,{"$f":"IF(A26<>\"\",IFERROR(VLOOKUP(M26,Tabelas!B:D,3,0),0),\"\")","v":0},{"$f":"IF(A26<>\"\",IFERROR(VLOOKUP(N26,Tabelas!B:D,3,0),0),\"\")","v":0},{"$f":"IF(A26<>\"\",IFERROR(VLOOKUP(O26,Tabelas!B:D,3,0),0),\"\")","v":0},{"$f":"IF(A26<>\"\",IFERROR(VLOOKUP(P26,Tabelas!B:D,3,0),0),\"\")","v":0},{"$f":"IF(A26<>\"\",IFERROR(VLOOKUP(Q26,Tabelas!B:D,3,0),0),\"\")","v":0},{"$f":"IF(A26<>\"\",IFERROR(VLOOKUP(R26,Tabelas!B:D,3,0),0),\"\")","v":0},{"$f":"IF(A26<>\"\",IFERROR(VLOOKUP(S26,Tabelas!B:D,3,0),0),\"\")","v":0},{"$f":"IF(A26<>\"\",IFERROR(VLOOKUP(T26,Tabelas!B:D,3,0),0),\"\")","v":0},{"$f":"IF(A26<>\"\",IFERROR(VLOOKUP(U26,Tabelas!B:D,3,0),0),\"\")","v":0},{"$f":"IF(A26<>\"\",IFERROR(VLOOKUP(V26,Tabelas!B:D,3,0),0),\"\")","v":0},{"$f":"IF(A26<>\"\",IFERROR(VLOOKUP(W26,Tabelas!B:D,3,0),0),\"\")","v":0},{"$f":"IF(A26<>\"\",IFERROR(VLOOKUP(X26,Tabelas!B:D,3,0),0),\"\")","v":0},{"$f":"IF(A26<>\"\",IFERROR(VLOOKUP(Y26,Tabelas!B:D,3,0),0),\"\")","v":0},{"$f":"IF(A26<>\"\",IFERROR(VLOOKUP(Z26,Tabelas!B:D,3,0),0),\"\")","v":0},{"$f":"IF(A26<>\"\",IFERROR(VLOOKUP(AA26,Tabelas!B:D,3,0),0),\"\")","v":0},{"$f":"IF(A26<>\"\",IFERROR(VLOOKUP(AB26,Tabelas!B:D,3,0),0),\"\")","v":0},{"$f":"IF(A26<>\"\",IFERROR(VLOOKUP(AC26,Tabelas!B:D,3,0),0),\"\")","v":0},{"$f":"IF(A26<>\"\",IFERROR(VLOOKUP(AD26,Tabelas!B:D,3,0),0),\"\")","v":0},{"$f":"IF(A26<>\"\",IFERROR(VLOOKUP(AE26,Tabelas!B:D,3,0),0),\"\")","v":0},{"$f":"IF(A26<>\"\",IFERROR(VLOOKUP(AF26,Tabelas!B:D,3,0),0),\"\")","v":0},{"$f":"IF(A26<>\"\",IFERROR(VLOOKUP(AG26,Tabelas!B:D,3,0),0),\"\")","v":0},{"$f":"IF(A26<>\"\",IFERROR(VLOOKUP(AH26,Tabelas!B:D,3,0),0),\"\")","v":0},{"$f":"IF(A26<>\"\",IFERROR(VLOOKUP(AI26,Tabelas!B:D,3,0),0),\"\")","v":0},{"$f":"IF(A26<>\"\",IFERROR(VLOOKUP(AJ26,Tabelas!B:D,3,0),0),\"\")","v":0},{"$f":"IF(A26<>\"\",IFERROR(VLOOKUP(AK26,Tabelas!B:D,3,0),0),\"\")","v":0},{"$f":"IF(A26<>\"\",IFERROR(VLOOKUP(AL26,Tabelas!B:D,3,0),0),\"\")","v":0},{"$f":"IF(A26<>\"\",IFERROR(VLOOKUP(AM26,Tabelas!B:D,3,0),0),\"\")","v":0},{"$f":"IF(A26<>\"\",IFERROR(VLOOKUP(AN26,Tabelas!B:D,3,0),0),\"\")","v":0},{"$f":"IF(A26<>\"\",IFERROR(VLOOKUP(AO26,Tabelas!B:D,3,0),0),\"\")","v":0},{"$f":"IF(A26<>\"\",IFERROR(VLOOKUP(AP26,Tabelas!B:D,3,0),0),\"\")","v":0},{"$f":"IF(A26<>\"\",IFERROR(VLOOKUP(AQ26,Tabelas!B:D,3,0),0),\"\")","v":0},0,0,0,0,0,0,0,0]
["FULANO 19",19,null,null,null,null,null,null,null,null,null,null,null,null,null,null,null,null,null,null,null,null,null,null,null,null,null,null,null,null,null,null,null,null,null,null,null,null,null,null,null,null,null,{"$f":"IF(A27<>\"\",IFERROR(VLOOKUP(M27,Tabelas!B:D,3,0),0),\"\")","v":0},{"$f":"IF(A27<>\"\",IFERROR(VLOOKUP(N27,Tabelas!B:D,3,0),0),\"\")","v":0},{"$f":"IF(A27<>\"\",IFERROR(VLOOKUP(O27,Tabelas!B:D,3,0),0),\"\")","v":0},{"$f":"IF(A27<>\"\",IFERROR(VLOOKUP(P27,Tabelas!B:D,3,0),0),\"\")","v":0},{"$f":"IF(A27<>\"\",IFERROR(VLOOKUP(Q27,Tabelas!B:D,3,0),0),\"\")","v":0},{"$f":"IF(A27<>\"\",IFERROR(VLOOKUP(R27,Tabelas!B:D,3,0),0),\"\")","v":0},{"$f":"IF(A27<>\"\",IFERROR(VLOOKUP(S27,Tabelas!B:D,3,0),0),\"\")","v":0},{"$f":"IF(A27<>\"\",IFERROR(VLOOKUP(T27,Tabelas!B:D,3,0),0),\"\")","v":0},{"$f":"IF(A27<>\"\",IFERROR(VLOOKUP(U27,Tabelas!B:D,3,0),0),\"\")","v":0},{"$f":"IF(A27<>\"\",IFERROR(VLOOKUP(V27,Tabelas!B:D,3,0),0),\"\")","v":0},{"$f":"IF(A27<>\"\",IFERROR(VLOOKUP(W27,Tabelas!B:D,3,0),0),\"\")","v":0},{"$f":"IF(A27<>\"\",IFERROR(VLOOKUP(X27,Tabelas!B:D,3,0),0),\"\")","v":0},{"$f":"IF(A27<>\"\",IFERROR(VLOOKUP(Y27,Tabelas!B:D,3,0),0),\"\")","v":0},{"$f":"IF(A27<>\"\",IFERROR(VLOOKUP(Z27,Tabelas!B:D,3,0),0),\"\")","v":0},{"$f":"IF(A27<>\"\",IFERROR(VLOOKUP(AA27,Tabelas!B:D,3,0),0),\"\")","v":0},{"$f":"IF(A27<>\"\",IFERROR(VLOOKUP(AB27,Tabelas!B:D,3,0),0),\"\")","v":0},{"$f":"IF(A27<>\"\",IFERROR(VLOOKUP(AC27,Tabelas!B:D,3,0),0),\"\")","v":0},{"$f":"IF(A27<>\"\",IFERROR(VLOOKUP(AD27,Tabelas!B:D,3,0),0),\"\")","v":0},{"$f":"IF(A27<>\"\",IFERROR(VLOOKUP(AE27,Tabelas!B:D,3,0),0),\"\")","v":0},{"$f":"IF(A27<>\"\",IFERROR(VLOOKUP(AF27,Tabelas!B:D,3,0),0),\"\")","v":0},{"$f":"IF(A27<>\"\",IFERROR(VLOOKUP(AG27,Tabelas!B:D,3,0),0),\"\")","v":0},{"$f":"IF(A27<>\"\",IFERROR(VLOOKUP(AH27,Tabelas!B:D,3,0),0),\"\")","v":0},{"$f":"IF(A27<>\"\",IFERROR(VLOOKUP(AI27,Tabelas!B:D,3,0),0),\"\")","v":0},{"$f":"IF(A27<>\"\",IFERROR(VLOOKUP(AJ27,Tabelas!B:D,3,0),0),\"\")","v":0},{"$f":"IF(A27<>\"\",IFERROR(VLOOKUP(AK27,Tabelas!B:D,3,0),0),\"\")","v":0},{"$f":"IF(A27<>\"\",IFERROR(VLOOKUP(AL27,Tabelas!B:D,3,0),0),\"\")","v":0},{"$f":"IF(A27<>\"\",IFERROR(VLOOKUP(AM27,Tabelas!B:D,3,0),0),\"\")","v":0},{"$f":"IF(A27<>\"\",IFERROR(VLOOKUP(AN27,Tabelas!B:D,3,0),0),\"\")","v":0},{"$f":"IF(A27<>\"\",IFERROR(VLOOKUP(AO27,Tabelas!B:D,3,0),0),\"\")","v":0},{"$f":"IF(A27<>\"\",IFERROR(VLOOKUP(AP27,Tabelas!B:D,3,0),0),\"\")","v":0},{"$f":"IF(A27<>\"\",IFERROR(VLOOKUP(AQ27,Tabelas!B:D,3,0),0),\"\")","v":0},0,0,0,0,0,0,0,0]
["FULANO 20",20,null,null,null,null,null,null,null,null,null,null,null,null,null,null,null,null,null,null,null,null,null,null,null,null,null,null,null,null,null,null,null,null,null,null,null,null,null,null,null,null,null,{"$f":"IF(A28<>\"\",IFERROR(VLOOKUP(M28,Tabelas!B:D,3,0),0),\"\")","v":0},{"$f":"IF(A28<>\"\",IFERROR(VLOOKUP(N28,Tabelas!B:D,3,0),0),\"\")","v":0},{"$f":"IF(A28<>\"\",IFERROR(VLOOKUP(O28,Tabelas!B:D,3,0),0),\"\")","v":0},{"$f":"IF(A28<>\"\",IFERROR(VLOOKUP(P28,Tabelas!B:D,3,0),0),\"\")","v":0},{"$f":"IF(A28<>\"\",IFERROR(VLOOKUP(Q28,Tabelas!B:D,3,0),0),\"\")","v":0},{"$f":"IF(A28<>\"\",IFERROR(VLOOKUP(R28,Tabelas!B:D,3,0),0),\"\")","v":0},{"$f":"IF(A28<>\"\",IFERROR(VLOOKUP(S28,Tabelas!B:D,3,0),0),\"\")","v":0},{"$f":"IF(A28<>\"\",IFERROR(VLOOKUP(T28,Tabelas!B:D,3,0),0),\"\")","v":0},{"$f":"IF(A28<>\"\",IFERROR(VLOOKUP(U28,Tabelas!B:D,3,0),0),\"\")","v":0},{"$f":"IF(A28<>\"\",IFERROR(VLOOKUP(V28,Tabelas!B:D,3,0),0),\"\")","v":0},{"$f":"IF(A28<>\"\",IFERROR(VLOOKUP(W28,Tabelas!B:D,3,0),0),\"\")","v":0},{"$f":"IF(A28<>\"\",IFERROR(VLOOKUP(X28,Tabelas!B:D,3,0),0),\"\")","v":0},{"$f":"IF(A28<>\"\",IFERROR(VLOOKUP(Y28,Tabelas!B:D,3,0),0),\"\")","v":0},{"$f":"IF(A28<>\"\",IFERROR(VLOOKUP(Z28,Tabelas!B:D,3,0),0),\"\")","v":0},{"$f":"IF(A28<>\"\",IFERROR(VLOOKUP(AA28,Tabelas!B:D,3,0),0),\"\")","v":0},{"$f":"IF(A28<>\"\",IFERROR(VLOOKUP(AB28,Tabelas!B:D,3,0),0),\"\")","v":0},{"$f":"IF(A28<>\"\",IFERROR(VLOOKUP(AC28,Tabelas!B:D,3,0),0),\"\")","v":0},{"$f":"IF(A28<>\"\",IFERROR(VLOOKUP(AD28,Tabelas!B:D,3,0),0),\"\")","v":0},{"$f":"IF(A28<>\"\",IFERROR(VLOOKUP(AE28,Tabelas!B:D,3,0),0),\"\")","v":0},{"$f":"IF(A28<>\"\",IFERROR(VLOOKUP(AF28,Tabelas!B:D,3,0),0),\"\")","v":0},{"$f":"IF(A28<>\"\",IFERROR(VLOOKUP(AG28,Tabelas!B:D,3,0),0),\"\")","v":0},{"$f":"IF(A28<>\"\",IFERROR(VLOOKUP(AH28,Tabelas!B:D,3,0),0),\"\")","v":0},{"$f":"IF(A28<>\"\",IFERROR(VLOOKUP(AI28,Tabelas!B:D,3,0),0),\"\")","v":0},{"$f":"IF(A28<>\"\",IFERROR(VLOOKUP(AJ28,Tabelas!B:D,3,0),0),\"\")","v":0},{"$f":"IF(A28<>\"\",IFERROR(VLOOKUP(AK28,Tabelas!B:D,3,0),0),\"\")","v":0},{"$f":"IF(A28<>\"\",IFERROR(VLOOKUP(AL28,Tabelas!B:D,3,0),0),\"\")","v":0},{"$f":"IF(A28<>\"\",IFERROR(VLOOKUP(AM28,Tabelas!B:D,3,0),0),\"\")","v":0},{"$f":"IF(A28<>\"\",IFERROR(VLOOKUP(AN28,Tabelas!B:D,3,0),0),\"\")","v":0},{"$f":"IF(A28<>\"\",IFERROR(VLOOKUP(AO28,Tabelas!B:D,3,0),0),\"\")","v":0},{"$f":"IF(A28<>\"\",IFERROR(VLOOKUP(AP28,Tabelas!B:D,3,0),0),\"\")","v":0},{"$f":"IF(A28<>\"\",IFERROR(VLOOKUP(AQ28,Tabelas!B:D,3,0),0),\"\")","v":0},0,0,0,0,0,0,0,0]
["FULANO 21",21,null,null,null,null,null,null,null,null,null,null,null,null,null,null,null,null,null,null,null,null,null,null,null,null,null,null,null,null,null,null,null,null,null,null,null,null,null,null,null,null,null,{"$f":"IF(A29<>\"\",IFERROR(VLOOKUP(M29,Tabelas!B:D,3,0),0),\"\")","v":0},{"$f":"IF(A29<>\"\",IFERROR(VLOOKUP(N29,Tabelas!B:D,3,0),0),\"\")","v":0},{"$f":"IF(A29<>\"\",IFERROR(VLOOKUP(O29,Tabelas!B:D,3,0),0),\"\")","v":0},{"$f":"IF(A29<>\"\",IFERROR(VLOOKUP(P29,Tabelas!B:D,3,0),0),\"\")","v":0},{"$f":"IF(A29<>\"\",IFERROR(VLOOKUP(Q29,Tabelas!B:D,3,0),0),\"\")","v":0},{"$f":"IF(A29<>\"\",IFERROR(VLOOKUP(R29,Tabelas!B:D,3,0),0),\"\")","v":0},{"$f":"IF(A29<>\"\",IFERROR(VLOOKUP(S29,Tabelas!B:D,3,0),0),\"\")","v":0},{"$f":"IF(A29<>\"\",IFERROR(VLOOKUP(T29,Tabelas!B:D,3,0),0),\"\")","v":0},{"$f":"IF(A29<>\"\",IFERROR(VLOOKUP(U29,Tabelas!B:D,3,0),0),\"\")","v":0},{"$f":"IF(A29<>\"\",IFERROR(VLOOKUP(V29,Tabelas!B:D,3,0),0),\"\")","v":0},{"$f":"IF(A29<>\"\",IFERROR(VLOOKUP(W29,Tabelas!B:D,3,0),0),\"\")","v":0},{"$f":"IF(A29<>\"\",IFERROR(VLOOKUP(X29,Tabelas!B:D,3,0),0),\"\")","v":0},{"$f":"IF(A29<>\"\",IFERROR(VLOOKUP(Y29,Tabelas!B:D,3,0),0),\"\")","v":0},{"$f":"IF(A29<>\"\",IFERROR(VLOOKUP(Z29,Tabelas!B:D,3,0),0),\"\")","v":0},{"$f":"IF(A29<>\"\",IFERROR(VLOOKUP(AA29,Tabelas!B:D,3,0),0),\"\")","v":0},{"$f":"IF(A29<>\"\",IFERROR(VLOOKUP(AB29,Tabelas!B:D,3,0),0),\"\")","v":0},{"$f":"IF(A29<>\"\",IFERROR(VLOOKUP(AC29,Tabelas!B:D,3,0),0),\"\")","v":0},{"$f":"IF(A29<>\"\",IFERROR(VLOOKUP(AD29,Tabelas!B:D,3,0),0),\"\")","v":0},{"$f":"IF(A29<>\"\",IFERROR(VLOOKUP(AE29,Tabelas!B:D,3,0),0),\"\")","v":0},{"$f":"IF(A29<>\"\",IFERROR(VLOOKUP(AF29,Tabelas!B:D,3,0),0),\"\")","v":0},{"$f":"IF(A29<>\"\",IFERROR(VLOOKUP(AG29,Tabelas!B:D,3,0),0),\"\")","v":0},{"$f":"IF(A29<>\"\",IFERROR(VLOOKUP(AH29,Tabelas!B:D,3,0),0),\"\")","v":0},{"$f":"IF(A29<>\"\",IFERROR(VLOOKUP(AI29,Tabelas!B:D,3,0),0),\"\")","v":0},{"$f":"IF(A29<>\"\",IFERROR(VLOOKUP(AJ29,Tabelas!B:D,3,0),0),\"\")","v":0},{"$f":"IF(A29<>\"\",IFERROR(VLOOKUP(AK29,Tabelas!B:D,3,0),0),\"\")","v":0},{"$f":"IF(A29<>\"\",IFERROR(VLOOKUP(AL29,Tabelas!B:D,3,0),0),\"\")","v":0},{"$f":"IF(A29<>\"\",IFERROR(VLOOKUP(AM29,Tabelas!B:D,3,0),0),\"\")","v":0},{"$f":"IF(A29<>\"\",IFERROR(VLOOKUP(AN29,Tabelas!B:D,3,0),0),\"\")","v":0},{"$f":"IF(A29<>\"\",IFERROR(VLOOKUP(AO29,Tabelas!B:D,3,0),0),\"\")","v":0},{"$f":"IF(A29<>\"\",IFERROR(VLOOKUP(AP29,Tabelas!B:D,3,0),0),\"\")","v":0},{"$f":"IF(A29<>\"\",IFERROR(VLOOKUP(AQ29,Tabelas!B:D,3,0),0),\"\")","v":0},0,0,0,0,0,0,0,0]
["FULANO 22",22,null,null,null,null,null,null,null,null,null,null,null,null,null,null,null,null,null,null,null,null,null,null,null,null,null,null,null,null,null,null,null,null,null,null,null,null,null,null,null,null,null,{"$f":"IF(A30<>\"\",IFERROR(VLOOKUP(M30,Tabelas!B:D,3,0),0),\"\")","v":0},{"$f":"IF(A30<>\"\",IFERROR(VLOOKUP(N30,Tabelas!B:D,3,0),0),\"\")","v":0},{"$f":"IF(A30<>\"\",IFERROR(VLOOKUP(O30,Tabelas!B:D,3,0),0),\"\")","v":0},{"$f":"IF(A30<>\"\",IFERROR(VLOOKUP(P30,Tabelas!B:D,3,0),0),\"\")","v":0},{"$f":"IF(A30<>\"\",IFERROR(VLOOKUP(Q30,Tabelas!B:D,3,0),0),\"\")","v":0},{"$f":"IF(A30<>\"\",IFERROR(VLOOKUP(R30,Tabelas!B:D,3,0),0),\"\")","v":0},{"$f":"IF(A30<>\"\",IFERROR(VLOOKUP(S30,Tabelas!B:D,3,0),0),\"\")","v":0},{"$f":"IF(A30<>\"\",IFERROR(VLOOKUP(T30,Tabelas!B:D,3,0),0),\"\")","v":0},{"$f":"IF(A30<>\"\",IFERROR(VLOOKUP(U30,Tabelas!B:D,3,0),0),\"\")","v":0},{"$f":"IF(A30<>\"\",IFERROR(VLOOKUP(V30,Tabelas!B:D,3,0),0),\"\")","v":0},{"$f":"IF(A30<>\"\",IFERROR(VLOOKUP(W30,Tabelas!B:D,3,0),0),\"\")","v":0},{"$f":"IF(A30<>\"\",IFERROR(VLOOKUP(X30,Tabelas!B:D,3,0),0),\"\")","v":0},{"$f":"IF(A30<>\"\",IFERROR(VLOOKUP(Y30,Tabelas!B:D,3,0),0),\"\")","v":0},{"$f":"IF(A30<>\"\",IFERROR(VLOOKUP(Z30,Tabelas!B:D,3,0),0),\"\")","v":0},{"$f":"IF(A30<>\"\",IFERROR(VLOOKUP(AA30,Tabelas!B:D,3,0),0),\"\")","v":0},{"$f":"IF(A30<>\"\",IFERROR(VLOOKUP(AB30,Tabelas!B:D,3,0),0),\"\")","v":0},{"$f":"IF(A30<>\"\",IFERROR(VLOOKUP(AC30,Tabelas!B:D,3,0),0),\"\")","v":0},{"$f":"IF(A30<>\"\",IFERROR(VLOOKUP(AD30,Tabelas!B:D,3,0),0),\"\")","v":0},{"$f":"IF(A30<>\"\",IFERROR(VLOOKUP(AE30,Tabelas!B:D,3,0),0),\"\")","v":0},{"$f":"IF(A30<>\"\",IFERROR(VLOOKUP(AF30,Tabelas!B:D,3,0),0),\"\")","v":0},{"$f":"IF(A30<>\"\",IFERROR(VLOOKUP(AG30,Tabelas!B:D,3,0),0),\"\")","v":0},{"$f":"IF(A30<>\"\",IFERROR(VLOOKUP(AH30,Tabelas!B:D,3,0),0),\"\")","v":0},{"$f":"IF(A30<>\"\",IFERROR(VLOOKUP(AI30,Tabelas!B:D,3,0),0),\"\")","v":0},{"$f":"IF(A30<>\"\",IFERROR(VLOOKUP(AJ30,Tabelas!B:D,3,0),0),\"\")","v":0},{"$f":"IF(A30<>\"\",IFERROR(VLOOKUP(AK30,Tabelas!B:D,3,0),0),\"\")","v":0},{"$f":"IF(A30<>\"\",IFERROR(VLOOKUP(AL30,Tabelas!B:D,3,0),0),\"\")","v":0},{"$f":"IF(A30<>\"\",IFERROR(VLOOKUP(AM30,Tabelas!B:D,3,0),0),\"\")","v":0},{"$f":"IF(A30<>\"\",IFERROR(VLOOKUP(AN30,Tabelas!B:D,3,0),0),\"\")","v":0},{"$f":"IF(A30<>\"\",IFERROR(VLOOKUP(AO30,Tabelas!B:D,3,0),0),\"\")","v":0},{"$f":"IF(A30<>\"\",IFERROR(VLOOKUP(AP30,Tabelas!B:D,3,0),0),\"\")","v":0},{"$f":"IF(A30<>\"\",IFERROR(VLOOKUP(AQ30,Tabelas!B:D,3,0),0),\"\")","v":0},0,0,0,0,0,0,0,0]
["FULANO 23",23,null,null,null,null,null,null,null,null,null,null,null,null,null,null,null,null,null,null,null,null,null,null,null,null,null,null,null,null,null,null,null,null,null,null,null,null,null,null,null,null,null,{"$f":"IF(A31<>\"\",IFERROR(VLOOKUP(M31,Tabelas!B:D,3,0),0),\"\")","v":0},{"$f":"IF(A31<>\"\",IFERROR(VLOOKUP(N31,Tabelas!B:D,3,0),0),\"\")","v":0},{"$f":"IF(A31<>\"\",IFERROR(VLOOKUP(O31,Tabelas!B:D,3,0),0),\"\")","v":0},{"$f":"IF(A31<>\"\",IFERROR(VLOOKUP(P31,Tabelas!B:D,3,0),0),\"\")","v":0},{"$f":"IF(A31<>\"\",IFERROR(VLOOKUP(Q31,Tabelas!B:D,3,0),0),\"\")","v":0},{"$f":"IF(A31<>\"\",IFERROR(VLOOKUP(R31,Tabelas!B:D,3,0),0),\"\")","v":0},{"$f":"IF(A31<>\"\",IFERROR(VLOOKUP(S31,Tabelas!B:D,3,0),0),\"\")","v":0},{"$f":"IF(A31<>\"\",IFERROR(VLOOKUP(T31,Tabelas!B:D,3,0),0),\"\")","v":0},{"$f":"IF(A31<>\"\",IFERROR(VLOOKUP(U31,Tabelas!B:D,3,0),0),\"\")","v":0},{"$f":"IF(A31<>\"\",IFERROR(VLOOKUP(V31,Tabelas!B:D,3,0),0),\"\")","v":0},{"$f":"IF(A31<>\"\",IFERROR(VLOOKUP(W31,Tabelas!B:D,3,0),0),\"\")","v":0},{"$f":"IF(A31<>\"\",IFERROR(VLOOKUP(X31,Tabelas!B:D,3,0),0),\"\")","v":0},{"$f":"IF(A31<>\"\",IFERROR(VLOOKUP(Y31,Tabelas!B:D,3,0),0),\"\")","v":0},{"$f":"IF(A31<>\"\",IFERROR(VLOOKUP(Z31,Tabelas!B:D,3,0),0),\"\")","v":0},{"$f":"IF(A31<>\"\",IFERROR(VLOOKUP(AA31,Tabelas!B:D,3,0),0),\"\")","v":0},{"$f":"IF(A31<>\"\",IFERROR(VLOOKUP(AB31,Tabelas!B:D,3,0),0),\"\")","v":0},{"$f":"IF(A31<>\"\",IFERROR(VLOOKUP(AC31,Tabelas!B:D,3,0),0),\"\")","v":0},{"$f":"IF(A31<>\"\",IFERROR(VLOOKUP(AD31,Tabelas!B:D,3,0),0),\"\")","v":0},{"$f":"IF(A31<>\"\",IFERROR(VLOOKUP(AE31,Tabelas!B:D,3,0),0),\"\")","v":0},{"$f":"IF(A31<>\"\",IFERROR(VLOOKUP(AF31,Tabelas!B:D,3,0),0),\"\")","v":0},{"$f":"IF(A31<>\"\",IFERROR(VLOOKUP(AG31,Tabelas!B:D,3,0),0),\"\")","v":0},{"$f":"IF(A31<>\"\",IFERROR(VLOOKUP(AH31,Tabelas!B:D,3,0),0),\"\")","v":0},{"$f":"IF(A31<>\"\",IFERROR(VLOOKUP(AI31,Tabelas!B:D,3,0),0),\"\")","v":0},{"$f":"IF(A31<>\"\",IFERROR(VLOOKUP(AJ31,Tabelas!B:D,3,0),0),\"\")","v":0},{"$f":"IF(A31<>\"\",IFERROR(VLOOKUP(AK31,Tabelas!B:D,3,0),0),\"\")","v":0},{"$f":"IF(A31<>\"\",IFERROR(VLOOKUP(AL31,Tabelas!B:D,3,0),0),\"\")","v":0},{"$f":"IF(A31<>\"\",IFERROR(VLOOKUP(AM31,Tabelas!B:D,3,0),0),\"\")","v":0},{"$f":"IF(A31<>\"\",IFERROR(VLOOKUP(AN31,Tabelas!B:D,3,0),0),\"\")","v":0},{"$f":"IF(A31<>\"\",IFERROR(VLOOKUP(AO31,Tabelas!B:D,3,0),0),\"\")","v":0},{"$f":"IF(A31<>\"\",IFERROR(VLOOKUP(AP31,Tabelas!B:D,3,0),0),\"\")","v":0},{"$f":"IF(A31<>\"\",IFERROR(VLOOKUP(AQ31,Tabelas!B:D,3,0),0),\"\")","v":0},0,0,0,0,0,0,0,0]
["FULANO 24",24,null,null,null,null,null,null,null,null,null,null,null,null,null,null,null,null,null,null,null,null,null,null,null,null,null,null,null,null,null,null,null,null,null,null,null,null,null,null,null,null,null,{"$f":"IF(A32<>\"\",IFERROR(VLOOKUP(M32,Tabelas!B:D,3,0),0),\"\")","v":0},{"$f":"IF(A32<>\"\",IFERROR(VLOOKUP(N32,Tabelas!B:D,3,0),0),\"\")","v":0},{"$f":"IF(A32<>\"\",IFERROR(VLOOKUP(O32,Tabelas!B:D,3,0),0),\"\")","v":0},{"$f":"IF(A32<>\"\",IFERROR(VLOOKUP(P32,Tabelas!B:D,3,0),0),\"\")","v":0},{"$f":"IF(A32<>\"\",IFERROR(VLOOKUP(Q32,Tabelas!B:D,3,0),0),\"\")","v":0},{"$f":"IF(A32<>\"\",IFERROR(VLOOKUP(R32,Tabelas!B:D,3,0),0),\"\")","v":0},{"$f":"IF(A32<>\"\",IFERROR(VLOOKUP(S32,Tabelas!B:D,3,0),0),\"\")","v":0},{"$f":"IF(A32<>\"\",IFERROR(VLOOKUP(T32,Tabelas!B:D,3,0),0),\"\")","v":0},{"$f":"IF(A32<>\"\",IFERROR(VLOOKUP(U32,Tabelas!B:D,3,0),0),\"\")","v":0},{"$f":"IF(A32<>\"\",IFERROR(VLOOKUP(V32,Tabelas!B:D,3,0),0),\"\")","v":0},{"$f":"IF(A32<>\"\",IFERROR(VLOOKUP(W32,Tabelas!B:D,3,0),0),\"\")","v":0},{"$f":"IF(A32<>\"\",IFERROR(VLOOKUP(X32,Tabelas!B:D,3,0),0),\"\")","v":0},{"$f":"IF(A32<>\"\",IFERROR(VLOOKUP(Y32,Tabelas!B:D,3,0),0),\"\")","v":0},{"$f":"IF(A32<>\"\",IFERROR(VLOOKUP(Z32,Tabelas!B:D,3,0),0),\"\")","v":0},{"$f":"IF(A32<>\"\",IFERROR(VLOOKUP(AA32,Tabelas!B:D,3,0),0),\"\")","v":0},{"$f":"IF(A32<>\"\",IFERROR(VLOOKUP(AB32,Tabelas!B:D,3,0),0),\"\")","v":0},{"$f":"IF(A32<>\"\",IFERROR(VLOOKUP(AC32,Tabelas!B:D,3,0),0),\"\")","v":0},{"$f":"IF(A32<>\"\",IFERROR(VLOOKUP(AD32,Tabelas!B:D,3,0),0),\"\")","v":0},{"$f":"IF(A32<>\"\",IFERROR(VLOOKUP(AE32,Tabelas!B:D,3,0),0),\"\")","v":0},{"$f":"IF(A32<>\"\",IFERROR(VLOOKUP(AF32,Tabelas!B:D,3,0),0),\"\")","v":0},{"$f":"IF(A32<>\"\",IFERROR(VLOOKUP(AG32,Tabelas!B:D,3,0),0),\"\")","v":0},{"$f":"IF(A32<>\"\",IFERROR(VLOOKUP(AH32,Tabelas!B:D,3,0),0),\"\")","v":0},{"$f":"IF(A32<>\"\",IFERROR(VLOOKUP(AI32,Tabelas!B:D,3,0),0),\"\")","v":0},{"$f":"IF(A32<>\"\",IFERROR(VLOOKUP(AJ32,Tabelas!B:D,3,0),0),\"\")","v":0},{"$f":"IF(A32<>\"\",IFERROR(VLOOKUP(AK32,Tabelas!B:D,3,0),0),\"\")","v":0},{"$f":"IF(A32<>\"\",IFERROR(VLOOKUP(AL32,Tabelas!B:D,3,0),0),\"\")","v":0},{"$f":"IF(A32<>\"\",IFERROR(VLOOKUP(AM32,Tabelas!B:D,3,0),0),\"\")","v":0},{"$f":"IF(A32<>\"\",IFERROR(VLOOKUP(AN32,Tabelas!B:D,3,0),0),\"\")","v":0},{"$f":"IF(A32<>\"\",IFERROR(VLOOKUP(AO32,Tabelas!B:D,3,0),0),\"\")","v":0},{"$f":"IF(A32<>\"\",IFERROR(VLOOKUP(AP32,Tabelas!B:D,3,0),0),\"\")","v":0},{"$f":"IF(A32<>\"\",IFERROR(VLOOKUP(AQ32,Tabelas!B:D,3,0),0),\"\")","v":0},0,0,0,0,0,0,0,0]
["FULANO 25",25,null,null,null,null,null,null,null,null,null,null,null,null,null,null,null,null,null,null,null,null,null,null,null,null,null,null,null,null,null,null,null,null,null,null,null,null,null,null,null,null,null,{"$f":"IF(A33<>\"\",IFERROR(VLOOKUP(M33,Tabelas!B:D,3,0),0),\"\")","v":0},{"$f":"IF(A33<>\"\",IFERROR(VLOOKUP(N33,Tabelas!B:D,3,0),0),\"\")","v":0},{"$f":"IF(A33<>\"\",IFERROR(VLOOKUP(O33,Tabelas!B:D,3,0),0),\"\")","v":0},{"$f":"IF(A33<>\"\",IFERROR(VLOOKUP(P33,Tabelas!B:D,3,0),0),\"\")","v":0},{"$f":"IF(A33<>\"\",IFERROR(VLOOKUP(Q33,Tabelas!B:D,3,0),0),\"\")","v":0},{"$f":"IF(A33<>\"\",IFERROR(VLOOKUP(R33,Tabelas!B:D,3,0),0),\"\")","v":0},{"$f":"IF(A33<>\"\",IFERROR(VLOOKUP(S33,Tabelas!B:D,3,0),0),\"\")","v":0},{"$f":"IF(A33<>\"\",IFERROR(VLOOKUP(T33,Tabelas!B:D,3,0),0),\"\")","v":0},{"$f":"IF(A33<>\"\",IFERROR(VLOOKUP(U33,Tabelas!B:D,3,0),0),\"\")","v":0},{"$f":"IF(A33<>\"\",IFERROR(VLOOKUP(V33,Tabelas!B:D,3,0),0),\"\")","v":0},{"$f":"IF(A33<>\"\",IFERROR(VLOOKUP(W33,Tabelas!B:D,3,0),0),\"\")","v":0},{"$f":"IF(A33<>\"\",IFERROR(VLOOKUP(X33,Tabelas!B:D,3,0),0),\"\")","v":0},{"$f":"IF(A33<>\"\",IFERROR(VLOOKUP(Y33,Tabelas!B:D,3,0),0),\"\")","v":0},{"$f":"IF(A33<>\"\",IFERROR(VLOOKUP(Z33,Tabelas!B:D,3,0),0),\"\")","v":0},{"$f":"IF(A33<>\"\",IFERROR(VLOOKUP(AA33,Tabelas!B:D,3,0),0),\"\")","v":0},{"$f":"IF(A33<>\"\",IFERROR(VLOOKUP(AB33,Tabelas!B:D,3,0),0),\"\")","v":0},{"$f":"IF(A33<>\"\",IFERROR(VLOOKUP(AC33,Tabelas!B:D,3,0),0),\"\")","v":0},{"$f":"IF(A33<>\"\",IFERROR(VLOOKUP(AD33,Tabelas!B:D,3,0),0),\"\")","v":0},{"$f":"IF(A33<>\"\",IFERROR(VLOOKUP(AE33,Tabelas!B:D,3,0),0),\"\")","v":0},{"$f":"IF(A33<>\"\",IFERROR(VLOOKUP(AF33,Tabelas!B:D,3,0),0),\"\")","v":0},{"$f":"IF(A33<>\"\",IFERROR(VLOOKUP(AG33,Tabelas!B:D,3,0),0),\"\")","v":0},{"$f":"IF(A33<>\"\",IFERROR(VLOOKUP(AH33,Tabelas!B:D,3,0),0),\"\")","v":0},{"$f":"IF(A33<>\"\",IFERROR(VLOOKUP(AI33,Tabelas!B:D,3,0),0),\"\")","v":0},{"$f":"IF(A33<>\"\",IFERROR(VLOOKUP(AJ33,Tabelas!B:D,3,0),0),\"\")","v":0},{"$f":"IF(A33<>\"\",IFERROR(VLOOKUP(AK33,Tabelas!B:D,3,0),0),\"\")","v":0},{"$f":"IF(A33<>\"\",IFERROR(VLOOKUP(AL33,Tabelas!B:D,3,0),0),\"\")","v":0},{"$f":"IF(A33<>\"\",IFERROR(VLOOKUP(AM33,Tabelas!B:D,3,0),0),\"\")","v":0},{"$f":"IF(A33<>\"\",IFERROR(VLOOKUP(AN33,Tabelas!B:D,3,0),0),\"\")","v":0},{"$f":"IF(A33<>\"\",IFERROR(VLOOKUP(AO33,Tabelas!B:D,3,0),0),\"\")","v":0},{"$f":"IF(A33<>\"\",IFERROR(VLOOKUP(AP33,Tabelas!B:D,3,0),0),\"\")","v":0},{"$f":"IF(A33<>\"\",IFERROR(VLOOKUP(AQ33,Tabelas!B:D,3,0),0),\"\")","v":0},0,0,0,0,0,0,0,0]
["FULANO 26",26,null,null,null,null,null,null,null,null,null,null,null,null,null,null,null,null,null,null,null,null,null,null,null,null,null,null,null,null,null,null,null,null,null,null,null,null,null,null,null,null,null,{"$f":"IF(A34<>\"\",IFERROR(VLOOKUP(M34,Tabelas!B:D,3,0),0),\"\")","v":0},{"$f":"IF(A34<>\"\",IFERROR(VLOOKUP(N34,Tabelas!B:D,3,0),0),\"\")","v":0},{"$f":"IF(A34<>\"\",IFERROR(VLOOKUP(O34,Tabelas!B:D,3,0),0),\"\")","v":0},{"$f":"IF(A34<>\"\",IFERROR(VLOOKUP(P34,Tabelas!B:D,3,0),0),\"\")","v":0},{"$f":"IF(A34<>\"\",IFERROR(VLOOKUP(Q34,Tabelas!B:D,3,0),0),\"\")","v":0},{"$f":"IF(A34<>\"\",IFERROR(VLOOKUP(R34,Tabelas!B:D,3,0),0),\"\")","v":0},{"$f":"IF(A34<>\"\",IFERROR(VLOOKUP(S34,Tabelas!B:D,3,0),0),\"\")","v":0},{"$f":"IF(A34<>\"\",IFERROR(VLOOKUP(T34,Tabelas!B:D,3,0),0),\"\")","v":0},{"$f":"IF(A34<>\"\",IFERROR(VLOOKUP(U34,Tabelas!B:D,3,0),0),\"\")","v":0},{"$f":"IF(A34<>\"\",IFERROR(VLOOKUP(V34,Tabelas!B:D,3,0),0),\"\")","v":0},{"$f":"IF(A34<>\"\",IFERROR(VLOOKUP(W34,Tabelas!B:D,3,0),0),\"\")","v":0},{"$f":"IF(A34<>\"\",IFERROR(VLOOKUP(X34,Tabelas!B:D,3,0),0),\"\")","v":0},{"$f":"IF(A34<>\"\",IFERROR(VLOOKUP(Y34,Tabelas!B:D,3,0),0),\"\")","v":0},{"$f":"IF(A34<>\"\",IFERROR(VLOOKUP(Z34,Tabelas!B:D,3,0),0),\"\")","v":0},{"$f":"IF(A34<>\"\",IFERROR(VLOOKUP(AA34,Tabelas!B:D,3,0),0),\"\")","v":0},{"$f":"IF(A34<>\"\",IFERROR(VLOOKUP(AB34,Tabelas!B:D,3,0),0),\"\")","v":0},{"$f":"IF(A34<>\"\",IFERROR(VLOOKUP(AC34,Tabelas!B:D,3,0),0),\"\")","v":0},{"$f":"IF(A34<>\"\",IFERROR(VLOOKUP(AD34,Tabelas!B:D,3,0),0),\"\")","v":0},{"$f":"IF(A34<>\"\",IFERROR(VLOOKUP(AE34,Tabelas!B:D,3,0),0),\"\")","v":0},{"$f":"IF(A34<>\"\",IFERROR(VLOOKUP(AF34,Tabelas!B:D,3,0),0),\"\")","v":0},{"$f":"IF(A34<>\"\",IFERROR(VLOOKUP(AG34,Tabelas!B:D,3,0),0),\"\")","v":0},{"$f":"IF(A34<>\"\",IFERROR(VLOOKUP(AH34,Tabelas!B:D,3,0),0),\"\")","v":0},{"$f":"IF(A34<>\"\",IFERROR(VLOOKUP(AI34,Tabelas!B:D,3,0),0),\"\")","v":0},{"$f":"IF(A34<>\"\",IFERROR(VLOOKUP(AJ34,Tabelas!B:D,3,0),0),\"\")","v":0},{"$f":"IF(A34<>\"\",IFERROR(VLOOKUP(AK34,Tabelas!B:D,3,0),0),\"\")","v":0},{"$f":"IF(A34<>\"\",IFERROR(VLOOKUP(AL34,Tabelas!B:D,3,0),0),\"\")","v":0},{"$f":"IF(A34<>\"\",IFERROR(VLOOKUP(AM34,Tabelas!B:D,3,0),0),\"\")","v":0},{"$f":"IF(A34<>\"\",IFERROR(VLOOKUP(AN34,Tabelas!B:D,3,0),0),\"\")","v":0},{"$f":"IF(A34<>\"\",IFERROR(VLOOKUP(AO34,Tabelas!B:D,3,0),0),\"\")","v":0},{"$f":"IF(A34<>\"\",IFERROR(VLOOKUP(AP34,Tabelas!B:D,3,0),0),\"\")","v":0},{"$f":"IF(A34<>\"\",IFERROR(VLOOKUP(AQ34,Tabelas!B:D,3,0),0),\"\")","v":0},0,0,0,0,0,0,0,0]
["FULANO 27",27,null,null,null,null,null,null,null,null,null,null,null,null,null,null,null,null,null,null,null,null,null,null,null,null,null,null,null,null,null,null,null,null,null,null,null,null,null,null,null,null,null,{"$f":"IF(A35<>\"\",IFERROR(VLOOKUP(M35,Tabelas!B:D,3,0),0),\"\")","v":0},{"$f":"IF(A35<>\"\",IFERROR(VLOOKUP(N35,Tabelas!B:D,3,0),0),\"\")","v":0},{"$f":"IF(A35<>\"\",IFERROR(VLOOKUP(O35,Tabelas!B:D,3,0),0),\"\")","v":0},{"$f":"IF(A35<>\"\",IFERROR(VLOOKUP(P35,Tabelas!B:D,3,0),0),\"\")","v":0},{"$f":"IF(A35<>\"\",IFERROR(VLOOKUP(Q35,Tabelas!B:D,3,0),0),\"\")","v":0},{"$f":"IF(A35<>\"\",IFERROR(VLOOKUP(R35,Tabelas!B:D,3,0),0),\"\")","v":0},{"$f":"IF(A35<>\"\",IFERROR(VLOOKUP(S35,Tabelas!B:D,3,0),0),\"\")","v":0},{"$f":"IF(A35<>\"\",IFERROR(VLOOKUP(T35,Tabelas!B:D,3,0),0),\"\")","v":0},{"$f":"IF(A35<>\"\",IFERROR(VLOOKUP(U35,Tabelas!B:D,3,0),0),\"\")","v":0},{"$f":"IF(A35<>\"\",IFERROR(VLOOKUP(V35,Tabelas!B:D,3,0),0),\"\")","v":0},{"$f":"IF(A35<>\"\",IFERROR(VLOOKUP(W35,Tabelas!B:D,3,0),0),\"\")","v":0},{"$f":"IF(A35<>\"\",IFERROR(VLOOKUP(X35,Tabelas!B:D,3,0),0),\"\")","v":0},{"$f":"IF(A35<>\"\",IFERROR(VLOOKUP(Y35,Tabelas!B:D,3,0),0),\"\")","v":0},{"$f":"IF(A35<>\"\",IFERROR(VLOOKUP(Z35,Tabelas!B:D,3,0),0),\"\")","v":0},{"$f":"IF(A35<>\"\",IFERROR(VLOOKUP(AA35,Tabelas!B:D,3,0),0),\"\")","v":0},{"$f":"IF(A35<>\"\",IFERROR(VLOOKUP(AB35,Tabelas!B:D,3,0),0),\"\")","v":0},{"$f":"IF(A35<>\"\",IFERROR(VLOOKUP(AC35,Tabelas!B:D,3,0),0),\"\")","v":0},{"$f":"IF(A35<>\"\",IFERROR(VLOOKUP(AD35,Tabelas!B:D,3,0),0),\"\")","v":0},{"$f":"IF(A35<>\"\",IFERROR(VLOOKUP(AE35,Tabelas!B:D,3,0),0),\"\")","v":0},{"$f":"IF(A35<>\"\",IFERROR(VLOOKUP(AF35,Tabelas!B:D,3,0),0),\"\")","v":0},{"$f":"IF(A35<>\"\",IFERROR(VLOOKUP(AG35,Tabelas!B:D,3,0),0),\"\")","v":0},{"$f":"IF(A35<>\"\",IFERROR(VLOOKUP(AH35,Tabelas!B:D,3,0),0),\"\")","v":0},{"$f":"IF(A35<>\"\",IFERROR(VLOOKUP(AI35,Tabelas!B:D,3,0),0),\"\")","v":0},{"$f":"IF(A35<>\"\",IFERROR(VLOOKUP(AJ35,Tabelas!B:D,3,0),0),\"\")","v":0},{"$f":"IF(A35<>\"\",IFERROR(VLOOKUP(AK35,Tabelas!B:D,3,0),0),\"\")","v":0},{"$f":"IF(A35<>\"\",IFERROR(VLOOKUP(AL35,Tabelas!B:D,3,0),0),\"\")","v":0},{"$f":"IF(A35<>\"\",IFERROR(VLOOKUP(AM35,Tabelas!B:D,3,0),0),\"\")","v":0},{"$f":"IF(A35<>\"\",IFERROR(VLOOKUP(AN35,Tabelas!B:D,3,0),0),\"\")","v":0},{"$f":"IF(A35<>\"\",IFERROR(VLOOKUP(AO35,Tabelas!B:D,3,0),0),\"\")","v":0},{"$f":"IF(A35<>\"\",IFERROR(VLOOKUP(AP35,Tabelas!B:D,3,0),0),\"\")","v":0},{"$f":"IF(A35<>\"\",IFERROR(VLOOKUP(AQ35,Tabelas!B:D,3,0),0),\"\")","v":0},0,0,0,0,0,0,0,0]
["TOTAL PROFISSIONAIS MATUTINO",null,null,null,null,null,null,null,null,null,null,null,{"$f":"IF(COUNTIF(M9:M35,\"M*\")+ COUNTIF(M9:M35, \"D*\")-COUNTIF(M9:M35,\"DSR\")<>0,COUNTIF(M9:M35,\"M*\")+ COUNTIF(M9:M35, \"D*\")-COUNTIF(M9:M35,\"DSR\"),\"\")","v":""},"","","","","","","","","","","","","","","","","","","","","","","","","","","","","","",null,null,null,null,null,null,null,null,null,null,null,null,null,null,null,null,null,null,null,null,null,null,null,null,null,null,null,null,null,null,null,{"$f":"SUM(BW9:BW35)","v":0},0,0,0,0,0,0,0]
["TOTAL DE PROFISSIONAIS VESPERTINO",null,null,null,null,null,null,null,null,null,null,null,{"$f":"IF(COUNTIF(M9:M35,\"MT*\") + COUNTIF(M9:M35, \"D*\") + COUNTIF(M9:M35,\"T*\")-COUNTIF(M9:M35,\"DSR\")<>0,COUNTIF(M9:M35,\"MT*\") + COUNTIF(M9:M35, \"D*\") + COUNTIF(M9:M35,\"T*\")-COUNTIF(M9:M35,\"DSR\"),\"\")","v":""},"","","","","","","","","","","","","","","","","","","","","","","","","","","","","","",{"$f":"IF(A37<>\"\",IFERROR(VLOOKUP(M37,Tabelas!B:D,3,0),0),\"\")","v":0},{"$f":"IF(A37<>\"\",IFERROR(VLOOKUP(N37,Tabelas!B:D,3,0),0),\"\")","v":0},{"$f":"IF(A37<>\"\",IFERROR(VLOOKUP(O37,Tabelas!B:D,3,0),0),\"\")","v":0},{"$f":"IF(A37<>\"\",IFERROR(VLOOKUP(P37,Tabelas!B:D,3,0),0),\"\")","v":0},{"$f":"IF(A37<>\"\",IFERROR(VLOOKUP(Q37,Tabelas!B:D,3,0),0),\"\")","v":0},{"$f":"IF(A37<>\"\",IFERROR(VLOOKUP(R37,Tabelas!B:D,3,0),0),\"\")","v":0},{"$f":"IF(A37<>\"\",IFERROR(VLOOKUP(S37,Tabelas!B:D,3,0),0),\"\")","v":0},{"$f":"IF(A37<>\"\",IFERROR(VLOOKUP(T37,Tabelas!B:D,3,0),0),\"\")","v":0},{"$f":"IF(A37<>\"\",IFERROR(VLOOKUP(U37,Tabelas!B:D,3,0),0),\"\")","v":0},{"$f":"IF(A37<>\"\",IFERROR(VLOOKUP(V37,Tabelas!B:D,3,0),0),\"\")","v":0},{"$f":"IF(A37<>\"\",IFERROR(VLOOKUP(W37,Tabelas!B:D,3,0),0),\"\")","v":0},{"$f":"IF(A37<>\"\",IFERROR(VLOOKUP(X37,Tabelas!B:D,3,0),0),\"\")","v":0},{"$f":"IF(A37<>\"\",IFERROR(VLOOKUP(Y37,Tabelas!B:D,3,0),0),\"\")","v":0},{"$f":"IF(A37<>\"\",IFERROR(VLOOKUP(Z37,Tabelas!B:D,3,0),0),\"\")","v":0},{"$f":"IF(A37<>\"\",IFERROR(VLOOKUP(AA37,Tabelas!B:D,3,0),0),\"\")","v":0},{"$f":"IF(A37<>\"\",IFERROR(VLOOKUP(AB37,Tabelas!B:D,3,0),0),\"\")","v":0},{"$f":"IF(A37<>\"\",IFERROR(VLOOKUP(AC37,Tabelas!B:D,3,0),0),\"\")","v":0},{"$f":"IF(A37<>\"\",IFERROR(VLOOKUP(AD37,Tabelas!B:D,3,0),0),\"\")","v":0},{"$f":"IF(A37<>\"\",IFERROR(VLOOKUP(AE37,Tabelas!B:D,3,0),0),\"\")","v":0},{"$f":"IF(A37<>\"\",IFERROR(VLOOKUP(AF37,Tabelas!B:D,3,0),0),\"\")","v":0},{"$f":"IF(A37<>\"\",IFERROR(VLOOKUP(AG37,Tabelas!B:D,3,0),0),\"\")","v":0},{"$f":"IF(A37<>\"\",IFERROR(VLOOKUP(AH37,Tabelas!B:D,3,0),0),\"\")","v":0},{"$f":"IF(A37<>\"\",IFERROR(VLOOKUP(AI37,Tabelas!B:D,3,0),0),\"\")","v":0},{"$f":"IF(A37<>\"\",IFERROR(VLOOKUP(AJ37,Tabelas!B:D,3,0),0),\"\")","v":0},{"$f":"IF(A37<>\"\",IFERROR(VLOOKUP(AK37,Tabelas!B:D,3,0),0),\"\")","v":0},{"$f":"IF(A37<>\"\",IFERROR(VLOOKUP(AL37,Tabelas!B:D,3,0),0),\"\")","v":0},{"$f":"IF(A37<>\"\",IFERROR(VLOOKUP(AM37,Tabelas!B:D,3,0),0),\"\")","v":0},{"$f":"IF(A37<>\"\",IFERROR(VLOOKUP(AN37,Tabelas!B:D,3,0),0),\"\")","v":0},{"$f":"IF(A37<>\"\",IFERROR(VLOOKUP(AO37,Tabelas!B:D,3,0),0),\"\")","v":0},{"$f":"IF(A37<>\"\",IFERROR(VLOOKUP(AP37,Tabelas!B:D,3,0),0),\"\")","v":0},{"$f":"IF(A37<>\"\",IFERROR(VLOOKUP(AQ37,Tabelas!B:D,3,0),0),\"\")","v":0}]
["TOTAL DE PROFISSIONAIS NOTURNO",null,null,null,null,null,null,null,null,null,null,null,{"$f":"IF(COUNTIF(M9:M37,\"N?*\") + COUNTIF(M9:M37, \"DN*\")<>0,COUNTIF(M9:M37,\"N?*\") + COUNTIF(M9:M37, \"DN*\"),\"\")","v":""},"","","","","","","","","","","","","","","","","","","","","","","","","","","","","","",{"$f":"IF(A38<>\"\",IFERROR(VLOOKUP(M38,Tabelas!B:D,3,0),0),\"\")","v":0},{"$f":"IF(A38<>\"\",IFERROR(VLOOKUP(N38,Tabelas!B:D,3,0),0),\"\")","v":0},{"$f":"IF(A38<>\"\",IFERROR(VLOOKUP(O38,Tabelas!B:D,3,0),0),\"\")","v":0},{"$f":"IF(A38<>\"\",IFERROR(VLOOKUP(P38,Tabelas!B:D,3,0),0),\"\")","v":0},{"$f":"IF(A38<>\"\",IFERROR(VLOOKUP(Q38,Tabelas!B:D,3,0),0),\"\")","v":0},{"$f":"IF(A38<>\"\",IFERROR(VLOOKUP(R38,Tabelas!B:D,3,0),0),\"\")","v":0},{"$f":"IF(A38<>\"\",IFERROR(VLOOKUP(S38,Tabelas!B:D,3,0),0),\"\")","v":0},{"$f":"IF(A38<>\"\",IFERROR(VLOOKUP(T38,Tabelas!B:D,3,0),0),\"\")","v":0},{"$f":"IF(A38<>\"\",IFERROR(VLOOKUP(U38,Tabelas!B:D,3,0),0),\"\")","v":0},{"$f":"IF(A38<>\"\",IFERROR(VLOOKUP(V38,Tabelas!B:D,3,0),0),\"\")","v":0},{"$f":"IF(A38<>\"\",IFERROR(VLOOKUP(W38,Tabelas!B:D,3,0),0),\"\")","v":0},{"$f":"IF(A38<>\"\",IFERROR(VLOOKUP(X38,Tabelas!B:D,3,0),0),\"\")","v":0},{"$f":"IF(A38<>\"\",IFERROR(VLOOKUP(Y38,Tabelas!B:D,3,0),0),\"\")","v":0},{"$f":"IF(A38<>\"\",IFERROR(VLOOKUP(Z38,Tabelas!B:D,3,0),0),\"\")","v":0},{"$f":"IF(A38<>\"\",IFERROR(VLOOKUP(AA38,Tabelas!B:D,3,0),0),\"\")","v":0},{"$f":"IF(A38<>\"\",IFERROR(VLOOKUP(AB38,Tabelas!B:D,3,0),0),\"\")","v":0},{"$f":"IF(A38<>\"\",IFERROR(VLOOKUP(AC38,Tabelas!B:D,3,0),0),\"\")","v":0},{"$f":"IF(A38<>\"\",IFERROR(VLOOKUP(AD38,Tabelas!B:D,3,0),0),\"\")","v":0},{"$f":"IF(A38<>\"\",IFERROR(VLOOKUP(AE38,Tabelas!B:D,3,0),0),\"\")","v":0},{"$f":"IF(A38<>\"\",IFERROR(VLOOKUP(AF38,Tabelas!B:D,3,0),0),\"\")","v":0},{"$f":"IF(A38<>\"\",IFERROR(VLOOKUP(AG38,Tabelas!B:D,3,0),0),\"\")","v":0},{"$f":"IF(A38<>\"\",IFERROR(VLOOKUP(AH38,Tabelas!B:D,3,0),0),\"\")","v":0},{"$f":"IF(A38<>\"\",IFERROR(VLOOKUP(AI38,Tabelas!B:D,3,0),0),\"\")","v":0},{"$f":"IF(A38<>\"\",IFERROR(VLOOKUP(AJ38,Tabelas!B:D,3,0),0),\"\")","v":0},{"$f":"IF(A38<>\"\",IFERROR(VLOOKUP(AK38,Tabelas!B:D,3,0),0),\"\")","v":0},{"$f":"IF(A38<>\"\",IFERROR(VLOOKUP(AL38,Tabelas!B:D,3,0),0),\"\")","v":0},{"$f":"IF(A38<>\"\",IFERROR(VLOOKUP(AM38,Tabelas!B:D,3,0),0),\"\")","v":0},{"$f":"IF(A38<>\"\",IFERROR(VLOOKUP(AN38,Tabelas!B:D,3,0),0),\"\")","v":0},{"$f":"IF(A38<>\"\",IFERROR(VLOOKUP(AO38,Tabelas!B:D,3,0),0),\"\")","v":0},{"$f":"IF(A38<>\"\",IFERROR(VLOOKUP(AP38,Tabelas!B:D,3,0),0),\"\")","v":0},{"$f":"IF(A38<>\"\",IFERROR(VLOOKUP(AQ38,Tabelas!B:D,3,0),0),\"\")","v":0}]
[null,null,null,null,null,null,null,null,null,null,null,null,null,null,null,null,null,null,null,null,null,null,null,null,null,null,null,null,null,null,null,null,null,null,null,null,null,null,null,null,null,null,null,{"$f":"IF(A39<>\"\",IFERROR(VLOOKUP(M39,Tabelas!B:D,3,0),0),\"\")","v":""},{"$f":"IF(A39<>\"\",IFERROR(VLOOKUP(N39,Tabelas!B:D,3,0),0),\"\")","v":""},{"$f":"IF(A39<>\"\",IFERROR(VLOOKUP(O39,Tabelas!B:D,3,0),0),\"\")","v":""},{"$f":"IF(A39<>\"\",IFERROR(VLOOKUP(P39,Tabelas!B:D,3,0),0),\"\")","v":""},{"$f":"IF(A39<>\"\",IFERROR(VLOOKUP(Q39,Tabelas!B:D,3,0),0),\"\")","v":""},{"$f":"IF(A39<>\"\",IFERROR(VLOOKUP(R39,Tabelas!B:D,3,0),0),\"\")","v":""},{"$f":"IF(A39<>\"\",IFERROR(VLOOKUP(S39,Tabelas!B:D,3,0),0),\"\")","v":""},{"$f":"IF(A39<>\"\",IFERROR(VLOOKUP(T39,Tabelas!B:D,3,0),0),\"\")","v":""},{"$f":"IF(A39<>\"\",IFERROR(VLOOKUP(U39,Tabelas!B:D,3,0),0),\"\")","v":""},{"$f":"IF(A39<>\"\",IFERROR(VLOOKUP(V39,Tabelas!B:D,3,0),0),\"\")","v":""},{"$f":"IF(A39<>\"\",IFERROR(VLOOKUP(W39,Tabelas!B:D,3,0),0),\"\")","v":""},{"$f":"IF(A39<>\"\",IFERROR(VLOOKUP(X39,Tabelas!B:D,3,0),0),\"\")","v":""},{"$f":"IF(A39<>\"\",IFERROR(VLOOKUP(Y39,Tabelas!B:D,3,0),0),\"\")","v":""},{"$f":"IF(A39<>\"\",IFERROR(VLOOKUP(Z39,Tabelas!B:D,3,0),0),\"\")","v":""},{"$f":"IF(A39<>\"\",IFERROR(VLOOKUP(AA39,Tabelas!B:D,3,0),0),\"\")","v":""},{"$f":"IF(A39<>\"\",IFERROR(VLOOKUP(AB39,Tabelas!B:D,3,0),0),\"\")","v":""},{"$f":"IF(A39<>\"\",IFERROR(VLOOKUP(AC39,Tabelas!B:D,3,0),0),\"\")","v":""},{"$f":"IF(A39<>\"\",IFERROR(VLOOKUP(AD39,Tabelas!B:D,3,0),0),\"\")","v":""},{"$f":"IF(A39<>\"\",IFERROR(VLOOKUP(AE39,Tabelas!B:D,3,0),0),\"\")","v":""},{"$f":"IF(A39<>\"\",IFERROR(VLOOKUP(AF39,Tabelas!B:D,3,0),0),\"\")","v":""},{"$f":"IF(A39<>\"\",IFERROR(VLOOKUP(AG39,Tabelas!B:D,3,0),0),\"\")","v":""},{"$f":"IF(A39<>\"\",IFERROR(VLOOKUP(AH39,Tabelas!B:D,3,0),0),\"\")","v":""},{"$f":"IF(A39<>\"\",IFERROR(VLOOKUP(AI39,Tabelas!B:D,3,0),0),\"\")","v":""},{"$f":"IF(A39<>\"\",IFERROR(VLOOKUP(AJ39,Tabelas!B:D,3,0),0),\"\")","v":""},{"$f":"IF(A39<>\"\",IFERROR(VLOOKUP(AK39,Tabelas!B:D,3,0),0),\"\")","v":""},{"$f":"IF(A39<>\"\",IFERROR(VLOOKUP(AL39,Tabelas!B:D,3,0),0),\"\")","v":""},{"$f":"IF(A39<>\"\",IFERROR(VLOOKUP(AM39,Tabelas!B:D,3,0),0),\"\")","v":""},{"$f":"IF(A39<>\"\",IFERROR(VLOOKUP(AN39,Tabelas!B:D,3,0),0),\"\")","v":""},{"$f":"IF(A39<>\"\",IFERROR(VLOOKUP(AO39,Tabelas!B:D,3,0),0),\"\")","v":""},{"$f":"IF(A39<>\"\",IFERROR(VLOOKUP(AP39,Tabelas!B:D,3,0),0),\"\")","v":""},{"$f":"IF(A39<>\"\",IFERROR(VLOOKUP(AQ39,Tabelas!B:D,3,0),0),\"\")","v":""}]
["Legenda:"]
["Licença Maternidade","LM","Férias",null,null,null,null,null,null,"FE",null,"Ponto Facultativo",null,null,null,null,null,null,null,"PF","Manhã *",null,null,null,null,null,null,"M","Diurno (8 hrs) *",null,null,null,null,null,null,"MT"]
["Licença Paternidade","LP","Feriado",null,null,null,null,null,null,"FD",null,"Abono **",null,null,null,null,null,null,null,"AB","Tarde *",null,null,null,null,null,null,"T","Dia/ noite (24 hrs) *",null,null,null,null,null,null,"DN"]
["Licença Médica/Odontológica","L","Descanso Semanal Remunerado",null,null,null,null,null,null,"DSR",null,"Compensação de Horas***",null,null,null,null,null,null,null,"CH","Plantão Dia (12 hrs) *",null,null,null,null,null,null,"D"]
["Licença Capacitação","LC","Recesso",null,null,null,null,null,null,"RC",null,"Afastamento**",null,null,null,null,null,null,null,"AF","Plantão Noite (12 hrs) *",null,null,null,null,null,null,"N"]
[]
["OBSERVAÇÕES:"]
["* Para inserção das legendas referentes às jornadas de trabalho, verificar a Tabela 1 do Anexo do Memorando-Circular - SEI nº   25 /2018/CAP/DGP-EBSERH."]
["** Para inserção das legendas referentes aos Afastamentos previstos em lei e às Compensações de horas, verificar a Tabela 2 do Anexo do Memorando-Circular - SEI nº   25 /2018/CAP/DGP-EBSERH."]

{"sheet":"Agosto","index":7,"n_rows":48,"n_cols":82,"rows_kept":48,"cut":false,"hidden":false,"merged":[[40,20,40,26],[41,2,41,8],[41,9,41,10],[41,11,41,18],[41,20,41,26],[40,2,40,8],[40,9,40,10],[42,20,42,26],[43,2,43,8],[43,9,43,10],[43,11,43,18],[43,20,43,26],[35,0,35,11],[36,0,36,11],[37,0,37,11],[42,2,42,8],[42,9,42,10],[42,11,42,18],[40,11,40,18],[1,0,1,42],[2,0,2,42],[3,0,3,42],[4,1,4,20],[4,23,4,34],[4,37,4,42],[5,6,5,11],[6,76,7,76],[6,77,7,77],[6,78,7,78],[6,79,7,79],[6,6,7,6],[6,7,7,7],[6,8,7,8],[6,11,7,11],[6,9,7,9],[6,10,7,10],[6,80,7,80],[6,81,7,81],[5,12,5,42],[5,43,5,73],[5,75,5,81],[5,74,7,74],[6,75,7,75],[35,79,37,79],[35,80,37,80],[35,81,37,81],[40,28,40,34],[41,28,41,34],[35,74,37,74],[35,75,37,75],[35,76,37,76],[35,77,37,77],[35,78,37,78]]}
[]
[]
["NOME DO HU"]
["ESCALA MENSAL DE TRABALHO"]
["DIVISÃO /SETOR/UNIDADE:",null,null,null,null,null,null,null,null,null,null,null,null,null,null,null,null,null,null,null,null,"MÊS:",null,"Agosto",null,null,null,null,null,null,null,null,null,null,null,"ANO:",null,2019]
["NOME COMPLETO","SIAPE","     Registro Conselho Classe","Cargo","Vínculo","    C.H Sem","INTERVALO",null,null,null,null,null,"DIAS DO MÊS",null,null,null,null,null,null,null,null,null,null,null,null,null,null,null,null,null,null,null,null,null,null,null,null,null,null,null,null,null,null,"CÁLCULO DAS HORAS",null,null,null,null,null,null,null,null,null,null,null,null,null,null,null,null,null,null,null,null,null,null,null,null,null,null,null,null,null,null,"CH Men.","Dias"]
[null,null,null,null,null,null,"15' M","15' T","15' N","1H D","1H N","2H",1,2,3,4,5,6,7,8,9,10,11,12,13,14,15,16,17,18,19,20,21,22,23,24,25,{"$f":"IF(DAY(DATE(AL5,VLOOKUP(X5,Tabelas!M:N,2,0)+1,1)-1)>=26,26,\"\")","v":26},{"$f":"IF(DAY(DATE(AL5,VLOOKUP(X5,Tabelas!M:N,2,0)+1,1)-1)>=27,27,\"\")","v":27},{"$f":"IF(DAY(DATE(AL5,VLOOKUP(X5,Tabelas!M:N,2,0)+1,1)-1)>=28,28,\"\")","v":28},{"$f":"IF(DAY(DATE(AL5,VLOOKUP(X5,Tabelas!M:N,2,0)+1,1)-1)>=29,29,\"\")","v":29},{"$f":"IF(DAY(DATE(AL5,VLOOKUP(X5,Tabelas!M:N,2,0)+1,1)-1)>=30,30,\"\")","v":30},{"$f":"IF(DAY(DATE(AL5,VLOOKUP(X5,Tabelas!M:N,2,0)+1,1)-1)>=31,31,\"\")","v":31},null,null,null,null,null,null,null,null,null,null,null,null,null,null,null,null,null,null,null,null,null,null,null,null,null,null,null,null,null,null,null,null,"LM/LP/L","AB","FE","LC","CH","AF  "," Total Afast."]
[null,null,null,null,null,null,null,null,null,null,null,null,{"$f":"IF(M7<>\"\",IFERROR(VLOOKUP(WEEKDAY(CONCATENATE(M7,$X$5,$AL$5)),Tabelas!$I:$J,2,0),\"\"),\"\")","v":"QUI"},{"$f":"IF(N7<>\"\",IFERROR(VLOOKUP(WEEKDAY(CONCATENATE(N7,$X$5,$AL$5)),Tabelas!$I:$J,2,0),\"\"),\"\")","v":"SEX"},{"$f":"IF(O7<>\"\",IFERROR(VLOOKUP(WEEKDAY(CONCATENATE(O7,$X$5,$AL$5)),Tabelas!$I:$J,2,0),\"\"),\"\")","v":"SAB"},{"$f":"IF(P7<>\"\",IFERROR(VLOOKUP(WEEKDAY(CONCATENATE(P7,$X$5,$AL$5)),Tabelas!$I:$J,2,0),\"\"),\"\")","v":"DOM"},{"$f":"IF(Q7<>\"\",IFERROR(VLOOKUP(WEEKDAY(CONCATENATE(Q7,$X$5,$AL$5)),Tabelas!$I:$J,2,0),\"\"),\"\")","v":"SEG"},{"$f":"IF(R7<>\"\",IFERROR(VLOOKUP(WEEKDAY(CONCATENATE(R7,$X$5,$AL$5)),Tabelas!$I:$J,2,0),\"\"),\"\")","v":"TER"},{"$f":"IF(S7<>\"\",IFERROR(VLOOKUP(WEEKDAY(CONCATENATE(S7,$X$5,$AL$5)),Tabelas!$I:$J,2,0),\"\"),\"\")","v":"QUA"},{"$f":"IF(T7<>\"\",IFERROR(VLOOKUP(WEEKDAY(CONCATENATE(T7,$X$5,$AL$5)),Tabelas!$I:$J,2,0),\"\"),\"\")","v":"QUI"},{"$f":"IF(U7<>\"\",IFERROR(VLOOKUP(WEEKDAY(CONCATENATE(U7,$X$5,$AL$5)),Tabelas!$I:$J,2,0),\"\"),\"\")","v":"SEX"},{"$f":"IF(V7<>\"\",IFERROR(VLOOKUP(WEEKDAY(CONCATENATE(V7,$X$5,$AL$5)),Tabelas!$I:$J,2,0),\"\"),\"\")","v":"SAB"},{"$f":"IF(W7<>\"\",IFERROR(VLOOKUP(WEEKDAY(CONCATENATE(W7,$X$5,$AL$5)),Tabelas!$I:$J,2,0),\"\"),\"\")","v":"DOM"},{"$f":"IF(X7<>\"\",IFERROR(VLOOKUP(WEEKDAY(CONCATENATE(X7,$X$5,$AL$5)),Tabelas!$I:$J,2,0),\"\"),\"\")","v":"SEG"},{"$f":"IF(Y7<>\"\",IFERROR(VLOOKUP(WEEKDAY(CONCATENATE(Y7,$X$5,$AL$5)),Tabelas!$I:$J,2,0),\"\"),\"\")","v":"TER"},{"$f":"IF(Z7<>\"\",IFERROR(VLOOKUP(WEEKDAY(CONCATENATE(Z7,$X$5,$AL$5)),Tabelas!$I:$J,2,0),\"\"),\"\")","v":"QUA"},{"$f":"IF(AA7<>\"\",IFERROR(VLOOKUP(WEEKDAY(CONCATENATE(AA7,$X$5,$AL$5)),Tabelas!$I:$J,2,0),\"\"),\"\")","v":"QUI"},{"$f":"IF(AB7<>\"\",IFERROR(VLOOKUP(WEEKDAY(CONCATENATE(AB7,$X$5,$AL$5)),Tabelas!$I:$J,2,0),\"\"),\"\")","v":"SEX"},{"$f":"IF(AC7<>\"\",IFERROR(VLOOKUP(WEEKDAY(CONCATENATE(AC7,$X$5,$AL$5)),Tabelas!$I:$J,2,0),\"\"),\"\")","v":"SAB"},{"$f":"IF(AD7<>\"\",IFERROR(VLOOKUP(WEEKDAY(CONCATENATE(AD7,$X$5,$AL$5)),Tabelas!$I:$J,2,0),\"\"),\"\")","v":"DOM"},{"$f":"IF(AE7<>\"\",IFERROR(VLOOKUP(WEEKDAY(CONCATENATE(AE7,$X$5,$AL$5)),Tabelas!$I:$J,2,0),\"\"),\"\")","v":"SEG"},{"$f":"IF(AF7<>\"\",IFERROR(VLOOKUP(WEEKDAY(CONCATENATE(AF7,$X$5,$AL$5)),Tabelas!$I:$J,2,0),\"\"),\"\")","v":"TER"},{"$f":"IF(AG7<>\"\",IFERROR(VLOOKUP(WEEKDAY(CONCATENATE(AG7,$X$5,$AL$5)),Tabelas!$I:$J,2,0),\"\"),\"\")","v":"QUA"},{"$f":"IF(AH7<>\"\",IFERROR(VLOOKUP(WEEKDAY(CONCATENATE(AH7,$X$5,$AL$5)),Tabelas!$I:$J,2,0),\"\"),\"\")","v":"QUI"},{"$f":"IF(AI7<>\"\",IFERROR(VLOOKUP(WEEKDAY(CONCATENATE(AI7,$X$5,$AL$5)),Tabelas!$I:$J,2,0),\"\"),\"\")","v":"SEX"},{"$f":"IF(AJ7<>\"\",IFERROR(VLOOKUP(WEEKDAY(CONCATENATE(AJ7,$X$5,$AL$5)),Tabelas!$I:$J,2,0),\"\"),\"\")","v":"SAB"},{"$f":"IF(AK7<>\"\",IFERROR(VLOOKUP(WEEKDAY(CONCATENATE(AK7,$X$5,$AL$5)),Tabelas!$I:$J,2,0),\"\"),\"\")","v":"DOM"},{"$f":"IF(AL7<>\"\",IFERROR(VLOOKUP(WEEKDAY(CONCATENATE(AL7,$X$5,$AL$5)),Tabelas!$I:$J,2,0),\"\"),\"\")","v":"SEG"},{"$f":"IF(AM7<>\"\",IFERROR(VLOOKUP(WEEKDAY(CONCATENATE(AM7,$X$5,$AL$5)),Tabelas!$I:$J,2,0),\"\"),\"\")","v":"TER"},{"$f":"IF(AN7<>\"\",IFERROR(VLOOKUP(WEEKDAY(CONCATENATE(AN7,$X$5,$AL$5)),Tabelas!$I:$J,2,0),\"\"),\"\")","v":"QUA"},{"$f":"IF(AO7<>\"\",IFERROR(VLOOKUP(WEEKDAY(CONCATENATE(AO7,$X$5,$AL$5)),Tabelas!$I:$J,2,0),\"\"),\"\")","v":"QUI"},{"$f":"IF(AP7<>\"\",IFERROR(VLOOKUP(WEEKDAY(CONCATENATE(AP7,$X$5,$AL$5)),Tabelas!$I:$J,2,0),\"\"),\"\")","v":"SEX"},{"$f":"IF(AQ7<>\"\",IFERROR(VLOOKUP(WEEKDAY(CONCATENATE(AQ7,$X$5,$AL$5)),Tabelas!$I:$J,2,0),\"\"),\"\")","v":"SAB"},1,2,3,4,5,6,7,8,9,10,11,12,13,14,15,16,17,18,19,20,21,22,23,24,25,26,27,28,29,30,31]
["FULANO 1",1,null,null,null,null,null,null,null,null,null,null,null,null,null,null,null,null,null,null,null,null,null,null,null,null,null,null,null,null,null,null,null,null,null,null,null,null,null,null,null,null,null,{"$f":"IF(A9<>\"\",IFERROR(VLOOKUP(M9,Tabelas!B:D,3,0),0),\"\")","v":0},{"$f":"IF(A9<>\"\",IFERROR(VLOOKUP(N9,Tabelas!B:D,3,0),0),\"\")","v":0},{"$f":"IF(A9<>\"\",IFERROR(VLOOKUP(O9,Tabelas!B:D,3,0),0),\"\")","v":0},{"$f":"IF(A9<>\"\",IFERROR(VLOOKUP(P9,Tabelas!B:D,3,0),0),\"\")","v":0},{"$f":"IF(A9<>\"\",IFERROR(VLOOKUP(Q9,Tabelas!B:D,3,0),0),\"\")","v":0},{"$f":"IF(A9<>\"\",IFERROR(VLOOKUP(R9,Tabelas!B:D,3,0),0),\"\")","v":0},{"$f":"IF(A9<>\"\",IFERROR(VLOOKUP(S9,Tabelas!B:D,3,0),0),\"\")","v":0},{"$f":"IF(A9<>\"\",IFERROR(VLOOKUP(T9,Tabelas!B:D,3,0),0),\"\")","v":0},{"$f":"IF(A9<>\"\",IFERROR(VLOOKUP(U9,Tabelas!B:D,3,0),0),\"\")","v":0},{"$f":"IF(A9<>\"\",IFERROR(VLOOKUP(V9,Tabelas!B:D,3,0),0),\"\")","v":0},{"$f":"IF(A9<>\"\",IFERROR(VLOOKUP(W9,Tabelas!B:D,3,0),0),\"\")","v":0},{"$f":"IF(A9<>\"\",IFERROR(VLOOKUP(X9,Tabelas!B:D,3,0),0),\"\")","v":0},{"$f":"IF(A9<>\"\",IFERROR(VLOOKUP(Y9,Tabelas!B:D,3,0),0),\"\")","v":0},{"$f":"IF(A9<>\"\",IFERROR(VLOOKUP(Z9,Tabelas!B:D,3,0),0),\"\")","v":0},{"$f":"IF(A9<>\"\",IFERROR(VLOOKUP(AA9,Tabelas!B:D,3,0),0),\"\")","v":0},{"$f":"IF(A9<>\"\",IFERROR(VLOOKUP(AB9,Tabelas!B:D,3,0),0),\"\")","v":0},{"$f":"IF(A9<>\"\",IFERROR(VLOOKUP(AC9,Tabelas!B:D,3,0),0),\"\")","v":0},{"$f":"IF(A9<>\"\",IFERROR(VLOOKUP(AD9,Tabelas!B:D,3,0),0),\"\")","v":0},{"$f":"IF(A9<>\"\",IFERROR(VLOOKUP(AE9,Tabelas!B:D,3,0),0),\"\")","v":0},{"$f":"IF(A9<>\"\",IFERROR(VLOOKUP(AF9,Tabelas!B:D,3,0),0),\"\")","v":0},{"$f":"IF(A9<>\"\",IFERROR(VLOOKUP(AG9,Tabelas!B:D,3,0),0),\"\")","v":0},{"$f":"IF(A9<>\"\",IFERROR(VLOOKUP(AH9,Tabelas!B:D,3,0),0),\"\")","v":0},{"$f":"IF(A9<>\"\",IFERROR(VLOOKUP(AI9,Tabelas!B:D,3,0),0),\"\")","v":0},{"$f":"IF(A9<>\"\",IFERROR(VLOOKUP(AJ9,Tabelas!B:D,3,0),0),\"\")","v":0},{"$f":"IF(A9<>\"\",IFERROR(VLOOKUP(AK9,Tabelas!B:D,3,0),0),\"\")","v":0},{"$f":"IF(A9<>\"\",IFERROR(VLOOKUP(AL9,Tabelas!B:D,3,0),0),\"\")","v":0},{"$f":"IF(A9<>\"\",IFERROR(VLOOKUP(AM9,Tabelas!B:D,3,0),0),\"\")","v":0},{"$f":"IF(A9<>\"\",IFERROR(VLOOKUP(AN9,Tabelas!B:D,3,0),0),\"\")","v":0},{"$f":"IF(A9<>\"\",IFERROR(VLOOKUP(AO9,Tabelas!B:D,3,0),0),\"\")","v":0},{"$f":"IF(A9<>\"\",IFERROR(VLOOKUP(AP9,Tabelas!B:D,3,0),0),\"\")","v":0},{"$f":"IF(A9<>\"\",IFERROR(VLOOKUP(AQ9,Tabelas!B:D,3,0),0),\"\")","v":0},{"$f":"IF(AND(A9<>\"\",E9=\"Ebserh\"),SUM(AR9:BV9)+COUNTIF(M9:AQ9,\"N*\")+COUNTIF(M9:AQ9,\"DN*\"),IF(AND(A9<>\"\",E9<>\"Ebserh\"),SUM(AR9:BV9),\"\"))","v":0},{"$f":"IF(A9<>\"\",COUNTIF(M9:AQ9,\"LM\")+COUNTIF(M9:AQ9,\"L\")+COUNTIF(M9:AQ9,\"LP\"),\"\")","v":0},{"$f":"IF(A9<>\"\",COUNTIF(M9:AQ9,\"AB*\"),\"\")","v":0},{"$f":"IF(A9<>\"\",COUNTIF(M9:AQ9,\"FE\"),\"\")","v":0},{"$f":"IF(A9<>\"\",COUNTIF(M9:AQ9,\"LC\"),\"\")","v":0},{"$f":"IF(A9<>\"\",COUNTIF(M9:AQ9,\"CH*\"),\"\")","v":0},{"$f":"IF(A9<>\"\",COUNTIF(M9:AQ9,\"AF1\")+COUNTIF(M9:AQ9,\"AF2\")+COUNTIF(M9:AQ9,\"AF3\")+COUNTIF(M9:AQ9,\"AF4\")+COUNTIF(M9:AQ9,\"AF5\")+COUNTIF(M9:AQ9,\"AF6\")+COUNTIF(M9:AQ9,\"AF7\")+COUNTIF(M9:AQ9,\"AF8\")+COUNTIF(M9:AQ9,\"AF9\")+COUNTIF(M9:AQ9,\"AF10\")+COUNTIF(M9:AQ9,\"AF11\")+COUNTIF(M9:AQ9,\"AF12\")+COUNTIF(M9:AQ9,\"AF13\")+COUNTIF(M9:AQ9,\"AF14\"),\"\")","v":0},{"$f":"IF(A9<>\"\",COUNTIF(M9:AQ9,\"CH*\")+COUNTIF(M9:AQ9,\"L\")+COUNTIF(M9:AQ9,\"LM\")+COUNTIF(M9:AQ9,\"LP\")+COUNTIF(M9:AQ9,\"LC\")+COUNTIF(M9:AQ9,\"AB*\")+COUNTIF(M9:AQ9,\"AF1\")+COUNTIF(M9:AQ9,\"AF2\")+COUNTIF(M9:AQ9,\"AF3\")+COUNTIF(M9:AQ9,\"AF4\")+COUNTIF(M9:AQ9,\"AF5\")+COUNTIF(M9:AQ9,\"AF6\")+COUNTIF(M9:AQ9,\"AF7\")+COUNTIF(M9:AQ9,\"AF8\")+COUNTIF(M9:AQ9,\"AF9\")+COUNTIF(M9:AQ9,\"AF10\")+COUNTIF(M9:AQ9,\"AF11\")+COUNTIF(M9:AQ9,\"AF12\")+COUNTIF(M9:AQ9,\"AF13\")+COUNTIF(M9:AQ9,\"AF14\")+COUNTIF(M9:AQ9,\"RC\")+COUNTIF(M9:AQ9,\"FO\")+COUNTIF(M9:AQ9,\"FE\"),\"\")","v":0}]
["FULANO 2",2,null,null,null,null,null,null,null,null,null,null,null,null,null,null,null,null,null,null,null,null,null,null,null,null,null,null,null,null,null,null,null,null,null,null,null,null,null,null,null,null,null,{"$f":"IF(A10<>\"\",IFERROR(VLOOKUP(M10,Tabelas!B:D,3,0),0),\"\")","v":0},{"$f":"IF(A10<>\"\",IFERROR(VLOOKUP(N10,Tabelas!B:D,3,0),0),\"\")","v":0},{"$f":"IF(A10<>\"\",IFERROR(VLOOKUP(O10,Tabelas!B:D,3,0),0),\"\")","v":0},{"$f":"IF(A10<>\"\",IFERROR(VLOOKUP(P10,Tabelas!B:D,3,0),0),\"\")","v":0},{"$f":"IF(A10<>\"\",IFERROR(VLOOKUP(Q10,Tabelas!B:D,3,0),0),\"\")","v":0},{"$f":"IF(A10<>\"\",IFERROR(VLOOKUP(R10,Tabelas!B:D,3,0),0),\"\")","v":0},{"$f":"IF(A10<>\"\",IFERROR(VLOOKUP(S10,Tabelas!B:D,3,0),0),\"\")","v":0},{"$f":"IF(A10<>\"\",IFERROR(VLOOKUP(T10,Tabelas!B:D,3,0),0),\"\")","v":0},{"$f":"IF(A10<>\"\",IFERROR(VLOOKUP(U10,Tabelas!B:D,3,0),0),\"\")","v":0},{"$f":"IF(A10<>\"\",IFERROR(VLOOKUP(V10,Tabelas!B:D,3,0),0),\"\")","v":0},{"$f":"IF(A10<>\"\",IFERROR(VLOOKUP(W10,Tabelas!B:D,3,0),0),\"\")","v":0},{"$f":"IF(A10<>\"\",IFERROR(VLOOKUP(X10,Tabelas!B:D,3,0),0),\"\")","v":0},{"$f":"IF(A10<>\"\",IFERROR(VLOOKUP(Y10,Tabelas!B:D,3,0),0),\"\")","v":0},{"$f":"IF(A10<>\"\",IFERROR(VLOOKUP(Z10,Tabelas!B:D,3,0),0),\"\")","v":0},{"$f":"IF(A10<>\"\",IFERROR(VLOOKUP(AA10,Tabelas!B:D,3,0),0),\"\")","v":0},{"$f":"IF(A10<>\"\",IFERROR(VLOOKUP(AB10,Tabelas!B:D,3,0),0),\"\")","v":0},{"$f":"IF(A10<>\"\",IFERROR(VLOOKUP(AC10,Tabelas!B:D,3,0),0),\"\")","v":0},{"$f":"IF(A10<>\"\",IFERROR(VLOOKUP(AD10,Tabelas!B:D,3,0),0),\"\")","v":0},{"$f":"IF(A10<>\"\",IFERROR(VLOOKUP(AE10,Tabelas!B:D,3,0),0),\"\")","v":0},{"$f":"IF(A10<>\"\",IFERROR(VLOOKUP(AF10,Tabelas!B:D,3,0),0),\"\")","v":0},{"$f":"IF(A10<>\"\",IFERROR(VLOOKUP(AG10,Tabelas!B:D,3,0),0),\"\")","v":0},{"$f":"IF(A10<>\"\",IFERROR(VLOOKUP(AH10,Tabelas!B:D,3,0),0),\"\")","v":0},{"$f":"IF(A10<>\"\",IFERROR(VLOOKUP(AI10,Tabelas!B:D,3,0),0),\"\")","v":0},{"$f":"IF(A10<>\"\",IFERROR(VLOOKUP(AJ10,Tabelas!B:D,3,0),0),\"\")","v":0},{"$f":"IF(A10<>\"\",IFERROR(VLOOKUP(AK10,Tabelas!B:D,3,0),0),\"\")","v":0},{"$f":"IF(A10<>\"\",IFERROR(VLOOKUP(AL10,Tabelas!B:D,3,0),0),\"\")","v":0},{"$f":"IF(A10<>\"\",IFERROR(VLOOKUP(AM10,Tabelas!B:D,3,0),0),\"\")","v":0},{"$f":"IF(A10<>\"\",IFERROR(VLOOKUP(AN10,Tabelas!B:D,3,0),0),\"\")","v":0},{"$f":"IF(A10<>\"\",IFERROR(VLOOKUP(AO10,Tabelas!B:D,3,0),0),\"\")","v":0},{"$f":"IF(A10<>\"\",IFERROR(VLOOKUP(AP10,Tabelas!B:D,3,0),0),\"\")","v":0},{"$f":"IF(A10<>\"\",IFERROR(VLOOKUP(AQ10,Tabelas!B:D,3,0),0),\"\")","v":0},0,0,0,0,0,0,0,0]
["FULANO 3",3,null,null,null,null,null,null,null,null,null,null,null,null,null,null,null,null,null,null,null,null,null,null,null,null,null,null,null,null,null,null,null,null,null,null,null,null,null,null,null,null,null,{"$f":"IF(A11<>\"\",IFERROR(VLOOKUP(M11,Tabelas!B:D,3,0),0),\"\")","v":0},{"$f":"IF(A11<>\"\",IFERROR(VLOOKUP(N11,Tabelas!B:D,3,0),0),\"\")","v":0},{"$f":"IF(A11<>\"\",IFERROR(VLOOKUP(O11,Tabelas!B:D,3,0),0),\"\")","v":0},{"$f":"IF(A11<>\"\",IFERROR(VLOOKUP(P11,Tabelas!B:D,3,0),0),\"\")","v":0},{"$f":"IF(A11<>\"\",IFERROR(VLOOKUP(Q11,Tabelas!B:D,3,0),0),\"\")","v":0},{"$f":"IF(A11<>\"\",IFERROR(VLOOKUP(R11,Tabelas!B:D,3,0),0),\"\")","v":0},{"$f":"IF(A11<>\"\",IFERROR(VLOOKUP(S11,Tabelas!B:D,3,0),0),\"\")","v":0},{"$f":"IF(A11<>\"\",IFERROR(VLOOKUP(T11,Tabelas!B:D,3,0),0),\"\")","v":0},{"$f":"IF(A11<>\"\",IFERROR(VLOOKUP(U11,Tabelas!B:D,3,0),0),\"\")","v":0},{"$f":"IF(A11<>\"\",IFERROR(VLOOKUP(V11,Tabelas!B:D,3,0),0),\"\")","v":0},{"$f":"IF(A11<>\"\",IFERROR(VLOOKUP(W11,Tabelas!B:D,3,0),0),\"\")","v":0},{"$f":"IF(A11<>\"\",IFERROR(VLOOKUP(X11,Tabelas!B:D,3,0),0),\"\")","v":0},{"$f":"IF(A11<>\"\",IFERROR(VLOOKUP(Y11,Tabelas!B:D,3,0),0),\"\")","v":0},{"$f":"IF(A11<>\"\",IFERROR(VLOOKUP(Z11,Tabelas!B:D,3,0),0),\"\")","v":0},{"$f":"IF(A11<>\"\",IFERROR(VLOOKUP(AA11,Tabelas!B:D,3,0),0),\"\")","v":0},{"$f":"IF(A11<>\"\",IFERROR(VLOOKUP(AB11,Tabelas!B:D,3,0),0),\"\")","v":0},{"$f":"IF(A11<>\"\",IFERROR(VLOOKUP(AC11,Tabelas!B:D,3,0),0),\"\")","v":0},{"$f":"IF(A11<>\"\",IFERROR(VLOOKUP(AD11,Tabelas!B:D,3,0),0),\"\")","v":0},{"$f":"IF(A11<>\"\",IFERROR(VLOOKUP(AE11,Tabelas!B:D,3,0),0),\"\")","v":0},{"$f":"IF(A11<>\"\",IFERROR(VLOOKUP(AF11,Tabelas!B:D,3,0),0),\"\")","v":0},{"$f":"IF(A11<>\"\",IFERROR(VLOOKUP(AG11,Tabelas!B:D,3,0),0),\"\")","v":0},{"$f":"IF(A11<>\"\",IFERROR(VLOOKUP(AH11,Tabelas!B:D,3,0),0),\"\")","v":0},{"$f":"IF(A11<>\"\",IFERROR(VLOOKUP(AI11,Tabelas!B:D,3,0),0),\"\")","v":0},{"$f":"IF(A11<>\"\",IFERROR(VLOOKUP(AJ11,Tabelas!B:D,3,0),0),\"\")","v":0},{"$f":"IF(A11<>\"\",IFERROR(VLOOKUP(AK11,Tabelas!B:D,3,0),0),\"\")","v":0},{"$f":"IF(A11<>\"\",IFERROR(VLOOKUP(AL11,Tabelas!B:D,3,0),0),\"\")","v":0},{"$f":"IF(A11<>\"\",IFERROR(VLOOKUP(AM11,Tabelas!B:D,3,0),0),\"\")","v":0},{"$f":"IF(A11<>\"\",IFERROR(VLOOKUP(AN11,Tabelas!B:D,3,0),0),\"\")","v":0},{"$f":"IF(A11<>\"\",IFERROR(VLOOKUP(AO11,Tabelas!B:D,3,0),0),\"\")","v":0},{"$f":"IF(A11<>\"\",IFERROR(VLOOKUP(AP11,Tabelas!B:D,3,0),0),\"\")","v":0},{"$f":"IF(A11<>\"\",IFERROR(VLOOKUP(AQ11,Tabelas!B:D,3,0),0),\"\")","v":0},0,0,0,0,0,0,0,0]
["FULANO 4",4,null,null,null,null,null,null,null,null,null,null,null,null,null,null,null,null,null,null,null,null,null,null,null,null,null,null,null,null,null,null,null,null,null,null,null,null,null,null,null,null,null,{"$f":"IF(A12<>\"\",IFERROR(VLOOKUP(M12,Tabelas!B:D,3,0),0),\"\")","v":0},{"$f":"IF(A12<>\"\",IFERROR(VLOOKUP(N12,Tabelas!B:D,3,0),0),\"\")","v":0},{"$f":"IF(A12<>\"\",IFERROR(VLOOKUP(O12,Tabelas!B:D,3,0),0),\"\")","v":0},{"$f":"IF(A12<>\"\",IFERROR(VLOOKUP(P12,Tabelas!B:D,3,0),0),\"\")","v":0},{"$f":"IF(A12<>\"\",IFERROR(VLOOKUP(Q12,Tabelas!B:D,3,0),0),\"\")","v":0},{"$f":"IF(A12<>\"\",IFERROR(VLOOKUP(R12,Tabelas!B:D,3,0),0),\"\")","v":0},{"$f":"IF(A12<>\"\",IFERROR(VLOOKUP(S12,Tabelas!B:D,3,0),0),\"\")","v":0},{"$f":"IF(A12<>\"\",IFERROR(VLOOKUP(T12,Tabelas!B:D,3,0),0),\"\")","v":0},{"$f":"IF(A12<>\"\",IFERROR(VLOOKUP(U12,Tabelas!B:D,3,0),0),\"\")","v":0},{"$f":"IF(A12<>\"\",IFERROR(VLOOKUP(V12,Tabelas!B:D,3,0),0),\"\")","v":0},{"$f":"IF(A12<>\"\",IFERROR(VLOOKUP(W12,Tabelas!B:D,3,0),0),\"\")","v":0},{"$f":"IF(A12<>\"\",IFERROR(VLOOKUP(X12,Tabelas!B:D,3,0),0),\"\")","v":0},{"$f":"IF(A12<>\"\",IFERROR(VLOOKUP(Y12,Tabelas!B:D,3,0),0),\"\")","v":0},{"$f":"IF(A12<>\"\",IFERROR(VLOOKUP(Z12,Tabelas!B:D,3,0),0),\"\")","v":0},{"$f":"IF(A12<>\"\",IFERROR(VLOOKUP(AA12,Tabelas!B:D,3,0),0),\"\")","v":0},{"$f":"IF(A12<>\"\",IFERROR(VLOOKUP(AB12,Tabelas!B:D,3,0),0),\"\")","v":0},{"$f":"IF(A12<>\"\",IFERROR(VLOOKUP(AC12,Tabelas!B:D,3,0),0),\"\")","v":0},{"$f":"IF(A12<>\"\",IFERROR(VLOOKUP(AD12,Tabelas!B:D,3,0),0),\"\")","v":0},{"$f":"IF(A12<>\"\",IFERROR(VLOOKUP(AE12,Tabelas!B:D,3,0),0),\"\")","v":0},{"$f":"IF(A12<>\"\",IFERROR(VLOOKUP(AF12,Tabelas!B:D,3,0),0),\"\")","v":0},{"$f":"IF(A12<>\"\",IFERROR(VLOOKUP(AG12,Tabelas!B:D,3,0),0),\"\")","v":0},{"$f":"IF(A12<>\"\",IFERROR(VLOOKUP(AH12,Tabelas!B:D,3,0),0),\"\")","v":0},{"$f":"IF(A12<>\"\",IFERROR(VLOOKUP(AI12,Tabelas!B:D,3,0),0),\"\")","v":0},{"$f":"IF(A12<>\"\",IFERROR(VLOOKUP(AJ12,Tabelas!B:D,3,0),0),\"\")","v":0},{"$f":"IF(A12<>\"\",IFERROR(VLOOKUP(AK12,Tabelas!B:D,3,0),0),\"\")","v":0},{"$f":"IF(A12<>\"\",IFERROR(VLOOKUP(AL12,Tabelas!B:D,3,0),0),\"\")","v":0},{"$f":"IF(A12<>\"\",IFERROR(VLOOKUP(AM12,Tabelas!B:D,3,0),0),\"\")","v":0},{"$f":"IF(A12<>\"\",IFERROR(VLOOKUP(AN12,Tabelas!B:D,3,0),0),\"\")","v":0},{"$f":"IF(A12<>\"\",IFERROR(VLOOKUP(AO12,Tabelas!B:D,3,0),0),\"\")","v":0},{"$f":"IF(A12<>\"\",IFERROR(VLOOKUP(AP12,Tabelas!B:D,3,0),0),\"\")","v":0},{"$f":"IF(A12<>\"\",IFERROR(VLOOKUP(AQ12,Tabelas!B:D,3,0),0),\"\")","v":0},0,0,0,0,0,0,0,0]
["FULANO 5",5,null,null,null,null,null,null,null,null,null,null,null,null,null,null,null,null,null,null,null,null,null,null,null,null,null,null,null,null,null,null,null,null,null,null,null,null,null,null,null,null,null,{"$f":"IF(A13<>\"\",IFERROR(VLOOKUP(M13,Tabelas!B:D,3,0),0),\"\")","v":0},{"$f":"IF(A13<>\"\",IFERROR(VLOOKUP(N13,Tabelas!B:D,3,0),0),\"\")","v":0},{"$f":"IF(A13<>\"\",IFERROR(VLOOKUP(O13,Tabelas!B:D,3,0),0),\"\")","v":0},{"$f":"IF(A13<>\"\",IFERROR(VLOOKUP(P13,Tabelas!B:D,3,0),0),\"\")","v":0},{"$f":"IF(A13<>\"\",IFERROR(VLOOKUP(Q13,Tabelas!B:D,3,0),0),\"\")","v":0},{"$f":"IF(A13<>\"\",IFERROR(VLOOKUP(R13,Tabelas!B:D,3,0),0),\"\")","v":0},{"$f":"IF(A13<>\"\",IFERROR(VLOOKUP(S13,Tabelas!B:D,3,0),0),\"\")","v":0},{"$f":"IF(A13<>\"\",IFERROR(VLOOKUP(T13,Tabelas!B:D,3,0),0),\"\")","v":0},{"$f":"IF(A13<>\"\",IFERROR(VLOOKUP(U13,Tabelas!B:D,3,0),0),\"\")","v":0},{"$f":"IF(A13<>\"\",IFERROR(VLOOKUP(V13,Tabelas!B:D,3,0),0),\"\")","v":0},{"$f":"IF(A13<>\"\",IFERROR(VLOOKUP(W13,Tabelas!B:D,3,0),0),\"\")","v":0},{"$f":"IF(A13<>\"\",IFERROR(VLOOKUP(X13,Tabelas!B:D,3,0),0),\"\")","v":0},{"$f":"IF(A13<>\"\",IFERROR(VLOOKUP(Y13,Tabelas!B:D,3,0),0),\"\")","v":0},{"$f":"IF(A13<>\"\",IFERROR(VLOOKUP(Z13,Tabelas!B:D,3,0),0),\"\")","v":0},{"$f":"IF(A13<>\"\",IFERROR(VLOOKUP(AA13,Tabelas!B:D,3,0),0),\"\")","v":0},{"$f":"IF(A13<>\"\",IFERROR(VLOOKUP(AB13,Tabelas!B:D,3,0),0),\"\")","v":0},{"$f":"IF(A13<>\"\",IFERROR(VLOOKUP(AC13,Tabelas!B:D,3,0),0),\"\")","v":0},{"$f":"IF(A13<>\"\",IFERROR(VLOOKUP(AD13,Tabelas!B:D,3,0),0),\"\")","v":0},{"$f":"IF(A13<>\"\",IFERROR(VLOOKUP(AE13,Tabelas!B:D,3,0),0),\"\")","v":0},{"$f":"IF(A13<>\"\",IFERROR(VLOOKUP(AF13,Tabelas!B:D,3,0),0),\"\")","v":0},{"$f":"IF(A13<>\"\",IFERROR(VLOOKUP(AG13,Tabelas!B:D,3,0),0),\"\")","v":0},{"$f":"IF(A13<>\"\",IFERROR(VLOOKUP(AH13,Tabelas!B:D,3,0),0),\"\")","v":0},{"$f":"IF(A13<>\"\",IFERROR(VLOOKUP(AI13,Tabelas!B:D,3,0),0),\"\")","v":0},{"$f":"IF(A13<>\"\",IFERROR(VLOOKUP(AJ13,Tabelas!B:D,3,0),0),\"\")","v":0},{"$f":"IF(A13<>\"\",IFERROR(VLOOKUP(AK13,Tabelas!B:D,3,0),0),\"\")","v":0},{"$f":"IF(A13<>\"\",IFERROR(VLOOKUP(AL13,Tabelas!B:D,3,0),0),\"\")","v":0},{"$f":"IF(A13<>\"\",IFERROR(VLOOKUP(AM13,Tabelas!B:D,3,0),0),\"\")","v":0},{"$f":"IF(A13<>\"\",IFERROR(VLOOKUP(AN13,Tabelas!B:D,3,0),0),\"\")","v":0},{"$f":"IF(A13<>\"\",IFERROR(VLOOKUP(AO13,Tabelas!B:D,3,0),0),\"\")","v":0},{"$f":"IF(A13<>\"\",IFERROR(VLOOKUP(AP13,Tabelas!B:D,3,0),0),\"\")","v":0},{"$f":"IF(A13<>\"\",IFERROR(VLOOKUP(AQ13,Tabelas!B:D,3,0),0),\"\")","v":0},0,0,0,0,0,0,0,0]
["FULANO 6",6,null,null,null,null,null,null,null,null,null,null,null,null,null,null,null,null,null,null,null,null,null,null,null,null,null,null,null,null,null,null,null,null,null,null,null,null,null,null,null,null,null,{"$f":"IF(A14<>\"\",IFERROR(VLOOKUP(M14,Tabelas!B:D,3,0),0),\"\")","v":0},{"$f":"IF(A14<>\"\",IFERROR(VLOOKUP(N14,Tabelas!B:D,3,0),0),\"\")","v":0},{"$f":"IF(A14<>\"\",IFERROR(VLOOKUP(O14,Tabelas!B:D,3,0),0),\"\")","v":0},{"$f":"IF(A14<>\"\",IFERROR(VLOOKUP(P14,Tabelas!B:D,3,0),0),\"\")","v":0},{"$f":"IF(A14<>\"\",IFERROR(VLOOKUP(Q14,Tabelas!B:D,3,0),0),\"\")","v":0},{"$f":"IF(A14<>\"\",IFERROR(VLOOKUP(R14,Tabelas!B:D,3,0),0),\"\")","v":0},{"$f":"IF(A14<>\"\",IFERROR(VLOOKUP(S14,Tabelas!B:D,3,0),0),\"\")","v":0},{"$f":"IF(A14<>\"\",IFERROR(VLOOKUP(T14,Tabelas!B:D,3,0),0),\"\")","v":0},{"$f":"IF(A14<>\"\",IFERROR(VLOOKUP(U14,Tabelas!B:D,3,0),0),\"\")","v":0},{"$f":"IF(A14<>\"\",IFERROR(VLOOKUP(V14,Tabelas!B:D,3,0),0),\"\")","v":0},{"$f":"IF(A14<>\"\",IFERROR(VLOOKUP(W14,Tabelas!B:D,3,0),0),\"\")","v":0},{"$f":"IF(A14<>\"\",IFERROR(VLOOKUP(X14,Tabelas!B:D,3,0),0),\"\")","v":0},{"$f":"IF(A14<>\"\",IFERROR(VLOOKUP(Y14,Tabelas!B:D,3,0),0),\"\")","v":0},{"$f":"IF(A14<>\"\",IFERROR(VLOOKUP(Z14,Tabelas!B:D,3,0),0),\"\")","v":0},{"$f":"IF(A14<>\"\",IFERROR(VLOOKUP(AA14,Tabelas!B:D,3,0),0),\"\")","v":0},{"$f":"IF(A14<>\"\",IFERROR(VLOOKUP(AB14,Tabelas!B:D,3,0),0),\"\")","v":0},{"$f":"IF(A14<>\"\",IFERROR(VLOOKUP(AC14,Tabelas!B:D,3,0),0),\"\")","v":0},{"$f":"IF(A14<>\"\",IFERROR(VLOOKUP(AD14,Tabelas!B:D,3,0),0),\"\")","v":0},{"$f":"IF(A14<>\"\",IFERROR(VLOOKUP(AE14,Tabelas!B:D,3,0),0),\"\")","v":0},{"$f":"IF(A14<>\"\",IFERROR(VLOOKUP(AF14,Tabelas!B:D,3,0),0),\"\")","v":0},{"$f":"IF(A14<>\"\",IFERROR(VLOOKUP(AG14,Tabelas!B:D,3,0),0),\"\")","v":0},{"$f":"IF(A14<>\"\",IFERROR(VLOOKUP(AH14,Tabelas!B:D,3,0),0),\"\")","v":0},{"$f":"IF(A14<>\"\",IFERROR(VLOOKUP(AI14,Tabelas!B:D,3,0),0),\"\")","v":0},{"$f":"IF(A14<>\"\",IFERROR(VLOOKUP(AJ14,Tabelas!B:D,3,0),0),\"\")","v":0},{"$f":"IF(A14<>\"\",IFERROR(VLOOKUP(AK14,Tabelas!B:D,3,0),0),\"\")","v":0},{"$f":"IF(A14<>\"\",IFERROR(VLOOKUP(AL14,Tabelas!B:D,3,0),0),\"\")","v":0},{"$f":"IF(A14<>\"\",IFERROR(VLOOKUP(AM14,Tabelas!B:D,3,0),0),\"\")","v":0},{"$f":"IF(A14<>\"\",IFERROR(VLOOKUP(AN14,Tabelas!B:D,3,0),0),\"\")","v":0},{"$f":"IF(A14<>\"\",IFERROR(VLOOKUP(AO14,Tabelas!B:D,3,0),0),\"\")","v":0},{"$f":"IF(A14<>\"\",IFERROR(VLOOKUP(AP14,Tabelas!B:D,3,0),0),\"\")","v":0},{"$f":"IF(A14<>\"\",IFERROR(VLOOKUP(AQ14,Tabelas!B:D,3,0),0),\"\")","v":0},0,0,0,0,0,0,0,0]
["FULANO 7",7,null,null,null,null,null,null,null,null,null,null,null,null,null,null,null,null,null,null,null,null,null,null,null,null,null,null,null,null,null,null,null,null,null,null,null,null,null,null,null,null,null,{"$f":"IF(A15<>\"\",IFERROR(VLOOKUP(M15,Tabelas!B:D,3,0),0),\"\")","v":0},{"$f":"IF(A15<>\"\",IFERROR(VLOOKUP(N15,Tabelas!B:D,3,0),0),\"\")","v":0},{"$f":"IF(A15<>\"\",IFERROR(VLOOKUP(O15,Tabelas!B:D,3,0),0),\"\")","v":0},{"$f":"IF(A15<>\"\",IFERROR(VLOOKUP(P15,Tabelas!B:D,3,0),0),\"\")","v":0},{"$f":"IF(A15<>\"\",IFERROR(VLOOKUP(Q15,Tabelas!B:D,3,0),0),\"\")","v":0},{"$f":"IF(A15<>\"\",IFERROR(VLOOKUP(R15,Tabelas!B:D,3,0),0),\"\")","v":0},{"$f":"IF(A15<>\"\",IFERROR(VLOOKUP(S15,Tabelas!B:D,3,0),0),\"\")","v":0},{"$f":"IF(A15<>\"\",IFERROR(VLOOKUP(T15,Tabelas!B:D,3,0),0),\"\")","v":0},{"$f":"IF(A15<>\"\",IFERROR(VLOOKUP(U15,Tabelas!B:D,3,0),0),\"\")","v":0},{"$f":"IF(A15<>\"\",IFERROR(VLOOKUP(V15,Tabelas!B:D,3,0),0),\"\")","v":0},{"$f":"IF(A15<>\"\",IFERROR(VLOOKUP(W15,Tabelas!B:D,3,0),0),\"\")","v":0},{"$f":"IF(A15<>\"\",IFERROR(VLOOKUP(X15,Tabelas!B:D,3,0),0),\"\")","v":0},{"$f":"IF(A15<>\"\",IFERROR(VLOOKUP(Y15,Tabelas!B:D,3,0),0),\"\")","v":0},{"$f":"IF(A15<>\"\",IFERROR(VLOOKUP(Z15,Tabelas!B:D,3,0),0),\"\")","v":0},{"$f":"IF(A15<>\"\",IFERROR(VLOOKUP(AA15,Tabelas!B:D,3,0),0),\"\")","v":0},{"$f":"IF(A15<>\"\",IFERROR(VLOOKUP(AB15,Tabelas!B:D,3,0),0),\"\")","v":0},{"$f":"IF(A15<>\"\",IFERROR(VLOOKUP(AC15,Tabelas!B:D,3,0),0),\"\")","v":0},{"$f":"IF(A15<>\"\",IFERROR(VLOOKUP(AD15,Tabelas!B:D,3,0),0),\"\")","v":0},{"$f":"IF(A15<>\"\",IFERROR(VLOOKUP(AE15,Tabelas!B:D,3,0),0),\"\")","v":0},{"$f":"IF(A15<>\"\",IFERROR(VLOOKUP(AF15,Tabelas!B:D,3,0),0),\"\")","v":0},{"$f":"IF(A15<>\"\",IFERROR(VLOOKUP(AG15,Tabelas!B:D,3,0),0),\"\")","v":0},{"$f":"IF(A15<>\"\",IFERROR(VLOOKUP(AH15,Tabelas!B:D,3,0),0),\"\")","v":0},{"$f":"IF(A15<>\"\",IFERROR(VLOOKUP(AI15,Tabelas!B:D,3,0),0),\"\")","v":0},{"$f":"IF(A15<>\"\",IFERROR(VLOOKUP(AJ15,Tabelas!B:D,3,0),0),\"\")","v":0},{"$f":"IF(A15<>\"\",IFERROR(VLOOKUP(AK15,Tabelas!B:D,3,0),0),\"\")","v":0},{"$f":"IF(A15<>\"\",IFERROR(VLOOKUP(AL15,Tabelas!B:D,3,0),0),\"\")","v":0},{"$f":"IF(A15<>\"\",IFERROR(VLOOKUP(AM15,Tabelas!B:D,3,0),0),\"\")","v":0},{"$f":"IF(A15<>\"\",IFERROR(VLOOKUP(AN15,Tabelas!B:D,3,0),0),\"\")","v":0},{"$f":"IF(A15<>\"\",IFERROR(VLOOKUP(AO15,Tabelas!B:D,3,0),0),\"\")","v":0},{"$f":"IF(A15<>\"\",IFERROR(VLOOKUP(AP15,Tabelas!B:D,3,0),0),\"\")","v":0},{"$f":"IF(A15<>\"\",IFERROR(VLOOKUP(AQ15,Tabelas!B:D,3,0),0),\"\")","v":0},0,0,0,0,0,0,0,0]
["FULANO 8",8,null,null,null,null,null,null,null,null,null,null,null,null,null,null,null,null,null,null,null,null,null,null,null,null,null,null,null,null,null,null,null,null,null,null,null,null,null,null,null,null,null,{"$f":"IF(A16<>\"\",IFERROR(VLOOKUP(M16,Tabelas!B:D,3,0),0),\"\")","v":0},{"$f":"IF(A16<>\"\",IFERROR(VLOOKUP(N16,Tabelas!B:D,3,0),0),\"\")","v":0},{"$f":"IF(A16<>\"\",IFERROR(VLOOKUP(O16,Tabelas!B:D,3,0),0),\"\")","v":0},{"$f":"IF(A16<>\"\",IFERROR(VLOOKUP(P16,Tabelas!B:D,3,0),0),\"\")","v":0},{"$f":"IF(A16<>\"\",IFERROR(VLOOKUP(Q16,Tabelas!B:D,3,0),0),\"\")","v":0},{"$f":"IF(A16<>\"\",IFERROR(VLOOKUP(R16,Tabelas!B:D,3,0),0),\"\")","v":0},{"$f":"IF(A16<>\"\",IFERROR(VLOOKUP(S16,Tabelas!B:D,3,0),0),\"\")","v":0},{"$f":"IF(A16<>\"\",IFERROR(VLOOKUP(T16,Tabelas!B:D,3,0),0),\"\")","v":0},{"$f":"IF(A16<>\"\",IFERROR(VLOOKUP(U16,Tabelas!B:D,3,0),0),\"\")","v":0},{"$f":"IF(A16<>\"\",IFERROR(VLOOKUP(V16,Tabelas!B:D,3,0),0),\"\")","v":0},{"$f":"IF(A16<>\"\",IFERROR(VLOOKUP(W16,Tabelas!B:D,3,0),0),\"\")","v":0},{"$f":"IF(A16<>\"\",IFERROR(VLOOKUP(X16,Tabelas!B:D,3,0),0),\"\")","v":0},{"$f":"IF(A16<>\"\",IFERROR(VLOOKUP(Y16,Tabelas!B:D,3,0),0),\"\")","v":0},{"$f":"IF(A16<>\"\",IFERROR(VLOOKUP(Z16,Tabelas!B:D,3,0),0),\"\")","v":0},{"$f":"IF(A16<>\"\",IFERROR(VLOOKUP(AA16,Tabelas!B:D,3,0),0),\"\")","v":0},{"$f":"IF(A16<>\"\",IFERROR(VLOOKUP(AB16,Tabelas!B:D,3,0),0),\"\")","v":0},{"$f":"IF(A16<>\"\",IFERROR(VLOOKUP(AC16,Tabelas!B:D,3,0),0),\"\")","v":0},{"$f":"IF(A16<>\"\",IFERROR(VLOOKUP(AD16,Tabelas!B:D,3,0),0),\"\")","v":0},{"$f":"IF(A16<>\"\",IFERROR(VLOOKUP(AE16,Tabelas!B:D,3,0),0),\"\")","v":0},{"$f":"IF(A16<>\"\",IFERROR(VLOOKUP(AF16,Tabelas!B:D,3,0),0),\"\")","v":0},{"$f":"IF(A16<>\"\",IFERROR(VLOOKUP(AG16,Tabelas!B:D,3,0),0),\"\")","v":0},{"$f":"IF(A16<>\"\",IFERROR(VLOOKUP(AH16,Tabelas!B:D,3,0),0),\"\")","v":0},{"$f":"IF(A16<>\"\",IFERROR(VLOOKUP(AI16,Tabelas!B:D,3,0),0),\"\")","v":0},{"$f":"IF(A16<>\"\",IFERROR(VLOOKUP(AJ16,Tabelas!B:D,3,0),0),\"\")","v":0},{"$f":"IF(A16<>\"\",IFERROR(VLOOKUP(AK16,Tabelas!B:D,3,0),0),\"\")","v":0},{"$f":"IF(A16<>\"\",IFERROR(VLOOKUP(AL16,Tabelas!B:D,3,0),0),\"\")","v":0},{"$f":"IF(A16<>\"\",IFERROR(VLOOKUP(AM16,Tabelas!B:D,3,0),0),\"\")","v":0},{"$f":"IF(A16<>\"\",IFERROR(VLOOKUP(AN16,Tabelas!B:D,3,0),0),\"\")","v":0},{"$f":"IF(A16<>\"\",IFERROR(VLOOKUP(AO16,Tabelas!B:D,3,0),0),\"\")","v":0},{"$f":"IF(A16<>\"\",IFERROR(VLOOKUP(AP16,Tabelas!B:D,3,0),0),\"\")","v":0},{"$f":"IF(A16<>\"\",IFERROR(VLOOKUP(AQ16,Tabelas!B:D,3,0),0),\"\")","v":0},0,0,0,0,0,0,0,0]
["FULANO 9",9,null,null,null,null,null,null,null,null,null,null,null,null,null,null,null,null,null,null,null,null,null,null,null,null,null,null,null,null,null,null,null,null,null,null,null,null,null,null,null,null,null,{"$f":"IF(A17<>\"\",IFERROR(VLOOKUP(M17,Tabelas!B:D,3,0),0),\"\")","v":0},{"$f":"IF(A17<>\"\",IFERROR(VLOOKUP(N17,Tabelas!B:D,3,0),0),\"\")","v":0},{"$f":"IF(A17<>\"\",IFERROR(VLOOKUP(O17,Tabelas!B:D,3,0),0),\"\")","v":0},{"$f":"IF(A17<>\"\",IFERROR(VLOOKUP(P17,Tabelas!B:D,3,0),0),\"\")","v":0},{"$f":"IF(A17<>\"\",IFERROR(VLOOKUP(Q17,Tabelas!B:D,3,0),0),\"\")","v":0},{"$f":"IF(A17<>\"\",IFERROR(VLOOKUP(R17,Tabelas!B:D,3,0),0),\"\")","v":0},{"$f":"IF(A17<>\"\",IFERROR(VLOOKUP(S17,Tabelas!B:D,3,0),0),\"\")","v":0},{"$f":"IF(A17<>\"\",IFERROR(VLOOKUP(T17,Tabelas!B:D,3,0),0),\"\")","v":0},{"$f":"IF(A17<>\"\",IFERROR(VLOOKUP(U17,Tabelas!B:D,3,0),0),\"\")","v":0},{"$f":"IF(A17<>\"\",IFERROR(VLOOKUP(V17,Tabelas!B:D,3,0),0),\"\")","v":0},{"$f":"IF(A17<>\"\",IFERROR(VLOOKUP(W17,Tabelas!B:D,3,0),0),\"\")","v":0},{"$f":"IF(A17<>\"\",IFERROR(VLOOKUP(X17,Tabelas!B:D,3,0),0),\"\")","v":0},{"$f":"IF(A17<>\"\",IFERROR(VLOOKUP(Y17,Tabelas!B:D,3,0),0),\"\")","v":0},{"$f":"IF(A17<>\"\",IFERROR(VLOOKUP(Z17,Tabelas!B:D,3,0),0),\"\")","v":0},{"$f":"IF(A17<>\"\",IFERROR(VLOOKUP(AA17,Tabelas!B:D,3,0),0),\"\")","v":0},{"$f":"IF(A17<>\"\",IFERROR(VLOOKUP(AB17,Tabelas!B:D,3,0),0),\"\")","v":0},{"$f":"IF(A17<>\"\",IFERROR(VLOOKUP(AC17,Tabelas!B:D,3,0),0),\"\")","v":0},{"$f":"IF(A17<>\"\",IFERROR(VLOOKUP(AD17,Tabelas!B:D,3,0),0),\"\")","v":0},{"$f":"IF(A17<>\"\",IFERROR(VLOOKUP(AE17,Tabelas!B:D,3,0),0),\"\")","v":0},{"$f":"IF(A17<>\"\",IFERROR(VLOOKUP(AF17,Tabelas!B:D,3,0),0),\"\")","v":0},{"$f":"IF(A17<>\"\",IFERROR(VLOOKUP(AG17,Tabelas!B:D,3,0),0),\"\")","v":0},{"$f":"IF(A17<>\"\",IFERROR(VLOOKUP(AH17,Tabelas!B:D,3,0),0),\"\")","v":0},{"$f":"IF(A17<>\"\",IFERROR(VLOOKUP(AI17,Tabelas!B:D,3,0),0),\"\")","v":0},{"$f":"IF(A17<>\"\",IFERROR(VLOOKUP(AJ17,Tabelas!B:D,3,0),0),\"\")","v":0},{"$f":"IF(A17<>\"\",IFERROR(VLOOKUP(AK17,Tabelas!B:D,3,0),0),\"\")","v":0},{"$f":"IF(A17<>\"\",IFERROR(VLOOKUP(AL17,Tabelas!B:D,3,0),0),\"\")","v":0},{"$f":"IF(A17<>\"\",IFERROR(VLOOKUP(AM17,Tabelas!B:D,3,0),0),\"\")","v":0},{"$f":"IF(A17<>\"\",IFERROR(VLOOKUP(AN17,Tabelas!B:D,3,0),0),\"\")","v":0},{"$f":"IF(A17<>\"\",IFERROR(VLOOKUP(AO17,Tabelas!B:D,3,0),0),\"\")","v":0},{"$f":"IF(A17<>\"\",IFERROR(VLOOKUP(AP17,Tabelas!B:D,3,0),0),\"\")","v":0},{"$f":"IF(A17<>\"\",IFERROR(VLOOKUP(AQ17,Tabelas!B:D,3,0),0),\"\")","v":0},0,0,0,0,0,0,0,0]
["FULANO 10",10,null,null,null,null,null,null,null,null,null,null,null,null,null,null,null,null,null,null,null,null,null,null,null,null,null,null,null,null,null,null,null,null,null,null,null,null,null,null,null,null,null,{"$f":"IF(A18<>\"\",IFERROR(VLOOKUP(M18,Tabelas!B:D,3,0),0),\"\")","v":0},{"$f":"IF(A18<>\"\",IFERROR(VLOOKUP(N18,Tabelas!B:D,3,0),0),\"\")","v":0},{"$f":"IF(A18<>\"\",IFERROR(VLOOKUP(O18,Tabelas!B:D,3,0),0),\"\")","v":0},{"$f":"IF(A18<>\"\",IFERROR(VLOOKUP(P18,Tabelas!B:D,3,0),0),\"\")","v":0},{"$f":"IF(A18<>\"\",IFERROR(VLOOKUP(Q18,Tabelas!B:D,3,0),0),\"\")","v":0},{"$f":"IF(A18<>\"\",IFERROR(VLOOKUP(R18,Tabelas!B:D,3,0),0),\"\")","v":0},{"$f":"IF(A18<>\"\",IFERROR(VLOOKUP(S18,Tabelas!B:D,3,0),0),\"\")","v":0},{"$f":"IF(A18<>\"\",IFERROR(VLOOKUP(T18,Tabelas!B:D,3,0),0),\"\")","v":0},{"$f":"IF(A18<>\"\",IFERROR(VLOOKUP(U18,Tabelas!B:D,3,0),0),\"\")","v":0},{"$f":"IF(A18<>\"\",IFERROR(VLOOKUP(V18,Tabelas!B:D,3,0),0),\"\")","v":0},{"$f":"IF(A18<>\"\",IFERROR(VLOOKUP(W18,Tabelas!B:D,3,0),0),\"\")","v":0},{"$f":"IF(A18<>\"\",IFERROR(VLOOKUP(X18,Tabelas!B:D,3,0),0),\"\")","v":0},{"$f":"IF(A18<>\"\",IFERROR(VLOOKUP(Y18,Tabelas!B:D,3,0),0),\"\")","v":0},{"$f":"IF(A18<>\"\",IFERROR(VLOOKUP(Z18,Tabelas!B:D,3,0),0),\"\")","v":0},{"$f":"IF(A18<>\"\",IFERROR(VLOOKUP(AA18,Tabelas!B:D,3,0),0),\"\")","v":0},{"$f":"IF(A18<>\"\",IFERROR(VLOOKUP(AB18,Tabelas!B:D,3,0),0),\"\")","v":0},{"$f":"IF(A18<>\"\",IFERROR(VLOOKUP(AC18,Tabelas!B:D,3,0),0),\"\")","v":0},{"$f":"IF(A18<>\"\",IFERROR(VLOOKUP(AD18,Tabelas!B:D,3,0),0),\"\")","v":0},{"$f":"IF(A18<>\"\",IFERROR(VLOOKUP(AE18,Tabelas!B:D,3,0),0),\"\")","v":0},{"$f":"IF(A18<>\"\",IFERROR(VLOOKUP(AF18,Tabelas!B:D,3,0),0),\"\")","v":0},{"$f":"IF(A18<>\"\",IFERROR(VLOOKUP(AG18,Tabelas!B:D,3,0),0),\"\")","v":0},{"$f":"IF(A18<>\"\",IFERROR(VLOOKUP(AH18,Tabelas!B:D,3,0),0),\"\")","v":0},{"$f":"IF(A18<>\"\",IFERROR(VLOOKUP(AI18,Tabelas!B:D,3,0),0),\"\")","v":0},{"$f":"IF(A18<>\"\",IFERROR(VLOOKUP(AJ18,Tabelas!B:D,3,0),0),\"\")","v":0},{"$f":"IF(A18<>\"\",IFERROR(VLOOKUP(AK18,Tabelas!B:D,3,0),0),\"\")","v":0},{"$f":"IF(A18<>\"\",IFERROR(VLOOKUP(AL18,Tabelas!B:D,3,0),0),\"\")","v":0},{"$f":"IF(A18<>\"\",IFERROR(VLOOKUP(AM18,Tabelas!B:D,3,0),0),\"\")","v":0},{"$f":"IF(A18<>\"\",IFERROR(VLOOKUP(AN18,Tabelas!B:D,3,0),0),\"\")","v":0},{"$f":"IF(A18<>\"\",IFERROR(VLOOKUP(AO18,Tabelas!B:D,3,0),0),\"\")","v":0},{"$f":"IF(A18<>\"\",IFERROR(VLOOKUP(AP18,Tabelas!B:D,3,0),0),\"\")","v":0},{"$f":"IF(A18<>\"\",IFERROR(VLOOKUP(AQ18,Tabelas!B:D,3,0),0),\"\")","v":0},0,0,0,0,0,0,0,0]
["FULANO 11",11,null,null,null,null,null,null,null,null,null,null,null,null,null,null,null,null,null,null,null,null,null,null,null,null,null,null,null,null,null,null,null,null,null,null,null,null,null,null,null,null,null,{"$f":"IF(A19<>\"\",IFERROR(VLOOKUP(M19,Tabelas!B:D,3,0),0),\"\")","v":0},{"$f":"IF(A19<>\"\",IFERROR(VLOOKUP(N19,Tabelas!B:D,3,0),0),\"\")","v":0},{"$f":"IF(A19<>\"\",IFERROR(VLOOKUP(O19,Tabelas!B:D,3,0),0),\"\")","v":0},{"$f":"IF(A19<>\"\",IFERROR(VLOOKUP(P19,Tabelas!B:D,3,0),0),\"\")","v":0},{"$f":"IF(A19<>\"\",IFERROR(VLOOKUP(Q19,Tabelas!B:D,3,0),0),\"\")","v":0},{"$f":"IF(A19<>\"\",IFERROR(VLOOKUP(R19,Tabelas!B:D,3,0),0),\"\")","v":0},{"$f":"IF(A19<>\"\",IFERROR(VLOOKUP(S19,Tabelas!B:D,3,0),0),\"\")","v":0},{"$f":"IF(A19<>\"\",IFERROR(VLOOKUP(T19,Tabelas!B:D,3,0),0),\"\")","v":0},{"$f":"IF(A19<>\"\",IFERROR(VLOOKUP(U19,Tabelas!B:D,3,0),0),\"\")","v":0},{"$f":"IF(A19<>\"\",IFERROR(VLOOKUP(V19,Tabelas!B:D,3,0),0),\"\")","v":0},{"$f":"IF(A19<>\"\",IFERROR(VLOOKUP(W19,Tabelas!B:D,3,0),0),\"\")","v":0},{"$f":"IF(A19<>\"\",IFERROR(VLOOKUP(X19,Tabelas!B:D,3,0),0),\"\")","v":0},{"$f":"IF(A19<>\"\",IFERROR(VLOOKUP(Y19,Tabelas!B:D,3,0),0),\"\")","v":0},{"$f":"IF(A19<>\"\",IFERROR(VLOOKUP(Z19,Tabelas!B:D,3,0),0),\"\")","v":0},{"$f":"IF(A19<>\"\",IFERROR(VLOOKUP(AA19,Tabelas!B:D,3,0),0),\"\")","v":0},{"$f":"IF(A19<>\"\",IFERROR(VLOOKUP(AB19,Tabelas!B:D,3,0),0),\"\")","v":0},{"$f":"IF(A19<>\"\",IFERROR(VLOOKUP(AC19,Tabelas!B:D,3,0),0),\"\")","v":0},{"$f":"IF(A19<>\"\",IFERROR(VLOOKUP(AD19,Tabelas!B:D,3,0),0),\"\")","v":0},{"$f":"IF(A19<>\"\",IFERROR(VLOOKUP(AE19,Tabelas!B:D,3,0),0),\"\")","v":0},{"$f":"IF(A19<>\"\",IFERROR(VLOOKUP(AF19,Tabelas!B:D,3,0),0),\"\")","v":0},{"$f":"IF(A19<>\"\",IFERROR(VLOOKUP(AG19,Tabelas!B:D,3,0),0),\"\")","v":0},{"$f":"IF(A19<>\"\",IFERROR(VLOOKUP(AH19,Tabelas!B:D,3,0),0),\"\")","v":0},{"$f":"IF(A19<>\"\",IFERROR(VLOOKUP(AI19,Tabelas!B:D,3,0),0),\"\")","v":0},{"$f":"IF(A19<>\"\",IFERROR(VLOOKUP(AJ19,Tabelas!B:D,3,0),0),\"\")","v":0},{"$f":"IF(A19<>\"\",IFERROR(VLOOKUP(AK19,Tabelas!B:D,3,0),0),\"\")","v":0},{"$f":"IF(A19<>\"\",IFERROR(VLOOKUP(AL19,Tabelas!B:D,3,0),0),\"\")","v":0},{"$f":"IF(A19<>\"\",IFERROR(VLOOKUP(AM19,Tabelas!B:D,3,0),0),\"\")","v":0},{"$f":"IF(A19<>\"\",IFERROR(VLOOKUP(AN19,Tabelas!B:D,3,0),0),\"\")","v":0},{"$f":"IF(A19<>\"\",IFERROR(VLOOKUP(AO19,Tabelas!B:D,3,0),0),\"\")","v":0},{"$f":"IF(A19<>\"\",IFERROR(VLOOKUP(AP19,Tabelas!B:D,3,0),0),\"\")","v":0},{"$f":"IF(A19<>\"\",IFERROR(VLOOKUP(AQ19,Tabelas!B:D,3,0),0),\"\")","v":0},0,0,0,0,0,0,0,0]
["FULANO 12",12,null,null,null,null,null,null,null,null,null,null,null,null,null,null,null,null,null,null,null,null,null,null,null,null,null,null,null,null,null,null,null,null,null,null,null,null,null,null,null,null,null,{"$f":"IF(A20<>\"\",IFERROR(VLOOKUP(M20,Tabelas!B:D,3,0),0),\"\")","v":0},{"$f":"IF(A20<>\"\",IFERROR(VLOOKUP(N20,Tabelas!B:D,3,0),0),\"\")","v":0},{"$f":"IF(A20<>\"\",IFERROR(VLOOKUP(O20,Tabelas!B:D,3,0),0),\"\")","v":0},{"$f":"IF(A20<>\"\",IFERROR(VLOOKUP(P20,Tabelas!B:D,3,0),0),\"\")","v":0},{"$f":"IF(A20<>\"\",IFERROR(VLOOKUP(Q20,Tabelas!B:D,3,0),0),\"\")","v":0},{"$f":"IF(A20<>\"\",IFERROR(VLOOKUP(R20,Tabelas!B:D,3,0),0),\"\")","v":0},{"$f":"IF(A20<>\"\",IFERROR(VLOOKUP(S20,Tabelas!B:D,3,0),0),\"\")","v":0},{"$f":"IF(A20<>\"\",IFERROR(VLOOKUP(T20,Tabelas!B:D,3,0),0),\"\")","v":0},{"$f":"IF(A20<>\"\",IFERROR(VLOOKUP(U20,Tabelas!B:D,3,0),0),\"\")","v":0},{"$f":"IF(A20<>\"\",IFERROR(VLOOKUP(V20,Tabelas!B:D,3,0),0),\"\")","v":0},{"$f":"IF(A20<>\"\",IFERROR(VLOOKUP(W20,Tabelas!B:D,3,0),0),\"\")","v":0},{"$f":"IF(A20<>\"\",IFERROR(VLOOKUP(X20,Tabelas!B:D,3,0),0),\"\")","v":0},{"$f":"IF(A20<>\"\",IFERROR(VLOOKUP(Y20,Tabelas!B:D,3,0),0),\"\")","v":0},{"$f":"IF(A20<>\"\",IFERROR(VLOOKUP(Z20,Tabelas!B:D,3,0),0),\"\")","v":0},{"$f":"IF(A20<>\"\",IFERROR(VLOOKUP(AA20,Tabelas!B:D,3,0),0),\"\")","v":0},{"$f":"IF(A20<>\"\",IFERROR(VLOOKUP(AB20,Tabelas!B:D,3,0),0),\"\")","v":0},{"$f":"IF(A20<>\"\",IFERROR(VLOOKUP(AC20,Tabelas!B:D,3,0),0),\"\")","v":0},{"$f":"IF(A20<>\"\",IFERROR(VLOOKUP(AD20,Tabelas!B:D,3,0),0),\"\")","v":0},{"$f":"IF(A20<>\"\",IFERROR(VLOOKUP(AE20,Tabelas!B:D,3,0),0),\"\")","v":0},{"$f":"IF(A20<>\"\",IFERROR(VLOOKUP(AF20,Tabelas!B:D,3,0),0),\"\")","v":0},{"$f":"IF(A20<>\"\",IFERROR(VLOOKUP(AG20,Tabelas!B:D,3,0),0),\"\")","v":0},{"$f":"IF(A20<>\"\",IFERROR(VLOOKUP(AH20,Tabelas!B:D,3,0),0),\"\")","v":0},{"$f":"IF(A20<>\"\",IFERROR(VLOOKUP(AI20,Tabelas!B:D,3,0),0),\"\")","v":0},{"$f":"IF(A20<>\"\",IFERROR(VLOOKUP(AJ20,Tabelas!B:D,3,0),0),\"\")","v":0},{"$f":"IF(A20<>\"\",IFERROR(VLOOKUP(AK20,Tabelas!B:D,3,0),0),\"\")","v":0},{"$f":"IF(A20<>\"\",IFERROR(VLOOKUP(AL20,Tabelas!B:D,3,0),0),\"\")","v":0},{"$f":"IF(A20<>\"\",IFERROR(VLOOKUP(AM20,Tabelas!B:D,3,0),0),\"\")","v":0},{"$f":"IF(A20<>\"\",IFERROR(VLOOKUP(AN20,Tabelas!B:D,3,0),0),\"\")","v":0},{"$f":"IF(A20<>\"\",IFERROR(VLOOKUP(AO20,Tabelas!B:D,3,0),0),\"\")","v":0},{"$f":"IF(A20<>\"\",IFERROR(VLOOKUP(AP20,Tabelas!B:D,3,0),0),\"\")","v":0},{"$f":"IF(A20<>\"\",IFERROR(VLOOKUP(AQ20,Tabelas!B:D,3,0),0),\"\")","v":0},0,0,0,0,0,0,0,0]
["FULANO 13",13,null,null,null,null,null,null,null,null,null,null,null,null,null,null,null,null,null,null,null,null,null,null,null,null,null,null,null,null,null,null,null,null,null,null,null,null,null,null,null,null,null,{"$f":"IF(A21<>\"\",IFERROR(VLOOKUP(M21,Tabelas!B:D,3,0),0),\"\")","v":0},{"$f":"IF(A21<>\"\",IFERROR(VLOOKUP(N21,Tabelas!B:D,3,0),0),\"\")","v":0},{"$f":"IF(A21<>\"\",IFERROR(VLOOKUP(O21,Tabelas!B:D,3,0),0),\"\")","v":0},{"$f":"IF(A21<>\"\",IFERROR(VLOOKUP(P21,Tabelas!B:D,3,0),0),\"\")","v":0},{"$f":"IF(A21<>\"\",IFERROR(VLOOKUP(Q21,Tabelas!B:D,3,0),0),\"\")","v":0},{"$f":"IF(A21<>\"\",IFERROR(VLOOKUP(R21,Tabelas!B:D,3,0),0),\"\")","v":0},{"$f":"IF(A21<>\"\",IFERROR(VLOOKUP(S21,Tabelas!B:D,3,0),0),\"\")","v":0},{"$f":"IF(A21<>\"\",IFERROR(VLOOKUP(T21,Tabelas!B:D,3,0),0),\"\")","v":0},{"$f":"IF(A21<>\"\",IFERROR(VLOOKUP(U21,Tabelas!B:D,3,0),0),\"\")","v":0},{"$f":"IF(A21<>\"\",IFERROR(VLOOKUP(V21,Tabelas!B:D,3,0),0),\"\")","v":0},{"$f":"IF(A21<>\"\",IFERROR(VLOOKUP(W21,Tabelas!B:D,3,0),0),\"\")","v":0},{"$f":"IF(A21<>\"\",IFERROR(VLOOKUP(X21,Tabelas!B:D,3,0),0),\"\")","v":0},{"$f":"IF(A21<>\"\",IFERROR(VLOOKUP(Y21,Tabelas!B:D,3,0),0),\"\")","v":0},{"$f":"IF(A21<>\"\",IFERROR(VLOOKUP(Z21,Tabelas!B:D,3,0),0),\"\")","v":0},{"$f":"IF(A21<>\"\",IFERROR(VLOOKUP(AA21,Tabelas!B:D,3,0),0),\"\")","v":0},{"$f":"IF(A21<>\"\",IFERROR(VLOOKUP(AB21,Tabelas!B:D,3,0),0),\"\")","v":0},{"$f":"IF(A21<>\"\",IFERROR(VLOOKUP(AC21,Tabelas!B:D,3,0),0),\"\")","v":0},{"$f":"IF(A21<>\"\",IFERROR(VLOOKUP(AD21,Tabelas!B:D,3,0),0),\"\")","v":0},{"$f":"IF(A21<>\"\",IFERROR(VLOOKUP(AE21,Tabelas!B:D,3,0),0),\"\")","v":0},{"$f":"IF(A21<>\"\",IFERROR(VLOOKUP(AF21,Tabelas!B:D,3,0),0),\"\")","v":0},{"$f":"IF(A21<>\"\",IFERROR(VLOOKUP(AG21,Tabelas!B:D,3,0),0),\"\")","v":0},{"$f":"IF(A21<>\"\",IFERROR(VLOOKUP(AH21,Tabelas!B:D,3,0),0),\"\")","v":0},{"$f":"IF(A21<>\"\",IFERROR(VLOOKUP(AI21,Tabelas!B:D,3,0),0),\"\")","v":0},{"$f":"IF(A21<>\"\",IFERROR(VLOOKUP(AJ21,Tabelas!B:D,3,0),0),\"\")","v":0},{"$f":"IF(A21<>\"\",IFERROR(VLOOKUP(AK21,Tabelas!B:D,3,0),0),\"\")","v":0},{"$f":"IF(A21<>\"\",IFERROR(VLOOKUP(AL21,Tabelas!B:D,3,0),0),\"\")","v":0},{"$f":"IF(A21<>\"\",IFERROR(VLOOKUP(AM21,Tabelas!B:D,3,0),0),\"\")","v":0},{"$f":"IF(A21<>\"\",IFERROR(VLOOKUP(AN21,Tabelas!B:D,3,0),0),\"\")","v":0},{"$f":"IF(A21<>\"\",IFERROR(VLOOKUP(AO21,Tabelas!B:D,3,0),0),\"\")","v":0},{"$f":"IF(A21<>\"\",IFERROR(VLOOKUP(AP21,Tabelas!B:D,3,0),0),\"\")","v":0},{"$f":"IF(A21<>\"\",IFERROR(VLOOKUP(AQ21,Tabelas!B:D,3,0),0),\"\")","v":0},0,0,0,0,0,0,0,0]
["FULANO 14",14,null,null,null,null,null,null,null,null,null,null,null,null,null,null,null,null,null,null,null,null,null,null,null,null,null,null,null,null,null,null,null,null,null,null,null,null,null,null,null,null,null,{"$f":"IF(A22<>\"\",IFERROR(VLOOKUP(M22,Tabelas!B:D,3,0),0),\"\")","v":0},{"$f":"IF(A22<>\"\",IFERROR(VLOOKUP(N22,Tabelas!B:D,3,0),0),\"\")","v":0},{"$f":"IF(A22<>\"\",IFERROR(VLOOKUP(O22,Tabelas!B:D,3,0),0),\"\")","v":0},{"$f":"IF(A22<>\"\",IFERROR(VLOOKUP(P22,Tabelas!B:D,3,0),0),\"\")","v":0},{"$f":"IF(A22<>\"\",IFERROR(VLOOKUP(Q22,Tabelas!B:D,3,0),0),\"\")","v":0},{"$f":"IF(A22<>\"\",IFERROR(VLOOKUP(R22,Tabelas!B:D,3,0),0),\"\")","v":0},{"$f":"IF(A22<>\"\",IFERROR(VLOOKUP(S22,Tabelas!B:D,3,0),0),\"\")","v":0},{"$f":"IF(A22<>\"\",IFERROR(VLOOKUP(T22,Tabelas!B:D,3,0),0),\"\")","v":0},{"$f":"IF(A22<>\"\",IFERROR(VLOOKUP(U22,Tabelas!B:D,3,0),0),\"\")","v":0},{"$f":"IF(A22<>\"\",IFERROR(VLOOKUP(V22,Tabelas!B:D,3,0),0),\"\")","v":0},{"$f":"IF(A22<>\"\",IFERROR(VLOOKUP(W22,Tabelas!B:D,3,0),0),\"\")","v":0},{"$f":"IF(A22<>\"\",IFERROR(VLOOKUP(X22,Tabelas!B:D,3,0),0),\"\")","v":0},{"$f":"IF(A22<>\"\",IFERROR(VLOOKUP(Y22,Tabelas!B:D,3,0),0),\"\")","v":0},{"$f":"IF(A22<>\"\",IFERROR(VLOOKUP(Z22,Tabelas!B:D,3,0),0),\"\")","v":0},{"$f":"IF(A22<>\"\",IFERROR(VLOOKUP(AA22,Tabelas!B:D,3,0),0),\"\")","v":0},{"$f":"IF(A22<>\"\",IFERROR(VLOOKUP(AB22,Tabelas!B:D,3,0),0),\"\")","v":0},{"$f":"IF(A22<>\"\",IFERROR(VLOOKUP(AC22,Tabelas!B:D,3,0),0),\"\")","v":0},{"$f":"IF(A22<>\"\",IFERROR(VLOOKUP(AD22,Tabelas!B:D,3,0),0),\"\")","v":0},{"$f":"IF(A22<>\"\",IFERROR(VLOOKUP(AE22,Tabelas!B:D,3,0),0),\"\")","v":0},{"$f":"IF(A22<>\"\",IFERROR(VLOOKUP(AF22,Tabelas!B:D,3,0),0),\"\")","v":0},{"$f":"IF(A22<>\"\",IFERROR(VLOOKUP(AG22,Tabelas!B:D,3,0),0),\"\")","v":0},{"$f":"IF(A22<>\"\",IFERROR(VLOOKUP(AH22,Tabelas!B:D,3,0),0),\"\")","v":0},{"$f":"IF(A22<>\"\",IFERROR(VLOOKUP(AI22,Tabelas!B:D,3,0),0),\"\")","v":0},{"$f":"IF(A22<>\"\",IFERROR(VLOOKUP(AJ22,Tabelas!B:D,3,0),0),\"\")","v":0},{"$f":"IF(A22<>\"\",IFERROR(VLOOKUP(AK22,Tabelas!B:D,3,0),0),\"\")","v":0},{"$f":"IF(A22<>\"\",IFERROR(VLOOKUP(AL22,Tabelas!B:D,3,0),0),\"\")","v":0},{"$f":"IF(A22<>\"\",IFERROR(VLOOKUP(AM22,Tabelas!B:D,3,0),0),\"\")","v":0},{"$f":"IF(A22<>\"\",IFERROR(VLOOKUP(AN22,Tabelas!B:D,3,0),0),\"\")","v":0},{"$f":"IF(A22<>\"\",IFERROR(VLOOKUP(AO22,Tabelas!B:D,3,0),0),\"\")","v":0},{"$f":"IF(A22<>\"\",IFERROR(VLOOKUP(AP22,Tabelas!B:D,3,0),0),\"\")","v":0},{"$f":"IF(A22<>\"\",IFERROR(VLOOKUP(AQ22,Tabelas!B:D,3,0),0),\"\")","v":0},0,0,0,0,0,0,0,0]
["FULANO 15",15,null,null,null,null,null,null,null,null,null,null,null,null,null,null,null,null,null,null,null,null,null,null,null,null,null,null,null,null,null,null,null,null,null,null,null,null,null,null,null,null,null,{"$f":"IF(A23<>\"\",IFERROR(VLOOKUP(M23,Tabelas!B:D,3,0),0),\"\")","v":0},{"$f":"IF(A23<>\"\",IFERROR(VLOOKUP(N23,Tabelas!B:D,3,0),0),\"\")","v":0},{"$f":"IF(A23<>\"\",IFERROR(VLOOKUP(O23,Tabelas!B:D,3,0),0),\"\")","v":0},{"$f":"IF(A23<>\"\",IFERROR(VLOOKUP(P23,Tabelas!B:D,3,0),0),\"\")","v":0},{"$f":"IF(A23<>\"\",IFERROR(VLOOKUP(Q23,Tabelas!B:D,3,0),0),\"\")","v":0},{"$f":"IF(A23<>\"\",IFERROR(VLOOKUP(R23,Tabelas!B:D,3,0),0),\"\")","v":0},{"$f":"IF(A23<>\"\",IFERROR(VLOOKUP(S23,Tabelas!B:D,3,0),0),\"\")","v":0},{"$f":"IF(A23<>\"\",IFERROR(VLOOKUP(T23,Tabelas!B:D,3,0),0),\"\")","v":0},{"$f":"IF(A23<>\"\",IFERROR(VLOOKUP(U23,Tabelas!B:D,3,0),0),\"\")","v":0},{"$f":"IF(A23<>\"\",IFERROR(VLOOKUP(V23,Tabelas!B:D,3,0),0),\"\")","v":0},{"$f":"IF(A23<>\"\",IFERROR(VLOOKUP(W23,Tabelas!B:D,3,0),0),\"\")","v":0},{"$f":"IF(A23<>\"\",IFERROR(VLOOKUP(X23,Tabelas!B:D,3,0),0),\"\")","v":0},{"$f":"IF(A23<>\"\",IFERROR(VLOOKUP(Y23,Tabelas!B:D,3,0),0),\"\")","v":0},{"$f":"IF(A23<>\"\",IFERROR(VLOOKUP(Z23,Tabelas!B:D,3,0),0),\"\")","v":0},{"$f":"IF(A23<>\"\",IFERROR(VLOOKUP(AA23,Tabelas!B:D,3,0),0),\"\")","v":0},{"$f":"IF(A23<>\"\",IFERROR(VLOOKUP(AB23,Tabelas!B:D,3,0),0),\"\")","v":0},{"$f":"IF(A23<>\"\",IFERROR(VLOOKUP(AC23,Tabelas!B:D,3,0),0),\"\")","v":0},{"$f":"IF(A23<>\"\",IFERROR(VLOOKUP(AD23,Tabelas!B:D,3,0),0),\"\")","v":0},{"$f":"IF(A23<>\"\",IFERROR(VLOOKUP(AE23,Tabelas!B:D,3,0),0),\"\")","v":0},{"$f":"IF(A23<>\"\",IFERROR(VLOOKUP(AF23,Tabelas!B:D,3,0),0),\"\")","v":0},{"$f":"IF(A23<>\"\",IFERROR(VLOOKUP(AG23,Tabelas!B:D,3,0),0),\"\")","v":0},{"$f":"IF(A23<>\"\",IFERROR(VLOOKUP(AH23,Tabelas!B:D,3,0),0),\"\")","v":0},{"$f":"IF(A23<>\"\",IFERROR(VLOOKUP(AI23,Tabelas!B:D,3,0),0),\"\")","v":0},{"$f":"IF(A23<>\"\",IFERROR(VLOOKUP(AJ23,Tabelas!B:D,3,0),0),\"\")","v":0},{"$f":"IF(A23<>\"\",IFERROR(VLOOKUP(AK23,Tabelas!B:D,3,0),0),\"\")","v":0},{"$f":"IF(A23<>\"\",IFERROR(VLOOKUP(AL23,Tabelas!B:D,3,0),0),\"\")","v":0},{"$f":"IF(A23<>\"\",IFERROR(VLOOKUP(AM23,Tabelas!B:D,3,0),0),\"\")","v":0},{"$f":"IF(A23<>\"\",IFERROR(VLOOKUP(AN23,Tabelas!B:D,3,0),0),\"\")","v":0},{"$f":"IF(A23<>\"\",IFERROR(VLOOKUP(AO23,Tabelas!B:D,3,0),0),\"\")","v":0},{"$f":"IF(A23<>\"\",IFERROR(VLOOKUP(AP23,Tabelas!B:D,3,0),0),\"\")","v":0},{"$f":"IF(A23<>\"\",IFERROR(VLOOKUP(AQ23,Tabelas!B:D,3,0),0),\"\")","v":0},0,0,0,0,0,0,0,0]
["FULANO 16",16,null,null,null,null,null,null,null,null,null,null,null,null,null,null,null,null,null,null,null,null,null,null,null,null,null,null,null,null,null,null,null,null,null,null,null,null,null,null,null,null,null,{"$f":"IF(A24<>\"\",IFERROR(VLOOKUP(M24,Tabelas!B:D,3,0),0),\"\")","v":0},{"$f":"IF(A24<>\"\",IFERROR(VLOOKUP(N24,Tabelas!B:D,3,0),0),\"\")","v":0},{"$f":"IF(A24<>\"\",IFERROR(VLOOKUP(O24,Tabelas!B:D,3,0),0),\"\")","v":0},{"$f":"IF(A24<>\"\",IFERROR(VLOOKUP(P24,Tabelas!B:D,3,0),0),\"\")","v":0},{"$f":"IF(A24<>\"\",IFERROR(VLOOKUP(Q24,Tabelas!B:D,3,0),0),\"\")","v":0},{"$f":"IF(A24<>\"\",IFERROR(VLOOKUP(R24,Tabelas!B:D,3,0),0),\"\")","v":0},{"$f":"IF(A24<>\"\",IFERROR(VLOOKUP(S24,Tabelas!B:D,3,0),0),\"\")","v":0},{"$f":"IF(A24<>\"\",IFERROR(VLOOKUP(T24,Tabelas!B:D,3,0),0),\"\")","v":0},{"$f":"IF(A24<>\"\",IFERROR(VLOOKUP(U24,Tabelas!B:D,3,0),0),\"\")","v":0},{"$f":"IF(A24<>\"\",IFERROR(VLOOKUP(V24,Tabelas!B:D,3,0),0),\"\")","v":0},{"$f":"IF(A24<>\"\",IFERROR(VLOOKUP(W24,Tabelas!B:D,3,0),0),\"\")","v":0},{"$f":"IF(A24<>\"\",IFERROR(VLOOKUP(X24,Tabelas!B:D,3,0),0),\"\")","v":0},{"$f":"IF(A24<>\"\",IFERROR(VLOOKUP(Y24,Tabelas!B:D,3,0),0),\"\")","v":0},{"$f":"IF(A24<>\"\",IFERROR(VLOOKUP(Z24,Tabelas!B:D,3,0),0),\"\")","v":0},{"$f":"IF(A24<>\"\",IFERROR(VLOOKUP(AA24,Tabelas!B:D,3,0),0),\"\")","v":0},{"$f":"IF(A24<>\"\",IFERROR(VLOOKUP(AB24,Tabelas!B:D,3,0),0),\"\")","v":0},{"$f":"IF(A24<>\"\",IFERROR(VLOOKUP(AC24,Tabelas!B:D,3,0),0),\"\")","v":0},{"$f":"IF(A24<>\"\",IFERROR(VLOOKUP(AD24,Tabelas!B:D,3,0),0),\"\")","v":0},{"$f":"IF(A24<>\"\",IFERROR(VLOOKUP(AE24,Tabelas!B:D,3,0),0),\"\")","v":0},{"$f":"IF(A24<>\"\",IFERROR(VLOOKUP(AF24,Tabelas!B:D,3,0),0),\"\")","v":0},{"$f":"IF(A24<>\"\",IFERROR(VLOOKUP(AG24,Tabelas!B:D,3,0),0),\"\")","v":0},{"$f":"IF(A24<>\"\",IFERROR(VLOOKUP(AH24,Tabelas!B:D,3,0),0),\"\")","v":0},{"$f":"IF(A24<>\"\",IFERROR(VLOOKUP(AI24,Tabelas!B:D,3,0),0),\"\")","v":0},{"$f":"IF(A24<>\"\",IFERROR(VLOOKUP(AJ24,Tabelas!B:D,3,0),0),\"\")","v":0},{"$f":"IF(A24<>\"\",IFERROR(VLOOKUP(AK24,Tabelas!B:D,3,0),0),\"\")","v":0},{"$f":"IF(A24<>\"\",IFERROR(VLOOKUP(AL24,Tabelas!B:D,3,0),0),\"\")","v":0},{"$f":"IF(A24<>\"\",IFERROR(VLOOKUP(AM24,Tabelas!B:D,3,0),0),\"\")","v":0},{"$f":"IF(A24<>\"\",IFERROR(VLOOKUP(AN24,Tabelas!B:D,3,0),0),\"\")","v":0},{"$f":"IF(A24<>\"\",IFERROR(VLOOKUP(AO24,Tabelas!B:D,3,0),0),\"\")","v":0},{"$f":"IF(A24<>\"\",IFERROR(VLOOKUP(AP24,Tabelas!B:D,3,0),0),\"\")","v":0},{"$f":"IF(A24<>\"\",IFERROR(VLOOKUP(AQ24,Tabelas!B:D,3,0),0),\"\")","v":0},0,0,0,0,0,0,0,0]
["FULANO 17",17,null,null,null,null,null,null,null,null,null,null,null,null,null,null,null,null,null,null,null,null,null,null,null,null,null,null,null,null,null,null,null,null,null,null,null,null,null,null,null,null,null,{"$f":"IF(A25<>\"\",IFERROR(VLOOKUP(M25,Tabelas!B:D,3,0),0),\"\")","v":0},{"$f":"IF(A25<>\"\",IFERROR(VLOOKUP(N25,Tabelas!B:D,3,0),0),\"\")","v":0},{"$f":"IF(A25<>\"\",IFERROR(VLOOKUP(O25,Tabelas!B:D,3,0),0),\"\")","v":0},{"$f":"IF(A25<>\"\",IFERROR(VLOOKUP(P25,Tabelas!B:D,3,0),0),\"\")","v":0},{"$f":"IF(A25<>\"\",IFERROR(VLOOKUP(Q25,Tabelas!B:D,3,0),0),\"\")","v":0},{"$f":"IF(A25<>\"\",IFERROR(VLOOKUP(R25,Tabelas!B:D,3,0),0),\"\")","v":0},{"$f":"IF(A25<>\"\",IFERROR(VLOOKUP(S25,Tabelas!B:D,3,0),0),\"\")","v":0},{"$f":"IF(A25<>\"\",IFERROR(VLOOKUP(T25,Tabelas!B:D,3,0),0),\"\")","v":0},{"$f":"IF(A25<>\"\",IFERROR(VLOOKUP(U25,Tabelas!B:D,3,0),0),\"\")","v":0},{"$f":"IF(A25<>\"\",IFERROR(VLOOKUP(V25,Tabelas!B:D,3,0),0),\"\")","v":0},{"$f":"IF(A25<>\"\",IFERROR(VLOOKUP(W25,Tabelas!B:D,3,0),0),\"\")","v":0},{"$f":"IF(A25<>\"\",IFERROR(VLOOKUP(X25,Tabelas!B:D,3,0),0),\"\")","v":0},{"$f":"IF(A25<>\"\",IFERROR(VLOOKUP(Y25,Tabelas!B:D,3,0),0),\"\")","v":0},{"$f":"IF(A25<>\"\",IFERROR(VLOOKUP(Z25,Tabelas!B:D,3,0),0),\"\")","v":0},{"$f":"IF(A25<>\"\",IFERROR(VLOOKUP(AA25,Tabelas!B:D,3,0),0),\"\")","v":0},{"$f":"IF(A25<>\"\",IFERROR(VLOOKUP(AB25,Tabelas!B:D,3,0),0),\"\")","v":0},{"$f":"IF(A25<>\"\",IFERROR(VLOOKUP(AC25,Tabelas!B:D,3,0),0),\"\")","v":0},{"$f":"IF(A25<>\"\",IFERROR(VLOOKUP(AD25,Tabelas!B:D,3,0),0),\"\")","v":0},{"$f":"IF(A25<>\"\",IFERROR(VLOOKUP(AE25,Tabelas!B:D,3,0),0),\"\")","v":0},{"$f":"IF(A25<>\"\",IFERROR(VLOOKUP(AF25,Tabelas!B:D,3,0),0),\"\")","v":0},{"$f":"IF(A25<>\"\",IFERROR(VLOOKUP(AG25,Tabelas!B:D,3,0),0),\"\")","v":0},{"$f":"IF(A25<>\"\",IFERROR(VLOOKUP(AH25,Tabelas!B:D,3,0),0),\"\")","v":0},{"$f":"IF(A25<>\"\",IFERROR(VLOOKUP(AI25,Tabelas!B:D,3,0),0),\"\")","v":0},{"$f":"IF(A25<>\"\",IFERROR(VLOOKUP(AJ25,Tabelas!B:D,3,0),0),\"\")","v":0},{"$f":"IF(A25<>\"\",IFERROR(VLOOKUP(AK25,Tabelas!B:D,3,0),0),\"\")","v":0},{"$f":"IF(A25<>\"\",IFERROR(VLOOKUP(AL25,Tabelas!B:D,3,0),0),\"\")","v":0},{"$f":"IF(A25<>\"\",IFERROR(VLOOKUP(AM25,Tabelas!B:D,3,0),0),\"\")","v":0},{"$f":"IF(A25<>\"\",IFERROR(VLOOKUP(AN25,Tabelas!B:D,3,0),0),\"\")","v":0},{"$f":"IF(A25<>\"\",IFERROR(VLOOKUP(AO25,Tabelas!B:D,3,0),0),\"\")","v":0},{"$f":"IF(A25<>\"\",IFERROR(VLOOKUP(AP25,Tabelas!B:D,3,0),0),\"\")","v":0},{"$f":"IF(A25<>\"\",IFERROR(VLOOKUP(AQ25,Tabelas!B:D,3,0),0),\"\")","v":0},0,0,0,0,0,0,0,0]
["FULANO 18",18,null,null,null,null,null,null,null,null,null,null,null,null,null,null,null,null,null,null,null,null,null,null,null,null,null,null,null,null,null,null,null,null,null,null,null,null,null,null,null,null,null,{"$f":"IF(A26<>\"\",IFERROR(VLOOKUP(M26,Tabelas!B:D,3,0),0),\"\")","v":0},{"$f":"IF(A26<>\"\",IFERROR(VLOOKUP(N26,Tabelas!B:D,3,0),0),\"\")","v":0},{"$f":"IF(A26<>\"\",IFERROR(VLOOKUP(O26,Tabelas!B:D,3,0),0),\"\")","v":0},{"$f":"IF(A26<>\"\",IFERROR(VLOOKUP(P26,Tabelas!B:D,3,0),0),\"\")","v":0},{"$f":"IF(A26<>\"\",IFERROR(VLOOKUP(Q26,Tabelas!B:D,3,0),0),\"\")","v":0},{"$f":"IF(A26<>\"\",IFERROR(VLOOKUP(R26,Tabelas!B:D,3,0),0),\"\")","v":0},{"$f":"IF(A26<>\"\",IFERROR(VLOOKUP(S26,Tabelas!B:D,3,0),0),\"\")","v":0},{"$f":"IF(A26<>\"\",IFERROR(VLOOKUP(T26,Tabelas!B:D,3,0),0),\"\")","v":0},{"$f":"IF(A26<>\"\",IFERROR(VLOOKUP(U26,Tabelas!B:D,3,0),0),\"\")","v":0},{"$f":"IF(A26<>\"\",IFERROR(VLOOKUP(V26,Tabelas!B:D,3,0),0),\"\")","v":0},{"$f":"IF(A26<>\"\",IFERROR(VLOOKUP(W26,Tabelas!B:D,3,0),0),\"\")","v":0},{"$f":"IF(A26<>\"\",IFERROR(VLOOKUP(X26,Tabelas!B:D,3,0),0),\"\")","v":0},{"$f":"IF(A26<>\"\",IFERROR(VLOOKUP(Y26,Tabelas!B:D,3,0),0),\"\")","v":0},{"$f":"IF(A26<>\"\",IFERROR(VLOOKUP(Z26,Tabelas!B:D,3,0),0),\"\")","v":0},{"$f":"IF(A26<>\"\",IFERROR(VLOOKUP(AA26,Tabelas!B:D,3,0),0),\"\")","v":0},{"$f":"IF(A26<>\"\",IFERROR(VLOOKUP(AB26,Tabelas!B:D,3,0),0),\"\")","v":0},{"$f":"IF(A26<>\"\",IFERROR(VLOOKUP(AC26,Tabelas!B:D,3,0),0),\"\")","v":0},{"$f":"IF(A26<>\"\",IFERROR(VLOOKUP(AD26,Tabelas!B:D,3,0),0),\"\")","v":0},{"$f":"IF(A26<>\"\",IFERROR(VLOOKUP(AE26,Tabelas!B:D,3,0),0),\"\")","v":0},{"$f":"IF(A26<>\"\",IFERROR(VLOOKUP(AF26,Tabelas!B:D,3,0),0),\"\")","v":0},{"$f":"IF(A26<>\"\",IFERROR(VLOOKUP(AG26,Tabelas!B:D,3,0),0),\"\")","v":0},{"$f":"IF(A26<>\"\",IFERROR(VLOOKUP(AH26,Tabelas!B:D,3,0),0),\"\")","v":0},{"$f":"IF(A26<>\"\",IFERROR(VLOOKUP(AI26,Tabelas!B:D,3,0),0),\"\")","v":0},{"$f":"IF(A26<>\"\",IFERROR(VLOOKUP(AJ26,Tabelas!B:D,3,0),0),\"\")","v":0},{"$f":"IF(A26<>\"\",IFERROR(VLOOKUP(AK26,Tabelas!B:D,3,0),0),\"\")","v":0},{"$f":"IF(A26<>\"\",IFERROR(VLOOKUP(AL26,Tabelas!B:D,3,0),0),\"\")","v":0},{"$f":"IF(A26<>\"\",IFERROR(VLOOKUP(AM26,Tabelas!B:D,3,0),0),\"\")","v":0},{"$f":"IF(A26<>\"\",IFERROR(VLOOKUP(AN26,Tabelas!B:D,3,0),0),\"\")","v":0},{"$f":"IF(A26<>\"\",IFERROR(VLOOKUP(AO26,Tabelas!B:D,3,0),0),\"\")","v":0},{"$f":"IF(A26<>\"\",IFERROR(VLOOKUP(AP26,Tabelas!B:D,3,0),0),\"\")","v":0},{"$f":"IF(A26<>\"\",IFERROR(VLOOKUP(AQ26,Tabelas!B:D,3,0),0),\"\")","v":0},0,0,0,0,0,0,0,0]
["FULANO 19",19,null,null,null,null,null,null,null,null,null,null,null,null,null,null,null,null,null,null,null,null,null,null,null,null,null,null,null,null,null,null,null,null,null,null,null,null,null,null,null,null,null,{"$f":"IF(A27<>\"\",IFERROR(VLOOKUP(M27,Tabelas!B:D,3,0),0),\"\")","v":0},{"$f":"IF(A27<>\"\",IFERROR(VLOOKUP(N27,Tabelas!B:D,3,0),0),\"\")","v":0},{"$f":"IF(A27<>\"\",IFERROR(VLOOKUP(O27,Tabelas!B:D,3,0),0),\"\")","v":0},{"$f":"IF(A27<>\"\",IFERROR(VLOOKUP(P27,Tabelas!B:D,3,0),0),\"\")","v":0},{"$f":"IF(A27<>\"\",IFERROR(VLOOKUP(Q27,Tabelas!B:D,3,0),0),\"\")","v":0},{"$f":"IF(A27<>\"\",IFERROR(VLOOKUP(R27,Tabelas!B:D,3,0),0),\"\")","v":0},{"$f":"IF(A27<>\"\",IFERROR(VLOOKUP(S27,Tabelas!B:D,3,0),0),\"\")","v":0},{"$f":"IF(A27<>\"\",IFERROR(VLOOKUP(T27,Tabelas!B:D,3,0),0),\"\")","v":0},{"$f":"IF(A27<>\"\",IFERROR(VLOOKUP(U27,Tabelas!B:D,3,0),0),\"\")","v":0},{"$f":"IF(A27<>\"\",IFERROR(VLOOKUP(V27,Tabelas!B:D,3,0),0),\"\")","v":0},{"$f":"IF(A27<>\"\",IFERROR(VLOOKUP(W27,Tabelas!B:D,3,0),0),\"\")","v":0},{"$f":"IF(A27<>\"\",IFERROR(VLOOKUP(X27,Tabelas!B:D,3,0),0),\"\")","v":0},{"$f":"IF(A27<>\"\",IFERROR(VLOOKUP(Y27,Tabelas!B:D,3,0),0),\"\")","v":0},{"$f":"IF(A27<>\"\",IFERROR(VLOOKUP(Z27,Tabelas!B:D,3,0),0),\"\")","v":0},{"$f":"IF(A27<>\"\",IFERROR(VLOOKUP(AA27,Tabelas!B:D,3,0),0),\"\")","v":0},{"$f":"IF(A27<>\"\",IFERROR(VLOOKUP(AB27,Tabelas!B:D,3,0),0),\"\")","v":0},{"$f":"IF(A27<>\"\",IFERROR(VLOOKUP(AC27,Tabelas!B:D,3,0),0),\"\")","v":0},{"$f":"IF(A27<>\"\",IFERROR(VLOOKUP(AD27,Tabelas!B:D,3,0),0),\"\")","v":0},{"$f":"IF(A27<>\"\",IFERROR(VLOOKUP(AE27,Tabelas!B:D,3,0),0),\"\")","v":0},{"$f":"IF(A27<>\"\",IFERROR(VLOOKUP(AF27,Tabelas!B:D,3,0),0),\"\")","v":0},{"$f":"IF(A27<>\"\",IFERROR(VLOOKUP(AG27,Tabelas!B:D,3,0),0),\"\")","v":0},{"$f":"IF(A27<>\"\",IFERROR(VLOOKUP(AH27,Tabelas!B:D,3,0),0),\"\")","v":0},{"$f":"IF(A27<>\"\",IFERROR(VLOOKUP(AI27,Tabelas!B:D,3,0),0),\"\")","v":0},{"$f":"IF(A27<>\"\",IFERROR(VLOOKUP(AJ27,Tabelas!B:D,3,0),0),\"\")","v":0},{"$f":"IF(A27<>\"\",IFERROR(VLOOKUP(AK27,Tabelas!B:D,3,0),0),\"\")","v":0},{"$f":"IF(A27<>\"\",IFERROR(VLOOKUP(AL27,Tabelas!B:D,3,0),0),\"\")","v":0},{"$f":"IF(A27<>\"\",IFERROR(VLOOKUP(AM27,Tabelas!B:D,3,0),0),\"\")","v":0},{"$f":"IF(A27<>\"\",IFERROR(VLOOKUP(AN27,Tabelas!B:D,3,0),0),\"\")","v":0},{"$f":"IF(A27<>\"\",IFERROR(VLOOKUP(AO27,Tabelas!B:D,3,0),0),\"\")","v":0},{"$f":"IF(A27<>\"\",IFERROR(VLOOKUP(AP27,Tabelas!B:D,3,0),0),\"\")","v":0},{"$f":"IF(A27<>\"\",IFERROR(VLOOKUP(AQ27,Tabelas!B:D,3,0),0),\"\")","v":0},0,0,0,0,0,0,0,0]
["FULANO 20",20,null,null,null,null,null,null,null,null,null,null,null,null,null,null,null,null,null,null,null,null,null,null,null,null,null,null,null,null,null,null,null,null,null,null,null,null,null,null,null,null,null,{"$f":"IF(A28<>\"\",IFERROR(VLOOKUP(M28,Tabelas!B:D,3,0),0),\"\")","v":0},{"$f":"IF(A28<>\"\",IFERROR(VLOOKUP(N28,Tabelas!B:D,3,0),0),\"\")","v":0},{"$f":"IF(A28<>\"\",IFERROR(VLOOKUP(O28,Tabelas!B:D,3,0),0),\"\")","v":0},{"$f":"IF(A28<>\"\",IFERROR(VLOOKUP(P28,Tabelas!B:D,3,0),0),\"\")","v":0},{"$f":"IF(A28<>\"\",IFERROR(VLOOKUP(Q28,Tabelas!B:D,3,0),0),\"\")","v":0},{"$f":"IF(A28<>\"\",IFERROR(VLOOKUP(R28,Tabelas!B:D,3,0),0),\"\")","v":0},{"$f":"IF(A28<>\"\",IFERROR(VLOOKUP(S28,Tabelas!B:D,3,0),0),\"\")","v":0},{"$f":"IF(A28<>\"\",IFERROR(VLOOKUP(T28,Tabelas!B:D,3,0),0),\"\")","v":0},{"$f":"IF(A28<>\"\",IFERROR(VLOOKUP(U28,Tabelas!B:D,3,0),0),\"\")","v":0},{"$f":"IF(A28<>\"\",IFERROR(VLOOKUP(V28,Tabelas!B:D,3,0),0),\"\")","v":0},{"$f":"IF(A28<>\"\",IFERROR(VLOOKUP(W28,Tabelas!B:D,3,0),0),\"\")","v":0},{"$f":"IF(A28<>\"\",IFERROR(VLOOKUP(X28,Tabelas!B:D,3,0),0),\"\")","v":0},{"$f":"IF(A28<>\"\",IFERROR(VLOOKUP(Y28,Tabelas!B:D,3,0),0),\"\")","v":0},{"$f":"IF(A28<>\"\",IFERROR(VLOOKUP(Z28,Tabelas!B:D,3,0),0),\"\")","v":0},{"$f":"IF(A28<>\"\",IFERROR(VLOOKUP(AA28,Tabelas!B:D,3,0),0),\"\")","v":0},{"$f":"IF(A28<>\"\",IFERROR(VLOOKUP(AB28,Tabelas!B:D,3,0),0),\"\")","v":0},{"$f":"IF(A28<>\"\",IFERROR(VLOOKUP(AC28,Tabelas!B:D,3,0),0),\"\")","v":0},{"$f":"IF(A28<>\"\",IFERROR(VLOOKUP(AD28,Tabelas!B:D,3,0),0),\"\")","v":0},{"$f":"IF(A28<>\"\",IFERROR(VLOOKUP(AE28,Tabelas!B:D,3,0),0),\"\")","v":0},{"$f":"IF(A28<>\"\",IFERROR(VLOOKUP(AF28,Tabelas!B:D,3,0),0),\"\")","v":0},{"$f":"IF(A28<>\"\",IFERROR(VLOOKUP(AG28,Tabelas!B:D,3,0),0),\"\")","v":0},{"$f":"IF(A28<>\"\",IFERROR(VLOOKUP(AH28,Tabelas!B:D,3,0),0),\"\")","v":0},{"$f":"IF(A28<>\"\",IFERROR(VLOOKUP(AI28,Tabelas!B:D,3,0),0),\"\")","v":0},{"$f":"IF(A28<>\"\",IFERROR(VLOOKUP(AJ28,Tabelas!B:D,3,0),0),\"\")","v":0},{"$f":"IF(A28<>\"\",IFERROR(VLOOKUP(AK28,Tabelas!B:D,3,0),0),\"\")","v":0},{"$f":"IF(A28<>\"\",IFERROR(VLOOKUP(AL28,Tabelas!B:D,3,0),0),\"\")","v":0},{"$f":"IF(A28<>\"\",IFERROR(VLOOKUP(AM28,Tabelas!B:D,3,0),0),\"\")","v":0},{"$f":"IF(A28<>\"\",IFERROR(VLOOKUP(AN28,Tabelas!B:D,3,0),0),\"\")","v":0},{"$f":"IF(A28<>\"\",IFERROR(VLOOKUP(AO28,Tabelas!B:D,3,0),0),\"\")","v":0},{"$f":"IF(A28<>\"\",IFERROR(VLOOKUP(AP28,Tabelas!B:D,3,0),0),\"\")","v":0},{"$f":"IF(A28<>\"\",IFERROR(VLOOKUP(AQ28,Tabelas!B:D,3,0),0),\"\")","v":0},0,0,0,0,0,0,0,0]
["FULANO 21",21,null,null,null,null,null,null,null,null,null,null,null,null,null,null,null,null,null,null,null,null,null,null,null,null,null,null,null,null,null,null,null,null,null,null,null,null,null,null,null,null,null,{"$f":"IF(A29<>\"\",IFERROR(VLOOKUP(M29,Tabelas!B:D,3,0),0),\"\")","v":0},{"$f":"IF(A29<>\"\",IFERROR(VLOOKUP(N29,Tabelas!B:D,3,0),0),\"\")","v":0},{"$f":"IF(A29<>\"\",IFERROR(VLOOKUP(O29,Tabelas!B:D,3,0),0),\"\")","v":0},{"$f":"IF(A29<>\"\",IFERROR(VLOOKUP(P29,Tabelas!B:D,3,0),0),\"\")","v":0},{"$f":"IF(A29<>\"\",IFERROR(VLOOKUP(Q29,Tabelas!B:D,3,0),0),\"\")","v":0},{"$f":"IF(A29<>\"\",IFERROR(VLOOKUP(R29,Tabelas!B:D,3,0),0),\"\")","v":0},{"$f":"IF(A29<>\"\",IFERROR(VLOOKUP(S29,Tabelas!B:D,3,0),0),\"\")","v":0},{"$f":"IF(A29<>\"\",IFERROR(VLOOKUP(T29,Tabelas!B:D,3,0),0),\"\")","v":0},{"$f":"IF(A29<>\"\",IFERROR(VLOOKUP(U29,Tabelas!B:D,3,0),0),\"\")","v":0},{"$f":"IF(A29<>\"\",IFERROR(VLOOKUP(V29,Tabelas!B:D,3,0),0),\"\")","v":0},{"$f":"IF(A29<>\"\",IFERROR(VLOOKUP(W29,Tabelas!B:D,3,0),0),\"\")","v":0},{"$f":"IF(A29<>\"\",IFERROR(VLOOKUP(X29,Tabelas!B:D,3,0),0),\"\")","v":0},{"$f":"IF(A29<>\"\",IFERROR(VLOOKUP(Y29,Tabelas!B:D,3,0),0),\"\")","v":0},{"$f":"IF(A29<>\"\",IFERROR(VLOOKUP(Z29,Tabelas!B:D,3,0),0),\"\")","v":0},{"$f":"IF(A29<>\"\",IFERROR(VLOOKUP(AA29,Tabelas!B:D,3,0),0),\"\")","v":0},{"$f":"IF(A29<>\"\",IFERROR(VLOOKUP(AB29,Tabelas!B:D,3,0),0),\"\")","v":0},{"$f":"IF(A29<>\"\",IFERROR(VLOOKUP(AC29,Tabelas!B:D,3,0),0),\"\")","v":0},{"$f":"IF(A29<>\"\",IFERROR(VLOOKUP(AD29,Tabelas!B:D,3,0),0),\"\")","v":0},{"$f":"IF(A29<>\"\",IFERROR(VLOOKUP(AE29,Tabelas!B:D,3,0),0),\"\")","v":0},{"$f":"IF(A29<>\"\",IFERROR(VLOOKUP(AF29,Tabelas!B:D,3,0),0),\"\")","v":0},{"$f":"IF(A29<>\"\",IFERROR(VLOOKUP(AG29,Tabelas!B:D,3,0),0),\"\")","v":0},{"$f":"IF(A29<>\"\",IFERROR(VLOOKUP(AH29,Tabelas!B:D,3,0),0),\"\")","v":0},{"$f":"IF(A29<>\"\",IFERROR(VLOOKUP(AI29,Tabelas!B:D,3,0),0),\"\")","v":0},{"$f":"IF(A29<>\"\",IFERROR(VLOOKUP(AJ29,Tabelas!B:D,3,0),0),\"\")","v":0},{"$f":"IF(A29<>\"\",IFERROR(VLOOKUP(AK29,Tabelas!B:D,3,0),0),\"\")","v":0},{"$f":"IF(A29<>\"\",IFERROR(VLOOKUP(AL29,Tabelas!B:D,3,0),0),\"\")","v":0},{"$f":"IF(A29<>\"\",IFERROR(VLOOKUP(AM29,Tabelas!B:D,3,0),0),\"\")","v":0},{"$f":"IF(A29<>\"\",IFERROR(VLOOKUP(AN29,Tabelas!B:D,3,0),0),\"\")","v":0},{"$f":"IF(A29<>\"\",IFERROR(VLOOKUP(AO29,Tabelas!B:D,3,0),0),\"\")","v":0},{"$f":"IF(A29<>\"\",IFERROR(VLOOKUP(AP29,Tabelas!B:D,3,0),0),\"\")","v":0},{"$f":"IF(A29<>\"\",IFERROR(VLOOKUP(AQ29,Tabelas!B:D,3,0),0),\"\")","v":0},0,0,0,0,0,0,0,0]
["FULANO 22",22,null,null,null,null,null,null,null,null,null,null,null,null,null,null,null,null,null,null,null,null,null,null,null,null,null,null,null,null,null,null,null,null,null,null,null,null,null,null,null,null,null,{"$f":"IF(A30<>\"\",IFERROR(VLOOKUP(M30,Tabelas!B:D,3,0),0),\"\")","v":0},{"$f":"IF(A30<>\"\",IFERROR(VLOOKUP(N30,Tabelas!B:D,3,0),0),\"\")","v":0},{"$f":"IF(A30<>\"\",IFERROR(VLOOKUP(O30,Tabelas!B:D,3,0),0),\"\")","v":0},{"$f":"IF(A30<>\"\",IFERROR(VLOOKUP(P30,Tabelas!B:D,3,0),0),\"\")","v":0},{"$f":"IF(A30<>\"\",IFERROR(VLOOKUP(Q30,Tabelas!B:D,3,0),0),\"\")","v":0},{"$f":"IF(A30<>\"\",IFERROR(VLOOKUP(R30,Tabelas!B:D,3,0),0),\"\")","v":0},{"$f":"IF(A30<>\"\",IFERROR(VLOOKUP(S30,Tabelas!B:D,3,0),0),\"\")","v":0},{"$f":"IF(A30<>\"\",IFERROR(VLOOKUP(T30,Tabelas!B:D,3,0),0),\"\")","v":0},{"$f":"IF(A30<>\"\",IFERROR(VLOOKUP(U30,Tabelas!B:D,3,0),0),\"\")","v":0},{"$f":"IF(A30<>\"\",IFERROR(VLOOKUP(V30,Tabelas!B:D,3,0),0),\"\")","v":0},{"$f":"IF(A30<>\"\",IFERROR(VLOOKUP(W30,Tabelas!B:D,3,0),0),\"\")","v":0},{"$f":"IF(A30<>\"\",IFERROR(VLOOKUP(X30,Tabelas!B:D,3,0),0),\"\")","v":0},{"$f":"IF(A30<>\"\",IFERROR(VLOOKUP(Y30,Tabelas!B:D,3,0),0),\"\")","v":0},{"$f":"IF(A30<>\"\",IFERROR(VLOOKUP(Z30,Tabelas!B:D,3,0),0),\"\")","v":0},{"$f":"IF(A30<>\"\",IFERROR(VLOOKUP(AA30,Tabelas!B:D,3,0),0),\"\")","v":0},{"$f":"IF(A30<>\"\",IFERROR(VLOOKUP(AB30,Tabelas!B:D,3,0),0),\"\")","v":0},{"$f":"IF(A30<>\"\",IFERROR(VLOOKUP(AC30,Tabelas!B:D,3,0),0),\"\")","v":0},{"$f":"IF(A30<>\"\",IFERROR(VLOOKUP(AD30,Tabelas!B:D,3,0),0),\"\")","v":0},{"$f":"IF(A30<>\"\",IFERROR(VLOOKUP(AE30,Tabelas!B:D,3,0),0),\"\")","v":0},{"$f":"IF(A30<>\"\",IFERROR(VLOOKUP(AF30,Tabelas!B:D,3,0),0),\"\")","v":0},{"$f":"IF(A30<>\"\",IFERROR(VLOOKUP(AG30,Tabelas!B:D,3,0),0),\"\")","v":0},{"$f":"IF(A30<>\"\",IFERROR(VLOOKUP(AH30,Tabelas!B:D,3,0),0),\"\")","v":0},{"$f":"IF(A30<>\"\",IFERROR(VLOOKUP(AI30,Tabelas!B:D,3,0),0),\"\")","v":0},{"$f":"IF(A30<>\"\",IFERROR(VLOOKUP(AJ30,Tabelas!B:D,3,0),0),\"\")","v":0},{"$f":"IF(A30<>\"\",IFERROR(VLOOKUP(AK30,Tabelas!B:D,3,0),0),\"\")","v":0},{"$f":"IF(A30<>\"\",IFERROR(VLOOKUP(AL30,Tabelas!B:D,3,0),0),\"\")","v":0},{"$f":"IF(A30<>\"\",IFERROR(VLOOKUP(AM30,Tabelas!B:D,3,0),0),\"\")","v":0},{"$f":"IF(A30<>\"\",IFERROR(VLOOKUP(AN30,Tabelas!B:D,3,0),0),\"\")","v":0},{"$f":"IF(A30<>\"\",IFERROR(VLOOKUP(AO30,Tabelas!B:D,3,0),0),\"\")","v":0},{"$f":"IF(A30<>\"\",IFERROR(VLOOKUP(AP30,Tabelas!B:D,3,0),0),\"\")","v":0},{"$f":"IF(A30<>\"\",IFERROR(VLOOKUP(AQ30,Tabelas!B:D,3,0),0),\"\")","v":0},0,0,0,0,0,0,0,0]
["FULANO 23",23,null,null,null,null,null,null,null,null,null,null,null,null,null,null,null,null,null,null,null,null,null,null,null,null,null,null,null,null,null,null,null,null,null,null,null,null,null,null,null,null,null,{"$f":"IF(A31<>\"\",IFERROR(VLOOKUP(M31,Tabelas!B:D,3,0),0),\"\")","v":0},{"$f":"IF(A31<>\"\",IFERROR(VLOOKUP(N31,Tabelas!B:D,3,0),0),\"\")","v":0},{"$f":"IF(A31<>\"\",IFERROR(VLOOKUP(O31,Tabelas!B:D,3,0),0),\"\")","v":0},{"$f":"IF(A31<>\"\",IFERROR(VLOOKUP(P31,Tabelas!B:D,3,0),0),\"\")","v":0},{"$f":"IF(A31<>\"\",IFERROR(VLOOKUP(Q31,Tabelas!B:D,3,0),0),\"\")","v":0},{"$f":"IF(A31<>\"\",IFERROR(VLOOKUP(R31,Tabelas!B:D,3,0),0),\"\")","v":0},{"$f":"IF(A31<>\"\",IFERROR(VLOOKUP(S31,Tabelas!B:D,3,0),0),\"\")","v":0},{"$f":"IF(A31<>\"\",IFERROR(VLOOKUP(T31,Tabelas!B:D,3,0),0),\"\")","v":0},{"$f":"IF(A31<>\"\",IFERROR(VLOOKUP(U31,Tabelas!B:D,3,0),0),\"\")","v":0},{"$f":"IF(A31<>\"\",IFERROR(VLOOKUP(V31,Tabelas!B:D,3,0),0),\"\")","v":0},{"$f":"IF(A31<>\"\",IFERROR(VLOOKUP(W31,Tabelas!B:D,3,0),0),\"\")","v":0},{"$f":"IF(A31<>\"\",IFERROR(VLOOKUP(X31,Tabelas!B:D,3,0),0),\"\")","v":0},{"$f":"IF(A31<>\"\",IFERROR(VLOOKUP(Y31,Tabelas!B:D,3,0),0),\"\")","v":0},{"$f":"IF(A31<>\"\",IFERROR(VLOOKUP(Z31,Tabelas!B:D,3,0),0),\"\")","v":0},{"$f":"IF(A31<>\"\",IFERROR(VLOOKUP(AA31,Tabelas!B:D,3,0),0),\"\")","v":0},{"$f":"IF(A31<>\"\",IFERROR(VLOOKUP(AB31,Tabelas!B:D,3,0),0),\"\")","v":0},{"$f":"IF(A31<>\"\",IFERROR(VLOOKUP(AC31,Tabelas!B:D,3,0),0),\"\")","v":0},{"$f":"IF(A31<>\"\",IFERROR(VLOOKUP(AD31,Tabelas!B:D,3,0),0),\"\")","v":0},{"$f":"IF(A31<>\"\",IFERROR(VLOOKUP(AE31,Tabelas!B:D,3,0),0),\"\")","v":0},{"$f":"IF(A31<>\"\",IFERROR(VLOOKUP(AF31,Tabelas!B:D,3,0),0),\"\")","v":0},{"$f":"IF(A31<>\"\",IFERROR(VLOOKUP(AG31,Tabelas!B:D,3,0),0),\"\")","v":0},{"$f":"IF(A31<>\"\",IFERROR(VLOOKUP(AH31,Tabelas!B:D,3,0),0),\"\")","v":0},{"$f":"IF(A31<>\"\",IFERROR(VLOOKUP(AI31,Tabelas!B:D,3,0),0),\"\")","v":0},{"$f":"IF(A31<>\"\",IFERROR(VLOOKUP(AJ31,Tabelas!B:D,3,0),0),\"\")","v":0},{"$f":"IF(A31<>\"\",IFERROR(VLOOKUP(AK31,Tabelas!B:D,3,0),0),\"\")","v":0},{"$f":"IF(A31<>\"\",IFERROR(VLOOKUP(AL31,Tabelas!B:D,3,0),0),\"\")","v":0},{"$f":"IF(A31<>\"\",IFERROR(VLOOKUP(AM31,Tabelas!B:D,3,0),0),\"\")","v":0},{"$f":"IF(A31<>\"\",IFERROR(VLOOKUP(AN31,Tabelas!B:D,3,0),0),\"\")","v":0},{"$f":"IF(A31<>\"\",IFERROR(VLOOKUP(AO31,Tabelas!B:D,3,0),0),\"\")","v":0},{"$f":"IF(A31<>\"\",IFERROR(VLOOKUP(AP31,Tabelas!B:D,3,0),0),\"\")","v":0},{"$f":"IF(A31<>\"\",IFERROR(VLOOKUP(AQ31,Tabelas!B:D,3,0),0),\"\")","v":0},0,0,0,0,0,0,0,0]
["FULANO 24",24,null,null,null,null,null,null,null,null,null,null,null,null,null,null,null,null,null,null,null,null,null,null,null,null,null,null,null,null,null,null,null,null,null,null,null,null,null,null,null,null,null,{"$f":"IF(A32<>\"\",IFERROR(VLOOKUP(M32,Tabelas!B:D,3,0),0),\"\")","v":0},{"$f":"IF(A32<>\"\",IFERROR(VLOOKUP(N32,Tabelas!B:D,3,0),0),\"\")","v":0},{"$f":"IF(A32<>\"\",IFERROR(VLOOKUP(O32,Tabelas!B:D,3,0),0),\"\")","v":0},{"$f":"IF(A32<>\"\",IFERROR(VLOOKUP(P32,Tabelas!B:D,3,0),0),\"\")","v":0},{"$f":"IF(A32<>\"\",IFERROR(VLOOKUP(Q32,Tabelas!B:D,3,0),0),\"\")","v":0},{"$f":"IF(A32<>\"\",IFERROR(VLOOKUP(R32,Tabelas!B:D,3,0),0),\"\")","v":0},{"$f":"IF(A32<>\"\",IFERROR(VLOOKUP(S32,Tabelas!B:D,3,0),0),\"\")","v":0},{"$f":"IF(A32<>\"\",IFERROR(VLOOKUP(T32,Tabelas!B:D,3,0),0),\"\")","v":0},{"$f":"IF(A32<>\"\",IFERROR(VLOOKUP(U32,Tabelas!B:D,3,0),0),\"\")","v":0},{"$f":"IF(A32<>\"\",IFERROR(VLOOKUP(V32,Tabelas!B:D,3,0),0),\"\")","v":0},{"$f":"IF(A32<>\"\",IFERROR(VLOOKUP(W32,Tabelas!B:D,3,0),0),\"\")","v":0},{"$f":"IF(A32<>\"\",IFERROR(VLOOKUP(X32,Tabelas!B:D,3,0),0),\"\")","v":0},{"$f":"IF(A32<>\"\",IFERROR(VLOOKUP(Y32,Tabelas!B:D,3,0),0),\"\")","v":0},{"$f":"IF(A32<>\"\",IFERROR(VLOOKUP(Z32,Tabelas!B:D,3,0),0),\"\")","v":0},{"$f":"IF(A32<>\"\",IFERROR(VLOOKUP(AA32,Tabelas!B:D,3,0),0),\"\")","v":0},{"$f":"IF(A32<>\"\",IFERROR(VLOOKUP(AB32,Tabelas!B:D,3,0),0),\"\")","v":0},{"$f":"IF(A32<>\"\",IFERROR(VLOOKUP(AC32,Tabelas!B:D,3,0),0),\"\")","v":0},{"$f":"IF(A32<>\"\",IFERROR(VLOOKUP(AD32,Tabelas!B:D,3,0),0),\"\")","v":0},{"$f":"IF(A32<>\"\",IFERROR(VLOOKUP(AE32,Tabelas!B:D,3,0),0),\"\")","v":0},{"$f":"IF(A32<>\"\",IFERROR(VLOOKUP(AF32,Tabelas!B:D,3,0),0),\"\")","v":0},{"$f":"IF(A32<>\"\",IFERROR(VLOOKUP(AG32,Tabelas!B:D,3,0),0),\"\")","v":0},{"$f":"IF(A32<>\"\",IFERROR(VLOOKUP(AH32,Tabelas!B:D,3,0),0),\"\")","v":0},{"$f":"IF(A32<>\"\",IFERROR(VLOOKUP(AI32,Tabelas!B:D,3,0),0),\"\")","v":0},{"$f":"IF(A32<>\"\",IFERROR(VLOOKUP(AJ32,Tabelas!B:D,3,0),0),\"\")","v":0},{"$f":"IF(A32<>\"\",IFERROR(VLOOKUP(AK32,Tabelas!B:D,3,0),0),\"\")","v":0},{"$f":"IF(A32<>\"\",IFERROR(VLOOKUP(AL32,Tabelas!B:D,3,0),0),\"\")","v":0},{"$f":"IF(A32<>\"\",IFERROR(VLOOKUP(AM32,Tabelas!B:D,3,0),0),\"\")","v":0},{"$f":"IF(A32<>\"\",IFERROR(VLOOKUP(AN32,Tabelas!B:D,3,0),0),\"\")","v":0},{"$f":"IF(A32<>\"\",IFERROR(VLOOKUP(AO32,Tabelas!B:D,3,0),0),\"\")","v":0},{"$f":"IF(A32<>\"\",IFERROR(VLOOKUP(AP32,Tabelas!B:D,3,0),0),\"\")","v":0},{"$f":"IF(A32<>\"\",IFERROR(VLOOKUP(AQ32,Tabelas!B:D,3,0),0),\"\")","v":0},0,0,0,0,0,0,0,0]
["FULANO 25",25,null,null,null,null,null,null,null,null,null,null,null,null,null,null,null,null,null,null,null,null,null,null,null,null,null,null,null,null,null,null,null,null,null,null,null,null,null,null,null,null,null,{"$f":"IF(A33<>\"\",IFERROR(VLOOKUP(M33,Tabelas!B:D,3,0),0),\"\")","v":0},{"$f":"IF(A33<>\"\",IFERROR(VLOOKUP(N33,Tabelas!B:D,3,0),0),\"\")","v":0},{"$f":"IF(A33<>\"\",IFERROR(VLOOKUP(O33,Tabelas!B:D,3,0),0),\"\")","v":0},{"$f":"IF(A33<>\"\",IFERROR(VLOOKUP(P33,Tabelas!B:D,3,0),0),\"\")","v":0},{"$f":"IF(A33<>\"\",IFERROR(VLOOKUP(Q33,Tabelas!B:D,3,0),0),\"\")","v":0},{"$f":"IF(A33<>\"\",IFERROR(VLOOKUP(R33,Tabelas!B:D,3,0),0),\"\")","v":0},{"$f":"IF(A33<>\"\",IFERROR(VLOOKUP(S33,Tabelas!B:D,3,0),0),\"\")","v":0},{"$f":"IF(A33<>\"\",IFERROR(VLOOKUP(T33,Tabelas!B:D,3,0),0),\"\")","v":0},{"$f":"IF(A33<>\"\",IFERROR(VLOOKUP(U33,Tabelas!B:D,3,0),0),\"\")","v":0},{"$f":"IF(A33<>\"\",IFERROR(VLOOKUP(V33,Tabelas!B:D,3,0),0),\"\")","v":0},{"$f":"IF(A33<>\"\",IFERROR(VLOOKUP(W33,Tabelas!B:D,3,0),0),\"\")","v":0},{"$f":"IF(A33<>\"\",IFERROR(VLOOKUP(X33,Tabelas!B:D,3,0),0),\"\")","v":0},{"$f":"IF(A33<>\"\",IFERROR(VLOOKUP(Y33,Tabelas!B:D,3,0),0),\"\")","v":0},{"$f":"IF(A33<>\"\",IFERROR(VLOOKUP(Z33,Tabelas!B:D,3,0),0),\"\")","v":0},{"$f":"IF(A33<>\"\",IFERROR(VLOOKUP(AA33,Tabelas!B:D,3,0),0),\"\")","v":0},{"$f":"IF(A33<>\"\",IFERROR(VLOOKUP(AB33,Tabelas!B:D,3,0),0),\"\")","v":0},{"$f":"IF(A33<>\"\",IFERROR(VLOOKUP(AC33,Tabelas!B:D,3,0),0),\"\")","v":0},{"$f":"IF(A33<>\"\",IFERROR(VLOOKUP(AD33,Tabelas!B:D,3,0),0),\"\")","v":0},{"$f":"IF(A33<>\"\",IFERROR(VLOOKUP(AE33,Tabelas!B:D,3,0),0),\"\")","v":0},{"$f":"IF(A33<>\"\",IFERROR(VLOOKUP(AF33,Tabelas!B:D,3,0),0),\"\")","v":0},{"$f":"IF(A33<>\"\",IFERROR(VLOOKUP(AG33,Tabelas!B:D,3,0),0),\"\")","v":0},{"$f":"IF(A33<>\"\",IFERROR(VLOOKUP(AH33,Tabelas!B:D,3,0),0),\"\")","v":0},{"$f":"IF(A33<>\"\",IFERROR(VLOOKUP(AI33,Tabelas!B:D,3,0),0),\"\")","v":0},{"$f":"IF(A33<>\"\",IFERROR(VLOOKUP(AJ33,Tabelas!B:D,3,0),0),\"\")","v":0},{"$f":"IF(A33<>\"\",IFERROR(VLOOKUP(AK33,Tabelas!B:D,3,0),0),\"\")","v":0},{"$f":"IF(A33<>\"\",IFERROR(VLOOKUP(AL33,Tabelas!B:D,3,0),0),\"\")","v":0},{"$f":"IF(A33<>\"\",IFERROR(VLOOKUP(AM33,Tabelas!B:D,3,0),0),\"\")","v":0},{"$f":"IF(A33<>\"\",IFERROR(VLOOKUP(AN33,Tabelas!B:D,3,0),0),\"\")","v":0},{"$f":"IF(A33<>\"\",IFERROR(VLOOKUP(AO33,Tabelas!B:D,3,0),0),\"\")","v":0},{"$f":"IF(A33<>\"\",IFERROR(VLOOKUP(AP33,Tabelas!B:D,3,0),0),\"\")","v":0},{"$f":"IF(A33<>\"\",IFERROR(VLOOKUP(AQ33,Tabelas!B:D,3,0),0),\"\")","v":0},0,0,0,0,0,0,0,0]
["FULANO 26",26,null,null,null,null,null,null,null,null,null,null,null,null,null,null,null,null,null,null,null,null,null,null,null,null,null,null,null,null,null,null,null,null,null,null,null,null,null,null,null,null,null,{"$f":"IF(A34<>\"\",IFERROR(VLOOKUP(M34,Tabelas!B:D,3,0),0),\"\")","v":0},{"$f":"IF(A34<>\"\",IFERROR(VLOOKUP(N34,Tabelas!B:D,3,0),0),\"\")","v":0},{"$f":"IF(A34<>\"\",IFERROR(VLOOKUP(O34,Tabelas!B:D,3,0),0),\"\")","v":0},{"$f":"IF(A34<>\"\",IFERROR(VLOOKUP(P34,Tabelas!B:D,3,0),0),\"\")","v":0},{"$f":"IF(A34<>\"\",IFERROR(VLOOKUP(Q34,Tabelas!B:D,3,0),0),\"\")","v":0},{"$f":"IF(A34<>\"\",IFERROR(VLOOKUP(R34,Tabelas!B:D,3,0),0),\"\")","v":0},{"$f":"IF(A34<>\"\",IFERROR(VLOOKUP(S34,Tabelas!B:D,3,0),0),\"\")","v":0},{"$f":"IF(A34<>\"\",IFERROR(VLOOKUP(T34,Tabelas!B:D,3,0),0),\"\")","v":0},{"$f":"IF(A34<>\"\",IFERROR(VLOOKUP(U34,Tabelas!B:D,3,0),0),\"\")","v":0},{"$f":"IF(A34<>\"\",IFERROR(VLOOKUP(V34,Tabelas!B:D,3,0),0),\"\")","v":0},{"$f":"IF(A34<>\"\",IFERROR(VLOOKUP(W34,Tabelas!B:D,3,0),0),\"\")","v":0},{"$f":"IF(A34<>\"\",IFERROR(VLOOKUP(X34,Tabelas!B:D,3,0),0),\"\")","v":0},{"$f":"IF(A34<>\"\",IFERROR(VLOOKUP(Y34,Tabelas!B:D,3,0),0),\"\")","v":0},{"$f":"IF(A34<>\"\",IFERROR(VLOOKUP(Z34,Tabelas!B:D,3,0),0),\"\")","v":0},{"$f":"IF(A34<>\"\",IFERROR(VLOOKUP(AA34,Tabelas!B:D,3,0),0),\"\")","v":0},{"$f":"IF(A34<>\"\",IFERROR(VLOOKUP(AB34,Tabelas!B:D,3,0),0),\"\")","v":0},{"$f":"IF(A34<>\"\",IFERROR(VLOOKUP(AC34,Tabelas!B:D,3,0),0),\"\")","v":0},{"$f":"IF(A34<>\"\",IFERROR(VLOOKUP(AD34,Tabelas!B:D,3,0),0),\"\")","v":0},{"$f":"IF(A34<>\"\",IFERROR(VLOOKUP(AE34,Tabelas!B:D,3,0),0),\"\")","v":0},{"$f":"IF(A34<>\"\",IFERROR(VLOOKUP(AF34,Tabelas!B:D,3,0),0),\"\")","v":0},{"$f":"IF(A34<>\"\",IFERROR(VLOOKUP(AG34,Tabelas!B:D,3,0),0),\"\")","v":0},{"$f":"IF(A34<>\"\",IFERROR(VLOOKUP(AH34,Tabelas!B:D,3,0),0),\"\")","v":0},{"$f":"IF(A34<>\"\",IFERROR(VLOOKUP(AI34,Tabelas!B:D,3,0),0),\"\")","v":0},{"$f":"IF(A34<>\"\",IFERROR(VLOOKUP(AJ34,Tabelas!B:D,3,0),0),\"\")","v":0},{"$f":"IF(A34<>\"\",IFERROR(VLOOKUP(AK34,Tabelas!B:D,3,0),0),\"\")","v":0},{"$f":"IF(A34<>\"\",IFERROR(VLOOKUP(AL34,Tabelas!B:D,3,0),0),\"\")","v":0},{"$f":"IF(A34<>\"\",IFERROR(VLOOKUP(AM34,Tabelas!B:D,3,0),0),\"\")","v":0},{"$f":"IF(A34<>\"\",IFERROR(VLOOKUP(AN34,Tabelas!B:D,3,0),0),\"\")","v":0},{"$f":"IF(A34<>\"\",IFERROR(VLOOKUP(AO34,Tabelas!B:D,3,0),0),\"\")","v":0},{"$f":"IF(A34<>\"\",IFERROR(VLOOKUP(AP34,Tabelas!B:D,3,0),0),\"\")","v":0},{"$f":"IF(A34<>\"\",IFERROR(VLOOKUP(AQ34,Tabelas!B:D,3,0),0),\"\")","v":0},0,0,0,0,0,0,0,0]
["FULANO 27",27,null,null,null,null,null,null,null,null,null,null,null,null,null,null,null,null,null,null,null,null,null,null,null,null,null,null,null,null,null,null,null,null,null,null,null,null,null,null,null,null,null,{"$f":"IF(A35<>\"\",IFERROR(VLOOKUP(M35,Tabelas!B:D,3,0),0),\"\")","v":0},{"$f":"IF(A35<>\"\",IFERROR(VLOOKUP(N35,Tabelas!B:D,3,0),0),\"\")","v":0},{"$f":"IF(A35<>\"\",IFERROR(VLOOKUP(O35,Tabelas!B:D,3,0),0),\"\")","v":0},{"$f":"IF(A35<>\"\",IFERROR(VLOOKUP(P35,Tabelas!B:D,3,0),0),\"\")","v":0},{"$f":"IF(A35<>\"\",IFERROR(VLOOKUP(Q35,Tabelas!B:D,3,0),0),\"\")","v":0},{"$f":"IF(A35<>\"\",IFERROR(VLOOKUP(R35,Tabelas!B:D,3,0),0),\"\")","v":0},{"$f":"IF(A35<>\"\",IFERROR(VLOOKUP(S35,Tabelas!B:D,3,0),0),\"\")","v":0},{"$f":"IF(A35<>\"\",IFERROR(VLOOKUP(T35,Tabelas!B:D,3,0),0),\"\")","v":0},{"$f":"IF(A35<>\"\",IFERROR(VLOOKUP(U35,Tabelas!B:D,3,0),0),\"\")","v":0},{"$f":"IF(A35<>\"\",IFERROR(VLOOKUP(V35,Tabelas!B:D,3,0),0),\"\")","v":0},{"$f":"IF(A35<>\"\",IFERROR(VLOOKUP(W35,Tabelas!B:D,3,0),0),\"\")","v":0},{"$f":"IF(A35<>\"\",IFERROR(VLOOKUP(X35,Tabelas!B:D,3,0),0),\"\")","v":0},{"$f":"IF(A35<>\"\",IFERROR(VLOOKUP(Y35,Tabelas!B:D,3,0),0),\"\")","v":0},{"$f":"IF(A35<>\"\",IFERROR(VLOOKUP(Z35,Tabelas!B:D,3,0),0),\"\")","v":0},{"$f":"IF(A35<>\"\",IFERROR(VLOOKUP(AA35,Tabelas!B:D,3,0),0),\"\")","v":0},{"$f":"IF(A35<>\"\",IFERROR(VLOOKUP(AB35,Tabelas!B:D,3,0),0),\"\")","v":0},{"$f":"IF(A35<>\"\",IFERROR(VLOOKUP(AC35,Tabelas!B:D,3,0),0),\"\")","v":0},{"$f":"IF(A35<>\"\",IFERROR(VLOOKUP(AD35,Tabelas!B:D,3,0),0),\"\")","v":0},{"$f":"IF(A35<>\"\",IFERROR(VLOOKUP(AE35,Tabelas!B:D,3,0),0),\"\")","v":0},{"$f":"IF(A35<>\"\",IFERROR(VLOOKUP(AF35,Tabelas!B:D,3,0),0),\"\")","v":0},{"$f":"IF(A35<>\"\",IFERROR(VLOOKUP(AG35,Tabelas!B:D,3,0),0),\"\")","v":0},{"$f":"IF(A35<>\"\",IFERROR(VLOOKUP(AH35,Tabelas!B:D,3,0),0),\"\")","v":0},{"$f":"IF(A35<>\"\",IFERROR(VLOOKUP(AI35,Tabelas!B:D,3,0),0),\"\")","v":0},{"$f":"IF(A35<>\"\",IFERROR(VLOOKUP(AJ35,Tabelas!B:D,3,0),0),\"\")","v":0},{"$f":"IF(A35<>\"\",IFERROR(VLOOKUP(AK35,Tabelas!B:D,3,0),0),\"\")","v":0},{"$f":"IF(A35<>\"\",IFERROR(VLOOKUP(AL35,Tabelas!B:D,3,0),0),\"\")","v":0},{"$f":"IF(A35<>\"\",IFERROR(VLOOKUP(AM35,Tabelas!B:D,3,0),0),\"\")","v":0},{"$f":"IF(A35<>\"\",IFERROR(VLOOKUP(AN35,Tabelas!B:D,3,0),0),\"\")","v":0},{"$f":"IF(A35<>\"\",IFERROR(VLOOKUP(AO35,Tabelas!B:D,3,0),0),\"\")","v":0},{"$f":"IF(A35<>\"\",IFERROR(VLOOKUP(AP35,Tabelas!B:D,3,0),0),\"\")","v":0},{"$f":"IF(A35<>\"\",IFERROR(VLOOKUP(AQ35,Tabelas!B:D,3,0),0),\"\")","v":0},0,0,0,0,0,0,0,0]
["TOTAL PROFISSIONAIS MATUTINO",null,null,null,null,null,null,null,null,null,null,null,{"$f":"IF(COUNTIF(M9:M35,\"M*\")+ COUNTIF(M9:M35, \"D*\")-COUNTIF(M9:M35,\"DSR\")<>0,COUNTIF(M9:M35,\"M*\")+ COUNTIF(M9:M35, \"D*\")-COUNTIF(M9:M35,\"DSR\"),\"\")","v":""},"","","","","","","","","","","","","","","","","","","","","","","","","","","","","","",null,null,null,null,null,null,null,null,null,null,null,null,null,null,null,null,null,null,null,null,null,null,null,null,null,null,null,null,null,null,null,{"$f":"SUM(BW9:BW35)","v":0},0,0,0,0,0,0,0]
["TOTAL DE PROFISSIONAIS VESPERTINO",null,null,null,null,null,null,null,null,null,null,null,{"$f":"IF(COUNTIF(M9:M35,\"MT*\") + COUNTIF(M9:M35, \"D*\") + COUNTIF(M9:M35,\"T*\")-COUNTIF(M9:M35,\"DSR\")<>0,COUNTIF(M9:M35,\"MT*\") + COUNTIF(M9:M35, \"D*\") + COUNTIF(M9:M35,\"T*\")-COUNTIF(M9:M35,\"DSR\"),\"\")","v":""},"","","","","","","","","","","","","","","","","","","","","","","","","","","","","","",{"$f":"IF(A37<>\"\",IFERROR(VLOOKUP(M37,Tabelas!B:D,3,0),0),\"\")","v":0},{"$f":"IF(A37<>\"\",IFERROR(VLOOKUP(N37,Tabelas!B:D,3,0),0),\"\")","v":0},{"$f":"IF(A37<>\"\",IFERROR(VLOOKUP(O37,Tabelas!B:D,3,0),0),\"\")","v":0},{"$f":"IF(A37<>\"\",IFERROR(VLOOKUP(P37,Tabelas!B:D,3,0),0),\"\")","v":0},{"$f":"IF(A37<>\"\",IFERROR(VLOOKUP(Q37,Tabelas!B:D,3,0),0),\"\")","v":0},{"$f":"IF(A37<>\"\",IFERROR(VLOOKUP(R37,Tabelas!B:D,3,0),0),\"\")","v":0},{"$f":"IF(A37<>\"\",IFERROR(VLOOKUP(S37,Tabelas!B:D,3,0),0),\"\")","v":0},{"$f":"IF(A37<>\"\",IFERROR(VLOOKUP(T37,Tabelas!B:D,3,0),0),\"\")","v":0},{"$f":"IF(A37<>\"\",IFERROR(VLOOKUP(U37,Tabelas!B:D,3,0),0),\"\")","v":0},{"$f":"IF(A37<>\"\",IFERROR(VLOOKUP(V37,Tabelas!B:D,3,0),0),\"\")","v":0},{"$f":"IF(A37<>\"\",IFERROR(VLOOKUP(W37,Tabelas!B:D,3,0),0),\"\")","v":0},{"$f":"IF(A37<>\"\",IFERROR(VLOOKUP(X37,Tabelas!B:D,3,0),0),\"\")","v":0},{"$f":"IF(A37<>\"\",IFERROR(VLOOKUP(Y37,Tabelas!B:D,3,0),0),\"\")","v":0},{"$f":"IF(A37<>\"\",IFERROR(VLOOKUP(Z37,Tabelas!B:D,3,0),0),\"\")","v":0},{"$f":"IF(A37<>\"\",IFERROR(VLOOKUP(AA37,Tabelas!B:D,3,0),0),\"\")","v":0},{"$f":"IF(A37<>\"\",IFERROR(VLOOKUP(AB37,Tabelas!B:D,3,0),0),\"\")","v":0},{"$f":"IF(A37<>\"\",IFERROR(VLOOKUP(AC37,Tabelas!B:D,3,0),0),\"\")","v":0},{"$f":"IF(A37<>\"\",IFERROR(VLOOKUP(AD37,Tabelas!B:D,3,0),0),\"\")","v":0},{"$f":"IF(A37<>\"\",IFERROR(VLOOKUP(AE37,Tabelas!B:D,3,0),0),\"\")","v":0},{"$f":"IF(A37<>\"\",IFERROR(VLOOKUP(AF37,Tabelas!B:D,3,0),0),\"\")","v":0},{"$f":"IF(A37<>\"\",IFERROR(VLOOKUP(AG37,Tabelas!B:D,3,0),0),\"\")","v":0},{"$f":"IF(A37<>\"\",IFERROR(VLOOKUP(AH37,Tabelas!B:D,3,0),0),\"\")","v":0},{"$f":"IF(A37<>\"\",IFERROR(VLOOKUP(AI37,Tabelas!B:D,3,0),0),\"\")","v":0},{"$f":"IF(A37<>\"\",IFERROR(VLOOKUP(AJ37,Tabelas!B:D,3,0),0),\"\")","v":0},{"$f":"IF(A37<>\"\",IFERROR(VLOOKUP(AK37,Tabelas!B:D,3,0),0),\"\")","v":0},{"$f":"IF(A37<>\"\",IFERROR(VLOOKUP(AL37,Tabelas!B:D,3,0),0),\"\")","v":0},{"$f":"IF(A37<>\"\",IFERROR(VLOOKUP(AM37,Tabelas!B:D,3,0),0),\"\")","v":0},{"$f":"IF(A37<>\"\",IFERROR(VLOOKUP(AN37,Tabelas!B:D,3,0),0),\"\")","v":0},{"$f":"IF(A37<>\"\",IFERROR(VLOOKUP(AO37,Tabelas!B:D,3,0),0),\"\")","v":0},{"$f":"IF(A37<>\"\",IFERROR(VLOOKUP(AP37,Tabelas!B:D,3,0),0),\"\")","v":0},{"$f":"IF(A37<>\"\",IFERROR(VLOOKUP(AQ37,Tabelas!B:D,3,0),0),\"\")","v":0}]
["TOTAL DE PROFISSIONAIS NOTURNO",null,null,null,null,null,null,null,null,null,null,null,{"$f":"IF(COUNTIF(M9:M37,\"N?*\") + COUNTIF(M9:M37, \"DN*\")<>0,COUNTIF(M9:M37,\"N?*\") + COUNTIF(M9:M37, \"DN*\"),\"\")","v":""},"","","","","","","","","","","","","","","","","","","","","","","","","","","","","","",{"$f":"IF(A38<>\"\",IFERROR(VLOOKUP(M38,Tabelas!B:D,3,0),0),\"\")","v":0},{"$f":"IF(A38<>\"\",IFERROR(VLOOKUP(N38,Tabelas!B:D,3,0),0),\"\")","v":0},{"$f":"IF(A38<>\"\",IFERROR(VLOOKUP(O38,Tabelas!B:D,3,0),0),\"\")","v":0},{"$f":"IF(A38<>\"\",IFERROR(VLOOKUP(P38,Tabelas!B:D,3,0),0),\"\")","v":0},{"$f":"IF(A38<>\"\",IFERROR(VLOOKUP(Q38,Tabelas!B:D,3,0),0),\"\")","v":0},{"$f":"IF(A38<>\"\",IFERROR(VLOOKUP(R38,Tabelas!B:D,3,0),0),\"\")","v":0},{"$f":"IF(A38<>\"\",IFERROR(VLOOKUP(S38,Tabelas!B:D,3,0),0),\"\")","v":0},{"$f":"IF(A38<>\"\",IFERROR(VLOOKUP(T38,Tabelas!B:D,3,0),0),\"\")","v":0},{"$f":"IF(A38<>\"\",IFERROR(VLOOKUP(U38,Tabelas!B:D,3,0),0),\"\")","v":0},{"$f":"IF(A38<>\"\",IFERROR(VLOOKUP(V38,Tabelas!B:D,3,0),0),\"\")","v":0},{"$f":"IF(A38<>\"\",IFERROR(VLOOKUP(W38,Tabelas!B:D,3,0),0),\"\")","v":0},{"$f":"IF(A38<>\"\",IFERROR(VLOOKUP(X38,Tabelas!B:D,3,0),0),\"\")","v":0},{"$f":"IF(A38<>\"\",IFERROR(VLOOKUP(Y38,Tabelas!B:D,3,0),0),\"\")","v":0},{"$f":"IF(A38<>\"\",IFERROR(VLOOKUP(Z38,Tabelas!B:D,3,0),0),\"\")","v":0},{"$f":"IF(A38<>\"\",IFERROR(VLOOKUP(AA38,Tabelas!B:D,3,0),0),\"\")","v":0},{"$f":"IF(A38<>\"\",IFERROR(VLOOKUP(AB38,Tabelas!B:D,3,0),0),\"\")","v":0},{"$f":"IF(A38<>\"\",IFERROR(VLOOKUP(AC38,Tabelas!B:D,3,0),0),\"\")","v":0},{"$f":"IF(A38<>\"\",IFERROR(VLOOKUP(AD38,Tabelas!B:D,3,0),0),\"\")","v":0},{"$f":"IF(A38<>\"\",IFERROR(VLOOKUP(AE38,Tabelas!B:D,3,0),0),\"\")","v":0},{"$f":"IF(A38<>\"\",IFERROR(VLOOKUP(AF38,Tabelas!B:D,3,0),0),\"\")","v":0},{"$f":"IF(A38<>\"\",IFERROR(VLOOKUP(AG38,Tabelas!B:D,3,0),0),\"\")","v":0},{"$f":"IF(A38<>\"\",IFERROR(VLOOKUP(AH38,Tabelas!B:D,3,0),0),\"\")","v":0},{"$f":"IF(A38<>\"\",IFERROR(VLOOKUP(AI38,Tabelas!B:D,3,0),0),\"\")","v":0},{"$f":"IF(A38<>\"\",IFERROR(VLOOKUP(AJ38,Tabelas!B:D,3,0),0),\"\")","v":0},{"$f":"IF(A38<>\"\",IFERROR(VLOOKUP(AK38,Tabelas!B:D,3,0),0),\"\")","v":0},{"$f":"IF(A38<>\"\",IFERROR(VLOOKUP(AL38,Tabelas!B:D,3,0),0),\"\")","v":0},{"$f":"IF(A38<>\"\",IFERROR(VLOOKUP(AM38,Tabelas!B:D,3,0),0),\"\")","v":0},{"$f":"IF(A38<>\"\",IFERROR(VLOOKUP(AN38,Tabelas!B:D,3,0),0),\"\")","v":0},{"$f":"IF(A38<>\"\",IFERROR(VLOOKUP(AO38,Tabelas!B:D,3,0),0),\"\")","v":0},{"$f":"IF(A38<>\"\",IFERROR(VLOOKUP(AP38,Tabelas!B:D,3,0),0),\"\")","v":0},{"$f":"IF(A38<>\"\",IFERROR(VLOOKUP(AQ38,Tabelas!B:D,3,0),0),\"\")","v":0}]
[null,null,null,null,null,null,null,null,null,null,null,null,null,null,null,null,null,null,null,null,null,null,null,null,null,null,null,null,null,null,null,null,null,null,null,null,null,null,null,null,null,null,null,{"$f":"IF(A39<>\"\",IFERROR(VLOOKUP(M39,Tabelas!B:D,3,0),0),\"\")","v":""},{"$f":"IF(A39<>\"\",IFERROR(VLOOKUP(N39,Tabelas!B:D,3,0),0),\"\")","v":""},{"$f":"IF(A39<>\"\",IFERROR(VLOOKUP(O39,Tabelas!B:D,3,0),0),\"\")","v":""},{"$f":"IF(A39<>\"\",IFERROR(VLOOKUP(P39,Tabelas!B:D,3,0),0),\"\")","v":""},{"$f":"IF(A39<>\"\",IFERROR(VLOOKUP(Q39,Tabelas!B:D,3,0),0),\"\")","v":""},{"$f":"IF(A39<>\"\",IFERROR(VLOOKUP(R39,Tabelas!B:D,3,0),0),\"\")","v":""},{"$f":"IF(A39<>\"\",IFERROR(VLOOKUP(S39,Tabelas!B:D,3,0),0),\"\")","v":""},{"$f":"IF(A39<>\"\",IFERROR(VLOOKUP(T39,Tabelas!B:D,3,0),0),\"\")","v":""},{"$f":"IF(A39<>\"\",IFERROR(VLOOKUP(U39,Tabelas!B:D,3,0),0),\"\")","v":""},{"$f":"IF(A39<>\"\",IFERROR(VLOOKUP(V39,Tabelas!B:D,3,0),0),\"\")","v":""},{"$f":"IF(A39<>\"\",IFERROR(VLOOKUP(W39,Tabelas!B:D,3,0),0),\"\")","v":""},{"$f":"IF(A39<>\"\",IFERROR(VLOOKUP(X39,Tabelas!B:D,3,0),0),\"\")","v":""},{"$f":"IF(A39<>\"\",IFERROR(VLOOKUP(Y39,Tabelas!B:D,3,0),0),\"\")","v":""},{"$f":"IF(A39<>\"\",IFERROR(VLOOKUP(Z39,Tabelas!B:D,3,0),0),\"\")","v":""},{"$f":"IF(A39<>\"\",IFERROR(VLOOKUP(AA39,Tabelas!B:D,3,0),0),\"\")","v":""},{"$f":"IF(A39<>\"\",IFERROR(VLOOKUP(AB39,Tabelas!B:D,3,0),0),\"\")","v":""},{"$f":"IF(A39<>\"\",IFERROR(VLOOKUP(AC39,Tabelas!B:D,3,0),0),\"\")","v":""},{"$f":"IF(A39<>\"\",IFERROR(VLOOKUP(AD39,Tabelas!B:D,3,0),0),\"\")","v":""},{"$f":"IF(A39<>\"\",IFERROR(VLOOKUP(AE39,Tabelas!B:D,3,0),0),\"\")","v":""},{"$f":"IF(A39<>\"\",IFERROR(VLOOKUP(AF39,Tabelas!B:D,3,0),0),\"\")","v":""},{"$f":"IF(A39<>\"\",IFERROR(VLOOKUP(AG39,Tabelas!B:D,3,0),0),\"\")","v":""},{"$f":"IF(A39<>\"\",IFERROR(VLOOKUP(AH39,Tabelas!B:D,3,0),0),\"\")","v":""},{"$f":"IF(A39<>\"\",IFERROR(VLOOKUP(AI39,Tabelas!B:D,3,0),0),\"\")","v":""},{"$f":"IF(A39<>\"\",IFERROR(VLOOKUP(AJ39,Tabelas!B:D,3,0),0),\"\")","v":""},{"$f":"IF(A39<>\"\",IFERROR(VLOOKUP(AK39,Tabelas!B:D,3,0),0),\"\")","v":""},{"$f":"IF(A39<>\"\",IFERROR(VLOOKUP(AL39,Tabelas!B:D,3,0),0),\"\")","v":""},{"$f":"IF(A39<>\"\",IFERROR(VLOOKUP(AM39,Tabelas!B:D,3,0),0),\"\")","v":""},{"$f":"IF(A39<>\"\",IFERROR(VLOOKUP(AN39,Tabelas!B:D,3,0),0),\"\")","v":""},{"$f":"IF(A39<>\"\",IFERROR(VLOOKUP(AO39,Tabelas!B:D,3,0),0),\"\")","v":""},{"$f":"IF(A39<>\"\",IFERROR(VLOOKUP(AP39,Tabelas!B:D,3,0),0),\"\")","v":""},{"$f":"IF(A39<>\"\",IFERROR(VLOOKUP(AQ39,Tabelas!B:D,3,0),0),\"\")","v":""}]
["Legenda:"]
["Licença Maternidade","LM","Férias",null,null,null,null,null,null,"FE",null,"Ponto Facultativo",null,null,null,null,null,null,null,"PF","Manhã *",null,null,null,null,null,null,"M","Diurno (8 hrs) *",null,null,null,null,null,null,"MT"]
["Licença Paternidade","LP","Feriado",null,null,null,null,null,null,"FD",null,"Abono **",null,null,null,null,null,null,null,"AB","Tarde *",null,null,null,null,null,null,"T","Dia/ noite (24 hrs) *",null,null,null,null,null,null,"DN"]
["Licença Médica/Odontológica","L","Descanso Semanal Remunerado",null,null,null,null,null,null,"DSR",null,"Compensação de Horas***",null,null,null,null,null,null,null,"CH","Plantão Dia (12 hrs) *",null,null,null,null,null,null,"D"]
["Licença Capacitação","LC","Recesso",null,null,null,null,null,null,"RC",null,"Afastamento**",null,null,null,null,null,null,null,"AF","Plantão Noite (12 hrs) *",null,null,null,null,null,null,"N"]
[]
["OBSERVAÇÕES:"]
["* Para inserção das legendas referentes às jornadas de trabalho, verificar a Tabela 1 do Anexo do Memorando-Circular - SEI nº   25 /2018/CAP/DGP-EBSERH."]
["** Para inserção das legendas referentes aos Afastamentos previstos em lei e às Compensações de horas, verificar a Tabela 2 do Anexo do Memorando-Circular - SEI nº   25 /2018/CAP/DGP-EBSERH."]

{"sheet":"Setembro","index":8,"n_rows":48,"n_cols":82,"rows_kept":48,"cut":false,"hidden":false,"merged":[[40,20,40,26],[41,2,41,8],[41,9,41,10],[41,11,41,18],[41,20,41,26],[40,2,40,8],[40,9,40,10],[42,20,42,26],[43,2,43,8],[43,9,43,10],[43,11,43,18],[43,20,43,26],[35,0,35,11],[36,0,36,11],[37,0,37,11],[42,2,42,8],[42,9,42,10],[42,11,42,18],[40,11,40,18],[1,0,1,42],[2,0,2,42],[3,0,3,42],[4,1,4,20],[4,23,4,34],[4,37,4,42],[5,6,5,11],[6,76,7,76],[6,77,7,77],[6,78,7,78],[6,79,7,79],[6,6,7,6],[6,7,7,7],[6,8,7,8],[6,11,7,11],[6,9,7,9],[6,10,7,10],[6,80,7,80],[6,81,7,81],[5,12,5,42],[5,43,5,73],[5,75,5,81],[5,74,7,74],[6,75,7,75],[35,79,37,79],[35,80,37,80],[35,81,37,81],[40,28,40,34],[41,28,41,34],[35,74,37,74],[35,75,37,75],[35,76,37,76],[35,77,37,77],[35,78,37,78]]}
[]
[]
["NOME DO HU"]
["ESCALA MENSAL DE TRABALHO"]
["DIVISÃO /SETOR/UNIDADE:",null,null,null,null,null,null,null,null,null,null,null,null,null,null,null,null,null,null,null,null,"MÊS:",null,"Setembro",null,null,null,null,null,null,null,null,null,null,null,"ANO:",null,2019]
["NOME COMPLETO","SIAPE","     Registro Conselho Classe","Cargo","Vínculo","    C.H Sem","INTERVALO",null,null,null,null,null,"DIAS DO MÊS",null,null,null,null,null,null,null,null,null,null,null,null,null,null,null,null,null,null,null,null,null,null,null,null,null,null,null,null,null,null,"CÁLCULO DAS HORAS",null,null,null,null,null,null,null,null,null,null,null,null,null,null,null,null,null,null,null,null,null,null,null,null,null,null,null,null,null,null,"CH Men.","Dias"]
[null,null,null,null,null,null,"15' M","15' T","15' N","1H D","1H N","2H",1,2,3,4,5,6,7,8,9,10,11,12,13,14,15,16,17,18,19,20,21,22,23,24,25,{"$f":"IF(DAY(DATE(AL5,VLOOKUP(X5,Tabelas!M:N,2,0)+1,1)-1)>=26,26,\"\")","v":26},{"$f":"IF(DAY(DATE(AL5,VLOOKUP(X5,Tabelas!M:N,2,0)+1,1)-1)>=27,27,\"\")","v":27},{"$f":"IF(DAY(DATE(AL5,VLOOKUP(X5,Tabelas!M:N,2,0)+1,1)-1)>=28,28,\"\")","v":28},{"$f":"IF(DAY(DATE(AL5,VLOOKUP(X5,Tabelas!M:N,2,0)+1,1)-1)>=29,29,\"\")","v":29},{"$f":"IF(DAY(DATE(AL5,VLOOKUP(X5,Tabelas!M:N,2,0)+1,1)-1)>=30,30,\"\")","v":30},{"$f":"IF(DAY(DATE(AL5,VLOOKUP(X5,Tabelas!M:N,2,0)+1,1)-1)>=31,31,\"\")","v":""},null,null,null,null,null,null,null,null,null,null,null,null,null,null,null,null,null,null,null,null,null,null,null,null,null,null,null,null,null,null,null,null,"LM/LP/L","AB","FE","LC","CH","AF  "," Total Afast."]
[null,null,null,null,null,null,null,null,null,null,null,null,{"$f":"IF(M7<>\"\",IFERROR(VLOOKUP(WEEKDAY(CONCATENATE(M7,$X$5,$AL$5)),Tabelas!$I:$J,2,0),\"\"),\"\")","v":"DOM"},{"$f":"IF(N7<>\"\",IFERROR(VLOOKUP(WEEKDAY(CONCATENATE(N7,$X$5,$AL$5)),Tabelas!$I:$J,2,0),\"\"),\"\")","v":"SEG"},{"$f":"IF(O7<>\"\",IFERROR(VLOOKUP(WEEKDAY(CONCATENATE(O7,$X$5,$AL$5)),Tabelas!$I:$J,2,0),\"\"),\"\")","v":"TER"},{"$f":"IF(P7<>\"\",IFERROR(VLOOKUP(WEEKDAY(CONCATENATE(P7,$X$5,$AL$5)),Tabelas!$I:$J,2,0),\"\"),\"\")","v":"QUA"},{"$f":"IF(Q7<>\"\",IFERROR(VLOOKUP(WEEKDAY(CONCATENATE(Q7,$X$5,$AL$5)),Tabelas!$I:$J,2,0),\"\"),\"\")","v":"QUI"},{"$f":"IF(R7<>\"\",IFERROR(VLOOKUP(WEEKDAY(CONCATENATE(R7,$X$5,$AL$5)),Tabelas!$I:$J,2,0),\"\"),\"\")","v":"SEX"},{"$f":"IF(S7<>\"\",IFERROR(VLOOKUP(WEEKDAY(CONCATENATE(S7,$X$5,$AL$5)),Tabelas!$I:$J,2,0),\"\"),\"\")","v":"SAB"},{"$f":"IF(T7<>\"\",IFERROR(VLOOKUP(WEEKDAY(CONCATENATE(T7,$X$5,$AL$5)),Tabelas!$I:$J,2,0),\"\"),\"\")","v":"DOM"},{"$f":"IF(U7<>\"\",IFERROR(VLOOKUP(WEEKDAY(CONCATENATE(U7,$X$5,$AL$5)),Tabelas!$I:$J,2,0),\"\"),\"\")","v":"SEG"},{"$f":"IF(V7<>\"\",IFERROR(VLOOKUP(WEEKDAY(CONCATENATE(V7,$X$5,$AL$5)),Tabelas!$I:$J,2,0),\"\"),\"\")","v":"TER"},{"$f":"IF(W7<>\"\",IFERROR(VLOOKUP(WEEKDAY(CONCATENATE(W7,$X$5,$AL$5)),Tabelas!$I:$J,2,0),\"\"),\"\")","v":"QUA"},{"$f":"IF(X7<>\"\",IFERROR(VLOOKUP(WEEKDAY(CONCATENATE(X7,$X$5,$AL$5)),Tabelas!$I:$J,2,0),\"\"),\"\")","v":"QUI"},{"$f":"IF(Y7<>\"\",IFERROR(VLOOKUP(WEEKDAY(CONCATENATE(Y7,$X$5,$AL$5)),Tabelas!$I:$J,2,0),\"\"),\"\")","v":"SEX"},{"$f":"IF(Z7<>\"\",IFERROR(VLOOKUP(WEEKDAY(CONCATENATE(Z7,$X$5,$AL$5)),Tabelas!$I:$J,2,0),\"\"),\"\")","v":"SAB"},{"$f":"IF(AA7<>\"\",IFERROR(VLOOKUP(WEEKDAY(CONCATENATE(AA7,$X$5,$AL$5)),Tabelas!$I:$J,2,0),\"\"),\"\")","v":"DOM"},{"$f":"IF(AB7<>\"\",IFERROR(VLOOKUP(WEEKDAY(CONCATENATE(AB7,$X$5,$AL$5)),Tabelas!$I:$J,2,0),\"\"),\"\")","v":"SEG"},{"$f":"IF(AC7<>\"\",IFERROR(VLOOKUP(WEEKDAY(CONCATENATE(AC7,$X$5,$AL$5)),Tabelas!$I:$J,2,0),\"\"),\"\")","v":"TER"},{"$f":"IF(AD7<>\"\",IFERROR(VLOOKUP(WEEKDAY(CONCATENATE(AD7,$X$5,$AL$5)),Tabelas!$I:$J,2,0),\"\"),\"\")","v":"QUA"},{"$f":"IF(AE7<>\"\",IFERROR(VLOOKUP(WEEKDAY(CONCATENATE(AE7,$X$5,$AL$5)),Tabelas!$I:$J,2,0),\"\"),\"\")","v":"QUI"},{"$f":"IF(AF7<>\"\",IFERROR(VLOOKUP(WEEKDAY(CONCATENATE(AF7,$X$5,$AL$5)),Tabelas!$I:$J,2,0),\"\"),\"\")","v":"SEX"},{"$f":"IF(AG7<>\"\",IFERROR(VLOOKUP(WEEKDAY(CONCATENATE(AG7,$X$5,$AL$5)),Tabelas!$I:$J,2,0),\"\"),\"\")","v":"SAB"},{"$f":"IF(AH7<>\"\",IFERROR(VLOOKUP(WEEKDAY(CONCATENATE(AH7,$X$5,$AL$5)),Tabelas!$I:$J,2,0),\"\"),\"\")","v":"DOM"},{"$f":"IF(AI7<>\"\",IFERROR(VLOOKUP(WEEKDAY(CONCATENATE(AI7,$X$5,$AL$5)),Tabelas!$I:$J,2,0),\"\"),\"\")","v":"SEG"},{"$f":"IF(AJ7<>\"\",IFERROR(VLOOKUP(WEEKDAY(CONCATENATE(AJ7,$X$5,$AL$5)),Tabelas!$I:$J,2,0),\"\"),\"\")","v":"TER"},{"$f":"IF(AK7<>\"\",IFERROR(VLOOKUP(WEEKDAY(CONCATENATE(AK7,$X$5,$AL$5)),Tabelas!$I:$J,2,0),\"\"),\"\")","v":"QUA"},{"$f":"IF(AL7<>\"\",IFERROR(VLOOKUP(WEEKDAY(CONCATENATE(AL7,$X$5,$AL$5)),Tabelas!$I:$J,2,0),\"\"),\"\")","v":"QUI"},{"$f":"IF(AM7<>\"\",IFERROR(VLOOKUP(WEEKDAY(CONCATENATE(AM7,$X$5,$AL$5)),Tabelas!$I:$J,2,0),\"\"),\"\")","v":"SEX"},{"$f":"IF(AN7<>\"\",IFERROR(VLOOKUP(WEEKDAY(CONCATENATE(AN7,$X$5,$AL$5)),Tabelas!$I:$J,2,0),\"\"),\"\")","v":"SAB"},{"$f":"IF(AO7<>\"\",IFERROR(VLOOKUP(WEEKDAY(CONCATENATE(AO7,$X$5,$AL$5)),Tabelas!$I:$J,2,0),\"\"),\"\")","v":"DOM"},{"$f":"IF(AP7<>\"\",IFERROR(VLOOKUP(WEEKDAY(CONCATENATE(AP7,$X$5,$AL$5)),Tabelas!$I:$J,2,0),\"\"),\"\")","v":"SEG"},{"$f":"IF(AQ7<>\"\",IFERROR(VLOOKUP(WEEKDAY(CONCATENATE(AQ7,$X$5,$AL$5)),Tabelas!$I:$J,2,0),\"\"),\"\")","v":""},1,2,3,4,5,6,7,8,9,10,11,12,13,14,15,16,17,18,19,20,21,22,23,24,25,26,27,28,29,30,31]
["FULANO 1",1,null,null,null,null,null,null,null,null,null,null,null,null,null,null,null,null,null,null,null,null,null,null,null,null,null,null,null,null,null,null,null,null,null,null,null,null,null,null,null,null,null,{"$f":"IF(A9<>\"\",IFERROR(VLOOKUP(M9,Tabelas!B:D,3,0),0),\"\")","v":0},{"$f":"IF(A9<>\"\",IFERROR(VLOOKUP(N9,Tabelas!B:D,3,0),0),\"\")","v":0},{"$f":"IF(A9<>\"\",IFERROR(VLOOKUP(O9,Tabelas!B:D,3,0),0),\"\")","v":0},{"$f":"IF(A9<>\"\",IFERROR(VLOOKUP(P9,Tabelas!B:D,3,0),0),\"\")","v":0},{"$f":"IF(A9<>\"\",IFERROR(VLOOKUP(Q9,Tabelas!B:D,3,0),0),\"\")","v":0},{"$f":"IF(A9<>\"\",IFERROR(VLOOKUP(R9,Tabelas!B:D,3,0),0),\"\")","v":0},{"$f":"IF(A9<>\"\",IFERROR(VLOOKUP(S9,Tabelas!B:D,3,0),0),\"\")","v":0},{"$f":"IF(A9<>\"\",IFERROR(VLOOKUP(T9,Tabelas!B:D,3,0),0),\"\")","v":0},{"$f":"IF(A9<>\"\",IFERROR(VLOOKUP(U9,Tabelas!B:D,3,0),0),\"\")","v":0},{"$f":"IF(A9<>\"\",IFERROR(VLOOKUP(V9,Tabelas!B:D,3,0),0),\"\")","v":0},{"$f":"IF(A9<>\"\",IFERROR(VLOOKUP(W9,Tabelas!B:D,3,0),0),\"\")","v":0},{"$f":"IF(A9<>\"\",IFERROR(VLOOKUP(X9,Tabelas!B:D,3,0),0),\"\")","v":0},{"$f":"IF(A9<>\"\",IFERROR(VLOOKUP(Y9,Tabelas!B:D,3,0),0),\"\")","v":0},{"$f":"IF(A9<>\"\",IFERROR(VLOOKUP(Z9,Tabelas!B:D,3,0),0),\"\")","v":0},{"$f":"IF(A9<>\"\",IFERROR(VLOOKUP(AA9,Tabelas!B:D,3,0),0),\"\")","v":0},{"$f":"IF(A9<>\"\",IFERROR(VLOOKUP(AB9,Tabelas!B:D,3,0),0),\"\")","v":0},{"$f":"IF(A9<>\"\",IFERROR(VLOOKUP(AC9,Tabelas!B:D,3,0),0),\"\")","v":0},{"$f":"IF(A9<>\"\",IFERROR(VLOOKUP(AD9,Tabelas!B:D,3,0),0),\"\")","v":0},{"$f":"IF(A9<>\"\",IFERROR(VLOOKUP(AE9,Tabelas!B:D,3,0),0),\"\")","v":0},{"$f":"IF(A9<>\"\",IFERROR(VLOOKUP(AF9,Tabelas!B:D,3,0),0),\"\")","v":0},{"$f":"IF(A9<>\"\",IFERROR(VLOOKUP(AG9,Tabelas!B:D,3,0),0),\"\")","v":0},{"$f":"IF(A9<>\"\",IFERROR(VLOOKUP(AH9,Tabelas!B:D,3,0),0),\"\")","v":0},{"$f":"IF(A9<>\"\",IFERROR(VLOOKUP(AI9,Tabelas!B:D,3,0),0),\"\")","v":0},{"$f":"IF(A9<>\"\",IFERROR(VLOOKUP(AJ9,Tabelas!B:D,3,0),0),\"\")","v":0},{"$f":"IF(A9<>\"\",IFERROR(VLOOKUP(AK9,Tabelas!B:D,3,0),0),\"\")","v":0},{"$f":"IF(A9<>\"\",IFERROR(VLOOKUP(AL9,Tabelas!B:D,3,0),0),\"\")","v":0},{"$f":"IF(A9<>\"\",IFERROR(VLOOKUP(AM9,Tabelas!B:D,3,0),0),\"\")","v":0},{"$f":"IF(A9<>\"\",IFERROR(VLOOKUP(AN9,Tabelas!B:D,3,0),0),\"\")","v":0},{"$f":"IF(A9<>\"\",IFERROR(VLOOKUP(AO9,Tabelas!B:D,3,0),0),\"\")","v":0},{"$f":"IF(A9<>\"\",IFERROR(VLOOKUP(AP9,Tabelas!B:D,3,0),0),\"\")","v":0},{"$f":"IF(A9<>\"\",IFERROR(VLOOKUP(AQ9,Tabelas!B:D,3,0),0),\"\")","v":0},{"$f":"IF(AND(A9<>\"\",E9=\"Ebserh\"),SUM(AR9:BV9)+COUNTIF(M9:AQ9,\"N*\")+COUNTIF(M9:AQ9,\"DN*\"),IF(AND(A9<>\"\",E9<>\"Ebserh\"),SUM(AR9:BV9),\"\"))","v":0},{"$f":"IF(A9<>\"\",COUNTIF(M9:AQ9,\"LM\")+COUNTIF(M9:AQ9,\"L\")+COUNTIF(M9:AQ9,\"LP\"),\"\")","v":0},{"$f":"IF(A9<>\"\",COUNTIF(M9:AQ9,\"AB*\"),\"\")","v":0},{"$f":"IF(A9<>\"\",COUNTIF(M9:AQ9,\"FE\"),\"\")","v":0},{"$f":"IF(A9<>\"\",COUNTIF(M9:AQ9,\"LC\"),\"\")","v":0},{"$f":"IF(A9<>\"\",COUNTIF(M9:AQ9,\"CH*\"),\"\")","v":0},{"$f":"IF(A9<>\"\",COUNTIF(M9:AQ9,\"AF1\")+COUNTIF(M9:AQ9,\"AF2\")+COUNTIF(M9:AQ9,\"AF3\")+COUNTIF(M9:AQ9,\"AF4\")+COUNTIF(M9:AQ9,\"AF5\")+COUNTIF(M9:AQ9,\"AF6\")+COUNTIF(M9:AQ9,\"AF7\")+COUNTIF(M9:AQ9,\"AF8\")+COUNTIF(M9:AQ9,\"AF9\")+COUNTIF(M9:AQ9,\"AF10\")+COUNTIF(M9:AQ9,\"AF11\")+COUNTIF(M9:AQ9,\"AF12\")+COUNTIF(M9:AQ9,\"AF13\")+COUNTIF(M9:AQ9,\"AF14\"),\"\")","v":0},{"$f":"IF(A9<>\"\",COUNTIF(M9:AQ9,\"CH*\")+COUNTIF(M9:AQ9,\"L\")+COUNTIF(M9:AQ9,\"LM\")+COUNTIF(M9:AQ9,\"LP\")+COUNTIF(M9:AQ9,\"LC\")+COUNTIF(M9:AQ9,\"AB*\")+COUNTIF(M9:AQ9,\"AF1\")+COUNTIF(M9:AQ9,\"AF2\")+COUNTIF(M9:AQ9,\"AF3\")+COUNTIF(M9:AQ9,\"AF4\")+COUNTIF(M9:AQ9,\"AF5\")+COUNTIF(M9:AQ9,\"AF6\")+COUNTIF(M9:AQ9,\"AF7\")+COUNTIF(M9:AQ9,\"AF8\")+COUNTIF(M9:AQ9,\"AF9\")+COUNTIF(M9:AQ9,\"AF10\")+COUNTIF(M9:AQ9,\"AF11\")+COUNTIF(M9:AQ9,\"AF12\")+COUNTIF(M9:AQ9,\"AF13\")+COUNTIF(M9:AQ9,\"AF14\")+COUNTIF(M9:AQ9,\"RC\")+COUNTIF(M9:AQ9,\"FO\")+COUNTIF(M9:AQ9,\"FE\"),\"\")","v":0}]
["FULANO 2",2,null,null,null,null,null,null,null,null,null,null,null,null,null,null,null,null,null,null,null,null,null,null,null,null,null,null,null,null,null,null,null,null,null,null,null,null,null,null,null,null,null,{"$f":"IF(A10<>\"\",IFERROR(VLOOKUP(M10,Tabelas!B:D,3,0),0),\"\")","v":0},{"$f":"IF(A10<>\"\",IFERROR(VLOOKUP(N10,Tabelas!B:D,3,0),0),\"\")","v":0},{"$f":"IF(A10<>\"\",IFERROR(VLOOKUP(O10,Tabelas!B:D,3,0),0),\"\")","v":0},{"$f":"IF(A10<>\"\",IFERROR(VLOOKUP(P10,Tabelas!B:D,3,0),0),\"\")","v":0},{"$f":"IF(A10<>\"\",IFERROR(VLOOKUP(Q10,Tabelas!B:D,3,0),0),\"\")","v":0},{"$f":"IF(A10<>\"\",IFERROR(VLOOKUP(R10,Tabelas!B:D,3,0),0),\"\")","v":0},{"$f":"IF(A10<>\"\",IFERROR(VLOOKUP(S10,Tabelas!B:D,3,0),0),\"\")","v":0},{"$f":"IF(A10<>\"\",IFERROR(VLOOKUP(T10,Tabelas!B:D,3,0),0),\"\")","v":0},{"$f":"IF(A10<>\"\",IFERROR(VLOOKUP(U10,Tabelas!B:D,3,0),0),\"\")","v":0},{"$f":"IF(A10<>\"\",IFERROR(VLOOKUP(V10,Tabelas!B:D,3,0),0),\"\")","v":0},{"$f":"IF(A10<>\"\",IFERROR(VLOOKUP(W10,Tabelas!B:D,3,0),0),\"\")","v":0},{"$f":"IF(A10<>\"\",IFERROR(VLOOKUP(X10,Tabelas!B:D,3,0),0),\"\")","v":0},{"$f":"IF(A10<>\"\",IFERROR(VLOOKUP(Y10,Tabelas!B:D,3,0),0),\"\")","v":0},{"$f":"IF(A10<>\"\",IFERROR(VLOOKUP(Z10,Tabelas!B:D,3,0),0),\"\")","v":0},{"$f":"IF(A10<>\"\",IFERROR(VLOOKUP(AA10,Tabelas!B:D,3,0),0),\"\")","v":0},{"$f":"IF(A10<>\"\",IFERROR(VLOOKUP(AB10,Tabelas!B:D,3,0),0),\"\")","v":0},{"$f":"IF(A10<>\"\",IFERROR(VLOOKUP(AC10,Tabelas!B:D,3,0),0),\"\")","v":0},{"$f":"IF(A10<>\"\",IFERROR(VLOOKUP(AD10,Tabelas!B:D,3,0),0),\"\")","v":0},{"$f":"IF(A10<>\"\",IFERROR(VLOOKUP(AE10,Tabelas!B:D,3,0),0),\"\")","v":0},{"$f":"IF(A10<>\"\",IFERROR(VLOOKUP(AF10,Tabelas!B:D,3,0),0),\"\")","v":0},{"$f":"IF(A10<>\"\",IFERROR(VLOOKUP(AG10,Tabelas!B:D,3,0),0),\"\")","v":0},{"$f":"IF(A10<>\"\",IFERROR(VLOOKUP(AH10,Tabelas!B:D,3,0),0),\"\")","v":0},{"$f":"IF(A10<>\"\",IFERROR(VLOOKUP(AI10,Tabelas!B:D,3,0),0),\"\")","v":0},{"$f":"IF(A10<>\"\",IFERROR(VLOOKUP(AJ10,Tabelas!B:D,3,0),0),\"\")","v":0},{"$f":"IF(A10<>\"\",IFERROR(VLOOKUP(AK10,Tabelas!B:D,3,0),0),\"\")","v":0},{"$f":"IF(A10<>\"\",IFERROR(VLOOKUP(AL10,Tabelas!B:D,3,0),0),\"\")","v":0},{"$f":"IF(A10<>\"\",IFERROR(VLOOKUP(AM10,Tabelas!B:D,3,0),0),\"\")","v":0},{"$f":"IF(A10<>\"\",IFERROR(VLOOKUP(AN10,Tabelas!B:D,3,0),0),\"\")","v":0},{"$f":"IF(A10<>\"\",IFERROR(VLOOKUP(AO10,Tabelas!B:D,3,0),0),\"\")","v":0},{"$f":"IF(A10<>\"\",IFERROR(VLOOKUP(AP10,Tabelas!B:D,3,0),0),\"\")","v":0},{"$f":"IF(A10<>\"\",IFERROR(VLOOKUP(AQ10,Tabelas!B:D,3,0),0),\"\")","v":0},0,0,0,0,0,0,0,0]
["FULANO 3",3,null,null,null,null,null,null,null,null,null,null,null,null,null,null,null,null,null,null,null,null,null,null,null,null,null,null,null,null,null,null,null,null,null,null,null,null,null,null,null,null,null,{"$f":"IF(A11<>\"\",IFERROR(VLOOKUP(M11,Tabelas!B:D,3,0),0),\"\")","v":0},{"$f":"IF(A11<>\"\",IFERROR(VLOOKUP(N11,Tabelas!B:D,3,0),0),\"\")","v":0},{"$f":"IF(A11<>\"\",IFERROR(VLOOKUP(O11,Tabelas!B:D,3,0),0),\"\")","v":0},{"$f":"IF(A11<>\"\",IFERROR(VLOOKUP(P11,Tabelas!B:D,3,0),0),\"\")","v":0},{"$f":"IF(A11<>\"\",IFERROR(VLOOKUP(Q11,Tabelas!B:D,3,0),0),\"\")","v":0},{"$f":"IF(A11<>\"\",IFERROR(VLOOKUP(R11,Tabelas!B:D,3,0),0),\"\")","v":0},{"$f":"IF(A11<>\"\",IFERROR(VLOOKUP(S11,Tabelas!B:D,3,0),0),\"\")","v":0},{"$f":"IF(A11<>\"\",IFERROR(VLOOKUP(T11,Tabelas!B:D,3,0),0),\"\")","v":0},{"$f":"IF(A11<>\"\",IFERROR(VLOOKUP(U11,Tabelas!B:D,3,0),0),\"\")","v":0},{"$f":"IF(A11<>\"\",IFERROR(VLOOKUP(V11,Tabelas!B:D,3,0),0),\"\")","v":0},{"$f":"IF(A11<>\"\",IFERROR(VLOOKUP(W11,Tabelas!B:D,3,0),0),\"\")","v":0},{"$f":"IF(A11<>\"\",IFERROR(VLOOKUP(X11,Tabelas!B:D,3,0),0),\"\")","v":0},{"$f":"IF(A11<>\"\",IFERROR(VLOOKUP(Y11,Tabelas!B:D,3,0),0),\"\")","v":0},{"$f":"IF(A11<>\"\",IFERROR(VLOOKUP(Z11,Tabelas!B:D,3,0),0),\"\")","v":0},{"$f":"IF(A11<>\"\",IFERROR(VLOOKUP(AA11,Tabelas!B:D,3,0),0),\"\")","v":0},{"$f":"IF(A11<>\"\",IFERROR(VLOOKUP(AB11,Tabelas!B:D,3,0),0),\"\")","v":0},{"$f":"IF(A11<>\"\",IFERROR(VLOOKUP(AC11,Tabelas!B:D,3,0),0),\"\")","v":0},{"$f":"IF(A11<>\"\",IFERROR(VLOOKUP(AD11,Tabelas!B:D,3,0),0),\"\")","v":0},{"$f":"IF(A11<>\"\",IFERROR(VLOOKUP(AE11,Tabelas!B:D,3,0),0),\"\")","v":0},{"$f":"IF(A11<>\"\",IFERROR(VLOOKUP(AF11,Tabelas!B:D,3,0),0),\"\")","v":0},{"$f":"IF(A11<>\"\",IFERROR(VLOOKUP(AG11,Tabelas!B:D,3,0),0),\"\")","v":0},{"$f":"IF(A11<>\"\",IFERROR(VLOOKUP(AH11,Tabelas!B:D,3,0),0),\"\")","v":0},{"$f":"IF(A11<>\"\",IFERROR(VLOOKUP(AI11,Tabelas!B:D,3,0),0),\"\")","v":0},{"$f":"IF(A11<>\"\",IFERROR(VLOOKUP(AJ11,Tabelas!B:D,3,0),0),\"\")","v":0},{"$f":"IF(A11<>\"\",IFERROR(VLOOKUP(AK11,Tabelas!B:D,3,0),0),\"\")","v":0},{"$f":"IF(A11<>\"\",IFERROR(VLOOKUP(AL11,Tabelas!B:D,3,0),0),\"\")","v":0},{"$f":"IF(A11<>\"\",IFERROR(VLOOKUP(AM11,Tabelas!B:D,3,0),0),\"\")","v":0},{"$f":"IF(A11<>\"\",IFERROR(VLOOKUP(AN11,Tabelas!B:D,3,0),0),\"\")","v":0},{"$f":"IF(A11<>\"\",IFERROR(VLOOKUP(AO11,Tabelas!B:D,3,0),0),\"\")","v":0},{"$f":"IF(A11<>\"\",IFERROR(VLOOKUP(AP11,Tabelas!B:D,3,0),0),\"\")","v":0},{"$f":"IF(A11<>\"\",IFERROR(VLOOKUP(AQ11,Tabelas!B:D,3,0),0),\"\")","v":0},0,0,0,0,0,0,0,0]
["FULANO 4",4,null,null,null,null,null,null,null,null,null,null,null,null,null,null,null,null,null,null,null,null,null,null,null,null,null,null,null,null,null,null,null,null,null,null,null,null,null,null,null,null,null,{"$f":"IF(A12<>\"\",IFERROR(VLOOKUP(M12,Tabelas!B:D,3,0),0),\"\")","v":0},{"$f":"IF(A12<>\"\",IFERROR(VLOOKUP(N12,Tabelas!B:D,3,0),0),\"\")","v":0},{"$f":"IF(A12<>\"\",IFERROR(VLOOKUP(O12,Tabelas!B:D,3,0),0),\"\")","v":0},{"$f":"IF(A12<>\"\",IFERROR(VLOOKUP(P12,Tabelas!B:D,3,0),0),\"\")","v":0},{"$f":"IF(A12<>\"\",IFERROR(VLOOKUP(Q12,Tabelas!B:D,3,0),0),\"\")","v":0},{"$f":"IF(A12<>\"\",IFERROR(VLOOKUP(R12,Tabelas!B:D,3,0),0),\"\")","v":0},{"$f":"IF(A12<>\"\",IFERROR(VLOOKUP(S12,Tabelas!B:D,3,0),0),\"\")","v":0},{"$f":"IF(A12<>\"\",IFERROR(VLOOKUP(T12,Tabelas!B:D,3,0),0),\"\")","v":0},{"$f":"IF(A12<>\"\",IFERROR(VLOOKUP(U12,Tabelas!B:D,3,0),0),\"\")","v":0},{"$f":"IF(A12<>\"\",IFERROR(VLOOKUP(V12,Tabelas!B:D,3,0),0),\"\")","v":0},{"$f":"IF(A12<>\"\",IFERROR(VLOOKUP(W12,Tabelas!B:D,3,0),0),\"\")","v":0},{"$f":"IF(A12<>\"\",IFERROR(VLOOKUP(X12,Tabelas!B:D,3,0),0),\"\")","v":0},{"$f":"IF(A12<>\"\",IFERROR(VLOOKUP(Y12,Tabelas!B:D,3,0),0),\"\")","v":0},{"$f":"IF(A12<>\"\",IFERROR(VLOOKUP(Z12,Tabelas!B:D,3,0),0),\"\")","v":0},{"$f":"IF(A12<>\"\",IFERROR(VLOOKUP(AA12,Tabelas!B:D,3,0),0),\"\")","v":0},{"$f":"IF(A12<>\"\",IFERROR(VLOOKUP(AB12,Tabelas!B:D,3,0),0),\"\")","v":0},{"$f":"IF(A12<>\"\",IFERROR(VLOOKUP(AC12,Tabelas!B:D,3,0),0),\"\")","v":0},{"$f":"IF(A12<>\"\",IFERROR(VLOOKUP(AD12,Tabelas!B:D,3,0),0),\"\")","v":0},{"$f":"IF(A12<>\"\",IFERROR(VLOOKUP(AE12,Tabelas!B:D,3,0),0),\"\")","v":0},{"$f":"IF(A12<>\"\",IFERROR(VLOOKUP(AF12,Tabelas!B:D,3,0),0),\"\")","v":0},{"$f":"IF(A12<>\"\",IFERROR(VLOOKUP(AG12,Tabelas!B:D,3,0),0),\"\")","v":0},{"$f":"IF(A12<>\"\",IFERROR(VLOOKUP(AH12,Tabelas!B:D,3,0),0),\"\")","v":0},{"$f":"IF(A12<>\"\",IFERROR(VLOOKUP(AI12,Tabelas!B:D,3,0),0),\"\")","v":0},{"$f":"IF(A12<>\"\",IFERROR(VLOOKUP(AJ12,Tabelas!B:D,3,0),0),\"\")","v":0},{"$f":"IF(A12<>\"\",IFERROR(VLOOKUP(AK12,Tabelas!B:D,3,0),0),\"\")","v":0},{"$f":"IF(A12<>\"\",IFERROR(VLOOKUP(AL12,Tabelas!B:D,3,0),0),\"\")","v":0},{"$f":"IF(A12<>\"\",IFERROR(VLOOKUP(AM12,Tabelas!B:D,3,0),0),\"\")","v":0},{"$f":"IF(A12<>\"\",IFERROR(VLOOKUP(AN12,Tabelas!B:D,3,0),0),\"\")","v":0},{"$f":"IF(A12<>\"\",IFERROR(VLOOKUP(AO12,Tabelas!B:D,3,0),0),\"\")","v":0},{"$f":"IF(A12<>\"\",IFERROR(VLOOKUP(AP12,Tabelas!B:D,3,0),0),\"\")","v":0},{"$f":"IF(A12<>\"\",IFERROR(VLOOKUP(AQ12,Tabelas!B:D,3,0),0),\"\")","v":0},0,0,0,0,0,0,0,0]
["FULANO 5",5,null,null,null,null,null,null,null,null,null,null,null,null,null,null,null,null,null,null,null,null,null,null,null,null,null,null,null,null,null,null,null,null,null,null,null,null,null,null,null,null,null,{"$f":"IF(A13<>\"\",IFERROR(VLOOKUP(M13,Tabelas!B:D,3,0),0),\"\")","v":0},{"$f":"IF(A13<>\"\",IFERROR(VLOOKUP(N13,Tabelas!B:D,3,0),0),\"\")","v":0},{"$f":"IF(A13<>\"\",IFERROR(VLOOKUP(O13,Tabelas!B:D,3,0),0),\"\")","v":0},{"$f":"IF(A13<>\"\",IFERROR(VLOOKUP(P13,Tabelas!B:D,3,0),0),\"\")","v":0},{"$f":"IF(A13<>\"\",IFERROR(VLOOKUP(Q13,Tabelas!B:D,3,0),0),\"\")","v":0},{"$f":"IF(A13<>\"\",IFERROR(VLOOKUP(R13,Tabelas!B:D,3,0),0),\"\")","v":0},{"$f":"IF(A13<>\"\",IFERROR(VLOOKUP(S13,Tabelas!B:D,3,0),0),\"\")","v":0},{"$f":"IF(A13<>\"\",IFERROR(VLOOKUP(T13,Tabelas!B:D,3,0),0),\"\")","v":0},{"$f":"IF(A13<>\"\",IFERROR(VLOOKUP(U13,Tabelas!B:D,3,0),0),\"\")","v":0},{"$f":"IF(A13<>\"\",IFERROR(VLOOKUP(V13,Tabelas!B:D,3,0),0),\"\")","v":0},{"$f":"IF(A13<>\"\",IFERROR(VLOOKUP(W13,Tabelas!B:D,3,0),0),\"\")","v":0},{"$f":"IF(A13<>\"\",IFERROR(VLOOKUP(X13,Tabelas!B:D,3,0),0),\"\")","v":0},{"$f":"IF(A13<>\"\",IFERROR(VLOOKUP(Y13,Tabelas!B:D,3,0),0),\"\")","v":0},{"$f":"IF(A13<>\"\",IFERROR(VLOOKUP(Z13,Tabelas!B:D,3,0),0),\"\")","v":0},{"$f":"IF(A13<>\"\",IFERROR(VLOOKUP(AA13,Tabelas!B:D,3,0),0),\"\")","v":0},{"$f":"IF(A13<>\"\",IFERROR(VLOOKUP(AB13,Tabelas!B:D,3,0),0),\"\")","v":0},{"$f":"IF(A13<>\"\",IFERROR(VLOOKUP(AC13,Tabelas!B:D,3,0),0),\"\")","v":0},{"$f":"IF(A13<>\"\",IFERROR(VLOOKUP(AD13,Tabelas!B:D,3,0),0),\"\")","v":0},{"$f":"IF(A13<>\"\",IFERROR(VLOOKUP(AE13,Tabelas!B:D,3,0),0),\"\")","v":0},{"$f":"IF(A13<>\"\",IFERROR(VLOOKUP(AF13,Tabelas!B:D,3,0),0),\"\")","v":0},{"$f":"IF(A13<>\"\",IFERROR(VLOOKUP(AG13,Tabelas!B:D,3,0),0),\"\")","v":0},{"$f":"IF(A13<>\"\",IFERROR(VLOOKUP(AH13,Tabelas!B:D,3,0),0),\"\")","v":0},{"$f":"IF(A13<>\"\",IFERROR(VLOOKUP(AI13,Tabelas!B:D,3,0),0),\"\")","v":0},{"$f":"IF(A13<>\"\",IFERROR(VLOOKUP(AJ13,Tabelas!B:D,3,0),0),\"\")","v":0},{"$f":"IF(A13<>\"\",IFERROR(VLOOKUP(AK13,Tabelas!B:D,3,0),0),\"\")","v":0},{"$f":"IF(A13<>\"\",IFERROR(VLOOKUP(AL13,Tabelas!B:D,3,0),0),\"\")","v":0},{"$f":"IF(A13<>\"\",IFERROR(VLOOKUP(AM13,Tabelas!B:D,3,0),0),\"\")","v":0},{"$f":"IF(A13<>\"\",IFERROR(VLOOKUP(AN13,Tabelas!B:D,3,0),0),\"\")","v":0},{"$f":"IF(A13<>\"\",IFERROR(VLOOKUP(AO13,Tabelas!B:D,3,0),0),\"\")","v":0},{"$f":"IF(A13<>\"\",IFERROR(VLOOKUP(AP13,Tabelas!B:D,3,0),0),\"\")","v":0},{"$f":"IF(A13<>\"\",IFERROR(VLOOKUP(AQ13,Tabelas!B:D,3,0),0),\"\")","v":0},0,0,0,0,0,0,0,0]
["FULANO 6",6,null,null,null,null,null,null,null,null,null,null,null,null,null,null,null,null,null,null,null,null,null,null,null,null,null,null,null,null,null,null,null,null,null,null,null,null,null,null,null,null,null,{"$f":"IF(A14<>\"\",IFERROR(VLOOKUP(M14,Tabelas!B:D,3,0),0),\"\")","v":0},{"$f":"IF(A14<>\"\",IFERROR(VLOOKUP(N14,Tabelas!B:D,3,0),0),\"\")","v":0},{"$f":"IF(A14<>\"\",IFERROR(VLOOKUP(O14,Tabelas!B:D,3,0),0),\"\")","v":0},{"$f":"IF(A14<>\"\",IFERROR(VLOOKUP(P14,Tabelas!B:D,3,0),0),\"\")","v":0},{"$f":"IF(A14<>\"\",IFERROR(VLOOKUP(Q14,Tabelas!B:D,3,0),0),\"\")","v":0},{"$f":"IF(A14<>\"\",IFERROR(VLOOKUP(R14,Tabelas!B:D,3,0),0),\"\")","v":0},{"$f":"IF(A14<>\"\",IFERROR(VLOOKUP(S14,Tabelas!B:D,3,0),0),\"\")","v":0},{"$f":"IF(A14<>\"\",IFERROR(VLOOKUP(T14,Tabelas!B:D,3,0),0),\"\")","v":0},{"$f":"IF(A14<>\"\",IFERROR(VLOOKUP(U14,Tabelas!B:D,3,0),0),\"\")","v":0},{"$f":"IF(A14<>\"\",IFERROR(VLOOKUP(V14,Tabelas!B:D,3,0),0),\"\")","v":0},{"$f":"IF(A14<>\"\",IFERROR(VLOOKUP(W14,Tabelas!B:D,3,0),0),\"\")","v":0},{"$f":"IF(A14<>\"\",IFERROR(VLOOKUP(X14,Tabelas!B:D,3,0),0),\"\")","v":0},{"$f":"IF(A14<>\"\",IFERROR(VLOOKUP(Y14,Tabelas!B:D,3,0),0),\"\")","v":0},{"$f":"IF(A14<>\"\",IFERROR(VLOOKUP(Z14,Tabelas!B:D,3,0),0),\"\")","v":0},{"$f":"IF(A14<>\"\",IFERROR(VLOOKUP(AA14,Tabelas!B:D,3,0),0),\"\")","v":0},{"$f":"IF(A14<>\"\",IFERROR(VLOOKUP(AB14,Tabelas!B:D,3,0),0),\"\")","v":0},{"$f":"IF(A14<>\"\",IFERROR(VLOOKUP(AC14,Tabelas!B:D,3,0),0),\"\")","v":0},{"$f":"IF(A14<>\"\",IFERROR(VLOOKUP(AD14,Tabelas!B:D,3,0),0),\"\")","v":0},{"$f":"IF(A14<>\"\",IFERROR(VLOOKUP(AE14,Tabelas!B:D,3,0),0),\"\")","v":0},{"$f":"IF(A14<>\"\",IFERROR(VLOOKUP(AF14,Tabelas!B:D,3,0),0),\"\")","v":0},{"$f":"IF(A14<>\"\",IFERROR(VLOOKUP(AG14,Tabelas!B:D,3,0),0),\"\")","v":0},{"$f":"IF(A14<>\"\",IFERROR(VLOOKUP(AH14,Tabelas!B:D,3,0),0),\"\")","v":0},{"$f":"IF(A14<>\"\",IFERROR(VLOOKUP(AI14,Tabelas!B:D,3,0),0),\"\")","v":0},{"$f":"IF(A14<>\"\",IFERROR(VLOOKUP(AJ14,Tabelas!B:D,3,0),0),\"\")","v":0},{"$f":"IF(A14<>\"\",IFERROR(VLOOKUP(AK14,Tabelas!B:D,3,0),0),\"\")","v":0},{"$f":"IF(A14<>\"\",IFERROR(VLOOKUP(AL14,Tabelas!B:D,3,0),0),\"\")","v":0},{"$f":"IF(A14<>\"\",IFERROR(VLOOKUP(AM14,Tabelas!B:D,3,0),0),\"\")","v":0},{"$f":"IF(A14<>\"\",IFERROR(VLOOKUP(AN14,Tabelas!B:D,3,0),0),\"\")","v":0},{"$f":"IF(A14<>\"\",IFERROR(VLOOKUP(AO14,Tabelas!B:D,3,0),0),\"\")","v":0},{"$f":"IF(A14<>\"\",IFERROR(VLOOKUP(AP14,Tabelas!B:D,3,0),0),\"\")","v":0},{"$f":"IF(A14<>\"\",IFERROR(VLOOKUP(AQ14,Tabelas!B:D,3,0),0),\"\")","v":0},0,0,0,0,0,0,0,0]
["FULANO 7",7,null,null,null,null,null,null,null,null,null,null,null,null,null,null,null,null,null,null,null,null,null,null,null,null,null,null,null,null,null,null,null,null,null,null,null,null,null,null,null,null,null,{"$f":"IF(A15<>\"\",IFERROR(VLOOKUP(M15,Tabelas!B:D,3,0),0),\"\")","v":0},{"$f":"IF(A15<>\"\",IFERROR(VLOOKUP(N15,Tabelas!B:D,3,0),0),\"\")","v":0},{"$f":"IF(A15<>\"\",IFERROR(VLOOKUP(O15,Tabelas!B:D,3,0),0),\"\")","v":0},{"$f":"IF(A15<>\"\",IFERROR(VLOOKUP(P15,Tabelas!B:D,3,0),0),\"\")","v":0},{"$f":"IF(A15<>\"\",IFERROR(VLOOKUP(Q15,Tabelas!B:D,3,0),0),\"\")","v":0},{"$f":"IF(A15<>\"\",IFERROR(VLOOKUP(R15,Tabelas!B:D,3,0),0),\"\")","v":0},{"$f":"IF(A15<>\"\",IFERROR(VLOOKUP(S15,Tabelas!B:D,3,0),0),\"\")","v":0},{"$f":"IF(A15<>\"\",IFERROR(VLOOKUP(T15,Tabelas!B:D,3,0),0),\"\")","v":0},{"$f":"IF(A15<>\"\",IFERROR(VLOOKUP(U15,Tabelas!B:D,3,0),0),\"\")","v":0},{"$f":"IF(A15<>\"\",IFERROR(VLOOKUP(V15,Tabelas!B:D,3,0),0),\"\")","v":0},{"$f":"IF(A15<>\"\",IFERROR(VLOOKUP(W15,Tabelas!B:D,3,0),0),\"\")","v":0},{"$f":"IF(A15<>\"\",IFERROR(VLOOKUP(X15,Tabelas!B:D,3,0),0),\"\")","v":0},{"$f":"IF(A15<>\"\",IFERROR(VLOOKUP(Y15,Tabelas!B:D,3,0),0),\"\")","v":0},{"$f":"IF(A15<>\"\",IFERROR(VLOOKUP(Z15,Tabelas!B:D,3,0),0),\"\")","v":0},{"$f":"IF(A15<>\"\",IFERROR(VLOOKUP(AA15,Tabelas!B:D,3,0),0),\"\")","v":0},{"$f":"IF(A15<>\"\",IFERROR(VLOOKUP(AB15,Tabelas!B:D,3,0),0),\"\")","v":0},{"$f":"IF(A15<>\"\",IFERROR(VLOOKUP(AC15,Tabelas!B:D,3,0),0),\"\")","v":0},{"$f":"IF(A15<>\"\",IFERROR(VLOOKUP(AD15,Tabelas!B:D,3,0),0),\"\")","v":0},{"$f":"IF(A15<>\"\",IFERROR(VLOOKUP(AE15,Tabelas!B:D,3,0),0),\"\")","v":0},{"$f":"IF(A15<>\"\",IFERROR(VLOOKUP(AF15,Tabelas!B:D,3,0),0),\"\")","v":0},{"$f":"IF(A15<>\"\",IFERROR(VLOOKUP(AG15,Tabelas!B:D,3,0),0),\"\")","v":0},{"$f":"IF(A15<>\"\",IFERROR(VLOOKUP(AH15,Tabelas!B:D,3,0),0),\"\")","v":0},{"$f":"IF(A15<>\"\",IFERROR(VLOOKUP(AI15,Tabelas!B:D,3,0),0),\"\")","v":0},{"$f":"IF(A15<>\"\",IFERROR(VLOOKUP(AJ15,Tabelas!B:D,3,0),0),\"\")","v":0},{"$f":"IF(A15<>\"\",IFERROR(VLOOKUP(AK15,Tabelas!B:D,3,0),0),\"\")","v":0},{"$f":"IF(A15<>\"\",IFERROR(VLOOKUP(AL15,Tabelas!B:D,3,0),0),\"\")","v":0},{"$f":"IF(A15<>\"\",IFERROR(VLOOKUP(AM15,Tabelas!B:D,3,0),0),\"\")","v":0},{"$f":"IF(A15<>\"\",IFERROR(VLOOKUP(AN15,Tabelas!B:D,3,0),0),\"\")","v":0},{"$f":"IF(A15<>\"\",IFERROR(VLOOKUP(AO15,Tabelas!B:D,3,0),0),\"\")","v":0},{"$f":"IF(A15<>\"\",IFERROR(VLOOKUP(AP15,Tabelas!B:D,3,0),0),\"\")","v":0},{"$f":"IF(A15<>\"\",IFERROR(VLOOKUP(AQ15,Tabelas!B:D,3,0),0),\"\")","v":0},0,0,0,0,0,0,0,0]
["FULANO 8",8,null,null,null,null,null,null,null,null,null,null,null,null,null,null,null,null,null,null,null,null,null,null,null,null,null,null,null,null,null,null,null,null,null,null,null,null,null,null,null,null,null,{"$f":"IF(A16<>\"\",IFERROR(VLOOKUP(M16,Tabelas!B:D,3,0),0),\"\")","v":0},{"$f":"IF(A16<>\"\",IFERROR(VLOOKUP(N16,Tabelas!B:D,3,0),0),\"\")","v":0},{"$f":"IF(A16<>\"\",IFERROR(VLOOKUP(O16,Tabelas!B:D,3,0),0),\"\")","v":0},{"$f":"IF(A16<>\"\",IFERROR(VLOOKUP(P16,Tabelas!B:D,3,0),0),\"\")","v":0},{"$f":"IF(A16<>\"\",IFERROR(VLOOKUP(Q16,Tabelas!B:D,3,0),0),\"\")","v":0},{"$f":"IF(A16<>\"\",IFERROR(VLOOKUP(R16,Tabelas!B:D,3,0),0),\"\")","v":0},{"$f":"IF(A16<>\"\",IFERROR(VLOOKUP(S16,Tabelas!B:D,3,0),0),\"\")","v":0},{"$f":"IF(A16<>\"\",IFERROR(VLOOKUP(T16,Tabelas!B:D,3,0),0),\"\")","v":0},{"$f":"IF(A16<>\"\",IFERROR(VLOOKUP(U16,Tabelas!B:D,3,0),0),\"\")","v":0},{"$f":"IF(A16<>\"\",IFERROR(VLOOKUP(V16,Tabelas!B:D,3,0),0),\"\")","v":0},{"$f":"IF(A16<>\"\",IFERROR(VLOOKUP(W16,Tabelas!B:D,3,0),0),\"\")","v":0},{"$f":"IF(A16<>\"\",IFERROR(VLOOKUP(X16,Tabelas!B:D,3,0),0),\"\")","v":0},{"$f":"IF(A16<>\"\",IFERROR(VLOOKUP(Y16,Tabelas!B:D,3,0),0),\"\")","v":0},{"$f":"IF(A16<>\"\",IFERROR(VLOOKUP(Z16,Tabelas!B:D,3,0),0),\"\")","v":0},{"$f":"IF(A16<>\"\",IFERROR(VLOOKUP(AA16,Tabelas!B:D,3,0),0),\"\")","v":0},{"$f":"IF(A16<>\"\",IFERROR(VLOOKUP(AB16,Tabelas!B:D,3,0),0),\"\")","v":0},{"$f":"IF(A16<>\"\",IFERROR(VLOOKUP(AC16,Tabelas!B:D,3,0),0),\"\")","v":0},{"$f":"IF(A16<>\"\",IFERROR(VLOOKUP(AD16,Tabelas!B:D,3,0),0),\"\")","v":0},{"$f":"IF(A16<>\"\",IFERROR(VLOOKUP(AE16,Tabelas!B:D,3,0),0),\"\")","v":0},{"$f":"IF(A16<>\"\",IFERROR(VLOOKUP(AF16,Tabelas!B:D,3,0),0),\"\")","v":0},{"$f":"IF(A16<>\"\",IFERROR(VLOOKUP(AG16,Tabelas!B:D,3,0),0),\"\")","v":0},{"$f":"IF(A16<>\"\",IFERROR(VLOOKUP(AH16,Tabelas!B:D,3,0),0),\"\")","v":0},{"$f":"IF(A16<>\"\",IFERROR(VLOOKUP(AI16,Tabelas!B:D,3,0),0),\"\")","v":0},{"$f":"IF(A16<>\"\",IFERROR(VLOOKUP(AJ16,Tabelas!B:D,3,0),0),\"\")","v":0},{"$f":"IF(A16<>\"\",IFERROR(VLOOKUP(AK16,Tabelas!B:D,3,0),0),\"\")","v":0},{"$f":"IF(A16<>\"\",IFERROR(VLOOKUP(AL16,Tabelas!B:D,3,0),0),\"\")","v":0},{"$f":"IF(A16<>\"\",IFERROR(VLOOKUP(AM16,Tabelas!B:D,3,0),0),\"\")","v":0},{"$f":"IF(A16<>\"\",IFERROR(VLOOKUP(AN16,Tabelas!B:D,3,0),0),\"\")","v":0},{"$f":"IF(A16<>\"\",IFERROR(VLOOKUP(AO16,Tabelas!B:D,3,0),0),\"\")","v":0},{"$f":"IF(A16<>\"\",IFERROR(VLOOKUP(AP16,Tabelas!B:D,3,0),0),\"\")","v":0},{"$f":"IF(A16<>\"\",IFERROR(VLOOKUP(AQ16,Tabelas!B:D,3,0),0),\"\")","v":0},0,0,0,0,0,0,0,0]
["FULANO 9",9,null,null,null,null,null,null,null,null,null,null,null,null,null,null,null,null,null,null,null,null,null,null,null,null,null,null,null,null,null,null,null,null,null,null,null,null,null,null,null,null,null,{"$f":"IF(A17<>\"\",IFERROR(VLOOKUP(M17,Tabelas!B:D,3,0),0),\"\")","v":0},{"$f":"IF(A17<>\"\",IFERROR(VLOOKUP(N17,Tabelas!B:D,3,0),0),\"\")","v":0},{"$f":"IF(A17<>\"\",IFERROR(VLOOKUP(O17,Tabelas!B:D,3,0),0),\"\")","v":0},{"$f":"IF(A17<>\"\",IFERROR(VLOOKUP(P17,Tabelas!B:D,3,0),0),\"\")","v":0},{"$f":"IF(A17<>\"\",IFERROR(VLOOKUP(Q17,Tabelas!B:D,3,0),0),\"\")","v":0},{"$f":"IF(A17<>\"\",IFERROR(VLOOKUP(R17,Tabelas!B:D,3,0),0),\"\")","v":0},{"$f":"IF(A17<>\"\",IFERROR(VLOOKUP(S17,Tabelas!B:D,3,0),0),\"\")","v":0},{"$f":"IF(A17<>\"\",IFERROR(VLOOKUP(T17,Tabelas!B:D,3,0),0),\"\")","v":0},{"$f":"IF(A17<>\"\",IFERROR(VLOOKUP(U17,Tabelas!B:D,3,0),0),\"\")","v":0},{"$f":"IF(A17<>\"\",IFERROR(VLOOKUP(V17,Tabelas!B:D,3,0),0),\"\")","v":0},{"$f":"IF(A17<>\"\",IFERROR(VLOOKUP(W17,Tabelas!B:D,3,0),0),\"\")","v":0},{"$f":"IF(A17<>\"\",IFERROR(VLOOKUP(X17,Tabelas!B:D,3,0),0),\"\")","v":0},{"$f":"IF(A17<>\"\",IFERROR(VLOOKUP(Y17,Tabelas!B:D,3,0),0),\"\")","v":0},{"$f":"IF(A17<>\"\",IFERROR(VLOOKUP(Z17,Tabelas!B:D,3,0),0),\"\")","v":0},{"$f":"IF(A17<>\"\",IFERROR(VLOOKUP(AA17,Tabelas!B:D,3,0),0),\"\")","v":0},{"$f":"IF(A17<>\"\",IFERROR(VLOOKUP(AB17,Tabelas!B:D,3,0),0),\"\")","v":0},{"$f":"IF(A17<>\"\",IFERROR(VLOOKUP(AC17,Tabelas!B:D,3,0),0),\"\")","v":0},{"$f":"IF(A17<>\"\",IFERROR(VLOOKUP(AD17,Tabelas!B:D,3,0),0),\"\")","v":0},{"$f":"IF(A17<>\"\",IFERROR(VLOOKUP(AE17,Tabelas!B:D,3,0),0),\"\")","v":0},{"$f":"IF(A17<>\"\",IFERROR(VLOOKUP(AF17,Tabelas!B:D,3,0),0),\"\")","v":0},{"$f":"IF(A17<>\"\",IFERROR(VLOOKUP(AG17,Tabelas!B:D,3,0),0),\"\")","v":0},{"$f":"IF(A17<>\"\",IFERROR(VLOOKUP(AH17,Tabelas!B:D,3,0),0),\"\")","v":0},{"$f":"IF(A17<>\"\",IFERROR(VLOOKUP(AI17,Tabelas!B:D,3,0),0),\"\")","v":0},{"$f":"IF(A17<>\"\",IFERROR(VLOOKUP(AJ17,Tabelas!B:D,3,0),0),\"\")","v":0},{"$f":"IF(A17<>\"\",IFERROR(VLOOKUP(AK17,Tabelas!B:D,3,0),0),\"\")","v":0},{"$f":"IF(A17<>\"\",IFERROR(VLOOKUP(AL17,Tabelas!B:D,3,0),0),\"\")","v":0},{"$f":"IF(A17<>\"\",IFERROR(VLOOKUP(AM17,Tabelas!B:D,3,0),0),\"\")","v":0},{"$f":"IF(A17<>\"\",IFERROR(VLOOKUP(AN17,Tabelas!B:D,3,0),0),\"\")","v":0},{"$f":"IF(A17<>\"\",IFERROR(VLOOKUP(AO17,Tabelas!B:D,3,0),0),\"\")","v":0},{"$f":"IF(A17<>\"\",IFERROR(VLOOKUP(AP17,Tabelas!B:D,3,0),0),\"\")","v":0},{"$f":"IF(A17<>\"\",IFERROR(VLOOKUP(AQ17,Tabelas!B:D,3,0),0),\"\")","v":0},0,0,0,0,0,0,0,0]
["FULANO 10",10,null,null,null,null,null,null,null,null,null,null,null,null,null,null,null,null,null,null,null,null,null,null,null,null,null,null,null,null,null,null,null,null,null,null,null,null,null,null,null,null,null,{"$f":"IF(A18<>\"\",IFERROR(VLOOKUP(M18,Tabelas!B:D,3,0),0),\"\")","v":0},{"$f":"IF(A18<>\"\",IFERROR(VLOOKUP(N18,Tabelas!B:D,3,0),0),\"\")","v":0},{"$f":"IF(A18<>\"\",IFERROR(VLOOKUP(O18,Tabelas!B:D,3,0),0),\"\")","v":0},{"$f":"IF(A18<>\"\",IFERROR(VLOOKUP(P18,Tabelas!B:D,3,0),0),\"\")","v":0},{"$f":"IF(A18<>\"\",IFERROR(VLOOKUP(Q18,Tabelas!B:D,3,0),0),\"\")","v":0},{"$f":"IF(A18<>\"\",IFERROR(VLOOKUP(R18,Tabelas!B:D,3,0),0),\"\")","v":0},{"$f":"IF(A18<>\"\",IFERROR(VLOOKUP(S18,Tabelas!B:D,3,0),0),\"\")","v":0},{"$f":"IF(A18<>\"\",IFERROR(VLOOKUP(T18,Tabelas!B:D,3,0),0),\"\")","v":0},{"$f":"IF(A18<>\"\",IFERROR(VLOOKUP(U18,Tabelas!B:D,3,0),0),\"\")","v":0},{"$f":"IF(A18<>\"\",IFERROR(VLOOKUP(V18,Tabelas!B:D,3,0),0),\"\")","v":0},{"$f":"IF(A18<>\"\",IFERROR(VLOOKUP(W18,Tabelas!B:D,3,0),0),\"\")","v":0},{"$f":"IF(A18<>\"\",IFERROR(VLOOKUP(X18,Tabelas!B:D,3,0),0),\"\")","v":0},{"$f":"IF(A18<>\"\",IFERROR(VLOOKUP(Y18,Tabelas!B:D,3,0),0),\"\")","v":0},{"$f":"IF(A18<>\"\",IFERROR(VLOOKUP(Z18,Tabelas!B:D,3,0),0),\"\")","v":0},{"$f":"IF(A18<>\"\",IFERROR(VLOOKUP(AA18,Tabelas!B:D,3,0),0),\"\")","v":0},{"$f":"IF(A18<>\"\",IFERROR(VLOOKUP(AB18,Tabelas!B:D,3,0),0),\"\")","v":0},{"$f":"IF(A18<>\"\",IFERROR(VLOOKUP(AC18,Tabelas!B:D,3,0),0),\"\")","v":0},{"$f":"IF(A18<>\"\",IFERROR(VLOOKUP(AD18,Tabelas!B:D,3,0),0),\"\")","v":0},{"$f":"IF(A18<>\"\",IFERROR(VLOOKUP(AE18,Tabelas!B:D,3,0),0),\"\")","v":0},{"$f":"IF(A18<>\"\",IFERROR(VLOOKUP(AF18,Tabelas!B:D,3,0),0),\"\")","v":0},{"$f":"IF(A18<>\"\",IFERROR(VLOOKUP(AG18,Tabelas!B:D,3,0),0),\"\")","v":0},{"$f":"IF(A18<>\"\",IFERROR(VLOOKUP(AH18,Tabelas!B:D,3,0),0),\"\")","v":0},{"$f":"IF(A18<>\"\",IFERROR(VLOOKUP(AI18,Tabelas!B:D,3,0),0),\"\")","v":0},{"$f":"IF(A18<>\"\",IFERROR(VLOOKUP(AJ18,Tabelas!B:D,3,0),0),\"\")","v":0},{"$f":"IF(A18<>\"\",IFERROR(VLOOKUP(AK18,Tabelas!B:D,3,0),0),\"\")","v":0},{"$f":"IF(A18<>\"\",IFERROR(VLOOKUP(AL18,Tabelas!B:D,3,0),0),\"\")","v":0},{"$f":"IF(A18<>\"\",IFERROR(VLOOKUP(AM18,Tabelas!B:D,3,0),0),\"\")","v":0},{"$f":"IF(A18<>\"\",IFERROR(VLOOKUP(AN18,Tabelas!B:D,3,0),0),\"\")","v":0},{"$f":"IF(A18<>\"\",IFERROR(VLOOKUP(AO18,Tabelas!B:D,3,0),0),\"\")","v":0},{"$f":"IF(A18<>\"\",IFERROR(VLOOKUP(AP18,Tabelas!B:D,3,0),0),\"\")","v":0},{"$f":"IF(A18<>\"\",IFERROR(VLOOKUP(AQ18,Tabelas!B:D,3,0),0),\"\")","v":0},0,0,0,0,0,0,0,0]
["FULANO 11",11,null,null,null,null,null,null,null,null,null,null,null,null,null,null,null,null,null,null,null,null,null,null,null,null,null,null,null,null,null,null,null,null,null,null,null,null,null,null,null,null,null,{"$f":"IF(A19<>\"\",IFERROR(VLOOKUP(M19,Tabelas!B:D,3,0),0),\"\")","v":0},{"$f":"IF(A19<>\"\",IFERROR(VLOOKUP(N19,Tabelas!B:D,3,0),0),\"\")","v":0},{"$f":"IF(A19<>\"\",IFERROR(VLOOKUP(O19,Tabelas!B:D,3,0),0),\"\")","v":0},{"$f":"IF(A19<>\"\",IFERROR(VLOOKUP(P19,Tabelas!B:D,3,0),0),\"\")","v":0},{"$f":"IF(A19<>\"\",IFERROR(VLOOKUP(Q19,Tabelas!B:D,3,0),0),\"\")","v":0},{"$f":"IF(A19<>\"\",IFERROR(VLOOKUP(R19,Tabelas!B:D,3,0),0),\"\")","v":0},{"$f":"IF(A19<>\"\",IFERROR(VLOOKUP(S19,Tabelas!B:D,3,0),0),\"\")","v":0},{"$f":"IF(A19<>\"\",IFERROR(VLOOKUP(T19,Tabelas!B:D,3,0),0),\"\")","v":0},{"$f":"IF(A19<>\"\",IFERROR(VLOOKUP(U19,Tabelas!B:D,3,0),0),\"\")","v":0},{"$f":"IF(A19<>\"\",IFERROR(VLOOKUP(V19,Tabelas!B:D,3,0),0),\"\")","v":0},{"$f":"IF(A19<>\"\",IFERROR(VLOOKUP(W19,Tabelas!B:D,3,0),0),\"\")","v":0},{"$f":"IF(A19<>\"\",IFERROR(VLOOKUP(X19,Tabelas!B:D,3,0),0),\"\")","v":0},{"$f":"IF(A19<>\"\",IFERROR(VLOOKUP(Y19,Tabelas!B:D,3,0),0),\"\")","v":0},{"$f":"IF(A19<>\"\",IFERROR(VLOOKUP(Z19,Tabelas!B:D,3,0),0),\"\")","v":0},{"$f":"IF(A19<>\"\",IFERROR(VLOOKUP(AA19,Tabelas!B:D,3,0),0),\"\")","v":0},{"$f":"IF(A19<>\"\",IFERROR(VLOOKUP(AB19,Tabelas!B:D,3,0),0),\"\")","v":0},{"$f":"IF(A19<>\"\",IFERROR(VLOOKUP(AC19,Tabelas!B:D,3,0),0),\"\")","v":0},{"$f":"IF(A19<>\"\",IFERROR(VLOOKUP(AD19,Tabelas!B:D,3,0),0),\"\")","v":0},{"$f":"IF(A19<>\"\",IFERROR(VLOOKUP(AE19,Tabelas!B:D,3,0),0),\"\")","v":0},{"$f":"IF(A19<>\"\",IFERROR(VLOOKUP(AF19,Tabelas!B:D,3,0),0),\"\")","v":0},{"$f":"IF(A19<>\"\",IFERROR(VLOOKUP(AG19,Tabelas!B:D,3,0),0),\"\")","v":0},{"$f":"IF(A19<>\"\",IFERROR(VLOOKUP(AH19,Tabelas!B:D,3,0),0),\"\")","v":0},{"$f":"IF(A19<>\"\",IFERROR(VLOOKUP(AI19,Tabelas!B:D,3,0),0),\"\")","v":0},{"$f":"IF(A19<>\"\",IFERROR(VLOOKUP(AJ19,Tabelas!B:D,3,0),0),\"\")","v":0},{"$f":"IF(A19<>\"\",IFERROR(VLOOKUP(AK19,Tabelas!B:D,3,0),0),\"\")","v":0},{"$f":"IF(A19<>\"\",IFERROR(VLOOKUP(AL19,Tabelas!B:D,3,0),0),\"\")","v":0},{"$f":"IF(A19<>\"\",IFERROR(VLOOKUP(AM19,Tabelas!B:D,3,0),0),\"\")","v":0},{"$f":"IF(A19<>\"\",IFERROR(VLOOKUP(AN19,Tabelas!B:D,3,0),0),\"\")","v":0},{"$f":"IF(A19<>\"\",IFERROR(VLOOKUP(AO19,Tabelas!B:D,3,0),0),\"\")","v":0},{"$f":"IF(A19<>\"\",IFERROR(VLOOKUP(AP19,Tabelas!B:D,3,0),0),\"\")","v":0},{"$f":"IF(A19<>\"\",IFERROR(VLOOKUP(AQ19,Tabelas!B:D,3,0),0),\"\")","v":0},0,0,0,0,0,0,0,0]
["FULANO 12",12,null,null,null,null,null,null,null,null,null,null,null,null,null,null,null,null,null,null,null,null,null,null,null,null,null,null,null,null,null,null,null,null,null,null,null,null,null,null,null,null,null,{"$f":"IF(A20<>\"\",IFERROR(VLOOKUP(M20,Tabelas!B:D,3,0),0),\"\")","v":0},{"$f":"IF(A20<>\"\",IFERROR(VLOOKUP(N20,Tabelas!B:D,3,0),0),\"\")","v":0},{"$f":"IF(A20<>\"\",IFERROR(VLOOKUP(O20,Tabelas!B:D,3,0),0),\"\")","v":0},{"$f":"IF(A20<>\"\",IFERROR(VLOOKUP(P20,Tabelas!B:D,3,0),0),\"\")","v":0},{"$f":"IF(A20<>\"\",IFERROR(VLOOKUP(Q20,Tabelas!B:D,3,0),0),\"\")","v":0},{"$f":"IF(A20<>\"\",IFERROR(VLOOKUP(R20,Tabelas!B:D,3,0),0),\"\")","v":0},{"$f":"IF(A20<>\"\",IFERROR(VLOOKUP(S20,Tabelas!B:D,3,0),0),\"\")","v":0},{"$f":"IF(A20<>\"\",IFERROR(VLOOKUP(T20,Tabelas!B:D,3,0),0),\"\")","v":0},{"$f":"IF(A20<>\"\",IFERROR(VLOOKUP(U20,Tabelas!B:D,3,0),0),\"\")","v":0},{"$f":"IF(A20<>\"\",IFERROR(VLOOKUP(V20,Tabelas!B:D,3,0),0),\"\")","v":0},{"$f":"IF(A20<>\"\",IFERROR(VLOOKUP(W20,Tabelas!B:D,3,0),0),\"\")","v":0},{"$f":"IF(A20<>\"\",IFERROR(VLOOKUP(X20,Tabelas!B:D,3,0),0),\"\")","v":0},{"$f":"IF(A20<>\"\",IFERROR(VLOOKUP(Y20,Tabelas!B:D,3,0),0),\"\")","v":0},{"$f":"IF(A20<>\"\",IFERROR(VLOOKUP(Z20,Tabelas!B:D,3,0),0),\"\")","v":0},{"$f":"IF(A20<>\"\",IFERROR(VLOOKUP(AA20,Tabelas!B:D,3,0),0),\"\")","v":0},{"$f":"IF(A20<>\"\",IFERROR(VLOOKUP(AB20,Tabelas!B:D,3,0),0),\"\")","v":0},{"$f":"IF(A20<>\"\",IFERROR(VLOOKUP(AC20,Tabelas!B:D,3,0),0),\"\")","v":0},{"$f":"IF(A20<>\"\",IFERROR(VLOOKUP(AD20,Tabelas!B:D,3,0),0),\"\")","v":0},{"$f":"IF(A20<>\"\",IFERROR(VLOOKUP(AE20,Tabelas!B:D,3,0),0),\"\")","v":0},{"$f":"IF(A20<>\"\",IFERROR(VLOOKUP(AF20,Tabelas!B:D,3,0),0),\"\")","v":0},{"$f":"IF(A20<>\"\",IFERROR(VLOOKUP(AG20,Tabelas!B:D,3,0),0),\"\")","v":0},{"$f":"IF(A20<>\"\",IFERROR(VLOOKUP(AH20,Tabelas!B:D,3,0),0),\"\")","v":0},{"$f":"IF(A20<>\"\",IFERROR(VLOOKUP(AI20,Tabelas!B:D,3,0),0),\"\")","v":0},{"$f":"IF(A20<>\"\",IFERROR(VLOOKUP(AJ20,Tabelas!B:D,3,0),0),\"\")","v":0},{"$f":"IF(A20<>\"\",IFERROR(VLOOKUP(AK20,Tabelas!B:D,3,0),0),\"\")","v":0},{"$f":"IF(A20<>\"\",IFERROR(VLOOKUP(AL20,Tabelas!B:D,3,0),0),\"\")","v":0},{"$f":"IF(A20<>\"\",IFERROR(VLOOKUP(AM20,Tabelas!B:D,3,0),0),\"\")","v":0},{"$f":"IF(A20<>\"\",IFERROR(VLOOKUP(AN20,Tabelas!B:D,3,0),0),\"\")","v":0},{"$f":"IF(A20<>\"\",IFERROR(VLOOKUP(AO20,Tabelas!B:D,3,0),0),\"\")","v":0},{"$f":"IF(A20<>\"\",IFERROR(VLOOKUP(AP20,Tabelas!B:D,3,0),0),\"\")","v":0},{"$f":"IF(A20<>\"\",IFERROR(VLOOKUP(AQ20,Tabelas!B:D,3,0),0),\"\")","v":0},0,0,0,0,0,0,0,0]
["FULANO 13",13,null,null,null,null,null,null,null,null,null,null,null,null,null,null,null,null,null,null,null,null,null,null,null,null,null,null,null,null,null,null,null,null,null,null,null,null,null,null,null,null,null,{"$f":"IF(A21<>\"\",IFERROR(VLOOKUP(M21,Tabelas!B:D,3,0),0),\"\")","v":0},{"$f":"IF(A21<>\"\",IFERROR(VLOOKUP(N21,Tabelas!B:D,3,0),0),\"\")","v":0},{"$f":"IF(A21<>\"\",IFERROR(VLOOKUP(O21,Tabelas!B:D,3,0),0),\"\")","v":0},{"$f":"IF(A21<>\"\",IFERROR(VLOOKUP(P21,Tabelas!B:D,3,0),0),\"\")","v":0},{"$f":"IF(A21<>\"\",IFERROR(VLOOKUP(Q21,Tabelas!B:D,3,0),0),\"\")","v":0},{"$f":"IF(A21<>\"\",IFERROR(VLOOKUP(R21,Tabelas!B:D,3,0),0),\"\")","v":0},{"$f":"IF(A21<>\"\",IFERROR(VLOOKUP(S21,Tabelas!B:D,3,0),0),\"\")","v":0},{"$f":"IF(A21<>\"\",IFERROR(VLOOKUP(T21,Tabelas!B:D,3,0),0),\"\")","v":0},{"$f":"IF(A21<>\"\",IFERROR(VLOOKUP(U21,Tabelas!B:D,3,0),0),\"\")","v":0},{"$f":"IF(A21<>\"\",IFERROR(VLOOKUP(V21,Tabelas!B:D,3,0),0),\"\")","v":0},{"$f":"IF(A21<>\"\",IFERROR(VLOOKUP(W21,Tabelas!B:D,3,0),0),\"\")","v":0},{"$f":"IF(A21<>\"\",IFERROR(VLOOKUP(X21,Tabelas!B:D,3,0),0),\"\")","v":0},{"$f":"IF(A21<>\"\",IFERROR(VLOOKUP(Y21,Tabelas!B:D,3,0),0),\"\")","v":0},{"$f":"IF(A21<>\"\",IFERROR(VLOOKUP(Z21,Tabelas!B:D,3,0),0),\"\")","v":0},{"$f":"IF(A21<>\"\",IFERROR(VLOOKUP(AA21,Tabelas!B:D,3,0),0),\"\")","v":0},{"$f":"IF(A21<>\"\",IFERROR(VLOOKUP(AB21,Tabelas!B:D,3,0),0),\"\")","v":0},{"$f":"IF(A21<>\"\",IFERROR(VLOOKUP(AC21,Tabelas!B:D,3,0),0),\"\")","v":0},{"$f":"IF(A21<>\"\",IFERROR(VLOOKUP(AD21,Tabelas!B:D,3,0),0),\"\")","v":0},{"$f":"IF(A21<>\"\",IFERROR(VLOOKUP(AE21,Tabelas!B:D,3,0),0),\"\")","v":0},{"$f":"IF(A21<>\"\",IFERROR(VLOOKUP(AF21,Tabelas!B:D,3,0),0),\"\")","v":0},{"$f":"IF(A21<>\"\",IFERROR(VLOOKUP(AG21,Tabelas!B:D,3,0),0),\"\")","v":0},{"$f":"IF(A21<>\"\",IFERROR(VLOOKUP(AH21,Tabelas!B:D,3,0),0),\"\")","v":0},{"$f":"IF(A21<>\"\",IFERROR(VLOOKUP(AI21,Tabelas!B:D,3,0),0),\"\")","v":0},{"$f":"IF(A21<>\"\",IFERROR(VLOOKUP(AJ21,Tabelas!B:D,3,0),0),\"\")","v":0},{"$f":"IF(A21<>\"\",IFERROR(VLOOKUP(AK21,Tabelas!B:D,3,0),0),\"\")","v":0},{"$f":"IF(A21<>\"\",IFERROR(VLOOKUP(AL21,Tabelas!B:D,3,0),0),\"\")","v":0},{"$f":"IF(A21<>\"\",IFERROR(VLOOKUP(AM21,Tabelas!B:D,3,0),0),\"\")","v":0},{"$f":"IF(A21<>\"\",IFERROR(VLOOKUP(AN21,Tabelas!B:D,3,0),0),\"\")","v":0},{"$f":"IF(A21<>\"\",IFERROR(VLOOKUP(AO21,Tabelas!B:D,3,0),0),\"\")","v":0},{"$f":"IF(A21<>\"\",IFERROR(VLOOKUP(AP21,Tabelas!B:D,3,0),0),\"\")","v":0},{"$f":"IF(A21<>\"\",IFERROR(VLOOKUP(AQ21,Tabelas!B:D,3,0),0),\"\")","v":0},0,0,0,0,0,0,0,0]
["FULANO 14",14,null,null,null,null,null,null,null,null,null,null,null,null,null,null,null,null,null,null,null,null,null,null,null,null,null,null,null,null,null,null,null,null,null,null,null,null,null,null,null,null,null,{"$f":"IF(A22<>\"\",IFERROR(VLOOKUP(M22,Tabelas!B:D,3,0),0),\"\")","v":0},{"$f":"IF(A22<>\"\",IFERROR(VLOOKUP(N22,Tabelas!B:D,3,0),0),\"\")","v":0},{"$f":"IF(A22<>\"\",IFERROR(VLOOKUP(O22,Tabelas!B:D,3,0),0),\"\")","v":0},{"$f":"IF(A22<>\"\",IFERROR(VLOOKUP(P22,Tabelas!B:D,3,0),0),\"\")","v":0},{"$f":"IF(A22<>\"\",IFERROR(VLOOKUP(Q22,Tabelas!B:D,3,0),0),\"\")","v":0},{"$f":"IF(A22<>\"\",IFERROR(VLOOKUP(R22,Tabelas!B:D,3,0),0),\"\")","v":0},{"$f":"IF(A22<>\"\",IFERROR(VLOOKUP(S22,Tabelas!B:D,3,0),0),\"\")","v":0},{"$f":"IF(A22<>\"\",IFERROR(VLOOKUP(T22,Tabelas!B:D,3,0),0),\"\")","v":0},{"$f":"IF(A22<>\"\",IFERROR(VLOOKUP(U22,Tabelas!B:D,3,0),0),\"\")","v":0},{"$f":"IF(A22<>\"\",IFERROR(VLOOKUP(V22,Tabelas!B:D,3,0),0),\"\")","v":0},{"$f":"IF(A22<>\"\",IFERROR(VLOOKUP(W22,Tabelas!B:D,3,0),0),\"\")","v":0},{"$f":"IF(A22<>\"\",IFERROR(VLOOKUP(X22,Tabelas!B:D,3,0),0),\"\")","v":0},{"$f":"IF(A22<>\"\",IFERROR(VLOOKUP(Y22,Tabelas!B:D,3,0),0),\"\")","v":0},{"$f":"IF(A22<>\"\",IFERROR(VLOOKUP(Z22,Tabelas!B:D,3,0),0),\"\")","v":0},{"$f":"IF(A22<>\"\",IFERROR(VLOOKUP(AA22,Tabelas!B:D,3,0),0),\"\")","v":0},{"$f":"IF(A22<>\"\",IFERROR(VLOOKUP(AB22,Tabelas!B:D,3,0),0),\"\")","v":0},{"$f":"IF(A22<>\"\",IFERROR(VLOOKUP(AC22,Tabelas!B:D,3,0),0),\"\")","v":0},{"$f":"IF(A22<>\"\",IFERROR(VLOOKUP(AD22,Tabelas!B:D,3,0),0),\"\")","v":0},{"$f":"IF(A22<>\"\",IFERROR(VLOOKUP(AE22,Tabelas!B:D,3,0),0),\"\")","v":0},{"$f":"IF(A22<>\"\",IFERROR(VLOOKUP(AF22,Tabelas!B:D,3,0),0),\"\")","v":0},{"$f":"IF(A22<>\"\",IFERROR(VLOOKUP(AG22,Tabelas!B:D,3,0),0),\"\")","v":0},{"$f":"IF(A22<>\"\",IFERROR(VLOOKUP(AH22,Tabelas!B:D,3,0),0),\"\")","v":0},{"$f":"IF(A22<>\"\",IFERROR(VLOOKUP(AI22,Tabelas!B:D,3,0),0),\"\")","v":0},{"$f":"IF(A22<>\"\",IFERROR(VLOOKUP(AJ22,Tabelas!B:D,3,0),0),\"\")","v":0},{"$f":"IF(A22<>\"\",IFERROR(VLOOKUP(AK22,Tabelas!B:D,3,0),0),\"\")","v":0},{"$f":"IF(A22<>\"\",IFERROR(VLOOKUP(AL22,Tabelas!B:D,3,0),0),\"\")","v":0},{"$f":"IF(A22<>\"\",IFERROR(VLOOKUP(AM22,Tabelas!B:D,3,0),0),\"\")","v":0},{"$f":"IF(A22<>\"\",IFERROR(VLOOKUP(AN22,Tabelas!B:D,3,0),0),\"\")","v":0},{"$f":"IF(A22<>\"\",IFERROR(VLOOKUP(AO22,Tabelas!B:D,3,0),0),\"\")","v":0},{"$f":"IF(A22<>\"\",IFERROR(VLOOKUP(AP22,Tabelas!B:D,3,0),0),\"\")","v":0},{"$f":"IF(A22<>\"\",IFERROR(VLOOKUP(AQ22,Tabelas!B:D,3,0),0),\"\")","v":0},0,0,0,0,0,0,0,0]
["FULANO 15",15,null,null,null,null,null,null,null,null,null,null,null,null,null,null,null,null,null,null,null,null,null,null,null,null,null,null,null,null,null,null,null,null,null,null,null,null,null,null,null,null,null,{"$f":"IF(A23<>\"\",IFERROR(VLOOKUP(M23,Tabelas!B:D,3,0),0),\"\")","v":0},{"$f":"IF(A23<>\"\",IFERROR(VLOOKUP(N23,Tabelas!B:D,3,0),0),\"\")","v":0},{"$f":"IF(A23<>\"\",IFERROR(VLOOKUP(O23,Tabelas!B:D,3,0),0),\"\")","v":0},{"$f":"IF(A23<>\"\",IFERROR(VLOOKUP(P23,Tabelas!B:D,3,0),0),\"\")","v":0},{"$f":"IF(A23<>\"\",IFERROR(VLOOKUP(Q23,Tabelas!B:D,3,0),0),\"\")","v":0},{"$f":"IF(A23<>\"\",IFERROR(VLOOKUP(R23,Tabelas!B:D,3,0),0),\"\")","v":0},{"$f":"IF(A23<>\"\",IFERROR(VLOOKUP(S23,Tabelas!B:D,3,0),0),\"\")","v":0},{"$f":"IF(A23<>\"\",IFERROR(VLOOKUP(T23,Tabelas!B:D,3,0),0),\"\")","v":0},{"$f":"IF(A23<>\"\",IFERROR(VLOOKUP(U23,Tabelas!B:D,3,0),0),\"\")","v":0},{"$f":"IF(A23<>\"\",IFERROR(VLOOKUP(V23,Tabelas!B:D,3,0),0),\"\")","v":0},{"$f":"IF(A23<>\"\",IFERROR(VLOOKUP(W23,Tabelas!B:D,3,0),0),\"\")","v":0},{"$f":"IF(A23<>\"\",IFERROR(VLOOKUP(X23,Tabelas!B:D,3,0),0),\"\")","v":0},{"$f":"IF(A23<>\"\",IFERROR(VLOOKUP(Y23,Tabelas!B:D,3,0),0),\"\")","v":0},{"$f":"IF(A23<>\"\",IFERROR(VLOOKUP(Z23,Tabelas!B:D,3,0),0),\"\")","v":0},{"$f":"IF(A23<>\"\",IFERROR(VLOOKUP(AA23,Tabelas!B:D,3,0),0),\"\")","v":0},{"$f":"IF(A23<>\"\",IFERROR(VLOOKUP(AB23,Tabelas!B:D,3,0),0),\"\")","v":0},{"$f":"IF(A23<>\"\",IFERROR(VLOOKUP(AC23,Tabelas!B:D,3,0),0),\"\")","v":0},{"$f":"IF(A23<>\"\",IFERROR(VLOOKUP(AD23,Tabelas!B:D,3,0),0),\"\")","v":0},{"$f":"IF(A23<>\"\",IFERROR(VLOOKUP(AE23,Tabelas!B:D,3,0),0),\"\")","v":0},{"$f":"IF(A23<>\"\",IFERROR(VLOOKUP(AF23,Tabelas!B:D,3,0),0),\"\")","v":0},{"$f":"IF(A23<>\"\",IFERROR(VLOOKUP(AG23,Tabelas!B:D,3,0),0),\"\")","v":0},{"$f":"IF(A23<>\"\",IFERROR(VLOOKUP(AH23,Tabelas!B:D,3,0),0),\"\")","v":0},{"$f":"IF(A23<>\"\",IFERROR(VLOOKUP(AI23,Tabelas!B:D,3,0),0),\"\")","v":0},{"$f":"IF(A23<>\"\",IFERROR(VLOOKUP(AJ23,Tabelas!B:D,3,0),0),\"\")","v":0},{"$f":"IF(A23<>\"\",IFERROR(VLOOKUP(AK23,Tabelas!B:D,3,0),0),\"\")","v":0},{"$f":"IF(A23<>\"\",IFERROR(VLOOKUP(AL23,Tabelas!B:D,3,0),0),\"\")","v":0},{"$f":"IF(A23<>\"\",IFERROR(VLOOKUP(AM23,Tabelas!B:D,3,0),0),\"\")","v":0},{"$f":"IF(A23<>\"\",IFERROR(VLOOKUP(AN23,Tabelas!B:D,3,0),0),\"\")","v":0},{"$f":"IF(A23<>\"\",IFERROR(VLOOKUP(AO23,Tabelas!B:D,3,0),0),\"\")","v":0},{"$f":"IF(A23<>\"\",IFERROR(VLOOKUP(AP23,Tabelas!B:D,3,0),0),\"\")","v":0},{"$f":"IF(A23<>\"\",IFERROR(VLOOKUP(AQ23,Tabelas!B:D,3,0),0),\"\")","v":0},0,0,0,0,0,0,0,0]
["FULANO 16",16,null,null,null,null,null,null,null,null,null,null,null,null,null,null,null,null,null,null,null,null,null,null,null,null,null,null,null,null,null,null,null,null,null,null,null,null,null,null,null,null,null,{"$f":"IF(A24<>\"\",IFERROR(VLOOKUP(M24,Tabelas!B:D,3,0),0),\"\")","v":0},{"$f":"IF(A24<>\"\",IFERROR(VLOOKUP(N24,Tabelas!B:D,3,0),0),\"\")","v":0},{"$f":"IF(A24<>\"\",IFERROR(VLOOKUP(O24,Tabelas!B:D,3,0),0),\"\")","v":0},{"$f":"IF(A24<>\"\",IFERROR(VLOOKUP(P24,Tabelas!B:D,3,0),0),\"\")","v":0},{"$f":"IF(A24<>\"\",IFERROR(VLOOKUP(Q24,Tabelas!B:D,3,0),0),\"\")","v":0},{"$f":"IF(A24<>\"\",IFERROR(VLOOKUP(R24,Tabelas!B:D,3,0),0),\"\")","v":0},{"$f":"IF(A24<>\"\",IFERROR(VLOOKUP(S24,Tabelas!B:D,3,0),0),\"\")","v":0},{"$f":"IF(A24<>\"\",IFERROR(VLOOKUP(T24,Tabelas!B:D,3,0),0),\"\")","v":0},{"$f":"IF(A24<>\"\",IFERROR(VLOOKUP(U24,Tabelas!B:D,3,0),0),\"\")","v":0},{"$f":"IF(A24<>\"\",IFERROR(VLOOKUP(V24,Tabelas!B:D,3,0),0),\"\")","v":0},{"$f":"IF(A24<>\"\",IFERROR(VLOOKUP(W24,Tabelas!B:D,3,0),0),\"\")","v":0},{"$f":"IF(A24<>\"\",IFERROR(VLOOKUP(X24,Tabelas!B:D,3,0),0),\"\")","v":0},{"$f":"IF(A24<>\"\",IFERROR(VLOOKUP(Y24,Tabelas!B:D,3,0),0),\"\")","v":0},{"$f":"IF(A24<>\"\",IFERROR(VLOOKUP(Z24,Tabelas!B:D,3,0),0),\"\")","v":0},{"$f":"IF(A24<>\"\",IFERROR(VLOOKUP(AA24,Tabelas!B:D,3,0),0),\"\")","v":0},{"$f":"IF(A24<>\"\",IFERROR(VLOOKUP(AB24,Tabelas!B:D,3,0),0),\"\")","v":0},{"$f":"IF(A24<>\"\",IFERROR(VLOOKUP(AC24,Tabelas!B:D,3,0),0),\"\")","v":0},{"$f":"IF(A24<>\"\",IFERROR(VLOOKUP(AD24,Tabelas!B:D,3,0),0),\"\")","v":0},{"$f":"IF(A24<>\"\",IFERROR(VLOOKUP(AE24,Tabelas!B:D,3,0),0),\"\")","v":0},{"$f":"IF(A24<>\"\",IFERROR(VLOOKUP(AF24,Tabelas!B:D,3,0),0),\"\")","v":0},{"$f":"IF(A24<>\"\",IFERROR(VLOOKUP(AG24,Tabelas!B:D,3,0),0),\"\")","v":0},{"$f":"IF(A24<>\"\",IFERROR(VLOOKUP(AH24,Tabelas!B:D,3,0),0),\"\")","v":0},{"$f":"IF(A24<>\"\",IFERROR(VLOOKUP(AI24,Tabelas!B:D,3,0),0),\"\")","v":0},{"$f":"IF(A24<>\"\",IFERROR(VLOOKUP(AJ24,Tabelas!B:D,3,0),0),\"\")","v":0},{"$f":"IF(A24<>\"\",IFERROR(VLOOKUP(AK24,Tabelas!B:D,3,0),0),\"\")","v":0},{"$f":"IF(A24<>\"\",IFERROR(VLOOKUP(AL24,Tabelas!B:D,3,0),0),\"\")","v":0},{"$f":"IF(A24<>\"\",IFERROR(VLOOKUP(AM24,Tabelas!B:D,3,0),0),\"\")","v":0},{"$f":"IF(A24<>\"\",IFERROR(VLOOKUP(AN24,Tabelas!B:D,3,0),0),\"\")","v":0},{"$f":"IF(A24<>\"\",IFERROR(VLOOKUP(AO24,Tabelas!B:D,3,0),0),\"\")","v":0},{"$f":"IF(A24<>\"\",IFERROR(VLOOKUP(AP24,Tabelas!B:D,3,0),0),\"\")","v":0},{"$f":"IF(A24<>\"\",IFERROR(VLOOKUP(AQ24,Tabelas!B:D,3,0),0),\"\")","v":0},0,0,0,0,0,0,0,0]
["FULANO 17",17,null,null,null,null,null,null,null,null,null,null,null,null,null,null,null,null,null,null,null,null,null,null,null,null,null,null,null,null,null,null,null,null,null,null,null,null,null,null,null,null,null,{"$f":"IF(A25<>\"\",IFERROR(VLOOKUP(M25,Tabelas!B:D,3,0),0),\"\")","v":0},{"$f":"IF(A25<>\"\",IFERROR(VLOOKUP(N25,Tabelas!B:D,3,0),0),\"\")","v":0},{"$f":"IF(A25<>\"\",IFERROR(VLOOKUP(O25,Tabelas!B:D,3,0),0),\"\")","v":0},{"$f":"IF(A25<>\"\",IFERROR(VLOOKUP(P25,Tabelas!B:D,3,0),0),\"\")","v":0},{"$f":"IF(A25<>\"\",IFERROR(VLOOKUP(Q25,Tabelas!B:D,3,0),0),\"\")","v":0},{"$f":"IF(A25<>\"\",IFERROR(VLOOKUP(R25,Tabelas!B:D,3,0),0),\"\")","v":0},{"$f":"IF(A25<>\"\",IFERROR(VLOOKUP(S25,Tabelas!B:D,3,0),0),\"\")","v":0},{"$f":"IF(A25<>\"\",IFERROR(VLOOKUP(T25,Tabelas!B:D,3,0),0),\"\")","v":0},{"$f":"IF(A25<>\"\",IFERROR(VLOOKUP(U25,Tabelas!B:D,3,0),0),\"\")","v":0},{"$f":"IF(A25<>\"\",IFERROR(VLOOKUP(V25,Tabelas!B:D,3,0),0),\"\")","v":0},{"$f":"IF(A25<>\"\",IFERROR(VLOOKUP(W25,Tabelas!B:D,3,0),0),\"\")","v":0},{"$f":"IF(A25<>\"\",IFERROR(VLOOKUP(X25,Tabelas!B:D,3,0),0),\"\")","v":0},{"$f":"IF(A25<>\"\",IFERROR(VLOOKUP(Y25,Tabelas!B:D,3,0),0),\"\")","v":0},{"$f":"IF(A25<>\"\",IFERROR(VLOOKUP(Z25,Tabelas!B:D,3,0),0),\"\")","v":0},{"$f":"IF(A25<>\"\",IFERROR(VLOOKUP(AA25,Tabelas!B:D,3,0),0),\"\")","v":0},{"$f":"IF(A25<>\"\",IFERROR(VLOOKUP(AB25,Tabelas!B:D,3,0),0),\"\")","v":0},{"$f":"IF(A25<>\"\",IFERROR(VLOOKUP(AC25,Tabelas!B:D,3,0),0),\"\")","v":0},{"$f":"IF(A25<>\"\",IFERROR(VLOOKUP(AD25,Tabelas!B:D,3,0),0),\"\")","v":0},{"$f":"IF(A25<>\"\",IFERROR(VLOOKUP(AE25,Tabelas!B:D,3,0),0),\"\")","v":0},{"$f":"IF(A25<>\"\",IFERROR(VLOOKUP(AF25,Tabelas!B:D,3,0),0),\"\")","v":0},{"$f":"IF(A25<>\"\",IFERROR(VLOOKUP(AG25,Tabelas!B:D,3,0),0),\"\")","v":0},{"$f":"IF(A25<>\"\",IFERROR(VLOOKUP(AH25,Tabelas!B:D,3,0),0),\"\")","v":0},{"$f":"IF(A25<>\"\",IFERROR(VLOOKUP(AI25,Tabelas!B:D,3,0),0),\"\")","v":0},{"$f":"IF(A25<>\"\",IFERROR(VLOOKUP(AJ25,Tabelas!B:D,3,0),0),\"\")","v":0},{"$f":"IF(A25<>\"\",IFERROR(VLOOKUP(AK25,Tabelas!B:D,3,0),0),\"\")","v":0},{"$f":"IF(A25<>\"\",IFERROR(VLOOKUP(AL25,Tabelas!B:D,3,0),0),\"\")","v":0},{"$f":"IF(A25<>\"\",IFERROR(VLOOKUP(AM25,Tabelas!B:D,3,0),0),\"\")","v":0},{"$f":"IF(A25<>\"\",IFERROR(VLOOKUP(AN25,Tabelas!B:D,3,0),0),\"\")","v":0},{"$f":"IF(A25<>\"\",IFERROR(VLOOKUP(AO25,Tabelas!B:D,3,0),0),\"\")","v":0},{"$f":"IF(A25<>\"\",IFERROR(VLOOKUP(AP25,Tabelas!B:D,3,0),0),\"\")","v":0},{"$f":"IF(A25<>\"\",IFERROR(VLOOKUP(AQ25,Tabelas!B:D,3,0),0),\"\")","v":0},0,0,0,0,0,0,0,0]
["FULANO 18",18,null,null,null,null,null,null,null,null,null,null,null,null,null,null,null,null,null,null,null,null,null,null,null,null,null,null,null,null,null,null,null,null,null,null,null,null,null,null,null,null,null,{"$f":"IF(A26<>\"\",IFERROR(VLOOKUP(M26,Tabelas!B:D,3,0),0),\"\")","v":0},{"$f":"IF(A26<>\"\",IFERROR(VLOOKUP(N26,Tabelas!B:D,3,0),0),\"\")","v":0},{"$f":"IF(A26<>\"\",IFERROR(VLOOKUP(O26,Tabelas!B:D,3,0),0),\"\")","v":0},{"$f":"IF(A26<>\"\",IFERROR(VLOOKUP(P26,Tabelas!B:D,3,0),0),\"\")","v":0},{"$f":"IF(A26<>\"\",IFERROR(VLOOKUP(Q26,Tabelas!B:D,3,0),0),\"\")","v":0},{"$f":"IF(A26<>\"\",IFERROR(VLOOKUP(R26,Tabelas!B:D,3,0),0),\"\")","v":0},{"$f":"IF(A26<>\"\",IFERROR(VLOOKUP(S26,Tabelas!B:D,3,0),0),\"\")","v":0},{"$f":"IF(A26<>\"\",IFERROR(VLOOKUP(T26,Tabelas!B:D,3,0),0),\"\")","v":0},{"$f":"IF(A26<>\"\",IFERROR(VLOOKUP(U26,Tabelas!B:D,3,0),0),\"\")","v":0},{"$f":"IF(A26<>\"\",IFERROR(VLOOKUP(V26,Tabelas!B:D,3,0),0),\"\")","v":0},{"$f":"IF(A26<>\"\",IFERROR(VLOOKUP(W26,Tabelas!B:D,3,0),0),\"\")","v":0},{"$f":"IF(A26<>\"\",IFERROR(VLOOKUP(X26,Tabelas!B:D,3,0),0),\"\")","v":0},{"$f":"IF(A26<>\"\",IFERROR(VLOOKUP(Y26,Tabelas!B:D,3,0),0),\"\")","v":0},{"$f":"IF(A26<>\"\",IFERROR(VLOOKUP(Z26,Tabelas!B:D,3,0),0),\"\")","v":0},{"$f":"IF(A26<>\"\",IFERROR(VLOOKUP(AA26,Tabelas!B:D,3,0),0),\"\")","v":0},{"$f":"IF(A26<>\"\",IFERROR(VLOOKUP(AB26,Tabelas!B:D,3,0),0),\"\")","v":0},{"$f":"IF(A26<>\"\",IFERROR(VLOOKUP(AC26,Tabelas!B:D,3,0),0),\"\")","v":0},{"$f":"IF(A26<>\"\",IFERROR(VLOOKUP(AD26,Tabelas!B:D,3,0),0),\"\")","v":0},{"$f":"IF(A26<>\"\",IFERROR(VLOOKUP(AE26,Tabelas!B:D,3,0),0),\"\")","v":0},{"$f":"IF(A26<>\"\",IFERROR(VLOOKUP(AF26,Tabelas!B:D,3,0),0),\"\")","v":0},{"$f":"IF(A26<>\"\",IFERROR(VLOOKUP(AG26,Tabelas!B:D,3,0),0),\"\")","v":0},{"$f":"IF(A26<>\"\",IFERROR(VLOOKUP(AH26,Tabelas!B:D,3,0),0),\"\")","v":0},{"$f":"IF(A26<>\"\",IFERROR(VLOOKUP(AI26,Tabelas!B:D,3,0),0),\"\")","v":0},{"$f":"IF(A26<>\"\",IFERROR(VLOOKUP(AJ26,Tabelas!B:D,3,0),0),\"\")","v":0},{"$f":"IF(A26<>\"\",IFERROR(VLOOKUP(AK26,Tabelas!B:D,3,0),0),\"\")","v":0},{"$f":"IF(A26<>\"\",IFERROR(VLOOKUP(AL26,Tabelas!B:D,3,0),0),\"\")","v":0},{"$f":"IF(A26<>\"\",IFERROR(VLOOKUP(AM26,Tabelas!B:D,3,0),0),\"\")","v":0},{"$f":"IF(A26<>\"\",IFERROR(VLOOKUP(AN26,Tabelas!B:D,3,0),0),\"\")","v":0},{"$f":"IF(A26<>\"\",IFERROR(VLOOKUP(AO26,Tabelas!B:D,3,0),0),\"\")","v":0},{"$f":"IF(A26<>\"\",IFERROR(VLOOKUP(AP26,Tabelas!B:D,3,0),0),\"\")","v":0},{"$f":"IF(A26<>\"\",IFERROR(VLOOKUP(AQ26,Tabelas!B:D,3,0),0),\"\")","v":0},0,0,0,0,0,0,0,0]
["FULANO 19",19,null,null,null,null,null,null,null,null,null,null,null,null,null,null,null,null,null,null,null,null,null,null,null,null,null,null,null,null,null,null,null,null,null,null,null,null,null,null,null,null,null,{"$f":"IF(A27<>\"\",IFERROR(VLOOKUP(M27,Tabelas!B:D,3,0),0),\"\")","v":0},{"$f":"IF(A27<>\"\",IFERROR(VLOOKUP(N27,Tabelas!B:D,3,0),0),\"\")","v":0},{"$f":"IF(A27<>\"\",IFERROR(VLOOKUP(O27,Tabelas!B:D,3,0),0),\"\")","v":0},{"$f":"IF(A27<>\"\",IFERROR(VLOOKUP(P27,Tabelas!B:D,3,0),0),\"\")","v":0},{"$f":"IF(A27<>\"\",IFERROR(VLOOKUP(Q27,Tabelas!B:D,3,0),0),\"\")","v":0},{"$f":"IF(A27<>\"\",IFERROR(VLOOKUP(R27,Tabelas!B:D,3,0),0),\"\")","v":0},{"$f":"IF(A27<>\"\",IFERROR(VLOOKUP(S27,Tabelas!B:D,3,0),0),\"\")","v":0},{"$f":"IF(A27<>\"\",IFERROR(VLOOKUP(T27,Tabelas!B:D,3,0),0),\"\")","v":0},{"$f":"IF(A27<>\"\",IFERROR(VLOOKUP(U27,Tabelas!B:D,3,0),0),\"\")","v":0},{"$f":"IF(A27<>\"\",IFERROR(VLOOKUP(V27,Tabelas!B:D,3,0),0),\"\")","v":0},{"$f":"IF(A27<>\"\",IFERROR(VLOOKUP(W27,Tabelas!B:D,3,0),0),\"\")","v":0},{"$f":"IF(A27<>\"\",IFERROR(VLOOKUP(X27,Tabelas!B:D,3,0),0),\"\")","v":0},{"$f":"IF(A27<>\"\",IFERROR(VLOOKUP(Y27,Tabelas!B:D,3,0),0),\"\")","v":0},{"$f":"IF(A27<>\"\",IFERROR(VLOOKUP(Z27,Tabelas!B:D,3,0),0),\"\")","v":0},{"$f":"IF(A27<>\"\",IFERROR(VLOOKUP(AA27,Tabelas!B:D,3,0),0),\"\")","v":0},{"$f":"IF(A27<>\"\",IFERROR(VLOOKUP(AB27,Tabelas!B:D,3,0),0),\"\")","v":0},{"$f":"IF(A27<>\"\",IFERROR(VLOOKUP(AC27,Tabelas!B:D,3,0),0),\"\")","v":0},{"$f":"IF(A27<>\"\",IFERROR(VLOOKUP(AD27,Tabelas!B:D,3,0),0),\"\")","v":0},{"$f":"IF(A27<>\"\",IFERROR(VLOOKUP(AE27,Tabelas!B:D,3,0),0),\"\")","v":0},{"$f":"IF(A27<>\"\",IFERROR(VLOOKUP(AF27,Tabelas!B:D,3,0),0),\"\")","v":0},{"$f":"IF(A27<>\"\",IFERROR(VLOOKUP(AG27,Tabelas!B:D,3,0),0),\"\")","v":0},{"$f":"IF(A27<>\"\",IFERROR(VLOOKUP(AH27,Tabelas!B:D,3,0),0),\"\")","v":0},{"$f":"IF(A27<>\"\",IFERROR(VLOOKUP(AI27,Tabelas!B:D,3,0),0),\"\")","v":0},{"$f":"IF(A27<>\"\",IFERROR(VLOOKUP(AJ27,Tabelas!B:D,3,0),0),\"\")","v":0},{"$f":"IF(A27<>\"\",IFERROR(VLOOKUP(AK27,Tabelas!B:D,3,0),0),\"\")","v":0},{"$f":"IF(A27<>\"\",IFERROR(VLOOKUP(AL27,Tabelas!B:D,3,0),0),\"\")","v":0},{"$f":"IF(A27<>\"\",IFERROR(VLOOKUP(AM27,Tabelas!B:D,3,0),0),\"\")","v":0},{"$f":"IF(A27<>\"\",IFERROR(VLOOKUP(AN27,Tabelas!B:D,3,0),0),\"\")","v":0},{"$f":"IF(A27<>\"\",IFERROR(VLOOKUP(AO27,Tabelas!B:D,3,0),0),\"\")","v":0},{"$f":"IF(A27<>\"\",IFERROR(VLOOKUP(AP27,Tabelas!B:D,3,0),0),\"\")","v":0},{"$f":"IF(A27<>\"\",IFERROR(VLOOKUP(AQ27,Tabelas!B:D,3,0),0),\"\")","v":0},0,0,0,0,0,0,0,0]
["FULANO 20",20,null,null,null,null,null,null,null,null,null,null,null,null,null,null,null,null,null,null,null,null,null,null,null,null,null,null,null,null,null,null,null,null,null,null,null,null,null,null,null,null,null,{"$f":"IF(A28<>\"\",IFERROR(VLOOKUP(M28,Tabelas!B:D,3,0),0),\"\")","v":0},{"$f":"IF(A28<>\"\",IFERROR(VLOOKUP(N28,Tabelas!B:D,3,0),0),\"\")","v":0},{"$f":"IF(A28<>\"\",IFERROR(VLOOKUP(O28,Tabelas!B:D,3,0),0),\"\")","v":0},{"$f":"IF(A28<>\"\",IFERROR(VLOOKUP(P28,Tabelas!B:D,3,0),0),\"\")","v":0},{"$f":"IF(A28<>\"\",IFERROR(VLOOKUP(Q28,Tabelas!B:D,3,0),0),\"\")","v":0},{"$f":"IF(A28<>\"\",IFERROR(VLOOKUP(R28,Tabelas!B:D,3,0),0),\"\")","v":0},{"$f":"IF(A28<>\"\",IFERROR(VLOOKUP(S28,Tabelas!B:D,3,0),0),\"\")","v":0},{"$f":"IF(A28<>\"\",IFERROR(VLOOKUP(T28,Tabelas!B:D,3,0),0),\"\")","v":0},{"$f":"IF(A28<>\"\",IFERROR(VLOOKUP(U28,Tabelas!B:D,3,0),0),\"\")","v":0},{"$f":"IF(A28<>\"\",IFERROR(VLOOKUP(V28,Tabelas!B:D,3,0),0),\"\")","v":0},{"$f":"IF(A28<>\"\",IFERROR(VLOOKUP(W28,Tabelas!B:D,3,0),0),\"\")","v":0},{"$f":"IF(A28<>\"\",IFERROR(VLOOKUP(X28,Tabelas!B:D,3,0),0),\"\")","v":0},{"$f":"IF(A28<>\"\",IFERROR(VLOOKUP(Y28,Tabelas!B:D,3,0),0),\"\")","v":0},{"$f":"IF(A28<>\"\",IFERROR(VLOOKUP(Z28,Tabelas!B:D,3,0),0),\"\")","v":0},{"$f":"IF(A28<>\"\",IFERROR(VLOOKUP(AA28,Tabelas!B:D,3,0),0),\"\")","v":0},{"$f":"IF(A28<>\"\",IFERROR(VLOOKUP(AB28,Tabelas!B:D,3,0),0),\"\")","v":0},{"$f":"IF(A28<>\"\",IFERROR(VLOOKUP(AC28,Tabelas!B:D,3,0),0),\"\")","v":0},{"$f":"IF(A28<>\"\",IFERROR(VLOOKUP(AD28,Tabelas!B:D,3,0),0),\"\")","v":0},{"$f":"IF(A28<>\"\",IFERROR(VLOOKUP(AE28,Tabelas!B:D,3,0),0),\"\")","v":0},{"$f":"IF(A28<>\"\",IFERROR(VLOOKUP(AF28,Tabelas!B:D,3,0),0),\"\")","v":0},{"$f":"IF(A28<>\"\",IFERROR(VLOOKUP(AG28,Tabelas!B:D,3,0),0),\"\")","v":0},{"$f":"IF(A28<>\"\",IFERROR(VLOOKUP(AH28,Tabelas!B:D,3,0),0),\"\")","v":0},{"$f":"IF(A28<>\"\",IFERROR(VLOOKUP(AI28,Tabelas!B:D,3,0),0),\"\")","v":0},{"$f":"IF(A28<>\"\",IFERROR(VLOOKUP(AJ28,Tabelas!B:D,3,0),0),\"\")","v":0},{"$f":"IF(A28<>\"\",IFERROR(VLOOKUP(AK28,Tabelas!B:D,3,0),0),\"\")","v":0},{"$f":"IF(A28<>\"\",IFERROR(VLOOKUP(AL28,Tabelas!B:D,3,0),0),\"\")","v":0},{"$f":"IF(A28<>\"\",IFERROR(VLOOKUP(AM28,Tabelas!B:D,3,0),0),\"\")","v":0},{"$f":"IF(A28<>\"\",IFERROR(VLOOKUP(AN28,Tabelas!B:D,3,0),0),\"\")","v":0},{"$f":"IF(A28<>\"\",IFERROR(VLOOKUP(AO28,Tabelas!B:D,3,0),0),\"\")","v":0},{"$f":"IF(A28<>\"\",IFERROR(VLOOKUP(AP28,Tabelas!B:D,3,0),0),\"\")","v":0},{"$f":"IF(A28<>\"\",IFERROR(VLOOKUP(AQ28,Tabelas!B:D,3,0),0),\"\")","v":0},0,0,0,0,0,0,0,0]
["FULANO 21",21,null,null,null,null,null,null,null,null,null,null,null,null,null,null,null,null,null,null,null,null,null,null,null,null,null,null,null,null,null,null,null,null,null,null,null,null,null,null,null,null,null,{"$f":"IF(A29<>\"\",IFERROR(VLOOKUP(M29,Tabelas!B:D,3,0),0),\"\")","v":0},{"$f":"IF(A29<>\"\",IFERROR(VLOOKUP(N29,Tabelas!B:D,3,0),0),\"\")","v":0},{"$f":"IF(A29<>\"\",IFERROR(VLOOKUP(O29,Tabelas!B:D,3,0),0),\"\")","v":0},{"$f":"IF(A29<>\"\",IFERROR(VLOOKUP(P29,Tabelas!B:D,3,0),0),\"\")","v":0},{"$f":"IF(A29<>\"\",IFERROR(VLOOKUP(Q29,Tabelas!B:D,3,0),0),\"\")","v":0},{"$f":"IF(A29<>\"\",IFERROR(VLOOKUP(R29,Tabelas!B:D,3,0),0),\"\")","v":0},{"$f":"IF(A29<>\"\",IFERROR(VLOOKUP(S29,Tabelas!B:D,3,0),0),\"\")","v":0},{"$f":"IF(A29<>\"\",IFERROR(VLOOKUP(T29,Tabelas!B:D,3,0),0),\"\")","v":0},{"$f":"IF(A29<>\"\",IFERROR(VLOOKUP(U29,Tabelas!B:D,3,0),0),\"\")","v":0},{"$f":"IF(A29<>\"\",IFERROR(VLOOKUP(V29,Tabelas!B:D,3,0),0),\"\")","v":0},{"$f":"IF(A29<>\"\",IFERROR(VLOOKUP(W29,Tabelas!B:D,3,0),0),\"\")","v":0},{"$f":"IF(A29<>\"\",IFERROR(VLOOKUP(X29,Tabelas!B:D,3,0),0),\"\")","v":0},{"$f":"IF(A29<>\"\",IFERROR(VLOOKUP(Y29,Tabelas!B:D,3,0),0),\"\")","v":0},{"$f":"IF(A29<>\"\",IFERROR(VLOOKUP(Z29,Tabelas!B:D,3,0),0),\"\")","v":0},{"$f":"IF(A29<>\"\",IFERROR(VLOOKUP(AA29,Tabelas!B:D,3,0),0),\"\")","v":0},{"$f":"IF(A29<>\"\",IFERROR(VLOOKUP(AB29,Tabelas!B:D,3,0),0),\"\")","v":0},{"$f":"IF(A29<>\"\",IFERROR(VLOOKUP(AC29,Tabelas!B:D,3,0),0),\"\")","v":0},{"$f":"IF(A29<>\"\",IFERROR(VLOOKUP(AD29,Tabelas!B:D,3,0),0),\"\")","v":0},{"$f":"IF(A29<>\"\",IFERROR(VLOOKUP(AE29,Tabelas!B:D,3,0),0),\"\")","v":0},{"$f":"IF(A29<>\"\",IFERROR(VLOOKUP(AF29,Tabelas!B:D,3,0),0),\"\")","v":0},{"$f":"IF(A29<>\"\",IFERROR(VLOOKUP(AG29,Tabelas!B:D,3,0),0),\"\")","v":0},{"$f":"IF(A29<>\"\",IFERROR(VLOOKUP(AH29,Tabelas!B:D,3,0),0),\"\")","v":0},{"$f":"IF(A29<>\"\",IFERROR(VLOOKUP(AI29,Tabelas!B:D,3,0),0),\"\")","v":0},{"$f":"IF(A29<>\"\",IFERROR(VLOOKUP(AJ29,Tabelas!B:D,3,0),0),\"\")","v":0},{"$f":"IF(A29<>\"\",IFERROR(VLOOKUP(AK29,Tabelas!B:D,3,0),0),\"\")","v":0},{"$f":"IF(A29<>\"\",IFERROR(VLOOKUP(AL29,Tabelas!B:D,3,0),0),\"\")","v":0},{"$f":"IF(A29<>\"\",IFERROR(VLOOKUP(AM29,Tabelas!B:D,3,0),0),\"\")","v":0},{"$f":"IF(A29<>\"\",IFERROR(VLOOKUP(AN29,Tabelas!B:D,3,0),0),\"\")","v":0},{"$f":"IF(A29<>\"\",IFERROR(VLOOKUP(AO29,Tabelas!B:D,3,0),0),\"\")","v":0},{"$f":"IF(A29<>\"\",IFERROR(VLOOKUP(AP29,Tabelas!B:D,3,0),0),\"\")","v":0},{"$f":"IF(A29<>\"\",IFERROR(VLOOKUP(AQ29,Tabelas!B:D,3,0),0),\"\")","v":0},0,0,0,0,0,0,0,0]
["FULANO 22",22,null,null,null,null,null,null,null,null,null,null,null,null,null,null,null,null,null,null,null,null,null,null,null,null,null,null,null,null,null,null,null,null,null,null,null,null,null,null,null,null,null,{"$f":"IF(A30<>\"\",IFERROR(VLOOKUP(M30,Tabelas!B:D,3,0),0),\"\")","v":0},{"$f":"IF(A30<>\"\",IFERROR(VLOOKUP(N30,Tabelas!B:D,3,0),0),\"\")","v":0},{"$f":"IF(A30<>\"\",IFERROR(VLOOKUP(O30,Tabelas!B:D,3,0),0),\"\")","v":0},{"$f":"IF(A30<>\"\",IFERROR(VLOOKUP(P30,Tabelas!B:D,3,0),0),\"\")","v":0},{"$f":"IF(A30<>\"\",IFERROR(VLOOKUP(Q30,Tabelas!B:D,3,0),0),\"\")","v":0},{"$f":"IF(A30<>\"\",IFERROR(VLOOKUP(R30,Tabelas!B:D,3,0),0),\"\")","v":0},{"$f":"IF(A30<>\"\",IFERROR(VLOOKUP(S30,Tabelas!B:D,3,0),0),\"\")","v":0},{"$f":"IF(A30<>\"\",IFERROR(VLOOKUP(T30,Tabelas!B:D,3,0),0),\"\")","v":0},{"$f":"IF(A30<>\"\",IFERROR(VLOOKUP(U30,Tabelas!B:D,3,0),0),\"\")","v":0},{"$f":"IF(A30<>\"\",IFERROR(VLOOKUP(V30,Tabelas!B:D,3,0),0),\"\")","v":0},{"$f":"IF(A30<>\"\",IFERROR(VLOOKUP(W30,Tabelas!B:D,3,0),0),\"\")","v":0},{"$f":"IF(A30<>\"\",IFERROR(VLOOKUP(X30,Tabelas!B:D,3,0),0),\"\")","v":0},{"$f":"IF(A30<>\"\",IFERROR(VLOOKUP(Y30,Tabelas!B:D,3,0),0),\"\")","v":0},{"$f":"IF(A30<>\"\",IFERROR(VLOOKUP(Z30,Tabelas!B:D,3,0),0),\"\")","v":0},{"$f":"IF(A30<>\"\",IFERROR(VLOOKUP(AA30,Tabelas!B:D,3,0),0),\"\")","v":0},{"$f":"IF(A30<>\"\",IFERROR(VLOOKUP(AB30,Tabelas!B:D,3,0),0),\"\")","v":0},{"$f":"IF(A30<>\"\",IFERROR(VLOOKUP(AC30,Tabelas!B:D,3,0),0),\"\")","v":0},{"$f":"IF(A30<>\"\",IFERROR(VLOOKUP(AD30,Tabelas!B:D,3,0),0),\"\")","v":0},{"$f":"IF(A30<>\"\",IFERROR(VLOOKUP(AE30,Tabelas!B:D,3,0),0),\"\")","v":0},{"$f":"IF(A30<>\"\",IFERROR(VLOOKUP(AF30,Tabelas!B:D,3,0),0),\"\")","v":0},{"$f":"IF(A30<>\"\",IFERROR(VLOOKUP(AG30,Tabelas!B:D,3,0),0),\"\")","v":0},{"$f":"IF(A30<>\"\",IFERROR(VLOOKUP(AH30,Tabelas!B:D,3,0),0),\"\")","v":0},{"$f":"IF(A30<>\"\",IFERROR(VLOOKUP(AI30,Tabelas!B:D,3,0),0),\"\")","v":0},{"$f":"IF(A30<>\"\",IFERROR(VLOOKUP(AJ30,Tabelas!B:D,3,0),0),\"\")","v":0},{"$f":"IF(A30<>\"\",IFERROR(VLOOKUP(AK30,Tabelas!B:D,3,0),0),\"\")","v":0},{"$f":"IF(A30<>\"\",IFERROR(VLOOKUP(AL30,Tabelas!B:D,3,0),0),\"\")","v":0},{"$f":"IF(A30<>\"\",IFERROR(VLOOKUP(AM30,Tabelas!B:D,3,0),0),\"\")","v":0},{"$f":"IF(A30<>\"\",IFERROR(VLOOKUP(AN30,Tabelas!B:D,3,0),0),\"\")","v":0},{"$f":"IF(A30<>\"\",IFERROR(VLOOKUP(AO30,Tabelas!B:D,3,0),0),\"\")","v":0},{"$f":"IF(A30<>\"\",IFERROR(VLOOKUP(AP30,Tabelas!B:D,3,0),0),\"\")","v":0},{"$f":"IF(A30<>\"\",IFERROR(VLOOKUP(AQ30,Tabelas!B:D,3,0),0),\"\")","v":0},0,0,0,0,0,0,0,0]
["FULANO 23",23,null,null,null,null,null,null,null,null,null,null,null,null,null,null,null,null,null,null,null,null,null,null,null,null,null,null,null,null,null,null,null,null,null,null,null,null,null,null,null,null,null,{"$f":"IF(A31<>\"\",IFERROR(VLOOKUP(M31,Tabelas!B:D,3,0),0),\"\")","v":0},{"$f":"IF(A31<>\"\",IFERROR(VLOOKUP(N31,Tabelas!B:D,3,0),0),\"\")","v":0},{"$f":"IF(A31<>\"\",IFERROR(VLOOKUP(O31,Tabelas!B:D,3,0),0),\"\")","v":0},{"$f":"IF(A31<>\"\",IFERROR(VLOOKUP(P31,Tabelas!B:D,3,0),0),\"\")","v":0},{"$f":"IF(A31<>\"\",IFERROR(VLOOKUP(Q31,Tabelas!B:D,3,0),0),\"\")","v":0},{"$f":"IF(A31<>\"\",IFERROR(VLOOKUP(R31,Tabelas!B:D,3,0),0),\"\")","v":0},{"$f":"IF(A31<>\"\",IFERROR(VLOOKUP(S31,Tabelas!B:D,3,0),0),\"\")","v":0},{"$f":"IF(A31<>\"\",IFERROR(VLOOKUP(T31,Tabelas!B:D,3,0),0),\"\")","v":0},{"$f":"IF(A31<>\"\",IFERROR(VLOOKUP(U31,Tabelas!B:D,3,0),0),\"\")","v":0},{"$f":"IF(A31<>\"\",IFERROR(VLOOKUP(V31,Tabelas!B:D,3,0),0),\"\")","v":0},{"$f":"IF(A31<>\"\",IFERROR(VLOOKUP(W31,Tabelas!B:D,3,0),0),\"\")","v":0},{"$f":"IF(A31<>\"\",IFERROR(VLOOKUP(X31,Tabelas!B:D,3,0),0),\"\")","v":0},{"$f":"IF(A31<>\"\",IFERROR(VLOOKUP(Y31,Tabelas!B:D,3,0),0),\"\")","v":0},{"$f":"IF(A31<>\"\",IFERROR(VLOOKUP(Z31,Tabelas!B:D,3,0),0),\"\")","v":0},{"$f":"IF(A31<>\"\",IFERROR(VLOOKUP(AA31,Tabelas!B:D,3,0),0),\"\")","v":0},{"$f":"IF(A31<>\"\",IFERROR(VLOOKUP(AB31,Tabelas!B:D,3,0),0),\"\")","v":0},{"$f":"IF(A31<>\"\",IFERROR(VLOOKUP(AC31,Tabelas!B:D,3,0),0),\"\")","v":0},{"$f":"IF(A31<>\"\",IFERROR(VLOOKUP(AD31,Tabelas!B:D,3,0),0),\"\")","v":0},{"$f":"IF(A31<>\"\",IFERROR(VLOOKUP(AE31,Tabelas!B:D,3,0),0),\"\")","v":0},{"$f":"IF(A31<>\"\",IFERROR(VLOOKUP(AF31,Tabelas!B:D,3,0),0),\"\")","v":0},{"$f":"IF(A31<>\"\",IFERROR(VLOOKUP(AG31,Tabelas!B:D,3,0),0),\"\")","v":0},{"$f":"IF(A31<>\"\",IFERROR(VLOOKUP(AH31,Tabelas!B:D,3,0),0),\"\")","v":0},{"$f":"IF(A31<>\"\",IFERROR(VLOOKUP(AI31,Tabelas!B:D,3,0),0),\"\")","v":0},{"$f":"IF(A31<>\"\",IFERROR(VLOOKUP(AJ31,Tabelas!B:D,3,0),0),\"\")","v":0},{"$f":"IF(A31<>\"\",IFERROR(VLOOKUP(AK31,Tabelas!B:D,3,0),0),\"\")","v":0},{"$f":"IF(A31<>\"\",IFERROR(VLOOKUP(AL31,Tabelas!B:D,3,0),0),\"\")","v":0},{"$f":"IF(A31<>\"\",IFERROR(VLOOKUP(AM31,Tabelas!B:D,3,0),0),\"\")","v":0},{"$f":"IF(A31<>\"\",IFERROR(VLOOKUP(AN31,Tabelas!B:D,3,0),0),\"\")","v":0},{"$f":"IF(A31<>\"\",IFERROR(VLOOKUP(AO31,Tabelas!B:D,3,0),0),\"\")","v":0},{"$f":"IF(A31<>\"\",IFERROR(VLOOKUP(AP31,Tabelas!B:D,3,0),0),\"\")","v":0},{"$f":"IF(A31<>\"\",IFERROR(VLOOKUP(AQ31,Tabelas!B:D,3,0),0),\"\")","v":0},0,0,0,0,0,0,0,0]
["FULANO 24",24,null,null,null,null,null,null,null,null,null,null,null,null,null,null,null,null,null,null,null,null,null,null,null,null,null,null,null,null,null,null,null,null,null,null,null,null,null,null,null,null,null,{"$f":"IF(A32<>\"\",IFERROR(VLOOKUP(M32,Tabelas!B:D,3,0),0),\"\")","v":0},{"$f":"IF(A32<>\"\",IFERROR(VLOOKUP(N32,Tabelas!B:D,3,0),0),\"\")","v":0},{"$f":"IF(A32<>\"\",IFERROR(VLOOKUP(O32,Tabelas!B:D,3,0),0),\"\")","v":0},{"$f":"IF(A32<>\"\",IFERROR(VLOOKUP(P32,Tabelas!B:D,3,0),0),\"\")","v":0},{"$f":"IF(A32<>\"\",IFERROR(VLOOKUP(Q32,Tabelas!B:D,3,0),0),\"\")","v":0},{"$f":"IF(A32<>\"\",IFERROR(VLOOKUP(R32,Tabelas!B:D,3,0),0),\"\")","v":0},{"$f":"IF(A32<>\"\",IFERROR(VLOOKUP(S32,Tabelas!B:D,3,0),0),\"\")","v":0},{"$f":"IF(A32<>\"\",IFERROR(VLOOKUP(T32,Tabelas!B:D,3,0),0),\"\")","v":0},{"$f":"IF(A32<>\"\",IFERROR(VLOOKUP(U32,Tabelas!B:D,3,0),0),\"\")","v":0},{"$f":"IF(A32<>\"\",IFERROR(VLOOKUP(V32,Tabelas!B:D,3,0),0),\"\")","v":0},{"$f":"IF(A32<>\"\",IFERROR(VLOOKUP(W32,Tabelas!B:D,3,0),0),\"\")","v":0},{"$f":"IF(A32<>\"\",IFERROR(VLOOKUP(X32,Tabelas!B:D,3,0),0),\"\")","v":0},{"$f":"IF(A32<>\"\",IFERROR(VLOOKUP(Y32,Tabelas!B:D,3,0),0),\"\")","v":0},{"$f":"IF(A32<>\"\",IFERROR(VLOOKUP(Z32,Tabelas!B:D,3,0),0),\"\")","v":0},{"$f":"IF(A32<>\"\",IFERROR(VLOOKUP(AA32,Tabelas!B:D,3,0),0),\"\")","v":0},{"$f":"IF(A32<>\"\",IFERROR(VLOOKUP(AB32,Tabelas!B:D,3,0),0),\"\")","v":0},{"$f":"IF(A32<>\"\",IFERROR(VLOOKUP(AC32,Tabelas!B:D,3,0),0),\"\")","v":0},{"$f":"IF(A32<>\"\",IFERROR(VLOOKUP(AD32,Tabelas!B:D,3,0),0),\"\")","v":0},{"$f":"IF(A32<>\"\",IFERROR(VLOOKUP(AE32,Tabelas!B:D,3,0),0),\"\")","v":0},{"$f":"IF(A32<>\"\",IFERROR(VLOOKUP(AF32,Tabelas!B:D,3,0),0),\"\")","v":0},{"$f":"IF(A32<>\"\",IFERROR(VLOOKUP(AG32,Tabelas!B:D,3,0),0),\"\")","v":0},{"$f":"IF(A32<>\"\",IFERROR(VLOOKUP(AH32,Tabelas!B:D,3,0),0),\"\")","v":0},{"$f":"IF(A32<>\"\",IFERROR(VLOOKUP(AI32,Tabelas!B:D,3,0),0),\"\")","v":0},{"$f":"IF(A32<>\"\",IFERROR(VLOOKUP(AJ32,Tabelas!B:D,3,0),0),\"\")","v":0},{"$f":"IF(A32<>\"\",IFERROR(VLOOKUP(AK32,Tabelas!B:D,3,0),0),\"\")","v":0},{"$f":"IF(A32<>\"\",IFERROR(VLOOKUP(AL32,Tabelas!B:D,3,0),0),\"\")","v":0},{"$f":"IF(A32<>\"\",IFERROR(VLOOKUP(AM32,Tabelas!B:D,3,0),0),\"\")","v":0},{"$f":"IF(A32<>\"\",IFERROR(VLOOKUP(AN32,Tabelas!B:D,3,0),0),\"\")","v":0},{"$f":"IF(A32<>\"\",IFERROR(VLOOKUP(AO32,Tabelas!B:D,3,0),0),\"\")","v":0},{"$f":"IF(A32<>\"\",IFERROR(VLOOKUP(AP32,Tabelas!B:D,3,0),0),\"\")","v":0},{"$f":"IF(A32<>\"\",IFERROR(VLOOKUP(AQ32,Tabelas!B:D,3,0),0),\"\")","v":0},0,0,0,0,0,0,0,0]
["FULANO 25",25,null,null,null,null,null,null,null,null,null,null,null,null,null,null,null,null,null,null,null,null,null,null,null,null,null,null,null,null,null,null,null,null,null,null,null,null,null,null,null,null,null,{"$f":"IF(A33<>\"\",IFERROR(VLOOKUP(M33,Tabelas!B:D,3,0),0),\"\")","v":0},{"$f":"IF(A33<>\"\",IFERROR(VLOOKUP(N33,Tabelas!B:D,3,0),0),\"\")","v":0},{"$f":"IF(A33<>\"\",IFERROR(VLOOKUP(O33,Tabelas!B:D,3,0),0),\"\")","v":0},{"$f":"IF(A33<>\"\",IFERROR(VLOOKUP(P33,Tabelas!B:D,3,0),0),\"\")","v":0},{"$f":"IF(A33<>\"\",IFERROR(VLOOKUP(Q33,Tabelas!B:D,3,0),0),\"\")","v":0},{"$f":"IF(A33<>\"\",IFERROR(VLOOKUP(R33,Tabelas!B:D,3,0),0),\"\")","v":0},{"$f":"IF(A33<>\"\",IFERROR(VLOOKUP(S33,Tabelas!B:D,3,0),0),\"\")","v":0},{"$f":"IF(A33<>\"\",IFERROR(VLOOKUP(T33,Tabelas!B:D,3,0),0),\"\")","v":0},{"$f":"IF(A33<>\"\",IFERROR(VLOOKUP(U33,Tabelas!B:D,3,0),0),\"\")","v":0},{"$f":"IF(A33<>\"\",IFERROR(VLOOKUP(V33,Tabelas!B:D,3,0),0),\"\")","v":0},{"$f":"IF(A33<>\"\",IFERROR(VLOOKUP(W33,Tabelas!B:D,3,0),0),\"\")","v":0},{"$f":"IF(A33<>\"\",IFERROR(VLOOKUP(X33,Tabelas!B:D,3,0),0),\"\")","v":0},{"$f":"IF(A33<>\"\",IFERROR(VLOOKUP(Y33,Tabelas!B:D,3,0),0),\"\")","v":0},{"$f":"IF(A33<>\"\",IFERROR(VLOOKUP(Z33,Tabelas!B:D,3,0),0),\"\")","v":0},{"$f":"IF(A33<>\"\",IFERROR(VLOOKUP(AA33,Tabelas!B:D,3,0),0),\"\")","v":0},{"$f":"IF(A33<>\"\",IFERROR(VLOOKUP(AB33,Tabelas!B:D,3,0),0),\"\")","v":0},{"$f":"IF(A33<>\"\",IFERROR(VLOOKUP(AC33,Tabelas!B:D,3,0),0),\"\")","v":0},{"$f":"IF(A33<>\"\",IFERROR(VLOOKUP(AD33,Tabelas!B:D,3,0),0),\"\")","v":0},{"$f":"IF(A33<>\"\",IFERROR(VLOOKUP(AE33,Tabelas!B:D,3,0),0),\"\")","v":0},{"$f":"IF(A33<>\"\",IFERROR(VLOOKUP(AF33,Tabelas!B:D,3,0),0),\"\")","v":0},{"$f":"IF(A33<>\"\",IFERROR(VLOOKUP(AG33,Tabelas!B:D,3,0),0),\"\")","v":0},{"$f":"IF(A33<>\"\",IFERROR(VLOOKUP(AH33,Tabelas!B:D,3,0),0),\"\")","v":0},{"$f":"IF(A33<>\"\",IFERROR(VLOOKUP(AI33,Tabelas!B:D,3,0),0),\"\")","v":0},{"$f":"IF(A33<>\"\",IFERROR(VLOOKUP(AJ33,Tabelas!B:D,3,0),0),\"\")","v":0},{"$f":"IF(A33<>\"\",IFERROR(VLOOKUP(AK33,Tabelas!B:D,3,0),0),\"\")","v":0},{"$f":"IF(A33<>\"\",IFERROR(VLOOKUP(AL33,Tabelas!B:D,3,0),0),\"\")","v":0},{"$f":"IF(A33<>\"\",IFERROR(VLOOKUP(AM33,Tabelas!B:D,3,0),0),\"\")","v":0},{"$f":"IF(A33<>\"\",IFERROR(VLOOKUP(AN33,Tabelas!B:D,3,0),0),\"\")","v":0},{"$f":"IF(A33<>\"\",IFERROR(VLOOKUP(AO33,Tabelas!B:D,3,0),0),\"\")","v":0},{"$f":"IF(A33<>\"\",IFERROR(VLOOKUP(AP33,Tabelas!B:D,3,0),0),\"\")","v":0},{"$f":"IF(A33<>\"\",IFERROR(VLOOKUP(AQ33,Tabelas!B:D,3,0),0),\"\")","v":0},0,0,0,0,0,0,0,0]
["FULANO 26",26,null,null,null,null,null,null,null,null,null,null,null,null,null,null,null,null,null,null,null,null,null,null,null,null,null,null,null,null,null,null,null,null,null,null,null,null,null,null,null,null,null,{"$f":"IF(A34<>\"\",IFERROR(VLOOKUP(M34,Tabelas!B:D,3,0),0),\"\")","v":0},{"$f":"IF(A34<>\"\",IFERROR(VLOOKUP(N34,Tabelas!B:D,3,0),0),\"\")","v":0},{"$f":"IF(A34<>\"\",IFERROR(VLOOKUP(O34,Tabelas!B:D,3,0),0),\"\")","v":0},{"$f":"IF(A34<>\"\",IFERROR(VLOOKUP(P34,Tabelas!B:D,3,0),0),\"\")","v":0},{"$f":"IF(A34<>\"\",IFERROR(VLOOKUP(Q34,Tabelas!B:D,3,0),0),\"\")","v":0},{"$f":"IF(A34<>\"\",IFERROR(VLOOKUP(R34,Tabelas!B:D,3,0),0),\"\")","v":0},{"$f":"IF(A34<>\"\",IFERROR(VLOOKUP(S34,Tabelas!B:D,3,0),0),\"\")","v":0},{"$f":"IF(A34<>\"\",IFERROR(VLOOKUP(T34,Tabelas!B:D,3,0),0),\"\")","v":0},{"$f":"IF(A34<>\"\",IFERROR(VLOOKUP(U34,Tabelas!B:D,3,0),0),\"\")","v":0},{"$f":"IF(A34<>\"\",IFERROR(VLOOKUP(V34,Tabelas!B:D,3,0),0),\"\")","v":0},{"$f":"IF(A34<>\"\",IFERROR(VLOOKUP(W34,Tabelas!B:D,3,0),0),\"\")","v":0},{"$f":"IF(A34<>\"\",IFERROR(VLOOKUP(X34,Tabelas!B:D,3,0),0),\"\")","v":0},{"$f":"IF(A34<>\"\",IFERROR(VLOOKUP(Y34,Tabelas!B:D,3,0),0),\"\")","v":0},{"$f":"IF(A34<>\"\",IFERROR(VLOOKUP(Z34,Tabelas!B:D,3,0),0),\"\")","v":0},{"$f":"IF(A34<>\"\",IFERROR(VLOOKUP(AA34,Tabelas!B:D,3,0),0),\"\")","v":0},{"$f":"IF(A34<>\"\",IFERROR(VLOOKUP(AB34,Tabelas!B:D,3,0),0),\"\")","v":0},{"$f":"IF(A34<>\"\",IFERROR(VLOOKUP(AC34,Tabelas!B:D,3,0),0),\"\")","v":0},{"$f":"IF(A34<>\"\",IFERROR(VLOOKUP(AD34,Tabelas!B:D,3,0),0),\"\")","v":0},{"$f":"IF(A34<>\"\",IFERROR(VLOOKUP(AE34,Tabelas!B:D,3,0),0),\"\")","v":0},{"$f":"IF(A34<>\"\",IFERROR(VLOOKUP(AF34,Tabelas!B:D,3,0),0),\"\")","v":0},{"$f":"IF(A34<>\"\",IFERROR(VLOOKUP(AG34,Tabelas!B:D,3,0),0),\"\")","v":0},{"$f":"IF(A34<>\"\",IFERROR(VLOOKUP(AH34,Tabelas!B:D,3,0),0),\"\")","v":0},{"$f":"IF(A34<>\"\",IFERROR(VLOOKUP(AI34,Tabelas!B:D,3,0),0),\"\")","v":0},{"$f":"IF(A34<>\"\",IFERROR(VLOOKUP(AJ34,Tabelas!B:D,3,0),0),\"\")","v":0},{"$f":"IF(A34<>\"\",IFERROR(VLOOKUP(AK34,Tabelas!B:D,3,0),0),\"\")","v":0},{"$f":"IF(A34<>\"\",IFERROR(VLOOKUP(AL34,Tabelas!B:D,3,0),0),\"\")","v":0},{"$f":"IF(A34<>\"\",IFERROR(VLOOKUP(AM34,Tabelas!B:D,3,0),0),\"\")","v":0},{"$f":"IF(A34<>\"\",IFERROR(VLOOKUP(AN34,Tabelas!B:D,3,0),0),\"\")","v":0},{"$f":"IF(A34<>\"\",IFERROR(VLOOKUP(AO34,Tabelas!B:D,3,0),0),\"\")","v":0},{"$f":"IF(A34<>\"\",IFERROR(VLOOKUP(AP34,Tabelas!B:D,3,0),0),\"\")","v":0},{"$f":"IF(A34<>\"\",IFERROR(VLOOKUP(AQ34,Tabelas!B:D,3,0),0),\"\")","v":0},0,0,0,0,0,0,0,0]
["FULANO 27",27,null,null,null,null,null,null,null,null,null,null,null,null,null,null,null,null,null,null,null,null,null,null,null,null,null,null,null,null,null,null,null,null,null,null,null,null,null,null,null,null,null,{"$f":"IF(A35<>\"\",IFERROR(VLOOKUP(M35,Tabelas!B:D,3,0),0),\"\")","v":0},{"$f":"IF(A35<>\"\",IFERROR(VLOOKUP(N35,Tabelas!B:D,3,0),0),\"\")","v":0},{"$f":"IF(A35<>\"\",IFERROR(VLOOKUP(O35,Tabelas!B:D,3,0),0),\"\")","v":0},{"$f":"IF(A35<>\"\",IFERROR(VLOOKUP(P35,Tabelas!B:D,3,0),0),\"\")","v":0},{"$f":"IF(A35<>\"\",IFERROR(VLOOKUP(Q35,Tabelas!B:D,3,0),0),\"\")","v":0},{"$f":"IF(A35<>\"\",IFERROR(VLOOKUP(R35,Tabelas!B:D,3,0),0),\"\")","v":0},{"$f":"IF(A35<>\"\",IFERROR(VLOOKUP(S35,Tabelas!B:D,3,0),0),\"\")","v":0},{"$f":"IF(A35<>\"\",IFERROR(VLOOKUP(T35,Tabelas!B:D,3,0),0),\"\")","v":0},{"$f":"IF(A35<>\"\",IFERROR(VLOOKUP(U35,Tabelas!B:D,3,0),0),\"\")","v":0},{"$f":"IF(A35<>\"\",IFERROR(VLOOKUP(V35,Tabelas!B:D,3,0),0),\"\")","v":0},{"$f":"IF(A35<>\"\",IFERROR(VLOOKUP(W35,Tabelas!B:D,3,0),0),\"\")","v":0},{"$f":"IF(A35<>\"\",IFERROR(VLOOKUP(X35,Tabelas!B:D,3,0),0),\"\")","v":0},{"$f":"IF(A35<>\"\",IFERROR(VLOOKUP(Y35,Tabelas!B:D,3,0),0),\"\")","v":0},{"$f":"IF(A35<>\"\",IFERROR(VLOOKUP(Z35,Tabelas!B:D,3,0),0),\"\")","v":0},{"$f":"IF(A35<>\"\",IFERROR(VLOOKUP(AA35,Tabelas!B:D,3,0),0),\"\")","v":0},{"$f":"IF(A35<>\"\",IFERROR(VLOOKUP(AB35,Tabelas!B:D,3,0),0),\"\")","v":0},{"$f":"IF(A35<>\"\",IFERROR(VLOOKUP(AC35,Tabelas!B:D,3,0),0),\"\")","v":0},{"$f":"IF(A35<>\"\",IFERROR(VLOOKUP(AD35,Tabelas!B:D,3,0),0),\"\")","v":0},{"$f":"IF(A35<>\"\",IFERROR(VLOOKUP(AE35,Tabelas!B:D,3,0),0),\"\")","v":0},{"$f":"IF(A35<>\"\",IFERROR(VLOOKUP(AF35,Tabelas!B:D,3,0),0),\"\")","v":0},{"$f":"IF(A35<>\"\",IFERROR(VLOOKUP(AG35,Tabelas!B:D,3,0),0),\"\")","v":0},{"$f":"IF(A35<>\"\",IFERROR(VLOOKUP(AH35,Tabelas!B:D,3,0),0),\"\")","v":0},{"$f":"IF(A35<>\"\",IFERROR(VLOOKUP(AI35,Tabelas!B:D,3,0),0),\"\")","v":0},{"$f":"IF(A35<>\"\",IFERROR(VLOOKUP(AJ35,Tabelas!B:D,3,0),0),\"\")","v":0},{"$f":"IF(A35<>\"\",IFERROR(VLOOKUP(AK35,Tabelas!B:D,3,0),0),\"\")","v":0},{"$f":"IF(A35<>\"\",IFERROR(VLOOKUP(AL35,Tabelas!B:D,3,0),0),\"\")","v":0},{"$f":"IF(A35<>\"\",IFERROR(VLOOKUP(AM35,Tabelas!B:D,3,0),0),\"\")","v":0},{"$f":"IF(A35<>\"\",IFERROR(VLOOKUP(AN35,Tabelas!B:D,3,0),0),\"\")","v":0},{"$f":"IF(A35<>\"\",IFERROR(VLOOKUP(AO35,Tabelas!B:D,3,0),0),\"\")","v":0},{"$f":"IF(A35<>\"\",IFERROR(VLOOKUP(AP35,Tabelas!B:D,3,0),0),\"\")","v":0},{"$f":"IF(A35<>\"\",IFERROR(VLOOKUP(AQ35,Tabelas!B:D,3,0),0),\"\")","v":0},0,0,0,0,0,0,0,0]
["TOTAL PROFISSIONAIS MATUTINO",null,null,null,null,null,null,null,null,null,null,null,{"$f":"IF(COUNTIF(M9:M35,\"M*\")+ COUNTIF(M9:M35, \"D*\")-COUNTIF(M9:M35,\"DSR\")<>0,COUNTIF(M9:M35,\"M*\")+ COUNTIF(M9:M35, \"D*\")-COUNTIF(M9:M35,\"DSR\"),\"\")","v":""},"","","","","","","","","","","","","","","","","","","","","","","","","","","","","","",null,null,null,null,null,null,null,null,null,null,null,null,null,null,null,null,null,null,null,null,null,null,null,null,null,null,null,null,null,null,null,{"$f":"SUM(BW9:BW35)","v":0},0,0,0,0,0,0,0]
["TOTAL DE PROFISSIONAIS VESPERTINO",null,null,null,null,null,null,null,null,null,null,null,{"$f":"IF(COUNTIF(M9:M35,\"MT*\") + COUNTIF(M9:M35, \"D*\") + COUNTIF(M9:M35,\"T*\")-COUNTIF(M9:M35,\"DSR\")<>0,COUNTIF(M9:M35,\"MT*\") + COUNTIF(M9:M35, \"D*\") + COUNTIF(M9:M35,\"T*\")-COUNTIF(M9:M35,\"DSR\"),\"\")","v":""},"","","","","","","","","","","","","","","","","","","","","","","","","","","","","","",{"$f":"IF(A37<>\"\",IFERROR(VLOOKUP(M37,Tabelas!B:D,3,0),0),\"\")","v":0},{"$f":"IF(A37<>\"\",IFERROR(VLOOKUP(N37,Tabelas!B:D,3,0),0),\"\")","v":0},{"$f":"IF(A37<>\"\",IFERROR(VLOOKUP(O37,Tabelas!B:D,3,0),0),\"\")","v":0},{"$f":"IF(A37<>\"\",IFERROR(VLOOKUP(P37,Tabelas!B:D,3,0),0),\"\")","v":0},{"$f":"IF(A37<>\"\",IFERROR(VLOOKUP(Q37,Tabelas!B:D,3,0),0),\"\")","v":0},{"$f":"IF(A37<>\"\",IFERROR(VLOOKUP(R37,Tabelas!B:D,3,0),0),\"\")","v":0},{"$f":"IF(A37<>\"\",IFERROR(VLOOKUP(S37,Tabelas!B:D,3,0),0),\"\")","v":0},{"$f":"IF(A37<>\"\",IFERROR(VLOOKUP(T37,Tabelas!B:D,3,0),0),\"\")","v":0},{"$f":"IF(A37<>\"\",IFERROR(VLOOKUP(U37,Tabelas!B:D,3,0),0),\"\")","v":0},{"$f":"IF(A37<>\"\",IFERROR(VLOOKUP(V37,Tabelas!B:D,3,0),0),\"\")","v":0},{"$f":"IF(A37<>\"\",IFERROR(VLOOKUP(W37,Tabelas!B:D,3,0),0),\"\")","v":0},{"$f":"IF(A37<>\"\",IFERROR(VLOOKUP(X37,Tabelas!B:D,3,0),0),\"\")","v":0},{"$f":"IF(A37<>\"\",IFERROR(VLOOKUP(Y37,Tabelas!B:D,3,0),0),\"\")","v":0},{"$f":"IF(A37<>\"\",IFERROR(VLOOKUP(Z37,Tabelas!B:D,3,0),0),\"\")","v":0},{"$f":"IF(A37<>\"\",IFERROR(VLOOKUP(AA37,Tabelas!B:D,3,0),0),\"\")","v":0},{"$f":"IF(A37<>\"\",IFERROR(VLOOKUP(AB37,Tabelas!B:D,3,0),0),\"\")","v":0},{"$f":"IF(A37<>\"\",IFERROR(VLOOKUP(AC37,Tabelas!B:D,3,0),0),\"\")","v":0},{"$f":"IF(A37<>\"\",IFERROR(VLOOKUP(AD37,Tabelas!B:D,3,0),0),\"\")","v":0},{"$f":"IF(A37<>\"\",IFERROR(VLOOKUP(AE37,Tabelas!B:D,3,0),0),\"\")","v":0},{"$f":"IF(A37<>\"\",IFERROR(VLOOKUP(AF37,Tabelas!B:D,3,0),0),\"\")","v":0},{"$f":"IF(A37<>\"\",IFERROR(VLOOKUP(AG37,Tabelas!B:D,3,0),0),\"\")","v":0},{"$f":"IF(A37<>\"\",IFERROR(VLOOKUP(AH37,Tabelas!B:D,3,0),0),\"\")","v":0},{"$f":"IF(A37<>\"\",IFERROR(VLOOKUP(AI37,Tabelas!B:D,3,0),0),\"\")","v":0},{"$f":"IF(A37<>\"\",IFERROR(VLOOKUP(AJ37,Tabelas!B:D,3,0),0),\"\")","v":0},{"$f":"IF(A37<>\"\",IFERROR(VLOOKUP(AK37,Tabelas!B:D,3,0),0),\"\")","v":0},{"$f":"IF(A37<>\"\",IFERROR(VLOOKUP(AL37,Tabelas!B:D,3,0),0),\"\")","v":0},{"$f":"IF(A37<>\"\",IFERROR(VLOOKUP(AM37,Tabelas!B:D,3,0),0),\"\")","v":0},{"$f":"IF(A37<>\"\",IFERROR(VLOOKUP(AN37,Tabelas!B:D,3,0),0),\"\")","v":0},{"$f":"IF(A37<>\"\",IFERROR(VLOOKUP(AO37,Tabelas!B:D,3,0),0),\"\")","v":0},{"$f":"IF(A37<>\"\",IFERROR(VLOOKUP(AP37,Tabelas!B:D,3,0),0),\"\")","v":0},{"$f":"IF(A37<>\"\",IFERROR(VLOOKUP(AQ37,Tabelas!B:D,3,0),0),\"\")","v":0}]
["TOTAL DE PROFISSIONAIS NOTURNO",null,null,null,null,null,null,null,null,null,null,null,{"$f":"IF(COUNTIF(M9:M37,\"N?*\") + COUNTIF(M9:M37, \"DN*\")<>0,COUNTIF(M9:M37,\"N?*\") + COUNTIF(M9:M37, \"DN*\"),\"\")","v":""},"","","","","","","","","","","","","","","","","","","","","","","","","","","","","","",{"$f":"IF(A38<>\"\",IFERROR(VLOOKUP(M38,Tabelas!B:D,3,0),0),\"\")","v":0},{"$f":"IF(A38<>\"\",IFERROR(VLOOKUP(N38,Tabelas!B:D,3,0),0),\"\")","v":0},{"$f":"IF(A38<>\"\",IFERROR(VLOOKUP(O38,Tabelas!B:D,3,0),0),\"\")","v":0},{"$f":"IF(A38<>\"\",IFERROR(VLOOKUP(P38,Tabelas!B:D,3,0),0),\"\")","v":0},{"$f":"IF(A38<>\"\",IFERROR(VLOOKUP(Q38,Tabelas!B:D,3,0),0),\"\")","v":0},{"$f":"IF(A38<>\"\",IFERROR(VLOOKUP(R38,Tabelas!B:D,3,0),0),\"\")","v":0},{"$f":"IF(A38<>\"\",IFERROR(VLOOKUP(S38,Tabelas!B:D,3,0),0),\"\")","v":0},{"$f":"IF(A38<>\"\",IFERROR(VLOOKUP(T38,Tabelas!B:D,3,0),0),\"\")","v":0},{"$f":"IF(A38<>\"\",IFERROR(VLOOKUP(U38,Tabelas!B:D,3,0),0),\"\")","v":0},{"$f":"IF(A38<>\"\",IFERROR(VLOOKUP(V38,Tabelas!B:D,3,0),0),\"\")","v":0},{"$f":"IF(A38<>\"\",IFERROR(VLOOKUP(W38,Tabelas!B:D,3,0),0),\"\")","v":0},{"$f":"IF(A38<>\"\",IFERROR(VLOOKUP(X38,Tabelas!B:D,3,0),0),\"\")","v":0},{"$f":"IF(A38<>\"\",IFERROR(VLOOKUP(Y38,Tabelas!B:D,3,0),0),\"\")","v":0},{"$f":"IF(A38<>\"\",IFERROR(VLOOKUP(Z38,Tabelas!B:D,3,0),0),\"\")","v":0},{"$f":"IF(A38<>\"\",IFERROR(VLOOKUP(AA38,Tabelas!B:D,3,0),0),\"\")","v":0},{"$f":"IF(A38<>\"\",IFERROR(VLOOKUP(AB38,Tabelas!B:D,3,0),0),\"\")","v":0},{"$f":"IF(A38<>\"\",IFERROR(VLOOKUP(AC38,Tabelas!B:D,3,0),0),\"\")","v":0},{"$f":"IF(A38<>\"\",IFERROR(VLOOKUP(AD38,Tabelas!B:D,3,0),0),\"\")","v":0},{"$f":"IF(A38<>\"\",IFERROR(VLOOKUP(AE38,Tabelas!B:D,3,0),0),\"\")","v":0},{"$f":"IF(A38<>\"\",IFERROR(VLOOKUP(AF38,Tabelas!B:D,3,0),0),\"\")","v":0},{"$f":"IF(A38<>\"\",IFERROR(VLOOKUP(AG38,Tabelas!B:D,3,0),0),\"\")","v":0},{"$f":"IF(A38<>\"\",IFERROR(VLOOKUP(AH38,Tabelas!B:D,3,0),0),\"\")","v":0},{"$f":"IF(A38<>\"\",IFERROR(VLOOKUP(AI38,Tabelas!B:D,3,0),0),\"\")","v":0},{"$f":"IF(A38<>\"\",IFERROR(VLOOKUP(AJ38,Tabelas!B:D,3,0),0),\"\")","v":0},{"$f":"IF(A38<>\"\",IFERROR(VLOOKUP(AK38,Tabelas!B:D,3,0),0),\"\")","v":0},{"$f":"IF(A38<>\"\",IFERROR(VLOOKUP(AL38,Tabelas!B:D,3,0),0),\"\")","v":0},{"$f":"IF(A38<>\"\",IFERROR(VLOOKUP(AM38,Tabelas!B:D,3,0),0),\"\")","v":0},{"$f":"IF(A38<>\"\",IFERROR(VLOOKUP(AN38,Tabelas!B:D,3,0),0),\"\")","v":0},{"$f":"IF(A38<>\"\",IFERROR(VLOOKUP(AO38,Tabelas!B:D,3,0),0),\"\")","v":0},{"$f":"IF(A38<>\"\",IFERROR(VLOOKUP(AP38,Tabelas!B:D,3,0),0),\"\")","v":0},{"$f":"IF(A38<>\"\",IFERROR(VLOOKUP(AQ38,Tabelas!B:D,3,0),0),\"\")","v":0}]
[null,null,null,null,null,null,null,null,null,null,null,null,null,null,null,null,null,null,null,null,null,null,null,null,null,null,null,null,null,null,null,null,null,null,null,null,null,null,null,null,null,null,null,{"$f":"IF(A39<>\"\",IFERROR(VLOOKUP(M39,Tabelas!B:D,3,0),0),\"\")","v":""},{"$f":"IF(A39<>\"\",IFERROR(VLOOKUP(N39,Tabelas!B:D,3,0),0),\"\")","v":""},{"$f":"IF(A39<>\"\",IFERROR(VLOOKUP(O39,Tabelas!B:D,3,0),0),\"\")","v":""},{"$f":"IF(A39<>\"\",IFERROR(VLOOKUP(P39,Tabelas!B:D,3,0),0),\"\")","v":""},{"$f":"IF(A39<>\"\",IFERROR(VLOOKUP(Q39,Tabelas!B:D,3,0),0),\"\")","v":""},{"$f":"IF(A39<>\"\",IFERROR(VLOOKUP(R39,Tabelas!B:D,3,0),0),\"\")","v":""},{"$f":"IF(A39<>\"\",IFERROR(VLOOKUP(S39,Tabelas!B:D,3,0),0),\"\")","v":""},{"$f":"IF(A39<>\"\",IFERROR(VLOOKUP(T39,Tabelas!B:D,3,0),0),\"\")","v":""},{"$f":"IF(A39<>\"\",IFERROR(VLOOKUP(U39,Tabelas!B:D,3,0),0),\"\")","v":""},{"$f":"IF(A39<>\"\",IFERROR(VLOOKUP(V39,Tabelas!B:D,3,0),0),\"\")","v":""},{"$f":"IF(A39<>\"\",IFERROR(VLOOKUP(W39,Tabelas!B:D,3,0),0),\"\")","v":""},{"$f":"IF(A39<>\"\",IFERROR(VLOOKUP(X39,Tabelas!B:D,3,0),0),\"\")","v":""},{"$f":"IF(A39<>\"\",IFERROR(VLOOKUP(Y39,Tabelas!B:D,3,0),0),\"\")","v":""},{"$f":"IF(A39<>\"\",IFERROR(VLOOKUP(Z39,Tabelas!B:D,3,0),0),\"\")","v":""},{"$f":"IF(A39<>\"\",IFERROR(VLOOKUP(AA39,Tabelas!B:D,3,0),0),\"\")","v":""},{"$f":"IF(A39<>\"\",IFERROR(VLOOKUP(AB39,Tabelas!B:D,3,0),0),\"\")","v":""},{"$f":"IF(A39<>\"\",IFERROR(VLOOKUP(AC39,Tabelas!B:D,3,0),0),\"\")","v":""},{"$f":"IF(A39<>\"\",IFERROR(VLOOKUP(AD39,Tabelas!B:D,3,0),0),\"\")","v":""},{"$f":"IF(A39<>\"\",IFERROR(VLOOKUP(AE39,Tabelas!B:D,3,0),0),\"\")","v":""},{"$f":"IF(A39<>\"\",IFERROR(VLOOKUP(AF39,Tabelas!B:D,3,0),0),\"\")","v":""},{"$f":"IF(A39<>\"\",IFERROR(VLOOKUP(AG39,Tabelas!B:D,3,0),0),\"\")","v":""},{"$f":"IF(A39<>\"\",IFERROR(VLOOKUP(AH39,Tabelas!B:D,3,0),0),\"\")","v":""},{"$f":"IF(A39<>\"\",IFERROR(VLOOKUP(AI39,Tabelas!B:D,3,0),0),\"\")","v":""},{"$f":"IF(A39<>\"\",IFERROR(VLOOKUP(AJ39,Tabelas!B:D,3,0),0),\"\")","v":""},{"$f":"IF(A39<>\"\",IFERROR(VLOOKUP(AK39,Tabelas!B:D,3,0),0),\"\")","v":""},{"$f":"IF(A39<>\"\",IFERROR(VLOOKUP(AL39,Tabelas!B:D,3,0),0),\"\")","v":""},{"$f":"IF(A39<>\"\",IFERROR(VLOOKUP(AM39,Tabelas!B:D,3,0),0),\"\")","v":""},{"$f":"IF(A39<>\"\",IFERROR(VLOOKUP(AN39,Tabelas!B:D,3,0),0),\"\")","v":""},{"$f":"IF(A39<>\"\",IFERROR(VLOOKUP(AO39,Tabelas!B:D,3,0),0),\"\")","v":""},{"$f":"IF(A39<>\"\",IFERROR(VLOOKUP(AP39,Tabelas!B:D,3,0),0),\"\")","v":""},{"$f":"IF(A39<>\"\",IFERROR(VLOOKUP(AQ39,Tabelas!B:D,3,0),0),\"\")","v":""}]
["Legenda:"]
["Licença Maternidade","LM","Férias",null,null,null,null,null,null,"FE",null,"Ponto Facultativo",null,null,null,null,null,null,null,"PF","Manhã *",null,null,null,null,null,null,"M","Diurno (8 hrs) *",null,null,null,null,null,null,"MT"]
["Licença Paternidade","LP","Feriado",null,null,null,null,null,null,"FD",null,"Abono **",null,null,null,null,null,null,null,"AB","Tarde *",null,null,null,null,null,null,"T","Dia/ noite (24 hrs) *",null,null,null,null,null,null,"DN"]
["Licença Médica/Odontológica","L","Descanso Semanal Remunerado",null,null,null,null,null,null,"DSR",null,"Compensação de Horas***",null,null,null,null,null,null,null,"CH","Plantão Dia (12 hrs) *",null,null,null,null,null,null,"D"]
["Licença Capacitação","LC","Recesso",null,null,null,null,null,null,"RC",null,"Afastamento**",null,null,null,null,null,null,null,"AF","Plantão Noite (12 hrs) *",null,null,null,null,null,null,"N"]
[]
["OBSERVAÇÕES:"]
["* Para inserção das legendas referentes às jornadas de trabalho, verificar a Tabela 1 do Anexo do Memorando-Circular - SEI nº   25 /2018/CAP/DGP-EBSERH."]
["** Para inserção das legendas referentes aos Afastamentos previstos em lei e às Compensações de horas, verificar a Tabela 2 do Anexo do Memorando-Circular - SEI nº   25 /2018/CAP/DGP-EBSERH."]

{"sheet":"Outubro","index":9,"n_rows":48,"n_cols":82,"rows_kept":48,"cut":false,"hidden":false,"merged":[[40,20,40,26],[41,2,41,8],[41,9,41,10],[41,11,41,18],[41,20,41,26],[40,2,40,8],[40,9,40,10],[42,20,42,26],[43,2,43,8],[43,9,43,10],[43,11,43,18],[43,20,43,26],[35,0,35,11],[36,0,36,11],[37,0,37,11],[42,2,42,8],[42,9,42,10],[42,11,42,18],[40,11,40,18],[1,0,1,42],[2,0,2,42],[3,0,3,42],[4,1,4,20],[4,23,4,34],[4,37,4,42],[5,6,5,11],[6,76,7,76],[6,77,7,77],[6,78,7,78],[6,79,7,79],[6,6,7,6],[6,7,7,7],[6,8,7,8],[6,11,7,11],[6,9,7,9],[6,10,7,10],[6,80,7,80],[6,81,7,81],[5,12,5,42],[5,43,5,73],[5,75,5,81],[5,74,7,74],[6,75,7,75],[35,79,37,79],[35,80,37,80],[35,81,37,81],[40,28,40,34],[41,28,41,34],[35,74,37,74],[35,75,37,75],[35,76,37,76],[35,77,37,77],[35,78,37,78]]}
[]
[]
["NOME DO HU"]
["ESCALA MENSAL DE TRABALHO"]
["DIVISÃO /SETOR/UNIDADE:",null,null,null,null,null,null,null,null,null,null,null,null,null,null,null,null,null,null,null,null,"MÊS:",null,"Outubro",null,null,null,null,null,null,null,null,null,null,null,"ANO:",null,2019]
["NOME COMPLETO","SIAPE","     Registro Conselho Classe","Cargo","Vínculo","    C.H Sem","INTERVALO",null,null,null,null,null,"DIAS DO MÊS",null,null,null,null,null,null,null,null,null,null,null,null,null,null,null,null,null,null,null,null,null,null,null,null,null,null,null,null,null,null,"CÁLCULO DAS HORAS",null,null,null,null,null,null,null,null,null,null,null,null,null,null,null,null,null,null,null,null,null,null,null,null,null,null,null,null,null,null,"CH Men.","Dias"]
[null,null,null,null,null,null,"15' M","15' T","15' N","1H D","1H N","2H",1,2,3,4,5,6,7,8,9,10,11,12,13,14,15,16,17,18,19,20,21,22,23,24,25,{"$f":"IF(DAY(DATE(AL5,VLOOKUP(X5,Tabelas!M:N,2,0)+1,1)-1)>=26,26,\"\")","v":26},{"$f":"IF(DAY(DATE(AL5,VLOOKUP(X5,Tabelas!M:N,2,0)+1,1)-1)>=27,27,\"\")","v":27},{"$f":"IF(DAY(DATE(AL5,VLOOKUP(X5,Tabelas!M:N,2,0)+1,1)-1)>=28,28,\"\")","v":28},{"$f":"IF(DAY(DATE(AL5,VLOOKUP(X5,Tabelas!M:N,2,0)+1,1)-1)>=29,29,\"\")","v":29},{"$f":"IF(DAY(DATE(AL5,VLOOKUP(X5,Tabelas!M:N,2,0)+1,1)-1)>=30,30,\"\")","v":30},{"$f":"IF(DAY(DATE(AL5,VLOOKUP(X5,Tabelas!M:N,2,0)+1,1)-1)>=31,31,\"\")","v":31},null,null,null,null,null,null,null,null,null,null,null,null,null,null,null,null,null,null,null,null,null,null,null,null,null,null,null,null,null,null,null,null,"LM/LP/L","AB","FE","LC","CH","AF  "," Total Afast."]
[null,null,null,null,null,null,null,null,null,null,null,null,{"$f":"IF(M7<>\"\",IFERROR(VLOOKUP(WEEKDAY(CONCATENATE(M7,$X$5,$AL$5)),Tabelas!$I:$J,2,0),\"\"),\"\")","v":"TER"},{"$f":"IF(N7<>\"\",IFERROR(VLOOKUP(WEEKDAY(CONCATENATE(N7,$X$5,$AL$5)),Tabelas!$I:$J,2,0),\"\"),\"\")","v":"QUA"},{"$f":"IF(O7<>\"\",IFERROR(VLOOKUP(WEEKDAY(CONCATENATE(O7,$X$5,$AL$5)),Tabelas!$I:$J,2,0),\"\"),\"\")","v":"QUI"},{"$f":"IF(P7<>\"\",IFERROR(VLOOKUP(WEEKDAY(CONCATENATE(P7,$X$5,$AL$5)),Tabelas!$I:$J,2,0),\"\"),\"\")","v":"SEX"},{"$f":"IF(Q7<>\"\",IFERROR(VLOOKUP(WEEKDAY(CONCATENATE(Q7,$X$5,$AL$5)),Tabelas!$I:$J,2,0),\"\"),\"\")","v":"SAB"},{"$f":"IF(R7<>\"\",IFERROR(VLOOKUP(WEEKDAY(CONCATENATE(R7,$X$5,$AL$5)),Tabelas!$I:$J,2,0),\"\"),\"\")","v":"DOM"},{"$f":"IF(S7<>\"\",IFERROR(VLOOKUP(WEEKDAY(CONCATENATE(S7,$X$5,$AL$5)),Tabelas!$I:$J,2,0),\"\"),\"\")","v":"SEG"},{"$f":"IF(T7<>\"\",IFERROR(VLOOKUP(WEEKDAY(CONCATENATE(T7,$X$5,$AL$5)),Tabelas!$I:$J,2,0),\"\"),\"\")","v":"TER"},{"$f":"IF(U7<>\"\",IFERROR(VLOOKUP(WEEKDAY(CONCATENATE(U7,$X$5,$AL$5)),Tabelas!$I:$J,2,0),\"\"),\"\")","v":"QUA"},{"$f":"IF(V7<>\"\",IFERROR(VLOOKUP(WEEKDAY(CONCATENATE(V7,$X$5,$AL$5)),Tabelas!$I:$J,2,0),\"\"),\"\")","v":"QUI"},{"$f":"IF(W7<>\"\",IFERROR(VLOOKUP(WEEKDAY(CONCATENATE(W7,$X$5,$AL$5)),Tabelas!$I:$J,2,0),\"\"),\"\")","v":"SEX"},{"$f":"IF(X7<>\"\",IFERROR(VLOOKUP(WEEKDAY(CONCATENATE(X7,$X$5,$AL$5)),Tabelas!$I:$J,2,0),\"\"),\"\")","v":"SAB"},{"$f":"IF(Y7<>\"\",IFERROR(VLOOKUP(WEEKDAY(CONCATENATE(Y7,$X$5,$AL$5)),Tabelas!$I:$J,2,0),\"\"),\"\")","v":"DOM"},{"$f":"IF(Z7<>\"\",IFERROR(VLOOKUP(WEEKDAY(CONCATENATE(Z7,$X$5,$AL$5)),Tabelas!$I:$J,2,0),\"\"),\"\")","v":"SEG"},{"$f":"IF(AA7<>\"\",IFERROR(VLOOKUP(WEEKDAY(CONCATENATE(AA7,$X$5,$AL$5)),Tabelas!$I:$J,2,0),\"\"),\"\")","v":"TER"},{"$f":"IF(AB7<>\"\",IFERROR(VLOOKUP(WEEKDAY(CONCATENATE(AB7,$X$5,$AL$5)),Tabelas!$I:$J,2,0),\"\"),\"\")","v":"QUA"},{"$f":"IF(AC7<>\"\",IFERROR(VLOOKUP(WEEKDAY(CONCATENATE(AC7,$X$5,$AL$5)),Tabelas!$I:$J,2,0),\"\"),\"\")","v":"QUI"},{"$f":"IF(AD7<>\"\",IFERROR(VLOOKUP(WEEKDAY(CONCATENATE(AD7,$X$5,$AL$5)),Tabelas!$I:$J,2,0),\"\"),\"\")","v":"SEX"},{"$f":"IF(AE7<>\"\",IFERROR(VLOOKUP(WEEKDAY(CONCATENATE(AE7,$X$5,$AL$5)),Tabelas!$I:$J,2,0),\"\"),\"\")","v":"SAB"},{"$f":"IF(AF7<>\"\",IFERROR(VLOOKUP(WEEKDAY(CONCATENATE(AF7,$X$5,$AL$5)),Tabelas!$I:$J,2,0),\"\"),\"\")","v":"DOM"},{"$f":"IF(AG7<>\"\",IFERROR(VLOOKUP(WEEKDAY(CONCATENATE(AG7,$X$5,$AL$5)),Tabelas!$I:$J,2,0),\"\"),\"\")","v":"SEG"},{"$f":"IF(AH7<>\"\",IFERROR(VLOOKUP(WEEKDAY(CONCATENATE(AH7,$X$5,$AL$5)),Tabelas!$I:$J,2,0),\"\"),\"\")","v":"TER"},{"$f":"IF(AI7<>\"\",IFERROR(VLOOKUP(WEEKDAY(CONCATENATE(AI7,$X$5,$AL$5)),Tabelas!$I:$J,2,0),\"\"),\"\")","v":"QUA"},{"$f":"IF(AJ7<>\"\",IFERROR(VLOOKUP(WEEKDAY(CONCATENATE(AJ7,$X$5,$AL$5)),Tabelas!$I:$J,2,0),\"\"),\"\")","v":"QUI"},{"$f":"IF(AK7<>\"\",IFERROR(VLOOKUP(WEEKDAY(CONCATENATE(AK7,$X$5,$AL$5)),Tabelas!$I:$J,2,0),\"\"),\"\")","v":"SEX"},{"$f":"IF(AL7<>\"\",IFERROR(VLOOKUP(WEEKDAY(CONCATENATE(AL7,$X$5,$AL$5)),Tabelas!$I:$J,2,0),\"\"),\"\")","v":"SAB"},{"$f":"IF(AM7<>\"\",IFERROR(VLOOKUP(WEEKDAY(CONCATENATE(AM7,$X$5,$AL$5)),Tabelas!$I:$J,2,0),\"\"),\"\")","v":"DOM"},{"$f":"IF(AN7<>\"\",IFERROR(VLOOKUP(WEEKDAY(CONCATENATE(AN7,$X$5,$AL$5)),Tabelas!$I:$J,2,0),\"\"),\"\")","v":"SEG"},{"$f":"IF(AO7<>\"\",IFERROR(VLOOKUP(WEEKDAY(CONCATENATE(AO7,$X$5,$AL$5)),Tabelas!$I:$J,2,0),\"\"),\"\")","v":"TER"},{"$f":"IF(AP7<>\"\",IFERROR(VLOOKUP(WEEKDAY(CONCATENATE(AP7,$X$5,$AL$5)),Tabelas!$I:$J,2,0),\"\"),\"\")","v":"QUA"},{"$f":"IF(AQ7<>\"\",IFERROR(VLOOKUP(WEEKDAY(CONCATENATE(AQ7,$X$5,$AL$5)),Tabelas!$I:$J,2,0),\"\"),\"\")","v":"QUI"},1,2,3,4,5,6,7,8,9,10,11,12,13,14,15,16,17,18,19,20,21,22,23,24,25,26,27,28,29,30,31]
["FULANO 1",1,null,null,null,null,null,null,null,null,null,null,null,null,null,null,null,null,null,null,null,null,null,null,null,null,null,null,null,null,null,null,null,null,null,null,null,null,null,null,null,null,null,{"$f":"IF(A9<>\"\",IFERROR(VLOOKUP(M9,Tabelas!B:D,3,0),0),\"\")","v":0},{"$f":"IF(A9<>\"\",IFERROR(VLOOKUP(N9,Tabelas!B:D,3,0),0),\"\")","v":0},{"$f":"IF(A9<>\"\",IFERROR(VLOOKUP(O9,Tabelas!B:D,3,0),0),\"\")","v":0},{"$f":"IF(A9<>\"\",IFERROR(VLOOKUP(P9,Tabelas!B:D,3,0),0),\"\")","v":0},{"$f":"IF(A9<>\"\",IFERROR(VLOOKUP(Q9,Tabelas!B:D,3,0),0),\"\")","v":0},{"$f":"IF(A9<>\"\",IFERROR(VLOOKUP(R9,Tabelas!B:D,3,0),0),\"\")","v":0},{"$f":"IF(A9<>\"\",IFERROR(VLOOKUP(S9,Tabelas!B:D,3,0),0),\"\")","v":0},{"$f":"IF(A9<>\"\",IFERROR(VLOOKUP(T9,Tabelas!B:D,3,0),0),\"\")","v":0},{"$f":"IF(A9<>\"\",IFERROR(VLOOKUP(U9,Tabelas!B:D,3,0),0),\"\")","v":0},{"$f":"IF(A9<>\"\",IFERROR(VLOOKUP(V9,Tabelas!B:D,3,0),0),\"\")","v":0},{"$f":"IF(A9<>\"\",IFERROR(VLOOKUP(W9,Tabelas!B:D,3,0),0),\"\")","v":0},{"$f":"IF(A9<>\"\",IFERROR(VLOOKUP(X9,Tabelas!B:D,3,0),0),\"\")","v":0},{"$f":"IF(A9<>\"\",IFERROR(VLOOKUP(Y9,Tabelas!B:D,3,0),0),\"\")","v":0},{"$f":"IF(A9<>\"\",IFERROR(VLOOKUP(Z9,Tabelas!B:D,3,0),0),\"\")","v":0},{"$f":"IF(A9<>\"\",IFERROR(VLOOKUP(AA9,Tabelas!B:D,3,0),0),\"\")","v":0},{"$f":"IF(A9<>\"\",IFERROR(VLOOKUP(AB9,Tabelas!B:D,3,0),0),\"\")","v":0},{"$f":"IF(A9<>\"\",IFERROR(VLOOKUP(AC9,Tabelas!B:D,3,0),0),\"\")","v":0},{"$f":"IF(A9<>\"\",IFERROR(VLOOKUP(AD9,Tabelas!B:D,3,0),0),\"\")","v":0},{"$f":"IF(A9<>\"\",IFERROR(VLOOKUP(AE9,Tabelas!B:D,3,0),0),\"\")","v":0},{"$f":"IF(A9<>\"\",IFERROR(VLOOKUP(AF9,Tabelas!B:D,3,0),0),\"\")","v":0},{"$f":"IF(A9<>\"\",IFERROR(VLOOKUP(AG9,Tabelas!B:D,3,0),0),\"\")","v":0},{"$f":"IF(A9<>\"\",IFERROR(VLOOKUP(AH9,Tabelas!B:D,3,0),0),\"\")","v":0},{"$f":"IF(A9<>\"\",IFERROR(VLOOKUP(AI9,Tabelas!B:D,3,0),0),\"\")","v":0},{"$f":"IF(A9<>\"\",IFERROR(VLOOKUP(AJ9,Tabelas!B:D,3,0),0),\"\")","v":0},{"$f":"IF(A9<>\"\",IFERROR(VLOOKUP(AK9,Tabelas!B:D,3,0),0),\"\")","v":0},{"$f":"IF(A9<>\"\",IFERROR(VLOOKUP(AL9,Tabelas!B:D,3,0),0),\"\")","v":0},{"$f":"IF(A9<>\"\",IFERROR(VLOOKUP(AM9,Tabelas!B:D,3,0),0),\"\")","v":0},{"$f":"IF(A9<>\"\",IFERROR(VLOOKUP(AN9,Tabelas!B:D,3,0),0),\"\")","v":0},{"$f":"IF(A9<>\"\",IFERROR(VLOOKUP(AO9,Tabelas!B:D,3,0),0),\"\")","v":0},{"$f":"IF(A9<>\"\",IFERROR(VLOOKUP(AP9,Tabelas!B:D,3,0),0),\"\")","v":0},{"$f":"IF(A9<>\"\",IFERROR(VLOOKUP(AQ9,Tabelas!B:D,3,0),0),\"\")","v":0},{"$f":"IF(AND(A9<>\"\",E9=\"Ebserh\"),SUM(AR9:BV9)+COUNTIF(M9:AQ9,\"N*\")+COUNTIF(M9:AQ9,\"DN*\"),IF(AND(A9<>\"\",E9<>\"Ebserh\"),SUM(AR9:BV9),\"\"))","v":0},{"$f":"IF(A9<>\"\",COUNTIF(M9:AQ9,\"LM\")+COUNTIF(M9:AQ9,\"L\")+COUNTIF(M9:AQ9,\"LP\"),\"\")","v":0},{"$f":"IF(A9<>\"\",COUNTIF(M9:AQ9,\"AB*\"),\"\")","v":0},{"$f":"IF(A9<>\"\",COUNTIF(M9:AQ9,\"FE\"),\"\")","v":0},{"$f":"IF(A9<>\"\",COUNTIF(M9:AQ9,\"LC\"),\"\")","v":0},{"$f":"IF(A9<>\"\",COUNTIF(M9:AQ9,\"CH*\"),\"\")","v":0},{"$f":"IF(A9<>\"\",COUNTIF(M9:AQ9,\"AF1\")+COUNTIF(M9:AQ9,\"AF2\")+COUNTIF(M9:AQ9,\"AF3\")+COUNTIF(M9:AQ9,\"AF4\")+COUNTIF(M9:AQ9,\"AF5\")+COUNTIF(M9:AQ9,\"AF6\")+COUNTIF(M9:AQ9,\"AF7\")+COUNTIF(M9:AQ9,\"AF8\")+COUNTIF(M9:AQ9,\"AF9\")+COUNTIF(M9:AQ9,\"AF10\")+COUNTIF(M9:AQ9,\"AF11\")+COUNTIF(M9:AQ9,\"AF12\")+COUNTIF(M9:AQ9,\"AF13\")+COUNTIF(M9:AQ9,\"AF14\"),\"\")","v":0},{"$f":"IF(A9<>\"\",COUNTIF(M9:AQ9,\"CH*\")+COUNTIF(M9:AQ9,\"L\")+COUNTIF(M9:AQ9,\"LM\")+COUNTIF(M9:AQ9,\"LP\")+COUNTIF(M9:AQ9,\"LC\")+COUNTIF(M9:AQ9,\"AB*\")+COUNTIF(M9:AQ9,\"AF1\")+COUNTIF(M9:AQ9,\"AF2\")+COUNTIF(M9:AQ9,\"AF3\")+COUNTIF(M9:AQ9,\"AF4\")+COUNTIF(M9:AQ9,\"AF5\")+COUNTIF(M9:AQ9,\"AF6\")+COUNTIF(M9:AQ9,\"AF7\")+COUNTIF(M9:AQ9,\"AF8\")+COUNTIF(M9:AQ9,\"AF9\")+COUNTIF(M9:AQ9,\"AF10\")+COUNTIF(M9:AQ9,\"AF11\")+COUNTIF(M9:AQ9,\"AF12\")+COUNTIF(M9:AQ9,\"AF13\")+COUNTIF(M9:AQ9,\"AF14\")+COUNTIF(M9:AQ9,\"RC\")+COUNTIF(M9:AQ9,\"FO\")+COUNTIF(M9:AQ9,\"FE\"),\"\")","v":0}]
["FULANO 2",2,null,null,null,null,null,null,null,null,null,null,null,null,null,null,null,null,null,null,null,null,null,null,null,null,null,null,null,null,null,null,null,null,null,null,null,null,null,null,null,null,null,{"$f":"IF(A10<>\"\",IFERROR(VLOOKUP(M10,Tabelas!B:D,3,0),0),\"\")","v":0},{"$f":"IF(A10<>\"\",IFERROR(VLOOKUP(N10,Tabelas!B:D,3,0),0),\"\")","v":0},{"$f":"IF(A10<>\"\",IFERROR(VLOOKUP(O10,Tabelas!B:D,3,0),0),\"\")","v":0},{"$f":"IF(A10<>\"\",IFERROR(VLOOKUP(P10,Tabelas!B:D,3,0),0),\"\")","v":0},{"$f":"IF(A10<>\"\",IFERROR(VLOOKUP(Q10,Tabelas!B:D,3,0),0),\"\")","v":0},{"$f":"IF(A10<>\"\",IFERROR(VLOOKUP(R10,Tabelas!B:D,3,0),0),\"\")","v":0},{"$f":"IF(A10<>\"\",IFERROR(VLOOKUP(S10,Tabelas!B:D,3,0),0),\"\")","v":0},{"$f":"IF(A10<>\"\",IFERROR(VLOOKUP(T10,Tabelas!B:D,3,0),0),\"\")","v":0},{"$f":"IF(A10<>\"\",IFERROR(VLOOKUP(U10,Tabelas!B:D,3,0),0),\"\")","v":0},{"$f":"IF(A10<>\"\",IFERROR(VLOOKUP(V10,Tabelas!B:D,3,0),0),\"\")","v":0},{"$f":"IF(A10<>\"\",IFERROR(VLOOKUP(W10,Tabelas!B:D,3,0),0),\"\")","v":0},{"$f":"IF(A10<>\"\",IFERROR(VLOOKUP(X10,Tabelas!B:D,3,0),0),\"\")","v":0},{"$f":"IF(A10<>\"\",IFERROR(VLOOKUP(Y10,Tabelas!B:D,3,0),0),\"\")","v":0},{"$f":"IF(A10<>\"\",IFERROR(VLOOKUP(Z10,Tabelas!B:D,3,0),0),\"\")","v":0},{"$f":"IF(A10<>\"\",IFERROR(VLOOKUP(AA10,Tabelas!B:D,3,0),0),\"\")","v":0},{"$f":"IF(A10<>\"\",IFERROR(VLOOKUP(AB10,Tabelas!B:D,3,0),0),\"\")","v":0},{"$f":"IF(A10<>\"\",IFERROR(VLOOKUP(AC10,Tabelas!B:D,3,0),0),\"\")","v":0},{"$f":"IF(A10<>\"\",IFERROR(VLOOKUP(AD10,Tabelas!B:D,3,0),0),\"\")","v":0},{"$f":"IF(A10<>\"\",IFERROR(VLOOKUP(AE10,Tabelas!B:D,3,0),0),\"\")","v":0},{"$f":"IF(A10<>\"\",IFERROR(VLOOKUP(AF10,Tabelas!B:D,3,0),0),\"\")","v":0},{"$f":"IF(A10<>\"\",IFERROR(VLOOKUP(AG10,Tabelas!B:D,3,0),0),\"\")","v":0},{"$f":"IF(A10<>\"\",IFERROR(VLOOKUP(AH10,Tabelas!B:D,3,0),0),\"\")","v":0},{"$f":"IF(A10<>\"\",IFERROR(VLOOKUP(AI10,Tabelas!B:D,3,0),0),\"\")","v":0},{"$f":"IF(A10<>\"\",IFERROR(VLOOKUP(AJ10,Tabelas!B:D,3,0),0),\"\")","v":0},{"$f":"IF(A10<>\"\",IFERROR(VLOOKUP(AK10,Tabelas!B:D,3,0),0),\"\")","v":0},{"$f":"IF(A10<>\"\",IFERROR(VLOOKUP(AL10,Tabelas!B:D,3,0),0),\"\")","v":0},{"$f":"IF(A10<>\"\",IFERROR(VLOOKUP(AM10,Tabelas!B:D,3,0),0),\"\")","v":0},{"$f":"IF(A10<>\"\",IFERROR(VLOOKUP(AN10,Tabelas!B:D,3,0),0),\"\")","v":0},{"$f":"IF(A10<>\"\",IFERROR(VLOOKUP(AO10,Tabelas!B:D,3,0),0),\"\")","v":0},{"$f":"IF(A10<>\"\",IFERROR(VLOOKUP(AP10,Tabelas!B:D,3,0),0),\"\")","v":0},{"$f":"IF(A10<>\"\",IFERROR(VLOOKUP(AQ10,Tabelas!B:D,3,0),0),\"\")","v":0},0,0,0,0,0,0,0,0]
["FULANO 3",3,null,null,null,null,null,null,null,null,null,null,null,null,null,null,null,null,null,null,null,null,null,null,null,null,null,null,null,null,null,null,null,null,null,null,null,null,null,null,null,null,null,{"$f":"IF(A11<>\"\",IFERROR(VLOOKUP(M11,Tabelas!B:D,3,0),0),\"\")","v":0},{"$f":"IF(A11<>\"\",IFERROR(VLOOKUP(N11,Tabelas!B:D,3,0),0),\"\")","v":0},{"$f":"IF(A11<>\"\",IFERROR(VLOOKUP(O11,Tabelas!B:D,3,0),0),\"\")","v":0},{"$f":"IF(A11<>\"\",IFERROR(VLOOKUP(P11,Tabelas!B:D,3,0),0),\"\")","v":0},{"$f":"IF(A11<>\"\",IFERROR(VLOOKUP(Q11,Tabelas!B:D,3,0),0),\"\")","v":0},{"$f":"IF(A11<>\"\",IFERROR(VLOOKUP(R11,Tabelas!B:D,3,0),0),\"\")","v":0},{"$f":"IF(A11<>\"\",IFERROR(VLOOKUP(S11,Tabelas!B:D,3,0),0),\"\")","v":0},{"$f":"IF(A11<>\"\",IFERROR(VLOOKUP(T11,Tabelas!B:D,3,0),0),\"\")","v":0},{"$f":"IF(A11<>\"\",IFERROR(VLOOKUP(U11,Tabelas!B:D,3,0),0),\"\")","v":0},{"$f":"IF(A11<>\"\",IFERROR(VLOOKUP(V11,Tabelas!B:D,3,0),0),\"\")","v":0},{"$f":"IF(A11<>\"\",IFERROR(VLOOKUP(W11,Tabelas!B:D,3,0),0),\"\")","v":0},{"$f":"IF(A11<>\"\",IFERROR(VLOOKUP(X11,Tabelas!B:D,3,0),0),\"\")","v":0},{"$f":"IF(A11<>\"\",IFERROR(VLOOKUP(Y11,Tabelas!B:D,3,0),0),\"\")","v":0},{"$f":"IF(A11<>\"\",IFERROR(VLOOKUP(Z11,Tabelas!B:D,3,0),0),\"\")","v":0},{"$f":"IF(A11<>\"\",IFERROR(VLOOKUP(AA11,Tabelas!B:D,3,0),0),\"\")","v":0},{"$f":"IF(A11<>\"\",IFERROR(VLOOKUP(AB11,Tabelas!B:D,3,0),0),\"\")","v":0},{"$f":"IF(A11<>\"\",IFERROR(VLOOKUP(AC11,Tabelas!B:D,3,0),0),\"\")","v":0},{"$f":"IF(A11<>\"\",IFERROR(VLOOKUP(AD11,Tabelas!B:D,3,0),0),\"\")","v":0},{"$f":"IF(A11<>\"\",IFERROR(VLOOKUP(AE11,Tabelas!B:D,3,0),0),\"\")","v":0},{"$f":"IF(A11<>\"\",IFERROR(VLOOKUP(AF11,Tabelas!B:D,3,0),0),\"\")","v":0},{"$f":"IF(A11<>\"\",IFERROR(VLOOKUP(AG11,Tabelas!B:D,3,0),0),\"\")","v":0},{"$f":"IF(A11<>\"\",IFERROR(VLOOKUP(AH11,Tabelas!B:D,3,0),0),\"\")","v":0},{"$f":"IF(A11<>\"\",IFERROR(VLOOKUP(AI11,Tabelas!B:D,3,0),0),\"\")","v":0},{"$f":"IF(A11<>\"\",IFERROR(VLOOKUP(AJ11,Tabelas!B:D,3,0),0),\"\")","v":0},{"$f":"IF(A11<>\"\",IFERROR(VLOOKUP(AK11,Tabelas!B:D,3,0),0),\"\")","v":0},{"$f":"IF(A11<>\"\",IFERROR(VLOOKUP(AL11,Tabelas!B:D,3,0),0),\"\")","v":0},{"$f":"IF(A11<>\"\",IFERROR(VLOOKUP(AM11,Tabelas!B:D,3,0),0),\"\")","v":0},{"$f":"IF(A11<>\"\",IFERROR(VLOOKUP(AN11,Tabelas!B:D,3,0),0),\"\")","v":0},{"$f":"IF(A11<>\"\",IFERROR(VLOOKUP(AO11,Tabelas!B:D,3,0),0),\"\")","v":0},{"$f":"IF(A11<>\"\",IFERROR(VLOOKUP(AP11,Tabelas!B:D,3,0),0),\"\")","v":0},{"$f":"IF(A11<>\"\",IFERROR(VLOOKUP(AQ11,Tabelas!B:D,3,0),0),\"\")","v":0},0,0,0,0,0,0,0,0]
["FULANO 4",4,null,null,null,null,null,null,null,null,null,null,null,null,null,null,null,null,null,null,null,null,null,null,null,null,null,null,null,null,null,null,null,null,null,null,null,null,null,null,null,null,null,{"$f":"IF(A12<>\"\",IFERROR(VLOOKUP(M12,Tabelas!B:D,3,0),0),\"\")","v":0},{"$f":"IF(A12<>\"\",IFERROR(VLOOKUP(N12,Tabelas!B:D,3,0),0),\"\")","v":0},{"$f":"IF(A12<>\"\",IFERROR(VLOOKUP(O12,Tabelas!B:D,3,0),0),\"\")","v":0},{"$f":"IF(A12<>\"\",IFERROR(VLOOKUP(P12,Tabelas!B:D,3,0),0),\"\")","v":0},{"$f":"IF(A12<>\"\",IFERROR(VLOOKUP(Q12,Tabelas!B:D,3,0),0),\"\")","v":0},{"$f":"IF(A12<>\"\",IFERROR(VLOOKUP(R12,Tabelas!B:D,3,0),0),\"\")","v":0},{"$f":"IF(A12<>\"\",IFERROR(VLOOKUP(S12,Tabelas!B:D,3,0),0),\"\")","v":0},{"$f":"IF(A12<>\"\",IFERROR(VLOOKUP(T12,Tabelas!B:D,3,0),0),\"\")","v":0},{"$f":"IF(A12<>\"\",IFERROR(VLOOKUP(U12,Tabelas!B:D,3,0),0),\"\")","v":0},{"$f":"IF(A12<>\"\",IFERROR(VLOOKUP(V12,Tabelas!B:D,3,0),0),\"\")","v":0},{"$f":"IF(A12<>\"\",IFERROR(VLOOKUP(W12,Tabelas!B:D,3,0),0),\"\")","v":0},{"$f":"IF(A12<>\"\",IFERROR(VLOOKUP(X12,Tabelas!B:D,3,0),0),\"\")","v":0},{"$f":"IF(A12<>\"\",IFERROR(VLOOKUP(Y12,Tabelas!B:D,3,0),0),\"\")","v":0},{"$f":"IF(A12<>\"\",IFERROR(VLOOKUP(Z12,Tabelas!B:D,3,0),0),\"\")","v":0},{"$f":"IF(A12<>\"\",IFERROR(VLOOKUP(AA12,Tabelas!B:D,3,0),0),\"\")","v":0},{"$f":"IF(A12<>\"\",IFERROR(VLOOKUP(AB12,Tabelas!B:D,3,0),0),\"\")","v":0},{"$f":"IF(A12<>\"\",IFERROR(VLOOKUP(AC12,Tabelas!B:D,3,0),0),\"\")","v":0},{"$f":"IF(A12<>\"\",IFERROR(VLOOKUP(AD12,Tabelas!B:D,3,0),0),\"\")","v":0},{"$f":"IF(A12<>\"\",IFERROR(VLOOKUP(AE12,Tabelas!B:D,3,0),0),\"\")","v":0},{"$f":"IF(A12<>\"\",IFERROR(VLOOKUP(AF12,Tabelas!B:D,3,0),0),\"\")","v":0},{"$f":"IF(A12<>\"\",IFERROR(VLOOKUP(AG12,Tabelas!B:D,3,0),0),\"\")","v":0},{"$f":"IF(A12<>\"\",IFERROR(VLOOKUP(AH12,Tabelas!B:D,3,0),0),\"\")","v":0},{"$f":"IF(A12<>\"\",IFERROR(VLOOKUP(AI12,Tabelas!B:D,3,0),0),\"\")","v":0},{"$f":"IF(A12<>\"\",IFERROR(VLOOKUP(AJ12,Tabelas!B:D,3,0),0),\"\")","v":0},{"$f":"IF(A12<>\"\",IFERROR(VLOOKUP(AK12,Tabelas!B:D,3,0),0),\"\")","v":0},{"$f":"IF(A12<>\"\",IFERROR(VLOOKUP(AL12,Tabelas!B:D,3,0),0),\"\")","v":0},{"$f":"IF(A12<>\"\",IFERROR(VLOOKUP(AM12,Tabelas!B:D,3,0),0),\"\")","v":0},{"$f":"IF(A12<>\"\",IFERROR(VLOOKUP(AN12,Tabelas!B:D,3,0),0),\"\")","v":0},{"$f":"IF(A12<>\"\",IFERROR(VLOOKUP(AO12,Tabelas!B:D,3,0),0),\"\")","v":0},{"$f":"IF(A12<>\"\",IFERROR(VLOOKUP(AP12,Tabelas!B:D,3,0),0),\"\")","v":0},{"$f":"IF(A12<>\"\",IFERROR(VLOOKUP(AQ12,Tabelas!B:D,3,0),0),\"\")","v":0},0,0,0,0,0,0,0,0]
["FULANO 5",5,null,null,null,null,null,null,null,null,null,null,null,null,null,null,null,null,null,null,null,null,null,null,null,null,null,null,null,null,null,null,null,null,null,null,null,null,null,null,null,null,null,{"$f":"IF(A13<>\"\",IFERROR(VLOOKUP(M13,Tabelas!B:D,3,0),0),\"\")","v":0},{"$f":"IF(A13<>\"\",IFERROR(VLOOKUP(N13,Tabelas!B:D,3,0),0),\"\")","v":0},{"$f":"IF(A13<>\"\",IFERROR(VLOOKUP(O13,Tabelas!B:D,3,0),0),\"\")","v":0},{"$f":"IF(A13<>\"\",IFERROR(VLOOKUP(P13,Tabelas!B:D,3,0),0),\"\")","v":0},{"$f":"IF(A13<>\"\",IFERROR(VLOOKUP(Q13,Tabelas!B:D,3,0),0),\"\")","v":0},{"$f":"IF(A13<>\"\",IFERROR(VLOOKUP(R13,Tabelas!B:D,3,0),0),\"\")","v":0},{"$f":"IF(A13<>\"\",IFERROR(VLOOKUP(S13,Tabelas!B:D,3,0),0),\"\")","v":0},{"$f":"IF(A13<>\"\",IFERROR(VLOOKUP(T13,Tabelas!B:D,3,0),0),\"\")","v":0},{"$f":"IF(A13<>\"\",IFERROR(VLOOKUP(U13,Tabelas!B:D,3,0),0),\"\")","v":0},{"$f":"IF(A13<>\"\",IFERROR(VLOOKUP(V13,Tabelas!B:D,3,0),0),\"\")","v":0},{"$f":"IF(A13<>\"\",IFERROR(VLOOKUP(W13,Tabelas!B:D,3,0),0),\"\")","v":0},{"$f":"IF(A13<>\"\",IFERROR(VLOOKUP(X13,Tabelas!B:D,3,0),0),\"\")","v":0},{"$f":"IF(A13<>\"\",IFERROR(VLOOKUP(Y13,Tabelas!B:D,3,0),0),\"\")","v":0},{"$f":"IF(A13<>\"\",IFERROR(VLOOKUP(Z13,Tabelas!B:D,3,0),0),\"\")","v":0},{"$f":"IF(A13<>\"\",IFERROR(VLOOKUP(AA13,Tabelas!B:D,3,0),0),\"\")","v":0},{"$f":"IF(A13<>\"\",IFERROR(VLOOKUP(AB13,Tabelas!B:D,3,0),0),\"\")","v":0},{"$f":"IF(A13<>\"\",IFERROR(VLOOKUP(AC13,Tabelas!B:D,3,0),0),\"\")","v":0},{"$f":"IF(A13<>\"\",IFERROR(VLOOKUP(AD13,Tabelas!B:D,3,0),0),\"\")","v":0},{"$f":"IF(A13<>\"\",IFERROR(VLOOKUP(AE13,Tabelas!B:D,3,0),0),\"\")","v":0},{"$f":"IF(A13<>\"\",IFERROR(VLOOKUP(AF13,Tabelas!B:D,3,0),0),\"\")","v":0},{"$f":"IF(A13<>\"\",IFERROR(VLOOKUP(AG13,Tabelas!B:D,3,0),0),\"\")","v":0},{"$f":"IF(A13<>\"\",IFERROR(VLOOKUP(AH13,Tabelas!B:D,3,0),0),\"\")","v":0},{"$f":"IF(A13<>\"\",IFERROR(VLOOKUP(AI13,Tabelas!B:D,3,0),0),\"\")","v":0},{"$f":"IF(A13<>\"\",IFERROR(VLOOKUP(AJ13,Tabelas!B:D,3,0),0),\"\")","v":0},{"$f":"IF(A13<>\"\",IFERROR(VLOOKUP(AK13,Tabelas!B:D,3,0),0),\"\")","v":0},{"$f":"IF(A13<>\"\",IFERROR(VLOOKUP(AL13,Tabelas!B:D,3,0),0),\"\")","v":0},{"$f":"IF(A13<>\"\",IFERROR(VLOOKUP(AM13,Tabelas!B:D,3,0),0),\"\")","v":0},{"$f":"IF(A13<>\"\",IFERROR(VLOOKUP(AN13,Tabelas!B:D,3,0),0),\"\")","v":0},{"$f":"IF(A13<>\"\",IFERROR(VLOOKUP(AO13,Tabelas!B:D,3,0),0),\"\")","v":0},{"$f":"IF(A13<>\"\",IFERROR(VLOOKUP(AP13,Tabelas!B:D,3,0),0),\"\")","v":0},{"$f":"IF(A13<>\"\",IFERROR(VLOOKUP(AQ13,Tabelas!B:D,3,0),0),\"\")","v":0},0,0,0,0,0,0,0,0]
["FULANO 6",6,null,null,null,null,null,null,null,null,null,null,null,null,null,null,null,null,null,null,null,null,null,null,null,null,null,null,null,null,null,null,null,null,null,null,null,null,null,null,null,null,null,{"$f":"IF(A14<>\"\",IFERROR(VLOOKUP(M14,Tabelas!B:D,3,0),0),\"\")","v":0},{"$f":"IF(A14<>\"\",IFERROR(VLOOKUP(N14,Tabelas!B:D,3,0),0),\"\")","v":0},{"$f":"IF(A14<>\"\",IFERROR(VLOOKUP(O14,Tabelas!B:D,3,0),0),\"\")","v":0},{"$f":"IF(A14<>\"\",IFERROR(VLOOKUP(P14,Tabelas!B:D,3,0),0),\"\")","v":0},{"$f":"IF(A14<>\"\",IFERROR(VLOOKUP(Q14,Tabelas!B:D,3,0),0),\"\")","v":0},{"$f":"IF(A14<>\"\",IFERROR(VLOOKUP(R14,Tabelas!B:D,3,0),0),\"\")","v":0},{"$f":"IF(A14<>\"\",IFERROR(VLOOKUP(S14,Tabelas!B:D,3,0),0),\"\")","v":0},{"$f":"IF(A14<>\"\",IFERROR(VLOOKUP(T14,Tabelas!B:D,3,0),0),\"\")","v":0},{"$f":"IF(A14<>\"\",IFERROR(VLOOKUP(U14,Tabelas!B:D,3,0),0),\"\")","v":0},{"$f":"IF(A14<>\"\",IFERROR(VLOOKUP(V14,Tabelas!B:D,3,0),0),\"\")","v":0},{"$f":"IF(A14<>\"\",IFERROR(VLOOKUP(W14,Tabelas!B:D,3,0),0),\"\")","v":0},{"$f":"IF(A14<>\"\",IFERROR(VLOOKUP(X14,Tabelas!B:D,3,0),0),\"\")","v":0},{"$f":"IF(A14<>\"\",IFERROR(VLOOKUP(Y14,Tabelas!B:D,3,0),0),\"\")","v":0},{"$f":"IF(A14<>\"\",IFERROR(VLOOKUP(Z14,Tabelas!B:D,3,0),0),\"\")","v":0},{"$f":"IF(A14<>\"\",IFERROR(VLOOKUP(AA14,Tabelas!B:D,3,0),0),\"\")","v":0},{"$f":"IF(A14<>\"\",IFERROR(VLOOKUP(AB14,Tabelas!B:D,3,0),0),\"\")","v":0},{"$f":"IF(A14<>\"\",IFERROR(VLOOKUP(AC14,Tabelas!B:D,3,0),0),\"\")","v":0},{"$f":"IF(A14<>\"\",IFERROR(VLOOKUP(AD14,Tabelas!B:D,3,0),0),\"\")","v":0},{"$f":"IF(A14<>\"\",IFERROR(VLOOKUP(AE14,Tabelas!B:D,3,0),0),\"\")","v":0},{"$f":"IF(A14<>\"\",IFERROR(VLOOKUP(AF14,Tabelas!B:D,3,0),0),\"\")","v":0},{"$f":"IF(A14<>\"\",IFERROR(VLOOKUP(AG14,Tabelas!B:D,3,0),0),\"\")","v":0},{"$f":"IF(A14<>\"\",IFERROR(VLOOKUP(AH14,Tabelas!B:D,3,0),0),\"\")","v":0},{"$f":"IF(A14<>\"\",IFERROR(VLOOKUP(AI14,Tabelas!B:D,3,0),0),\"\")","v":0},{"$f":"IF(A14<>\"\",IFERROR(VLOOKUP(AJ14,Tabelas!B:D,3,0),0),\"\")","v":0},{"$f":"IF(A14<>\"\",IFERROR(VLOOKUP(AK14,Tabelas!B:D,3,0),0),\"\")","v":0},{"$f":"IF(A14<>\"\",IFERROR(VLOOKUP(AL14,Tabelas!B:D,3,0),0),\"\")","v":0},{"$f":"IF(A14<>\"\",IFERROR(VLOOKUP(AM14,Tabelas!B:D,3,0),0),\"\")","v":0},{"$f":"IF(A14<>\"\",IFERROR(VLOOKUP(AN14,Tabelas!B:D,3,0),0),\"\")","v":0},{"$f":"IF(A14<>\"\",IFERROR(VLOOKUP(AO14,Tabelas!B:D,3,0),0),\"\")","v":0},{"$f":"IF(A14<>\"\",IFERROR(VLOOKUP(AP14,Tabelas!B:D,3,0),0),\"\")","v":0},{"$f":"IF(A14<>\"\",IFERROR(VLOOKUP(AQ14,Tabelas!B:D,3,0),0),\"\")","v":0},0,0,0,0,0,0,0,0]
["FULANO 7",7,null,null,null,null,null,null,null,null,null,null,null,null,null,null,null,null,null,null,null,null,null,null,null,null,null,null,null,null,null,null,null,null,null,null,null,null,null,null,null,null,null,{"$f":"IF(A15<>\"\",IFERROR(VLOOKUP(M15,Tabelas!B:D,3,0),0),\"\")","v":0},{"$f":"IF(A15<>\"\",IFERROR(VLOOKUP(N15,Tabelas!B:D,3,0),0),\"\")","v":0},{"$f":"IF(A15<>\"\",IFERROR(VLOOKUP(O15,Tabelas!B:D,3,0),0),\"\")","v":0},{"$f":"IF(A15<>\"\",IFERROR(VLOOKUP(P15,Tabelas!B:D,3,0),0),\"\")","v":0},{"$f":"IF(A15<>\"\",IFERROR(VLOOKUP(Q15,Tabelas!B:D,3,0),0),\"\")","v":0},{"$f":"IF(A15<>\"\",IFERROR(VLOOKUP(R15,Tabelas!B:D,3,0),0),\"\")","v":0},{"$f":"IF(A15<>\"\",IFERROR(VLOOKUP(S15,Tabelas!B:D,3,0),0),\"\")","v":0},{"$f":"IF(A15<>\"\",IFERROR(VLOOKUP(T15,Tabelas!B:D,3,0),0),\"\")","v":0},{"$f":"IF(A15<>\"\",IFERROR(VLOOKUP(U15,Tabelas!B:D,3,0),0),\"\")","v":0},{"$f":"IF(A15<>\"\",IFERROR(VLOOKUP(V15,Tabelas!B:D,3,0),0),\"\")","v":0},{"$f":"IF(A15<>\"\",IFERROR(VLOOKUP(W15,Tabelas!B:D,3,0),0),\"\")","v":0},{"$f":"IF(A15<>\"\",IFERROR(VLOOKUP(X15,Tabelas!B:D,3,0),0),\"\")","v":0},{"$f":"IF(A15<>\"\",IFERROR(VLOOKUP(Y15,Tabelas!B:D,3,0),0),\"\")","v":0},{"$f":"IF(A15<>\"\",IFERROR(VLOOKUP(Z15,Tabelas!B:D,3,0),0),\"\")","v":0},{"$f":"IF(A15<>\"\",IFERROR(VLOOKUP(AA15,Tabelas!B:D,3,0),0),\"\")","v":0},{"$f":"IF(A15<>\"\",IFERROR(VLOOKUP(AB15,Tabelas!B:D,3,0),0),\"\")","v":0},{"$f":"IF(A15<>\"\",IFERROR(VLOOKUP(AC15,Tabelas!B:D,3,0),0),\"\")","v":0},{"$f":"IF(A15<>\"\",IFERROR(VLOOKUP(AD15,Tabelas!B:D,3,0),0),\"\")","v":0},{"$f":"IF(A15<>\"\",IFERROR(VLOOKUP(AE15,Tabelas!B:D,3,0),0),\"\")","v":0},{"$f":"IF(A15<>\"\",IFERROR(VLOOKUP(AF15,Tabelas!B:D,3,0),0),\"\")","v":0},{"$f":"IF(A15<>\"\",IFERROR(VLOOKUP(AG15,Tabelas!B:D,3,0),0),\"\")","v":0},{"$f":"IF(A15<>\"\",IFERROR(VLOOKUP(AH15,Tabelas!B:D,3,0),0),\"\")","v":0},{"$f":"IF(A15<>\"\",IFERROR(VLOOKUP(AI15,Tabelas!B:D,3,0),0),\"\")","v":0},{"$f":"IF(A15<>\"\",IFERROR(VLOOKUP(AJ15,Tabelas!B:D,3,0),0),\"\")","v":0},{"$f":"IF(A15<>\"\",IFERROR(VLOOKUP(AK15,Tabelas!B:D,3,0),0),\"\")","v":0},{"$f":"IF(A15<>\"\",IFERROR(VLOOKUP(AL15,Tabelas!B:D,3,0),0),\"\")","v":0},{"$f":"IF(A15<>\"\",IFERROR(VLOOKUP(AM15,Tabelas!B:D,3,0),0),\"\")","v":0},{"$f":"IF(A15<>\"\",IFERROR(VLOOKUP(AN15,Tabelas!B:D,3,0),0),\"\")","v":0},{"$f":"IF(A15<>\"\",IFERROR(VLOOKUP(AO15,Tabelas!B:D,3,0),0),\"\")","v":0},{"$f":"IF(A15<>\"\",IFERROR(VLOOKUP(AP15,Tabelas!B:D,3,0),0),\"\")","v":0},{"$f":"IF(A15<>\"\",IFERROR(VLOOKUP(AQ15,Tabelas!B:D,3,0),0),\"\")","v":0},0,0,0,0,0,0,0,0]
["FULANO 8",8,null,null,null,null,null,null,null,null,null,null,null,null,null,null,null,null,null,null,null,null,null,null,null,null,null,null,null,null,null,null,null,null,null,null,null,null,null,null,null,null,null,{"$f":"IF(A16<>\"\",IFERROR(VLOOKUP(M16,Tabelas!B:D,3,0),0),\"\")","v":0},{"$f":"IF(A16<>\"\",IFERROR(VLOOKUP(N16,Tabelas!B:D,3,0),0),\"\")","v":0},{"$f":"IF(A16<>\"\",IFERROR(VLOOKUP(O16,Tabelas!B:D,3,0),0),\"\")","v":0},{"$f":"IF(A16<>\"\",IFERROR(VLOOKUP(P16,Tabelas!B:D,3,0),0),\"\")","v":0},{"$f":"IF(A16<>\"\",IFERROR(VLOOKUP(Q16,Tabelas!B:D,3,0),0),\"\")","v":0},{"$f":"IF(A16<>\"\",IFERROR(VLOOKUP(R16,Tabelas!B:D,3,0),0),\"\")","v":0},{"$f":"IF(A16<>\"\",IFERROR(VLOOKUP(S16,Tabelas!B:D,3,0),0),\"\")","v":0},{"$f":"IF(A16<>\"\",IFERROR(VLOOKUP(T16,Tabelas!B:D,3,0),0),\"\")","v":0},{"$f":"IF(A16<>\"\",IFERROR(VLOOKUP(U16,Tabelas!B:D,3,0),0),\"\")","v":0},{"$f":"IF(A16<>\"\",IFERROR(VLOOKUP(V16,Tabelas!B:D,3,0),0),\"\")","v":0},{"$f":"IF(A16<>\"\",IFERROR(VLOOKUP(W16,Tabelas!B:D,3,0),0),\"\")","v":0},{"$f":"IF(A16<>\"\",IFERROR(VLOOKUP(X16,Tabelas!B:D,3,0),0),\"\")","v":0},{"$f":"IF(A16<>\"\",IFERROR(VLOOKUP(Y16,Tabelas!B:D,3,0),0),\"\")","v":0},{"$f":"IF(A16<>\"\",IFERROR(VLOOKUP(Z16,Tabelas!B:D,3,0),0),\"\")","v":0},{"$f":"IF(A16<>\"\",IFERROR(VLOOKUP(AA16,Tabelas!B:D,3,0),0),\"\")","v":0},{"$f":"IF(A16<>\"\",IFERROR(VLOOKUP(AB16,Tabelas!B:D,3,0),0),\"\")","v":0},{"$f":"IF(A16<>\"\",IFERROR(VLOOKUP(AC16,Tabelas!B:D,3,0),0),\"\")","v":0},{"$f":"IF(A16<>\"\",IFERROR(VLOOKUP(AD16,Tabelas!B:D,3,0),0),\"\")","v":0},{"$f":"IF(A16<>\"\",IFERROR(VLOOKUP(AE16,Tabelas!B:D,3,0),0),\"\")","v":0},{"$f":"IF(A16<>\"\",IFERROR(VLOOKUP(AF16,Tabelas!B:D,3,0),0),\"\")","v":0},{"$f":"IF(A16<>\"\",IFERROR(VLOOKUP(AG16,Tabelas!B:D,3,0),0),\"\")","v":0},{"$f":"IF(A16<>\"\",IFERROR(VLOOKUP(AH16,Tabelas!B:D,3,0),0),\"\")","v":0},{"$f":"IF(A16<>\"\",IFERROR(VLOOKUP(AI16,Tabelas!B:D,3,0),0),\"\")","v":0},{"$f":"IF(A16<>\"\",IFERROR(VLOOKUP(AJ16,Tabelas!B:D,3,0),0),\"\")","v":0},{"$f":"IF(A16<>\"\",IFERROR(VLOOKUP(AK16,Tabelas!B:D,3,0),0),\"\")","v":0},{"$f":"IF(A16<>\"\",IFERROR(VLOOKUP(AL16,Tabelas!B:D,3,0),0),\"\")","v":0},{"$f":"IF(A16<>\"\",IFERROR(VLOOKUP(AM16,Tabelas!B:D,3,0),0),\"\")","v":0},{"$f":"IF(A16<>\"\",IFERROR(VLOOKUP(AN16,Tabelas!B:D,3,0),0),\"\")","v":0},{"$f":"IF(A16<>\"\",IFERROR(VLOOKUP(AO16,Tabelas!B:D,3,0),0),\"\")","v":0},{"$f":"IF(A16<>\"\",IFERROR(VLOOKUP(AP16,Tabelas!B:D,3,0),0),\"\")","v":0},{"$f":"IF(A16<>\"\",IFERROR(VLOOKUP(AQ16,Tabelas!B:D,3,0),0),\"\")","v":0},0,0,0,0,0,0,0,0]
["FULANO 9",9,null,null,null,null,null,null,null,null,null,null,null,null,null,null,null,null,null,null,null,null,null,null,null,null,null,null,null,null,null,null,null,null,null,null,null,null,null,null,null,null,null,{"$f":"IF(A17<>\"\",IFERROR(VLOOKUP(M17,Tabelas!B:D,3,0),0),\"\")","v":0},{"$f":"IF(A17<>\"\",IFERROR(VLOOKUP(N17,Tabelas!B:D,3,0),0),\"\")","v":0},{"$f":"IF(A17<>\"\",IFERROR(VLOOKUP(O17,Tabelas!B:D,3,0),0),\"\")","v":0},{"$f":"IF(A17<>\"\",IFERROR(VLOOKUP(P17,Tabelas!B:D,3,0),0),\"\")","v":0},{"$f":"IF(A17<>\"\",IFERROR(VLOOKUP(Q17,Tabelas!B:D,3,0),0),\"\")","v":0},{"$f":"IF(A17<>\"\",IFERROR(VLOOKUP(R17,Tabelas!B:D,3,0),0),\"\")","v":0},{"$f":"IF(A17<>\"\",IFERROR(VLOOKUP(S17,Tabelas!B:D,3,0),0),\"\")","v":0},{"$f":"IF(A17<>\"\",IFERROR(VLOOKUP(T17,Tabelas!B:D,3,0),0),\"\")","v":0},{"$f":"IF(A17<>\"\",IFERROR(VLOOKUP(U17,Tabelas!B:D,3,0),0),\"\")","v":0},{"$f":"IF(A17<>\"\",IFERROR(VLOOKUP(V17,Tabelas!B:D,3,0),0),\"\")","v":0},{"$f":"IF(A17<>\"\",IFERROR(VLOOKUP(W17,Tabelas!B:D,3,0),0),\"\")","v":0},{"$f":"IF(A17<>\"\",IFERROR(VLOOKUP(X17,Tabelas!B:D,3,0),0),\"\")","v":0},{"$f":"IF(A17<>\"\",IFERROR(VLOOKUP(Y17,Tabelas!B:D,3,0),0),\"\")","v":0},{"$f":"IF(A17<>\"\",IFERROR(VLOOKUP(Z17,Tabelas!B:D,3,0),0),\"\")","v":0},{"$f":"IF(A17<>\"\",IFERROR(VLOOKUP(AA17,Tabelas!B:D,3,0),0),\"\")","v":0},{"$f":"IF(A17<>\"\",IFERROR(VLOOKUP(AB17,Tabelas!B:D,3,0),0),\"\")","v":0},{"$f":"IF(A17<>\"\",IFERROR(VLOOKUP(AC17,Tabelas!B:D,3,0),0),\"\")","v":0},{"$f":"IF(A17<>\"\",IFERROR(VLOOKUP(AD17,Tabelas!B:D,3,0),0),\"\")","v":0},{"$f":"IF(A17<>\"\",IFERROR(VLOOKUP(AE17,Tabelas!B:D,3,0),0),\"\")","v":0},{"$f":"IF(A17<>\"\",IFERROR(VLOOKUP(AF17,Tabelas!B:D,3,0),0),\"\")","v":0},{"$f":"IF(A17<>\"\",IFERROR(VLOOKUP(AG17,Tabelas!B:D,3,0),0),\"\")","v":0},{"$f":"IF(A17<>\"\",IFERROR(VLOOKUP(AH17,Tabelas!B:D,3,0),0),\"\")","v":0},{"$f":"IF(A17<>\"\",IFERROR(VLOOKUP(AI17,Tabelas!B:D,3,0),0),\"\")","v":0},{"$f":"IF(A17<>\"\",IFERROR(VLOOKUP(AJ17,Tabelas!B:D,3,0),0),\"\")","v":0},{"$f":"IF(A17<>\"\",IFERROR(VLOOKUP(AK17,Tabelas!B:D,3,0),0),\"\")","v":0},{"$f":"IF(A17<>\"\",IFERROR(VLOOKUP(AL17,Tabelas!B:D,3,0),0),\"\")","v":0},{"$f":"IF(A17<>\"\",IFERROR(VLOOKUP(AM17,Tabelas!B:D,3,0),0),\"\")","v":0},{"$f":"IF(A17<>\"\",IFERROR(VLOOKUP(AN17,Tabelas!B:D,3,0),0),\"\")","v":0},{"$f":"IF(A17<>\"\",IFERROR(VLOOKUP(AO17,Tabelas!B:D,3,0),0),\"\")","v":0},{"$f":"IF(A17<>\"\",IFERROR(VLOOKUP(AP17,Tabelas!B:D,3,0),0),\"\")","v":0},{"$f":"IF(A17<>\"\",IFERROR(VLOOKUP(AQ17,Tabelas!B:D,3,0),0),\"\")","v":0},0,0,0,0,0,0,0,0]
["FULANO 10",10,null,null,null,null,null,null,null,null,null,null,null,null,null,null,null,null,null,null,null,null,null,null,null,null,null,null,null,null,null,null,null,null,null,null,null,null,null,null,null,null,null,{"$f":"IF(A18<>\"\",IFERROR(VLOOKUP(M18,Tabelas!B:D,3,0),0),\"\")","v":0},{"$f":"IF(A18<>\"\",IFERROR(VLOOKUP(N18,Tabelas!B:D,3,0),0),\"\")","v":0},{"$f":"IF(A18<>\"\",IFERROR(VLOOKUP(O18,Tabelas!B:D,3,0),0),\"\")","v":0},{"$f":"IF(A18<>\"\",IFERROR(VLOOKUP(P18,Tabelas!B:D,3,0),0),\"\")","v":0},{"$f":"IF(A18<>\"\",IFERROR(VLOOKUP(Q18,Tabelas!B:D,3,0),0),\"\")","v":0},{"$f":"IF(A18<>\"\",IFERROR(VLOOKUP(R18,Tabelas!B:D,3,0),0),\"\")","v":0},{"$f":"IF(A18<>\"\",IFERROR(VLOOKUP(S18,Tabelas!B:D,3,0),0),\"\")","v":0},{"$f":"IF(A18<>\"\",IFERROR(VLOOKUP(T18,Tabelas!B:D,3,0),0),\"\")","v":0},{"$f":"IF(A18<>\"\",IFERROR(VLOOKUP(U18,Tabelas!B:D,3,0),0),\"\")","v":0},{"$f":"IF(A18<>\"\",IFERROR(VLOOKUP(V18,Tabelas!B:D,3,0),0),\"\")","v":0},{"$f":"IF(A18<>\"\",IFERROR(VLOOKUP(W18,Tabelas!B:D,3,0),0),\"\")","v":0},{"$f":"IF(A18<>\"\",IFERROR(VLOOKUP(X18,Tabelas!B:D,3,0),0),\"\")","v":0},{"$f":"IF(A18<>\"\",IFERROR(VLOOKUP(Y18,Tabelas!B:D,3,0),0),\"\")","v":0},{"$f":"IF(A18<>\"\",IFERROR(VLOOKUP(Z18,Tabelas!B:D,3,0),0),\"\")","v":0},{"$f":"IF(A18<>\"\",IFERROR(VLOOKUP(AA18,Tabelas!B:D,3,0),0),\"\")","v":0},{"$f":"IF(A18<>\"\",IFERROR(VLOOKUP(AB18,Tabelas!B:D,3,0),0),\"\")","v":0},{"$f":"IF(A18<>\"\",IFERROR(VLOOKUP(AC18,Tabelas!B:D,3,0),0),\"\")","v":0},{"$f":"IF(A18<>\"\",IFERROR(VLOOKUP(AD18,Tabelas!B:D,3,0),0),\"\")","v":0},{"$f":"IF(A18<>\"\",IFERROR(VLOOKUP(AE18,Tabelas!B:D,3,0),0),\"\")","v":0},{"$f":"IF(A18<>\"\",IFERROR(VLOOKUP(AF18,Tabelas!B:D,3,0),0),\"\")","v":0},{"$f":"IF(A18<>\"\",IFERROR(VLOOKUP(AG18,Tabelas!B:D,3,0),0),\"\")","v":0},{"$f":"IF(A18<>\"\",IFERROR(VLOOKUP(AH18,Tabelas!B:D,3,0),0),\"\")","v":0},{"$f":"IF(A18<>\"\",IFERROR(VLOOKUP(AI18,Tabelas!B:D,3,0),0),\"\")","v":0},{"$f":"IF(A18<>\"\",IFERROR(VLOOKUP(AJ18,Tabelas!B:D,3,0),0),\"\")","v":0},{"$f":"IF(A18<>\"\",IFERROR(VLOOKUP(AK18,Tabelas!B:D,3,0),0),\"\")","v":0},{"$f":"IF(A18<>\"\",IFERROR(VLOOKUP(AL18,Tabelas!B:D,3,0),0),\"\")","v":0},{"$f":"IF(A18<>\"\",IFERROR(VLOOKUP(AM18,Tabelas!B:D,3,0),0),\"\")","v":0},{"$f":"IF(A18<>\"\",IFERROR(VLOOKUP(AN18,Tabelas!B:D,3,0),0),\"\")","v":0},{"$f":"IF(A18<>\"\",IFERROR(VLOOKUP(AO18,Tabelas!B:D,3,0),0),\"\")","v":0},{"$f":"IF(A18<>\"\",IFERROR(VLOOKUP(AP18,Tabelas!B:D,3,0),0),\"\")","v":0},{"$f":"IF(A18<>\"\",IFERROR(VLOOKUP(AQ18,Tabelas!B:D,3,0),0),\"\")","v":0},0,0,0,0,0,0,0,0]
["FULANO 11",11,null,null,null,null,null,null,null,null,null,null,null,null,null,null,null,null,null,null,null,null,null,null,null,null,null,null,null,null,null,null,null,null,null,null,null,null,null,null,null,null,null,{"$f":"IF(A19<>\"\",IFERROR(VLOOKUP(M19,Tabelas!B:D,3,0),0),\"\")","v":0},{"$f":"IF(A19<>\"\",IFERROR(VLOOKUP(N19,Tabelas!B:D,3,0),0),\"\")","v":0},{"$f":"IF(A19<>\"\",IFERROR(VLOOKUP(O19,Tabelas!B:D,3,0),0),\"\")","v":0},{"$f":"IF(A19<>\"\",IFERROR(VLOOKUP(P19,Tabelas!B:D,3,0),0),\"\")","v":0},{"$f":"IF(A19<>\"\",IFERROR(VLOOKUP(Q19,Tabelas!B:D,3,0),0),\"\")","v":0},{"$f":"IF(A19<>\"\",IFERROR(VLOOKUP(R19,Tabelas!B:D,3,0),0),\"\")","v":0},{"$f":"IF(A19<>\"\",IFERROR(VLOOKUP(S19,Tabelas!B:D,3,0),0),\"\")","v":0},{"$f":"IF(A19<>\"\",IFERROR(VLOOKUP(T19,Tabelas!B:D,3,0),0),\"\")","v":0},{"$f":"IF(A19<>\"\",IFERROR(VLOOKUP(U19,Tabelas!B:D,3,0),0),\"\")","v":0},{"$f":"IF(A19<>\"\",IFERROR(VLOOKUP(V19,Tabelas!B:D,3,0),0),\"\")","v":0},{"$f":"IF(A19<>\"\",IFERROR(VLOOKUP(W19,Tabelas!B:D,3,0),0),\"\")","v":0},{"$f":"IF(A19<>\"\",IFERROR(VLOOKUP(X19,Tabelas!B:D,3,0),0),\"\")","v":0},{"$f":"IF(A19<>\"\",IFERROR(VLOOKUP(Y19,Tabelas!B:D,3,0),0),\"\")","v":0},{"$f":"IF(A19<>\"\",IFERROR(VLOOKUP(Z19,Tabelas!B:D,3,0),0),\"\")","v":0},{"$f":"IF(A19<>\"\",IFERROR(VLOOKUP(AA19,Tabelas!B:D,3,0),0),\"\")","v":0},{"$f":"IF(A19<>\"\",IFERROR(VLOOKUP(AB19,Tabelas!B:D,3,0),0),\"\")","v":0},{"$f":"IF(A19<>\"\",IFERROR(VLOOKUP(AC19,Tabelas!B:D,3,0),0),\"\")","v":0},{"$f":"IF(A19<>\"\",IFERROR(VLOOKUP(AD19,Tabelas!B:D,3,0),0),\"\")","v":0},{"$f":"IF(A19<>\"\",IFERROR(VLOOKUP(AE19,Tabelas!B:D,3,0),0),\"\")","v":0},{"$f":"IF(A19<>\"\",IFERROR(VLOOKUP(AF19,Tabelas!B:D,3,0),0),\"\")","v":0},{"$f":"IF(A19<>\"\",IFERROR(VLOOKUP(AG19,Tabelas!B:D,3,0),0),\"\")","v":0},{"$f":"IF(A19<>\"\",IFERROR(VLOOKUP(AH19,Tabelas!B:D,3,0),0),\"\")","v":0},{"$f":"IF(A19<>\"\",IFERROR(VLOOKUP(AI19,Tabelas!B:D,3,0),0),\"\")","v":0},{"$f":"IF(A19<>\"\",IFERROR(VLOOKUP(AJ19,Tabelas!B:D,3,0),0),\"\")","v":0},{"$f":"IF(A19<>\"\",IFERROR(VLOOKUP(AK19,Tabelas!B:D,3,0),0),\"\")","v":0},{"$f":"IF(A19<>\"\",IFERROR(VLOOKUP(AL19,Tabelas!B:D,3,0),0),\"\")","v":0},{"$f":"IF(A19<>\"\",IFERROR(VLOOKUP(AM19,Tabelas!B:D,3,0),0),\"\")","v":0},{"$f":"IF(A19<>\"\",IFERROR(VLOOKUP(AN19,Tabelas!B:D,3,0),0),\"\")","v":0},{"$f":"IF(A19<>\"\",IFERROR(VLOOKUP(AO19,Tabelas!B:D,3,0),0),\"\")","v":0},{"$f":"IF(A19<>\"\",IFERROR(VLOOKUP(AP19,Tabelas!B:D,3,0),0),\"\")","v":0},{"$f":"IF(A19<>\"\",IFERROR(VLOOKUP(AQ19,Tabelas!B:D,3,0),0),\"\")","v":0},0,0,0,0,0,0,0,0]
["FULANO 12",12,null,null,null,null,null,null,null,null,null,null,null,null,null,null,null,null,null,null,null,null,null,null,null,null,null,null,null,null,null,null,null,null,null,null,null,null,null,null,null,null,null,{"$f":"IF(A20<>\"\",IFERROR(VLOOKUP(M20,Tabelas!B:D,3,0),0),\"\")","v":0},{"$f":"IF(A20<>\"\",IFERROR(VLOOKUP(N20,Tabelas!B:D,3,0),0),\"\")","v":0},{"$f":"IF(A20<>\"\",IFERROR(VLOOKUP(O20,Tabelas!B:D,3,0),0),\"\")","v":0},{"$f":"IF(A20<>\"\",IFERROR(VLOOKUP(P20,Tabelas!B:D,3,0),0),\"\")","v":0},{"$f":"IF(A20<>\"\",IFERROR(VLOOKUP(Q20,Tabelas!B:D,3,0),0),\"\")","v":0},{"$f":"IF(A20<>\"\",IFERROR(VLOOKUP(R20,Tabelas!B:D,3,0),0),\"\")","v":0},{"$f":"IF(A20<>\"\",IFERROR(VLOOKUP(S20,Tabelas!B:D,3,0),0),\"\")","v":0},{"$f":"IF(A20<>\"\",IFERROR(VLOOKUP(T20,Tabelas!B:D,3,0),0),\"\")","v":0},{"$f":"IF(A20<>\"\",IFERROR(VLOOKUP(U20,Tabelas!B:D,3,0),0),\"\")","v":0},{"$f":"IF(A20<>\"\",IFERROR(VLOOKUP(V20,Tabelas!B:D,3,0),0),\"\")","v":0},{"$f":"IF(A20<>\"\",IFERROR(VLOOKUP(W20,Tabelas!B:D,3,0),0),\"\")","v":0},{"$f":"IF(A20<>\"\",IFERROR(VLOOKUP(X20,Tabelas!B:D,3,0),0),\"\")","v":0},{"$f":"IF(A20<>\"\",IFERROR(VLOOKUP(Y20,Tabelas!B:D,3,0),0),\"\")","v":0},{"$f":"IF(A20<>\"\",IFERROR(VLOOKUP(Z20,Tabelas!B:D,3,0),0),\"\")","v":0},{"$f":"IF(A20<>\"\",IFERROR(VLOOKUP(AA20,Tabelas!B:D,3,0),0),\"\")","v":0},{"$f":"IF(A20<>\"\",IFERROR(VLOOKUP(AB20,Tabelas!B:D,3,0),0),\"\")","v":0},{"$f":"IF(A20<>\"\",IFERROR(VLOOKUP(AC20,Tabelas!B:D,3,0),0),\"\")","v":0},{"$f":"IF(A20<>\"\",IFERROR(VLOOKUP(AD20,Tabelas!B:D,3,0),0),\"\")","v":0},{"$f":"IF(A20<>\"\",IFERROR(VLOOKUP(AE20,Tabelas!B:D,3,0),0),\"\")","v":0},{"$f":"IF(A20<>\"\",IFERROR(VLOOKUP(AF20,Tabelas!B:D,3,0),0),\"\")","v":0},{"$f":"IF(A20<>\"\",IFERROR(VLOOKUP(AG20,Tabelas!B:D,3,0),0),\"\")","v":0},{"$f":"IF(A20<>\"\",IFERROR(VLOOKUP(AH20,Tabelas!B:D,3,0),0),\"\")","v":0},{"$f":"IF(A20<>\"\",IFERROR(VLOOKUP(AI20,Tabelas!B:D,3,0),0),\"\")","v":0},{"$f":"IF(A20<>\"\",IFERROR(VLOOKUP(AJ20,Tabelas!B:D,3,0),0),\"\")","v":0},{"$f":"IF(A20<>\"\",IFERROR(VLOOKUP(AK20,Tabelas!B:D,3,0),0),\"\")","v":0},{"$f":"IF(A20<>\"\",IFERROR(VLOOKUP(AL20,Tabelas!B:D,3,0),0),\"\")","v":0},{"$f":"IF(A20<>\"\",IFERROR(VLOOKUP(AM20,Tabelas!B:D,3,0),0),\"\")","v":0},{"$f":"IF(A20<>\"\",IFERROR(VLOOKUP(AN20,Tabelas!B:D,3,0),0),\"\")","v":0},{"$f":"IF(A20<>\"\",IFERROR(VLOOKUP(AO20,Tabelas!B:D,3,0),0),\"\")","v":0},{"$f":"IF(A20<>\"\",IFERROR(VLOOKUP(AP20,Tabelas!B:D,3,0),0),\"\")","v":0},{"$f":"IF(A20<>\"\",IFERROR(VLOOKUP(AQ20,Tabelas!B:D,3,0),0),\"\")","v":0},0,0,0,0,0,0,0,0]
["FULANO 13",13,null,null,null,null,null,null,null,null,null,null,null,null,null,null,null,null,null,null,null,null,null,null,null,null,null,null,null,null,null,null,null,null,null,null,null,null,null,null,null,null,null,{"$f":"IF(A21<>\"\",IFERROR(VLOOKUP(M21,Tabelas!B:D,3,0),0),\"\")","v":0},{"$f":"IF(A21<>\"\",IFERROR(VLOOKUP(N21,Tabelas!B:D,3,0),0),\"\")","v":0},{"$f":"IF(A21<>\"\",IFERROR(VLOOKUP(O21,Tabelas!B:D,3,0),0),\"\")","v":0},{"$f":"IF(A21<>\"\",IFERROR(VLOOKUP(P21,Tabelas!B:D,3,0),0),\"\")","v":0},{"$f":"IF(A21<>\"\",IFERROR(VLOOKUP(Q21,Tabelas!B:D,3,0),0),\"\")","v":0},{"$f":"IF(A21<>\"\",IFERROR(VLOOKUP(R21,Tabelas!B:D,3,0),0),\"\")","v":0},{"$f":"IF(A21<>\"\",IFERROR(VLOOKUP(S21,Tabelas!B:D,3,0),0),\"\")","v":0},{"$f":"IF(A21<>\"\",IFERROR(VLOOKUP(T21,Tabelas!B:D,3,0),0),\"\")","v":0},{"$f":"IF(A21<>\"\",IFERROR(VLOOKUP(U21,Tabelas!B:D,3,0),0),\"\")","v":0},{"$f":"IF(A21<>\"\",IFERROR(VLOOKUP(V21,Tabelas!B:D,3,0),0),\"\")","v":0},{"$f":"IF(A21<>\"\",IFERROR(VLOOKUP(W21,Tabelas!B:D,3,0),0),\"\")","v":0},{"$f":"IF(A21<>\"\",IFERROR(VLOOKUP(X21,Tabelas!B:D,3,0),0),\"\")","v":0},{"$f":"IF(A21<>\"\",IFERROR(VLOOKUP(Y21,Tabelas!B:D,3,0),0),\"\")","v":0},{"$f":"IF(A21<>\"\",IFERROR(VLOOKUP(Z21,Tabelas!B:D,3,0),0),\"\")","v":0},{"$f":"IF(A21<>\"\",IFERROR(VLOOKUP(AA21,Tabelas!B:D,3,0),0),\"\")","v":0},{"$f":"IF(A21<>\"\",IFERROR(VLOOKUP(AB21,Tabelas!B:D,3,0),0),\"\")","v":0},{"$f":"IF(A21<>\"\",IFERROR(VLOOKUP(AC21,Tabelas!B:D,3,0),0),\"\")","v":0},{"$f":"IF(A21<>\"\",IFERROR(VLOOKUP(AD21,Tabelas!B:D,3,0),0),\"\")","v":0},{"$f":"IF(A21<>\"\",IFERROR(VLOOKUP(AE21,Tabelas!B:D,3,0),0),\"\")","v":0},{"$f":"IF(A21<>\"\",IFERROR(VLOOKUP(AF21,Tabelas!B:D,3,0),0),\"\")","v":0},{"$f":"IF(A21<>\"\",IFERROR(VLOOKUP(AG21,Tabelas!B:D,3,0),0),\"\")","v":0},{"$f":"IF(A21<>\"\",IFERROR(VLOOKUP(AH21,Tabelas!B:D,3,0),0),\"\")","v":0},{"$f":"IF(A21<>\"\",IFERROR(VLOOKUP(AI21,Tabelas!B:D,3,0),0),\"\")","v":0},{"$f":"IF(A21<>\"\",IFERROR(VLOOKUP(AJ21,Tabelas!B:D,3,0),0),\"\")","v":0},{"$f":"IF(A21<>\"\",IFERROR(VLOOKUP(AK21,Tabelas!B:D,3,0),0),\"\")","v":0},{"$f":"IF(A21<>\"\",IFERROR(VLOOKUP(AL21,Tabelas!B:D,3,0),0),\"\")","v":0},{"$f":"IF(A21<>\"\",IFERROR(VLOOKUP(AM21,Tabelas!B:D,3,0),0),\"\")","v":0},{"$f":"IF(A21<>\"\",IFERROR(VLOOKUP(AN21,Tabelas!B:D,3,0),0),\"\")","v":0},{"$f":"IF(A21<>\"\",IFERROR(VLOOKUP(AO21,Tabelas!B:D,3,0),0),\"\")","v":0},{"$f":"IF(A21<>\"\",IFERROR(VLOOKUP(AP21,Tabelas!B:D,3,0),0),\"\")","v":0},{"$f":"IF(A21<>\"\",IFERROR(VLOOKUP(AQ21,Tabelas!B:D,3,0),0),\"\")","v":0},0,0,0,0,0,0,0,0]
["FULANO 14",14,null,null,null,null,null,null,null,null,null,null,null,null,null,null,null,null,null,null,null,null,null,null,null,null,null,null,null,null,null,null,null,null,null,null,null,null,null,null,null,null,null,{"$f":"IF(A22<>\"\",IFERROR(VLOOKUP(M22,Tabelas!B:D,3,0),0),\"\")","v":0},{"$f":"IF(A22<>\"\",IFERROR(VLOOKUP(N22,Tabelas!B:D,3,0),0),\"\")","v":0},{"$f":"IF(A22<>\"\",IFERROR(VLOOKUP(O22,Tabelas!B:D,3,0),0),\"\")","v":0},{"$f":"IF(A22<>\"\",IFERROR(VLOOKUP(P22,Tabelas!B:D,3,0),0),\"\")","v":0},{"$f":"IF(A22<>\"\",IFERROR(VLOOKUP(Q22,Tabelas!B:D,3,0),0),\"\")","v":0},{"$f":"IF(A22<>\"\",IFERROR(VLOOKUP(R22,Tabelas!B:D,3,0),0),\"\")","v":0},{"$f":"IF(A22<>\"\",IFERROR(VLOOKUP(S22,Tabelas!B:D,3,0),0),\"\")","v":0},{"$f":"IF(A22<>\"\",IFERROR(VLOOKUP(T22,Tabelas!B:D,3,0),0),\"\")","v":0},{"$f":"IF(A22<>\"\",IFERROR(VLOOKUP(U22,Tabelas!B:D,3,0),0),\"\")","v":0},{"$f":"IF(A22<>\"\",IFERROR(VLOOKUP(V22,Tabelas!B:D,3,0),0),\"\")","v":0},{"$f":"IF(A22<>\"\",IFERROR(VLOOKUP(W22,Tabelas!B:D,3,0),0),\"\")","v":0},{"$f":"IF(A22<>\"\",IFERROR(VLOOKUP(X22,Tabelas!B:D,3,0),0),\"\")","v":0},{"$f":"IF(A22<>\"\",IFERROR(VLOOKUP(Y22,Tabelas!B:D,3,0),0),\"\")","v":0},{"$f":"IF(A22<>\"\",IFERROR(VLOOKUP(Z22,Tabelas!B:D,3,0),0),\"\")","v":0},{"$f":"IF(A22<>\"\",IFERROR(VLOOKUP(AA22,Tabelas!B:D,3,0),0),\"\")","v":0},{"$f":"IF(A22<>\"\",IFERROR(VLOOKUP(AB22,Tabelas!B:D,3,0),0),\"\")","v":0},{"$f":"IF(A22<>\"\",IFERROR(VLOOKUP(AC22,Tabelas!B:D,3,0),0),\"\")","v":0},{"$f":"IF(A22<>\"\",IFERROR(VLOOKUP(AD22,Tabelas!B:D,3,0),0),\"\")","v":0},{"$f":"IF(A22<>\"\",IFERROR(VLOOKUP(AE22,Tabelas!B:D,3,0),0),\"\")","v":0},{"$f":"IF(A22<>\"\",IFERROR(VLOOKUP(AF22,Tabelas!B:D,3,0),0),\"\")","v":0},{"$f":"IF(A22<>\"\",IFERROR(VLOOKUP(AG22,Tabelas!B:D,3,0),0),\"\")","v":0},{"$f":"IF(A22<>\"\",IFERROR(VLOOKUP(AH22,Tabelas!B:D,3,0),0),\"\")","v":0},{"$f":"IF(A22<>\"\",IFERROR(VLOOKUP(AI22,Tabelas!B:D,3,0),0),\"\")","v":0},{"$f":"IF(A22<>\"\",IFERROR(VLOOKUP(AJ22,Tabelas!B:D,3,0),0),\"\")","v":0},{"$f":"IF(A22<>\"\",IFERROR(VLOOKUP(AK22,Tabelas!B:D,3,0),0),\"\")","v":0},{"$f":"IF(A22<>\"\",IFERROR(VLOOKUP(AL22,Tabelas!B:D,3,0),0),\"\")","v":0},{"$f":"IF(A22<>\"\",IFERROR(VLOOKUP(AM22,Tabelas!B:D,3,0),0),\"\")","v":0},{"$f":"IF(A22<>\"\",IFERROR(VLOOKUP(AN22,Tabelas!B:D,3,0),0),\"\")","v":0},{"$f":"IF(A22<>\"\",IFERROR(VLOOKUP(AO22,Tabelas!B:D,3,0),0),\"\")","v":0},{"$f":"IF(A22<>\"\",IFERROR(VLOOKUP(AP22,Tabelas!B:D,3,0),0),\"\")","v":0},{"$f":"IF(A22<>\"\",IFERROR(VLOOKUP(AQ22,Tabelas!B:D,3,0),0),\"\")","v":0},0,0,0,0,0,0,0,0]
["FULANO 15",15,null,null,null,null,null,null,null,null,null,null,null,null,null,null,null,null,null,null,null,null,null,null,null,null,null,null,null,null,null,null,null,null,null,null,null,null,null,null,null,null,null,{"$f":"IF(A23<>\"\",IFERROR(VLOOKUP(M23,Tabelas!B:D,3,0),0),\"\")","v":0},{"$f":"IF(A23<>\"\",IFERROR(VLOOKUP(N23,Tabelas!B:D,3,0),0),\"\")","v":0},{"$f":"IF(A23<>\"\",IFERROR(VLOOKUP(O23,Tabelas!B:D,3,0),0),\"\")","v":0},{"$f":"IF(A23<>\"\",IFERROR(VLOOKUP(P23,Tabelas!B:D,3,0),0),\"\")","v":0},{"$f":"IF(A23<>\"\",IFERROR(VLOOKUP(Q23,Tabelas!B:D,3,0),0),\"\")","v":0},{"$f":"IF(A23<>\"\",IFERROR(VLOOKUP(R23,Tabelas!B:D,3,0),0),\"\")","v":0},{"$f":"IF(A23<>\"\",IFERROR(VLOOKUP(S23,Tabelas!B:D,3,0),0),\"\")","v":0},{"$f":"IF(A23<>\"\",IFERROR(VLOOKUP(T23,Tabelas!B:D,3,0),0),\"\")","v":0},{"$f":"IF(A23<>\"\",IFERROR(VLOOKUP(U23,Tabelas!B:D,3,0),0),\"\")","v":0},{"$f":"IF(A23<>\"\",IFERROR(VLOOKUP(V23,Tabelas!B:D,3,0),0),\"\")","v":0},{"$f":"IF(A23<>\"\",IFERROR(VLOOKUP(W23,Tabelas!B:D,3,0),0),\"\")","v":0},{"$f":"IF(A23<>\"\",IFERROR(VLOOKUP(X23,Tabelas!B:D,3,0),0),\"\")","v":0},{"$f":"IF(A23<>\"\",IFERROR(VLOOKUP(Y23,Tabelas!B:D,3,0),0),\"\")","v":0},{"$f":"IF(A23<>\"\",IFERROR(VLOOKUP(Z23,Tabelas!B:D,3,0),0),\"\")","v":0},{"$f":"IF(A23<>\"\",IFERROR(VLOOKUP(AA23,Tabelas!B:D,3,0),0),\"\")","v":0},{"$f":"IF(A23<>\"\",IFERROR(VLOOKUP(AB23,Tabelas!B:D,3,0),0),\"\")","v":0},{"$f":"IF(A23<>\"\",IFERROR(VLOOKUP(AC23,Tabelas!B:D,3,0),0),\"\")","v":0},{"$f":"IF(A23<>\"\",IFERROR(VLOOKUP(AD23,Tabelas!B:D,3,0),0),\"\")","v":0},{"$f":"IF(A23<>\"\",IFERROR(VLOOKUP(AE23,Tabelas!B:D,3,0),0),\"\")","v":0},{"$f":"IF(A23<>\"\",IFERROR(VLOOKUP(AF23,Tabelas!B:D,3,0),0),\"\")","v":0},{"$f":"IF(A23<>\"\",IFERROR(VLOOKUP(AG23,Tabelas!B:D,3,0),0),\"\")","v":0},{"$f":"IF(A23<>\"\",IFERROR(VLOOKUP(AH23,Tabelas!B:D,3,0),0),\"\")","v":0},{"$f":"IF(A23<>\"\",IFERROR(VLOOKUP(AI23,Tabelas!B:D,3,0),0),\"\")","v":0},{"$f":"IF(A23<>\"\",IFERROR(VLOOKUP(AJ23,Tabelas!B:D,3,0),0),\"\")","v":0},{"$f":"IF(A23<>\"\",IFERROR(VLOOKUP(AK23,Tabelas!B:D,3,0),0),\"\")","v":0},{"$f":"IF(A23<>\"\",IFERROR(VLOOKUP(AL23,Tabelas!B:D,3,0),0),\"\")","v":0},{"$f":"IF(A23<>\"\",IFERROR(VLOOKUP(AM23,Tabelas!B:D,3,0),0),\"\")","v":0},{"$f":"IF(A23<>\"\",IFERROR(VLOOKUP(AN23,Tabelas!B:D,3,0),0),\"\")","v":0},{"$f":"IF(A23<>\"\",IFERROR(VLOOKUP(AO23,Tabelas!B:D,3,0),0),\"\")","v":0},{"$f":"IF(A23<>\"\",IFERROR(VLOOKUP(AP23,Tabelas!B:D,3,0),0),\"\")","v":0},{"$f":"IF(A23<>\"\",IFERROR(VLOOKUP(AQ23,Tabelas!B:D,3,0),0),\"\")","v":0},0,0,0,0,0,0,0,0]
["FULANO 16",16,null,null,null,null,null,null,null,null,null,null,null,null,null,null,null,null,null,null,null,null,null,null,null,null,null,null,null,null,null,null,null,null,null,null,null,null,null,null,null,null,null,{"$f":"IF(A24<>\"\",IFERROR(VLOOKUP(M24,Tabelas!B:D,3,0),0),\"\")","v":0},{"$f":"IF(A24<>\"\",IFERROR(VLOOKUP(N24,Tabelas!B:D,3,0),0),\"\")","v":0},{"$f":"IF(A24<>\"\",IFERROR(VLOOKUP(O24,Tabelas!B:D,3,0),0),\"\")","v":0},{"$f":"IF(A24<>\"\",IFERROR(VLOOKUP(P24,Tabelas!B:D,3,0),0),\"\")","v":0},{"$f":"IF(A24<>\"\",IFERROR(VLOOKUP(Q24,Tabelas!B:D,3,0),0),\"\")","v":0},{"$f":"IF(A24<>\"\",IFERROR(VLOOKUP(R24,Tabelas!B:D,3,0),0),\"\")","v":0},{"$f":"IF(A24<>\"\",IFERROR(VLOOKUP(S24,Tabelas!B:D,3,0),0),\"\")","v":0},{"$f":"IF(A24<>\"\",IFERROR(VLOOKUP(T24,Tabelas!B:D,3,0),0),\"\")","v":0},{"$f":"IF(A24<>\"\",IFERROR(VLOOKUP(U24,Tabelas!B:D,3,0),0),\"\")","v":0},{"$f":"IF(A24<>\"\",IFERROR(VLOOKUP(V24,Tabelas!B:D,3,0),0),\"\")","v":0},{"$f":"IF(A24<>\"\",IFERROR(VLOOKUP(W24,Tabelas!B:D,3,0),0),\"\")","v":0},{"$f":"IF(A24<>\"\",IFERROR(VLOOKUP(X24,Tabelas!B:D,3,0),0),\"\")","v":0},{"$f":"IF(A24<>\"\",IFERROR(VLOOKUP(Y24,Tabelas!B:D,3,0),0),\"\")","v":0},{"$f":"IF(A24<>\"\",IFERROR(VLOOKUP(Z24,Tabelas!B:D,3,0),0),\"\")","v":0},{"$f":"IF(A24<>\"\",IFERROR(VLOOKUP(AA24,Tabelas!B:D,3,0),0),\"\")","v":0},{"$f":"IF(A24<>\"\",IFERROR(VLOOKUP(AB24,Tabelas!B:D,3,0),0),\"\")","v":0},{"$f":"IF(A24<>\"\",IFERROR(VLOOKUP(AC24,Tabelas!B:D,3,0),0),\"\")","v":0},{"$f":"IF(A24<>\"\",IFERROR(VLOOKUP(AD24,Tabelas!B:D,3,0),0),\"\")","v":0},{"$f":"IF(A24<>\"\",IFERROR(VLOOKUP(AE24,Tabelas!B:D,3,0),0),\"\")","v":0},{"$f":"IF(A24<>\"\",IFERROR(VLOOKUP(AF24,Tabelas!B:D,3,0),0),\"\")","v":0},{"$f":"IF(A24<>\"\",IFERROR(VLOOKUP(AG24,Tabelas!B:D,3,0),0),\"\")","v":0},{"$f":"IF(A24<>\"\",IFERROR(VLOOKUP(AH24,Tabelas!B:D,3,0),0),\"\")","v":0},{"$f":"IF(A24<>\"\",IFERROR(VLOOKUP(AI24,Tabelas!B:D,3,0),0),\"\")","v":0},{"$f":"IF(A24<>\"\",IFERROR(VLOOKUP(AJ24,Tabelas!B:D,3,0),0),\"\")","v":0},{"$f":"IF(A24<>\"\",IFERROR(VLOOKUP(AK24,Tabelas!B:D,3,0),0),\"\")","v":0},{"$f":"IF(A24<>\"\",IFERROR(VLOOKUP(AL24,Tabelas!B:D,3,0),0),\"\")","v":0},{"$f":"IF(A24<>\"\",IFERROR(VLOOKUP(AM24,Tabelas!B:D,3,0),0),\"\")","v":0},{"$f":"IF(A24<>\"\",IFERROR(VLOOKUP(AN24,Tabelas!B:D,3,0),0),\"\")","v":0},{"$f":"IF(A24<>\"\",IFERROR(VLOOKUP(AO24,Tabelas!B:D,3,0),0),\"\")","v":0},{"$f":"IF(A24<>\"\",IFERROR(VLOOKUP(AP24,Tabelas!B:D,3,0),0),\"\")","v":0},{"$f":"IF(A24<>\"\",IFERROR(VLOOKUP(AQ24,Tabelas!B:D,3,0),0),\"\")","v":0},0,0,0,0,0,0,0,0]
["FULANO 17",17,null,null,null,null,null,null,null,null,null,null,null,null,null,null,null,null,null,null,null,null,null,null,null,null,null,null,null,null,null,null,null,null,null,null,null,null,null,null,null,null,null,{"$f":"IF(A25<>\"\",IFERROR(VLOOKUP(M25,Tabelas!B:D,3,0),0),\"\")","v":0},{"$f":"IF(A25<>\"\",IFERROR(VLOOKUP(N25,Tabelas!B:D,3,0),0),\"\")","v":0},{"$f":"IF(A25<>\"\",IFERROR(VLOOKUP(O25,Tabelas!B:D,3,0),0),\"\")","v":0},{"$f":"IF(A25<>\"\",IFERROR(VLOOKUP(P25,Tabelas!B:D,3,0),0),\"\")","v":0},{"$f":"IF(A25<>\"\",IFERROR(VLOOKUP(Q25,Tabelas!B:D,3,0),0),\"\")","v":0},{"$f":"IF(A25<>\"\",IFERROR(VLOOKUP(R25,Tabelas!B:D,3,0),0),\"\")","v":0},{"$f":"IF(A25<>\"\",IFERROR(VLOOKUP(S25,Tabelas!B:D,3,0),0),\"\")","v":0},{"$f":"IF(A25<>\"\",IFERROR(VLOOKUP(T25,Tabelas!B:D,3,0),0),\"\")","v":0},{"$f":"IF(A25<>\"\",IFERROR(VLOOKUP(U25,Tabelas!B:D,3,0),0),\"\")","v":0},{"$f":"IF(A25<>\"\",IFERROR(VLOOKUP(V25,Tabelas!B:D,3,0),0),\"\")","v":0},{"$f":"IF(A25<>\"\",IFERROR(VLOOKUP(W25,Tabelas!B:D,3,0),0),\"\")","v":0},{"$f":"IF(A25<>\"\",IFERROR(VLOOKUP(X25,Tabelas!B:D,3,0),0),\"\")","v":0},{"$f":"IF(A25<>\"\",IFERROR(VLOOKUP(Y25,Tabelas!B:D,3,0),0),\"\")","v":0},{"$f":"IF(A25<>\"\",IFERROR(VLOOKUP(Z25,Tabelas!B:D,3,0),0),\"\")","v":0},{"$f":"IF(A25<>\"\",IFERROR(VLOOKUP(AA25,Tabelas!B:D,3,0),0),\"\")","v":0},{"$f":"IF(A25<>\"\",IFERROR(VLOOKUP(AB25,Tabelas!B:D,3,0),0),\"\")","v":0},{"$f":"IF(A25<>\"\",IFERROR(VLOOKUP(AC25,Tabelas!B:D,3,0),0),\"\")","v":0},{"$f":"IF(A25<>\"\",IFERROR(VLOOKUP(AD25,Tabelas!B:D,3,0),0),\"\")","v":0},{"$f":"IF(A25<>\"\",IFERROR(VLOOKUP(AE25,Tabelas!B:D,3,0),0),\"\")","v":0},{"$f":"IF(A25<>\"\",IFERROR(VLOOKUP(AF25,Tabelas!B:D,3,0),0),\"\")","v":0},{"$f":"IF(A25<>\"\",IFERROR(VLOOKUP(AG25,Tabelas!B:D,3,0),0),\"\")","v":0},{"$f":"IF(A25<>\"\",IFERROR(VLOOKUP(AH25,Tabelas!B:D,3,0),0),\"\")","v":0},{"$f":"IF(A25<>\"\",IFERROR(VLOOKUP(AI25,Tabelas!B:D,3,0),0),\"\")","v":0},{"$f":"IF(A25<>\"\",IFERROR(VLOOKUP(AJ25,Tabelas!B:D,3,0),0),\"\")","v":0},{"$f":"IF(A25<>\"\",IFERROR(VLOOKUP(AK25,Tabelas!B:D,3,0),0),\"\")","v":0},{"$f":"IF(A25<>\"\",IFERROR(VLOOKUP(AL25,Tabelas!B:D,3,0),0),\"\")","v":0},{"$f":"IF(A25<>\"\",IFERROR(VLOOKUP(AM25,Tabelas!B:D,3,0),0),\"\")","v":0},{"$f":"IF(A25<>\"\",IFERROR(VLOOKUP(AN25,Tabelas!B:D,3,0),0),\"\")","v":0},{"$f":"IF(A25<>\"\",IFERROR(VLOOKUP(AO25,Tabelas!B:D,3,0),0),\"\")","v":0},{"$f":"IF(A25<>\"\",IFERROR(VLOOKUP(AP25,Tabelas!B:D,3,0),0),\"\")","v":0},{"$f":"IF(A25<>\"\",IFERROR(VLOOKUP(AQ25,Tabelas!B:D,3,0),0),\"\")","v":0},0,0,0,0,0,0,0,0]
["FULANO 18",18,null,null,null,null,null,null,null,null,null,null,null,null,null,null,null,null,null,null,null,null,null,null,null,null,null,null,null,null,null,null,null,null,null,null,null,null,null,null,null,null,null,{"$f":"IF(A26<>\"\",IFERROR(VLOOKUP(M26,Tabelas!B:D,3,0),0),\"\")","v":0},{"$f":"IF(A26<>\"\",IFERROR(VLOOKUP(N26,Tabelas!B:D,3,0),0),\"\")","v":0},{"$f":"IF(A26<>\"\",IFERROR(VLOOKUP(O26,Tabelas!B:D,3,0),0),\"\")","v":0},{"$f":"IF(A26<>\"\",IFERROR(VLOOKUP(P26,Tabelas!B:D,3,0),0),\"\")","v":0},{"$f":"IF(A26<>\"\",IFERROR(VLOOKUP(Q26,Tabelas!B:D,3,0),0),\"\")","v":0},{"$f":"IF(A26<>\"\",IFERROR(VLOOKUP(R26,Tabelas!B:D,3,0),0),\"\")","v":0},{"$f":"IF(A26<>\"\",IFERROR(VLOOKUP(S26,Tabelas!B:D,3,0),0),\"\")","v":0},{"$f":"IF(A26<>\"\",IFERROR(VLOOKUP(T26,Tabelas!B:D,3,0),0),\"\")","v":0},{"$f":"IF(A26<>\"\",IFERROR(VLOOKUP(U26,Tabelas!B:D,3,0),0),\"\")","v":0},{"$f":"IF(A26<>\"\",IFERROR(VLOOKUP(V26,Tabelas!B:D,3,0),0),\"\")","v":0},{"$f":"IF(A26<>\"\",IFERROR(VLOOKUP(W26,Tabelas!B:D,3,0),0),\"\")","v":0},{"$f":"IF(A26<>\"\",IFERROR(VLOOKUP(X26,Tabelas!B:D,3,0),0),\"\")","v":0},{"$f":"IF(A26<>\"\",IFERROR(VLOOKUP(Y26,Tabelas!B:D,3,0),0),\"\")","v":0},{"$f":"IF(A26<>\"\",IFERROR(VLOOKUP(Z26,Tabelas!B:D,3,0),0),\"\")","v":0},{"$f":"IF(A26<>\"\",IFERROR(VLOOKUP(AA26,Tabelas!B:D,3,0),0),\"\")","v":0},{"$f":"IF(A26<>\"\",IFERROR(VLOOKUP(AB26,Tabelas!B:D,3,0),0),\"\")","v":0},{"$f":"IF(A26<>\"\",IFERROR(VLOOKUP(AC26,Tabelas!B:D,3,0),0),\"\")","v":0},{"$f":"IF(A26<>\"\",IFERROR(VLOOKUP(AD26,Tabelas!B:D,3,0),0),\"\")","v":0},{"$f":"IF(A26<>\"\",IFERROR(VLOOKUP(AE26,Tabelas!B:D,3,0),0),\"\")","v":0},{"$f":"IF(A26<>\"\",IFERROR(VLOOKUP(AF26,Tabelas!B:D,3,0),0),\"\")","v":0},{"$f":"IF(A26<>\"\",IFERROR(VLOOKUP(AG26,Tabelas!B:D,3,0),0),\"\")","v":0},{"$f":"IF(A26<>\"\",IFERROR(VLOOKUP(AH26,Tabelas!B:D,3,0),0),\"\")","v":0},{"$f":"IF(A26<>\"\",IFERROR(VLOOKUP(AI26,Tabelas!B:D,3,0),0),\"\")","v":0},{"$f":"IF(A26<>\"\",IFERROR(VLOOKUP(AJ26,Tabelas!B:D,3,0),0),\"\")","v":0},{"$f":"IF(A26<>\"\",IFERROR(VLOOKUP(AK26,Tabelas!B:D,3,0),0),\"\")","v":0},{"$f":"IF(A26<>\"\",IFERROR(VLOOKUP(AL26,Tabelas!B:D,3,0),0),\"\")","v":0},{"$f":"IF(A26<>\"\",IFERROR(VLOOKUP(AM26,Tabelas!B:D,3,0),0),\"\")","v":0},{"$f":"IF(A26<>\"\",IFERROR(VLOOKUP(AN26,Tabelas!B:D,3,0),0),\"\")","v":0},{"$f":"IF(A26<>\"\",IFERROR(VLOOKUP(AO26,Tabelas!B:D,3,0),0),\"\")","v":0},{"$f":"IF(A26<>\"\",IFERROR(VLOOKUP(AP26,Tabelas!B:D,3,0),0),\"\")","v":0},{"$f":"IF(A26<>\"\",IFERROR(VLOOKUP(AQ26,Tabelas!B:D,3,0),0),\"\")","v":0},0,0,0,0,0,0,0,0]
["FULANO 19",19,null,null,null,null,null,null,null,null,null,null,null,null,null,null,null,null,null,null,null,null,null,null,null,null,null,null,null,null,null,null,null,null,null,null,null,null,null,null,null,null,null,{"$f":"IF(A27<>\"\",IFERROR(VLOOKUP(M27,Tabelas!B:D,3,0),0),\"\")","v":0},{"$f":"IF(A27<>\"\",IFERROR(VLOOKUP(N27,Tabelas!B:D,3,0),0),\"\")","v":0},{"$f":"IF(A27<>\"\",IFERROR(VLOOKUP(O27,Tabelas!B:D,3,0),0),\"\")","v":0},{"$f":"IF(A27<>\"\",IFERROR(VLOOKUP(P27,Tabelas!B:D,3,0),0),\"\")","v":0},{"$f":"IF(A27<>\"\",IFERROR(VLOOKUP(Q27,Tabelas!B:D,3,0),0),\"\")","v":0},{"$f":"IF(A27<>\"\",IFERROR(VLOOKUP(R27,Tabelas!B:D,3,0),0),\"\")","v":0},{"$f":"IF(A27<>\"\",IFERROR(VLOOKUP(S27,Tabelas!B:D,3,0),0),\"\")","v":0},{"$f":"IF(A27<>\"\",IFERROR(VLOOKUP(T27,Tabelas!B:D,3,0),0),\"\")","v":0},{"$f":"IF(A27<>\"\",IFERROR(VLOOKUP(U27,Tabelas!B:D,3,0),0),\"\")","v":0},{"$f":"IF(A27<>\"\",IFERROR(VLOOKUP(V27,Tabelas!B:D,3,0),0),\"\")","v":0},{"$f":"IF(A27<>\"\",IFERROR(VLOOKUP(W27,Tabelas!B:D,3,0),0),\"\")","v":0},{"$f":"IF(A27<>\"\",IFERROR(VLOOKUP(X27,Tabelas!B:D,3,0),0),\"\")","v":0},{"$f":"IF(A27<>\"\",IFERROR(VLOOKUP(Y27,Tabelas!B:D,3,0),0),\"\")","v":0},{"$f":"IF(A27<>\"\",IFERROR(VLOOKUP(Z27,Tabelas!B:D,3,0),0),\"\")","v":0},{"$f":"IF(A27<>\"\",IFERROR(VLOOKUP(AA27,Tabelas!B:D,3,0),0),\"\")","v":0},{"$f":"IF(A27<>\"\",IFERROR(VLOOKUP(AB27,Tabelas!B:D,3,0),0),\"\")","v":0},{"$f":"IF(A27<>\"\",IFERROR(VLOOKUP(AC27,Tabelas!B:D,3,0),0),\"\")","v":0},{"$f":"IF(A27<>\"\",IFERROR(VLOOKUP(AD27,Tabelas!B:D,3,0),0),\"\")","v":0},{"$f":"IF(A27<>\"\",IFERROR(VLOOKUP(AE27,Tabelas!B:D,3,0),0),\"\")","v":0},{"$f":"IF(A27<>\"\",IFERROR(VLOOKUP(AF27,Tabelas!B:D,3,0),0),\"\")","v":0},{"$f":"IF(A27<>\"\",IFERROR(VLOOKUP(AG27,Tabelas!B:D,3,0),0),\"\")","v":0},{"$f":"IF(A27<>\"\",IFERROR(VLOOKUP(AH27,Tabelas!B:D,3,0),0),\"\")","v":0},{"$f":"IF(A27<>\"\",IFERROR(VLOOKUP(AI27,Tabelas!B:D,3,0),0),\"\")","v":0},{"$f":"IF(A27<>\"\",IFERROR(VLOOKUP(AJ27,Tabelas!B:D,3,0),0),\"\")","v":0},{"$f":"IF(A27<>\"\",IFERROR(VLOOKUP(AK27,Tabelas!B:D,3,0),0),\"\")","v":0},{"$f":"IF(A27<>\"\",IFERROR(VLOOKUP(AL27,Tabelas!B:D,3,0),0),\"\")","v":0},{"$f":"IF(A27<>\"\",IFERROR(VLOOKUP(AM27,Tabelas!B:D,3,0),0),\"\")","v":0},{"$f":"IF(A27<>\"\",IFERROR(VLOOKUP(AN27,Tabelas!B:D,3,0),0),\"\")","v":0},{"$f":"IF(A27<>\"\",IFERROR(VLOOKUP(AO27,Tabelas!B:D,3,0),0),\"\")","v":0},{"$f":"IF(A27<>\"\",IFERROR(VLOOKUP(AP27,Tabelas!B:D,3,0),0),\"\")","v":0},{"$f":"IF(A27<>\"\",IFERROR(VLOOKUP(AQ27,Tabelas!B:D,3,0),0),\"\")","v":0},0,0,0,0,0,0,0,0]
["FULANO 20",20,null,null,null,null,null,null,null,null,null,null,null,null,null,null,null,null,null,null,null,null,null,null,null,null,null,null,null,null,null,null,null,null,null,null,null,null,null,null,null,null,null,{"$f":"IF(A28<>\"\",IFERROR(VLOOKUP(M28,Tabelas!B:D,3,0),0),\"\")","v":0},{"$f":"IF(A28<>\"\",IFERROR(VLOOKUP(N28,Tabelas!B:D,3,0),0),\"\")","v":0},{"$f":"IF(A28<>\"\",IFERROR(VLOOKUP(O28,Tabelas!B:D,3,0),0),\"\")","v":0},{"$f":"IF(A28<>\"\",IFERROR(VLOOKUP(P28,Tabelas!B:D,3,0),0),\"\")","v":0},{"$f":"IF(A28<>\"\",IFERROR(VLOOKUP(Q28,Tabelas!B:D,3,0),0),\"\")","v":0},{"$f":"IF(A28<>\"\",IFERROR(VLOOKUP(R28,Tabelas!B:D,3,0),0),\"\")","v":0},{"$f":"IF(A28<>\"\",IFERROR(VLOOKUP(S28,Tabelas!B:D,3,0),0),\"\")","v":0},{"$f":"IF(A28<>\"\",IFERROR(VLOOKUP(T28,Tabelas!B:D,3,0),0),\"\")","v":0},{"$f":"IF(A28<>\"\",IFERROR(VLOOKUP(U28,Tabelas!B:D,3,0),0),\"\")","v":0},{"$f":"IF(A28<>\"\",IFERROR(VLOOKUP(V28,Tabelas!B:D,3,0),0),\"\")","v":0},{"$f":"IF(A28<>\"\",IFERROR(VLOOKUP(W28,Tabelas!B:D,3,0),0),\"\")","v":0},{"$f":"IF(A28<>\"\",IFERROR(VLOOKUP(X28,Tabelas!B:D,3,0),0),\"\")","v":0},{"$f":"IF(A28<>\"\",IFERROR(VLOOKUP(Y28,Tabelas!B:D,3,0),0),\"\")","v":0},{"$f":"IF(A28<>\"\",IFERROR(VLOOKUP(Z28,Tabelas!B:D,3,0),0),\"\")","v":0},{"$f":"IF(A28<>\"\",IFERROR(VLOOKUP(AA28,Tabelas!B:D,3,0),0),\"\")","v":0},{"$f":"IF(A28<>\"\",IFERROR(VLOOKUP(AB28,Tabelas!B:D,3,0),0),\"\")","v":0},{"$f":"IF(A28<>\"\",IFERROR(VLOOKUP(AC28,Tabelas!B:D,3,0),0),\"\")","v":0},{"$f":"IF(A28<>\"\",IFERROR(VLOOKUP(AD28,Tabelas!B:D,3,0),0),\"\")","v":0},{"$f":"IF(A28<>\"\",IFERROR(VLOOKUP(AE28,Tabelas!B:D,3,0),0),\"\")","v":0},{"$f":"IF(A28<>\"\",IFERROR(VLOOKUP(AF28,Tabelas!B:D,3,0),0),\"\")","v":0},{"$f":"IF(A28<>\"\",IFERROR(VLOOKUP(AG28,Tabelas!B:D,3,0),0),\"\")","v":0},{"$f":"IF(A28<>\"\",IFERROR(VLOOKUP(AH28,Tabelas!B:D,3,0),0),\"\")","v":0},{"$f":"IF(A28<>\"\",IFERROR(VLOOKUP(AI28,Tabelas!B:D,3,0),0),\"\")","v":0},{"$f":"IF(A28<>\"\",IFERROR(VLOOKUP(AJ28,Tabelas!B:D,3,0),0),\"\")","v":0},{"$f":"IF(A28<>\"\",IFERROR(VLOOKUP(AK28,Tabelas!B:D,3,0),0),\"\")","v":0},{"$f":"IF(A28<>\"\",IFERROR(VLOOKUP(AL28,Tabelas!B:D,3,0),0),\"\")","v":0},{"$f":"IF(A28<>\"\",IFERROR(VLOOKUP(AM28,Tabelas!B:D,3,0),0),\"\")","v":0},{"$f":"IF(A28<>\"\",IFERROR(VLOOKUP(AN28,Tabelas!B:D,3,0),0),\"\")","v":0},{"$f":"IF(A28<>\"\",IFERROR(VLOOKUP(AO28,Tabelas!B:D,3,0),0),\"\")","v":0},{"$f":"IF(A28<>\"\",IFERROR(VLOOKUP(AP28,Tabelas!B:D,3,0),0),\"\")","v":0},{"$f":"IF(A28<>\"\",IFERROR(VLOOKUP(AQ28,Tabelas!B:D,3,0),0),\"\")","v":0},0,0,0,0,0,0,0,0]
["FULANO 21",21,null,null,null,null,null,null,null,null,null,null,null,null,null,null,null,null,null,null,null,null,null,null,null,null,null,null,null,null,null,null,null,null,null,null,null,null,null,null,null,null,null,{"$f":"IF(A29<>\"\",IFERROR(VLOOKUP(M29,Tabelas!B:D,3,0),0),\"\")","v":0},{"$f":"IF(A29<>\"\",IFERROR(VLOOKUP(N29,Tabelas!B:D,3,0),0),\"\")","v":0},{"$f":"IF(A29<>\"\",IFERROR(VLOOKUP(O29,Tabelas!B:D,3,0),0),\"\")","v":0},{"$f":"IF(A29<>\"\",IFERROR(VLOOKUP(P29,Tabelas!B:D,3,0),0),\"\")","v":0},{"$f":"IF(A29<>\"\",IFERROR(VLOOKUP(Q29,Tabelas!B:D,3,0),0),\"\")","v":0},{"$f":"IF(A29<>\"\",IFERROR(VLOOKUP(R29,Tabelas!B:D,3,0),0),\"\")","v":0},{"$f":"IF(A29<>\"\",IFERROR(VLOOKUP(S29,Tabelas!B:D,3,0),0),\"\")","v":0},{"$f":"IF(A29<>\"\",IFERROR(VLOOKUP(T29,Tabelas!B:D,3,0),0),\"\")","v":0},{"$f":"IF(A29<>\"\",IFERROR(VLOOKUP(U29,Tabelas!B:D,3,0),0),\"\")","v":0},{"$f":"IF(A29<>\"\",IFERROR(VLOOKUP(V29,Tabelas!B:D,3,0),0),\"\")","v":0},{"$f":"IF(A29<>\"\",IFERROR(VLOOKUP(W29,Tabelas!B:D,3,0),0),\"\")","v":0},{"$f":"IF(A29<>\"\",IFERROR(VLOOKUP(X29,Tabelas!B:D,3,0),0),\"\")","v":0},{"$f":"IF(A29<>\"\",IFERROR(VLOOKUP(Y29,Tabelas!B:D,3,0),0),\"\")","v":0},{"$f":"IF(A29<>\"\",IFERROR(VLOOKUP(Z29,Tabelas!B:D,3,0),0),\"\")","v":0},{"$f":"IF(A29<>\"\",IFERROR(VLOOKUP(AA29,Tabelas!B:D,3,0),0),\"\")","v":0},{"$f":"IF(A29<>\"\",IFERROR(VLOOKUP(AB29,Tabelas!B:D,3,0),0),\"\")","v":0},{"$f":"IF(A29<>\"\",IFERROR(VLOOKUP(AC29,Tabelas!B:D,3,0),0),\"\")","v":0},{"$f":"IF(A29<>\"\",IFERROR(VLOOKUP(AD29,Tabelas!B:D,3,0),0),\"\")","v":0},{"$f":"IF(A29<>\"\",IFERROR(VLOOKUP(AE29,Tabelas!B:D,3,0),0),\"\")","v":0},{"$f":"IF(A29<>\"\",IFERROR(VLOOKUP(AF29,Tabelas!B:D,3,0),0),\"\")","v":0},{"$f":"IF(A29<>\"\",IFERROR(VLOOKUP(AG29,Tabelas!B:D,3,0),0),\"\")","v":0},{"$f":"IF(A29<>\"\",IFERROR(VLOOKUP(AH29,Tabelas!B:D,3,0),0),\"\")","v":0},{"$f":"IF(A29<>\"\",IFERROR(VLOOKUP(AI29,Tabelas!B:D,3,0),0),\"\")","v":0},{"$f":"IF(A29<>\"\",IFERROR(VLOOKUP(AJ29,Tabelas!B:D,3,0),0),\"\")","v":0},{"$f":"IF(A29<>\"\",IFERROR(VLOOKUP(AK29,Tabelas!B:D,3,0),0),\"\")","v":0},{"$f":"IF(A29<>\"\",IFERROR(VLOOKUP(AL29,Tabelas!B:D,3,0),0),\"\")","v":0},{"$f":"IF(A29<>\"\",IFERROR(VLOOKUP(AM29,Tabelas!B:D,3,0),0),\"\")","v":0},{"$f":"IF(A29<>\"\",IFERROR(VLOOKUP(AN29,Tabelas!B:D,3,0),0),\"\")","v":0},{"$f":"IF(A29<>\"\",IFERROR(VLOOKUP(AO29,Tabelas!B:D,3,0),0),\"\")","v":0},{"$f":"IF(A29<>\"\",IFERROR(VLOOKUP(AP29,Tabelas!B:D,3,0),0),\"\")","v":0},{"$f":"IF(A29<>\"\",IFERROR(VLOOKUP(AQ29,Tabelas!B:D,3,0),0),\"\")","v":0},0,0,0,0,0,0,0,0]
["FULANO 22",22,null,null,null,null,null,null,null,null,null,null,null,null,null,null,null,null,null,null,null,null,null,null,null,null,null,null,null,null,null,null,null,null,null,null,null,null,null,null,null,null,null,{"$f":"IF(A30<>\"\",IFERROR(VLOOKUP(M30,Tabelas!B:D,3,0),0),\"\")","v":0},{"$f":"IF(A30<>\"\",IFERROR(VLOOKUP(N30,Tabelas!B:D,3,0),0),\"\")","v":0},{"$f":"IF(A30<>\"\",IFERROR(VLOOKUP(O30,Tabelas!B:D,3,0),0),\"\")","v":0},{"$f":"IF(A30<>\"\",IFERROR(VLOOKUP(P30,Tabelas!B:D,3,0),0),\"\")","v":0},{"$f":"IF(A30<>\"\",IFERROR(VLOOKUP(Q30,Tabelas!B:D,3,0),0),\"\")","v":0},{"$f":"IF(A30<>\"\",IFERROR(VLOOKUP(R30,Tabelas!B:D,3,0),0),\"\")","v":0},{"$f":"IF(A30<>\"\",IFERROR(VLOOKUP(S30,Tabelas!B:D,3,0),0),\"\")","v":0},{"$f":"IF(A30<>\"\",IFERROR(VLOOKUP(T30,Tabelas!B:D,3,0),0),\"\")","v":0},{"$f":"IF(A30<>\"\",IFERROR(VLOOKUP(U30,Tabelas!B:D,3,0),0),\"\")","v":0},{"$f":"IF(A30<>\"\",IFERROR(VLOOKUP(V30,Tabelas!B:D,3,0),0),\"\")","v":0},{"$f":"IF(A30<>\"\",IFERROR(VLOOKUP(W30,Tabelas!B:D,3,0),0),\"\")","v":0},{"$f":"IF(A30<>\"\",IFERROR(VLOOKUP(X30,Tabelas!B:D,3,0),0),\"\")","v":0},{"$f":"IF(A30<>\"\",IFERROR(VLOOKUP(Y30,Tabelas!B:D,3,0),0),\"\")","v":0},{"$f":"IF(A30<>\"\",IFERROR(VLOOKUP(Z30,Tabelas!B:D,3,0),0),\"\")","v":0},{"$f":"IF(A30<>\"\",IFERROR(VLOOKUP(AA30,Tabelas!B:D,3,0),0),\"\")","v":0},{"$f":"IF(A30<>\"\",IFERROR(VLOOKUP(AB30,Tabelas!B:D,3,0),0),\"\")","v":0},{"$f":"IF(A30<>\"\",IFERROR(VLOOKUP(AC30,Tabelas!B:D,3,0),0),\"\")","v":0},{"$f":"IF(A30<>\"\",IFERROR(VLOOKUP(AD30,Tabelas!B:D,3,0),0),\"\")","v":0},{"$f":"IF(A30<>\"\",IFERROR(VLOOKUP(AE30,Tabelas!B:D,3,0),0),\"\")","v":0},{"$f":"IF(A30<>\"\",IFERROR(VLOOKUP(AF30,Tabelas!B:D,3,0),0),\"\")","v":0},{"$f":"IF(A30<>\"\",IFERROR(VLOOKUP(AG30,Tabelas!B:D,3,0),0),\"\")","v":0},{"$f":"IF(A30<>\"\",IFERROR(VLOOKUP(AH30,Tabelas!B:D,3,0),0),\"\")","v":0},{"$f":"IF(A30<>\"\",IFERROR(VLOOKUP(AI30,Tabelas!B:D,3,0),0),\"\")","v":0},{"$f":"IF(A30<>\"\",IFERROR(VLOOKUP(AJ30,Tabelas!B:D,3,0),0),\"\")","v":0},{"$f":"IF(A30<>\"\",IFERROR(VLOOKUP(AK30,Tabelas!B:D,3,0),0),\"\")","v":0},{"$f":"IF(A30<>\"\",IFERROR(VLOOKUP(AL30,Tabelas!B:D,3,0),0),\"\")","v":0},{"$f":"IF(A30<>\"\",IFERROR(VLOOKUP(AM30,Tabelas!B:D,3,0),0),\"\")","v":0},{"$f":"IF(A30<>\"\",IFERROR(VLOOKUP(AN30,Tabelas!B:D,3,0),0),\"\")","v":0},{"$f":"IF(A30<>\"\",IFERROR(VLOOKUP(AO30,Tabelas!B:D,3,0),0),\"\")","v":0},{"$f":"IF(A30<>\"\",IFERROR(VLOOKUP(AP30,Tabelas!B:D,3,0),0),\"\")","v":0},{"$f":"IF(A30<>\"\",IFERROR(VLOOKUP(AQ30,Tabelas!B:D,3,0),0),\"\")","v":0},0,0,0,0,0,0,0,0]
["FULANO 23",23,null,null,null,null,null,null,null,null,null,null,null,null,null,null,null,null,null,null,null,null,null,null,null,null,null,null,null,null,null,null,null,null,null,null,null,null,null,null,null,null,null,{"$f":"IF(A31<>\"\",IFERROR(VLOOKUP(M31,Tabelas!B:D,3,0),0),\"\")","v":0},{"$f":"IF(A31<>\"\",IFERROR(VLOOKUP(N31,Tabelas!B:D,3,0),0),\"\")","v":0},{"$f":"IF(A31<>\"\",IFERROR(VLOOKUP(O31,Tabelas!B:D,3,0),0),\"\")","v":0},{"$f":"IF(A31<>\"\",IFERROR(VLOOKUP(P31,Tabelas!B:D,3,0),0),\"\")","v":0},{"$f":"IF(A31<>\"\",IFERROR(VLOOKUP(Q31,Tabelas!B:D,3,0),0),\"\")","v":0},{"$f":"IF(A31<>\"\",IFERROR(VLOOKUP(R31,Tabelas!B:D,3,0),0),\"\")","v":0},{"$f":"IF(A31<>\"\",IFERROR(VLOOKUP(S31,Tabelas!B:D,3,0),0),\"\")","v":0},{"$f":"IF(A31<>\"\",IFERROR(VLOOKUP(T31,Tabelas!B:D,3,0),0),\"\")","v":0},{"$f":"IF(A31<>\"\",IFERROR(VLOOKUP(U31,Tabelas!B:D,3,0),0),\"\")","v":0},{"$f":"IF(A31<>\"\",IFERROR(VLOOKUP(V31,Tabelas!B:D,3,0),0),\"\")","v":0},{"$f":"IF(A31<>\"\",IFERROR(VLOOKUP(W31,Tabelas!B:D,3,0),0),\"\")","v":0},{"$f":"IF(A31<>\"\",IFERROR(VLOOKUP(X31,Tabelas!B:D,3,0),0),\"\")","v":0},{"$f":"IF(A31<>\"\",IFERROR(VLOOKUP(Y31,Tabelas!B:D,3,0),0),\"\")","v":0},{"$f":"IF(A31<>\"\",IFERROR(VLOOKUP(Z31,Tabelas!B:D,3,0),0),\"\")","v":0},{"$f":"IF(A31<>\"\",IFERROR(VLOOKUP(AA31,Tabelas!B:D,3,0),0),\"\")","v":0},{"$f":"IF(A31<>\"\",IFERROR(VLOOKUP(AB31,Tabelas!B:D,3,0),0),\"\")","v":0},{"$f":"IF(A31<>\"\",IFERROR(VLOOKUP(AC31,Tabelas!B:D,3,0),0),\"\")","v":0},{"$f":"IF(A31<>\"\",IFERROR(VLOOKUP(AD31,Tabelas!B:D,3,0),0),\"\")","v":0},{"$f":"IF(A31<>\"\",IFERROR(VLOOKUP(AE31,Tabelas!B:D,3,0),0),\"\")","v":0},{"$f":"IF(A31<>\"\",IFERROR(VLOOKUP(AF31,Tabelas!B:D,3,0),0),\"\")","v":0},{"$f":"IF(A31<>\"\",IFERROR(VLOOKUP(AG31,Tabelas!B:D,3,0),0),\"\")","v":0},{"$f":"IF(A31<>\"\",IFERROR(VLOOKUP(AH31,Tabelas!B:D,3,0),0),\"\")","v":0},{"$f":"IF(A31<>\"\",IFERROR(VLOOKUP(AI31,Tabelas!B:D,3,0),0),\"\")","v":0},{"$f":"IF(A31<>\"\",IFERROR(VLOOKUP(AJ31,Tabelas!B:D,3,0),0),\"\")","v":0},{"$f":"IF(A31<>\"\",IFERROR(VLOOKUP(AK31,Tabelas!B:D,3,0),0),\"\")","v":0},{"$f":"IF(A31<>\"\",IFERROR(VLOOKUP(AL31,Tabelas!B:D,3,0),0),\"\")","v":0},{"$f":"IF(A31<>\"\",IFERROR(VLOOKUP(AM31,Tabelas!B:D,3,0),0),\"\")","v":0},{"$f":"IF(A31<>\"\",IFERROR(VLOOKUP(AN31,Tabelas!B:D,3,0),0),\"\")","v":0},{"$f":"IF(A31<>\"\",IFERROR(VLOOKUP(AO31,Tabelas!B:D,3,0),0),\"\")","v":0},{"$f":"IF(A31<>\"\",IFERROR(VLOOKUP(AP31,Tabelas!B:D,3,0),0),\"\")","v":0},{"$f":"IF(A31<>\"\",IFERROR(VLOOKUP(AQ31,Tabelas!B:D,3,0),0),\"\")","v":0},0,0,0,0,0,0,0,0]
["FULANO 24",24,null,null,null,null,null,null,null,null,null,null,null,null,null,null,null,null,null,null,null,null,null,null,null,null,null,null,null,null,null,null,null,null,null,null,null,null,null,null,null,null,null,{"$f":"IF(A32<>\"\",IFERROR(VLOOKUP(M32,Tabelas!B:D,3,0),0),\"\")","v":0},{"$f":"IF(A32<>\"\",IFERROR(VLOOKUP(N32,Tabelas!B:D,3,0),0),\"\")","v":0},{"$f":"IF(A32<>\"\",IFERROR(VLOOKUP(O32,Tabelas!B:D,3,0),0),\"\")","v":0},{"$f":"IF(A32<>\"\",IFERROR(VLOOKUP(P32,Tabelas!B:D,3,0),0),\"\")","v":0},{"$f":"IF(A32<>\"\",IFERROR(VLOOKUP(Q32,Tabelas!B:D,3,0),0),\"\")","v":0},{"$f":"IF(A32<>\"\",IFERROR(VLOOKUP(R32,Tabelas!B:D,3,0),0),\"\")","v":0},{"$f":"IF(A32<>\"\",IFERROR(VLOOKUP(S32,Tabelas!B:D,3,0),0),\"\")","v":0},{"$f":"IF(A32<>\"\",IFERROR(VLOOKUP(T32,Tabelas!B:D,3,0),0),\"\")","v":0},{"$f":"IF(A32<>\"\",IFERROR(VLOOKUP(U32,Tabelas!B:D,3,0),0),\"\")","v":0},{"$f":"IF(A32<>\"\",IFERROR(VLOOKUP(V32,Tabelas!B:D,3,0),0),\"\")","v":0},{"$f":"IF(A32<>\"\",IFERROR(VLOOKUP(W32,Tabelas!B:D,3,0),0),\"\")","v":0},{"$f":"IF(A32<>\"\",IFERROR(VLOOKUP(X32,Tabelas!B:D,3,0),0),\"\")","v":0},{"$f":"IF(A32<>\"\",IFERROR(VLOOKUP(Y32,Tabelas!B:D,3,0),0),\"\")","v":0},{"$f":"IF(A32<>\"\",IFERROR(VLOOKUP(Z32,Tabelas!B:D,3,0),0),\"\")","v":0},{"$f":"IF(A32<>\"\",IFERROR(VLOOKUP(AA32,Tabelas!B:D,3,0),0),\"\")","v":0},{"$f":"IF(A32<>\"\",IFERROR(VLOOKUP(AB32,Tabelas!B:D,3,0),0),\"\")","v":0},{"$f":"IF(A32<>\"\",IFERROR(VLOOKUP(AC32,Tabelas!B:D,3,0),0),\"\")","v":0},{"$f":"IF(A32<>\"\",IFERROR(VLOOKUP(AD32,Tabelas!B:D,3,0),0),\"\")","v":0},{"$f":"IF(A32<>\"\",IFERROR(VLOOKUP(AE32,Tabelas!B:D,3,0),0),\"\")","v":0},{"$f":"IF(A32<>\"\",IFERROR(VLOOKUP(AF32,Tabelas!B:D,3,0),0),\"\")","v":0},{"$f":"IF(A32<>\"\",IFERROR(VLOOKUP(AG32,Tabelas!B:D,3,0),0),\"\")","v":0},{"$f":"IF(A32<>\"\",IFERROR(VLOOKUP(AH32,Tabelas!B:D,3,0),0),\"\")","v":0},{"$f":"IF(A32<>\"\",IFERROR(VLOOKUP(AI32,Tabelas!B:D,3,0),0),\"\")","v":0},{"$f":"IF(A32<>\"\",IFERROR(VLOOKUP(AJ32,Tabelas!B:D,3,0),0),\"\")","v":0},{"$f":"IF(A32<>\"\",IFERROR(VLOOKUP(AK32,Tabelas!B:D,3,0),0),\"\")","v":0},{"$f":"IF(A32<>\"\",IFERROR(VLOOKUP(AL32,Tabelas!B:D,3,0),0),\"\")","v":0},{"$f":"IF(A32<>\"\",IFERROR(VLOOKUP(AM32,Tabelas!B:D,3,0),0),\"\")","v":0},{"$f":"IF(A32<>\"\",IFERROR(VLOOKUP(AN32,Tabelas!B:D,3,0),0),\"\")","v":0},{"$f":"IF(A32<>\"\",IFERROR(VLOOKUP(AO32,Tabelas!B:D,3,0),0),\"\")","v":0},{"$f":"IF(A32<>\"\",IFERROR(VLOOKUP(AP32,Tabelas!B:D,3,0),0),\"\")","v":0},{"$f":"IF(A32<>\"\",IFERROR(VLOOKUP(AQ32,Tabelas!B:D,3,0),0),\"\")","v":0},0,0,0,0,0,0,0,0]
["FULANO 25",25,null,null,null,null,null,null,null,null,null,null,null,null,null,null,null,null,null,null,null,null,null,null,null,null,null,null,null,null,null,null,null,null,null,null,null,null,null,null,null,null,null,{"$f":"IF(A33<>\"\",IFERROR(VLOOKUP(M33,Tabelas!B:D,3,0),0),\"\")","v":0},{"$f":"IF(A33<>\"\",IFERROR(VLOOKUP(N33,Tabelas!B:D,3,0),0),\"\")","v":0},{"$f":"IF(A33<>\"\",IFERROR(VLOOKUP(O33,Tabelas!B:D,3,0),0),\"\")","v":0},{"$f":"IF(A33<>\"\",IFERROR(VLOOKUP(P33,Tabelas!B:D,3,0),0),\"\")","v":0},{"$f":"IF(A33<>\"\",IFERROR(VLOOKUP(Q33,Tabelas!B:D,3,0),0),\"\")","v":0},{"$f":"IF(A33<>\"\",IFERROR(VLOOKUP(R33,Tabelas!B:D,3,0),0),\"\")","v":0},{"$f":"IF(A33<>\"\",IFERROR(VLOOKUP(S33,Tabelas!B:D,3,0),0),\"\")","v":0},{"$f":"IF(A33<>\"\",IFERROR(VLOOKUP(T33,Tabelas!B:D,3,0),0),\"\")","v":0},{"$f":"IF(A33<>\"\",IFERROR(VLOOKUP(U33,Tabelas!B:D,3,0),0),\"\")","v":0},{"$f":"IF(A33<>\"\",IFERROR(VLOOKUP(V33,Tabelas!B:D,3,0),0),\"\")","v":0},{"$f":"IF(A33<>\"\",IFERROR(VLOOKUP(W33,Tabelas!B:D,3,0),0),\"\")","v":0},{"$f":"IF(A33<>\"\",IFERROR(VLOOKUP(X33,Tabelas!B:D,3,0),0),\"\")","v":0},{"$f":"IF(A33<>\"\",IFERROR(VLOOKUP(Y33,Tabelas!B:D,3,0),0),\"\")","v":0},{"$f":"IF(A33<>\"\",IFERROR(VLOOKUP(Z33,Tabelas!B:D,3,0),0),\"\")","v":0},{"$f":"IF(A33<>\"\",IFERROR(VLOOKUP(AA33,Tabelas!B:D,3,0),0),\"\")","v":0},{"$f":"IF(A33<>\"\",IFERROR(VLOOKUP(AB33,Tabelas!B:D,3,0),0),\"\")","v":0},{"$f":"IF(A33<>\"\",IFERROR(VLOOKUP(AC33,Tabelas!B:D,3,0),0),\"\")","v":0},{"$f":"IF(A33<>\"\",IFERROR(VLOOKUP(AD33,Tabelas!B:D,3,0),0),\"\")","v":0},{"$f":"IF(A33<>\"\",IFERROR(VLOOKUP(AE33,Tabelas!B:D,3,0),0),\"\")","v":0},{"$f":"IF(A33<>\"\",IFERROR(VLOOKUP(AF33,Tabelas!B:D,3,0),0),\"\")","v":0},{"$f":"IF(A33<>\"\",IFERROR(VLOOKUP(AG33,Tabelas!B:D,3,0),0),\"\")","v":0},{"$f":"IF(A33<>\"\",IFERROR(VLOOKUP(AH33,Tabelas!B:D,3,0),0),\"\")","v":0},{"$f":"IF(A33<>\"\",IFERROR(VLOOKUP(AI33,Tabelas!B:D,3,0),0),\"\")","v":0},{"$f":"IF(A33<>\"\",IFERROR(VLOOKUP(AJ33,Tabelas!B:D,3,0),0),\"\")","v":0},{"$f":"IF(A33<>\"\",IFERROR(VLOOKUP(AK33,Tabelas!B:D,3,0),0),\"\")","v":0},{"$f":"IF(A33<>\"\",IFERROR(VLOOKUP(AL33,Tabelas!B:D,3,0),0),\"\")","v":0},{"$f":"IF(A33<>\"\",IFERROR(VLOOKUP(AM33,Tabelas!B:D,3,0),0),\"\")","v":0},{"$f":"IF(A33<>\"\",IFERROR(VLOOKUP(AN33,Tabelas!B:D,3,0),0),\"\")","v":0},{"$f":"IF(A33<>\"\",IFERROR(VLOOKUP(AO33,Tabelas!B:D,3,0),0),\"\")","v":0},{"$f":"IF(A33<>\"\",IFERROR(VLOOKUP(AP33,Tabelas!B:D,3,0),0),\"\")","v":0},{"$f":"IF(A33<>\"\",IFERROR(VLOOKUP(AQ33,Tabelas!B:D,3,0),0),\"\")","v":0},0,0,0,0,0,0,0,0]
["FULANO 26",26,null,null,null,null,null,null,null,null,null,null,null,null,null,null,null,null,null,null,null,null,null,null,null,null,null,null,null,null,null,null,null,null,null,null,null,null,null,null,null,null,null,{"$f":"IF(A34<>\"\",IFERROR(VLOOKUP(M34,Tabelas!B:D,3,0),0),\"\")","v":0},{"$f":"IF(A34<>\"\",IFERROR(VLOOKUP(N34,Tabelas!B:D,3,0),0),\"\")","v":0},{"$f":"IF(A34<>\"\",IFERROR(VLOOKUP(O34,Tabelas!B:D,3,0),0),\"\")","v":0},{"$f":"IF(A34<>\"\",IFERROR(VLOOKUP(P34,Tabelas!B:D,3,0),0),\"\")","v":0},{"$f":"IF(A34<>\"\",IFERROR(VLOOKUP(Q34,Tabelas!B:D,3,0),0),\"\")","v":0},{"$f":"IF(A34<>\"\",IFERROR(VLOOKUP(R34,Tabelas!B:D,3,0),0),\"\")","v":0},{"$f":"IF(A34<>\"\",IFERROR(VLOOKUP(S34,Tabelas!B:D,3,0),0),\"\")","v":0},{"$f":"IF(A34<>\"\",IFERROR(VLOOKUP(T34,Tabelas!B:D,3,0),0),\"\")","v":0},{"$f":"IF(A34<>\"\",IFERROR(VLOOKUP(U34,Tabelas!B:D,3,0),0),\"\")","v":0},{"$f":"IF(A34<>\"\",IFERROR(VLOOKUP(V34,Tabelas!B:D,3,0),0),\"\")","v":0},{"$f":"IF(A34<>\"\",IFERROR(VLOOKUP(W34,Tabelas!B:D,3,0),0),\"\")","v":0},{"$f":"IF(A34<>\"\",IFERROR(VLOOKUP(X34,Tabelas!B:D,3,0),0),\"\")","v":0},{"$f":"IF(A34<>\"\",IFERROR(VLOOKUP(Y34,Tabelas!B:D,3,0),0),\"\")","v":0},{"$f":"IF(A34<>\"\",IFERROR(VLOOKUP(Z34,Tabelas!B:D,3,0),0),\"\")","v":0},{"$f":"IF(A34<>\"\",IFERROR(VLOOKUP(AA34,Tabelas!B:D,3,0),0),\"\")","v":0},{"$f":"IF(A34<>\"\",IFERROR(VLOOKUP(AB34,Tabelas!B:D,3,0),0),\"\")","v":0},{"$f":"IF(A34<>\"\",IFERROR(VLOOKUP(AC34,Tabelas!B:D,3,0),0),\"\")","v":0},{"$f":"IF(A34<>\"\",IFERROR(VLOOKUP(AD34,Tabelas!B:D,3,0),0),\"\")","v":0},{"$f":"IF(A34<>\"\",IFERROR(VLOOKUP(AE34,Tabelas!B:D,3,0),0),\"\")","v":0},{"$f":"IF(A34<>\"\",IFERROR(VLOOKUP(AF34,Tabelas!B:D,3,0),0),\"\")","v":0},{"$f":"IF(A34<>\"\",IFERROR(VLOOKUP(AG34,Tabelas!B:D,3,0),0),\"\")","v":0},{"$f":"IF(A34<>\"\",IFERROR(VLOOKUP(AH34,Tabelas!B:D,3,0),0),\"\")","v":0},{"$f":"IF(A34<>\"\",IFERROR(VLOOKUP(AI34,Tabelas!B:D,3,0),0),\"\")","v":0},{"$f":"IF(A34<>\"\",IFERROR(VLOOKUP(AJ34,Tabelas!B:D,3,0),0),\"\")","v":0},{"$f":"IF(A34<>\"\",IFERROR(VLOOKUP(AK34,Tabelas!B:D,3,0),0),\"\")","v":0},{"$f":"IF(A34<>\"\",IFERROR(VLOOKUP(AL34,Tabelas!B:D,3,0),0),\"\")","v":0},{"$f":"IF(A34<>\"\",IFERROR(VLOOKUP(AM34,Tabelas!B:D,3,0),0),\"\")","v":0},{"$f":"IF(A34<>\"\",IFERROR(VLOOKUP(AN34,Tabelas!B:D,3,0),0),\"\")","v":0},{"$f":"IF(A34<>\"\",IFERROR(VLOOKUP(AO34,Tabelas!B:D,3,0),0),\"\")","v":0},{"$f":"IF(A34<>\"\",IFERROR(VLOOKUP(AP34,Tabelas!B:D,3,0),0),\"\")","v":0},{"$f":"IF(A34<>\"\",IFERROR(VLOOKUP(AQ34,Tabelas!B:D,3,0),0),\"\")","v":0},0,0,0,0,0,0,0,0]
["FULANO 27",27,null,null,null,null,null,null,null,null,null,null,null,null,null,null,null,null,null,null,null,null,null,null,null,null,null,null,null,null,null,null,null,null,null,null,null,null,null,null,null,null,null,{"$f":"IF(A35<>\"\",IFERROR(VLOOKUP(M35,Tabelas!B:D,3,0),0),\"\")","v":0},{"$f":"IF(A35<>\"\",IFERROR(VLOOKUP(N35,Tabelas!B:D,3,0),0),\"\")","v":0},{"$f":"IF(A35<>\"\",IFERROR(VLOOKUP(O35,Tabelas!B:D,3,0),0),\"\")","v":0},{"$f":"IF(A35<>\"\",IFERROR(VLOOKUP(P35,Tabelas!B:D,3,0),0),\"\")","v":0},{"$f":"IF(A35<>\"\",IFERROR(VLOOKUP(Q35,Tabelas!B:D,3,0),0),\"\")","v":0},{"$f":"IF(A35<>\"\",IFERROR(VLOOKUP(R35,Tabelas!B:D,3,0),0),\"\")","v":0},{"$f":"IF(A35<>\"\",IFERROR(VLOOKUP(S35,Tabelas!B:D,3,0),0),\"\")","v":0},{"$f":"IF(A35<>\"\",IFERROR(VLOOKUP(T35,Tabelas!B:D,3,0),0),\"\")","v":0},{"$f":"IF(A35<>\"\",IFERROR(VLOOKUP(U35,Tabelas!B:D,3,0),0),\"\")","v":0},{"$f":"IF(A35<>\"\",IFERROR(VLOOKUP(V35,Tabelas!B:D,3,0),0),\"\")","v":0},{"$f":"IF(A35<>\"\",IFERROR(VLOOKUP(W35,Tabelas!B:D,3,0),0),\"\")","v":0},{"$f":"IF(A35<>\"\",IFERROR(VLOOKUP(X35,Tabelas!B:D,3,0),0),\"\")","v":0},{"$f":"IF(A35<>\"\",IFERROR(VLOOKUP(Y35,Tabelas!B:D,3,0),0),\"\")","v":0},{"$f":"IF(A35<>\"\",IFERROR(VLOOKUP(Z35,Tabelas!B:D,3,0),0),\"\")","v":0},{"$f":"IF(A35<>\"\",IFERROR(VLOOKUP(AA35,Tabelas!B:D,3,0),0),\"\")","v":0},{"$f":"IF(A35<>\"\",IFERROR(VLOOKUP(AB35,Tabelas!B:D,3,0),0),\"\")","v":0},{"$f":"IF(A35<>\"\",IFERROR(VLOOKUP(AC35,Tabelas!B:D,3,0),0),\"\")","v":0},{"$f":"IF(A35<>\"\",IFERROR(VLOOKUP(AD35,Tabelas!B:D,3,0),0),\"\")","v":0},{"$f":"IF(A35<>\"\",IFERROR(VLOOKUP(AE35,Tabelas!B:D,3,0),0),\"\")","v":0},{"$f":"IF(A35<>\"\",IFERROR(VLOOKUP(AF35,Tabelas!B:D,3,0),0),\"\")","v":0},{"$f":"IF(A35<>\"\",IFERROR(VLOOKUP(AG35,Tabelas!B:D,3,0),0),\"\")","v":0},{"$f":"IF(A35<>\"\",IFERROR(VLOOKUP(AH35,Tabelas!B:D,3,0),0),\"\")","v":0},{"$f":"IF(A35<>\"\",IFERROR(VLOOKUP(AI35,Tabelas!B:D,3,0),0),\"\")","v":0},{"$f":"IF(A35<>\"\",IFERROR(VLOOKUP(AJ35,Tabelas!B:D,3,0),0),\"\")","v":0},{"$f":"IF(A35<>\"\",IFERROR(VLOOKUP(AK35,Tabelas!B:D,3,0),0),\"\")","v":0},{"$f":"IF(A35<>\"\",IFERROR(VLOOKUP(AL35,Tabelas!B:D,3,0),0),\"\")","v":0},{"$f":"IF(A35<>\"\",IFERROR(VLOOKUP(AM35,Tabelas!B:D,3,0),0),\"\")","v":0},{"$f":"IF(A35<>\"\",IFERROR(VLOOKUP(AN35,Tabelas!B:D,3,0),0),\"\")","v":0},{"$f":"IF(A35<>\"\",IFERROR(VLOOKUP(AO35,Tabelas!B:D,3,0),0),\"\")","v":0},{"$f":"IF(A35<>\"\",IFERROR(VLOOKUP(AP35,Tabelas!B:D,3,0),0),\"\")","v":0},{"$f":"IF(A35<>\"\",IFERROR(VLOOKUP(AQ35,Tabelas!B:D,3,0),0),\"\")","v":0},0,0,0,0,0,0,0,0]
["TOTAL PROFISSIONAIS MATUTINO",null,null,null,null,null,null,null,null,null,null,null,{"$f":"IF(COUNTIF(M9:M35,\"M*\")+ COUNTIF(M9:M35, \"D*\")-COUNTIF(M9:M35,\"DSR\")<>0,COUNTIF(M9:M35,\"M*\")+ COUNTIF(M9:M35, \"D*\")-COUNTIF(M9:M35,\"DSR\"),\"\")","v":""},"","","","","","","","","","","","","","","","","","","","","","","","","","","","","","",null,null,null,null,null,null,null,null,null,null,null,null,null,null,null,null,null,null,null,null,null,null,null,null,null,null,null,null,null,null,null,{"$f":"SUM(BW9:BW35)","v":0},0,0,0,0,0,0,0]
["TOTAL DE PROFISSIONAIS VESPERTINO",null,null,null,null,null,null,null,null,null,null,null,{"$f":"IF(COUNTIF(M9:M35,\"MT*\") + COUNTIF(M9:M35, \"D*\") + COUNTIF(M9:M35,\"T*\")-COUNTIF(M9:M35,\"DSR\")<>0,COUNTIF(M9:M35,\"MT*\") + COUNTIF(M9:M35, \"D*\") + COUNTIF(M9:M35,\"T*\")-COUNTIF(M9:M35,\"DSR\"),\"\")","v":""},"","","","","","","","","","","","","","","","","","","","","","","","","","","","","","",{"$f":"IF(A37<>\"\",IFERROR(VLOOKUP(M37,Tabelas!B:D,3,0),0),\"\")","v":0},{"$f":"IF(A37<>\"\",IFERROR(VLOOKUP(N37,Tabelas!B:D,3,0),0),\"\")","v":0},{"$f":"IF(A37<>\"\",IFERROR(VLOOKUP(O37,Tabelas!B:D,3,0),0),\"\")","v":0},{"$f":"IF(A37<>\"\",IFERROR(VLOOKUP(P37,Tabelas!B:D,3,0),0),\"\")","v":0},{"$f":"IF(A37<>\"\",IFERROR(VLOOKUP(Q37,Tabelas!B:D,3,0),0),\"\")","v":0},{"$f":"IF(A37<>\"\",IFERROR(VLOOKUP(R37,Tabelas!B:D,3,0),0),\"\")","v":0},{"$f":"IF(A37<>\"\",IFERROR(VLOOKUP(S37,Tabelas!B:D,3,0),0),\"\")","v":0},{"$f":"IF(A37<>\"\",IFERROR(VLOOKUP(T37,Tabelas!B:D,3,0),0),\"\")","v":0},{"$f":"IF(A37<>\"\",IFERROR(VLOOKUP(U37,Tabelas!B:D,3,0),0),\"\")","v":0},{"$f":"IF(A37<>\"\",IFERROR(VLOOKUP(V37,Tabelas!B:D,3,0),0),\"\")","v":0},{"$f":"IF(A37<>\"\",IFERROR(VLOOKUP(W37,Tabelas!B:D,3,0),0),\"\")","v":0},{"$f":"IF(A37<>\"\",IFERROR(VLOOKUP(X37,Tabelas!B:D,3,0),0),\"\")","v":0},{"$f":"IF(A37<>\"\",IFERROR(VLOOKUP(Y37,Tabelas!B:D,3,0),0),\"\")","v":0},{"$f":"IF(A37<>\"\",IFERROR(VLOOKUP(Z37,Tabelas!B:D,3,0),0),\"\")","v":0},{"$f":"IF(A37<>\"\",IFERROR(VLOOKUP(AA37,Tabelas!B:D,3,0),0),\"\")","v":0},{"$f":"IF(A37<>\"\",IFERROR(VLOOKUP(AB37,Tabelas!B:D,3,0),0),\"\")","v":0},{"$f":"IF(A37<>\"\",IFERROR(VLOOKUP(AC37,Tabelas!B:D,3,0),0),\"\")","v":0},{"$f":"IF(A37<>\"\",IFERROR(VLOOKUP(AD37,Tabelas!B:D,3,0),0),\"\")","v":0},{"$f":"IF(A37<>\"\",IFERROR(VLOOKUP(AE37,Tabelas!B:D,3,0),0),\"\")","v":0},{"$f":"IF(A37<>\"\",IFERROR(VLOOKUP(AF37,Tabelas!B:D,3,0),0),\"\")","v":0},{"$f":"IF(A37<>\"\",IFERROR(VLOOKUP(AG37,Tabelas!B:D,3,0),0),\"\")","v":0},{"$f":"IF(A37<>\"\",IFERROR(VLOOKUP(AH37,Tabelas!B:D,3,0),0),\"\")","v":0},{"$f":"IF(A37<>\"\",IFERROR(VLOOKUP(AI37,Tabelas!B:D,3,0),0),\"\")","v":0},{"$f":"IF(A37<>\"\",IFERROR(VLOOKUP(AJ37,Tabelas!B:D,3,0),0),\"\")","v":0},{"$f":"IF(A37<>\"\",IFERROR(VLOOKUP(AK37,Tabelas!B:D,3,0),0),\"\")","v":0},{"$f":"IF(A37<>\"\",IFERROR(VLOOKUP(AL37,Tabelas!B:D,3,0),0),\"\")","v":0},{"$f":"IF(A37<>\"\",IFERROR(VLOOKUP(AM37,Tabelas!B:D,3,0),0),\"\")","v":0},{"$f":"IF(A37<>\"\",IFERROR(VLOOKUP(AN37,Tabelas!B:D,3,0),0),\"\")","v":0},{"$f":"IF(A37<>\"\",IFERROR(VLOOKUP(AO37,Tabelas!B:D,3,0),0),\"\")","v":0},{"$f":"IF(A37<>\"\",IFERROR(VLOOKUP(AP37,Tabelas!B:D,3,0),0),\"\")","v":0},{"$f":"IF(A37<>\"\",IFERROR(VLOOKUP(AQ37,Tabelas!B:D,3,0),0),\"\")","v":0}]
["TOTAL DE PROFISSIONAIS NOTURNO",null,null,null,null,null,null,null,null,null,null,null,{"$f":"IF(COUNTIF(M9:M37,\"N?*\") + COUNTIF(M9:M37, \"DN*\")<>0,COUNTIF(M9:M37,\"N?*\") + COUNTIF(M9:M37, \"DN*\"),\"\")","v":""},"","","","","","","","","","","","","","","","","","","","","","","","","","","","","","",{"$f":"IF(A38<>\"\",IFERROR(VLOOKUP(M38,Tabelas!B:D,3,0),0),\"\")","v":0},{"$f":"IF(A38<>\"\",IFERROR(VLOOKUP(N38,Tabelas!B:D,3,0),0),\"\")","v":0},{"$f":"IF(A38<>\"\",IFERROR(VLOOKUP(O38,Tabelas!B:D,3,0),0),\"\")","v":0},{"$f":"IF(A38<>\"\",IFERROR(VLOOKUP(P38,Tabelas!B:D,3,0),0),\"\")","v":0},{"$f":"IF(A38<>\"\",IFERROR(VLOOKUP(Q38,Tabelas!B:D,3,0),0),\"\")","v":0},{"$f":"IF(A38<>\"\",IFERROR(VLOOKUP(R38,Tabelas!B:D,3,0),0),\"\")","v":0},{"$f":"IF(A38<>\"\",IFERROR(VLOOKUP(S38,Tabelas!B:D,3,0),0),\"\")","v":0},{"$f":"IF(A38<>\"\",IFERROR(VLOOKUP(T38,Tabelas!B:D,3,0),0),\"\")","v":0},{"$f":"IF(A38<>\"\",IFERROR(VLOOKUP(U38,Tabelas!B:D,3,0),0),\"\")","v":0},{"$f":"IF(A38<>\"\",IFERROR(VLOOKUP(V38,Tabelas!B:D,3,0),0),\"\")","v":0},{"$f":"IF(A38<>\"\",IFERROR(VLOOKUP(W38,Tabelas!B:D,3,0),0),\"\")","v":0},{"$f":"IF(A38<>\"\",IFERROR(VLOOKUP(X38,Tabelas!B:D,3,0),0),\"\")","v":0},{"$f":"IF(A38<>\"\",IFERROR(VLOOKUP(Y38,Tabelas!B:D,3,0),0),\"\")","v":0},{"$f":"IF(A38<>\"\",IFERROR(VLOOKUP(Z38,Tabelas!B:D,3,0),0),\"\")","v":0},{"$f":"IF(A38<>\"\",IFERROR(VLOOKUP(AA38,Tabelas!B:D,3,0),0),\"\")","v":0},{"$f":"IF(A38<>\"\",IFERROR(VLOOKUP(AB38,Tabelas!B:D,3,0),0),\"\")","v":0},{"$f":"IF(A38<>\"\",IFERROR(VLOOKUP(AC38,Tabelas!B:D,3,0),0),\"\")","v":0},{"$f":"IF(A38<>\"\",IFERROR(VLOOKUP(AD38,Tabelas!B:D,3,0),0),\"\")","v":0},{"$f":"IF(A38<>\"\",IFERROR(VLOOKUP(AE38,Tabelas!B:D,3,0),0),\"\")","v":0},{"$f":"IF(A38<>\"\",IFERROR(VLOOKUP(AF38,Tabelas!B:D,3,0),0),\"\")","v":0},{"$f":"IF(A38<>\"\",IFERROR(VLOOKUP(AG38,Tabelas!B:D,3,0),0),\"\")","v":0},{"$f":"IF(A38<>\"\",IFERROR(VLOOKUP(AH38,Tabelas!B:D,3,0),0),\"\")","v":0},{"$f":"IF(A38<>\"\",IFERROR(VLOOKUP(AI38,Tabelas!B:D,3,0),0),\"\")","v":0},{"$f":"IF(A38<>\"\",IFERROR(VLOOKUP(AJ38,Tabelas!B:D,3,0),0),\"\")","v":0},{"$f":"IF(A38<>\"\",IFERROR(VLOOKUP(AK38,Tabelas!B:D,3,0),0),\"\")","v":0},{"$f":"IF(A38<>\"\",IFERROR(VLOOKUP(AL38,Tabelas!B:D,3,0),0),\"\")","v":0},{"$f":"IF(A38<>\"\",IFERROR(VLOOKUP(AM38,Tabelas!B:D,3,0),0),\"\")","v":0},{"$f":"IF(A38<>\"\",IFERROR(VLOOKUP(AN38,Tabelas!B:D,3,0),0),\"\")","v":0},{"$f":"IF(A38<>\"\",IFERROR(VLOOKUP(AO38,Tabelas!B:D,3,0),0),\"\")","v":0},{"$f":"IF(A38<>\"\",IFERROR(VLOOKUP(AP38,Tabelas!B:D,3,0),0),\"\")","v":0},{"$f":"IF(A38<>\"\",IFERROR(VLOOKUP(AQ38,Tabelas!B:D,3,0),0),\"\")","v":0}]
[null,null,null,null,null,null,null,null,null,null,null,null,null,null,null,null,null,null,null,null,null,null,null,null,null,null,null,null,null,null,null,null,null,null,null,null,null,null,null,null,null,null,null,{"$f":"IF(A39<>\"\",IFERROR(VLOOKUP(M39,Tabelas!B:D,3,0),0),\"\")","v":""},{"$f":"IF(A39<>\"\",IFERROR(VLOOKUP(N39,Tabelas!B:D,3,0),0),\"\")","v":""},{"$f":"IF(A39<>\"\",IFERROR(VLOOKUP(O39,Tabelas!B:D,3,0),0),\"\")","v":""},{"$f":"IF(A39<>\"\",IFERROR(VLOOKUP(P39,Tabelas!B:D,3,0),0),\"\")","v":""},{"$f":"IF(A39<>\"\",IFERROR(VLOOKUP(Q39,Tabelas!B:D,3,0),0),\"\")","v":""},{"$f":"IF(A39<>\"\",IFERROR(VLOOKUP(R39,Tabelas!B:D,3,0),0),\"\")","v":""},{"$f":"IF(A39<>\"\",IFERROR(VLOOKUP(S39,Tabelas!B:D,3,0),0),\"\")","v":""},{"$f":"IF(A39<>\"\",IFERROR(VLOOKUP(T39,Tabelas!B:D,3,0),0),\"\")","v":""},{"$f":"IF(A39<>\"\",IFERROR(VLOOKUP(U39,Tabelas!B:D,3,0),0),\"\")","v":""},{"$f":"IF(A39<>\"\",IFERROR(VLOOKUP(V39,Tabelas!B:D,3,0),0),\"\")","v":""},{"$f":"IF(A39<>\"\",IFERROR(VLOOKUP(W39,Tabelas!B:D,3,0),0),\"\")","v":""},{"$f":"IF(A39<>\"\",IFERROR(VLOOKUP(X39,Tabelas!B:D,3,0),0),\"\")","v":""},{"$f":"IF(A39<>\"\",IFERROR(VLOOKUP(Y39,Tabelas!B:D,3,0),0),\"\")","v":""},{"$f":"IF(A39<>\"\",IFERROR(VLOOKUP(Z39,Tabelas!B:D,3,0),0),\"\")","v":""},{"$f":"IF(A39<>\"\",IFERROR(VLOOKUP(AA39,Tabelas!B:D,3,0),0),\"\")","v":""},{"$f":"IF(A39<>\"\",IFERROR(VLOOKUP(AB39,Tabelas!B:D,3,0),0),\"\")","v":""},{"$f":"IF(A39<>\"\",IFERROR(VLOOKUP(AC39,Tabelas!B:D,3,0),0),\"\")","v":""},{"$f":"IF(A39<>\"\",IFERROR(VLOOKUP(AD39,Tabelas!B:D,3,0),0),\"\")","v":""},{"$f":"IF(A39<>\"\",IFERROR(VLOOKUP(AE39,Tabelas!B:D,3,0),0),\"\")","v":""},{"$f":"IF(A39<>\"\",IFERROR(VLOOKUP(AF39,Tabelas!B:D,3,0),0),\"\")","v":""},{"$f":"IF(A39<>\"\",IFERROR(VLOOKUP(AG39,Tabelas!B:D,3,0),0),\"\")","v":""},{"$f":"IF(A39<>\"\",IFERROR(VLOOKUP(AH39,Tabelas!B:D,3,0),0),\"\")","v":""},{"$f":"IF(A39<>\"\",IFERROR(VLOOKUP(AI39,Tabelas!B:D,3,0),0),\"\")","v":""},{"$f":"IF(A39<>\"\",IFERROR(VLOOKUP(AJ39,Tabelas!B:D,3,0),0),\"\")","v":""},{"$f":"IF(A39<>\"\",IFERROR(VLOOKUP(AK39,Tabelas!B:D,3,0),0),\"\")","v":""},{"$f":"IF(A39<>\"\",IFERROR(VLOOKUP(AL39,Tabelas!B:D,3,0),0),\"\")","v":""},{"$f":"IF(A39<>\"\",IFERROR(VLOOKUP(AM39,Tabelas!B:D,3,0),0),\"\")","v":""},{"$f":"IF(A39<>\"\",IFERROR(VLOOKUP(AN39,Tabelas!B:D,3,0),0),\"\")","v":""},{"$f":"IF(A39<>\"\",IFERROR(VLOOKUP(AO39,Tabelas!B:D,3,0),0),\"\")","v":""},{"$f":"IF(A39<>\"\",IFERROR(VLOOKUP(AP39,Tabelas!B:D,3,0),0),\"\")","v":""},{"$f":"IF(A39<>\"\",IFERROR(VLOOKUP(AQ39,Tabelas!B:D,3,0),0),\"\")","v":""}]
["Legenda:"]
["Licença Maternidade","LM","Férias",null,null,null,null,null,null,"FE",null,"Ponto Facultativo",null,null,null,null,null,null,null,"PF","Manhã *",null,null,null,null,null,null,"M","Diurno (8 hrs) *",null,null,null,null,null,null,"MT"]
["Licença Paternidade","LP","Feriado",null,null,null,null,null,null,"FD",null,"Abono **",null,null,null,null,null,null,null,"AB","Tarde *",null,null,null,null,null,null,"T","Dia/ noite (24 hrs) *",null,null,null,null,null,null,"DN"]
["Licença Médica/Odontológica","L","Descanso Semanal Remunerado",null,null,null,null,null,null,"DSR",null,"Compensação de Horas***",null,null,null,null,null,null,null,"CH","Plantão Dia (12 hrs) *",null,null,null,null,null,null,"D"]
["Licença Capacitação","LC","Recesso",null,null,null,null,null,null,"RC",null,"Afastamento**",null,null,null,null,null,null,null,"AF","Plantão Noite (12 hrs) *",null,null,null,null,null,null,"N"]
[]
["OBSERVAÇÕES:"]
["* Para inserção das legendas referentes às jornadas de trabalho, verificar a Tabela 1 do Anexo do Memorando-Circular - SEI nº   25 /2018/CAP/DGP-EBSERH."]
["** Para inserção das legendas referentes aos Afastamentos previstos em lei e às Compensações de horas, verificar a Tabela 2 do Anexo do Memorando-Circular - SEI nº   25 /2018/CAP/DGP-EBSERH."]

{"sheet":"Novembro","index":10,"n_rows":48,"n_cols":82,"rows_kept":48,"cut":false,"hidden":false,"merged":[[40,20,40,26],[41,2,41,8],[41,9,41,10],[41,11,41,18],[41,20,41,26],[40,2,40,8],[40,9,40,10],[42,20,42,26],[43,2,43,8],[43,9,43,10],[43,11,43,18],[43,20,43,26],[35,0,35,11],[36,0,36,11],[37,0,37,11],[42,2,42,8],[42,9,42,10],[42,11,42,18],[40,11,40,18],[1,0,1,42],[2,0,2,42],[3,0,3,42],[4,1,4,20],[4,23,4,34],[4,37,4,42],[5,6,5,11],[6,76,7,76],[6,77,7,77],[6,78,7,78],[6,79,7,79],[6,6,7,6],[6,7,7,7],[6,8,7,8],[6,11,7,11],[6,9,7,9],[6,10,7,10],[6,80,7,80],[6,81,7,81],[5,12,5,42],[5,43,5,73],[5,75,5,81],[5,74,7,74],[6,75,7,75],[35,79,37,79],[35,80,37,80],[35,81,37,81],[40,28,40,34],[41,28,41,34],[35,74,37,74],[35,75,37,75],[35,76,37,76],[35,77,37,77],[35,78,37,78]]}
[]
[]
["NOME DO HU"]
["ESCALA MENSAL DE TRABALHO"]
["DIVISÃO /SETOR/UNIDADE:",null,null,null,null,null,null,null,null,null,null,null,null,null,null,null,null,null,null,null,null,"MÊS:",null,"Novembro",null,null,null,null,null,null,null,null,null,null,null,"ANO:",null,2019]
["NOME COMPLETO","SIAPE","     Registro Conselho Classe","Cargo","Vínculo","    C.H Sem","INTERVALO",null,null,null,null,null,"DIAS DO MÊS",null,null,null,null,null,null,null,null,null,null,null,null,null,null,null,null,null,null,null,null,null,null,null,null,null,null,null,null,null,null,"CÁLCULO DAS HORAS",null,null,null,null,null,null,null,null,null,null,null,null,null,null,null,null,null,null,null,null,null,null,null,null,null,null,null,null,null,null,"CH Men.","Dias"]
[null,null,null,null,null,null,"15' M","15' T","15' N","1H D","1H N","2H",1,2,3,4,5,6,7,8,9,10,11,12,13,14,15,16,17,18,19,20,21,22,23,24,25,{"$f":"IF(DAY(DATE(AL5,VLOOKUP(X5,Tabelas!M:N,2,0)+1,1)-1)>=26,26,\"\")","v":26},{"$f":"IF(DAY(DATE(AL5,VLOOKUP(X5,Tabelas!M:N,2,0)+1,1)-1)>=27,27,\"\")","v":27},{"$f":"IF(DAY(DATE(AL5,VLOOKUP(X5,Tabelas!M:N,2,0)+1,1)-1)>=28,28,\"\")","v":28},{"$f":"IF(DAY(DATE(AL5,VLOOKUP(X5,Tabelas!M:N,2,0)+1,1)-1)>=29,29,\"\")","v":29},{"$f":"IF(DAY(DATE(AL5,VLOOKUP(X5,Tabelas!M:N,2,0)+1,1)-1)>=30,30,\"\")","v":30},{"$f":"IF(DAY(DATE(AL5,VLOOKUP(X5,Tabelas!M:N,2,0)+1,1)-1)>=31,31,\"\")","v":""},null,null,null,null,null,null,null,null,null,null,null,null,null,null,null,null,null,null,null,null,null,null,null,null,null,null,null,null,null,null,null,null,"LM/LP/L","AB","FE","LC","CH","AF  "," Total Afast."]
[null,null,null,null,null,null,null,null,null,null,null,null,{"$f":"IF(M7<>\"\",IFERROR(VLOOKUP(WEEKDAY(CONCATENATE(M7,$X$5,$AL$5)),Tabelas!$I:$J,2,0),\"\"),\"\")","v":"SEX"},{"$f":"IF(N7<>\"\",IFERROR(VLOOKUP(WEEKDAY(CONCATENATE(N7,$X$5,$AL$5)),Tabelas!$I:$J,2,0),\"\"),\"\")","v":"SAB"},{"$f":"IF(O7<>\"\",IFERROR(VLOOKUP(WEEKDAY(CONCATENATE(O7,$X$5,$AL$5)),Tabelas!$I:$J,2,0),\"\"),\"\")","v":"DOM"},{"$f":"IF(P7<>\"\",IFERROR(VLOOKUP(WEEKDAY(CONCATENATE(P7,$X$5,$AL$5)),Tabelas!$I:$J,2,0),\"\"),\"\")","v":"SEG"},{"$f":"IF(Q7<>\"\",IFERROR(VLOOKUP(WEEKDAY(CONCATENATE(Q7,$X$5,$AL$5)),Tabelas!$I:$J,2,0),\"\"),\"\")","v":"TER"},{"$f":"IF(R7<>\"\",IFERROR(VLOOKUP(WEEKDAY(CONCATENATE(R7,$X$5,$AL$5)),Tabelas!$I:$J,2,0),\"\"),\"\")","v":"QUA"},{"$f":"IF(S7<>\"\",IFERROR(VLOOKUP(WEEKDAY(CONCATENATE(S7,$X$5,$AL$5)),Tabelas!$I:$J,2,0),\"\"),\"\")","v":"QUI"},{"$f":"IF(T7<>\"\",IFERROR(VLOOKUP(WEEKDAY(CONCATENATE(T7,$X$5,$AL$5)),Tabelas!$I:$J,2,0),\"\"),\"\")","v":"SEX"},{"$f":"IF(U7<>\"\",IFERROR(VLOOKUP(WEEKDAY(CONCATENATE(U7,$X$5,$AL$5)),Tabelas!$I:$J,2,0),\"\"),\"\")","v":"SAB"},{"$f":"IF(V7<>\"\",IFERROR(VLOOKUP(WEEKDAY(CONCATENATE(V7,$X$5,$AL$5)),Tabelas!$I:$J,2,0),\"\"),\"\")","v":"DOM"},{"$f":"IF(W7<>\"\",IFERROR(VLOOKUP(WEEKDAY(CONCATENATE(W7,$X$5,$AL$5)),Tabelas!$I:$J,2,0),\"\"),\"\")","v":"SEG"},{"$f":"IF(X7<>\"\",IFERROR(VLOOKUP(WEEKDAY(CONCATENATE(X7,$X$5,$AL$5)),Tabelas!$I:$J,2,0),\"\"),\"\")","v":"TER"},{"$f":"IF(Y7<>\"\",IFERROR(VLOOKUP(WEEKDAY(CONCATENATE(Y7,$X$5,$AL$5)),Tabelas!$I:$J,2,0),\"\"),\"\")","v":"QUA"},{"$f":"IF(Z7<>\"\",IFERROR(VLOOKUP(WEEKDAY(CONCATENATE(Z7,$X$5,$AL$5)),Tabelas!$I:$J,2,0),\"\"),\"\")","v":"QUI"},{"$f":"IF(AA7<>\"\",IFERROR(VLOOKUP(WEEKDAY(CONCATENATE(AA7,$X$5,$AL$5)),Tabelas!$I:$J,2,0),\"\"),\"\")","v":"SEX"},{"$f":"IF(AB7<>\"\",IFERROR(VLOOKUP(WEEKDAY(CONCATENATE(AB7,$X$5,$AL$5)),Tabelas!$I:$J,2,0),\"\"),\"\")","v":"SAB"},{"$f":"IF(AC7<>\"\",IFERROR(VLOOKUP(WEEKDAY(CONCATENATE(AC7,$X$5,$AL$5)),Tabelas!$I:$J,2,0),\"\"),\"\")","v":"DOM"},{"$f":"IF(AD7<>\"\",IFERROR(VLOOKUP(WEEKDAY(CONCATENATE(AD7,$X$5,$AL$5)),Tabelas!$I:$J,2,0),\"\"),\"\")","v":"SEG"},{"$f":"IF(AE7<>\"\",IFERROR(VLOOKUP(WEEKDAY(CONCATENATE(AE7,$X$5,$AL$5)),Tabelas!$I:$J,2,0),\"\"),\"\")","v":"TER"},{"$f":"IF(AF7<>\"\",IFERROR(VLOOKUP(WEEKDAY(CONCATENATE(AF7,$X$5,$AL$5)),Tabelas!$I:$J,2,0),\"\"),\"\")","v":"QUA"},{"$f":"IF(AG7<>\"\",IFERROR(VLOOKUP(WEEKDAY(CONCATENATE(AG7,$X$5,$AL$5)),Tabelas!$I:$J,2,0),\"\"),\"\")","v":"QUI"},{"$f":"IF(AH7<>\"\",IFERROR(VLOOKUP(WEEKDAY(CONCATENATE(AH7,$X$5,$AL$5)),Tabelas!$I:$J,2,0),\"\"),\"\")","v":"SEX"},{"$f":"IF(AI7<>\"\",IFERROR(VLOOKUP(WEEKDAY(CONCATENATE(AI7,$X$5,$AL$5)),Tabelas!$I:$J,2,0),\"\"),\"\")","v":"SAB"},{"$f":"IF(AJ7<>\"\",IFERROR(VLOOKUP(WEEKDAY(CONCATENATE(AJ7,$X$5,$AL$5)),Tabelas!$I:$J,2,0),\"\"),\"\")","v":"DOM"},{"$f":"IF(AK7<>\"\",IFERROR(VLOOKUP(WEEKDAY(CONCATENATE(AK7,$X$5,$AL$5)),Tabelas!$I:$J,2,0),\"\"),\"\")","v":"SEG"},{"$f":"IF(AL7<>\"\",IFERROR(VLOOKUP(WEEKDAY(CONCATENATE(AL7,$X$5,$AL$5)),Tabelas!$I:$J,2,0),\"\"),\"\")","v":"TER"},{"$f":"IF(AM7<>\"\",IFERROR(VLOOKUP(WEEKDAY(CONCATENATE(AM7,$X$5,$AL$5)),Tabelas!$I:$J,2,0),\"\"),\"\")","v":"QUA"},{"$f":"IF(AN7<>\"\",IFERROR(VLOOKUP(WEEKDAY(CONCATENATE(AN7,$X$5,$AL$5)),Tabelas!$I:$J,2,0),\"\"),\"\")","v":"QUI"},{"$f":"IF(AO7<>\"\",IFERROR(VLOOKUP(WEEKDAY(CONCATENATE(AO7,$X$5,$AL$5)),Tabelas!$I:$J,2,0),\"\"),\"\")","v":"SEX"},{"$f":"IF(AP7<>\"\",IFERROR(VLOOKUP(WEEKDAY(CONCATENATE(AP7,$X$5,$AL$5)),Tabelas!$I:$J,2,0),\"\"),\"\")","v":"SAB"},{"$f":"IF(AQ7<>\"\",IFERROR(VLOOKUP(WEEKDAY(CONCATENATE(AQ7,$X$5,$AL$5)),Tabelas!$I:$J,2,0),\"\"),\"\")","v":""},1,2,3,4,5,6,7,8,9,10,11,12,13,14,15,16,17,18,19,20,21,22,23,24,25,26,27,28,29,30,31]
["FULANO 1",1,null,null,null,null,null,null,null,null,null,null,null,null,null,null,null,null,null,null,null,null,null,null,null,null,null,null,null,null,null,null,null,null,null,null,null,null,null,null,null,null,null,{"$f":"IF(A9<>\"\",IFERROR(VLOOKUP(M9,Tabelas!B:D,3,0),0),\"\")","v":0},{"$f":"IF(A9<>\"\",IFERROR(VLOOKUP(N9,Tabelas!B:D,3,0),0),\"\")","v":0},{"$f":"IF(A9<>\"\",IFERROR(VLOOKUP(O9,Tabelas!B:D,3,0),0),\"\")","v":0},{"$f":"IF(A9<>\"\",IFERROR(VLOOKUP(P9,Tabelas!B:D,3,0),0),\"\")","v":0},{"$f":"IF(A9<>\"\",IFERROR(VLOOKUP(Q9,Tabelas!B:D,3,0),0),\"\")","v":0},{"$f":"IF(A9<>\"\",IFERROR(VLOOKUP(R9,Tabelas!B:D,3,0),0),\"\")","v":0},{"$f":"IF(A9<>\"\",IFERROR(VLOOKUP(S9,Tabelas!B:D,3,0),0),\"\")","v":0},{"$f":"IF(A9<>\"\",IFERROR(VLOOKUP(T9,Tabelas!B:D,3,0),0),\"\")","v":0},{"$f":"IF(A9<>\"\",IFERROR(VLOOKUP(U9,Tabelas!B:D,3,0),0),\"\")","v":0},{"$f":"IF(A9<>\"\",IFERROR(VLOOKUP(V9,Tabelas!B:D,3,0),0),\"\")","v":0},{"$f":"IF(A9<>\"\",IFERROR(VLOOKUP(W9,Tabelas!B:D,3,0),0),\"\")","v":0},{"$f":"IF(A9<>\"\",IFERROR(VLOOKUP(X9,Tabelas!B:D,3,0),0),\"\")","v":0},{"$f":"IF(A9<>\"\",IFERROR(VLOOKUP(Y9,Tabelas!B:D,3,0),0),\"\")","v":0},{"$f":"IF(A9<>\"\",IFERROR(VLOOKUP(Z9,Tabelas!B:D,3,0),0),\"\")","v":0},{"$f":"IF(A9<>\"\",IFERROR(VLOOKUP(AA9,Tabelas!B:D,3,0),0),\"\")","v":0},{"$f":"IF(A9<>\"\",IFERROR(VLOOKUP(AB9,Tabelas!B:D,3,0),0),\"\")","v":0},{"$f":"IF(A9<>\"\",IFERROR(VLOOKUP(AC9,Tabelas!B:D,3,0),0),\"\")","v":0},{"$f":"IF(A9<>\"\",IFERROR(VLOOKUP(AD9,Tabelas!B:D,3,0),0),\"\")","v":0},{"$f":"IF(A9<>\"\",IFERROR(VLOOKUP(AE9,Tabelas!B:D,3,0),0),\"\")","v":0},{"$f":"IF(A9<>\"\",IFERROR(VLOOKUP(AF9,Tabelas!B:D,3,0),0),\"\")","v":0},{"$f":"IF(A9<>\"\",IFERROR(VLOOKUP(AG9,Tabelas!B:D,3,0),0),\"\")","v":0},{"$f":"IF(A9<>\"\",IFERROR(VLOOKUP(AH9,Tabelas!B:D,3,0),0),\"\")","v":0},{"$f":"IF(A9<>\"\",IFERROR(VLOOKUP(AI9,Tabelas!B:D,3,0),0),\"\")","v":0},{"$f":"IF(A9<>\"\",IFERROR(VLOOKUP(AJ9,Tabelas!B:D,3,0),0),\"\")","v":0},{"$f":"IF(A9<>\"\",IFERROR(VLOOKUP(AK9,Tabelas!B:D,3,0),0),\"\")","v":0},{"$f":"IF(A9<>\"\",IFERROR(VLOOKUP(AL9,Tabelas!B:D,3,0),0),\"\")","v":0},{"$f":"IF(A9<>\"\",IFERROR(VLOOKUP(AM9,Tabelas!B:D,3,0),0),\"\")","v":0},{"$f":"IF(A9<>\"\",IFERROR(VLOOKUP(AN9,Tabelas!B:D,3,0),0),\"\")","v":0},{"$f":"IF(A9<>\"\",IFERROR(VLOOKUP(AO9,Tabelas!B:D,3,0),0),\"\")","v":0},{"$f":"IF(A9<>\"\",IFERROR(VLOOKUP(AP9,Tabelas!B:D,3,0),0),\"\")","v":0},{"$f":"IF(A9<>\"\",IFERROR(VLOOKUP(AQ9,Tabelas!B:D,3,0),0),\"\")","v":0},{"$f":"IF(AND(A9<>\"\",E9=\"Ebserh\"),SUM(AR9:BV9)+COUNTIF(M9:AQ9,\"N*\")+COUNTIF(M9:AQ9,\"DN*\"),IF(AND(A9<>\"\",E9<>\"Ebserh\"),SUM(AR9:BV9),\"\"))","v":0},{"$f":"IF(A9<>\"\",COUNTIF(M9:AQ9,\"LM\")+COUNTIF(M9:AQ9,\"L\")+COUNTIF(M9:AQ9,\"LP\"),\"\")","v":0},{"$f":"IF(A9<>\"\",COUNTIF(M9:AQ9,\"AB*\"),\"\")","v":0},{"$f":"IF(A9<>\"\",COUNTIF(M9:AQ9,\"FE\"),\"\")","v":0},{"$f":"IF(A9<>\"\",COUNTIF(M9:AQ9,\"LC\"),\"\")","v":0},{"$f":"IF(A9<>\"\",COUNTIF(M9:AQ9,\"CH*\"),\"\")","v":0},{"$f":"IF(A9<>\"\",COUNTIF(M9:AQ9,\"AF1\")+COUNTIF(M9:AQ9,\"AF2\")+COUNTIF(M9:AQ9,\"AF3\")+COUNTIF(M9:AQ9,\"AF4\")+COUNTIF(M9:AQ9,\"AF5\")+COUNTIF(M9:AQ9,\"AF6\")+COUNTIF(M9:AQ9,\"AF7\")+COUNTIF(M9:AQ9,\"AF8\")+COUNTIF(M9:AQ9,\"AF9\")+COUNTIF(M9:AQ9,\"AF10\")+COUNTIF(M9:AQ9,\"AF11\")+COUNTIF(M9:AQ9,\"AF12\")+COUNTIF(M9:AQ9,\"AF13\")+COUNTIF(M9:AQ9,\"AF14\"),\"\")","v":0},{"$f":"IF(A9<>\"\",COUNTIF(M9:AQ9,\"CH*\")+COUNTIF(M9:AQ9,\"L\")+COUNTIF(M9:AQ9,\"LM\")+COUNTIF(M9:AQ9,\"LP\")+COUNTIF(M9:AQ9,\"LC\")+COUNTIF(M9:AQ9,\"AB*\")+COUNTIF(M9:AQ9,\"AF1\")+COUNTIF(M9:AQ9,\"AF2\")+COUNTIF(M9:AQ9,\"AF3\")+COUNTIF(M9:AQ9,\"AF4\")+COUNTIF(M9:AQ9,\"AF5\")+COUNTIF(M9:AQ9,\"AF6\")+COUNTIF(M9:AQ9,\"AF7\")+COUNTIF(M9:AQ9,\"AF8\")+COUNTIF(M9:AQ9,\"AF9\")+COUNTIF(M9:AQ9,\"AF10\")+COUNTIF(M9:AQ9,\"AF11\")+COUNTIF(M9:AQ9,\"AF12\")+COUNTIF(M9:AQ9,\"AF13\")+COUNTIF(M9:AQ9,\"AF14\")+COUNTIF(M9:AQ9,\"RC\")+COUNTIF(M9:AQ9,\"FO\")+COUNTIF(M9:AQ9,\"FE\"),\"\")","v":0}]
["FULANO 2",2,null,null,null,null,null,null,null,null,null,null,null,null,null,null,null,null,null,null,null,null,null,null,null,null,null,null,null,null,null,null,null,null,null,null,null,null,null,null,null,null,null,{"$f":"IF(A10<>\"\",IFERROR(VLOOKUP(M10,Tabelas!B:D,3,0),0),\"\")","v":0},{"$f":"IF(A10<>\"\",IFERROR(VLOOKUP(N10,Tabelas!B:D,3,0),0),\"\")","v":0},{"$f":"IF(A10<>\"\",IFERROR(VLOOKUP(O10,Tabelas!B:D,3,0),0),\"\")","v":0},{"$f":"IF(A10<>\"\",IFERROR(VLOOKUP(P10,Tabelas!B:D,3,0),0),\"\")","v":0},{"$f":"IF(A10<>\"\",IFERROR(VLOOKUP(Q10,Tabelas!B:D,3,0),0),\"\")","v":0},{"$f":"IF(A10<>\"\",IFERROR(VLOOKUP(R10,Tabelas!B:D,3,0),0),\"\")","v":0},{"$f":"IF(A10<>\"\",IFERROR(VLOOKUP(S10,Tabelas!B:D,3,0),0),\"\")","v":0},{"$f":"IF(A10<>\"\",IFERROR(VLOOKUP(T10,Tabelas!B:D,3,0),0),\"\")","v":0},{"$f":"IF(A10<>\"\",IFERROR(VLOOKUP(U10,Tabelas!B:D,3,0),0),\"\")","v":0},{"$f":"IF(A10<>\"\",IFERROR(VLOOKUP(V10,Tabelas!B:D,3,0),0),\"\")","v":0},{"$f":"IF(A10<>\"\",IFERROR(VLOOKUP(W10,Tabelas!B:D,3,0),0),\"\")","v":0},{"$f":"IF(A10<>\"\",IFERROR(VLOOKUP(X10,Tabelas!B:D,3,0),0),\"\")","v":0},{"$f":"IF(A10<>\"\",IFERROR(VLOOKUP(Y10,Tabelas!B:D,3,0),0),\"\")","v":0},{"$f":"IF(A10<>\"\",IFERROR(VLOOKUP(Z10,Tabelas!B:D,3,0),0),\"\")","v":0},{"$f":"IF(A10<>\"\",IFERROR(VLOOKUP(AA10,Tabelas!B:D,3,0),0),\"\")","v":0},{"$f":"IF(A10<>\"\",IFERROR(VLOOKUP(AB10,Tabelas!B:D,3,0),0),\"\")","v":0},{"$f":"IF(A10<>\"\",IFERROR(VLOOKUP(AC10,Tabelas!B:D,3,0),0),\"\")","v":0},{"$f":"IF(A10<>\"\",IFERROR(VLOOKUP(AD10,Tabelas!B:D,3,0),0),\"\")","v":0},{"$f":"IF(A10<>\"\",IFERROR(VLOOKUP(AE10,Tabelas!B:D,3,0),0),\"\")","v":0},{"$f":"IF(A10<>\"\",IFERROR(VLOOKUP(AF10,Tabelas!B:D,3,0),0),\"\")","v":0},{"$f":"IF(A10<>\"\",IFERROR(VLOOKUP(AG10,Tabelas!B:D,3,0),0),\"\")","v":0},{"$f":"IF(A10<>\"\",IFERROR(VLOOKUP(AH10,Tabelas!B:D,3,0),0),\"\")","v":0},{"$f":"IF(A10<>\"\",IFERROR(VLOOKUP(AI10,Tabelas!B:D,3,0),0),\"\")","v":0},{"$f":"IF(A10<>\"\",IFERROR(VLOOKUP(AJ10,Tabelas!B:D,3,0),0),\"\")","v":0},{"$f":"IF(A10<>\"\",IFERROR(VLOOKUP(AK10,Tabelas!B:D,3,0),0),\"\")","v":0},{"$f":"IF(A10<>\"\",IFERROR(VLOOKUP(AL10,Tabelas!B:D,3,0),0),\"\")","v":0},{"$f":"IF(A10<>\"\",IFERROR(VLOOKUP(AM10,Tabelas!B:D,3,0),0),\"\")","v":0},{"$f":"IF(A10<>\"\",IFERROR(VLOOKUP(AN10,Tabelas!B:D,3,0),0),\"\")","v":0},{"$f":"IF(A10<>\"\",IFERROR(VLOOKUP(AO10,Tabelas!B:D,3,0),0),\"\")","v":0},{"$f":"IF(A10<>\"\",IFERROR(VLOOKUP(AP10,Tabelas!B:D,3,0),0),\"\")","v":0},{"$f":"IF(A10<>\"\",IFERROR(VLOOKUP(AQ10,Tabelas!B:D,3,0),0),\"\")","v":0},0,0,0,0,0,0,0,0]
["FULANO 3",3,null,null,null,null,null,null,null,null,null,null,null,null,null,null,null,null,null,null,null,null,null,null,null,null,null,null,null,null,null,null,null,null,null,null,null,null,null,null,null,null,null,{"$f":"IF(A11<>\"\",IFERROR(VLOOKUP(M11,Tabelas!B:D,3,0),0),\"\")","v":0},{"$f":"IF(A11<>\"\",IFERROR(VLOOKUP(N11,Tabelas!B:D,3,0),0),\"\")","v":0},{"$f":"IF(A11<>\"\",IFERROR(VLOOKUP(O11,Tabelas!B:D,3,0),0),\"\")","v":0},{"$f":"IF(A11<>\"\",IFERROR(VLOOKUP(P11,Tabelas!B:D,3,0),0),\"\")","v":0},{"$f":"IF(A11<>\"\",IFERROR(VLOOKUP(Q11,Tabelas!B:D,3,0),0),\"\")","v":0},{"$f":"IF(A11<>\"\",IFERROR(VLOOKUP(R11,Tabelas!B:D,3,0),0),\"\")","v":0},{"$f":"IF(A11<>\"\",IFERROR(VLOOKUP(S11,Tabelas!B:D,3,0),0),\"\")","v":0},{"$f":"IF(A11<>\"\",IFERROR(VLOOKUP(T11,Tabelas!B:D,3,0),0),\"\")","v":0},{"$f":"IF(A11<>\"\",IFERROR(VLOOKUP(U11,Tabelas!B:D,3,0),0),\"\")","v":0},{"$f":"IF(A11<>\"\",IFERROR(VLOOKUP(V11,Tabelas!B:D,3,0),0),\"\")","v":0},{"$f":"IF(A11<>\"\",IFERROR(VLOOKUP(W11,Tabelas!B:D,3,0),0),\"\")","v":0},{"$f":"IF(A11<>\"\",IFERROR(VLOOKUP(X11,Tabelas!B:D,3,0),0),\"\")","v":0},{"$f":"IF(A11<>\"\",IFERROR(VLOOKUP(Y11,Tabelas!B:D,3,0),0),\"\")","v":0},{"$f":"IF(A11<>\"\",IFERROR(VLOOKUP(Z11,Tabelas!B:D,3,0),0),\"\")","v":0},{"$f":"IF(A11<>\"\",IFERROR(VLOOKUP(AA11,Tabelas!B:D,3,0),0),\"\")","v":0},{"$f":"IF(A11<>\"\",IFERROR(VLOOKUP(AB11,Tabelas!B:D,3,0),0),\"\")","v":0},{"$f":"IF(A11<>\"\",IFERROR(VLOOKUP(AC11,Tabelas!B:D,3,0),0),\"\")","v":0},{"$f":"IF(A11<>\"\",IFERROR(VLOOKUP(AD11,Tabelas!B:D,3,0),0),\"\")","v":0},{"$f":"IF(A11<>\"\",IFERROR(VLOOKUP(AE11,Tabelas!B:D,3,0),0),\"\")","v":0},{"$f":"IF(A11<>\"\",IFERROR(VLOOKUP(AF11,Tabelas!B:D,3,0),0),\"\")","v":0},{"$f":"IF(A11<>\"\",IFERROR(VLOOKUP(AG11,Tabelas!B:D,3,0),0),\"\")","v":0},{"$f":"IF(A11<>\"\",IFERROR(VLOOKUP(AH11,Tabelas!B:D,3,0),0),\"\")","v":0},{"$f":"IF(A11<>\"\",IFERROR(VLOOKUP(AI11,Tabelas!B:D,3,0),0),\"\")","v":0},{"$f":"IF(A11<>\"\",IFERROR(VLOOKUP(AJ11,Tabelas!B:D,3,0),0),\"\")","v":0},{"$f":"IF(A11<>\"\",IFERROR(VLOOKUP(AK11,Tabelas!B:D,3,0),0),\"\")","v":0},{"$f":"IF(A11<>\"\",IFERROR(VLOOKUP(AL11,Tabelas!B:D,3,0),0),\"\")","v":0},{"$f":"IF(A11<>\"\",IFERROR(VLOOKUP(AM11,Tabelas!B:D,3,0),0),\"\")","v":0},{"$f":"IF(A11<>\"\",IFERROR(VLOOKUP(AN11,Tabelas!B:D,3,0),0),\"\")","v":0},{"$f":"IF(A11<>\"\",IFERROR(VLOOKUP(AO11,Tabelas!B:D,3,0),0),\"\")","v":0},{"$f":"IF(A11<>\"\",IFERROR(VLOOKUP(AP11,Tabelas!B:D,3,0),0),\"\")","v":0},{"$f":"IF(A11<>\"\",IFERROR(VLOOKUP(AQ11,Tabelas!B:D,3,0),0),\"\")","v":0},0,0,0,0,0,0,0,0]
["FULANO 4",4,null,null,null,null,null,null,null,null,null,null,null,null,null,null,null,null,null,null,null,null,null,null,null,null,null,null,null,null,null,null,null,null,null,null,null,null,null,null,null,null,null,{"$f":"IF(A12<>\"\",IFERROR(VLOOKUP(M12,Tabelas!B:D,3,0),0),\"\")","v":0},{"$f":"IF(A12<>\"\",IFERROR(VLOOKUP(N12,Tabelas!B:D,3,0),0),\"\")","v":0},{"$f":"IF(A12<>\"\",IFERROR(VLOOKUP(O12,Tabelas!B:D,3,0),0),\"\")","v":0},{"$f":"IF(A12<>\"\",IFERROR(VLOOKUP(P12,Tabelas!B:D,3,0),0),\"\")","v":0},{"$f":"IF(A12<>\"\",IFERROR(VLOOKUP(Q12,Tabelas!B:D,3,0),0),\"\")","v":0},{"$f":"IF(A12<>\"\",IFERROR(VLOOKUP(R12,Tabelas!B:D,3,0),0),\"\")","v":0},{"$f":"IF(A12<>\"\",IFERROR(VLOOKUP(S12,Tabelas!B:D,3,0),0),\"\")","v":0},{"$f":"IF(A12<>\"\",IFERROR(VLOOKUP(T12,Tabelas!B:D,3,0),0),\"\")","v":0},{"$f":"IF(A12<>\"\",IFERROR(VLOOKUP(U12,Tabelas!B:D,3,0),0),\"\")","v":0},{"$f":"IF(A12<>\"\",IFERROR(VLOOKUP(V12,Tabelas!B:D,3,0),0),\"\")","v":0},{"$f":"IF(A12<>\"\",IFERROR(VLOOKUP(W12,Tabelas!B:D,3,0),0),\"\")","v":0},{"$f":"IF(A12<>\"\",IFERROR(VLOOKUP(X12,Tabelas!B:D,3,0),0),\"\")","v":0},{"$f":"IF(A12<>\"\",IFERROR(VLOOKUP(Y12,Tabelas!B:D,3,0),0),\"\")","v":0},{"$f":"IF(A12<>\"\",IFERROR(VLOOKUP(Z12,Tabelas!B:D,3,0),0),\"\")","v":0},{"$f":"IF(A12<>\"\",IFERROR(VLOOKUP(AA12,Tabelas!B:D,3,0),0),\"\")","v":0},{"$f":"IF(A12<>\"\",IFERROR(VLOOKUP(AB12,Tabelas!B:D,3,0),0),\"\")","v":0},{"$f":"IF(A12<>\"\",IFERROR(VLOOKUP(AC12,Tabelas!B:D,3,0),0),\"\")","v":0},{"$f":"IF(A12<>\"\",IFERROR(VLOOKUP(AD12,Tabelas!B:D,3,0),0),\"\")","v":0},{"$f":"IF(A12<>\"\",IFERROR(VLOOKUP(AE12,Tabelas!B:D,3,0),0),\"\")","v":0},{"$f":"IF(A12<>\"\",IFERROR(VLOOKUP(AF12,Tabelas!B:D,3,0),0),\"\")","v":0},{"$f":"IF(A12<>\"\",IFERROR(VLOOKUP(AG12,Tabelas!B:D,3,0),0),\"\")","v":0},{"$f":"IF(A12<>\"\",IFERROR(VLOOKUP(AH12,Tabelas!B:D,3,0),0),\"\")","v":0},{"$f":"IF(A12<>\"\",IFERROR(VLOOKUP(AI12,Tabelas!B:D,3,0),0),\"\")","v":0},{"$f":"IF(A12<>\"\",IFERROR(VLOOKUP(AJ12,Tabelas!B:D,3,0),0),\"\")","v":0},{"$f":"IF(A12<>\"\",IFERROR(VLOOKUP(AK12,Tabelas!B:D,3,0),0),\"\")","v":0},{"$f":"IF(A12<>\"\",IFERROR(VLOOKUP(AL12,Tabelas!B:D,3,0),0),\"\")","v":0},{"$f":"IF(A12<>\"\",IFERROR(VLOOKUP(AM12,Tabelas!B:D,3,0),0),\"\")","v":0},{"$f":"IF(A12<>\"\",IFERROR(VLOOKUP(AN12,Tabelas!B:D,3,0),0),\"\")","v":0},{"$f":"IF(A12<>\"\",IFERROR(VLOOKUP(AO12,Tabelas!B:D,3,0),0),\"\")","v":0},{"$f":"IF(A12<>\"\",IFERROR(VLOOKUP(AP12,Tabelas!B:D,3,0),0),\"\")","v":0},{"$f":"IF(A12<>\"\",IFERROR(VLOOKUP(AQ12,Tabelas!B:D,3,0),0),\"\")","v":0},0,0,0,0,0,0,0,0]
["FULANO 5",5,null,null,null,null,null,null,null,null,null,null,null,null,null,null,null,null,null,null,null,null,null,null,null,null,null,null,null,null,null,null,null,null,null,null,null,null,null,null,null,null,null,{"$f":"IF(A13<>\"\",IFERROR(VLOOKUP(M13,Tabelas!B:D,3,0),0),\"\")","v":0},{"$f":"IF(A13<>\"\",IFERROR(VLOOKUP(N13,Tabelas!B:D,3,0),0),\"\")","v":0},{"$f":"IF(A13<>\"\",IFERROR(VLOOKUP(O13,Tabelas!B:D,3,0),0),\"\")","v":0},{"$f":"IF(A13<>\"\",IFERROR(VLOOKUP(P13,Tabelas!B:D,3,0),0),\"\")","v":0},{"$f":"IF(A13<>\"\",IFERROR(VLOOKUP(Q13,Tabelas!B:D,3,0),0),\"\")","v":0},{"$f":"IF(A13<>\"\",IFERROR(VLOOKUP(R13,Tabelas!B:D,3,0),0),\"\")","v":0},{"$f":"IF(A13<>\"\",IFERROR(VLOOKUP(S13,Tabelas!B:D,3,0),0),\"\")","v":0},{"$f":"IF(A13<>\"\",IFERROR(VLOOKUP(T13,Tabelas!B:D,3,0),0),\"\")","v":0},{"$f":"IF(A13<>\"\",IFERROR(VLOOKUP(U13,Tabelas!B:D,3,0),0),\"\")","v":0},{"$f":"IF(A13<>\"\",IFERROR(VLOOKUP(V13,Tabelas!B:D,3,0),0),\"\")","v":0},{"$f":"IF(A13<>\"\",IFERROR(VLOOKUP(W13,Tabelas!B:D,3,0),0),\"\")","v":0},{"$f":"IF(A13<>\"\",IFERROR(VLOOKUP(X13,Tabelas!B:D,3,0),0),\"\")","v":0},{"$f":"IF(A13<>\"\",IFERROR(VLOOKUP(Y13,Tabelas!B:D,3,0),0),\"\")","v":0},{"$f":"IF(A13<>\"\",IFERROR(VLOOKUP(Z13,Tabelas!B:D,3,0),0),\"\")","v":0},{"$f":"IF(A13<>\"\",IFERROR(VLOOKUP(AA13,Tabelas!B:D,3,0),0),\"\")","v":0},{"$f":"IF(A13<>\"\",IFERROR(VLOOKUP(AB13,Tabelas!B:D,3,0),0),\"\")","v":0},{"$f":"IF(A13<>\"\",IFERROR(VLOOKUP(AC13,Tabelas!B:D,3,0),0),\"\")","v":0},{"$f":"IF(A13<>\"\",IFERROR(VLOOKUP(AD13,Tabelas!B:D,3,0),0),\"\")","v":0},{"$f":"IF(A13<>\"\",IFERROR(VLOOKUP(AE13,Tabelas!B:D,3,0),0),\"\")","v":0},{"$f":"IF(A13<>\"\",IFERROR(VLOOKUP(AF13,Tabelas!B:D,3,0),0),\"\")","v":0},{"$f":"IF(A13<>\"\",IFERROR(VLOOKUP(AG13,Tabelas!B:D,3,0),0),\"\")","v":0},{"$f":"IF(A13<>\"\",IFERROR(VLOOKUP(AH13,Tabelas!B:D,3,0),0),\"\")","v":0},{"$f":"IF(A13<>\"\",IFERROR(VLOOKUP(AI13,Tabelas!B:D,3,0),0),\"\")","v":0},{"$f":"IF(A13<>\"\",IFERROR(VLOOKUP(AJ13,Tabelas!B:D,3,0),0),\"\")","v":0},{"$f":"IF(A13<>\"\",IFERROR(VLOOKUP(AK13,Tabelas!B:D,3,0),0),\"\")","v":0},{"$f":"IF(A13<>\"\",IFERROR(VLOOKUP(AL13,Tabelas!B:D,3,0),0),\"\")","v":0},{"$f":"IF(A13<>\"\",IFERROR(VLOOKUP(AM13,Tabelas!B:D,3,0),0),\"\")","v":0},{"$f":"IF(A13<>\"\",IFERROR(VLOOKUP(AN13,Tabelas!B:D,3,0),0),\"\")","v":0},{"$f":"IF(A13<>\"\",IFERROR(VLOOKUP(AO13,Tabelas!B:D,3,0),0),\"\")","v":0},{"$f":"IF(A13<>\"\",IFERROR(VLOOKUP(AP13,Tabelas!B:D,3,0),0),\"\")","v":0},{"$f":"IF(A13<>\"\",IFERROR(VLOOKUP(AQ13,Tabelas!B:D,3,0),0),\"\")","v":0},0,0,0,0,0,0,0,0]
["FULANO 6",6,null,null,null,null,null,null,null,null,null,null,null,null,null,null,null,null,null,null,null,null,null,null,null,null,null,null,null,null,null,null,null,null,null,null,null,null,null,null,null,null,null,{"$f":"IF(A14<>\"\",IFERROR(VLOOKUP(M14,Tabelas!B:D,3,0),0),\"\")","v":0},{"$f":"IF(A14<>\"\",IFERROR(VLOOKUP(N14,Tabelas!B:D,3,0),0),\"\")","v":0},{"$f":"IF(A14<>\"\",IFERROR(VLOOKUP(O14,Tabelas!B:D,3,0),0),\"\")","v":0},{"$f":"IF(A14<>\"\",IFERROR(VLOOKUP(P14,Tabelas!B:D,3,0),0),\"\")","v":0},{"$f":"IF(A14<>\"\",IFERROR(VLOOKUP(Q14,Tabelas!B:D,3,0),0),\"\")","v":0},{"$f":"IF(A14<>\"\",IFERROR(VLOOKUP(R14,Tabelas!B:D,3,0),0),\"\")","v":0},{"$f":"IF(A14<>\"\",IFERROR(VLOOKUP(S14,Tabelas!B:D,3,0),0),\"\")","v":0},{"$f":"IF(A14<>\"\",IFERROR(VLOOKUP(T14,Tabelas!B:D,3,0),0),\"\")","v":0},{"$f":"IF(A14<>\"\",IFERROR(VLOOKUP(U14,Tabelas!B:D,3,0),0),\"\")","v":0},{"$f":"IF(A14<>\"\",IFERROR(VLOOKUP(V14,Tabelas!B:D,3,0),0),\"\")","v":0},{"$f":"IF(A14<>\"\",IFERROR(VLOOKUP(W14,Tabelas!B:D,3,0),0),\"\")","v":0},{"$f":"IF(A14<>\"\",IFERROR(VLOOKUP(X14,Tabelas!B:D,3,0),0),\"\")","v":0},{"$f":"IF(A14<>\"\",IFERROR(VLOOKUP(Y14,Tabelas!B:D,3,0),0),\"\")","v":0},{"$f":"IF(A14<>\"\",IFERROR(VLOOKUP(Z14,Tabelas!B:D,3,0),0),\"\")","v":0},{"$f":"IF(A14<>\"\",IFERROR(VLOOKUP(AA14,Tabelas!B:D,3,0),0),\"\")","v":0},{"$f":"IF(A14<>\"\",IFERROR(VLOOKUP(AB14,Tabelas!B:D,3,0),0),\"\")","v":0},{"$f":"IF(A14<>\"\",IFERROR(VLOOKUP(AC14,Tabelas!B:D,3,0),0),\"\")","v":0},{"$f":"IF(A14<>\"\",IFERROR(VLOOKUP(AD14,Tabelas!B:D,3,0),0),\"\")","v":0},{"$f":"IF(A14<>\"\",IFERROR(VLOOKUP(AE14,Tabelas!B:D,3,0),0),\"\")","v":0},{"$f":"IF(A14<>\"\",IFERROR(VLOOKUP(AF14,Tabelas!B:D,3,0),0),\"\")","v":0},{"$f":"IF(A14<>\"\",IFERROR(VLOOKUP(AG14,Tabelas!B:D,3,0),0),\"\")","v":0},{"$f":"IF(A14<>\"\",IFERROR(VLOOKUP(AH14,Tabelas!B:D,3,0),0),\"\")","v":0},{"$f":"IF(A14<>\"\",IFERROR(VLOOKUP(AI14,Tabelas!B:D,3,0),0),\"\")","v":0},{"$f":"IF(A14<>\"\",IFERROR(VLOOKUP(AJ14,Tabelas!B:D,3,0),0),\"\")","v":0},{"$f":"IF(A14<>\"\",IFERROR(VLOOKUP(AK14,Tabelas!B:D,3,0),0),\"\")","v":0},{"$f":"IF(A14<>\"\",IFERROR(VLOOKUP(AL14,Tabelas!B:D,3,0),0),\"\")","v":0},{"$f":"IF(A14<>\"\",IFERROR(VLOOKUP(AM14,Tabelas!B:D,3,0),0),\"\")","v":0},{"$f":"IF(A14<>\"\",IFERROR(VLOOKUP(AN14,Tabelas!B:D,3,0),0),\"\")","v":0},{"$f":"IF(A14<>\"\",IFERROR(VLOOKUP(AO14,Tabelas!B:D,3,0),0),\"\")","v":0},{"$f":"IF(A14<>\"\",IFERROR(VLOOKUP(AP14,Tabelas!B:D,3,0),0),\"\")","v":0},{"$f":"IF(A14<>\"\",IFERROR(VLOOKUP(AQ14,Tabelas!B:D,3,0),0),\"\")","v":0},0,0,0,0,0,0,0,0]
["FULANO 7",7,null,null,null,null,null,null,null,null,null,null,null,null,null,null,null,null,null,null,null,null,null,null,null,null,null,null,null,null,null,null,null,null,null,null,null,null,null,null,null,null,null,{"$f":"IF(A15<>\"\",IFERROR(VLOOKUP(M15,Tabelas!B:D,3,0),0),\"\")","v":0},{"$f":"IF(A15<>\"\",IFERROR(VLOOKUP(N15,Tabelas!B:D,3,0),0),\"\")","v":0},{"$f":"IF(A15<>\"\",IFERROR(VLOOKUP(O15,Tabelas!B:D,3,0),0),\"\")","v":0},{"$f":"IF(A15<>\"\",IFERROR(VLOOKUP(P15,Tabelas!B:D,3,0),0),\"\")","v":0},{"$f":"IF(A15<>\"\",IFERROR(VLOOKUP(Q15,Tabelas!B:D,3,0),0),\"\")","v":0},{"$f":"IF(A15<>\"\",IFERROR(VLOOKUP(R15,Tabelas!B:D,3,0),0),\"\")","v":0},{"$f":"IF(A15<>\"\",IFERROR(VLOOKUP(S15,Tabelas!B:D,3,0),0),\"\")","v":0},{"$f":"IF(A15<>\"\",IFERROR(VLOOKUP(T15,Tabelas!B:D,3,0),0),\"\")","v":0},{"$f":"IF(A15<>\"\",IFERROR(VLOOKUP(U15,Tabelas!B:D,3,0),0),\"\")","v":0},{"$f":"IF(A15<>\"\",IFERROR(VLOOKUP(V15,Tabelas!B:D,3,0),0),\"\")","v":0},{"$f":"IF(A15<>\"\",IFERROR(VLOOKUP(W15,Tabelas!B:D,3,0),0),\"\")","v":0},{"$f":"IF(A15<>\"\",IFERROR(VLOOKUP(X15,Tabelas!B:D,3,0),0),\"\")","v":0},{"$f":"IF(A15<>\"\",IFERROR(VLOOKUP(Y15,Tabelas!B:D,3,0),0),\"\")","v":0},{"$f":"IF(A15<>\"\",IFERROR(VLOOKUP(Z15,Tabelas!B:D,3,0),0),\"\")","v":0},{"$f":"IF(A15<>\"\",IFERROR(VLOOKUP(AA15,Tabelas!B:D,3,0),0),\"\")","v":0},{"$f":"IF(A15<>\"\",IFERROR(VLOOKUP(AB15,Tabelas!B:D,3,0),0),\"\")","v":0},{"$f":"IF(A15<>\"\",IFERROR(VLOOKUP(AC15,Tabelas!B:D,3,0),0),\"\")","v":0},{"$f":"IF(A15<>\"\",IFERROR(VLOOKUP(AD15,Tabelas!B:D,3,0),0),\"\")","v":0},{"$f":"IF(A15<>\"\",IFERROR(VLOOKUP(AE15,Tabelas!B:D,3,0),0),\"\")","v":0},{"$f":"IF(A15<>\"\",IFERROR(VLOOKUP(AF15,Tabelas!B:D,3,0),0),\"\")","v":0},{"$f":"IF(A15<>\"\",IFERROR(VLOOKUP(AG15,Tabelas!B:D,3,0),0),\"\")","v":0},{"$f":"IF(A15<>\"\",IFERROR(VLOOKUP(AH15,Tabelas!B:D,3,0),0),\"\")","v":0},{"$f":"IF(A15<>\"\",IFERROR(VLOOKUP(AI15,Tabelas!B:D,3,0),0),\"\")","v":0},{"$f":"IF(A15<>\"\",IFERROR(VLOOKUP(AJ15,Tabelas!B:D,3,0),0),\"\")","v":0},{"$f":"IF(A15<>\"\",IFERROR(VLOOKUP(AK15,Tabelas!B:D,3,0),0),\"\")","v":0},{"$f":"IF(A15<>\"\",IFERROR(VLOOKUP(AL15,Tabelas!B:D,3,0),0),\"\")","v":0},{"$f":"IF(A15<>\"\",IFERROR(VLOOKUP(AM15,Tabelas!B:D,3,0),0),\"\")","v":0},{"$f":"IF(A15<>\"\",IFERROR(VLOOKUP(AN15,Tabelas!B:D,3,0),0),\"\")","v":0},{"$f":"IF(A15<>\"\",IFERROR(VLOOKUP(AO15,Tabelas!B:D,3,0),0),\"\")","v":0},{"$f":"IF(A15<>\"\",IFERROR(VLOOKUP(AP15,Tabelas!B:D,3,0),0),\"\")","v":0},{"$f":"IF(A15<>\"\",IFERROR(VLOOKUP(AQ15,Tabelas!B:D,3,0),0),\"\")","v":0},0,0,0,0,0,0,0,0]
["FULANO 8",8,null,null,null,null,null,null,null,null,null,null,null,null,null,null,null,null,null,null,null,null,null,null,null,null,null,null,null,null,null,null,null,null,null,null,null,null,null,null,null,null,null,{"$f":"IF(A16<>\"\",IFERROR(VLOOKUP(M16,Tabelas!B:D,3,0),0),\"\")","v":0},{"$f":"IF(A16<>\"\",IFERROR(VLOOKUP(N16,Tabelas!B:D,3,0),0),\"\")","v":0},{"$f":"IF(A16<>\"\",IFERROR(VLOOKUP(O16,Tabelas!B:D,3,0),0),\"\")","v":0},{"$f":"IF(A16<>\"\",IFERROR(VLOOKUP(P16,Tabelas!B:D,3,0),0),\"\")","v":0},{"$f":"IF(A16<>\"\",IFERROR(VLOOKUP(Q16,Tabelas!B:D,3,0),0),\"\")","v":0},{"$f":"IF(A16<>\"\",IFERROR(VLOOKUP(R16,Tabelas!B:D,3,0),0),\"\")","v":0},{"$f":"IF(A16<>\"\",IFERROR(VLOOKUP(S16,Tabelas!B:D,3,0),0),\"\")","v":0},{"$f":"IF(A16<>\"\",IFERROR(VLOOKUP(T16,Tabelas!B:D,3,0),0),\"\")","v":0},{"$f":"IF(A16<>\"\",IFERROR(VLOOKUP(U16,Tabelas!B:D,3,0),0),\"\")","v":0},{"$f":"IF(A16<>\"\",IFERROR(VLOOKUP(V16,Tabelas!B:D,3,0),0),\"\")","v":0},{"$f":"IF(A16<>\"\",IFERROR(VLOOKUP(W16,Tabelas!B:D,3,0),0),\"\")","v":0},{"$f":"IF(A16<>\"\",IFERROR(VLOOKUP(X16,Tabelas!B:D,3,0),0),\"\")","v":0},{"$f":"IF(A16<>\"\",IFERROR(VLOOKUP(Y16,Tabelas!B:D,3,0),0),\"\")","v":0},{"$f":"IF(A16<>\"\",IFERROR(VLOOKUP(Z16,Tabelas!B:D,3,0),0),\"\")","v":0},{"$f":"IF(A16<>\"\",IFERROR(VLOOKUP(AA16,Tabelas!B:D,3,0),0),\"\")","v":0},{"$f":"IF(A16<>\"\",IFERROR(VLOOKUP(AB16,Tabelas!B:D,3,0),0),\"\")","v":0},{"$f":"IF(A16<>\"\",IFERROR(VLOOKUP(AC16,Tabelas!B:D,3,0),0),\"\")","v":0},{"$f":"IF(A16<>\"\",IFERROR(VLOOKUP(AD16,Tabelas!B:D,3,0),0),\"\")","v":0},{"$f":"IF(A16<>\"\",IFERROR(VLOOKUP(AE16,Tabelas!B:D,3,0),0),\"\")","v":0},{"$f":"IF(A16<>\"\",IFERROR(VLOOKUP(AF16,Tabelas!B:D,3,0),0),\"\")","v":0},{"$f":"IF(A16<>\"\",IFERROR(VLOOKUP(AG16,Tabelas!B:D,3,0),0),\"\")","v":0},{"$f":"IF(A16<>\"\",IFERROR(VLOOKUP(AH16,Tabelas!B:D,3,0),0),\"\")","v":0},{"$f":"IF(A16<>\"\",IFERROR(VLOOKUP(AI16,Tabelas!B:D,3,0),0),\"\")","v":0},{"$f":"IF(A16<>\"\",IFERROR(VLOOKUP(AJ16,Tabelas!B:D,3,0),0),\"\")","v":0},{"$f":"IF(A16<>\"\",IFERROR(VLOOKUP(AK16,Tabelas!B:D,3,0),0),\"\")","v":0},{"$f":"IF(A16<>\"\",IFERROR(VLOOKUP(AL16,Tabelas!B:D,3,0),0),\"\")","v":0},{"$f":"IF(A16<>\"\",IFERROR(VLOOKUP(AM16,Tabelas!B:D,3,0),0),\"\")","v":0},{"$f":"IF(A16<>\"\",IFERROR(VLOOKUP(AN16,Tabelas!B:D,3,0),0),\"\")","v":0},{"$f":"IF(A16<>\"\",IFERROR(VLOOKUP(AO16,Tabelas!B:D,3,0),0),\"\")","v":0},{"$f":"IF(A16<>\"\",IFERROR(VLOOKUP(AP16,Tabelas!B:D,3,0),0),\"\")","v":0},{"$f":"IF(A16<>\"\",IFERROR(VLOOKUP(AQ16,Tabelas!B:D,3,0),0),\"\")","v":0},0,0,0,0,0,0,0,0]
["FULANO 9",9,null,null,null,null,null,null,null,null,null,null,null,null,null,null,null,null,null,null,null,null,null,null,null,null,null,null,null,null,null,null,null,null,null,null,null,null,null,null,null,null,null,{"$f":"IF(A17<>\"\",IFERROR(VLOOKUP(M17,Tabelas!B:D,3,0),0),\"\")","v":0},{"$f":"IF(A17<>\"\",IFERROR(VLOOKUP(N17,Tabelas!B:D,3,0),0),\"\")","v":0},{"$f":"IF(A17<>\"\",IFERROR(VLOOKUP(O17,Tabelas!B:D,3,0),0),\"\")","v":0},{"$f":"IF(A17<>\"\",IFERROR(VLOOKUP(P17,Tabelas!B:D,3,0),0),\"\")","v":0},{"$f":"IF(A17<>\"\",IFERROR(VLOOKUP(Q17,Tabelas!B:D,3,0),0),\"\")","v":0},{"$f":"IF(A17<>\"\",IFERROR(VLOOKUP(R17,Tabelas!B:D,3,0),0),\"\")","v":0},{"$f":"IF(A17<>\"\",IFERROR(VLOOKUP(S17,Tabelas!B:D,3,0),0),\"\")","v":0},{"$f":"IF(A17<>\"\",IFERROR(VLOOKUP(T17,Tabelas!B:D,3,0),0),\"\")","v":0},{"$f":"IF(A17<>\"\",IFERROR(VLOOKUP(U17,Tabelas!B:D,3,0),0),\"\")","v":0},{"$f":"IF(A17<>\"\",IFERROR(VLOOKUP(V17,Tabelas!B:D,3,0),0),\"\")","v":0},{"$f":"IF(A17<>\"\",IFERROR(VLOOKUP(W17,Tabelas!B:D,3,0),0),\"\")","v":0},{"$f":"IF(A17<>\"\",IFERROR(VLOOKUP(X17,Tabelas!B:D,3,0),0),\"\")","v":0},{"$f":"IF(A17<>\"\",IFERROR(VLOOKUP(Y17,Tabelas!B:D,3,0),0),\"\")","v":0},{"$f":"IF(A17<>\"\",IFERROR(VLOOKUP(Z17,Tabelas!B:D,3,0),0),\"\")","v":0},{"$f":"IF(A17<>\"\",IFERROR(VLOOKUP(AA17,Tabelas!B:D,3,0),0),\"\")","v":0},{"$f":"IF(A17<>\"\",IFERROR(VLOOKUP(AB17,Tabelas!B:D,3,0),0),\"\")","v":0},{"$f":"IF(A17<>\"\",IFERROR(VLOOKUP(AC17,Tabelas!B:D,3,0),0),\"\")","v":0},{"$f":"IF(A17<>\"\",IFERROR(VLOOKUP(AD17,Tabelas!B:D,3,0),0),\"\")","v":0},{"$f":"IF(A17<>\"\",IFERROR(VLOOKUP(AE17,Tabelas!B:D,3,0),0),\"\")","v":0},{"$f":"IF(A17<>\"\",IFERROR(VLOOKUP(AF17,Tabelas!B:D,3,0),0),\"\")","v":0},{"$f":"IF(A17<>\"\",IFERROR(VLOOKUP(AG17,Tabelas!B:D,3,0),0),\"\")","v":0},{"$f":"IF(A17<>\"\",IFERROR(VLOOKUP(AH17,Tabelas!B:D,3,0),0),\"\")","v":0},{"$f":"IF(A17<>\"\",IFERROR(VLOOKUP(AI17,Tabelas!B:D,3,0),0),\"\")","v":0},{"$f":"IF(A17<>\"\",IFERROR(VLOOKUP(AJ17,Tabelas!B:D,3,0),0),\"\")","v":0},{"$f":"IF(A17<>\"\",IFERROR(VLOOKUP(AK17,Tabelas!B:D,3,0),0),\"\")","v":0},{"$f":"IF(A17<>\"\",IFERROR(VLOOKUP(AL17,Tabelas!B:D,3,0),0),\"\")","v":0},{"$f":"IF(A17<>\"\",IFERROR(VLOOKUP(AM17,Tabelas!B:D,3,0),0),\"\")","v":0},{"$f":"IF(A17<>\"\",IFERROR(VLOOKUP(AN17,Tabelas!B:D,3,0),0),\"\")","v":0},{"$f":"IF(A17<>\"\",IFERROR(VLOOKUP(AO17,Tabelas!B:D,3,0),0),\"\")","v":0},{"$f":"IF(A17<>\"\",IFERROR(VLOOKUP(AP17,Tabelas!B:D,3,0),0),\"\")","v":0},{"$f":"IF(A17<>\"\",IFERROR(VLOOKUP(AQ17,Tabelas!B:D,3,0),0),\"\")","v":0},0,0,0,0,0,0,0,0]
["FULANO 10",10,null,null,null,null,null,null,null,null,null,null,null,null,null,null,null,null,null,null,null,null,null,null,null,null,null,null,null,null,null,null,null,null,null,null,null,null,null,null,null,null,null,{"$f":"IF(A18<>\"\",IFERROR(VLOOKUP(M18,Tabelas!B:D,3,0),0),\"\")","v":0},{"$f":"IF(A18<>\"\",IFERROR(VLOOKUP(N18,Tabelas!B:D,3,0),0),\"\")","v":0},{"$f":"IF(A18<>\"\",IFERROR(VLOOKUP(O18,Tabelas!B:D,3,0),0),\"\")","v":0},{"$f":"IF(A18<>\"\",IFERROR(VLOOKUP(P18,Tabelas!B:D,3,0),0),\"\")","v":0},{"$f":"IF(A18<>\"\",IFERROR(VLOOKUP(Q18,Tabelas!B:D,3,0),0),\"\")","v":0},{"$f":"IF(A18<>\"\",IFERROR(VLOOKUP(R18,Tabelas!B:D,3,0),0),\"\")","v":0},{"$f":"IF(A18<>\"\",IFERROR(VLOOKUP(S18,Tabelas!B:D,3,0),0),\"\")","v":0},{"$f":"IF(A18<>\"\",IFERROR(VLOOKUP(T18,Tabelas!B:D,3,0),0),\"\")","v":0},{"$f":"IF(A18<>\"\",IFERROR(VLOOKUP(U18,Tabelas!B:D,3,0),0),\"\")","v":0},{"$f":"IF(A18<>\"\",IFERROR(VLOOKUP(V18,Tabelas!B:D,3,0),0),\"\")","v":0},{"$f":"IF(A18<>\"\",IFERROR(VLOOKUP(W18,Tabelas!B:D,3,0),0),\"\")","v":0},{"$f":"IF(A18<>\"\",IFERROR(VLOOKUP(X18,Tabelas!B:D,3,0),0),\"\")","v":0},{"$f":"IF(A18<>\"\",IFERROR(VLOOKUP(Y18,Tabelas!B:D,3,0),0),\"\")","v":0},{"$f":"IF(A18<>\"\",IFERROR(VLOOKUP(Z18,Tabelas!B:D,3,0),0),\"\")","v":0},{"$f":"IF(A18<>\"\",IFERROR(VLOOKUP(AA18,Tabelas!B:D,3,0),0),\"\")","v":0},{"$f":"IF(A18<>\"\",IFERROR(VLOOKUP(AB18,Tabelas!B:D,3,0),0),\"\")","v":0},{"$f":"IF(A18<>\"\",IFERROR(VLOOKUP(AC18,Tabelas!B:D,3,0),0),\"\")","v":0},{"$f":"IF(A18<>\"\",IFERROR(VLOOKUP(AD18,Tabelas!B:D,3,0),0),\"\")","v":0},{"$f":"IF(A18<>\"\",IFERROR(VLOOKUP(AE18,Tabelas!B:D,3,0),0),\"\")","v":0},{"$f":"IF(A18<>\"\",IFERROR(VLOOKUP(AF18,Tabelas!B:D,3,0),0),\"\")","v":0},{"$f":"IF(A18<>\"\",IFERROR(VLOOKUP(AG18,Tabelas!B:D,3,0),0),\"\")","v":0},{"$f":"IF(A18<>\"\",IFERROR(VLOOKUP(AH18,Tabelas!B:D,3,0),0),\"\")","v":0},{"$f":"IF(A18<>\"\",IFERROR(VLOOKUP(AI18,Tabelas!B:D,3,0),0),\"\")","v":0},{"$f":"IF(A18<>\"\",IFERROR(VLOOKUP(AJ18,Tabelas!B:D,3,0),0),\"\")","v":0},{"$f":"IF(A18<>\"\",IFERROR(VLOOKUP(AK18,Tabelas!B:D,3,0),0),\"\")","v":0},{"$f":"IF(A18<>\"\",IFERROR(VLOOKUP(AL18,Tabelas!B:D,3,0),0),\"\")","v":0},{"$f":"IF(A18<>\"\",IFERROR(VLOOKUP(AM18,Tabelas!B:D,3,0),0),\"\")","v":0},{"$f":"IF(A18<>\"\",IFERROR(VLOOKUP(AN18,Tabelas!B:D,3,0),0),\"\")","v":0},{"$f":"IF(A18<>\"\",IFERROR(VLOOKUP(AO18,Tabelas!B:D,3,0),0),\"\")","v":0},{"$f":"IF(A18<>\"\",IFERROR(VLOOKUP(AP18,Tabelas!B:D,3,0),0),\"\")","v":0},{"$f":"IF(A18<>\"\",IFERROR(VLOOKUP(AQ18,Tabelas!B:D,3,0),0),\"\")","v":0},0,0,0,0,0,0,0,0]
["FULANO 11",11,null,null,null,null,null,null,null,null,null,null,null,null,null,null,null,null,null,null,null,null,null,null,null,null,null,null,null,null,null,null,null,null,null,null,null,null,null,null,null,null,null,{"$f":"IF(A19<>\"\",IFERROR(VLOOKUP(M19,Tabelas!B:D,3,0),0),\"\")","v":0},{"$f":"IF(A19<>\"\",IFERROR(VLOOKUP(N19,Tabelas!B:D,3,0),0),\"\")","v":0},{"$f":"IF(A19<>\"\",IFERROR(VLOOKUP(O19,Tabelas!B:D,3,0),0),\"\")","v":0},{"$f":"IF(A19<>\"\",IFERROR(VLOOKUP(P19,Tabelas!B:D,3,0),0),\"\")","v":0},{"$f":"IF(A19<>\"\",IFERROR(VLOOKUP(Q19,Tabelas!B:D,3,0),0),\"\")","v":0},{"$f":"IF(A19<>\"\",IFERROR(VLOOKUP(R19,Tabelas!B:D,3,0),0),\"\")","v":0},{"$f":"IF(A19<>\"\",IFERROR(VLOOKUP(S19,Tabelas!B:D,3,0),0),\"\")","v":0},{"$f":"IF(A19<>\"\",IFERROR(VLOOKUP(T19,Tabelas!B:D,3,0),0),\"\")","v":0},{"$f":"IF(A19<>\"\",IFERROR(VLOOKUP(U19,Tabelas!B:D,3,0),0),\"\")","v":0},{"$f":"IF(A19<>\"\",IFERROR(VLOOKUP(V19,Tabelas!B:D,3,0),0),\"\")","v":0},{"$f":"IF(A19<>\"\",IFERROR(VLOOKUP(W19,Tabelas!B:D,3,0),0),\"\")","v":0},{"$f":"IF(A19<>\"\",IFERROR(VLOOKUP(X19,Tabelas!B:D,3,0),0),\"\")","v":0},{"$f":"IF(A19<>\"\",IFERROR(VLOOKUP(Y19,Tabelas!B:D,3,0),0),\"\")","v":0},{"$f":"IF(A19<>\"\",IFERROR(VLOOKUP(Z19,Tabelas!B:D,3,0),0),\"\")","v":0},{"$f":"IF(A19<>\"\",IFERROR(VLOOKUP(AA19,Tabelas!B:D,3,0),0),\"\")","v":0},{"$f":"IF(A19<>\"\",IFERROR(VLOOKUP(AB19,Tabelas!B:D,3,0),0),\"\")","v":0},{"$f":"IF(A19<>\"\",IFERROR(VLOOKUP(AC19,Tabelas!B:D,3,0),0),\"\")","v":0},{"$f":"IF(A19<>\"\",IFERROR(VLOOKUP(AD19,Tabelas!B:D,3,0),0),\"\")","v":0},{"$f":"IF(A19<>\"\",IFERROR(VLOOKUP(AE19,Tabelas!B:D,3,0),0),\"\")","v":0},{"$f":"IF(A19<>\"\",IFERROR(VLOOKUP(AF19,Tabelas!B:D,3,0),0),\"\")","v":0},{"$f":"IF(A19<>\"\",IFERROR(VLOOKUP(AG19,Tabelas!B:D,3,0),0),\"\")","v":0},{"$f":"IF(A19<>\"\",IFERROR(VLOOKUP(AH19,Tabelas!B:D,3,0),0),\"\")","v":0},{"$f":"IF(A19<>\"\",IFERROR(VLOOKUP(AI19,Tabelas!B:D,3,0),0),\"\")","v":0},{"$f":"IF(A19<>\"\",IFERROR(VLOOKUP(AJ19,Tabelas!B:D,3,0),0),\"\")","v":0},{"$f":"IF(A19<>\"\",IFERROR(VLOOKUP(AK19,Tabelas!B:D,3,0),0),\"\")","v":0},{"$f":"IF(A19<>\"\",IFERROR(VLOOKUP(AL19,Tabelas!B:D,3,0),0),\"\")","v":0},{"$f":"IF(A19<>\"\",IFERROR(VLOOKUP(AM19,Tabelas!B:D,3,0),0),\"\")","v":0},{"$f":"IF(A19<>\"\",IFERROR(VLOOKUP(AN19,Tabelas!B:D,3,0),0),\"\")","v":0},{"$f":"IF(A19<>\"\",IFERROR(VLOOKUP(AO19,Tabelas!B:D,3,0),0),\"\")","v":0},{"$f":"IF(A19<>\"\",IFERROR(VLOOKUP(AP19,Tabelas!B:D,3,0),0),\"\")","v":0},{"$f":"IF(A19<>\"\",IFERROR(VLOOKUP(AQ19,Tabelas!B:D,3,0),0),\"\")","v":0},0,0,0,0,0,0,0,0]
["FULANO 12",12,null,null,null,null,null,null,null,null,null,null,null,null,null,null,null,null,null,null,null,null,null,null,null,null,null,null,null,null,null,null,null,null,null,null,null,null,null,null,null,null,null,{"$f":"IF(A20<>\"\",IFERROR(VLOOKUP(M20,Tabelas!B:D,3,0),0),\"\")","v":0},{"$f":"IF(A20<>\"\",IFERROR(VLOOKUP(N20,Tabelas!B:D,3,0),0),\"\")","v":0},{"$f":"IF(A20<>\"\",IFERROR(VLOOKUP(O20,Tabelas!B:D,3,0),0),\"\")","v":0},{"$f":"IF(A20<>\"\",IFERROR(VLOOKUP(P20,Tabelas!B:D,3,0),0),\"\")","v":0},{"$f":"IF(A20<>\"\",IFERROR(VLOOKUP(Q20,Tabelas!B:D,3,0),0),\"\")","v":0},{"$f":"IF(A20<>\"\",IFERROR(VLOOKUP(R20,Tabelas!B:D,3,0),0),\"\")","v":0},{"$f":"IF(A20<>\"\",IFERROR(VLOOKUP(S20,Tabelas!B:D,3,0),0),\"\")","v":0},{"$f":"IF(A20<>\"\",IFERROR(VLOOKUP(T20,Tabelas!B:D,3,0),0),\"\")","v":0},{"$f":"IF(A20<>\"\",IFERROR(VLOOKUP(U20,Tabelas!B:D,3,0),0),\"\")","v":0},{"$f":"IF(A20<>\"\",IFERROR(VLOOKUP(V20,Tabelas!B:D,3,0),0),\"\")","v":0},{"$f":"IF(A20<>\"\",IFERROR(VLOOKUP(W20,Tabelas!B:D,3,0),0),\"\")","v":0},{"$f":"IF(A20<>\"\",IFERROR(VLOOKUP(X20,Tabelas!B:D,3,0),0),\"\")","v":0},{"$f":"IF(A20<>\"\",IFERROR(VLOOKUP(Y20,Tabelas!B:D,3,0),0),\"\")","v":0},{"$f":"IF(A20<>\"\",IFERROR(VLOOKUP(Z20,Tabelas!B:D,3,0),0),\"\")","v":0},{"$f":"IF(A20<>\"\",IFERROR(VLOOKUP(AA20,Tabelas!B:D,3,0),0),\"\")","v":0},{"$f":"IF(A20<>\"\",IFERROR(VLOOKUP(AB20,Tabelas!B:D,3,0),0),\"\")","v":0},{"$f":"IF(A20<>\"\",IFERROR(VLOOKUP(AC20,Tabelas!B:D,3,0),0),\"\")","v":0},{"$f":"IF(A20<>\"\",IFERROR(VLOOKUP(AD20,Tabelas!B:D,3,0),0),\"\")","v":0},{"$f":"IF(A20<>\"\",IFERROR(VLOOKUP(AE20,Tabelas!B:D,3,0),0),\"\")","v":0},{"$f":"IF(A20<>\"\",IFERROR(VLOOKUP(AF20,Tabelas!B:D,3,0),0),\"\")","v":0},{"$f":"IF(A20<>\"\",IFERROR(VLOOKUP(AG20,Tabelas!B:D,3,0),0),\"\")","v":0},{"$f":"IF(A20<>\"\",IFERROR(VLOOKUP(AH20,Tabelas!B:D,3,0),0),\"\")","v":0},{"$f":"IF(A20<>\"\",IFERROR(VLOOKUP(AI20,Tabelas!B:D,3,0),0),\"\")","v":0},{"$f":"IF(A20<>\"\",IFERROR(VLOOKUP(AJ20,Tabelas!B:D,3,0),0),\"\")","v":0},{"$f":"IF(A20<>\"\",IFERROR(VLOOKUP(AK20,Tabelas!B:D,3,0),0),\"\")","v":0},{"$f":"IF(A20<>\"\",IFERROR(VLOOKUP(AL20,Tabelas!B:D,3,0),0),\"\")","v":0},{"$f":"IF(A20<>\"\",IFERROR(VLOOKUP(AM20,Tabelas!B:D,3,0),0),\"\")","v":0},{"$f":"IF(A20<>\"\",IFERROR(VLOOKUP(AN20,Tabelas!B:D,3,0),0),\"\")","v":0},{"$f":"IF(A20<>\"\",IFERROR(VLOOKUP(AO20,Tabelas!B:D,3,0),0),\"\")","v":0},{"$f":"IF(A20<>\"\",IFERROR(VLOOKUP(AP20,Tabelas!B:D,3,0),0),\"\")","v":0},{"$f":"IF(A20<>\"\",IFERROR(VLOOKUP(AQ20,Tabelas!B:D,3,0),0),\"\")","v":0},0,0,0,0,0,0,0,0]
["FULANO 13",13,null,null,null,null,null,null,null,null,null,null,null,null,null,null,null,null,null,null,null,null,null,null,null,null,null,null,null,null,null,null,null,null,null,null,null,null,null,null,null,null,null,{"$f":"IF(A21<>\"\",IFERROR(VLOOKUP(M21,Tabelas!B:D,3,0),0),\"\")","v":0},{"$f":"IF(A21<>\"\",IFERROR(VLOOKUP(N21,Tabelas!B:D,3,0),0),\"\")","v":0},{"$f":"IF(A21<>\"\",IFERROR(VLOOKUP(O21,Tabelas!B:D,3,0),0),\"\")","v":0},{"$f":"IF(A21<>\"\",IFERROR(VLOOKUP(P21,Tabelas!B:D,3,0),0),\"\")","v":0},{"$f":"IF(A21<>\"\",IFERROR(VLOOKUP(Q21,Tabelas!B:D,3,0),0),\"\")","v":0},{"$f":"IF(A21<>\"\",IFERROR(VLOOKUP(R21,Tabelas!B:D,3,0),0),\"\")","v":0},{"$f":"IF(A21<>\"\",IFERROR(VLOOKUP(S21,Tabelas!B:D,3,0),0),\"\")","v":0},{"$f":"IF(A21<>\"\",IFERROR(VLOOKUP(T21,Tabelas!B:D,3,0),0),\"\")","v":0},{"$f":"IF(A21<>\"\",IFERROR(VLOOKUP(U21,Tabelas!B:D,3,0),0),\"\")","v":0},{"$f":"IF(A21<>\"\",IFERROR(VLOOKUP(V21,Tabelas!B:D,3,0),0),\"\")","v":0},{"$f":"IF(A21<>\"\",IFERROR(VLOOKUP(W21,Tabelas!B:D,3,0),0),\"\")","v":0},{"$f":"IF(A21<>\"\",IFERROR(VLOOKUP(X21,Tabelas!B:D,3,0),0),\"\")","v":0},{"$f":"IF(A21<>\"\",IFERROR(VLOOKUP(Y21,Tabelas!B:D,3,0),0),\"\")","v":0},{"$f":"IF(A21<>\"\",IFERROR(VLOOKUP(Z21,Tabelas!B:D,3,0),0),\"\")","v":0},{"$f":"IF(A21<>\"\",IFERROR(VLOOKUP(AA21,Tabelas!B:D,3,0),0),\"\")","v":0},{"$f":"IF(A21<>\"\",IFERROR(VLOOKUP(AB21,Tabelas!B:D,3,0),0),\"\")","v":0},{"$f":"IF(A21<>\"\",IFERROR(VLOOKUP(AC21,Tabelas!B:D,3,0),0),\"\")","v":0},{"$f":"IF(A21<>\"\",IFERROR(VLOOKUP(AD21,Tabelas!B:D,3,0),0),\"\")","v":0},{"$f":"IF(A21<>\"\",IFERROR(VLOOKUP(AE21,Tabelas!B:D,3,0),0),\"\")","v":0},{"$f":"IF(A21<>\"\",IFERROR(VLOOKUP(AF21,Tabelas!B:D,3,0),0),\"\")","v":0},{"$f":"IF(A21<>\"\",IFERROR(VLOOKUP(AG21,Tabelas!B:D,3,0),0),\"\")","v":0},{"$f":"IF(A21<>\"\",IFERROR(VLOOKUP(AH21,Tabelas!B:D,3,0),0),\"\")","v":0},{"$f":"IF(A21<>\"\",IFERROR(VLOOKUP(AI21,Tabelas!B:D,3,0),0),\"\")","v":0},{"$f":"IF(A21<>\"\",IFERROR(VLOOKUP(AJ21,Tabelas!B:D,3,0),0),\"\")","v":0},{"$f":"IF(A21<>\"\",IFERROR(VLOOKUP(AK21,Tabelas!B:D,3,0),0),\"\")","v":0},{"$f":"IF(A21<>\"\",IFERROR(VLOOKUP(AL21,Tabelas!B:D,3,0),0),\"\")","v":0},{"$f":"IF(A21<>\"\",IFERROR(VLOOKUP(AM21,Tabelas!B:D,3,0),0),\"\")","v":0},{"$f":"IF(A21<>\"\",IFERROR(VLOOKUP(AN21,Tabelas!B:D,3,0),0),\"\")","v":0},{"$f":"IF(A21<>\"\",IFERROR(VLOOKUP(AO21,Tabelas!B:D,3,0),0),\"\")","v":0},{"$f":"IF(A21<>\"\",IFERROR(VLOOKUP(AP21,Tabelas!B:D,3,0),0),\"\")","v":0},{"$f":"IF(A21<>\"\",IFERROR(VLOOKUP(AQ21,Tabelas!B:D,3,0),0),\"\")","v":0},0,0,0,0,0,0,0,0]
["FULANO 14",14,null,null,null,null,null,null,null,null,null,null,null,null,null,null,null,null,null,null,null,null,null,null,null,null,null,null,null,null,null,null,null,null,null,null,null,null,null,null,null,null,null,{"$f":"IF(A22<>\"\",IFERROR(VLOOKUP(M22,Tabelas!B:D,3,0),0),\"\")","v":0},{"$f":"IF(A22<>\"\",IFERROR(VLOOKUP(N22,Tabelas!B:D,3,0),0),\"\")","v":0},{"$f":"IF(A22<>\"\",IFERROR(VLOOKUP(O22,Tabelas!B:D,3,0),0),\"\")","v":0},{"$f":"IF(A22<>\"\",IFERROR(VLOOKUP(P22,Tabelas!B:D,3,0),0),\"\")","v":0},{"$f":"IF(A22<>\"\",IFERROR(VLOOKUP(Q22,Tabelas!B:D,3,0),0),\"\")","v":0},{"$f":"IF(A22<>\"\",IFERROR(VLOOKUP(R22,Tabelas!B:D,3,0),0),\"\")","v":0},{"$f":"IF(A22<>\"\",IFERROR(VLOOKUP(S22,Tabelas!B:D,3,0),0),\"\")","v":0},{"$f":"IF(A22<>\"\",IFERROR(VLOOKUP(T22,Tabelas!B:D,3,0),0),\"\")","v":0},{"$f":"IF(A22<>\"\",IFERROR(VLOOKUP(U22,Tabelas!B:D,3,0),0),\"\")","v":0},{"$f":"IF(A22<>\"\",IFERROR(VLOOKUP(V22,Tabelas!B:D,3,0),0),\"\")","v":0},{"$f":"IF(A22<>\"\",IFERROR(VLOOKUP(W22,Tabelas!B:D,3,0),0),\"\")","v":0},{"$f":"IF(A22<>\"\",IFERROR(VLOOKUP(X22,Tabelas!B:D,3,0),0),\"\")","v":0},{"$f":"IF(A22<>\"\",IFERROR(VLOOKUP(Y22,Tabelas!B:D,3,0),0),\"\")","v":0},{"$f":"IF(A22<>\"\",IFERROR(VLOOKUP(Z22,Tabelas!B:D,3,0),0),\"\")","v":0},{"$f":"IF(A22<>\"\",IFERROR(VLOOKUP(AA22,Tabelas!B:D,3,0),0),\"\")","v":0},{"$f":"IF(A22<>\"\",IFERROR(VLOOKUP(AB22,Tabelas!B:D,3,0),0),\"\")","v":0},{"$f":"IF(A22<>\"\",IFERROR(VLOOKUP(AC22,Tabelas!B:D,3,0),0),\"\")","v":0},{"$f":"IF(A22<>\"\",IFERROR(VLOOKUP(AD22,Tabelas!B:D,3,0),0),\"\")","v":0},{"$f":"IF(A22<>\"\",IFERROR(VLOOKUP(AE22,Tabelas!B:D,3,0),0),\"\")","v":0},{"$f":"IF(A22<>\"\",IFERROR(VLOOKUP(AF22,Tabelas!B:D,3,0),0),\"\")","v":0},{"$f":"IF(A22<>\"\",IFERROR(VLOOKUP(AG22,Tabelas!B:D,3,0),0),\"\")","v":0},{"$f":"IF(A22<>\"\",IFERROR(VLOOKUP(AH22,Tabelas!B:D,3,0),0),\"\")","v":0},{"$f":"IF(A22<>\"\",IFERROR(VLOOKUP(AI22,Tabelas!B:D,3,0),0),\"\")","v":0},{"$f":"IF(A22<>\"\",IFERROR(VLOOKUP(AJ22,Tabelas!B:D,3,0),0),\"\")","v":0},{"$f":"IF(A22<>\"\",IFERROR(VLOOKUP(AK22,Tabelas!B:D,3,0),0),\"\")","v":0},{"$f":"IF(A22<>\"\",IFERROR(VLOOKUP(AL22,Tabelas!B:D,3,0),0),\"\")","v":0},{"$f":"IF(A22<>\"\",IFERROR(VLOOKUP(AM22,Tabelas!B:D,3,0),0),\"\")","v":0},{"$f":"IF(A22<>\"\",IFERROR(VLOOKUP(AN22,Tabelas!B:D,3,0),0),\"\")","v":0},{"$f":"IF(A22<>\"\",IFERROR(VLOOKUP(AO22,Tabelas!B:D,3,0),0),\"\")","v":0},{"$f":"IF(A22<>\"\",IFERROR(VLOOKUP(AP22,Tabelas!B:D,3,0),0),\"\")","v":0},{"$f":"IF(A22<>\"\",IFERROR(VLOOKUP(AQ22,Tabelas!B:D,3,0),0),\"\")","v":0},0,0,0,0,0,0,0,0]
["FULANO 15",15,null,null,null,null,null,null,null,null,null,null,null,null,null,null,null,null,null,null,null,null,null,null,null,null,null,null,null,null,null,null,null,null,null,null,null,null,null,null,null,null,null,{"$f":"IF(A23<>\"\",IFERROR(VLOOKUP(M23,Tabelas!B:D,3,0),0),\"\")","v":0},{"$f":"IF(A23<>\"\",IFERROR(VLOOKUP(N23,Tabelas!B:D,3,0),0),\"\")","v":0},{"$f":"IF(A23<>\"\",IFERROR(VLOOKUP(O23,Tabelas!B:D,3,0),0),\"\")","v":0},{"$f":"IF(A23<>\"\",IFERROR(VLOOKUP(P23,Tabelas!B:D,3,0),0),\"\")","v":0},{"$f":"IF(A23<>\"\",IFERROR(VLOOKUP(Q23,Tabelas!B:D,3,0),0),\"\")","v":0},{"$f":"IF(A23<>\"\",IFERROR(VLOOKUP(R23,Tabelas!B:D,3,0),0),\"\")","v":0},{"$f":"IF(A23<>\"\",IFERROR(VLOOKUP(S23,Tabelas!B:D,3,0),0),\"\")","v":0},{"$f":"IF(A23<>\"\",IFERROR(VLOOKUP(T23,Tabelas!B:D,3,0),0),\"\")","v":0},{"$f":"IF(A23<>\"\",IFERROR(VLOOKUP(U23,Tabelas!B:D,3,0),0),\"\")","v":0},{"$f":"IF(A23<>\"\",IFERROR(VLOOKUP(V23,Tabelas!B:D,3,0),0),\"\")","v":0},{"$f":"IF(A23<>\"\",IFERROR(VLOOKUP(W23,Tabelas!B:D,3,0),0),\"\")","v":0},{"$f":"IF(A23<>\"\",IFERROR(VLOOKUP(X23,Tabelas!B:D,3,0),0),\"\")","v":0},{"$f":"IF(A23<>\"\",IFERROR(VLOOKUP(Y23,Tabelas!B:D,3,0),0),\"\")","v":0},{"$f":"IF(A23<>\"\",IFERROR(VLOOKUP(Z23,Tabelas!B:D,3,0),0),\"\")","v":0},{"$f":"IF(A23<>\"\",IFERROR(VLOOKUP(AA23,Tabelas!B:D,3,0),0),\"\")","v":0},{"$f":"IF(A23<>\"\",IFERROR(VLOOKUP(AB23,Tabelas!B:D,3,0),0),\"\")","v":0},{"$f":"IF(A23<>\"\",IFERROR(VLOOKUP(AC23,Tabelas!B:D,3,0),0),\"\")","v":0},{"$f":"IF(A23<>\"\",IFERROR(VLOOKUP(AD23,Tabelas!B:D,3,0),0),\"\")","v":0},{"$f":"IF(A23<>\"\",IFERROR(VLOOKUP(AE23,Tabelas!B:D,3,0),0),\"\")","v":0},{"$f":"IF(A23<>\"\",IFERROR(VLOOKUP(AF23,Tabelas!B:D,3,0),0),\"\")","v":0},{"$f":"IF(A23<>\"\",IFERROR(VLOOKUP(AG23,Tabelas!B:D,3,0),0),\"\")","v":0},{"$f":"IF(A23<>\"\",IFERROR(VLOOKUP(AH23,Tabelas!B:D,3,0),0),\"\")","v":0},{"$f":"IF(A23<>\"\",IFERROR(VLOOKUP(AI23,Tabelas!B:D,3,0),0),\"\")","v":0},{"$f":"IF(A23<>\"\",IFERROR(VLOOKUP(AJ23,Tabelas!B:D,3,0),0),\"\")","v":0},{"$f":"IF(A23<>\"\",IFERROR(VLOOKUP(AK23,Tabelas!B:D,3,0),0),\"\")","v":0},{"$f":"IF(A23<>\"\",IFERROR(VLOOKUP(AL23,Tabelas!B:D,3,0),0),\"\")","v":0},{"$f":"IF(A23<>\"\",IFERROR(VLOOKUP(AM23,Tabelas!B:D,3,0),0),\"\")","v":0},{"$f":"IF(A23<>\"\",IFERROR(VLOOKUP(AN23,Tabelas!B:D,3,0),0),\"\")","v":0},{"$f":"IF(A23<>\"\",IFERROR(VLOOKUP(AO23,Tabelas!B:D,3,0),0),\"\")","v":0},{"$f":"IF(A23<>\"\",IFERROR(VLOOKUP(AP23,Tabelas!B:D,3,0),0),\"\")","v":0},{"$f":"IF(A23<>\"\",IFERROR(VLOOKUP(AQ23,Tabelas!B:D,3,0),0),\"\")","v":0},0,0,0,0,0,0,0,0]
["FULANO 16",16,null,null,null,null,null,null,null,null,null,null,null,null,null,null,null,null,null,null,null,null,null,null,null,null,null,null,null,null,null,null,null,null,null,null,null,null,null,null,null,null,null,{"$f":"IF(A24<>\"\",IFERROR(VLOOKUP(M24,Tabelas!B:D,3,0),0),\"\")","v":0},{"$f":"IF(A24<>\"\",IFERROR(VLOOKUP(N24,Tabelas!B:D,3,0),0),\"\")","v":0},{"$f":"IF(A24<>\"\",IFERROR(VLOOKUP(O24,Tabelas!B:D,3,0),0),\"\")","v":0},{"$f":"IF(A24<>\"\",IFERROR(VLOOKUP(P24,Tabelas!B:D,3,0),0),\"\")","v":0},{"$f":"IF(A24<>\"\",IFERROR(VLOOKUP(Q24,Tabelas!B:D,3,0),0),\"\")","v":0},{"$f":"IF(A24<>\"\",IFERROR(VLOOKUP(R24,Tabelas!B:D,3,0),0),\"\")","v":0},{"$f":"IF(A24<>\"\",IFERROR(VLOOKUP(S24,Tabelas!B:D,3,0),0),\"\")","v":0},{"$f":"IF(A24<>\"\",IFERROR(VLOOKUP(T24,Tabelas!B:D,3,0),0),\"\")","v":0},{"$f":"IF(A24<>\"\",IFERROR(VLOOKUP(U24,Tabelas!B:D,3,0),0),\"\")","v":0},{"$f":"IF(A24<>\"\",IFERROR(VLOOKUP(V24,Tabelas!B:D,3,0),0),\"\")","v":0},{"$f":"IF(A24<>\"\",IFERROR(VLOOKUP(W24,Tabelas!B:D,3,0),0),\"\")","v":0},{"$f":"IF(A24<>\"\",IFERROR(VLOOKUP(X24,Tabelas!B:D,3,0),0),\"\")","v":0},{"$f":"IF(A24<>\"\",IFERROR(VLOOKUP(Y24,Tabelas!B:D,3,0),0),\"\")","v":0},{"$f":"IF(A24<>\"\",IFERROR(VLOOKUP(Z24,Tabelas!B:D,3,0),0),\"\")","v":0},{"$f":"IF(A24<>\"\",IFERROR(VLOOKUP(AA24,Tabelas!B:D,3,0),0),\"\")","v":0},{"$f":"IF(A24<>\"\",IFERROR(VLOOKUP(AB24,Tabelas!B:D,3,0),0),\"\")","v":0},{"$f":"IF(A24<>\"\",IFERROR(VLOOKUP(AC24,Tabelas!B:D,3,0),0),\"\")","v":0},{"$f":"IF(A24<>\"\",IFERROR(VLOOKUP(AD24,Tabelas!B:D,3,0),0),\"\")","v":0},{"$f":"IF(A24<>\"\",IFERROR(VLOOKUP(AE24,Tabelas!B:D,3,0),0),\"\")","v":0},{"$f":"IF(A24<>\"\",IFERROR(VLOOKUP(AF24,Tabelas!B:D,3,0),0),\"\")","v":0},{"$f":"IF(A24<>\"\",IFERROR(VLOOKUP(AG24,Tabelas!B:D,3,0),0),\"\")","v":0},{"$f":"IF(A24<>\"\",IFERROR(VLOOKUP(AH24,Tabelas!B:D,3,0),0),\"\")","v":0},{"$f":"IF(A24<>\"\",IFERROR(VLOOKUP(AI24,Tabelas!B:D,3,0),0),\"\")","v":0},{"$f":"IF(A24<>\"\",IFERROR(VLOOKUP(AJ24,Tabelas!B:D,3,0),0),\"\")","v":0},{"$f":"IF(A24<>\"\",IFERROR(VLOOKUP(AK24,Tabelas!B:D,3,0),0),\"\")","v":0},{"$f":"IF(A24<>\"\",IFERROR(VLOOKUP(AL24,Tabelas!B:D,3,0),0),\"\")","v":0},{"$f":"IF(A24<>\"\",IFERROR(VLOOKUP(AM24,Tabelas!B:D,3,0),0),\"\")","v":0},{"$f":"IF(A24<>\"\",IFERROR(VLOOKUP(AN24,Tabelas!B:D,3,0),0),\"\")","v":0},{"$f":"IF(A24<>\"\",IFERROR(VLOOKUP(AO24,Tabelas!B:D,3,0),0),\"\")","v":0},{"$f":"IF(A24<>\"\",IFERROR(VLOOKUP(AP24,Tabelas!B:D,3,0),0),\"\")","v":0},{"$f":"IF(A24<>\"\",IFERROR(VLOOKUP(AQ24,Tabelas!B:D,3,0),0),\"\")","v":0},0,0,0,0,0,0,0,0]
["FULANO 17",17,null,null,null,null,null,null,null,null,null,null,null,null,null,null,null,null,null,null,null,null,null,null,null,null,null,null,null,null,null,null,null,null,null,null,null,null,null,null,null,null,null,{"$f":"IF(A25<>\"\",IFERROR(VLOOKUP(M25,Tabelas!B:D,3,0),0),\"\")","v":0},{"$f":"IF(A25<>\"\",IFERROR(VLOOKUP(N25,Tabelas!B:D,3,0),0),\"\")","v":0},{"$f":"IF(A25<>\"\",IFERROR(VLOOKUP(O25,Tabelas!B:D,3,0),0),\"\")","v":0},{"$f":"IF(A25<>\"\",IFERROR(VLOOKUP(P25,Tabelas!B:D,3,0),0),\"\")","v":0},{"$f":"IF(A25<>\"\",IFERROR(VLOOKUP(Q25,Tabelas!B:D,3,0),0),\"\")","v":0},{"$f":"IF(A25<>\"\",IFERROR(VLOOKUP(R25,Tabelas!B:D,3,0),0),\"\")","v":0},{"$f":"IF(A25<>\"\",IFERROR(VLOOKUP(S25,Tabelas!B:D,3,0),0),\"\")","v":0},{"$f":"IF(A25<>\"\",IFERROR(VLOOKUP(T25,Tabelas!B:D,3,0),0),\"\")","v":0},{"$f":"IF(A25<>\"\",IFERROR(VLOOKUP(U25,Tabelas!B:D,3,0),0),\"\")","v":0},{"$f":"IF(A25<>\"\",IFERROR(VLOOKUP(V25,Tabelas!B:D,3,0),0),\"\")","v":0},{"$f":"IF(A25<>\"\",IFERROR(VLOOKUP(W25,Tabelas!B:D,3,0),0),\"\")","v":0},{"$f":"IF(A25<>\"\",IFERROR(VLOOKUP(X25,Tabelas!B:D,3,0),0),\"\")","v":0},{"$f":"IF(A25<>\"\",IFERROR(VLOOKUP(Y25,Tabelas!B:D,3,0),0),\"\")","v":0},{"$f":"IF(A25<>\"\",IFERROR(VLOOKUP(Z25,Tabelas!B:D,3,0),0),\"\")","v":0},{"$f":"IF(A25<>\"\",IFERROR(VLOOKUP(AA25,Tabelas!B:D,3,0),0),\"\")","v":0},{"$f":"IF(A25<>\"\",IFERROR(VLOOKUP(AB25,Tabelas!B:D,3,0),0),\"\")","v":0},{"$f":"IF(A25<>\"\",IFERROR(VLOOKUP(AC25,Tabelas!B:D,3,0),0),\"\")","v":0},{"$f":"IF(A25<>\"\",IFERROR(VLOOKUP(AD25,Tabelas!B:D,3,0),0),\"\")","v":0},{"$f":"IF(A25<>\"\",IFERROR(VLOOKUP(AE25,Tabelas!B:D,3,0),0),\"\")","v":0},{"$f":"IF(A25<>\"\",IFERROR(VLOOKUP(AF25,Tabelas!B:D,3,0),0),\"\")","v":0},{"$f":"IF(A25<>\"\",IFERROR(VLOOKUP(AG25,Tabelas!B:D,3,0),0),\"\")","v":0},{"$f":"IF(A25<>\"\",IFERROR(VLOOKUP(AH25,Tabelas!B:D,3,0),0),\"\")","v":0},{"$f":"IF(A25<>\"\",IFERROR(VLOOKUP(AI25,Tabelas!B:D,3,0),0),\"\")","v":0},{"$f":"IF(A25<>\"\",IFERROR(VLOOKUP(AJ25,Tabelas!B:D,3,0),0),\"\")","v":0},{"$f":"IF(A25<>\"\",IFERROR(VLOOKUP(AK25,Tabelas!B:D,3,0),0),\"\")","v":0},{"$f":"IF(A25<>\"\",IFERROR(VLOOKUP(AL25,Tabelas!B:D,3,0),0),\"\")","v":0},{"$f":"IF(A25<>\"\",IFERROR(VLOOKUP(AM25,Tabelas!B:D,3,0),0),\"\")","v":0},{"$f":"IF(A25<>\"\",IFERROR(VLOOKUP(AN25,Tabelas!B:D,3,0),0),\"\")","v":0},{"$f":"IF(A25<>\"\",IFERROR(VLOOKUP(AO25,Tabelas!B:D,3,0),0),\"\")","v":0},{"$f":"IF(A25<>\"\",IFERROR(VLOOKUP(AP25,Tabelas!B:D,3,0),0),\"\")","v":0},{"$f":"IF(A25<>\"\",IFERROR(VLOOKUP(AQ25,Tabelas!B:D,3,0),0),\"\")","v":0},0,0,0,0,0,0,0,0]
["FULANO 18",18,null,null,null,null,null,null,null,null,null,null,null,null,null,null,null,null,null,null,null,null,null,null,null,null,null,null,null,null,null,null,null,null,null,null,null,null,null,null,null,null,null,{"$f":"IF(A26<>\"\",IFERROR(VLOOKUP(M26,Tabelas!B:D,3,0),0),\"\")","v":0},{"$f":"IF(A26<>\"\",IFERROR(VLOOKUP(N26,Tabelas!B:D,3,0),0),\"\")","v":0},{"$f":"IF(A26<>\"\",IFERROR(VLOOKUP(O26,Tabelas!B:D,3,0),0),\"\")","v":0},{"$f":"IF(A26<>\"\",IFERROR(VLOOKUP(P26,Tabelas!B:D,3,0),0),\"\")","v":0},{"$f":"IF(A26<>\"\",IFERROR(VLOOKUP(Q26,Tabelas!B:D,3,0),0),\"\")","v":0},{"$f":"IF(A26<>\"\",IFERROR(VLOOKUP(R26,Tabelas!B:D,3,0),0),\"\")","v":0},{"$f":"IF(A26<>\"\",IFERROR(VLOOKUP(S26,Tabelas!B:D,3,0),0),\"\")","v":0},{"$f":"IF(A26<>\"\",IFERROR(VLOOKUP(T26,Tabelas!B:D,3,0),0),\"\")","v":0},{"$f":"IF(A26<>\"\",IFERROR(VLOOKUP(U26,Tabelas!B:D,3,0),0),\"\")","v":0},{"$f":"IF(A26<>\"\",IFERROR(VLOOKUP(V26,Tabelas!B:D,3,0),0),\"\")","v":0},{"$f":"IF(A26<>\"\",IFERROR(VLOOKUP(W26,Tabelas!B:D,3,0),0),\"\")","v":0},{"$f":"IF(A26<>\"\",IFERROR(VLOOKUP(X26,Tabelas!B:D,3,0),0),\"\")","v":0},{"$f":"IF(A26<>\"\",IFERROR(VLOOKUP(Y26,Tabelas!B:D,3,0),0),\"\")","v":0},{"$f":"IF(A26<>\"\",IFERROR(VLOOKUP(Z26,Tabelas!B:D,3,0),0),\"\")","v":0},{"$f":"IF(A26<>\"\",IFERROR(VLOOKUP(AA26,Tabelas!B:D,3,0),0),\"\")","v":0},{"$f":"IF(A26<>\"\",IFERROR(VLOOKUP(AB26,Tabelas!B:D,3,0),0),\"\")","v":0},{"$f":"IF(A26<>\"\",IFERROR(VLOOKUP(AC26,Tabelas!B:D,3,0),0),\"\")","v":0},{"$f":"IF(A26<>\"\",IFERROR(VLOOKUP(AD26,Tabelas!B:D,3,0),0),\"\")","v":0},{"$f":"IF(A26<>\"\",IFERROR(VLOOKUP(AE26,Tabelas!B:D,3,0),0),\"\")","v":0},{"$f":"IF(A26<>\"\",IFERROR(VLOOKUP(AF26,Tabelas!B:D,3,0),0),\"\")","v":0},{"$f":"IF(A26<>\"\",IFERROR(VLOOKUP(AG26,Tabelas!B:D,3,0),0),\"\")","v":0},{"$f":"IF(A26<>\"\",IFERROR(VLOOKUP(AH26,Tabelas!B:D,3,0),0),\"\")","v":0},{"$f":"IF(A26<>\"\",IFERROR(VLOOKUP(AI26,Tabelas!B:D,3,0),0),\"\")","v":0},{"$f":"IF(A26<>\"\",IFERROR(VLOOKUP(AJ26,Tabelas!B:D,3,0),0),\"\")","v":0},{"$f":"IF(A26<>\"\",IFERROR(VLOOKUP(AK26,Tabelas!B:D,3,0),0),\"\")","v":0},{"$f":"IF(A26<>\"\",IFERROR(VLOOKUP(AL26,Tabelas!B:D,3,0),0),\"\")","v":0},{"$f":"IF(A26<>\"\",IFERROR(VLOOKUP(AM26,Tabelas!B:D,3,0),0),\"\")","v":0},{"$f":"IF(A26<>\"\",IFERROR(VLOOKUP(AN26,Tabelas!B:D,3,0),0),\"\")","v":0},{"$f":"IF(A26<>\"\",IFERROR(VLOOKUP(AO26,Tabelas!B:D,3,0),0),\"\")","v":0},{"$f":"IF(A26<>\"\",IFERROR(VLOOKUP(AP26,Tabelas!B:D,3,0),0),\"\")","v":0},{"$f":"IF(A26<>\"\",IFERROR(VLOOKUP(AQ26,Tabelas!B:D,3,0),0),\"\")","v":0},0,0,0,0,0,0,0,0]
["FULANO 19",19,null,null,null,null,null,null,null,null,null,null,null,null,null,null,null,null,null,null,null,null,null,null,null,null,null,null,null,null,null,null,null,null,null,null,null,null,null,null,null,null,null,{"$f":"IF(A27<>\"\",IFERROR(VLOOKUP(M27,Tabelas!B:D,3,0),0),\"\")","v":0},{"$f":"IF(A27<>\"\",IFERROR(VLOOKUP(N27,Tabelas!B:D,3,0),0),\"\")","v":0},{"$f":"IF(A27<>\"\",IFERROR(VLOOKUP(O27,Tabelas!B:D,3,0),0),\"\")","v":0},{"$f":"IF(A27<>\"\",IFERROR(VLOOKUP(P27,Tabelas!B:D,3,0),0),\"\")","v":0},{"$f":"IF(A27<>\"\",IFERROR(VLOOKUP(Q27,Tabelas!B:D,3,0),0),\"\")","v":0},{"$f":"IF(A27<>\"\",IFERROR(VLOOKUP(R27,Tabelas!B:D,3,0),0),\"\")","v":0},{"$f":"IF(A27<>\"\",IFERROR(VLOOKUP(S27,Tabelas!B:D,3,0),0),\"\")","v":0},{"$f":"IF(A27<>\"\",IFERROR(VLOOKUP(T27,Tabelas!B:D,3,0),0),\"\")","v":0},{"$f":"IF(A27<>\"\",IFERROR(VLOOKUP(U27,Tabelas!B:D,3,0),0),\"\")","v":0},{"$f":"IF(A27<>\"\",IFERROR(VLOOKUP(V27,Tabelas!B:D,3,0),0),\"\")","v":0},{"$f":"IF(A27<>\"\",IFERROR(VLOOKUP(W27,Tabelas!B:D,3,0),0),\"\")","v":0},{"$f":"IF(A27<>\"\",IFERROR(VLOOKUP(X27,Tabelas!B:D,3,0),0),\"\")","v":0},{"$f":"IF(A27<>\"\",IFERROR(VLOOKUP(Y27,Tabelas!B:D,3,0),0),\"\")","v":0},{"$f":"IF(A27<>\"\",IFERROR(VLOOKUP(Z27,Tabelas!B:D,3,0),0),\"\")","v":0},{"$f":"IF(A27<>\"\",IFERROR(VLOOKUP(AA27,Tabelas!B:D,3,0),0),\"\")","v":0},{"$f":"IF(A27<>\"\",IFERROR(VLOOKUP(AB27,Tabelas!B:D,3,0),0),\"\")","v":0},{"$f":"IF(A27<>\"\",IFERROR(VLOOKUP(AC27,Tabelas!B:D,3,0),0),\"\")","v":0},{"$f":"IF(A27<>\"\",IFERROR(VLOOKUP(AD27,Tabelas!B:D,3,0),0),\"\")","v":0},{"$f":"IF(A27<>\"\",IFERROR(VLOOKUP(AE27,Tabelas!B:D,3,0),0),\"\")","v":0},{"$f":"IF(A27<>\"\",IFERROR(VLOOKUP(AF27,Tabelas!B:D,3,0),0),\"\")","v":0},{"$f":"IF(A27<>\"\",IFERROR(VLOOKUP(AG27,Tabelas!B:D,3,0),0),\"\")","v":0},{"$f":"IF(A27<>\"\",IFERROR(VLOOKUP(AH27,Tabelas!B:D,3,0),0),\"\")","v":0},{"$f":"IF(A27<>\"\",IFERROR(VLOOKUP(AI27,Tabelas!B:D,3,0),0),\"\")","v":0},{"$f":"IF(A27<>\"\",IFERROR(VLOOKUP(AJ27,Tabelas!B:D,3,0),0),\"\")","v":0},{"$f":"IF(A27<>\"\",IFERROR(VLOOKUP(AK27,Tabelas!B:D,3,0),0),\"\")","v":0},{"$f":"IF(A27<>\"\",IFERROR(VLOOKUP(AL27,Tabelas!B:D,3,0),0),\"\")","v":0},{"$f":"IF(A27<>\"\",IFERROR(VLOOKUP(AM27,Tabelas!B:D,3,0),0),\"\")","v":0},{"$f":"IF(A27<>\"\",IFERROR(VLOOKUP(AN27,Tabelas!B:D,3,0),0),\"\")","v":0},{"$f":"IF(A27<>\"\",IFERROR(VLOOKUP(AO27,Tabelas!B:D,3,0),0),\"\")","v":0},{"$f":"IF(A27<>\"\",IFERROR(VLOOKUP(AP27,Tabelas!B:D,3,0),0),\"\")","v":0},{"$f":"IF(A27<>\"\",IFERROR(VLOOKUP(AQ27,Tabelas!B:D,3,0),0),\"\")","v":0},0,0,0,0,0,0,0,0]
["FULANO 20",20,null,null,null,null,null,null,null,null,null,null,null,null,null,null,null,null,null,null,null,null,null,null,null,null,null,null,null,null,null,null,null,null,null,null,null,null,null,null,null,null,null,{"$f":"IF(A28<>\"\",IFERROR(VLOOKUP(M28,Tabelas!B:D,3,0),0),\"\")","v":0},{"$f":"IF(A28<>\"\",IFERROR(VLOOKUP(N28,Tabelas!B:D,3,0),0),\"\")","v":0},{"$f":"IF(A28<>\"\",IFERROR(VLOOKUP(O28,Tabelas!B:D,3,0),0),\"\")","v":0},{"$f":"IF(A28<>\"\",IFERROR(VLOOKUP(P28,Tabelas!B:D,3,0),0),\"\")","v":0},{"$f":"IF(A28<>\"\",IFERROR(VLOOKUP(Q28,Tabelas!B:D,3,0),0),\"\")","v":0},{"$f":"IF(A28<>\"\",IFERROR(VLOOKUP(R28,Tabelas!B:D,3,0),0),\"\")","v":0},{"$f":"IF(A28<>\"\",IFERROR(VLOOKUP(S28,Tabelas!B:D,3,0),0),\"\")","v":0},{"$f":"IF(A28<>\"\",IFERROR(VLOOKUP(T28,Tabelas!B:D,3,0),0),\"\")","v":0},{"$f":"IF(A28<>\"\",IFERROR(VLOOKUP(U28,Tabelas!B:D,3,0),0),\"\")","v":0},{"$f":"IF(A28<>\"\",IFERROR(VLOOKUP(V28,Tabelas!B:D,3,0),0),\"\")","v":0},{"$f":"IF(A28<>\"\",IFERROR(VLOOKUP(W28,Tabelas!B:D,3,0),0),\"\")","v":0},{"$f":"IF(A28<>\"\",IFERROR(VLOOKUP(X28,Tabelas!B:D,3,0),0),\"\")","v":0},{"$f":"IF(A28<>\"\",IFERROR(VLOOKUP(Y28,Tabelas!B:D,3,0),0),\"\")","v":0},{"$f":"IF(A28<>\"\",IFERROR(VLOOKUP(Z28,Tabelas!B:D,3,0),0),\"\")","v":0},{"$f":"IF(A28<>\"\",IFERROR(VLOOKUP(AA28,Tabelas!B:D,3,0),0),\"\")","v":0},{"$f":"IF(A28<>\"\",IFERROR(VLOOKUP(AB28,Tabelas!B:D,3,0),0),\"\")","v":0},{"$f":"IF(A28<>\"\",IFERROR(VLOOKUP(AC28,Tabelas!B:D,3,0),0),\"\")","v":0},{"$f":"IF(A28<>\"\",IFERROR(VLOOKUP(AD28,Tabelas!B:D,3,0),0),\"\")","v":0},{"$f":"IF(A28<>\"\",IFERROR(VLOOKUP(AE28,Tabelas!B:D,3,0),0),\"\")","v":0},{"$f":"IF(A28<>\"\",IFERROR(VLOOKUP(AF28,Tabelas!B:D,3,0),0),\"\")","v":0},{"$f":"IF(A28<>\"\",IFERROR(VLOOKUP(AG28,Tabelas!B:D,3,0),0),\"\")","v":0},{"$f":"IF(A28<>\"\",IFERROR(VLOOKUP(AH28,Tabelas!B:D,3,0),0),\"\")","v":0},{"$f":"IF(A28<>\"\",IFERROR(VLOOKUP(AI28,Tabelas!B:D,3,0),0),\"\")","v":0},{"$f":"IF(A28<>\"\",IFERROR(VLOOKUP(AJ28,Tabelas!B:D,3,0),0),\"\")","v":0},{"$f":"IF(A28<>\"\",IFERROR(VLOOKUP(AK28,Tabelas!B:D,3,0),0),\"\")","v":0},{"$f":"IF(A28<>\"\",IFERROR(VLOOKUP(AL28,Tabelas!B:D,3,0),0),\"\")","v":0},{"$f":"IF(A28<>\"\",IFERROR(VLOOKUP(AM28,Tabelas!B:D,3,0),0),\"\")","v":0},{"$f":"IF(A28<>\"\",IFERROR(VLOOKUP(AN28,Tabelas!B:D,3,0),0),\"\")","v":0},{"$f":"IF(A28<>\"\",IFERROR(VLOOKUP(AO28,Tabelas!B:D,3,0),0),\"\")","v":0},{"$f":"IF(A28<>\"\",IFERROR(VLOOKUP(AP28,Tabelas!B:D,3,0),0),\"\")","v":0},{"$f":"IF(A28<>\"\",IFERROR(VLOOKUP(AQ28,Tabelas!B:D,3,0),0),\"\")","v":0},0,0,0,0,0,0,0,0]
["FULANO 21",21,null,null,null,null,null,null,null,null,null,null,null,null,null,null,null,null,null,null,null,null,null,null,null,null,null,null,null,null,null,null,null,null,null,null,null,null,null,null,null,null,null,{"$f":"IF(A29<>\"\",IFERROR(VLOOKUP(M29,Tabelas!B:D,3,0),0),\"\")","v":0},{"$f":"IF(A29<>\"\",IFERROR(VLOOKUP(N29,Tabelas!B:D,3,0),0),\"\")","v":0},{"$f":"IF(A29<>\"\",IFERROR(VLOOKUP(O29,Tabelas!B:D,3,0),0),\"\")","v":0},{"$f":"IF(A29<>\"\",IFERROR(VLOOKUP(P29,Tabelas!B:D,3,0),0),\"\")","v":0},{"$f":"IF(A29<>\"\",IFERROR(VLOOKUP(Q29,Tabelas!B:D,3,0),0),\"\")","v":0},{"$f":"IF(A29<>\"\",IFERROR(VLOOKUP(R29,Tabelas!B:D,3,0),0),\"\")","v":0},{"$f":"IF(A29<>\"\",IFERROR(VLOOKUP(S29,Tabelas!B:D,3,0),0),\"\")","v":0},{"$f":"IF(A29<>\"\",IFERROR(VLOOKUP(T29,Tabelas!B:D,3,0),0),\"\")","v":0},{"$f":"IF(A29<>\"\",IFERROR(VLOOKUP(U29,Tabelas!B:D,3,0),0),\"\")","v":0},{"$f":"IF(A29<>\"\",IFERROR(VLOOKUP(V29,Tabelas!B:D,3,0),0),\"\")","v":0},{"$f":"IF(A29<>\"\",IFERROR(VLOOKUP(W29,Tabelas!B:D,3,0),0),\"\")","v":0},{"$f":"IF(A29<>\"\",IFERROR(VLOOKUP(X29,Tabelas!B:D,3,0),0),\"\")","v":0},{"$f":"IF(A29<>\"\",IFERROR(VLOOKUP(Y29,Tabelas!B:D,3,0),0),\"\")","v":0},{"$f":"IF(A29<>\"\",IFERROR(VLOOKUP(Z29,Tabelas!B:D,3,0),0),\"\")","v":0},{"$f":"IF(A29<>\"\",IFERROR(VLOOKUP(AA29,Tabelas!B:D,3,0),0),\"\")","v":0},{"$f":"IF(A29<>\"\",IFERROR(VLOOKUP(AB29,Tabelas!B:D,3,0),0),\"\")","v":0},{"$f":"IF(A29<>\"\",IFERROR(VLOOKUP(AC29,Tabelas!B:D,3,0),0),\"\")","v":0},{"$f":"IF(A29<>\"\",IFERROR(VLOOKUP(AD29,Tabelas!B:D,3,0),0),\"\")","v":0},{"$f":"IF(A29<>\"\",IFERROR(VLOOKUP(AE29,Tabelas!B:D,3,0),0),\"\")","v":0},{"$f":"IF(A29<>\"\",IFERROR(VLOOKUP(AF29,Tabelas!B:D,3,0),0),\"\")","v":0},{"$f":"IF(A29<>\"\",IFERROR(VLOOKUP(AG29,Tabelas!B:D,3,0),0),\"\")","v":0},{"$f":"IF(A29<>\"\",IFERROR(VLOOKUP(AH29,Tabelas!B:D,3,0),0),\"\")","v":0},{"$f":"IF(A29<>\"\",IFERROR(VLOOKUP(AI29,Tabelas!B:D,3,0),0),\"\")","v":0},{"$f":"IF(A29<>\"\",IFERROR(VLOOKUP(AJ29,Tabelas!B:D,3,0),0),\"\")","v":0},{"$f":"IF(A29<>\"\",IFERROR(VLOOKUP(AK29,Tabelas!B:D,3,0),0),\"\")","v":0},{"$f":"IF(A29<>\"\",IFERROR(VLOOKUP(AL29,Tabelas!B:D,3,0),0),\"\")","v":0},{"$f":"IF(A29<>\"\",IFERROR(VLOOKUP(AM29,Tabelas!B:D,3,0),0),\"\")","v":0},{"$f":"IF(A29<>\"\",IFERROR(VLOOKUP(AN29,Tabelas!B:D,3,0),0),\"\")","v":0},{"$f":"IF(A29<>\"\",IFERROR(VLOOKUP(AO29,Tabelas!B:D,3,0),0),\"\")","v":0},{"$f":"IF(A29<>\"\",IFERROR(VLOOKUP(AP29,Tabelas!B:D,3,0),0),\"\")","v":0},{"$f":"IF(A29<>\"\",IFERROR(VLOOKUP(AQ29,Tabelas!B:D,3,0),0),\"\")","v":0},0,0,0,0,0,0,0,0]
["FULANO 22",22,null,null,null,null,null,null,null,null,null,null,null,null,null,null,null,null,null,null,null,null,null,null,null,null,null,null,null,null,null,null,null,null,null,null,null,null,null,null,null,null,null,{"$f":"IF(A30<>\"\",IFERROR(VLOOKUP(M30,Tabelas!B:D,3,0),0),\"\")","v":0},{"$f":"IF(A30<>\"\",IFERROR(VLOOKUP(N30,Tabelas!B:D,3,0),0),\"\")","v":0},{"$f":"IF(A30<>\"\",IFERROR(VLOOKUP(O30,Tabelas!B:D,3,0),0),\"\")","v":0},{"$f":"IF(A30<>\"\",IFERROR(VLOOKUP(P30,Tabelas!B:D,3,0),0),\"\")","v":0},{"$f":"IF(A30<>\"\",IFERROR(VLOOKUP(Q30,Tabelas!B:D,3,0),0),\"\")","v":0},{"$f":"IF(A30<>\"\",IFERROR(VLOOKUP(R30,Tabelas!B:D,3,0),0),\"\")","v":0},{"$f":"IF(A30<>\"\",IFERROR(VLOOKUP(S30,Tabelas!B:D,3,0),0),\"\")","v":0},{"$f":"IF(A30<>\"\",IFERROR(VLOOKUP(T30,Tabelas!B:D,3,0),0),\"\")","v":0},{"$f":"IF(A30<>\"\",IFERROR(VLOOKUP(U30,Tabelas!B:D,3,0),0),\"\")","v":0},{"$f":"IF(A30<>\"\",IFERROR(VLOOKUP(V30,Tabelas!B:D,3,0),0),\"\")","v":0},{"$f":"IF(A30<>\"\",IFERROR(VLOOKUP(W30,Tabelas!B:D,3,0),0),\"\")","v":0},{"$f":"IF(A30<>\"\",IFERROR(VLOOKUP(X30,Tabelas!B:D,3,0),0),\"\")","v":0},{"$f":"IF(A30<>\"\",IFERROR(VLOOKUP(Y30,Tabelas!B:D,3,0),0),\"\")","v":0},{"$f":"IF(A30<>\"\",IFERROR(VLOOKUP(Z30,Tabelas!B:D,3,0),0),\"\")","v":0},{"$f":"IF(A30<>\"\",IFERROR(VLOOKUP(AA30,Tabelas!B:D,3,0),0),\"\")","v":0},{"$f":"IF(A30<>\"\",IFERROR(VLOOKUP(AB30,Tabelas!B:D,3,0),0),\"\")","v":0},{"$f":"IF(A30<>\"\",IFERROR(VLOOKUP(AC30,Tabelas!B:D,3,0),0),\"\")","v":0},{"$f":"IF(A30<>\"\",IFERROR(VLOOKUP(AD30,Tabelas!B:D,3,0),0),\"\")","v":0},{"$f":"IF(A30<>\"\",IFERROR(VLOOKUP(AE30,Tabelas!B:D,3,0),0),\"\")","v":0},{"$f":"IF(A30<>\"\",IFERROR(VLOOKUP(AF30,Tabelas!B:D,3,0),0),\"\")","v":0},{"$f":"IF(A30<>\"\",IFERROR(VLOOKUP(AG30,Tabelas!B:D,3,0),0),\"\")","v":0},{"$f":"IF(A30<>\"\",IFERROR(VLOOKUP(AH30,Tabelas!B:D,3,0),0),\"\")","v":0},{"$f":"IF(A30<>\"\",IFERROR(VLOOKUP(AI30,Tabelas!B:D,3,0),0),\"\")","v":0},{"$f":"IF(A30<>\"\",IFERROR(VLOOKUP(AJ30,Tabelas!B:D,3,0),0),\"\")","v":0},{"$f":"IF(A30<>\"\",IFERROR(VLOOKUP(AK30,Tabelas!B:D,3,0),0),\"\")","v":0},{"$f":"IF(A30<>\"\",IFERROR(VLOOKUP(AL30,Tabelas!B:D,3,0),0),\"\")","v":0},{"$f":"IF(A30<>\"\",IFERROR(VLOOKUP(AM30,Tabelas!B:D,3,0),0),\"\")","v":0},{"$f":"IF(A30<>\"\",IFERROR(VLOOKUP(AN30,Tabelas!B:D,3,0),0),\"\")","v":0},{"$f":"IF(A30<>\"\",IFERROR(VLOOKUP(AO30,Tabelas!B:D,3,0),0),\"\")","v":0},{"$f":"IF(A30<>\"\",IFERROR(VLOOKUP(AP30,Tabelas!B:D,3,0),0),\"\")","v":0},{"$f":"IF(A30<>\"\",IFERROR(VLOOKUP(AQ30,Tabelas!B:D,3,0),0),\"\")","v":0},0,0,0,0,0,0,0,0]
["FULANO 23",23,null,null,null,null,null,null,null,null,null,null,null,null,null,null,null,null,null,null,null,null,null,null,null,null,null,null,null,null,null,null,null,null,null,null,null,null,null,null,null,null,null,{"$f":"IF(A31<>\"\",IFERROR(VLOOKUP(M31,Tabelas!B:D,3,0),0),\"\")","v":0},{"$f":"IF(A31<>\"\",IFERROR(VLOOKUP(N31,Tabelas!B:D,3,0),0),\"\")","v":0},{"$f":"IF(A31<>\"\",IFERROR(VLOOKUP(O31,Tabelas!B:D,3,0),0),\"\")","v":0},{"$f":"IF(A31<>\"\",IFERROR(VLOOKUP(P31,Tabelas!B:D,3,0),0),\"\")","v":0},{"$f":"IF(A31<>\"\",IFERROR(VLOOKUP(Q31,Tabelas!B:D,3,0),0),\"\")","v":0},{"$f":"IF(A31<>\"\",IFERROR(VLOOKUP(R31,Tabelas!B:D,3,0),0),\"\")","v":0},{"$f":"IF(A31<>\"\",IFERROR(VLOOKUP(S31,Tabelas!B:D,3,0),0),\"\")","v":0},{"$f":"IF(A31<>\"\",IFERROR(VLOOKUP(T31,Tabelas!B:D,3,0),0),\"\")","v":0},{"$f":"IF(A31<>\"\",IFERROR(VLOOKUP(U31,Tabelas!B:D,3,0),0),\"\")","v":0},{"$f":"IF(A31<>\"\",IFERROR(VLOOKUP(V31,Tabelas!B:D,3,0),0),\"\")","v":0},{"$f":"IF(A31<>\"\",IFERROR(VLOOKUP(W31,Tabelas!B:D,3,0),0),\"\")","v":0},{"$f":"IF(A31<>\"\",IFERROR(VLOOKUP(X31,Tabelas!B:D,3,0),0),\"\")","v":0},{"$f":"IF(A31<>\"\",IFERROR(VLOOKUP(Y31,Tabelas!B:D,3,0),0),\"\")","v":0},{"$f":"IF(A31<>\"\",IFERROR(VLOOKUP(Z31,Tabelas!B:D,3,0),0),\"\")","v":0},{"$f":"IF(A31<>\"\",IFERROR(VLOOKUP(AA31,Tabelas!B:D,3,0),0),\"\")","v":0},{"$f":"IF(A31<>\"\",IFERROR(VLOOKUP(AB31,Tabelas!B:D,3,0),0),\"\")","v":0},{"$f":"IF(A31<>\"\",IFERROR(VLOOKUP(AC31,Tabelas!B:D,3,0),0),\"\")","v":0},{"$f":"IF(A31<>\"\",IFERROR(VLOOKUP(AD31,Tabelas!B:D,3,0),0),\"\")","v":0},{"$f":"IF(A31<>\"\",IFERROR(VLOOKUP(AE31,Tabelas!B:D,3,0),0),\"\")","v":0},{"$f":"IF(A31<>\"\",IFERROR(VLOOKUP(AF31,Tabelas!B:D,3,0),0),\"\")","v":0},{"$f":"IF(A31<>\"\",IFERROR(VLOOKUP(AG31,Tabelas!B:D,3,0),0),\"\")","v":0},{"$f":"IF(A31<>\"\",IFERROR(VLOOKUP(AH31,Tabelas!B:D,3,0),0),\"\")","v":0},{"$f":"IF(A31<>\"\",IFERROR(VLOOKUP(AI31,Tabelas!B:D,3,0),0),\"\")","v":0},{"$f":"IF(A31<>\"\",IFERROR(VLOOKUP(AJ31,Tabelas!B:D,3,0),0),\"\")","v":0},{"$f":"IF(A31<>\"\",IFERROR(VLOOKUP(AK31,Tabelas!B:D,3,0),0),\"\")","v":0},{"$f":"IF(A31<>\"\",IFERROR(VLOOKUP(AL31,Tabelas!B:D,3,0),0),\"\")","v":0},{"$f":"IF(A31<>\"\",IFERROR(VLOOKUP(AM31,Tabelas!B:D,3,0),0),\"\")","v":0},{"$f":"IF(A31<>\"\",IFERROR(VLOOKUP(AN31,Tabelas!B:D,3,0),0),\"\")","v":0},{"$f":"IF(A31<>\"\",IFERROR(VLOOKUP(AO31,Tabelas!B:D,3,0),0),\"\")","v":0},{"$f":"IF(A31<>\"\",IFERROR(VLOOKUP(AP31,Tabelas!B:D,3,0),0),\"\")","v":0},{"$f":"IF(A31<>\"\",IFERROR(VLOOKUP(AQ31,Tabelas!B:D,3,0),0),\"\")","v":0},0,0,0,0,0,0,0,0]
["FULANO 24",24,null,null,null,null,null,null,null,null,null,null,null,null,null,null,null,null,null,null,null,null,null,null,null,null,null,null,null,null,null,null,null,null,null,null,null,null,null,null,null,null,null,{"$f":"IF(A32<>\"\",IFERROR(VLOOKUP(M32,Tabelas!B:D,3,0),0),\"\")","v":0},{"$f":"IF(A32<>\"\",IFERROR(VLOOKUP(N32,Tabelas!B:D,3,0),0),\"\")","v":0},{"$f":"IF(A32<>\"\",IFERROR(VLOOKUP(O32,Tabelas!B:D,3,0),0),\"\")","v":0},{"$f":"IF(A32<>\"\",IFERROR(VLOOKUP(P32,Tabelas!B:D,3,0),0),\"\")","v":0},{"$f":"IF(A32<>\"\",IFERROR(VLOOKUP(Q32,Tabelas!B:D,3,0),0),\"\")","v":0},{"$f":"IF(A32<>\"\",IFERROR(VLOOKUP(R32,Tabelas!B:D,3,0),0),\"\")","v":0},{"$f":"IF(A32<>\"\",IFERROR(VLOOKUP(S32,Tabelas!B:D,3,0),0),\"\")","v":0},{"$f":"IF(A32<>\"\",IFERROR(VLOOKUP(T32,Tabelas!B:D,3,0),0),\"\")","v":0},{"$f":"IF(A32<>\"\",IFERROR(VLOOKUP(U32,Tabelas!B:D,3,0),0),\"\")","v":0},{"$f":"IF(A32<>\"\",IFERROR(VLOOKUP(V32,Tabelas!B:D,3,0),0),\"\")","v":0},{"$f":"IF(A32<>\"\",IFERROR(VLOOKUP(W32,Tabelas!B:D,3,0),0),\"\")","v":0},{"$f":"IF(A32<>\"\",IFERROR(VLOOKUP(X32,Tabelas!B:D,3,0),0),\"\")","v":0},{"$f":"IF(A32<>\"\",IFERROR(VLOOKUP(Y32,Tabelas!B:D,3,0),0),\"\")","v":0},{"$f":"IF(A32<>\"\",IFERROR(VLOOKUP(Z32,Tabelas!B:D,3,0),0),\"\")","v":0},{"$f":"IF(A32<>\"\",IFERROR(VLOOKUP(AA32,Tabelas!B:D,3,0),0),\"\")","v":0},{"$f":"IF(A32<>\"\",IFERROR(VLOOKUP(AB32,Tabelas!B:D,3,0),0),\"\")","v":0},{"$f":"IF(A32<>\"\",IFERROR(VLOOKUP(AC32,Tabelas!B:D,3,0),0),\"\")","v":0},{"$f":"IF(A32<>\"\",IFERROR(VLOOKUP(AD32,Tabelas!B:D,3,0),0),\"\")","v":0},{"$f":"IF(A32<>\"\",IFERROR(VLOOKUP(AE32,Tabelas!B:D,3,0),0),\"\")","v":0},{"$f":"IF(A32<>\"\",IFERROR(VLOOKUP(AF32,Tabelas!B:D,3,0),0),\"\")","v":0},{"$f":"IF(A32<>\"\",IFERROR(VLOOKUP(AG32,Tabelas!B:D,3,0),0),\"\")","v":0},{"$f":"IF(A32<>\"\",IFERROR(VLOOKUP(AH32,Tabelas!B:D,3,0),0),\"\")","v":0},{"$f":"IF(A32<>\"\",IFERROR(VLOOKUP(AI32,Tabelas!B:D,3,0),0),\"\")","v":0},{"$f":"IF(A32<>\"\",IFERROR(VLOOKUP(AJ32,Tabelas!B:D,3,0),0),\"\")","v":0},{"$f":"IF(A32<>\"\",IFERROR(VLOOKUP(AK32,Tabelas!B:D,3,0),0),\"\")","v":0},{"$f":"IF(A32<>\"\",IFERROR(VLOOKUP(AL32,Tabelas!B:D,3,0),0),\"\")","v":0},{"$f":"IF(A32<>\"\",IFERROR(VLOOKUP(AM32,Tabelas!B:D,3,0),0),\"\")","v":0},{"$f":"IF(A32<>\"\",IFERROR(VLOOKUP(AN32,Tabelas!B:D,3,0),0),\"\")","v":0},{"$f":"IF(A32<>\"\",IFERROR(VLOOKUP(AO32,Tabelas!B:D,3,0),0),\"\")","v":0},{"$f":"IF(A32<>\"\",IFERROR(VLOOKUP(AP32,Tabelas!B:D,3,0),0),\"\")","v":0},{"$f":"IF(A32<>\"\",IFERROR(VLOOKUP(AQ32,Tabelas!B:D,3,0),0),\"\")","v":0},0,0,0,0,0,0,0,0]
["FULANO 25",25,null,null,null,null,null,null,null,null,null,null,null,null,null,null,null,null,null,null,null,null,null,null,null,null,null,null,null,null,null,null,null,null,null,null,null,null,null,null,null,null,null,{"$f":"IF(A33<>\"\",IFERROR(VLOOKUP(M33,Tabelas!B:D,3,0),0),\"\")","v":0},{"$f":"IF(A33<>\"\",IFERROR(VLOOKUP(N33,Tabelas!B:D,3,0),0),\"\")","v":0},{"$f":"IF(A33<>\"\",IFERROR(VLOOKUP(O33,Tabelas!B:D,3,0),0),\"\")","v":0},{"$f":"IF(A33<>\"\",IFERROR(VLOOKUP(P33,Tabelas!B:D,3,0),0),\"\")","v":0},{"$f":"IF(A33<>\"\",IFERROR(VLOOKUP(Q33,Tabelas!B:D,3,0),0),\"\")","v":0},{"$f":"IF(A33<>\"\",IFERROR(VLOOKUP(R33,Tabelas!B:D,3,0),0),\"\")","v":0},{"$f":"IF(A33<>\"\",IFERROR(VLOOKUP(S33,Tabelas!B:D,3,0),0),\"\")","v":0},{"$f":"IF(A33<>\"\",IFERROR(VLOOKUP(T33,Tabelas!B:D,3,0),0),\"\")","v":0},{"$f":"IF(A33<>\"\",IFERROR(VLOOKUP(U33,Tabelas!B:D,3,0),0),\"\")","v":0},{"$f":"IF(A33<>\"\",IFERROR(VLOOKUP(V33,Tabelas!B:D,3,0),0),\"\")","v":0},{"$f":"IF(A33<>\"\",IFERROR(VLOOKUP(W33,Tabelas!B:D,3,0),0),\"\")","v":0},{"$f":"IF(A33<>\"\",IFERROR(VLOOKUP(X33,Tabelas!B:D,3,0),0),\"\")","v":0},{"$f":"IF(A33<>\"\",IFERROR(VLOOKUP(Y33,Tabelas!B:D,3,0),0),\"\")","v":0},{"$f":"IF(A33<>\"\",IFERROR(VLOOKUP(Z33,Tabelas!B:D,3,0),0),\"\")","v":0},{"$f":"IF(A33<>\"\",IFERROR(VLOOKUP(AA33,Tabelas!B:D,3,0),0),\"\")","v":0},{"$f":"IF(A33<>\"\",IFERROR(VLOOKUP(AB33,Tabelas!B:D,3,0),0),\"\")","v":0},{"$f":"IF(A33<>\"\",IFERROR(VLOOKUP(AC33,Tabelas!B:D,3,0),0),\"\")","v":0},{"$f":"IF(A33<>\"\",IFERROR(VLOOKUP(AD33,Tabelas!B:D,3,0),0),\"\")","v":0},{"$f":"IF(A33<>\"\",IFERROR(VLOOKUP(AE33,Tabelas!B:D,3,0),0),\"\")","v":0},{"$f":"IF(A33<>\"\",IFERROR(VLOOKUP(AF33,Tabelas!B:D,3,0),0),\"\")","v":0},{"$f":"IF(A33<>\"\",IFERROR(VLOOKUP(AG33,Tabelas!B:D,3,0),0),\"\")","v":0},{"$f":"IF(A33<>\"\",IFERROR(VLOOKUP(AH33,Tabelas!B:D,3,0),0),\"\")","v":0},{"$f":"IF(A33<>\"\",IFERROR(VLOOKUP(AI33,Tabelas!B:D,3,0),0),\"\")","v":0},{"$f":"IF(A33<>\"\",IFERROR(VLOOKUP(AJ33,Tabelas!B:D,3,0),0),\"\")","v":0},{"$f":"IF(A33<>\"\",IFERROR(VLOOKUP(AK33,Tabelas!B:D,3,0),0),\"\")","v":0},{"$f":"IF(A33<>\"\",IFERROR(VLOOKUP(AL33,Tabelas!B:D,3,0),0),\"\")","v":0},{"$f":"IF(A33<>\"\",IFERROR(VLOOKUP(AM33,Tabelas!B:D,3,0),0),\"\")","v":0},{"$f":"IF(A33<>\"\",IFERROR(VLOOKUP(AN33,Tabelas!B:D,3,0),0),\"\")","v":0},{"$f":"IF(A33<>\"\",IFERROR(VLOOKUP(AO33,Tabelas!B:D,3,0),0),\"\")","v":0},{"$f":"IF(A33<>\"\",IFERROR(VLOOKUP(AP33,Tabelas!B:D,3,0),0),\"\")","v":0},{"$f":"IF(A33<>\"\",IFERROR(VLOOKUP(AQ33,Tabelas!B:D,3,0),0),\"\")","v":0},0,0,0,0,0,0,0,0]
["FULANO 26",26,null,null,null,null,null,null,null,null,null,null,null,null,null,null,null,null,null,null,null,null,null,null,null,null,null,null,null,null,null,null,null,null,null,null,null,null,null,null,null,null,null,{"$f":"IF(A34<>\"\",IFERROR(VLOOKUP(M34,Tabelas!B:D,3,0),0),\"\")","v":0},{"$f":"IF(A34<>\"\",IFERROR(VLOOKUP(N34,Tabelas!B:D,3,0),0),\"\")","v":0},{"$f":"IF(A34<>\"\",IFERROR(VLOOKUP(O34,Tabelas!B:D,3,0),0),\"\")","v":0},{"$f":"IF(A34<>\"\",IFERROR(VLOOKUP(P34,Tabelas!B:D,3,0),0),\"\")","v":0},{"$f":"IF(A34<>\"\",IFERROR(VLOOKUP(Q34,Tabelas!B:D,3,0),0),\"\")","v":0},{"$f":"IF(A34<>\"\",IFERROR(VLOOKUP(R34,Tabelas!B:D,3,0),0),\"\")","v":0},{"$f":"IF(A34<>\"\",IFERROR(VLOOKUP(S34,Tabelas!B:D,3,0),0),\"\")","v":0},{"$f":"IF(A34<>\"\",IFERROR(VLOOKUP(T34,Tabelas!B:D,3,0),0),\"\")","v":0},{"$f":"IF(A34<>\"\",IFERROR(VLOOKUP(U34,Tabelas!B:D,3,0),0),\"\")","v":0},{"$f":"IF(A34<>\"\",IFERROR(VLOOKUP(V34,Tabelas!B:D,3,0),0),\"\")","v":0},{"$f":"IF(A34<>\"\",IFERROR(VLOOKUP(W34,Tabelas!B:D,3,0),0),\"\")","v":0},{"$f":"IF(A34<>\"\",IFERROR(VLOOKUP(X34,Tabelas!B:D,3,0),0),\"\")","v":0},{"$f":"IF(A34<>\"\",IFERROR(VLOOKUP(Y34,Tabelas!B:D,3,0),0),\"\")","v":0},{"$f":"IF(A34<>\"\",IFERROR(VLOOKUP(Z34,Tabelas!B:D,3,0),0),\"\")","v":0},{"$f":"IF(A34<>\"\",IFERROR(VLOOKUP(AA34,Tabelas!B:D,3,0),0),\"\")","v":0},{"$f":"IF(A34<>\"\",IFERROR(VLOOKUP(AB34,Tabelas!B:D,3,0),0),\"\")","v":0},{"$f":"IF(A34<>\"\",IFERROR(VLOOKUP(AC34,Tabelas!B:D,3,0),0),\"\")","v":0},{"$f":"IF(A34<>\"\",IFERROR(VLOOKUP(AD34,Tabelas!B:D,3,0),0),\"\")","v":0},{"$f":"IF(A34<>\"\",IFERROR(VLOOKUP(AE34,Tabelas!B:D,3,0),0),\"\")","v":0},{"$f":"IF(A34<>\"\",IFERROR(VLOOKUP(AF34,Tabelas!B:D,3,0),0),\"\")","v":0},{"$f":"IF(A34<>\"\",IFERROR(VLOOKUP(AG34,Tabelas!B:D,3,0),0),\"\")","v":0},{"$f":"IF(A34<>\"\",IFERROR(VLOOKUP(AH34,Tabelas!B:D,3,0),0),\"\")","v":0},{"$f":"IF(A34<>\"\",IFERROR(VLOOKUP(AI34,Tabelas!B:D,3,0),0),\"\")","v":0},{"$f":"IF(A34<>\"\",IFERROR(VLOOKUP(AJ34,Tabelas!B:D,3,0),0),\"\")","v":0},{"$f":"IF(A34<>\"\",IFERROR(VLOOKUP(AK34,Tabelas!B:D,3,0),0),\"\")","v":0},{"$f":"IF(A34<>\"\",IFERROR(VLOOKUP(AL34,Tabelas!B:D,3,0),0),\"\")","v":0},{"$f":"IF(A34<>\"\",IFERROR(VLOOKUP(AM34,Tabelas!B:D,3,0),0),\"\")","v":0},{"$f":"IF(A34<>\"\",IFERROR(VLOOKUP(AN34,Tabelas!B:D,3,0),0),\"\")","v":0},{"$f":"IF(A34<>\"\",IFERROR(VLOOKUP(AO34,Tabelas!B:D,3,0),0),\"\")","v":0},{"$f":"IF(A34<>\"\",IFERROR(VLOOKUP(AP34,Tabelas!B:D,3,0),0),\"\")","v":0},{"$f":"IF(A34<>\"\",IFERROR(VLOOKUP(AQ34,Tabelas!B:D,3,0),0),\"\")","v":0},0,0,0,0,0,0,0,0]
["FULANO 27",27,null,null,null,null,null,null,null,null,null,null,null,null,null,null,null,null,null,null,null,null,null,null,null,null,null,null,null,null,null,null,null,null,null,null,null,null,null,null,null,null,null,{"$f":"IF(A35<>\"\",IFERROR(VLOOKUP(M35,Tabelas!B:D,3,0),0),\"\")","v":0},{"$f":"IF(A35<>\"\",IFERROR(VLOOKUP(N35,Tabelas!B:D,3,0),0),\"\")","v":0},{"$f":"IF(A35<>\"\",IFERROR(VLOOKUP(O35,Tabelas!B:D,3,0),0),\"\")","v":0},{"$f":"IF(A35<>\"\",IFERROR(VLOOKUP(P35,Tabelas!B:D,3,0),0),\"\")","v":0},{"$f":"IF(A35<>\"\",IFERROR(VLOOKUP(Q35,Tabelas!B:D,3,0),0),\"\")","v":0},{"$f":"IF(A35<>\"\",IFERROR(VLOOKUP(R35,Tabelas!B:D,3,0),0),\"\")","v":0},{"$f":"IF(A35<>\"\",IFERROR(VLOOKUP(S35,Tabelas!B:D,3,0),0),\"\")","v":0},{"$f":"IF(A35<>\"\",IFERROR(VLOOKUP(T35,Tabelas!B:D,3,0),0),\"\")","v":0},{"$f":"IF(A35<>\"\",IFERROR(VLOOKUP(U35,Tabelas!B:D,3,0),0),\"\")","v":0},{"$f":"IF(A35<>\"\",IFERROR(VLOOKUP(V35,Tabelas!B:D,3,0),0),\"\")","v":0},{"$f":"IF(A35<>\"\",IFERROR(VLOOKUP(W35,Tabelas!B:D,3,0),0),\"\")","v":0},{"$f":"IF(A35<>\"\",IFERROR(VLOOKUP(X35,Tabelas!B:D,3,0),0),\"\")","v":0},{"$f":"IF(A35<>\"\",IFERROR(VLOOKUP(Y35,Tabelas!B:D,3,0),0),\"\")","v":0},{"$f":"IF(A35<>\"\",IFERROR(VLOOKUP(Z35,Tabelas!B:D,3,0),0),\"\")","v":0},{"$f":"IF(A35<>\"\",IFERROR(VLOOKUP(AA35,Tabelas!B:D,3,0),0),\"\")","v":0},{"$f":"IF(A35<>\"\",IFERROR(VLOOKUP(AB35,Tabelas!B:D,3,0),0),\"\")","v":0},{"$f":"IF(A35<>\"\",IFERROR(VLOOKUP(AC35,Tabelas!B:D,3,0),0),\"\")","v":0},{"$f":"IF(A35<>\"\",IFERROR(VLOOKUP(AD35,Tabelas!B:D,3,0),0),\"\")","v":0},{"$f":"IF(A35<>\"\",IFERROR(VLOOKUP(AE35,Tabelas!B:D,3,0),0),\"\")","v":0},{"$f":"IF(A35<>\"\",IFERROR(VLOOKUP(AF35,Tabelas!B:D,3,0),0),\"\")","v":0},{"$f":"IF(A35<>\"\",IFERROR(VLOOKUP(AG35,Tabelas!B:D,3,0),0),\"\")","v":0},{"$f":"IF(A35<>\"\",IFERROR(VLOOKUP(AH35,Tabelas!B:D,3,0),0),\"\")","v":0},{"$f":"IF(A35<>\"\",IFERROR(VLOOKUP(AI35,Tabelas!B:D,3,0),0),\"\")","v":0},{"$f":"IF(A35<>\"\",IFERROR(VLOOKUP(AJ35,Tabelas!B:D,3,0),0),\"\")","v":0},{"$f":"IF(A35<>\"\",IFERROR(VLOOKUP(AK35,Tabelas!B:D,3,0),0),\"\")","v":0},{"$f":"IF(A35<>\"\",IFERROR(VLOOKUP(AL35,Tabelas!B:D,3,0),0),\"\")","v":0},{"$f":"IF(A35<>\"\",IFERROR(VLOOKUP(AM35,Tabelas!B:D,3,0),0),\"\")","v":0},{"$f":"IF(A35<>\"\",IFERROR(VLOOKUP(AN35,Tabelas!B:D,3,0),0),\"\")","v":0},{"$f":"IF(A35<>\"\",IFERROR(VLOOKUP(AO35,Tabelas!B:D,3,0),0),\"\")","v":0},{"$f":"IF(A35<>\"\",IFERROR(VLOOKUP(AP35,Tabelas!B:D,3,0),0),\"\")","v":0},{"$f":"IF(A35<>\"\",IFERROR(VLOOKUP(AQ35,Tabelas!B:D,3,0),0),\"\")","v":0},0,0,0,0,0,0,0,0]
["TOTAL PROFISSIONAIS MATUTINO",null,null,null,null,null,null,null,null,null,null,null,{"$f":"IF(COUNTIF(M9:M35,\"M*\")+ COUNTIF(M9:M35, \"D*\")-COUNTIF(M9:M35,\"DSR\")<>0,COUNTIF(M9:M35,\"M*\")+ COUNTIF(M9:M35, \"D*\")-COUNTIF(M9:M35,\"DSR\"),\"\")","v":""},"","","","","","","","","","","","","","","","","","","","","","","","","","","","","","",null,null,null,null,null,null,null,null,null,null,null,null,null,null,null,null,null,null,null,null,null,null,null,null,null,null,null,null,null,null,null,{"$f":"SUM(BW9:BW35)","v":0},0,0,0,0,0,0,0]
["TOTAL DE PROFISSIONAIS VESPERTINO",null,null,null,null,null,null,null,null,null,null,null,{"$f":"IF(COUNTIF(M9:M35,\"MT*\") + COUNTIF(M9:M35, \"D*\") + COUNTIF(M9:M35,\"T*\")-COUNTIF(M9:M35,\"DSR\")<>0,COUNTIF(M9:M35,\"MT*\") + COUNTIF(M9:M35, \"D*\") + COUNTIF(M9:M35,\"T*\")-COUNTIF(M9:M35,\"DSR\"),\"\")","v":""},"","","","","","","","","","","","","","","","","","","","","","","","","","","","","","",{"$f":"IF(A37<>\"\",IFERROR(VLOOKUP(M37,Tabelas!B:D,3,0),0),\"\")","v":0},{"$f":"IF(A37<>\"\",IFERROR(VLOOKUP(N37,Tabelas!B:D,3,0),0),\"\")","v":0},{"$f":"IF(A37<>\"\",IFERROR(VLOOKUP(O37,Tabelas!B:D,3,0),0),\"\")","v":0},{"$f":"IF(A37<>\"\",IFERROR(VLOOKUP(P37,Tabelas!B:D,3,0),0),\"\")","v":0},{"$f":"IF(A37<>\"\",IFERROR(VLOOKUP(Q37,Tabelas!B:D,3,0),0),\"\")","v":0},{"$f":"IF(A37<>\"\",IFERROR(VLOOKUP(R37,Tabelas!B:D,3,0),0),\"\")","v":0},{"$f":"IF(A37<>\"\",IFERROR(VLOOKUP(S37,Tabelas!B:D,3,0),0),\"\")","v":0},{"$f":"IF(A37<>\"\",IFERROR(VLOOKUP(T37,Tabelas!B:D,3,0),0),\"\")","v":0},{"$f":"IF(A37<>\"\",IFERROR(VLOOKUP(U37,Tabelas!B:D,3,0),0),\"\")","v":0},{"$f":"IF(A37<>\"\",IFERROR(VLOOKUP(V37,Tabelas!B:D,3,0),0),\"\")","v":0},{"$f":"IF(A37<>\"\",IFERROR(VLOOKUP(W37,Tabelas!B:D,3,0),0),\"\")","v":0},{"$f":"IF(A37<>\"\",IFERROR(VLOOKUP(X37,Tabelas!B:D,3,0),0),\"\")","v":0},{"$f":"IF(A37<>\"\",IFERROR(VLOOKUP(Y37,Tabelas!B:D,3,0),0),\"\")","v":0},{"$f":"IF(A37<>\"\",IFERROR(VLOOKUP(Z37,Tabelas!B:D,3,0),0),\"\")","v":0},{"$f":"IF(A37<>\"\",IFERROR(VLOOKUP(AA37,Tabelas!B:D,3,0),0),\"\")","v":0},{"$f":"IF(A37<>\"\",IFERROR(VLOOKUP(AB37,Tabelas!B:D,3,0),0),\"\")","v":0},{"$f":"IF(A37<>\"\",IFERROR(VLOOKUP(AC37,Tabelas!B:D,3,0),0),\"\")","v":0},{"$f":"IF(A37<>\"\",IFERROR(VLOOKUP(AD37,Tabelas!B:D,3,0),0),\"\")","v":0},{"$f":"IF(A37<>\"\",IFERROR(VLOOKUP(AE37,Tabelas!B:D,3,0),0),\"\")","v":0},{"$f":"IF(A37<>\"\",IFERROR(VLOOKUP(AF37,Tabelas!B:D,3,0),0),\"\")","v":0},{"$f":"IF(A37<>\"\",IFERROR(VLOOKUP(AG37,Tabelas!B:D,3,0),0),\"\")","v":0},{"$f":"IF(A37<>\"\",IFERROR(VLOOKUP(AH37,Tabelas!B:D,3,0),0),\"\")","v":0},{"$f":"IF(A37<>\"\",IFERROR(VLOOKUP(AI37,Tabelas!B:D,3,0),0),\"\")","v":0},{"$f":"IF(A37<>\"\",IFERROR(VLOOKUP(AJ37,Tabelas!B:D,3,0),0),\"\")","v":0},{"$f":"IF(A37<>\"\",IFERROR(VLOOKUP(AK37,Tabelas!B:D,3,0),0),\"\")","v":0},{"$f":"IF(A37<>\"\",IFERROR(VLOOKUP(AL37,Tabelas!B:D,3,0),0),\"\")","v":0},{"$f":"IF(A37<>\"\",IFERROR(VLOOKUP(AM37,Tabelas!B:D,3,0),0),\"\")","v":0},{"$f":"IF(A37<>\"\",IFERROR(VLOOKUP(AN37,Tabelas!B:D,3,0),0),\"\")","v":0},{"$f":"IF(A37<>\"\",IFERROR(VLOOKUP(AO37,Tabelas!B:D,3,0),0),\"\")","v":0},{"$f":"IF(A37<>\"\",IFERROR(VLOOKUP(AP37,Tabelas!B:D,3,0),0),\"\")","v":0},{"$f":"IF(A37<>\"\",IFERROR(VLOOKUP(AQ37,Tabelas!B:D,3,0),0),\"\")","v":0}]
["TOTAL DE PROFISSIONAIS NOTURNO",null,null,null,null,null,null,null,null,null,null,null,{"$f":"IF(COUNTIF(M9:M37,\"N?*\") + COUNTIF(M9:M37, \"DN*\")<>0,COUNTIF(M9:M37,\"N?*\") + COUNTIF(M9:M37, \"DN*\"),\"\")","v":""},"","","","","","","","","","","","","","","","","","","","","","","","","","","","","","",{"$f":"IF(A38<>\"\",IFERROR(VLOOKUP(M38,Tabelas!B:D,3,0),0),\"\")","v":0},{"$f":"IF(A38<>\"\",IFERROR(VLOOKUP(N38,Tabelas!B:D,3,0),0),\"\")","v":0},{"$f":"IF(A38<>\"\",IFERROR(VLOOKUP(O38,Tabelas!B:D,3,0),0),\"\")","v":0},{"$f":"IF(A38<>\"\",IFERROR(VLOOKUP(P38,Tabelas!B:D,3,0),0),\"\")","v":0},{"$f":"IF(A38<>\"\",IFERROR(VLOOKUP(Q38,Tabelas!B:D,3,0),0),\"\")","v":0},{"$f":"IF(A38<>\"\",IFERROR(VLOOKUP(R38,Tabelas!B:D,3,0),0),\"\")","v":0},{"$f":"IF(A38<>\"\",IFERROR(VLOOKUP(S38,Tabelas!B:D,3,0),0),\"\")","v":0},{"$f":"IF(A38<>\"\",IFERROR(VLOOKUP(T38,Tabelas!B:D,3,0),0),\"\")","v":0},{"$f":"IF(A38<>\"\",IFERROR(VLOOKUP(U38,Tabelas!B:D,3,0),0),\"\")","v":0},{"$f":"IF(A38<>\"\",IFERROR(VLOOKUP(V38,Tabelas!B:D,3,0),0),\"\")","v":0},{"$f":"IF(A38<>\"\",IFERROR(VLOOKUP(W38,Tabelas!B:D,3,0),0),\"\")","v":0},{"$f":"IF(A38<>\"\",IFERROR(VLOOKUP(X38,Tabelas!B:D,3,0),0),\"\")","v":0},{"$f":"IF(A38<>\"\",IFERROR(VLOOKUP(Y38,Tabelas!B:D,3,0),0),\"\")","v":0},{"$f":"IF(A38<>\"\",IFERROR(VLOOKUP(Z38,Tabelas!B:D,3,0),0),\"\")","v":0},{"$f":"IF(A38<>\"\",IFERROR(VLOOKUP(AA38,Tabelas!B:D,3,0),0),\"\")","v":0},{"$f":"IF(A38<>\"\",IFERROR(VLOOKUP(AB38,Tabelas!B:D,3,0),0),\"\")","v":0},{"$f":"IF(A38<>\"\",IFERROR(VLOOKUP(AC38,Tabelas!B:D,3,0),0),\"\")","v":0},{"$f":"IF(A38<>\"\",IFERROR(VLOOKUP(AD38,Tabelas!B:D,3,0),0),\"\")","v":0},{"$f":"IF(A38<>\"\",IFERROR(VLOOKUP(AE38,Tabelas!B:D,3,0),0),\"\")","v":0},{"$f":"IF(A38<>\"\",IFERROR(VLOOKUP(AF38,Tabelas!B:D,3,0),0),\"\")","v":0},{"$f":"IF(A38<>\"\",IFERROR(VLOOKUP(AG38,Tabelas!B:D,3,0),0),\"\")","v":0},{"$f":"IF(A38<>\"\",IFERROR(VLOOKUP(AH38,Tabelas!B:D,3,0),0),\"\")","v":0},{"$f":"IF(A38<>\"\",IFERROR(VLOOKUP(AI38,Tabelas!B:D,3,0),0),\"\")","v":0},{"$f":"IF(A38<>\"\",IFERROR(VLOOKUP(AJ38,Tabelas!B:D,3,0),0),\"\")","v":0},{"$f":"IF(A38<>\"\",IFERROR(VLOOKUP(AK38,Tabelas!B:D,3,0),0),\"\")","v":0},{"$f":"IF(A38<>\"\",IFERROR(VLOOKUP(AL38,Tabelas!B:D,3,0),0),\"\")","v":0},{"$f":"IF(A38<>\"\",IFERROR(VLOOKUP(AM38,Tabelas!B:D,3,0),0),\"\")","v":0},{"$f":"IF(A38<>\"\",IFERROR(VLOOKUP(AN38,Tabelas!B:D,3,0),0),\"\")","v":0},{"$f":"IF(A38<>\"\",IFERROR(VLOOKUP(AO38,Tabelas!B:D,3,0),0),\"\")","v":0},{"$f":"IF(A38<>\"\",IFERROR(VLOOKUP(AP38,Tabelas!B:D,3,0),0),\"\")","v":0},{"$f":"IF(A38<>\"\",IFERROR(VLOOKUP(AQ38,Tabelas!B:D,3,0),0),\"\")","v":0}]
[null,null,null,null,null,null,null,null,null,null,null,null,null,null,null,null,null,null,null,null,null,null,null,null,null,null,null,null,null,null,null,null,null,null,null,null,null,null,null,null,null,null,null,{"$f":"IF(A39<>\"\",IFERROR(VLOOKUP(M39,Tabelas!B:D,3,0),0),\"\")","v":""},{"$f":"IF(A39<>\"\",IFERROR(VLOOKUP(N39,Tabelas!B:D,3,0),0),\"\")","v":""},{"$f":"IF(A39<>\"\",IFERROR(VLOOKUP(O39,Tabelas!B:D,3,0),0),\"\")","v":""},{"$f":"IF(A39<>\"\",IFERROR(VLOOKUP(P39,Tabelas!B:D,3,0),0),\"\")","v":""},{"$f":"IF(A39<>\"\",IFERROR(VLOOKUP(Q39,Tabelas!B:D,3,0),0),\"\")","v":""},{"$f":"IF(A39<>\"\",IFERROR(VLOOKUP(R39,Tabelas!B:D,3,0),0),\"\")","v":""},{"$f":"IF(A39<>\"\",IFERROR(VLOOKUP(S39,Tabelas!B:D,3,0),0),\"\")","v":""},{"$f":"IF(A39<>\"\",IFERROR(VLOOKUP(T39,Tabelas!B:D,3,0),0),\"\")","v":""},{"$f":"IF(A39<>\"\",IFERROR(VLOOKUP(U39,Tabelas!B:D,3,0),0),\"\")","v":""},{"$f":"IF(A39<>\"\",IFERROR(VLOOKUP(V39,Tabelas!B:D,3,0),0),\"\")","v":""},{"$f":"IF(A39<>\"\",IFERROR(VLOOKUP(W39,Tabelas!B:D,3,0),0),\"\")","v":""},{"$f":"IF(A39<>\"\",IFERROR(VLOOKUP(X39,Tabelas!B:D,3,0),0),\"\")","v":""},{"$f":"IF(A39<>\"\",IFERROR(VLOOKUP(Y39,Tabelas!B:D,3,0),0),\"\")","v":""},{"$f":"IF(A39<>\"\",IFERROR(VLOOKUP(Z39,Tabelas!B:D,3,0),0),\"\")","v":""},{"$f":"IF(A39<>\"\",IFERROR(VLOOKUP(AA39,Tabelas!B:D,3,0),0),\"\")","v":""},{"$f":"IF(A39<>\"\",IFERROR(VLOOKUP(AB39,Tabelas!B:D,3,0),0),\"\")","v":""},{"$f":"IF(A39<>\"\",IFERROR(VLOOKUP(AC39,Tabelas!B:D,3,0),0),\"\")","v":""},{"$f":"IF(A39<>\"\",IFERROR(VLOOKUP(AD39,Tabelas!B:D,3,0),0),\"\")","v":""},{"$f":"IF(A39<>\"\",IFERROR(VLOOKUP(AE39,Tabelas!B:D,3,0),0),\"\")","v":""},{"$f":"IF(A39<>\"\",IFERROR(VLOOKUP(AF39,Tabelas!B:D,3,0),0),\"\")","v":""},{"$f":"IF(A39<>\"\",IFERROR(VLOOKUP(AG39,Tabelas!B:D,3,0),0),\"\")","v":""},{"$f":"IF(A39<>\"\",IFERROR(VLOOKUP(AH39,Tabelas!B:D,3,0),0),\"\")","v":""},{"$f":"IF(A39<>\"\",IFERROR(VLOOKUP(AI39,Tabelas!B:D,3,0),0),\"\")","v":""},{"$f":"IF(A39<>\"\",IFERROR(VLOOKUP(AJ39,Tabelas!B:D,3,0),0),\"\")","v":""},{"$f":"IF(A39<>\"\",IFERROR(VLOOKUP(AK39,Tabelas!B:D,3,0),0),\"\")","v":""},{"$f":"IF(A39<>\"\",IFERROR(VLOOKUP(AL39,Tabelas!B:D,3,0),0),\"\")","v":""},{"$f":"IF(A39<>\"\",IFERROR(VLOOKUP(AM39,Tabelas!B:D,3,0),0),\"\")","v":""},{"$f":"IF(A39<>\"\",IFERROR(VLOOKUP(AN39,Tabelas!B:D,3,0),0),\"\")","v":""},{"$f":"IF(A39<>\"\",IFERROR(VLOOKUP(AO39,Tabelas!B:D,3,0),0),\"\")","v":""},{"$f":"IF(A39<>\"\",IFERROR(VLOOKUP(AP39,Tabelas!B:D,3,0),0),\"\")","v":""},{"$f":"IF(A39<>\"\",IFERROR(VLOOKUP(AQ39,Tabelas!B:D,3,0),0),\"\")","v":""}]
["Legenda:"]
["Licença Maternidade","LM","Férias",null,null,null,null,null,null,"FE",null,"Ponto Facultativo",null,null,null,null,null,null,null,"PF","Manhã *",null,null,null,null,null,null,"M","Diurno (8 hrs) *",null,null,null,null,null,null,"MT"]
["Licença Paternidade","LP","Feriado",null,null,null,null,null,null,"FD",null,"Abono **",null,null,null,null,null,null,null,"AB","Tarde *",null,null,null,null,null,null,"T","Dia/ noite (24 hrs) *",null,null,null,null,null,null,"DN"]
["Licença Médica/Odontológica","L","Descanso Semanal Remunerado",null,null,null,null,null,null,"DSR",null,"Compensação de Horas***",null,null,null,null,null,null,null,"CH","Plantão Dia (12 hrs) *",null,null,null,null,null,null,"D"]
["Licença Capacitação","LC","Recesso",null,null,null,null,null,null,"RC",null,"Afastamento**",null,null,null,null,null,null,null,"AF","Plantão Noite (12 hrs) *",null,null,null,null,null,null,"N"]
[]
["OBSERVAÇÕES:"]
["* Para inserção das legendas referentes às jornadas de trabalho, verificar a Tabela 1 do Anexo do Memorando-Circular - SEI nº   25 /2018/CAP/DGP-EBSERH."]
["** Para inserção das legendas referentes aos Afastamentos previstos em lei e às Compensações de horas, verificar a Tabela 2 do Anexo do Memorando-Circular - SEI nº   25 /2018/CAP/DGP-EBSERH."]

{"sheet":"Dezembro","index":11,"n_rows":48,"n_cols":82,"rows_kept":48,"cut":false,"hidden":false,"merged":[[40,20,40,26],[41,2,41,8],[41,9,41,10],[41,11,41,18],[41,20,41,26],[40,2,40,8],[40,9,40,10],[42,20,42,26],[43,2,43,8],[43,9,43,10],[43,11,43,18],[43,20,43,26],[35,0,35,11],[36,0,36,11],[37,0,37,11],[42,2,42,8],[42,9,42,10],[42,11,42,18],[40,11,40,18],[1,0,1,42],[2,0,2,42],[3,0,3,42],[4,1,4,20],[4,23,4,34],[4,37,4,42],[5,6,5,11],[6,76,7,76],[6,77,7,77],[6,78,7,78],[6,79,7,79],[6,6,7,6],[6,7,7,7],[6,8,7,8],[6,11,7,11],[6,9,7,9],[6,10,7,10],[6,80,7,80],[6,81,7,81],[5,12,5,42],[5,43,5,73],[5,75,5,81],[5,74,7,74],[6,75,7,75],[35,79,37,79],[35,80,37,80],[35,81,37,81],[40,28,40,34],[41,28,41,34],[35,74,37,74],[35,75,37,75],[35,76,37,76],[35,77,37,77],[35,78,37,78]]}
[]
[]
["NOME DO HU"]
["ESCALA MENSAL DE TRABALHO"]
["DIVISÃO /SETOR/UNIDADE:",null,null,null,null,null,null,null,null,null,null,null,null,null,null,null,null,null,null,null,null,"MÊS:",null,"Dezembro",null,null,null,null,null,null,null,null,null,null,null,"ANO:",null,2019]
["NOME COMPLETO","SIAPE","Registro Conselho Classe","Cargo","Vínculo","C.H Sem","INTERVALO",null,null,null,null,null,"DIAS DO MÊS",null,null,null,null,null,null,null,null,null,null,null,null,null,null,null,null,null,null,null,null,null,null,null,null,null,null,null,null,null,null,"CÁLCULO DAS HORAS",null,null,null,null,null,null,null,null,null,null,null,null,null,null,null,null,null,null,null,null,null,null,null,null,null,null,null,null,null,null,"CH Men.","Dias"]
[null,null,null,null,null,null,"15' M","15' T","15' N","1H D","1H N","2H",1,2,3,4,5,6,7,8,9,10,11,12,13,14,15,16,17,18,19,20,21,22,23,24,25,{"$f":"IF(DAY(DATE(AL5,VLOOKUP(X5,Tabelas!M:N,2,0)+1,1)-1)>=26,26,\"\")","v":26},{"$f":"IF(DAY(DATE(AL5,VLOOKUP(X5,Tabelas!M:N,2,0)+1,1)-1)>=27,27,\"\")","v":27},{"$f":"IF(DAY(DATE(AL5,VLOOKUP(X5,Tabelas!M:N,2,0)+1,1)-1)>=28,28,\"\")","v":28},{"$f":"IF(DAY(DATE(AL5,VLOOKUP(X5,Tabelas!M:N,2,0)+1,1)-1)>=29,29,\"\")","v":29},{"$f":"IF(DAY(DATE(AL5,VLOOKUP(X5,Tabelas!M:N,2,0)+1,1)-1)>=30,30,\"\")","v":30},{"$f":"IF(DAY(DATE(AL5,VLOOKUP(X5,Tabelas!M:N,2,0)+1,1)-1)>=31,31,\"\")","v":31},null,null,null,null,null,null,null,null,null,null,null,null,null,null,null,null,null,null,null,null,null,null,null,null,null,null,null,null,null,null,null,null,"LM/LP/L","AB","FE","LC","CH","AF  "," Total Afast."]
[null,null,null,null,null,null,null,null,null,null,null,null,{"$f":"IF(M7<>\"\",IFERROR(VLOOKUP(WEEKDAY(CONCATENATE(M7,$X$5,$AL$5)),Tabelas!$I:$J,2,0),\"\"),\"\")","v":"DOM"},{"$f":"IF(N7<>\"\",IFERROR(VLOOKUP(WEEKDAY(CONCATENATE(N7,$X$5,$AL$5)),Tabelas!$I:$J,2,0),\"\"),\"\")","v":"SEG"},{"$f":"IF(O7<>\"\",IFERROR(VLOOKUP(WEEKDAY(CONCATENATE(O7,$X$5,$AL$5)),Tabelas!$I:$J,2,0),\"\"),\"\")","v":"TER"},{"$f":"IF(P7<>\"\",IFERROR(VLOOKUP(WEEKDAY(CONCATENATE(P7,$X$5,$AL$5)),Tabelas!$I:$J,2,0),\"\"),\"\")","v":"QUA"},{"$f":"IF(Q7<>\"\",IFERROR(VLOOKUP(WEEKDAY(CONCATENATE(Q7,$X$5,$AL$5)),Tabelas!$I:$J,2,0),\"\"),\"\")","v":"QUI"},{"$f":"IF(R7<>\"\",IFERROR(VLOOKUP(WEEKDAY(CONCATENATE(R7,$X$5,$AL$5)),Tabelas!$I:$J,2,0),\"\"),\"\")","v":"SEX"},{"$f":"IF(S7<>\"\",IFERROR(VLOOKUP(WEEKDAY(CONCATENATE(S7,$X$5,$AL$5)),Tabelas!$I:$J,2,0),\"\"),\"\")","v":"SAB"},{"$f":"IF(T7<>\"\",IFERROR(VLOOKUP(WEEKDAY(CONCATENATE(T7,$X$5,$AL$5)),Tabelas!$I:$J,2,0),\"\"),\"\")","v":"DOM"},{"$f":"IF(U7<>\"\",IFERROR(VLOOKUP(WEEKDAY(CONCATENATE(U7,$X$5,$AL$5)),Tabelas!$I:$J,2,0),\"\"),\"\")","v":"SEG"},{"$f":"IF(V7<>\"\",IFERROR(VLOOKUP(WEEKDAY(CONCATENATE(V7,$X$5,$AL$5)),Tabelas!$I:$J,2,0),\"\"),\"\")","v":"TER"},{"$f":"IF(W7<>\"\",IFERROR(VLOOKUP(WEEKDAY(CONCATENATE(W7,$X$5,$AL$5)),Tabelas!$I:$J,2,0),\"\"),\"\")","v":"QUA"},{"$f":"IF(X7<>\"\",IFERROR(VLOOKUP(WEEKDAY(CONCATENATE(X7,$X$5,$AL$5)),Tabelas!$I:$J,2,0),\"\"),\"\")","v":"QUI"},{"$f":"IF(Y7<>\"\",IFERROR(VLOOKUP(WEEKDAY(CONCATENATE(Y7,$X$5,$AL$5)),Tabelas!$I:$J,2,0),\"\"),\"\")","v":"SEX"},{"$f":"IF(Z7<>\"\",IFERROR(VLOOKUP(WEEKDAY(CONCATENATE(Z7,$X$5,$AL$5)),Tabelas!$I:$J,2,0),\"\"),\"\")","v":"SAB"},{"$f":"IF(AA7<>\"\",IFERROR(VLOOKUP(WEEKDAY(CONCATENATE(AA7,$X$5,$AL$5)),Tabelas!$I:$J,2,0),\"\"),\"\")","v":"DOM"},{"$f":"IF(AB7<>\"\",IFERROR(VLOOKUP(WEEKDAY(CONCATENATE(AB7,$X$5,$AL$5)),Tabelas!$I:$J,2,0),\"\"),\"\")","v":"SEG"},{"$f":"IF(AC7<>\"\",IFERROR(VLOOKUP(WEEKDAY(CONCATENATE(AC7,$X$5,$AL$5)),Tabelas!$I:$J,2,0),\"\"),\"\")","v":"TER"},{"$f":"IF(AD7<>\"\",IFERROR(VLOOKUP(WEEKDAY(CONCATENATE(AD7,$X$5,$AL$5)),Tabelas!$I:$J,2,0),\"\"),\"\")","v":"QUA"},{"$f":"IF(AE7<>\"\",IFERROR(VLOOKUP(WEEKDAY(CONCATENATE(AE7,$X$5,$AL$5)),Tabelas!$I:$J,2,0),\"\"),\"\")","v":"QUI"},{"$f":"IF(AF7<>\"\",IFERROR(VLOOKUP(WEEKDAY(CONCATENATE(AF7,$X$5,$AL$5)),Tabelas!$I:$J,2,0),\"\"),\"\")","v":"SEX"},{"$f":"IF(AG7<>\"\",IFERROR(VLOOKUP(WEEKDAY(CONCATENATE(AG7,$X$5,$AL$5)),Tabelas!$I:$J,2,0),\"\"),\"\")","v":"SAB"},{"$f":"IF(AH7<>\"\",IFERROR(VLOOKUP(WEEKDAY(CONCATENATE(AH7,$X$5,$AL$5)),Tabelas!$I:$J,2,0),\"\"),\"\")","v":"DOM"},{"$f":"IF(AI7<>\"\",IFERROR(VLOOKUP(WEEKDAY(CONCATENATE(AI7,$X$5,$AL$5)),Tabelas!$I:$J,2,0),\"\"),\"\")","v":"SEG"},{"$f":"IF(AJ7<>\"\",IFERROR(VLOOKUP(WEEKDAY(CONCATENATE(AJ7,$X$5,$AL$5)),Tabelas!$I:$J,2,0),\"\"),\"\")","v":"TER"},{"$f":"IF(AK7<>\"\",IFERROR(VLOOKUP(WEEKDAY(CONCATENATE(AK7,$X$5,$AL$5)),Tabelas!$I:$J,2,0),\"\"),\"\")","v":"QUA"},{"$f":"IF(AL7<>\"\",IFERROR(VLOOKUP(WEEKDAY(CONCATENATE(AL7,$X$5,$AL$5)),Tabelas!$I:$J,2,0),\"\"),\"\")","v":"QUI"},{"$f":"IF(AM7<>\"\",IFERROR(VLOOKUP(WEEKDAY(CONCATENATE(AM7,$X$5,$AL$5)),Tabelas!$I:$J,2,0),\"\"),\"\")","v":"SEX"},{"$f":"IF(AN7<>\"\",IFERROR(VLOOKUP(WEEKDAY(CONCATENATE(AN7,$X$5,$AL$5)),Tabelas!$I:$J,2,0),\"\"),\"\")","v":"SAB"},{"$f":"IF(AO7<>\"\",IFERROR(VLOOKUP(WEEKDAY(CONCATENATE(AO7,$X$5,$AL$5)),Tabelas!$I:$J,2,0),\"\"),\"\")","v":"DOM"},{"$f":"IF(AP7<>\"\",IFERROR(VLOOKUP(WEEKDAY(CONCATENATE(AP7,$X$5,$AL$5)),Tabelas!$I:$J,2,0),\"\"),\"\")","v":"SEG"},{"$f":"IF(AQ7<>\"\",IFERROR(VLOOKUP(WEEKDAY(CONCATENATE(AQ7,$X$5,$AL$5)),Tabelas!$I:$J,2,0),\"\"),\"\")","v":"TER"},1,2,3,4,5,6,7,8,9,10,11,12,13,14,15,16,17,18,19,20,21,22,23,24,25,26,27,28,29,30,31]
["FULANO 1",1,null,null,null,null,null,null,null,null,null,null,null,null,null,null,null,null,null,null,null,null,null,null,null,null,null,null,null,null,null,null,null,null,null,null,null,null,null,null,null,null,null,{"$f":"IF(A9<>\"\",IFERROR(VLOOKUP(M9,Tabelas!B:D,3,0),0),\"\")","v":0},{"$f":"IF(A9<>\"\",IFERROR(VLOOKUP(N9,Tabelas!B:D,3,0),0),\"\")","v":0},{"$f":"IF(A9<>\"\",IFERROR(VLOOKUP(O9,Tabelas!B:D,3,0),0),\"\")","v":0},{"$f":"IF(A9<>\"\",IFERROR(VLOOKUP(P9,Tabelas!B:D,3,0),0),\"\")","v":0},{"$f":"IF(A9<>\"\",IFERROR(VLOOKUP(Q9,Tabelas!B:D,3,0),0),\"\")","v":0},{"$f":"IF(A9<>\"\",IFERROR(VLOOKUP(R9,Tabelas!B:D,3,0),0),\"\")","v":0},{"$f":"IF(A9<>\"\",IFERROR(VLOOKUP(S9,Tabelas!B:D,3,0),0),\"\")","v":0},{"$f":"IF(A9<>\"\",IFERROR(VLOOKUP(T9,Tabelas!B:D,3,0),0),\"\")","v":0},{"$f":"IF(A9<>\"\",IFERROR(VLOOKUP(U9,Tabelas!B:D,3,0),0),\"\")","v":0},{"$f":"IF(A9<>\"\",IFERROR(VLOOKUP(V9,Tabelas!B:D,3,0),0),\"\")","v":0},{"$f":"IF(A9<>\"\",IFERROR(VLOOKUP(W9,Tabelas!B:D,3,0),0),\"\")","v":0},{"$f":"IF(A9<>\"\",IFERROR(VLOOKUP(X9,Tabelas!B:D,3,0),0),\"\")","v":0},{"$f":"IF(A9<>\"\",IFERROR(VLOOKUP(Y9,Tabelas!B:D,3,0),0),\"\")","v":0},{"$f":"IF(A9<>\"\",IFERROR(VLOOKUP(Z9,Tabelas!B:D,3,0),0),\"\")","v":0},{"$f":"IF(A9<>\"\",IFERROR(VLOOKUP(AA9,Tabelas!B:D,3,0),0),\"\")","v":0},{"$f":"IF(A9<>\"\",IFERROR(VLOOKUP(AB9,Tabelas!B:D,3,0),0),\"\")","v":0},{"$f":"IF(A9<>\"\",IFERROR(VLOOKUP(AC9,Tabelas!B:D,3,0),0),\"\")","v":0},{"$f":"IF(A9<>\"\",IFERROR(VLOOKUP(AD9,Tabelas!B:D,3,0),0),\"\")","v":0},{"$f":"IF(A9<>\"\",IFERROR(VLOOKUP(AE9,Tabelas!B:D,3,0),0),\"\")","v":0},{"$f":"IF(A9<>\"\",IFERROR(VLOOKUP(AF9,Tabelas!B:D,3,0),0),\"\")","v":0},{"$f":"IF(A9<>\"\",IFERROR(VLOOKUP(AG9,Tabelas!B:D,3,0),0),\"\")","v":0},{"$f":"IF(A9<>\"\",IFERROR(VLOOKUP(AH9,Tabelas!B:D,3,0),0),\"\")","v":0},{"$f":"IF(A9<>\"\",IFERROR(VLOOKUP(AI9,Tabelas!B:D,3,0),0),\"\")","v":0},{"$f":"IF(A9<>\"\",IFERROR(VLOOKUP(AJ9,Tabelas!B:D,3,0),0),\"\")","v":0},{"$f":"IF(A9<>\"\",IFERROR(VLOOKUP(AK9,Tabelas!B:D,3,0),0),\"\")","v":0},{"$f":"IF(A9<>\"\",IFERROR(VLOOKUP(AL9,Tabelas!B:D,3,0),0),\"\")","v":0},{"$f":"IF(A9<>\"\",IFERROR(VLOOKUP(AM9,Tabelas!B:D,3,0),0),\"\")","v":0},{"$f":"IF(A9<>\"\",IFERROR(VLOOKUP(AN9,Tabelas!B:D,3,0),0),\"\")","v":0},{"$f":"IF(A9<>\"\",IFERROR(VLOOKUP(AO9,Tabelas!B:D,3,0),0),\"\")","v":0},{"$f":"IF(A9<>\"\",IFERROR(VLOOKUP(AP9,Tabelas!B:D,3,0),0),\"\")","v":0},{"$f":"IF(A9<>\"\",IFERROR(VLOOKUP(AQ9,Tabelas!B:D,3,0),0),\"\")","v":0},{"$f":"IF(AND(A9<>\"\",E9=\"Ebserh\"),SUM(AR9:BV9)+COUNTIF(M9:AQ9,\"N*\")+COUNTIF(M9:AQ9,\"DN*\"),IF(AND(A9<>\"\",E9<>\"Ebserh\"),SUM(AR9:BV9),\"\"))","v":0},{"$f":"IF(A9<>\"\",COUNTIF(M9:AQ9,\"LM\")+COUNTIF(M9:AQ9,\"L\")+COUNTIF(M9:AQ9,\"LP\"),\"\")","v":0},{"$f":"IF(A9<>\"\",COUNTIF(M9:AQ9,\"AB*\"),\"\")","v":0},{"$f":"IF(A9<>\"\",COUNTIF(M9:AQ9,\"FE\"),\"\")","v":0},{"$f":"IF(A9<>\"\",COUNTIF(M9:AQ9,\"LC\"),\"\")","v":0},{"$f":"IF(A9<>\"\",COUNTIF(M9:AQ9,\"CH*\"),\"\")","v":0},{"$f":"IF(A9<>\"\",COUNTIF(M9:AQ9,\"AF1\")+COUNTIF(M9:AQ9,\"AF2\")+COUNTIF(M9:AQ9,\"AF3\")+COUNTIF(M9:AQ9,\"AF4\")+COUNTIF(M9:AQ9,\"AF5\")+COUNTIF(M9:AQ9,\"AF6\")+COUNTIF(M9:AQ9,\"AF7\")+COUNTIF(M9:AQ9,\"AF8\")+COUNTIF(M9:AQ9,\"AF9\")+COUNTIF(M9:AQ9,\"AF10\")+COUNTIF(M9:AQ9,\"AF11\")+COUNTIF(M9:AQ9,\"AF12\")+COUNTIF(M9:AQ9,\"AF13\")+COUNTIF(M9:AQ9,\"AF14\"),\"\")","v":0},{"$f":"IF(A9<>\"\",COUNTIF(M9:AQ9,\"CH*\")+COUNTIF(M9:AQ9,\"L\")+COUNTIF(M9:AQ9,\"LM\")+COUNTIF(M9:AQ9,\"LP\")+COUNTIF(M9:AQ9,\"LC\")+COUNTIF(M9:AQ9,\"AB*\")+COUNTIF(M9:AQ9,\"AF1\")+COUNTIF(M9:AQ9,\"AF2\")+COUNTIF(M9:AQ9,\"AF3\")+COUNTIF(M9:AQ9,\"AF4\")+COUNTIF(M9:AQ9,\"AF5\")+COUNTIF(M9:AQ9,\"AF6\")+COUNTIF(M9:AQ9,\"AF7\")+COUNTIF(M9:AQ9,\"AF8\")+COUNTIF(M9:AQ9,\"AF9\")+COUNTIF(M9:AQ9,\"AF10\")+COUNTIF(M9:AQ9,\"AF11\")+COUNTIF(M9:AQ9,\"AF12\")+COUNTIF(M9:AQ9,\"AF13\")+COUNTIF(M9:AQ9,\"AF14\")+COUNTIF(M9:AQ9,\"RC\")+COUNTIF(M9:AQ9,\"FO\")+COUNTIF(M9:AQ9,\"FE\"),\"\")","v":0}]
["FULANO 2",2,null,null,null,null,null,null,null,null,null,null,null,null,null,null,null,null,null,null,null,null,null,null,null,null,null,null,null,null,null,null,null,null,null,null,null,null,null,null,null,null,null,{"$f":"IF(A10<>\"\",IFERROR(VLOOKUP(M10,Tabelas!B:D,3,0),0),\"\")","v":0},{"$f":"IF(A10<>\"\",IFERROR(VLOOKUP(N10,Tabelas!B:D,3,0),0),\"\")","v":0},{"$f":"IF(A10<>\"\",IFERROR(VLOOKUP(O10,Tabelas!B:D,3,0),0),\"\")","v":0},{"$f":"IF(A10<>\"\",IFERROR(VLOOKUP(P10,Tabelas!B:D,3,0),0),\"\")","v":0},{"$f":"IF(A10<>\"\",IFERROR(VLOOKUP(Q10,Tabelas!B:D,3,0),0),\"\")","v":0},{"$f":"IF(A10<>\"\",IFERROR(VLOOKUP(R10,Tabelas!B:D,3,0),0),\"\")","v":0},{"$f":"IF(A10<>\"\",IFERROR(VLOOKUP(S10,Tabelas!B:D,3,0),0),\"\")","v":0},{"$f":"IF(A10<>\"\",IFERROR(VLOOKUP(T10,Tabelas!B:D,3,0),0),\"\")","v":0},{"$f":"IF(A10<>\"\",IFERROR(VLOOKUP(U10,Tabelas!B:D,3,0),0),\"\")","v":0},{"$f":"IF(A10<>\"\",IFERROR(VLOOKUP(V10,Tabelas!B:D,3,0),0),\"\")","v":0},{"$f":"IF(A10<>\"\",IFERROR(VLOOKUP(W10,Tabelas!B:D,3,0),0),\"\")","v":0},{"$f":"IF(A10<>\"\",IFERROR(VLOOKUP(X10,Tabelas!B:D,3,0),0),\"\")","v":0},{"$f":"IF(A10<>\"\",IFERROR(VLOOKUP(Y10,Tabelas!B:D,3,0),0),\"\")","v":0},{"$f":"IF(A10<>\"\",IFERROR(VLOOKUP(Z10,Tabelas!B:D,3,0),0),\"\")","v":0},{"$f":"IF(A10<>\"\",IFERROR(VLOOKUP(AA10,Tabelas!B:D,3,0),0),\"\")","v":0},{"$f":"IF(A10<>\"\",IFERROR(VLOOKUP(AB10,Tabelas!B:D,3,0),0),\"\")","v":0},{"$f":"IF(A10<>\"\",IFERROR(VLOOKUP(AC10,Tabelas!B:D,3,0),0),\"\")","v":0},{"$f":"IF(A10<>\"\",IFERROR(VLOOKUP(AD10,Tabelas!B:D,3,0),0),\"\")","v":0},{"$f":"IF(A10<>\"\",IFERROR(VLOOKUP(AE10,Tabelas!B:D,3,0),0),\"\")","v":0},{"$f":"IF(A10<>\"\",IFERROR(VLOOKUP(AF10,Tabelas!B:D,3,0),0),\"\")","v":0},{"$f":"IF(A10<>\"\",IFERROR(VLOOKUP(AG10,Tabelas!B:D,3,0),0),\"\")","v":0},{"$f":"IF(A10<>\"\",IFERROR(VLOOKUP(AH10,Tabelas!B:D,3,0),0),\"\")","v":0},{"$f":"IF(A10<>\"\",IFERROR(VLOOKUP(AI10,Tabelas!B:D,3,0),0),\"\")","v":0},{"$f":"IF(A10<>\"\",IFERROR(VLOOKUP(AJ10,Tabelas!B:D,3,0),0),\"\")","v":0},{"$f":"IF(A10<>\"\",IFERROR(VLOOKUP(AK10,Tabelas!B:D,3,0),0),\"\")","v":0},{"$f":"IF(A10<>\"\",IFERROR(VLOOKUP(AL10,Tabelas!B:D,3,0),0),\"\")","v":0},{"$f":"IF(A10<>\"\",IFERROR(VLOOKUP(AM10,Tabelas!B:D,3,0),0),\"\")","v":0},{"$f":"IF(A10<>\"\",IFERROR(VLOOKUP(AN10,Tabelas!B:D,3,0),0),\"\")","v":0},{"$f":"IF(A10<>\"\",IFERROR(VLOOKUP(AO10,Tabelas!B:D,3,0),0),\"\")","v":0},{"$f":"IF(A10<>\"\",IFERROR(VLOOKUP(AP10,Tabelas!B:D,3,0),0),\"\")","v":0},{"$f":"IF(A10<>\"\",IFERROR(VLOOKUP(AQ10,Tabelas!B:D,3,0),0),\"\")","v":0},0,0,0,0,0,0,0,0]
["FULANO 3",3,null,null,null,null,null,null,null,null,null,null,null,null,null,null,null,null,null,null,null,null,null,null,null,null,null,null,null,null,null,null,null,null,null,null,null,null,null,null,null,null,null,{"$f":"IF(A11<>\"\",IFERROR(VLOOKUP(M11,Tabelas!B:D,3,0),0),\"\")","v":0},{"$f":"IF(A11<>\"\",IFERROR(VLOOKUP(N11,Tabelas!B:D,3,0),0),\"\")","v":0},{"$f":"IF(A11<>\"\",IFERROR(VLOOKUP(O11,Tabelas!B:D,3,0),0),\"\")","v":0},{"$f":"IF(A11<>\"\",IFERROR(VLOOKUP(P11,Tabelas!B:D,3,0),0),\"\")","v":0},{"$f":"IF(A11<>\"\",IFERROR(VLOOKUP(Q11,Tabelas!B:D,3,0),0),\"\")","v":0},{"$f":"IF(A11<>\"\",IFERROR(VLOOKUP(R11,Tabelas!B:D,3,0),0),\"\")","v":0},{"$f":"IF(A11<>\"\",IFERROR(VLOOKUP(S11,Tabelas!B:D,3,0),0),\"\")","v":0},{"$f":"IF(A11<>\"\",IFERROR(VLOOKUP(T11,Tabelas!B:D,3,0),0),\"\")","v":0},{"$f":"IF(A11<>\"\",IFERROR(VLOOKUP(U11,Tabelas!B:D,3,0),0),\"\")","v":0},{"$f":"IF(A11<>\"\",IFERROR(VLOOKUP(V11,Tabelas!B:D,3,0),0),\"\")","v":0},{"$f":"IF(A11<>\"\",IFERROR(VLOOKUP(W11,Tabelas!B:D,3,0),0),\"\")","v":0},{"$f":"IF(A11<>\"\",IFERROR(VLOOKUP(X11,Tabelas!B:D,3,0),0),\"\")","v":0},{"$f":"IF(A11<>\"\",IFERROR(VLOOKUP(Y11,Tabelas!B:D,3,0),0),\"\")","v":0},{"$f":"IF(A11<>\"\",IFERROR(VLOOKUP(Z11,Tabelas!B:D,3,0),0),\"\")","v":0},{"$f":"IF(A11<>\"\",IFERROR(VLOOKUP(AA11,Tabelas!B:D,3,0),0),\"\")","v":0},{"$f":"IF(A11<>\"\",IFERROR(VLOOKUP(AB11,Tabelas!B:D,3,0),0),\"\")","v":0},{"$f":"IF(A11<>\"\",IFERROR(VLOOKUP(AC11,Tabelas!B:D,3,0),0),\"\")","v":0},{"$f":"IF(A11<>\"\",IFERROR(VLOOKUP(AD11,Tabelas!B:D,3,0),0),\"\")","v":0},{"$f":"IF(A11<>\"\",IFERROR(VLOOKUP(AE11,Tabelas!B:D,3,0),0),\"\")","v":0},{"$f":"IF(A11<>\"\",IFERROR(VLOOKUP(AF11,Tabelas!B:D,3,0),0),\"\")","v":0},{"$f":"IF(A11<>\"\",IFERROR(VLOOKUP(AG11,Tabelas!B:D,3,0),0),\"\")","v":0},{"$f":"IF(A11<>\"\",IFERROR(VLOOKUP(AH11,Tabelas!B:D,3,0),0),\"\")","v":0},{"$f":"IF(A11<>\"\",IFERROR(VLOOKUP(AI11,Tabelas!B:D,3,0),0),\"\")","v":0},{"$f":"IF(A11<>\"\",IFERROR(VLOOKUP(AJ11,Tabelas!B:D,3,0),0),\"\")","v":0},{"$f":"IF(A11<>\"\",IFERROR(VLOOKUP(AK11,Tabelas!B:D,3,0),0),\"\")","v":0},{"$f":"IF(A11<>\"\",IFERROR(VLOOKUP(AL11,Tabelas!B:D,3,0),0),\"\")","v":0},{"$f":"IF(A11<>\"\",IFERROR(VLOOKUP(AM11,Tabelas!B:D,3,0),0),\"\")","v":0},{"$f":"IF(A11<>\"\",IFERROR(VLOOKUP(AN11,Tabelas!B:D,3,0),0),\"\")","v":0},{"$f":"IF(A11<>\"\",IFERROR(VLOOKUP(AO11,Tabelas!B:D,3,0),0),\"\")","v":0},{"$f":"IF(A11<>\"\",IFERROR(VLOOKUP(AP11,Tabelas!B:D,3,0),0),\"\")","v":0},{"$f":"IF(A11<>\"\",IFERROR(VLOOKUP(AQ11,Tabelas!B:D,3,0),0),\"\")","v":0},0,0,0,0,0,0,0,0]
["FULANO 4",4,null,null,null,null,null,null,null,null,null,null,null,null,null,null,null,null,null,null,null,null,null,null,null,null,null,null,null,null,null,null,null,null,null,null,null,null,null,null,null,null,null,{"$f":"IF(A12<>\"\",IFERROR(VLOOKUP(M12,Tabelas!B:D,3,0),0),\"\")","v":0},{"$f":"IF(A12<>\"\",IFERROR(VLOOKUP(N12,Tabelas!B:D,3,0),0),\"\")","v":0},{"$f":"IF(A12<>\"\",IFERROR(VLOOKUP(O12,Tabelas!B:D,3,0),0),\"\")","v":0},{"$f":"IF(A12<>\"\",IFERROR(VLOOKUP(P12,Tabelas!B:D,3,0),0),\"\")","v":0},{"$f":"IF(A12<>\"\",IFERROR(VLOOKUP(Q12,Tabelas!B:D,3,0),0),\"\")","v":0},{"$f":"IF(A12<>\"\",IFERROR(VLOOKUP(R12,Tabelas!B:D,3,0),0),\"\")","v":0},{"$f":"IF(A12<>\"\",IFERROR(VLOOKUP(S12,Tabelas!B:D,3,0),0),\"\")","v":0},{"$f":"IF(A12<>\"\",IFERROR(VLOOKUP(T12,Tabelas!B:D,3,0),0),\"\")","v":0},{"$f":"IF(A12<>\"\",IFERROR(VLOOKUP(U12,Tabelas!B:D,3,0),0),\"\")","v":0},{"$f":"IF(A12<>\"\",IFERROR(VLOOKUP(V12,Tabelas!B:D,3,0),0),\"\")","v":0},{"$f":"IF(A12<>\"\",IFERROR(VLOOKUP(W12,Tabelas!B:D,3,0),0),\"\")","v":0},{"$f":"IF(A12<>\"\",IFERROR(VLOOKUP(X12,Tabelas!B:D,3,0),0),\"\")","v":0},{"$f":"IF(A12<>\"\",IFERROR(VLOOKUP(Y12,Tabelas!B:D,3,0),0),\"\")","v":0},{"$f":"IF(A12<>\"\",IFERROR(VLOOKUP(Z12,Tabelas!B:D,3,0),0),\"\")","v":0},{"$f":"IF(A12<>\"\",IFERROR(VLOOKUP(AA12,Tabelas!B:D,3,0),0),\"\")","v":0},{"$f":"IF(A12<>\"\",IFERROR(VLOOKUP(AB12,Tabelas!B:D,3,0),0),\"\")","v":0},{"$f":"IF(A12<>\"\",IFERROR(VLOOKUP(AC12,Tabelas!B:D,3,0),0),\"\")","v":0},{"$f":"IF(A12<>\"\",IFERROR(VLOOKUP(AD12,Tabelas!B:D,3,0),0),\"\")","v":0},{"$f":"IF(A12<>\"\",IFERROR(VLOOKUP(AE12,Tabelas!B:D,3,0),0),\"\")","v":0},{"$f":"IF(A12<>\"\",IFERROR(VLOOKUP(AF12,Tabelas!B:D,3,0),0),\"\")","v":0},{"$f":"IF(A12<>\"\",IFERROR(VLOOKUP(AG12,Tabelas!B:D,3,0),0),\"\")","v":0},{"$f":"IF(A12<>\"\",IFERROR(VLOOKUP(AH12,Tabelas!B:D,3,0),0),\"\")","v":0},{"$f":"IF(A12<>\"\",IFERROR(VLOOKUP(AI12,Tabelas!B:D,3,0),0),\"\")","v":0},{"$f":"IF(A12<>\"\",IFERROR(VLOOKUP(AJ12,Tabelas!B:D,3,0),0),\"\")","v":0},{"$f":"IF(A12<>\"\",IFERROR(VLOOKUP(AK12,Tabelas!B:D,3,0),0),\"\")","v":0},{"$f":"IF(A12<>\"\",IFERROR(VLOOKUP(AL12,Tabelas!B:D,3,0),0),\"\")","v":0},{"$f":"IF(A12<>\"\",IFERROR(VLOOKUP(AM12,Tabelas!B:D,3,0),0),\"\")","v":0},{"$f":"IF(A12<>\"\",IFERROR(VLOOKUP(AN12,Tabelas!B:D,3,0),0),\"\")","v":0},{"$f":"IF(A12<>\"\",IFERROR(VLOOKUP(AO12,Tabelas!B:D,3,0),0),\"\")","v":0},{"$f":"IF(A12<>\"\",IFERROR(VLOOKUP(AP12,Tabelas!B:D,3,0),0),\"\")","v":0},{"$f":"IF(A12<>\"\",IFERROR(VLOOKUP(AQ12,Tabelas!B:D,3,0),0),\"\")","v":0},0,0,0,0,0,0,0,0]
["FULANO 5",5,null,null,null,null,null,null,null,null,null,null,null,null,null,null,null,null,null,null,null,null,null,null,null,null,null,null,null,null,null,null,null,null,null,null,null,null,null,null,null,null,null,{"$f":"IF(A13<>\"\",IFERROR(VLOOKUP(M13,Tabelas!B:D,3,0),0),\"\")","v":0},{"$f":"IF(A13<>\"\",IFERROR(VLOOKUP(N13,Tabelas!B:D,3,0),0),\"\")","v":0},{"$f":"IF(A13<>\"\",IFERROR(VLOOKUP(O13,Tabelas!B:D,3,0),0),\"\")","v":0},{"$f":"IF(A13<>\"\",IFERROR(VLOOKUP(P13,Tabelas!B:D,3,0),0),\"\")","v":0},{"$f":"IF(A13<>\"\",IFERROR(VLOOKUP(Q13,Tabelas!B:D,3,0),0),\"\")","v":0},{"$f":"IF(A13<>\"\",IFERROR(VLOOKUP(R13,Tabelas!B:D,3,0),0),\"\")","v":0},{"$f":"IF(A13<>\"\",IFERROR(VLOOKUP(S13,Tabelas!B:D,3,0),0),\"\")","v":0},{"$f":"IF(A13<>\"\",IFERROR(VLOOKUP(T13,Tabelas!B:D,3,0),0),\"\")","v":0},{"$f":"IF(A13<>\"\",IFERROR(VLOOKUP(U13,Tabelas!B:D,3,0),0),\"\")","v":0},{"$f":"IF(A13<>\"\",IFERROR(VLOOKUP(V13,Tabelas!B:D,3,0),0),\"\")","v":0},{"$f":"IF(A13<>\"\",IFERROR(VLOOKUP(W13,Tabelas!B:D,3,0),0),\"\")","v":0},{"$f":"IF(A13<>\"\",IFERROR(VLOOKUP(X13,Tabelas!B:D,3,0),0),\"\")","v":0},{"$f":"IF(A13<>\"\",IFERROR(VLOOKUP(Y13,Tabelas!B:D,3,0),0),\"\")","v":0},{"$f":"IF(A13<>\"\",IFERROR(VLOOKUP(Z13,Tabelas!B:D,3,0),0),\"\")","v":0},{"$f":"IF(A13<>\"\",IFERROR(VLOOKUP(AA13,Tabelas!B:D,3,0),0),\"\")","v":0},{"$f":"IF(A13<>\"\",IFERROR(VLOOKUP(AB13,Tabelas!B:D,3,0),0),\"\")","v":0},{"$f":"IF(A13<>\"\",IFERROR(VLOOKUP(AC13,Tabelas!B:D,3,0),0),\"\")","v":0},{"$f":"IF(A13<>\"\",IFERROR(VLOOKUP(AD13,Tabelas!B:D,3,0),0),\"\")","v":0},{"$f":"IF(A13<>\"\",IFERROR(VLOOKUP(AE13,Tabelas!B:D,3,0),0),\"\")","v":0},{"$f":"IF(A13<>\"\",IFERROR(VLOOKUP(AF13,Tabelas!B:D,3,0),0),\"\")","v":0},{"$f":"IF(A13<>\"\",IFERROR(VLOOKUP(AG13,Tabelas!B:D,3,0),0),\"\")","v":0},{"$f":"IF(A13<>\"\",IFERROR(VLOOKUP(AH13,Tabelas!B:D,3,0),0),\"\")","v":0},{"$f":"IF(A13<>\"\",IFERROR(VLOOKUP(AI13,Tabelas!B:D,3,0),0),\"\")","v":0},{"$f":"IF(A13<>\"\",IFERROR(VLOOKUP(AJ13,Tabelas!B:D,3,0),0),\"\")","v":0},{"$f":"IF(A13<>\"\",IFERROR(VLOOKUP(AK13,Tabelas!B:D,3,0),0),\"\")","v":0},{"$f":"IF(A13<>\"\",IFERROR(VLOOKUP(AL13,Tabelas!B:D,3,0),0),\"\")","v":0},{"$f":"IF(A13<>\"\",IFERROR(VLOOKUP(AM13,Tabelas!B:D,3,0),0),\"\")","v":0},{"$f":"IF(A13<>\"\",IFERROR(VLOOKUP(AN13,Tabelas!B:D,3,0),0),\"\")","v":0},{"$f":"IF(A13<>\"\",IFERROR(VLOOKUP(AO13,Tabelas!B:D,3,0),0),\"\")","v":0},{"$f":"IF(A13<>\"\",IFERROR(VLOOKUP(AP13,Tabelas!B:D,3,0),0),\"\")","v":0},{"$f":"IF(A13<>\"\",IFERROR(VLOOKUP(AQ13,Tabelas!B:D,3,0),0),\"\")","v":0},0,0,0,0,0,0,0,0]
["FULANO 6",6,null,null,null,null,null,null,null,null,null,null,null,null,null,null,null,null,null,null,null,null,null,null,null,null,null,null,null,null,null,null,null,null,null,null,null,null,null,null,null,null,null,{"$f":"IF(A14<>\"\",IFERROR(VLOOKUP(M14,Tabelas!B:D,3,0),0),\"\")","v":0},{"$f":"IF(A14<>\"\",IFERROR(VLOOKUP(N14,Tabelas!B:D,3,0),0),\"\")","v":0},{"$f":"IF(A14<>\"\",IFERROR(VLOOKUP(O14,Tabelas!B:D,3,0),0),\"\")","v":0},{"$f":"IF(A14<>\"\",IFERROR(VLOOKUP(P14,Tabelas!B:D,3,0),0),\"\")","v":0},{"$f":"IF(A14<>\"\",IFERROR(VLOOKUP(Q14,Tabelas!B:D,3,0),0),\"\")","v":0},{"$f":"IF(A14<>\"\",IFERROR(VLOOKUP(R14,Tabelas!B:D,3,0),0),\"\")","v":0},{"$f":"IF(A14<>\"\",IFERROR(VLOOKUP(S14,Tabelas!B:D,3,0),0),\"\")","v":0},{"$f":"IF(A14<>\"\",IFERROR(VLOOKUP(T14,Tabelas!B:D,3,0),0),\"\")","v":0},{"$f":"IF(A14<>\"\",IFERROR(VLOOKUP(U14,Tabelas!B:D,3,0),0),\"\")","v":0},{"$f":"IF(A14<>\"\",IFERROR(VLOOKUP(V14,Tabelas!B:D,3,0),0),\"\")","v":0},{"$f":"IF(A14<>\"\",IFERROR(VLOOKUP(W14,Tabelas!B:D,3,0),0),\"\")","v":0},{"$f":"IF(A14<>\"\",IFERROR(VLOOKUP(X14,Tabelas!B:D,3,0),0),\"\")","v":0},{"$f":"IF(A14<>\"\",IFERROR(VLOOKUP(Y14,Tabelas!B:D,3,0),0),\"\")","v":0},{"$f":"IF(A14<>\"\",IFERROR(VLOOKUP(Z14,Tabelas!B:D,3,0),0),\"\")","v":0},{"$f":"IF(A14<>\"\",IFERROR(VLOOKUP(AA14,Tabelas!B:D,3,0),0),\"\")","v":0},{"$f":"IF(A14<>\"\",IFERROR(VLOOKUP(AB14,Tabelas!B:D,3,0),0),\"\")","v":0},{"$f":"IF(A14<>\"\",IFERROR(VLOOKUP(AC14,Tabelas!B:D,3,0),0),\"\")","v":0},{"$f":"IF(A14<>\"\",IFERROR(VLOOKUP(AD14,Tabelas!B:D,3,0),0),\"\")","v":0},{"$f":"IF(A14<>\"\",IFERROR(VLOOKUP(AE14,Tabelas!B:D,3,0),0),\"\")","v":0},{"$f":"IF(A14<>\"\",IFERROR(VLOOKUP(AF14,Tabelas!B:D,3,0),0),\"\")","v":0},{"$f":"IF(A14<>\"\",IFERROR(VLOOKUP(AG14,Tabelas!B:D,3,0),0),\"\")","v":0},{"$f":"IF(A14<>\"\",IFERROR(VLOOKUP(AH14,Tabelas!B:D,3,0),0),\"\")","v":0},{"$f":"IF(A14<>\"\",IFERROR(VLOOKUP(AI14,Tabelas!B:D,3,0),0),\"\")","v":0},{"$f":"IF(A14<>\"\",IFERROR(VLOOKUP(AJ14,Tabelas!B:D,3,0),0),\"\")","v":0},{"$f":"IF(A14<>\"\",IFERROR(VLOOKUP(AK14,Tabelas!B:D,3,0),0),\"\")","v":0},{"$f":"IF(A14<>\"\",IFERROR(VLOOKUP(AL14,Tabelas!B:D,3,0),0),\"\")","v":0},{"$f":"IF(A14<>\"\",IFERROR(VLOOKUP(AM14,Tabelas!B:D,3,0),0),\"\")","v":0},{"$f":"IF(A14<>\"\",IFERROR(VLOOKUP(AN14,Tabelas!B:D,3,0),0),\"\")","v":0},{"$f":"IF(A14<>\"\",IFERROR(VLOOKUP(AO14,Tabelas!B:D,3,0),0),\"\")","v":0},{"$f":"IF(A14<>\"\",IFERROR(VLOOKUP(AP14,Tabelas!B:D,3,0),0),\"\")","v":0},{"$f":"IF(A14<>\"\",IFERROR(VLOOKUP(AQ14,Tabelas!B:D,3,0),0),\"\")","v":0},0,0,0,0,0,0,0,0]
["FULANO 7",7,null,null,null,null,null,null,null,null,null,null,null,null,null,null,null,null,null,null,null,null,null,null,null,null,null,null,null,null,null,null,null,null,null,null,null,null,null,null,null,null,null,{"$f":"IF(A15<>\"\",IFERROR(VLOOKUP(M15,Tabelas!B:D,3,0),0),\"\")","v":0},{"$f":"IF(A15<>\"\",IFERROR(VLOOKUP(N15,Tabelas!B:D,3,0),0),\"\")","v":0},{"$f":"IF(A15<>\"\",IFERROR(VLOOKUP(O15,Tabelas!B:D,3,0),0),\"\")","v":0},{"$f":"IF(A15<>\"\",IFERROR(VLOOKUP(P15,Tabelas!B:D,3,0),0),\"\")","v":0},{"$f":"IF(A15<>\"\",IFERROR(VLOOKUP(Q15,Tabelas!B:D,3,0),0),\"\")","v":0},{"$f":"IF(A15<>\"\",IFERROR(VLOOKUP(R15,Tabelas!B:D,3,0),0),\"\")","v":0},{"$f":"IF(A15<>\"\",IFERROR(VLOOKUP(S15,Tabelas!B:D,3,0),0),\"\")","v":0},{"$f":"IF(A15<>\"\",IFERROR(VLOOKUP(T15,Tabelas!B:D,3,0),0),\"\")","v":0},{"$f":"IF(A15<>\"\",IFERROR(VLOOKUP(U15,Tabelas!B:D,3,0),0),\"\")","v":0},{"$f":"IF(A15<>\"\",IFERROR(VLOOKUP(V15,Tabelas!B:D,3,0),0),\"\")","v":0},{"$f":"IF(A15<>\"\",IFERROR(VLOOKUP(W15,Tabelas!B:D,3,0),0),\"\")","v":0},{"$f":"IF(A15<>\"\",IFERROR(VLOOKUP(X15,Tabelas!B:D,3,0),0),\"\")","v":0},{"$f":"IF(A15<>\"\",IFERROR(VLOOKUP(Y15,Tabelas!B:D,3,0),0),\"\")","v":0},{"$f":"IF(A15<>\"\",IFERROR(VLOOKUP(Z15,Tabelas!B:D,3,0),0),\"\")","v":0},{"$f":"IF(A15<>\"\",IFERROR(VLOOKUP(AA15,Tabelas!B:D,3,0),0),\"\")","v":0},{"$f":"IF(A15<>\"\",IFERROR(VLOOKUP(AB15,Tabelas!B:D,3,0),0),\"\")","v":0},{"$f":"IF(A15<>\"\",IFERROR(VLOOKUP(AC15,Tabelas!B:D,3,0),0),\"\")","v":0},{"$f":"IF(A15<>\"\",IFERROR(VLOOKUP(AD15,Tabelas!B:D,3,0),0),\"\")","v":0},{"$f":"IF(A15<>\"\",IFERROR(VLOOKUP(AE15,Tabelas!B:D,3,0),0),\"\")","v":0},{"$f":"IF(A15<>\"\",IFERROR(VLOOKUP(AF15,Tabelas!B:D,3,0),0),\"\")","v":0},{"$f":"IF(A15<>\"\",IFERROR(VLOOKUP(AG15,Tabelas!B:D,3,0),0),\"\")","v":0},{"$f":"IF(A15<>\"\",IFERROR(VLOOKUP(AH15,Tabelas!B:D,3,0),0),\"\")","v":0},{"$f":"IF(A15<>\"\",IFERROR(VLOOKUP(AI15,Tabelas!B:D,3,0),0),\"\")","v":0},{"$f":"IF(A15<>\"\",IFERROR(VLOOKUP(AJ15,Tabelas!B:D,3,0),0),\"\")","v":0},{"$f":"IF(A15<>\"\",IFERROR(VLOOKUP(AK15,Tabelas!B:D,3,0),0),\"\")","v":0},{"$f":"IF(A15<>\"\",IFERROR(VLOOKUP(AL15,Tabelas!B:D,3,0),0),\"\")","v":0},{"$f":"IF(A15<>\"\",IFERROR(VLOOKUP(AM15,Tabelas!B:D,3,0),0),\"\")","v":0},{"$f":"IF(A15<>\"\",IFERROR(VLOOKUP(AN15,Tabelas!B:D,3,0),0),\"\")","v":0},{"$f":"IF(A15<>\"\",IFERROR(VLOOKUP(AO15,Tabelas!B:D,3,0),0),\"\")","v":0},{"$f":"IF(A15<>\"\",IFERROR(VLOOKUP(AP15,Tabelas!B:D,3,0),0),\"\")","v":0},{"$f":"IF(A15<>\"\",IFERROR(VLOOKUP(AQ15,Tabelas!B:D,3,0),0),\"\")","v":0},0,0,0,0,0,0,0,0]
["FULANO 8",8,null,null,null,null,null,null,null,null,null,null,null,null,null,null,null,null,null,null,null,null,null,null,null,null,null,null,null,null,null,null,null,null,null,null,null,null,null,null,null,null,null,{"$f":"IF(A16<>\"\",IFERROR(VLOOKUP(M16,Tabelas!B:D,3,0),0),\"\")","v":0},{"$f":"IF(A16<>\"\",IFERROR(VLOOKUP(N16,Tabelas!B:D,3,0),0),\"\")","v":0},{"$f":"IF(A16<>\"\",IFERROR(VLOOKUP(O16,Tabelas!B:D,3,0),0),\"\")","v":0},{"$f":"IF(A16<>\"\",IFERROR(VLOOKUP(P16,Tabelas!B:D,3,0),0),\"\")","v":0},{"$f":"IF(A16<>\"\",IFERROR(VLOOKUP(Q16,Tabelas!B:D,3,0),0),\"\")","v":0},{"$f":"IF(A16<>\"\",IFERROR(VLOOKUP(R16,Tabelas!B:D,3,0),0),\"\")","v":0},{"$f":"IF(A16<>\"\",IFERROR(VLOOKUP(S16,Tabelas!B:D,3,0),0),\"\")","v":0},{"$f":"IF(A16<>\"\",IFERROR(VLOOKUP(T16,Tabelas!B:D,3,0),0),\"\")","v":0},{"$f":"IF(A16<>\"\",IFERROR(VLOOKUP(U16,Tabelas!B:D,3,0),0),\"\")","v":0},{"$f":"IF(A16<>\"\",IFERROR(VLOOKUP(V16,Tabelas!B:D,3,0),0),\"\")","v":0},{"$f":"IF(A16<>\"\",IFERROR(VLOOKUP(W16,Tabelas!B:D,3,0),0),\"\")","v":0},{"$f":"IF(A16<>\"\",IFERROR(VLOOKUP(X16,Tabelas!B:D,3,0),0),\"\")","v":0},{"$f":"IF(A16<>\"\",IFERROR(VLOOKUP(Y16,Tabelas!B:D,3,0),0),\"\")","v":0},{"$f":"IF(A16<>\"\",IFERROR(VLOOKUP(Z16,Tabelas!B:D,3,0),0),\"\")","v":0},{"$f":"IF(A16<>\"\",IFERROR(VLOOKUP(AA16,Tabelas!B:D,3,0),0),\"\")","v":0},{"$f":"IF(A16<>\"\",IFERROR(VLOOKUP(AB16,Tabelas!B:D,3,0),0),\"\")","v":0},{"$f":"IF(A16<>\"\",IFERROR(VLOOKUP(AC16,Tabelas!B:D,3,0),0),\"\")","v":0},{"$f":"IF(A16<>\"\",IFERROR(VLOOKUP(AD16,Tabelas!B:D,3,0),0),\"\")","v":0},{"$f":"IF(A16<>\"\",IFERROR(VLOOKUP(AE16,Tabelas!B:D,3,0),0),\"\")","v":0},{"$f":"IF(A16<>\"\",IFERROR(VLOOKUP(AF16,Tabelas!B:D,3,0),0),\"\")","v":0},{"$f":"IF(A16<>\"\",IFERROR(VLOOKUP(AG16,Tabelas!B:D,3,0),0),\"\")","v":0},{"$f":"IF(A16<>\"\",IFERROR(VLOOKUP(AH16,Tabelas!B:D,3,0),0),\"\")","v":0},{"$f":"IF(A16<>\"\",IFERROR(VLOOKUP(AI16,Tabelas!B:D,3,0),0),\"\")","v":0},{"$f":"IF(A16<>\"\",IFERROR(VLOOKUP(AJ16,Tabelas!B:D,3,0),0),\"\")","v":0},{"$f":"IF(A16<>\"\",IFERROR(VLOOKUP(AK16,Tabelas!B:D,3,0),0),\"\")","v":0},{"$f":"IF(A16<>\"\",IFERROR(VLOOKUP(AL16,Tabelas!B:D,3,0),0),\"\")","v":0},{"$f":"IF(A16<>\"\",IFERROR(VLOOKUP(AM16,Tabelas!B:D,3,0),0),\"\")","v":0},{"$f":"IF(A16<>\"\",IFERROR(VLOOKUP(AN16,Tabelas!B:D,3,0),0),\"\")","v":0},{"$f":"IF(A16<>\"\",IFERROR(VLOOKUP(AO16,Tabelas!B:D,3,0),0),\"\")","v":0},{"$f":"IF(A16<>\"\",IFERROR(VLOOKUP(AP16,Tabelas!B:D,3,0),0),\"\")","v":0},{"$f":"IF(A16<>\"\",IFERROR(VLOOKUP(AQ16,Tabelas!B:D,3,0),0),\"\")","v":0},0,0,0,0,0,0,0,0]
["FULANO 9",9,null,null,null,null,null,null,null,null,null,null,null,null,null,null,null,null,null,null,null,null,null,null,null,null,null,null,null,null,null,null,null,null,null,null,null,null,null,null,null,null,null,{"$f":"IF(A17<>\"\",IFERROR(VLOOKUP(M17,Tabelas!B:D,3,0),0),\"\")","v":0},{"$f":"IF(A17<>\"\",IFERROR(VLOOKUP(N17,Tabelas!B:D,3,0),0),\"\")","v":0},{"$f":"IF(A17<>\"\",IFERROR(VLOOKUP(O17,Tabelas!B:D,3,0),0),\"\")","v":0},{"$f":"IF(A17<>\"\",IFERROR(VLOOKUP(P17,Tabelas!B:D,3,0),0),\"\")","v":0},{"$f":"IF(A17<>\"\",IFERROR(VLOOKUP(Q17,Tabelas!B:D,3,0),0),\"\")","v":0},{"$f":"IF(A17<>\"\",IFERROR(VLOOKUP(R17,Tabelas!B:D,3,0),0),\"\")","v":0},{"$f":"IF(A17<>\"\",IFERROR(VLOOKUP(S17,Tabelas!B:D,3,0),0),\"\")","v":0},{"$f":"IF(A17<>\"\",IFERROR(VLOOKUP(T17,Tabelas!B:D,3,0),0),\"\")","v":0},{"$f":"IF(A17<>\"\",IFERROR(VLOOKUP(U17,Tabelas!B:D,3,0),0),\"\")","v":0},{"$f":"IF(A17<>\"\",IFERROR(VLOOKUP(V17,Tabelas!B:D,3,0),0),\"\")","v":0},{"$f":"IF(A17<>\"\",IFERROR(VLOOKUP(W17,Tabelas!B:D,3,0),0),\"\")","v":0},{"$f":"IF(A17<>\"\",IFERROR(VLOOKUP(X17,Tabelas!B:D,3,0),0),\"\")","v":0},{"$f":"IF(A17<>\"\",IFERROR(VLOOKUP(Y17,Tabelas!B:D,3,0),0),\"\")","v":0},{"$f":"IF(A17<>\"\",IFERROR(VLOOKUP(Z17,Tabelas!B:D,3,0),0),\"\")","v":0},{"$f":"IF(A17<>\"\",IFERROR(VLOOKUP(AA17,Tabelas!B:D,3,0),0),\"\")","v":0},{"$f":"IF(A17<>\"\",IFERROR(VLOOKUP(AB17,Tabelas!B:D,3,0),0),\"\")","v":0},{"$f":"IF(A17<>\"\",IFERROR(VLOOKUP(AC17,Tabelas!B:D,3,0),0),\"\")","v":0},{"$f":"IF(A17<>\"\",IFERROR(VLOOKUP(AD17,Tabelas!B:D,3,0),0),\"\")","v":0},{"$f":"IF(A17<>\"\",IFERROR(VLOOKUP(AE17,Tabelas!B:D,3,0),0),\"\")","v":0},{"$f":"IF(A17<>\"\",IFERROR(VLOOKUP(AF17,Tabelas!B:D,3,0),0),\"\")","v":0},{"$f":"IF(A17<>\"\",IFERROR(VLOOKUP(AG17,Tabelas!B:D,3,0),0),\"\")","v":0},{"$f":"IF(A17<>\"\",IFERROR(VLOOKUP(AH17,Tabelas!B:D,3,0),0),\"\")","v":0},{"$f":"IF(A17<>\"\",IFERROR(VLOOKUP(AI17,Tabelas!B:D,3,0),0),\"\")","v":0},{"$f":"IF(A17<>\"\",IFERROR(VLOOKUP(AJ17,Tabelas!B:D,3,0),0),\"\")","v":0},{"$f":"IF(A17<>\"\",IFERROR(VLOOKUP(AK17,Tabelas!B:D,3,0),0),\"\")","v":0},{"$f":"IF(A17<>\"\",IFERROR(VLOOKUP(AL17,Tabelas!B:D,3,0),0),\"\")","v":0},{"$f":"IF(A17<>\"\",IFERROR(VLOOKUP(AM17,Tabelas!B:D,3,0),0),\"\")","v":0},{"$f":"IF(A17<>\"\",IFERROR(VLOOKUP(AN17,Tabelas!B:D,3,0),0),\"\")","v":0},{"$f":"IF(A17<>\"\",IFERROR(VLOOKUP(AO17,Tabelas!B:D,3,0),0),\"\")","v":0},{"$f":"IF(A17<>\"\",IFERROR(VLOOKUP(AP17,Tabelas!B:D,3,0),0),\"\")","v":0},{"$f":"IF(A17<>\"\",IFERROR(VLOOKUP(AQ17,Tabelas!B:D,3,0),0),\"\")","v":0},0,0,0,0,0,0,0,0]
["FULANO 10",10,null,null,null,null,null,null,null,null,null,null,null,null,null,null,null,null,null,null,null,null,null,null,null,null,null,null,null,null,null,null,null,null,null,null,null,null,null,null,null,null,null,{"$f":"IF(A18<>\"\",IFERROR(VLOOKUP(M18,Tabelas!B:D,3,0),0),\"\")","v":0},{"$f":"IF(A18<>\"\",IFERROR(VLOOKUP(N18,Tabelas!B:D,3,0),0),\"\")","v":0},{"$f":"IF(A18<>\"\",IFERROR(VLOOKUP(O18,Tabelas!B:D,3,0),0),\"\")","v":0},{"$f":"IF(A18<>\"\",IFERROR(VLOOKUP(P18,Tabelas!B:D,3,0),0),\"\")","v":0},{"$f":"IF(A18<>\"\",IFERROR(VLOOKUP(Q18,Tabelas!B:D,3,0),0),\"\")","v":0},{"$f":"IF(A18<>\"\",IFERROR(VLOOKUP(R18,Tabelas!B:D,3,0),0),\"\")","v":0},{"$f":"IF(A18<>\"\",IFERROR(VLOOKUP(S18,Tabelas!B:D,3,0),0),\"\")","v":0},{"$f":"IF(A18<>\"\",IFERROR(VLOOKUP(T18,Tabelas!B:D,3,0),0),\"\")","v":0},{"$f":"IF(A18<>\"\",IFERROR(VLOOKUP(U18,Tabelas!B:D,3,0),0),\"\")","v":0},{"$f":"IF(A18<>\"\",IFERROR(VLOOKUP(V18,Tabelas!B:D,3,0),0),\"\")","v":0},{"$f":"IF(A18<>\"\",IFERROR(VLOOKUP(W18,Tabelas!B:D,3,0),0),\"\")","v":0},{"$f":"IF(A18<>\"\",IFERROR(VLOOKUP(X18,Tabelas!B:D,3,0),0),\"\")","v":0},{"$f":"IF(A18<>\"\",IFERROR(VLOOKUP(Y18,Tabelas!B:D,3,0),0),\"\")","v":0},{"$f":"IF(A18<>\"\",IFERROR(VLOOKUP(Z18,Tabelas!B:D,3,0),0),\"\")","v":0},{"$f":"IF(A18<>\"\",IFERROR(VLOOKUP(AA18,Tabelas!B:D,3,0),0),\"\")","v":0},{"$f":"IF(A18<>\"\",IFERROR(VLOOKUP(AB18,Tabelas!B:D,3,0),0),\"\")","v":0},{"$f":"IF(A18<>\"\",IFERROR(VLOOKUP(AC18,Tabelas!B:D,3,0),0),\"\")","v":0},{"$f":"IF(A18<>\"\",IFERROR(VLOOKUP(AD18,Tabelas!B:D,3,0),0),\"\")","v":0},{"$f":"IF(A18<>\"\",IFERROR(VLOOKUP(AE18,Tabelas!B:D,3,0),0),\"\")","v":0},{"$f":"IF(A18<>\"\",IFERROR(VLOOKUP(AF18,Tabelas!B:D,3,0),0),\"\")","v":0},{"$f":"IF(A18<>\"\",IFERROR(VLOOKUP(AG18,Tabelas!B:D,3,0),0),\"\")","v":0},{"$f":"IF(A18<>\"\",IFERROR(VLOOKUP(AH18,Tabelas!B:D,3,0),0),\"\")","v":0},{"$f":"IF(A18<>\"\",IFERROR(VLOOKUP(AI18,Tabelas!B:D,3,0),0),\"\")","v":0},{"$f":"IF(A18<>\"\",IFERROR(VLOOKUP(AJ18,Tabelas!B:D,3,0),0),\"\")","v":0},{"$f":"IF(A18<>\"\",IFERROR(VLOOKUP(AK18,Tabelas!B:D,3,0),0),\"\")","v":0},{"$f":"IF(A18<>\"\",IFERROR(VLOOKUP(AL18,Tabelas!B:D,3,0),0),\"\")","v":0},{"$f":"IF(A18<>\"\",IFERROR(VLOOKUP(AM18,Tabelas!B:D,3,0),0),\"\")","v":0},{"$f":"IF(A18<>\"\",IFERROR(VLOOKUP(AN18,Tabelas!B:D,3,0),0),\"\")","v":0},{"$f":"IF(A18<>\"\",IFERROR(VLOOKUP(AO18,Tabelas!B:D,3,0),0),\"\")","v":0},{"$f":"IF(A18<>\"\",IFERROR(VLOOKUP(AP18,Tabelas!B:D,3,0),0),\"\")","v":0},{"$f":"IF(A18<>\"\",IFERROR(VLOOKUP(AQ18,Tabelas!B:D,3,0),0),\"\")","v":0},0,0,0,0,0,0,0,0]
["FULANO 11",11,null,null,null,null,null,null,null,null,null,null,null,null,null,null,null,null,null,null,null,null,null,null,null,null,null,null,null,null,null,null,null,null,null,null,null,null,null,null,null,null,null,{"$f":"IF(A19<>\"\",IFERROR(VLOOKUP(M19,Tabelas!B:D,3,0),0),\"\")","v":0},{"$f":"IF(A19<>\"\",IFERROR(VLOOKUP(N19,Tabelas!B:D,3,0),0),\"\")","v":0},{"$f":"IF(A19<>\"\",IFERROR(VLOOKUP(O19,Tabelas!B:D,3,0),0),\"\")","v":0},{"$f":"IF(A19<>\"\",IFERROR(VLOOKUP(P19,Tabelas!B:D,3,0),0),\"\")","v":0},{"$f":"IF(A19<>\"\",IFERROR(VLOOKUP(Q19,Tabelas!B:D,3,0),0),\"\")","v":0},{"$f":"IF(A19<>\"\",IFERROR(VLOOKUP(R19,Tabelas!B:D,3,0),0),\"\")","v":0},{"$f":"IF(A19<>\"\",IFERROR(VLOOKUP(S19,Tabelas!B:D,3,0),0),\"\")","v":0},{"$f":"IF(A19<>\"\",IFERROR(VLOOKUP(T19,Tabelas!B:D,3,0),0),\"\")","v":0},{"$f":"IF(A19<>\"\",IFERROR(VLOOKUP(U19,Tabelas!B:D,3,0),0),\"\")","v":0},{"$f":"IF(A19<>\"\",IFERROR(VLOOKUP(V19,Tabelas!B:D,3,0),0),\"\")","v":0},{"$f":"IF(A19<>\"\",IFERROR(VLOOKUP(W19,Tabelas!B:D,3,0),0),\"\")","v":0},{"$f":"IF(A19<>\"\",IFERROR(VLOOKUP(X19,Tabelas!B:D,3,0),0),\"\")","v":0},{"$f":"IF(A19<>\"\",IFERROR(VLOOKUP(Y19,Tabelas!B:D,3,0),0),\"\")","v":0},{"$f":"IF(A19<>\"\",IFERROR(VLOOKUP(Z19,Tabelas!B:D,3,0),0),\"\")","v":0},{"$f":"IF(A19<>\"\",IFERROR(VLOOKUP(AA19,Tabelas!B:D,3,0),0),\"\")","v":0},{"$f":"IF(A19<>\"\",IFERROR(VLOOKUP(AB19,Tabelas!B:D,3,0),0),\"\")","v":0},{"$f":"IF(A19<>\"\",IFERROR(VLOOKUP(AC19,Tabelas!B:D,3,0),0),\"\")","v":0},{"$f":"IF(A19<>\"\",IFERROR(VLOOKUP(AD19,Tabelas!B:D,3,0),0),\"\")","v":0},{"$f":"IF(A19<>\"\",IFERROR(VLOOKUP(AE19,Tabelas!B:D,3,0),0),\"\")","v":0},{"$f":"IF(A19<>\"\",IFERROR(VLOOKUP(AF19,Tabelas!B:D,3,0),0),\"\")","v":0},{"$f":"IF(A19<>\"\",IFERROR(VLOOKUP(AG19,Tabelas!B:D,3,0),0),\"\")","v":0},{"$f":"IF(A19<>\"\",IFERROR(VLOOKUP(AH19,Tabelas!B:D,3,0),0),\"\")","v":0},{"$f":"IF(A19<>\"\",IFERROR(VLOOKUP(AI19,Tabelas!B:D,3,0),0),\"\")","v":0},{"$f":"IF(A19<>\"\",IFERROR(VLOOKUP(AJ19,Tabelas!B:D,3,0),0),\"\")","v":0},{"$f":"IF(A19<>\"\",IFERROR(VLOOKUP(AK19,Tabelas!B:D,3,0),0),\"\")","v":0},{"$f":"IF(A19<>\"\",IFERROR(VLOOKUP(AL19,Tabelas!B:D,3,0),0),\"\")","v":0},{"$f":"IF(A19<>\"\",IFERROR(VLOOKUP(AM19,Tabelas!B:D,3,0),0),\"\")","v":0},{"$f":"IF(A19<>\"\",IFERROR(VLOOKUP(AN19,Tabelas!B:D,3,0),0),\"\")","v":0},{"$f":"IF(A19<>\"\",IFERROR(VLOOKUP(AO19,Tabelas!B:D,3,0),0),\"\")","v":0},{"$f":"IF(A19<>\"\",IFERROR(VLOOKUP(AP19,Tabelas!B:D,3,0),0),\"\")","v":0},{"$f":"IF(A19<>\"\",IFERROR(VLOOKUP(AQ19,Tabelas!B:D,3,0),0),\"\")","v":0},0,0,0,0,0,0,0,0]
["FULANO 12",12,null,null,null,null,null,null,null,null,null,null,null,null,null,null,null,null,null,null,null,null,null,null,null,null,null,null,null,null,null,null,null,null,null,null,null,null,null,null,null,null,null,{"$f":"IF(A20<>\"\",IFERROR(VLOOKUP(M20,Tabelas!B:D,3,0),0),\"\")","v":0},{"$f":"IF(A20<>\"\",IFERROR(VLOOKUP(N20,Tabelas!B:D,3,0),0),\"\")","v":0},{"$f":"IF(A20<>\"\",IFERROR(VLOOKUP(O20,Tabelas!B:D,3,0),0),\"\")","v":0},{"$f":"IF(A20<>\"\",IFERROR(VLOOKUP(P20,Tabelas!B:D,3,0),0),\"\")","v":0},{"$f":"IF(A20<>\"\",IFERROR(VLOOKUP(Q20,Tabelas!B:D,3,0),0),\"\")","v":0},{"$f":"IF(A20<>\"\",IFERROR(VLOOKUP(R20,Tabelas!B:D,3,0),0),\"\")","v":0},{"$f":"IF(A20<>\"\",IFERROR(VLOOKUP(S20,Tabelas!B:D,3,0),0),\"\")","v":0},{"$f":"IF(A20<>\"\",IFERROR(VLOOKUP(T20,Tabelas!B:D,3,0),0),\"\")","v":0},{"$f":"IF(A20<>\"\",IFERROR(VLOOKUP(U20,Tabelas!B:D,3,0),0),\"\")","v":0},{"$f":"IF(A20<>\"\",IFERROR(VLOOKUP(V20,Tabelas!B:D,3,0),0),\"\")","v":0},{"$f":"IF(A20<>\"\",IFERROR(VLOOKUP(W20,Tabelas!B:D,3,0),0),\"\")","v":0},{"$f":"IF(A20<>\"\",IFERROR(VLOOKUP(X20,Tabelas!B:D,3,0),0),\"\")","v":0},{"$f":"IF(A20<>\"\",IFERROR(VLOOKUP(Y20,Tabelas!B:D,3,0),0),\"\")","v":0},{"$f":"IF(A20<>\"\",IFERROR(VLOOKUP(Z20,Tabelas!B:D,3,0),0),\"\")","v":0},{"$f":"IF(A20<>\"\",IFERROR(VLOOKUP(AA20,Tabelas!B:D,3,0),0),\"\")","v":0},{"$f":"IF(A20<>\"\",IFERROR(VLOOKUP(AB20,Tabelas!B:D,3,0),0),\"\")","v":0},{"$f":"IF(A20<>\"\",IFERROR(VLOOKUP(AC20,Tabelas!B:D,3,0),0),\"\")","v":0},{"$f":"IF(A20<>\"\",IFERROR(VLOOKUP(AD20,Tabelas!B:D,3,0),0),\"\")","v":0},{"$f":"IF(A20<>\"\",IFERROR(VLOOKUP(AE20,Tabelas!B:D,3,0),0),\"\")","v":0},{"$f":"IF(A20<>\"\",IFERROR(VLOOKUP(AF20,Tabelas!B:D,3,0),0),\"\")","v":0},{"$f":"IF(A20<>\"\",IFERROR(VLOOKUP(AG20,Tabelas!B:D,3,0),0),\"\")","v":0},{"$f":"IF(A20<>\"\",IFERROR(VLOOKUP(AH20,Tabelas!B:D,3,0),0),\"\")","v":0},{"$f":"IF(A20<>\"\",IFERROR(VLOOKUP(AI20,Tabelas!B:D,3,0),0),\"\")","v":0},{"$f":"IF(A20<>\"\",IFERROR(VLOOKUP(AJ20,Tabelas!B:D,3,0),0),\"\")","v":0},{"$f":"IF(A20<>\"\",IFERROR(VLOOKUP(AK20,Tabelas!B:D,3,0),0),\"\")","v":0},{"$f":"IF(A20<>\"\",IFERROR(VLOOKUP(AL20,Tabelas!B:D,3,0),0),\"\")","v":0},{"$f":"IF(A20<>\"\",IFERROR(VLOOKUP(AM20,Tabelas!B:D,3,0),0),\"\")","v":0},{"$f":"IF(A20<>\"\",IFERROR(VLOOKUP(AN20,Tabelas!B:D,3,0),0),\"\")","v":0},{"$f":"IF(A20<>\"\",IFERROR(VLOOKUP(AO20,Tabelas!B:D,3,0),0),\"\")","v":0},{"$f":"IF(A20<>\"\",IFERROR(VLOOKUP(AP20,Tabelas!B:D,3,0),0),\"\")","v":0},{"$f":"IF(A20<>\"\",IFERROR(VLOOKUP(AQ20,Tabelas!B:D,3,0),0),\"\")","v":0},0,0,0,0,0,0,0,0]
["FULANO 13",13,null,null,null,null,null,null,null,null,null,null,null,null,null,null,null,null,null,null,null,null,null,null,null,null,null,null,null,null,null,null,null,null,null,null,null,null,null,null,null,null,null,{"$f":"IF(A21<>\"\",IFERROR(VLOOKUP(M21,Tabelas!B:D,3,0),0),\"\")","v":0},{"$f":"IF(A21<>\"\",IFERROR(VLOOKUP(N21,Tabelas!B:D,3,0),0),\"\")","v":0},{"$f":"IF(A21<>\"\",IFERROR(VLOOKUP(O21,Tabelas!B:D,3,0),0),\"\")","v":0},{"$f":"IF(A21<>\"\",IFERROR(VLOOKUP(P21,Tabelas!B:D,3,0),0),\"\")","v":0},{"$f":"IF(A21<>\"\",IFERROR(VLOOKUP(Q21,Tabelas!B:D,3,0),0),\"\")","v":0},{"$f":"IF(A21<>\"\",IFERROR(VLOOKUP(R21,Tabelas!B:D,3,0),0),\"\")","v":0},{"$f":"IF(A21<>\"\",IFERROR(VLOOKUP(S21,Tabelas!B:D,3,0),0),\"\")","v":0},{"$f":"IF(A21<>\"\",IFERROR(VLOOKUP(T21,Tabelas!B:D,3,0),0),\"\")","v":0},{"$f":"IF(A21<>\"\",IFERROR(VLOOKUP(U21,Tabelas!B:D,3,0),0),\"\")","v":0},{"$f":"IF(A21<>\"\",IFERROR(VLOOKUP(V21,Tabelas!B:D,3,0),0),\"\")","v":0},{"$f":"IF(A21<>\"\",IFERROR(VLOOKUP(W21,Tabelas!B:D,3,0),0),\"\")","v":0},{"$f":"IF(A21<>\"\",IFERROR(VLOOKUP(X21,Tabelas!B:D,3,0),0),\"\")","v":0},{"$f":"IF(A21<>\"\",IFERROR(VLOOKUP(Y21,Tabelas!B:D,3,0),0),\"\")","v":0},{"$f":"IF(A21<>\"\",IFERROR(VLOOKUP(Z21,Tabelas!B:D,3,0),0),\"\")","v":0},{"$f":"IF(A21<>\"\",IFERROR(VLOOKUP(AA21,Tabelas!B:D,3,0),0),\"\")","v":0},{"$f":"IF(A21<>\"\",IFERROR(VLOOKUP(AB21,Tabelas!B:D,3,0),0),\"\")","v":0},{"$f":"IF(A21<>\"\",IFERROR(VLOOKUP(AC21,Tabelas!B:D,3,0),0),\"\")","v":0},{"$f":"IF(A21<>\"\",IFERROR(VLOOKUP(AD21,Tabelas!B:D,3,0),0),\"\")","v":0},{"$f":"IF(A21<>\"\",IFERROR(VLOOKUP(AE21,Tabelas!B:D,3,0),0),\"\")","v":0},{"$f":"IF(A21<>\"\",IFERROR(VLOOKUP(AF21,Tabelas!B:D,3,0),0),\"\")","v":0},{"$f":"IF(A21<>\"\",IFERROR(VLOOKUP(AG21,Tabelas!B:D,3,0),0),\"\")","v":0},{"$f":"IF(A21<>\"\",IFERROR(VLOOKUP(AH21,Tabelas!B:D,3,0),0),\"\")","v":0},{"$f":"IF(A21<>\"\",IFERROR(VLOOKUP(AI21,Tabelas!B:D,3,0),0),\"\")","v":0},{"$f":"IF(A21<>\"\",IFERROR(VLOOKUP(AJ21,Tabelas!B:D,3,0),0),\"\")","v":0},{"$f":"IF(A21<>\"\",IFERROR(VLOOKUP(AK21,Tabelas!B:D,3,0),0),\"\")","v":0},{"$f":"IF(A21<>\"\",IFERROR(VLOOKUP(AL21,Tabelas!B:D,3,0),0),\"\")","v":0},{"$f":"IF(A21<>\"\",IFERROR(VLOOKUP(AM21,Tabelas!B:D,3,0),0),\"\")","v":0},{"$f":"IF(A21<>\"\",IFERROR(VLOOKUP(AN21,Tabelas!B:D,3,0),0),\"\")","v":0},{"$f":"IF(A21<>\"\",IFERROR(VLOOKUP(AO21,Tabelas!B:D,3,0),0),\"\")","v":0},{"$f":"IF(A21<>\"\",IFERROR(VLOOKUP(AP21,Tabelas!B:D,3,0),0),\"\")","v":0},{"$f":"IF(A21<>\"\",IFERROR(VLOOKUP(AQ21,Tabelas!B:D,3,0),0),\"\")","v":0},0,0,0,0,0,0,0,0]
["FULANO 14",14,null,null,null,null,null,null,null,null,null,null,null,null,null,null,null,null,null,null,null,null,null,null,null,null,null,null,null,null,null,null,null,null,null,null,null,null,null,null,null,null,null,{"$f":"IF(A22<>\"\",IFERROR(VLOOKUP(M22,Tabelas!B:D,3,0),0),\"\")","v":0},{"$f":"IF(A22<>\"\",IFERROR(VLOOKUP(N22,Tabelas!B:D,3,0),0),\"\")","v":0},{"$f":"IF(A22<>\"\",IFERROR(VLOOKUP(O22,Tabelas!B:D,3,0),0),\"\")","v":0},{"$f":"IF(A22<>\"\",IFERROR(VLOOKUP(P22,Tabelas!B:D,3,0),0),\"\")","v":0},{"$f":"IF(A22<>\"\",IFERROR(VLOOKUP(Q22,Tabelas!B:D,3,0),0),\"\")","v":0},{"$f":"IF(A22<>\"\",IFERROR(VLOOKUP(R22,Tabelas!B:D,3,0),0),\"\")","v":0},{"$f":"IF(A22<>\"\",IFERROR(VLOOKUP(S22,Tabelas!B:D,3,0),0),\"\")","v":0},{"$f":"IF(A22<>\"\",IFERROR(VLOOKUP(T22,Tabelas!B:D,3,0),0),\"\")","v":0},{"$f":"IF(A22<>\"\",IFERROR(VLOOKUP(U22,Tabelas!B:D,3,0),0),\"\")","v":0},{"$f":"IF(A22<>\"\",IFERROR(VLOOKUP(V22,Tabelas!B:D,3,0),0),\"\")","v":0},{"$f":"IF(A22<>\"\",IFERROR(VLOOKUP(W22,Tabelas!B:D,3,0),0),\"\")","v":0},{"$f":"IF(A22<>\"\",IFERROR(VLOOKUP(X22,Tabelas!B:D,3,0),0),\"\")","v":0},{"$f":"IF(A22<>\"\",IFERROR(VLOOKUP(Y22,Tabelas!B:D,3,0),0),\"\")","v":0},{"$f":"IF(A22<>\"\",IFERROR(VLOOKUP(Z22,Tabelas!B:D,3,0),0),\"\")","v":0},{"$f":"IF(A22<>\"\",IFERROR(VLOOKUP(AA22,Tabelas!B:D,3,0),0),\"\")","v":0},{"$f":"IF(A22<>\"\",IFERROR(VLOOKUP(AB22,Tabelas!B:D,3,0),0),\"\")","v":0},{"$f":"IF(A22<>\"\",IFERROR(VLOOKUP(AC22,Tabelas!B:D,3,0),0),\"\")","v":0},{"$f":"IF(A22<>\"\",IFERROR(VLOOKUP(AD22,Tabelas!B:D,3,0),0),\"\")","v":0},{"$f":"IF(A22<>\"\",IFERROR(VLOOKUP(AE22,Tabelas!B:D,3,0),0),\"\")","v":0},{"$f":"IF(A22<>\"\",IFERROR(VLOOKUP(AF22,Tabelas!B:D,3,0),0),\"\")","v":0},{"$f":"IF(A22<>\"\",IFERROR(VLOOKUP(AG22,Tabelas!B:D,3,0),0),\"\")","v":0},{"$f":"IF(A22<>\"\",IFERROR(VLOOKUP(AH22,Tabelas!B:D,3,0),0),\"\")","v":0},{"$f":"IF(A22<>\"\",IFERROR(VLOOKUP(AI22,Tabelas!B:D,3,0),0),\"\")","v":0},{"$f":"IF(A22<>\"\",IFERROR(VLOOKUP(AJ22,Tabelas!B:D,3,0),0),\"\")","v":0},{"$f":"IF(A22<>\"\",IFERROR(VLOOKUP(AK22,Tabelas!B:D,3,0),0),\"\")","v":0},{"$f":"IF(A22<>\"\",IFERROR(VLOOKUP(AL22,Tabelas!B:D,3,0),0),\"\")","v":0},{"$f":"IF(A22<>\"\",IFERROR(VLOOKUP(AM22,Tabelas!B:D,3,0),0),\"\")","v":0},{"$f":"IF(A22<>\"\",IFERROR(VLOOKUP(AN22,Tabelas!B:D,3,0),0),\"\")","v":0},{"$f":"IF(A22<>\"\",IFERROR(VLOOKUP(AO22,Tabelas!B:D,3,0),0),\"\")","v":0},{"$f":"IF(A22<>\"\",IFERROR(VLOOKUP(AP22,Tabelas!B:D,3,0),0),\"\")","v":0},{"$f":"IF(A22<>\"\",IFERROR(VLOOKUP(AQ22,Tabelas!B:D,3,0),0),\"\")","v":0},0,0,0,0,0,0,0,0]
["FULANO 15",15,null,null,null,null,null,null,null,null,null,null,null,null,null,null,null,null,null,null,null,null,null,null,null,null,null,null,null,null,null,null,null,null,null,null,null,null,null,null,null,null,null,{"$f":"IF(A23<>\"\",IFERROR(VLOOKUP(M23,Tabelas!B:D,3,0),0),\"\")","v":0},{"$f":"IF(A23<>\"\",IFERROR(VLOOKUP(N23,Tabelas!B:D,3,0),0),\"\")","v":0},{"$f":"IF(A23<>\"\",IFERROR(VLOOKUP(O23,Tabelas!B:D,3,0),0),\"\")","v":0},{"$f":"IF(A23<>\"\",IFERROR(VLOOKUP(P23,Tabelas!B:D,3,0),0),\"\")","v":0},{"$f":"IF(A23<>\"\",IFERROR(VLOOKUP(Q23,Tabelas!B:D,3,0),0),\"\")","v":0},{"$f":"IF(A23<>\"\",IFERROR(VLOOKUP(R23,Tabelas!B:D,3,0),0),\"\")","v":0},{"$f":"IF(A23<>\"\",IFERROR(VLOOKUP(S23,Tabelas!B:D,3,0),0),\"\")","v":0},{"$f":"IF(A23<>\"\",IFERROR(VLOOKUP(T23,Tabelas!B:D,3,0),0),\"\")","v":0},{"$f":"IF(A23<>\"\",IFERROR(VLOOKUP(U23,Tabelas!B:D,3,0),0),\"\")","v":0},{"$f":"IF(A23<>\"\",IFERROR(VLOOKUP(V23,Tabelas!B:D,3,0),0),\"\")","v":0},{"$f":"IF(A23<>\"\",IFERROR(VLOOKUP(W23,Tabelas!B:D,3,0),0),\"\")","v":0},{"$f":"IF(A23<>\"\",IFERROR(VLOOKUP(X23,Tabelas!B:D,3,0),0),\"\")","v":0},{"$f":"IF(A23<>\"\",IFERROR(VLOOKUP(Y23,Tabelas!B:D,3,0),0),\"\")","v":0},{"$f":"IF(A23<>\"\",IFERROR(VLOOKUP(Z23,Tabelas!B:D,3,0),0),\"\")","v":0},{"$f":"IF(A23<>\"\",IFERROR(VLOOKUP(AA23,Tabelas!B:D,3,0),0),\"\")","v":0},{"$f":"IF(A23<>\"\",IFERROR(VLOOKUP(AB23,Tabelas!B:D,3,0),0),\"\")","v":0},{"$f":"IF(A23<>\"\",IFERROR(VLOOKUP(AC23,Tabelas!B:D,3,0),0),\"\")","v":0},{"$f":"IF(A23<>\"\",IFERROR(VLOOKUP(AD23,Tabelas!B:D,3,0),0),\"\")","v":0},{"$f":"IF(A23<>\"\",IFERROR(VLOOKUP(AE23,Tabelas!B:D,3,0),0),\"\")","v":0},{"$f":"IF(A23<>\"\",IFERROR(VLOOKUP(AF23,Tabelas!B:D,3,0),0),\"\")","v":0},{"$f":"IF(A23<>\"\",IFERROR(VLOOKUP(AG23,Tabelas!B:D,3,0),0),\"\")","v":0},{"$f":"IF(A23<>\"\",IFERROR(VLOOKUP(AH23,Tabelas!B:D,3,0),0),\"\")","v":0},{"$f":"IF(A23<>\"\",IFERROR(VLOOKUP(AI23,Tabelas!B:D,3,0),0),\"\")","v":0},{"$f":"IF(A23<>\"\",IFERROR(VLOOKUP(AJ23,Tabelas!B:D,3,0),0),\"\")","v":0},{"$f":"IF(A23<>\"\",IFERROR(VLOOKUP(AK23,Tabelas!B:D,3,0),0),\"\")","v":0},{"$f":"IF(A23<>\"\",IFERROR(VLOOKUP(AL23,Tabelas!B:D,3,0),0),\"\")","v":0},{"$f":"IF(A23<>\"\",IFERROR(VLOOKUP(AM23,Tabelas!B:D,3,0),0),\"\")","v":0},{"$f":"IF(A23<>\"\",IFERROR(VLOOKUP(AN23,Tabelas!B:D,3,0),0),\"\")","v":0},{"$f":"IF(A23<>\"\",IFERROR(VLOOKUP(AO23,Tabelas!B:D,3,0),0),\"\")","v":0},{"$f":"IF(A23<>\"\",IFERROR(VLOOKUP(AP23,Tabelas!B:D,3,0),0),\"\")","v":0},{"$f":"IF(A23<>\"\",IFERROR(VLOOKUP(AQ23,Tabelas!B:D,3,0),0),\"\")","v":0},0,0,0,0,0,0,0,0]
["FULANO 16",16,null,null,null,null,null,null,null,null,null,null,null,null,null,null,null,null,null,null,null,null,null,null,null,null,null,null,null,null,null,null,null,null,null,null,null,null,null,null,null,null,null,{"$f":"IF(A24<>\"\",IFERROR(VLOOKUP(M24,Tabelas!B:D,3,0),0),\"\")","v":0},{"$f":"IF(A24<>\"\",IFERROR(VLOOKUP(N24,Tabelas!B:D,3,0),0),\"\")","v":0},{"$f":"IF(A24<>\"\",IFERROR(VLOOKUP(O24,Tabelas!B:D,3,0),0),\"\")","v":0},{"$f":"IF(A24<>\"\",IFERROR(VLOOKUP(P24,Tabelas!B:D,3,0),0),\"\")","v":0},{"$f":"IF(A24<>\"\",IFERROR(VLOOKUP(Q24,Tabelas!B:D,3,0),0),\"\")","v":0},{"$f":"IF(A24<>\"\",IFERROR(VLOOKUP(R24,Tabelas!B:D,3,0),0),\"\")","v":0},{"$f":"IF(A24<>\"\",IFERROR(VLOOKUP(S24,Tabelas!B:D,3,0),0),\"\")","v":0},{"$f":"IF(A24<>\"\",IFERROR(VLOOKUP(T24,Tabelas!B:D,3,0),0),\"\")","v":0},{"$f":"IF(A24<>\"\",IFERROR(VLOOKUP(U24,Tabelas!B:D,3,0),0),\"\")","v":0},{"$f":"IF(A24<>\"\",IFERROR(VLOOKUP(V24,Tabelas!B:D,3,0),0),\"\")","v":0},{"$f":"IF(A24<>\"\",IFERROR(VLOOKUP(W24,Tabelas!B:D,3,0),0),\"\")","v":0},{"$f":"IF(A24<>\"\",IFERROR(VLOOKUP(X24,Tabelas!B:D,3,0),0),\"\")","v":0},{"$f":"IF(A24<>\"\",IFERROR(VLOOKUP(Y24,Tabelas!B:D,3,0),0),\"\")","v":0},{"$f":"IF(A24<>\"\",IFERROR(VLOOKUP(Z24,Tabelas!B:D,3,0),0),\"\")","v":0},{"$f":"IF(A24<>\"\",IFERROR(VLOOKUP(AA24,Tabelas!B:D,3,0),0),\"\")","v":0},{"$f":"IF(A24<>\"\",IFERROR(VLOOKUP(AB24,Tabelas!B:D,3,0),0),\"\")","v":0},{"$f":"IF(A24<>\"\",IFERROR(VLOOKUP(AC24,Tabelas!B:D,3,0),0),\"\")","v":0},{"$f":"IF(A24<>\"\",IFERROR(VLOOKUP(AD24,Tabelas!B:D,3,0),0),\"\")","v":0},{"$f":"IF(A24<>\"\",IFERROR(VLOOKUP(AE24,Tabelas!B:D,3,0),0),\"\")","v":0},{"$f":"IF(A24<>\"\",IFERROR(VLOOKUP(AF24,Tabelas!B:D,3,0),0),\"\")","v":0},{"$f":"IF(A24<>\"\",IFERROR(VLOOKUP(AG24,Tabelas!B:D,3,0),0),\"\")","v":0},{"$f":"IF(A24<>\"\",IFERROR(VLOOKUP(AH24,Tabelas!B:D,3,0),0),\"\")","v":0},{"$f":"IF(A24<>\"\",IFERROR(VLOOKUP(AI24,Tabelas!B:D,3,0),0),\"\")","v":0},{"$f":"IF(A24<>\"\",IFERROR(VLOOKUP(AJ24,Tabelas!B:D,3,0),0),\"\")","v":0},{"$f":"IF(A24<>\"\",IFERROR(VLOOKUP(AK24,Tabelas!B:D,3,0),0),\"\")","v":0},{"$f":"IF(A24<>\"\",IFERROR(VLOOKUP(AL24,Tabelas!B:D,3,0),0),\"\")","v":0},{"$f":"IF(A24<>\"\",IFERROR(VLOOKUP(AM24,Tabelas!B:D,3,0),0),\"\")","v":0},{"$f":"IF(A24<>\"\",IFERROR(VLOOKUP(AN24,Tabelas!B:D,3,0),0),\"\")","v":0},{"$f":"IF(A24<>\"\",IFERROR(VLOOKUP(AO24,Tabelas!B:D,3,0),0),\"\")","v":0},{"$f":"IF(A24<>\"\",IFERROR(VLOOKUP(AP24,Tabelas!B:D,3,0),0),\"\")","v":0},{"$f":"IF(A24<>\"\",IFERROR(VLOOKUP(AQ24,Tabelas!B:D,3,0),0),\"\")","v":0},0,0,0,0,0,0,0,0]
["FULANO 17",17,null,null,null,null,null,null,null,null,null,null,null,null,null,null,null,null,null,null,null,null,null,null,null,null,null,null,null,null,null,null,null,null,null,null,null,null,null,null,null,null,null,{"$f":"IF(A25<>\"\",IFERROR(VLOOKUP(M25,Tabelas!B:D,3,0),0),\"\")","v":0},{"$f":"IF(A25<>\"\",IFERROR(VLOOKUP(N25,Tabelas!B:D,3,0),0),\"\")","v":0},{"$f":"IF(A25<>\"\",IFERROR(VLOOKUP(O25,Tabelas!B:D,3,0),0),\"\")","v":0},{"$f":"IF(A25<>\"\",IFERROR(VLOOKUP(P25,Tabelas!B:D,3,0),0),\"\")","v":0},{"$f":"IF(A25<>\"\",IFERROR(VLOOKUP(Q25,Tabelas!B:D,3,0),0),\"\")","v":0},{"$f":"IF(A25<>\"\",IFERROR(VLOOKUP(R25,Tabelas!B:D,3,0),0),\"\")","v":0},{"$f":"IF(A25<>\"\",IFERROR(VLOOKUP(S25,Tabelas!B:D,3,0),0),\"\")","v":0},{"$f":"IF(A25<>\"\",IFERROR(VLOOKUP(T25,Tabelas!B:D,3,0),0),\"\")","v":0},{"$f":"IF(A25<>\"\",IFERROR(VLOOKUP(U25,Tabelas!B:D,3,0),0),\"\")","v":0},{"$f":"IF(A25<>\"\",IFERROR(VLOOKUP(V25,Tabelas!B:D,3,0),0),\"\")","v":0},{"$f":"IF(A25<>\"\",IFERROR(VLOOKUP(W25,Tabelas!B:D,3,0),0),\"\")","v":0},{"$f":"IF(A25<>\"\",IFERROR(VLOOKUP(X25,Tabelas!B:D,3,0),0),\"\")","v":0},{"$f":"IF(A25<>\"\",IFERROR(VLOOKUP(Y25,Tabelas!B:D,3,0),0),\"\")","v":0},{"$f":"IF(A25<>\"\",IFERROR(VLOOKUP(Z25,Tabelas!B:D,3,0),0),\"\")","v":0},{"$f":"IF(A25<>\"\",IFERROR(VLOOKUP(AA25,Tabelas!B:D,3,0),0),\"\")","v":0},{"$f":"IF(A25<>\"\",IFERROR(VLOOKUP(AB25,Tabelas!B:D,3,0),0),\"\")","v":0},{"$f":"IF(A25<>\"\",IFERROR(VLOOKUP(AC25,Tabelas!B:D,3,0),0),\"\")","v":0},{"$f":"IF(A25<>\"\",IFERROR(VLOOKUP(AD25,Tabelas!B:D,3,0),0),\"\")","v":0},{"$f":"IF(A25<>\"\",IFERROR(VLOOKUP(AE25,Tabelas!B:D,3,0),0),\"\")","v":0},{"$f":"IF(A25<>\"\",IFERROR(VLOOKUP(AF25,Tabelas!B:D,3,0),0),\"\")","v":0},{"$f":"IF(A25<>\"\",IFERROR(VLOOKUP(AG25,Tabelas!B:D,3,0),0),\"\")","v":0},{"$f":"IF(A25<>\"\",IFERROR(VLOOKUP(AH25,Tabelas!B:D,3,0),0),\"\")","v":0},{"$f":"IF(A25<>\"\",IFERROR(VLOOKUP(AI25,Tabelas!B:D,3,0),0),\"\")","v":0},{"$f":"IF(A25<>\"\",IFERROR(VLOOKUP(AJ25,Tabelas!B:D,3,0),0),\"\")","v":0},{"$f":"IF(A25<>\"\",IFERROR(VLOOKUP(AK25,Tabelas!B:D,3,0),0),\"\")","v":0},{"$f":"IF(A25<>\"\",IFERROR(VLOOKUP(AL25,Tabelas!B:D,3,0),0),\"\")","v":0},{"$f":"IF(A25<>\"\",IFERROR(VLOOKUP(AM25,Tabelas!B:D,3,0),0),\"\")","v":0},{"$f":"IF(A25<>\"\",IFERROR(VLOOKUP(AN25,Tabelas!B:D,3,0),0),\"\")","v":0},{"$f":"IF(A25<>\"\",IFERROR(VLOOKUP(AO25,Tabelas!B:D,3,0),0),\"\")","v":0},{"$f":"IF(A25<>\"\",IFERROR(VLOOKUP(AP25,Tabelas!B:D,3,0),0),\"\")","v":0},{"$f":"IF(A25<>\"\",IFERROR(VLOOKUP(AQ25,Tabelas!B:D,3,0),0),\"\")","v":0},0,0,0,0,0,0,0,0]
["FULANO 18",18,null,null,null,null,null,null,null,null,null,null,null,null,null,null,null,null,null,null,null,null,null,null,null,null,null,null,null,null,null,null,null,null,null,null,null,null,null,null,null,null,null,{"$f":"IF(A26<>\"\",IFERROR(VLOOKUP(M26,Tabelas!B:D,3,0),0),\"\")","v":0},{"$f":"IF(A26<>\"\",IFERROR(VLOOKUP(N26,Tabelas!B:D,3,0),0),\"\")","v":0},{"$f":"IF(A26<>\"\",IFERROR(VLOOKUP(O26,Tabelas!B:D,3,0),0),\"\")","v":0},{"$f":"IF(A26<>\"\",IFERROR(VLOOKUP(P26,Tabelas!B:D,3,0),0),\"\")","v":0},{"$f":"IF(A26<>\"\",IFERROR(VLOOKUP(Q26,Tabelas!B:D,3,0),0),\"\")","v":0},{"$f":"IF(A26<>\"\",IFERROR(VLOOKUP(R26,Tabelas!B:D,3,0),0),\"\")","v":0},{"$f":"IF(A26<>\"\",IFERROR(VLOOKUP(S26,Tabelas!B:D,3,0),0),\"\")","v":0},{"$f":"IF(A26<>\"\",IFERROR(VLOOKUP(T26,Tabelas!B:D,3,0),0),\"\")","v":0},{"$f":"IF(A26<>\"\",IFERROR(VLOOKUP(U26,Tabelas!B:D,3,0),0),\"\")","v":0},{"$f":"IF(A26<>\"\",IFERROR(VLOOKUP(V26,Tabelas!B:D,3,0),0),\"\")","v":0},{"$f":"IF(A26<>\"\",IFERROR(VLOOKUP(W26,Tabelas!B:D,3,0),0),\"\")","v":0},{"$f":"IF(A26<>\"\",IFERROR(VLOOKUP(X26,Tabelas!B:D,3,0),0),\"\")","v":0},{"$f":"IF(A26<>\"\",IFERROR(VLOOKUP(Y26,Tabelas!B:D,3,0),0),\"\")","v":0},{"$f":"IF(A26<>\"\",IFERROR(VLOOKUP(Z26,Tabelas!B:D,3,0),0),\"\")","v":0},{"$f":"IF(A26<>\"\",IFERROR(VLOOKUP(AA26,Tabelas!B:D,3,0),0),\"\")","v":0},{"$f":"IF(A26<>\"\",IFERROR(VLOOKUP(AB26,Tabelas!B:D,3,0),0),\"\")","v":0},{"$f":"IF(A26<>\"\",IFERROR(VLOOKUP(AC26,Tabelas!B:D,3,0),0),\"\")","v":0},{"$f":"IF(A26<>\"\",IFERROR(VLOOKUP(AD26,Tabelas!B:D,3,0),0),\"\")","v":0},{"$f":"IF(A26<>\"\",IFERROR(VLOOKUP(AE26,Tabelas!B:D,3,0),0),\"\")","v":0},{"$f":"IF(A26<>\"\",IFERROR(VLOOKUP(AF26,Tabelas!B:D,3,0),0),\"\")","v":0},{"$f":"IF(A26<>\"\",IFERROR(VLOOKUP(AG26,Tabelas!B:D,3,0),0),\"\")","v":0},{"$f":"IF(A26<>\"\",IFERROR(VLOOKUP(AH26,Tabelas!B:D,3,0),0),\"\")","v":0},{"$f":"IF(A26<>\"\",IFERROR(VLOOKUP(AI26,Tabelas!B:D,3,0),0),\"\")","v":0},{"$f":"IF(A26<>\"\",IFERROR(VLOOKUP(AJ26,Tabelas!B:D,3,0),0),\"\")","v":0},{"$f":"IF(A26<>\"\",IFERROR(VLOOKUP(AK26,Tabelas!B:D,3,0),0),\"\")","v":0},{"$f":"IF(A26<>\"\",IFERROR(VLOOKUP(AL26,Tabelas!B:D,3,0),0),\"\")","v":0},{"$f":"IF(A26<>\"\",IFERROR(VLOOKUP(AM26,Tabelas!B:D,3,0),0),\"\")","v":0},{"$f":"IF(A26<>\"\",IFERROR(VLOOKUP(AN26,Tabelas!B:D,3,0),0),\"\")","v":0},{"$f":"IF(A26<>\"\",IFERROR(VLOOKUP(AO26,Tabelas!B:D,3,0),0),\"\")","v":0},{"$f":"IF(A26<>\"\",IFERROR(VLOOKUP(AP26,Tabelas!B:D,3,0),0),\"\")","v":0},{"$f":"IF(A26<>\"\",IFERROR(VLOOKUP(AQ26,Tabelas!B:D,3,0),0),\"\")","v":0},0,0,0,0,0,0,0,0]
["FULANO 19",19,null,null,null,null,null,null,null,null,null,null,null,null,null,null,null,null,null,null,null,null,null,null,null,null,null,null,null,null,null,null,null,null,null,null,null,null,null,null,null,null,null,{"$f":"IF(A27<>\"\",IFERROR(VLOOKUP(M27,Tabelas!B:D,3,0),0),\"\")","v":0},{"$f":"IF(A27<>\"\",IFERROR(VLOOKUP(N27,Tabelas!B:D,3,0),0),\"\")","v":0},{"$f":"IF(A27<>\"\",IFERROR(VLOOKUP(O27,Tabelas!B:D,3,0),0),\"\")","v":0},{"$f":"IF(A27<>\"\",IFERROR(VLOOKUP(P27,Tabelas!B:D,3,0),0),\"\")","v":0},{"$f":"IF(A27<>\"\",IFERROR(VLOOKUP(Q27,Tabelas!B:D,3,0),0),\"\")","v":0},{"$f":"IF(A27<>\"\",IFERROR(VLOOKUP(R27,Tabelas!B:D,3,0),0),\"\")","v":0},{"$f":"IF(A27<>\"\",IFERROR(VLOOKUP(S27,Tabelas!B:D,3,0),0),\"\")","v":0},{"$f":"IF(A27<>\"\",IFERROR(VLOOKUP(T27,Tabelas!B:D,3,0),0),\"\")","v":0},{"$f":"IF(A27<>\"\",IFERROR(VLOOKUP(U27,Tabelas!B:D,3,0),0),\"\")","v":0},{"$f":"IF(A27<>\"\",IFERROR(VLOOKUP(V27,Tabelas!B:D,3,0),0),\"\")","v":0},{"$f":"IF(A27<>\"\",IFERROR(VLOOKUP(W27,Tabelas!B:D,3,0),0),\"\")","v":0},{"$f":"IF(A27<>\"\",IFERROR(VLOOKUP(X27,Tabelas!B:D,3,0),0),\"\")","v":0},{"$f":"IF(A27<>\"\",IFERROR(VLOOKUP(Y27,Tabelas!B:D,3,0),0),\"\")","v":0},{"$f":"IF(A27<>\"\",IFERROR(VLOOKUP(Z27,Tabelas!B:D,3,0),0),\"\")","v":0},{"$f":"IF(A27<>\"\",IFERROR(VLOOKUP(AA27,Tabelas!B:D,3,0),0),\"\")","v":0},{"$f":"IF(A27<>\"\",IFERROR(VLOOKUP(AB27,Tabelas!B:D,3,0),0),\"\")","v":0},{"$f":"IF(A27<>\"\",IFERROR(VLOOKUP(AC27,Tabelas!B:D,3,0),0),\"\")","v":0},{"$f":"IF(A27<>\"\",IFERROR(VLOOKUP(AD27,Tabelas!B:D,3,0),0),\"\")","v":0},{"$f":"IF(A27<>\"\",IFERROR(VLOOKUP(AE27,Tabelas!B:D,3,0),0),\"\")","v":0},{"$f":"IF(A27<>\"\",IFERROR(VLOOKUP(AF27,Tabelas!B:D,3,0),0),\"\")","v":0},{"$f":"IF(A27<>\"\",IFERROR(VLOOKUP(AG27,Tabelas!B:D,3,0),0),\"\")","v":0},{"$f":"IF(A27<>\"\",IFERROR(VLOOKUP(AH27,Tabelas!B:D,3,0),0),\"\")","v":0},{"$f":"IF(A27<>\"\",IFERROR(VLOOKUP(AI27,Tabelas!B:D,3,0),0),\"\")","v":0},{"$f":"IF(A27<>\"\",IFERROR(VLOOKUP(AJ27,Tabelas!B:D,3,0),0),\"\")","v":0},{"$f":"IF(A27<>\"\",IFERROR(VLOOKUP(AK27,Tabelas!B:D,3,0),0),\"\")","v":0},{"$f":"IF(A27<>\"\",IFERROR(VLOOKUP(AL27,Tabelas!B:D,3,0),0),\"\")","v":0},{"$f":"IF(A27<>\"\",IFERROR(VLOOKUP(AM27,Tabelas!B:D,3,0),0),\"\")","v":0},{"$f":"IF(A27<>\"\",IFERROR(VLOOKUP(AN27,Tabelas!B:D,3,0),0),\"\")","v":0},{"$f":"IF(A27<>\"\",IFERROR(VLOOKUP(AO27,Tabelas!B:D,3,0),0),\"\")","v":0},{"$f":"IF(A27<>\"\",IFERROR(VLOOKUP(AP27,Tabelas!B:D,3,0),0),\"\")","v":0},{"$f":"IF(A27<>\"\",IFERROR(VLOOKUP(AQ27,Tabelas!B:D,3,0),0),\"\")","v":0},0,0,0,0,0,0,0,0]
["FULANO 20",20,null,null,null,null,null,null,null,null,null,null,null,null,null,null,null,null,null,null,null,null,null,null,null,null,null,null,null,null,null,null,null,null,null,null,null,null,null,null,null,null,null,{"$f":"IF(A28<>\"\",IFERROR(VLOOKUP(M28,Tabelas!B:D,3,0),0),\"\")","v":0},{"$f":"IF(A28<>\"\",IFERROR(VLOOKUP(N28,Tabelas!B:D,3,0),0),\"\")","v":0},{"$f":"IF(A28<>\"\",IFERROR(VLOOKUP(O28,Tabelas!B:D,3,0),0),\"\")","v":0},{"$f":"IF(A28<>\"\",IFERROR(VLOOKUP(P28,Tabelas!B:D,3,0),0),\"\")","v":0},{"$f":"IF(A28<>\"\",IFERROR(VLOOKUP(Q28,Tabelas!B:D,3,0),0),\"\")","v":0},{"$f":"IF(A28<>\"\",IFERROR(VLOOKUP(R28,Tabelas!B:D,3,0),0),\"\")","v":0},{"$f":"IF(A28<>\"\",IFERROR(VLOOKUP(S28,Tabelas!B:D,3,0),0),\"\")","v":0},{"$f":"IF(A28<>\"\",IFERROR(VLOOKUP(T28,Tabelas!B:D,3,0),0),\"\")","v":0},{"$f":"IF(A28<>\"\",IFERROR(VLOOKUP(U28,Tabelas!B:D,3,0),0),\"\")","v":0},{"$f":"IF(A28<>\"\",IFERROR(VLOOKUP(V28,Tabelas!B:D,3,0),0),\"\")","v":0},{"$f":"IF(A28<>\"\",IFERROR(VLOOKUP(W28,Tabelas!B:D,3,0),0),\"\")","v":0},{"$f":"IF(A28<>\"\",IFERROR(VLOOKUP(X28,Tabelas!B:D,3,0),0),\"\")","v":0},{"$f":"IF(A28<>\"\",IFERROR(VLOOKUP(Y28,Tabelas!B:D,3,0),0),\"\")","v":0},{"$f":"IF(A28<>\"\",IFERROR(VLOOKUP(Z28,Tabelas!B:D,3,0),0),\"\")","v":0},{"$f":"IF(A28<>\"\",IFERROR(VLOOKUP(AA28,Tabelas!B:D,3,0),0),\"\")","v":0},{"$f":"IF(A28<>\"\",IFERROR(VLOOKUP(AB28,Tabelas!B:D,3,0),0),\"\")","v":0},{"$f":"IF(A28<>\"\",IFERROR(VLOOKUP(AC28,Tabelas!B:D,3,0),0),\"\")","v":0},{"$f":"IF(A28<>\"\",IFERROR(VLOOKUP(AD28,Tabelas!B:D,3,0),0),\"\")","v":0},{"$f":"IF(A28<>\"\",IFERROR(VLOOKUP(AE28,Tabelas!B:D,3,0),0),\"\")","v":0},{"$f":"IF(A28<>\"\",IFERROR(VLOOKUP(AF28,Tabelas!B:D,3,0),0),\"\")","v":0},{"$f":"IF(A28<>\"\",IFERROR(VLOOKUP(AG28,Tabelas!B:D,3,0),0),\"\")","v":0},{"$f":"IF(A28<>\"\",IFERROR(VLOOKUP(AH28,Tabelas!B:D,3,0),0),\"\")","v":0},{"$f":"IF(A28<>\"\",IFERROR(VLOOKUP(AI28,Tabelas!B:D,3,0),0),\"\")","v":0},{"$f":"IF(A28<>\"\",IFERROR(VLOOKUP(AJ28,Tabelas!B:D,3,0),0),\"\")","v":0},{"$f":"IF(A28<>\"\",IFERROR(VLOOKUP(AK28,Tabelas!B:D,3,0),0),\"\")","v":0},{"$f":"IF(A28<>\"\",IFERROR(VLOOKUP(AL28,Tabelas!B:D,3,0),0),\"\")","v":0},{"$f":"IF(A28<>\"\",IFERROR(VLOOKUP(AM28,Tabelas!B:D,3,0),0),\"\")","v":0},{"$f":"IF(A28<>\"\",IFERROR(VLOOKUP(AN28,Tabelas!B:D,3,0),0),\"\")","v":0},{"$f":"IF(A28<>\"\",IFERROR(VLOOKUP(AO28,Tabelas!B:D,3,0),0),\"\")","v":0},{"$f":"IF(A28<>\"\",IFERROR(VLOOKUP(AP28,Tabelas!B:D,3,0),0),\"\")","v":0},{"$f":"IF(A28<>\"\",IFERROR(VLOOKUP(AQ28,Tabelas!B:D,3,0),0),\"\")","v":0},0,0,0,0,0,0,0,0]
["FULANO 21",21,null,null,null,null,null,null,null,null,null,null,null,null,null,null,null,null,null,null,null,null,null,null,null,null,null,null,null,null,null,null,null,null,null,null,null,null,null,null,null,null,null,{"$f":"IF(A29<>\"\",IFERROR(VLOOKUP(M29,Tabelas!B:D,3,0),0),\"\")","v":0},{"$f":"IF(A29<>\"\",IFERROR(VLOOKUP(N29,Tabelas!B:D,3,0),0),\"\")","v":0},{"$f":"IF(A29<>\"\",IFERROR(VLOOKUP(O29,Tabelas!B:D,3,0),0),\"\")","v":0},{"$f":"IF(A29<>\"\",IFERROR(VLOOKUP(P29,Tabelas!B:D,3,0),0),\"\")","v":0},{"$f":"IF(A29<>\"\",IFERROR(VLOOKUP(Q29,Tabelas!B:D,3,0),0),\"\")","v":0},{"$f":"IF(A29<>\"\",IFERROR(VLOOKUP(R29,Tabelas!B:D,3,0),0),\"\")","v":0},{"$f":"IF(A29<>\"\",IFERROR(VLOOKUP(S29,Tabelas!B:D,3,0),0),\"\")","v":0},{"$f":"IF(A29<>\"\",IFERROR(VLOOKUP(T29,Tabelas!B:D,3,0),0),\"\")","v":0},{"$f":"IF(A29<>\"\",IFERROR(VLOOKUP(U29,Tabelas!B:D,3,0),0),\"\")","v":0},{"$f":"IF(A29<>\"\",IFERROR(VLOOKUP(V29,Tabelas!B:D,3,0),0),\"\")","v":0},{"$f":"IF(A29<>\"\",IFERROR(VLOOKUP(W29,Tabelas!B:D,3,0),0),\"\")","v":0},{"$f":"IF(A29<>\"\",IFERROR(VLOOKUP(X29,Tabelas!B:D,3,0),0),\"\")","v":0},{"$f":"IF(A29<>\"\",IFERROR(VLOOKUP(Y29,Tabelas!B:D,3,0),0),\"\")","v":0},{"$f":"IF(A29<>\"\",IFERROR(VLOOKUP(Z29,Tabelas!B:D,3,0),0),\"\")","v":0},{"$f":"IF(A29<>\"\",IFERROR(VLOOKUP(AA29,Tabelas!B:D,3,0),0),\"\")","v":0},{"$f":"IF(A29<>\"\",IFERROR(VLOOKUP(AB29,Tabelas!B:D,3,0),0),\"\")","v":0},{"$f":"IF(A29<>\"\",IFERROR(VLOOKUP(AC29,Tabelas!B:D,3,0),0),\"\")","v":0},{"$f":"IF(A29<>\"\",IFERROR(VLOOKUP(AD29,Tabelas!B:D,3,0),0),\"\")","v":0},{"$f":"IF(A29<>\"\",IFERROR(VLOOKUP(AE29,Tabelas!B:D,3,0),0),\"\")","v":0},{"$f":"IF(A29<>\"\",IFERROR(VLOOKUP(AF29,Tabelas!B:D,3,0),0),\"\")","v":0},{"$f":"IF(A29<>\"\",IFERROR(VLOOKUP(AG29,Tabelas!B:D,3,0),0),\"\")","v":0},{"$f":"IF(A29<>\"\",IFERROR(VLOOKUP(AH29,Tabelas!B:D,3,0),0),\"\")","v":0},{"$f":"IF(A29<>\"\",IFERROR(VLOOKUP(AI29,Tabelas!B:D,3,0),0),\"\")","v":0},{"$f":"IF(A29<>\"\",IFERROR(VLOOKUP(AJ29,Tabelas!B:D,3,0),0),\"\")","v":0},{"$f":"IF(A29<>\"\",IFERROR(VLOOKUP(AK29,Tabelas!B:D,3,0),0),\"\")","v":0},{"$f":"IF(A29<>\"\",IFERROR(VLOOKUP(AL29,Tabelas!B:D,3,0),0),\"\")","v":0},{"$f":"IF(A29<>\"\",IFERROR(VLOOKUP(AM29,Tabelas!B:D,3,0),0),\"\")","v":0},{"$f":"IF(A29<>\"\",IFERROR(VLOOKUP(AN29,Tabelas!B:D,3,0),0),\"\")","v":0},{"$f":"IF(A29<>\"\",IFERROR(VLOOKUP(AO29,Tabelas!B:D,3,0),0),\"\")","v":0},{"$f":"IF(A29<>\"\",IFERROR(VLOOKUP(AP29,Tabelas!B:D,3,0),0),\"\")","v":0},{"$f":"IF(A29<>\"\",IFERROR(VLOOKUP(AQ29,Tabelas!B:D,3,0),0),\"\")","v":0},0,0,0,0,0,0,0,0]
["FULANO 22",22,null,null,null,null,null,null,null,null,null,null,null,null,null,null,null,null,null,null,null,null,null,null,null,null,null,null,null,null,null,null,null,null,null,null,null,null,null,null,null,null,null,{"$f":"IF(A30<>\"\",IFERROR(VLOOKUP(M30,Tabelas!B:D,3,0),0),\"\")","v":0},{"$f":"IF(A30<>\"\",IFERROR(VLOOKUP(N30,Tabelas!B:D,3,0),0),\"\")","v":0},{"$f":"IF(A30<>\"\",IFERROR(VLOOKUP(O30,Tabelas!B:D,3,0),0),\"\")","v":0},{"$f":"IF(A30<>\"\",IFERROR(VLOOKUP(P30,Tabelas!B:D,3,0),0),\"\")","v":0},{"$f":"IF(A30<>\"\",IFERROR(VLOOKUP(Q30,Tabelas!B:D,3,0),0),\"\")","v":0},{"$f":"IF(A30<>\"\",IFERROR(VLOOKUP(R30,Tabelas!B:D,3,0),0),\"\")","v":0},{"$f":"IF(A30<>\"\",IFERROR(VLOOKUP(S30,Tabelas!B:D,3,0),0),\"\")","v":0},{"$f":"IF(A30<>\"\",IFERROR(VLOOKUP(T30,Tabelas!B:D,3,0),0),\"\")","v":0},{"$f":"IF(A30<>\"\",IFERROR(VLOOKUP(U30,Tabelas!B:D,3,0),0),\"\")","v":0},{"$f":"IF(A30<>\"\",IFERROR(VLOOKUP(V30,Tabelas!B:D,3,0),0),\"\")","v":0},{"$f":"IF(A30<>\"\",IFERROR(VLOOKUP(W30,Tabelas!B:D,3,0),0),\"\")","v":0},{"$f":"IF(A30<>\"\",IFERROR(VLOOKUP(X30,Tabelas!B:D,3,0),0),\"\")","v":0},{"$f":"IF(A30<>\"\",IFERROR(VLOOKUP(Y30,Tabelas!B:D,3,0),0),\"\")","v":0},{"$f":"IF(A30<>\"\",IFERROR(VLOOKUP(Z30,Tabelas!B:D,3,0),0),\"\")","v":0},{"$f":"IF(A30<>\"\",IFERROR(VLOOKUP(AA30,Tabelas!B:D,3,0),0),\"\")","v":0},{"$f":"IF(A30<>\"\",IFERROR(VLOOKUP(AB30,Tabelas!B:D,3,0),0),\"\")","v":0},{"$f":"IF(A30<>\"\",IFERROR(VLOOKUP(AC30,Tabelas!B:D,3,0),0),\"\")","v":0},{"$f":"IF(A30<>\"\",IFERROR(VLOOKUP(AD30,Tabelas!B:D,3,0),0),\"\")","v":0},{"$f":"IF(A30<>\"\",IFERROR(VLOOKUP(AE30,Tabelas!B:D,3,0),0),\"\")","v":0},{"$f":"IF(A30<>\"\",IFERROR(VLOOKUP(AF30,Tabelas!B:D,3,0),0),\"\")","v":0},{"$f":"IF(A30<>\"\",IFERROR(VLOOKUP(AG30,Tabelas!B:D,3,0),0),\"\")","v":0},{"$f":"IF(A30<>\"\",IFERROR(VLOOKUP(AH30,Tabelas!B:D,3,0),0),\"\")","v":0},{"$f":"IF(A30<>\"\",IFERROR(VLOOKUP(AI30,Tabelas!B:D,3,0),0),\"\")","v":0},{"$f":"IF(A30<>\"\",IFERROR(VLOOKUP(AJ30,Tabelas!B:D,3,0),0),\"\")","v":0},{"$f":"IF(A30<>\"\",IFERROR(VLOOKUP(AK30,Tabelas!B:D,3,0),0),\"\")","v":0},{"$f":"IF(A30<>\"\",IFERROR(VLOOKUP(AL30,Tabelas!B:D,3,0),0),\"\")","v":0},{"$f":"IF(A30<>\"\",IFERROR(VLOOKUP(AM30,Tabelas!B:D,3,0),0),\"\")","v":0},{"$f":"IF(A30<>\"\",IFERROR(VLOOKUP(AN30,Tabelas!B:D,3,0),0),\"\")","v":0},{"$f":"IF(A30<>\"\",IFERROR(VLOOKUP(AO30,Tabelas!B:D,3,0),0),\"\")","v":0},{"$f":"IF(A30<>\"\",IFERROR(VLOOKUP(AP30,Tabelas!B:D,3,0),0),\"\")","v":0},{"$f":"IF(A30<>\"\",IFERROR(VLOOKUP(AQ30,Tabelas!B:D,3,0),0),\"\")","v":0},0,0,0,0,0,0,0,0]
["FULANO 23",23,null,null,null,null,null,null,null,null,null,null,null,null,null,null,null,null,null,null,null,null,null,null,null,null,null,null,null,null,null,null,null,null,null,null,null,null,null,null,null,null,null,{"$f":"IF(A31<>\"\",IFERROR(VLOOKUP(M31,Tabelas!B:D,3,0),0),\"\")","v":0},{"$f":"IF(A31<>\"\",IFERROR(VLOOKUP(N31,Tabelas!B:D,3,0),0),\"\")","v":0},{"$f":"IF(A31<>\"\",IFERROR(VLOOKUP(O31,Tabelas!B:D,3,0),0),\"\")","v":0},{"$f":"IF(A31<>\"\",IFERROR(VLOOKUP(P31,Tabelas!B:D,3,0),0),\"\")","v":0},{"$f":"IF(A31<>\"\",IFERROR(VLOOKUP(Q31,Tabelas!B:D,3,0),0),\"\")","v":0},{"$f":"IF(A31<>\"\",IFERROR(VLOOKUP(R31,Tabelas!B:D,3,0),0),\"\")","v":0},{"$f":"IF(A31<>\"\",IFERROR(VLOOKUP(S31,Tabelas!B:D,3,0),0),\"\")","v":0},{"$f":"IF(A31<>\"\",IFERROR(VLOOKUP(T31,Tabelas!B:D,3,0),0),\"\")","v":0},{"$f":"IF(A31<>\"\",IFERROR(VLOOKUP(U31,Tabelas!B:D,3,0),0),\"\")","v":0},{"$f":"IF(A31<>\"\",IFERROR(VLOOKUP(V31,Tabelas!B:D,3,0),0),\"\")","v":0},{"$f":"IF(A31<>\"\",IFERROR(VLOOKUP(W31,Tabelas!B:D,3,0),0),\"\")","v":0},{"$f":"IF(A31<>\"\",IFERROR(VLOOKUP(X31,Tabelas!B:D,3,0),0),\"\")","v":0},{"$f":"IF(A31<>\"\",IFERROR(VLOOKUP(Y31,Tabelas!B:D,3,0),0),\"\")","v":0},{"$f":"IF(A31<>\"\",IFERROR(VLOOKUP(Z31,Tabelas!B:D,3,0),0),\"\")","v":0},{"$f":"IF(A31<>\"\",IFERROR(VLOOKUP(AA31,Tabelas!B:D,3,0),0),\"\")","v":0},{"$f":"IF(A31<>\"\",IFERROR(VLOOKUP(AB31,Tabelas!B:D,3,0),0),\"\")","v":0},{"$f":"IF(A31<>\"\",IFERROR(VLOOKUP(AC31,Tabelas!B:D,3,0),0),\"\")","v":0},{"$f":"IF(A31<>\"\",IFERROR(VLOOKUP(AD31,Tabelas!B:D,3,0),0),\"\")","v":0},{"$f":"IF(A31<>\"\",IFERROR(VLOOKUP(AE31,Tabelas!B:D,3,0),0),\"\")","v":0},{"$f":"IF(A31<>\"\",IFERROR(VLOOKUP(AF31,Tabelas!B:D,3,0),0),\"\")","v":0},{"$f":"IF(A31<>\"\",IFERROR(VLOOKUP(AG31,Tabelas!B:D,3,0),0),\"\")","v":0},{"$f":"IF(A31<>\"\",IFERROR(VLOOKUP(AH31,Tabelas!B:D,3,0),0),\"\")","v":0},{"$f":"IF(A31<>\"\",IFERROR(VLOOKUP(AI31,Tabelas!B:D,3,0),0),\"\")","v":0},{"$f":"IF(A31<>\"\",IFERROR(VLOOKUP(AJ31,Tabelas!B:D,3,0),0),\"\")","v":0},{"$f":"IF(A31<>\"\",IFERROR(VLOOKUP(AK31,Tabelas!B:D,3,0),0),\"\")","v":0},{"$f":"IF(A31<>\"\",IFERROR(VLOOKUP(AL31,Tabelas!B:D,3,0),0),\"\")","v":0},{"$f":"IF(A31<>\"\",IFERROR(VLOOKUP(AM31,Tabelas!B:D,3,0),0),\"\")","v":0},{"$f":"IF(A31<>\"\",IFERROR(VLOOKUP(AN31,Tabelas!B:D,3,0),0),\"\")","v":0},{"$f":"IF(A31<>\"\",IFERROR(VLOOKUP(AO31,Tabelas!B:D,3,0),0),\"\")","v":0},{"$f":"IF(A31<>\"\",IFERROR(VLOOKUP(AP31,Tabelas!B:D,3,0),0),\"\")","v":0},{"$f":"IF(A31<>\"\",IFERROR(VLOOKUP(AQ31,Tabelas!B:D,3,0),0),\"\")","v":0},0,0,0,0,0,0,0,0]
["FULANO 24",24,null,null,null,null,null,null,null,null,null,null,null,null,null,null,null,null,null,null,null,null,null,null,null,null,null,null,null,null,null,null,null,null,null,null,null,null,null,null,null,null,null,{"$f":"IF(A32<>\"\",IFERROR(VLOOKUP(M32,Tabelas!B:D,3,0),0),\"\")","v":0},{"$f":"IF(A32<>\"\",IFERROR(VLOOKUP(N32,Tabelas!B:D,3,0),0),\"\")","v":0},{"$f":"IF(A32<>\"\",IFERROR(VLOOKUP(O32,Tabelas!B:D,3,0),0),\"\")","v":0},{"$f":"IF(A32<>\"\",IFERROR(VLOOKUP(P32,Tabelas!B:D,3,0),0),\"\")","v":0},{"$f":"IF(A32<>\"\",IFERROR(VLOOKUP(Q32,Tabelas!B:D,3,0),0),\"\")","v":0},{"$f":"IF(A32<>\"\",IFERROR(VLOOKUP(R32,Tabelas!B:D,3,0),0),\"\")","v":0},{"$f":"IF(A32<>\"\",IFERROR(VLOOKUP(S32,Tabelas!B:D,3,0),0),\"\")","v":0},{"$f":"IF(A32<>\"\",IFERROR(VLOOKUP(T32,Tabelas!B:D,3,0),0),\"\")","v":0},{"$f":"IF(A32<>\"\",IFERROR(VLOOKUP(U32,Tabelas!B:D,3,0),0),\"\")","v":0},{"$f":"IF(A32<>\"\",IFERROR(VLOOKUP(V32,Tabelas!B:D,3,0),0),\"\")","v":0},{"$f":"IF(A32<>\"\",IFERROR(VLOOKUP(W32,Tabelas!B:D,3,0),0),\"\")","v":0},{"$f":"IF(A32<>\"\",IFERROR(VLOOKUP(X32,Tabelas!B:D,3,0),0),\"\")","v":0},{"$f":"IF(A32<>\"\",IFERROR(VLOOKUP(Y32,Tabelas!B:D,3,0),0),\"\")","v":0},{"$f":"IF(A32<>\"\",IFERROR(VLOOKUP(Z32,Tabelas!B:D,3,0),0),\"\")","v":0},{"$f":"IF(A32<>\"\",IFERROR(VLOOKUP(AA32,Tabelas!B:D,3,0),0),\"\")","v":0},{"$f":"IF(A32<>\"\",IFERROR(VLOOKUP(AB32,Tabelas!B:D,3,0),0),\"\")","v":0},{"$f":"IF(A32<>\"\",IFERROR(VLOOKUP(AC32,Tabelas!B:D,3,0),0),\"\")","v":0},{"$f":"IF(A32<>\"\",IFERROR(VLOOKUP(AD32,Tabelas!B:D,3,0),0),\"\")","v":0},{"$f":"IF(A32<>\"\",IFERROR(VLOOKUP(AE32,Tabelas!B:D,3,0),0),\"\")","v":0},{"$f":"IF(A32<>\"\",IFERROR(VLOOKUP(AF32,Tabelas!B:D,3,0),0),\"\")","v":0},{"$f":"IF(A32<>\"\",IFERROR(VLOOKUP(AG32,Tabelas!B:D,3,0),0),\"\")","v":0},{"$f":"IF(A32<>\"\",IFERROR(VLOOKUP(AH32,Tabelas!B:D,3,0),0),\"\")","v":0},{"$f":"IF(A32<>\"\",IFERROR(VLOOKUP(AI32,Tabelas!B:D,3,0),0),\"\")","v":0},{"$f":"IF(A32<>\"\",IFERROR(VLOOKUP(AJ32,Tabelas!B:D,3,0),0),\"\")","v":0},{"$f":"IF(A32<>\"\",IFERROR(VLOOKUP(AK32,Tabelas!B:D,3,0),0),\"\")","v":0},{"$f":"IF(A32<>\"\",IFERROR(VLOOKUP(AL32,Tabelas!B:D,3,0),0),\"\")","v":0},{"$f":"IF(A32<>\"\",IFERROR(VLOOKUP(AM32,Tabelas!B:D,3,0),0),\"\")","v":0},{"$f":"IF(A32<>\"\",IFERROR(VLOOKUP(AN32,Tabelas!B:D,3,0),0),\"\")","v":0},{"$f":"IF(A32<>\"\",IFERROR(VLOOKUP(AO32,Tabelas!B:D,3,0),0),\"\")","v":0},{"$f":"IF(A32<>\"\",IFERROR(VLOOKUP(AP32,Tabelas!B:D,3,0),0),\"\")","v":0},{"$f":"IF(A32<>\"\",IFERROR(VLOOKUP(AQ32,Tabelas!B:D,3,0),0),\"\")","v":0},0,0,0,0,0,0,0,0]
["FULANO 25",25,null,null,null,null,null,null,null,null,null,null,null,null,null,null,null,null,null,null,null,null,null,null,null,null,null,null,null,null,null,null,null,null,null,null,null,null,null,null,null,null,null,{"$f":"IF(A33<>\"\",IFERROR(VLOOKUP(M33,Tabelas!B:D,3,0),0),\"\")","v":0},{"$f":"IF(A33<>\"\",IFERROR(VLOOKUP(N33,Tabelas!B:D,3,0),0),\"\")","v":0},{"$f":"IF(A33<>\"\",IFERROR(VLOOKUP(O33,Tabelas!B:D,3,0),0),\"\")","v":0},{"$f":"IF(A33<>\"\",IFERROR(VLOOKUP(P33,Tabelas!B:D,3,0),0),\"\")","v":0},{"$f":"IF(A33<>\"\",IFERROR(VLOOKUP(Q33,Tabelas!B:D,3,0),0),\"\")","v":0},{"$f":"IF(A33<>\"\",IFERROR(VLOOKUP(R33,Tabelas!B:D,3,0),0),\"\")","v":0},{"$f":"IF(A33<>\"\",IFERROR(VLOOKUP(S33,Tabelas!B:D,3,0),0),\"\")","v":0},{"$f":"IF(A33<>\"\",IFERROR(VLOOKUP(T33,Tabelas!B:D,3,0),0),\"\")","v":0},{"$f":"IF(A33<>\"\",IFERROR(VLOOKUP(U33,Tabelas!B:D,3,0),0),\"\")","v":0},{"$f":"IF(A33<>\"\",IFERROR(VLOOKUP(V33,Tabelas!B:D,3,0),0),\"\")","v":0},{"$f":"IF(A33<>\"\",IFERROR(VLOOKUP(W33,Tabelas!B:D,3,0),0),\"\")","v":0},{"$f":"IF(A33<>\"\",IFERROR(VLOOKUP(X33,Tabelas!B:D,3,0),0),\"\")","v":0},{"$f":"IF(A33<>\"\",IFERROR(VLOOKUP(Y33,Tabelas!B:D,3,0),0),\"\")","v":0},{"$f":"IF(A33<>\"\",IFERROR(VLOOKUP(Z33,Tabelas!B:D,3,0),0),\"\")","v":0},{"$f":"IF(A33<>\"\",IFERROR(VLOOKUP(AA33,Tabelas!B:D,3,0),0),\"\")","v":0},{"$f":"IF(A33<>\"\",IFERROR(VLOOKUP(AB33,Tabelas!B:D,3,0),0),\"\")","v":0},{"$f":"IF(A33<>\"\",IFERROR(VLOOKUP(AC33,Tabelas!B:D,3,0),0),\"\")","v":0},{"$f":"IF(A33<>\"\",IFERROR(VLOOKUP(AD33,Tabelas!B:D,3,0),0),\"\")","v":0},{"$f":"IF(A33<>\"\",IFERROR(VLOOKUP(AE33,Tabelas!B:D,3,0),0),\"\")","v":0},{"$f":"IF(A33<>\"\",IFERROR(VLOOKUP(AF33,Tabelas!B:D,3,0),0),\"\")","v":0},{"$f":"IF(A33<>\"\",IFERROR(VLOOKUP(AG33,Tabelas!B:D,3,0),0),\"\")","v":0},{"$f":"IF(A33<>\"\",IFERROR(VLOOKUP(AH33,Tabelas!B:D,3,0),0),\"\")","v":0},{"$f":"IF(A33<>\"\",IFERROR(VLOOKUP(AI33,Tabelas!B:D,3,0),0),\"\")","v":0},{"$f":"IF(A33<>\"\",IFERROR(VLOOKUP(AJ33,Tabelas!B:D,3,0),0),\"\")","v":0},{"$f":"IF(A33<>\"\",IFERROR(VLOOKUP(AK33,Tabelas!B:D,3,0),0),\"\")","v":0},{"$f":"IF(A33<>\"\",IFERROR(VLOOKUP(AL33,Tabelas!B:D,3,0),0),\"\")","v":0},{"$f":"IF(A33<>\"\",IFERROR(VLOOKUP(AM33,Tabelas!B:D,3,0),0),\"\")","v":0},{"$f":"IF(A33<>\"\",IFERROR(VLOOKUP(AN33,Tabelas!B:D,3,0),0),\"\")","v":0},{"$f":"IF(A33<>\"\",IFERROR(VLOOKUP(AO33,Tabelas!B:D,3,0),0),\"\")","v":0},{"$f":"IF(A33<>\"\",IFERROR(VLOOKUP(AP33,Tabelas!B:D,3,0),0),\"\")","v":0},{"$f":"IF(A33<>\"\",IFERROR(VLOOKUP(AQ33,Tabelas!B:D,3,0),0),\"\")","v":0},0,0,0,0,0,0,0,0]
["FULANO 26",26,null,null,null,null,null,null,null,null,null,null,null,null,null,null,null,null,null,null,null,null,null,null,null,null,null,null,null,null,null,null,null,null,null,null,null,null,null,null,null,null,null,{"$f":"IF(A34<>\"\",IFERROR(VLOOKUP(M34,Tabelas!B:D,3,0),0),\"\")","v":0},{"$f":"IF(A34<>\"\",IFERROR(VLOOKUP(N34,Tabelas!B:D,3,0),0),\"\")","v":0},{"$f":"IF(A34<>\"\",IFERROR(VLOOKUP(O34,Tabelas!B:D,3,0),0),\"\")","v":0},{"$f":"IF(A34<>\"\",IFERROR(VLOOKUP(P34,Tabelas!B:D,3,0),0),\"\")","v":0},{"$f":"IF(A34<>\"\",IFERROR(VLOOKUP(Q34,Tabelas!B:D,3,0),0),\"\")","v":0},{"$f":"IF(A34<>\"\",IFERROR(VLOOKUP(R34,Tabelas!B:D,3,0),0),\"\")","v":0},{"$f":"IF(A34<>\"\",IFERROR(VLOOKUP(S34,Tabelas!B:D,3,0),0),\"\")","v":0},{"$f":"IF(A34<>\"\",IFERROR(VLOOKUP(T34,Tabelas!B:D,3,0),0),\"\")","v":0},{"$f":"IF(A34<>\"\",IFERROR(VLOOKUP(U34,Tabelas!B:D,3,0),0),\"\")","v":0},{"$f":"IF(A34<>\"\",IFERROR(VLOOKUP(V34,Tabelas!B:D,3,0),0),\"\")","v":0},{"$f":"IF(A34<>\"\",IFERROR(VLOOKUP(W34,Tabelas!B:D,3,0),0),\"\")","v":0},{"$f":"IF(A34<>\"\",IFERROR(VLOOKUP(X34,Tabelas!B:D,3,0),0),\"\")","v":0},{"$f":"IF(A34<>\"\",IFERROR(VLOOKUP(Y34,Tabelas!B:D,3,0),0),\"\")","v":0},{"$f":"IF(A34<>\"\",IFERROR(VLOOKUP(Z34,Tabelas!B:D,3,0),0),\"\")","v":0},{"$f":"IF(A34<>\"\",IFERROR(VLOOKUP(AA34,Tabelas!B:D,3,0),0),\"\")","v":0},{"$f":"IF(A34<>\"\",IFERROR(VLOOKUP(AB34,Tabelas!B:D,3,0),0),\"\")","v":0},{"$f":"IF(A34<>\"\",IFERROR(VLOOKUP(AC34,Tabelas!B:D,3,0),0),\"\")","v":0},{"$f":"IF(A34<>\"\",IFERROR(VLOOKUP(AD34,Tabelas!B:D,3,0),0),\"\")","v":0},{"$f":"IF(A34<>\"\",IFERROR(VLOOKUP(AE34,Tabelas!B:D,3,0),0),\"\")","v":0},{"$f":"IF(A34<>\"\",IFERROR(VLOOKUP(AF34,Tabelas!B:D,3,0),0),\"\")","v":0},{"$f":"IF(A34<>\"\",IFERROR(VLOOKUP(AG34,Tabelas!B:D,3,0),0),\"\")","v":0},{"$f":"IF(A34<>\"\",IFERROR(VLOOKUP(AH34,Tabelas!B:D,3,0),0),\"\")","v":0},{"$f":"IF(A34<>\"\",IFERROR(VLOOKUP(AI34,Tabelas!B:D,3,0),0),\"\")","v":0},{"$f":"IF(A34<>\"\",IFERROR(VLOOKUP(AJ34,Tabelas!B:D,3,0),0),\"\")","v":0},{"$f":"IF(A34<>\"\",IFERROR(VLOOKUP(AK34,Tabelas!B:D,3,0),0),\"\")","v":0},{"$f":"IF(A34<>\"\",IFERROR(VLOOKUP(AL34,Tabelas!B:D,3,0),0),\"\")","v":0},{"$f":"IF(A34<>\"\",IFERROR(VLOOKUP(AM34,Tabelas!B:D,3,0),0),\"\")","v":0},{"$f":"IF(A34<>\"\",IFERROR(VLOOKUP(AN34,Tabelas!B:D,3,0),0),\"\")","v":0},{"$f":"IF(A34<>\"\",IFERROR(VLOOKUP(AO34,Tabelas!B:D,3,0),0),\"\")","v":0},{"$f":"IF(A34<>\"\",IFERROR(VLOOKUP(AP34,Tabelas!B:D,3,0),0),\"\")","v":0},{"$f":"IF(A34<>\"\",IFERROR(VLOOKUP(AQ34,Tabelas!B:D,3,0),0),\"\")","v":0},0,0,0,0,0,0,0,0]
["FULANO 27",27,null,null,null,null,null,null,null,null,null,null,null,null,null,null,null,null,null,null,null,null,null,null,null,null,null,null,null,null,null,null,null,null,null,null,null,null,null,null,null,null,null,{"$f":"IF(A35<>\"\",IFERROR(VLOOKUP(M35,Tabelas!B:D,3,0),0),\"\")","v":0},{"$f":"IF(A35<>\"\",IFERROR(VLOOKUP(N35,Tabelas!B:D,3,0),0),\"\")","v":0},{"$f":"IF(A35<>\"\",IFERROR(VLOOKUP(O35,Tabelas!B:D,3,0),0),\"\")","v":0},{"$f":"IF(A35<>\"\",IFERROR(VLOOKUP(P35,Tabelas!B:D,3,0),0),\"\")","v":0},{"$f":"IF(A35<>\"\",IFERROR(VLOOKUP(Q35,Tabelas!B:D,3,0),0),\"\")","v":0},{"$f":"IF(A35<>\"\",IFERROR(VLOOKUP(R35,Tabelas!B:D,3,0),0),\"\")","v":0},{"$f":"IF(A35<>\"\",IFERROR(VLOOKUP(S35,Tabelas!B:D,3,0),0),\"\")","v":0},{"$f":"IF(A35<>\"\",IFERROR(VLOOKUP(T35,Tabelas!B:D,3,0),0),\"\")","v":0},{"$f":"IF(A35<>\"\",IFERROR(VLOOKUP(U35,Tabelas!B:D,3,0),0),\"\")","v":0},{"$f":"IF(A35<>\"\",IFERROR(VLOOKUP(V35,Tabelas!B:D,3,0),0),\"\")","v":0},{"$f":"IF(A35<>\"\",IFERROR(VLOOKUP(W35,Tabelas!B:D,3,0),0),\"\")","v":0},{"$f":"IF(A35<>\"\",IFERROR(VLOOKUP(X35,Tabelas!B:D,3,0),0),\"\")","v":0},{"$f":"IF(A35<>\"\",IFERROR(VLOOKUP(Y35,Tabelas!B:D,3,0),0),\"\")","v":0},{"$f":"IF(A35<>\"\",IFERROR(VLOOKUP(Z35,Tabelas!B:D,3,0),0),\"\")","v":0},{"$f":"IF(A35<>\"\",IFERROR(VLOOKUP(AA35,Tabelas!B:D,3,0),0),\"\")","v":0},{"$f":"IF(A35<>\"\",IFERROR(VLOOKUP(AB35,Tabelas!B:D,3,0),0),\"\")","v":0},{"$f":"IF(A35<>\"\",IFERROR(VLOOKUP(AC35,Tabelas!B:D,3,0),0),\"\")","v":0},{"$f":"IF(A35<>\"\",IFERROR(VLOOKUP(AD35,Tabelas!B:D,3,0),0),\"\")","v":0},{"$f":"IF(A35<>\"\",IFERROR(VLOOKUP(AE35,Tabelas!B:D,3,0),0),\"\")","v":0},{"$f":"IF(A35<>\"\",IFERROR(VLOOKUP(AF35,Tabelas!B:D,3,0),0),\"\")","v":0},{"$f":"IF(A35<>\"\",IFERROR(VLOOKUP(AG35,Tabelas!B:D,3,0),0),\"\")","v":0},{"$f":"IF(A35<>\"\",IFERROR(VLOOKUP(AH35,Tabelas!B:D,3,0),0),\"\")","v":0},{"$f":"IF(A35<>\"\",IFERROR(VLOOKUP(AI35,Tabelas!B:D,3,0),0),\"\")","v":0},{"$f":"IF(A35<>\"\",IFERROR(VLOOKUP(AJ35,Tabelas!B:D,3,0),0),\"\")","v":0},{"$f":"IF(A35<>\"\",IFERROR(VLOOKUP(AK35,Tabelas!B:D,3,0),0),\"\")","v":0},{"$f":"IF(A35<>\"\",IFERROR(VLOOKUP(AL35,Tabelas!B:D,3,0),0),\"\")","v":0},{"$f":"IF(A35<>\"\",IFERROR(VLOOKUP(AM35,Tabelas!B:D,3,0),0),\"\")","v":0},{"$f":"IF(A35<>\"\",IFERROR(VLOOKUP(AN35,Tabelas!B:D,3,0),0),\"\")","v":0},{"$f":"IF(A35<>\"\",IFERROR(VLOOKUP(AO35,Tabelas!B:D,3,0),0),\"\")","v":0},{"$f":"IF(A35<>\"\",IFERROR(VLOOKUP(AP35,Tabelas!B:D,3,0),0),\"\")","v":0},{"$f":"IF(A35<>\"\",IFERROR(VLOOKUP(AQ35,Tabelas!B:D,3,0),0),\"\")","v":0},0,0,0,0,0,0,0,0]
["TOTAL PROFISSIONAIS MATUTINO",null,null,null,null,null,null,null,null,null,null,null,{"$f":"IF(COUNTIF(M9:M35,\"M*\")+ COUNTIF(M9:M35, \"D*\")-COUNTIF(M9:M35,\"DSR\")<>0,COUNTIF(M9:M35,\"M*\")+ COUNTIF(M9:M35, \"D*\")-COUNTIF(M9:M35,\"DSR\"),\"\")","v":""},"","","","","","","","","","","","","","","","","","","","","","","","","","","","","","",null,null,null,null,null,null,null,null,null,null,null,null,null,null,null,null,null,null,null,null,null,null,null,null,null,null,null,null,null,null,null,{"$f":"SUM(BW9:BW35)","v":0},0,0,0,0,0,0,0]
["TOTAL DE PROFISSIONAIS VESPERTINO",null,null,null,null,null,null,null,null,null,null,null,{"$f":"IF(COUNTIF(M9:M35,\"MT*\") + COUNTIF(M9:M35, \"D*\") + COUNTIF(M9:M35,\"T*\")-COUNTIF(M9:M35,\"DSR\")<>0,COUNTIF(M9:M35,\"MT*\") + COUNTIF(M9:M35, \"D*\") + COUNTIF(M9:M35,\"T*\")-COUNTIF(M9:M35,\"DSR\"),\"\")","v":""},"","","","","","","","","","","","","","","","","","","","","","","","","","","","","","",{"$f":"IF(A37<>\"\",IFERROR(VLOOKUP(M37,Tabelas!B:D,3,0),0),\"\")","v":0},{"$f":"IF(A37<>\"\",IFERROR(VLOOKUP(N37,Tabelas!B:D,3,0),0),\"\")","v":0},{"$f":"IF(A37<>\"\",IFERROR(VLOOKUP(O37,Tabelas!B:D,3,0),0),\"\")","v":0},{"$f":"IF(A37<>\"\",IFERROR(VLOOKUP(P37,Tabelas!B:D,3,0),0),\"\")","v":0},{"$f":"IF(A37<>\"\",IFERROR(VLOOKUP(Q37,Tabelas!B:D,3,0),0),\"\")","v":0},{"$f":"IF(A37<>\"\",IFERROR(VLOOKUP(R37,Tabelas!B:D,3,0),0),\"\")","v":0},{"$f":"IF(A37<>\"\",IFERROR(VLOOKUP(S37,Tabelas!B:D,3,0),0),\"\")","v":0},{"$f":"IF(A37<>\"\",IFERROR(VLOOKUP(T37,Tabelas!B:D,3,0),0),\"\")","v":0},{"$f":"IF(A37<>\"\",IFERROR(VLOOKUP(U37,Tabelas!B:D,3,0),0),\"\")","v":0},{"$f":"IF(A37<>\"\",IFERROR(VLOOKUP(V37,Tabelas!B:D,3,0),0),\"\")","v":0},{"$f":"IF(A37<>\"\",IFERROR(VLOOKUP(W37,Tabelas!B:D,3,0),0),\"\")","v":0},{"$f":"IF(A37<>\"\",IFERROR(VLOOKUP(X37,Tabelas!B:D,3,0),0),\"\")","v":0},{"$f":"IF(A37<>\"\",IFERROR(VLOOKUP(Y37,Tabelas!B:D,3,0),0),\"\")","v":0},{"$f":"IF(A37<>\"\",IFERROR(VLOOKUP(Z37,Tabelas!B:D,3,0),0),\"\")","v":0},{"$f":"IF(A37<>\"\",IFERROR(VLOOKUP(AA37,Tabelas!B:D,3,0),0),\"\")","v":0},{"$f":"IF(A37<>\"\",IFERROR(VLOOKUP(AB37,Tabelas!B:D,3,0),0),\"\")","v":0},{"$f":"IF(A37<>\"\",IFERROR(VLOOKUP(AC37,Tabelas!B:D,3,0),0),\"\")","v":0},{"$f":"IF(A37<>\"\",IFERROR(VLOOKUP(AD37,Tabelas!B:D,3,0),0),\"\")","v":0},{"$f":"IF(A37<>\"\",IFERROR(VLOOKUP(AE37,Tabelas!B:D,3,0),0),\"\")","v":0},{"$f":"IF(A37<>\"\",IFERROR(VLOOKUP(AF37,Tabelas!B:D,3,0),0),\"\")","v":0},{"$f":"IF(A37<>\"\",IFERROR(VLOOKUP(AG37,Tabelas!B:D,3,0),0),\"\")","v":0},{"$f":"IF(A37<>\"\",IFERROR(VLOOKUP(AH37,Tabelas!B:D,3,0),0),\"\")","v":0},{"$f":"IF(A37<>\"\",IFERROR(VLOOKUP(AI37,Tabelas!B:D,3,0),0),\"\")","v":0},{"$f":"IF(A37<>\"\",IFERROR(VLOOKUP(AJ37,Tabelas!B:D,3,0),0),\"\")","v":0},{"$f":"IF(A37<>\"\",IFERROR(VLOOKUP(AK37,Tabelas!B:D,3,0),0),\"\")","v":0},{"$f":"IF(A37<>\"\",IFERROR(VLOOKUP(AL37,Tabelas!B:D,3,0),0),\"\")","v":0},{"$f":"IF(A37<>\"\",IFERROR(VLOOKUP(AM37,Tabelas!B:D,3,0),0),\"\")","v":0},{"$f":"IF(A37<>\"\",IFERROR(VLOOKUP(AN37,Tabelas!B:D,3,0),0),\"\")","v":0},{"$f":"IF(A37<>\"\",IFERROR(VLOOKUP(AO37,Tabelas!B:D,3,0),0),\"\")","v":0},{"$f":"IF(A37<>\"\",IFERROR(VLOOKUP(AP37,Tabelas!B:D,3,0),0),\"\")","v":0},{"$f":"IF(A37<>\"\",IFERROR(VLOOKUP(AQ37,Tabelas!B:D,3,0),0),\"\")","v":0}]
["TOTAL DE PROFISSIONAIS NOTURNO",null,null,null,null,null,null,null,null,null,null,null,{"$f":"IF(COUNTIF(M9:M37,\"N?*\") + COUNTIF(M9:M37, \"DN*\")<>0,COUNTIF(M9:M37,\"N?*\") + COUNTIF(M9:M37, \"DN*\"),\"\")","v":""},"","","","","","","","","","","","","","","","","","","","","","","","","","","","","","",{"$f":"IF(A38<>\"\",IFERROR(VLOOKUP(M38,Tabelas!B:D,3,0),0),\"\")","v":0},{"$f":"IF(A38<>\"\",IFERROR(VLOOKUP(N38,Tabelas!B:D,3,0),0),\"\")","v":0},{"$f":"IF(A38<>\"\",IFERROR(VLOOKUP(O38,Tabelas!B:D,3,0),0),\"\")","v":0},{"$f":"IF(A38<>\"\",IFERROR(VLOOKUP(P38,Tabelas!B:D,3,0),0),\"\")","v":0},{"$f":"IF(A38<>\"\",IFERROR(VLOOKUP(Q38,Tabelas!B:D,3,0),0),\"\")","v":0},{"$f":"IF(A38<>\"\",IFERROR(VLOOKUP(R38,Tabelas!B:D,3,0),0),\"\")","v":0},{"$f":"IF(A38<>\"\",IFERROR(VLOOKUP(S38,Tabelas!B:D,3,0),0),\"\")","v":0},{"$f":"IF(A38<>\"\",IFERROR(VLOOKUP(T38,Tabelas!B:D,3,0),0),\"\")","v":0},{"$f":"IF(A38<>\"\",IFERROR(VLOOKUP(U38,Tabelas!B:D,3,0),0),\"\")","v":0},{"$f":"IF(A38<>\"\",IFERROR(VLOOKUP(V38,Tabelas!B:D,3,0),0),\"\")","v":0},{"$f":"IF(A38<>\"\",IFERROR(VLOOKUP(W38,Tabelas!B:D,3,0),0),\"\")","v":0},{"$f":"IF(A38<>\"\",IFERROR(VLOOKUP(X38,Tabelas!B:D,3,0),0),\"\")","v":0},{"$f":"IF(A38<>\"\",IFERROR(VLOOKUP(Y38,Tabelas!B:D,3,0),0),\"\")","v":0},{"$f":"IF(A38<>\"\",IFERROR(VLOOKUP(Z38,Tabelas!B:D,3,0),0),\"\")","v":0},{"$f":"IF(A38<>\"\",IFERROR(VLOOKUP(AA38,Tabelas!B:D,3,0),0),\"\")","v":0},{"$f":"IF(A38<>\"\",IFERROR(VLOOKUP(AB38,Tabelas!B:D,3,0),0),\"\")","v":0},{"$f":"IF(A38<>\"\",IFERROR(VLOOKUP(AC38,Tabelas!B:D,3,0),0),\"\")","v":0},{"$f":"IF(A38<>\"\",IFERROR(VLOOKUP(AD38,Tabelas!B:D,3,0),0),\"\")","v":0},{"$f":"IF(A38<>\"\",IFERROR(VLOOKUP(AE38,Tabelas!B:D,3,0),0),\"\")","v":0},{"$f":"IF(A38<>\"\",IFERROR(VLOOKUP(AF38,Tabelas!B:D,3,0),0),\"\")","v":0},{"$f":"IF(A38<>\"\",IFERROR(VLOOKUP(AG38,Tabelas!B:D,3,0),0),\"\")","v":0},{"$f":"IF(A38<>\"\",IFERROR(VLOOKUP(AH38,Tabelas!B:D,3,0),0),\"\")","v":0},{"$f":"IF(A38<>\"\",IFERROR(VLOOKUP(AI38,Tabelas!B:D,3,0),0),\"\")","v":0},{"$f":"IF(A38<>\"\",IFERROR(VLOOKUP(AJ38,Tabelas!B:D,3,0),0),\"\")","v":0},{"$f":"IF(A38<>\"\",IFERROR(VLOOKUP(AK38,Tabelas!B:D,3,0),0),\"\")","v":0},{"$f":"IF(A38<>\"\",IFERROR(VLOOKUP(AL38,Tabelas!B:D,3,0),0),\"\")","v":0},{"$f":"IF(A38<>\"\",IFERROR(VLOOKUP(AM38,Tabelas!B:D,3,0),0),\"\")","v":0},{"$f":"IF(A38<>\"\",IFERROR(VLOOKUP(AN38,Tabelas!B:D,3,0),0),\"\")","v":0},{"$f":"IF(A38<>\"\",IFERROR(VLOOKUP(AO38,Tabelas!B:D,3,0),0),\"\")","v":0},{"$f":"IF(A38<>\"\",IFERROR(VLOOKUP(AP38,Tabelas!B:D,3,0),0),\"\")","v":0},{"$f":"IF(A38<>\"\",IFERROR(VLOOKUP(AQ38,Tabelas!B:D,3,0),0),\"\")","v":0}]
[null,null,null,null,null,null,null,null,null,null,null,null,null,null,null,null,null,null,null,null,null,null,null,null,null,null,null,null,null,null,null,null,null,null,null,null,null,null,null,null,null,null,null,{"$f":"IF(A39<>\"\",IFERROR(VLOOKUP(M39,Tabelas!B:D,3,0),0),\"\")","v":""},{"$f":"IF(A39<>\"\",IFERROR(VLOOKUP(N39,Tabelas!B:D,3,0),0),\"\")","v":""},{"$f":"IF(A39<>\"\",IFERROR(VLOOKUP(O39,Tabelas!B:D,3,0),0),\"\")","v":""},{"$f":"IF(A39<>\"\",IFERROR(VLOOKUP(P39,Tabelas!B:D,3,0),0),\"\")","v":""},{"$f":"IF(A39<>\"\",IFERROR(VLOOKUP(Q39,Tabelas!B:D,3,0),0),\"\")","v":""},{"$f":"IF(A39<>\"\",IFERROR(VLOOKUP(R39,Tabelas!B:D,3,0),0),\"\")","v":""},{"$f":"IF(A39<>\"\",IFERROR(VLOOKUP(S39,Tabelas!B:D,3,0),0),\"\")","v":""},{"$f":"IF(A39<>\"\",IFERROR(VLOOKUP(T39,Tabelas!B:D,3,0),0),\"\")","v":""},{"$f":"IF(A39<>\"\",IFERROR(VLOOKUP(U39,Tabelas!B:D,3,0),0),\"\")","v":""},{"$f":"IF(A39<>\"\",IFERROR(VLOOKUP(V39,Tabelas!B:D,3,0),0),\"\")","v":""},{"$f":"IF(A39<>\"\",IFERROR(VLOOKUP(W39,Tabelas!B:D,3,0),0),\"\")","v":""},{"$f":"IF(A39<>\"\",IFERROR(VLOOKUP(X39,Tabelas!B:D,3,0),0),\"\")","v":""},{"$f":"IF(A39<>\"\",IFERROR(VLOOKUP(Y39,Tabelas!B:D,3,0),0),\"\")","v":""},{"$f":"IF(A39<>\"\",IFERROR(VLOOKUP(Z39,Tabelas!B:D,3,0),0),\"\")","v":""},{"$f":"IF(A39<>\"\",IFERROR(VLOOKUP(AA39,Tabelas!B:D,3,0),0),\"\")","v":""},{"$f":"IF(A39<>\"\",IFERROR(VLOOKUP(AB39,Tabelas!B:D,3,0),0),\"\")","v":""},{"$f":"IF(A39<>\"\",IFERROR(VLOOKUP(AC39,Tabelas!B:D,3,0),0),\"\")","v":""},{"$f":"IF(A39<>\"\",IFERROR(VLOOKUP(AD39,Tabelas!B:D,3,0),0),\"\")","v":""},{"$f":"IF(A39<>\"\",IFERROR(VLOOKUP(AE39,Tabelas!B:D,3,0),0),\"\")","v":""},{"$f":"IF(A39<>\"\",IFERROR(VLOOKUP(AF39,Tabelas!B:D,3,0),0),\"\")","v":""},{"$f":"IF(A39<>\"\",IFERROR(VLOOKUP(AG39,Tabelas!B:D,3,0),0),\"\")","v":""},{"$f":"IF(A39<>\"\",IFERROR(VLOOKUP(AH39,Tabelas!B:D,3,0),0),\"\")","v":""},{"$f":"IF(A39<>\"\",IFERROR(VLOOKUP(AI39,Tabelas!B:D,3,0),0),\"\")","v":""},{"$f":"IF(A39<>\"\",IFERROR(VLOOKUP(AJ39,Tabelas!B:D,3,0),0),\"\")","v":""},{"$f":"IF(A39<>\"\",IFERROR(VLOOKUP(AK39,Tabelas!B:D,3,0),0),\"\")","v":""},{"$f":"IF(A39<>\"\",IFERROR(VLOOKUP(AL39,Tabelas!B:D,3,0),0),\"\")","v":""},{"$f":"IF(A39<>\"\",IFERROR(VLOOKUP(AM39,Tabelas!B:D,3,0),0),\"\")","v":""},{"$f":"IF(A39<>\"\",IFERROR(VLOOKUP(AN39,Tabelas!B:D,3,0),0),\"\")","v":""},{"$f":"IF(A39<>\"\",IFERROR(VLOOKUP(AO39,Tabelas!B:D,3,0),0),\"\")","v":""},{"$f":"IF(A39<>\"\",IFERROR(VLOOKUP(AP39,Tabelas!B:D,3,0),0),\"\")","v":""},{"$f":"IF(A39<>\"\",IFERROR(VLOOKUP(AQ39,Tabelas!B:D,3,0),0),\"\")","v":""}]
["Legenda:"]
["Licença Maternidade","LM","Férias",null,null,null,null,null,null,"FE",null,"Ponto Facultativo",null,null,null,null,null,null,null,"PF","Manhã *",null,null,null,null,null,null,"M","Diurno (8 hrs) *",null,null,null,null,null,null,"MT"]
["Licença Paternidade","LP","Feriado",null,null,null,null,null,null,"FD",null,"Abono **",null,null,null,null,null,null,null,"AB","Tarde *",null,null,null,null,null,null,"T","Dia/ noite (24 hrs) *",null,null,null,null,null,null,"DN"]
["Licença Médica/Odontológica","L","Descanso Semanal Remunerado",null,null,null,null,null,null,"DSR",null,"Compensação de Horas***",null,null,null,null,null,null,null,"CH","Plantão Dia (12 hrs) *",null,null,null,null,null,null,"D"]
["Licença Capacitação","LC","Recesso",null,null,null,null,null,null,"RC",null,"Afastamento**",null,null,null,null,null,null,null,"AF","Plantão Noite (12 hrs) *",null,null,null,null,null,null,"N"]
[]
["OBSERVAÇÕES:"]
["* Para inserção das legendas referentes às jornadas de trabalho, verificar a Tabela 1 do Anexo do Memorando-Circular - SEI nº   25 /2018/CAP/DGP-EBSERH."]
["** Para inserção das legendas referentes aos Afastamentos previstos em lei e às Compensações de horas, verificar a Tabela 2 do Anexo do Memorando-Circular - SEI nº   25 /2018/CAP/DGP-EBSERH."]

{"sheet":"Tabelas","index":12,"n_rows":110,"n_cols":18,"rows_kept":110,"cut":false,"hidden":true,"merged":[[0,15,0,17],[72,0,109,0],[1,0,71,0],[1,16,4,16],[1,17,14,17],[5,16,10,16],[11,16,14,16],[22,16,28,16],[15,17,21,17],[22,17,33,17],[29,16,33,16],[34,17,39,17]]}
[null,"Legenda","Descrição","CH",null,null,"Ebserh",null,"Dias da Semana",null,null,"Ano","Mês",null,null,"Intervalos"]
["Turno de Trabalho",null,null,null,null,null,"RJU",null,1,"DOM",null,2016,"Janeiro",1,null,25,"M","15 MINUTOS"]
[null,"M8","Matutino 04h",4,null,null,null,null,2,"SEG",null,2017,"Fevereiro",2,null,26]
[null,"M9","Matutino 04h",4,null,null,null,null,3,"TER",null,2018,"Março",3,null,27]
[null,"M10","Matutino 04h",4,null,null,null,null,4,"QUA",null,2019,"Abril",4,null,28]
[null,"M11","Matutino 04h",4,null,null,null,null,5,"QUI",null,2020,"Maio",5,null,29,"T"]
[null,"M12","Matutino 04h",4,null,null,null,null,6,"SEX",null,2021,"Junho",6,null,30]
[null,"M13","Matutino 06h",6,null,null,null,null,7,"SAB",null,2022,"Julho",7,null,31]
[null,"M14","Matutino 06h",6,null,null,null,null,null,null,null,2023,"Agosto",8,null,32]
[null,"M15","Matutino 06h",6,null,null,null,null,null,null,null,2024,"Setembro",9,null,33]
[null,"M16","Matutino 06h",6,null,null,null,null,null,null,null,2025,"Outubro",10,null,34]
[null,"M17","Matutino 06h",6,null,null,null,null,null,null,null,null,"Novembro",11,null,35,"N"]
[null,"M18","Matutino 06h",6,null,null,null,null,null,null,null,null,"Dezembro",12,null,36]
[null,null,null,null,null,null,null,null,null,null,null,null,null,null,null,37]
[null,"T9","Vespertino 04h",4,null,null,null,null,null,null,null,null,null,null,null,38]
[null,"T10","Vespertino 04h",4,null,null,null,null,null,null,null,null,null,null,null,39,null,"30 MINUTOS"]
[null,"T11","Vespertino 04h",4,null,null,null,null,null,null,null,null,null,null,null,40]
[null,"T12","Vespertino 04h",4,null,null,null,null,null,null,null,null,null,null,null,41]
[null,"T13","Vespertino 06h",6,null,null,null,null,null,null,null,null,null,null,null,42]
[null,"T14","Vespertino 06h",6,null,null,null,null,null,null,null,null,null,null,null,43]
[null,"T15","Vespertino 06h",6,null,null,null,null,null,null,null,null,null,null,null,44]
[null,"T16","Vespertino 06h",6,null,null,null,null,null,null,null,null,null,null,null,45]
[null,"T17","Vespertino 06h",6,null,null,null,null,null,null,null,null,null,null,null,46,"D","01 H DIA/NOITE "]
[null,"T18","Vespertino 06h",6,null,null,null,null,null,null,null,null,null,null,null,47]
[null,"T19","Vespertino 06h",6,null,null,null,null,null,null,null,null,null,null,null,48]
[null,null,null,null,null,null,null,null,null,null,null,null,null,null,null,49]
[null,"MT15","Diurno 08h",8,null,null,null,null,null,null,null,null,null,null,null,50]
[null,"MT16","Diurno 08h",8,null,null,null,null,null,null,null,null,null,null,null,51]
[null,"MT17","Diurno 08h",8,null,null,null,null,null,null,null,null,null,null,null,52]
[null,"MT18","Diurno 08h",8,null,null,null,null,null,null,null,null,null,null,null,53,"N"]
[null,"MT19","Diurno 08h",8,null,null,null,null,null,null,null,null,null,null,null,54]
[null,"MT20","Diurno 08h",8,null,null,null,null,null,null,null,null,null,null,null,55]
[null,"MT21","Diurno 08h",8,null,null,null,null,null,null,null,null,null,null,null,56]
[null,"MT22","Diurno 08h",8,null,null,null,null,null,null,null,null,null,null,null,57]
[null,"MT23","Diurno 08h",8,null,null,null,null,null,null,null,null,null,null,null,58,null,"02 H"]
[null,"MT24","Diurno 08h",8,null,null,null,null,null,null,null,null,null,null,null,59]
[null,"MT25","Diurno 08h",8,null,null,null,null,null,null,null,null,null,null,null,60]
[null,"MT26","Diurno 08h",8,null,null,null,null,null,null,null,null,null,null,null,61]
[null,"MT27","Diurno 08h",8,null,null,null,null,null,null,null,null,null,null,null,62]
[null,"MT28","Diurno 08h",8,null,null,null,null,null,null,null,null,null,null,null,63]
[null,"MT29","Diurno 08h",8]
[null,"MT30","Diurno 08h",8]
[null,"MT31","Diurno 08h",8]
[null,"MT32","Diurno 08h",8]
[null,"MT33","Diurno 08h",8]
[null,"MT34","Diurno 08h",8]
[null,"MT35","Diurno 08h",8]
[null,"MT36","Diurno 08h",8]
[null,"MT37","Diurno 08h",8]
[null,"MT38","Diurno 08h",8]
[null,"MT39","Diurno 08h",8]
[null,"MT40","Diurno 08h",8]
[null,"MT41","Diurno 08h",8]
[null,"MT42","Diurno 08h",8]
[null,"MT43","Diurno 08h",8]
[]
[null,"N5","Noturno 12h",6]
[null,"N6","Noturno 12h",12]
[null,"N7","Noturno 12h",12]
[null,"N8","Noturno 12h",12]
[null,"N9","Noturno 12h",12]
[null,"N10","Noturno 12h",12]
[]
[null,"D5","Diurno 12h",12]
[null,"D6","Diurno 12h",12]
[null,"D7","Diurno 12h",12]
[null,"D8","Diurno 12h",12]
[]
[null,"DN4","Diurno/Noturno -24H",24]
[null,"DN5","Diurno/Noturno -24H",24]
[null,"DN6","Diurno/Noturno -24H",24]
[]
["Afastamentos legais e compensação de horas","DSR","Descanso Semanal Remunerado",0]
[null,"FE","Férias",0]
[null,"FD","Feriado",0]
[null,"CH+4","Compensação de horas faltas",4]
[null,"CH+6","Compensação de horas faltas",6]
[null,"CH+8","Compensação de horas faltas",8]
[null,"CH+12","Compensação de horas faltas",12]
[null,"CH+24","Compensação de horas faltas",24]
[null,"CH-4","Compensação de horas excedentes",0]
[null,"CH-6","Compensação de horas excedentes",0]
[null,"CH-8","Compensação de horas excedentes",0]
[null,"CH-12","Compensação de horas excedentes",0]
[null,"CH-24","Compensação de horas excedentes",0]
[null,"AB4","Abono ACT",4]
[null,"AB6","Abono ACT",6]
[null,"AB8","Abono ACT",8]
[null,"AB12","Abono ACT",12]
[null,"AB24","Abono ACT",24]
[null,"L","Licença Médica e Odontológica",0]
[null,"LM","Licença-Maternidade",0]
[null,"LP","Licença-Paternicade",0]
[null,"LC","Licença para Capacitação",0]
[null,"RC","Recesso",0]
[null,"PF","Ponto Facultativo",0]
[null,"AF1","Licença por acidente de trabalho",0]
[null,"AF2","Licença gala de 8 (oito) dias consecutivos a contar da data do casamento, ou da data do registro, em cartório, da União Estável",0]
[null,"AF3","Licença por morte de familiar",0]
[null,"AF4","Licença sem remuneração para tratar de interesse particular",0]
[null,"AF5","Licença para acompanhamento de familiar, filhos menores ou pais maiores de 60 (sessenta) anos",0]
[null,"AF6","Licença para exercício de mandato de cargo de direção em entidade Sindical representativa dos empregados da EBSERH (art.543, parágrafo 2º da CLT)",0]
[null,"AF7","Licença para atividade política (Lei 7.664/88, artigo 25)",0]
[null,"AF8","Doação de sangue por um dia em cada seis meses de trabalho",0]
[null,"AF9","Alistamento eleitoral, até 2 (dois) dias, consecutivos ou não",0]
[null,"AF10","Depoimento em inquérito policial ou processo judicial",0]
[null,"AF11","Convocação para o Júri, funções da Justiça Eleitoral desde que amparada em lei, apresentação militar e outros serviços legalmente obrigatórios",0]
[null,"AF12","Realização de provas de exame vestibular",0]
[null,"AF13","Participação em reuniões da Comissão de Negociação",0]
[null,"AF14","Outras ausências permitidas por Lei ou em razão de Acordo ou Convenção Coletiva",0]